{"text_format":"1","workbook":"xlsx","n_sheets":9,"sheets":["DATABASE","Summary","Daily Log","STOCK ANALYSIS","CLOSING STOCK","K-LUNCH & K DINNER","SIDE ORDER & FOC","DAILY FOC","SAUCE USAGE"],"not_rendered":{"charts":0,"images":8,"macros":0,"external_links":4,"defined_names":12,"comments":2,"pivot_tables":0},"unopened":[],"bounds":{"document_bytes":16777216,"sheet_cells":100000,"rows_first":2000,"rows_last":500,"rows_between":2000,"halvings":0,"cell_chars":16384,"cell_head_chars":4096},"cells_cut":0,"cells_raw":0,"read":"whole","date_system":"1900"}

{"sheet":"DATABASE","index":0,"n_rows":55,"n_cols":6,"rows_kept":55,"cut":false,"hidden":false,"merged":[]}
[null,null,"COST",null,null,"COST"]
[]
[null,"DH01 91101:THAI CHK",3.29,null,"DC01 1101:THAI CHK",3.29]
[null,"DH02 91102:MAMITE CHK",3.02,null,"DC02 1102:MAMITE CHK",3.02]
[null,"DH03 91103:KO PO CHK",3.45,null,"DC03 1103:KO PO CHK",3.45]
[null,"DH04 91104:S&S CHK",3.45,null,"DC04 1104:S&S CHK",3.45]
[null,"DH05 91105:BUTTER CHK",3.32,null,"DC05 1105:BUTTER CHK",3.32]
[null,"DH06 91106:HK F.RICE",3.16,null,"DC06 1106:HK F.RICE",3.16]
[null,"DH07 91107:SBL F.RICE",2.41,null,"DC07 1107:SBL F.RICE",2.41]
[null,"DH08 91108:SBL F.MEE",2.8,null,"DC08 1108:SBL F.MEE",2.8]
[null,"DH09 91109:BP UDON",2.08,null,"DC09 1109:BP UDON",2.08]
[null,"DH10 91110:NISSIN",2.3199999999999998,null,"DC10 1110:NISSIN",2.3199999999999998]
[null,"DH11 91111:VEG RICE",1.6,null,"DC11 1111:VEG RICE",1.6]
[null,"DH12 91112:NASI LEMAK",3.56,null,"DC12 1112:NASI LEMAK",3.56]
[null,"DH13 91113:KUEY TEOW",3.16,null,"DC13 1113:KUEY TEOW",3.16]
[null,"DH14 91114:F.BALL MEE",2.59,null,"DC14 1114:F.BALL MEE",2.59]
[null,"DH15 91115:CHK NOODLE",4.71,null,"DC15 1115:CHK NOODLE",4.71]
[null,"DG01 91001:BP CHK CP",4.41,null,"DB01 1001:BP CKN CP",4.41]
[null,"DG02 91002:GVY CHK CP",4.43,null,"DB02 1002:GVY CHK CP",4.43]
[null,"DG03 91003:MSR CHK CP",4.75,null,"DB03 1003:MSR CKN CP",4.75]
[null,"DG04 91004:CKN MARY",5.98,null,"DB04 1004:CKN MARY",5.98]
[null,"DG05 91005:FISH&CHIP",4.32,null,"DB05 1005:FISH&CHIP",{"$f":"+C22","v":4.32}]
[null,"DG06 91006:SPAGHETTI",2.1,null,"DB06 1006:SPAGHETTI",2.1]
[null,"DG07 91007:CHK SALAD",4.9400000000000004,null,"DB07 1007:CHK SALAD",4.9400000000000004]
[null,"DI01 91201:SFD STICK",2,null,"DD01 1201:SFD STICK",2]
[null,"DI02 91202:FREN FRIES",1.76,null,"DD02 1202:FREN FRIES",1.76]
[null,"DI03 91203:GOLD MROOM",2.15,null,"DD03 1203:GOLD MROOM",2.15]
[null,"DI04 91204:FISHBALL",1.56,null,"DD04 1204:FISHBALL",1.56]
[null,"DI05 91205:RAINBOW RL",2.5,null,"DD05 1205:RAINBOW RL",2.5]
[null,"DI06 91206:SPRING RL",2.67,null,"DD06 1206:SPRING RL",2.67]
[null,"DI07 91207:SAUSAGE",1.24,null,"DD07 1207:SAUSAGE",1.24]
[null,"DI10 91301:DUMPLING",4.5,null,"DD10 1301:DUMPLING",4.5]
[null,"DI11 91302:NUGGET",2.4300000000000002,null,"DD11 1302:NUGGET",2.4300000000000002]
[null,"DI12 91303:CHK WING",3.97,null,"DD12 1303:CHK WING",3.97]
[null,"DI13 91304:IKAN BILIS",2.1800000000000002,null,"DD13 1304:IKAN BILIS",2.1800000000000002]
[null,"DI14 91305:THAI RL",3.61,null,"DD14 1305:THAI RL",3.61]
[null,null,null,null,"DD15 1306:SLVR FISH"]
[null,null,null,null,"ZAB01 1201:SFD STICK",2]
[null,null,null,null,"ZAB02 1202:FRIES",1.76]
[null,null,null,null,"ZAB03 1203:GOLD MROOM",2.15]
[null,null,null,null,"ZAB04 1204:F.BALL",1.56]
[null,null,null,null,"ZAB05 1205:RAINBOW RL",2.5]
[null,null,null,null,"ZAB06 1206:SPRING RL",2.5]
[null,null,null,null,"ZAB07 1207:SAUSAGE",2.67]
[null,null,null,null,"ZAC01 1301:DUMPLING",1.24]
[null,null,null,null,"ZAC02 1302:NUGGET",1.24]
[null,null,null,null,"ZAC03 1303:CHK WING",3.97]
[null,null,null,null,"ZAC04 1304:IKAN BILIS",2.1800000000000002]
[null,null,null,null,"ZAC05 1305:THAI RL",3.61]
[null,null,null,null,"AE26 CNY BEER PLATER",9.81]
[null,null,null,null,"AE27 CNY PLATER",9.81]
[null,null,null,null,"DD16 McCain AlaCarte",4.5999999999999996]
[null,null,null,null,"DD17 McCain Beer",4.5999999999999996]
[null,null,null,null,"DF01 ADD RICE",0.5]
[null,null,null,null,"DF02 ADD F.EGG",0.34]

{"sheet":"Summary","index":1,"n_rows":425,"n_cols":37,"rows_kept":425,"cut":false,"hidden":false,"merged":[[5,2,5,3],[7,2,7,3],[9,2,9,3],[28,1,28,2]]}
[]
[]
[null,null,"SUMMARY OF PRODUCT SALES IN MONTH"]
[]
[]
[null,"OUTLET",{"$f":"MID(CELL(\"FILENAME\",$A$1),FIND(\"[\",CELL(\"FILENAME\",$A$1))+1,3)","v":"SBA"}]
[]
[null,"YEAR",{"$f":"MID(CELL(\"FILENAME\",$A$1),FIND(\"[\",CELL(\"FILENAME\",$A$1))+4,4)","v":"2013"}]
[]
[null,"MONTH",{"$f":"INDEX($C$12:$C$23,MID(CELL(\"FILENAME\",$A$1),FIND(\"[\",CELL(\"FILENAME\",$A$1))+8,2),1)","v":"SEPTEMBER"}]
[]
[null,"MONTH","JANUARY"]
[null,null,"FEBRUARY"]
[null,null,"MARCH"]
[null,null,"APRIL"]
[null,null,"MAY"]
[null,null,"JUNE"]
[null,null,"JULY"]
[null,null,"AUGUST"]
[null,null,"SEPTEMBER"]
[null,null,"OCTOBER"]
[null,null,"NOVEMBER"]
[null,null,"DECEMBER"]
[]
[]
[null,"PRODUCT",null,"CATEGORY","QTY","QUANTITIES SOLD IN MONTH"]
[null,null,null,null,"PER","TOTAL",{"$f":"DATE(C8,MID(CELL(\"FILENAME\",$A$1),FIND(\"[\",CELL(\"FILENAME\",$A$1))+8,2),1)","v":"2013-09-01"},{"$f":"IFERROR(IF(MONTH(G27+1)<=MONTH($G$27),G27+1,\"\"),\"\")","v":"2013-09-02"},{"$f":"IFERROR(IF(MONTH(H27+1)<=MONTH($G$27),H27+1,\"\"),\"\")","v":"2013-09-03"},"2013-09-04","2013-09-05","2013-09-06","2013-09-07","2013-09-08","2013-09-09","2013-09-10","2013-09-11","2013-09-12","2013-09-13","2013-09-14","2013-09-15","2013-09-16","2013-09-17","2013-09-18","2013-09-19","2013-09-20","2013-09-21","2013-09-22","2013-09-23","2013-09-24","2013-09-25","2013-09-26","2013-09-27","2013-09-28","2013-09-29","2013-09-30",""]
[null,null,null,null,"ITEM"]
[]
[null,"AA01 K : REGULAR",null,null,null,{"$f":"SUM($G30:$AK30)","v":0},{"$f":"IFERROR($E30*SUMIF('Daily Log'!$B$18:$B$1017,$B30,'Daily Log'!$C$18:$C$1017),0)","v":0},{"$f":"IFERROR($E30*SUMIF('Daily Log'!$E$18:$E$1017,$B30,'Daily Log'!$F$18:$F$1017),0)","v":0},{"$f":"IFERROR($E30*SUMIF('Daily Log'!$H$18:$H$1017,$B30,'Daily Log'!$I$18:$I$1017),0)","v":0},{"$f":"IFERROR($E30*SUMIF('Daily Log'!$K$18:$K$1017,$B30,'Daily Log'!$L$18:$L$1017),0)","v":0},{"$f":"IFERROR($E30*SUMIF('Daily Log'!$N$18:$N$1017,$B30,'Daily Log'!$O$18:$O$1017),0)","v":0},{"$f":"IFERROR($E30*SUMIF('Daily Log'!$Q$18:$Q$1017,$B30,'Daily Log'!$R$18:$R$1017),0)","v":0},{"$f":"IFERROR($E30*SUMIF('Daily Log'!$T$18:$T$1017,$B30,'Daily Log'!$U$18:$U$1017),0)","v":0},{"$f":"IFERROR($E30*SUMIF('Daily Log'!$W$18:$W$1017,$B30,'Daily Log'!$X$18:$X$1017),0)","v":0},{"$f":"IFERROR($E30*SUMIF('Daily Log'!$Z$18:$Z$1017,$B30,'Daily Log'!$AA$18:$AA$1017),0)","v":0},{"$f":"IFERROR($E30*SUMIF('Daily Log'!$AC$18:$AC$1017,$B30,'Daily Log'!$AD$18:$AD$1017),0)","v":0},{"$f":"IFERROR($E30*SUMIF('Daily Log'!$AF$18:$AF$1017,$B30,'Daily Log'!$AG$18:$AG$1017),0)","v":0},{"$f":"IFERROR($E30*SUMIF('Daily Log'!$AI$18:$AI$1017,$B30,'Daily Log'!$AJ$18:$AJ$1017),0)","v":0},{"$f":"IFERROR($E30*SUMIF('Daily Log'!$AL$18:$AL$1017,$B30,'Daily Log'!$AM$18:$AM$1017),0)","v":0},{"$f":"IFERROR($E30*SUMIF('Daily Log'!$AO$18:$AO$1017,$B30,'Daily Log'!$AP$18:$AP$1017),0)","v":0},{"$f":"IFERROR($E30*SUMIF('Daily Log'!$AR$18:$AR$1017,$B30,'Daily Log'!$AS$18:$AS$1017),0)","v":0},{"$f":"IFERROR($E30*SUMIF('Daily Log'!$AU$18:$AU$1017,$B30,'Daily Log'!$AV$18:$AV$1017),0)","v":0},{"$f":"IFERROR($E30*SUMIF('Daily Log'!$AX$18:$AX$1017,$B30,'Daily Log'!$AY$18:$AY$1017),0)","v":0},{"$f":"IFERROR($E30*SUMIF('Daily Log'!$BA$18:$BA$1017,$B30,'Daily Log'!$BB$18:$BB$1017),0)","v":0},{"$f":"IFERROR($E30*SUMIF('Daily Log'!$BD$18:$BD$1017,$B30,'Daily Log'!$BE$18:$BE$1017),0)","v":0},{"$f":"IFERROR($E30*SUMIF('Daily Log'!$BG$18:$BG$1017,$B30,'Daily Log'!$BH$18:$BH$1017),0)","v":0},{"$f":"IFERROR($E30*SUMIF('Daily Log'!$BJ$18:$BJ$1017,$B30,'Daily Log'!$BK$18:$BK$1017),0)","v":0},{"$f":"IFERROR($E30*SUMIF('Daily Log'!$BM$18:$BM$1017,$B30,'Daily Log'!$BN$18:$BN$1017),0)","v":0},{"$f":"IFERROR($E30*SUMIF('Daily Log'!$BP$18:$BP$1017,$B30,'Daily Log'!$BQ$18:$BQ$1017),0)","v":0},{"$f":"IFERROR($E30*SUMIF('Daily Log'!$BS$18:$BS$1017,$B30,'Daily Log'!$BT$18:$BT$1017),0)","v":0},{"$f":"IFERROR($E30*SUMIF('Daily Log'!$BV$18:$BV$1017,$B30,'Daily Log'!$BW$18:$BW$1017),0)","v":0},{"$f":"IFERROR($E30*SUMIF('Daily Log'!$BY$18:$BY$1017,$B30,'Daily Log'!$BZ$18:$BZ$1017),0)","v":0},{"$f":"IFERROR($E30*SUMIF('Daily Log'!$CB$18:$CB$1017,$B30,'Daily Log'!$CC$18:$CC$1017),0)","v":0},{"$f":"IFERROR($E30*SUMIF('Daily Log'!$CE$18:$CE$1017,$B30,'Daily Log'!$CF$18:$CF$1017),0)","v":0},{"$f":"IFERROR($E30*SUMIF('Daily Log'!$CH$18:$CH$1017,$B30,'Daily Log'!$CI$18:$CI$1017),0)","v":0},{"$f":"IFERROR($E30*SUMIF('Daily Log'!$CK$18:$CK$1017,$B30,'Daily Log'!$CL$18:$CL$1017),0)","v":0},{"$f":"IFERROR($E30*SUMIF('Daily Log'!$CN$18:$CN$1017,$B30,'Daily Log'!$CO$18:$CO$1017),0)","v":0}]
[null,"AA02 K : MEMBER",null,null,null,0,{"$f":"IFERROR($E31*SUMIF('Daily Log'!$B$18:$B$1017,$B31,'Daily Log'!$C$18:$C$1017),0)","v":0},{"$f":"IFERROR($E31*SUMIF('Daily Log'!$E$18:$E$1017,$B31,'Daily Log'!$F$18:$F$1017),0)","v":0},{"$f":"IFERROR($E31*SUMIF('Daily Log'!$H$18:$H$1017,$B31,'Daily Log'!$I$18:$I$1017),0)","v":0},{"$f":"IFERROR($E31*SUMIF('Daily Log'!$K$18:$K$1017,$B31,'Daily Log'!$L$18:$L$1017),0)","v":0},{"$f":"IFERROR($E31*SUMIF('Daily Log'!$N$18:$N$1017,$B31,'Daily Log'!$O$18:$O$1017),0)","v":0},{"$f":"IFERROR($E31*SUMIF('Daily Log'!$Q$18:$Q$1017,$B31,'Daily Log'!$R$18:$R$1017),0)","v":0},{"$f":"IFERROR($E31*SUMIF('Daily Log'!$T$18:$T$1017,$B31,'Daily Log'!$U$18:$U$1017),0)","v":0},{"$f":"IFERROR($E31*SUMIF('Daily Log'!$W$18:$W$1017,$B31,'Daily Log'!$X$18:$X$1017),0)","v":0},{"$f":"IFERROR($E31*SUMIF('Daily Log'!$Z$18:$Z$1017,$B31,'Daily Log'!$AA$18:$AA$1017),0)","v":0},{"$f":"IFERROR($E31*SUMIF('Daily Log'!$AC$18:$AC$1017,$B31,'Daily Log'!$AD$18:$AD$1017),0)","v":0},{"$f":"IFERROR($E31*SUMIF('Daily Log'!$AF$18:$AF$1017,$B31,'Daily Log'!$AG$18:$AG$1017),0)","v":0},{"$f":"IFERROR($E31*SUMIF('Daily Log'!$AI$18:$AI$1017,$B31,'Daily Log'!$AJ$18:$AJ$1017),0)","v":0},{"$f":"IFERROR($E31*SUMIF('Daily Log'!$AL$18:$AL$1017,$B31,'Daily Log'!$AM$18:$AM$1017),0)","v":0},{"$f":"IFERROR($E31*SUMIF('Daily Log'!$AO$18:$AO$1017,$B31,'Daily Log'!$AP$18:$AP$1017),0)","v":0},{"$f":"IFERROR($E31*SUMIF('Daily Log'!$AR$18:$AR$1017,$B31,'Daily Log'!$AS$18:$AS$1017),0)","v":0},{"$f":"IFERROR($E31*SUMIF('Daily Log'!$AU$18:$AU$1017,$B31,'Daily Log'!$AV$18:$AV$1017),0)","v":0},{"$f":"IFERROR($E31*SUMIF('Daily Log'!$AX$18:$AX$1017,$B31,'Daily Log'!$AY$18:$AY$1017),0)","v":0},{"$f":"IFERROR($E31*SUMIF('Daily Log'!$BA$18:$BA$1017,$B31,'Daily Log'!$BB$18:$BB$1017),0)","v":0},{"$f":"IFERROR($E31*SUMIF('Daily Log'!$BD$18:$BD$1017,$B31,'Daily Log'!$BE$18:$BE$1017),0)","v":0},{"$f":"IFERROR($E31*SUMIF('Daily Log'!$BG$18:$BG$1017,$B31,'Daily Log'!$BH$18:$BH$1017),0)","v":0},{"$f":"IFERROR($E31*SUMIF('Daily Log'!$BJ$18:$BJ$1017,$B31,'Daily Log'!$BK$18:$BK$1017),0)","v":0},{"$f":"IFERROR($E31*SUMIF('Daily Log'!$BM$18:$BM$1017,$B31,'Daily Log'!$BN$18:$BN$1017),0)","v":0},{"$f":"IFERROR($E31*SUMIF('Daily Log'!$BP$18:$BP$1017,$B31,'Daily Log'!$BQ$18:$BQ$1017),0)","v":0},{"$f":"IFERROR($E31*SUMIF('Daily Log'!$BS$18:$BS$1017,$B31,'Daily Log'!$BT$18:$BT$1017),0)","v":0},{"$f":"IFERROR($E31*SUMIF('Daily Log'!$BV$18:$BV$1017,$B31,'Daily Log'!$BW$18:$BW$1017),0)","v":0},{"$f":"IFERROR($E31*SUMIF('Daily Log'!$BY$18:$BY$1017,$B31,'Daily Log'!$BZ$18:$BZ$1017),0)","v":0},{"$f":"IFERROR($E31*SUMIF('Daily Log'!$CB$18:$CB$1017,$B31,'Daily Log'!$CC$18:$CC$1017),0)","v":0},{"$f":"IFERROR($E31*SUMIF('Daily Log'!$CE$18:$CE$1017,$B31,'Daily Log'!$CF$18:$CF$1017),0)","v":0},{"$f":"IFERROR($E31*SUMIF('Daily Log'!$CH$18:$CH$1017,$B31,'Daily Log'!$CI$18:$CI$1017),0)","v":0},{"$f":"IFERROR($E31*SUMIF('Daily Log'!$CK$18:$CK$1017,$B31,'Daily Log'!$CL$18:$CL$1017),0)","v":0},{"$f":"IFERROR($E31*SUMIF('Daily Log'!$CN$18:$CN$1017,$B31,'Daily Log'!$CO$18:$CO$1017),0)","v":0}]
[null,"AA03 K : CARI MEMBER",null,null,null,0,{"$f":"IFERROR($E32*SUMIF('Daily Log'!$B$18:$B$1017,$B32,'Daily Log'!$C$18:$C$1017),0)","v":0},{"$f":"IFERROR($E32*SUMIF('Daily Log'!$E$18:$E$1017,$B32,'Daily Log'!$F$18:$F$1017),0)","v":0},{"$f":"IFERROR($E32*SUMIF('Daily Log'!$H$18:$H$1017,$B32,'Daily Log'!$I$18:$I$1017),0)","v":0},{"$f":"IFERROR($E32*SUMIF('Daily Log'!$K$18:$K$1017,$B32,'Daily Log'!$L$18:$L$1017),0)","v":0},{"$f":"IFERROR($E32*SUMIF('Daily Log'!$N$18:$N$1017,$B32,'Daily Log'!$O$18:$O$1017),0)","v":0},{"$f":"IFERROR($E32*SUMIF('Daily Log'!$Q$18:$Q$1017,$B32,'Daily Log'!$R$18:$R$1017),0)","v":0},{"$f":"IFERROR($E32*SUMIF('Daily Log'!$T$18:$T$1017,$B32,'Daily Log'!$U$18:$U$1017),0)","v":0},{"$f":"IFERROR($E32*SUMIF('Daily Log'!$W$18:$W$1017,$B32,'Daily Log'!$X$18:$X$1017),0)","v":0},{"$f":"IFERROR($E32*SUMIF('Daily Log'!$Z$18:$Z$1017,$B32,'Daily Log'!$AA$18:$AA$1017),0)","v":0},{"$f":"IFERROR($E32*SUMIF('Daily Log'!$AC$18:$AC$1017,$B32,'Daily Log'!$AD$18:$AD$1017),0)","v":0},{"$f":"IFERROR($E32*SUMIF('Daily Log'!$AF$18:$AF$1017,$B32,'Daily Log'!$AG$18:$AG$1017),0)","v":0},{"$f":"IFERROR($E32*SUMIF('Daily Log'!$AI$18:$AI$1017,$B32,'Daily Log'!$AJ$18:$AJ$1017),0)","v":0},{"$f":"IFERROR($E32*SUMIF('Daily Log'!$AL$18:$AL$1017,$B32,'Daily Log'!$AM$18:$AM$1017),0)","v":0},{"$f":"IFERROR($E32*SUMIF('Daily Log'!$AO$18:$AO$1017,$B32,'Daily Log'!$AP$18:$AP$1017),0)","v":0},{"$f":"IFERROR($E32*SUMIF('Daily Log'!$AR$18:$AR$1017,$B32,'Daily Log'!$AS$18:$AS$1017),0)","v":0},{"$f":"IFERROR($E32*SUMIF('Daily Log'!$AU$18:$AU$1017,$B32,'Daily Log'!$AV$18:$AV$1017),0)","v":0},{"$f":"IFERROR($E32*SUMIF('Daily Log'!$AX$18:$AX$1017,$B32,'Daily Log'!$AY$18:$AY$1017),0)","v":0},{"$f":"IFERROR($E32*SUMIF('Daily Log'!$BA$18:$BA$1017,$B32,'Daily Log'!$BB$18:$BB$1017),0)","v":0},{"$f":"IFERROR($E32*SUMIF('Daily Log'!$BD$18:$BD$1017,$B32,'Daily Log'!$BE$18:$BE$1017),0)","v":0},{"$f":"IFERROR($E32*SUMIF('Daily Log'!$BG$18:$BG$1017,$B32,'Daily Log'!$BH$18:$BH$1017),0)","v":0},{"$f":"IFERROR($E32*SUMIF('Daily Log'!$BJ$18:$BJ$1017,$B32,'Daily Log'!$BK$18:$BK$1017),0)","v":0},{"$f":"IFERROR($E32*SUMIF('Daily Log'!$BM$18:$BM$1017,$B32,'Daily Log'!$BN$18:$BN$1017),0)","v":0},{"$f":"IFERROR($E32*SUMIF('Daily Log'!$BP$18:$BP$1017,$B32,'Daily Log'!$BQ$18:$BQ$1017),0)","v":0},{"$f":"IFERROR($E32*SUMIF('Daily Log'!$BS$18:$BS$1017,$B32,'Daily Log'!$BT$18:$BT$1017),0)","v":0},{"$f":"IFERROR($E32*SUMIF('Daily Log'!$BV$18:$BV$1017,$B32,'Daily Log'!$BW$18:$BW$1017),0)","v":0},{"$f":"IFERROR($E32*SUMIF('Daily Log'!$BY$18:$BY$1017,$B32,'Daily Log'!$BZ$18:$BZ$1017),0)","v":0},{"$f":"IFERROR($E32*SUMIF('Daily Log'!$CB$18:$CB$1017,$B32,'Daily Log'!$CC$18:$CC$1017),0)","v":0},{"$f":"IFERROR($E32*SUMIF('Daily Log'!$CE$18:$CE$1017,$B32,'Daily Log'!$CF$18:$CF$1017),0)","v":0},{"$f":"IFERROR($E32*SUMIF('Daily Log'!$CH$18:$CH$1017,$B32,'Daily Log'!$CI$18:$CI$1017),0)","v":0},{"$f":"IFERROR($E32*SUMIF('Daily Log'!$CK$18:$CK$1017,$B32,'Daily Log'!$CL$18:$CL$1017),0)","v":0},{"$f":"IFERROR($E32*SUMIF('Daily Log'!$CN$18:$CN$1017,$B32,'Daily Log'!$CO$18:$CO$1017),0)","v":0}]
[null,"AA04 K-LUNCH",null,null,null,0,{"$f":"IFERROR($E33*SUMIF('Daily Log'!$B$18:$B$1017,$B33,'Daily Log'!$C$18:$C$1017),0)","v":0},{"$f":"IFERROR($E33*SUMIF('Daily Log'!$E$18:$E$1017,$B33,'Daily Log'!$F$18:$F$1017),0)","v":0},{"$f":"IFERROR($E33*SUMIF('Daily Log'!$H$18:$H$1017,$B33,'Daily Log'!$I$18:$I$1017),0)","v":0},{"$f":"IFERROR($E33*SUMIF('Daily Log'!$K$18:$K$1017,$B33,'Daily Log'!$L$18:$L$1017),0)","v":0},{"$f":"IFERROR($E33*SUMIF('Daily Log'!$N$18:$N$1017,$B33,'Daily Log'!$O$18:$O$1017),0)","v":0},{"$f":"IFERROR($E33*SUMIF('Daily Log'!$Q$18:$Q$1017,$B33,'Daily Log'!$R$18:$R$1017),0)","v":0},{"$f":"IFERROR($E33*SUMIF('Daily Log'!$T$18:$T$1017,$B33,'Daily Log'!$U$18:$U$1017),0)","v":0},{"$f":"IFERROR($E33*SUMIF('Daily Log'!$W$18:$W$1017,$B33,'Daily Log'!$X$18:$X$1017),0)","v":0},{"$f":"IFERROR($E33*SUMIF('Daily Log'!$Z$18:$Z$1017,$B33,'Daily Log'!$AA$18:$AA$1017),0)","v":0},{"$f":"IFERROR($E33*SUMIF('Daily Log'!$AC$18:$AC$1017,$B33,'Daily Log'!$AD$18:$AD$1017),0)","v":0},{"$f":"IFERROR($E33*SUMIF('Daily Log'!$AF$18:$AF$1017,$B33,'Daily Log'!$AG$18:$AG$1017),0)","v":0},{"$f":"IFERROR($E33*SUMIF('Daily Log'!$AI$18:$AI$1017,$B33,'Daily Log'!$AJ$18:$AJ$1017),0)","v":0},{"$f":"IFERROR($E33*SUMIF('Daily Log'!$AL$18:$AL$1017,$B33,'Daily Log'!$AM$18:$AM$1017),0)","v":0},{"$f":"IFERROR($E33*SUMIF('Daily Log'!$AO$18:$AO$1017,$B33,'Daily Log'!$AP$18:$AP$1017),0)","v":0},{"$f":"IFERROR($E33*SUMIF('Daily Log'!$AR$18:$AR$1017,$B33,'Daily Log'!$AS$18:$AS$1017),0)","v":0},{"$f":"IFERROR($E33*SUMIF('Daily Log'!$AU$18:$AU$1017,$B33,'Daily Log'!$AV$18:$AV$1017),0)","v":0},{"$f":"IFERROR($E33*SUMIF('Daily Log'!$AX$18:$AX$1017,$B33,'Daily Log'!$AY$18:$AY$1017),0)","v":0},{"$f":"IFERROR($E33*SUMIF('Daily Log'!$BA$18:$BA$1017,$B33,'Daily Log'!$BB$18:$BB$1017),0)","v":0},{"$f":"IFERROR($E33*SUMIF('Daily Log'!$BD$18:$BD$1017,$B33,'Daily Log'!$BE$18:$BE$1017),0)","v":0},{"$f":"IFERROR($E33*SUMIF('Daily Log'!$BG$18:$BG$1017,$B33,'Daily Log'!$BH$18:$BH$1017),0)","v":0},{"$f":"IFERROR($E33*SUMIF('Daily Log'!$BJ$18:$BJ$1017,$B33,'Daily Log'!$BK$18:$BK$1017),0)","v":0},{"$f":"IFERROR($E33*SUMIF('Daily Log'!$BM$18:$BM$1017,$B33,'Daily Log'!$BN$18:$BN$1017),0)","v":0},{"$f":"IFERROR($E33*SUMIF('Daily Log'!$BP$18:$BP$1017,$B33,'Daily Log'!$BQ$18:$BQ$1017),0)","v":0},{"$f":"IFERROR($E33*SUMIF('Daily Log'!$BS$18:$BS$1017,$B33,'Daily Log'!$BT$18:$BT$1017),0)","v":0},{"$f":"IFERROR($E33*SUMIF('Daily Log'!$BV$18:$BV$1017,$B33,'Daily Log'!$BW$18:$BW$1017),0)","v":0},{"$f":"IFERROR($E33*SUMIF('Daily Log'!$BY$18:$BY$1017,$B33,'Daily Log'!$BZ$18:$BZ$1017),0)","v":0},{"$f":"IFERROR($E33*SUMIF('Daily Log'!$CB$18:$CB$1017,$B33,'Daily Log'!$CC$18:$CC$1017),0)","v":0},{"$f":"IFERROR($E33*SUMIF('Daily Log'!$CE$18:$CE$1017,$B33,'Daily Log'!$CF$18:$CF$1017),0)","v":0},{"$f":"IFERROR($E33*SUMIF('Daily Log'!$CH$18:$CH$1017,$B33,'Daily Log'!$CI$18:$CI$1017),0)","v":0},{"$f":"IFERROR($E33*SUMIF('Daily Log'!$CK$18:$CK$1017,$B33,'Daily Log'!$CL$18:$CL$1017),0)","v":0},{"$f":"IFERROR($E33*SUMIF('Daily Log'!$CN$18:$CN$1017,$B33,'Daily Log'!$CO$18:$CO$1017),0)","v":0}]
[null,"AA05 K : CHILDREN",null,null,null,0,{"$f":"IFERROR($E34*SUMIF('Daily Log'!$B$18:$B$1017,$B34,'Daily Log'!$C$18:$C$1017),0)","v":0},{"$f":"IFERROR($E34*SUMIF('Daily Log'!$E$18:$E$1017,$B34,'Daily Log'!$F$18:$F$1017),0)","v":0},{"$f":"IFERROR($E34*SUMIF('Daily Log'!$H$18:$H$1017,$B34,'Daily Log'!$I$18:$I$1017),0)","v":0},{"$f":"IFERROR($E34*SUMIF('Daily Log'!$K$18:$K$1017,$B34,'Daily Log'!$L$18:$L$1017),0)","v":0},{"$f":"IFERROR($E34*SUMIF('Daily Log'!$N$18:$N$1017,$B34,'Daily Log'!$O$18:$O$1017),0)","v":0},{"$f":"IFERROR($E34*SUMIF('Daily Log'!$Q$18:$Q$1017,$B34,'Daily Log'!$R$18:$R$1017),0)","v":0},{"$f":"IFERROR($E34*SUMIF('Daily Log'!$T$18:$T$1017,$B34,'Daily Log'!$U$18:$U$1017),0)","v":0},{"$f":"IFERROR($E34*SUMIF('Daily Log'!$W$18:$W$1017,$B34,'Daily Log'!$X$18:$X$1017),0)","v":0},{"$f":"IFERROR($E34*SUMIF('Daily Log'!$Z$18:$Z$1017,$B34,'Daily Log'!$AA$18:$AA$1017),0)","v":0},{"$f":"IFERROR($E34*SUMIF('Daily Log'!$AC$18:$AC$1017,$B34,'Daily Log'!$AD$18:$AD$1017),0)","v":0},{"$f":"IFERROR($E34*SUMIF('Daily Log'!$AF$18:$AF$1017,$B34,'Daily Log'!$AG$18:$AG$1017),0)","v":0},{"$f":"IFERROR($E34*SUMIF('Daily Log'!$AI$18:$AI$1017,$B34,'Daily Log'!$AJ$18:$AJ$1017),0)","v":0},{"$f":"IFERROR($E34*SUMIF('Daily Log'!$AL$18:$AL$1017,$B34,'Daily Log'!$AM$18:$AM$1017),0)","v":0},{"$f":"IFERROR($E34*SUMIF('Daily Log'!$AO$18:$AO$1017,$B34,'Daily Log'!$AP$18:$AP$1017),0)","v":0},{"$f":"IFERROR($E34*SUMIF('Daily Log'!$AR$18:$AR$1017,$B34,'Daily Log'!$AS$18:$AS$1017),0)","v":0},{"$f":"IFERROR($E34*SUMIF('Daily Log'!$AU$18:$AU$1017,$B34,'Daily Log'!$AV$18:$AV$1017),0)","v":0},{"$f":"IFERROR($E34*SUMIF('Daily Log'!$AX$18:$AX$1017,$B34,'Daily Log'!$AY$18:$AY$1017),0)","v":0},{"$f":"IFERROR($E34*SUMIF('Daily Log'!$BA$18:$BA$1017,$B34,'Daily Log'!$BB$18:$BB$1017),0)","v":0},{"$f":"IFERROR($E34*SUMIF('Daily Log'!$BD$18:$BD$1017,$B34,'Daily Log'!$BE$18:$BE$1017),0)","v":0},{"$f":"IFERROR($E34*SUMIF('Daily Log'!$BG$18:$BG$1017,$B34,'Daily Log'!$BH$18:$BH$1017),0)","v":0},{"$f":"IFERROR($E34*SUMIF('Daily Log'!$BJ$18:$BJ$1017,$B34,'Daily Log'!$BK$18:$BK$1017),0)","v":0},{"$f":"IFERROR($E34*SUMIF('Daily Log'!$BM$18:$BM$1017,$B34,'Daily Log'!$BN$18:$BN$1017),0)","v":0},{"$f":"IFERROR($E34*SUMIF('Daily Log'!$BP$18:$BP$1017,$B34,'Daily Log'!$BQ$18:$BQ$1017),0)","v":0},{"$f":"IFERROR($E34*SUMIF('Daily Log'!$BS$18:$BS$1017,$B34,'Daily Log'!$BT$18:$BT$1017),0)","v":0},{"$f":"IFERROR($E34*SUMIF('Daily Log'!$BV$18:$BV$1017,$B34,'Daily Log'!$BW$18:$BW$1017),0)","v":0},{"$f":"IFERROR($E34*SUMIF('Daily Log'!$BY$18:$BY$1017,$B34,'Daily Log'!$BZ$18:$BZ$1017),0)","v":0},{"$f":"IFERROR($E34*SUMIF('Daily Log'!$CB$18:$CB$1017,$B34,'Daily Log'!$CC$18:$CC$1017),0)","v":0},{"$f":"IFERROR($E34*SUMIF('Daily Log'!$CE$18:$CE$1017,$B34,'Daily Log'!$CF$18:$CF$1017),0)","v":0},{"$f":"IFERROR($E34*SUMIF('Daily Log'!$CH$18:$CH$1017,$B34,'Daily Log'!$CI$18:$CI$1017),0)","v":0},{"$f":"IFERROR($E34*SUMIF('Daily Log'!$CK$18:$CK$1017,$B34,'Daily Log'!$CL$18:$CL$1017),0)","v":0},{"$f":"IFERROR($E34*SUMIF('Daily Log'!$CN$18:$CN$1017,$B34,'Daily Log'!$CO$18:$CO$1017),0)","v":0}]
[null,"AA06 K : MEMBER B'DAY",null,null,null,0,{"$f":"IFERROR($E35*SUMIF('Daily Log'!$B$18:$B$1017,$B35,'Daily Log'!$C$18:$C$1017),0)","v":0},{"$f":"IFERROR($E35*SUMIF('Daily Log'!$E$18:$E$1017,$B35,'Daily Log'!$F$18:$F$1017),0)","v":0},{"$f":"IFERROR($E35*SUMIF('Daily Log'!$H$18:$H$1017,$B35,'Daily Log'!$I$18:$I$1017),0)","v":0},{"$f":"IFERROR($E35*SUMIF('Daily Log'!$K$18:$K$1017,$B35,'Daily Log'!$L$18:$L$1017),0)","v":0},{"$f":"IFERROR($E35*SUMIF('Daily Log'!$N$18:$N$1017,$B35,'Daily Log'!$O$18:$O$1017),0)","v":0},{"$f":"IFERROR($E35*SUMIF('Daily Log'!$Q$18:$Q$1017,$B35,'Daily Log'!$R$18:$R$1017),0)","v":0},{"$f":"IFERROR($E35*SUMIF('Daily Log'!$T$18:$T$1017,$B35,'Daily Log'!$U$18:$U$1017),0)","v":0},{"$f":"IFERROR($E35*SUMIF('Daily Log'!$W$18:$W$1017,$B35,'Daily Log'!$X$18:$X$1017),0)","v":0},{"$f":"IFERROR($E35*SUMIF('Daily Log'!$Z$18:$Z$1017,$B35,'Daily Log'!$AA$18:$AA$1017),0)","v":0},{"$f":"IFERROR($E35*SUMIF('Daily Log'!$AC$18:$AC$1017,$B35,'Daily Log'!$AD$18:$AD$1017),0)","v":0},{"$f":"IFERROR($E35*SUMIF('Daily Log'!$AF$18:$AF$1017,$B35,'Daily Log'!$AG$18:$AG$1017),0)","v":0},{"$f":"IFERROR($E35*SUMIF('Daily Log'!$AI$18:$AI$1017,$B35,'Daily Log'!$AJ$18:$AJ$1017),0)","v":0},{"$f":"IFERROR($E35*SUMIF('Daily Log'!$AL$18:$AL$1017,$B35,'Daily Log'!$AM$18:$AM$1017),0)","v":0},{"$f":"IFERROR($E35*SUMIF('Daily Log'!$AO$18:$AO$1017,$B35,'Daily Log'!$AP$18:$AP$1017),0)","v":0},{"$f":"IFERROR($E35*SUMIF('Daily Log'!$AR$18:$AR$1017,$B35,'Daily Log'!$AS$18:$AS$1017),0)","v":0},{"$f":"IFERROR($E35*SUMIF('Daily Log'!$AU$18:$AU$1017,$B35,'Daily Log'!$AV$18:$AV$1017),0)","v":0},{"$f":"IFERROR($E35*SUMIF('Daily Log'!$AX$18:$AX$1017,$B35,'Daily Log'!$AY$18:$AY$1017),0)","v":0},{"$f":"IFERROR($E35*SUMIF('Daily Log'!$BA$18:$BA$1017,$B35,'Daily Log'!$BB$18:$BB$1017),0)","v":0},{"$f":"IFERROR($E35*SUMIF('Daily Log'!$BD$18:$BD$1017,$B35,'Daily Log'!$BE$18:$BE$1017),0)","v":0},{"$f":"IFERROR($E35*SUMIF('Daily Log'!$BG$18:$BG$1017,$B35,'Daily Log'!$BH$18:$BH$1017),0)","v":0},{"$f":"IFERROR($E35*SUMIF('Daily Log'!$BJ$18:$BJ$1017,$B35,'Daily Log'!$BK$18:$BK$1017),0)","v":0},{"$f":"IFERROR($E35*SUMIF('Daily Log'!$BM$18:$BM$1017,$B35,'Daily Log'!$BN$18:$BN$1017),0)","v":0},{"$f":"IFERROR($E35*SUMIF('Daily Log'!$BP$18:$BP$1017,$B35,'Daily Log'!$BQ$18:$BQ$1017),0)","v":0},{"$f":"IFERROR($E35*SUMIF('Daily Log'!$BS$18:$BS$1017,$B35,'Daily Log'!$BT$18:$BT$1017),0)","v":0},{"$f":"IFERROR($E35*SUMIF('Daily Log'!$BV$18:$BV$1017,$B35,'Daily Log'!$BW$18:$BW$1017),0)","v":0},{"$f":"IFERROR($E35*SUMIF('Daily Log'!$BY$18:$BY$1017,$B35,'Daily Log'!$BZ$18:$BZ$1017),0)","v":0},{"$f":"IFERROR($E35*SUMIF('Daily Log'!$CB$18:$CB$1017,$B35,'Daily Log'!$CC$18:$CC$1017),0)","v":0},{"$f":"IFERROR($E35*SUMIF('Daily Log'!$CE$18:$CE$1017,$B35,'Daily Log'!$CF$18:$CF$1017),0)","v":0},{"$f":"IFERROR($E35*SUMIF('Daily Log'!$CH$18:$CH$1017,$B35,'Daily Log'!$CI$18:$CI$1017),0)","v":0},{"$f":"IFERROR($E35*SUMIF('Daily Log'!$CK$18:$CK$1017,$B35,'Daily Log'!$CL$18:$CL$1017),0)","v":0},{"$f":"IFERROR($E35*SUMIF('Daily Log'!$CN$18:$CN$1017,$B35,'Daily Log'!$CO$18:$CO$1017),0)","v":0}]
[null,"AA07 K : STAFF B'DAY",null,null,null,0,{"$f":"IFERROR($E36*SUMIF('Daily Log'!$B$18:$B$1017,$B36,'Daily Log'!$C$18:$C$1017),0)","v":0},{"$f":"IFERROR($E36*SUMIF('Daily Log'!$E$18:$E$1017,$B36,'Daily Log'!$F$18:$F$1017),0)","v":0},{"$f":"IFERROR($E36*SUMIF('Daily Log'!$H$18:$H$1017,$B36,'Daily Log'!$I$18:$I$1017),0)","v":0},{"$f":"IFERROR($E36*SUMIF('Daily Log'!$K$18:$K$1017,$B36,'Daily Log'!$L$18:$L$1017),0)","v":0},{"$f":"IFERROR($E36*SUMIF('Daily Log'!$N$18:$N$1017,$B36,'Daily Log'!$O$18:$O$1017),0)","v":0},{"$f":"IFERROR($E36*SUMIF('Daily Log'!$Q$18:$Q$1017,$B36,'Daily Log'!$R$18:$R$1017),0)","v":0},{"$f":"IFERROR($E36*SUMIF('Daily Log'!$T$18:$T$1017,$B36,'Daily Log'!$U$18:$U$1017),0)","v":0},{"$f":"IFERROR($E36*SUMIF('Daily Log'!$W$18:$W$1017,$B36,'Daily Log'!$X$18:$X$1017),0)","v":0},{"$f":"IFERROR($E36*SUMIF('Daily Log'!$Z$18:$Z$1017,$B36,'Daily Log'!$AA$18:$AA$1017),0)","v":0},{"$f":"IFERROR($E36*SUMIF('Daily Log'!$AC$18:$AC$1017,$B36,'Daily Log'!$AD$18:$AD$1017),0)","v":0},{"$f":"IFERROR($E36*SUMIF('Daily Log'!$AF$18:$AF$1017,$B36,'Daily Log'!$AG$18:$AG$1017),0)","v":0},{"$f":"IFERROR($E36*SUMIF('Daily Log'!$AI$18:$AI$1017,$B36,'Daily Log'!$AJ$18:$AJ$1017),0)","v":0},{"$f":"IFERROR($E36*SUMIF('Daily Log'!$AL$18:$AL$1017,$B36,'Daily Log'!$AM$18:$AM$1017),0)","v":0},{"$f":"IFERROR($E36*SUMIF('Daily Log'!$AO$18:$AO$1017,$B36,'Daily Log'!$AP$18:$AP$1017),0)","v":0},{"$f":"IFERROR($E36*SUMIF('Daily Log'!$AR$18:$AR$1017,$B36,'Daily Log'!$AS$18:$AS$1017),0)","v":0},{"$f":"IFERROR($E36*SUMIF('Daily Log'!$AU$18:$AU$1017,$B36,'Daily Log'!$AV$18:$AV$1017),0)","v":0},{"$f":"IFERROR($E36*SUMIF('Daily Log'!$AX$18:$AX$1017,$B36,'Daily Log'!$AY$18:$AY$1017),0)","v":0},{"$f":"IFERROR($E36*SUMIF('Daily Log'!$BA$18:$BA$1017,$B36,'Daily Log'!$BB$18:$BB$1017),0)","v":0},{"$f":"IFERROR($E36*SUMIF('Daily Log'!$BD$18:$BD$1017,$B36,'Daily Log'!$BE$18:$BE$1017),0)","v":0},{"$f":"IFERROR($E36*SUMIF('Daily Log'!$BG$18:$BG$1017,$B36,'Daily Log'!$BH$18:$BH$1017),0)","v":0},{"$f":"IFERROR($E36*SUMIF('Daily Log'!$BJ$18:$BJ$1017,$B36,'Daily Log'!$BK$18:$BK$1017),0)","v":0},{"$f":"IFERROR($E36*SUMIF('Daily Log'!$BM$18:$BM$1017,$B36,'Daily Log'!$BN$18:$BN$1017),0)","v":0},{"$f":"IFERROR($E36*SUMIF('Daily Log'!$BP$18:$BP$1017,$B36,'Daily Log'!$BQ$18:$BQ$1017),0)","v":0},{"$f":"IFERROR($E36*SUMIF('Daily Log'!$BS$18:$BS$1017,$B36,'Daily Log'!$BT$18:$BT$1017),0)","v":0},{"$f":"IFERROR($E36*SUMIF('Daily Log'!$BV$18:$BV$1017,$B36,'Daily Log'!$BW$18:$BW$1017),0)","v":0},{"$f":"IFERROR($E36*SUMIF('Daily Log'!$BY$18:$BY$1017,$B36,'Daily Log'!$BZ$18:$BZ$1017),0)","v":0},{"$f":"IFERROR($E36*SUMIF('Daily Log'!$CB$18:$CB$1017,$B36,'Daily Log'!$CC$18:$CC$1017),0)","v":0},{"$f":"IFERROR($E36*SUMIF('Daily Log'!$CE$18:$CE$1017,$B36,'Daily Log'!$CF$18:$CF$1017),0)","v":0},{"$f":"IFERROR($E36*SUMIF('Daily Log'!$CH$18:$CH$1017,$B36,'Daily Log'!$CI$18:$CI$1017),0)","v":0},{"$f":"IFERROR($E36*SUMIF('Daily Log'!$CK$18:$CK$1017,$B36,'Daily Log'!$CL$18:$CL$1017),0)","v":0},{"$f":"IFERROR($E36*SUMIF('Daily Log'!$CN$18:$CN$1017,$B36,'Daily Log'!$CO$18:$CO$1017),0)","v":0}]
[null,"AA08 K : FOC HEAD",null,null,null,0,{"$f":"IFERROR($E37*SUMIF('Daily Log'!$B$18:$B$1017,$B37,'Daily Log'!$C$18:$C$1017),0)","v":0},{"$f":"IFERROR($E37*SUMIF('Daily Log'!$E$18:$E$1017,$B37,'Daily Log'!$F$18:$F$1017),0)","v":0},{"$f":"IFERROR($E37*SUMIF('Daily Log'!$H$18:$H$1017,$B37,'Daily Log'!$I$18:$I$1017),0)","v":0},{"$f":"IFERROR($E37*SUMIF('Daily Log'!$K$18:$K$1017,$B37,'Daily Log'!$L$18:$L$1017),0)","v":0},{"$f":"IFERROR($E37*SUMIF('Daily Log'!$N$18:$N$1017,$B37,'Daily Log'!$O$18:$O$1017),0)","v":0},{"$f":"IFERROR($E37*SUMIF('Daily Log'!$Q$18:$Q$1017,$B37,'Daily Log'!$R$18:$R$1017),0)","v":0},{"$f":"IFERROR($E37*SUMIF('Daily Log'!$T$18:$T$1017,$B37,'Daily Log'!$U$18:$U$1017),0)","v":0},{"$f":"IFERROR($E37*SUMIF('Daily Log'!$W$18:$W$1017,$B37,'Daily Log'!$X$18:$X$1017),0)","v":0},{"$f":"IFERROR($E37*SUMIF('Daily Log'!$Z$18:$Z$1017,$B37,'Daily Log'!$AA$18:$AA$1017),0)","v":0},{"$f":"IFERROR($E37*SUMIF('Daily Log'!$AC$18:$AC$1017,$B37,'Daily Log'!$AD$18:$AD$1017),0)","v":0},{"$f":"IFERROR($E37*SUMIF('Daily Log'!$AF$18:$AF$1017,$B37,'Daily Log'!$AG$18:$AG$1017),0)","v":0},{"$f":"IFERROR($E37*SUMIF('Daily Log'!$AI$18:$AI$1017,$B37,'Daily Log'!$AJ$18:$AJ$1017),0)","v":0},{"$f":"IFERROR($E37*SUMIF('Daily Log'!$AL$18:$AL$1017,$B37,'Daily Log'!$AM$18:$AM$1017),0)","v":0},{"$f":"IFERROR($E37*SUMIF('Daily Log'!$AO$18:$AO$1017,$B37,'Daily Log'!$AP$18:$AP$1017),0)","v":0},{"$f":"IFERROR($E37*SUMIF('Daily Log'!$AR$18:$AR$1017,$B37,'Daily Log'!$AS$18:$AS$1017),0)","v":0},{"$f":"IFERROR($E37*SUMIF('Daily Log'!$AU$18:$AU$1017,$B37,'Daily Log'!$AV$18:$AV$1017),0)","v":0},{"$f":"IFERROR($E37*SUMIF('Daily Log'!$AX$18:$AX$1017,$B37,'Daily Log'!$AY$18:$AY$1017),0)","v":0},{"$f":"IFERROR($E37*SUMIF('Daily Log'!$BA$18:$BA$1017,$B37,'Daily Log'!$BB$18:$BB$1017),0)","v":0},{"$f":"IFERROR($E37*SUMIF('Daily Log'!$BD$18:$BD$1017,$B37,'Daily Log'!$BE$18:$BE$1017),0)","v":0},{"$f":"IFERROR($E37*SUMIF('Daily Log'!$BG$18:$BG$1017,$B37,'Daily Log'!$BH$18:$BH$1017),0)","v":0},{"$f":"IFERROR($E37*SUMIF('Daily Log'!$BJ$18:$BJ$1017,$B37,'Daily Log'!$BK$18:$BK$1017),0)","v":0},{"$f":"IFERROR($E37*SUMIF('Daily Log'!$BM$18:$BM$1017,$B37,'Daily Log'!$BN$18:$BN$1017),0)","v":0},{"$f":"IFERROR($E37*SUMIF('Daily Log'!$BP$18:$BP$1017,$B37,'Daily Log'!$BQ$18:$BQ$1017),0)","v":0},{"$f":"IFERROR($E37*SUMIF('Daily Log'!$BS$18:$BS$1017,$B37,'Daily Log'!$BT$18:$BT$1017),0)","v":0},{"$f":"IFERROR($E37*SUMIF('Daily Log'!$BV$18:$BV$1017,$B37,'Daily Log'!$BW$18:$BW$1017),0)","v":0},{"$f":"IFERROR($E37*SUMIF('Daily Log'!$BY$18:$BY$1017,$B37,'Daily Log'!$BZ$18:$BZ$1017),0)","v":0},{"$f":"IFERROR($E37*SUMIF('Daily Log'!$CB$18:$CB$1017,$B37,'Daily Log'!$CC$18:$CC$1017),0)","v":0},{"$f":"IFERROR($E37*SUMIF('Daily Log'!$CE$18:$CE$1017,$B37,'Daily Log'!$CF$18:$CF$1017),0)","v":0},{"$f":"IFERROR($E37*SUMIF('Daily Log'!$CH$18:$CH$1017,$B37,'Daily Log'!$CI$18:$CI$1017),0)","v":0},{"$f":"IFERROR($E37*SUMIF('Daily Log'!$CK$18:$CK$1017,$B37,'Daily Log'!$CL$18:$CL$1017),0)","v":0},{"$f":"IFERROR($E37*SUMIF('Daily Log'!$CN$18:$CN$1017,$B37,'Daily Log'!$CO$18:$CO$1017),0)","v":0}]
[null,"AA09 K : FREEHEAD (B)",null,null,null,0,{"$f":"IFERROR($E38*SUMIF('Daily Log'!$B$18:$B$1017,$B38,'Daily Log'!$C$18:$C$1017),0)","v":0},{"$f":"IFERROR($E38*SUMIF('Daily Log'!$E$18:$E$1017,$B38,'Daily Log'!$F$18:$F$1017),0)","v":0},{"$f":"IFERROR($E38*SUMIF('Daily Log'!$H$18:$H$1017,$B38,'Daily Log'!$I$18:$I$1017),0)","v":0},{"$f":"IFERROR($E38*SUMIF('Daily Log'!$K$18:$K$1017,$B38,'Daily Log'!$L$18:$L$1017),0)","v":0},{"$f":"IFERROR($E38*SUMIF('Daily Log'!$N$18:$N$1017,$B38,'Daily Log'!$O$18:$O$1017),0)","v":0},{"$f":"IFERROR($E38*SUMIF('Daily Log'!$Q$18:$Q$1017,$B38,'Daily Log'!$R$18:$R$1017),0)","v":0},{"$f":"IFERROR($E38*SUMIF('Daily Log'!$T$18:$T$1017,$B38,'Daily Log'!$U$18:$U$1017),0)","v":0},{"$f":"IFERROR($E38*SUMIF('Daily Log'!$W$18:$W$1017,$B38,'Daily Log'!$X$18:$X$1017),0)","v":0},{"$f":"IFERROR($E38*SUMIF('Daily Log'!$Z$18:$Z$1017,$B38,'Daily Log'!$AA$18:$AA$1017),0)","v":0},{"$f":"IFERROR($E38*SUMIF('Daily Log'!$AC$18:$AC$1017,$B38,'Daily Log'!$AD$18:$AD$1017),0)","v":0},{"$f":"IFERROR($E38*SUMIF('Daily Log'!$AF$18:$AF$1017,$B38,'Daily Log'!$AG$18:$AG$1017),0)","v":0},{"$f":"IFERROR($E38*SUMIF('Daily Log'!$AI$18:$AI$1017,$B38,'Daily Log'!$AJ$18:$AJ$1017),0)","v":0},{"$f":"IFERROR($E38*SUMIF('Daily Log'!$AL$18:$AL$1017,$B38,'Daily Log'!$AM$18:$AM$1017),0)","v":0},{"$f":"IFERROR($E38*SUMIF('Daily Log'!$AO$18:$AO$1017,$B38,'Daily Log'!$AP$18:$AP$1017),0)","v":0},{"$f":"IFERROR($E38*SUMIF('Daily Log'!$AR$18:$AR$1017,$B38,'Daily Log'!$AS$18:$AS$1017),0)","v":0},{"$f":"IFERROR($E38*SUMIF('Daily Log'!$AU$18:$AU$1017,$B38,'Daily Log'!$AV$18:$AV$1017),0)","v":0},{"$f":"IFERROR($E38*SUMIF('Daily Log'!$AX$18:$AX$1017,$B38,'Daily Log'!$AY$18:$AY$1017),0)","v":0},{"$f":"IFERROR($E38*SUMIF('Daily Log'!$BA$18:$BA$1017,$B38,'Daily Log'!$BB$18:$BB$1017),0)","v":0},{"$f":"IFERROR($E38*SUMIF('Daily Log'!$BD$18:$BD$1017,$B38,'Daily Log'!$BE$18:$BE$1017),0)","v":0},{"$f":"IFERROR($E38*SUMIF('Daily Log'!$BG$18:$BG$1017,$B38,'Daily Log'!$BH$18:$BH$1017),0)","v":0},{"$f":"IFERROR($E38*SUMIF('Daily Log'!$BJ$18:$BJ$1017,$B38,'Daily Log'!$BK$18:$BK$1017),0)","v":0},{"$f":"IFERROR($E38*SUMIF('Daily Log'!$BM$18:$BM$1017,$B38,'Daily Log'!$BN$18:$BN$1017),0)","v":0},{"$f":"IFERROR($E38*SUMIF('Daily Log'!$BP$18:$BP$1017,$B38,'Daily Log'!$BQ$18:$BQ$1017),0)","v":0},{"$f":"IFERROR($E38*SUMIF('Daily Log'!$BS$18:$BS$1017,$B38,'Daily Log'!$BT$18:$BT$1017),0)","v":0},{"$f":"IFERROR($E38*SUMIF('Daily Log'!$BV$18:$BV$1017,$B38,'Daily Log'!$BW$18:$BW$1017),0)","v":0},{"$f":"IFERROR($E38*SUMIF('Daily Log'!$BY$18:$BY$1017,$B38,'Daily Log'!$BZ$18:$BZ$1017),0)","v":0},{"$f":"IFERROR($E38*SUMIF('Daily Log'!$CB$18:$CB$1017,$B38,'Daily Log'!$CC$18:$CC$1017),0)","v":0},{"$f":"IFERROR($E38*SUMIF('Daily Log'!$CE$18:$CE$1017,$B38,'Daily Log'!$CF$18:$CF$1017),0)","v":0},{"$f":"IFERROR($E38*SUMIF('Daily Log'!$CH$18:$CH$1017,$B38,'Daily Log'!$CI$18:$CI$1017),0)","v":0},{"$f":"IFERROR($E38*SUMIF('Daily Log'!$CK$18:$CK$1017,$B38,'Daily Log'!$CL$18:$CL$1017),0)","v":0},{"$f":"IFERROR($E38*SUMIF('Daily Log'!$CN$18:$CN$1017,$B38,'Daily Log'!$CO$18:$CO$1017),0)","v":0}]
[null,"AA10 Father",null,null,null,0,{"$f":"IFERROR($E39*SUMIF('Daily Log'!$B$18:$B$1017,$B39,'Daily Log'!$C$18:$C$1017),0)","v":0},{"$f":"IFERROR($E39*SUMIF('Daily Log'!$E$18:$E$1017,$B39,'Daily Log'!$F$18:$F$1017),0)","v":0},{"$f":"IFERROR($E39*SUMIF('Daily Log'!$H$18:$H$1017,$B39,'Daily Log'!$I$18:$I$1017),0)","v":0},{"$f":"IFERROR($E39*SUMIF('Daily Log'!$K$18:$K$1017,$B39,'Daily Log'!$L$18:$L$1017),0)","v":0},{"$f":"IFERROR($E39*SUMIF('Daily Log'!$N$18:$N$1017,$B39,'Daily Log'!$O$18:$O$1017),0)","v":0},{"$f":"IFERROR($E39*SUMIF('Daily Log'!$Q$18:$Q$1017,$B39,'Daily Log'!$R$18:$R$1017),0)","v":0},{"$f":"IFERROR($E39*SUMIF('Daily Log'!$T$18:$T$1017,$B39,'Daily Log'!$U$18:$U$1017),0)","v":0},{"$f":"IFERROR($E39*SUMIF('Daily Log'!$W$18:$W$1017,$B39,'Daily Log'!$X$18:$X$1017),0)","v":0},{"$f":"IFERROR($E39*SUMIF('Daily Log'!$Z$18:$Z$1017,$B39,'Daily Log'!$AA$18:$AA$1017),0)","v":0},{"$f":"IFERROR($E39*SUMIF('Daily Log'!$AC$18:$AC$1017,$B39,'Daily Log'!$AD$18:$AD$1017),0)","v":0},{"$f":"IFERROR($E39*SUMIF('Daily Log'!$AF$18:$AF$1017,$B39,'Daily Log'!$AG$18:$AG$1017),0)","v":0},{"$f":"IFERROR($E39*SUMIF('Daily Log'!$AI$18:$AI$1017,$B39,'Daily Log'!$AJ$18:$AJ$1017),0)","v":0},{"$f":"IFERROR($E39*SUMIF('Daily Log'!$AL$18:$AL$1017,$B39,'Daily Log'!$AM$18:$AM$1017),0)","v":0},{"$f":"IFERROR($E39*SUMIF('Daily Log'!$AO$18:$AO$1017,$B39,'Daily Log'!$AP$18:$AP$1017),0)","v":0},{"$f":"IFERROR($E39*SUMIF('Daily Log'!$AR$18:$AR$1017,$B39,'Daily Log'!$AS$18:$AS$1017),0)","v":0},{"$f":"IFERROR($E39*SUMIF('Daily Log'!$AU$18:$AU$1017,$B39,'Daily Log'!$AV$18:$AV$1017),0)","v":0},{"$f":"IFERROR($E39*SUMIF('Daily Log'!$AX$18:$AX$1017,$B39,'Daily Log'!$AY$18:$AY$1017),0)","v":0},{"$f":"IFERROR($E39*SUMIF('Daily Log'!$BA$18:$BA$1017,$B39,'Daily Log'!$BB$18:$BB$1017),0)","v":0},{"$f":"IFERROR($E39*SUMIF('Daily Log'!$BD$18:$BD$1017,$B39,'Daily Log'!$BE$18:$BE$1017),0)","v":0},{"$f":"IFERROR($E39*SUMIF('Daily Log'!$BG$18:$BG$1017,$B39,'Daily Log'!$BH$18:$BH$1017),0)","v":0},{"$f":"IFERROR($E39*SUMIF('Daily Log'!$BJ$18:$BJ$1017,$B39,'Daily Log'!$BK$18:$BK$1017),0)","v":0},{"$f":"IFERROR($E39*SUMIF('Daily Log'!$BM$18:$BM$1017,$B39,'Daily Log'!$BN$18:$BN$1017),0)","v":0},{"$f":"IFERROR($E39*SUMIF('Daily Log'!$BP$18:$BP$1017,$B39,'Daily Log'!$BQ$18:$BQ$1017),0)","v":0},{"$f":"IFERROR($E39*SUMIF('Daily Log'!$BS$18:$BS$1017,$B39,'Daily Log'!$BT$18:$BT$1017),0)","v":0},{"$f":"IFERROR($E39*SUMIF('Daily Log'!$BV$18:$BV$1017,$B39,'Daily Log'!$BW$18:$BW$1017),0)","v":0},{"$f":"IFERROR($E39*SUMIF('Daily Log'!$BY$18:$BY$1017,$B39,'Daily Log'!$BZ$18:$BZ$1017),0)","v":0},{"$f":"IFERROR($E39*SUMIF('Daily Log'!$CB$18:$CB$1017,$B39,'Daily Log'!$CC$18:$CC$1017),0)","v":0},{"$f":"IFERROR($E39*SUMIF('Daily Log'!$CE$18:$CE$1017,$B39,'Daily Log'!$CF$18:$CF$1017),0)","v":0},{"$f":"IFERROR($E39*SUMIF('Daily Log'!$CH$18:$CH$1017,$B39,'Daily Log'!$CI$18:$CI$1017),0)","v":0},{"$f":"IFERROR($E39*SUMIF('Daily Log'!$CK$18:$CK$1017,$B39,'Daily Log'!$CL$18:$CL$1017),0)","v":0},{"$f":"IFERROR($E39*SUMIF('Daily Log'!$CN$18:$CN$1017,$B39,'Daily Log'!$CO$18:$CO$1017),0)","v":0}]
[null,"AA11 K : FREEHEAD (R)",null,null,null,0,{"$f":"IFERROR($E40*SUMIF('Daily Log'!$B$18:$B$1017,$B40,'Daily Log'!$C$18:$C$1017),0)","v":0},{"$f":"IFERROR($E40*SUMIF('Daily Log'!$E$18:$E$1017,$B40,'Daily Log'!$F$18:$F$1017),0)","v":0},{"$f":"IFERROR($E40*SUMIF('Daily Log'!$H$18:$H$1017,$B40,'Daily Log'!$I$18:$I$1017),0)","v":0},{"$f":"IFERROR($E40*SUMIF('Daily Log'!$K$18:$K$1017,$B40,'Daily Log'!$L$18:$L$1017),0)","v":0},{"$f":"IFERROR($E40*SUMIF('Daily Log'!$N$18:$N$1017,$B40,'Daily Log'!$O$18:$O$1017),0)","v":0},{"$f":"IFERROR($E40*SUMIF('Daily Log'!$Q$18:$Q$1017,$B40,'Daily Log'!$R$18:$R$1017),0)","v":0},{"$f":"IFERROR($E40*SUMIF('Daily Log'!$T$18:$T$1017,$B40,'Daily Log'!$U$18:$U$1017),0)","v":0},{"$f":"IFERROR($E40*SUMIF('Daily Log'!$W$18:$W$1017,$B40,'Daily Log'!$X$18:$X$1017),0)","v":0},{"$f":"IFERROR($E40*SUMIF('Daily Log'!$Z$18:$Z$1017,$B40,'Daily Log'!$AA$18:$AA$1017),0)","v":0},{"$f":"IFERROR($E40*SUMIF('Daily Log'!$AC$18:$AC$1017,$B40,'Daily Log'!$AD$18:$AD$1017),0)","v":0},{"$f":"IFERROR($E40*SUMIF('Daily Log'!$AF$18:$AF$1017,$B40,'Daily Log'!$AG$18:$AG$1017),0)","v":0},{"$f":"IFERROR($E40*SUMIF('Daily Log'!$AI$18:$AI$1017,$B40,'Daily Log'!$AJ$18:$AJ$1017),0)","v":0},{"$f":"IFERROR($E40*SUMIF('Daily Log'!$AL$18:$AL$1017,$B40,'Daily Log'!$AM$18:$AM$1017),0)","v":0},{"$f":"IFERROR($E40*SUMIF('Daily Log'!$AO$18:$AO$1017,$B40,'Daily Log'!$AP$18:$AP$1017),0)","v":0},{"$f":"IFERROR($E40*SUMIF('Daily Log'!$AR$18:$AR$1017,$B40,'Daily Log'!$AS$18:$AS$1017),0)","v":0},{"$f":"IFERROR($E40*SUMIF('Daily Log'!$AU$18:$AU$1017,$B40,'Daily Log'!$AV$18:$AV$1017),0)","v":0},{"$f":"IFERROR($E40*SUMIF('Daily Log'!$AX$18:$AX$1017,$B40,'Daily Log'!$AY$18:$AY$1017),0)","v":0},{"$f":"IFERROR($E40*SUMIF('Daily Log'!$BA$18:$BA$1017,$B40,'Daily Log'!$BB$18:$BB$1017),0)","v":0},{"$f":"IFERROR($E40*SUMIF('Daily Log'!$BD$18:$BD$1017,$B40,'Daily Log'!$BE$18:$BE$1017),0)","v":0},{"$f":"IFERROR($E40*SUMIF('Daily Log'!$BG$18:$BG$1017,$B40,'Daily Log'!$BH$18:$BH$1017),0)","v":0},{"$f":"IFERROR($E40*SUMIF('Daily Log'!$BJ$18:$BJ$1017,$B40,'Daily Log'!$BK$18:$BK$1017),0)","v":0},{"$f":"IFERROR($E40*SUMIF('Daily Log'!$BM$18:$BM$1017,$B40,'Daily Log'!$BN$18:$BN$1017),0)","v":0},{"$f":"IFERROR($E40*SUMIF('Daily Log'!$BP$18:$BP$1017,$B40,'Daily Log'!$BQ$18:$BQ$1017),0)","v":0},{"$f":"IFERROR($E40*SUMIF('Daily Log'!$BS$18:$BS$1017,$B40,'Daily Log'!$BT$18:$BT$1017),0)","v":0},{"$f":"IFERROR($E40*SUMIF('Daily Log'!$BV$18:$BV$1017,$B40,'Daily Log'!$BW$18:$BW$1017),0)","v":0},{"$f":"IFERROR($E40*SUMIF('Daily Log'!$BY$18:$BY$1017,$B40,'Daily Log'!$BZ$18:$BZ$1017),0)","v":0},{"$f":"IFERROR($E40*SUMIF('Daily Log'!$CB$18:$CB$1017,$B40,'Daily Log'!$CC$18:$CC$1017),0)","v":0},{"$f":"IFERROR($E40*SUMIF('Daily Log'!$CE$18:$CE$1017,$B40,'Daily Log'!$CF$18:$CF$1017),0)","v":0},{"$f":"IFERROR($E40*SUMIF('Daily Log'!$CH$18:$CH$1017,$B40,'Daily Log'!$CI$18:$CI$1017),0)","v":0},{"$f":"IFERROR($E40*SUMIF('Daily Log'!$CK$18:$CK$1017,$B40,'Daily Log'!$CL$18:$CL$1017),0)","v":0},{"$f":"IFERROR($E40*SUMIF('Daily Log'!$CN$18:$CN$1017,$B40,'Daily Log'!$CO$18:$CO$1017),0)","v":0}]
[null,"AA12 K : 3+1",null,null,null,0,{"$f":"IFERROR($E41*SUMIF('Daily Log'!$B$18:$B$1017,$B41,'Daily Log'!$C$18:$C$1017),0)","v":0},{"$f":"IFERROR($E41*SUMIF('Daily Log'!$E$18:$E$1017,$B41,'Daily Log'!$F$18:$F$1017),0)","v":0},{"$f":"IFERROR($E41*SUMIF('Daily Log'!$H$18:$H$1017,$B41,'Daily Log'!$I$18:$I$1017),0)","v":0},{"$f":"IFERROR($E41*SUMIF('Daily Log'!$K$18:$K$1017,$B41,'Daily Log'!$L$18:$L$1017),0)","v":0},{"$f":"IFERROR($E41*SUMIF('Daily Log'!$N$18:$N$1017,$B41,'Daily Log'!$O$18:$O$1017),0)","v":0},{"$f":"IFERROR($E41*SUMIF('Daily Log'!$Q$18:$Q$1017,$B41,'Daily Log'!$R$18:$R$1017),0)","v":0},{"$f":"IFERROR($E41*SUMIF('Daily Log'!$T$18:$T$1017,$B41,'Daily Log'!$U$18:$U$1017),0)","v":0},{"$f":"IFERROR($E41*SUMIF('Daily Log'!$W$18:$W$1017,$B41,'Daily Log'!$X$18:$X$1017),0)","v":0},{"$f":"IFERROR($E41*SUMIF('Daily Log'!$Z$18:$Z$1017,$B41,'Daily Log'!$AA$18:$AA$1017),0)","v":0},{"$f":"IFERROR($E41*SUMIF('Daily Log'!$AC$18:$AC$1017,$B41,'Daily Log'!$AD$18:$AD$1017),0)","v":0},{"$f":"IFERROR($E41*SUMIF('Daily Log'!$AF$18:$AF$1017,$B41,'Daily Log'!$AG$18:$AG$1017),0)","v":0},{"$f":"IFERROR($E41*SUMIF('Daily Log'!$AI$18:$AI$1017,$B41,'Daily Log'!$AJ$18:$AJ$1017),0)","v":0},{"$f":"IFERROR($E41*SUMIF('Daily Log'!$AL$18:$AL$1017,$B41,'Daily Log'!$AM$18:$AM$1017),0)","v":0},{"$f":"IFERROR($E41*SUMIF('Daily Log'!$AO$18:$AO$1017,$B41,'Daily Log'!$AP$18:$AP$1017),0)","v":0},{"$f":"IFERROR($E41*SUMIF('Daily Log'!$AR$18:$AR$1017,$B41,'Daily Log'!$AS$18:$AS$1017),0)","v":0},{"$f":"IFERROR($E41*SUMIF('Daily Log'!$AU$18:$AU$1017,$B41,'Daily Log'!$AV$18:$AV$1017),0)","v":0},{"$f":"IFERROR($E41*SUMIF('Daily Log'!$AX$18:$AX$1017,$B41,'Daily Log'!$AY$18:$AY$1017),0)","v":0},{"$f":"IFERROR($E41*SUMIF('Daily Log'!$BA$18:$BA$1017,$B41,'Daily Log'!$BB$18:$BB$1017),0)","v":0},{"$f":"IFERROR($E41*SUMIF('Daily Log'!$BD$18:$BD$1017,$B41,'Daily Log'!$BE$18:$BE$1017),0)","v":0},{"$f":"IFERROR($E41*SUMIF('Daily Log'!$BG$18:$BG$1017,$B41,'Daily Log'!$BH$18:$BH$1017),0)","v":0},{"$f":"IFERROR($E41*SUMIF('Daily Log'!$BJ$18:$BJ$1017,$B41,'Daily Log'!$BK$18:$BK$1017),0)","v":0},{"$f":"IFERROR($E41*SUMIF('Daily Log'!$BM$18:$BM$1017,$B41,'Daily Log'!$BN$18:$BN$1017),0)","v":0},{"$f":"IFERROR($E41*SUMIF('Daily Log'!$BP$18:$BP$1017,$B41,'Daily Log'!$BQ$18:$BQ$1017),0)","v":0},{"$f":"IFERROR($E41*SUMIF('Daily Log'!$BS$18:$BS$1017,$B41,'Daily Log'!$BT$18:$BT$1017),0)","v":0},{"$f":"IFERROR($E41*SUMIF('Daily Log'!$BV$18:$BV$1017,$B41,'Daily Log'!$BW$18:$BW$1017),0)","v":0},{"$f":"IFERROR($E41*SUMIF('Daily Log'!$BY$18:$BY$1017,$B41,'Daily Log'!$BZ$18:$BZ$1017),0)","v":0},{"$f":"IFERROR($E41*SUMIF('Daily Log'!$CB$18:$CB$1017,$B41,'Daily Log'!$CC$18:$CC$1017),0)","v":0},{"$f":"IFERROR($E41*SUMIF('Daily Log'!$CE$18:$CE$1017,$B41,'Daily Log'!$CF$18:$CF$1017),0)","v":0},{"$f":"IFERROR($E41*SUMIF('Daily Log'!$CH$18:$CH$1017,$B41,'Daily Log'!$CI$18:$CI$1017),0)","v":0},{"$f":"IFERROR($E41*SUMIF('Daily Log'!$CK$18:$CK$1017,$B41,'Daily Log'!$CL$18:$CL$1017),0)","v":0},{"$f":"IFERROR($E41*SUMIF('Daily Log'!$CN$18:$CN$1017,$B41,'Daily Log'!$CO$18:$CO$1017),0)","v":0}]
[null,"AA13 K : PROMOTION",null,null,null,0,{"$f":"IFERROR($E42*SUMIF('Daily Log'!$B$18:$B$1017,$B42,'Daily Log'!$C$18:$C$1017),0)","v":0},{"$f":"IFERROR($E42*SUMIF('Daily Log'!$E$18:$E$1017,$B42,'Daily Log'!$F$18:$F$1017),0)","v":0},{"$f":"IFERROR($E42*SUMIF('Daily Log'!$H$18:$H$1017,$B42,'Daily Log'!$I$18:$I$1017),0)","v":0},{"$f":"IFERROR($E42*SUMIF('Daily Log'!$K$18:$K$1017,$B42,'Daily Log'!$L$18:$L$1017),0)","v":0},{"$f":"IFERROR($E42*SUMIF('Daily Log'!$N$18:$N$1017,$B42,'Daily Log'!$O$18:$O$1017),0)","v":0},{"$f":"IFERROR($E42*SUMIF('Daily Log'!$Q$18:$Q$1017,$B42,'Daily Log'!$R$18:$R$1017),0)","v":0},{"$f":"IFERROR($E42*SUMIF('Daily Log'!$T$18:$T$1017,$B42,'Daily Log'!$U$18:$U$1017),0)","v":0},{"$f":"IFERROR($E42*SUMIF('Daily Log'!$W$18:$W$1017,$B42,'Daily Log'!$X$18:$X$1017),0)","v":0},{"$f":"IFERROR($E42*SUMIF('Daily Log'!$Z$18:$Z$1017,$B42,'Daily Log'!$AA$18:$AA$1017),0)","v":0},{"$f":"IFERROR($E42*SUMIF('Daily Log'!$AC$18:$AC$1017,$B42,'Daily Log'!$AD$18:$AD$1017),0)","v":0},{"$f":"IFERROR($E42*SUMIF('Daily Log'!$AF$18:$AF$1017,$B42,'Daily Log'!$AG$18:$AG$1017),0)","v":0},{"$f":"IFERROR($E42*SUMIF('Daily Log'!$AI$18:$AI$1017,$B42,'Daily Log'!$AJ$18:$AJ$1017),0)","v":0},{"$f":"IFERROR($E42*SUMIF('Daily Log'!$AL$18:$AL$1017,$B42,'Daily Log'!$AM$18:$AM$1017),0)","v":0},{"$f":"IFERROR($E42*SUMIF('Daily Log'!$AO$18:$AO$1017,$B42,'Daily Log'!$AP$18:$AP$1017),0)","v":0},{"$f":"IFERROR($E42*SUMIF('Daily Log'!$AR$18:$AR$1017,$B42,'Daily Log'!$AS$18:$AS$1017),0)","v":0},{"$f":"IFERROR($E42*SUMIF('Daily Log'!$AU$18:$AU$1017,$B42,'Daily Log'!$AV$18:$AV$1017),0)","v":0},{"$f":"IFERROR($E42*SUMIF('Daily Log'!$AX$18:$AX$1017,$B42,'Daily Log'!$AY$18:$AY$1017),0)","v":0},{"$f":"IFERROR($E42*SUMIF('Daily Log'!$BA$18:$BA$1017,$B42,'Daily Log'!$BB$18:$BB$1017),0)","v":0},{"$f":"IFERROR($E42*SUMIF('Daily Log'!$BD$18:$BD$1017,$B42,'Daily Log'!$BE$18:$BE$1017),0)","v":0},{"$f":"IFERROR($E42*SUMIF('Daily Log'!$BG$18:$BG$1017,$B42,'Daily Log'!$BH$18:$BH$1017),0)","v":0},{"$f":"IFERROR($E42*SUMIF('Daily Log'!$BJ$18:$BJ$1017,$B42,'Daily Log'!$BK$18:$BK$1017),0)","v":0},{"$f":"IFERROR($E42*SUMIF('Daily Log'!$BM$18:$BM$1017,$B42,'Daily Log'!$BN$18:$BN$1017),0)","v":0},{"$f":"IFERROR($E42*SUMIF('Daily Log'!$BP$18:$BP$1017,$B42,'Daily Log'!$BQ$18:$BQ$1017),0)","v":0},{"$f":"IFERROR($E42*SUMIF('Daily Log'!$BS$18:$BS$1017,$B42,'Daily Log'!$BT$18:$BT$1017),0)","v":0},{"$f":"IFERROR($E42*SUMIF('Daily Log'!$BV$18:$BV$1017,$B42,'Daily Log'!$BW$18:$BW$1017),0)","v":0},{"$f":"IFERROR($E42*SUMIF('Daily Log'!$BY$18:$BY$1017,$B42,'Daily Log'!$BZ$18:$BZ$1017),0)","v":0},{"$f":"IFERROR($E42*SUMIF('Daily Log'!$CB$18:$CB$1017,$B42,'Daily Log'!$CC$18:$CC$1017),0)","v":0},{"$f":"IFERROR($E42*SUMIF('Daily Log'!$CE$18:$CE$1017,$B42,'Daily Log'!$CF$18:$CF$1017),0)","v":0},{"$f":"IFERROR($E42*SUMIF('Daily Log'!$CH$18:$CH$1017,$B42,'Daily Log'!$CI$18:$CI$1017),0)","v":0},{"$f":"IFERROR($E42*SUMIF('Daily Log'!$CK$18:$CK$1017,$B42,'Daily Log'!$CL$18:$CL$1017),0)","v":0},{"$f":"IFERROR($E42*SUMIF('Daily Log'!$CN$18:$CN$1017,$B42,'Daily Log'!$CO$18:$CO$1017),0)","v":0}]
[null,"AA14 K : PROMO+MEAL",null,null,null,0,{"$f":"IFERROR($E43*SUMIF('Daily Log'!$B$18:$B$1017,$B43,'Daily Log'!$C$18:$C$1017),0)","v":0},{"$f":"IFERROR($E43*SUMIF('Daily Log'!$E$18:$E$1017,$B43,'Daily Log'!$F$18:$F$1017),0)","v":0},{"$f":"IFERROR($E43*SUMIF('Daily Log'!$H$18:$H$1017,$B43,'Daily Log'!$I$18:$I$1017),0)","v":0},{"$f":"IFERROR($E43*SUMIF('Daily Log'!$K$18:$K$1017,$B43,'Daily Log'!$L$18:$L$1017),0)","v":0},{"$f":"IFERROR($E43*SUMIF('Daily Log'!$N$18:$N$1017,$B43,'Daily Log'!$O$18:$O$1017),0)","v":0},{"$f":"IFERROR($E43*SUMIF('Daily Log'!$Q$18:$Q$1017,$B43,'Daily Log'!$R$18:$R$1017),0)","v":0},{"$f":"IFERROR($E43*SUMIF('Daily Log'!$T$18:$T$1017,$B43,'Daily Log'!$U$18:$U$1017),0)","v":0},{"$f":"IFERROR($E43*SUMIF('Daily Log'!$W$18:$W$1017,$B43,'Daily Log'!$X$18:$X$1017),0)","v":0},{"$f":"IFERROR($E43*SUMIF('Daily Log'!$Z$18:$Z$1017,$B43,'Daily Log'!$AA$18:$AA$1017),0)","v":0},{"$f":"IFERROR($E43*SUMIF('Daily Log'!$AC$18:$AC$1017,$B43,'Daily Log'!$AD$18:$AD$1017),0)","v":0},{"$f":"IFERROR($E43*SUMIF('Daily Log'!$AF$18:$AF$1017,$B43,'Daily Log'!$AG$18:$AG$1017),0)","v":0},{"$f":"IFERROR($E43*SUMIF('Daily Log'!$AI$18:$AI$1017,$B43,'Daily Log'!$AJ$18:$AJ$1017),0)","v":0},{"$f":"IFERROR($E43*SUMIF('Daily Log'!$AL$18:$AL$1017,$B43,'Daily Log'!$AM$18:$AM$1017),0)","v":0},{"$f":"IFERROR($E43*SUMIF('Daily Log'!$AO$18:$AO$1017,$B43,'Daily Log'!$AP$18:$AP$1017),0)","v":0},{"$f":"IFERROR($E43*SUMIF('Daily Log'!$AR$18:$AR$1017,$B43,'Daily Log'!$AS$18:$AS$1017),0)","v":0},{"$f":"IFERROR($E43*SUMIF('Daily Log'!$AU$18:$AU$1017,$B43,'Daily Log'!$AV$18:$AV$1017),0)","v":0},{"$f":"IFERROR($E43*SUMIF('Daily Log'!$AX$18:$AX$1017,$B43,'Daily Log'!$AY$18:$AY$1017),0)","v":0},{"$f":"IFERROR($E43*SUMIF('Daily Log'!$BA$18:$BA$1017,$B43,'Daily Log'!$BB$18:$BB$1017),0)","v":0},{"$f":"IFERROR($E43*SUMIF('Daily Log'!$BD$18:$BD$1017,$B43,'Daily Log'!$BE$18:$BE$1017),0)","v":0},{"$f":"IFERROR($E43*SUMIF('Daily Log'!$BG$18:$BG$1017,$B43,'Daily Log'!$BH$18:$BH$1017),0)","v":0},{"$f":"IFERROR($E43*SUMIF('Daily Log'!$BJ$18:$BJ$1017,$B43,'Daily Log'!$BK$18:$BK$1017),0)","v":0},{"$f":"IFERROR($E43*SUMIF('Daily Log'!$BM$18:$BM$1017,$B43,'Daily Log'!$BN$18:$BN$1017),0)","v":0},{"$f":"IFERROR($E43*SUMIF('Daily Log'!$BP$18:$BP$1017,$B43,'Daily Log'!$BQ$18:$BQ$1017),0)","v":0},{"$f":"IFERROR($E43*SUMIF('Daily Log'!$BS$18:$BS$1017,$B43,'Daily Log'!$BT$18:$BT$1017),0)","v":0},{"$f":"IFERROR($E43*SUMIF('Daily Log'!$BV$18:$BV$1017,$B43,'Daily Log'!$BW$18:$BW$1017),0)","v":0},{"$f":"IFERROR($E43*SUMIF('Daily Log'!$BY$18:$BY$1017,$B43,'Daily Log'!$BZ$18:$BZ$1017),0)","v":0},{"$f":"IFERROR($E43*SUMIF('Daily Log'!$CB$18:$CB$1017,$B43,'Daily Log'!$CC$18:$CC$1017),0)","v":0},{"$f":"IFERROR($E43*SUMIF('Daily Log'!$CE$18:$CE$1017,$B43,'Daily Log'!$CF$18:$CF$1017),0)","v":0},{"$f":"IFERROR($E43*SUMIF('Daily Log'!$CH$18:$CH$1017,$B43,'Daily Log'!$CI$18:$CI$1017),0)","v":0},{"$f":"IFERROR($E43*SUMIF('Daily Log'!$CK$18:$CK$1017,$B43,'Daily Log'!$CL$18:$CL$1017),0)","v":0},{"$f":"IFERROR($E43*SUMIF('Daily Log'!$CN$18:$CN$1017,$B43,'Daily Log'!$CO$18:$CO$1017),0)","v":0}]
[null,"AA15 K : EVENT",null,null,null,0,{"$f":"IFERROR($E44*SUMIF('Daily Log'!$B$18:$B$1017,$B44,'Daily Log'!$C$18:$C$1017),0)","v":0},{"$f":"IFERROR($E44*SUMIF('Daily Log'!$E$18:$E$1017,$B44,'Daily Log'!$F$18:$F$1017),0)","v":0},{"$f":"IFERROR($E44*SUMIF('Daily Log'!$H$18:$H$1017,$B44,'Daily Log'!$I$18:$I$1017),0)","v":0},{"$f":"IFERROR($E44*SUMIF('Daily Log'!$K$18:$K$1017,$B44,'Daily Log'!$L$18:$L$1017),0)","v":0},{"$f":"IFERROR($E44*SUMIF('Daily Log'!$N$18:$N$1017,$B44,'Daily Log'!$O$18:$O$1017),0)","v":0},{"$f":"IFERROR($E44*SUMIF('Daily Log'!$Q$18:$Q$1017,$B44,'Daily Log'!$R$18:$R$1017),0)","v":0},{"$f":"IFERROR($E44*SUMIF('Daily Log'!$T$18:$T$1017,$B44,'Daily Log'!$U$18:$U$1017),0)","v":0},{"$f":"IFERROR($E44*SUMIF('Daily Log'!$W$18:$W$1017,$B44,'Daily Log'!$X$18:$X$1017),0)","v":0},{"$f":"IFERROR($E44*SUMIF('Daily Log'!$Z$18:$Z$1017,$B44,'Daily Log'!$AA$18:$AA$1017),0)","v":0},{"$f":"IFERROR($E44*SUMIF('Daily Log'!$AC$18:$AC$1017,$B44,'Daily Log'!$AD$18:$AD$1017),0)","v":0},{"$f":"IFERROR($E44*SUMIF('Daily Log'!$AF$18:$AF$1017,$B44,'Daily Log'!$AG$18:$AG$1017),0)","v":0},{"$f":"IFERROR($E44*SUMIF('Daily Log'!$AI$18:$AI$1017,$B44,'Daily Log'!$AJ$18:$AJ$1017),0)","v":0},{"$f":"IFERROR($E44*SUMIF('Daily Log'!$AL$18:$AL$1017,$B44,'Daily Log'!$AM$18:$AM$1017),0)","v":0},{"$f":"IFERROR($E44*SUMIF('Daily Log'!$AO$18:$AO$1017,$B44,'Daily Log'!$AP$18:$AP$1017),0)","v":0},{"$f":"IFERROR($E44*SUMIF('Daily Log'!$AR$18:$AR$1017,$B44,'Daily Log'!$AS$18:$AS$1017),0)","v":0},{"$f":"IFERROR($E44*SUMIF('Daily Log'!$AU$18:$AU$1017,$B44,'Daily Log'!$AV$18:$AV$1017),0)","v":0},{"$f":"IFERROR($E44*SUMIF('Daily Log'!$AX$18:$AX$1017,$B44,'Daily Log'!$AY$18:$AY$1017),0)","v":0},{"$f":"IFERROR($E44*SUMIF('Daily Log'!$BA$18:$BA$1017,$B44,'Daily Log'!$BB$18:$BB$1017),0)","v":0},{"$f":"IFERROR($E44*SUMIF('Daily Log'!$BD$18:$BD$1017,$B44,'Daily Log'!$BE$18:$BE$1017),0)","v":0},{"$f":"IFERROR($E44*SUMIF('Daily Log'!$BG$18:$BG$1017,$B44,'Daily Log'!$BH$18:$BH$1017),0)","v":0},{"$f":"IFERROR($E44*SUMIF('Daily Log'!$BJ$18:$BJ$1017,$B44,'Daily Log'!$BK$18:$BK$1017),0)","v":0},{"$f":"IFERROR($E44*SUMIF('Daily Log'!$BM$18:$BM$1017,$B44,'Daily Log'!$BN$18:$BN$1017),0)","v":0},{"$f":"IFERROR($E44*SUMIF('Daily Log'!$BP$18:$BP$1017,$B44,'Daily Log'!$BQ$18:$BQ$1017),0)","v":0},{"$f":"IFERROR($E44*SUMIF('Daily Log'!$BS$18:$BS$1017,$B44,'Daily Log'!$BT$18:$BT$1017),0)","v":0},{"$f":"IFERROR($E44*SUMIF('Daily Log'!$BV$18:$BV$1017,$B44,'Daily Log'!$BW$18:$BW$1017),0)","v":0},{"$f":"IFERROR($E44*SUMIF('Daily Log'!$BY$18:$BY$1017,$B44,'Daily Log'!$BZ$18:$BZ$1017),0)","v":0},{"$f":"IFERROR($E44*SUMIF('Daily Log'!$CB$18:$CB$1017,$B44,'Daily Log'!$CC$18:$CC$1017),0)","v":0},{"$f":"IFERROR($E44*SUMIF('Daily Log'!$CE$18:$CE$1017,$B44,'Daily Log'!$CF$18:$CF$1017),0)","v":0},{"$f":"IFERROR($E44*SUMIF('Daily Log'!$CH$18:$CH$1017,$B44,'Daily Log'!$CI$18:$CI$1017),0)","v":0},{"$f":"IFERROR($E44*SUMIF('Daily Log'!$CK$18:$CK$1017,$B44,'Daily Log'!$CL$18:$CL$1017),0)","v":0},{"$f":"IFERROR($E44*SUMIF('Daily Log'!$CN$18:$CN$1017,$B44,'Daily Log'!$CO$18:$CO$1017),0)","v":0}]
[null,"AA16 K : XTD S ROOM",null,null,null,0,{"$f":"IFERROR($E45*SUMIF('Daily Log'!$B$18:$B$1017,$B45,'Daily Log'!$C$18:$C$1017),0)","v":0},{"$f":"IFERROR($E45*SUMIF('Daily Log'!$E$18:$E$1017,$B45,'Daily Log'!$F$18:$F$1017),0)","v":0},{"$f":"IFERROR($E45*SUMIF('Daily Log'!$H$18:$H$1017,$B45,'Daily Log'!$I$18:$I$1017),0)","v":0},{"$f":"IFERROR($E45*SUMIF('Daily Log'!$K$18:$K$1017,$B45,'Daily Log'!$L$18:$L$1017),0)","v":0},{"$f":"IFERROR($E45*SUMIF('Daily Log'!$N$18:$N$1017,$B45,'Daily Log'!$O$18:$O$1017),0)","v":0},{"$f":"IFERROR($E45*SUMIF('Daily Log'!$Q$18:$Q$1017,$B45,'Daily Log'!$R$18:$R$1017),0)","v":0},{"$f":"IFERROR($E45*SUMIF('Daily Log'!$T$18:$T$1017,$B45,'Daily Log'!$U$18:$U$1017),0)","v":0},{"$f":"IFERROR($E45*SUMIF('Daily Log'!$W$18:$W$1017,$B45,'Daily Log'!$X$18:$X$1017),0)","v":0},{"$f":"IFERROR($E45*SUMIF('Daily Log'!$Z$18:$Z$1017,$B45,'Daily Log'!$AA$18:$AA$1017),0)","v":0},{"$f":"IFERROR($E45*SUMIF('Daily Log'!$AC$18:$AC$1017,$B45,'Daily Log'!$AD$18:$AD$1017),0)","v":0},{"$f":"IFERROR($E45*SUMIF('Daily Log'!$AF$18:$AF$1017,$B45,'Daily Log'!$AG$18:$AG$1017),0)","v":0},{"$f":"IFERROR($E45*SUMIF('Daily Log'!$AI$18:$AI$1017,$B45,'Daily Log'!$AJ$18:$AJ$1017),0)","v":0},{"$f":"IFERROR($E45*SUMIF('Daily Log'!$AL$18:$AL$1017,$B45,'Daily Log'!$AM$18:$AM$1017),0)","v":0},{"$f":"IFERROR($E45*SUMIF('Daily Log'!$AO$18:$AO$1017,$B45,'Daily Log'!$AP$18:$AP$1017),0)","v":0},{"$f":"IFERROR($E45*SUMIF('Daily Log'!$AR$18:$AR$1017,$B45,'Daily Log'!$AS$18:$AS$1017),0)","v":0},{"$f":"IFERROR($E45*SUMIF('Daily Log'!$AU$18:$AU$1017,$B45,'Daily Log'!$AV$18:$AV$1017),0)","v":0},{"$f":"IFERROR($E45*SUMIF('Daily Log'!$AX$18:$AX$1017,$B45,'Daily Log'!$AY$18:$AY$1017),0)","v":0},{"$f":"IFERROR($E45*SUMIF('Daily Log'!$BA$18:$BA$1017,$B45,'Daily Log'!$BB$18:$BB$1017),0)","v":0},{"$f":"IFERROR($E45*SUMIF('Daily Log'!$BD$18:$BD$1017,$B45,'Daily Log'!$BE$18:$BE$1017),0)","v":0},{"$f":"IFERROR($E45*SUMIF('Daily Log'!$BG$18:$BG$1017,$B45,'Daily Log'!$BH$18:$BH$1017),0)","v":0},{"$f":"IFERROR($E45*SUMIF('Daily Log'!$BJ$18:$BJ$1017,$B45,'Daily Log'!$BK$18:$BK$1017),0)","v":0},{"$f":"IFERROR($E45*SUMIF('Daily Log'!$BM$18:$BM$1017,$B45,'Daily Log'!$BN$18:$BN$1017),0)","v":0},{"$f":"IFERROR($E45*SUMIF('Daily Log'!$BP$18:$BP$1017,$B45,'Daily Log'!$BQ$18:$BQ$1017),0)","v":0},{"$f":"IFERROR($E45*SUMIF('Daily Log'!$BS$18:$BS$1017,$B45,'Daily Log'!$BT$18:$BT$1017),0)","v":0},{"$f":"IFERROR($E45*SUMIF('Daily Log'!$BV$18:$BV$1017,$B45,'Daily Log'!$BW$18:$BW$1017),0)","v":0},{"$f":"IFERROR($E45*SUMIF('Daily Log'!$BY$18:$BY$1017,$B45,'Daily Log'!$BZ$18:$BZ$1017),0)","v":0},{"$f":"IFERROR($E45*SUMIF('Daily Log'!$CB$18:$CB$1017,$B45,'Daily Log'!$CC$18:$CC$1017),0)","v":0},{"$f":"IFERROR($E45*SUMIF('Daily Log'!$CE$18:$CE$1017,$B45,'Daily Log'!$CF$18:$CF$1017),0)","v":0},{"$f":"IFERROR($E45*SUMIF('Daily Log'!$CH$18:$CH$1017,$B45,'Daily Log'!$CI$18:$CI$1017),0)","v":0},{"$f":"IFERROR($E45*SUMIF('Daily Log'!$CK$18:$CK$1017,$B45,'Daily Log'!$CL$18:$CL$1017),0)","v":0},{"$f":"IFERROR($E45*SUMIF('Daily Log'!$CN$18:$CN$1017,$B45,'Daily Log'!$CO$18:$CO$1017),0)","v":0}]
[null,"AA17 K : XTD M ROOM",null,null,null,0,{"$f":"IFERROR($E46*SUMIF('Daily Log'!$B$18:$B$1017,$B46,'Daily Log'!$C$18:$C$1017),0)","v":0},{"$f":"IFERROR($E46*SUMIF('Daily Log'!$E$18:$E$1017,$B46,'Daily Log'!$F$18:$F$1017),0)","v":0},{"$f":"IFERROR($E46*SUMIF('Daily Log'!$H$18:$H$1017,$B46,'Daily Log'!$I$18:$I$1017),0)","v":0},{"$f":"IFERROR($E46*SUMIF('Daily Log'!$K$18:$K$1017,$B46,'Daily Log'!$L$18:$L$1017),0)","v":0},{"$f":"IFERROR($E46*SUMIF('Daily Log'!$N$18:$N$1017,$B46,'Daily Log'!$O$18:$O$1017),0)","v":0},{"$f":"IFERROR($E46*SUMIF('Daily Log'!$Q$18:$Q$1017,$B46,'Daily Log'!$R$18:$R$1017),0)","v":0},{"$f":"IFERROR($E46*SUMIF('Daily Log'!$T$18:$T$1017,$B46,'Daily Log'!$U$18:$U$1017),0)","v":0},{"$f":"IFERROR($E46*SUMIF('Daily Log'!$W$18:$W$1017,$B46,'Daily Log'!$X$18:$X$1017),0)","v":0},{"$f":"IFERROR($E46*SUMIF('Daily Log'!$Z$18:$Z$1017,$B46,'Daily Log'!$AA$18:$AA$1017),0)","v":0},{"$f":"IFERROR($E46*SUMIF('Daily Log'!$AC$18:$AC$1017,$B46,'Daily Log'!$AD$18:$AD$1017),0)","v":0},{"$f":"IFERROR($E46*SUMIF('Daily Log'!$AF$18:$AF$1017,$B46,'Daily Log'!$AG$18:$AG$1017),0)","v":0},{"$f":"IFERROR($E46*SUMIF('Daily Log'!$AI$18:$AI$1017,$B46,'Daily Log'!$AJ$18:$AJ$1017),0)","v":0},{"$f":"IFERROR($E46*SUMIF('Daily Log'!$AL$18:$AL$1017,$B46,'Daily Log'!$AM$18:$AM$1017),0)","v":0},{"$f":"IFERROR($E46*SUMIF('Daily Log'!$AO$18:$AO$1017,$B46,'Daily Log'!$AP$18:$AP$1017),0)","v":0},{"$f":"IFERROR($E46*SUMIF('Daily Log'!$AR$18:$AR$1017,$B46,'Daily Log'!$AS$18:$AS$1017),0)","v":0},{"$f":"IFERROR($E46*SUMIF('Daily Log'!$AU$18:$AU$1017,$B46,'Daily Log'!$AV$18:$AV$1017),0)","v":0},{"$f":"IFERROR($E46*SUMIF('Daily Log'!$AX$18:$AX$1017,$B46,'Daily Log'!$AY$18:$AY$1017),0)","v":0},{"$f":"IFERROR($E46*SUMIF('Daily Log'!$BA$18:$BA$1017,$B46,'Daily Log'!$BB$18:$BB$1017),0)","v":0},{"$f":"IFERROR($E46*SUMIF('Daily Log'!$BD$18:$BD$1017,$B46,'Daily Log'!$BE$18:$BE$1017),0)","v":0},{"$f":"IFERROR($E46*SUMIF('Daily Log'!$BG$18:$BG$1017,$B46,'Daily Log'!$BH$18:$BH$1017),0)","v":0},{"$f":"IFERROR($E46*SUMIF('Daily Log'!$BJ$18:$BJ$1017,$B46,'Daily Log'!$BK$18:$BK$1017),0)","v":0},{"$f":"IFERROR($E46*SUMIF('Daily Log'!$BM$18:$BM$1017,$B46,'Daily Log'!$BN$18:$BN$1017),0)","v":0},{"$f":"IFERROR($E46*SUMIF('Daily Log'!$BP$18:$BP$1017,$B46,'Daily Log'!$BQ$18:$BQ$1017),0)","v":0},{"$f":"IFERROR($E46*SUMIF('Daily Log'!$BS$18:$BS$1017,$B46,'Daily Log'!$BT$18:$BT$1017),0)","v":0},{"$f":"IFERROR($E46*SUMIF('Daily Log'!$BV$18:$BV$1017,$B46,'Daily Log'!$BW$18:$BW$1017),0)","v":0},{"$f":"IFERROR($E46*SUMIF('Daily Log'!$BY$18:$BY$1017,$B46,'Daily Log'!$BZ$18:$BZ$1017),0)","v":0},{"$f":"IFERROR($E46*SUMIF('Daily Log'!$CB$18:$CB$1017,$B46,'Daily Log'!$CC$18:$CC$1017),0)","v":0},{"$f":"IFERROR($E46*SUMIF('Daily Log'!$CE$18:$CE$1017,$B46,'Daily Log'!$CF$18:$CF$1017),0)","v":0},{"$f":"IFERROR($E46*SUMIF('Daily Log'!$CH$18:$CH$1017,$B46,'Daily Log'!$CI$18:$CI$1017),0)","v":0},{"$f":"IFERROR($E46*SUMIF('Daily Log'!$CK$18:$CK$1017,$B46,'Daily Log'!$CL$18:$CL$1017),0)","v":0},{"$f":"IFERROR($E46*SUMIF('Daily Log'!$CN$18:$CN$1017,$B46,'Daily Log'!$CO$18:$CO$1017),0)","v":0}]
[null,"AA18 K : XTD B ROOM",null,null,null,0,{"$f":"IFERROR($E47*SUMIF('Daily Log'!$B$18:$B$1017,$B47,'Daily Log'!$C$18:$C$1017),0)","v":0},{"$f":"IFERROR($E47*SUMIF('Daily Log'!$E$18:$E$1017,$B47,'Daily Log'!$F$18:$F$1017),0)","v":0},{"$f":"IFERROR($E47*SUMIF('Daily Log'!$H$18:$H$1017,$B47,'Daily Log'!$I$18:$I$1017),0)","v":0},{"$f":"IFERROR($E47*SUMIF('Daily Log'!$K$18:$K$1017,$B47,'Daily Log'!$L$18:$L$1017),0)","v":0},{"$f":"IFERROR($E47*SUMIF('Daily Log'!$N$18:$N$1017,$B47,'Daily Log'!$O$18:$O$1017),0)","v":0},{"$f":"IFERROR($E47*SUMIF('Daily Log'!$Q$18:$Q$1017,$B47,'Daily Log'!$R$18:$R$1017),0)","v":0},{"$f":"IFERROR($E47*SUMIF('Daily Log'!$T$18:$T$1017,$B47,'Daily Log'!$U$18:$U$1017),0)","v":0},{"$f":"IFERROR($E47*SUMIF('Daily Log'!$W$18:$W$1017,$B47,'Daily Log'!$X$18:$X$1017),0)","v":0},{"$f":"IFERROR($E47*SUMIF('Daily Log'!$Z$18:$Z$1017,$B47,'Daily Log'!$AA$18:$AA$1017),0)","v":0},{"$f":"IFERROR($E47*SUMIF('Daily Log'!$AC$18:$AC$1017,$B47,'Daily Log'!$AD$18:$AD$1017),0)","v":0},{"$f":"IFERROR($E47*SUMIF('Daily Log'!$AF$18:$AF$1017,$B47,'Daily Log'!$AG$18:$AG$1017),0)","v":0},{"$f":"IFERROR($E47*SUMIF('Daily Log'!$AI$18:$AI$1017,$B47,'Daily Log'!$AJ$18:$AJ$1017),0)","v":0},{"$f":"IFERROR($E47*SUMIF('Daily Log'!$AL$18:$AL$1017,$B47,'Daily Log'!$AM$18:$AM$1017),0)","v":0},{"$f":"IFERROR($E47*SUMIF('Daily Log'!$AO$18:$AO$1017,$B47,'Daily Log'!$AP$18:$AP$1017),0)","v":0},{"$f":"IFERROR($E47*SUMIF('Daily Log'!$AR$18:$AR$1017,$B47,'Daily Log'!$AS$18:$AS$1017),0)","v":0},{"$f":"IFERROR($E47*SUMIF('Daily Log'!$AU$18:$AU$1017,$B47,'Daily Log'!$AV$18:$AV$1017),0)","v":0},{"$f":"IFERROR($E47*SUMIF('Daily Log'!$AX$18:$AX$1017,$B47,'Daily Log'!$AY$18:$AY$1017),0)","v":0},{"$f":"IFERROR($E47*SUMIF('Daily Log'!$BA$18:$BA$1017,$B47,'Daily Log'!$BB$18:$BB$1017),0)","v":0},{"$f":"IFERROR($E47*SUMIF('Daily Log'!$BD$18:$BD$1017,$B47,'Daily Log'!$BE$18:$BE$1017),0)","v":0},{"$f":"IFERROR($E47*SUMIF('Daily Log'!$BG$18:$BG$1017,$B47,'Daily Log'!$BH$18:$BH$1017),0)","v":0},{"$f":"IFERROR($E47*SUMIF('Daily Log'!$BJ$18:$BJ$1017,$B47,'Daily Log'!$BK$18:$BK$1017),0)","v":0},{"$f":"IFERROR($E47*SUMIF('Daily Log'!$BM$18:$BM$1017,$B47,'Daily Log'!$BN$18:$BN$1017),0)","v":0},{"$f":"IFERROR($E47*SUMIF('Daily Log'!$BP$18:$BP$1017,$B47,'Daily Log'!$BQ$18:$BQ$1017),0)","v":0},{"$f":"IFERROR($E47*SUMIF('Daily Log'!$BS$18:$BS$1017,$B47,'Daily Log'!$BT$18:$BT$1017),0)","v":0},{"$f":"IFERROR($E47*SUMIF('Daily Log'!$BV$18:$BV$1017,$B47,'Daily Log'!$BW$18:$BW$1017),0)","v":0},{"$f":"IFERROR($E47*SUMIF('Daily Log'!$BY$18:$BY$1017,$B47,'Daily Log'!$BZ$18:$BZ$1017),0)","v":0},{"$f":"IFERROR($E47*SUMIF('Daily Log'!$CB$18:$CB$1017,$B47,'Daily Log'!$CC$18:$CC$1017),0)","v":0},{"$f":"IFERROR($E47*SUMIF('Daily Log'!$CE$18:$CE$1017,$B47,'Daily Log'!$CF$18:$CF$1017),0)","v":0},{"$f":"IFERROR($E47*SUMIF('Daily Log'!$CH$18:$CH$1017,$B47,'Daily Log'!$CI$18:$CI$1017),0)","v":0},{"$f":"IFERROR($E47*SUMIF('Daily Log'!$CK$18:$CK$1017,$B47,'Daily Log'!$CL$18:$CL$1017),0)","v":0},{"$f":"IFERROR($E47*SUMIF('Daily Log'!$CN$18:$CN$1017,$B47,'Daily Log'!$CO$18:$CO$1017),0)","v":0}]
[null,"AA19 K : FOC HOUR",null,null,null,0,{"$f":"IFERROR($E48*SUMIF('Daily Log'!$B$18:$B$1017,$B48,'Daily Log'!$C$18:$C$1017),0)","v":0},{"$f":"IFERROR($E48*SUMIF('Daily Log'!$E$18:$E$1017,$B48,'Daily Log'!$F$18:$F$1017),0)","v":0},{"$f":"IFERROR($E48*SUMIF('Daily Log'!$H$18:$H$1017,$B48,'Daily Log'!$I$18:$I$1017),0)","v":0},{"$f":"IFERROR($E48*SUMIF('Daily Log'!$K$18:$K$1017,$B48,'Daily Log'!$L$18:$L$1017),0)","v":0},{"$f":"IFERROR($E48*SUMIF('Daily Log'!$N$18:$N$1017,$B48,'Daily Log'!$O$18:$O$1017),0)","v":0},{"$f":"IFERROR($E48*SUMIF('Daily Log'!$Q$18:$Q$1017,$B48,'Daily Log'!$R$18:$R$1017),0)","v":0},{"$f":"IFERROR($E48*SUMIF('Daily Log'!$T$18:$T$1017,$B48,'Daily Log'!$U$18:$U$1017),0)","v":0},{"$f":"IFERROR($E48*SUMIF('Daily Log'!$W$18:$W$1017,$B48,'Daily Log'!$X$18:$X$1017),0)","v":0},{"$f":"IFERROR($E48*SUMIF('Daily Log'!$Z$18:$Z$1017,$B48,'Daily Log'!$AA$18:$AA$1017),0)","v":0},{"$f":"IFERROR($E48*SUMIF('Daily Log'!$AC$18:$AC$1017,$B48,'Daily Log'!$AD$18:$AD$1017),0)","v":0},{"$f":"IFERROR($E48*SUMIF('Daily Log'!$AF$18:$AF$1017,$B48,'Daily Log'!$AG$18:$AG$1017),0)","v":0},{"$f":"IFERROR($E48*SUMIF('Daily Log'!$AI$18:$AI$1017,$B48,'Daily Log'!$AJ$18:$AJ$1017),0)","v":0},{"$f":"IFERROR($E48*SUMIF('Daily Log'!$AL$18:$AL$1017,$B48,'Daily Log'!$AM$18:$AM$1017),0)","v":0},{"$f":"IFERROR($E48*SUMIF('Daily Log'!$AO$18:$AO$1017,$B48,'Daily Log'!$AP$18:$AP$1017),0)","v":0},{"$f":"IFERROR($E48*SUMIF('Daily Log'!$AR$18:$AR$1017,$B48,'Daily Log'!$AS$18:$AS$1017),0)","v":0},{"$f":"IFERROR($E48*SUMIF('Daily Log'!$AU$18:$AU$1017,$B48,'Daily Log'!$AV$18:$AV$1017),0)","v":0},{"$f":"IFERROR($E48*SUMIF('Daily Log'!$AX$18:$AX$1017,$B48,'Daily Log'!$AY$18:$AY$1017),0)","v":0},{"$f":"IFERROR($E48*SUMIF('Daily Log'!$BA$18:$BA$1017,$B48,'Daily Log'!$BB$18:$BB$1017),0)","v":0},{"$f":"IFERROR($E48*SUMIF('Daily Log'!$BD$18:$BD$1017,$B48,'Daily Log'!$BE$18:$BE$1017),0)","v":0},{"$f":"IFERROR($E48*SUMIF('Daily Log'!$BG$18:$BG$1017,$B48,'Daily Log'!$BH$18:$BH$1017),0)","v":0},{"$f":"IFERROR($E48*SUMIF('Daily Log'!$BJ$18:$BJ$1017,$B48,'Daily Log'!$BK$18:$BK$1017),0)","v":0},{"$f":"IFERROR($E48*SUMIF('Daily Log'!$BM$18:$BM$1017,$B48,'Daily Log'!$BN$18:$BN$1017),0)","v":0},{"$f":"IFERROR($E48*SUMIF('Daily Log'!$BP$18:$BP$1017,$B48,'Daily Log'!$BQ$18:$BQ$1017),0)","v":0},{"$f":"IFERROR($E48*SUMIF('Daily Log'!$BS$18:$BS$1017,$B48,'Daily Log'!$BT$18:$BT$1017),0)","v":0},{"$f":"IFERROR($E48*SUMIF('Daily Log'!$BV$18:$BV$1017,$B48,'Daily Log'!$BW$18:$BW$1017),0)","v":0},{"$f":"IFERROR($E48*SUMIF('Daily Log'!$BY$18:$BY$1017,$B48,'Daily Log'!$BZ$18:$BZ$1017),0)","v":0},{"$f":"IFERROR($E48*SUMIF('Daily Log'!$CB$18:$CB$1017,$B48,'Daily Log'!$CC$18:$CC$1017),0)","v":0},{"$f":"IFERROR($E48*SUMIF('Daily Log'!$CE$18:$CE$1017,$B48,'Daily Log'!$CF$18:$CF$1017),0)","v":0},{"$f":"IFERROR($E48*SUMIF('Daily Log'!$CH$18:$CH$1017,$B48,'Daily Log'!$CI$18:$CI$1017),0)","v":0},{"$f":"IFERROR($E48*SUMIF('Daily Log'!$CK$18:$CK$1017,$B48,'Daily Log'!$CL$18:$CL$1017),0)","v":0},{"$f":"IFERROR($E48*SUMIF('Daily Log'!$CN$18:$CN$1017,$B48,'Daily Log'!$CO$18:$CO$1017),0)","v":0}]
[null,"AA20 K : GROUPON",null,null,null,0,{"$f":"IFERROR($E49*SUMIF('Daily Log'!$B$18:$B$1017,$B49,'Daily Log'!$C$18:$C$1017),0)","v":0},{"$f":"IFERROR($E49*SUMIF('Daily Log'!$E$18:$E$1017,$B49,'Daily Log'!$F$18:$F$1017),0)","v":0},{"$f":"IFERROR($E49*SUMIF('Daily Log'!$H$18:$H$1017,$B49,'Daily Log'!$I$18:$I$1017),0)","v":0},{"$f":"IFERROR($E49*SUMIF('Daily Log'!$K$18:$K$1017,$B49,'Daily Log'!$L$18:$L$1017),0)","v":0},{"$f":"IFERROR($E49*SUMIF('Daily Log'!$N$18:$N$1017,$B49,'Daily Log'!$O$18:$O$1017),0)","v":0},{"$f":"IFERROR($E49*SUMIF('Daily Log'!$Q$18:$Q$1017,$B49,'Daily Log'!$R$18:$R$1017),0)","v":0},{"$f":"IFERROR($E49*SUMIF('Daily Log'!$T$18:$T$1017,$B49,'Daily Log'!$U$18:$U$1017),0)","v":0},{"$f":"IFERROR($E49*SUMIF('Daily Log'!$W$18:$W$1017,$B49,'Daily Log'!$X$18:$X$1017),0)","v":0},{"$f":"IFERROR($E49*SUMIF('Daily Log'!$Z$18:$Z$1017,$B49,'Daily Log'!$AA$18:$AA$1017),0)","v":0},{"$f":"IFERROR($E49*SUMIF('Daily Log'!$AC$18:$AC$1017,$B49,'Daily Log'!$AD$18:$AD$1017),0)","v":0},{"$f":"IFERROR($E49*SUMIF('Daily Log'!$AF$18:$AF$1017,$B49,'Daily Log'!$AG$18:$AG$1017),0)","v":0},{"$f":"IFERROR($E49*SUMIF('Daily Log'!$AI$18:$AI$1017,$B49,'Daily Log'!$AJ$18:$AJ$1017),0)","v":0},{"$f":"IFERROR($E49*SUMIF('Daily Log'!$AL$18:$AL$1017,$B49,'Daily Log'!$AM$18:$AM$1017),0)","v":0},{"$f":"IFERROR($E49*SUMIF('Daily Log'!$AO$18:$AO$1017,$B49,'Daily Log'!$AP$18:$AP$1017),0)","v":0},{"$f":"IFERROR($E49*SUMIF('Daily Log'!$AR$18:$AR$1017,$B49,'Daily Log'!$AS$18:$AS$1017),0)","v":0},{"$f":"IFERROR($E49*SUMIF('Daily Log'!$AU$18:$AU$1017,$B49,'Daily Log'!$AV$18:$AV$1017),0)","v":0},{"$f":"IFERROR($E49*SUMIF('Daily Log'!$AX$18:$AX$1017,$B49,'Daily Log'!$AY$18:$AY$1017),0)","v":0},{"$f":"IFERROR($E49*SUMIF('Daily Log'!$BA$18:$BA$1017,$B49,'Daily Log'!$BB$18:$BB$1017),0)","v":0},{"$f":"IFERROR($E49*SUMIF('Daily Log'!$BD$18:$BD$1017,$B49,'Daily Log'!$BE$18:$BE$1017),0)","v":0},{"$f":"IFERROR($E49*SUMIF('Daily Log'!$BG$18:$BG$1017,$B49,'Daily Log'!$BH$18:$BH$1017),0)","v":0},{"$f":"IFERROR($E49*SUMIF('Daily Log'!$BJ$18:$BJ$1017,$B49,'Daily Log'!$BK$18:$BK$1017),0)","v":0},{"$f":"IFERROR($E49*SUMIF('Daily Log'!$BM$18:$BM$1017,$B49,'Daily Log'!$BN$18:$BN$1017),0)","v":0},{"$f":"IFERROR($E49*SUMIF('Daily Log'!$BP$18:$BP$1017,$B49,'Daily Log'!$BQ$18:$BQ$1017),0)","v":0},{"$f":"IFERROR($E49*SUMIF('Daily Log'!$BS$18:$BS$1017,$B49,'Daily Log'!$BT$18:$BT$1017),0)","v":0},{"$f":"IFERROR($E49*SUMIF('Daily Log'!$BV$18:$BV$1017,$B49,'Daily Log'!$BW$18:$BW$1017),0)","v":0},{"$f":"IFERROR($E49*SUMIF('Daily Log'!$BY$18:$BY$1017,$B49,'Daily Log'!$BZ$18:$BZ$1017),0)","v":0},{"$f":"IFERROR($E49*SUMIF('Daily Log'!$CB$18:$CB$1017,$B49,'Daily Log'!$CC$18:$CC$1017),0)","v":0},{"$f":"IFERROR($E49*SUMIF('Daily Log'!$CE$18:$CE$1017,$B49,'Daily Log'!$CF$18:$CF$1017),0)","v":0},{"$f":"IFERROR($E49*SUMIF('Daily Log'!$CH$18:$CH$1017,$B49,'Daily Log'!$CI$18:$CI$1017),0)","v":0},{"$f":"IFERROR($E49*SUMIF('Daily Log'!$CK$18:$CK$1017,$B49,'Daily Log'!$CL$18:$CL$1017),0)","v":0},{"$f":"IFERROR($E49*SUMIF('Daily Log'!$CN$18:$CN$1017,$B49,'Daily Log'!$CO$18:$CO$1017),0)","v":0}]
[null,"AA22 K : One FM 208",null,null,null,0,{"$f":"IFERROR($E50*SUMIF('Daily Log'!$B$18:$B$1017,$B50,'Daily Log'!$C$18:$C$1017),0)","v":0},{"$f":"IFERROR($E50*SUMIF('Daily Log'!$E$18:$E$1017,$B50,'Daily Log'!$F$18:$F$1017),0)","v":0},{"$f":"IFERROR($E50*SUMIF('Daily Log'!$H$18:$H$1017,$B50,'Daily Log'!$I$18:$I$1017),0)","v":0},{"$f":"IFERROR($E50*SUMIF('Daily Log'!$K$18:$K$1017,$B50,'Daily Log'!$L$18:$L$1017),0)","v":0},{"$f":"IFERROR($E50*SUMIF('Daily Log'!$N$18:$N$1017,$B50,'Daily Log'!$O$18:$O$1017),0)","v":0},{"$f":"IFERROR($E50*SUMIF('Daily Log'!$Q$18:$Q$1017,$B50,'Daily Log'!$R$18:$R$1017),0)","v":0},{"$f":"IFERROR($E50*SUMIF('Daily Log'!$T$18:$T$1017,$B50,'Daily Log'!$U$18:$U$1017),0)","v":0},{"$f":"IFERROR($E50*SUMIF('Daily Log'!$W$18:$W$1017,$B50,'Daily Log'!$X$18:$X$1017),0)","v":0},{"$f":"IFERROR($E50*SUMIF('Daily Log'!$Z$18:$Z$1017,$B50,'Daily Log'!$AA$18:$AA$1017),0)","v":0},{"$f":"IFERROR($E50*SUMIF('Daily Log'!$AC$18:$AC$1017,$B50,'Daily Log'!$AD$18:$AD$1017),0)","v":0},{"$f":"IFERROR($E50*SUMIF('Daily Log'!$AF$18:$AF$1017,$B50,'Daily Log'!$AG$18:$AG$1017),0)","v":0},{"$f":"IFERROR($E50*SUMIF('Daily Log'!$AI$18:$AI$1017,$B50,'Daily Log'!$AJ$18:$AJ$1017),0)","v":0},{"$f":"IFERROR($E50*SUMIF('Daily Log'!$AL$18:$AL$1017,$B50,'Daily Log'!$AM$18:$AM$1017),0)","v":0},{"$f":"IFERROR($E50*SUMIF('Daily Log'!$AO$18:$AO$1017,$B50,'Daily Log'!$AP$18:$AP$1017),0)","v":0},{"$f":"IFERROR($E50*SUMIF('Daily Log'!$AR$18:$AR$1017,$B50,'Daily Log'!$AS$18:$AS$1017),0)","v":0},{"$f":"IFERROR($E50*SUMIF('Daily Log'!$AU$18:$AU$1017,$B50,'Daily Log'!$AV$18:$AV$1017),0)","v":0},{"$f":"IFERROR($E50*SUMIF('Daily Log'!$AX$18:$AX$1017,$B50,'Daily Log'!$AY$18:$AY$1017),0)","v":0},{"$f":"IFERROR($E50*SUMIF('Daily Log'!$BA$18:$BA$1017,$B50,'Daily Log'!$BB$18:$BB$1017),0)","v":0},{"$f":"IFERROR($E50*SUMIF('Daily Log'!$BD$18:$BD$1017,$B50,'Daily Log'!$BE$18:$BE$1017),0)","v":0},{"$f":"IFERROR($E50*SUMIF('Daily Log'!$BG$18:$BG$1017,$B50,'Daily Log'!$BH$18:$BH$1017),0)","v":0},{"$f":"IFERROR($E50*SUMIF('Daily Log'!$BJ$18:$BJ$1017,$B50,'Daily Log'!$BK$18:$BK$1017),0)","v":0},{"$f":"IFERROR($E50*SUMIF('Daily Log'!$BM$18:$BM$1017,$B50,'Daily Log'!$BN$18:$BN$1017),0)","v":0},{"$f":"IFERROR($E50*SUMIF('Daily Log'!$BP$18:$BP$1017,$B50,'Daily Log'!$BQ$18:$BQ$1017),0)","v":0},{"$f":"IFERROR($E50*SUMIF('Daily Log'!$BS$18:$BS$1017,$B50,'Daily Log'!$BT$18:$BT$1017),0)","v":0},{"$f":"IFERROR($E50*SUMIF('Daily Log'!$BV$18:$BV$1017,$B50,'Daily Log'!$BW$18:$BW$1017),0)","v":0},{"$f":"IFERROR($E50*SUMIF('Daily Log'!$BY$18:$BY$1017,$B50,'Daily Log'!$BZ$18:$BZ$1017),0)","v":0},{"$f":"IFERROR($E50*SUMIF('Daily Log'!$CB$18:$CB$1017,$B50,'Daily Log'!$CC$18:$CC$1017),0)","v":0},{"$f":"IFERROR($E50*SUMIF('Daily Log'!$CE$18:$CE$1017,$B50,'Daily Log'!$CF$18:$CF$1017),0)","v":0},{"$f":"IFERROR($E50*SUMIF('Daily Log'!$CH$18:$CH$1017,$B50,'Daily Log'!$CI$18:$CI$1017),0)","v":0},{"$f":"IFERROR($E50*SUMIF('Daily Log'!$CK$18:$CK$1017,$B50,'Daily Log'!$CL$18:$CL$1017),0)","v":0},{"$f":"IFERROR($E50*SUMIF('Daily Log'!$CN$18:$CN$1017,$B50,'Daily Log'!$CO$18:$CO$1017),0)","v":0}]
[null,"AA23 K:Student Mem",null,null,null,0,{"$f":"IFERROR($E51*SUMIF('Daily Log'!$B$18:$B$1017,$B51,'Daily Log'!$C$18:$C$1017),0)","v":0},{"$f":"IFERROR($E51*SUMIF('Daily Log'!$E$18:$E$1017,$B51,'Daily Log'!$F$18:$F$1017),0)","v":0},{"$f":"IFERROR($E51*SUMIF('Daily Log'!$H$18:$H$1017,$B51,'Daily Log'!$I$18:$I$1017),0)","v":0},{"$f":"IFERROR($E51*SUMIF('Daily Log'!$K$18:$K$1017,$B51,'Daily Log'!$L$18:$L$1017),0)","v":0},{"$f":"IFERROR($E51*SUMIF('Daily Log'!$N$18:$N$1017,$B51,'Daily Log'!$O$18:$O$1017),0)","v":0},{"$f":"IFERROR($E51*SUMIF('Daily Log'!$Q$18:$Q$1017,$B51,'Daily Log'!$R$18:$R$1017),0)","v":0},{"$f":"IFERROR($E51*SUMIF('Daily Log'!$T$18:$T$1017,$B51,'Daily Log'!$U$18:$U$1017),0)","v":0},{"$f":"IFERROR($E51*SUMIF('Daily Log'!$W$18:$W$1017,$B51,'Daily Log'!$X$18:$X$1017),0)","v":0},{"$f":"IFERROR($E51*SUMIF('Daily Log'!$Z$18:$Z$1017,$B51,'Daily Log'!$AA$18:$AA$1017),0)","v":0},{"$f":"IFERROR($E51*SUMIF('Daily Log'!$AC$18:$AC$1017,$B51,'Daily Log'!$AD$18:$AD$1017),0)","v":0},{"$f":"IFERROR($E51*SUMIF('Daily Log'!$AF$18:$AF$1017,$B51,'Daily Log'!$AG$18:$AG$1017),0)","v":0},{"$f":"IFERROR($E51*SUMIF('Daily Log'!$AI$18:$AI$1017,$B51,'Daily Log'!$AJ$18:$AJ$1017),0)","v":0},{"$f":"IFERROR($E51*SUMIF('Daily Log'!$AL$18:$AL$1017,$B51,'Daily Log'!$AM$18:$AM$1017),0)","v":0},{"$f":"IFERROR($E51*SUMIF('Daily Log'!$AO$18:$AO$1017,$B51,'Daily Log'!$AP$18:$AP$1017),0)","v":0},{"$f":"IFERROR($E51*SUMIF('Daily Log'!$AR$18:$AR$1017,$B51,'Daily Log'!$AS$18:$AS$1017),0)","v":0},{"$f":"IFERROR($E51*SUMIF('Daily Log'!$AU$18:$AU$1017,$B51,'Daily Log'!$AV$18:$AV$1017),0)","v":0},{"$f":"IFERROR($E51*SUMIF('Daily Log'!$AX$18:$AX$1017,$B51,'Daily Log'!$AY$18:$AY$1017),0)","v":0},{"$f":"IFERROR($E51*SUMIF('Daily Log'!$BA$18:$BA$1017,$B51,'Daily Log'!$BB$18:$BB$1017),0)","v":0},{"$f":"IFERROR($E51*SUMIF('Daily Log'!$BD$18:$BD$1017,$B51,'Daily Log'!$BE$18:$BE$1017),0)","v":0},{"$f":"IFERROR($E51*SUMIF('Daily Log'!$BG$18:$BG$1017,$B51,'Daily Log'!$BH$18:$BH$1017),0)","v":0},{"$f":"IFERROR($E51*SUMIF('Daily Log'!$BJ$18:$BJ$1017,$B51,'Daily Log'!$BK$18:$BK$1017),0)","v":0},{"$f":"IFERROR($E51*SUMIF('Daily Log'!$BM$18:$BM$1017,$B51,'Daily Log'!$BN$18:$BN$1017),0)","v":0},{"$f":"IFERROR($E51*SUMIF('Daily Log'!$BP$18:$BP$1017,$B51,'Daily Log'!$BQ$18:$BQ$1017),0)","v":0},{"$f":"IFERROR($E51*SUMIF('Daily Log'!$BS$18:$BS$1017,$B51,'Daily Log'!$BT$18:$BT$1017),0)","v":0},{"$f":"IFERROR($E51*SUMIF('Daily Log'!$BV$18:$BV$1017,$B51,'Daily Log'!$BW$18:$BW$1017),0)","v":0},{"$f":"IFERROR($E51*SUMIF('Daily Log'!$BY$18:$BY$1017,$B51,'Daily Log'!$BZ$18:$BZ$1017),0)","v":0},{"$f":"IFERROR($E51*SUMIF('Daily Log'!$CB$18:$CB$1017,$B51,'Daily Log'!$CC$18:$CC$1017),0)","v":0},{"$f":"IFERROR($E51*SUMIF('Daily Log'!$CE$18:$CE$1017,$B51,'Daily Log'!$CF$18:$CF$1017),0)","v":0},{"$f":"IFERROR($E51*SUMIF('Daily Log'!$CH$18:$CH$1017,$B51,'Daily Log'!$CI$18:$CI$1017),0)","v":0},{"$f":"IFERROR($E51*SUMIF('Daily Log'!$CK$18:$CK$1017,$B51,'Daily Log'!$CL$18:$CL$1017),0)","v":0},{"$f":"IFERROR($E51*SUMIF('Daily Log'!$CN$18:$CN$1017,$B51,'Daily Log'!$CO$18:$CO$1017),0)","v":0}]
[null,"AA25 K : iGOT DIS 3+1",null,null,null,0,{"$f":"IFERROR($E52*SUMIF('Daily Log'!$B$18:$B$1017,$B52,'Daily Log'!$C$18:$C$1017),0)","v":0},{"$f":"IFERROR($E52*SUMIF('Daily Log'!$E$18:$E$1017,$B52,'Daily Log'!$F$18:$F$1017),0)","v":0},{"$f":"IFERROR($E52*SUMIF('Daily Log'!$H$18:$H$1017,$B52,'Daily Log'!$I$18:$I$1017),0)","v":0},{"$f":"IFERROR($E52*SUMIF('Daily Log'!$K$18:$K$1017,$B52,'Daily Log'!$L$18:$L$1017),0)","v":0},{"$f":"IFERROR($E52*SUMIF('Daily Log'!$N$18:$N$1017,$B52,'Daily Log'!$O$18:$O$1017),0)","v":0},{"$f":"IFERROR($E52*SUMIF('Daily Log'!$Q$18:$Q$1017,$B52,'Daily Log'!$R$18:$R$1017),0)","v":0},{"$f":"IFERROR($E52*SUMIF('Daily Log'!$T$18:$T$1017,$B52,'Daily Log'!$U$18:$U$1017),0)","v":0},{"$f":"IFERROR($E52*SUMIF('Daily Log'!$W$18:$W$1017,$B52,'Daily Log'!$X$18:$X$1017),0)","v":0},{"$f":"IFERROR($E52*SUMIF('Daily Log'!$Z$18:$Z$1017,$B52,'Daily Log'!$AA$18:$AA$1017),0)","v":0},{"$f":"IFERROR($E52*SUMIF('Daily Log'!$AC$18:$AC$1017,$B52,'Daily Log'!$AD$18:$AD$1017),0)","v":0},{"$f":"IFERROR($E52*SUMIF('Daily Log'!$AF$18:$AF$1017,$B52,'Daily Log'!$AG$18:$AG$1017),0)","v":0},{"$f":"IFERROR($E52*SUMIF('Daily Log'!$AI$18:$AI$1017,$B52,'Daily Log'!$AJ$18:$AJ$1017),0)","v":0},{"$f":"IFERROR($E52*SUMIF('Daily Log'!$AL$18:$AL$1017,$B52,'Daily Log'!$AM$18:$AM$1017),0)","v":0},{"$f":"IFERROR($E52*SUMIF('Daily Log'!$AO$18:$AO$1017,$B52,'Daily Log'!$AP$18:$AP$1017),0)","v":0},{"$f":"IFERROR($E52*SUMIF('Daily Log'!$AR$18:$AR$1017,$B52,'Daily Log'!$AS$18:$AS$1017),0)","v":0},{"$f":"IFERROR($E52*SUMIF('Daily Log'!$AU$18:$AU$1017,$B52,'Daily Log'!$AV$18:$AV$1017),0)","v":0},{"$f":"IFERROR($E52*SUMIF('Daily Log'!$AX$18:$AX$1017,$B52,'Daily Log'!$AY$18:$AY$1017),0)","v":0},{"$f":"IFERROR($E52*SUMIF('Daily Log'!$BA$18:$BA$1017,$B52,'Daily Log'!$BB$18:$BB$1017),0)","v":0},{"$f":"IFERROR($E52*SUMIF('Daily Log'!$BD$18:$BD$1017,$B52,'Daily Log'!$BE$18:$BE$1017),0)","v":0},{"$f":"IFERROR($E52*SUMIF('Daily Log'!$BG$18:$BG$1017,$B52,'Daily Log'!$BH$18:$BH$1017),0)","v":0},{"$f":"IFERROR($E52*SUMIF('Daily Log'!$BJ$18:$BJ$1017,$B52,'Daily Log'!$BK$18:$BK$1017),0)","v":0},{"$f":"IFERROR($E52*SUMIF('Daily Log'!$BM$18:$BM$1017,$B52,'Daily Log'!$BN$18:$BN$1017),0)","v":0},{"$f":"IFERROR($E52*SUMIF('Daily Log'!$BP$18:$BP$1017,$B52,'Daily Log'!$BQ$18:$BQ$1017),0)","v":0},{"$f":"IFERROR($E52*SUMIF('Daily Log'!$BS$18:$BS$1017,$B52,'Daily Log'!$BT$18:$BT$1017),0)","v":0},{"$f":"IFERROR($E52*SUMIF('Daily Log'!$BV$18:$BV$1017,$B52,'Daily Log'!$BW$18:$BW$1017),0)","v":0},{"$f":"IFERROR($E52*SUMIF('Daily Log'!$BY$18:$BY$1017,$B52,'Daily Log'!$BZ$18:$BZ$1017),0)","v":0},{"$f":"IFERROR($E52*SUMIF('Daily Log'!$CB$18:$CB$1017,$B52,'Daily Log'!$CC$18:$CC$1017),0)","v":0},{"$f":"IFERROR($E52*SUMIF('Daily Log'!$CE$18:$CE$1017,$B52,'Daily Log'!$CF$18:$CF$1017),0)","v":0},{"$f":"IFERROR($E52*SUMIF('Daily Log'!$CH$18:$CH$1017,$B52,'Daily Log'!$CI$18:$CI$1017),0)","v":0},{"$f":"IFERROR($E52*SUMIF('Daily Log'!$CK$18:$CK$1017,$B52,'Daily Log'!$CL$18:$CL$1017),0)","v":0},{"$f":"IFERROR($E52*SUMIF('Daily Log'!$CN$18:$CN$1017,$B52,'Daily Log'!$CO$18:$CO$1017),0)","v":0}]
[null,"AB01 H : REGULAR",null,null,null,0,{"$f":"IFERROR($E53*SUMIF('Daily Log'!$B$18:$B$1017,$B53,'Daily Log'!$C$18:$C$1017),0)","v":0},{"$f":"IFERROR($E53*SUMIF('Daily Log'!$E$18:$E$1017,$B53,'Daily Log'!$F$18:$F$1017),0)","v":0},{"$f":"IFERROR($E53*SUMIF('Daily Log'!$H$18:$H$1017,$B53,'Daily Log'!$I$18:$I$1017),0)","v":0},{"$f":"IFERROR($E53*SUMIF('Daily Log'!$K$18:$K$1017,$B53,'Daily Log'!$L$18:$L$1017),0)","v":0},{"$f":"IFERROR($E53*SUMIF('Daily Log'!$N$18:$N$1017,$B53,'Daily Log'!$O$18:$O$1017),0)","v":0},{"$f":"IFERROR($E53*SUMIF('Daily Log'!$Q$18:$Q$1017,$B53,'Daily Log'!$R$18:$R$1017),0)","v":0},{"$f":"IFERROR($E53*SUMIF('Daily Log'!$T$18:$T$1017,$B53,'Daily Log'!$U$18:$U$1017),0)","v":0},{"$f":"IFERROR($E53*SUMIF('Daily Log'!$W$18:$W$1017,$B53,'Daily Log'!$X$18:$X$1017),0)","v":0},{"$f":"IFERROR($E53*SUMIF('Daily Log'!$Z$18:$Z$1017,$B53,'Daily Log'!$AA$18:$AA$1017),0)","v":0},{"$f":"IFERROR($E53*SUMIF('Daily Log'!$AC$18:$AC$1017,$B53,'Daily Log'!$AD$18:$AD$1017),0)","v":0},{"$f":"IFERROR($E53*SUMIF('Daily Log'!$AF$18:$AF$1017,$B53,'Daily Log'!$AG$18:$AG$1017),0)","v":0},{"$f":"IFERROR($E53*SUMIF('Daily Log'!$AI$18:$AI$1017,$B53,'Daily Log'!$AJ$18:$AJ$1017),0)","v":0},{"$f":"IFERROR($E53*SUMIF('Daily Log'!$AL$18:$AL$1017,$B53,'Daily Log'!$AM$18:$AM$1017),0)","v":0},{"$f":"IFERROR($E53*SUMIF('Daily Log'!$AO$18:$AO$1017,$B53,'Daily Log'!$AP$18:$AP$1017),0)","v":0},{"$f":"IFERROR($E53*SUMIF('Daily Log'!$AR$18:$AR$1017,$B53,'Daily Log'!$AS$18:$AS$1017),0)","v":0},{"$f":"IFERROR($E53*SUMIF('Daily Log'!$AU$18:$AU$1017,$B53,'Daily Log'!$AV$18:$AV$1017),0)","v":0},{"$f":"IFERROR($E53*SUMIF('Daily Log'!$AX$18:$AX$1017,$B53,'Daily Log'!$AY$18:$AY$1017),0)","v":0},{"$f":"IFERROR($E53*SUMIF('Daily Log'!$BA$18:$BA$1017,$B53,'Daily Log'!$BB$18:$BB$1017),0)","v":0},{"$f":"IFERROR($E53*SUMIF('Daily Log'!$BD$18:$BD$1017,$B53,'Daily Log'!$BE$18:$BE$1017),0)","v":0},{"$f":"IFERROR($E53*SUMIF('Daily Log'!$BG$18:$BG$1017,$B53,'Daily Log'!$BH$18:$BH$1017),0)","v":0},{"$f":"IFERROR($E53*SUMIF('Daily Log'!$BJ$18:$BJ$1017,$B53,'Daily Log'!$BK$18:$BK$1017),0)","v":0},{"$f":"IFERROR($E53*SUMIF('Daily Log'!$BM$18:$BM$1017,$B53,'Daily Log'!$BN$18:$BN$1017),0)","v":0},{"$f":"IFERROR($E53*SUMIF('Daily Log'!$BP$18:$BP$1017,$B53,'Daily Log'!$BQ$18:$BQ$1017),0)","v":0},{"$f":"IFERROR($E53*SUMIF('Daily Log'!$BS$18:$BS$1017,$B53,'Daily Log'!$BT$18:$BT$1017),0)","v":0},{"$f":"IFERROR($E53*SUMIF('Daily Log'!$BV$18:$BV$1017,$B53,'Daily Log'!$BW$18:$BW$1017),0)","v":0},{"$f":"IFERROR($E53*SUMIF('Daily Log'!$BY$18:$BY$1017,$B53,'Daily Log'!$BZ$18:$BZ$1017),0)","v":0},{"$f":"IFERROR($E53*SUMIF('Daily Log'!$CB$18:$CB$1017,$B53,'Daily Log'!$CC$18:$CC$1017),0)","v":0},{"$f":"IFERROR($E53*SUMIF('Daily Log'!$CE$18:$CE$1017,$B53,'Daily Log'!$CF$18:$CF$1017),0)","v":0},{"$f":"IFERROR($E53*SUMIF('Daily Log'!$CH$18:$CH$1017,$B53,'Daily Log'!$CI$18:$CI$1017),0)","v":0},{"$f":"IFERROR($E53*SUMIF('Daily Log'!$CK$18:$CK$1017,$B53,'Daily Log'!$CL$18:$CL$1017),0)","v":0},{"$f":"IFERROR($E53*SUMIF('Daily Log'!$CN$18:$CN$1017,$B53,'Daily Log'!$CO$18:$CO$1017),0)","v":0}]
[null,"AB02 H : MEMBER",null,null,null,0,{"$f":"IFERROR($E54*SUMIF('Daily Log'!$B$18:$B$1017,$B54,'Daily Log'!$C$18:$C$1017),0)","v":0},{"$f":"IFERROR($E54*SUMIF('Daily Log'!$E$18:$E$1017,$B54,'Daily Log'!$F$18:$F$1017),0)","v":0},{"$f":"IFERROR($E54*SUMIF('Daily Log'!$H$18:$H$1017,$B54,'Daily Log'!$I$18:$I$1017),0)","v":0},{"$f":"IFERROR($E54*SUMIF('Daily Log'!$K$18:$K$1017,$B54,'Daily Log'!$L$18:$L$1017),0)","v":0},{"$f":"IFERROR($E54*SUMIF('Daily Log'!$N$18:$N$1017,$B54,'Daily Log'!$O$18:$O$1017),0)","v":0},{"$f":"IFERROR($E54*SUMIF('Daily Log'!$Q$18:$Q$1017,$B54,'Daily Log'!$R$18:$R$1017),0)","v":0},{"$f":"IFERROR($E54*SUMIF('Daily Log'!$T$18:$T$1017,$B54,'Daily Log'!$U$18:$U$1017),0)","v":0},{"$f":"IFERROR($E54*SUMIF('Daily Log'!$W$18:$W$1017,$B54,'Daily Log'!$X$18:$X$1017),0)","v":0},{"$f":"IFERROR($E54*SUMIF('Daily Log'!$Z$18:$Z$1017,$B54,'Daily Log'!$AA$18:$AA$1017),0)","v":0},{"$f":"IFERROR($E54*SUMIF('Daily Log'!$AC$18:$AC$1017,$B54,'Daily Log'!$AD$18:$AD$1017),0)","v":0},{"$f":"IFERROR($E54*SUMIF('Daily Log'!$AF$18:$AF$1017,$B54,'Daily Log'!$AG$18:$AG$1017),0)","v":0},{"$f":"IFERROR($E54*SUMIF('Daily Log'!$AI$18:$AI$1017,$B54,'Daily Log'!$AJ$18:$AJ$1017),0)","v":0},{"$f":"IFERROR($E54*SUMIF('Daily Log'!$AL$18:$AL$1017,$B54,'Daily Log'!$AM$18:$AM$1017),0)","v":0},{"$f":"IFERROR($E54*SUMIF('Daily Log'!$AO$18:$AO$1017,$B54,'Daily Log'!$AP$18:$AP$1017),0)","v":0},{"$f":"IFERROR($E54*SUMIF('Daily Log'!$AR$18:$AR$1017,$B54,'Daily Log'!$AS$18:$AS$1017),0)","v":0},{"$f":"IFERROR($E54*SUMIF('Daily Log'!$AU$18:$AU$1017,$B54,'Daily Log'!$AV$18:$AV$1017),0)","v":0},{"$f":"IFERROR($E54*SUMIF('Daily Log'!$AX$18:$AX$1017,$B54,'Daily Log'!$AY$18:$AY$1017),0)","v":0},{"$f":"IFERROR($E54*SUMIF('Daily Log'!$BA$18:$BA$1017,$B54,'Daily Log'!$BB$18:$BB$1017),0)","v":0},{"$f":"IFERROR($E54*SUMIF('Daily Log'!$BD$18:$BD$1017,$B54,'Daily Log'!$BE$18:$BE$1017),0)","v":0},{"$f":"IFERROR($E54*SUMIF('Daily Log'!$BG$18:$BG$1017,$B54,'Daily Log'!$BH$18:$BH$1017),0)","v":0},{"$f":"IFERROR($E54*SUMIF('Daily Log'!$BJ$18:$BJ$1017,$B54,'Daily Log'!$BK$18:$BK$1017),0)","v":0},{"$f":"IFERROR($E54*SUMIF('Daily Log'!$BM$18:$BM$1017,$B54,'Daily Log'!$BN$18:$BN$1017),0)","v":0},{"$f":"IFERROR($E54*SUMIF('Daily Log'!$BP$18:$BP$1017,$B54,'Daily Log'!$BQ$18:$BQ$1017),0)","v":0},{"$f":"IFERROR($E54*SUMIF('Daily Log'!$BS$18:$BS$1017,$B54,'Daily Log'!$BT$18:$BT$1017),0)","v":0},{"$f":"IFERROR($E54*SUMIF('Daily Log'!$BV$18:$BV$1017,$B54,'Daily Log'!$BW$18:$BW$1017),0)","v":0},{"$f":"IFERROR($E54*SUMIF('Daily Log'!$BY$18:$BY$1017,$B54,'Daily Log'!$BZ$18:$BZ$1017),0)","v":0},{"$f":"IFERROR($E54*SUMIF('Daily Log'!$CB$18:$CB$1017,$B54,'Daily Log'!$CC$18:$CC$1017),0)","v":0},{"$f":"IFERROR($E54*SUMIF('Daily Log'!$CE$18:$CE$1017,$B54,'Daily Log'!$CF$18:$CF$1017),0)","v":0},{"$f":"IFERROR($E54*SUMIF('Daily Log'!$CH$18:$CH$1017,$B54,'Daily Log'!$CI$18:$CI$1017),0)","v":0},{"$f":"IFERROR($E54*SUMIF('Daily Log'!$CK$18:$CK$1017,$B54,'Daily Log'!$CL$18:$CL$1017),0)","v":0},{"$f":"IFERROR($E54*SUMIF('Daily Log'!$CN$18:$CN$1017,$B54,'Daily Log'!$CO$18:$CO$1017),0)","v":0}]
[null,"AB03 H : MEMBER 30%",null,null,null,0,{"$f":"IFERROR($E55*SUMIF('Daily Log'!$B$18:$B$1017,$B55,'Daily Log'!$C$18:$C$1017),0)","v":0},{"$f":"IFERROR($E55*SUMIF('Daily Log'!$E$18:$E$1017,$B55,'Daily Log'!$F$18:$F$1017),0)","v":0},{"$f":"IFERROR($E55*SUMIF('Daily Log'!$H$18:$H$1017,$B55,'Daily Log'!$I$18:$I$1017),0)","v":0},{"$f":"IFERROR($E55*SUMIF('Daily Log'!$K$18:$K$1017,$B55,'Daily Log'!$L$18:$L$1017),0)","v":0},{"$f":"IFERROR($E55*SUMIF('Daily Log'!$N$18:$N$1017,$B55,'Daily Log'!$O$18:$O$1017),0)","v":0},{"$f":"IFERROR($E55*SUMIF('Daily Log'!$Q$18:$Q$1017,$B55,'Daily Log'!$R$18:$R$1017),0)","v":0},{"$f":"IFERROR($E55*SUMIF('Daily Log'!$T$18:$T$1017,$B55,'Daily Log'!$U$18:$U$1017),0)","v":0},{"$f":"IFERROR($E55*SUMIF('Daily Log'!$W$18:$W$1017,$B55,'Daily Log'!$X$18:$X$1017),0)","v":0},{"$f":"IFERROR($E55*SUMIF('Daily Log'!$Z$18:$Z$1017,$B55,'Daily Log'!$AA$18:$AA$1017),0)","v":0},{"$f":"IFERROR($E55*SUMIF('Daily Log'!$AC$18:$AC$1017,$B55,'Daily Log'!$AD$18:$AD$1017),0)","v":0},{"$f":"IFERROR($E55*SUMIF('Daily Log'!$AF$18:$AF$1017,$B55,'Daily Log'!$AG$18:$AG$1017),0)","v":0},{"$f":"IFERROR($E55*SUMIF('Daily Log'!$AI$18:$AI$1017,$B55,'Daily Log'!$AJ$18:$AJ$1017),0)","v":0},{"$f":"IFERROR($E55*SUMIF('Daily Log'!$AL$18:$AL$1017,$B55,'Daily Log'!$AM$18:$AM$1017),0)","v":0},{"$f":"IFERROR($E55*SUMIF('Daily Log'!$AO$18:$AO$1017,$B55,'Daily Log'!$AP$18:$AP$1017),0)","v":0},{"$f":"IFERROR($E55*SUMIF('Daily Log'!$AR$18:$AR$1017,$B55,'Daily Log'!$AS$18:$AS$1017),0)","v":0},{"$f":"IFERROR($E55*SUMIF('Daily Log'!$AU$18:$AU$1017,$B55,'Daily Log'!$AV$18:$AV$1017),0)","v":0},{"$f":"IFERROR($E55*SUMIF('Daily Log'!$AX$18:$AX$1017,$B55,'Daily Log'!$AY$18:$AY$1017),0)","v":0},{"$f":"IFERROR($E55*SUMIF('Daily Log'!$BA$18:$BA$1017,$B55,'Daily Log'!$BB$18:$BB$1017),0)","v":0},{"$f":"IFERROR($E55*SUMIF('Daily Log'!$BD$18:$BD$1017,$B55,'Daily Log'!$BE$18:$BE$1017),0)","v":0},{"$f":"IFERROR($E55*SUMIF('Daily Log'!$BG$18:$BG$1017,$B55,'Daily Log'!$BH$18:$BH$1017),0)","v":0},{"$f":"IFERROR($E55*SUMIF('Daily Log'!$BJ$18:$BJ$1017,$B55,'Daily Log'!$BK$18:$BK$1017),0)","v":0},{"$f":"IFERROR($E55*SUMIF('Daily Log'!$BM$18:$BM$1017,$B55,'Daily Log'!$BN$18:$BN$1017),0)","v":0},{"$f":"IFERROR($E55*SUMIF('Daily Log'!$BP$18:$BP$1017,$B55,'Daily Log'!$BQ$18:$BQ$1017),0)","v":0},{"$f":"IFERROR($E55*SUMIF('Daily Log'!$BS$18:$BS$1017,$B55,'Daily Log'!$BT$18:$BT$1017),0)","v":0},{"$f":"IFERROR($E55*SUMIF('Daily Log'!$BV$18:$BV$1017,$B55,'Daily Log'!$BW$18:$BW$1017),0)","v":0},{"$f":"IFERROR($E55*SUMIF('Daily Log'!$BY$18:$BY$1017,$B55,'Daily Log'!$BZ$18:$BZ$1017),0)","v":0},{"$f":"IFERROR($E55*SUMIF('Daily Log'!$CB$18:$CB$1017,$B55,'Daily Log'!$CC$18:$CC$1017),0)","v":0},{"$f":"IFERROR($E55*SUMIF('Daily Log'!$CE$18:$CE$1017,$B55,'Daily Log'!$CF$18:$CF$1017),0)","v":0},{"$f":"IFERROR($E55*SUMIF('Daily Log'!$CH$18:$CH$1017,$B55,'Daily Log'!$CI$18:$CI$1017),0)","v":0},{"$f":"IFERROR($E55*SUMIF('Daily Log'!$CK$18:$CK$1017,$B55,'Daily Log'!$CL$18:$CL$1017),0)","v":0},{"$f":"IFERROR($E55*SUMIF('Daily Log'!$CN$18:$CN$1017,$B55,'Daily Log'!$CO$18:$CO$1017),0)","v":0}]
[null,"AB04 H : CARI MEMBER",null,null,null,0,{"$f":"IFERROR($E56*SUMIF('Daily Log'!$B$18:$B$1017,$B56,'Daily Log'!$C$18:$C$1017),0)","v":0},{"$f":"IFERROR($E56*SUMIF('Daily Log'!$E$18:$E$1017,$B56,'Daily Log'!$F$18:$F$1017),0)","v":0},{"$f":"IFERROR($E56*SUMIF('Daily Log'!$H$18:$H$1017,$B56,'Daily Log'!$I$18:$I$1017),0)","v":0},{"$f":"IFERROR($E56*SUMIF('Daily Log'!$K$18:$K$1017,$B56,'Daily Log'!$L$18:$L$1017),0)","v":0},{"$f":"IFERROR($E56*SUMIF('Daily Log'!$N$18:$N$1017,$B56,'Daily Log'!$O$18:$O$1017),0)","v":0},{"$f":"IFERROR($E56*SUMIF('Daily Log'!$Q$18:$Q$1017,$B56,'Daily Log'!$R$18:$R$1017),0)","v":0},{"$f":"IFERROR($E56*SUMIF('Daily Log'!$T$18:$T$1017,$B56,'Daily Log'!$U$18:$U$1017),0)","v":0},{"$f":"IFERROR($E56*SUMIF('Daily Log'!$W$18:$W$1017,$B56,'Daily Log'!$X$18:$X$1017),0)","v":0},{"$f":"IFERROR($E56*SUMIF('Daily Log'!$Z$18:$Z$1017,$B56,'Daily Log'!$AA$18:$AA$1017),0)","v":0},{"$f":"IFERROR($E56*SUMIF('Daily Log'!$AC$18:$AC$1017,$B56,'Daily Log'!$AD$18:$AD$1017),0)","v":0},{"$f":"IFERROR($E56*SUMIF('Daily Log'!$AF$18:$AF$1017,$B56,'Daily Log'!$AG$18:$AG$1017),0)","v":0},{"$f":"IFERROR($E56*SUMIF('Daily Log'!$AI$18:$AI$1017,$B56,'Daily Log'!$AJ$18:$AJ$1017),0)","v":0},{"$f":"IFERROR($E56*SUMIF('Daily Log'!$AL$18:$AL$1017,$B56,'Daily Log'!$AM$18:$AM$1017),0)","v":0},{"$f":"IFERROR($E56*SUMIF('Daily Log'!$AO$18:$AO$1017,$B56,'Daily Log'!$AP$18:$AP$1017),0)","v":0},{"$f":"IFERROR($E56*SUMIF('Daily Log'!$AR$18:$AR$1017,$B56,'Daily Log'!$AS$18:$AS$1017),0)","v":0},{"$f":"IFERROR($E56*SUMIF('Daily Log'!$AU$18:$AU$1017,$B56,'Daily Log'!$AV$18:$AV$1017),0)","v":0},{"$f":"IFERROR($E56*SUMIF('Daily Log'!$AX$18:$AX$1017,$B56,'Daily Log'!$AY$18:$AY$1017),0)","v":0},{"$f":"IFERROR($E56*SUMIF('Daily Log'!$BA$18:$BA$1017,$B56,'Daily Log'!$BB$18:$BB$1017),0)","v":0},{"$f":"IFERROR($E56*SUMIF('Daily Log'!$BD$18:$BD$1017,$B56,'Daily Log'!$BE$18:$BE$1017),0)","v":0},{"$f":"IFERROR($E56*SUMIF('Daily Log'!$BG$18:$BG$1017,$B56,'Daily Log'!$BH$18:$BH$1017),0)","v":0},{"$f":"IFERROR($E56*SUMIF('Daily Log'!$BJ$18:$BJ$1017,$B56,'Daily Log'!$BK$18:$BK$1017),0)","v":0},{"$f":"IFERROR($E56*SUMIF('Daily Log'!$BM$18:$BM$1017,$B56,'Daily Log'!$BN$18:$BN$1017),0)","v":0},{"$f":"IFERROR($E56*SUMIF('Daily Log'!$BP$18:$BP$1017,$B56,'Daily Log'!$BQ$18:$BQ$1017),0)","v":0},{"$f":"IFERROR($E56*SUMIF('Daily Log'!$BS$18:$BS$1017,$B56,'Daily Log'!$BT$18:$BT$1017),0)","v":0},{"$f":"IFERROR($E56*SUMIF('Daily Log'!$BV$18:$BV$1017,$B56,'Daily Log'!$BW$18:$BW$1017),0)","v":0},{"$f":"IFERROR($E56*SUMIF('Daily Log'!$BY$18:$BY$1017,$B56,'Daily Log'!$BZ$18:$BZ$1017),0)","v":0},{"$f":"IFERROR($E56*SUMIF('Daily Log'!$CB$18:$CB$1017,$B56,'Daily Log'!$CC$18:$CC$1017),0)","v":0},{"$f":"IFERROR($E56*SUMIF('Daily Log'!$CE$18:$CE$1017,$B56,'Daily Log'!$CF$18:$CF$1017),0)","v":0},{"$f":"IFERROR($E56*SUMIF('Daily Log'!$CH$18:$CH$1017,$B56,'Daily Log'!$CI$18:$CI$1017),0)","v":0},{"$f":"IFERROR($E56*SUMIF('Daily Log'!$CK$18:$CK$1017,$B56,'Daily Log'!$CL$18:$CL$1017),0)","v":0},{"$f":"IFERROR($E56*SUMIF('Daily Log'!$CN$18:$CN$1017,$B56,'Daily Log'!$CO$18:$CO$1017),0)","v":0}]
[null,"AB05 H : STUDENT",null,null,null,0,{"$f":"IFERROR($E57*SUMIF('Daily Log'!$B$18:$B$1017,$B57,'Daily Log'!$C$18:$C$1017),0)","v":0},{"$f":"IFERROR($E57*SUMIF('Daily Log'!$E$18:$E$1017,$B57,'Daily Log'!$F$18:$F$1017),0)","v":0},{"$f":"IFERROR($E57*SUMIF('Daily Log'!$H$18:$H$1017,$B57,'Daily Log'!$I$18:$I$1017),0)","v":0},{"$f":"IFERROR($E57*SUMIF('Daily Log'!$K$18:$K$1017,$B57,'Daily Log'!$L$18:$L$1017),0)","v":0},{"$f":"IFERROR($E57*SUMIF('Daily Log'!$N$18:$N$1017,$B57,'Daily Log'!$O$18:$O$1017),0)","v":0},{"$f":"IFERROR($E57*SUMIF('Daily Log'!$Q$18:$Q$1017,$B57,'Daily Log'!$R$18:$R$1017),0)","v":0},{"$f":"IFERROR($E57*SUMIF('Daily Log'!$T$18:$T$1017,$B57,'Daily Log'!$U$18:$U$1017),0)","v":0},{"$f":"IFERROR($E57*SUMIF('Daily Log'!$W$18:$W$1017,$B57,'Daily Log'!$X$18:$X$1017),0)","v":0},{"$f":"IFERROR($E57*SUMIF('Daily Log'!$Z$18:$Z$1017,$B57,'Daily Log'!$AA$18:$AA$1017),0)","v":0},{"$f":"IFERROR($E57*SUMIF('Daily Log'!$AC$18:$AC$1017,$B57,'Daily Log'!$AD$18:$AD$1017),0)","v":0},{"$f":"IFERROR($E57*SUMIF('Daily Log'!$AF$18:$AF$1017,$B57,'Daily Log'!$AG$18:$AG$1017),0)","v":0},{"$f":"IFERROR($E57*SUMIF('Daily Log'!$AI$18:$AI$1017,$B57,'Daily Log'!$AJ$18:$AJ$1017),0)","v":0},{"$f":"IFERROR($E57*SUMIF('Daily Log'!$AL$18:$AL$1017,$B57,'Daily Log'!$AM$18:$AM$1017),0)","v":0},{"$f":"IFERROR($E57*SUMIF('Daily Log'!$AO$18:$AO$1017,$B57,'Daily Log'!$AP$18:$AP$1017),0)","v":0},{"$f":"IFERROR($E57*SUMIF('Daily Log'!$AR$18:$AR$1017,$B57,'Daily Log'!$AS$18:$AS$1017),0)","v":0},{"$f":"IFERROR($E57*SUMIF('Daily Log'!$AU$18:$AU$1017,$B57,'Daily Log'!$AV$18:$AV$1017),0)","v":0},{"$f":"IFERROR($E57*SUMIF('Daily Log'!$AX$18:$AX$1017,$B57,'Daily Log'!$AY$18:$AY$1017),0)","v":0},{"$f":"IFERROR($E57*SUMIF('Daily Log'!$BA$18:$BA$1017,$B57,'Daily Log'!$BB$18:$BB$1017),0)","v":0},{"$f":"IFERROR($E57*SUMIF('Daily Log'!$BD$18:$BD$1017,$B57,'Daily Log'!$BE$18:$BE$1017),0)","v":0},{"$f":"IFERROR($E57*SUMIF('Daily Log'!$BG$18:$BG$1017,$B57,'Daily Log'!$BH$18:$BH$1017),0)","v":0},{"$f":"IFERROR($E57*SUMIF('Daily Log'!$BJ$18:$BJ$1017,$B57,'Daily Log'!$BK$18:$BK$1017),0)","v":0},{"$f":"IFERROR($E57*SUMIF('Daily Log'!$BM$18:$BM$1017,$B57,'Daily Log'!$BN$18:$BN$1017),0)","v":0},{"$f":"IFERROR($E57*SUMIF('Daily Log'!$BP$18:$BP$1017,$B57,'Daily Log'!$BQ$18:$BQ$1017),0)","v":0},{"$f":"IFERROR($E57*SUMIF('Daily Log'!$BS$18:$BS$1017,$B57,'Daily Log'!$BT$18:$BT$1017),0)","v":0},{"$f":"IFERROR($E57*SUMIF('Daily Log'!$BV$18:$BV$1017,$B57,'Daily Log'!$BW$18:$BW$1017),0)","v":0},{"$f":"IFERROR($E57*SUMIF('Daily Log'!$BY$18:$BY$1017,$B57,'Daily Log'!$BZ$18:$BZ$1017),0)","v":0},{"$f":"IFERROR($E57*SUMIF('Daily Log'!$CB$18:$CB$1017,$B57,'Daily Log'!$CC$18:$CC$1017),0)","v":0},{"$f":"IFERROR($E57*SUMIF('Daily Log'!$CE$18:$CE$1017,$B57,'Daily Log'!$CF$18:$CF$1017),0)","v":0},{"$f":"IFERROR($E57*SUMIF('Daily Log'!$CH$18:$CH$1017,$B57,'Daily Log'!$CI$18:$CI$1017),0)","v":0},{"$f":"IFERROR($E57*SUMIF('Daily Log'!$CK$18:$CK$1017,$B57,'Daily Log'!$CL$18:$CL$1017),0)","v":0},{"$f":"IFERROR($E57*SUMIF('Daily Log'!$CN$18:$CN$1017,$B57,'Daily Log'!$CO$18:$CO$1017),0)","v":0}]
[null,"AB06 H : SENIOR",null,null,null,0,{"$f":"IFERROR($E58*SUMIF('Daily Log'!$B$18:$B$1017,$B58,'Daily Log'!$C$18:$C$1017),0)","v":0},{"$f":"IFERROR($E58*SUMIF('Daily Log'!$E$18:$E$1017,$B58,'Daily Log'!$F$18:$F$1017),0)","v":0},{"$f":"IFERROR($E58*SUMIF('Daily Log'!$H$18:$H$1017,$B58,'Daily Log'!$I$18:$I$1017),0)","v":0},{"$f":"IFERROR($E58*SUMIF('Daily Log'!$K$18:$K$1017,$B58,'Daily Log'!$L$18:$L$1017),0)","v":0},{"$f":"IFERROR($E58*SUMIF('Daily Log'!$N$18:$N$1017,$B58,'Daily Log'!$O$18:$O$1017),0)","v":0},{"$f":"IFERROR($E58*SUMIF('Daily Log'!$Q$18:$Q$1017,$B58,'Daily Log'!$R$18:$R$1017),0)","v":0},{"$f":"IFERROR($E58*SUMIF('Daily Log'!$T$18:$T$1017,$B58,'Daily Log'!$U$18:$U$1017),0)","v":0},{"$f":"IFERROR($E58*SUMIF('Daily Log'!$W$18:$W$1017,$B58,'Daily Log'!$X$18:$X$1017),0)","v":0},{"$f":"IFERROR($E58*SUMIF('Daily Log'!$Z$18:$Z$1017,$B58,'Daily Log'!$AA$18:$AA$1017),0)","v":0},{"$f":"IFERROR($E58*SUMIF('Daily Log'!$AC$18:$AC$1017,$B58,'Daily Log'!$AD$18:$AD$1017),0)","v":0},{"$f":"IFERROR($E58*SUMIF('Daily Log'!$AF$18:$AF$1017,$B58,'Daily Log'!$AG$18:$AG$1017),0)","v":0},{"$f":"IFERROR($E58*SUMIF('Daily Log'!$AI$18:$AI$1017,$B58,'Daily Log'!$AJ$18:$AJ$1017),0)","v":0},{"$f":"IFERROR($E58*SUMIF('Daily Log'!$AL$18:$AL$1017,$B58,'Daily Log'!$AM$18:$AM$1017),0)","v":0},{"$f":"IFERROR($E58*SUMIF('Daily Log'!$AO$18:$AO$1017,$B58,'Daily Log'!$AP$18:$AP$1017),0)","v":0},{"$f":"IFERROR($E58*SUMIF('Daily Log'!$AR$18:$AR$1017,$B58,'Daily Log'!$AS$18:$AS$1017),0)","v":0},{"$f":"IFERROR($E58*SUMIF('Daily Log'!$AU$18:$AU$1017,$B58,'Daily Log'!$AV$18:$AV$1017),0)","v":0},{"$f":"IFERROR($E58*SUMIF('Daily Log'!$AX$18:$AX$1017,$B58,'Daily Log'!$AY$18:$AY$1017),0)","v":0},{"$f":"IFERROR($E58*SUMIF('Daily Log'!$BA$18:$BA$1017,$B58,'Daily Log'!$BB$18:$BB$1017),0)","v":0},{"$f":"IFERROR($E58*SUMIF('Daily Log'!$BD$18:$BD$1017,$B58,'Daily Log'!$BE$18:$BE$1017),0)","v":0},{"$f":"IFERROR($E58*SUMIF('Daily Log'!$BG$18:$BG$1017,$B58,'Daily Log'!$BH$18:$BH$1017),0)","v":0},{"$f":"IFERROR($E58*SUMIF('Daily Log'!$BJ$18:$BJ$1017,$B58,'Daily Log'!$BK$18:$BK$1017),0)","v":0},{"$f":"IFERROR($E58*SUMIF('Daily Log'!$BM$18:$BM$1017,$B58,'Daily Log'!$BN$18:$BN$1017),0)","v":0},{"$f":"IFERROR($E58*SUMIF('Daily Log'!$BP$18:$BP$1017,$B58,'Daily Log'!$BQ$18:$BQ$1017),0)","v":0},{"$f":"IFERROR($E58*SUMIF('Daily Log'!$BS$18:$BS$1017,$B58,'Daily Log'!$BT$18:$BT$1017),0)","v":0},{"$f":"IFERROR($E58*SUMIF('Daily Log'!$BV$18:$BV$1017,$B58,'Daily Log'!$BW$18:$BW$1017),0)","v":0},{"$f":"IFERROR($E58*SUMIF('Daily Log'!$BY$18:$BY$1017,$B58,'Daily Log'!$BZ$18:$BZ$1017),0)","v":0},{"$f":"IFERROR($E58*SUMIF('Daily Log'!$CB$18:$CB$1017,$B58,'Daily Log'!$CC$18:$CC$1017),0)","v":0},{"$f":"IFERROR($E58*SUMIF('Daily Log'!$CE$18:$CE$1017,$B58,'Daily Log'!$CF$18:$CF$1017),0)","v":0},{"$f":"IFERROR($E58*SUMIF('Daily Log'!$CH$18:$CH$1017,$B58,'Daily Log'!$CI$18:$CI$1017),0)","v":0},{"$f":"IFERROR($E58*SUMIF('Daily Log'!$CK$18:$CK$1017,$B58,'Daily Log'!$CL$18:$CL$1017),0)","v":0},{"$f":"IFERROR($E58*SUMIF('Daily Log'!$CN$18:$CN$1017,$B58,'Daily Log'!$CO$18:$CO$1017),0)","v":0}]
[null,"AB07 H : CHILDREN",null,null,null,0,{"$f":"IFERROR($E59*SUMIF('Daily Log'!$B$18:$B$1017,$B59,'Daily Log'!$C$18:$C$1017),0)","v":0},{"$f":"IFERROR($E59*SUMIF('Daily Log'!$E$18:$E$1017,$B59,'Daily Log'!$F$18:$F$1017),0)","v":0},{"$f":"IFERROR($E59*SUMIF('Daily Log'!$H$18:$H$1017,$B59,'Daily Log'!$I$18:$I$1017),0)","v":0},{"$f":"IFERROR($E59*SUMIF('Daily Log'!$K$18:$K$1017,$B59,'Daily Log'!$L$18:$L$1017),0)","v":0},{"$f":"IFERROR($E59*SUMIF('Daily Log'!$N$18:$N$1017,$B59,'Daily Log'!$O$18:$O$1017),0)","v":0},{"$f":"IFERROR($E59*SUMIF('Daily Log'!$Q$18:$Q$1017,$B59,'Daily Log'!$R$18:$R$1017),0)","v":0},{"$f":"IFERROR($E59*SUMIF('Daily Log'!$T$18:$T$1017,$B59,'Daily Log'!$U$18:$U$1017),0)","v":0},{"$f":"IFERROR($E59*SUMIF('Daily Log'!$W$18:$W$1017,$B59,'Daily Log'!$X$18:$X$1017),0)","v":0},{"$f":"IFERROR($E59*SUMIF('Daily Log'!$Z$18:$Z$1017,$B59,'Daily Log'!$AA$18:$AA$1017),0)","v":0},{"$f":"IFERROR($E59*SUMIF('Daily Log'!$AC$18:$AC$1017,$B59,'Daily Log'!$AD$18:$AD$1017),0)","v":0},{"$f":"IFERROR($E59*SUMIF('Daily Log'!$AF$18:$AF$1017,$B59,'Daily Log'!$AG$18:$AG$1017),0)","v":0},{"$f":"IFERROR($E59*SUMIF('Daily Log'!$AI$18:$AI$1017,$B59,'Daily Log'!$AJ$18:$AJ$1017),0)","v":0},{"$f":"IFERROR($E59*SUMIF('Daily Log'!$AL$18:$AL$1017,$B59,'Daily Log'!$AM$18:$AM$1017),0)","v":0},{"$f":"IFERROR($E59*SUMIF('Daily Log'!$AO$18:$AO$1017,$B59,'Daily Log'!$AP$18:$AP$1017),0)","v":0},{"$f":"IFERROR($E59*SUMIF('Daily Log'!$AR$18:$AR$1017,$B59,'Daily Log'!$AS$18:$AS$1017),0)","v":0},{"$f":"IFERROR($E59*SUMIF('Daily Log'!$AU$18:$AU$1017,$B59,'Daily Log'!$AV$18:$AV$1017),0)","v":0},{"$f":"IFERROR($E59*SUMIF('Daily Log'!$AX$18:$AX$1017,$B59,'Daily Log'!$AY$18:$AY$1017),0)","v":0},{"$f":"IFERROR($E59*SUMIF('Daily Log'!$BA$18:$BA$1017,$B59,'Daily Log'!$BB$18:$BB$1017),0)","v":0},{"$f":"IFERROR($E59*SUMIF('Daily Log'!$BD$18:$BD$1017,$B59,'Daily Log'!$BE$18:$BE$1017),0)","v":0},{"$f":"IFERROR($E59*SUMIF('Daily Log'!$BG$18:$BG$1017,$B59,'Daily Log'!$BH$18:$BH$1017),0)","v":0},{"$f":"IFERROR($E59*SUMIF('Daily Log'!$BJ$18:$BJ$1017,$B59,'Daily Log'!$BK$18:$BK$1017),0)","v":0},{"$f":"IFERROR($E59*SUMIF('Daily Log'!$BM$18:$BM$1017,$B59,'Daily Log'!$BN$18:$BN$1017),0)","v":0},{"$f":"IFERROR($E59*SUMIF('Daily Log'!$BP$18:$BP$1017,$B59,'Daily Log'!$BQ$18:$BQ$1017),0)","v":0},{"$f":"IFERROR($E59*SUMIF('Daily Log'!$BS$18:$BS$1017,$B59,'Daily Log'!$BT$18:$BT$1017),0)","v":0},{"$f":"IFERROR($E59*SUMIF('Daily Log'!$BV$18:$BV$1017,$B59,'Daily Log'!$BW$18:$BW$1017),0)","v":0},{"$f":"IFERROR($E59*SUMIF('Daily Log'!$BY$18:$BY$1017,$B59,'Daily Log'!$BZ$18:$BZ$1017),0)","v":0},{"$f":"IFERROR($E59*SUMIF('Daily Log'!$CB$18:$CB$1017,$B59,'Daily Log'!$CC$18:$CC$1017),0)","v":0},{"$f":"IFERROR($E59*SUMIF('Daily Log'!$CE$18:$CE$1017,$B59,'Daily Log'!$CF$18:$CF$1017),0)","v":0},{"$f":"IFERROR($E59*SUMIF('Daily Log'!$CH$18:$CH$1017,$B59,'Daily Log'!$CI$18:$CI$1017),0)","v":0},{"$f":"IFERROR($E59*SUMIF('Daily Log'!$CK$18:$CK$1017,$B59,'Daily Log'!$CL$18:$CL$1017),0)","v":0},{"$f":"IFERROR($E59*SUMIF('Daily Log'!$CN$18:$CN$1017,$B59,'Daily Log'!$CO$18:$CO$1017),0)","v":0}]
[null,"AB08 H : MEMBER B'DAY",null,null,null,0,{"$f":"IFERROR($E60*SUMIF('Daily Log'!$B$18:$B$1017,$B60,'Daily Log'!$C$18:$C$1017),0)","v":0},{"$f":"IFERROR($E60*SUMIF('Daily Log'!$E$18:$E$1017,$B60,'Daily Log'!$F$18:$F$1017),0)","v":0},{"$f":"IFERROR($E60*SUMIF('Daily Log'!$H$18:$H$1017,$B60,'Daily Log'!$I$18:$I$1017),0)","v":0},{"$f":"IFERROR($E60*SUMIF('Daily Log'!$K$18:$K$1017,$B60,'Daily Log'!$L$18:$L$1017),0)","v":0},{"$f":"IFERROR($E60*SUMIF('Daily Log'!$N$18:$N$1017,$B60,'Daily Log'!$O$18:$O$1017),0)","v":0},{"$f":"IFERROR($E60*SUMIF('Daily Log'!$Q$18:$Q$1017,$B60,'Daily Log'!$R$18:$R$1017),0)","v":0},{"$f":"IFERROR($E60*SUMIF('Daily Log'!$T$18:$T$1017,$B60,'Daily Log'!$U$18:$U$1017),0)","v":0},{"$f":"IFERROR($E60*SUMIF('Daily Log'!$W$18:$W$1017,$B60,'Daily Log'!$X$18:$X$1017),0)","v":0},{"$f":"IFERROR($E60*SUMIF('Daily Log'!$Z$18:$Z$1017,$B60,'Daily Log'!$AA$18:$AA$1017),0)","v":0},{"$f":"IFERROR($E60*SUMIF('Daily Log'!$AC$18:$AC$1017,$B60,'Daily Log'!$AD$18:$AD$1017),0)","v":0},{"$f":"IFERROR($E60*SUMIF('Daily Log'!$AF$18:$AF$1017,$B60,'Daily Log'!$AG$18:$AG$1017),0)","v":0},{"$f":"IFERROR($E60*SUMIF('Daily Log'!$AI$18:$AI$1017,$B60,'Daily Log'!$AJ$18:$AJ$1017),0)","v":0},{"$f":"IFERROR($E60*SUMIF('Daily Log'!$AL$18:$AL$1017,$B60,'Daily Log'!$AM$18:$AM$1017),0)","v":0},{"$f":"IFERROR($E60*SUMIF('Daily Log'!$AO$18:$AO$1017,$B60,'Daily Log'!$AP$18:$AP$1017),0)","v":0},{"$f":"IFERROR($E60*SUMIF('Daily Log'!$AR$18:$AR$1017,$B60,'Daily Log'!$AS$18:$AS$1017),0)","v":0},{"$f":"IFERROR($E60*SUMIF('Daily Log'!$AU$18:$AU$1017,$B60,'Daily Log'!$AV$18:$AV$1017),0)","v":0},{"$f":"IFERROR($E60*SUMIF('Daily Log'!$AX$18:$AX$1017,$B60,'Daily Log'!$AY$18:$AY$1017),0)","v":0},{"$f":"IFERROR($E60*SUMIF('Daily Log'!$BA$18:$BA$1017,$B60,'Daily Log'!$BB$18:$BB$1017),0)","v":0},{"$f":"IFERROR($E60*SUMIF('Daily Log'!$BD$18:$BD$1017,$B60,'Daily Log'!$BE$18:$BE$1017),0)","v":0},{"$f":"IFERROR($E60*SUMIF('Daily Log'!$BG$18:$BG$1017,$B60,'Daily Log'!$BH$18:$BH$1017),0)","v":0},{"$f":"IFERROR($E60*SUMIF('Daily Log'!$BJ$18:$BJ$1017,$B60,'Daily Log'!$BK$18:$BK$1017),0)","v":0},{"$f":"IFERROR($E60*SUMIF('Daily Log'!$BM$18:$BM$1017,$B60,'Daily Log'!$BN$18:$BN$1017),0)","v":0},{"$f":"IFERROR($E60*SUMIF('Daily Log'!$BP$18:$BP$1017,$B60,'Daily Log'!$BQ$18:$BQ$1017),0)","v":0},{"$f":"IFERROR($E60*SUMIF('Daily Log'!$BS$18:$BS$1017,$B60,'Daily Log'!$BT$18:$BT$1017),0)","v":0},{"$f":"IFERROR($E60*SUMIF('Daily Log'!$BV$18:$BV$1017,$B60,'Daily Log'!$BW$18:$BW$1017),0)","v":0},{"$f":"IFERROR($E60*SUMIF('Daily Log'!$BY$18:$BY$1017,$B60,'Daily Log'!$BZ$18:$BZ$1017),0)","v":0},{"$f":"IFERROR($E60*SUMIF('Daily Log'!$CB$18:$CB$1017,$B60,'Daily Log'!$CC$18:$CC$1017),0)","v":0},{"$f":"IFERROR($E60*SUMIF('Daily Log'!$CE$18:$CE$1017,$B60,'Daily Log'!$CF$18:$CF$1017),0)","v":0},{"$f":"IFERROR($E60*SUMIF('Daily Log'!$CH$18:$CH$1017,$B60,'Daily Log'!$CI$18:$CI$1017),0)","v":0},{"$f":"IFERROR($E60*SUMIF('Daily Log'!$CK$18:$CK$1017,$B60,'Daily Log'!$CL$18:$CL$1017),0)","v":0},{"$f":"IFERROR($E60*SUMIF('Daily Log'!$CN$18:$CN$1017,$B60,'Daily Log'!$CO$18:$CO$1017),0)","v":0}]
[null,"AB09 H : STAFF B'DAY",null,null,null,0,{"$f":"IFERROR($E61*SUMIF('Daily Log'!$B$18:$B$1017,$B61,'Daily Log'!$C$18:$C$1017),0)","v":0},{"$f":"IFERROR($E61*SUMIF('Daily Log'!$E$18:$E$1017,$B61,'Daily Log'!$F$18:$F$1017),0)","v":0},{"$f":"IFERROR($E61*SUMIF('Daily Log'!$H$18:$H$1017,$B61,'Daily Log'!$I$18:$I$1017),0)","v":0},{"$f":"IFERROR($E61*SUMIF('Daily Log'!$K$18:$K$1017,$B61,'Daily Log'!$L$18:$L$1017),0)","v":0},{"$f":"IFERROR($E61*SUMIF('Daily Log'!$N$18:$N$1017,$B61,'Daily Log'!$O$18:$O$1017),0)","v":0},{"$f":"IFERROR($E61*SUMIF('Daily Log'!$Q$18:$Q$1017,$B61,'Daily Log'!$R$18:$R$1017),0)","v":0},{"$f":"IFERROR($E61*SUMIF('Daily Log'!$T$18:$T$1017,$B61,'Daily Log'!$U$18:$U$1017),0)","v":0},{"$f":"IFERROR($E61*SUMIF('Daily Log'!$W$18:$W$1017,$B61,'Daily Log'!$X$18:$X$1017),0)","v":0},{"$f":"IFERROR($E61*SUMIF('Daily Log'!$Z$18:$Z$1017,$B61,'Daily Log'!$AA$18:$AA$1017),0)","v":0},{"$f":"IFERROR($E61*SUMIF('Daily Log'!$AC$18:$AC$1017,$B61,'Daily Log'!$AD$18:$AD$1017),0)","v":0},{"$f":"IFERROR($E61*SUMIF('Daily Log'!$AF$18:$AF$1017,$B61,'Daily Log'!$AG$18:$AG$1017),0)","v":0},{"$f":"IFERROR($E61*SUMIF('Daily Log'!$AI$18:$AI$1017,$B61,'Daily Log'!$AJ$18:$AJ$1017),0)","v":0},{"$f":"IFERROR($E61*SUMIF('Daily Log'!$AL$18:$AL$1017,$B61,'Daily Log'!$AM$18:$AM$1017),0)","v":0},{"$f":"IFERROR($E61*SUMIF('Daily Log'!$AO$18:$AO$1017,$B61,'Daily Log'!$AP$18:$AP$1017),0)","v":0},{"$f":"IFERROR($E61*SUMIF('Daily Log'!$AR$18:$AR$1017,$B61,'Daily Log'!$AS$18:$AS$1017),0)","v":0},{"$f":"IFERROR($E61*SUMIF('Daily Log'!$AU$18:$AU$1017,$B61,'Daily Log'!$AV$18:$AV$1017),0)","v":0},{"$f":"IFERROR($E61*SUMIF('Daily Log'!$AX$18:$AX$1017,$B61,'Daily Log'!$AY$18:$AY$1017),0)","v":0},{"$f":"IFERROR($E61*SUMIF('Daily Log'!$BA$18:$BA$1017,$B61,'Daily Log'!$BB$18:$BB$1017),0)","v":0},{"$f":"IFERROR($E61*SUMIF('Daily Log'!$BD$18:$BD$1017,$B61,'Daily Log'!$BE$18:$BE$1017),0)","v":0},{"$f":"IFERROR($E61*SUMIF('Daily Log'!$BG$18:$BG$1017,$B61,'Daily Log'!$BH$18:$BH$1017),0)","v":0},{"$f":"IFERROR($E61*SUMIF('Daily Log'!$BJ$18:$BJ$1017,$B61,'Daily Log'!$BK$18:$BK$1017),0)","v":0},{"$f":"IFERROR($E61*SUMIF('Daily Log'!$BM$18:$BM$1017,$B61,'Daily Log'!$BN$18:$BN$1017),0)","v":0},{"$f":"IFERROR($E61*SUMIF('Daily Log'!$BP$18:$BP$1017,$B61,'Daily Log'!$BQ$18:$BQ$1017),0)","v":0},{"$f":"IFERROR($E61*SUMIF('Daily Log'!$BS$18:$BS$1017,$B61,'Daily Log'!$BT$18:$BT$1017),0)","v":0},{"$f":"IFERROR($E61*SUMIF('Daily Log'!$BV$18:$BV$1017,$B61,'Daily Log'!$BW$18:$BW$1017),0)","v":0},{"$f":"IFERROR($E61*SUMIF('Daily Log'!$BY$18:$BY$1017,$B61,'Daily Log'!$BZ$18:$BZ$1017),0)","v":0},{"$f":"IFERROR($E61*SUMIF('Daily Log'!$CB$18:$CB$1017,$B61,'Daily Log'!$CC$18:$CC$1017),0)","v":0},{"$f":"IFERROR($E61*SUMIF('Daily Log'!$CE$18:$CE$1017,$B61,'Daily Log'!$CF$18:$CF$1017),0)","v":0},{"$f":"IFERROR($E61*SUMIF('Daily Log'!$CH$18:$CH$1017,$B61,'Daily Log'!$CI$18:$CI$1017),0)","v":0},{"$f":"IFERROR($E61*SUMIF('Daily Log'!$CK$18:$CK$1017,$B61,'Daily Log'!$CL$18:$CL$1017),0)","v":0},{"$f":"IFERROR($E61*SUMIF('Daily Log'!$CN$18:$CN$1017,$B61,'Daily Log'!$CO$18:$CO$1017),0)","v":0}]
[null,"AB10 H : FOC HEAD",null,null,null,0,{"$f":"IFERROR($E62*SUMIF('Daily Log'!$B$18:$B$1017,$B62,'Daily Log'!$C$18:$C$1017),0)","v":0},{"$f":"IFERROR($E62*SUMIF('Daily Log'!$E$18:$E$1017,$B62,'Daily Log'!$F$18:$F$1017),0)","v":0},{"$f":"IFERROR($E62*SUMIF('Daily Log'!$H$18:$H$1017,$B62,'Daily Log'!$I$18:$I$1017),0)","v":0},{"$f":"IFERROR($E62*SUMIF('Daily Log'!$K$18:$K$1017,$B62,'Daily Log'!$L$18:$L$1017),0)","v":0},{"$f":"IFERROR($E62*SUMIF('Daily Log'!$N$18:$N$1017,$B62,'Daily Log'!$O$18:$O$1017),0)","v":0},{"$f":"IFERROR($E62*SUMIF('Daily Log'!$Q$18:$Q$1017,$B62,'Daily Log'!$R$18:$R$1017),0)","v":0},{"$f":"IFERROR($E62*SUMIF('Daily Log'!$T$18:$T$1017,$B62,'Daily Log'!$U$18:$U$1017),0)","v":0},{"$f":"IFERROR($E62*SUMIF('Daily Log'!$W$18:$W$1017,$B62,'Daily Log'!$X$18:$X$1017),0)","v":0},{"$f":"IFERROR($E62*SUMIF('Daily Log'!$Z$18:$Z$1017,$B62,'Daily Log'!$AA$18:$AA$1017),0)","v":0},{"$f":"IFERROR($E62*SUMIF('Daily Log'!$AC$18:$AC$1017,$B62,'Daily Log'!$AD$18:$AD$1017),0)","v":0},{"$f":"IFERROR($E62*SUMIF('Daily Log'!$AF$18:$AF$1017,$B62,'Daily Log'!$AG$18:$AG$1017),0)","v":0},{"$f":"IFERROR($E62*SUMIF('Daily Log'!$AI$18:$AI$1017,$B62,'Daily Log'!$AJ$18:$AJ$1017),0)","v":0},{"$f":"IFERROR($E62*SUMIF('Daily Log'!$AL$18:$AL$1017,$B62,'Daily Log'!$AM$18:$AM$1017),0)","v":0},{"$f":"IFERROR($E62*SUMIF('Daily Log'!$AO$18:$AO$1017,$B62,'Daily Log'!$AP$18:$AP$1017),0)","v":0},{"$f":"IFERROR($E62*SUMIF('Daily Log'!$AR$18:$AR$1017,$B62,'Daily Log'!$AS$18:$AS$1017),0)","v":0},{"$f":"IFERROR($E62*SUMIF('Daily Log'!$AU$18:$AU$1017,$B62,'Daily Log'!$AV$18:$AV$1017),0)","v":0},{"$f":"IFERROR($E62*SUMIF('Daily Log'!$AX$18:$AX$1017,$B62,'Daily Log'!$AY$18:$AY$1017),0)","v":0},{"$f":"IFERROR($E62*SUMIF('Daily Log'!$BA$18:$BA$1017,$B62,'Daily Log'!$BB$18:$BB$1017),0)","v":0},{"$f":"IFERROR($E62*SUMIF('Daily Log'!$BD$18:$BD$1017,$B62,'Daily Log'!$BE$18:$BE$1017),0)","v":0},{"$f":"IFERROR($E62*SUMIF('Daily Log'!$BG$18:$BG$1017,$B62,'Daily Log'!$BH$18:$BH$1017),0)","v":0},{"$f":"IFERROR($E62*SUMIF('Daily Log'!$BJ$18:$BJ$1017,$B62,'Daily Log'!$BK$18:$BK$1017),0)","v":0},{"$f":"IFERROR($E62*SUMIF('Daily Log'!$BM$18:$BM$1017,$B62,'Daily Log'!$BN$18:$BN$1017),0)","v":0},{"$f":"IFERROR($E62*SUMIF('Daily Log'!$BP$18:$BP$1017,$B62,'Daily Log'!$BQ$18:$BQ$1017),0)","v":0},{"$f":"IFERROR($E62*SUMIF('Daily Log'!$BS$18:$BS$1017,$B62,'Daily Log'!$BT$18:$BT$1017),0)","v":0},{"$f":"IFERROR($E62*SUMIF('Daily Log'!$BV$18:$BV$1017,$B62,'Daily Log'!$BW$18:$BW$1017),0)","v":0},{"$f":"IFERROR($E62*SUMIF('Daily Log'!$BY$18:$BY$1017,$B62,'Daily Log'!$BZ$18:$BZ$1017),0)","v":0},{"$f":"IFERROR($E62*SUMIF('Daily Log'!$CB$18:$CB$1017,$B62,'Daily Log'!$CC$18:$CC$1017),0)","v":0},{"$f":"IFERROR($E62*SUMIF('Daily Log'!$CE$18:$CE$1017,$B62,'Daily Log'!$CF$18:$CF$1017),0)","v":0},{"$f":"IFERROR($E62*SUMIF('Daily Log'!$CH$18:$CH$1017,$B62,'Daily Log'!$CI$18:$CI$1017),0)","v":0},{"$f":"IFERROR($E62*SUMIF('Daily Log'!$CK$18:$CK$1017,$B62,'Daily Log'!$CL$18:$CL$1017),0)","v":0},{"$f":"IFERROR($E62*SUMIF('Daily Log'!$CN$18:$CN$1017,$B62,'Daily Log'!$CO$18:$CO$1017),0)","v":0}]
[null,"AB11 H : FREEHEAD (B)",null,null,null,0,{"$f":"IFERROR($E63*SUMIF('Daily Log'!$B$18:$B$1017,$B63,'Daily Log'!$C$18:$C$1017),0)","v":0},{"$f":"IFERROR($E63*SUMIF('Daily Log'!$E$18:$E$1017,$B63,'Daily Log'!$F$18:$F$1017),0)","v":0},{"$f":"IFERROR($E63*SUMIF('Daily Log'!$H$18:$H$1017,$B63,'Daily Log'!$I$18:$I$1017),0)","v":0},{"$f":"IFERROR($E63*SUMIF('Daily Log'!$K$18:$K$1017,$B63,'Daily Log'!$L$18:$L$1017),0)","v":0},{"$f":"IFERROR($E63*SUMIF('Daily Log'!$N$18:$N$1017,$B63,'Daily Log'!$O$18:$O$1017),0)","v":0},{"$f":"IFERROR($E63*SUMIF('Daily Log'!$Q$18:$Q$1017,$B63,'Daily Log'!$R$18:$R$1017),0)","v":0},{"$f":"IFERROR($E63*SUMIF('Daily Log'!$T$18:$T$1017,$B63,'Daily Log'!$U$18:$U$1017),0)","v":0},{"$f":"IFERROR($E63*SUMIF('Daily Log'!$W$18:$W$1017,$B63,'Daily Log'!$X$18:$X$1017),0)","v":0},{"$f":"IFERROR($E63*SUMIF('Daily Log'!$Z$18:$Z$1017,$B63,'Daily Log'!$AA$18:$AA$1017),0)","v":0},{"$f":"IFERROR($E63*SUMIF('Daily Log'!$AC$18:$AC$1017,$B63,'Daily Log'!$AD$18:$AD$1017),0)","v":0},{"$f":"IFERROR($E63*SUMIF('Daily Log'!$AF$18:$AF$1017,$B63,'Daily Log'!$AG$18:$AG$1017),0)","v":0},{"$f":"IFERROR($E63*SUMIF('Daily Log'!$AI$18:$AI$1017,$B63,'Daily Log'!$AJ$18:$AJ$1017),0)","v":0},{"$f":"IFERROR($E63*SUMIF('Daily Log'!$AL$18:$AL$1017,$B63,'Daily Log'!$AM$18:$AM$1017),0)","v":0},{"$f":"IFERROR($E63*SUMIF('Daily Log'!$AO$18:$AO$1017,$B63,'Daily Log'!$AP$18:$AP$1017),0)","v":0},{"$f":"IFERROR($E63*SUMIF('Daily Log'!$AR$18:$AR$1017,$B63,'Daily Log'!$AS$18:$AS$1017),0)","v":0},{"$f":"IFERROR($E63*SUMIF('Daily Log'!$AU$18:$AU$1017,$B63,'Daily Log'!$AV$18:$AV$1017),0)","v":0},{"$f":"IFERROR($E63*SUMIF('Daily Log'!$AX$18:$AX$1017,$B63,'Daily Log'!$AY$18:$AY$1017),0)","v":0},{"$f":"IFERROR($E63*SUMIF('Daily Log'!$BA$18:$BA$1017,$B63,'Daily Log'!$BB$18:$BB$1017),0)","v":0},{"$f":"IFERROR($E63*SUMIF('Daily Log'!$BD$18:$BD$1017,$B63,'Daily Log'!$BE$18:$BE$1017),0)","v":0},{"$f":"IFERROR($E63*SUMIF('Daily Log'!$BG$18:$BG$1017,$B63,'Daily Log'!$BH$18:$BH$1017),0)","v":0},{"$f":"IFERROR($E63*SUMIF('Daily Log'!$BJ$18:$BJ$1017,$B63,'Daily Log'!$BK$18:$BK$1017),0)","v":0},{"$f":"IFERROR($E63*SUMIF('Daily Log'!$BM$18:$BM$1017,$B63,'Daily Log'!$BN$18:$BN$1017),0)","v":0},{"$f":"IFERROR($E63*SUMIF('Daily Log'!$BP$18:$BP$1017,$B63,'Daily Log'!$BQ$18:$BQ$1017),0)","v":0},{"$f":"IFERROR($E63*SUMIF('Daily Log'!$BS$18:$BS$1017,$B63,'Daily Log'!$BT$18:$BT$1017),0)","v":0},{"$f":"IFERROR($E63*SUMIF('Daily Log'!$BV$18:$BV$1017,$B63,'Daily Log'!$BW$18:$BW$1017),0)","v":0},{"$f":"IFERROR($E63*SUMIF('Daily Log'!$BY$18:$BY$1017,$B63,'Daily Log'!$BZ$18:$BZ$1017),0)","v":0},{"$f":"IFERROR($E63*SUMIF('Daily Log'!$CB$18:$CB$1017,$B63,'Daily Log'!$CC$18:$CC$1017),0)","v":0},{"$f":"IFERROR($E63*SUMIF('Daily Log'!$CE$18:$CE$1017,$B63,'Daily Log'!$CF$18:$CF$1017),0)","v":0},{"$f":"IFERROR($E63*SUMIF('Daily Log'!$CH$18:$CH$1017,$B63,'Daily Log'!$CI$18:$CI$1017),0)","v":0},{"$f":"IFERROR($E63*SUMIF('Daily Log'!$CK$18:$CK$1017,$B63,'Daily Log'!$CL$18:$CL$1017),0)","v":0},{"$f":"IFERROR($E63*SUMIF('Daily Log'!$CN$18:$CN$1017,$B63,'Daily Log'!$CO$18:$CO$1017),0)","v":0}]
[null,"AB12 Father",null,null,null,0,{"$f":"IFERROR($E64*SUMIF('Daily Log'!$B$18:$B$1017,$B64,'Daily Log'!$C$18:$C$1017),0)","v":0},{"$f":"IFERROR($E64*SUMIF('Daily Log'!$E$18:$E$1017,$B64,'Daily Log'!$F$18:$F$1017),0)","v":0},{"$f":"IFERROR($E64*SUMIF('Daily Log'!$H$18:$H$1017,$B64,'Daily Log'!$I$18:$I$1017),0)","v":0},{"$f":"IFERROR($E64*SUMIF('Daily Log'!$K$18:$K$1017,$B64,'Daily Log'!$L$18:$L$1017),0)","v":0},{"$f":"IFERROR($E64*SUMIF('Daily Log'!$N$18:$N$1017,$B64,'Daily Log'!$O$18:$O$1017),0)","v":0},{"$f":"IFERROR($E64*SUMIF('Daily Log'!$Q$18:$Q$1017,$B64,'Daily Log'!$R$18:$R$1017),0)","v":0},{"$f":"IFERROR($E64*SUMIF('Daily Log'!$T$18:$T$1017,$B64,'Daily Log'!$U$18:$U$1017),0)","v":0},{"$f":"IFERROR($E64*SUMIF('Daily Log'!$W$18:$W$1017,$B64,'Daily Log'!$X$18:$X$1017),0)","v":0},{"$f":"IFERROR($E64*SUMIF('Daily Log'!$Z$18:$Z$1017,$B64,'Daily Log'!$AA$18:$AA$1017),0)","v":0},{"$f":"IFERROR($E64*SUMIF('Daily Log'!$AC$18:$AC$1017,$B64,'Daily Log'!$AD$18:$AD$1017),0)","v":0},{"$f":"IFERROR($E64*SUMIF('Daily Log'!$AF$18:$AF$1017,$B64,'Daily Log'!$AG$18:$AG$1017),0)","v":0},{"$f":"IFERROR($E64*SUMIF('Daily Log'!$AI$18:$AI$1017,$B64,'Daily Log'!$AJ$18:$AJ$1017),0)","v":0},{"$f":"IFERROR($E64*SUMIF('Daily Log'!$AL$18:$AL$1017,$B64,'Daily Log'!$AM$18:$AM$1017),0)","v":0},{"$f":"IFERROR($E64*SUMIF('Daily Log'!$AO$18:$AO$1017,$B64,'Daily Log'!$AP$18:$AP$1017),0)","v":0},{"$f":"IFERROR($E64*SUMIF('Daily Log'!$AR$18:$AR$1017,$B64,'Daily Log'!$AS$18:$AS$1017),0)","v":0},{"$f":"IFERROR($E64*SUMIF('Daily Log'!$AU$18:$AU$1017,$B64,'Daily Log'!$AV$18:$AV$1017),0)","v":0},{"$f":"IFERROR($E64*SUMIF('Daily Log'!$AX$18:$AX$1017,$B64,'Daily Log'!$AY$18:$AY$1017),0)","v":0},{"$f":"IFERROR($E64*SUMIF('Daily Log'!$BA$18:$BA$1017,$B64,'Daily Log'!$BB$18:$BB$1017),0)","v":0},{"$f":"IFERROR($E64*SUMIF('Daily Log'!$BD$18:$BD$1017,$B64,'Daily Log'!$BE$18:$BE$1017),0)","v":0},{"$f":"IFERROR($E64*SUMIF('Daily Log'!$BG$18:$BG$1017,$B64,'Daily Log'!$BH$18:$BH$1017),0)","v":0},{"$f":"IFERROR($E64*SUMIF('Daily Log'!$BJ$18:$BJ$1017,$B64,'Daily Log'!$BK$18:$BK$1017),0)","v":0},{"$f":"IFERROR($E64*SUMIF('Daily Log'!$BM$18:$BM$1017,$B64,'Daily Log'!$BN$18:$BN$1017),0)","v":0},{"$f":"IFERROR($E64*SUMIF('Daily Log'!$BP$18:$BP$1017,$B64,'Daily Log'!$BQ$18:$BQ$1017),0)","v":0},{"$f":"IFERROR($E64*SUMIF('Daily Log'!$BS$18:$BS$1017,$B64,'Daily Log'!$BT$18:$BT$1017),0)","v":0},{"$f":"IFERROR($E64*SUMIF('Daily Log'!$BV$18:$BV$1017,$B64,'Daily Log'!$BW$18:$BW$1017),0)","v":0},{"$f":"IFERROR($E64*SUMIF('Daily Log'!$BY$18:$BY$1017,$B64,'Daily Log'!$BZ$18:$BZ$1017),0)","v":0},{"$f":"IFERROR($E64*SUMIF('Daily Log'!$CB$18:$CB$1017,$B64,'Daily Log'!$CC$18:$CC$1017),0)","v":0},{"$f":"IFERROR($E64*SUMIF('Daily Log'!$CE$18:$CE$1017,$B64,'Daily Log'!$CF$18:$CF$1017),0)","v":0},{"$f":"IFERROR($E64*SUMIF('Daily Log'!$CH$18:$CH$1017,$B64,'Daily Log'!$CI$18:$CI$1017),0)","v":0},{"$f":"IFERROR($E64*SUMIF('Daily Log'!$CK$18:$CK$1017,$B64,'Daily Log'!$CL$18:$CL$1017),0)","v":0},{"$f":"IFERROR($E64*SUMIF('Daily Log'!$CN$18:$CN$1017,$B64,'Daily Log'!$CO$18:$CO$1017),0)","v":0}]
[null,"AB13 H : FREEHEAD (R)",null,null,null,0,{"$f":"IFERROR($E65*SUMIF('Daily Log'!$B$18:$B$1017,$B65,'Daily Log'!$C$18:$C$1017),0)","v":0},{"$f":"IFERROR($E65*SUMIF('Daily Log'!$E$18:$E$1017,$B65,'Daily Log'!$F$18:$F$1017),0)","v":0},{"$f":"IFERROR($E65*SUMIF('Daily Log'!$H$18:$H$1017,$B65,'Daily Log'!$I$18:$I$1017),0)","v":0},{"$f":"IFERROR($E65*SUMIF('Daily Log'!$K$18:$K$1017,$B65,'Daily Log'!$L$18:$L$1017),0)","v":0},{"$f":"IFERROR($E65*SUMIF('Daily Log'!$N$18:$N$1017,$B65,'Daily Log'!$O$18:$O$1017),0)","v":0},{"$f":"IFERROR($E65*SUMIF('Daily Log'!$Q$18:$Q$1017,$B65,'Daily Log'!$R$18:$R$1017),0)","v":0},{"$f":"IFERROR($E65*SUMIF('Daily Log'!$T$18:$T$1017,$B65,'Daily Log'!$U$18:$U$1017),0)","v":0},{"$f":"IFERROR($E65*SUMIF('Daily Log'!$W$18:$W$1017,$B65,'Daily Log'!$X$18:$X$1017),0)","v":0},{"$f":"IFERROR($E65*SUMIF('Daily Log'!$Z$18:$Z$1017,$B65,'Daily Log'!$AA$18:$AA$1017),0)","v":0},{"$f":"IFERROR($E65*SUMIF('Daily Log'!$AC$18:$AC$1017,$B65,'Daily Log'!$AD$18:$AD$1017),0)","v":0},{"$f":"IFERROR($E65*SUMIF('Daily Log'!$AF$18:$AF$1017,$B65,'Daily Log'!$AG$18:$AG$1017),0)","v":0},{"$f":"IFERROR($E65*SUMIF('Daily Log'!$AI$18:$AI$1017,$B65,'Daily Log'!$AJ$18:$AJ$1017),0)","v":0},{"$f":"IFERROR($E65*SUMIF('Daily Log'!$AL$18:$AL$1017,$B65,'Daily Log'!$AM$18:$AM$1017),0)","v":0},{"$f":"IFERROR($E65*SUMIF('Daily Log'!$AO$18:$AO$1017,$B65,'Daily Log'!$AP$18:$AP$1017),0)","v":0},{"$f":"IFERROR($E65*SUMIF('Daily Log'!$AR$18:$AR$1017,$B65,'Daily Log'!$AS$18:$AS$1017),0)","v":0},{"$f":"IFERROR($E65*SUMIF('Daily Log'!$AU$18:$AU$1017,$B65,'Daily Log'!$AV$18:$AV$1017),0)","v":0},{"$f":"IFERROR($E65*SUMIF('Daily Log'!$AX$18:$AX$1017,$B65,'Daily Log'!$AY$18:$AY$1017),0)","v":0},{"$f":"IFERROR($E65*SUMIF('Daily Log'!$BA$18:$BA$1017,$B65,'Daily Log'!$BB$18:$BB$1017),0)","v":0},{"$f":"IFERROR($E65*SUMIF('Daily Log'!$BD$18:$BD$1017,$B65,'Daily Log'!$BE$18:$BE$1017),0)","v":0},{"$f":"IFERROR($E65*SUMIF('Daily Log'!$BG$18:$BG$1017,$B65,'Daily Log'!$BH$18:$BH$1017),0)","v":0},{"$f":"IFERROR($E65*SUMIF('Daily Log'!$BJ$18:$BJ$1017,$B65,'Daily Log'!$BK$18:$BK$1017),0)","v":0},{"$f":"IFERROR($E65*SUMIF('Daily Log'!$BM$18:$BM$1017,$B65,'Daily Log'!$BN$18:$BN$1017),0)","v":0},{"$f":"IFERROR($E65*SUMIF('Daily Log'!$BP$18:$BP$1017,$B65,'Daily Log'!$BQ$18:$BQ$1017),0)","v":0},{"$f":"IFERROR($E65*SUMIF('Daily Log'!$BS$18:$BS$1017,$B65,'Daily Log'!$BT$18:$BT$1017),0)","v":0},{"$f":"IFERROR($E65*SUMIF('Daily Log'!$BV$18:$BV$1017,$B65,'Daily Log'!$BW$18:$BW$1017),0)","v":0},{"$f":"IFERROR($E65*SUMIF('Daily Log'!$BY$18:$BY$1017,$B65,'Daily Log'!$BZ$18:$BZ$1017),0)","v":0},{"$f":"IFERROR($E65*SUMIF('Daily Log'!$CB$18:$CB$1017,$B65,'Daily Log'!$CC$18:$CC$1017),0)","v":0},{"$f":"IFERROR($E65*SUMIF('Daily Log'!$CE$18:$CE$1017,$B65,'Daily Log'!$CF$18:$CF$1017),0)","v":0},{"$f":"IFERROR($E65*SUMIF('Daily Log'!$CH$18:$CH$1017,$B65,'Daily Log'!$CI$18:$CI$1017),0)","v":0},{"$f":"IFERROR($E65*SUMIF('Daily Log'!$CK$18:$CK$1017,$B65,'Daily Log'!$CL$18:$CL$1017),0)","v":0},{"$f":"IFERROR($E65*SUMIF('Daily Log'!$CN$18:$CN$1017,$B65,'Daily Log'!$CO$18:$CO$1017),0)","v":0}]
[null,"AB14 H : 3+1",null,null,null,0,{"$f":"IFERROR($E66*SUMIF('Daily Log'!$B$18:$B$1017,$B66,'Daily Log'!$C$18:$C$1017),0)","v":0},{"$f":"IFERROR($E66*SUMIF('Daily Log'!$E$18:$E$1017,$B66,'Daily Log'!$F$18:$F$1017),0)","v":0},{"$f":"IFERROR($E66*SUMIF('Daily Log'!$H$18:$H$1017,$B66,'Daily Log'!$I$18:$I$1017),0)","v":0},{"$f":"IFERROR($E66*SUMIF('Daily Log'!$K$18:$K$1017,$B66,'Daily Log'!$L$18:$L$1017),0)","v":0},{"$f":"IFERROR($E66*SUMIF('Daily Log'!$N$18:$N$1017,$B66,'Daily Log'!$O$18:$O$1017),0)","v":0},{"$f":"IFERROR($E66*SUMIF('Daily Log'!$Q$18:$Q$1017,$B66,'Daily Log'!$R$18:$R$1017),0)","v":0},{"$f":"IFERROR($E66*SUMIF('Daily Log'!$T$18:$T$1017,$B66,'Daily Log'!$U$18:$U$1017),0)","v":0},{"$f":"IFERROR($E66*SUMIF('Daily Log'!$W$18:$W$1017,$B66,'Daily Log'!$X$18:$X$1017),0)","v":0},{"$f":"IFERROR($E66*SUMIF('Daily Log'!$Z$18:$Z$1017,$B66,'Daily Log'!$AA$18:$AA$1017),0)","v":0},{"$f":"IFERROR($E66*SUMIF('Daily Log'!$AC$18:$AC$1017,$B66,'Daily Log'!$AD$18:$AD$1017),0)","v":0},{"$f":"IFERROR($E66*SUMIF('Daily Log'!$AF$18:$AF$1017,$B66,'Daily Log'!$AG$18:$AG$1017),0)","v":0},{"$f":"IFERROR($E66*SUMIF('Daily Log'!$AI$18:$AI$1017,$B66,'Daily Log'!$AJ$18:$AJ$1017),0)","v":0},{"$f":"IFERROR($E66*SUMIF('Daily Log'!$AL$18:$AL$1017,$B66,'Daily Log'!$AM$18:$AM$1017),0)","v":0},{"$f":"IFERROR($E66*SUMIF('Daily Log'!$AO$18:$AO$1017,$B66,'Daily Log'!$AP$18:$AP$1017),0)","v":0},{"$f":"IFERROR($E66*SUMIF('Daily Log'!$AR$18:$AR$1017,$B66,'Daily Log'!$AS$18:$AS$1017),0)","v":0},{"$f":"IFERROR($E66*SUMIF('Daily Log'!$AU$18:$AU$1017,$B66,'Daily Log'!$AV$18:$AV$1017),0)","v":0},{"$f":"IFERROR($E66*SUMIF('Daily Log'!$AX$18:$AX$1017,$B66,'Daily Log'!$AY$18:$AY$1017),0)","v":0},{"$f":"IFERROR($E66*SUMIF('Daily Log'!$BA$18:$BA$1017,$B66,'Daily Log'!$BB$18:$BB$1017),0)","v":0},{"$f":"IFERROR($E66*SUMIF('Daily Log'!$BD$18:$BD$1017,$B66,'Daily Log'!$BE$18:$BE$1017),0)","v":0},{"$f":"IFERROR($E66*SUMIF('Daily Log'!$BG$18:$BG$1017,$B66,'Daily Log'!$BH$18:$BH$1017),0)","v":0},{"$f":"IFERROR($E66*SUMIF('Daily Log'!$BJ$18:$BJ$1017,$B66,'Daily Log'!$BK$18:$BK$1017),0)","v":0},{"$f":"IFERROR($E66*SUMIF('Daily Log'!$BM$18:$BM$1017,$B66,'Daily Log'!$BN$18:$BN$1017),0)","v":0},{"$f":"IFERROR($E66*SUMIF('Daily Log'!$BP$18:$BP$1017,$B66,'Daily Log'!$BQ$18:$BQ$1017),0)","v":0},{"$f":"IFERROR($E66*SUMIF('Daily Log'!$BS$18:$BS$1017,$B66,'Daily Log'!$BT$18:$BT$1017),0)","v":0},{"$f":"IFERROR($E66*SUMIF('Daily Log'!$BV$18:$BV$1017,$B66,'Daily Log'!$BW$18:$BW$1017),0)","v":0},{"$f":"IFERROR($E66*SUMIF('Daily Log'!$BY$18:$BY$1017,$B66,'Daily Log'!$BZ$18:$BZ$1017),0)","v":0},{"$f":"IFERROR($E66*SUMIF('Daily Log'!$CB$18:$CB$1017,$B66,'Daily Log'!$CC$18:$CC$1017),0)","v":0},{"$f":"IFERROR($E66*SUMIF('Daily Log'!$CE$18:$CE$1017,$B66,'Daily Log'!$CF$18:$CF$1017),0)","v":0},{"$f":"IFERROR($E66*SUMIF('Daily Log'!$CH$18:$CH$1017,$B66,'Daily Log'!$CI$18:$CI$1017),0)","v":0},{"$f":"IFERROR($E66*SUMIF('Daily Log'!$CK$18:$CK$1017,$B66,'Daily Log'!$CL$18:$CL$1017),0)","v":0},{"$f":"IFERROR($E66*SUMIF('Daily Log'!$CN$18:$CN$1017,$B66,'Daily Log'!$CO$18:$CO$1017),0)","v":0}]
[null,"AB15 H : PROMOTION",null,null,null,0,{"$f":"IFERROR($E67*SUMIF('Daily Log'!$B$18:$B$1017,$B67,'Daily Log'!$C$18:$C$1017),0)","v":0},{"$f":"IFERROR($E67*SUMIF('Daily Log'!$E$18:$E$1017,$B67,'Daily Log'!$F$18:$F$1017),0)","v":0},{"$f":"IFERROR($E67*SUMIF('Daily Log'!$H$18:$H$1017,$B67,'Daily Log'!$I$18:$I$1017),0)","v":0},{"$f":"IFERROR($E67*SUMIF('Daily Log'!$K$18:$K$1017,$B67,'Daily Log'!$L$18:$L$1017),0)","v":0},{"$f":"IFERROR($E67*SUMIF('Daily Log'!$N$18:$N$1017,$B67,'Daily Log'!$O$18:$O$1017),0)","v":0},{"$f":"IFERROR($E67*SUMIF('Daily Log'!$Q$18:$Q$1017,$B67,'Daily Log'!$R$18:$R$1017),0)","v":0},{"$f":"IFERROR($E67*SUMIF('Daily Log'!$T$18:$T$1017,$B67,'Daily Log'!$U$18:$U$1017),0)","v":0},{"$f":"IFERROR($E67*SUMIF('Daily Log'!$W$18:$W$1017,$B67,'Daily Log'!$X$18:$X$1017),0)","v":0},{"$f":"IFERROR($E67*SUMIF('Daily Log'!$Z$18:$Z$1017,$B67,'Daily Log'!$AA$18:$AA$1017),0)","v":0},{"$f":"IFERROR($E67*SUMIF('Daily Log'!$AC$18:$AC$1017,$B67,'Daily Log'!$AD$18:$AD$1017),0)","v":0},{"$f":"IFERROR($E67*SUMIF('Daily Log'!$AF$18:$AF$1017,$B67,'Daily Log'!$AG$18:$AG$1017),0)","v":0},{"$f":"IFERROR($E67*SUMIF('Daily Log'!$AI$18:$AI$1017,$B67,'Daily Log'!$AJ$18:$AJ$1017),0)","v":0},{"$f":"IFERROR($E67*SUMIF('Daily Log'!$AL$18:$AL$1017,$B67,'Daily Log'!$AM$18:$AM$1017),0)","v":0},{"$f":"IFERROR($E67*SUMIF('Daily Log'!$AO$18:$AO$1017,$B67,'Daily Log'!$AP$18:$AP$1017),0)","v":0},{"$f":"IFERROR($E67*SUMIF('Daily Log'!$AR$18:$AR$1017,$B67,'Daily Log'!$AS$18:$AS$1017),0)","v":0},{"$f":"IFERROR($E67*SUMIF('Daily Log'!$AU$18:$AU$1017,$B67,'Daily Log'!$AV$18:$AV$1017),0)","v":0},{"$f":"IFERROR($E67*SUMIF('Daily Log'!$AX$18:$AX$1017,$B67,'Daily Log'!$AY$18:$AY$1017),0)","v":0},{"$f":"IFERROR($E67*SUMIF('Daily Log'!$BA$18:$BA$1017,$B67,'Daily Log'!$BB$18:$BB$1017),0)","v":0},{"$f":"IFERROR($E67*SUMIF('Daily Log'!$BD$18:$BD$1017,$B67,'Daily Log'!$BE$18:$BE$1017),0)","v":0},{"$f":"IFERROR($E67*SUMIF('Daily Log'!$BG$18:$BG$1017,$B67,'Daily Log'!$BH$18:$BH$1017),0)","v":0},{"$f":"IFERROR($E67*SUMIF('Daily Log'!$BJ$18:$BJ$1017,$B67,'Daily Log'!$BK$18:$BK$1017),0)","v":0},{"$f":"IFERROR($E67*SUMIF('Daily Log'!$BM$18:$BM$1017,$B67,'Daily Log'!$BN$18:$BN$1017),0)","v":0},{"$f":"IFERROR($E67*SUMIF('Daily Log'!$BP$18:$BP$1017,$B67,'Daily Log'!$BQ$18:$BQ$1017),0)","v":0},{"$f":"IFERROR($E67*SUMIF('Daily Log'!$BS$18:$BS$1017,$B67,'Daily Log'!$BT$18:$BT$1017),0)","v":0},{"$f":"IFERROR($E67*SUMIF('Daily Log'!$BV$18:$BV$1017,$B67,'Daily Log'!$BW$18:$BW$1017),0)","v":0},{"$f":"IFERROR($E67*SUMIF('Daily Log'!$BY$18:$BY$1017,$B67,'Daily Log'!$BZ$18:$BZ$1017),0)","v":0},{"$f":"IFERROR($E67*SUMIF('Daily Log'!$CB$18:$CB$1017,$B67,'Daily Log'!$CC$18:$CC$1017),0)","v":0},{"$f":"IFERROR($E67*SUMIF('Daily Log'!$CE$18:$CE$1017,$B67,'Daily Log'!$CF$18:$CF$1017),0)","v":0},{"$f":"IFERROR($E67*SUMIF('Daily Log'!$CH$18:$CH$1017,$B67,'Daily Log'!$CI$18:$CI$1017),0)","v":0},{"$f":"IFERROR($E67*SUMIF('Daily Log'!$CK$18:$CK$1017,$B67,'Daily Log'!$CL$18:$CL$1017),0)","v":0},{"$f":"IFERROR($E67*SUMIF('Daily Log'!$CN$18:$CN$1017,$B67,'Daily Log'!$CO$18:$CO$1017),0)","v":0}]
[null,"AB16 H : EVENT",null,null,null,0,{"$f":"IFERROR($E68*SUMIF('Daily Log'!$B$18:$B$1017,$B68,'Daily Log'!$C$18:$C$1017),0)","v":0},{"$f":"IFERROR($E68*SUMIF('Daily Log'!$E$18:$E$1017,$B68,'Daily Log'!$F$18:$F$1017),0)","v":0},{"$f":"IFERROR($E68*SUMIF('Daily Log'!$H$18:$H$1017,$B68,'Daily Log'!$I$18:$I$1017),0)","v":0},{"$f":"IFERROR($E68*SUMIF('Daily Log'!$K$18:$K$1017,$B68,'Daily Log'!$L$18:$L$1017),0)","v":0},{"$f":"IFERROR($E68*SUMIF('Daily Log'!$N$18:$N$1017,$B68,'Daily Log'!$O$18:$O$1017),0)","v":0},{"$f":"IFERROR($E68*SUMIF('Daily Log'!$Q$18:$Q$1017,$B68,'Daily Log'!$R$18:$R$1017),0)","v":0},{"$f":"IFERROR($E68*SUMIF('Daily Log'!$T$18:$T$1017,$B68,'Daily Log'!$U$18:$U$1017),0)","v":0},{"$f":"IFERROR($E68*SUMIF('Daily Log'!$W$18:$W$1017,$B68,'Daily Log'!$X$18:$X$1017),0)","v":0},{"$f":"IFERROR($E68*SUMIF('Daily Log'!$Z$18:$Z$1017,$B68,'Daily Log'!$AA$18:$AA$1017),0)","v":0},{"$f":"IFERROR($E68*SUMIF('Daily Log'!$AC$18:$AC$1017,$B68,'Daily Log'!$AD$18:$AD$1017),0)","v":0},{"$f":"IFERROR($E68*SUMIF('Daily Log'!$AF$18:$AF$1017,$B68,'Daily Log'!$AG$18:$AG$1017),0)","v":0},{"$f":"IFERROR($E68*SUMIF('Daily Log'!$AI$18:$AI$1017,$B68,'Daily Log'!$AJ$18:$AJ$1017),0)","v":0},{"$f":"IFERROR($E68*SUMIF('Daily Log'!$AL$18:$AL$1017,$B68,'Daily Log'!$AM$18:$AM$1017),0)","v":0},{"$f":"IFERROR($E68*SUMIF('Daily Log'!$AO$18:$AO$1017,$B68,'Daily Log'!$AP$18:$AP$1017),0)","v":0},{"$f":"IFERROR($E68*SUMIF('Daily Log'!$AR$18:$AR$1017,$B68,'Daily Log'!$AS$18:$AS$1017),0)","v":0},{"$f":"IFERROR($E68*SUMIF('Daily Log'!$AU$18:$AU$1017,$B68,'Daily Log'!$AV$18:$AV$1017),0)","v":0},{"$f":"IFERROR($E68*SUMIF('Daily Log'!$AX$18:$AX$1017,$B68,'Daily Log'!$AY$18:$AY$1017),0)","v":0},{"$f":"IFERROR($E68*SUMIF('Daily Log'!$BA$18:$BA$1017,$B68,'Daily Log'!$BB$18:$BB$1017),0)","v":0},{"$f":"IFERROR($E68*SUMIF('Daily Log'!$BD$18:$BD$1017,$B68,'Daily Log'!$BE$18:$BE$1017),0)","v":0},{"$f":"IFERROR($E68*SUMIF('Daily Log'!$BG$18:$BG$1017,$B68,'Daily Log'!$BH$18:$BH$1017),0)","v":0},{"$f":"IFERROR($E68*SUMIF('Daily Log'!$BJ$18:$BJ$1017,$B68,'Daily Log'!$BK$18:$BK$1017),0)","v":0},{"$f":"IFERROR($E68*SUMIF('Daily Log'!$BM$18:$BM$1017,$B68,'Daily Log'!$BN$18:$BN$1017),0)","v":0},{"$f":"IFERROR($E68*SUMIF('Daily Log'!$BP$18:$BP$1017,$B68,'Daily Log'!$BQ$18:$BQ$1017),0)","v":0},{"$f":"IFERROR($E68*SUMIF('Daily Log'!$BS$18:$BS$1017,$B68,'Daily Log'!$BT$18:$BT$1017),0)","v":0},{"$f":"IFERROR($E68*SUMIF('Daily Log'!$BV$18:$BV$1017,$B68,'Daily Log'!$BW$18:$BW$1017),0)","v":0},{"$f":"IFERROR($E68*SUMIF('Daily Log'!$BY$18:$BY$1017,$B68,'Daily Log'!$BZ$18:$BZ$1017),0)","v":0},{"$f":"IFERROR($E68*SUMIF('Daily Log'!$CB$18:$CB$1017,$B68,'Daily Log'!$CC$18:$CC$1017),0)","v":0},{"$f":"IFERROR($E68*SUMIF('Daily Log'!$CE$18:$CE$1017,$B68,'Daily Log'!$CF$18:$CF$1017),0)","v":0},{"$f":"IFERROR($E68*SUMIF('Daily Log'!$CH$18:$CH$1017,$B68,'Daily Log'!$CI$18:$CI$1017),0)","v":0},{"$f":"IFERROR($E68*SUMIF('Daily Log'!$CK$18:$CK$1017,$B68,'Daily Log'!$CL$18:$CL$1017),0)","v":0},{"$f":"IFERROR($E68*SUMIF('Daily Log'!$CN$18:$CN$1017,$B68,'Daily Log'!$CO$18:$CO$1017),0)","v":0}]
[null,"AB17 H : XTD S ROOM",null,null,null,0,{"$f":"IFERROR($E69*SUMIF('Daily Log'!$B$18:$B$1017,$B69,'Daily Log'!$C$18:$C$1017),0)","v":0},{"$f":"IFERROR($E69*SUMIF('Daily Log'!$E$18:$E$1017,$B69,'Daily Log'!$F$18:$F$1017),0)","v":0},{"$f":"IFERROR($E69*SUMIF('Daily Log'!$H$18:$H$1017,$B69,'Daily Log'!$I$18:$I$1017),0)","v":0},{"$f":"IFERROR($E69*SUMIF('Daily Log'!$K$18:$K$1017,$B69,'Daily Log'!$L$18:$L$1017),0)","v":0},{"$f":"IFERROR($E69*SUMIF('Daily Log'!$N$18:$N$1017,$B69,'Daily Log'!$O$18:$O$1017),0)","v":0},{"$f":"IFERROR($E69*SUMIF('Daily Log'!$Q$18:$Q$1017,$B69,'Daily Log'!$R$18:$R$1017),0)","v":0},{"$f":"IFERROR($E69*SUMIF('Daily Log'!$T$18:$T$1017,$B69,'Daily Log'!$U$18:$U$1017),0)","v":0},{"$f":"IFERROR($E69*SUMIF('Daily Log'!$W$18:$W$1017,$B69,'Daily Log'!$X$18:$X$1017),0)","v":0},{"$f":"IFERROR($E69*SUMIF('Daily Log'!$Z$18:$Z$1017,$B69,'Daily Log'!$AA$18:$AA$1017),0)","v":0},{"$f":"IFERROR($E69*SUMIF('Daily Log'!$AC$18:$AC$1017,$B69,'Daily Log'!$AD$18:$AD$1017),0)","v":0},{"$f":"IFERROR($E69*SUMIF('Daily Log'!$AF$18:$AF$1017,$B69,'Daily Log'!$AG$18:$AG$1017),0)","v":0},{"$f":"IFERROR($E69*SUMIF('Daily Log'!$AI$18:$AI$1017,$B69,'Daily Log'!$AJ$18:$AJ$1017),0)","v":0},{"$f":"IFERROR($E69*SUMIF('Daily Log'!$AL$18:$AL$1017,$B69,'Daily Log'!$AM$18:$AM$1017),0)","v":0},{"$f":"IFERROR($E69*SUMIF('Daily Log'!$AO$18:$AO$1017,$B69,'Daily Log'!$AP$18:$AP$1017),0)","v":0},{"$f":"IFERROR($E69*SUMIF('Daily Log'!$AR$18:$AR$1017,$B69,'Daily Log'!$AS$18:$AS$1017),0)","v":0},{"$f":"IFERROR($E69*SUMIF('Daily Log'!$AU$18:$AU$1017,$B69,'Daily Log'!$AV$18:$AV$1017),0)","v":0},{"$f":"IFERROR($E69*SUMIF('Daily Log'!$AX$18:$AX$1017,$B69,'Daily Log'!$AY$18:$AY$1017),0)","v":0},{"$f":"IFERROR($E69*SUMIF('Daily Log'!$BA$18:$BA$1017,$B69,'Daily Log'!$BB$18:$BB$1017),0)","v":0},{"$f":"IFERROR($E69*SUMIF('Daily Log'!$BD$18:$BD$1017,$B69,'Daily Log'!$BE$18:$BE$1017),0)","v":0},{"$f":"IFERROR($E69*SUMIF('Daily Log'!$BG$18:$BG$1017,$B69,'Daily Log'!$BH$18:$BH$1017),0)","v":0},{"$f":"IFERROR($E69*SUMIF('Daily Log'!$BJ$18:$BJ$1017,$B69,'Daily Log'!$BK$18:$BK$1017),0)","v":0},{"$f":"IFERROR($E69*SUMIF('Daily Log'!$BM$18:$BM$1017,$B69,'Daily Log'!$BN$18:$BN$1017),0)","v":0},{"$f":"IFERROR($E69*SUMIF('Daily Log'!$BP$18:$BP$1017,$B69,'Daily Log'!$BQ$18:$BQ$1017),0)","v":0},{"$f":"IFERROR($E69*SUMIF('Daily Log'!$BS$18:$BS$1017,$B69,'Daily Log'!$BT$18:$BT$1017),0)","v":0},{"$f":"IFERROR($E69*SUMIF('Daily Log'!$BV$18:$BV$1017,$B69,'Daily Log'!$BW$18:$BW$1017),0)","v":0},{"$f":"IFERROR($E69*SUMIF('Daily Log'!$BY$18:$BY$1017,$B69,'Daily Log'!$BZ$18:$BZ$1017),0)","v":0},{"$f":"IFERROR($E69*SUMIF('Daily Log'!$CB$18:$CB$1017,$B69,'Daily Log'!$CC$18:$CC$1017),0)","v":0},{"$f":"IFERROR($E69*SUMIF('Daily Log'!$CE$18:$CE$1017,$B69,'Daily Log'!$CF$18:$CF$1017),0)","v":0},{"$f":"IFERROR($E69*SUMIF('Daily Log'!$CH$18:$CH$1017,$B69,'Daily Log'!$CI$18:$CI$1017),0)","v":0},{"$f":"IFERROR($E69*SUMIF('Daily Log'!$CK$18:$CK$1017,$B69,'Daily Log'!$CL$18:$CL$1017),0)","v":0},{"$f":"IFERROR($E69*SUMIF('Daily Log'!$CN$18:$CN$1017,$B69,'Daily Log'!$CO$18:$CO$1017),0)","v":0}]
[null,"AB18 H : XTD M ROOM",null,null,null,0,{"$f":"IFERROR($E70*SUMIF('Daily Log'!$B$18:$B$1017,$B70,'Daily Log'!$C$18:$C$1017),0)","v":0},{"$f":"IFERROR($E70*SUMIF('Daily Log'!$E$18:$E$1017,$B70,'Daily Log'!$F$18:$F$1017),0)","v":0},{"$f":"IFERROR($E70*SUMIF('Daily Log'!$H$18:$H$1017,$B70,'Daily Log'!$I$18:$I$1017),0)","v":0},{"$f":"IFERROR($E70*SUMIF('Daily Log'!$K$18:$K$1017,$B70,'Daily Log'!$L$18:$L$1017),0)","v":0},{"$f":"IFERROR($E70*SUMIF('Daily Log'!$N$18:$N$1017,$B70,'Daily Log'!$O$18:$O$1017),0)","v":0},{"$f":"IFERROR($E70*SUMIF('Daily Log'!$Q$18:$Q$1017,$B70,'Daily Log'!$R$18:$R$1017),0)","v":0},{"$f":"IFERROR($E70*SUMIF('Daily Log'!$T$18:$T$1017,$B70,'Daily Log'!$U$18:$U$1017),0)","v":0},{"$f":"IFERROR($E70*SUMIF('Daily Log'!$W$18:$W$1017,$B70,'Daily Log'!$X$18:$X$1017),0)","v":0},{"$f":"IFERROR($E70*SUMIF('Daily Log'!$Z$18:$Z$1017,$B70,'Daily Log'!$AA$18:$AA$1017),0)","v":0},{"$f":"IFERROR($E70*SUMIF('Daily Log'!$AC$18:$AC$1017,$B70,'Daily Log'!$AD$18:$AD$1017),0)","v":0},{"$f":"IFERROR($E70*SUMIF('Daily Log'!$AF$18:$AF$1017,$B70,'Daily Log'!$AG$18:$AG$1017),0)","v":0},{"$f":"IFERROR($E70*SUMIF('Daily Log'!$AI$18:$AI$1017,$B70,'Daily Log'!$AJ$18:$AJ$1017),0)","v":0},{"$f":"IFERROR($E70*SUMIF('Daily Log'!$AL$18:$AL$1017,$B70,'Daily Log'!$AM$18:$AM$1017),0)","v":0},{"$f":"IFERROR($E70*SUMIF('Daily Log'!$AO$18:$AO$1017,$B70,'Daily Log'!$AP$18:$AP$1017),0)","v":0},{"$f":"IFERROR($E70*SUMIF('Daily Log'!$AR$18:$AR$1017,$B70,'Daily Log'!$AS$18:$AS$1017),0)","v":0},{"$f":"IFERROR($E70*SUMIF('Daily Log'!$AU$18:$AU$1017,$B70,'Daily Log'!$AV$18:$AV$1017),0)","v":0},{"$f":"IFERROR($E70*SUMIF('Daily Log'!$AX$18:$AX$1017,$B70,'Daily Log'!$AY$18:$AY$1017),0)","v":0},{"$f":"IFERROR($E70*SUMIF('Daily Log'!$BA$18:$BA$1017,$B70,'Daily Log'!$BB$18:$BB$1017),0)","v":0},{"$f":"IFERROR($E70*SUMIF('Daily Log'!$BD$18:$BD$1017,$B70,'Daily Log'!$BE$18:$BE$1017),0)","v":0},{"$f":"IFERROR($E70*SUMIF('Daily Log'!$BG$18:$BG$1017,$B70,'Daily Log'!$BH$18:$BH$1017),0)","v":0},{"$f":"IFERROR($E70*SUMIF('Daily Log'!$BJ$18:$BJ$1017,$B70,'Daily Log'!$BK$18:$BK$1017),0)","v":0},{"$f":"IFERROR($E70*SUMIF('Daily Log'!$BM$18:$BM$1017,$B70,'Daily Log'!$BN$18:$BN$1017),0)","v":0},{"$f":"IFERROR($E70*SUMIF('Daily Log'!$BP$18:$BP$1017,$B70,'Daily Log'!$BQ$18:$BQ$1017),0)","v":0},{"$f":"IFERROR($E70*SUMIF('Daily Log'!$BS$18:$BS$1017,$B70,'Daily Log'!$BT$18:$BT$1017),0)","v":0},{"$f":"IFERROR($E70*SUMIF('Daily Log'!$BV$18:$BV$1017,$B70,'Daily Log'!$BW$18:$BW$1017),0)","v":0},{"$f":"IFERROR($E70*SUMIF('Daily Log'!$BY$18:$BY$1017,$B70,'Daily Log'!$BZ$18:$BZ$1017),0)","v":0},{"$f":"IFERROR($E70*SUMIF('Daily Log'!$CB$18:$CB$1017,$B70,'Daily Log'!$CC$18:$CC$1017),0)","v":0},{"$f":"IFERROR($E70*SUMIF('Daily Log'!$CE$18:$CE$1017,$B70,'Daily Log'!$CF$18:$CF$1017),0)","v":0},{"$f":"IFERROR($E70*SUMIF('Daily Log'!$CH$18:$CH$1017,$B70,'Daily Log'!$CI$18:$CI$1017),0)","v":0},{"$f":"IFERROR($E70*SUMIF('Daily Log'!$CK$18:$CK$1017,$B70,'Daily Log'!$CL$18:$CL$1017),0)","v":0},{"$f":"IFERROR($E70*SUMIF('Daily Log'!$CN$18:$CN$1017,$B70,'Daily Log'!$CO$18:$CO$1017),0)","v":0}]
[null,"AB19 H : XTD B ROOM",null,null,null,0,{"$f":"IFERROR($E71*SUMIF('Daily Log'!$B$18:$B$1017,$B71,'Daily Log'!$C$18:$C$1017),0)","v":0},{"$f":"IFERROR($E71*SUMIF('Daily Log'!$E$18:$E$1017,$B71,'Daily Log'!$F$18:$F$1017),0)","v":0},{"$f":"IFERROR($E71*SUMIF('Daily Log'!$H$18:$H$1017,$B71,'Daily Log'!$I$18:$I$1017),0)","v":0},{"$f":"IFERROR($E71*SUMIF('Daily Log'!$K$18:$K$1017,$B71,'Daily Log'!$L$18:$L$1017),0)","v":0},{"$f":"IFERROR($E71*SUMIF('Daily Log'!$N$18:$N$1017,$B71,'Daily Log'!$O$18:$O$1017),0)","v":0},{"$f":"IFERROR($E71*SUMIF('Daily Log'!$Q$18:$Q$1017,$B71,'Daily Log'!$R$18:$R$1017),0)","v":0},{"$f":"IFERROR($E71*SUMIF('Daily Log'!$T$18:$T$1017,$B71,'Daily Log'!$U$18:$U$1017),0)","v":0},{"$f":"IFERROR($E71*SUMIF('Daily Log'!$W$18:$W$1017,$B71,'Daily Log'!$X$18:$X$1017),0)","v":0},{"$f":"IFERROR($E71*SUMIF('Daily Log'!$Z$18:$Z$1017,$B71,'Daily Log'!$AA$18:$AA$1017),0)","v":0},{"$f":"IFERROR($E71*SUMIF('Daily Log'!$AC$18:$AC$1017,$B71,'Daily Log'!$AD$18:$AD$1017),0)","v":0},{"$f":"IFERROR($E71*SUMIF('Daily Log'!$AF$18:$AF$1017,$B71,'Daily Log'!$AG$18:$AG$1017),0)","v":0},{"$f":"IFERROR($E71*SUMIF('Daily Log'!$AI$18:$AI$1017,$B71,'Daily Log'!$AJ$18:$AJ$1017),0)","v":0},{"$f":"IFERROR($E71*SUMIF('Daily Log'!$AL$18:$AL$1017,$B71,'Daily Log'!$AM$18:$AM$1017),0)","v":0},{"$f":"IFERROR($E71*SUMIF('Daily Log'!$AO$18:$AO$1017,$B71,'Daily Log'!$AP$18:$AP$1017),0)","v":0},{"$f":"IFERROR($E71*SUMIF('Daily Log'!$AR$18:$AR$1017,$B71,'Daily Log'!$AS$18:$AS$1017),0)","v":0},{"$f":"IFERROR($E71*SUMIF('Daily Log'!$AU$18:$AU$1017,$B71,'Daily Log'!$AV$18:$AV$1017),0)","v":0},{"$f":"IFERROR($E71*SUMIF('Daily Log'!$AX$18:$AX$1017,$B71,'Daily Log'!$AY$18:$AY$1017),0)","v":0},{"$f":"IFERROR($E71*SUMIF('Daily Log'!$BA$18:$BA$1017,$B71,'Daily Log'!$BB$18:$BB$1017),0)","v":0},{"$f":"IFERROR($E71*SUMIF('Daily Log'!$BD$18:$BD$1017,$B71,'Daily Log'!$BE$18:$BE$1017),0)","v":0},{"$f":"IFERROR($E71*SUMIF('Daily Log'!$BG$18:$BG$1017,$B71,'Daily Log'!$BH$18:$BH$1017),0)","v":0},{"$f":"IFERROR($E71*SUMIF('Daily Log'!$BJ$18:$BJ$1017,$B71,'Daily Log'!$BK$18:$BK$1017),0)","v":0},{"$f":"IFERROR($E71*SUMIF('Daily Log'!$BM$18:$BM$1017,$B71,'Daily Log'!$BN$18:$BN$1017),0)","v":0},{"$f":"IFERROR($E71*SUMIF('Daily Log'!$BP$18:$BP$1017,$B71,'Daily Log'!$BQ$18:$BQ$1017),0)","v":0},{"$f":"IFERROR($E71*SUMIF('Daily Log'!$BS$18:$BS$1017,$B71,'Daily Log'!$BT$18:$BT$1017),0)","v":0},{"$f":"IFERROR($E71*SUMIF('Daily Log'!$BV$18:$BV$1017,$B71,'Daily Log'!$BW$18:$BW$1017),0)","v":0},{"$f":"IFERROR($E71*SUMIF('Daily Log'!$BY$18:$BY$1017,$B71,'Daily Log'!$BZ$18:$BZ$1017),0)","v":0},{"$f":"IFERROR($E71*SUMIF('Daily Log'!$CB$18:$CB$1017,$B71,'Daily Log'!$CC$18:$CC$1017),0)","v":0},{"$f":"IFERROR($E71*SUMIF('Daily Log'!$CE$18:$CE$1017,$B71,'Daily Log'!$CF$18:$CF$1017),0)","v":0},{"$f":"IFERROR($E71*SUMIF('Daily Log'!$CH$18:$CH$1017,$B71,'Daily Log'!$CI$18:$CI$1017),0)","v":0},{"$f":"IFERROR($E71*SUMIF('Daily Log'!$CK$18:$CK$1017,$B71,'Daily Log'!$CL$18:$CL$1017),0)","v":0},{"$f":"IFERROR($E71*SUMIF('Daily Log'!$CN$18:$CN$1017,$B71,'Daily Log'!$CO$18:$CO$1017),0)","v":0}]
[null,"AB20 H : FOC HOUR",null,null,null,0,{"$f":"IFERROR($E72*SUMIF('Daily Log'!$B$18:$B$1017,$B72,'Daily Log'!$C$18:$C$1017),0)","v":0},{"$f":"IFERROR($E72*SUMIF('Daily Log'!$E$18:$E$1017,$B72,'Daily Log'!$F$18:$F$1017),0)","v":0},{"$f":"IFERROR($E72*SUMIF('Daily Log'!$H$18:$H$1017,$B72,'Daily Log'!$I$18:$I$1017),0)","v":0},{"$f":"IFERROR($E72*SUMIF('Daily Log'!$K$18:$K$1017,$B72,'Daily Log'!$L$18:$L$1017),0)","v":0},{"$f":"IFERROR($E72*SUMIF('Daily Log'!$N$18:$N$1017,$B72,'Daily Log'!$O$18:$O$1017),0)","v":0},{"$f":"IFERROR($E72*SUMIF('Daily Log'!$Q$18:$Q$1017,$B72,'Daily Log'!$R$18:$R$1017),0)","v":0},{"$f":"IFERROR($E72*SUMIF('Daily Log'!$T$18:$T$1017,$B72,'Daily Log'!$U$18:$U$1017),0)","v":0},{"$f":"IFERROR($E72*SUMIF('Daily Log'!$W$18:$W$1017,$B72,'Daily Log'!$X$18:$X$1017),0)","v":0},{"$f":"IFERROR($E72*SUMIF('Daily Log'!$Z$18:$Z$1017,$B72,'Daily Log'!$AA$18:$AA$1017),0)","v":0},{"$f":"IFERROR($E72*SUMIF('Daily Log'!$AC$18:$AC$1017,$B72,'Daily Log'!$AD$18:$AD$1017),0)","v":0},{"$f":"IFERROR($E72*SUMIF('Daily Log'!$AF$18:$AF$1017,$B72,'Daily Log'!$AG$18:$AG$1017),0)","v":0},{"$f":"IFERROR($E72*SUMIF('Daily Log'!$AI$18:$AI$1017,$B72,'Daily Log'!$AJ$18:$AJ$1017),0)","v":0},{"$f":"IFERROR($E72*SUMIF('Daily Log'!$AL$18:$AL$1017,$B72,'Daily Log'!$AM$18:$AM$1017),0)","v":0},{"$f":"IFERROR($E72*SUMIF('Daily Log'!$AO$18:$AO$1017,$B72,'Daily Log'!$AP$18:$AP$1017),0)","v":0},{"$f":"IFERROR($E72*SUMIF('Daily Log'!$AR$18:$AR$1017,$B72,'Daily Log'!$AS$18:$AS$1017),0)","v":0},{"$f":"IFERROR($E72*SUMIF('Daily Log'!$AU$18:$AU$1017,$B72,'Daily Log'!$AV$18:$AV$1017),0)","v":0},{"$f":"IFERROR($E72*SUMIF('Daily Log'!$AX$18:$AX$1017,$B72,'Daily Log'!$AY$18:$AY$1017),0)","v":0},{"$f":"IFERROR($E72*SUMIF('Daily Log'!$BA$18:$BA$1017,$B72,'Daily Log'!$BB$18:$BB$1017),0)","v":0},{"$f":"IFERROR($E72*SUMIF('Daily Log'!$BD$18:$BD$1017,$B72,'Daily Log'!$BE$18:$BE$1017),0)","v":0},{"$f":"IFERROR($E72*SUMIF('Daily Log'!$BG$18:$BG$1017,$B72,'Daily Log'!$BH$18:$BH$1017),0)","v":0},{"$f":"IFERROR($E72*SUMIF('Daily Log'!$BJ$18:$BJ$1017,$B72,'Daily Log'!$BK$18:$BK$1017),0)","v":0},{"$f":"IFERROR($E72*SUMIF('Daily Log'!$BM$18:$BM$1017,$B72,'Daily Log'!$BN$18:$BN$1017),0)","v":0},{"$f":"IFERROR($E72*SUMIF('Daily Log'!$BP$18:$BP$1017,$B72,'Daily Log'!$BQ$18:$BQ$1017),0)","v":0},{"$f":"IFERROR($E72*SUMIF('Daily Log'!$BS$18:$BS$1017,$B72,'Daily Log'!$BT$18:$BT$1017),0)","v":0},{"$f":"IFERROR($E72*SUMIF('Daily Log'!$BV$18:$BV$1017,$B72,'Daily Log'!$BW$18:$BW$1017),0)","v":0},{"$f":"IFERROR($E72*SUMIF('Daily Log'!$BY$18:$BY$1017,$B72,'Daily Log'!$BZ$18:$BZ$1017),0)","v":0},{"$f":"IFERROR($E72*SUMIF('Daily Log'!$CB$18:$CB$1017,$B72,'Daily Log'!$CC$18:$CC$1017),0)","v":0},{"$f":"IFERROR($E72*SUMIF('Daily Log'!$CE$18:$CE$1017,$B72,'Daily Log'!$CF$18:$CF$1017),0)","v":0},{"$f":"IFERROR($E72*SUMIF('Daily Log'!$CH$18:$CH$1017,$B72,'Daily Log'!$CI$18:$CI$1017),0)","v":0},{"$f":"IFERROR($E72*SUMIF('Daily Log'!$CK$18:$CK$1017,$B72,'Daily Log'!$CL$18:$CL$1017),0)","v":0},{"$f":"IFERROR($E72*SUMIF('Daily Log'!$CN$18:$CN$1017,$B72,'Daily Log'!$CO$18:$CO$1017),0)","v":0}]
[null,"AB41 N : REGULAR",null,null,null,0,{"$f":"IFERROR($E73*SUMIF('Daily Log'!$B$18:$B$1017,$B73,'Daily Log'!$C$18:$C$1017),0)","v":0},{"$f":"IFERROR($E73*SUMIF('Daily Log'!$E$18:$E$1017,$B73,'Daily Log'!$F$18:$F$1017),0)","v":0},{"$f":"IFERROR($E73*SUMIF('Daily Log'!$H$18:$H$1017,$B73,'Daily Log'!$I$18:$I$1017),0)","v":0},{"$f":"IFERROR($E73*SUMIF('Daily Log'!$K$18:$K$1017,$B73,'Daily Log'!$L$18:$L$1017),0)","v":0},{"$f":"IFERROR($E73*SUMIF('Daily Log'!$N$18:$N$1017,$B73,'Daily Log'!$O$18:$O$1017),0)","v":0},{"$f":"IFERROR($E73*SUMIF('Daily Log'!$Q$18:$Q$1017,$B73,'Daily Log'!$R$18:$R$1017),0)","v":0},{"$f":"IFERROR($E73*SUMIF('Daily Log'!$T$18:$T$1017,$B73,'Daily Log'!$U$18:$U$1017),0)","v":0},{"$f":"IFERROR($E73*SUMIF('Daily Log'!$W$18:$W$1017,$B73,'Daily Log'!$X$18:$X$1017),0)","v":0},{"$f":"IFERROR($E73*SUMIF('Daily Log'!$Z$18:$Z$1017,$B73,'Daily Log'!$AA$18:$AA$1017),0)","v":0},{"$f":"IFERROR($E73*SUMIF('Daily Log'!$AC$18:$AC$1017,$B73,'Daily Log'!$AD$18:$AD$1017),0)","v":0},{"$f":"IFERROR($E73*SUMIF('Daily Log'!$AF$18:$AF$1017,$B73,'Daily Log'!$AG$18:$AG$1017),0)","v":0},{"$f":"IFERROR($E73*SUMIF('Daily Log'!$AI$18:$AI$1017,$B73,'Daily Log'!$AJ$18:$AJ$1017),0)","v":0},{"$f":"IFERROR($E73*SUMIF('Daily Log'!$AL$18:$AL$1017,$B73,'Daily Log'!$AM$18:$AM$1017),0)","v":0},{"$f":"IFERROR($E73*SUMIF('Daily Log'!$AO$18:$AO$1017,$B73,'Daily Log'!$AP$18:$AP$1017),0)","v":0},{"$f":"IFERROR($E73*SUMIF('Daily Log'!$AR$18:$AR$1017,$B73,'Daily Log'!$AS$18:$AS$1017),0)","v":0},{"$f":"IFERROR($E73*SUMIF('Daily Log'!$AU$18:$AU$1017,$B73,'Daily Log'!$AV$18:$AV$1017),0)","v":0},{"$f":"IFERROR($E73*SUMIF('Daily Log'!$AX$18:$AX$1017,$B73,'Daily Log'!$AY$18:$AY$1017),0)","v":0},{"$f":"IFERROR($E73*SUMIF('Daily Log'!$BA$18:$BA$1017,$B73,'Daily Log'!$BB$18:$BB$1017),0)","v":0},{"$f":"IFERROR($E73*SUMIF('Daily Log'!$BD$18:$BD$1017,$B73,'Daily Log'!$BE$18:$BE$1017),0)","v":0},{"$f":"IFERROR($E73*SUMIF('Daily Log'!$BG$18:$BG$1017,$B73,'Daily Log'!$BH$18:$BH$1017),0)","v":0},{"$f":"IFERROR($E73*SUMIF('Daily Log'!$BJ$18:$BJ$1017,$B73,'Daily Log'!$BK$18:$BK$1017),0)","v":0},{"$f":"IFERROR($E73*SUMIF('Daily Log'!$BM$18:$BM$1017,$B73,'Daily Log'!$BN$18:$BN$1017),0)","v":0},{"$f":"IFERROR($E73*SUMIF('Daily Log'!$BP$18:$BP$1017,$B73,'Daily Log'!$BQ$18:$BQ$1017),0)","v":0},{"$f":"IFERROR($E73*SUMIF('Daily Log'!$BS$18:$BS$1017,$B73,'Daily Log'!$BT$18:$BT$1017),0)","v":0},{"$f":"IFERROR($E73*SUMIF('Daily Log'!$BV$18:$BV$1017,$B73,'Daily Log'!$BW$18:$BW$1017),0)","v":0},{"$f":"IFERROR($E73*SUMIF('Daily Log'!$BY$18:$BY$1017,$B73,'Daily Log'!$BZ$18:$BZ$1017),0)","v":0},{"$f":"IFERROR($E73*SUMIF('Daily Log'!$CB$18:$CB$1017,$B73,'Daily Log'!$CC$18:$CC$1017),0)","v":0},{"$f":"IFERROR($E73*SUMIF('Daily Log'!$CE$18:$CE$1017,$B73,'Daily Log'!$CF$18:$CF$1017),0)","v":0},{"$f":"IFERROR($E73*SUMIF('Daily Log'!$CH$18:$CH$1017,$B73,'Daily Log'!$CI$18:$CI$1017),0)","v":0},{"$f":"IFERROR($E73*SUMIF('Daily Log'!$CK$18:$CK$1017,$B73,'Daily Log'!$CL$18:$CL$1017),0)","v":0},{"$f":"IFERROR($E73*SUMIF('Daily Log'!$CN$18:$CN$1017,$B73,'Daily Log'!$CO$18:$CO$1017),0)","v":0}]
[null,"AB42 N : MEMBER",null,null,null,0,{"$f":"IFERROR($E74*SUMIF('Daily Log'!$B$18:$B$1017,$B74,'Daily Log'!$C$18:$C$1017),0)","v":0},{"$f":"IFERROR($E74*SUMIF('Daily Log'!$E$18:$E$1017,$B74,'Daily Log'!$F$18:$F$1017),0)","v":0},{"$f":"IFERROR($E74*SUMIF('Daily Log'!$H$18:$H$1017,$B74,'Daily Log'!$I$18:$I$1017),0)","v":0},{"$f":"IFERROR($E74*SUMIF('Daily Log'!$K$18:$K$1017,$B74,'Daily Log'!$L$18:$L$1017),0)","v":0},{"$f":"IFERROR($E74*SUMIF('Daily Log'!$N$18:$N$1017,$B74,'Daily Log'!$O$18:$O$1017),0)","v":0},{"$f":"IFERROR($E74*SUMIF('Daily Log'!$Q$18:$Q$1017,$B74,'Daily Log'!$R$18:$R$1017),0)","v":0},{"$f":"IFERROR($E74*SUMIF('Daily Log'!$T$18:$T$1017,$B74,'Daily Log'!$U$18:$U$1017),0)","v":0},{"$f":"IFERROR($E74*SUMIF('Daily Log'!$W$18:$W$1017,$B74,'Daily Log'!$X$18:$X$1017),0)","v":0},{"$f":"IFERROR($E74*SUMIF('Daily Log'!$Z$18:$Z$1017,$B74,'Daily Log'!$AA$18:$AA$1017),0)","v":0},{"$f":"IFERROR($E74*SUMIF('Daily Log'!$AC$18:$AC$1017,$B74,'Daily Log'!$AD$18:$AD$1017),0)","v":0},{"$f":"IFERROR($E74*SUMIF('Daily Log'!$AF$18:$AF$1017,$B74,'Daily Log'!$AG$18:$AG$1017),0)","v":0},{"$f":"IFERROR($E74*SUMIF('Daily Log'!$AI$18:$AI$1017,$B74,'Daily Log'!$AJ$18:$AJ$1017),0)","v":0},{"$f":"IFERROR($E74*SUMIF('Daily Log'!$AL$18:$AL$1017,$B74,'Daily Log'!$AM$18:$AM$1017),0)","v":0},{"$f":"IFERROR($E74*SUMIF('Daily Log'!$AO$18:$AO$1017,$B74,'Daily Log'!$AP$18:$AP$1017),0)","v":0},{"$f":"IFERROR($E74*SUMIF('Daily Log'!$AR$18:$AR$1017,$B74,'Daily Log'!$AS$18:$AS$1017),0)","v":0},{"$f":"IFERROR($E74*SUMIF('Daily Log'!$AU$18:$AU$1017,$B74,'Daily Log'!$AV$18:$AV$1017),0)","v":0},{"$f":"IFERROR($E74*SUMIF('Daily Log'!$AX$18:$AX$1017,$B74,'Daily Log'!$AY$18:$AY$1017),0)","v":0},{"$f":"IFERROR($E74*SUMIF('Daily Log'!$BA$18:$BA$1017,$B74,'Daily Log'!$BB$18:$BB$1017),0)","v":0},{"$f":"IFERROR($E74*SUMIF('Daily Log'!$BD$18:$BD$1017,$B74,'Daily Log'!$BE$18:$BE$1017),0)","v":0},{"$f":"IFERROR($E74*SUMIF('Daily Log'!$BG$18:$BG$1017,$B74,'Daily Log'!$BH$18:$BH$1017),0)","v":0},{"$f":"IFERROR($E74*SUMIF('Daily Log'!$BJ$18:$BJ$1017,$B74,'Daily Log'!$BK$18:$BK$1017),0)","v":0},{"$f":"IFERROR($E74*SUMIF('Daily Log'!$BM$18:$BM$1017,$B74,'Daily Log'!$BN$18:$BN$1017),0)","v":0},{"$f":"IFERROR($E74*SUMIF('Daily Log'!$BP$18:$BP$1017,$B74,'Daily Log'!$BQ$18:$BQ$1017),0)","v":0},{"$f":"IFERROR($E74*SUMIF('Daily Log'!$BS$18:$BS$1017,$B74,'Daily Log'!$BT$18:$BT$1017),0)","v":0},{"$f":"IFERROR($E74*SUMIF('Daily Log'!$BV$18:$BV$1017,$B74,'Daily Log'!$BW$18:$BW$1017),0)","v":0},{"$f":"IFERROR($E74*SUMIF('Daily Log'!$BY$18:$BY$1017,$B74,'Daily Log'!$BZ$18:$BZ$1017),0)","v":0},{"$f":"IFERROR($E74*SUMIF('Daily Log'!$CB$18:$CB$1017,$B74,'Daily Log'!$CC$18:$CC$1017),0)","v":0},{"$f":"IFERROR($E74*SUMIF('Daily Log'!$CE$18:$CE$1017,$B74,'Daily Log'!$CF$18:$CF$1017),0)","v":0},{"$f":"IFERROR($E74*SUMIF('Daily Log'!$CH$18:$CH$1017,$B74,'Daily Log'!$CI$18:$CI$1017),0)","v":0},{"$f":"IFERROR($E74*SUMIF('Daily Log'!$CK$18:$CK$1017,$B74,'Daily Log'!$CL$18:$CL$1017),0)","v":0},{"$f":"IFERROR($E74*SUMIF('Daily Log'!$CN$18:$CN$1017,$B74,'Daily Log'!$CO$18:$CO$1017),0)","v":0}]
[null,"AB43 N : MEMBER 30%",null,null,null,0,{"$f":"IFERROR($E75*SUMIF('Daily Log'!$B$18:$B$1017,$B75,'Daily Log'!$C$18:$C$1017),0)","v":0},{"$f":"IFERROR($E75*SUMIF('Daily Log'!$E$18:$E$1017,$B75,'Daily Log'!$F$18:$F$1017),0)","v":0},{"$f":"IFERROR($E75*SUMIF('Daily Log'!$H$18:$H$1017,$B75,'Daily Log'!$I$18:$I$1017),0)","v":0},{"$f":"IFERROR($E75*SUMIF('Daily Log'!$K$18:$K$1017,$B75,'Daily Log'!$L$18:$L$1017),0)","v":0},{"$f":"IFERROR($E75*SUMIF('Daily Log'!$N$18:$N$1017,$B75,'Daily Log'!$O$18:$O$1017),0)","v":0},{"$f":"IFERROR($E75*SUMIF('Daily Log'!$Q$18:$Q$1017,$B75,'Daily Log'!$R$18:$R$1017),0)","v":0},{"$f":"IFERROR($E75*SUMIF('Daily Log'!$T$18:$T$1017,$B75,'Daily Log'!$U$18:$U$1017),0)","v":0},{"$f":"IFERROR($E75*SUMIF('Daily Log'!$W$18:$W$1017,$B75,'Daily Log'!$X$18:$X$1017),0)","v":0},{"$f":"IFERROR($E75*SUMIF('Daily Log'!$Z$18:$Z$1017,$B75,'Daily Log'!$AA$18:$AA$1017),0)","v":0},{"$f":"IFERROR($E75*SUMIF('Daily Log'!$AC$18:$AC$1017,$B75,'Daily Log'!$AD$18:$AD$1017),0)","v":0},{"$f":"IFERROR($E75*SUMIF('Daily Log'!$AF$18:$AF$1017,$B75,'Daily Log'!$AG$18:$AG$1017),0)","v":0},{"$f":"IFERROR($E75*SUMIF('Daily Log'!$AI$18:$AI$1017,$B75,'Daily Log'!$AJ$18:$AJ$1017),0)","v":0},{"$f":"IFERROR($E75*SUMIF('Daily Log'!$AL$18:$AL$1017,$B75,'Daily Log'!$AM$18:$AM$1017),0)","v":0},{"$f":"IFERROR($E75*SUMIF('Daily Log'!$AO$18:$AO$1017,$B75,'Daily Log'!$AP$18:$AP$1017),0)","v":0},{"$f":"IFERROR($E75*SUMIF('Daily Log'!$AR$18:$AR$1017,$B75,'Daily Log'!$AS$18:$AS$1017),0)","v":0},{"$f":"IFERROR($E75*SUMIF('Daily Log'!$AU$18:$AU$1017,$B75,'Daily Log'!$AV$18:$AV$1017),0)","v":0},{"$f":"IFERROR($E75*SUMIF('Daily Log'!$AX$18:$AX$1017,$B75,'Daily Log'!$AY$18:$AY$1017),0)","v":0},{"$f":"IFERROR($E75*SUMIF('Daily Log'!$BA$18:$BA$1017,$B75,'Daily Log'!$BB$18:$BB$1017),0)","v":0},{"$f":"IFERROR($E75*SUMIF('Daily Log'!$BD$18:$BD$1017,$B75,'Daily Log'!$BE$18:$BE$1017),0)","v":0},{"$f":"IFERROR($E75*SUMIF('Daily Log'!$BG$18:$BG$1017,$B75,'Daily Log'!$BH$18:$BH$1017),0)","v":0},{"$f":"IFERROR($E75*SUMIF('Daily Log'!$BJ$18:$BJ$1017,$B75,'Daily Log'!$BK$18:$BK$1017),0)","v":0},{"$f":"IFERROR($E75*SUMIF('Daily Log'!$BM$18:$BM$1017,$B75,'Daily Log'!$BN$18:$BN$1017),0)","v":0},{"$f":"IFERROR($E75*SUMIF('Daily Log'!$BP$18:$BP$1017,$B75,'Daily Log'!$BQ$18:$BQ$1017),0)","v":0},{"$f":"IFERROR($E75*SUMIF('Daily Log'!$BS$18:$BS$1017,$B75,'Daily Log'!$BT$18:$BT$1017),0)","v":0},{"$f":"IFERROR($E75*SUMIF('Daily Log'!$BV$18:$BV$1017,$B75,'Daily Log'!$BW$18:$BW$1017),0)","v":0},{"$f":"IFERROR($E75*SUMIF('Daily Log'!$BY$18:$BY$1017,$B75,'Daily Log'!$BZ$18:$BZ$1017),0)","v":0},{"$f":"IFERROR($E75*SUMIF('Daily Log'!$CB$18:$CB$1017,$B75,'Daily Log'!$CC$18:$CC$1017),0)","v":0},{"$f":"IFERROR($E75*SUMIF('Daily Log'!$CE$18:$CE$1017,$B75,'Daily Log'!$CF$18:$CF$1017),0)","v":0},{"$f":"IFERROR($E75*SUMIF('Daily Log'!$CH$18:$CH$1017,$B75,'Daily Log'!$CI$18:$CI$1017),0)","v":0},{"$f":"IFERROR($E75*SUMIF('Daily Log'!$CK$18:$CK$1017,$B75,'Daily Log'!$CL$18:$CL$1017),0)","v":0},{"$f":"IFERROR($E75*SUMIF('Daily Log'!$CN$18:$CN$1017,$B75,'Daily Log'!$CO$18:$CO$1017),0)","v":0}]
[null,"AB44 N : CARI MEMBER",null,null,null,0,{"$f":"IFERROR($E76*SUMIF('Daily Log'!$B$18:$B$1017,$B76,'Daily Log'!$C$18:$C$1017),0)","v":0},{"$f":"IFERROR($E76*SUMIF('Daily Log'!$E$18:$E$1017,$B76,'Daily Log'!$F$18:$F$1017),0)","v":0},{"$f":"IFERROR($E76*SUMIF('Daily Log'!$H$18:$H$1017,$B76,'Daily Log'!$I$18:$I$1017),0)","v":0},{"$f":"IFERROR($E76*SUMIF('Daily Log'!$K$18:$K$1017,$B76,'Daily Log'!$L$18:$L$1017),0)","v":0},{"$f":"IFERROR($E76*SUMIF('Daily Log'!$N$18:$N$1017,$B76,'Daily Log'!$O$18:$O$1017),0)","v":0},{"$f":"IFERROR($E76*SUMIF('Daily Log'!$Q$18:$Q$1017,$B76,'Daily Log'!$R$18:$R$1017),0)","v":0},{"$f":"IFERROR($E76*SUMIF('Daily Log'!$T$18:$T$1017,$B76,'Daily Log'!$U$18:$U$1017),0)","v":0},{"$f":"IFERROR($E76*SUMIF('Daily Log'!$W$18:$W$1017,$B76,'Daily Log'!$X$18:$X$1017),0)","v":0},{"$f":"IFERROR($E76*SUMIF('Daily Log'!$Z$18:$Z$1017,$B76,'Daily Log'!$AA$18:$AA$1017),0)","v":0},{"$f":"IFERROR($E76*SUMIF('Daily Log'!$AC$18:$AC$1017,$B76,'Daily Log'!$AD$18:$AD$1017),0)","v":0},{"$f":"IFERROR($E76*SUMIF('Daily Log'!$AF$18:$AF$1017,$B76,'Daily Log'!$AG$18:$AG$1017),0)","v":0},{"$f":"IFERROR($E76*SUMIF('Daily Log'!$AI$18:$AI$1017,$B76,'Daily Log'!$AJ$18:$AJ$1017),0)","v":0},{"$f":"IFERROR($E76*SUMIF('Daily Log'!$AL$18:$AL$1017,$B76,'Daily Log'!$AM$18:$AM$1017),0)","v":0},{"$f":"IFERROR($E76*SUMIF('Daily Log'!$AO$18:$AO$1017,$B76,'Daily Log'!$AP$18:$AP$1017),0)","v":0},{"$f":"IFERROR($E76*SUMIF('Daily Log'!$AR$18:$AR$1017,$B76,'Daily Log'!$AS$18:$AS$1017),0)","v":0},{"$f":"IFERROR($E76*SUMIF('Daily Log'!$AU$18:$AU$1017,$B76,'Daily Log'!$AV$18:$AV$1017),0)","v":0},{"$f":"IFERROR($E76*SUMIF('Daily Log'!$AX$18:$AX$1017,$B76,'Daily Log'!$AY$18:$AY$1017),0)","v":0},{"$f":"IFERROR($E76*SUMIF('Daily Log'!$BA$18:$BA$1017,$B76,'Daily Log'!$BB$18:$BB$1017),0)","v":0},{"$f":"IFERROR($E76*SUMIF('Daily Log'!$BD$18:$BD$1017,$B76,'Daily Log'!$BE$18:$BE$1017),0)","v":0},{"$f":"IFERROR($E76*SUMIF('Daily Log'!$BG$18:$BG$1017,$B76,'Daily Log'!$BH$18:$BH$1017),0)","v":0},{"$f":"IFERROR($E76*SUMIF('Daily Log'!$BJ$18:$BJ$1017,$B76,'Daily Log'!$BK$18:$BK$1017),0)","v":0},{"$f":"IFERROR($E76*SUMIF('Daily Log'!$BM$18:$BM$1017,$B76,'Daily Log'!$BN$18:$BN$1017),0)","v":0},{"$f":"IFERROR($E76*SUMIF('Daily Log'!$BP$18:$BP$1017,$B76,'Daily Log'!$BQ$18:$BQ$1017),0)","v":0},{"$f":"IFERROR($E76*SUMIF('Daily Log'!$BS$18:$BS$1017,$B76,'Daily Log'!$BT$18:$BT$1017),0)","v":0},{"$f":"IFERROR($E76*SUMIF('Daily Log'!$BV$18:$BV$1017,$B76,'Daily Log'!$BW$18:$BW$1017),0)","v":0},{"$f":"IFERROR($E76*SUMIF('Daily Log'!$BY$18:$BY$1017,$B76,'Daily Log'!$BZ$18:$BZ$1017),0)","v":0},{"$f":"IFERROR($E76*SUMIF('Daily Log'!$CB$18:$CB$1017,$B76,'Daily Log'!$CC$18:$CC$1017),0)","v":0},{"$f":"IFERROR($E76*SUMIF('Daily Log'!$CE$18:$CE$1017,$B76,'Daily Log'!$CF$18:$CF$1017),0)","v":0},{"$f":"IFERROR($E76*SUMIF('Daily Log'!$CH$18:$CH$1017,$B76,'Daily Log'!$CI$18:$CI$1017),0)","v":0},{"$f":"IFERROR($E76*SUMIF('Daily Log'!$CK$18:$CK$1017,$B76,'Daily Log'!$CL$18:$CL$1017),0)","v":0},{"$f":"IFERROR($E76*SUMIF('Daily Log'!$CN$18:$CN$1017,$B76,'Daily Log'!$CO$18:$CO$1017),0)","v":0}]
[null,"AB45 K-DINNER",null,null,null,0,{"$f":"IFERROR($E77*SUMIF('Daily Log'!$B$18:$B$1017,$B77,'Daily Log'!$C$18:$C$1017),0)","v":0},{"$f":"IFERROR($E77*SUMIF('Daily Log'!$E$18:$E$1017,$B77,'Daily Log'!$F$18:$F$1017),0)","v":0},{"$f":"IFERROR($E77*SUMIF('Daily Log'!$H$18:$H$1017,$B77,'Daily Log'!$I$18:$I$1017),0)","v":0},{"$f":"IFERROR($E77*SUMIF('Daily Log'!$K$18:$K$1017,$B77,'Daily Log'!$L$18:$L$1017),0)","v":0},{"$f":"IFERROR($E77*SUMIF('Daily Log'!$N$18:$N$1017,$B77,'Daily Log'!$O$18:$O$1017),0)","v":0},{"$f":"IFERROR($E77*SUMIF('Daily Log'!$Q$18:$Q$1017,$B77,'Daily Log'!$R$18:$R$1017),0)","v":0},{"$f":"IFERROR($E77*SUMIF('Daily Log'!$T$18:$T$1017,$B77,'Daily Log'!$U$18:$U$1017),0)","v":0},{"$f":"IFERROR($E77*SUMIF('Daily Log'!$W$18:$W$1017,$B77,'Daily Log'!$X$18:$X$1017),0)","v":0},{"$f":"IFERROR($E77*SUMIF('Daily Log'!$Z$18:$Z$1017,$B77,'Daily Log'!$AA$18:$AA$1017),0)","v":0},{"$f":"IFERROR($E77*SUMIF('Daily Log'!$AC$18:$AC$1017,$B77,'Daily Log'!$AD$18:$AD$1017),0)","v":0},{"$f":"IFERROR($E77*SUMIF('Daily Log'!$AF$18:$AF$1017,$B77,'Daily Log'!$AG$18:$AG$1017),0)","v":0},{"$f":"IFERROR($E77*SUMIF('Daily Log'!$AI$18:$AI$1017,$B77,'Daily Log'!$AJ$18:$AJ$1017),0)","v":0},{"$f":"IFERROR($E77*SUMIF('Daily Log'!$AL$18:$AL$1017,$B77,'Daily Log'!$AM$18:$AM$1017),0)","v":0},{"$f":"IFERROR($E77*SUMIF('Daily Log'!$AO$18:$AO$1017,$B77,'Daily Log'!$AP$18:$AP$1017),0)","v":0},{"$f":"IFERROR($E77*SUMIF('Daily Log'!$AR$18:$AR$1017,$B77,'Daily Log'!$AS$18:$AS$1017),0)","v":0},{"$f":"IFERROR($E77*SUMIF('Daily Log'!$AU$18:$AU$1017,$B77,'Daily Log'!$AV$18:$AV$1017),0)","v":0},{"$f":"IFERROR($E77*SUMIF('Daily Log'!$AX$18:$AX$1017,$B77,'Daily Log'!$AY$18:$AY$1017),0)","v":0},{"$f":"IFERROR($E77*SUMIF('Daily Log'!$BA$18:$BA$1017,$B77,'Daily Log'!$BB$18:$BB$1017),0)","v":0},{"$f":"IFERROR($E77*SUMIF('Daily Log'!$BD$18:$BD$1017,$B77,'Daily Log'!$BE$18:$BE$1017),0)","v":0},{"$f":"IFERROR($E77*SUMIF('Daily Log'!$BG$18:$BG$1017,$B77,'Daily Log'!$BH$18:$BH$1017),0)","v":0},{"$f":"IFERROR($E77*SUMIF('Daily Log'!$BJ$18:$BJ$1017,$B77,'Daily Log'!$BK$18:$BK$1017),0)","v":0},{"$f":"IFERROR($E77*SUMIF('Daily Log'!$BM$18:$BM$1017,$B77,'Daily Log'!$BN$18:$BN$1017),0)","v":0},{"$f":"IFERROR($E77*SUMIF('Daily Log'!$BP$18:$BP$1017,$B77,'Daily Log'!$BQ$18:$BQ$1017),0)","v":0},{"$f":"IFERROR($E77*SUMIF('Daily Log'!$BS$18:$BS$1017,$B77,'Daily Log'!$BT$18:$BT$1017),0)","v":0},{"$f":"IFERROR($E77*SUMIF('Daily Log'!$BV$18:$BV$1017,$B77,'Daily Log'!$BW$18:$BW$1017),0)","v":0},{"$f":"IFERROR($E77*SUMIF('Daily Log'!$BY$18:$BY$1017,$B77,'Daily Log'!$BZ$18:$BZ$1017),0)","v":0},{"$f":"IFERROR($E77*SUMIF('Daily Log'!$CB$18:$CB$1017,$B77,'Daily Log'!$CC$18:$CC$1017),0)","v":0},{"$f":"IFERROR($E77*SUMIF('Daily Log'!$CE$18:$CE$1017,$B77,'Daily Log'!$CF$18:$CF$1017),0)","v":0},{"$f":"IFERROR($E77*SUMIF('Daily Log'!$CH$18:$CH$1017,$B77,'Daily Log'!$CI$18:$CI$1017),0)","v":0},{"$f":"IFERROR($E77*SUMIF('Daily Log'!$CK$18:$CK$1017,$B77,'Daily Log'!$CL$18:$CL$1017),0)","v":0},{"$f":"IFERROR($E77*SUMIF('Daily Log'!$CN$18:$CN$1017,$B77,'Daily Log'!$CO$18:$CO$1017),0)","v":0}]
[null,"AB46 H : Student",null,null,null,0,{"$f":"IFERROR($E78*SUMIF('Daily Log'!$B$18:$B$1017,$B78,'Daily Log'!$C$18:$C$1017),0)","v":0},{"$f":"IFERROR($E78*SUMIF('Daily Log'!$E$18:$E$1017,$B78,'Daily Log'!$F$18:$F$1017),0)","v":0},{"$f":"IFERROR($E78*SUMIF('Daily Log'!$H$18:$H$1017,$B78,'Daily Log'!$I$18:$I$1017),0)","v":0},{"$f":"IFERROR($E78*SUMIF('Daily Log'!$K$18:$K$1017,$B78,'Daily Log'!$L$18:$L$1017),0)","v":0},{"$f":"IFERROR($E78*SUMIF('Daily Log'!$N$18:$N$1017,$B78,'Daily Log'!$O$18:$O$1017),0)","v":0},{"$f":"IFERROR($E78*SUMIF('Daily Log'!$Q$18:$Q$1017,$B78,'Daily Log'!$R$18:$R$1017),0)","v":0},{"$f":"IFERROR($E78*SUMIF('Daily Log'!$T$18:$T$1017,$B78,'Daily Log'!$U$18:$U$1017),0)","v":0},{"$f":"IFERROR($E78*SUMIF('Daily Log'!$W$18:$W$1017,$B78,'Daily Log'!$X$18:$X$1017),0)","v":0},{"$f":"IFERROR($E78*SUMIF('Daily Log'!$Z$18:$Z$1017,$B78,'Daily Log'!$AA$18:$AA$1017),0)","v":0},{"$f":"IFERROR($E78*SUMIF('Daily Log'!$AC$18:$AC$1017,$B78,'Daily Log'!$AD$18:$AD$1017),0)","v":0},{"$f":"IFERROR($E78*SUMIF('Daily Log'!$AF$18:$AF$1017,$B78,'Daily Log'!$AG$18:$AG$1017),0)","v":0},{"$f":"IFERROR($E78*SUMIF('Daily Log'!$AI$18:$AI$1017,$B78,'Daily Log'!$AJ$18:$AJ$1017),0)","v":0},{"$f":"IFERROR($E78*SUMIF('Daily Log'!$AL$18:$AL$1017,$B78,'Daily Log'!$AM$18:$AM$1017),0)","v":0},{"$f":"IFERROR($E78*SUMIF('Daily Log'!$AO$18:$AO$1017,$B78,'Daily Log'!$AP$18:$AP$1017),0)","v":0},{"$f":"IFERROR($E78*SUMIF('Daily Log'!$AR$18:$AR$1017,$B78,'Daily Log'!$AS$18:$AS$1017),0)","v":0},{"$f":"IFERROR($E78*SUMIF('Daily Log'!$AU$18:$AU$1017,$B78,'Daily Log'!$AV$18:$AV$1017),0)","v":0},{"$f":"IFERROR($E78*SUMIF('Daily Log'!$AX$18:$AX$1017,$B78,'Daily Log'!$AY$18:$AY$1017),0)","v":0},{"$f":"IFERROR($E78*SUMIF('Daily Log'!$BA$18:$BA$1017,$B78,'Daily Log'!$BB$18:$BB$1017),0)","v":0},{"$f":"IFERROR($E78*SUMIF('Daily Log'!$BD$18:$BD$1017,$B78,'Daily Log'!$BE$18:$BE$1017),0)","v":0},{"$f":"IFERROR($E78*SUMIF('Daily Log'!$BG$18:$BG$1017,$B78,'Daily Log'!$BH$18:$BH$1017),0)","v":0},{"$f":"IFERROR($E78*SUMIF('Daily Log'!$BJ$18:$BJ$1017,$B78,'Daily Log'!$BK$18:$BK$1017),0)","v":0},{"$f":"IFERROR($E78*SUMIF('Daily Log'!$BM$18:$BM$1017,$B78,'Daily Log'!$BN$18:$BN$1017),0)","v":0},{"$f":"IFERROR($E78*SUMIF('Daily Log'!$BP$18:$BP$1017,$B78,'Daily Log'!$BQ$18:$BQ$1017),0)","v":0},{"$f":"IFERROR($E78*SUMIF('Daily Log'!$BS$18:$BS$1017,$B78,'Daily Log'!$BT$18:$BT$1017),0)","v":0},{"$f":"IFERROR($E78*SUMIF('Daily Log'!$BV$18:$BV$1017,$B78,'Daily Log'!$BW$18:$BW$1017),0)","v":0},{"$f":"IFERROR($E78*SUMIF('Daily Log'!$BY$18:$BY$1017,$B78,'Daily Log'!$BZ$18:$BZ$1017),0)","v":0},{"$f":"IFERROR($E78*SUMIF('Daily Log'!$CB$18:$CB$1017,$B78,'Daily Log'!$CC$18:$CC$1017),0)","v":0},{"$f":"IFERROR($E78*SUMIF('Daily Log'!$CE$18:$CE$1017,$B78,'Daily Log'!$CF$18:$CF$1017),0)","v":0},{"$f":"IFERROR($E78*SUMIF('Daily Log'!$CH$18:$CH$1017,$B78,'Daily Log'!$CI$18:$CI$1017),0)","v":0},{"$f":"IFERROR($E78*SUMIF('Daily Log'!$CK$18:$CK$1017,$B78,'Daily Log'!$CL$18:$CL$1017),0)","v":0},{"$f":"IFERROR($E78*SUMIF('Daily Log'!$CN$18:$CN$1017,$B78,'Daily Log'!$CO$18:$CO$1017),0)","v":0}]
[null,"AB47 H : GROUPON",null,null,null,0,{"$f":"IFERROR($E79*SUMIF('Daily Log'!$B$18:$B$1017,$B79,'Daily Log'!$C$18:$C$1017),0)","v":0},{"$f":"IFERROR($E79*SUMIF('Daily Log'!$E$18:$E$1017,$B79,'Daily Log'!$F$18:$F$1017),0)","v":0},{"$f":"IFERROR($E79*SUMIF('Daily Log'!$H$18:$H$1017,$B79,'Daily Log'!$I$18:$I$1017),0)","v":0},{"$f":"IFERROR($E79*SUMIF('Daily Log'!$K$18:$K$1017,$B79,'Daily Log'!$L$18:$L$1017),0)","v":0},{"$f":"IFERROR($E79*SUMIF('Daily Log'!$N$18:$N$1017,$B79,'Daily Log'!$O$18:$O$1017),0)","v":0},{"$f":"IFERROR($E79*SUMIF('Daily Log'!$Q$18:$Q$1017,$B79,'Daily Log'!$R$18:$R$1017),0)","v":0},{"$f":"IFERROR($E79*SUMIF('Daily Log'!$T$18:$T$1017,$B79,'Daily Log'!$U$18:$U$1017),0)","v":0},{"$f":"IFERROR($E79*SUMIF('Daily Log'!$W$18:$W$1017,$B79,'Daily Log'!$X$18:$X$1017),0)","v":0},{"$f":"IFERROR($E79*SUMIF('Daily Log'!$Z$18:$Z$1017,$B79,'Daily Log'!$AA$18:$AA$1017),0)","v":0},{"$f":"IFERROR($E79*SUMIF('Daily Log'!$AC$18:$AC$1017,$B79,'Daily Log'!$AD$18:$AD$1017),0)","v":0},{"$f":"IFERROR($E79*SUMIF('Daily Log'!$AF$18:$AF$1017,$B79,'Daily Log'!$AG$18:$AG$1017),0)","v":0},{"$f":"IFERROR($E79*SUMIF('Daily Log'!$AI$18:$AI$1017,$B79,'Daily Log'!$AJ$18:$AJ$1017),0)","v":0},{"$f":"IFERROR($E79*SUMIF('Daily Log'!$AL$18:$AL$1017,$B79,'Daily Log'!$AM$18:$AM$1017),0)","v":0},{"$f":"IFERROR($E79*SUMIF('Daily Log'!$AO$18:$AO$1017,$B79,'Daily Log'!$AP$18:$AP$1017),0)","v":0},{"$f":"IFERROR($E79*SUMIF('Daily Log'!$AR$18:$AR$1017,$B79,'Daily Log'!$AS$18:$AS$1017),0)","v":0},{"$f":"IFERROR($E79*SUMIF('Daily Log'!$AU$18:$AU$1017,$B79,'Daily Log'!$AV$18:$AV$1017),0)","v":0},{"$f":"IFERROR($E79*SUMIF('Daily Log'!$AX$18:$AX$1017,$B79,'Daily Log'!$AY$18:$AY$1017),0)","v":0},{"$f":"IFERROR($E79*SUMIF('Daily Log'!$BA$18:$BA$1017,$B79,'Daily Log'!$BB$18:$BB$1017),0)","v":0},{"$f":"IFERROR($E79*SUMIF('Daily Log'!$BD$18:$BD$1017,$B79,'Daily Log'!$BE$18:$BE$1017),0)","v":0},{"$f":"IFERROR($E79*SUMIF('Daily Log'!$BG$18:$BG$1017,$B79,'Daily Log'!$BH$18:$BH$1017),0)","v":0},{"$f":"IFERROR($E79*SUMIF('Daily Log'!$BJ$18:$BJ$1017,$B79,'Daily Log'!$BK$18:$BK$1017),0)","v":0},{"$f":"IFERROR($E79*SUMIF('Daily Log'!$BM$18:$BM$1017,$B79,'Daily Log'!$BN$18:$BN$1017),0)","v":0},{"$f":"IFERROR($E79*SUMIF('Daily Log'!$BP$18:$BP$1017,$B79,'Daily Log'!$BQ$18:$BQ$1017),0)","v":0},{"$f":"IFERROR($E79*SUMIF('Daily Log'!$BS$18:$BS$1017,$B79,'Daily Log'!$BT$18:$BT$1017),0)","v":0},{"$f":"IFERROR($E79*SUMIF('Daily Log'!$BV$18:$BV$1017,$B79,'Daily Log'!$BW$18:$BW$1017),0)","v":0},{"$f":"IFERROR($E79*SUMIF('Daily Log'!$BY$18:$BY$1017,$B79,'Daily Log'!$BZ$18:$BZ$1017),0)","v":0},{"$f":"IFERROR($E79*SUMIF('Daily Log'!$CB$18:$CB$1017,$B79,'Daily Log'!$CC$18:$CC$1017),0)","v":0},{"$f":"IFERROR($E79*SUMIF('Daily Log'!$CE$18:$CE$1017,$B79,'Daily Log'!$CF$18:$CF$1017),0)","v":0},{"$f":"IFERROR($E79*SUMIF('Daily Log'!$CH$18:$CH$1017,$B79,'Daily Log'!$CI$18:$CI$1017),0)","v":0},{"$f":"IFERROR($E79*SUMIF('Daily Log'!$CK$18:$CK$1017,$B79,'Daily Log'!$CL$18:$CL$1017),0)","v":0},{"$f":"IFERROR($E79*SUMIF('Daily Log'!$CN$18:$CN$1017,$B79,'Daily Log'!$CO$18:$CO$1017),0)","v":0}]
[null,"AB49 H : One FM 208",null,null,null,0,{"$f":"IFERROR($E80*SUMIF('Daily Log'!$B$18:$B$1017,$B80,'Daily Log'!$C$18:$C$1017),0)","v":0},{"$f":"IFERROR($E80*SUMIF('Daily Log'!$E$18:$E$1017,$B80,'Daily Log'!$F$18:$F$1017),0)","v":0},{"$f":"IFERROR($E80*SUMIF('Daily Log'!$H$18:$H$1017,$B80,'Daily Log'!$I$18:$I$1017),0)","v":0},{"$f":"IFERROR($E80*SUMIF('Daily Log'!$K$18:$K$1017,$B80,'Daily Log'!$L$18:$L$1017),0)","v":0},{"$f":"IFERROR($E80*SUMIF('Daily Log'!$N$18:$N$1017,$B80,'Daily Log'!$O$18:$O$1017),0)","v":0},{"$f":"IFERROR($E80*SUMIF('Daily Log'!$Q$18:$Q$1017,$B80,'Daily Log'!$R$18:$R$1017),0)","v":0},{"$f":"IFERROR($E80*SUMIF('Daily Log'!$T$18:$T$1017,$B80,'Daily Log'!$U$18:$U$1017),0)","v":0},{"$f":"IFERROR($E80*SUMIF('Daily Log'!$W$18:$W$1017,$B80,'Daily Log'!$X$18:$X$1017),0)","v":0},{"$f":"IFERROR($E80*SUMIF('Daily Log'!$Z$18:$Z$1017,$B80,'Daily Log'!$AA$18:$AA$1017),0)","v":0},{"$f":"IFERROR($E80*SUMIF('Daily Log'!$AC$18:$AC$1017,$B80,'Daily Log'!$AD$18:$AD$1017),0)","v":0},{"$f":"IFERROR($E80*SUMIF('Daily Log'!$AF$18:$AF$1017,$B80,'Daily Log'!$AG$18:$AG$1017),0)","v":0},{"$f":"IFERROR($E80*SUMIF('Daily Log'!$AI$18:$AI$1017,$B80,'Daily Log'!$AJ$18:$AJ$1017),0)","v":0},{"$f":"IFERROR($E80*SUMIF('Daily Log'!$AL$18:$AL$1017,$B80,'Daily Log'!$AM$18:$AM$1017),0)","v":0},{"$f":"IFERROR($E80*SUMIF('Daily Log'!$AO$18:$AO$1017,$B80,'Daily Log'!$AP$18:$AP$1017),0)","v":0},{"$f":"IFERROR($E80*SUMIF('Daily Log'!$AR$18:$AR$1017,$B80,'Daily Log'!$AS$18:$AS$1017),0)","v":0},{"$f":"IFERROR($E80*SUMIF('Daily Log'!$AU$18:$AU$1017,$B80,'Daily Log'!$AV$18:$AV$1017),0)","v":0},{"$f":"IFERROR($E80*SUMIF('Daily Log'!$AX$18:$AX$1017,$B80,'Daily Log'!$AY$18:$AY$1017),0)","v":0},{"$f":"IFERROR($E80*SUMIF('Daily Log'!$BA$18:$BA$1017,$B80,'Daily Log'!$BB$18:$BB$1017),0)","v":0},{"$f":"IFERROR($E80*SUMIF('Daily Log'!$BD$18:$BD$1017,$B80,'Daily Log'!$BE$18:$BE$1017),0)","v":0},{"$f":"IFERROR($E80*SUMIF('Daily Log'!$BG$18:$BG$1017,$B80,'Daily Log'!$BH$18:$BH$1017),0)","v":0},{"$f":"IFERROR($E80*SUMIF('Daily Log'!$BJ$18:$BJ$1017,$B80,'Daily Log'!$BK$18:$BK$1017),0)","v":0},{"$f":"IFERROR($E80*SUMIF('Daily Log'!$BM$18:$BM$1017,$B80,'Daily Log'!$BN$18:$BN$1017),0)","v":0},{"$f":"IFERROR($E80*SUMIF('Daily Log'!$BP$18:$BP$1017,$B80,'Daily Log'!$BQ$18:$BQ$1017),0)","v":0},{"$f":"IFERROR($E80*SUMIF('Daily Log'!$BS$18:$BS$1017,$B80,'Daily Log'!$BT$18:$BT$1017),0)","v":0},{"$f":"IFERROR($E80*SUMIF('Daily Log'!$BV$18:$BV$1017,$B80,'Daily Log'!$BW$18:$BW$1017),0)","v":0},{"$f":"IFERROR($E80*SUMIF('Daily Log'!$BY$18:$BY$1017,$B80,'Daily Log'!$BZ$18:$BZ$1017),0)","v":0},{"$f":"IFERROR($E80*SUMIF('Daily Log'!$CB$18:$CB$1017,$B80,'Daily Log'!$CC$18:$CC$1017),0)","v":0},{"$f":"IFERROR($E80*SUMIF('Daily Log'!$CE$18:$CE$1017,$B80,'Daily Log'!$CF$18:$CF$1017),0)","v":0},{"$f":"IFERROR($E80*SUMIF('Daily Log'!$CH$18:$CH$1017,$B80,'Daily Log'!$CI$18:$CI$1017),0)","v":0},{"$f":"IFERROR($E80*SUMIF('Daily Log'!$CK$18:$CK$1017,$B80,'Daily Log'!$CL$18:$CL$1017),0)","v":0},{"$f":"IFERROR($E80*SUMIF('Daily Log'!$CN$18:$CN$1017,$B80,'Daily Log'!$CO$18:$CO$1017),0)","v":0}]
[null,"AB50 H:Student Mem",null,null,null,0,{"$f":"IFERROR($E81*SUMIF('Daily Log'!$B$18:$B$1017,$B81,'Daily Log'!$C$18:$C$1017),0)","v":0},{"$f":"IFERROR($E81*SUMIF('Daily Log'!$E$18:$E$1017,$B81,'Daily Log'!$F$18:$F$1017),0)","v":0},{"$f":"IFERROR($E81*SUMIF('Daily Log'!$H$18:$H$1017,$B81,'Daily Log'!$I$18:$I$1017),0)","v":0},{"$f":"IFERROR($E81*SUMIF('Daily Log'!$K$18:$K$1017,$B81,'Daily Log'!$L$18:$L$1017),0)","v":0},{"$f":"IFERROR($E81*SUMIF('Daily Log'!$N$18:$N$1017,$B81,'Daily Log'!$O$18:$O$1017),0)","v":0},{"$f":"IFERROR($E81*SUMIF('Daily Log'!$Q$18:$Q$1017,$B81,'Daily Log'!$R$18:$R$1017),0)","v":0},{"$f":"IFERROR($E81*SUMIF('Daily Log'!$T$18:$T$1017,$B81,'Daily Log'!$U$18:$U$1017),0)","v":0},{"$f":"IFERROR($E81*SUMIF('Daily Log'!$W$18:$W$1017,$B81,'Daily Log'!$X$18:$X$1017),0)","v":0},{"$f":"IFERROR($E81*SUMIF('Daily Log'!$Z$18:$Z$1017,$B81,'Daily Log'!$AA$18:$AA$1017),0)","v":0},{"$f":"IFERROR($E81*SUMIF('Daily Log'!$AC$18:$AC$1017,$B81,'Daily Log'!$AD$18:$AD$1017),0)","v":0},{"$f":"IFERROR($E81*SUMIF('Daily Log'!$AF$18:$AF$1017,$B81,'Daily Log'!$AG$18:$AG$1017),0)","v":0},{"$f":"IFERROR($E81*SUMIF('Daily Log'!$AI$18:$AI$1017,$B81,'Daily Log'!$AJ$18:$AJ$1017),0)","v":0},{"$f":"IFERROR($E81*SUMIF('Daily Log'!$AL$18:$AL$1017,$B81,'Daily Log'!$AM$18:$AM$1017),0)","v":0},{"$f":"IFERROR($E81*SUMIF('Daily Log'!$AO$18:$AO$1017,$B81,'Daily Log'!$AP$18:$AP$1017),0)","v":0},{"$f":"IFERROR($E81*SUMIF('Daily Log'!$AR$18:$AR$1017,$B81,'Daily Log'!$AS$18:$AS$1017),0)","v":0},{"$f":"IFERROR($E81*SUMIF('Daily Log'!$AU$18:$AU$1017,$B81,'Daily Log'!$AV$18:$AV$1017),0)","v":0},{"$f":"IFERROR($E81*SUMIF('Daily Log'!$AX$18:$AX$1017,$B81,'Daily Log'!$AY$18:$AY$1017),0)","v":0},{"$f":"IFERROR($E81*SUMIF('Daily Log'!$BA$18:$BA$1017,$B81,'Daily Log'!$BB$18:$BB$1017),0)","v":0},{"$f":"IFERROR($E81*SUMIF('Daily Log'!$BD$18:$BD$1017,$B81,'Daily Log'!$BE$18:$BE$1017),0)","v":0},{"$f":"IFERROR($E81*SUMIF('Daily Log'!$BG$18:$BG$1017,$B81,'Daily Log'!$BH$18:$BH$1017),0)","v":0},{"$f":"IFERROR($E81*SUMIF('Daily Log'!$BJ$18:$BJ$1017,$B81,'Daily Log'!$BK$18:$BK$1017),0)","v":0},{"$f":"IFERROR($E81*SUMIF('Daily Log'!$BM$18:$BM$1017,$B81,'Daily Log'!$BN$18:$BN$1017),0)","v":0},{"$f":"IFERROR($E81*SUMIF('Daily Log'!$BP$18:$BP$1017,$B81,'Daily Log'!$BQ$18:$BQ$1017),0)","v":0},{"$f":"IFERROR($E81*SUMIF('Daily Log'!$BS$18:$BS$1017,$B81,'Daily Log'!$BT$18:$BT$1017),0)","v":0},{"$f":"IFERROR($E81*SUMIF('Daily Log'!$BV$18:$BV$1017,$B81,'Daily Log'!$BW$18:$BW$1017),0)","v":0},{"$f":"IFERROR($E81*SUMIF('Daily Log'!$BY$18:$BY$1017,$B81,'Daily Log'!$BZ$18:$BZ$1017),0)","v":0},{"$f":"IFERROR($E81*SUMIF('Daily Log'!$CB$18:$CB$1017,$B81,'Daily Log'!$CC$18:$CC$1017),0)","v":0},{"$f":"IFERROR($E81*SUMIF('Daily Log'!$CE$18:$CE$1017,$B81,'Daily Log'!$CF$18:$CF$1017),0)","v":0},{"$f":"IFERROR($E81*SUMIF('Daily Log'!$CH$18:$CH$1017,$B81,'Daily Log'!$CI$18:$CI$1017),0)","v":0},{"$f":"IFERROR($E81*SUMIF('Daily Log'!$CK$18:$CK$1017,$B81,'Daily Log'!$CL$18:$CL$1017),0)","v":0},{"$f":"IFERROR($E81*SUMIF('Daily Log'!$CN$18:$CN$1017,$B81,'Daily Log'!$CO$18:$CO$1017),0)","v":0}]
[null,"AC01 N : REGULAR",null,null,null,0,{"$f":"IFERROR($E82*SUMIF('Daily Log'!$B$18:$B$1017,$B82,'Daily Log'!$C$18:$C$1017),0)","v":0},{"$f":"IFERROR($E82*SUMIF('Daily Log'!$E$18:$E$1017,$B82,'Daily Log'!$F$18:$F$1017),0)","v":0},{"$f":"IFERROR($E82*SUMIF('Daily Log'!$H$18:$H$1017,$B82,'Daily Log'!$I$18:$I$1017),0)","v":0},{"$f":"IFERROR($E82*SUMIF('Daily Log'!$K$18:$K$1017,$B82,'Daily Log'!$L$18:$L$1017),0)","v":0},{"$f":"IFERROR($E82*SUMIF('Daily Log'!$N$18:$N$1017,$B82,'Daily Log'!$O$18:$O$1017),0)","v":0},{"$f":"IFERROR($E82*SUMIF('Daily Log'!$Q$18:$Q$1017,$B82,'Daily Log'!$R$18:$R$1017),0)","v":0},{"$f":"IFERROR($E82*SUMIF('Daily Log'!$T$18:$T$1017,$B82,'Daily Log'!$U$18:$U$1017),0)","v":0},{"$f":"IFERROR($E82*SUMIF('Daily Log'!$W$18:$W$1017,$B82,'Daily Log'!$X$18:$X$1017),0)","v":0},{"$f":"IFERROR($E82*SUMIF('Daily Log'!$Z$18:$Z$1017,$B82,'Daily Log'!$AA$18:$AA$1017),0)","v":0},{"$f":"IFERROR($E82*SUMIF('Daily Log'!$AC$18:$AC$1017,$B82,'Daily Log'!$AD$18:$AD$1017),0)","v":0},{"$f":"IFERROR($E82*SUMIF('Daily Log'!$AF$18:$AF$1017,$B82,'Daily Log'!$AG$18:$AG$1017),0)","v":0},{"$f":"IFERROR($E82*SUMIF('Daily Log'!$AI$18:$AI$1017,$B82,'Daily Log'!$AJ$18:$AJ$1017),0)","v":0},{"$f":"IFERROR($E82*SUMIF('Daily Log'!$AL$18:$AL$1017,$B82,'Daily Log'!$AM$18:$AM$1017),0)","v":0},{"$f":"IFERROR($E82*SUMIF('Daily Log'!$AO$18:$AO$1017,$B82,'Daily Log'!$AP$18:$AP$1017),0)","v":0},{"$f":"IFERROR($E82*SUMIF('Daily Log'!$AR$18:$AR$1017,$B82,'Daily Log'!$AS$18:$AS$1017),0)","v":0},{"$f":"IFERROR($E82*SUMIF('Daily Log'!$AU$18:$AU$1017,$B82,'Daily Log'!$AV$18:$AV$1017),0)","v":0},{"$f":"IFERROR($E82*SUMIF('Daily Log'!$AX$18:$AX$1017,$B82,'Daily Log'!$AY$18:$AY$1017),0)","v":0},{"$f":"IFERROR($E82*SUMIF('Daily Log'!$BA$18:$BA$1017,$B82,'Daily Log'!$BB$18:$BB$1017),0)","v":0},{"$f":"IFERROR($E82*SUMIF('Daily Log'!$BD$18:$BD$1017,$B82,'Daily Log'!$BE$18:$BE$1017),0)","v":0},{"$f":"IFERROR($E82*SUMIF('Daily Log'!$BG$18:$BG$1017,$B82,'Daily Log'!$BH$18:$BH$1017),0)","v":0},{"$f":"IFERROR($E82*SUMIF('Daily Log'!$BJ$18:$BJ$1017,$B82,'Daily Log'!$BK$18:$BK$1017),0)","v":0},{"$f":"IFERROR($E82*SUMIF('Daily Log'!$BM$18:$BM$1017,$B82,'Daily Log'!$BN$18:$BN$1017),0)","v":0},{"$f":"IFERROR($E82*SUMIF('Daily Log'!$BP$18:$BP$1017,$B82,'Daily Log'!$BQ$18:$BQ$1017),0)","v":0},{"$f":"IFERROR($E82*SUMIF('Daily Log'!$BS$18:$BS$1017,$B82,'Daily Log'!$BT$18:$BT$1017),0)","v":0},{"$f":"IFERROR($E82*SUMIF('Daily Log'!$BV$18:$BV$1017,$B82,'Daily Log'!$BW$18:$BW$1017),0)","v":0},{"$f":"IFERROR($E82*SUMIF('Daily Log'!$BY$18:$BY$1017,$B82,'Daily Log'!$BZ$18:$BZ$1017),0)","v":0},{"$f":"IFERROR($E82*SUMIF('Daily Log'!$CB$18:$CB$1017,$B82,'Daily Log'!$CC$18:$CC$1017),0)","v":0},{"$f":"IFERROR($E82*SUMIF('Daily Log'!$CE$18:$CE$1017,$B82,'Daily Log'!$CF$18:$CF$1017),0)","v":0},{"$f":"IFERROR($E82*SUMIF('Daily Log'!$CH$18:$CH$1017,$B82,'Daily Log'!$CI$18:$CI$1017),0)","v":0},{"$f":"IFERROR($E82*SUMIF('Daily Log'!$CK$18:$CK$1017,$B82,'Daily Log'!$CL$18:$CL$1017),0)","v":0},{"$f":"IFERROR($E82*SUMIF('Daily Log'!$CN$18:$CN$1017,$B82,'Daily Log'!$CO$18:$CO$1017),0)","v":0}]
[null,"AC02 N : MEMBER",null,null,null,0,{"$f":"IFERROR($E83*SUMIF('Daily Log'!$B$18:$B$1017,$B83,'Daily Log'!$C$18:$C$1017),0)","v":0},{"$f":"IFERROR($E83*SUMIF('Daily Log'!$E$18:$E$1017,$B83,'Daily Log'!$F$18:$F$1017),0)","v":0},{"$f":"IFERROR($E83*SUMIF('Daily Log'!$H$18:$H$1017,$B83,'Daily Log'!$I$18:$I$1017),0)","v":0},{"$f":"IFERROR($E83*SUMIF('Daily Log'!$K$18:$K$1017,$B83,'Daily Log'!$L$18:$L$1017),0)","v":0},{"$f":"IFERROR($E83*SUMIF('Daily Log'!$N$18:$N$1017,$B83,'Daily Log'!$O$18:$O$1017),0)","v":0},{"$f":"IFERROR($E83*SUMIF('Daily Log'!$Q$18:$Q$1017,$B83,'Daily Log'!$R$18:$R$1017),0)","v":0},{"$f":"IFERROR($E83*SUMIF('Daily Log'!$T$18:$T$1017,$B83,'Daily Log'!$U$18:$U$1017),0)","v":0},{"$f":"IFERROR($E83*SUMIF('Daily Log'!$W$18:$W$1017,$B83,'Daily Log'!$X$18:$X$1017),0)","v":0},{"$f":"IFERROR($E83*SUMIF('Daily Log'!$Z$18:$Z$1017,$B83,'Daily Log'!$AA$18:$AA$1017),0)","v":0},{"$f":"IFERROR($E83*SUMIF('Daily Log'!$AC$18:$AC$1017,$B83,'Daily Log'!$AD$18:$AD$1017),0)","v":0},{"$f":"IFERROR($E83*SUMIF('Daily Log'!$AF$18:$AF$1017,$B83,'Daily Log'!$AG$18:$AG$1017),0)","v":0},{"$f":"IFERROR($E83*SUMIF('Daily Log'!$AI$18:$AI$1017,$B83,'Daily Log'!$AJ$18:$AJ$1017),0)","v":0},{"$f":"IFERROR($E83*SUMIF('Daily Log'!$AL$18:$AL$1017,$B83,'Daily Log'!$AM$18:$AM$1017),0)","v":0},{"$f":"IFERROR($E83*SUMIF('Daily Log'!$AO$18:$AO$1017,$B83,'Daily Log'!$AP$18:$AP$1017),0)","v":0},{"$f":"IFERROR($E83*SUMIF('Daily Log'!$AR$18:$AR$1017,$B83,'Daily Log'!$AS$18:$AS$1017),0)","v":0},{"$f":"IFERROR($E83*SUMIF('Daily Log'!$AU$18:$AU$1017,$B83,'Daily Log'!$AV$18:$AV$1017),0)","v":0},{"$f":"IFERROR($E83*SUMIF('Daily Log'!$AX$18:$AX$1017,$B83,'Daily Log'!$AY$18:$AY$1017),0)","v":0},{"$f":"IFERROR($E83*SUMIF('Daily Log'!$BA$18:$BA$1017,$B83,'Daily Log'!$BB$18:$BB$1017),0)","v":0},{"$f":"IFERROR($E83*SUMIF('Daily Log'!$BD$18:$BD$1017,$B83,'Daily Log'!$BE$18:$BE$1017),0)","v":0},{"$f":"IFERROR($E83*SUMIF('Daily Log'!$BG$18:$BG$1017,$B83,'Daily Log'!$BH$18:$BH$1017),0)","v":0},{"$f":"IFERROR($E83*SUMIF('Daily Log'!$BJ$18:$BJ$1017,$B83,'Daily Log'!$BK$18:$BK$1017),0)","v":0},{"$f":"IFERROR($E83*SUMIF('Daily Log'!$BM$18:$BM$1017,$B83,'Daily Log'!$BN$18:$BN$1017),0)","v":0},{"$f":"IFERROR($E83*SUMIF('Daily Log'!$BP$18:$BP$1017,$B83,'Daily Log'!$BQ$18:$BQ$1017),0)","v":0},{"$f":"IFERROR($E83*SUMIF('Daily Log'!$BS$18:$BS$1017,$B83,'Daily Log'!$BT$18:$BT$1017),0)","v":0},{"$f":"IFERROR($E83*SUMIF('Daily Log'!$BV$18:$BV$1017,$B83,'Daily Log'!$BW$18:$BW$1017),0)","v":0},{"$f":"IFERROR($E83*SUMIF('Daily Log'!$BY$18:$BY$1017,$B83,'Daily Log'!$BZ$18:$BZ$1017),0)","v":0},{"$f":"IFERROR($E83*SUMIF('Daily Log'!$CB$18:$CB$1017,$B83,'Daily Log'!$CC$18:$CC$1017),0)","v":0},{"$f":"IFERROR($E83*SUMIF('Daily Log'!$CE$18:$CE$1017,$B83,'Daily Log'!$CF$18:$CF$1017),0)","v":0},{"$f":"IFERROR($E83*SUMIF('Daily Log'!$CH$18:$CH$1017,$B83,'Daily Log'!$CI$18:$CI$1017),0)","v":0},{"$f":"IFERROR($E83*SUMIF('Daily Log'!$CK$18:$CK$1017,$B83,'Daily Log'!$CL$18:$CL$1017),0)","v":0},{"$f":"IFERROR($E83*SUMIF('Daily Log'!$CN$18:$CN$1017,$B83,'Daily Log'!$CO$18:$CO$1017),0)","v":0}]
[null,"AC03 N : MEMBER 30%",null,null,null,0,{"$f":"IFERROR($E84*SUMIF('Daily Log'!$B$18:$B$1017,$B84,'Daily Log'!$C$18:$C$1017),0)","v":0},{"$f":"IFERROR($E84*SUMIF('Daily Log'!$E$18:$E$1017,$B84,'Daily Log'!$F$18:$F$1017),0)","v":0},{"$f":"IFERROR($E84*SUMIF('Daily Log'!$H$18:$H$1017,$B84,'Daily Log'!$I$18:$I$1017),0)","v":0},{"$f":"IFERROR($E84*SUMIF('Daily Log'!$K$18:$K$1017,$B84,'Daily Log'!$L$18:$L$1017),0)","v":0},{"$f":"IFERROR($E84*SUMIF('Daily Log'!$N$18:$N$1017,$B84,'Daily Log'!$O$18:$O$1017),0)","v":0},{"$f":"IFERROR($E84*SUMIF('Daily Log'!$Q$18:$Q$1017,$B84,'Daily Log'!$R$18:$R$1017),0)","v":0},{"$f":"IFERROR($E84*SUMIF('Daily Log'!$T$18:$T$1017,$B84,'Daily Log'!$U$18:$U$1017),0)","v":0},{"$f":"IFERROR($E84*SUMIF('Daily Log'!$W$18:$W$1017,$B84,'Daily Log'!$X$18:$X$1017),0)","v":0},{"$f":"IFERROR($E84*SUMIF('Daily Log'!$Z$18:$Z$1017,$B84,'Daily Log'!$AA$18:$AA$1017),0)","v":0},{"$f":"IFERROR($E84*SUMIF('Daily Log'!$AC$18:$AC$1017,$B84,'Daily Log'!$AD$18:$AD$1017),0)","v":0},{"$f":"IFERROR($E84*SUMIF('Daily Log'!$AF$18:$AF$1017,$B84,'Daily Log'!$AG$18:$AG$1017),0)","v":0},{"$f":"IFERROR($E84*SUMIF('Daily Log'!$AI$18:$AI$1017,$B84,'Daily Log'!$AJ$18:$AJ$1017),0)","v":0},{"$f":"IFERROR($E84*SUMIF('Daily Log'!$AL$18:$AL$1017,$B84,'Daily Log'!$AM$18:$AM$1017),0)","v":0},{"$f":"IFERROR($E84*SUMIF('Daily Log'!$AO$18:$AO$1017,$B84,'Daily Log'!$AP$18:$AP$1017),0)","v":0},{"$f":"IFERROR($E84*SUMIF('Daily Log'!$AR$18:$AR$1017,$B84,'Daily Log'!$AS$18:$AS$1017),0)","v":0},{"$f":"IFERROR($E84*SUMIF('Daily Log'!$AU$18:$AU$1017,$B84,'Daily Log'!$AV$18:$AV$1017),0)","v":0},{"$f":"IFERROR($E84*SUMIF('Daily Log'!$AX$18:$AX$1017,$B84,'Daily Log'!$AY$18:$AY$1017),0)","v":0},{"$f":"IFERROR($E84*SUMIF('Daily Log'!$BA$18:$BA$1017,$B84,'Daily Log'!$BB$18:$BB$1017),0)","v":0},{"$f":"IFERROR($E84*SUMIF('Daily Log'!$BD$18:$BD$1017,$B84,'Daily Log'!$BE$18:$BE$1017),0)","v":0},{"$f":"IFERROR($E84*SUMIF('Daily Log'!$BG$18:$BG$1017,$B84,'Daily Log'!$BH$18:$BH$1017),0)","v":0},{"$f":"IFERROR($E84*SUMIF('Daily Log'!$BJ$18:$BJ$1017,$B84,'Daily Log'!$BK$18:$BK$1017),0)","v":0},{"$f":"IFERROR($E84*SUMIF('Daily Log'!$BM$18:$BM$1017,$B84,'Daily Log'!$BN$18:$BN$1017),0)","v":0},{"$f":"IFERROR($E84*SUMIF('Daily Log'!$BP$18:$BP$1017,$B84,'Daily Log'!$BQ$18:$BQ$1017),0)","v":0},{"$f":"IFERROR($E84*SUMIF('Daily Log'!$BS$18:$BS$1017,$B84,'Daily Log'!$BT$18:$BT$1017),0)","v":0},{"$f":"IFERROR($E84*SUMIF('Daily Log'!$BV$18:$BV$1017,$B84,'Daily Log'!$BW$18:$BW$1017),0)","v":0},{"$f":"IFERROR($E84*SUMIF('Daily Log'!$BY$18:$BY$1017,$B84,'Daily Log'!$BZ$18:$BZ$1017),0)","v":0},{"$f":"IFERROR($E84*SUMIF('Daily Log'!$CB$18:$CB$1017,$B84,'Daily Log'!$CC$18:$CC$1017),0)","v":0},{"$f":"IFERROR($E84*SUMIF('Daily Log'!$CE$18:$CE$1017,$B84,'Daily Log'!$CF$18:$CF$1017),0)","v":0},{"$f":"IFERROR($E84*SUMIF('Daily Log'!$CH$18:$CH$1017,$B84,'Daily Log'!$CI$18:$CI$1017),0)","v":0},{"$f":"IFERROR($E84*SUMIF('Daily Log'!$CK$18:$CK$1017,$B84,'Daily Log'!$CL$18:$CL$1017),0)","v":0},{"$f":"IFERROR($E84*SUMIF('Daily Log'!$CN$18:$CN$1017,$B84,'Daily Log'!$CO$18:$CO$1017),0)","v":0}]
[null,"AC04 N : CARI MEMBER",null,null,null,0,{"$f":"IFERROR($E85*SUMIF('Daily Log'!$B$18:$B$1017,$B85,'Daily Log'!$C$18:$C$1017),0)","v":0},{"$f":"IFERROR($E85*SUMIF('Daily Log'!$E$18:$E$1017,$B85,'Daily Log'!$F$18:$F$1017),0)","v":0},{"$f":"IFERROR($E85*SUMIF('Daily Log'!$H$18:$H$1017,$B85,'Daily Log'!$I$18:$I$1017),0)","v":0},{"$f":"IFERROR($E85*SUMIF('Daily Log'!$K$18:$K$1017,$B85,'Daily Log'!$L$18:$L$1017),0)","v":0},{"$f":"IFERROR($E85*SUMIF('Daily Log'!$N$18:$N$1017,$B85,'Daily Log'!$O$18:$O$1017),0)","v":0},{"$f":"IFERROR($E85*SUMIF('Daily Log'!$Q$18:$Q$1017,$B85,'Daily Log'!$R$18:$R$1017),0)","v":0},{"$f":"IFERROR($E85*SUMIF('Daily Log'!$T$18:$T$1017,$B85,'Daily Log'!$U$18:$U$1017),0)","v":0},{"$f":"IFERROR($E85*SUMIF('Daily Log'!$W$18:$W$1017,$B85,'Daily Log'!$X$18:$X$1017),0)","v":0},{"$f":"IFERROR($E85*SUMIF('Daily Log'!$Z$18:$Z$1017,$B85,'Daily Log'!$AA$18:$AA$1017),0)","v":0},{"$f":"IFERROR($E85*SUMIF('Daily Log'!$AC$18:$AC$1017,$B85,'Daily Log'!$AD$18:$AD$1017),0)","v":0},{"$f":"IFERROR($E85*SUMIF('Daily Log'!$AF$18:$AF$1017,$B85,'Daily Log'!$AG$18:$AG$1017),0)","v":0},{"$f":"IFERROR($E85*SUMIF('Daily Log'!$AI$18:$AI$1017,$B85,'Daily Log'!$AJ$18:$AJ$1017),0)","v":0},{"$f":"IFERROR($E85*SUMIF('Daily Log'!$AL$18:$AL$1017,$B85,'Daily Log'!$AM$18:$AM$1017),0)","v":0},{"$f":"IFERROR($E85*SUMIF('Daily Log'!$AO$18:$AO$1017,$B85,'Daily Log'!$AP$18:$AP$1017),0)","v":0},{"$f":"IFERROR($E85*SUMIF('Daily Log'!$AR$18:$AR$1017,$B85,'Daily Log'!$AS$18:$AS$1017),0)","v":0},{"$f":"IFERROR($E85*SUMIF('Daily Log'!$AU$18:$AU$1017,$B85,'Daily Log'!$AV$18:$AV$1017),0)","v":0},{"$f":"IFERROR($E85*SUMIF('Daily Log'!$AX$18:$AX$1017,$B85,'Daily Log'!$AY$18:$AY$1017),0)","v":0},{"$f":"IFERROR($E85*SUMIF('Daily Log'!$BA$18:$BA$1017,$B85,'Daily Log'!$BB$18:$BB$1017),0)","v":0},{"$f":"IFERROR($E85*SUMIF('Daily Log'!$BD$18:$BD$1017,$B85,'Daily Log'!$BE$18:$BE$1017),0)","v":0},{"$f":"IFERROR($E85*SUMIF('Daily Log'!$BG$18:$BG$1017,$B85,'Daily Log'!$BH$18:$BH$1017),0)","v":0},{"$f":"IFERROR($E85*SUMIF('Daily Log'!$BJ$18:$BJ$1017,$B85,'Daily Log'!$BK$18:$BK$1017),0)","v":0},{"$f":"IFERROR($E85*SUMIF('Daily Log'!$BM$18:$BM$1017,$B85,'Daily Log'!$BN$18:$BN$1017),0)","v":0},{"$f":"IFERROR($E85*SUMIF('Daily Log'!$BP$18:$BP$1017,$B85,'Daily Log'!$BQ$18:$BQ$1017),0)","v":0},{"$f":"IFERROR($E85*SUMIF('Daily Log'!$BS$18:$BS$1017,$B85,'Daily Log'!$BT$18:$BT$1017),0)","v":0},{"$f":"IFERROR($E85*SUMIF('Daily Log'!$BV$18:$BV$1017,$B85,'Daily Log'!$BW$18:$BW$1017),0)","v":0},{"$f":"IFERROR($E85*SUMIF('Daily Log'!$BY$18:$BY$1017,$B85,'Daily Log'!$BZ$18:$BZ$1017),0)","v":0},{"$f":"IFERROR($E85*SUMIF('Daily Log'!$CB$18:$CB$1017,$B85,'Daily Log'!$CC$18:$CC$1017),0)","v":0},{"$f":"IFERROR($E85*SUMIF('Daily Log'!$CE$18:$CE$1017,$B85,'Daily Log'!$CF$18:$CF$1017),0)","v":0},{"$f":"IFERROR($E85*SUMIF('Daily Log'!$CH$18:$CH$1017,$B85,'Daily Log'!$CI$18:$CI$1017),0)","v":0},{"$f":"IFERROR($E85*SUMIF('Daily Log'!$CK$18:$CK$1017,$B85,'Daily Log'!$CL$18:$CL$1017),0)","v":0},{"$f":"IFERROR($E85*SUMIF('Daily Log'!$CN$18:$CN$1017,$B85,'Daily Log'!$CO$18:$CO$1017),0)","v":0}]
[null,"AC05 K-DINNER",null,null,null,0,{"$f":"IFERROR($E86*SUMIF('Daily Log'!$B$18:$B$1017,$B86,'Daily Log'!$C$18:$C$1017),0)","v":0},{"$f":"IFERROR($E86*SUMIF('Daily Log'!$E$18:$E$1017,$B86,'Daily Log'!$F$18:$F$1017),0)","v":0},{"$f":"IFERROR($E86*SUMIF('Daily Log'!$H$18:$H$1017,$B86,'Daily Log'!$I$18:$I$1017),0)","v":0},{"$f":"IFERROR($E86*SUMIF('Daily Log'!$K$18:$K$1017,$B86,'Daily Log'!$L$18:$L$1017),0)","v":0},{"$f":"IFERROR($E86*SUMIF('Daily Log'!$N$18:$N$1017,$B86,'Daily Log'!$O$18:$O$1017),0)","v":0},{"$f":"IFERROR($E86*SUMIF('Daily Log'!$Q$18:$Q$1017,$B86,'Daily Log'!$R$18:$R$1017),0)","v":0},{"$f":"IFERROR($E86*SUMIF('Daily Log'!$T$18:$T$1017,$B86,'Daily Log'!$U$18:$U$1017),0)","v":0},{"$f":"IFERROR($E86*SUMIF('Daily Log'!$W$18:$W$1017,$B86,'Daily Log'!$X$18:$X$1017),0)","v":0},{"$f":"IFERROR($E86*SUMIF('Daily Log'!$Z$18:$Z$1017,$B86,'Daily Log'!$AA$18:$AA$1017),0)","v":0},{"$f":"IFERROR($E86*SUMIF('Daily Log'!$AC$18:$AC$1017,$B86,'Daily Log'!$AD$18:$AD$1017),0)","v":0},{"$f":"IFERROR($E86*SUMIF('Daily Log'!$AF$18:$AF$1017,$B86,'Daily Log'!$AG$18:$AG$1017),0)","v":0},{"$f":"IFERROR($E86*SUMIF('Daily Log'!$AI$18:$AI$1017,$B86,'Daily Log'!$AJ$18:$AJ$1017),0)","v":0},{"$f":"IFERROR($E86*SUMIF('Daily Log'!$AL$18:$AL$1017,$B86,'Daily Log'!$AM$18:$AM$1017),0)","v":0},{"$f":"IFERROR($E86*SUMIF('Daily Log'!$AO$18:$AO$1017,$B86,'Daily Log'!$AP$18:$AP$1017),0)","v":0},{"$f":"IFERROR($E86*SUMIF('Daily Log'!$AR$18:$AR$1017,$B86,'Daily Log'!$AS$18:$AS$1017),0)","v":0},{"$f":"IFERROR($E86*SUMIF('Daily Log'!$AU$18:$AU$1017,$B86,'Daily Log'!$AV$18:$AV$1017),0)","v":0},{"$f":"IFERROR($E86*SUMIF('Daily Log'!$AX$18:$AX$1017,$B86,'Daily Log'!$AY$18:$AY$1017),0)","v":0},{"$f":"IFERROR($E86*SUMIF('Daily Log'!$BA$18:$BA$1017,$B86,'Daily Log'!$BB$18:$BB$1017),0)","v":0},{"$f":"IFERROR($E86*SUMIF('Daily Log'!$BD$18:$BD$1017,$B86,'Daily Log'!$BE$18:$BE$1017),0)","v":0},{"$f":"IFERROR($E86*SUMIF('Daily Log'!$BG$18:$BG$1017,$B86,'Daily Log'!$BH$18:$BH$1017),0)","v":0},{"$f":"IFERROR($E86*SUMIF('Daily Log'!$BJ$18:$BJ$1017,$B86,'Daily Log'!$BK$18:$BK$1017),0)","v":0},{"$f":"IFERROR($E86*SUMIF('Daily Log'!$BM$18:$BM$1017,$B86,'Daily Log'!$BN$18:$BN$1017),0)","v":0},{"$f":"IFERROR($E86*SUMIF('Daily Log'!$BP$18:$BP$1017,$B86,'Daily Log'!$BQ$18:$BQ$1017),0)","v":0},{"$f":"IFERROR($E86*SUMIF('Daily Log'!$BS$18:$BS$1017,$B86,'Daily Log'!$BT$18:$BT$1017),0)","v":0},{"$f":"IFERROR($E86*SUMIF('Daily Log'!$BV$18:$BV$1017,$B86,'Daily Log'!$BW$18:$BW$1017),0)","v":0},{"$f":"IFERROR($E86*SUMIF('Daily Log'!$BY$18:$BY$1017,$B86,'Daily Log'!$BZ$18:$BZ$1017),0)","v":0},{"$f":"IFERROR($E86*SUMIF('Daily Log'!$CB$18:$CB$1017,$B86,'Daily Log'!$CC$18:$CC$1017),0)","v":0},{"$f":"IFERROR($E86*SUMIF('Daily Log'!$CE$18:$CE$1017,$B86,'Daily Log'!$CF$18:$CF$1017),0)","v":0},{"$f":"IFERROR($E86*SUMIF('Daily Log'!$CH$18:$CH$1017,$B86,'Daily Log'!$CI$18:$CI$1017),0)","v":0},{"$f":"IFERROR($E86*SUMIF('Daily Log'!$CK$18:$CK$1017,$B86,'Daily Log'!$CL$18:$CL$1017),0)","v":0},{"$f":"IFERROR($E86*SUMIF('Daily Log'!$CN$18:$CN$1017,$B86,'Daily Log'!$CO$18:$CO$1017),0)","v":0}]
[null,"AC06 N : CHILDREN",null,null,null,0,{"$f":"IFERROR($E87*SUMIF('Daily Log'!$B$18:$B$1017,$B87,'Daily Log'!$C$18:$C$1017),0)","v":0},{"$f":"IFERROR($E87*SUMIF('Daily Log'!$E$18:$E$1017,$B87,'Daily Log'!$F$18:$F$1017),0)","v":0},{"$f":"IFERROR($E87*SUMIF('Daily Log'!$H$18:$H$1017,$B87,'Daily Log'!$I$18:$I$1017),0)","v":0},{"$f":"IFERROR($E87*SUMIF('Daily Log'!$K$18:$K$1017,$B87,'Daily Log'!$L$18:$L$1017),0)","v":0},{"$f":"IFERROR($E87*SUMIF('Daily Log'!$N$18:$N$1017,$B87,'Daily Log'!$O$18:$O$1017),0)","v":0},{"$f":"IFERROR($E87*SUMIF('Daily Log'!$Q$18:$Q$1017,$B87,'Daily Log'!$R$18:$R$1017),0)","v":0},{"$f":"IFERROR($E87*SUMIF('Daily Log'!$T$18:$T$1017,$B87,'Daily Log'!$U$18:$U$1017),0)","v":0},{"$f":"IFERROR($E87*SUMIF('Daily Log'!$W$18:$W$1017,$B87,'Daily Log'!$X$18:$X$1017),0)","v":0},{"$f":"IFERROR($E87*SUMIF('Daily Log'!$Z$18:$Z$1017,$B87,'Daily Log'!$AA$18:$AA$1017),0)","v":0},{"$f":"IFERROR($E87*SUMIF('Daily Log'!$AC$18:$AC$1017,$B87,'Daily Log'!$AD$18:$AD$1017),0)","v":0},{"$f":"IFERROR($E87*SUMIF('Daily Log'!$AF$18:$AF$1017,$B87,'Daily Log'!$AG$18:$AG$1017),0)","v":0},{"$f":"IFERROR($E87*SUMIF('Daily Log'!$AI$18:$AI$1017,$B87,'Daily Log'!$AJ$18:$AJ$1017),0)","v":0},{"$f":"IFERROR($E87*SUMIF('Daily Log'!$AL$18:$AL$1017,$B87,'Daily Log'!$AM$18:$AM$1017),0)","v":0},{"$f":"IFERROR($E87*SUMIF('Daily Log'!$AO$18:$AO$1017,$B87,'Daily Log'!$AP$18:$AP$1017),0)","v":0},{"$f":"IFERROR($E87*SUMIF('Daily Log'!$AR$18:$AR$1017,$B87,'Daily Log'!$AS$18:$AS$1017),0)","v":0},{"$f":"IFERROR($E87*SUMIF('Daily Log'!$AU$18:$AU$1017,$B87,'Daily Log'!$AV$18:$AV$1017),0)","v":0},{"$f":"IFERROR($E87*SUMIF('Daily Log'!$AX$18:$AX$1017,$B87,'Daily Log'!$AY$18:$AY$1017),0)","v":0},{"$f":"IFERROR($E87*SUMIF('Daily Log'!$BA$18:$BA$1017,$B87,'Daily Log'!$BB$18:$BB$1017),0)","v":0},{"$f":"IFERROR($E87*SUMIF('Daily Log'!$BD$18:$BD$1017,$B87,'Daily Log'!$BE$18:$BE$1017),0)","v":0},{"$f":"IFERROR($E87*SUMIF('Daily Log'!$BG$18:$BG$1017,$B87,'Daily Log'!$BH$18:$BH$1017),0)","v":0},{"$f":"IFERROR($E87*SUMIF('Daily Log'!$BJ$18:$BJ$1017,$B87,'Daily Log'!$BK$18:$BK$1017),0)","v":0},{"$f":"IFERROR($E87*SUMIF('Daily Log'!$BM$18:$BM$1017,$B87,'Daily Log'!$BN$18:$BN$1017),0)","v":0},{"$f":"IFERROR($E87*SUMIF('Daily Log'!$BP$18:$BP$1017,$B87,'Daily Log'!$BQ$18:$BQ$1017),0)","v":0},{"$f":"IFERROR($E87*SUMIF('Daily Log'!$BS$18:$BS$1017,$B87,'Daily Log'!$BT$18:$BT$1017),0)","v":0},{"$f":"IFERROR($E87*SUMIF('Daily Log'!$BV$18:$BV$1017,$B87,'Daily Log'!$BW$18:$BW$1017),0)","v":0},{"$f":"IFERROR($E87*SUMIF('Daily Log'!$BY$18:$BY$1017,$B87,'Daily Log'!$BZ$18:$BZ$1017),0)","v":0},{"$f":"IFERROR($E87*SUMIF('Daily Log'!$CB$18:$CB$1017,$B87,'Daily Log'!$CC$18:$CC$1017),0)","v":0},{"$f":"IFERROR($E87*SUMIF('Daily Log'!$CE$18:$CE$1017,$B87,'Daily Log'!$CF$18:$CF$1017),0)","v":0},{"$f":"IFERROR($E87*SUMIF('Daily Log'!$CH$18:$CH$1017,$B87,'Daily Log'!$CI$18:$CI$1017),0)","v":0},{"$f":"IFERROR($E87*SUMIF('Daily Log'!$CK$18:$CK$1017,$B87,'Daily Log'!$CL$18:$CL$1017),0)","v":0},{"$f":"IFERROR($E87*SUMIF('Daily Log'!$CN$18:$CN$1017,$B87,'Daily Log'!$CO$18:$CO$1017),0)","v":0}]
[null,"AC07 N : MEMBER B'DAY",null,null,null,0,{"$f":"IFERROR($E88*SUMIF('Daily Log'!$B$18:$B$1017,$B88,'Daily Log'!$C$18:$C$1017),0)","v":0},{"$f":"IFERROR($E88*SUMIF('Daily Log'!$E$18:$E$1017,$B88,'Daily Log'!$F$18:$F$1017),0)","v":0},{"$f":"IFERROR($E88*SUMIF('Daily Log'!$H$18:$H$1017,$B88,'Daily Log'!$I$18:$I$1017),0)","v":0},{"$f":"IFERROR($E88*SUMIF('Daily Log'!$K$18:$K$1017,$B88,'Daily Log'!$L$18:$L$1017),0)","v":0},{"$f":"IFERROR($E88*SUMIF('Daily Log'!$N$18:$N$1017,$B88,'Daily Log'!$O$18:$O$1017),0)","v":0},{"$f":"IFERROR($E88*SUMIF('Daily Log'!$Q$18:$Q$1017,$B88,'Daily Log'!$R$18:$R$1017),0)","v":0},{"$f":"IFERROR($E88*SUMIF('Daily Log'!$T$18:$T$1017,$B88,'Daily Log'!$U$18:$U$1017),0)","v":0},{"$f":"IFERROR($E88*SUMIF('Daily Log'!$W$18:$W$1017,$B88,'Daily Log'!$X$18:$X$1017),0)","v":0},{"$f":"IFERROR($E88*SUMIF('Daily Log'!$Z$18:$Z$1017,$B88,'Daily Log'!$AA$18:$AA$1017),0)","v":0},{"$f":"IFERROR($E88*SUMIF('Daily Log'!$AC$18:$AC$1017,$B88,'Daily Log'!$AD$18:$AD$1017),0)","v":0},{"$f":"IFERROR($E88*SUMIF('Daily Log'!$AF$18:$AF$1017,$B88,'Daily Log'!$AG$18:$AG$1017),0)","v":0},{"$f":"IFERROR($E88*SUMIF('Daily Log'!$AI$18:$AI$1017,$B88,'Daily Log'!$AJ$18:$AJ$1017),0)","v":0},{"$f":"IFERROR($E88*SUMIF('Daily Log'!$AL$18:$AL$1017,$B88,'Daily Log'!$AM$18:$AM$1017),0)","v":0},{"$f":"IFERROR($E88*SUMIF('Daily Log'!$AO$18:$AO$1017,$B88,'Daily Log'!$AP$18:$AP$1017),0)","v":0},{"$f":"IFERROR($E88*SUMIF('Daily Log'!$AR$18:$AR$1017,$B88,'Daily Log'!$AS$18:$AS$1017),0)","v":0},{"$f":"IFERROR($E88*SUMIF('Daily Log'!$AU$18:$AU$1017,$B88,'Daily Log'!$AV$18:$AV$1017),0)","v":0},{"$f":"IFERROR($E88*SUMIF('Daily Log'!$AX$18:$AX$1017,$B88,'Daily Log'!$AY$18:$AY$1017),0)","v":0},{"$f":"IFERROR($E88*SUMIF('Daily Log'!$BA$18:$BA$1017,$B88,'Daily Log'!$BB$18:$BB$1017),0)","v":0},{"$f":"IFERROR($E88*SUMIF('Daily Log'!$BD$18:$BD$1017,$B88,'Daily Log'!$BE$18:$BE$1017),0)","v":0},{"$f":"IFERROR($E88*SUMIF('Daily Log'!$BG$18:$BG$1017,$B88,'Daily Log'!$BH$18:$BH$1017),0)","v":0},{"$f":"IFERROR($E88*SUMIF('Daily Log'!$BJ$18:$BJ$1017,$B88,'Daily Log'!$BK$18:$BK$1017),0)","v":0},{"$f":"IFERROR($E88*SUMIF('Daily Log'!$BM$18:$BM$1017,$B88,'Daily Log'!$BN$18:$BN$1017),0)","v":0},{"$f":"IFERROR($E88*SUMIF('Daily Log'!$BP$18:$BP$1017,$B88,'Daily Log'!$BQ$18:$BQ$1017),0)","v":0},{"$f":"IFERROR($E88*SUMIF('Daily Log'!$BS$18:$BS$1017,$B88,'Daily Log'!$BT$18:$BT$1017),0)","v":0},{"$f":"IFERROR($E88*SUMIF('Daily Log'!$BV$18:$BV$1017,$B88,'Daily Log'!$BW$18:$BW$1017),0)","v":0},{"$f":"IFERROR($E88*SUMIF('Daily Log'!$BY$18:$BY$1017,$B88,'Daily Log'!$BZ$18:$BZ$1017),0)","v":0},{"$f":"IFERROR($E88*SUMIF('Daily Log'!$CB$18:$CB$1017,$B88,'Daily Log'!$CC$18:$CC$1017),0)","v":0},{"$f":"IFERROR($E88*SUMIF('Daily Log'!$CE$18:$CE$1017,$B88,'Daily Log'!$CF$18:$CF$1017),0)","v":0},{"$f":"IFERROR($E88*SUMIF('Daily Log'!$CH$18:$CH$1017,$B88,'Daily Log'!$CI$18:$CI$1017),0)","v":0},{"$f":"IFERROR($E88*SUMIF('Daily Log'!$CK$18:$CK$1017,$B88,'Daily Log'!$CL$18:$CL$1017),0)","v":0},{"$f":"IFERROR($E88*SUMIF('Daily Log'!$CN$18:$CN$1017,$B88,'Daily Log'!$CO$18:$CO$1017),0)","v":0}]
[null,"AC08 N : STAFF B'DAY",null,null,null,0,{"$f":"IFERROR($E89*SUMIF('Daily Log'!$B$18:$B$1017,$B89,'Daily Log'!$C$18:$C$1017),0)","v":0},{"$f":"IFERROR($E89*SUMIF('Daily Log'!$E$18:$E$1017,$B89,'Daily Log'!$F$18:$F$1017),0)","v":0},{"$f":"IFERROR($E89*SUMIF('Daily Log'!$H$18:$H$1017,$B89,'Daily Log'!$I$18:$I$1017),0)","v":0},{"$f":"IFERROR($E89*SUMIF('Daily Log'!$K$18:$K$1017,$B89,'Daily Log'!$L$18:$L$1017),0)","v":0},{"$f":"IFERROR($E89*SUMIF('Daily Log'!$N$18:$N$1017,$B89,'Daily Log'!$O$18:$O$1017),0)","v":0},{"$f":"IFERROR($E89*SUMIF('Daily Log'!$Q$18:$Q$1017,$B89,'Daily Log'!$R$18:$R$1017),0)","v":0},{"$f":"IFERROR($E89*SUMIF('Daily Log'!$T$18:$T$1017,$B89,'Daily Log'!$U$18:$U$1017),0)","v":0},{"$f":"IFERROR($E89*SUMIF('Daily Log'!$W$18:$W$1017,$B89,'Daily Log'!$X$18:$X$1017),0)","v":0},{"$f":"IFERROR($E89*SUMIF('Daily Log'!$Z$18:$Z$1017,$B89,'Daily Log'!$AA$18:$AA$1017),0)","v":0},{"$f":"IFERROR($E89*SUMIF('Daily Log'!$AC$18:$AC$1017,$B89,'Daily Log'!$AD$18:$AD$1017),0)","v":0},{"$f":"IFERROR($E89*SUMIF('Daily Log'!$AF$18:$AF$1017,$B89,'Daily Log'!$AG$18:$AG$1017),0)","v":0},{"$f":"IFERROR($E89*SUMIF('Daily Log'!$AI$18:$AI$1017,$B89,'Daily Log'!$AJ$18:$AJ$1017),0)","v":0},{"$f":"IFERROR($E89*SUMIF('Daily Log'!$AL$18:$AL$1017,$B89,'Daily Log'!$AM$18:$AM$1017),0)","v":0},{"$f":"IFERROR($E89*SUMIF('Daily Log'!$AO$18:$AO$1017,$B89,'Daily Log'!$AP$18:$AP$1017),0)","v":0},{"$f":"IFERROR($E89*SUMIF('Daily Log'!$AR$18:$AR$1017,$B89,'Daily Log'!$AS$18:$AS$1017),0)","v":0},{"$f":"IFERROR($E89*SUMIF('Daily Log'!$AU$18:$AU$1017,$B89,'Daily Log'!$AV$18:$AV$1017),0)","v":0},{"$f":"IFERROR($E89*SUMIF('Daily Log'!$AX$18:$AX$1017,$B89,'Daily Log'!$AY$18:$AY$1017),0)","v":0},{"$f":"IFERROR($E89*SUMIF('Daily Log'!$BA$18:$BA$1017,$B89,'Daily Log'!$BB$18:$BB$1017),0)","v":0},{"$f":"IFERROR($E89*SUMIF('Daily Log'!$BD$18:$BD$1017,$B89,'Daily Log'!$BE$18:$BE$1017),0)","v":0},{"$f":"IFERROR($E89*SUMIF('Daily Log'!$BG$18:$BG$1017,$B89,'Daily Log'!$BH$18:$BH$1017),0)","v":0},{"$f":"IFERROR($E89*SUMIF('Daily Log'!$BJ$18:$BJ$1017,$B89,'Daily Log'!$BK$18:$BK$1017),0)","v":0},{"$f":"IFERROR($E89*SUMIF('Daily Log'!$BM$18:$BM$1017,$B89,'Daily Log'!$BN$18:$BN$1017),0)","v":0},{"$f":"IFERROR($E89*SUMIF('Daily Log'!$BP$18:$BP$1017,$B89,'Daily Log'!$BQ$18:$BQ$1017),0)","v":0},{"$f":"IFERROR($E89*SUMIF('Daily Log'!$BS$18:$BS$1017,$B89,'Daily Log'!$BT$18:$BT$1017),0)","v":0},{"$f":"IFERROR($E89*SUMIF('Daily Log'!$BV$18:$BV$1017,$B89,'Daily Log'!$BW$18:$BW$1017),0)","v":0},{"$f":"IFERROR($E89*SUMIF('Daily Log'!$BY$18:$BY$1017,$B89,'Daily Log'!$BZ$18:$BZ$1017),0)","v":0},{"$f":"IFERROR($E89*SUMIF('Daily Log'!$CB$18:$CB$1017,$B89,'Daily Log'!$CC$18:$CC$1017),0)","v":0},{"$f":"IFERROR($E89*SUMIF('Daily Log'!$CE$18:$CE$1017,$B89,'Daily Log'!$CF$18:$CF$1017),0)","v":0},{"$f":"IFERROR($E89*SUMIF('Daily Log'!$CH$18:$CH$1017,$B89,'Daily Log'!$CI$18:$CI$1017),0)","v":0},{"$f":"IFERROR($E89*SUMIF('Daily Log'!$CK$18:$CK$1017,$B89,'Daily Log'!$CL$18:$CL$1017),0)","v":0},{"$f":"IFERROR($E89*SUMIF('Daily Log'!$CN$18:$CN$1017,$B89,'Daily Log'!$CO$18:$CO$1017),0)","v":0}]
[null,"AC09 N : FOC HEAD",null,null,null,0,{"$f":"IFERROR($E90*SUMIF('Daily Log'!$B$18:$B$1017,$B90,'Daily Log'!$C$18:$C$1017),0)","v":0},{"$f":"IFERROR($E90*SUMIF('Daily Log'!$E$18:$E$1017,$B90,'Daily Log'!$F$18:$F$1017),0)","v":0},{"$f":"IFERROR($E90*SUMIF('Daily Log'!$H$18:$H$1017,$B90,'Daily Log'!$I$18:$I$1017),0)","v":0},{"$f":"IFERROR($E90*SUMIF('Daily Log'!$K$18:$K$1017,$B90,'Daily Log'!$L$18:$L$1017),0)","v":0},{"$f":"IFERROR($E90*SUMIF('Daily Log'!$N$18:$N$1017,$B90,'Daily Log'!$O$18:$O$1017),0)","v":0},{"$f":"IFERROR($E90*SUMIF('Daily Log'!$Q$18:$Q$1017,$B90,'Daily Log'!$R$18:$R$1017),0)","v":0},{"$f":"IFERROR($E90*SUMIF('Daily Log'!$T$18:$T$1017,$B90,'Daily Log'!$U$18:$U$1017),0)","v":0},{"$f":"IFERROR($E90*SUMIF('Daily Log'!$W$18:$W$1017,$B90,'Daily Log'!$X$18:$X$1017),0)","v":0},{"$f":"IFERROR($E90*SUMIF('Daily Log'!$Z$18:$Z$1017,$B90,'Daily Log'!$AA$18:$AA$1017),0)","v":0},{"$f":"IFERROR($E90*SUMIF('Daily Log'!$AC$18:$AC$1017,$B90,'Daily Log'!$AD$18:$AD$1017),0)","v":0},{"$f":"IFERROR($E90*SUMIF('Daily Log'!$AF$18:$AF$1017,$B90,'Daily Log'!$AG$18:$AG$1017),0)","v":0},{"$f":"IFERROR($E90*SUMIF('Daily Log'!$AI$18:$AI$1017,$B90,'Daily Log'!$AJ$18:$AJ$1017),0)","v":0},{"$f":"IFERROR($E90*SUMIF('Daily Log'!$AL$18:$AL$1017,$B90,'Daily Log'!$AM$18:$AM$1017),0)","v":0},{"$f":"IFERROR($E90*SUMIF('Daily Log'!$AO$18:$AO$1017,$B90,'Daily Log'!$AP$18:$AP$1017),0)","v":0},{"$f":"IFERROR($E90*SUMIF('Daily Log'!$AR$18:$AR$1017,$B90,'Daily Log'!$AS$18:$AS$1017),0)","v":0},{"$f":"IFERROR($E90*SUMIF('Daily Log'!$AU$18:$AU$1017,$B90,'Daily Log'!$AV$18:$AV$1017),0)","v":0},{"$f":"IFERROR($E90*SUMIF('Daily Log'!$AX$18:$AX$1017,$B90,'Daily Log'!$AY$18:$AY$1017),0)","v":0},{"$f":"IFERROR($E90*SUMIF('Daily Log'!$BA$18:$BA$1017,$B90,'Daily Log'!$BB$18:$BB$1017),0)","v":0},{"$f":"IFERROR($E90*SUMIF('Daily Log'!$BD$18:$BD$1017,$B90,'Daily Log'!$BE$18:$BE$1017),0)","v":0},{"$f":"IFERROR($E90*SUMIF('Daily Log'!$BG$18:$BG$1017,$B90,'Daily Log'!$BH$18:$BH$1017),0)","v":0},{"$f":"IFERROR($E90*SUMIF('Daily Log'!$BJ$18:$BJ$1017,$B90,'Daily Log'!$BK$18:$BK$1017),0)","v":0},{"$f":"IFERROR($E90*SUMIF('Daily Log'!$BM$18:$BM$1017,$B90,'Daily Log'!$BN$18:$BN$1017),0)","v":0},{"$f":"IFERROR($E90*SUMIF('Daily Log'!$BP$18:$BP$1017,$B90,'Daily Log'!$BQ$18:$BQ$1017),0)","v":0},{"$f":"IFERROR($E90*SUMIF('Daily Log'!$BS$18:$BS$1017,$B90,'Daily Log'!$BT$18:$BT$1017),0)","v":0},{"$f":"IFERROR($E90*SUMIF('Daily Log'!$BV$18:$BV$1017,$B90,'Daily Log'!$BW$18:$BW$1017),0)","v":0},{"$f":"IFERROR($E90*SUMIF('Daily Log'!$BY$18:$BY$1017,$B90,'Daily Log'!$BZ$18:$BZ$1017),0)","v":0},{"$f":"IFERROR($E90*SUMIF('Daily Log'!$CB$18:$CB$1017,$B90,'Daily Log'!$CC$18:$CC$1017),0)","v":0},{"$f":"IFERROR($E90*SUMIF('Daily Log'!$CE$18:$CE$1017,$B90,'Daily Log'!$CF$18:$CF$1017),0)","v":0},{"$f":"IFERROR($E90*SUMIF('Daily Log'!$CH$18:$CH$1017,$B90,'Daily Log'!$CI$18:$CI$1017),0)","v":0},{"$f":"IFERROR($E90*SUMIF('Daily Log'!$CK$18:$CK$1017,$B90,'Daily Log'!$CL$18:$CL$1017),0)","v":0},{"$f":"IFERROR($E90*SUMIF('Daily Log'!$CN$18:$CN$1017,$B90,'Daily Log'!$CO$18:$CO$1017),0)","v":0}]
[null,"AC10 N : FREEHEAD (B)",null,null,null,0,{"$f":"IFERROR($E91*SUMIF('Daily Log'!$B$18:$B$1017,$B91,'Daily Log'!$C$18:$C$1017),0)","v":0},{"$f":"IFERROR($E91*SUMIF('Daily Log'!$E$18:$E$1017,$B91,'Daily Log'!$F$18:$F$1017),0)","v":0},{"$f":"IFERROR($E91*SUMIF('Daily Log'!$H$18:$H$1017,$B91,'Daily Log'!$I$18:$I$1017),0)","v":0},{"$f":"IFERROR($E91*SUMIF('Daily Log'!$K$18:$K$1017,$B91,'Daily Log'!$L$18:$L$1017),0)","v":0},{"$f":"IFERROR($E91*SUMIF('Daily Log'!$N$18:$N$1017,$B91,'Daily Log'!$O$18:$O$1017),0)","v":0},{"$f":"IFERROR($E91*SUMIF('Daily Log'!$Q$18:$Q$1017,$B91,'Daily Log'!$R$18:$R$1017),0)","v":0},{"$f":"IFERROR($E91*SUMIF('Daily Log'!$T$18:$T$1017,$B91,'Daily Log'!$U$18:$U$1017),0)","v":0},{"$f":"IFERROR($E91*SUMIF('Daily Log'!$W$18:$W$1017,$B91,'Daily Log'!$X$18:$X$1017),0)","v":0},{"$f":"IFERROR($E91*SUMIF('Daily Log'!$Z$18:$Z$1017,$B91,'Daily Log'!$AA$18:$AA$1017),0)","v":0},{"$f":"IFERROR($E91*SUMIF('Daily Log'!$AC$18:$AC$1017,$B91,'Daily Log'!$AD$18:$AD$1017),0)","v":0},{"$f":"IFERROR($E91*SUMIF('Daily Log'!$AF$18:$AF$1017,$B91,'Daily Log'!$AG$18:$AG$1017),0)","v":0},{"$f":"IFERROR($E91*SUMIF('Daily Log'!$AI$18:$AI$1017,$B91,'Daily Log'!$AJ$18:$AJ$1017),0)","v":0},{"$f":"IFERROR($E91*SUMIF('Daily Log'!$AL$18:$AL$1017,$B91,'Daily Log'!$AM$18:$AM$1017),0)","v":0},{"$f":"IFERROR($E91*SUMIF('Daily Log'!$AO$18:$AO$1017,$B91,'Daily Log'!$AP$18:$AP$1017),0)","v":0},{"$f":"IFERROR($E91*SUMIF('Daily Log'!$AR$18:$AR$1017,$B91,'Daily Log'!$AS$18:$AS$1017),0)","v":0},{"$f":"IFERROR($E91*SUMIF('Daily Log'!$AU$18:$AU$1017,$B91,'Daily Log'!$AV$18:$AV$1017),0)","v":0},{"$f":"IFERROR($E91*SUMIF('Daily Log'!$AX$18:$AX$1017,$B91,'Daily Log'!$AY$18:$AY$1017),0)","v":0},{"$f":"IFERROR($E91*SUMIF('Daily Log'!$BA$18:$BA$1017,$B91,'Daily Log'!$BB$18:$BB$1017),0)","v":0},{"$f":"IFERROR($E91*SUMIF('Daily Log'!$BD$18:$BD$1017,$B91,'Daily Log'!$BE$18:$BE$1017),0)","v":0},{"$f":"IFERROR($E91*SUMIF('Daily Log'!$BG$18:$BG$1017,$B91,'Daily Log'!$BH$18:$BH$1017),0)","v":0},{"$f":"IFERROR($E91*SUMIF('Daily Log'!$BJ$18:$BJ$1017,$B91,'Daily Log'!$BK$18:$BK$1017),0)","v":0},{"$f":"IFERROR($E91*SUMIF('Daily Log'!$BM$18:$BM$1017,$B91,'Daily Log'!$BN$18:$BN$1017),0)","v":0},{"$f":"IFERROR($E91*SUMIF('Daily Log'!$BP$18:$BP$1017,$B91,'Daily Log'!$BQ$18:$BQ$1017),0)","v":0},{"$f":"IFERROR($E91*SUMIF('Daily Log'!$BS$18:$BS$1017,$B91,'Daily Log'!$BT$18:$BT$1017),0)","v":0},{"$f":"IFERROR($E91*SUMIF('Daily Log'!$BV$18:$BV$1017,$B91,'Daily Log'!$BW$18:$BW$1017),0)","v":0},{"$f":"IFERROR($E91*SUMIF('Daily Log'!$BY$18:$BY$1017,$B91,'Daily Log'!$BZ$18:$BZ$1017),0)","v":0},{"$f":"IFERROR($E91*SUMIF('Daily Log'!$CB$18:$CB$1017,$B91,'Daily Log'!$CC$18:$CC$1017),0)","v":0},{"$f":"IFERROR($E91*SUMIF('Daily Log'!$CE$18:$CE$1017,$B91,'Daily Log'!$CF$18:$CF$1017),0)","v":0},{"$f":"IFERROR($E91*SUMIF('Daily Log'!$CH$18:$CH$1017,$B91,'Daily Log'!$CI$18:$CI$1017),0)","v":0},{"$f":"IFERROR($E91*SUMIF('Daily Log'!$CK$18:$CK$1017,$B91,'Daily Log'!$CL$18:$CL$1017),0)","v":0},{"$f":"IFERROR($E91*SUMIF('Daily Log'!$CN$18:$CN$1017,$B91,'Daily Log'!$CO$18:$CO$1017),0)","v":0}]
[null,"AC11 Father",null,null,null,0,{"$f":"IFERROR($E92*SUMIF('Daily Log'!$B$18:$B$1017,$B92,'Daily Log'!$C$18:$C$1017),0)","v":0},{"$f":"IFERROR($E92*SUMIF('Daily Log'!$E$18:$E$1017,$B92,'Daily Log'!$F$18:$F$1017),0)","v":0},{"$f":"IFERROR($E92*SUMIF('Daily Log'!$H$18:$H$1017,$B92,'Daily Log'!$I$18:$I$1017),0)","v":0},{"$f":"IFERROR($E92*SUMIF('Daily Log'!$K$18:$K$1017,$B92,'Daily Log'!$L$18:$L$1017),0)","v":0},{"$f":"IFERROR($E92*SUMIF('Daily Log'!$N$18:$N$1017,$B92,'Daily Log'!$O$18:$O$1017),0)","v":0},{"$f":"IFERROR($E92*SUMIF('Daily Log'!$Q$18:$Q$1017,$B92,'Daily Log'!$R$18:$R$1017),0)","v":0},{"$f":"IFERROR($E92*SUMIF('Daily Log'!$T$18:$T$1017,$B92,'Daily Log'!$U$18:$U$1017),0)","v":0},{"$f":"IFERROR($E92*SUMIF('Daily Log'!$W$18:$W$1017,$B92,'Daily Log'!$X$18:$X$1017),0)","v":0},{"$f":"IFERROR($E92*SUMIF('Daily Log'!$Z$18:$Z$1017,$B92,'Daily Log'!$AA$18:$AA$1017),0)","v":0},{"$f":"IFERROR($E92*SUMIF('Daily Log'!$AC$18:$AC$1017,$B92,'Daily Log'!$AD$18:$AD$1017),0)","v":0},{"$f":"IFERROR($E92*SUMIF('Daily Log'!$AF$18:$AF$1017,$B92,'Daily Log'!$AG$18:$AG$1017),0)","v":0},{"$f":"IFERROR($E92*SUMIF('Daily Log'!$AI$18:$AI$1017,$B92,'Daily Log'!$AJ$18:$AJ$1017),0)","v":0},{"$f":"IFERROR($E92*SUMIF('Daily Log'!$AL$18:$AL$1017,$B92,'Daily Log'!$AM$18:$AM$1017),0)","v":0},{"$f":"IFERROR($E92*SUMIF('Daily Log'!$AO$18:$AO$1017,$B92,'Daily Log'!$AP$18:$AP$1017),0)","v":0},{"$f":"IFERROR($E92*SUMIF('Daily Log'!$AR$18:$AR$1017,$B92,'Daily Log'!$AS$18:$AS$1017),0)","v":0},{"$f":"IFERROR($E92*SUMIF('Daily Log'!$AU$18:$AU$1017,$B92,'Daily Log'!$AV$18:$AV$1017),0)","v":0},{"$f":"IFERROR($E92*SUMIF('Daily Log'!$AX$18:$AX$1017,$B92,'Daily Log'!$AY$18:$AY$1017),0)","v":0},{"$f":"IFERROR($E92*SUMIF('Daily Log'!$BA$18:$BA$1017,$B92,'Daily Log'!$BB$18:$BB$1017),0)","v":0},{"$f":"IFERROR($E92*SUMIF('Daily Log'!$BD$18:$BD$1017,$B92,'Daily Log'!$BE$18:$BE$1017),0)","v":0},{"$f":"IFERROR($E92*SUMIF('Daily Log'!$BG$18:$BG$1017,$B92,'Daily Log'!$BH$18:$BH$1017),0)","v":0},{"$f":"IFERROR($E92*SUMIF('Daily Log'!$BJ$18:$BJ$1017,$B92,'Daily Log'!$BK$18:$BK$1017),0)","v":0},{"$f":"IFERROR($E92*SUMIF('Daily Log'!$BM$18:$BM$1017,$B92,'Daily Log'!$BN$18:$BN$1017),0)","v":0},{"$f":"IFERROR($E92*SUMIF('Daily Log'!$BP$18:$BP$1017,$B92,'Daily Log'!$BQ$18:$BQ$1017),0)","v":0},{"$f":"IFERROR($E92*SUMIF('Daily Log'!$BS$18:$BS$1017,$B92,'Daily Log'!$BT$18:$BT$1017),0)","v":0},{"$f":"IFERROR($E92*SUMIF('Daily Log'!$BV$18:$BV$1017,$B92,'Daily Log'!$BW$18:$BW$1017),0)","v":0},{"$f":"IFERROR($E92*SUMIF('Daily Log'!$BY$18:$BY$1017,$B92,'Daily Log'!$BZ$18:$BZ$1017),0)","v":0},{"$f":"IFERROR($E92*SUMIF('Daily Log'!$CB$18:$CB$1017,$B92,'Daily Log'!$CC$18:$CC$1017),0)","v":0},{"$f":"IFERROR($E92*SUMIF('Daily Log'!$CE$18:$CE$1017,$B92,'Daily Log'!$CF$18:$CF$1017),0)","v":0},{"$f":"IFERROR($E92*SUMIF('Daily Log'!$CH$18:$CH$1017,$B92,'Daily Log'!$CI$18:$CI$1017),0)","v":0},{"$f":"IFERROR($E92*SUMIF('Daily Log'!$CK$18:$CK$1017,$B92,'Daily Log'!$CL$18:$CL$1017),0)","v":0},{"$f":"IFERROR($E92*SUMIF('Daily Log'!$CN$18:$CN$1017,$B92,'Daily Log'!$CO$18:$CO$1017),0)","v":0}]
[null,"AC12 N : FREEHEAD (R)",null,null,null,0,{"$f":"IFERROR($E93*SUMIF('Daily Log'!$B$18:$B$1017,$B93,'Daily Log'!$C$18:$C$1017),0)","v":0},{"$f":"IFERROR($E93*SUMIF('Daily Log'!$E$18:$E$1017,$B93,'Daily Log'!$F$18:$F$1017),0)","v":0},{"$f":"IFERROR($E93*SUMIF('Daily Log'!$H$18:$H$1017,$B93,'Daily Log'!$I$18:$I$1017),0)","v":0},{"$f":"IFERROR($E93*SUMIF('Daily Log'!$K$18:$K$1017,$B93,'Daily Log'!$L$18:$L$1017),0)","v":0},{"$f":"IFERROR($E93*SUMIF('Daily Log'!$N$18:$N$1017,$B93,'Daily Log'!$O$18:$O$1017),0)","v":0},{"$f":"IFERROR($E93*SUMIF('Daily Log'!$Q$18:$Q$1017,$B93,'Daily Log'!$R$18:$R$1017),0)","v":0},{"$f":"IFERROR($E93*SUMIF('Daily Log'!$T$18:$T$1017,$B93,'Daily Log'!$U$18:$U$1017),0)","v":0},{"$f":"IFERROR($E93*SUMIF('Daily Log'!$W$18:$W$1017,$B93,'Daily Log'!$X$18:$X$1017),0)","v":0},{"$f":"IFERROR($E93*SUMIF('Daily Log'!$Z$18:$Z$1017,$B93,'Daily Log'!$AA$18:$AA$1017),0)","v":0},{"$f":"IFERROR($E93*SUMIF('Daily Log'!$AC$18:$AC$1017,$B93,'Daily Log'!$AD$18:$AD$1017),0)","v":0},{"$f":"IFERROR($E93*SUMIF('Daily Log'!$AF$18:$AF$1017,$B93,'Daily Log'!$AG$18:$AG$1017),0)","v":0},{"$f":"IFERROR($E93*SUMIF('Daily Log'!$AI$18:$AI$1017,$B93,'Daily Log'!$AJ$18:$AJ$1017),0)","v":0},{"$f":"IFERROR($E93*SUMIF('Daily Log'!$AL$18:$AL$1017,$B93,'Daily Log'!$AM$18:$AM$1017),0)","v":0},{"$f":"IFERROR($E93*SUMIF('Daily Log'!$AO$18:$AO$1017,$B93,'Daily Log'!$AP$18:$AP$1017),0)","v":0},{"$f":"IFERROR($E93*SUMIF('Daily Log'!$AR$18:$AR$1017,$B93,'Daily Log'!$AS$18:$AS$1017),0)","v":0},{"$f":"IFERROR($E93*SUMIF('Daily Log'!$AU$18:$AU$1017,$B93,'Daily Log'!$AV$18:$AV$1017),0)","v":0},{"$f":"IFERROR($E93*SUMIF('Daily Log'!$AX$18:$AX$1017,$B93,'Daily Log'!$AY$18:$AY$1017),0)","v":0},{"$f":"IFERROR($E93*SUMIF('Daily Log'!$BA$18:$BA$1017,$B93,'Daily Log'!$BB$18:$BB$1017),0)","v":0},{"$f":"IFERROR($E93*SUMIF('Daily Log'!$BD$18:$BD$1017,$B93,'Daily Log'!$BE$18:$BE$1017),0)","v":0},{"$f":"IFERROR($E93*SUMIF('Daily Log'!$BG$18:$BG$1017,$B93,'Daily Log'!$BH$18:$BH$1017),0)","v":0},{"$f":"IFERROR($E93*SUMIF('Daily Log'!$BJ$18:$BJ$1017,$B93,'Daily Log'!$BK$18:$BK$1017),0)","v":0},{"$f":"IFERROR($E93*SUMIF('Daily Log'!$BM$18:$BM$1017,$B93,'Daily Log'!$BN$18:$BN$1017),0)","v":0},{"$f":"IFERROR($E93*SUMIF('Daily Log'!$BP$18:$BP$1017,$B93,'Daily Log'!$BQ$18:$BQ$1017),0)","v":0},{"$f":"IFERROR($E93*SUMIF('Daily Log'!$BS$18:$BS$1017,$B93,'Daily Log'!$BT$18:$BT$1017),0)","v":0},{"$f":"IFERROR($E93*SUMIF('Daily Log'!$BV$18:$BV$1017,$B93,'Daily Log'!$BW$18:$BW$1017),0)","v":0},{"$f":"IFERROR($E93*SUMIF('Daily Log'!$BY$18:$BY$1017,$B93,'Daily Log'!$BZ$18:$BZ$1017),0)","v":0},{"$f":"IFERROR($E93*SUMIF('Daily Log'!$CB$18:$CB$1017,$B93,'Daily Log'!$CC$18:$CC$1017),0)","v":0},{"$f":"IFERROR($E93*SUMIF('Daily Log'!$CE$18:$CE$1017,$B93,'Daily Log'!$CF$18:$CF$1017),0)","v":0},{"$f":"IFERROR($E93*SUMIF('Daily Log'!$CH$18:$CH$1017,$B93,'Daily Log'!$CI$18:$CI$1017),0)","v":0},{"$f":"IFERROR($E93*SUMIF('Daily Log'!$CK$18:$CK$1017,$B93,'Daily Log'!$CL$18:$CL$1017),0)","v":0},{"$f":"IFERROR($E93*SUMIF('Daily Log'!$CN$18:$CN$1017,$B93,'Daily Log'!$CO$18:$CO$1017),0)","v":0}]
[null,"AC13 N : 3+1",null,null,null,{"$f":"SUM($G94:$AK94)","v":0},{"$f":"IFERROR($E94*SUMIF('Daily Log'!$B$18:$B$1017,$B94,'Daily Log'!$C$18:$C$1017),0)","v":0},{"$f":"IFERROR($E94*SUMIF('Daily Log'!$E$18:$E$1017,$B94,'Daily Log'!$F$18:$F$1017),0)","v":0},{"$f":"IFERROR($E94*SUMIF('Daily Log'!$H$18:$H$1017,$B94,'Daily Log'!$I$18:$I$1017),0)","v":0},{"$f":"IFERROR($E94*SUMIF('Daily Log'!$K$18:$K$1017,$B94,'Daily Log'!$L$18:$L$1017),0)","v":0},{"$f":"IFERROR($E94*SUMIF('Daily Log'!$N$18:$N$1017,$B94,'Daily Log'!$O$18:$O$1017),0)","v":0},{"$f":"IFERROR($E94*SUMIF('Daily Log'!$Q$18:$Q$1017,$B94,'Daily Log'!$R$18:$R$1017),0)","v":0},{"$f":"IFERROR($E94*SUMIF('Daily Log'!$T$18:$T$1017,$B94,'Daily Log'!$U$18:$U$1017),0)","v":0},{"$f":"IFERROR($E94*SUMIF('Daily Log'!$W$18:$W$1017,$B94,'Daily Log'!$X$18:$X$1017),0)","v":0},{"$f":"IFERROR($E94*SUMIF('Daily Log'!$Z$18:$Z$1017,$B94,'Daily Log'!$AA$18:$AA$1017),0)","v":0},{"$f":"IFERROR($E94*SUMIF('Daily Log'!$AC$18:$AC$1017,$B94,'Daily Log'!$AD$18:$AD$1017),0)","v":0},{"$f":"IFERROR($E94*SUMIF('Daily Log'!$AF$18:$AF$1017,$B94,'Daily Log'!$AG$18:$AG$1017),0)","v":0},{"$f":"IFERROR($E94*SUMIF('Daily Log'!$AI$18:$AI$1017,$B94,'Daily Log'!$AJ$18:$AJ$1017),0)","v":0},{"$f":"IFERROR($E94*SUMIF('Daily Log'!$AL$18:$AL$1017,$B94,'Daily Log'!$AM$18:$AM$1017),0)","v":0},{"$f":"IFERROR($E94*SUMIF('Daily Log'!$AO$18:$AO$1017,$B94,'Daily Log'!$AP$18:$AP$1017),0)","v":0},{"$f":"IFERROR($E94*SUMIF('Daily Log'!$AR$18:$AR$1017,$B94,'Daily Log'!$AS$18:$AS$1017),0)","v":0},{"$f":"IFERROR($E94*SUMIF('Daily Log'!$AU$18:$AU$1017,$B94,'Daily Log'!$AV$18:$AV$1017),0)","v":0},{"$f":"IFERROR($E94*SUMIF('Daily Log'!$AX$18:$AX$1017,$B94,'Daily Log'!$AY$18:$AY$1017),0)","v":0},{"$f":"IFERROR($E94*SUMIF('Daily Log'!$BA$18:$BA$1017,$B94,'Daily Log'!$BB$18:$BB$1017),0)","v":0},{"$f":"IFERROR($E94*SUMIF('Daily Log'!$BD$18:$BD$1017,$B94,'Daily Log'!$BE$18:$BE$1017),0)","v":0},{"$f":"IFERROR($E94*SUMIF('Daily Log'!$BG$18:$BG$1017,$B94,'Daily Log'!$BH$18:$BH$1017),0)","v":0},{"$f":"IFERROR($E94*SUMIF('Daily Log'!$BJ$18:$BJ$1017,$B94,'Daily Log'!$BK$18:$BK$1017),0)","v":0},{"$f":"IFERROR($E94*SUMIF('Daily Log'!$BM$18:$BM$1017,$B94,'Daily Log'!$BN$18:$BN$1017),0)","v":0},{"$f":"IFERROR($E94*SUMIF('Daily Log'!$BP$18:$BP$1017,$B94,'Daily Log'!$BQ$18:$BQ$1017),0)","v":0},{"$f":"IFERROR($E94*SUMIF('Daily Log'!$BS$18:$BS$1017,$B94,'Daily Log'!$BT$18:$BT$1017),0)","v":0},{"$f":"IFERROR($E94*SUMIF('Daily Log'!$BV$18:$BV$1017,$B94,'Daily Log'!$BW$18:$BW$1017),0)","v":0},{"$f":"IFERROR($E94*SUMIF('Daily Log'!$BY$18:$BY$1017,$B94,'Daily Log'!$BZ$18:$BZ$1017),0)","v":0},{"$f":"IFERROR($E94*SUMIF('Daily Log'!$CB$18:$CB$1017,$B94,'Daily Log'!$CC$18:$CC$1017),0)","v":0},{"$f":"IFERROR($E94*SUMIF('Daily Log'!$CE$18:$CE$1017,$B94,'Daily Log'!$CF$18:$CF$1017),0)","v":0},{"$f":"IFERROR($E94*SUMIF('Daily Log'!$CH$18:$CH$1017,$B94,'Daily Log'!$CI$18:$CI$1017),0)","v":0},{"$f":"IFERROR($E94*SUMIF('Daily Log'!$CK$18:$CK$1017,$B94,'Daily Log'!$CL$18:$CL$1017),0)","v":0},{"$f":"IFERROR($E94*SUMIF('Daily Log'!$CN$18:$CN$1017,$B94,'Daily Log'!$CO$18:$CO$1017),0)","v":0}]
[null,"AC14 N : PROMOTION",null,null,null,0,{"$f":"IFERROR($E95*SUMIF('Daily Log'!$B$18:$B$1017,$B95,'Daily Log'!$C$18:$C$1017),0)","v":0},{"$f":"IFERROR($E95*SUMIF('Daily Log'!$E$18:$E$1017,$B95,'Daily Log'!$F$18:$F$1017),0)","v":0},{"$f":"IFERROR($E95*SUMIF('Daily Log'!$H$18:$H$1017,$B95,'Daily Log'!$I$18:$I$1017),0)","v":0},{"$f":"IFERROR($E95*SUMIF('Daily Log'!$K$18:$K$1017,$B95,'Daily Log'!$L$18:$L$1017),0)","v":0},{"$f":"IFERROR($E95*SUMIF('Daily Log'!$N$18:$N$1017,$B95,'Daily Log'!$O$18:$O$1017),0)","v":0},{"$f":"IFERROR($E95*SUMIF('Daily Log'!$Q$18:$Q$1017,$B95,'Daily Log'!$R$18:$R$1017),0)","v":0},{"$f":"IFERROR($E95*SUMIF('Daily Log'!$T$18:$T$1017,$B95,'Daily Log'!$U$18:$U$1017),0)","v":0},{"$f":"IFERROR($E95*SUMIF('Daily Log'!$W$18:$W$1017,$B95,'Daily Log'!$X$18:$X$1017),0)","v":0},{"$f":"IFERROR($E95*SUMIF('Daily Log'!$Z$18:$Z$1017,$B95,'Daily Log'!$AA$18:$AA$1017),0)","v":0},{"$f":"IFERROR($E95*SUMIF('Daily Log'!$AC$18:$AC$1017,$B95,'Daily Log'!$AD$18:$AD$1017),0)","v":0},{"$f":"IFERROR($E95*SUMIF('Daily Log'!$AF$18:$AF$1017,$B95,'Daily Log'!$AG$18:$AG$1017),0)","v":0},{"$f":"IFERROR($E95*SUMIF('Daily Log'!$AI$18:$AI$1017,$B95,'Daily Log'!$AJ$18:$AJ$1017),0)","v":0},{"$f":"IFERROR($E95*SUMIF('Daily Log'!$AL$18:$AL$1017,$B95,'Daily Log'!$AM$18:$AM$1017),0)","v":0},{"$f":"IFERROR($E95*SUMIF('Daily Log'!$AO$18:$AO$1017,$B95,'Daily Log'!$AP$18:$AP$1017),0)","v":0},{"$f":"IFERROR($E95*SUMIF('Daily Log'!$AR$18:$AR$1017,$B95,'Daily Log'!$AS$18:$AS$1017),0)","v":0},{"$f":"IFERROR($E95*SUMIF('Daily Log'!$AU$18:$AU$1017,$B95,'Daily Log'!$AV$18:$AV$1017),0)","v":0},{"$f":"IFERROR($E95*SUMIF('Daily Log'!$AX$18:$AX$1017,$B95,'Daily Log'!$AY$18:$AY$1017),0)","v":0},{"$f":"IFERROR($E95*SUMIF('Daily Log'!$BA$18:$BA$1017,$B95,'Daily Log'!$BB$18:$BB$1017),0)","v":0},{"$f":"IFERROR($E95*SUMIF('Daily Log'!$BD$18:$BD$1017,$B95,'Daily Log'!$BE$18:$BE$1017),0)","v":0},{"$f":"IFERROR($E95*SUMIF('Daily Log'!$BG$18:$BG$1017,$B95,'Daily Log'!$BH$18:$BH$1017),0)","v":0},{"$f":"IFERROR($E95*SUMIF('Daily Log'!$BJ$18:$BJ$1017,$B95,'Daily Log'!$BK$18:$BK$1017),0)","v":0},{"$f":"IFERROR($E95*SUMIF('Daily Log'!$BM$18:$BM$1017,$B95,'Daily Log'!$BN$18:$BN$1017),0)","v":0},{"$f":"IFERROR($E95*SUMIF('Daily Log'!$BP$18:$BP$1017,$B95,'Daily Log'!$BQ$18:$BQ$1017),0)","v":0},{"$f":"IFERROR($E95*SUMIF('Daily Log'!$BS$18:$BS$1017,$B95,'Daily Log'!$BT$18:$BT$1017),0)","v":0},{"$f":"IFERROR($E95*SUMIF('Daily Log'!$BV$18:$BV$1017,$B95,'Daily Log'!$BW$18:$BW$1017),0)","v":0},{"$f":"IFERROR($E95*SUMIF('Daily Log'!$BY$18:$BY$1017,$B95,'Daily Log'!$BZ$18:$BZ$1017),0)","v":0},{"$f":"IFERROR($E95*SUMIF('Daily Log'!$CB$18:$CB$1017,$B95,'Daily Log'!$CC$18:$CC$1017),0)","v":0},{"$f":"IFERROR($E95*SUMIF('Daily Log'!$CE$18:$CE$1017,$B95,'Daily Log'!$CF$18:$CF$1017),0)","v":0},{"$f":"IFERROR($E95*SUMIF('Daily Log'!$CH$18:$CH$1017,$B95,'Daily Log'!$CI$18:$CI$1017),0)","v":0},{"$f":"IFERROR($E95*SUMIF('Daily Log'!$CK$18:$CK$1017,$B95,'Daily Log'!$CL$18:$CL$1017),0)","v":0},{"$f":"IFERROR($E95*SUMIF('Daily Log'!$CN$18:$CN$1017,$B95,'Daily Log'!$CO$18:$CO$1017),0)","v":0}]
[null,"AC15 N : PROMO+MEAL",null,null,null,0,{"$f":"IFERROR($E96*SUMIF('Daily Log'!$B$18:$B$1017,$B96,'Daily Log'!$C$18:$C$1017),0)","v":0},{"$f":"IFERROR($E96*SUMIF('Daily Log'!$E$18:$E$1017,$B96,'Daily Log'!$F$18:$F$1017),0)","v":0},{"$f":"IFERROR($E96*SUMIF('Daily Log'!$H$18:$H$1017,$B96,'Daily Log'!$I$18:$I$1017),0)","v":0},{"$f":"IFERROR($E96*SUMIF('Daily Log'!$K$18:$K$1017,$B96,'Daily Log'!$L$18:$L$1017),0)","v":0},{"$f":"IFERROR($E96*SUMIF('Daily Log'!$N$18:$N$1017,$B96,'Daily Log'!$O$18:$O$1017),0)","v":0},{"$f":"IFERROR($E96*SUMIF('Daily Log'!$Q$18:$Q$1017,$B96,'Daily Log'!$R$18:$R$1017),0)","v":0},{"$f":"IFERROR($E96*SUMIF('Daily Log'!$T$18:$T$1017,$B96,'Daily Log'!$U$18:$U$1017),0)","v":0},{"$f":"IFERROR($E96*SUMIF('Daily Log'!$W$18:$W$1017,$B96,'Daily Log'!$X$18:$X$1017),0)","v":0},{"$f":"IFERROR($E96*SUMIF('Daily Log'!$Z$18:$Z$1017,$B96,'Daily Log'!$AA$18:$AA$1017),0)","v":0},{"$f":"IFERROR($E96*SUMIF('Daily Log'!$AC$18:$AC$1017,$B96,'Daily Log'!$AD$18:$AD$1017),0)","v":0},{"$f":"IFERROR($E96*SUMIF('Daily Log'!$AF$18:$AF$1017,$B96,'Daily Log'!$AG$18:$AG$1017),0)","v":0},{"$f":"IFERROR($E96*SUMIF('Daily Log'!$AI$18:$AI$1017,$B96,'Daily Log'!$AJ$18:$AJ$1017),0)","v":0},{"$f":"IFERROR($E96*SUMIF('Daily Log'!$AL$18:$AL$1017,$B96,'Daily Log'!$AM$18:$AM$1017),0)","v":0},{"$f":"IFERROR($E96*SUMIF('Daily Log'!$AO$18:$AO$1017,$B96,'Daily Log'!$AP$18:$AP$1017),0)","v":0},{"$f":"IFERROR($E96*SUMIF('Daily Log'!$AR$18:$AR$1017,$B96,'Daily Log'!$AS$18:$AS$1017),0)","v":0},{"$f":"IFERROR($E96*SUMIF('Daily Log'!$AU$18:$AU$1017,$B96,'Daily Log'!$AV$18:$AV$1017),0)","v":0},{"$f":"IFERROR($E96*SUMIF('Daily Log'!$AX$18:$AX$1017,$B96,'Daily Log'!$AY$18:$AY$1017),0)","v":0},{"$f":"IFERROR($E96*SUMIF('Daily Log'!$BA$18:$BA$1017,$B96,'Daily Log'!$BB$18:$BB$1017),0)","v":0},{"$f":"IFERROR($E96*SUMIF('Daily Log'!$BD$18:$BD$1017,$B96,'Daily Log'!$BE$18:$BE$1017),0)","v":0},{"$f":"IFERROR($E96*SUMIF('Daily Log'!$BG$18:$BG$1017,$B96,'Daily Log'!$BH$18:$BH$1017),0)","v":0},{"$f":"IFERROR($E96*SUMIF('Daily Log'!$BJ$18:$BJ$1017,$B96,'Daily Log'!$BK$18:$BK$1017),0)","v":0},{"$f":"IFERROR($E96*SUMIF('Daily Log'!$BM$18:$BM$1017,$B96,'Daily Log'!$BN$18:$BN$1017),0)","v":0},{"$f":"IFERROR($E96*SUMIF('Daily Log'!$BP$18:$BP$1017,$B96,'Daily Log'!$BQ$18:$BQ$1017),0)","v":0},{"$f":"IFERROR($E96*SUMIF('Daily Log'!$BS$18:$BS$1017,$B96,'Daily Log'!$BT$18:$BT$1017),0)","v":0},{"$f":"IFERROR($E96*SUMIF('Daily Log'!$BV$18:$BV$1017,$B96,'Daily Log'!$BW$18:$BW$1017),0)","v":0},{"$f":"IFERROR($E96*SUMIF('Daily Log'!$BY$18:$BY$1017,$B96,'Daily Log'!$BZ$18:$BZ$1017),0)","v":0},{"$f":"IFERROR($E96*SUMIF('Daily Log'!$CB$18:$CB$1017,$B96,'Daily Log'!$CC$18:$CC$1017),0)","v":0},{"$f":"IFERROR($E96*SUMIF('Daily Log'!$CE$18:$CE$1017,$B96,'Daily Log'!$CF$18:$CF$1017),0)","v":0},{"$f":"IFERROR($E96*SUMIF('Daily Log'!$CH$18:$CH$1017,$B96,'Daily Log'!$CI$18:$CI$1017),0)","v":0},{"$f":"IFERROR($E96*SUMIF('Daily Log'!$CK$18:$CK$1017,$B96,'Daily Log'!$CL$18:$CL$1017),0)","v":0},{"$f":"IFERROR($E96*SUMIF('Daily Log'!$CN$18:$CN$1017,$B96,'Daily Log'!$CO$18:$CO$1017),0)","v":0}]
[null,"AC16 N : EVENT",null,null,null,0,{"$f":"IFERROR($E97*SUMIF('Daily Log'!$B$18:$B$1017,$B97,'Daily Log'!$C$18:$C$1017),0)","v":0},{"$f":"IFERROR($E97*SUMIF('Daily Log'!$E$18:$E$1017,$B97,'Daily Log'!$F$18:$F$1017),0)","v":0},{"$f":"IFERROR($E97*SUMIF('Daily Log'!$H$18:$H$1017,$B97,'Daily Log'!$I$18:$I$1017),0)","v":0},{"$f":"IFERROR($E97*SUMIF('Daily Log'!$K$18:$K$1017,$B97,'Daily Log'!$L$18:$L$1017),0)","v":0},{"$f":"IFERROR($E97*SUMIF('Daily Log'!$N$18:$N$1017,$B97,'Daily Log'!$O$18:$O$1017),0)","v":0},{"$f":"IFERROR($E97*SUMIF('Daily Log'!$Q$18:$Q$1017,$B97,'Daily Log'!$R$18:$R$1017),0)","v":0},{"$f":"IFERROR($E97*SUMIF('Daily Log'!$T$18:$T$1017,$B97,'Daily Log'!$U$18:$U$1017),0)","v":0},{"$f":"IFERROR($E97*SUMIF('Daily Log'!$W$18:$W$1017,$B97,'Daily Log'!$X$18:$X$1017),0)","v":0},{"$f":"IFERROR($E97*SUMIF('Daily Log'!$Z$18:$Z$1017,$B97,'Daily Log'!$AA$18:$AA$1017),0)","v":0},{"$f":"IFERROR($E97*SUMIF('Daily Log'!$AC$18:$AC$1017,$B97,'Daily Log'!$AD$18:$AD$1017),0)","v":0},{"$f":"IFERROR($E97*SUMIF('Daily Log'!$AF$18:$AF$1017,$B97,'Daily Log'!$AG$18:$AG$1017),0)","v":0},{"$f":"IFERROR($E97*SUMIF('Daily Log'!$AI$18:$AI$1017,$B97,'Daily Log'!$AJ$18:$AJ$1017),0)","v":0},{"$f":"IFERROR($E97*SUMIF('Daily Log'!$AL$18:$AL$1017,$B97,'Daily Log'!$AM$18:$AM$1017),0)","v":0},{"$f":"IFERROR($E97*SUMIF('Daily Log'!$AO$18:$AO$1017,$B97,'Daily Log'!$AP$18:$AP$1017),0)","v":0},{"$f":"IFERROR($E97*SUMIF('Daily Log'!$AR$18:$AR$1017,$B97,'Daily Log'!$AS$18:$AS$1017),0)","v":0},{"$f":"IFERROR($E97*SUMIF('Daily Log'!$AU$18:$AU$1017,$B97,'Daily Log'!$AV$18:$AV$1017),0)","v":0},{"$f":"IFERROR($E97*SUMIF('Daily Log'!$AX$18:$AX$1017,$B97,'Daily Log'!$AY$18:$AY$1017),0)","v":0},{"$f":"IFERROR($E97*SUMIF('Daily Log'!$BA$18:$BA$1017,$B97,'Daily Log'!$BB$18:$BB$1017),0)","v":0},{"$f":"IFERROR($E97*SUMIF('Daily Log'!$BD$18:$BD$1017,$B97,'Daily Log'!$BE$18:$BE$1017),0)","v":0},{"$f":"IFERROR($E97*SUMIF('Daily Log'!$BG$18:$BG$1017,$B97,'Daily Log'!$BH$18:$BH$1017),0)","v":0},{"$f":"IFERROR($E97*SUMIF('Daily Log'!$BJ$18:$BJ$1017,$B97,'Daily Log'!$BK$18:$BK$1017),0)","v":0},{"$f":"IFERROR($E97*SUMIF('Daily Log'!$BM$18:$BM$1017,$B97,'Daily Log'!$BN$18:$BN$1017),0)","v":0},{"$f":"IFERROR($E97*SUMIF('Daily Log'!$BP$18:$BP$1017,$B97,'Daily Log'!$BQ$18:$BQ$1017),0)","v":0},{"$f":"IFERROR($E97*SUMIF('Daily Log'!$BS$18:$BS$1017,$B97,'Daily Log'!$BT$18:$BT$1017),0)","v":0},{"$f":"IFERROR($E97*SUMIF('Daily Log'!$BV$18:$BV$1017,$B97,'Daily Log'!$BW$18:$BW$1017),0)","v":0},{"$f":"IFERROR($E97*SUMIF('Daily Log'!$BY$18:$BY$1017,$B97,'Daily Log'!$BZ$18:$BZ$1017),0)","v":0},{"$f":"IFERROR($E97*SUMIF('Daily Log'!$CB$18:$CB$1017,$B97,'Daily Log'!$CC$18:$CC$1017),0)","v":0},{"$f":"IFERROR($E97*SUMIF('Daily Log'!$CE$18:$CE$1017,$B97,'Daily Log'!$CF$18:$CF$1017),0)","v":0},{"$f":"IFERROR($E97*SUMIF('Daily Log'!$CH$18:$CH$1017,$B97,'Daily Log'!$CI$18:$CI$1017),0)","v":0},{"$f":"IFERROR($E97*SUMIF('Daily Log'!$CK$18:$CK$1017,$B97,'Daily Log'!$CL$18:$CL$1017),0)","v":0},{"$f":"IFERROR($E97*SUMIF('Daily Log'!$CN$18:$CN$1017,$B97,'Daily Log'!$CO$18:$CO$1017),0)","v":0}]
[null,"AC17 N : XTD S ROOM",null,null,null,0,{"$f":"IFERROR($E98*SUMIF('Daily Log'!$B$18:$B$1017,$B98,'Daily Log'!$C$18:$C$1017),0)","v":0},{"$f":"IFERROR($E98*SUMIF('Daily Log'!$E$18:$E$1017,$B98,'Daily Log'!$F$18:$F$1017),0)","v":0},{"$f":"IFERROR($E98*SUMIF('Daily Log'!$H$18:$H$1017,$B98,'Daily Log'!$I$18:$I$1017),0)","v":0},{"$f":"IFERROR($E98*SUMIF('Daily Log'!$K$18:$K$1017,$B98,'Daily Log'!$L$18:$L$1017),0)","v":0},{"$f":"IFERROR($E98*SUMIF('Daily Log'!$N$18:$N$1017,$B98,'Daily Log'!$O$18:$O$1017),0)","v":0},{"$f":"IFERROR($E98*SUMIF('Daily Log'!$Q$18:$Q$1017,$B98,'Daily Log'!$R$18:$R$1017),0)","v":0},{"$f":"IFERROR($E98*SUMIF('Daily Log'!$T$18:$T$1017,$B98,'Daily Log'!$U$18:$U$1017),0)","v":0},{"$f":"IFERROR($E98*SUMIF('Daily Log'!$W$18:$W$1017,$B98,'Daily Log'!$X$18:$X$1017),0)","v":0},{"$f":"IFERROR($E98*SUMIF('Daily Log'!$Z$18:$Z$1017,$B98,'Daily Log'!$AA$18:$AA$1017),0)","v":0},{"$f":"IFERROR($E98*SUMIF('Daily Log'!$AC$18:$AC$1017,$B98,'Daily Log'!$AD$18:$AD$1017),0)","v":0},{"$f":"IFERROR($E98*SUMIF('Daily Log'!$AF$18:$AF$1017,$B98,'Daily Log'!$AG$18:$AG$1017),0)","v":0},{"$f":"IFERROR($E98*SUMIF('Daily Log'!$AI$18:$AI$1017,$B98,'Daily Log'!$AJ$18:$AJ$1017),0)","v":0},{"$f":"IFERROR($E98*SUMIF('Daily Log'!$AL$18:$AL$1017,$B98,'Daily Log'!$AM$18:$AM$1017),0)","v":0},{"$f":"IFERROR($E98*SUMIF('Daily Log'!$AO$18:$AO$1017,$B98,'Daily Log'!$AP$18:$AP$1017),0)","v":0},{"$f":"IFERROR($E98*SUMIF('Daily Log'!$AR$18:$AR$1017,$B98,'Daily Log'!$AS$18:$AS$1017),0)","v":0},{"$f":"IFERROR($E98*SUMIF('Daily Log'!$AU$18:$AU$1017,$B98,'Daily Log'!$AV$18:$AV$1017),0)","v":0},{"$f":"IFERROR($E98*SUMIF('Daily Log'!$AX$18:$AX$1017,$B98,'Daily Log'!$AY$18:$AY$1017),0)","v":0},{"$f":"IFERROR($E98*SUMIF('Daily Log'!$BA$18:$BA$1017,$B98,'Daily Log'!$BB$18:$BB$1017),0)","v":0},{"$f":"IFERROR($E98*SUMIF('Daily Log'!$BD$18:$BD$1017,$B98,'Daily Log'!$BE$18:$BE$1017),0)","v":0},{"$f":"IFERROR($E98*SUMIF('Daily Log'!$BG$18:$BG$1017,$B98,'Daily Log'!$BH$18:$BH$1017),0)","v":0},{"$f":"IFERROR($E98*SUMIF('Daily Log'!$BJ$18:$BJ$1017,$B98,'Daily Log'!$BK$18:$BK$1017),0)","v":0},{"$f":"IFERROR($E98*SUMIF('Daily Log'!$BM$18:$BM$1017,$B98,'Daily Log'!$BN$18:$BN$1017),0)","v":0},{"$f":"IFERROR($E98*SUMIF('Daily Log'!$BP$18:$BP$1017,$B98,'Daily Log'!$BQ$18:$BQ$1017),0)","v":0},{"$f":"IFERROR($E98*SUMIF('Daily Log'!$BS$18:$BS$1017,$B98,'Daily Log'!$BT$18:$BT$1017),0)","v":0},{"$f":"IFERROR($E98*SUMIF('Daily Log'!$BV$18:$BV$1017,$B98,'Daily Log'!$BW$18:$BW$1017),0)","v":0},{"$f":"IFERROR($E98*SUMIF('Daily Log'!$BY$18:$BY$1017,$B98,'Daily Log'!$BZ$18:$BZ$1017),0)","v":0},{"$f":"IFERROR($E98*SUMIF('Daily Log'!$CB$18:$CB$1017,$B98,'Daily Log'!$CC$18:$CC$1017),0)","v":0},{"$f":"IFERROR($E98*SUMIF('Daily Log'!$CE$18:$CE$1017,$B98,'Daily Log'!$CF$18:$CF$1017),0)","v":0},{"$f":"IFERROR($E98*SUMIF('Daily Log'!$CH$18:$CH$1017,$B98,'Daily Log'!$CI$18:$CI$1017),0)","v":0},{"$f":"IFERROR($E98*SUMIF('Daily Log'!$CK$18:$CK$1017,$B98,'Daily Log'!$CL$18:$CL$1017),0)","v":0},{"$f":"IFERROR($E98*SUMIF('Daily Log'!$CN$18:$CN$1017,$B98,'Daily Log'!$CO$18:$CO$1017),0)","v":0}]
[null,"AC18 N : XTD M ROOM",null,null,null,0,{"$f":"IFERROR($E99*SUMIF('Daily Log'!$B$18:$B$1017,$B99,'Daily Log'!$C$18:$C$1017),0)","v":0},{"$f":"IFERROR($E99*SUMIF('Daily Log'!$E$18:$E$1017,$B99,'Daily Log'!$F$18:$F$1017),0)","v":0},{"$f":"IFERROR($E99*SUMIF('Daily Log'!$H$18:$H$1017,$B99,'Daily Log'!$I$18:$I$1017),0)","v":0},{"$f":"IFERROR($E99*SUMIF('Daily Log'!$K$18:$K$1017,$B99,'Daily Log'!$L$18:$L$1017),0)","v":0},{"$f":"IFERROR($E99*SUMIF('Daily Log'!$N$18:$N$1017,$B99,'Daily Log'!$O$18:$O$1017),0)","v":0},{"$f":"IFERROR($E99*SUMIF('Daily Log'!$Q$18:$Q$1017,$B99,'Daily Log'!$R$18:$R$1017),0)","v":0},{"$f":"IFERROR($E99*SUMIF('Daily Log'!$T$18:$T$1017,$B99,'Daily Log'!$U$18:$U$1017),0)","v":0},{"$f":"IFERROR($E99*SUMIF('Daily Log'!$W$18:$W$1017,$B99,'Daily Log'!$X$18:$X$1017),0)","v":0},{"$f":"IFERROR($E99*SUMIF('Daily Log'!$Z$18:$Z$1017,$B99,'Daily Log'!$AA$18:$AA$1017),0)","v":0},{"$f":"IFERROR($E99*SUMIF('Daily Log'!$AC$18:$AC$1017,$B99,'Daily Log'!$AD$18:$AD$1017),0)","v":0},{"$f":"IFERROR($E99*SUMIF('Daily Log'!$AF$18:$AF$1017,$B99,'Daily Log'!$AG$18:$AG$1017),0)","v":0},{"$f":"IFERROR($E99*SUMIF('Daily Log'!$AI$18:$AI$1017,$B99,'Daily Log'!$AJ$18:$AJ$1017),0)","v":0},{"$f":"IFERROR($E99*SUMIF('Daily Log'!$AL$18:$AL$1017,$B99,'Daily Log'!$AM$18:$AM$1017),0)","v":0},{"$f":"IFERROR($E99*SUMIF('Daily Log'!$AO$18:$AO$1017,$B99,'Daily Log'!$AP$18:$AP$1017),0)","v":0},{"$f":"IFERROR($E99*SUMIF('Daily Log'!$AR$18:$AR$1017,$B99,'Daily Log'!$AS$18:$AS$1017),0)","v":0},{"$f":"IFERROR($E99*SUMIF('Daily Log'!$AU$18:$AU$1017,$B99,'Daily Log'!$AV$18:$AV$1017),0)","v":0},{"$f":"IFERROR($E99*SUMIF('Daily Log'!$AX$18:$AX$1017,$B99,'Daily Log'!$AY$18:$AY$1017),0)","v":0},{"$f":"IFERROR($E99*SUMIF('Daily Log'!$BA$18:$BA$1017,$B99,'Daily Log'!$BB$18:$BB$1017),0)","v":0},{"$f":"IFERROR($E99*SUMIF('Daily Log'!$BD$18:$BD$1017,$B99,'Daily Log'!$BE$18:$BE$1017),0)","v":0},{"$f":"IFERROR($E99*SUMIF('Daily Log'!$BG$18:$BG$1017,$B99,'Daily Log'!$BH$18:$BH$1017),0)","v":0},{"$f":"IFERROR($E99*SUMIF('Daily Log'!$BJ$18:$BJ$1017,$B99,'Daily Log'!$BK$18:$BK$1017),0)","v":0},{"$f":"IFERROR($E99*SUMIF('Daily Log'!$BM$18:$BM$1017,$B99,'Daily Log'!$BN$18:$BN$1017),0)","v":0},{"$f":"IFERROR($E99*SUMIF('Daily Log'!$BP$18:$BP$1017,$B99,'Daily Log'!$BQ$18:$BQ$1017),0)","v":0},{"$f":"IFERROR($E99*SUMIF('Daily Log'!$BS$18:$BS$1017,$B99,'Daily Log'!$BT$18:$BT$1017),0)","v":0},{"$f":"IFERROR($E99*SUMIF('Daily Log'!$BV$18:$BV$1017,$B99,'Daily Log'!$BW$18:$BW$1017),0)","v":0},{"$f":"IFERROR($E99*SUMIF('Daily Log'!$BY$18:$BY$1017,$B99,'Daily Log'!$BZ$18:$BZ$1017),0)","v":0},{"$f":"IFERROR($E99*SUMIF('Daily Log'!$CB$18:$CB$1017,$B99,'Daily Log'!$CC$18:$CC$1017),0)","v":0},{"$f":"IFERROR($E99*SUMIF('Daily Log'!$CE$18:$CE$1017,$B99,'Daily Log'!$CF$18:$CF$1017),0)","v":0},{"$f":"IFERROR($E99*SUMIF('Daily Log'!$CH$18:$CH$1017,$B99,'Daily Log'!$CI$18:$CI$1017),0)","v":0},{"$f":"IFERROR($E99*SUMIF('Daily Log'!$CK$18:$CK$1017,$B99,'Daily Log'!$CL$18:$CL$1017),0)","v":0},{"$f":"IFERROR($E99*SUMIF('Daily Log'!$CN$18:$CN$1017,$B99,'Daily Log'!$CO$18:$CO$1017),0)","v":0}]
[null,"AC19 N : XTD B ROOM",null,null,null,0,{"$f":"IFERROR($E100*SUMIF('Daily Log'!$B$18:$B$1017,$B100,'Daily Log'!$C$18:$C$1017),0)","v":0},{"$f":"IFERROR($E100*SUMIF('Daily Log'!$E$18:$E$1017,$B100,'Daily Log'!$F$18:$F$1017),0)","v":0},{"$f":"IFERROR($E100*SUMIF('Daily Log'!$H$18:$H$1017,$B100,'Daily Log'!$I$18:$I$1017),0)","v":0},{"$f":"IFERROR($E100*SUMIF('Daily Log'!$K$18:$K$1017,$B100,'Daily Log'!$L$18:$L$1017),0)","v":0},{"$f":"IFERROR($E100*SUMIF('Daily Log'!$N$18:$N$1017,$B100,'Daily Log'!$O$18:$O$1017),0)","v":0},{"$f":"IFERROR($E100*SUMIF('Daily Log'!$Q$18:$Q$1017,$B100,'Daily Log'!$R$18:$R$1017),0)","v":0},{"$f":"IFERROR($E100*SUMIF('Daily Log'!$T$18:$T$1017,$B100,'Daily Log'!$U$18:$U$1017),0)","v":0},{"$f":"IFERROR($E100*SUMIF('Daily Log'!$W$18:$W$1017,$B100,'Daily Log'!$X$18:$X$1017),0)","v":0},{"$f":"IFERROR($E100*SUMIF('Daily Log'!$Z$18:$Z$1017,$B100,'Daily Log'!$AA$18:$AA$1017),0)","v":0},{"$f":"IFERROR($E100*SUMIF('Daily Log'!$AC$18:$AC$1017,$B100,'Daily Log'!$AD$18:$AD$1017),0)","v":0},{"$f":"IFERROR($E100*SUMIF('Daily Log'!$AF$18:$AF$1017,$B100,'Daily Log'!$AG$18:$AG$1017),0)","v":0},{"$f":"IFERROR($E100*SUMIF('Daily Log'!$AI$18:$AI$1017,$B100,'Daily Log'!$AJ$18:$AJ$1017),0)","v":0},{"$f":"IFERROR($E100*SUMIF('Daily Log'!$AL$18:$AL$1017,$B100,'Daily Log'!$AM$18:$AM$1017),0)","v":0},{"$f":"IFERROR($E100*SUMIF('Daily Log'!$AO$18:$AO$1017,$B100,'Daily Log'!$AP$18:$AP$1017),0)","v":0},{"$f":"IFERROR($E100*SUMIF('Daily Log'!$AR$18:$AR$1017,$B100,'Daily Log'!$AS$18:$AS$1017),0)","v":0},{"$f":"IFERROR($E100*SUMIF('Daily Log'!$AU$18:$AU$1017,$B100,'Daily Log'!$AV$18:$AV$1017),0)","v":0},{"$f":"IFERROR($E100*SUMIF('Daily Log'!$AX$18:$AX$1017,$B100,'Daily Log'!$AY$18:$AY$1017),0)","v":0},{"$f":"IFERROR($E100*SUMIF('Daily Log'!$BA$18:$BA$1017,$B100,'Daily Log'!$BB$18:$BB$1017),0)","v":0},{"$f":"IFERROR($E100*SUMIF('Daily Log'!$BD$18:$BD$1017,$B100,'Daily Log'!$BE$18:$BE$1017),0)","v":0},{"$f":"IFERROR($E100*SUMIF('Daily Log'!$BG$18:$BG$1017,$B100,'Daily Log'!$BH$18:$BH$1017),0)","v":0},{"$f":"IFERROR($E100*SUMIF('Daily Log'!$BJ$18:$BJ$1017,$B100,'Daily Log'!$BK$18:$BK$1017),0)","v":0},{"$f":"IFERROR($E100*SUMIF('Daily Log'!$BM$18:$BM$1017,$B100,'Daily Log'!$BN$18:$BN$1017),0)","v":0},{"$f":"IFERROR($E100*SUMIF('Daily Log'!$BP$18:$BP$1017,$B100,'Daily Log'!$BQ$18:$BQ$1017),0)","v":0},{"$f":"IFERROR($E100*SUMIF('Daily Log'!$BS$18:$BS$1017,$B100,'Daily Log'!$BT$18:$BT$1017),0)","v":0},{"$f":"IFERROR($E100*SUMIF('Daily Log'!$BV$18:$BV$1017,$B100,'Daily Log'!$BW$18:$BW$1017),0)","v":0},{"$f":"IFERROR($E100*SUMIF('Daily Log'!$BY$18:$BY$1017,$B100,'Daily Log'!$BZ$18:$BZ$1017),0)","v":0},{"$f":"IFERROR($E100*SUMIF('Daily Log'!$CB$18:$CB$1017,$B100,'Daily Log'!$CC$18:$CC$1017),0)","v":0},{"$f":"IFERROR($E100*SUMIF('Daily Log'!$CE$18:$CE$1017,$B100,'Daily Log'!$CF$18:$CF$1017),0)","v":0},{"$f":"IFERROR($E100*SUMIF('Daily Log'!$CH$18:$CH$1017,$B100,'Daily Log'!$CI$18:$CI$1017),0)","v":0},{"$f":"IFERROR($E100*SUMIF('Daily Log'!$CK$18:$CK$1017,$B100,'Daily Log'!$CL$18:$CL$1017),0)","v":0},{"$f":"IFERROR($E100*SUMIF('Daily Log'!$CN$18:$CN$1017,$B100,'Daily Log'!$CO$18:$CO$1017),0)","v":0}]
[null,"AC20 N : FREE HOUR",null,null,null,0,{"$f":"IFERROR($E101*SUMIF('Daily Log'!$B$18:$B$1017,$B101,'Daily Log'!$C$18:$C$1017),0)","v":0},{"$f":"IFERROR($E101*SUMIF('Daily Log'!$E$18:$E$1017,$B101,'Daily Log'!$F$18:$F$1017),0)","v":0},{"$f":"IFERROR($E101*SUMIF('Daily Log'!$H$18:$H$1017,$B101,'Daily Log'!$I$18:$I$1017),0)","v":0},{"$f":"IFERROR($E101*SUMIF('Daily Log'!$K$18:$K$1017,$B101,'Daily Log'!$L$18:$L$1017),0)","v":0},{"$f":"IFERROR($E101*SUMIF('Daily Log'!$N$18:$N$1017,$B101,'Daily Log'!$O$18:$O$1017),0)","v":0},{"$f":"IFERROR($E101*SUMIF('Daily Log'!$Q$18:$Q$1017,$B101,'Daily Log'!$R$18:$R$1017),0)","v":0},{"$f":"IFERROR($E101*SUMIF('Daily Log'!$T$18:$T$1017,$B101,'Daily Log'!$U$18:$U$1017),0)","v":0},{"$f":"IFERROR($E101*SUMIF('Daily Log'!$W$18:$W$1017,$B101,'Daily Log'!$X$18:$X$1017),0)","v":0},{"$f":"IFERROR($E101*SUMIF('Daily Log'!$Z$18:$Z$1017,$B101,'Daily Log'!$AA$18:$AA$1017),0)","v":0},{"$f":"IFERROR($E101*SUMIF('Daily Log'!$AC$18:$AC$1017,$B101,'Daily Log'!$AD$18:$AD$1017),0)","v":0},{"$f":"IFERROR($E101*SUMIF('Daily Log'!$AF$18:$AF$1017,$B101,'Daily Log'!$AG$18:$AG$1017),0)","v":0},{"$f":"IFERROR($E101*SUMIF('Daily Log'!$AI$18:$AI$1017,$B101,'Daily Log'!$AJ$18:$AJ$1017),0)","v":0},{"$f":"IFERROR($E101*SUMIF('Daily Log'!$AL$18:$AL$1017,$B101,'Daily Log'!$AM$18:$AM$1017),0)","v":0},{"$f":"IFERROR($E101*SUMIF('Daily Log'!$AO$18:$AO$1017,$B101,'Daily Log'!$AP$18:$AP$1017),0)","v":0},{"$f":"IFERROR($E101*SUMIF('Daily Log'!$AR$18:$AR$1017,$B101,'Daily Log'!$AS$18:$AS$1017),0)","v":0},{"$f":"IFERROR($E101*SUMIF('Daily Log'!$AU$18:$AU$1017,$B101,'Daily Log'!$AV$18:$AV$1017),0)","v":0},{"$f":"IFERROR($E101*SUMIF('Daily Log'!$AX$18:$AX$1017,$B101,'Daily Log'!$AY$18:$AY$1017),0)","v":0},{"$f":"IFERROR($E101*SUMIF('Daily Log'!$BA$18:$BA$1017,$B101,'Daily Log'!$BB$18:$BB$1017),0)","v":0},{"$f":"IFERROR($E101*SUMIF('Daily Log'!$BD$18:$BD$1017,$B101,'Daily Log'!$BE$18:$BE$1017),0)","v":0},{"$f":"IFERROR($E101*SUMIF('Daily Log'!$BG$18:$BG$1017,$B101,'Daily Log'!$BH$18:$BH$1017),0)","v":0},{"$f":"IFERROR($E101*SUMIF('Daily Log'!$BJ$18:$BJ$1017,$B101,'Daily Log'!$BK$18:$BK$1017),0)","v":0},{"$f":"IFERROR($E101*SUMIF('Daily Log'!$BM$18:$BM$1017,$B101,'Daily Log'!$BN$18:$BN$1017),0)","v":0},{"$f":"IFERROR($E101*SUMIF('Daily Log'!$BP$18:$BP$1017,$B101,'Daily Log'!$BQ$18:$BQ$1017),0)","v":0},{"$f":"IFERROR($E101*SUMIF('Daily Log'!$BS$18:$BS$1017,$B101,'Daily Log'!$BT$18:$BT$1017),0)","v":0},{"$f":"IFERROR($E101*SUMIF('Daily Log'!$BV$18:$BV$1017,$B101,'Daily Log'!$BW$18:$BW$1017),0)","v":0},{"$f":"IFERROR($E101*SUMIF('Daily Log'!$BY$18:$BY$1017,$B101,'Daily Log'!$BZ$18:$BZ$1017),0)","v":0},{"$f":"IFERROR($E101*SUMIF('Daily Log'!$CB$18:$CB$1017,$B101,'Daily Log'!$CC$18:$CC$1017),0)","v":0},{"$f":"IFERROR($E101*SUMIF('Daily Log'!$CE$18:$CE$1017,$B101,'Daily Log'!$CF$18:$CF$1017),0)","v":0},{"$f":"IFERROR($E101*SUMIF('Daily Log'!$CH$18:$CH$1017,$B101,'Daily Log'!$CI$18:$CI$1017),0)","v":0},{"$f":"IFERROR($E101*SUMIF('Daily Log'!$CK$18:$CK$1017,$B101,'Daily Log'!$CL$18:$CL$1017),0)","v":0},{"$f":"IFERROR($E101*SUMIF('Daily Log'!$CN$18:$CN$1017,$B101,'Daily Log'!$CO$18:$CO$1017),0)","v":0}]
[null,"AC21 N : GROUPON",null,null,null,0,{"$f":"IFERROR($E102*SUMIF('Daily Log'!$B$18:$B$1017,$B102,'Daily Log'!$C$18:$C$1017),0)","v":0},{"$f":"IFERROR($E102*SUMIF('Daily Log'!$E$18:$E$1017,$B102,'Daily Log'!$F$18:$F$1017),0)","v":0},{"$f":"IFERROR($E102*SUMIF('Daily Log'!$H$18:$H$1017,$B102,'Daily Log'!$I$18:$I$1017),0)","v":0},{"$f":"IFERROR($E102*SUMIF('Daily Log'!$K$18:$K$1017,$B102,'Daily Log'!$L$18:$L$1017),0)","v":0},{"$f":"IFERROR($E102*SUMIF('Daily Log'!$N$18:$N$1017,$B102,'Daily Log'!$O$18:$O$1017),0)","v":0},{"$f":"IFERROR($E102*SUMIF('Daily Log'!$Q$18:$Q$1017,$B102,'Daily Log'!$R$18:$R$1017),0)","v":0},{"$f":"IFERROR($E102*SUMIF('Daily Log'!$T$18:$T$1017,$B102,'Daily Log'!$U$18:$U$1017),0)","v":0},{"$f":"IFERROR($E102*SUMIF('Daily Log'!$W$18:$W$1017,$B102,'Daily Log'!$X$18:$X$1017),0)","v":0},{"$f":"IFERROR($E102*SUMIF('Daily Log'!$Z$18:$Z$1017,$B102,'Daily Log'!$AA$18:$AA$1017),0)","v":0},{"$f":"IFERROR($E102*SUMIF('Daily Log'!$AC$18:$AC$1017,$B102,'Daily Log'!$AD$18:$AD$1017),0)","v":0},{"$f":"IFERROR($E102*SUMIF('Daily Log'!$AF$18:$AF$1017,$B102,'Daily Log'!$AG$18:$AG$1017),0)","v":0},{"$f":"IFERROR($E102*SUMIF('Daily Log'!$AI$18:$AI$1017,$B102,'Daily Log'!$AJ$18:$AJ$1017),0)","v":0},{"$f":"IFERROR($E102*SUMIF('Daily Log'!$AL$18:$AL$1017,$B102,'Daily Log'!$AM$18:$AM$1017),0)","v":0},{"$f":"IFERROR($E102*SUMIF('Daily Log'!$AO$18:$AO$1017,$B102,'Daily Log'!$AP$18:$AP$1017),0)","v":0},{"$f":"IFERROR($E102*SUMIF('Daily Log'!$AR$18:$AR$1017,$B102,'Daily Log'!$AS$18:$AS$1017),0)","v":0},{"$f":"IFERROR($E102*SUMIF('Daily Log'!$AU$18:$AU$1017,$B102,'Daily Log'!$AV$18:$AV$1017),0)","v":0},{"$f":"IFERROR($E102*SUMIF('Daily Log'!$AX$18:$AX$1017,$B102,'Daily Log'!$AY$18:$AY$1017),0)","v":0},{"$f":"IFERROR($E102*SUMIF('Daily Log'!$BA$18:$BA$1017,$B102,'Daily Log'!$BB$18:$BB$1017),0)","v":0},{"$f":"IFERROR($E102*SUMIF('Daily Log'!$BD$18:$BD$1017,$B102,'Daily Log'!$BE$18:$BE$1017),0)","v":0},{"$f":"IFERROR($E102*SUMIF('Daily Log'!$BG$18:$BG$1017,$B102,'Daily Log'!$BH$18:$BH$1017),0)","v":0},{"$f":"IFERROR($E102*SUMIF('Daily Log'!$BJ$18:$BJ$1017,$B102,'Daily Log'!$BK$18:$BK$1017),0)","v":0},{"$f":"IFERROR($E102*SUMIF('Daily Log'!$BM$18:$BM$1017,$B102,'Daily Log'!$BN$18:$BN$1017),0)","v":0},{"$f":"IFERROR($E102*SUMIF('Daily Log'!$BP$18:$BP$1017,$B102,'Daily Log'!$BQ$18:$BQ$1017),0)","v":0},{"$f":"IFERROR($E102*SUMIF('Daily Log'!$BS$18:$BS$1017,$B102,'Daily Log'!$BT$18:$BT$1017),0)","v":0},{"$f":"IFERROR($E102*SUMIF('Daily Log'!$BV$18:$BV$1017,$B102,'Daily Log'!$BW$18:$BW$1017),0)","v":0},{"$f":"IFERROR($E102*SUMIF('Daily Log'!$BY$18:$BY$1017,$B102,'Daily Log'!$BZ$18:$BZ$1017),0)","v":0},{"$f":"IFERROR($E102*SUMIF('Daily Log'!$CB$18:$CB$1017,$B102,'Daily Log'!$CC$18:$CC$1017),0)","v":0},{"$f":"IFERROR($E102*SUMIF('Daily Log'!$CE$18:$CE$1017,$B102,'Daily Log'!$CF$18:$CF$1017),0)","v":0},{"$f":"IFERROR($E102*SUMIF('Daily Log'!$CH$18:$CH$1017,$B102,'Daily Log'!$CI$18:$CI$1017),0)","v":0},{"$f":"IFERROR($E102*SUMIF('Daily Log'!$CK$18:$CK$1017,$B102,'Daily Log'!$CL$18:$CL$1017),0)","v":0},{"$f":"IFERROR($E102*SUMIF('Daily Log'!$CN$18:$CN$1017,$B102,'Daily Log'!$CO$18:$CO$1017),0)","v":0}]
[null,"AC23 N : One FM 208",null,null,null,0,{"$f":"IFERROR($E103*SUMIF('Daily Log'!$B$18:$B$1017,$B103,'Daily Log'!$C$18:$C$1017),0)","v":0},{"$f":"IFERROR($E103*SUMIF('Daily Log'!$E$18:$E$1017,$B103,'Daily Log'!$F$18:$F$1017),0)","v":0},{"$f":"IFERROR($E103*SUMIF('Daily Log'!$H$18:$H$1017,$B103,'Daily Log'!$I$18:$I$1017),0)","v":0},{"$f":"IFERROR($E103*SUMIF('Daily Log'!$K$18:$K$1017,$B103,'Daily Log'!$L$18:$L$1017),0)","v":0},{"$f":"IFERROR($E103*SUMIF('Daily Log'!$N$18:$N$1017,$B103,'Daily Log'!$O$18:$O$1017),0)","v":0},{"$f":"IFERROR($E103*SUMIF('Daily Log'!$Q$18:$Q$1017,$B103,'Daily Log'!$R$18:$R$1017),0)","v":0},{"$f":"IFERROR($E103*SUMIF('Daily Log'!$T$18:$T$1017,$B103,'Daily Log'!$U$18:$U$1017),0)","v":0},{"$f":"IFERROR($E103*SUMIF('Daily Log'!$W$18:$W$1017,$B103,'Daily Log'!$X$18:$X$1017),0)","v":0},{"$f":"IFERROR($E103*SUMIF('Daily Log'!$Z$18:$Z$1017,$B103,'Daily Log'!$AA$18:$AA$1017),0)","v":0},{"$f":"IFERROR($E103*SUMIF('Daily Log'!$AC$18:$AC$1017,$B103,'Daily Log'!$AD$18:$AD$1017),0)","v":0},{"$f":"IFERROR($E103*SUMIF('Daily Log'!$AF$18:$AF$1017,$B103,'Daily Log'!$AG$18:$AG$1017),0)","v":0},{"$f":"IFERROR($E103*SUMIF('Daily Log'!$AI$18:$AI$1017,$B103,'Daily Log'!$AJ$18:$AJ$1017),0)","v":0},{"$f":"IFERROR($E103*SUMIF('Daily Log'!$AL$18:$AL$1017,$B103,'Daily Log'!$AM$18:$AM$1017),0)","v":0},{"$f":"IFERROR($E103*SUMIF('Daily Log'!$AO$18:$AO$1017,$B103,'Daily Log'!$AP$18:$AP$1017),0)","v":0},{"$f":"IFERROR($E103*SUMIF('Daily Log'!$AR$18:$AR$1017,$B103,'Daily Log'!$AS$18:$AS$1017),0)","v":0},{"$f":"IFERROR($E103*SUMIF('Daily Log'!$AU$18:$AU$1017,$B103,'Daily Log'!$AV$18:$AV$1017),0)","v":0},{"$f":"IFERROR($E103*SUMIF('Daily Log'!$AX$18:$AX$1017,$B103,'Daily Log'!$AY$18:$AY$1017),0)","v":0},{"$f":"IFERROR($E103*SUMIF('Daily Log'!$BA$18:$BA$1017,$B103,'Daily Log'!$BB$18:$BB$1017),0)","v":0},{"$f":"IFERROR($E103*SUMIF('Daily Log'!$BD$18:$BD$1017,$B103,'Daily Log'!$BE$18:$BE$1017),0)","v":0},{"$f":"IFERROR($E103*SUMIF('Daily Log'!$BG$18:$BG$1017,$B103,'Daily Log'!$BH$18:$BH$1017),0)","v":0},{"$f":"IFERROR($E103*SUMIF('Daily Log'!$BJ$18:$BJ$1017,$B103,'Daily Log'!$BK$18:$BK$1017),0)","v":0},{"$f":"IFERROR($E103*SUMIF('Daily Log'!$BM$18:$BM$1017,$B103,'Daily Log'!$BN$18:$BN$1017),0)","v":0},{"$f":"IFERROR($E103*SUMIF('Daily Log'!$BP$18:$BP$1017,$B103,'Daily Log'!$BQ$18:$BQ$1017),0)","v":0},{"$f":"IFERROR($E103*SUMIF('Daily Log'!$BS$18:$BS$1017,$B103,'Daily Log'!$BT$18:$BT$1017),0)","v":0},{"$f":"IFERROR($E103*SUMIF('Daily Log'!$BV$18:$BV$1017,$B103,'Daily Log'!$BW$18:$BW$1017),0)","v":0},{"$f":"IFERROR($E103*SUMIF('Daily Log'!$BY$18:$BY$1017,$B103,'Daily Log'!$BZ$18:$BZ$1017),0)","v":0},{"$f":"IFERROR($E103*SUMIF('Daily Log'!$CB$18:$CB$1017,$B103,'Daily Log'!$CC$18:$CC$1017),0)","v":0},{"$f":"IFERROR($E103*SUMIF('Daily Log'!$CE$18:$CE$1017,$B103,'Daily Log'!$CF$18:$CF$1017),0)","v":0},{"$f":"IFERROR($E103*SUMIF('Daily Log'!$CH$18:$CH$1017,$B103,'Daily Log'!$CI$18:$CI$1017),0)","v":0},{"$f":"IFERROR($E103*SUMIF('Daily Log'!$CK$18:$CK$1017,$B103,'Daily Log'!$CL$18:$CL$1017),0)","v":0},{"$f":"IFERROR($E103*SUMIF('Daily Log'!$CN$18:$CN$1017,$B103,'Daily Log'!$CO$18:$CO$1017),0)","v":0}]
[null,"AC24 N:Student Mem",null,null,null,0,{"$f":"IFERROR($E104*SUMIF('Daily Log'!$B$18:$B$1017,$B104,'Daily Log'!$C$18:$C$1017),0)","v":0},{"$f":"IFERROR($E104*SUMIF('Daily Log'!$E$18:$E$1017,$B104,'Daily Log'!$F$18:$F$1017),0)","v":0},{"$f":"IFERROR($E104*SUMIF('Daily Log'!$H$18:$H$1017,$B104,'Daily Log'!$I$18:$I$1017),0)","v":0},{"$f":"IFERROR($E104*SUMIF('Daily Log'!$K$18:$K$1017,$B104,'Daily Log'!$L$18:$L$1017),0)","v":0},{"$f":"IFERROR($E104*SUMIF('Daily Log'!$N$18:$N$1017,$B104,'Daily Log'!$O$18:$O$1017),0)","v":0},{"$f":"IFERROR($E104*SUMIF('Daily Log'!$Q$18:$Q$1017,$B104,'Daily Log'!$R$18:$R$1017),0)","v":0},{"$f":"IFERROR($E104*SUMIF('Daily Log'!$T$18:$T$1017,$B104,'Daily Log'!$U$18:$U$1017),0)","v":0},{"$f":"IFERROR($E104*SUMIF('Daily Log'!$W$18:$W$1017,$B104,'Daily Log'!$X$18:$X$1017),0)","v":0},{"$f":"IFERROR($E104*SUMIF('Daily Log'!$Z$18:$Z$1017,$B104,'Daily Log'!$AA$18:$AA$1017),0)","v":0},{"$f":"IFERROR($E104*SUMIF('Daily Log'!$AC$18:$AC$1017,$B104,'Daily Log'!$AD$18:$AD$1017),0)","v":0},{"$f":"IFERROR($E104*SUMIF('Daily Log'!$AF$18:$AF$1017,$B104,'Daily Log'!$AG$18:$AG$1017),0)","v":0},{"$f":"IFERROR($E104*SUMIF('Daily Log'!$AI$18:$AI$1017,$B104,'Daily Log'!$AJ$18:$AJ$1017),0)","v":0},{"$f":"IFERROR($E104*SUMIF('Daily Log'!$AL$18:$AL$1017,$B104,'Daily Log'!$AM$18:$AM$1017),0)","v":0},{"$f":"IFERROR($E104*SUMIF('Daily Log'!$AO$18:$AO$1017,$B104,'Daily Log'!$AP$18:$AP$1017),0)","v":0},{"$f":"IFERROR($E104*SUMIF('Daily Log'!$AR$18:$AR$1017,$B104,'Daily Log'!$AS$18:$AS$1017),0)","v":0},{"$f":"IFERROR($E104*SUMIF('Daily Log'!$AU$18:$AU$1017,$B104,'Daily Log'!$AV$18:$AV$1017),0)","v":0},{"$f":"IFERROR($E104*SUMIF('Daily Log'!$AX$18:$AX$1017,$B104,'Daily Log'!$AY$18:$AY$1017),0)","v":0},{"$f":"IFERROR($E104*SUMIF('Daily Log'!$BA$18:$BA$1017,$B104,'Daily Log'!$BB$18:$BB$1017),0)","v":0},{"$f":"IFERROR($E104*SUMIF('Daily Log'!$BD$18:$BD$1017,$B104,'Daily Log'!$BE$18:$BE$1017),0)","v":0},{"$f":"IFERROR($E104*SUMIF('Daily Log'!$BG$18:$BG$1017,$B104,'Daily Log'!$BH$18:$BH$1017),0)","v":0},{"$f":"IFERROR($E104*SUMIF('Daily Log'!$BJ$18:$BJ$1017,$B104,'Daily Log'!$BK$18:$BK$1017),0)","v":0},{"$f":"IFERROR($E104*SUMIF('Daily Log'!$BM$18:$BM$1017,$B104,'Daily Log'!$BN$18:$BN$1017),0)","v":0},{"$f":"IFERROR($E104*SUMIF('Daily Log'!$BP$18:$BP$1017,$B104,'Daily Log'!$BQ$18:$BQ$1017),0)","v":0},{"$f":"IFERROR($E104*SUMIF('Daily Log'!$BS$18:$BS$1017,$B104,'Daily Log'!$BT$18:$BT$1017),0)","v":0},{"$f":"IFERROR($E104*SUMIF('Daily Log'!$BV$18:$BV$1017,$B104,'Daily Log'!$BW$18:$BW$1017),0)","v":0},{"$f":"IFERROR($E104*SUMIF('Daily Log'!$BY$18:$BY$1017,$B104,'Daily Log'!$BZ$18:$BZ$1017),0)","v":0},{"$f":"IFERROR($E104*SUMIF('Daily Log'!$CB$18:$CB$1017,$B104,'Daily Log'!$CC$18:$CC$1017),0)","v":0},{"$f":"IFERROR($E104*SUMIF('Daily Log'!$CE$18:$CE$1017,$B104,'Daily Log'!$CF$18:$CF$1017),0)","v":0},{"$f":"IFERROR($E104*SUMIF('Daily Log'!$CH$18:$CH$1017,$B104,'Daily Log'!$CI$18:$CI$1017),0)","v":0},{"$f":"IFERROR($E104*SUMIF('Daily Log'!$CK$18:$CK$1017,$B104,'Daily Log'!$CL$18:$CL$1017),0)","v":0},{"$f":"IFERROR($E104*SUMIF('Daily Log'!$CN$18:$CN$1017,$B104,'Daily Log'!$CO$18:$CO$1017),0)","v":0}]
[null,"AC27 N : iGOT DIS 3+1",null,null,null,0,{"$f":"IFERROR($E105*SUMIF('Daily Log'!$B$18:$B$1017,$B105,'Daily Log'!$C$18:$C$1017),0)","v":0},{"$f":"IFERROR($E105*SUMIF('Daily Log'!$E$18:$E$1017,$B105,'Daily Log'!$F$18:$F$1017),0)","v":0},{"$f":"IFERROR($E105*SUMIF('Daily Log'!$H$18:$H$1017,$B105,'Daily Log'!$I$18:$I$1017),0)","v":0},{"$f":"IFERROR($E105*SUMIF('Daily Log'!$K$18:$K$1017,$B105,'Daily Log'!$L$18:$L$1017),0)","v":0},{"$f":"IFERROR($E105*SUMIF('Daily Log'!$N$18:$N$1017,$B105,'Daily Log'!$O$18:$O$1017),0)","v":0},{"$f":"IFERROR($E105*SUMIF('Daily Log'!$Q$18:$Q$1017,$B105,'Daily Log'!$R$18:$R$1017),0)","v":0},{"$f":"IFERROR($E105*SUMIF('Daily Log'!$T$18:$T$1017,$B105,'Daily Log'!$U$18:$U$1017),0)","v":0},{"$f":"IFERROR($E105*SUMIF('Daily Log'!$W$18:$W$1017,$B105,'Daily Log'!$X$18:$X$1017),0)","v":0},{"$f":"IFERROR($E105*SUMIF('Daily Log'!$Z$18:$Z$1017,$B105,'Daily Log'!$AA$18:$AA$1017),0)","v":0},{"$f":"IFERROR($E105*SUMIF('Daily Log'!$AC$18:$AC$1017,$B105,'Daily Log'!$AD$18:$AD$1017),0)","v":0},{"$f":"IFERROR($E105*SUMIF('Daily Log'!$AF$18:$AF$1017,$B105,'Daily Log'!$AG$18:$AG$1017),0)","v":0},{"$f":"IFERROR($E105*SUMIF('Daily Log'!$AI$18:$AI$1017,$B105,'Daily Log'!$AJ$18:$AJ$1017),0)","v":0},{"$f":"IFERROR($E105*SUMIF('Daily Log'!$AL$18:$AL$1017,$B105,'Daily Log'!$AM$18:$AM$1017),0)","v":0},{"$f":"IFERROR($E105*SUMIF('Daily Log'!$AO$18:$AO$1017,$B105,'Daily Log'!$AP$18:$AP$1017),0)","v":0},{"$f":"IFERROR($E105*SUMIF('Daily Log'!$AR$18:$AR$1017,$B105,'Daily Log'!$AS$18:$AS$1017),0)","v":0},{"$f":"IFERROR($E105*SUMIF('Daily Log'!$AU$18:$AU$1017,$B105,'Daily Log'!$AV$18:$AV$1017),0)","v":0},{"$f":"IFERROR($E105*SUMIF('Daily Log'!$AX$18:$AX$1017,$B105,'Daily Log'!$AY$18:$AY$1017),0)","v":0},{"$f":"IFERROR($E105*SUMIF('Daily Log'!$BA$18:$BA$1017,$B105,'Daily Log'!$BB$18:$BB$1017),0)","v":0},{"$f":"IFERROR($E105*SUMIF('Daily Log'!$BD$18:$BD$1017,$B105,'Daily Log'!$BE$18:$BE$1017),0)","v":0},{"$f":"IFERROR($E105*SUMIF('Daily Log'!$BG$18:$BG$1017,$B105,'Daily Log'!$BH$18:$BH$1017),0)","v":0},{"$f":"IFERROR($E105*SUMIF('Daily Log'!$BJ$18:$BJ$1017,$B105,'Daily Log'!$BK$18:$BK$1017),0)","v":0},{"$f":"IFERROR($E105*SUMIF('Daily Log'!$BM$18:$BM$1017,$B105,'Daily Log'!$BN$18:$BN$1017),0)","v":0},{"$f":"IFERROR($E105*SUMIF('Daily Log'!$BP$18:$BP$1017,$B105,'Daily Log'!$BQ$18:$BQ$1017),0)","v":0},{"$f":"IFERROR($E105*SUMIF('Daily Log'!$BS$18:$BS$1017,$B105,'Daily Log'!$BT$18:$BT$1017),0)","v":0},{"$f":"IFERROR($E105*SUMIF('Daily Log'!$BV$18:$BV$1017,$B105,'Daily Log'!$BW$18:$BW$1017),0)","v":0},{"$f":"IFERROR($E105*SUMIF('Daily Log'!$BY$18:$BY$1017,$B105,'Daily Log'!$BZ$18:$BZ$1017),0)","v":0},{"$f":"IFERROR($E105*SUMIF('Daily Log'!$CB$18:$CB$1017,$B105,'Daily Log'!$CC$18:$CC$1017),0)","v":0},{"$f":"IFERROR($E105*SUMIF('Daily Log'!$CE$18:$CE$1017,$B105,'Daily Log'!$CF$18:$CF$1017),0)","v":0},{"$f":"IFERROR($E105*SUMIF('Daily Log'!$CH$18:$CH$1017,$B105,'Daily Log'!$CI$18:$CI$1017),0)","v":0},{"$f":"IFERROR($E105*SUMIF('Daily Log'!$CK$18:$CK$1017,$B105,'Daily Log'!$CL$18:$CL$1017),0)","v":0},{"$f":"IFERROR($E105*SUMIF('Daily Log'!$CN$18:$CN$1017,$B105,'Daily Log'!$CO$18:$CO$1017),0)","v":0}]
[null,"AC28 N: Student Diner",null,null,null,0,{"$f":"IFERROR($E106*SUMIF('Daily Log'!$B$18:$B$1017,$B106,'Daily Log'!$C$18:$C$1017),0)","v":0},{"$f":"IFERROR($E106*SUMIF('Daily Log'!$E$18:$E$1017,$B106,'Daily Log'!$F$18:$F$1017),0)","v":0},{"$f":"IFERROR($E106*SUMIF('Daily Log'!$H$18:$H$1017,$B106,'Daily Log'!$I$18:$I$1017),0)","v":0},{"$f":"IFERROR($E106*SUMIF('Daily Log'!$K$18:$K$1017,$B106,'Daily Log'!$L$18:$L$1017),0)","v":0},{"$f":"IFERROR($E106*SUMIF('Daily Log'!$N$18:$N$1017,$B106,'Daily Log'!$O$18:$O$1017),0)","v":0},{"$f":"IFERROR($E106*SUMIF('Daily Log'!$Q$18:$Q$1017,$B106,'Daily Log'!$R$18:$R$1017),0)","v":0},{"$f":"IFERROR($E106*SUMIF('Daily Log'!$T$18:$T$1017,$B106,'Daily Log'!$U$18:$U$1017),0)","v":0},{"$f":"IFERROR($E106*SUMIF('Daily Log'!$W$18:$W$1017,$B106,'Daily Log'!$X$18:$X$1017),0)","v":0},{"$f":"IFERROR($E106*SUMIF('Daily Log'!$Z$18:$Z$1017,$B106,'Daily Log'!$AA$18:$AA$1017),0)","v":0},{"$f":"IFERROR($E106*SUMIF('Daily Log'!$AC$18:$AC$1017,$B106,'Daily Log'!$AD$18:$AD$1017),0)","v":0},{"$f":"IFERROR($E106*SUMIF('Daily Log'!$AF$18:$AF$1017,$B106,'Daily Log'!$AG$18:$AG$1017),0)","v":0},{"$f":"IFERROR($E106*SUMIF('Daily Log'!$AI$18:$AI$1017,$B106,'Daily Log'!$AJ$18:$AJ$1017),0)","v":0},{"$f":"IFERROR($E106*SUMIF('Daily Log'!$AL$18:$AL$1017,$B106,'Daily Log'!$AM$18:$AM$1017),0)","v":0},{"$f":"IFERROR($E106*SUMIF('Daily Log'!$AO$18:$AO$1017,$B106,'Daily Log'!$AP$18:$AP$1017),0)","v":0},{"$f":"IFERROR($E106*SUMIF('Daily Log'!$AR$18:$AR$1017,$B106,'Daily Log'!$AS$18:$AS$1017),0)","v":0},{"$f":"IFERROR($E106*SUMIF('Daily Log'!$AU$18:$AU$1017,$B106,'Daily Log'!$AV$18:$AV$1017),0)","v":0},{"$f":"IFERROR($E106*SUMIF('Daily Log'!$AX$18:$AX$1017,$B106,'Daily Log'!$AY$18:$AY$1017),0)","v":0},{"$f":"IFERROR($E106*SUMIF('Daily Log'!$BA$18:$BA$1017,$B106,'Daily Log'!$BB$18:$BB$1017),0)","v":0},{"$f":"IFERROR($E106*SUMIF('Daily Log'!$BD$18:$BD$1017,$B106,'Daily Log'!$BE$18:$BE$1017),0)","v":0},{"$f":"IFERROR($E106*SUMIF('Daily Log'!$BG$18:$BG$1017,$B106,'Daily Log'!$BH$18:$BH$1017),0)","v":0},{"$f":"IFERROR($E106*SUMIF('Daily Log'!$BJ$18:$BJ$1017,$B106,'Daily Log'!$BK$18:$BK$1017),0)","v":0},{"$f":"IFERROR($E106*SUMIF('Daily Log'!$BM$18:$BM$1017,$B106,'Daily Log'!$BN$18:$BN$1017),0)","v":0},{"$f":"IFERROR($E106*SUMIF('Daily Log'!$BP$18:$BP$1017,$B106,'Daily Log'!$BQ$18:$BQ$1017),0)","v":0},{"$f":"IFERROR($E106*SUMIF('Daily Log'!$BS$18:$BS$1017,$B106,'Daily Log'!$BT$18:$BT$1017),0)","v":0},{"$f":"IFERROR($E106*SUMIF('Daily Log'!$BV$18:$BV$1017,$B106,'Daily Log'!$BW$18:$BW$1017),0)","v":0},{"$f":"IFERROR($E106*SUMIF('Daily Log'!$BY$18:$BY$1017,$B106,'Daily Log'!$BZ$18:$BZ$1017),0)","v":0},{"$f":"IFERROR($E106*SUMIF('Daily Log'!$CB$18:$CB$1017,$B106,'Daily Log'!$CC$18:$CC$1017),0)","v":0},{"$f":"IFERROR($E106*SUMIF('Daily Log'!$CE$18:$CE$1017,$B106,'Daily Log'!$CF$18:$CF$1017),0)","v":0},{"$f":"IFERROR($E106*SUMIF('Daily Log'!$CH$18:$CH$1017,$B106,'Daily Log'!$CI$18:$CI$1017),0)","v":0},{"$f":"IFERROR($E106*SUMIF('Daily Log'!$CK$18:$CK$1017,$B106,'Daily Log'!$CL$18:$CL$1017),0)","v":0},{"$f":"IFERROR($E106*SUMIF('Daily Log'!$CN$18:$CN$1017,$B106,'Daily Log'!$CO$18:$CO$1017),0)","v":0}]
[null,"AD01 M : REGULAR",null,null,null,0,{"$f":"IFERROR($E107*SUMIF('Daily Log'!$B$18:$B$1017,$B107,'Daily Log'!$C$18:$C$1017),0)","v":0},{"$f":"IFERROR($E107*SUMIF('Daily Log'!$E$18:$E$1017,$B107,'Daily Log'!$F$18:$F$1017),0)","v":0},{"$f":"IFERROR($E107*SUMIF('Daily Log'!$H$18:$H$1017,$B107,'Daily Log'!$I$18:$I$1017),0)","v":0},{"$f":"IFERROR($E107*SUMIF('Daily Log'!$K$18:$K$1017,$B107,'Daily Log'!$L$18:$L$1017),0)","v":0},{"$f":"IFERROR($E107*SUMIF('Daily Log'!$N$18:$N$1017,$B107,'Daily Log'!$O$18:$O$1017),0)","v":0},{"$f":"IFERROR($E107*SUMIF('Daily Log'!$Q$18:$Q$1017,$B107,'Daily Log'!$R$18:$R$1017),0)","v":0},{"$f":"IFERROR($E107*SUMIF('Daily Log'!$T$18:$T$1017,$B107,'Daily Log'!$U$18:$U$1017),0)","v":0},{"$f":"IFERROR($E107*SUMIF('Daily Log'!$W$18:$W$1017,$B107,'Daily Log'!$X$18:$X$1017),0)","v":0},{"$f":"IFERROR($E107*SUMIF('Daily Log'!$Z$18:$Z$1017,$B107,'Daily Log'!$AA$18:$AA$1017),0)","v":0},{"$f":"IFERROR($E107*SUMIF('Daily Log'!$AC$18:$AC$1017,$B107,'Daily Log'!$AD$18:$AD$1017),0)","v":0},{"$f":"IFERROR($E107*SUMIF('Daily Log'!$AF$18:$AF$1017,$B107,'Daily Log'!$AG$18:$AG$1017),0)","v":0},{"$f":"IFERROR($E107*SUMIF('Daily Log'!$AI$18:$AI$1017,$B107,'Daily Log'!$AJ$18:$AJ$1017),0)","v":0},{"$f":"IFERROR($E107*SUMIF('Daily Log'!$AL$18:$AL$1017,$B107,'Daily Log'!$AM$18:$AM$1017),0)","v":0},{"$f":"IFERROR($E107*SUMIF('Daily Log'!$AO$18:$AO$1017,$B107,'Daily Log'!$AP$18:$AP$1017),0)","v":0},{"$f":"IFERROR($E107*SUMIF('Daily Log'!$AR$18:$AR$1017,$B107,'Daily Log'!$AS$18:$AS$1017),0)","v":0},{"$f":"IFERROR($E107*SUMIF('Daily Log'!$AU$18:$AU$1017,$B107,'Daily Log'!$AV$18:$AV$1017),0)","v":0},{"$f":"IFERROR($E107*SUMIF('Daily Log'!$AX$18:$AX$1017,$B107,'Daily Log'!$AY$18:$AY$1017),0)","v":0},{"$f":"IFERROR($E107*SUMIF('Daily Log'!$BA$18:$BA$1017,$B107,'Daily Log'!$BB$18:$BB$1017),0)","v":0},{"$f":"IFERROR($E107*SUMIF('Daily Log'!$BD$18:$BD$1017,$B107,'Daily Log'!$BE$18:$BE$1017),0)","v":0},{"$f":"IFERROR($E107*SUMIF('Daily Log'!$BG$18:$BG$1017,$B107,'Daily Log'!$BH$18:$BH$1017),0)","v":0},{"$f":"IFERROR($E107*SUMIF('Daily Log'!$BJ$18:$BJ$1017,$B107,'Daily Log'!$BK$18:$BK$1017),0)","v":0},{"$f":"IFERROR($E107*SUMIF('Daily Log'!$BM$18:$BM$1017,$B107,'Daily Log'!$BN$18:$BN$1017),0)","v":0},{"$f":"IFERROR($E107*SUMIF('Daily Log'!$BP$18:$BP$1017,$B107,'Daily Log'!$BQ$18:$BQ$1017),0)","v":0},{"$f":"IFERROR($E107*SUMIF('Daily Log'!$BS$18:$BS$1017,$B107,'Daily Log'!$BT$18:$BT$1017),0)","v":0},{"$f":"IFERROR($E107*SUMIF('Daily Log'!$BV$18:$BV$1017,$B107,'Daily Log'!$BW$18:$BW$1017),0)","v":0},{"$f":"IFERROR($E107*SUMIF('Daily Log'!$BY$18:$BY$1017,$B107,'Daily Log'!$BZ$18:$BZ$1017),0)","v":0},{"$f":"IFERROR($E107*SUMIF('Daily Log'!$CB$18:$CB$1017,$B107,'Daily Log'!$CC$18:$CC$1017),0)","v":0},{"$f":"IFERROR($E107*SUMIF('Daily Log'!$CE$18:$CE$1017,$B107,'Daily Log'!$CF$18:$CF$1017),0)","v":0},{"$f":"IFERROR($E107*SUMIF('Daily Log'!$CH$18:$CH$1017,$B107,'Daily Log'!$CI$18:$CI$1017),0)","v":0},{"$f":"IFERROR($E107*SUMIF('Daily Log'!$CK$18:$CK$1017,$B107,'Daily Log'!$CL$18:$CL$1017),0)","v":0},{"$f":"IFERROR($E107*SUMIF('Daily Log'!$CN$18:$CN$1017,$B107,'Daily Log'!$CO$18:$CO$1017),0)","v":0}]
[null,"AD02 M : MEMBER",null,null,null,0,{"$f":"IFERROR($E108*SUMIF('Daily Log'!$B$18:$B$1017,$B108,'Daily Log'!$C$18:$C$1017),0)","v":0},{"$f":"IFERROR($E108*SUMIF('Daily Log'!$E$18:$E$1017,$B108,'Daily Log'!$F$18:$F$1017),0)","v":0},{"$f":"IFERROR($E108*SUMIF('Daily Log'!$H$18:$H$1017,$B108,'Daily Log'!$I$18:$I$1017),0)","v":0},{"$f":"IFERROR($E108*SUMIF('Daily Log'!$K$18:$K$1017,$B108,'Daily Log'!$L$18:$L$1017),0)","v":0},{"$f":"IFERROR($E108*SUMIF('Daily Log'!$N$18:$N$1017,$B108,'Daily Log'!$O$18:$O$1017),0)","v":0},{"$f":"IFERROR($E108*SUMIF('Daily Log'!$Q$18:$Q$1017,$B108,'Daily Log'!$R$18:$R$1017),0)","v":0},{"$f":"IFERROR($E108*SUMIF('Daily Log'!$T$18:$T$1017,$B108,'Daily Log'!$U$18:$U$1017),0)","v":0},{"$f":"IFERROR($E108*SUMIF('Daily Log'!$W$18:$W$1017,$B108,'Daily Log'!$X$18:$X$1017),0)","v":0},{"$f":"IFERROR($E108*SUMIF('Daily Log'!$Z$18:$Z$1017,$B108,'Daily Log'!$AA$18:$AA$1017),0)","v":0},{"$f":"IFERROR($E108*SUMIF('Daily Log'!$AC$18:$AC$1017,$B108,'Daily Log'!$AD$18:$AD$1017),0)","v":0},{"$f":"IFERROR($E108*SUMIF('Daily Log'!$AF$18:$AF$1017,$B108,'Daily Log'!$AG$18:$AG$1017),0)","v":0},{"$f":"IFERROR($E108*SUMIF('Daily Log'!$AI$18:$AI$1017,$B108,'Daily Log'!$AJ$18:$AJ$1017),0)","v":0},{"$f":"IFERROR($E108*SUMIF('Daily Log'!$AL$18:$AL$1017,$B108,'Daily Log'!$AM$18:$AM$1017),0)","v":0},{"$f":"IFERROR($E108*SUMIF('Daily Log'!$AO$18:$AO$1017,$B108,'Daily Log'!$AP$18:$AP$1017),0)","v":0},{"$f":"IFERROR($E108*SUMIF('Daily Log'!$AR$18:$AR$1017,$B108,'Daily Log'!$AS$18:$AS$1017),0)","v":0},{"$f":"IFERROR($E108*SUMIF('Daily Log'!$AU$18:$AU$1017,$B108,'Daily Log'!$AV$18:$AV$1017),0)","v":0},{"$f":"IFERROR($E108*SUMIF('Daily Log'!$AX$18:$AX$1017,$B108,'Daily Log'!$AY$18:$AY$1017),0)","v":0},{"$f":"IFERROR($E108*SUMIF('Daily Log'!$BA$18:$BA$1017,$B108,'Daily Log'!$BB$18:$BB$1017),0)","v":0},{"$f":"IFERROR($E108*SUMIF('Daily Log'!$BD$18:$BD$1017,$B108,'Daily Log'!$BE$18:$BE$1017),0)","v":0},{"$f":"IFERROR($E108*SUMIF('Daily Log'!$BG$18:$BG$1017,$B108,'Daily Log'!$BH$18:$BH$1017),0)","v":0},{"$f":"IFERROR($E108*SUMIF('Daily Log'!$BJ$18:$BJ$1017,$B108,'Daily Log'!$BK$18:$BK$1017),0)","v":0},{"$f":"IFERROR($E108*SUMIF('Daily Log'!$BM$18:$BM$1017,$B108,'Daily Log'!$BN$18:$BN$1017),0)","v":0},{"$f":"IFERROR($E108*SUMIF('Daily Log'!$BP$18:$BP$1017,$B108,'Daily Log'!$BQ$18:$BQ$1017),0)","v":0},{"$f":"IFERROR($E108*SUMIF('Daily Log'!$BS$18:$BS$1017,$B108,'Daily Log'!$BT$18:$BT$1017),0)","v":0},{"$f":"IFERROR($E108*SUMIF('Daily Log'!$BV$18:$BV$1017,$B108,'Daily Log'!$BW$18:$BW$1017),0)","v":0},{"$f":"IFERROR($E108*SUMIF('Daily Log'!$BY$18:$BY$1017,$B108,'Daily Log'!$BZ$18:$BZ$1017),0)","v":0},{"$f":"IFERROR($E108*SUMIF('Daily Log'!$CB$18:$CB$1017,$B108,'Daily Log'!$CC$18:$CC$1017),0)","v":0},{"$f":"IFERROR($E108*SUMIF('Daily Log'!$CE$18:$CE$1017,$B108,'Daily Log'!$CF$18:$CF$1017),0)","v":0},{"$f":"IFERROR($E108*SUMIF('Daily Log'!$CH$18:$CH$1017,$B108,'Daily Log'!$CI$18:$CI$1017),0)","v":0},{"$f":"IFERROR($E108*SUMIF('Daily Log'!$CK$18:$CK$1017,$B108,'Daily Log'!$CL$18:$CL$1017),0)","v":0},{"$f":"IFERROR($E108*SUMIF('Daily Log'!$CN$18:$CN$1017,$B108,'Daily Log'!$CO$18:$CO$1017),0)","v":0}]
[null,"AD03 M : MEMBER 30%",null,null,null,0,{"$f":"IFERROR($E109*SUMIF('Daily Log'!$B$18:$B$1017,$B109,'Daily Log'!$C$18:$C$1017),0)","v":0},{"$f":"IFERROR($E109*SUMIF('Daily Log'!$E$18:$E$1017,$B109,'Daily Log'!$F$18:$F$1017),0)","v":0},{"$f":"IFERROR($E109*SUMIF('Daily Log'!$H$18:$H$1017,$B109,'Daily Log'!$I$18:$I$1017),0)","v":0},{"$f":"IFERROR($E109*SUMIF('Daily Log'!$K$18:$K$1017,$B109,'Daily Log'!$L$18:$L$1017),0)","v":0},{"$f":"IFERROR($E109*SUMIF('Daily Log'!$N$18:$N$1017,$B109,'Daily Log'!$O$18:$O$1017),0)","v":0},{"$f":"IFERROR($E109*SUMIF('Daily Log'!$Q$18:$Q$1017,$B109,'Daily Log'!$R$18:$R$1017),0)","v":0},{"$f":"IFERROR($E109*SUMIF('Daily Log'!$T$18:$T$1017,$B109,'Daily Log'!$U$18:$U$1017),0)","v":0},{"$f":"IFERROR($E109*SUMIF('Daily Log'!$W$18:$W$1017,$B109,'Daily Log'!$X$18:$X$1017),0)","v":0},{"$f":"IFERROR($E109*SUMIF('Daily Log'!$Z$18:$Z$1017,$B109,'Daily Log'!$AA$18:$AA$1017),0)","v":0},{"$f":"IFERROR($E109*SUMIF('Daily Log'!$AC$18:$AC$1017,$B109,'Daily Log'!$AD$18:$AD$1017),0)","v":0},{"$f":"IFERROR($E109*SUMIF('Daily Log'!$AF$18:$AF$1017,$B109,'Daily Log'!$AG$18:$AG$1017),0)","v":0},{"$f":"IFERROR($E109*SUMIF('Daily Log'!$AI$18:$AI$1017,$B109,'Daily Log'!$AJ$18:$AJ$1017),0)","v":0},{"$f":"IFERROR($E109*SUMIF('Daily Log'!$AL$18:$AL$1017,$B109,'Daily Log'!$AM$18:$AM$1017),0)","v":0},{"$f":"IFERROR($E109*SUMIF('Daily Log'!$AO$18:$AO$1017,$B109,'Daily Log'!$AP$18:$AP$1017),0)","v":0},{"$f":"IFERROR($E109*SUMIF('Daily Log'!$AR$18:$AR$1017,$B109,'Daily Log'!$AS$18:$AS$1017),0)","v":0},{"$f":"IFERROR($E109*SUMIF('Daily Log'!$AU$18:$AU$1017,$B109,'Daily Log'!$AV$18:$AV$1017),0)","v":0},{"$f":"IFERROR($E109*SUMIF('Daily Log'!$AX$18:$AX$1017,$B109,'Daily Log'!$AY$18:$AY$1017),0)","v":0},{"$f":"IFERROR($E109*SUMIF('Daily Log'!$BA$18:$BA$1017,$B109,'Daily Log'!$BB$18:$BB$1017),0)","v":0},{"$f":"IFERROR($E109*SUMIF('Daily Log'!$BD$18:$BD$1017,$B109,'Daily Log'!$BE$18:$BE$1017),0)","v":0},{"$f":"IFERROR($E109*SUMIF('Daily Log'!$BG$18:$BG$1017,$B109,'Daily Log'!$BH$18:$BH$1017),0)","v":0},{"$f":"IFERROR($E109*SUMIF('Daily Log'!$BJ$18:$BJ$1017,$B109,'Daily Log'!$BK$18:$BK$1017),0)","v":0},{"$f":"IFERROR($E109*SUMIF('Daily Log'!$BM$18:$BM$1017,$B109,'Daily Log'!$BN$18:$BN$1017),0)","v":0},{"$f":"IFERROR($E109*SUMIF('Daily Log'!$BP$18:$BP$1017,$B109,'Daily Log'!$BQ$18:$BQ$1017),0)","v":0},{"$f":"IFERROR($E109*SUMIF('Daily Log'!$BS$18:$BS$1017,$B109,'Daily Log'!$BT$18:$BT$1017),0)","v":0},{"$f":"IFERROR($E109*SUMIF('Daily Log'!$BV$18:$BV$1017,$B109,'Daily Log'!$BW$18:$BW$1017),0)","v":0},{"$f":"IFERROR($E109*SUMIF('Daily Log'!$BY$18:$BY$1017,$B109,'Daily Log'!$BZ$18:$BZ$1017),0)","v":0},{"$f":"IFERROR($E109*SUMIF('Daily Log'!$CB$18:$CB$1017,$B109,'Daily Log'!$CC$18:$CC$1017),0)","v":0},{"$f":"IFERROR($E109*SUMIF('Daily Log'!$CE$18:$CE$1017,$B109,'Daily Log'!$CF$18:$CF$1017),0)","v":0},{"$f":"IFERROR($E109*SUMIF('Daily Log'!$CH$18:$CH$1017,$B109,'Daily Log'!$CI$18:$CI$1017),0)","v":0},{"$f":"IFERROR($E109*SUMIF('Daily Log'!$CK$18:$CK$1017,$B109,'Daily Log'!$CL$18:$CL$1017),0)","v":0},{"$f":"IFERROR($E109*SUMIF('Daily Log'!$CN$18:$CN$1017,$B109,'Daily Log'!$CO$18:$CO$1017),0)","v":0}]
[null,"AD04 M : CARI MEMBER",null,null,null,0,{"$f":"IFERROR($E110*SUMIF('Daily Log'!$B$18:$B$1017,$B110,'Daily Log'!$C$18:$C$1017),0)","v":0},{"$f":"IFERROR($E110*SUMIF('Daily Log'!$E$18:$E$1017,$B110,'Daily Log'!$F$18:$F$1017),0)","v":0},{"$f":"IFERROR($E110*SUMIF('Daily Log'!$H$18:$H$1017,$B110,'Daily Log'!$I$18:$I$1017),0)","v":0},{"$f":"IFERROR($E110*SUMIF('Daily Log'!$K$18:$K$1017,$B110,'Daily Log'!$L$18:$L$1017),0)","v":0},{"$f":"IFERROR($E110*SUMIF('Daily Log'!$N$18:$N$1017,$B110,'Daily Log'!$O$18:$O$1017),0)","v":0},{"$f":"IFERROR($E110*SUMIF('Daily Log'!$Q$18:$Q$1017,$B110,'Daily Log'!$R$18:$R$1017),0)","v":0},{"$f":"IFERROR($E110*SUMIF('Daily Log'!$T$18:$T$1017,$B110,'Daily Log'!$U$18:$U$1017),0)","v":0},{"$f":"IFERROR($E110*SUMIF('Daily Log'!$W$18:$W$1017,$B110,'Daily Log'!$X$18:$X$1017),0)","v":0},{"$f":"IFERROR($E110*SUMIF('Daily Log'!$Z$18:$Z$1017,$B110,'Daily Log'!$AA$18:$AA$1017),0)","v":0},{"$f":"IFERROR($E110*SUMIF('Daily Log'!$AC$18:$AC$1017,$B110,'Daily Log'!$AD$18:$AD$1017),0)","v":0},{"$f":"IFERROR($E110*SUMIF('Daily Log'!$AF$18:$AF$1017,$B110,'Daily Log'!$AG$18:$AG$1017),0)","v":0},{"$f":"IFERROR($E110*SUMIF('Daily Log'!$AI$18:$AI$1017,$B110,'Daily Log'!$AJ$18:$AJ$1017),0)","v":0},{"$f":"IFERROR($E110*SUMIF('Daily Log'!$AL$18:$AL$1017,$B110,'Daily Log'!$AM$18:$AM$1017),0)","v":0},{"$f":"IFERROR($E110*SUMIF('Daily Log'!$AO$18:$AO$1017,$B110,'Daily Log'!$AP$18:$AP$1017),0)","v":0},{"$f":"IFERROR($E110*SUMIF('Daily Log'!$AR$18:$AR$1017,$B110,'Daily Log'!$AS$18:$AS$1017),0)","v":0},{"$f":"IFERROR($E110*SUMIF('Daily Log'!$AU$18:$AU$1017,$B110,'Daily Log'!$AV$18:$AV$1017),0)","v":0},{"$f":"IFERROR($E110*SUMIF('Daily Log'!$AX$18:$AX$1017,$B110,'Daily Log'!$AY$18:$AY$1017),0)","v":0},{"$f":"IFERROR($E110*SUMIF('Daily Log'!$BA$18:$BA$1017,$B110,'Daily Log'!$BB$18:$BB$1017),0)","v":0},{"$f":"IFERROR($E110*SUMIF('Daily Log'!$BD$18:$BD$1017,$B110,'Daily Log'!$BE$18:$BE$1017),0)","v":0},{"$f":"IFERROR($E110*SUMIF('Daily Log'!$BG$18:$BG$1017,$B110,'Daily Log'!$BH$18:$BH$1017),0)","v":0},{"$f":"IFERROR($E110*SUMIF('Daily Log'!$BJ$18:$BJ$1017,$B110,'Daily Log'!$BK$18:$BK$1017),0)","v":0},{"$f":"IFERROR($E110*SUMIF('Daily Log'!$BM$18:$BM$1017,$B110,'Daily Log'!$BN$18:$BN$1017),0)","v":0},{"$f":"IFERROR($E110*SUMIF('Daily Log'!$BP$18:$BP$1017,$B110,'Daily Log'!$BQ$18:$BQ$1017),0)","v":0},{"$f":"IFERROR($E110*SUMIF('Daily Log'!$BS$18:$BS$1017,$B110,'Daily Log'!$BT$18:$BT$1017),0)","v":0},{"$f":"IFERROR($E110*SUMIF('Daily Log'!$BV$18:$BV$1017,$B110,'Daily Log'!$BW$18:$BW$1017),0)","v":0},{"$f":"IFERROR($E110*SUMIF('Daily Log'!$BY$18:$BY$1017,$B110,'Daily Log'!$BZ$18:$BZ$1017),0)","v":0},{"$f":"IFERROR($E110*SUMIF('Daily Log'!$CB$18:$CB$1017,$B110,'Daily Log'!$CC$18:$CC$1017),0)","v":0},{"$f":"IFERROR($E110*SUMIF('Daily Log'!$CE$18:$CE$1017,$B110,'Daily Log'!$CF$18:$CF$1017),0)","v":0},{"$f":"IFERROR($E110*SUMIF('Daily Log'!$CH$18:$CH$1017,$B110,'Daily Log'!$CI$18:$CI$1017),0)","v":0},{"$f":"IFERROR($E110*SUMIF('Daily Log'!$CK$18:$CK$1017,$B110,'Daily Log'!$CL$18:$CL$1017),0)","v":0},{"$f":"IFERROR($E110*SUMIF('Daily Log'!$CN$18:$CN$1017,$B110,'Daily Log'!$CO$18:$CO$1017),0)","v":0}]
[null,"AD05 M : LADIES",null,null,null,0,{"$f":"IFERROR($E111*SUMIF('Daily Log'!$B$18:$B$1017,$B111,'Daily Log'!$C$18:$C$1017),0)","v":0},{"$f":"IFERROR($E111*SUMIF('Daily Log'!$E$18:$E$1017,$B111,'Daily Log'!$F$18:$F$1017),0)","v":0},{"$f":"IFERROR($E111*SUMIF('Daily Log'!$H$18:$H$1017,$B111,'Daily Log'!$I$18:$I$1017),0)","v":0},{"$f":"IFERROR($E111*SUMIF('Daily Log'!$K$18:$K$1017,$B111,'Daily Log'!$L$18:$L$1017),0)","v":0},{"$f":"IFERROR($E111*SUMIF('Daily Log'!$N$18:$N$1017,$B111,'Daily Log'!$O$18:$O$1017),0)","v":0},{"$f":"IFERROR($E111*SUMIF('Daily Log'!$Q$18:$Q$1017,$B111,'Daily Log'!$R$18:$R$1017),0)","v":0},{"$f":"IFERROR($E111*SUMIF('Daily Log'!$T$18:$T$1017,$B111,'Daily Log'!$U$18:$U$1017),0)","v":0},{"$f":"IFERROR($E111*SUMIF('Daily Log'!$W$18:$W$1017,$B111,'Daily Log'!$X$18:$X$1017),0)","v":0},{"$f":"IFERROR($E111*SUMIF('Daily Log'!$Z$18:$Z$1017,$B111,'Daily Log'!$AA$18:$AA$1017),0)","v":0},{"$f":"IFERROR($E111*SUMIF('Daily Log'!$AC$18:$AC$1017,$B111,'Daily Log'!$AD$18:$AD$1017),0)","v":0},{"$f":"IFERROR($E111*SUMIF('Daily Log'!$AF$18:$AF$1017,$B111,'Daily Log'!$AG$18:$AG$1017),0)","v":0},{"$f":"IFERROR($E111*SUMIF('Daily Log'!$AI$18:$AI$1017,$B111,'Daily Log'!$AJ$18:$AJ$1017),0)","v":0},{"$f":"IFERROR($E111*SUMIF('Daily Log'!$AL$18:$AL$1017,$B111,'Daily Log'!$AM$18:$AM$1017),0)","v":0},{"$f":"IFERROR($E111*SUMIF('Daily Log'!$AO$18:$AO$1017,$B111,'Daily Log'!$AP$18:$AP$1017),0)","v":0},{"$f":"IFERROR($E111*SUMIF('Daily Log'!$AR$18:$AR$1017,$B111,'Daily Log'!$AS$18:$AS$1017),0)","v":0},{"$f":"IFERROR($E111*SUMIF('Daily Log'!$AU$18:$AU$1017,$B111,'Daily Log'!$AV$18:$AV$1017),0)","v":0},{"$f":"IFERROR($E111*SUMIF('Daily Log'!$AX$18:$AX$1017,$B111,'Daily Log'!$AY$18:$AY$1017),0)","v":0},{"$f":"IFERROR($E111*SUMIF('Daily Log'!$BA$18:$BA$1017,$B111,'Daily Log'!$BB$18:$BB$1017),0)","v":0},{"$f":"IFERROR($E111*SUMIF('Daily Log'!$BD$18:$BD$1017,$B111,'Daily Log'!$BE$18:$BE$1017),0)","v":0},{"$f":"IFERROR($E111*SUMIF('Daily Log'!$BG$18:$BG$1017,$B111,'Daily Log'!$BH$18:$BH$1017),0)","v":0},{"$f":"IFERROR($E111*SUMIF('Daily Log'!$BJ$18:$BJ$1017,$B111,'Daily Log'!$BK$18:$BK$1017),0)","v":0},{"$f":"IFERROR($E111*SUMIF('Daily Log'!$BM$18:$BM$1017,$B111,'Daily Log'!$BN$18:$BN$1017),0)","v":0},{"$f":"IFERROR($E111*SUMIF('Daily Log'!$BP$18:$BP$1017,$B111,'Daily Log'!$BQ$18:$BQ$1017),0)","v":0},{"$f":"IFERROR($E111*SUMIF('Daily Log'!$BS$18:$BS$1017,$B111,'Daily Log'!$BT$18:$BT$1017),0)","v":0},{"$f":"IFERROR($E111*SUMIF('Daily Log'!$BV$18:$BV$1017,$B111,'Daily Log'!$BW$18:$BW$1017),0)","v":0},{"$f":"IFERROR($E111*SUMIF('Daily Log'!$BY$18:$BY$1017,$B111,'Daily Log'!$BZ$18:$BZ$1017),0)","v":0},{"$f":"IFERROR($E111*SUMIF('Daily Log'!$CB$18:$CB$1017,$B111,'Daily Log'!$CC$18:$CC$1017),0)","v":0},{"$f":"IFERROR($E111*SUMIF('Daily Log'!$CE$18:$CE$1017,$B111,'Daily Log'!$CF$18:$CF$1017),0)","v":0},{"$f":"IFERROR($E111*SUMIF('Daily Log'!$CH$18:$CH$1017,$B111,'Daily Log'!$CI$18:$CI$1017),0)","v":0},{"$f":"IFERROR($E111*SUMIF('Daily Log'!$CK$18:$CK$1017,$B111,'Daily Log'!$CL$18:$CL$1017),0)","v":0},{"$f":"IFERROR($E111*SUMIF('Daily Log'!$CN$18:$CN$1017,$B111,'Daily Log'!$CO$18:$CO$1017),0)","v":0}]
[null,"AD06 M : CHILDREN",null,null,null,0,{"$f":"IFERROR($E112*SUMIF('Daily Log'!$B$18:$B$1017,$B112,'Daily Log'!$C$18:$C$1017),0)","v":0},{"$f":"IFERROR($E112*SUMIF('Daily Log'!$E$18:$E$1017,$B112,'Daily Log'!$F$18:$F$1017),0)","v":0},{"$f":"IFERROR($E112*SUMIF('Daily Log'!$H$18:$H$1017,$B112,'Daily Log'!$I$18:$I$1017),0)","v":0},{"$f":"IFERROR($E112*SUMIF('Daily Log'!$K$18:$K$1017,$B112,'Daily Log'!$L$18:$L$1017),0)","v":0},{"$f":"IFERROR($E112*SUMIF('Daily Log'!$N$18:$N$1017,$B112,'Daily Log'!$O$18:$O$1017),0)","v":0},{"$f":"IFERROR($E112*SUMIF('Daily Log'!$Q$18:$Q$1017,$B112,'Daily Log'!$R$18:$R$1017),0)","v":0},{"$f":"IFERROR($E112*SUMIF('Daily Log'!$T$18:$T$1017,$B112,'Daily Log'!$U$18:$U$1017),0)","v":0},{"$f":"IFERROR($E112*SUMIF('Daily Log'!$W$18:$W$1017,$B112,'Daily Log'!$X$18:$X$1017),0)","v":0},{"$f":"IFERROR($E112*SUMIF('Daily Log'!$Z$18:$Z$1017,$B112,'Daily Log'!$AA$18:$AA$1017),0)","v":0},{"$f":"IFERROR($E112*SUMIF('Daily Log'!$AC$18:$AC$1017,$B112,'Daily Log'!$AD$18:$AD$1017),0)","v":0},{"$f":"IFERROR($E112*SUMIF('Daily Log'!$AF$18:$AF$1017,$B112,'Daily Log'!$AG$18:$AG$1017),0)","v":0},{"$f":"IFERROR($E112*SUMIF('Daily Log'!$AI$18:$AI$1017,$B112,'Daily Log'!$AJ$18:$AJ$1017),0)","v":0},{"$f":"IFERROR($E112*SUMIF('Daily Log'!$AL$18:$AL$1017,$B112,'Daily Log'!$AM$18:$AM$1017),0)","v":0},{"$f":"IFERROR($E112*SUMIF('Daily Log'!$AO$18:$AO$1017,$B112,'Daily Log'!$AP$18:$AP$1017),0)","v":0},{"$f":"IFERROR($E112*SUMIF('Daily Log'!$AR$18:$AR$1017,$B112,'Daily Log'!$AS$18:$AS$1017),0)","v":0},{"$f":"IFERROR($E112*SUMIF('Daily Log'!$AU$18:$AU$1017,$B112,'Daily Log'!$AV$18:$AV$1017),0)","v":0},{"$f":"IFERROR($E112*SUMIF('Daily Log'!$AX$18:$AX$1017,$B112,'Daily Log'!$AY$18:$AY$1017),0)","v":0},{"$f":"IFERROR($E112*SUMIF('Daily Log'!$BA$18:$BA$1017,$B112,'Daily Log'!$BB$18:$BB$1017),0)","v":0},{"$f":"IFERROR($E112*SUMIF('Daily Log'!$BD$18:$BD$1017,$B112,'Daily Log'!$BE$18:$BE$1017),0)","v":0},{"$f":"IFERROR($E112*SUMIF('Daily Log'!$BG$18:$BG$1017,$B112,'Daily Log'!$BH$18:$BH$1017),0)","v":0},{"$f":"IFERROR($E112*SUMIF('Daily Log'!$BJ$18:$BJ$1017,$B112,'Daily Log'!$BK$18:$BK$1017),0)","v":0},{"$f":"IFERROR($E112*SUMIF('Daily Log'!$BM$18:$BM$1017,$B112,'Daily Log'!$BN$18:$BN$1017),0)","v":0},{"$f":"IFERROR($E112*SUMIF('Daily Log'!$BP$18:$BP$1017,$B112,'Daily Log'!$BQ$18:$BQ$1017),0)","v":0},{"$f":"IFERROR($E112*SUMIF('Daily Log'!$BS$18:$BS$1017,$B112,'Daily Log'!$BT$18:$BT$1017),0)","v":0},{"$f":"IFERROR($E112*SUMIF('Daily Log'!$BV$18:$BV$1017,$B112,'Daily Log'!$BW$18:$BW$1017),0)","v":0},{"$f":"IFERROR($E112*SUMIF('Daily Log'!$BY$18:$BY$1017,$B112,'Daily Log'!$BZ$18:$BZ$1017),0)","v":0},{"$f":"IFERROR($E112*SUMIF('Daily Log'!$CB$18:$CB$1017,$B112,'Daily Log'!$CC$18:$CC$1017),0)","v":0},{"$f":"IFERROR($E112*SUMIF('Daily Log'!$CE$18:$CE$1017,$B112,'Daily Log'!$CF$18:$CF$1017),0)","v":0},{"$f":"IFERROR($E112*SUMIF('Daily Log'!$CH$18:$CH$1017,$B112,'Daily Log'!$CI$18:$CI$1017),0)","v":0},{"$f":"IFERROR($E112*SUMIF('Daily Log'!$CK$18:$CK$1017,$B112,'Daily Log'!$CL$18:$CL$1017),0)","v":0},{"$f":"IFERROR($E112*SUMIF('Daily Log'!$CN$18:$CN$1017,$B112,'Daily Log'!$CO$18:$CO$1017),0)","v":0}]
[null,"AD07 M : MEMBER B'DAY",null,null,null,0,{"$f":"IFERROR($E113*SUMIF('Daily Log'!$B$18:$B$1017,$B113,'Daily Log'!$C$18:$C$1017),0)","v":0},{"$f":"IFERROR($E113*SUMIF('Daily Log'!$E$18:$E$1017,$B113,'Daily Log'!$F$18:$F$1017),0)","v":0},{"$f":"IFERROR($E113*SUMIF('Daily Log'!$H$18:$H$1017,$B113,'Daily Log'!$I$18:$I$1017),0)","v":0},{"$f":"IFERROR($E113*SUMIF('Daily Log'!$K$18:$K$1017,$B113,'Daily Log'!$L$18:$L$1017),0)","v":0},{"$f":"IFERROR($E113*SUMIF('Daily Log'!$N$18:$N$1017,$B113,'Daily Log'!$O$18:$O$1017),0)","v":0},{"$f":"IFERROR($E113*SUMIF('Daily Log'!$Q$18:$Q$1017,$B113,'Daily Log'!$R$18:$R$1017),0)","v":0},{"$f":"IFERROR($E113*SUMIF('Daily Log'!$T$18:$T$1017,$B113,'Daily Log'!$U$18:$U$1017),0)","v":0},{"$f":"IFERROR($E113*SUMIF('Daily Log'!$W$18:$W$1017,$B113,'Daily Log'!$X$18:$X$1017),0)","v":0},{"$f":"IFERROR($E113*SUMIF('Daily Log'!$Z$18:$Z$1017,$B113,'Daily Log'!$AA$18:$AA$1017),0)","v":0},{"$f":"IFERROR($E113*SUMIF('Daily Log'!$AC$18:$AC$1017,$B113,'Daily Log'!$AD$18:$AD$1017),0)","v":0},{"$f":"IFERROR($E113*SUMIF('Daily Log'!$AF$18:$AF$1017,$B113,'Daily Log'!$AG$18:$AG$1017),0)","v":0},{"$f":"IFERROR($E113*SUMIF('Daily Log'!$AI$18:$AI$1017,$B113,'Daily Log'!$AJ$18:$AJ$1017),0)","v":0},{"$f":"IFERROR($E113*SUMIF('Daily Log'!$AL$18:$AL$1017,$B113,'Daily Log'!$AM$18:$AM$1017),0)","v":0},{"$f":"IFERROR($E113*SUMIF('Daily Log'!$AO$18:$AO$1017,$B113,'Daily Log'!$AP$18:$AP$1017),0)","v":0},{"$f":"IFERROR($E113*SUMIF('Daily Log'!$AR$18:$AR$1017,$B113,'Daily Log'!$AS$18:$AS$1017),0)","v":0},{"$f":"IFERROR($E113*SUMIF('Daily Log'!$AU$18:$AU$1017,$B113,'Daily Log'!$AV$18:$AV$1017),0)","v":0},{"$f":"IFERROR($E113*SUMIF('Daily Log'!$AX$18:$AX$1017,$B113,'Daily Log'!$AY$18:$AY$1017),0)","v":0},{"$f":"IFERROR($E113*SUMIF('Daily Log'!$BA$18:$BA$1017,$B113,'Daily Log'!$BB$18:$BB$1017),0)","v":0},{"$f":"IFERROR($E113*SUMIF('Daily Log'!$BD$18:$BD$1017,$B113,'Daily Log'!$BE$18:$BE$1017),0)","v":0},{"$f":"IFERROR($E113*SUMIF('Daily Log'!$BG$18:$BG$1017,$B113,'Daily Log'!$BH$18:$BH$1017),0)","v":0},{"$f":"IFERROR($E113*SUMIF('Daily Log'!$BJ$18:$BJ$1017,$B113,'Daily Log'!$BK$18:$BK$1017),0)","v":0},{"$f":"IFERROR($E113*SUMIF('Daily Log'!$BM$18:$BM$1017,$B113,'Daily Log'!$BN$18:$BN$1017),0)","v":0},{"$f":"IFERROR($E113*SUMIF('Daily Log'!$BP$18:$BP$1017,$B113,'Daily Log'!$BQ$18:$BQ$1017),0)","v":0},{"$f":"IFERROR($E113*SUMIF('Daily Log'!$BS$18:$BS$1017,$B113,'Daily Log'!$BT$18:$BT$1017),0)","v":0},{"$f":"IFERROR($E113*SUMIF('Daily Log'!$BV$18:$BV$1017,$B113,'Daily Log'!$BW$18:$BW$1017),0)","v":0},{"$f":"IFERROR($E113*SUMIF('Daily Log'!$BY$18:$BY$1017,$B113,'Daily Log'!$BZ$18:$BZ$1017),0)","v":0},{"$f":"IFERROR($E113*SUMIF('Daily Log'!$CB$18:$CB$1017,$B113,'Daily Log'!$CC$18:$CC$1017),0)","v":0},{"$f":"IFERROR($E113*SUMIF('Daily Log'!$CE$18:$CE$1017,$B113,'Daily Log'!$CF$18:$CF$1017),0)","v":0},{"$f":"IFERROR($E113*SUMIF('Daily Log'!$CH$18:$CH$1017,$B113,'Daily Log'!$CI$18:$CI$1017),0)","v":0},{"$f":"IFERROR($E113*SUMIF('Daily Log'!$CK$18:$CK$1017,$B113,'Daily Log'!$CL$18:$CL$1017),0)","v":0},{"$f":"IFERROR($E113*SUMIF('Daily Log'!$CN$18:$CN$1017,$B113,'Daily Log'!$CO$18:$CO$1017),0)","v":0}]
[null,"AD08 M : STAFF B'DAY",null,null,null,0,{"$f":"IFERROR($E114*SUMIF('Daily Log'!$B$18:$B$1017,$B114,'Daily Log'!$C$18:$C$1017),0)","v":0},{"$f":"IFERROR($E114*SUMIF('Daily Log'!$E$18:$E$1017,$B114,'Daily Log'!$F$18:$F$1017),0)","v":0},{"$f":"IFERROR($E114*SUMIF('Daily Log'!$H$18:$H$1017,$B114,'Daily Log'!$I$18:$I$1017),0)","v":0},{"$f":"IFERROR($E114*SUMIF('Daily Log'!$K$18:$K$1017,$B114,'Daily Log'!$L$18:$L$1017),0)","v":0},{"$f":"IFERROR($E114*SUMIF('Daily Log'!$N$18:$N$1017,$B114,'Daily Log'!$O$18:$O$1017),0)","v":0},{"$f":"IFERROR($E114*SUMIF('Daily Log'!$Q$18:$Q$1017,$B114,'Daily Log'!$R$18:$R$1017),0)","v":0},{"$f":"IFERROR($E114*SUMIF('Daily Log'!$T$18:$T$1017,$B114,'Daily Log'!$U$18:$U$1017),0)","v":0},{"$f":"IFERROR($E114*SUMIF('Daily Log'!$W$18:$W$1017,$B114,'Daily Log'!$X$18:$X$1017),0)","v":0},{"$f":"IFERROR($E114*SUMIF('Daily Log'!$Z$18:$Z$1017,$B114,'Daily Log'!$AA$18:$AA$1017),0)","v":0},{"$f":"IFERROR($E114*SUMIF('Daily Log'!$AC$18:$AC$1017,$B114,'Daily Log'!$AD$18:$AD$1017),0)","v":0},{"$f":"IFERROR($E114*SUMIF('Daily Log'!$AF$18:$AF$1017,$B114,'Daily Log'!$AG$18:$AG$1017),0)","v":0},{"$f":"IFERROR($E114*SUMIF('Daily Log'!$AI$18:$AI$1017,$B114,'Daily Log'!$AJ$18:$AJ$1017),0)","v":0},{"$f":"IFERROR($E114*SUMIF('Daily Log'!$AL$18:$AL$1017,$B114,'Daily Log'!$AM$18:$AM$1017),0)","v":0},{"$f":"IFERROR($E114*SUMIF('Daily Log'!$AO$18:$AO$1017,$B114,'Daily Log'!$AP$18:$AP$1017),0)","v":0},{"$f":"IFERROR($E114*SUMIF('Daily Log'!$AR$18:$AR$1017,$B114,'Daily Log'!$AS$18:$AS$1017),0)","v":0},{"$f":"IFERROR($E114*SUMIF('Daily Log'!$AU$18:$AU$1017,$B114,'Daily Log'!$AV$18:$AV$1017),0)","v":0},{"$f":"IFERROR($E114*SUMIF('Daily Log'!$AX$18:$AX$1017,$B114,'Daily Log'!$AY$18:$AY$1017),0)","v":0},{"$f":"IFERROR($E114*SUMIF('Daily Log'!$BA$18:$BA$1017,$B114,'Daily Log'!$BB$18:$BB$1017),0)","v":0},{"$f":"IFERROR($E114*SUMIF('Daily Log'!$BD$18:$BD$1017,$B114,'Daily Log'!$BE$18:$BE$1017),0)","v":0},{"$f":"IFERROR($E114*SUMIF('Daily Log'!$BG$18:$BG$1017,$B114,'Daily Log'!$BH$18:$BH$1017),0)","v":0},{"$f":"IFERROR($E114*SUMIF('Daily Log'!$BJ$18:$BJ$1017,$B114,'Daily Log'!$BK$18:$BK$1017),0)","v":0},{"$f":"IFERROR($E114*SUMIF('Daily Log'!$BM$18:$BM$1017,$B114,'Daily Log'!$BN$18:$BN$1017),0)","v":0},{"$f":"IFERROR($E114*SUMIF('Daily Log'!$BP$18:$BP$1017,$B114,'Daily Log'!$BQ$18:$BQ$1017),0)","v":0},{"$f":"IFERROR($E114*SUMIF('Daily Log'!$BS$18:$BS$1017,$B114,'Daily Log'!$BT$18:$BT$1017),0)","v":0},{"$f":"IFERROR($E114*SUMIF('Daily Log'!$BV$18:$BV$1017,$B114,'Daily Log'!$BW$18:$BW$1017),0)","v":0},{"$f":"IFERROR($E114*SUMIF('Daily Log'!$BY$18:$BY$1017,$B114,'Daily Log'!$BZ$18:$BZ$1017),0)","v":0},{"$f":"IFERROR($E114*SUMIF('Daily Log'!$CB$18:$CB$1017,$B114,'Daily Log'!$CC$18:$CC$1017),0)","v":0},{"$f":"IFERROR($E114*SUMIF('Daily Log'!$CE$18:$CE$1017,$B114,'Daily Log'!$CF$18:$CF$1017),0)","v":0},{"$f":"IFERROR($E114*SUMIF('Daily Log'!$CH$18:$CH$1017,$B114,'Daily Log'!$CI$18:$CI$1017),0)","v":0},{"$f":"IFERROR($E114*SUMIF('Daily Log'!$CK$18:$CK$1017,$B114,'Daily Log'!$CL$18:$CL$1017),0)","v":0},{"$f":"IFERROR($E114*SUMIF('Daily Log'!$CN$18:$CN$1017,$B114,'Daily Log'!$CO$18:$CO$1017),0)","v":0}]
[null,"AD09 M : FREEHEAD (B)",null,null,null,0,{"$f":"IFERROR($E115*SUMIF('Daily Log'!$B$18:$B$1017,$B115,'Daily Log'!$C$18:$C$1017),0)","v":0},{"$f":"IFERROR($E115*SUMIF('Daily Log'!$E$18:$E$1017,$B115,'Daily Log'!$F$18:$F$1017),0)","v":0},{"$f":"IFERROR($E115*SUMIF('Daily Log'!$H$18:$H$1017,$B115,'Daily Log'!$I$18:$I$1017),0)","v":0},{"$f":"IFERROR($E115*SUMIF('Daily Log'!$K$18:$K$1017,$B115,'Daily Log'!$L$18:$L$1017),0)","v":0},{"$f":"IFERROR($E115*SUMIF('Daily Log'!$N$18:$N$1017,$B115,'Daily Log'!$O$18:$O$1017),0)","v":0},{"$f":"IFERROR($E115*SUMIF('Daily Log'!$Q$18:$Q$1017,$B115,'Daily Log'!$R$18:$R$1017),0)","v":0},{"$f":"IFERROR($E115*SUMIF('Daily Log'!$T$18:$T$1017,$B115,'Daily Log'!$U$18:$U$1017),0)","v":0},{"$f":"IFERROR($E115*SUMIF('Daily Log'!$W$18:$W$1017,$B115,'Daily Log'!$X$18:$X$1017),0)","v":0},{"$f":"IFERROR($E115*SUMIF('Daily Log'!$Z$18:$Z$1017,$B115,'Daily Log'!$AA$18:$AA$1017),0)","v":0},{"$f":"IFERROR($E115*SUMIF('Daily Log'!$AC$18:$AC$1017,$B115,'Daily Log'!$AD$18:$AD$1017),0)","v":0},{"$f":"IFERROR($E115*SUMIF('Daily Log'!$AF$18:$AF$1017,$B115,'Daily Log'!$AG$18:$AG$1017),0)","v":0},{"$f":"IFERROR($E115*SUMIF('Daily Log'!$AI$18:$AI$1017,$B115,'Daily Log'!$AJ$18:$AJ$1017),0)","v":0},{"$f":"IFERROR($E115*SUMIF('Daily Log'!$AL$18:$AL$1017,$B115,'Daily Log'!$AM$18:$AM$1017),0)","v":0},{"$f":"IFERROR($E115*SUMIF('Daily Log'!$AO$18:$AO$1017,$B115,'Daily Log'!$AP$18:$AP$1017),0)","v":0},{"$f":"IFERROR($E115*SUMIF('Daily Log'!$AR$18:$AR$1017,$B115,'Daily Log'!$AS$18:$AS$1017),0)","v":0},{"$f":"IFERROR($E115*SUMIF('Daily Log'!$AU$18:$AU$1017,$B115,'Daily Log'!$AV$18:$AV$1017),0)","v":0},{"$f":"IFERROR($E115*SUMIF('Daily Log'!$AX$18:$AX$1017,$B115,'Daily Log'!$AY$18:$AY$1017),0)","v":0},{"$f":"IFERROR($E115*SUMIF('Daily Log'!$BA$18:$BA$1017,$B115,'Daily Log'!$BB$18:$BB$1017),0)","v":0},{"$f":"IFERROR($E115*SUMIF('Daily Log'!$BD$18:$BD$1017,$B115,'Daily Log'!$BE$18:$BE$1017),0)","v":0},{"$f":"IFERROR($E115*SUMIF('Daily Log'!$BG$18:$BG$1017,$B115,'Daily Log'!$BH$18:$BH$1017),0)","v":0},{"$f":"IFERROR($E115*SUMIF('Daily Log'!$BJ$18:$BJ$1017,$B115,'Daily Log'!$BK$18:$BK$1017),0)","v":0},{"$f":"IFERROR($E115*SUMIF('Daily Log'!$BM$18:$BM$1017,$B115,'Daily Log'!$BN$18:$BN$1017),0)","v":0},{"$f":"IFERROR($E115*SUMIF('Daily Log'!$BP$18:$BP$1017,$B115,'Daily Log'!$BQ$18:$BQ$1017),0)","v":0},{"$f":"IFERROR($E115*SUMIF('Daily Log'!$BS$18:$BS$1017,$B115,'Daily Log'!$BT$18:$BT$1017),0)","v":0},{"$f":"IFERROR($E115*SUMIF('Daily Log'!$BV$18:$BV$1017,$B115,'Daily Log'!$BW$18:$BW$1017),0)","v":0},{"$f":"IFERROR($E115*SUMIF('Daily Log'!$BY$18:$BY$1017,$B115,'Daily Log'!$BZ$18:$BZ$1017),0)","v":0},{"$f":"IFERROR($E115*SUMIF('Daily Log'!$CB$18:$CB$1017,$B115,'Daily Log'!$CC$18:$CC$1017),0)","v":0},{"$f":"IFERROR($E115*SUMIF('Daily Log'!$CE$18:$CE$1017,$B115,'Daily Log'!$CF$18:$CF$1017),0)","v":0},{"$f":"IFERROR($E115*SUMIF('Daily Log'!$CH$18:$CH$1017,$B115,'Daily Log'!$CI$18:$CI$1017),0)","v":0},{"$f":"IFERROR($E115*SUMIF('Daily Log'!$CK$18:$CK$1017,$B115,'Daily Log'!$CL$18:$CL$1017),0)","v":0},{"$f":"IFERROR($E115*SUMIF('Daily Log'!$CN$18:$CN$1017,$B115,'Daily Log'!$CO$18:$CO$1017),0)","v":0}]
[null,"AD10 Father",null,null,null,0,{"$f":"IFERROR($E116*SUMIF('Daily Log'!$B$18:$B$1017,$B116,'Daily Log'!$C$18:$C$1017),0)","v":0},{"$f":"IFERROR($E116*SUMIF('Daily Log'!$E$18:$E$1017,$B116,'Daily Log'!$F$18:$F$1017),0)","v":0},{"$f":"IFERROR($E116*SUMIF('Daily Log'!$H$18:$H$1017,$B116,'Daily Log'!$I$18:$I$1017),0)","v":0},{"$f":"IFERROR($E116*SUMIF('Daily Log'!$K$18:$K$1017,$B116,'Daily Log'!$L$18:$L$1017),0)","v":0},{"$f":"IFERROR($E116*SUMIF('Daily Log'!$N$18:$N$1017,$B116,'Daily Log'!$O$18:$O$1017),0)","v":0},{"$f":"IFERROR($E116*SUMIF('Daily Log'!$Q$18:$Q$1017,$B116,'Daily Log'!$R$18:$R$1017),0)","v":0},{"$f":"IFERROR($E116*SUMIF('Daily Log'!$T$18:$T$1017,$B116,'Daily Log'!$U$18:$U$1017),0)","v":0},{"$f":"IFERROR($E116*SUMIF('Daily Log'!$W$18:$W$1017,$B116,'Daily Log'!$X$18:$X$1017),0)","v":0},{"$f":"IFERROR($E116*SUMIF('Daily Log'!$Z$18:$Z$1017,$B116,'Daily Log'!$AA$18:$AA$1017),0)","v":0},{"$f":"IFERROR($E116*SUMIF('Daily Log'!$AC$18:$AC$1017,$B116,'Daily Log'!$AD$18:$AD$1017),0)","v":0},{"$f":"IFERROR($E116*SUMIF('Daily Log'!$AF$18:$AF$1017,$B116,'Daily Log'!$AG$18:$AG$1017),0)","v":0},{"$f":"IFERROR($E116*SUMIF('Daily Log'!$AI$18:$AI$1017,$B116,'Daily Log'!$AJ$18:$AJ$1017),0)","v":0},{"$f":"IFERROR($E116*SUMIF('Daily Log'!$AL$18:$AL$1017,$B116,'Daily Log'!$AM$18:$AM$1017),0)","v":0},{"$f":"IFERROR($E116*SUMIF('Daily Log'!$AO$18:$AO$1017,$B116,'Daily Log'!$AP$18:$AP$1017),0)","v":0},{"$f":"IFERROR($E116*SUMIF('Daily Log'!$AR$18:$AR$1017,$B116,'Daily Log'!$AS$18:$AS$1017),0)","v":0},{"$f":"IFERROR($E116*SUMIF('Daily Log'!$AU$18:$AU$1017,$B116,'Daily Log'!$AV$18:$AV$1017),0)","v":0},{"$f":"IFERROR($E116*SUMIF('Daily Log'!$AX$18:$AX$1017,$B116,'Daily Log'!$AY$18:$AY$1017),0)","v":0},{"$f":"IFERROR($E116*SUMIF('Daily Log'!$BA$18:$BA$1017,$B116,'Daily Log'!$BB$18:$BB$1017),0)","v":0},{"$f":"IFERROR($E116*SUMIF('Daily Log'!$BD$18:$BD$1017,$B116,'Daily Log'!$BE$18:$BE$1017),0)","v":0},{"$f":"IFERROR($E116*SUMIF('Daily Log'!$BG$18:$BG$1017,$B116,'Daily Log'!$BH$18:$BH$1017),0)","v":0},{"$f":"IFERROR($E116*SUMIF('Daily Log'!$BJ$18:$BJ$1017,$B116,'Daily Log'!$BK$18:$BK$1017),0)","v":0},{"$f":"IFERROR($E116*SUMIF('Daily Log'!$BM$18:$BM$1017,$B116,'Daily Log'!$BN$18:$BN$1017),0)","v":0},{"$f":"IFERROR($E116*SUMIF('Daily Log'!$BP$18:$BP$1017,$B116,'Daily Log'!$BQ$18:$BQ$1017),0)","v":0},{"$f":"IFERROR($E116*SUMIF('Daily Log'!$BS$18:$BS$1017,$B116,'Daily Log'!$BT$18:$BT$1017),0)","v":0},{"$f":"IFERROR($E116*SUMIF('Daily Log'!$BV$18:$BV$1017,$B116,'Daily Log'!$BW$18:$BW$1017),0)","v":0},{"$f":"IFERROR($E116*SUMIF('Daily Log'!$BY$18:$BY$1017,$B116,'Daily Log'!$BZ$18:$BZ$1017),0)","v":0},{"$f":"IFERROR($E116*SUMIF('Daily Log'!$CB$18:$CB$1017,$B116,'Daily Log'!$CC$18:$CC$1017),0)","v":0},{"$f":"IFERROR($E116*SUMIF('Daily Log'!$CE$18:$CE$1017,$B116,'Daily Log'!$CF$18:$CF$1017),0)","v":0},{"$f":"IFERROR($E116*SUMIF('Daily Log'!$CH$18:$CH$1017,$B116,'Daily Log'!$CI$18:$CI$1017),0)","v":0},{"$f":"IFERROR($E116*SUMIF('Daily Log'!$CK$18:$CK$1017,$B116,'Daily Log'!$CL$18:$CL$1017),0)","v":0},{"$f":"IFERROR($E116*SUMIF('Daily Log'!$CN$18:$CN$1017,$B116,'Daily Log'!$CO$18:$CO$1017),0)","v":0}]
[null,"AD11 M : FREEHEAD (R)",null,null,null,0,{"$f":"IFERROR($E117*SUMIF('Daily Log'!$B$18:$B$1017,$B117,'Daily Log'!$C$18:$C$1017),0)","v":0},{"$f":"IFERROR($E117*SUMIF('Daily Log'!$E$18:$E$1017,$B117,'Daily Log'!$F$18:$F$1017),0)","v":0},{"$f":"IFERROR($E117*SUMIF('Daily Log'!$H$18:$H$1017,$B117,'Daily Log'!$I$18:$I$1017),0)","v":0},{"$f":"IFERROR($E117*SUMIF('Daily Log'!$K$18:$K$1017,$B117,'Daily Log'!$L$18:$L$1017),0)","v":0},{"$f":"IFERROR($E117*SUMIF('Daily Log'!$N$18:$N$1017,$B117,'Daily Log'!$O$18:$O$1017),0)","v":0},{"$f":"IFERROR($E117*SUMIF('Daily Log'!$Q$18:$Q$1017,$B117,'Daily Log'!$R$18:$R$1017),0)","v":0},{"$f":"IFERROR($E117*SUMIF('Daily Log'!$T$18:$T$1017,$B117,'Daily Log'!$U$18:$U$1017),0)","v":0},{"$f":"IFERROR($E117*SUMIF('Daily Log'!$W$18:$W$1017,$B117,'Daily Log'!$X$18:$X$1017),0)","v":0},{"$f":"IFERROR($E117*SUMIF('Daily Log'!$Z$18:$Z$1017,$B117,'Daily Log'!$AA$18:$AA$1017),0)","v":0},{"$f":"IFERROR($E117*SUMIF('Daily Log'!$AC$18:$AC$1017,$B117,'Daily Log'!$AD$18:$AD$1017),0)","v":0},{"$f":"IFERROR($E117*SUMIF('Daily Log'!$AF$18:$AF$1017,$B117,'Daily Log'!$AG$18:$AG$1017),0)","v":0},{"$f":"IFERROR($E117*SUMIF('Daily Log'!$AI$18:$AI$1017,$B117,'Daily Log'!$AJ$18:$AJ$1017),0)","v":0},{"$f":"IFERROR($E117*SUMIF('Daily Log'!$AL$18:$AL$1017,$B117,'Daily Log'!$AM$18:$AM$1017),0)","v":0},{"$f":"IFERROR($E117*SUMIF('Daily Log'!$AO$18:$AO$1017,$B117,'Daily Log'!$AP$18:$AP$1017),0)","v":0},{"$f":"IFERROR($E117*SUMIF('Daily Log'!$AR$18:$AR$1017,$B117,'Daily Log'!$AS$18:$AS$1017),0)","v":0},{"$f":"IFERROR($E117*SUMIF('Daily Log'!$AU$18:$AU$1017,$B117,'Daily Log'!$AV$18:$AV$1017),0)","v":0},{"$f":"IFERROR($E117*SUMIF('Daily Log'!$AX$18:$AX$1017,$B117,'Daily Log'!$AY$18:$AY$1017),0)","v":0},{"$f":"IFERROR($E117*SUMIF('Daily Log'!$BA$18:$BA$1017,$B117,'Daily Log'!$BB$18:$BB$1017),0)","v":0},{"$f":"IFERROR($E117*SUMIF('Daily Log'!$BD$18:$BD$1017,$B117,'Daily Log'!$BE$18:$BE$1017),0)","v":0},{"$f":"IFERROR($E117*SUMIF('Daily Log'!$BG$18:$BG$1017,$B117,'Daily Log'!$BH$18:$BH$1017),0)","v":0},{"$f":"IFERROR($E117*SUMIF('Daily Log'!$BJ$18:$BJ$1017,$B117,'Daily Log'!$BK$18:$BK$1017),0)","v":0},{"$f":"IFERROR($E117*SUMIF('Daily Log'!$BM$18:$BM$1017,$B117,'Daily Log'!$BN$18:$BN$1017),0)","v":0},{"$f":"IFERROR($E117*SUMIF('Daily Log'!$BP$18:$BP$1017,$B117,'Daily Log'!$BQ$18:$BQ$1017),0)","v":0},{"$f":"IFERROR($E117*SUMIF('Daily Log'!$BS$18:$BS$1017,$B117,'Daily Log'!$BT$18:$BT$1017),0)","v":0},{"$f":"IFERROR($E117*SUMIF('Daily Log'!$BV$18:$BV$1017,$B117,'Daily Log'!$BW$18:$BW$1017),0)","v":0},{"$f":"IFERROR($E117*SUMIF('Daily Log'!$BY$18:$BY$1017,$B117,'Daily Log'!$BZ$18:$BZ$1017),0)","v":0},{"$f":"IFERROR($E117*SUMIF('Daily Log'!$CB$18:$CB$1017,$B117,'Daily Log'!$CC$18:$CC$1017),0)","v":0},{"$f":"IFERROR($E117*SUMIF('Daily Log'!$CE$18:$CE$1017,$B117,'Daily Log'!$CF$18:$CF$1017),0)","v":0},{"$f":"IFERROR($E117*SUMIF('Daily Log'!$CH$18:$CH$1017,$B117,'Daily Log'!$CI$18:$CI$1017),0)","v":0},{"$f":"IFERROR($E117*SUMIF('Daily Log'!$CK$18:$CK$1017,$B117,'Daily Log'!$CL$18:$CL$1017),0)","v":0},{"$f":"IFERROR($E117*SUMIF('Daily Log'!$CN$18:$CN$1017,$B117,'Daily Log'!$CO$18:$CO$1017),0)","v":0}]
[null,"AD12 M : 3+1",null,null,null,0,{"$f":"IFERROR($E118*SUMIF('Daily Log'!$B$18:$B$1017,$B118,'Daily Log'!$C$18:$C$1017),0)","v":0},{"$f":"IFERROR($E118*SUMIF('Daily Log'!$E$18:$E$1017,$B118,'Daily Log'!$F$18:$F$1017),0)","v":0},{"$f":"IFERROR($E118*SUMIF('Daily Log'!$H$18:$H$1017,$B118,'Daily Log'!$I$18:$I$1017),0)","v":0},{"$f":"IFERROR($E118*SUMIF('Daily Log'!$K$18:$K$1017,$B118,'Daily Log'!$L$18:$L$1017),0)","v":0},{"$f":"IFERROR($E118*SUMIF('Daily Log'!$N$18:$N$1017,$B118,'Daily Log'!$O$18:$O$1017),0)","v":0},{"$f":"IFERROR($E118*SUMIF('Daily Log'!$Q$18:$Q$1017,$B118,'Daily Log'!$R$18:$R$1017),0)","v":0},{"$f":"IFERROR($E118*SUMIF('Daily Log'!$T$18:$T$1017,$B118,'Daily Log'!$U$18:$U$1017),0)","v":0},{"$f":"IFERROR($E118*SUMIF('Daily Log'!$W$18:$W$1017,$B118,'Daily Log'!$X$18:$X$1017),0)","v":0},{"$f":"IFERROR($E118*SUMIF('Daily Log'!$Z$18:$Z$1017,$B118,'Daily Log'!$AA$18:$AA$1017),0)","v":0},{"$f":"IFERROR($E118*SUMIF('Daily Log'!$AC$18:$AC$1017,$B118,'Daily Log'!$AD$18:$AD$1017),0)","v":0},{"$f":"IFERROR($E118*SUMIF('Daily Log'!$AF$18:$AF$1017,$B118,'Daily Log'!$AG$18:$AG$1017),0)","v":0},{"$f":"IFERROR($E118*SUMIF('Daily Log'!$AI$18:$AI$1017,$B118,'Daily Log'!$AJ$18:$AJ$1017),0)","v":0},{"$f":"IFERROR($E118*SUMIF('Daily Log'!$AL$18:$AL$1017,$B118,'Daily Log'!$AM$18:$AM$1017),0)","v":0},{"$f":"IFERROR($E118*SUMIF('Daily Log'!$AO$18:$AO$1017,$B118,'Daily Log'!$AP$18:$AP$1017),0)","v":0},{"$f":"IFERROR($E118*SUMIF('Daily Log'!$AR$18:$AR$1017,$B118,'Daily Log'!$AS$18:$AS$1017),0)","v":0},{"$f":"IFERROR($E118*SUMIF('Daily Log'!$AU$18:$AU$1017,$B118,'Daily Log'!$AV$18:$AV$1017),0)","v":0},{"$f":"IFERROR($E118*SUMIF('Daily Log'!$AX$18:$AX$1017,$B118,'Daily Log'!$AY$18:$AY$1017),0)","v":0},{"$f":"IFERROR($E118*SUMIF('Daily Log'!$BA$18:$BA$1017,$B118,'Daily Log'!$BB$18:$BB$1017),0)","v":0},{"$f":"IFERROR($E118*SUMIF('Daily Log'!$BD$18:$BD$1017,$B118,'Daily Log'!$BE$18:$BE$1017),0)","v":0},{"$f":"IFERROR($E118*SUMIF('Daily Log'!$BG$18:$BG$1017,$B118,'Daily Log'!$BH$18:$BH$1017),0)","v":0},{"$f":"IFERROR($E118*SUMIF('Daily Log'!$BJ$18:$BJ$1017,$B118,'Daily Log'!$BK$18:$BK$1017),0)","v":0},{"$f":"IFERROR($E118*SUMIF('Daily Log'!$BM$18:$BM$1017,$B118,'Daily Log'!$BN$18:$BN$1017),0)","v":0},{"$f":"IFERROR($E118*SUMIF('Daily Log'!$BP$18:$BP$1017,$B118,'Daily Log'!$BQ$18:$BQ$1017),0)","v":0},{"$f":"IFERROR($E118*SUMIF('Daily Log'!$BS$18:$BS$1017,$B118,'Daily Log'!$BT$18:$BT$1017),0)","v":0},{"$f":"IFERROR($E118*SUMIF('Daily Log'!$BV$18:$BV$1017,$B118,'Daily Log'!$BW$18:$BW$1017),0)","v":0},{"$f":"IFERROR($E118*SUMIF('Daily Log'!$BY$18:$BY$1017,$B118,'Daily Log'!$BZ$18:$BZ$1017),0)","v":0},{"$f":"IFERROR($E118*SUMIF('Daily Log'!$CB$18:$CB$1017,$B118,'Daily Log'!$CC$18:$CC$1017),0)","v":0},{"$f":"IFERROR($E118*SUMIF('Daily Log'!$CE$18:$CE$1017,$B118,'Daily Log'!$CF$18:$CF$1017),0)","v":0},{"$f":"IFERROR($E118*SUMIF('Daily Log'!$CH$18:$CH$1017,$B118,'Daily Log'!$CI$18:$CI$1017),0)","v":0},{"$f":"IFERROR($E118*SUMIF('Daily Log'!$CK$18:$CK$1017,$B118,'Daily Log'!$CL$18:$CL$1017),0)","v":0},{"$f":"IFERROR($E118*SUMIF('Daily Log'!$CN$18:$CN$1017,$B118,'Daily Log'!$CO$18:$CO$1017),0)","v":0}]
[null,"AD13 M : PROMOTION",null,null,null,0,{"$f":"IFERROR($E119*SUMIF('Daily Log'!$B$18:$B$1017,$B119,'Daily Log'!$C$18:$C$1017),0)","v":0},{"$f":"IFERROR($E119*SUMIF('Daily Log'!$E$18:$E$1017,$B119,'Daily Log'!$F$18:$F$1017),0)","v":0},{"$f":"IFERROR($E119*SUMIF('Daily Log'!$H$18:$H$1017,$B119,'Daily Log'!$I$18:$I$1017),0)","v":0},{"$f":"IFERROR($E119*SUMIF('Daily Log'!$K$18:$K$1017,$B119,'Daily Log'!$L$18:$L$1017),0)","v":0},{"$f":"IFERROR($E119*SUMIF('Daily Log'!$N$18:$N$1017,$B119,'Daily Log'!$O$18:$O$1017),0)","v":0},{"$f":"IFERROR($E119*SUMIF('Daily Log'!$Q$18:$Q$1017,$B119,'Daily Log'!$R$18:$R$1017),0)","v":0},{"$f":"IFERROR($E119*SUMIF('Daily Log'!$T$18:$T$1017,$B119,'Daily Log'!$U$18:$U$1017),0)","v":0},{"$f":"IFERROR($E119*SUMIF('Daily Log'!$W$18:$W$1017,$B119,'Daily Log'!$X$18:$X$1017),0)","v":0},{"$f":"IFERROR($E119*SUMIF('Daily Log'!$Z$18:$Z$1017,$B119,'Daily Log'!$AA$18:$AA$1017),0)","v":0},{"$f":"IFERROR($E119*SUMIF('Daily Log'!$AC$18:$AC$1017,$B119,'Daily Log'!$AD$18:$AD$1017),0)","v":0},{"$f":"IFERROR($E119*SUMIF('Daily Log'!$AF$18:$AF$1017,$B119,'Daily Log'!$AG$18:$AG$1017),0)","v":0},{"$f":"IFERROR($E119*SUMIF('Daily Log'!$AI$18:$AI$1017,$B119,'Daily Log'!$AJ$18:$AJ$1017),0)","v":0},{"$f":"IFERROR($E119*SUMIF('Daily Log'!$AL$18:$AL$1017,$B119,'Daily Log'!$AM$18:$AM$1017),0)","v":0},{"$f":"IFERROR($E119*SUMIF('Daily Log'!$AO$18:$AO$1017,$B119,'Daily Log'!$AP$18:$AP$1017),0)","v":0},{"$f":"IFERROR($E119*SUMIF('Daily Log'!$AR$18:$AR$1017,$B119,'Daily Log'!$AS$18:$AS$1017),0)","v":0},{"$f":"IFERROR($E119*SUMIF('Daily Log'!$AU$18:$AU$1017,$B119,'Daily Log'!$AV$18:$AV$1017),0)","v":0},{"$f":"IFERROR($E119*SUMIF('Daily Log'!$AX$18:$AX$1017,$B119,'Daily Log'!$AY$18:$AY$1017),0)","v":0},{"$f":"IFERROR($E119*SUMIF('Daily Log'!$BA$18:$BA$1017,$B119,'Daily Log'!$BB$18:$BB$1017),0)","v":0},{"$f":"IFERROR($E119*SUMIF('Daily Log'!$BD$18:$BD$1017,$B119,'Daily Log'!$BE$18:$BE$1017),0)","v":0},{"$f":"IFERROR($E119*SUMIF('Daily Log'!$BG$18:$BG$1017,$B119,'Daily Log'!$BH$18:$BH$1017),0)","v":0},{"$f":"IFERROR($E119*SUMIF('Daily Log'!$BJ$18:$BJ$1017,$B119,'Daily Log'!$BK$18:$BK$1017),0)","v":0},{"$f":"IFERROR($E119*SUMIF('Daily Log'!$BM$18:$BM$1017,$B119,'Daily Log'!$BN$18:$BN$1017),0)","v":0},{"$f":"IFERROR($E119*SUMIF('Daily Log'!$BP$18:$BP$1017,$B119,'Daily Log'!$BQ$18:$BQ$1017),0)","v":0},{"$f":"IFERROR($E119*SUMIF('Daily Log'!$BS$18:$BS$1017,$B119,'Daily Log'!$BT$18:$BT$1017),0)","v":0},{"$f":"IFERROR($E119*SUMIF('Daily Log'!$BV$18:$BV$1017,$B119,'Daily Log'!$BW$18:$BW$1017),0)","v":0},{"$f":"IFERROR($E119*SUMIF('Daily Log'!$BY$18:$BY$1017,$B119,'Daily Log'!$BZ$18:$BZ$1017),0)","v":0},{"$f":"IFERROR($E119*SUMIF('Daily Log'!$CB$18:$CB$1017,$B119,'Daily Log'!$CC$18:$CC$1017),0)","v":0},{"$f":"IFERROR($E119*SUMIF('Daily Log'!$CE$18:$CE$1017,$B119,'Daily Log'!$CF$18:$CF$1017),0)","v":0},{"$f":"IFERROR($E119*SUMIF('Daily Log'!$CH$18:$CH$1017,$B119,'Daily Log'!$CI$18:$CI$1017),0)","v":0},{"$f":"IFERROR($E119*SUMIF('Daily Log'!$CK$18:$CK$1017,$B119,'Daily Log'!$CL$18:$CL$1017),0)","v":0},{"$f":"IFERROR($E119*SUMIF('Daily Log'!$CN$18:$CN$1017,$B119,'Daily Log'!$CO$18:$CO$1017),0)","v":0}]
[null,"AD14 M : EVENT",null,null,null,0,{"$f":"IFERROR($E120*SUMIF('Daily Log'!$B$18:$B$1017,$B120,'Daily Log'!$C$18:$C$1017),0)","v":0},{"$f":"IFERROR($E120*SUMIF('Daily Log'!$E$18:$E$1017,$B120,'Daily Log'!$F$18:$F$1017),0)","v":0},{"$f":"IFERROR($E120*SUMIF('Daily Log'!$H$18:$H$1017,$B120,'Daily Log'!$I$18:$I$1017),0)","v":0},{"$f":"IFERROR($E120*SUMIF('Daily Log'!$K$18:$K$1017,$B120,'Daily Log'!$L$18:$L$1017),0)","v":0},{"$f":"IFERROR($E120*SUMIF('Daily Log'!$N$18:$N$1017,$B120,'Daily Log'!$O$18:$O$1017),0)","v":0},{"$f":"IFERROR($E120*SUMIF('Daily Log'!$Q$18:$Q$1017,$B120,'Daily Log'!$R$18:$R$1017),0)","v":0},{"$f":"IFERROR($E120*SUMIF('Daily Log'!$T$18:$T$1017,$B120,'Daily Log'!$U$18:$U$1017),0)","v":0},{"$f":"IFERROR($E120*SUMIF('Daily Log'!$W$18:$W$1017,$B120,'Daily Log'!$X$18:$X$1017),0)","v":0},{"$f":"IFERROR($E120*SUMIF('Daily Log'!$Z$18:$Z$1017,$B120,'Daily Log'!$AA$18:$AA$1017),0)","v":0},{"$f":"IFERROR($E120*SUMIF('Daily Log'!$AC$18:$AC$1017,$B120,'Daily Log'!$AD$18:$AD$1017),0)","v":0},{"$f":"IFERROR($E120*SUMIF('Daily Log'!$AF$18:$AF$1017,$B120,'Daily Log'!$AG$18:$AG$1017),0)","v":0},{"$f":"IFERROR($E120*SUMIF('Daily Log'!$AI$18:$AI$1017,$B120,'Daily Log'!$AJ$18:$AJ$1017),0)","v":0},{"$f":"IFERROR($E120*SUMIF('Daily Log'!$AL$18:$AL$1017,$B120,'Daily Log'!$AM$18:$AM$1017),0)","v":0},{"$f":"IFERROR($E120*SUMIF('Daily Log'!$AO$18:$AO$1017,$B120,'Daily Log'!$AP$18:$AP$1017),0)","v":0},{"$f":"IFERROR($E120*SUMIF('Daily Log'!$AR$18:$AR$1017,$B120,'Daily Log'!$AS$18:$AS$1017),0)","v":0},{"$f":"IFERROR($E120*SUMIF('Daily Log'!$AU$18:$AU$1017,$B120,'Daily Log'!$AV$18:$AV$1017),0)","v":0},{"$f":"IFERROR($E120*SUMIF('Daily Log'!$AX$18:$AX$1017,$B120,'Daily Log'!$AY$18:$AY$1017),0)","v":0},{"$f":"IFERROR($E120*SUMIF('Daily Log'!$BA$18:$BA$1017,$B120,'Daily Log'!$BB$18:$BB$1017),0)","v":0},{"$f":"IFERROR($E120*SUMIF('Daily Log'!$BD$18:$BD$1017,$B120,'Daily Log'!$BE$18:$BE$1017),0)","v":0},{"$f":"IFERROR($E120*SUMIF('Daily Log'!$BG$18:$BG$1017,$B120,'Daily Log'!$BH$18:$BH$1017),0)","v":0},{"$f":"IFERROR($E120*SUMIF('Daily Log'!$BJ$18:$BJ$1017,$B120,'Daily Log'!$BK$18:$BK$1017),0)","v":0},{"$f":"IFERROR($E120*SUMIF('Daily Log'!$BM$18:$BM$1017,$B120,'Daily Log'!$BN$18:$BN$1017),0)","v":0},{"$f":"IFERROR($E120*SUMIF('Daily Log'!$BP$18:$BP$1017,$B120,'Daily Log'!$BQ$18:$BQ$1017),0)","v":0},{"$f":"IFERROR($E120*SUMIF('Daily Log'!$BS$18:$BS$1017,$B120,'Daily Log'!$BT$18:$BT$1017),0)","v":0},{"$f":"IFERROR($E120*SUMIF('Daily Log'!$BV$18:$BV$1017,$B120,'Daily Log'!$BW$18:$BW$1017),0)","v":0},{"$f":"IFERROR($E120*SUMIF('Daily Log'!$BY$18:$BY$1017,$B120,'Daily Log'!$BZ$18:$BZ$1017),0)","v":0},{"$f":"IFERROR($E120*SUMIF('Daily Log'!$CB$18:$CB$1017,$B120,'Daily Log'!$CC$18:$CC$1017),0)","v":0},{"$f":"IFERROR($E120*SUMIF('Daily Log'!$CE$18:$CE$1017,$B120,'Daily Log'!$CF$18:$CF$1017),0)","v":0},{"$f":"IFERROR($E120*SUMIF('Daily Log'!$CH$18:$CH$1017,$B120,'Daily Log'!$CI$18:$CI$1017),0)","v":0},{"$f":"IFERROR($E120*SUMIF('Daily Log'!$CK$18:$CK$1017,$B120,'Daily Log'!$CL$18:$CL$1017),0)","v":0},{"$f":"IFERROR($E120*SUMIF('Daily Log'!$CN$18:$CN$1017,$B120,'Daily Log'!$CO$18:$CO$1017),0)","v":0}]
[null,"AD15 M : XTD S ROOM",null,null,null,0,{"$f":"IFERROR($E121*SUMIF('Daily Log'!$B$18:$B$1017,$B121,'Daily Log'!$C$18:$C$1017),0)","v":0},{"$f":"IFERROR($E121*SUMIF('Daily Log'!$E$18:$E$1017,$B121,'Daily Log'!$F$18:$F$1017),0)","v":0},{"$f":"IFERROR($E121*SUMIF('Daily Log'!$H$18:$H$1017,$B121,'Daily Log'!$I$18:$I$1017),0)","v":0},{"$f":"IFERROR($E121*SUMIF('Daily Log'!$K$18:$K$1017,$B121,'Daily Log'!$L$18:$L$1017),0)","v":0},{"$f":"IFERROR($E121*SUMIF('Daily Log'!$N$18:$N$1017,$B121,'Daily Log'!$O$18:$O$1017),0)","v":0},{"$f":"IFERROR($E121*SUMIF('Daily Log'!$Q$18:$Q$1017,$B121,'Daily Log'!$R$18:$R$1017),0)","v":0},{"$f":"IFERROR($E121*SUMIF('Daily Log'!$T$18:$T$1017,$B121,'Daily Log'!$U$18:$U$1017),0)","v":0},{"$f":"IFERROR($E121*SUMIF('Daily Log'!$W$18:$W$1017,$B121,'Daily Log'!$X$18:$X$1017),0)","v":0},{"$f":"IFERROR($E121*SUMIF('Daily Log'!$Z$18:$Z$1017,$B121,'Daily Log'!$AA$18:$AA$1017),0)","v":0},{"$f":"IFERROR($E121*SUMIF('Daily Log'!$AC$18:$AC$1017,$B121,'Daily Log'!$AD$18:$AD$1017),0)","v":0},{"$f":"IFERROR($E121*SUMIF('Daily Log'!$AF$18:$AF$1017,$B121,'Daily Log'!$AG$18:$AG$1017),0)","v":0},{"$f":"IFERROR($E121*SUMIF('Daily Log'!$AI$18:$AI$1017,$B121,'Daily Log'!$AJ$18:$AJ$1017),0)","v":0},{"$f":"IFERROR($E121*SUMIF('Daily Log'!$AL$18:$AL$1017,$B121,'Daily Log'!$AM$18:$AM$1017),0)","v":0},{"$f":"IFERROR($E121*SUMIF('Daily Log'!$AO$18:$AO$1017,$B121,'Daily Log'!$AP$18:$AP$1017),0)","v":0},{"$f":"IFERROR($E121*SUMIF('Daily Log'!$AR$18:$AR$1017,$B121,'Daily Log'!$AS$18:$AS$1017),0)","v":0},{"$f":"IFERROR($E121*SUMIF('Daily Log'!$AU$18:$AU$1017,$B121,'Daily Log'!$AV$18:$AV$1017),0)","v":0},{"$f":"IFERROR($E121*SUMIF('Daily Log'!$AX$18:$AX$1017,$B121,'Daily Log'!$AY$18:$AY$1017),0)","v":0},{"$f":"IFERROR($E121*SUMIF('Daily Log'!$BA$18:$BA$1017,$B121,'Daily Log'!$BB$18:$BB$1017),0)","v":0},{"$f":"IFERROR($E121*SUMIF('Daily Log'!$BD$18:$BD$1017,$B121,'Daily Log'!$BE$18:$BE$1017),0)","v":0},{"$f":"IFERROR($E121*SUMIF('Daily Log'!$BG$18:$BG$1017,$B121,'Daily Log'!$BH$18:$BH$1017),0)","v":0},{"$f":"IFERROR($E121*SUMIF('Daily Log'!$BJ$18:$BJ$1017,$B121,'Daily Log'!$BK$18:$BK$1017),0)","v":0},{"$f":"IFERROR($E121*SUMIF('Daily Log'!$BM$18:$BM$1017,$B121,'Daily Log'!$BN$18:$BN$1017),0)","v":0},{"$f":"IFERROR($E121*SUMIF('Daily Log'!$BP$18:$BP$1017,$B121,'Daily Log'!$BQ$18:$BQ$1017),0)","v":0},{"$f":"IFERROR($E121*SUMIF('Daily Log'!$BS$18:$BS$1017,$B121,'Daily Log'!$BT$18:$BT$1017),0)","v":0},{"$f":"IFERROR($E121*SUMIF('Daily Log'!$BV$18:$BV$1017,$B121,'Daily Log'!$BW$18:$BW$1017),0)","v":0},{"$f":"IFERROR($E121*SUMIF('Daily Log'!$BY$18:$BY$1017,$B121,'Daily Log'!$BZ$18:$BZ$1017),0)","v":0},{"$f":"IFERROR($E121*SUMIF('Daily Log'!$CB$18:$CB$1017,$B121,'Daily Log'!$CC$18:$CC$1017),0)","v":0},{"$f":"IFERROR($E121*SUMIF('Daily Log'!$CE$18:$CE$1017,$B121,'Daily Log'!$CF$18:$CF$1017),0)","v":0},{"$f":"IFERROR($E121*SUMIF('Daily Log'!$CH$18:$CH$1017,$B121,'Daily Log'!$CI$18:$CI$1017),0)","v":0},{"$f":"IFERROR($E121*SUMIF('Daily Log'!$CK$18:$CK$1017,$B121,'Daily Log'!$CL$18:$CL$1017),0)","v":0},{"$f":"IFERROR($E121*SUMIF('Daily Log'!$CN$18:$CN$1017,$B121,'Daily Log'!$CO$18:$CO$1017),0)","v":0}]
[null,"AD16 M : XTD M ROOM",null,null,null,0,{"$f":"IFERROR($E122*SUMIF('Daily Log'!$B$18:$B$1017,$B122,'Daily Log'!$C$18:$C$1017),0)","v":0},{"$f":"IFERROR($E122*SUMIF('Daily Log'!$E$18:$E$1017,$B122,'Daily Log'!$F$18:$F$1017),0)","v":0},{"$f":"IFERROR($E122*SUMIF('Daily Log'!$H$18:$H$1017,$B122,'Daily Log'!$I$18:$I$1017),0)","v":0},{"$f":"IFERROR($E122*SUMIF('Daily Log'!$K$18:$K$1017,$B122,'Daily Log'!$L$18:$L$1017),0)","v":0},{"$f":"IFERROR($E122*SUMIF('Daily Log'!$N$18:$N$1017,$B122,'Daily Log'!$O$18:$O$1017),0)","v":0},{"$f":"IFERROR($E122*SUMIF('Daily Log'!$Q$18:$Q$1017,$B122,'Daily Log'!$R$18:$R$1017),0)","v":0},{"$f":"IFERROR($E122*SUMIF('Daily Log'!$T$18:$T$1017,$B122,'Daily Log'!$U$18:$U$1017),0)","v":0},{"$f":"IFERROR($E122*SUMIF('Daily Log'!$W$18:$W$1017,$B122,'Daily Log'!$X$18:$X$1017),0)","v":0},{"$f":"IFERROR($E122*SUMIF('Daily Log'!$Z$18:$Z$1017,$B122,'Daily Log'!$AA$18:$AA$1017),0)","v":0},{"$f":"IFERROR($E122*SUMIF('Daily Log'!$AC$18:$AC$1017,$B122,'Daily Log'!$AD$18:$AD$1017),0)","v":0},{"$f":"IFERROR($E122*SUMIF('Daily Log'!$AF$18:$AF$1017,$B122,'Daily Log'!$AG$18:$AG$1017),0)","v":0},{"$f":"IFERROR($E122*SUMIF('Daily Log'!$AI$18:$AI$1017,$B122,'Daily Log'!$AJ$18:$AJ$1017),0)","v":0},{"$f":"IFERROR($E122*SUMIF('Daily Log'!$AL$18:$AL$1017,$B122,'Daily Log'!$AM$18:$AM$1017),0)","v":0},{"$f":"IFERROR($E122*SUMIF('Daily Log'!$AO$18:$AO$1017,$B122,'Daily Log'!$AP$18:$AP$1017),0)","v":0},{"$f":"IFERROR($E122*SUMIF('Daily Log'!$AR$18:$AR$1017,$B122,'Daily Log'!$AS$18:$AS$1017),0)","v":0},{"$f":"IFERROR($E122*SUMIF('Daily Log'!$AU$18:$AU$1017,$B122,'Daily Log'!$AV$18:$AV$1017),0)","v":0},{"$f":"IFERROR($E122*SUMIF('Daily Log'!$AX$18:$AX$1017,$B122,'Daily Log'!$AY$18:$AY$1017),0)","v":0},{"$f":"IFERROR($E122*SUMIF('Daily Log'!$BA$18:$BA$1017,$B122,'Daily Log'!$BB$18:$BB$1017),0)","v":0},{"$f":"IFERROR($E122*SUMIF('Daily Log'!$BD$18:$BD$1017,$B122,'Daily Log'!$BE$18:$BE$1017),0)","v":0},{"$f":"IFERROR($E122*SUMIF('Daily Log'!$BG$18:$BG$1017,$B122,'Daily Log'!$BH$18:$BH$1017),0)","v":0},{"$f":"IFERROR($E122*SUMIF('Daily Log'!$BJ$18:$BJ$1017,$B122,'Daily Log'!$BK$18:$BK$1017),0)","v":0},{"$f":"IFERROR($E122*SUMIF('Daily Log'!$BM$18:$BM$1017,$B122,'Daily Log'!$BN$18:$BN$1017),0)","v":0},{"$f":"IFERROR($E122*SUMIF('Daily Log'!$BP$18:$BP$1017,$B122,'Daily Log'!$BQ$18:$BQ$1017),0)","v":0},{"$f":"IFERROR($E122*SUMIF('Daily Log'!$BS$18:$BS$1017,$B122,'Daily Log'!$BT$18:$BT$1017),0)","v":0},{"$f":"IFERROR($E122*SUMIF('Daily Log'!$BV$18:$BV$1017,$B122,'Daily Log'!$BW$18:$BW$1017),0)","v":0},{"$f":"IFERROR($E122*SUMIF('Daily Log'!$BY$18:$BY$1017,$B122,'Daily Log'!$BZ$18:$BZ$1017),0)","v":0},{"$f":"IFERROR($E122*SUMIF('Daily Log'!$CB$18:$CB$1017,$B122,'Daily Log'!$CC$18:$CC$1017),0)","v":0},{"$f":"IFERROR($E122*SUMIF('Daily Log'!$CE$18:$CE$1017,$B122,'Daily Log'!$CF$18:$CF$1017),0)","v":0},{"$f":"IFERROR($E122*SUMIF('Daily Log'!$CH$18:$CH$1017,$B122,'Daily Log'!$CI$18:$CI$1017),0)","v":0},{"$f":"IFERROR($E122*SUMIF('Daily Log'!$CK$18:$CK$1017,$B122,'Daily Log'!$CL$18:$CL$1017),0)","v":0},{"$f":"IFERROR($E122*SUMIF('Daily Log'!$CN$18:$CN$1017,$B122,'Daily Log'!$CO$18:$CO$1017),0)","v":0}]
[null,"AD17 M : XTD B ROOM",null,null,null,0,{"$f":"IFERROR($E123*SUMIF('Daily Log'!$B$18:$B$1017,$B123,'Daily Log'!$C$18:$C$1017),0)","v":0},{"$f":"IFERROR($E123*SUMIF('Daily Log'!$E$18:$E$1017,$B123,'Daily Log'!$F$18:$F$1017),0)","v":0},{"$f":"IFERROR($E123*SUMIF('Daily Log'!$H$18:$H$1017,$B123,'Daily Log'!$I$18:$I$1017),0)","v":0},{"$f":"IFERROR($E123*SUMIF('Daily Log'!$K$18:$K$1017,$B123,'Daily Log'!$L$18:$L$1017),0)","v":0},{"$f":"IFERROR($E123*SUMIF('Daily Log'!$N$18:$N$1017,$B123,'Daily Log'!$O$18:$O$1017),0)","v":0},{"$f":"IFERROR($E123*SUMIF('Daily Log'!$Q$18:$Q$1017,$B123,'Daily Log'!$R$18:$R$1017),0)","v":0},{"$f":"IFERROR($E123*SUMIF('Daily Log'!$T$18:$T$1017,$B123,'Daily Log'!$U$18:$U$1017),0)","v":0},{"$f":"IFERROR($E123*SUMIF('Daily Log'!$W$18:$W$1017,$B123,'Daily Log'!$X$18:$X$1017),0)","v":0},{"$f":"IFERROR($E123*SUMIF('Daily Log'!$Z$18:$Z$1017,$B123,'Daily Log'!$AA$18:$AA$1017),0)","v":0},{"$f":"IFERROR($E123*SUMIF('Daily Log'!$AC$18:$AC$1017,$B123,'Daily Log'!$AD$18:$AD$1017),0)","v":0},{"$f":"IFERROR($E123*SUMIF('Daily Log'!$AF$18:$AF$1017,$B123,'Daily Log'!$AG$18:$AG$1017),0)","v":0},{"$f":"IFERROR($E123*SUMIF('Daily Log'!$AI$18:$AI$1017,$B123,'Daily Log'!$AJ$18:$AJ$1017),0)","v":0},{"$f":"IFERROR($E123*SUMIF('Daily Log'!$AL$18:$AL$1017,$B123,'Daily Log'!$AM$18:$AM$1017),0)","v":0},{"$f":"IFERROR($E123*SUMIF('Daily Log'!$AO$18:$AO$1017,$B123,'Daily Log'!$AP$18:$AP$1017),0)","v":0},{"$f":"IFERROR($E123*SUMIF('Daily Log'!$AR$18:$AR$1017,$B123,'Daily Log'!$AS$18:$AS$1017),0)","v":0},{"$f":"IFERROR($E123*SUMIF('Daily Log'!$AU$18:$AU$1017,$B123,'Daily Log'!$AV$18:$AV$1017),0)","v":0},{"$f":"IFERROR($E123*SUMIF('Daily Log'!$AX$18:$AX$1017,$B123,'Daily Log'!$AY$18:$AY$1017),0)","v":0},{"$f":"IFERROR($E123*SUMIF('Daily Log'!$BA$18:$BA$1017,$B123,'Daily Log'!$BB$18:$BB$1017),0)","v":0},{"$f":"IFERROR($E123*SUMIF('Daily Log'!$BD$18:$BD$1017,$B123,'Daily Log'!$BE$18:$BE$1017),0)","v":0},{"$f":"IFERROR($E123*SUMIF('Daily Log'!$BG$18:$BG$1017,$B123,'Daily Log'!$BH$18:$BH$1017),0)","v":0},{"$f":"IFERROR($E123*SUMIF('Daily Log'!$BJ$18:$BJ$1017,$B123,'Daily Log'!$BK$18:$BK$1017),0)","v":0},{"$f":"IFERROR($E123*SUMIF('Daily Log'!$BM$18:$BM$1017,$B123,'Daily Log'!$BN$18:$BN$1017),0)","v":0},{"$f":"IFERROR($E123*SUMIF('Daily Log'!$BP$18:$BP$1017,$B123,'Daily Log'!$BQ$18:$BQ$1017),0)","v":0},{"$f":"IFERROR($E123*SUMIF('Daily Log'!$BS$18:$BS$1017,$B123,'Daily Log'!$BT$18:$BT$1017),0)","v":0},{"$f":"IFERROR($E123*SUMIF('Daily Log'!$BV$18:$BV$1017,$B123,'Daily Log'!$BW$18:$BW$1017),0)","v":0},{"$f":"IFERROR($E123*SUMIF('Daily Log'!$BY$18:$BY$1017,$B123,'Daily Log'!$BZ$18:$BZ$1017),0)","v":0},{"$f":"IFERROR($E123*SUMIF('Daily Log'!$CB$18:$CB$1017,$B123,'Daily Log'!$CC$18:$CC$1017),0)","v":0},{"$f":"IFERROR($E123*SUMIF('Daily Log'!$CE$18:$CE$1017,$B123,'Daily Log'!$CF$18:$CF$1017),0)","v":0},{"$f":"IFERROR($E123*SUMIF('Daily Log'!$CH$18:$CH$1017,$B123,'Daily Log'!$CI$18:$CI$1017),0)","v":0},{"$f":"IFERROR($E123*SUMIF('Daily Log'!$CK$18:$CK$1017,$B123,'Daily Log'!$CL$18:$CL$1017),0)","v":0},{"$f":"IFERROR($E123*SUMIF('Daily Log'!$CN$18:$CN$1017,$B123,'Daily Log'!$CO$18:$CO$1017),0)","v":0}]
[null,"AD18 M : FOC HOUR",null,null,null,0,{"$f":"IFERROR($E124*SUMIF('Daily Log'!$B$18:$B$1017,$B124,'Daily Log'!$C$18:$C$1017),0)","v":0},{"$f":"IFERROR($E124*SUMIF('Daily Log'!$E$18:$E$1017,$B124,'Daily Log'!$F$18:$F$1017),0)","v":0},{"$f":"IFERROR($E124*SUMIF('Daily Log'!$H$18:$H$1017,$B124,'Daily Log'!$I$18:$I$1017),0)","v":0},{"$f":"IFERROR($E124*SUMIF('Daily Log'!$K$18:$K$1017,$B124,'Daily Log'!$L$18:$L$1017),0)","v":0},{"$f":"IFERROR($E124*SUMIF('Daily Log'!$N$18:$N$1017,$B124,'Daily Log'!$O$18:$O$1017),0)","v":0},{"$f":"IFERROR($E124*SUMIF('Daily Log'!$Q$18:$Q$1017,$B124,'Daily Log'!$R$18:$R$1017),0)","v":0},{"$f":"IFERROR($E124*SUMIF('Daily Log'!$T$18:$T$1017,$B124,'Daily Log'!$U$18:$U$1017),0)","v":0},{"$f":"IFERROR($E124*SUMIF('Daily Log'!$W$18:$W$1017,$B124,'Daily Log'!$X$18:$X$1017),0)","v":0},{"$f":"IFERROR($E124*SUMIF('Daily Log'!$Z$18:$Z$1017,$B124,'Daily Log'!$AA$18:$AA$1017),0)","v":0},{"$f":"IFERROR($E124*SUMIF('Daily Log'!$AC$18:$AC$1017,$B124,'Daily Log'!$AD$18:$AD$1017),0)","v":0},{"$f":"IFERROR($E124*SUMIF('Daily Log'!$AF$18:$AF$1017,$B124,'Daily Log'!$AG$18:$AG$1017),0)","v":0},{"$f":"IFERROR($E124*SUMIF('Daily Log'!$AI$18:$AI$1017,$B124,'Daily Log'!$AJ$18:$AJ$1017),0)","v":0},{"$f":"IFERROR($E124*SUMIF('Daily Log'!$AL$18:$AL$1017,$B124,'Daily Log'!$AM$18:$AM$1017),0)","v":0},{"$f":"IFERROR($E124*SUMIF('Daily Log'!$AO$18:$AO$1017,$B124,'Daily Log'!$AP$18:$AP$1017),0)","v":0},{"$f":"IFERROR($E124*SUMIF('Daily Log'!$AR$18:$AR$1017,$B124,'Daily Log'!$AS$18:$AS$1017),0)","v":0},{"$f":"IFERROR($E124*SUMIF('Daily Log'!$AU$18:$AU$1017,$B124,'Daily Log'!$AV$18:$AV$1017),0)","v":0},{"$f":"IFERROR($E124*SUMIF('Daily Log'!$AX$18:$AX$1017,$B124,'Daily Log'!$AY$18:$AY$1017),0)","v":0},{"$f":"IFERROR($E124*SUMIF('Daily Log'!$BA$18:$BA$1017,$B124,'Daily Log'!$BB$18:$BB$1017),0)","v":0},{"$f":"IFERROR($E124*SUMIF('Daily Log'!$BD$18:$BD$1017,$B124,'Daily Log'!$BE$18:$BE$1017),0)","v":0},{"$f":"IFERROR($E124*SUMIF('Daily Log'!$BG$18:$BG$1017,$B124,'Daily Log'!$BH$18:$BH$1017),0)","v":0},{"$f":"IFERROR($E124*SUMIF('Daily Log'!$BJ$18:$BJ$1017,$B124,'Daily Log'!$BK$18:$BK$1017),0)","v":0},{"$f":"IFERROR($E124*SUMIF('Daily Log'!$BM$18:$BM$1017,$B124,'Daily Log'!$BN$18:$BN$1017),0)","v":0},{"$f":"IFERROR($E124*SUMIF('Daily Log'!$BP$18:$BP$1017,$B124,'Daily Log'!$BQ$18:$BQ$1017),0)","v":0},{"$f":"IFERROR($E124*SUMIF('Daily Log'!$BS$18:$BS$1017,$B124,'Daily Log'!$BT$18:$BT$1017),0)","v":0},{"$f":"IFERROR($E124*SUMIF('Daily Log'!$BV$18:$BV$1017,$B124,'Daily Log'!$BW$18:$BW$1017),0)","v":0},{"$f":"IFERROR($E124*SUMIF('Daily Log'!$BY$18:$BY$1017,$B124,'Daily Log'!$BZ$18:$BZ$1017),0)","v":0},{"$f":"IFERROR($E124*SUMIF('Daily Log'!$CB$18:$CB$1017,$B124,'Daily Log'!$CC$18:$CC$1017),0)","v":0},{"$f":"IFERROR($E124*SUMIF('Daily Log'!$CE$18:$CE$1017,$B124,'Daily Log'!$CF$18:$CF$1017),0)","v":0},{"$f":"IFERROR($E124*SUMIF('Daily Log'!$CH$18:$CH$1017,$B124,'Daily Log'!$CI$18:$CI$1017),0)","v":0},{"$f":"IFERROR($E124*SUMIF('Daily Log'!$CK$18:$CK$1017,$B124,'Daily Log'!$CL$18:$CL$1017),0)","v":0},{"$f":"IFERROR($E124*SUMIF('Daily Log'!$CN$18:$CN$1017,$B124,'Daily Log'!$CO$18:$CO$1017),0)","v":0}]
[null,"AD19 M : GROUPON",null,null,null,0,{"$f":"IFERROR($E125*SUMIF('Daily Log'!$B$18:$B$1017,$B125,'Daily Log'!$C$18:$C$1017),0)","v":0},{"$f":"IFERROR($E125*SUMIF('Daily Log'!$E$18:$E$1017,$B125,'Daily Log'!$F$18:$F$1017),0)","v":0},{"$f":"IFERROR($E125*SUMIF('Daily Log'!$H$18:$H$1017,$B125,'Daily Log'!$I$18:$I$1017),0)","v":0},{"$f":"IFERROR($E125*SUMIF('Daily Log'!$K$18:$K$1017,$B125,'Daily Log'!$L$18:$L$1017),0)","v":0},{"$f":"IFERROR($E125*SUMIF('Daily Log'!$N$18:$N$1017,$B125,'Daily Log'!$O$18:$O$1017),0)","v":0},{"$f":"IFERROR($E125*SUMIF('Daily Log'!$Q$18:$Q$1017,$B125,'Daily Log'!$R$18:$R$1017),0)","v":0},{"$f":"IFERROR($E125*SUMIF('Daily Log'!$T$18:$T$1017,$B125,'Daily Log'!$U$18:$U$1017),0)","v":0},{"$f":"IFERROR($E125*SUMIF('Daily Log'!$W$18:$W$1017,$B125,'Daily Log'!$X$18:$X$1017),0)","v":0},{"$f":"IFERROR($E125*SUMIF('Daily Log'!$Z$18:$Z$1017,$B125,'Daily Log'!$AA$18:$AA$1017),0)","v":0},{"$f":"IFERROR($E125*SUMIF('Daily Log'!$AC$18:$AC$1017,$B125,'Daily Log'!$AD$18:$AD$1017),0)","v":0},{"$f":"IFERROR($E125*SUMIF('Daily Log'!$AF$18:$AF$1017,$B125,'Daily Log'!$AG$18:$AG$1017),0)","v":0},{"$f":"IFERROR($E125*SUMIF('Daily Log'!$AI$18:$AI$1017,$B125,'Daily Log'!$AJ$18:$AJ$1017),0)","v":0},{"$f":"IFERROR($E125*SUMIF('Daily Log'!$AL$18:$AL$1017,$B125,'Daily Log'!$AM$18:$AM$1017),0)","v":0},{"$f":"IFERROR($E125*SUMIF('Daily Log'!$AO$18:$AO$1017,$B125,'Daily Log'!$AP$18:$AP$1017),0)","v":0},{"$f":"IFERROR($E125*SUMIF('Daily Log'!$AR$18:$AR$1017,$B125,'Daily Log'!$AS$18:$AS$1017),0)","v":0},{"$f":"IFERROR($E125*SUMIF('Daily Log'!$AU$18:$AU$1017,$B125,'Daily Log'!$AV$18:$AV$1017),0)","v":0},{"$f":"IFERROR($E125*SUMIF('Daily Log'!$AX$18:$AX$1017,$B125,'Daily Log'!$AY$18:$AY$1017),0)","v":0},{"$f":"IFERROR($E125*SUMIF('Daily Log'!$BA$18:$BA$1017,$B125,'Daily Log'!$BB$18:$BB$1017),0)","v":0},{"$f":"IFERROR($E125*SUMIF('Daily Log'!$BD$18:$BD$1017,$B125,'Daily Log'!$BE$18:$BE$1017),0)","v":0},{"$f":"IFERROR($E125*SUMIF('Daily Log'!$BG$18:$BG$1017,$B125,'Daily Log'!$BH$18:$BH$1017),0)","v":0},{"$f":"IFERROR($E125*SUMIF('Daily Log'!$BJ$18:$BJ$1017,$B125,'Daily Log'!$BK$18:$BK$1017),0)","v":0},{"$f":"IFERROR($E125*SUMIF('Daily Log'!$BM$18:$BM$1017,$B125,'Daily Log'!$BN$18:$BN$1017),0)","v":0},{"$f":"IFERROR($E125*SUMIF('Daily Log'!$BP$18:$BP$1017,$B125,'Daily Log'!$BQ$18:$BQ$1017),0)","v":0},{"$f":"IFERROR($E125*SUMIF('Daily Log'!$BS$18:$BS$1017,$B125,'Daily Log'!$BT$18:$BT$1017),0)","v":0},{"$f":"IFERROR($E125*SUMIF('Daily Log'!$BV$18:$BV$1017,$B125,'Daily Log'!$BW$18:$BW$1017),0)","v":0},{"$f":"IFERROR($E125*SUMIF('Daily Log'!$BY$18:$BY$1017,$B125,'Daily Log'!$BZ$18:$BZ$1017),0)","v":0},{"$f":"IFERROR($E125*SUMIF('Daily Log'!$CB$18:$CB$1017,$B125,'Daily Log'!$CC$18:$CC$1017),0)","v":0},{"$f":"IFERROR($E125*SUMIF('Daily Log'!$CE$18:$CE$1017,$B125,'Daily Log'!$CF$18:$CF$1017),0)","v":0},{"$f":"IFERROR($E125*SUMIF('Daily Log'!$CH$18:$CH$1017,$B125,'Daily Log'!$CI$18:$CI$1017),0)","v":0},{"$f":"IFERROR($E125*SUMIF('Daily Log'!$CK$18:$CK$1017,$B125,'Daily Log'!$CL$18:$CL$1017),0)","v":0},{"$f":"IFERROR($E125*SUMIF('Daily Log'!$CN$18:$CN$1017,$B125,'Daily Log'!$CO$18:$CO$1017),0)","v":0}]
[null,"AD21 M : One FM 208",null,null,null,0,{"$f":"IFERROR($E126*SUMIF('Daily Log'!$B$18:$B$1017,$B126,'Daily Log'!$C$18:$C$1017),0)","v":0},{"$f":"IFERROR($E126*SUMIF('Daily Log'!$E$18:$E$1017,$B126,'Daily Log'!$F$18:$F$1017),0)","v":0},{"$f":"IFERROR($E126*SUMIF('Daily Log'!$H$18:$H$1017,$B126,'Daily Log'!$I$18:$I$1017),0)","v":0},{"$f":"IFERROR($E126*SUMIF('Daily Log'!$K$18:$K$1017,$B126,'Daily Log'!$L$18:$L$1017),0)","v":0},{"$f":"IFERROR($E126*SUMIF('Daily Log'!$N$18:$N$1017,$B126,'Daily Log'!$O$18:$O$1017),0)","v":0},{"$f":"IFERROR($E126*SUMIF('Daily Log'!$Q$18:$Q$1017,$B126,'Daily Log'!$R$18:$R$1017),0)","v":0},{"$f":"IFERROR($E126*SUMIF('Daily Log'!$T$18:$T$1017,$B126,'Daily Log'!$U$18:$U$1017),0)","v":0},{"$f":"IFERROR($E126*SUMIF('Daily Log'!$W$18:$W$1017,$B126,'Daily Log'!$X$18:$X$1017),0)","v":0},{"$f":"IFERROR($E126*SUMIF('Daily Log'!$Z$18:$Z$1017,$B126,'Daily Log'!$AA$18:$AA$1017),0)","v":0},{"$f":"IFERROR($E126*SUMIF('Daily Log'!$AC$18:$AC$1017,$B126,'Daily Log'!$AD$18:$AD$1017),0)","v":0},{"$f":"IFERROR($E126*SUMIF('Daily Log'!$AF$18:$AF$1017,$B126,'Daily Log'!$AG$18:$AG$1017),0)","v":0},{"$f":"IFERROR($E126*SUMIF('Daily Log'!$AI$18:$AI$1017,$B126,'Daily Log'!$AJ$18:$AJ$1017),0)","v":0},{"$f":"IFERROR($E126*SUMIF('Daily Log'!$AL$18:$AL$1017,$B126,'Daily Log'!$AM$18:$AM$1017),0)","v":0},{"$f":"IFERROR($E126*SUMIF('Daily Log'!$AO$18:$AO$1017,$B126,'Daily Log'!$AP$18:$AP$1017),0)","v":0},{"$f":"IFERROR($E126*SUMIF('Daily Log'!$AR$18:$AR$1017,$B126,'Daily Log'!$AS$18:$AS$1017),0)","v":0},{"$f":"IFERROR($E126*SUMIF('Daily Log'!$AU$18:$AU$1017,$B126,'Daily Log'!$AV$18:$AV$1017),0)","v":0},{"$f":"IFERROR($E126*SUMIF('Daily Log'!$AX$18:$AX$1017,$B126,'Daily Log'!$AY$18:$AY$1017),0)","v":0},{"$f":"IFERROR($E126*SUMIF('Daily Log'!$BA$18:$BA$1017,$B126,'Daily Log'!$BB$18:$BB$1017),0)","v":0},{"$f":"IFERROR($E126*SUMIF('Daily Log'!$BD$18:$BD$1017,$B126,'Daily Log'!$BE$18:$BE$1017),0)","v":0},{"$f":"IFERROR($E126*SUMIF('Daily Log'!$BG$18:$BG$1017,$B126,'Daily Log'!$BH$18:$BH$1017),0)","v":0},{"$f":"IFERROR($E126*SUMIF('Daily Log'!$BJ$18:$BJ$1017,$B126,'Daily Log'!$BK$18:$BK$1017),0)","v":0},{"$f":"IFERROR($E126*SUMIF('Daily Log'!$BM$18:$BM$1017,$B126,'Daily Log'!$BN$18:$BN$1017),0)","v":0},{"$f":"IFERROR($E126*SUMIF('Daily Log'!$BP$18:$BP$1017,$B126,'Daily Log'!$BQ$18:$BQ$1017),0)","v":0},{"$f":"IFERROR($E126*SUMIF('Daily Log'!$BS$18:$BS$1017,$B126,'Daily Log'!$BT$18:$BT$1017),0)","v":0},{"$f":"IFERROR($E126*SUMIF('Daily Log'!$BV$18:$BV$1017,$B126,'Daily Log'!$BW$18:$BW$1017),0)","v":0},{"$f":"IFERROR($E126*SUMIF('Daily Log'!$BY$18:$BY$1017,$B126,'Daily Log'!$BZ$18:$BZ$1017),0)","v":0},{"$f":"IFERROR($E126*SUMIF('Daily Log'!$CB$18:$CB$1017,$B126,'Daily Log'!$CC$18:$CC$1017),0)","v":0},{"$f":"IFERROR($E126*SUMIF('Daily Log'!$CE$18:$CE$1017,$B126,'Daily Log'!$CF$18:$CF$1017),0)","v":0},{"$f":"IFERROR($E126*SUMIF('Daily Log'!$CH$18:$CH$1017,$B126,'Daily Log'!$CI$18:$CI$1017),0)","v":0},{"$f":"IFERROR($E126*SUMIF('Daily Log'!$CK$18:$CK$1017,$B126,'Daily Log'!$CL$18:$CL$1017),0)","v":0},{"$f":"IFERROR($E126*SUMIF('Daily Log'!$CN$18:$CN$1017,$B126,'Daily Log'!$CO$18:$CO$1017),0)","v":0}]
[null,"AD22 M:Student Mem",null,null,null,0,{"$f":"IFERROR($E127*SUMIF('Daily Log'!$B$18:$B$1017,$B127,'Daily Log'!$C$18:$C$1017),0)","v":0},{"$f":"IFERROR($E127*SUMIF('Daily Log'!$E$18:$E$1017,$B127,'Daily Log'!$F$18:$F$1017),0)","v":0},{"$f":"IFERROR($E127*SUMIF('Daily Log'!$H$18:$H$1017,$B127,'Daily Log'!$I$18:$I$1017),0)","v":0},{"$f":"IFERROR($E127*SUMIF('Daily Log'!$K$18:$K$1017,$B127,'Daily Log'!$L$18:$L$1017),0)","v":0},{"$f":"IFERROR($E127*SUMIF('Daily Log'!$N$18:$N$1017,$B127,'Daily Log'!$O$18:$O$1017),0)","v":0},{"$f":"IFERROR($E127*SUMIF('Daily Log'!$Q$18:$Q$1017,$B127,'Daily Log'!$R$18:$R$1017),0)","v":0},{"$f":"IFERROR($E127*SUMIF('Daily Log'!$T$18:$T$1017,$B127,'Daily Log'!$U$18:$U$1017),0)","v":0},{"$f":"IFERROR($E127*SUMIF('Daily Log'!$W$18:$W$1017,$B127,'Daily Log'!$X$18:$X$1017),0)","v":0},{"$f":"IFERROR($E127*SUMIF('Daily Log'!$Z$18:$Z$1017,$B127,'Daily Log'!$AA$18:$AA$1017),0)","v":0},{"$f":"IFERROR($E127*SUMIF('Daily Log'!$AC$18:$AC$1017,$B127,'Daily Log'!$AD$18:$AD$1017),0)","v":0},{"$f":"IFERROR($E127*SUMIF('Daily Log'!$AF$18:$AF$1017,$B127,'Daily Log'!$AG$18:$AG$1017),0)","v":0},{"$f":"IFERROR($E127*SUMIF('Daily Log'!$AI$18:$AI$1017,$B127,'Daily Log'!$AJ$18:$AJ$1017),0)","v":0},{"$f":"IFERROR($E127*SUMIF('Daily Log'!$AL$18:$AL$1017,$B127,'Daily Log'!$AM$18:$AM$1017),0)","v":0},{"$f":"IFERROR($E127*SUMIF('Daily Log'!$AO$18:$AO$1017,$B127,'Daily Log'!$AP$18:$AP$1017),0)","v":0},{"$f":"IFERROR($E127*SUMIF('Daily Log'!$AR$18:$AR$1017,$B127,'Daily Log'!$AS$18:$AS$1017),0)","v":0},{"$f":"IFERROR($E127*SUMIF('Daily Log'!$AU$18:$AU$1017,$B127,'Daily Log'!$AV$18:$AV$1017),0)","v":0},{"$f":"IFERROR($E127*SUMIF('Daily Log'!$AX$18:$AX$1017,$B127,'Daily Log'!$AY$18:$AY$1017),0)","v":0},{"$f":"IFERROR($E127*SUMIF('Daily Log'!$BA$18:$BA$1017,$B127,'Daily Log'!$BB$18:$BB$1017),0)","v":0},{"$f":"IFERROR($E127*SUMIF('Daily Log'!$BD$18:$BD$1017,$B127,'Daily Log'!$BE$18:$BE$1017),0)","v":0},{"$f":"IFERROR($E127*SUMIF('Daily Log'!$BG$18:$BG$1017,$B127,'Daily Log'!$BH$18:$BH$1017),0)","v":0},{"$f":"IFERROR($E127*SUMIF('Daily Log'!$BJ$18:$BJ$1017,$B127,'Daily Log'!$BK$18:$BK$1017),0)","v":0},{"$f":"IFERROR($E127*SUMIF('Daily Log'!$BM$18:$BM$1017,$B127,'Daily Log'!$BN$18:$BN$1017),0)","v":0},{"$f":"IFERROR($E127*SUMIF('Daily Log'!$BP$18:$BP$1017,$B127,'Daily Log'!$BQ$18:$BQ$1017),0)","v":0},{"$f":"IFERROR($E127*SUMIF('Daily Log'!$BS$18:$BS$1017,$B127,'Daily Log'!$BT$18:$BT$1017),0)","v":0},{"$f":"IFERROR($E127*SUMIF('Daily Log'!$BV$18:$BV$1017,$B127,'Daily Log'!$BW$18:$BW$1017),0)","v":0},{"$f":"IFERROR($E127*SUMIF('Daily Log'!$BY$18:$BY$1017,$B127,'Daily Log'!$BZ$18:$BZ$1017),0)","v":0},{"$f":"IFERROR($E127*SUMIF('Daily Log'!$CB$18:$CB$1017,$B127,'Daily Log'!$CC$18:$CC$1017),0)","v":0},{"$f":"IFERROR($E127*SUMIF('Daily Log'!$CE$18:$CE$1017,$B127,'Daily Log'!$CF$18:$CF$1017),0)","v":0},{"$f":"IFERROR($E127*SUMIF('Daily Log'!$CH$18:$CH$1017,$B127,'Daily Log'!$CI$18:$CI$1017),0)","v":0},{"$f":"IFERROR($E127*SUMIF('Daily Log'!$CK$18:$CK$1017,$B127,'Daily Log'!$CL$18:$CL$1017),0)","v":0},{"$f":"IFERROR($E127*SUMIF('Daily Log'!$CN$18:$CN$1017,$B127,'Daily Log'!$CO$18:$CO$1017),0)","v":0}]
[null,"AD24 M : iGOT DIS 3+1",null,null,null,0,{"$f":"IFERROR($E128*SUMIF('Daily Log'!$B$18:$B$1017,$B128,'Daily Log'!$C$18:$C$1017),0)","v":0},{"$f":"IFERROR($E128*SUMIF('Daily Log'!$E$18:$E$1017,$B128,'Daily Log'!$F$18:$F$1017),0)","v":0},{"$f":"IFERROR($E128*SUMIF('Daily Log'!$H$18:$H$1017,$B128,'Daily Log'!$I$18:$I$1017),0)","v":0},{"$f":"IFERROR($E128*SUMIF('Daily Log'!$K$18:$K$1017,$B128,'Daily Log'!$L$18:$L$1017),0)","v":0},{"$f":"IFERROR($E128*SUMIF('Daily Log'!$N$18:$N$1017,$B128,'Daily Log'!$O$18:$O$1017),0)","v":0},{"$f":"IFERROR($E128*SUMIF('Daily Log'!$Q$18:$Q$1017,$B128,'Daily Log'!$R$18:$R$1017),0)","v":0},{"$f":"IFERROR($E128*SUMIF('Daily Log'!$T$18:$T$1017,$B128,'Daily Log'!$U$18:$U$1017),0)","v":0},{"$f":"IFERROR($E128*SUMIF('Daily Log'!$W$18:$W$1017,$B128,'Daily Log'!$X$18:$X$1017),0)","v":0},{"$f":"IFERROR($E128*SUMIF('Daily Log'!$Z$18:$Z$1017,$B128,'Daily Log'!$AA$18:$AA$1017),0)","v":0},{"$f":"IFERROR($E128*SUMIF('Daily Log'!$AC$18:$AC$1017,$B128,'Daily Log'!$AD$18:$AD$1017),0)","v":0},{"$f":"IFERROR($E128*SUMIF('Daily Log'!$AF$18:$AF$1017,$B128,'Daily Log'!$AG$18:$AG$1017),0)","v":0},{"$f":"IFERROR($E128*SUMIF('Daily Log'!$AI$18:$AI$1017,$B128,'Daily Log'!$AJ$18:$AJ$1017),0)","v":0},{"$f":"IFERROR($E128*SUMIF('Daily Log'!$AL$18:$AL$1017,$B128,'Daily Log'!$AM$18:$AM$1017),0)","v":0},{"$f":"IFERROR($E128*SUMIF('Daily Log'!$AO$18:$AO$1017,$B128,'Daily Log'!$AP$18:$AP$1017),0)","v":0},{"$f":"IFERROR($E128*SUMIF('Daily Log'!$AR$18:$AR$1017,$B128,'Daily Log'!$AS$18:$AS$1017),0)","v":0},{"$f":"IFERROR($E128*SUMIF('Daily Log'!$AU$18:$AU$1017,$B128,'Daily Log'!$AV$18:$AV$1017),0)","v":0},{"$f":"IFERROR($E128*SUMIF('Daily Log'!$AX$18:$AX$1017,$B128,'Daily Log'!$AY$18:$AY$1017),0)","v":0},{"$f":"IFERROR($E128*SUMIF('Daily Log'!$BA$18:$BA$1017,$B128,'Daily Log'!$BB$18:$BB$1017),0)","v":0},{"$f":"IFERROR($E128*SUMIF('Daily Log'!$BD$18:$BD$1017,$B128,'Daily Log'!$BE$18:$BE$1017),0)","v":0},{"$f":"IFERROR($E128*SUMIF('Daily Log'!$BG$18:$BG$1017,$B128,'Daily Log'!$BH$18:$BH$1017),0)","v":0},{"$f":"IFERROR($E128*SUMIF('Daily Log'!$BJ$18:$BJ$1017,$B128,'Daily Log'!$BK$18:$BK$1017),0)","v":0},{"$f":"IFERROR($E128*SUMIF('Daily Log'!$BM$18:$BM$1017,$B128,'Daily Log'!$BN$18:$BN$1017),0)","v":0},{"$f":"IFERROR($E128*SUMIF('Daily Log'!$BP$18:$BP$1017,$B128,'Daily Log'!$BQ$18:$BQ$1017),0)","v":0},{"$f":"IFERROR($E128*SUMIF('Daily Log'!$BS$18:$BS$1017,$B128,'Daily Log'!$BT$18:$BT$1017),0)","v":0},{"$f":"IFERROR($E128*SUMIF('Daily Log'!$BV$18:$BV$1017,$B128,'Daily Log'!$BW$18:$BW$1017),0)","v":0},{"$f":"IFERROR($E128*SUMIF('Daily Log'!$BY$18:$BY$1017,$B128,'Daily Log'!$BZ$18:$BZ$1017),0)","v":0},{"$f":"IFERROR($E128*SUMIF('Daily Log'!$CB$18:$CB$1017,$B128,'Daily Log'!$CC$18:$CC$1017),0)","v":0},{"$f":"IFERROR($E128*SUMIF('Daily Log'!$CE$18:$CE$1017,$B128,'Daily Log'!$CF$18:$CF$1017),0)","v":0},{"$f":"IFERROR($E128*SUMIF('Daily Log'!$CH$18:$CH$1017,$B128,'Daily Log'!$CI$18:$CI$1017),0)","v":0},{"$f":"IFERROR($E128*SUMIF('Daily Log'!$CK$18:$CK$1017,$B128,'Daily Log'!$CL$18:$CL$1017),0)","v":0},{"$f":"IFERROR($E128*SUMIF('Daily Log'!$CN$18:$CN$1017,$B128,'Daily Log'!$CO$18:$CO$1017),0)","v":0}]
[null,"AE01 EVE 4HRS SPECIAL",null,null,null,0,{"$f":"IFERROR($E129*SUMIF('Daily Log'!$B$18:$B$1017,$B129,'Daily Log'!$C$18:$C$1017),0)","v":0},{"$f":"IFERROR($E129*SUMIF('Daily Log'!$E$18:$E$1017,$B129,'Daily Log'!$F$18:$F$1017),0)","v":0},{"$f":"IFERROR($E129*SUMIF('Daily Log'!$H$18:$H$1017,$B129,'Daily Log'!$I$18:$I$1017),0)","v":0},{"$f":"IFERROR($E129*SUMIF('Daily Log'!$K$18:$K$1017,$B129,'Daily Log'!$L$18:$L$1017),0)","v":0},{"$f":"IFERROR($E129*SUMIF('Daily Log'!$N$18:$N$1017,$B129,'Daily Log'!$O$18:$O$1017),0)","v":0},{"$f":"IFERROR($E129*SUMIF('Daily Log'!$Q$18:$Q$1017,$B129,'Daily Log'!$R$18:$R$1017),0)","v":0},{"$f":"IFERROR($E129*SUMIF('Daily Log'!$T$18:$T$1017,$B129,'Daily Log'!$U$18:$U$1017),0)","v":0},{"$f":"IFERROR($E129*SUMIF('Daily Log'!$W$18:$W$1017,$B129,'Daily Log'!$X$18:$X$1017),0)","v":0},{"$f":"IFERROR($E129*SUMIF('Daily Log'!$Z$18:$Z$1017,$B129,'Daily Log'!$AA$18:$AA$1017),0)","v":0},{"$f":"IFERROR($E129*SUMIF('Daily Log'!$AC$18:$AC$1017,$B129,'Daily Log'!$AD$18:$AD$1017),0)","v":0},{"$f":"IFERROR($E129*SUMIF('Daily Log'!$AF$18:$AF$1017,$B129,'Daily Log'!$AG$18:$AG$1017),0)","v":0},{"$f":"IFERROR($E129*SUMIF('Daily Log'!$AI$18:$AI$1017,$B129,'Daily Log'!$AJ$18:$AJ$1017),0)","v":0},{"$f":"IFERROR($E129*SUMIF('Daily Log'!$AL$18:$AL$1017,$B129,'Daily Log'!$AM$18:$AM$1017),0)","v":0},{"$f":"IFERROR($E129*SUMIF('Daily Log'!$AO$18:$AO$1017,$B129,'Daily Log'!$AP$18:$AP$1017),0)","v":0},{"$f":"IFERROR($E129*SUMIF('Daily Log'!$AR$18:$AR$1017,$B129,'Daily Log'!$AS$18:$AS$1017),0)","v":0},{"$f":"IFERROR($E129*SUMIF('Daily Log'!$AU$18:$AU$1017,$B129,'Daily Log'!$AV$18:$AV$1017),0)","v":0},{"$f":"IFERROR($E129*SUMIF('Daily Log'!$AX$18:$AX$1017,$B129,'Daily Log'!$AY$18:$AY$1017),0)","v":0},{"$f":"IFERROR($E129*SUMIF('Daily Log'!$BA$18:$BA$1017,$B129,'Daily Log'!$BB$18:$BB$1017),0)","v":0},{"$f":"IFERROR($E129*SUMIF('Daily Log'!$BD$18:$BD$1017,$B129,'Daily Log'!$BE$18:$BE$1017),0)","v":0},{"$f":"IFERROR($E129*SUMIF('Daily Log'!$BG$18:$BG$1017,$B129,'Daily Log'!$BH$18:$BH$1017),0)","v":0},{"$f":"IFERROR($E129*SUMIF('Daily Log'!$BJ$18:$BJ$1017,$B129,'Daily Log'!$BK$18:$BK$1017),0)","v":0},{"$f":"IFERROR($E129*SUMIF('Daily Log'!$BM$18:$BM$1017,$B129,'Daily Log'!$BN$18:$BN$1017),0)","v":0},{"$f":"IFERROR($E129*SUMIF('Daily Log'!$BP$18:$BP$1017,$B129,'Daily Log'!$BQ$18:$BQ$1017),0)","v":0},{"$f":"IFERROR($E129*SUMIF('Daily Log'!$BS$18:$BS$1017,$B129,'Daily Log'!$BT$18:$BT$1017),0)","v":0},{"$f":"IFERROR($E129*SUMIF('Daily Log'!$BV$18:$BV$1017,$B129,'Daily Log'!$BW$18:$BW$1017),0)","v":0},{"$f":"IFERROR($E129*SUMIF('Daily Log'!$BY$18:$BY$1017,$B129,'Daily Log'!$BZ$18:$BZ$1017),0)","v":0},{"$f":"IFERROR($E129*SUMIF('Daily Log'!$CB$18:$CB$1017,$B129,'Daily Log'!$CC$18:$CC$1017),0)","v":0},{"$f":"IFERROR($E129*SUMIF('Daily Log'!$CE$18:$CE$1017,$B129,'Daily Log'!$CF$18:$CF$1017),0)","v":0},{"$f":"IFERROR($E129*SUMIF('Daily Log'!$CH$18:$CH$1017,$B129,'Daily Log'!$CI$18:$CI$1017),0)","v":0},{"$f":"IFERROR($E129*SUMIF('Daily Log'!$CK$18:$CK$1017,$B129,'Daily Log'!$CL$18:$CL$1017),0)","v":0},{"$f":"IFERROR($E129*SUMIF('Daily Log'!$CN$18:$CN$1017,$B129,'Daily Log'!$CO$18:$CO$1017),0)","v":0}]
[null,"AE02 EVE 4HRS MEMBER",null,null,null,0,{"$f":"IFERROR($E130*SUMIF('Daily Log'!$B$18:$B$1017,$B130,'Daily Log'!$C$18:$C$1017),0)","v":0},{"$f":"IFERROR($E130*SUMIF('Daily Log'!$E$18:$E$1017,$B130,'Daily Log'!$F$18:$F$1017),0)","v":0},{"$f":"IFERROR($E130*SUMIF('Daily Log'!$H$18:$H$1017,$B130,'Daily Log'!$I$18:$I$1017),0)","v":0},{"$f":"IFERROR($E130*SUMIF('Daily Log'!$K$18:$K$1017,$B130,'Daily Log'!$L$18:$L$1017),0)","v":0},{"$f":"IFERROR($E130*SUMIF('Daily Log'!$N$18:$N$1017,$B130,'Daily Log'!$O$18:$O$1017),0)","v":0},{"$f":"IFERROR($E130*SUMIF('Daily Log'!$Q$18:$Q$1017,$B130,'Daily Log'!$R$18:$R$1017),0)","v":0},{"$f":"IFERROR($E130*SUMIF('Daily Log'!$T$18:$T$1017,$B130,'Daily Log'!$U$18:$U$1017),0)","v":0},{"$f":"IFERROR($E130*SUMIF('Daily Log'!$W$18:$W$1017,$B130,'Daily Log'!$X$18:$X$1017),0)","v":0},{"$f":"IFERROR($E130*SUMIF('Daily Log'!$Z$18:$Z$1017,$B130,'Daily Log'!$AA$18:$AA$1017),0)","v":0},{"$f":"IFERROR($E130*SUMIF('Daily Log'!$AC$18:$AC$1017,$B130,'Daily Log'!$AD$18:$AD$1017),0)","v":0},{"$f":"IFERROR($E130*SUMIF('Daily Log'!$AF$18:$AF$1017,$B130,'Daily Log'!$AG$18:$AG$1017),0)","v":0},{"$f":"IFERROR($E130*SUMIF('Daily Log'!$AI$18:$AI$1017,$B130,'Daily Log'!$AJ$18:$AJ$1017),0)","v":0},{"$f":"IFERROR($E130*SUMIF('Daily Log'!$AL$18:$AL$1017,$B130,'Daily Log'!$AM$18:$AM$1017),0)","v":0},{"$f":"IFERROR($E130*SUMIF('Daily Log'!$AO$18:$AO$1017,$B130,'Daily Log'!$AP$18:$AP$1017),0)","v":0},{"$f":"IFERROR($E130*SUMIF('Daily Log'!$AR$18:$AR$1017,$B130,'Daily Log'!$AS$18:$AS$1017),0)","v":0},{"$f":"IFERROR($E130*SUMIF('Daily Log'!$AU$18:$AU$1017,$B130,'Daily Log'!$AV$18:$AV$1017),0)","v":0},{"$f":"IFERROR($E130*SUMIF('Daily Log'!$AX$18:$AX$1017,$B130,'Daily Log'!$AY$18:$AY$1017),0)","v":0},{"$f":"IFERROR($E130*SUMIF('Daily Log'!$BA$18:$BA$1017,$B130,'Daily Log'!$BB$18:$BB$1017),0)","v":0},{"$f":"IFERROR($E130*SUMIF('Daily Log'!$BD$18:$BD$1017,$B130,'Daily Log'!$BE$18:$BE$1017),0)","v":0},{"$f":"IFERROR($E130*SUMIF('Daily Log'!$BG$18:$BG$1017,$B130,'Daily Log'!$BH$18:$BH$1017),0)","v":0},{"$f":"IFERROR($E130*SUMIF('Daily Log'!$BJ$18:$BJ$1017,$B130,'Daily Log'!$BK$18:$BK$1017),0)","v":0},{"$f":"IFERROR($E130*SUMIF('Daily Log'!$BM$18:$BM$1017,$B130,'Daily Log'!$BN$18:$BN$1017),0)","v":0},{"$f":"IFERROR($E130*SUMIF('Daily Log'!$BP$18:$BP$1017,$B130,'Daily Log'!$BQ$18:$BQ$1017),0)","v":0},{"$f":"IFERROR($E130*SUMIF('Daily Log'!$BS$18:$BS$1017,$B130,'Daily Log'!$BT$18:$BT$1017),0)","v":0},{"$f":"IFERROR($E130*SUMIF('Daily Log'!$BV$18:$BV$1017,$B130,'Daily Log'!$BW$18:$BW$1017),0)","v":0},{"$f":"IFERROR($E130*SUMIF('Daily Log'!$BY$18:$BY$1017,$B130,'Daily Log'!$BZ$18:$BZ$1017),0)","v":0},{"$f":"IFERROR($E130*SUMIF('Daily Log'!$CB$18:$CB$1017,$B130,'Daily Log'!$CC$18:$CC$1017),0)","v":0},{"$f":"IFERROR($E130*SUMIF('Daily Log'!$CE$18:$CE$1017,$B130,'Daily Log'!$CF$18:$CF$1017),0)","v":0},{"$f":"IFERROR($E130*SUMIF('Daily Log'!$CH$18:$CH$1017,$B130,'Daily Log'!$CI$18:$CI$1017),0)","v":0},{"$f":"IFERROR($E130*SUMIF('Daily Log'!$CK$18:$CK$1017,$B130,'Daily Log'!$CL$18:$CL$1017),0)","v":0},{"$f":"IFERROR($E130*SUMIF('Daily Log'!$CN$18:$CN$1017,$B130,'Daily Log'!$CO$18:$CO$1017),0)","v":0}]
[null,"AE03 EVE 2HRS SPECIAL",null,null,null,0,{"$f":"IFERROR($E131*SUMIF('Daily Log'!$B$18:$B$1017,$B131,'Daily Log'!$C$18:$C$1017),0)","v":0},{"$f":"IFERROR($E131*SUMIF('Daily Log'!$E$18:$E$1017,$B131,'Daily Log'!$F$18:$F$1017),0)","v":0},{"$f":"IFERROR($E131*SUMIF('Daily Log'!$H$18:$H$1017,$B131,'Daily Log'!$I$18:$I$1017),0)","v":0},{"$f":"IFERROR($E131*SUMIF('Daily Log'!$K$18:$K$1017,$B131,'Daily Log'!$L$18:$L$1017),0)","v":0},{"$f":"IFERROR($E131*SUMIF('Daily Log'!$N$18:$N$1017,$B131,'Daily Log'!$O$18:$O$1017),0)","v":0},{"$f":"IFERROR($E131*SUMIF('Daily Log'!$Q$18:$Q$1017,$B131,'Daily Log'!$R$18:$R$1017),0)","v":0},{"$f":"IFERROR($E131*SUMIF('Daily Log'!$T$18:$T$1017,$B131,'Daily Log'!$U$18:$U$1017),0)","v":0},{"$f":"IFERROR($E131*SUMIF('Daily Log'!$W$18:$W$1017,$B131,'Daily Log'!$X$18:$X$1017),0)","v":0},{"$f":"IFERROR($E131*SUMIF('Daily Log'!$Z$18:$Z$1017,$B131,'Daily Log'!$AA$18:$AA$1017),0)","v":0},{"$f":"IFERROR($E131*SUMIF('Daily Log'!$AC$18:$AC$1017,$B131,'Daily Log'!$AD$18:$AD$1017),0)","v":0},{"$f":"IFERROR($E131*SUMIF('Daily Log'!$AF$18:$AF$1017,$B131,'Daily Log'!$AG$18:$AG$1017),0)","v":0},{"$f":"IFERROR($E131*SUMIF('Daily Log'!$AI$18:$AI$1017,$B131,'Daily Log'!$AJ$18:$AJ$1017),0)","v":0},{"$f":"IFERROR($E131*SUMIF('Daily Log'!$AL$18:$AL$1017,$B131,'Daily Log'!$AM$18:$AM$1017),0)","v":0},{"$f":"IFERROR($E131*SUMIF('Daily Log'!$AO$18:$AO$1017,$B131,'Daily Log'!$AP$18:$AP$1017),0)","v":0},{"$f":"IFERROR($E131*SUMIF('Daily Log'!$AR$18:$AR$1017,$B131,'Daily Log'!$AS$18:$AS$1017),0)","v":0},{"$f":"IFERROR($E131*SUMIF('Daily Log'!$AU$18:$AU$1017,$B131,'Daily Log'!$AV$18:$AV$1017),0)","v":0},{"$f":"IFERROR($E131*SUMIF('Daily Log'!$AX$18:$AX$1017,$B131,'Daily Log'!$AY$18:$AY$1017),0)","v":0},{"$f":"IFERROR($E131*SUMIF('Daily Log'!$BA$18:$BA$1017,$B131,'Daily Log'!$BB$18:$BB$1017),0)","v":0},{"$f":"IFERROR($E131*SUMIF('Daily Log'!$BD$18:$BD$1017,$B131,'Daily Log'!$BE$18:$BE$1017),0)","v":0},{"$f":"IFERROR($E131*SUMIF('Daily Log'!$BG$18:$BG$1017,$B131,'Daily Log'!$BH$18:$BH$1017),0)","v":0},{"$f":"IFERROR($E131*SUMIF('Daily Log'!$BJ$18:$BJ$1017,$B131,'Daily Log'!$BK$18:$BK$1017),0)","v":0},{"$f":"IFERROR($E131*SUMIF('Daily Log'!$BM$18:$BM$1017,$B131,'Daily Log'!$BN$18:$BN$1017),0)","v":0},{"$f":"IFERROR($E131*SUMIF('Daily Log'!$BP$18:$BP$1017,$B131,'Daily Log'!$BQ$18:$BQ$1017),0)","v":0},{"$f":"IFERROR($E131*SUMIF('Daily Log'!$BS$18:$BS$1017,$B131,'Daily Log'!$BT$18:$BT$1017),0)","v":0},{"$f":"IFERROR($E131*SUMIF('Daily Log'!$BV$18:$BV$1017,$B131,'Daily Log'!$BW$18:$BW$1017),0)","v":0},{"$f":"IFERROR($E131*SUMIF('Daily Log'!$BY$18:$BY$1017,$B131,'Daily Log'!$BZ$18:$BZ$1017),0)","v":0},{"$f":"IFERROR($E131*SUMIF('Daily Log'!$CB$18:$CB$1017,$B131,'Daily Log'!$CC$18:$CC$1017),0)","v":0},{"$f":"IFERROR($E131*SUMIF('Daily Log'!$CE$18:$CE$1017,$B131,'Daily Log'!$CF$18:$CF$1017),0)","v":0},{"$f":"IFERROR($E131*SUMIF('Daily Log'!$CH$18:$CH$1017,$B131,'Daily Log'!$CI$18:$CI$1017),0)","v":0},{"$f":"IFERROR($E131*SUMIF('Daily Log'!$CK$18:$CK$1017,$B131,'Daily Log'!$CL$18:$CL$1017),0)","v":0},{"$f":"IFERROR($E131*SUMIF('Daily Log'!$CN$18:$CN$1017,$B131,'Daily Log'!$CO$18:$CO$1017),0)","v":0}]
[null,"AE04 EVE 2HRS MEMBER",null,null,null,0,{"$f":"IFERROR($E132*SUMIF('Daily Log'!$B$18:$B$1017,$B132,'Daily Log'!$C$18:$C$1017),0)","v":0},{"$f":"IFERROR($E132*SUMIF('Daily Log'!$E$18:$E$1017,$B132,'Daily Log'!$F$18:$F$1017),0)","v":0},{"$f":"IFERROR($E132*SUMIF('Daily Log'!$H$18:$H$1017,$B132,'Daily Log'!$I$18:$I$1017),0)","v":0},{"$f":"IFERROR($E132*SUMIF('Daily Log'!$K$18:$K$1017,$B132,'Daily Log'!$L$18:$L$1017),0)","v":0},{"$f":"IFERROR($E132*SUMIF('Daily Log'!$N$18:$N$1017,$B132,'Daily Log'!$O$18:$O$1017),0)","v":0},{"$f":"IFERROR($E132*SUMIF('Daily Log'!$Q$18:$Q$1017,$B132,'Daily Log'!$R$18:$R$1017),0)","v":0},{"$f":"IFERROR($E132*SUMIF('Daily Log'!$T$18:$T$1017,$B132,'Daily Log'!$U$18:$U$1017),0)","v":0},{"$f":"IFERROR($E132*SUMIF('Daily Log'!$W$18:$W$1017,$B132,'Daily Log'!$X$18:$X$1017),0)","v":0},{"$f":"IFERROR($E132*SUMIF('Daily Log'!$Z$18:$Z$1017,$B132,'Daily Log'!$AA$18:$AA$1017),0)","v":0},{"$f":"IFERROR($E132*SUMIF('Daily Log'!$AC$18:$AC$1017,$B132,'Daily Log'!$AD$18:$AD$1017),0)","v":0},{"$f":"IFERROR($E132*SUMIF('Daily Log'!$AF$18:$AF$1017,$B132,'Daily Log'!$AG$18:$AG$1017),0)","v":0},{"$f":"IFERROR($E132*SUMIF('Daily Log'!$AI$18:$AI$1017,$B132,'Daily Log'!$AJ$18:$AJ$1017),0)","v":0},{"$f":"IFERROR($E132*SUMIF('Daily Log'!$AL$18:$AL$1017,$B132,'Daily Log'!$AM$18:$AM$1017),0)","v":0},{"$f":"IFERROR($E132*SUMIF('Daily Log'!$AO$18:$AO$1017,$B132,'Daily Log'!$AP$18:$AP$1017),0)","v":0},{"$f":"IFERROR($E132*SUMIF('Daily Log'!$AR$18:$AR$1017,$B132,'Daily Log'!$AS$18:$AS$1017),0)","v":0},{"$f":"IFERROR($E132*SUMIF('Daily Log'!$AU$18:$AU$1017,$B132,'Daily Log'!$AV$18:$AV$1017),0)","v":0},{"$f":"IFERROR($E132*SUMIF('Daily Log'!$AX$18:$AX$1017,$B132,'Daily Log'!$AY$18:$AY$1017),0)","v":0},{"$f":"IFERROR($E132*SUMIF('Daily Log'!$BA$18:$BA$1017,$B132,'Daily Log'!$BB$18:$BB$1017),0)","v":0},{"$f":"IFERROR($E132*SUMIF('Daily Log'!$BD$18:$BD$1017,$B132,'Daily Log'!$BE$18:$BE$1017),0)","v":0},{"$f":"IFERROR($E132*SUMIF('Daily Log'!$BG$18:$BG$1017,$B132,'Daily Log'!$BH$18:$BH$1017),0)","v":0},{"$f":"IFERROR($E132*SUMIF('Daily Log'!$BJ$18:$BJ$1017,$B132,'Daily Log'!$BK$18:$BK$1017),0)","v":0},{"$f":"IFERROR($E132*SUMIF('Daily Log'!$BM$18:$BM$1017,$B132,'Daily Log'!$BN$18:$BN$1017),0)","v":0},{"$f":"IFERROR($E132*SUMIF('Daily Log'!$BP$18:$BP$1017,$B132,'Daily Log'!$BQ$18:$BQ$1017),0)","v":0},{"$f":"IFERROR($E132*SUMIF('Daily Log'!$BS$18:$BS$1017,$B132,'Daily Log'!$BT$18:$BT$1017),0)","v":0},{"$f":"IFERROR($E132*SUMIF('Daily Log'!$BV$18:$BV$1017,$B132,'Daily Log'!$BW$18:$BW$1017),0)","v":0},{"$f":"IFERROR($E132*SUMIF('Daily Log'!$BY$18:$BY$1017,$B132,'Daily Log'!$BZ$18:$BZ$1017),0)","v":0},{"$f":"IFERROR($E132*SUMIF('Daily Log'!$CB$18:$CB$1017,$B132,'Daily Log'!$CC$18:$CC$1017),0)","v":0},{"$f":"IFERROR($E132*SUMIF('Daily Log'!$CE$18:$CE$1017,$B132,'Daily Log'!$CF$18:$CF$1017),0)","v":0},{"$f":"IFERROR($E132*SUMIF('Daily Log'!$CH$18:$CH$1017,$B132,'Daily Log'!$CI$18:$CI$1017),0)","v":0},{"$f":"IFERROR($E132*SUMIF('Daily Log'!$CK$18:$CK$1017,$B132,'Daily Log'!$CL$18:$CL$1017),0)","v":0},{"$f":"IFERROR($E132*SUMIF('Daily Log'!$CN$18:$CN$1017,$B132,'Daily Log'!$CO$18:$CO$1017),0)","v":0}]
[null,"AE05 COUNTDOWN 1P",null,null,null,0,{"$f":"IFERROR($E133*SUMIF('Daily Log'!$B$18:$B$1017,$B133,'Daily Log'!$C$18:$C$1017),0)","v":0},{"$f":"IFERROR($E133*SUMIF('Daily Log'!$E$18:$E$1017,$B133,'Daily Log'!$F$18:$F$1017),0)","v":0},{"$f":"IFERROR($E133*SUMIF('Daily Log'!$H$18:$H$1017,$B133,'Daily Log'!$I$18:$I$1017),0)","v":0},{"$f":"IFERROR($E133*SUMIF('Daily Log'!$K$18:$K$1017,$B133,'Daily Log'!$L$18:$L$1017),0)","v":0},{"$f":"IFERROR($E133*SUMIF('Daily Log'!$N$18:$N$1017,$B133,'Daily Log'!$O$18:$O$1017),0)","v":0},{"$f":"IFERROR($E133*SUMIF('Daily Log'!$Q$18:$Q$1017,$B133,'Daily Log'!$R$18:$R$1017),0)","v":0},{"$f":"IFERROR($E133*SUMIF('Daily Log'!$T$18:$T$1017,$B133,'Daily Log'!$U$18:$U$1017),0)","v":0},{"$f":"IFERROR($E133*SUMIF('Daily Log'!$W$18:$W$1017,$B133,'Daily Log'!$X$18:$X$1017),0)","v":0},{"$f":"IFERROR($E133*SUMIF('Daily Log'!$Z$18:$Z$1017,$B133,'Daily Log'!$AA$18:$AA$1017),0)","v":0},{"$f":"IFERROR($E133*SUMIF('Daily Log'!$AC$18:$AC$1017,$B133,'Daily Log'!$AD$18:$AD$1017),0)","v":0},{"$f":"IFERROR($E133*SUMIF('Daily Log'!$AF$18:$AF$1017,$B133,'Daily Log'!$AG$18:$AG$1017),0)","v":0},{"$f":"IFERROR($E133*SUMIF('Daily Log'!$AI$18:$AI$1017,$B133,'Daily Log'!$AJ$18:$AJ$1017),0)","v":0},{"$f":"IFERROR($E133*SUMIF('Daily Log'!$AL$18:$AL$1017,$B133,'Daily Log'!$AM$18:$AM$1017),0)","v":0},{"$f":"IFERROR($E133*SUMIF('Daily Log'!$AO$18:$AO$1017,$B133,'Daily Log'!$AP$18:$AP$1017),0)","v":0},{"$f":"IFERROR($E133*SUMIF('Daily Log'!$AR$18:$AR$1017,$B133,'Daily Log'!$AS$18:$AS$1017),0)","v":0},{"$f":"IFERROR($E133*SUMIF('Daily Log'!$AU$18:$AU$1017,$B133,'Daily Log'!$AV$18:$AV$1017),0)","v":0},{"$f":"IFERROR($E133*SUMIF('Daily Log'!$AX$18:$AX$1017,$B133,'Daily Log'!$AY$18:$AY$1017),0)","v":0},{"$f":"IFERROR($E133*SUMIF('Daily Log'!$BA$18:$BA$1017,$B133,'Daily Log'!$BB$18:$BB$1017),0)","v":0},{"$f":"IFERROR($E133*SUMIF('Daily Log'!$BD$18:$BD$1017,$B133,'Daily Log'!$BE$18:$BE$1017),0)","v":0},{"$f":"IFERROR($E133*SUMIF('Daily Log'!$BG$18:$BG$1017,$B133,'Daily Log'!$BH$18:$BH$1017),0)","v":0},{"$f":"IFERROR($E133*SUMIF('Daily Log'!$BJ$18:$BJ$1017,$B133,'Daily Log'!$BK$18:$BK$1017),0)","v":0},{"$f":"IFERROR($E133*SUMIF('Daily Log'!$BM$18:$BM$1017,$B133,'Daily Log'!$BN$18:$BN$1017),0)","v":0},{"$f":"IFERROR($E133*SUMIF('Daily Log'!$BP$18:$BP$1017,$B133,'Daily Log'!$BQ$18:$BQ$1017),0)","v":0},{"$f":"IFERROR($E133*SUMIF('Daily Log'!$BS$18:$BS$1017,$B133,'Daily Log'!$BT$18:$BT$1017),0)","v":0},{"$f":"IFERROR($E133*SUMIF('Daily Log'!$BV$18:$BV$1017,$B133,'Daily Log'!$BW$18:$BW$1017),0)","v":0},{"$f":"IFERROR($E133*SUMIF('Daily Log'!$BY$18:$BY$1017,$B133,'Daily Log'!$BZ$18:$BZ$1017),0)","v":0},{"$f":"IFERROR($E133*SUMIF('Daily Log'!$CB$18:$CB$1017,$B133,'Daily Log'!$CC$18:$CC$1017),0)","v":0},{"$f":"IFERROR($E133*SUMIF('Daily Log'!$CE$18:$CE$1017,$B133,'Daily Log'!$CF$18:$CF$1017),0)","v":0},{"$f":"IFERROR($E133*SUMIF('Daily Log'!$CH$18:$CH$1017,$B133,'Daily Log'!$CI$18:$CI$1017),0)","v":0},{"$f":"IFERROR($E133*SUMIF('Daily Log'!$CK$18:$CK$1017,$B133,'Daily Log'!$CL$18:$CL$1017),0)","v":0},{"$f":"IFERROR($E133*SUMIF('Daily Log'!$CN$18:$CN$1017,$B133,'Daily Log'!$CO$18:$CO$1017),0)","v":0}]
[null,"AE06 COUNTDOWN MEMBER",null,null,null,0,{"$f":"IFERROR($E134*SUMIF('Daily Log'!$B$18:$B$1017,$B134,'Daily Log'!$C$18:$C$1017),0)","v":0},{"$f":"IFERROR($E134*SUMIF('Daily Log'!$E$18:$E$1017,$B134,'Daily Log'!$F$18:$F$1017),0)","v":0},{"$f":"IFERROR($E134*SUMIF('Daily Log'!$H$18:$H$1017,$B134,'Daily Log'!$I$18:$I$1017),0)","v":0},{"$f":"IFERROR($E134*SUMIF('Daily Log'!$K$18:$K$1017,$B134,'Daily Log'!$L$18:$L$1017),0)","v":0},{"$f":"IFERROR($E134*SUMIF('Daily Log'!$N$18:$N$1017,$B134,'Daily Log'!$O$18:$O$1017),0)","v":0},{"$f":"IFERROR($E134*SUMIF('Daily Log'!$Q$18:$Q$1017,$B134,'Daily Log'!$R$18:$R$1017),0)","v":0},{"$f":"IFERROR($E134*SUMIF('Daily Log'!$T$18:$T$1017,$B134,'Daily Log'!$U$18:$U$1017),0)","v":0},{"$f":"IFERROR($E134*SUMIF('Daily Log'!$W$18:$W$1017,$B134,'Daily Log'!$X$18:$X$1017),0)","v":0},{"$f":"IFERROR($E134*SUMIF('Daily Log'!$Z$18:$Z$1017,$B134,'Daily Log'!$AA$18:$AA$1017),0)","v":0},{"$f":"IFERROR($E134*SUMIF('Daily Log'!$AC$18:$AC$1017,$B134,'Daily Log'!$AD$18:$AD$1017),0)","v":0},{"$f":"IFERROR($E134*SUMIF('Daily Log'!$AF$18:$AF$1017,$B134,'Daily Log'!$AG$18:$AG$1017),0)","v":0},{"$f":"IFERROR($E134*SUMIF('Daily Log'!$AI$18:$AI$1017,$B134,'Daily Log'!$AJ$18:$AJ$1017),0)","v":0},{"$f":"IFERROR($E134*SUMIF('Daily Log'!$AL$18:$AL$1017,$B134,'Daily Log'!$AM$18:$AM$1017),0)","v":0},{"$f":"IFERROR($E134*SUMIF('Daily Log'!$AO$18:$AO$1017,$B134,'Daily Log'!$AP$18:$AP$1017),0)","v":0},{"$f":"IFERROR($E134*SUMIF('Daily Log'!$AR$18:$AR$1017,$B134,'Daily Log'!$AS$18:$AS$1017),0)","v":0},{"$f":"IFERROR($E134*SUMIF('Daily Log'!$AU$18:$AU$1017,$B134,'Daily Log'!$AV$18:$AV$1017),0)","v":0},{"$f":"IFERROR($E134*SUMIF('Daily Log'!$AX$18:$AX$1017,$B134,'Daily Log'!$AY$18:$AY$1017),0)","v":0},{"$f":"IFERROR($E134*SUMIF('Daily Log'!$BA$18:$BA$1017,$B134,'Daily Log'!$BB$18:$BB$1017),0)","v":0},{"$f":"IFERROR($E134*SUMIF('Daily Log'!$BD$18:$BD$1017,$B134,'Daily Log'!$BE$18:$BE$1017),0)","v":0},{"$f":"IFERROR($E134*SUMIF('Daily Log'!$BG$18:$BG$1017,$B134,'Daily Log'!$BH$18:$BH$1017),0)","v":0},{"$f":"IFERROR($E134*SUMIF('Daily Log'!$BJ$18:$BJ$1017,$B134,'Daily Log'!$BK$18:$BK$1017),0)","v":0},{"$f":"IFERROR($E134*SUMIF('Daily Log'!$BM$18:$BM$1017,$B134,'Daily Log'!$BN$18:$BN$1017),0)","v":0},{"$f":"IFERROR($E134*SUMIF('Daily Log'!$BP$18:$BP$1017,$B134,'Daily Log'!$BQ$18:$BQ$1017),0)","v":0},{"$f":"IFERROR($E134*SUMIF('Daily Log'!$BS$18:$BS$1017,$B134,'Daily Log'!$BT$18:$BT$1017),0)","v":0},{"$f":"IFERROR($E134*SUMIF('Daily Log'!$BV$18:$BV$1017,$B134,'Daily Log'!$BW$18:$BW$1017),0)","v":0},{"$f":"IFERROR($E134*SUMIF('Daily Log'!$BY$18:$BY$1017,$B134,'Daily Log'!$BZ$18:$BZ$1017),0)","v":0},{"$f":"IFERROR($E134*SUMIF('Daily Log'!$CB$18:$CB$1017,$B134,'Daily Log'!$CC$18:$CC$1017),0)","v":0},{"$f":"IFERROR($E134*SUMIF('Daily Log'!$CE$18:$CE$1017,$B134,'Daily Log'!$CF$18:$CF$1017),0)","v":0},{"$f":"IFERROR($E134*SUMIF('Daily Log'!$CH$18:$CH$1017,$B134,'Daily Log'!$CI$18:$CI$1017),0)","v":0},{"$f":"IFERROR($E134*SUMIF('Daily Log'!$CK$18:$CK$1017,$B134,'Daily Log'!$CL$18:$CL$1017),0)","v":0},{"$f":"IFERROR($E134*SUMIF('Daily Log'!$CN$18:$CN$1017,$B134,'Daily Log'!$CO$18:$CO$1017),0)","v":0}]
[null,"AE07 4P NORM PACKAGE",null,null,null,0,{"$f":"IFERROR($E135*SUMIF('Daily Log'!$B$18:$B$1017,$B135,'Daily Log'!$C$18:$C$1017),0)","v":0},{"$f":"IFERROR($E135*SUMIF('Daily Log'!$E$18:$E$1017,$B135,'Daily Log'!$F$18:$F$1017),0)","v":0},{"$f":"IFERROR($E135*SUMIF('Daily Log'!$H$18:$H$1017,$B135,'Daily Log'!$I$18:$I$1017),0)","v":0},{"$f":"IFERROR($E135*SUMIF('Daily Log'!$K$18:$K$1017,$B135,'Daily Log'!$L$18:$L$1017),0)","v":0},{"$f":"IFERROR($E135*SUMIF('Daily Log'!$N$18:$N$1017,$B135,'Daily Log'!$O$18:$O$1017),0)","v":0},{"$f":"IFERROR($E135*SUMIF('Daily Log'!$Q$18:$Q$1017,$B135,'Daily Log'!$R$18:$R$1017),0)","v":0},{"$f":"IFERROR($E135*SUMIF('Daily Log'!$T$18:$T$1017,$B135,'Daily Log'!$U$18:$U$1017),0)","v":0},{"$f":"IFERROR($E135*SUMIF('Daily Log'!$W$18:$W$1017,$B135,'Daily Log'!$X$18:$X$1017),0)","v":0},{"$f":"IFERROR($E135*SUMIF('Daily Log'!$Z$18:$Z$1017,$B135,'Daily Log'!$AA$18:$AA$1017),0)","v":0},{"$f":"IFERROR($E135*SUMIF('Daily Log'!$AC$18:$AC$1017,$B135,'Daily Log'!$AD$18:$AD$1017),0)","v":0},{"$f":"IFERROR($E135*SUMIF('Daily Log'!$AF$18:$AF$1017,$B135,'Daily Log'!$AG$18:$AG$1017),0)","v":0},{"$f":"IFERROR($E135*SUMIF('Daily Log'!$AI$18:$AI$1017,$B135,'Daily Log'!$AJ$18:$AJ$1017),0)","v":0},{"$f":"IFERROR($E135*SUMIF('Daily Log'!$AL$18:$AL$1017,$B135,'Daily Log'!$AM$18:$AM$1017),0)","v":0},{"$f":"IFERROR($E135*SUMIF('Daily Log'!$AO$18:$AO$1017,$B135,'Daily Log'!$AP$18:$AP$1017),0)","v":0},{"$f":"IFERROR($E135*SUMIF('Daily Log'!$AR$18:$AR$1017,$B135,'Daily Log'!$AS$18:$AS$1017),0)","v":0},{"$f":"IFERROR($E135*SUMIF('Daily Log'!$AU$18:$AU$1017,$B135,'Daily Log'!$AV$18:$AV$1017),0)","v":0},{"$f":"IFERROR($E135*SUMIF('Daily Log'!$AX$18:$AX$1017,$B135,'Daily Log'!$AY$18:$AY$1017),0)","v":0},{"$f":"IFERROR($E135*SUMIF('Daily Log'!$BA$18:$BA$1017,$B135,'Daily Log'!$BB$18:$BB$1017),0)","v":0},{"$f":"IFERROR($E135*SUMIF('Daily Log'!$BD$18:$BD$1017,$B135,'Daily Log'!$BE$18:$BE$1017),0)","v":0},{"$f":"IFERROR($E135*SUMIF('Daily Log'!$BG$18:$BG$1017,$B135,'Daily Log'!$BH$18:$BH$1017),0)","v":0},{"$f":"IFERROR($E135*SUMIF('Daily Log'!$BJ$18:$BJ$1017,$B135,'Daily Log'!$BK$18:$BK$1017),0)","v":0},{"$f":"IFERROR($E135*SUMIF('Daily Log'!$BM$18:$BM$1017,$B135,'Daily Log'!$BN$18:$BN$1017),0)","v":0},{"$f":"IFERROR($E135*SUMIF('Daily Log'!$BP$18:$BP$1017,$B135,'Daily Log'!$BQ$18:$BQ$1017),0)","v":0},{"$f":"IFERROR($E135*SUMIF('Daily Log'!$BS$18:$BS$1017,$B135,'Daily Log'!$BT$18:$BT$1017),0)","v":0},{"$f":"IFERROR($E135*SUMIF('Daily Log'!$BV$18:$BV$1017,$B135,'Daily Log'!$BW$18:$BW$1017),0)","v":0},{"$f":"IFERROR($E135*SUMIF('Daily Log'!$BY$18:$BY$1017,$B135,'Daily Log'!$BZ$18:$BZ$1017),0)","v":0},{"$f":"IFERROR($E135*SUMIF('Daily Log'!$CB$18:$CB$1017,$B135,'Daily Log'!$CC$18:$CC$1017),0)","v":0},{"$f":"IFERROR($E135*SUMIF('Daily Log'!$CE$18:$CE$1017,$B135,'Daily Log'!$CF$18:$CF$1017),0)","v":0},{"$f":"IFERROR($E135*SUMIF('Daily Log'!$CH$18:$CH$1017,$B135,'Daily Log'!$CI$18:$CI$1017),0)","v":0},{"$f":"IFERROR($E135*SUMIF('Daily Log'!$CK$18:$CK$1017,$B135,'Daily Log'!$CL$18:$CL$1017),0)","v":0},{"$f":"IFERROR($E135*SUMIF('Daily Log'!$CN$18:$CN$1017,$B135,'Daily Log'!$CO$18:$CO$1017),0)","v":0}]
[null,"AE08 4P BEER PACKAGE",null,null,null,0,{"$f":"IFERROR($E136*SUMIF('Daily Log'!$B$18:$B$1017,$B136,'Daily Log'!$C$18:$C$1017),0)","v":0},{"$f":"IFERROR($E136*SUMIF('Daily Log'!$E$18:$E$1017,$B136,'Daily Log'!$F$18:$F$1017),0)","v":0},{"$f":"IFERROR($E136*SUMIF('Daily Log'!$H$18:$H$1017,$B136,'Daily Log'!$I$18:$I$1017),0)","v":0},{"$f":"IFERROR($E136*SUMIF('Daily Log'!$K$18:$K$1017,$B136,'Daily Log'!$L$18:$L$1017),0)","v":0},{"$f":"IFERROR($E136*SUMIF('Daily Log'!$N$18:$N$1017,$B136,'Daily Log'!$O$18:$O$1017),0)","v":0},{"$f":"IFERROR($E136*SUMIF('Daily Log'!$Q$18:$Q$1017,$B136,'Daily Log'!$R$18:$R$1017),0)","v":0},{"$f":"IFERROR($E136*SUMIF('Daily Log'!$T$18:$T$1017,$B136,'Daily Log'!$U$18:$U$1017),0)","v":0},{"$f":"IFERROR($E136*SUMIF('Daily Log'!$W$18:$W$1017,$B136,'Daily Log'!$X$18:$X$1017),0)","v":0},{"$f":"IFERROR($E136*SUMIF('Daily Log'!$Z$18:$Z$1017,$B136,'Daily Log'!$AA$18:$AA$1017),0)","v":0},{"$f":"IFERROR($E136*SUMIF('Daily Log'!$AC$18:$AC$1017,$B136,'Daily Log'!$AD$18:$AD$1017),0)","v":0},{"$f":"IFERROR($E136*SUMIF('Daily Log'!$AF$18:$AF$1017,$B136,'Daily Log'!$AG$18:$AG$1017),0)","v":0},{"$f":"IFERROR($E136*SUMIF('Daily Log'!$AI$18:$AI$1017,$B136,'Daily Log'!$AJ$18:$AJ$1017),0)","v":0},{"$f":"IFERROR($E136*SUMIF('Daily Log'!$AL$18:$AL$1017,$B136,'Daily Log'!$AM$18:$AM$1017),0)","v":0},{"$f":"IFERROR($E136*SUMIF('Daily Log'!$AO$18:$AO$1017,$B136,'Daily Log'!$AP$18:$AP$1017),0)","v":0},{"$f":"IFERROR($E136*SUMIF('Daily Log'!$AR$18:$AR$1017,$B136,'Daily Log'!$AS$18:$AS$1017),0)","v":0},{"$f":"IFERROR($E136*SUMIF('Daily Log'!$AU$18:$AU$1017,$B136,'Daily Log'!$AV$18:$AV$1017),0)","v":0},{"$f":"IFERROR($E136*SUMIF('Daily Log'!$AX$18:$AX$1017,$B136,'Daily Log'!$AY$18:$AY$1017),0)","v":0},{"$f":"IFERROR($E136*SUMIF('Daily Log'!$BA$18:$BA$1017,$B136,'Daily Log'!$BB$18:$BB$1017),0)","v":0},{"$f":"IFERROR($E136*SUMIF('Daily Log'!$BD$18:$BD$1017,$B136,'Daily Log'!$BE$18:$BE$1017),0)","v":0},{"$f":"IFERROR($E136*SUMIF('Daily Log'!$BG$18:$BG$1017,$B136,'Daily Log'!$BH$18:$BH$1017),0)","v":0},{"$f":"IFERROR($E136*SUMIF('Daily Log'!$BJ$18:$BJ$1017,$B136,'Daily Log'!$BK$18:$BK$1017),0)","v":0},{"$f":"IFERROR($E136*SUMIF('Daily Log'!$BM$18:$BM$1017,$B136,'Daily Log'!$BN$18:$BN$1017),0)","v":0},{"$f":"IFERROR($E136*SUMIF('Daily Log'!$BP$18:$BP$1017,$B136,'Daily Log'!$BQ$18:$BQ$1017),0)","v":0},{"$f":"IFERROR($E136*SUMIF('Daily Log'!$BS$18:$BS$1017,$B136,'Daily Log'!$BT$18:$BT$1017),0)","v":0},{"$f":"IFERROR($E136*SUMIF('Daily Log'!$BV$18:$BV$1017,$B136,'Daily Log'!$BW$18:$BW$1017),0)","v":0},{"$f":"IFERROR($E136*SUMIF('Daily Log'!$BY$18:$BY$1017,$B136,'Daily Log'!$BZ$18:$BZ$1017),0)","v":0},{"$f":"IFERROR($E136*SUMIF('Daily Log'!$CB$18:$CB$1017,$B136,'Daily Log'!$CC$18:$CC$1017),0)","v":0},{"$f":"IFERROR($E136*SUMIF('Daily Log'!$CE$18:$CE$1017,$B136,'Daily Log'!$CF$18:$CF$1017),0)","v":0},{"$f":"IFERROR($E136*SUMIF('Daily Log'!$CH$18:$CH$1017,$B136,'Daily Log'!$CI$18:$CI$1017),0)","v":0},{"$f":"IFERROR($E136*SUMIF('Daily Log'!$CK$18:$CK$1017,$B136,'Daily Log'!$CL$18:$CL$1017),0)","v":0},{"$f":"IFERROR($E136*SUMIF('Daily Log'!$CN$18:$CN$1017,$B136,'Daily Log'!$CO$18:$CO$1017),0)","v":0}]
[null,"AE09 PACKAGE ADD-ON",null,null,null,0,{"$f":"IFERROR($E137*SUMIF('Daily Log'!$B$18:$B$1017,$B137,'Daily Log'!$C$18:$C$1017),0)","v":0},{"$f":"IFERROR($E137*SUMIF('Daily Log'!$E$18:$E$1017,$B137,'Daily Log'!$F$18:$F$1017),0)","v":0},{"$f":"IFERROR($E137*SUMIF('Daily Log'!$H$18:$H$1017,$B137,'Daily Log'!$I$18:$I$1017),0)","v":0},{"$f":"IFERROR($E137*SUMIF('Daily Log'!$K$18:$K$1017,$B137,'Daily Log'!$L$18:$L$1017),0)","v":0},{"$f":"IFERROR($E137*SUMIF('Daily Log'!$N$18:$N$1017,$B137,'Daily Log'!$O$18:$O$1017),0)","v":0},{"$f":"IFERROR($E137*SUMIF('Daily Log'!$Q$18:$Q$1017,$B137,'Daily Log'!$R$18:$R$1017),0)","v":0},{"$f":"IFERROR($E137*SUMIF('Daily Log'!$T$18:$T$1017,$B137,'Daily Log'!$U$18:$U$1017),0)","v":0},{"$f":"IFERROR($E137*SUMIF('Daily Log'!$W$18:$W$1017,$B137,'Daily Log'!$X$18:$X$1017),0)","v":0},{"$f":"IFERROR($E137*SUMIF('Daily Log'!$Z$18:$Z$1017,$B137,'Daily Log'!$AA$18:$AA$1017),0)","v":0},{"$f":"IFERROR($E137*SUMIF('Daily Log'!$AC$18:$AC$1017,$B137,'Daily Log'!$AD$18:$AD$1017),0)","v":0},{"$f":"IFERROR($E137*SUMIF('Daily Log'!$AF$18:$AF$1017,$B137,'Daily Log'!$AG$18:$AG$1017),0)","v":0},{"$f":"IFERROR($E137*SUMIF('Daily Log'!$AI$18:$AI$1017,$B137,'Daily Log'!$AJ$18:$AJ$1017),0)","v":0},{"$f":"IFERROR($E137*SUMIF('Daily Log'!$AL$18:$AL$1017,$B137,'Daily Log'!$AM$18:$AM$1017),0)","v":0},{"$f":"IFERROR($E137*SUMIF('Daily Log'!$AO$18:$AO$1017,$B137,'Daily Log'!$AP$18:$AP$1017),0)","v":0},{"$f":"IFERROR($E137*SUMIF('Daily Log'!$AR$18:$AR$1017,$B137,'Daily Log'!$AS$18:$AS$1017),0)","v":0},{"$f":"IFERROR($E137*SUMIF('Daily Log'!$AU$18:$AU$1017,$B137,'Daily Log'!$AV$18:$AV$1017),0)","v":0},{"$f":"IFERROR($E137*SUMIF('Daily Log'!$AX$18:$AX$1017,$B137,'Daily Log'!$AY$18:$AY$1017),0)","v":0},{"$f":"IFERROR($E137*SUMIF('Daily Log'!$BA$18:$BA$1017,$B137,'Daily Log'!$BB$18:$BB$1017),0)","v":0},{"$f":"IFERROR($E137*SUMIF('Daily Log'!$BD$18:$BD$1017,$B137,'Daily Log'!$BE$18:$BE$1017),0)","v":0},{"$f":"IFERROR($E137*SUMIF('Daily Log'!$BG$18:$BG$1017,$B137,'Daily Log'!$BH$18:$BH$1017),0)","v":0},{"$f":"IFERROR($E137*SUMIF('Daily Log'!$BJ$18:$BJ$1017,$B137,'Daily Log'!$BK$18:$BK$1017),0)","v":0},{"$f":"IFERROR($E137*SUMIF('Daily Log'!$BM$18:$BM$1017,$B137,'Daily Log'!$BN$18:$BN$1017),0)","v":0},{"$f":"IFERROR($E137*SUMIF('Daily Log'!$BP$18:$BP$1017,$B137,'Daily Log'!$BQ$18:$BQ$1017),0)","v":0},{"$f":"IFERROR($E137*SUMIF('Daily Log'!$BS$18:$BS$1017,$B137,'Daily Log'!$BT$18:$BT$1017),0)","v":0},{"$f":"IFERROR($E137*SUMIF('Daily Log'!$BV$18:$BV$1017,$B137,'Daily Log'!$BW$18:$BW$1017),0)","v":0},{"$f":"IFERROR($E137*SUMIF('Daily Log'!$BY$18:$BY$1017,$B137,'Daily Log'!$BZ$18:$BZ$1017),0)","v":0},{"$f":"IFERROR($E137*SUMIF('Daily Log'!$CB$18:$CB$1017,$B137,'Daily Log'!$CC$18:$CC$1017),0)","v":0},{"$f":"IFERROR($E137*SUMIF('Daily Log'!$CE$18:$CE$1017,$B137,'Daily Log'!$CF$18:$CF$1017),0)","v":0},{"$f":"IFERROR($E137*SUMIF('Daily Log'!$CH$18:$CH$1017,$B137,'Daily Log'!$CI$18:$CI$1017),0)","v":0},{"$f":"IFERROR($E137*SUMIF('Daily Log'!$CK$18:$CK$1017,$B137,'Daily Log'!$CL$18:$CL$1017),0)","v":0},{"$f":"IFERROR($E137*SUMIF('Daily Log'!$CN$18:$CN$1017,$B137,'Daily Log'!$CO$18:$CO$1017),0)","v":0}]
[null,"AE10 ADD-ON MEMBER",null,null,null,0,{"$f":"IFERROR($E138*SUMIF('Daily Log'!$B$18:$B$1017,$B138,'Daily Log'!$C$18:$C$1017),0)","v":0},{"$f":"IFERROR($E138*SUMIF('Daily Log'!$E$18:$E$1017,$B138,'Daily Log'!$F$18:$F$1017),0)","v":0},{"$f":"IFERROR($E138*SUMIF('Daily Log'!$H$18:$H$1017,$B138,'Daily Log'!$I$18:$I$1017),0)","v":0},{"$f":"IFERROR($E138*SUMIF('Daily Log'!$K$18:$K$1017,$B138,'Daily Log'!$L$18:$L$1017),0)","v":0},{"$f":"IFERROR($E138*SUMIF('Daily Log'!$N$18:$N$1017,$B138,'Daily Log'!$O$18:$O$1017),0)","v":0},{"$f":"IFERROR($E138*SUMIF('Daily Log'!$Q$18:$Q$1017,$B138,'Daily Log'!$R$18:$R$1017),0)","v":0},{"$f":"IFERROR($E138*SUMIF('Daily Log'!$T$18:$T$1017,$B138,'Daily Log'!$U$18:$U$1017),0)","v":0},{"$f":"IFERROR($E138*SUMIF('Daily Log'!$W$18:$W$1017,$B138,'Daily Log'!$X$18:$X$1017),0)","v":0},{"$f":"IFERROR($E138*SUMIF('Daily Log'!$Z$18:$Z$1017,$B138,'Daily Log'!$AA$18:$AA$1017),0)","v":0},{"$f":"IFERROR($E138*SUMIF('Daily Log'!$AC$18:$AC$1017,$B138,'Daily Log'!$AD$18:$AD$1017),0)","v":0},{"$f":"IFERROR($E138*SUMIF('Daily Log'!$AF$18:$AF$1017,$B138,'Daily Log'!$AG$18:$AG$1017),0)","v":0},{"$f":"IFERROR($E138*SUMIF('Daily Log'!$AI$18:$AI$1017,$B138,'Daily Log'!$AJ$18:$AJ$1017),0)","v":0},{"$f":"IFERROR($E138*SUMIF('Daily Log'!$AL$18:$AL$1017,$B138,'Daily Log'!$AM$18:$AM$1017),0)","v":0},{"$f":"IFERROR($E138*SUMIF('Daily Log'!$AO$18:$AO$1017,$B138,'Daily Log'!$AP$18:$AP$1017),0)","v":0},{"$f":"IFERROR($E138*SUMIF('Daily Log'!$AR$18:$AR$1017,$B138,'Daily Log'!$AS$18:$AS$1017),0)","v":0},{"$f":"IFERROR($E138*SUMIF('Daily Log'!$AU$18:$AU$1017,$B138,'Daily Log'!$AV$18:$AV$1017),0)","v":0},{"$f":"IFERROR($E138*SUMIF('Daily Log'!$AX$18:$AX$1017,$B138,'Daily Log'!$AY$18:$AY$1017),0)","v":0},{"$f":"IFERROR($E138*SUMIF('Daily Log'!$BA$18:$BA$1017,$B138,'Daily Log'!$BB$18:$BB$1017),0)","v":0},{"$f":"IFERROR($E138*SUMIF('Daily Log'!$BD$18:$BD$1017,$B138,'Daily Log'!$BE$18:$BE$1017),0)","v":0},{"$f":"IFERROR($E138*SUMIF('Daily Log'!$BG$18:$BG$1017,$B138,'Daily Log'!$BH$18:$BH$1017),0)","v":0},{"$f":"IFERROR($E138*SUMIF('Daily Log'!$BJ$18:$BJ$1017,$B138,'Daily Log'!$BK$18:$BK$1017),0)","v":0},{"$f":"IFERROR($E138*SUMIF('Daily Log'!$BM$18:$BM$1017,$B138,'Daily Log'!$BN$18:$BN$1017),0)","v":0},{"$f":"IFERROR($E138*SUMIF('Daily Log'!$BP$18:$BP$1017,$B138,'Daily Log'!$BQ$18:$BQ$1017),0)","v":0},{"$f":"IFERROR($E138*SUMIF('Daily Log'!$BS$18:$BS$1017,$B138,'Daily Log'!$BT$18:$BT$1017),0)","v":0},{"$f":"IFERROR($E138*SUMIF('Daily Log'!$BV$18:$BV$1017,$B138,'Daily Log'!$BW$18:$BW$1017),0)","v":0},{"$f":"IFERROR($E138*SUMIF('Daily Log'!$BY$18:$BY$1017,$B138,'Daily Log'!$BZ$18:$BZ$1017),0)","v":0},{"$f":"IFERROR($E138*SUMIF('Daily Log'!$CB$18:$CB$1017,$B138,'Daily Log'!$CC$18:$CC$1017),0)","v":0},{"$f":"IFERROR($E138*SUMIF('Daily Log'!$CE$18:$CE$1017,$B138,'Daily Log'!$CF$18:$CF$1017),0)","v":0},{"$f":"IFERROR($E138*SUMIF('Daily Log'!$CH$18:$CH$1017,$B138,'Daily Log'!$CI$18:$CI$1017),0)","v":0},{"$f":"IFERROR($E138*SUMIF('Daily Log'!$CK$18:$CK$1017,$B138,'Daily Log'!$CL$18:$CL$1017),0)","v":0},{"$f":"IFERROR($E138*SUMIF('Daily Log'!$CN$18:$CN$1017,$B138,'Daily Log'!$CO$18:$CO$1017),0)","v":0}]
[null,"AE11 SMALL ROOM",null,null,null,0,{"$f":"IFERROR($E139*SUMIF('Daily Log'!$B$18:$B$1017,$B139,'Daily Log'!$C$18:$C$1017),0)","v":0},{"$f":"IFERROR($E139*SUMIF('Daily Log'!$E$18:$E$1017,$B139,'Daily Log'!$F$18:$F$1017),0)","v":0},{"$f":"IFERROR($E139*SUMIF('Daily Log'!$H$18:$H$1017,$B139,'Daily Log'!$I$18:$I$1017),0)","v":0},{"$f":"IFERROR($E139*SUMIF('Daily Log'!$K$18:$K$1017,$B139,'Daily Log'!$L$18:$L$1017),0)","v":0},{"$f":"IFERROR($E139*SUMIF('Daily Log'!$N$18:$N$1017,$B139,'Daily Log'!$O$18:$O$1017),0)","v":0},{"$f":"IFERROR($E139*SUMIF('Daily Log'!$Q$18:$Q$1017,$B139,'Daily Log'!$R$18:$R$1017),0)","v":0},{"$f":"IFERROR($E139*SUMIF('Daily Log'!$T$18:$T$1017,$B139,'Daily Log'!$U$18:$U$1017),0)","v":0},{"$f":"IFERROR($E139*SUMIF('Daily Log'!$W$18:$W$1017,$B139,'Daily Log'!$X$18:$X$1017),0)","v":0},{"$f":"IFERROR($E139*SUMIF('Daily Log'!$Z$18:$Z$1017,$B139,'Daily Log'!$AA$18:$AA$1017),0)","v":0},{"$f":"IFERROR($E139*SUMIF('Daily Log'!$AC$18:$AC$1017,$B139,'Daily Log'!$AD$18:$AD$1017),0)","v":0},{"$f":"IFERROR($E139*SUMIF('Daily Log'!$AF$18:$AF$1017,$B139,'Daily Log'!$AG$18:$AG$1017),0)","v":0},{"$f":"IFERROR($E139*SUMIF('Daily Log'!$AI$18:$AI$1017,$B139,'Daily Log'!$AJ$18:$AJ$1017),0)","v":0},{"$f":"IFERROR($E139*SUMIF('Daily Log'!$AL$18:$AL$1017,$B139,'Daily Log'!$AM$18:$AM$1017),0)","v":0},{"$f":"IFERROR($E139*SUMIF('Daily Log'!$AO$18:$AO$1017,$B139,'Daily Log'!$AP$18:$AP$1017),0)","v":0},{"$f":"IFERROR($E139*SUMIF('Daily Log'!$AR$18:$AR$1017,$B139,'Daily Log'!$AS$18:$AS$1017),0)","v":0},{"$f":"IFERROR($E139*SUMIF('Daily Log'!$AU$18:$AU$1017,$B139,'Daily Log'!$AV$18:$AV$1017),0)","v":0},{"$f":"IFERROR($E139*SUMIF('Daily Log'!$AX$18:$AX$1017,$B139,'Daily Log'!$AY$18:$AY$1017),0)","v":0},{"$f":"IFERROR($E139*SUMIF('Daily Log'!$BA$18:$BA$1017,$B139,'Daily Log'!$BB$18:$BB$1017),0)","v":0},{"$f":"IFERROR($E139*SUMIF('Daily Log'!$BD$18:$BD$1017,$B139,'Daily Log'!$BE$18:$BE$1017),0)","v":0},{"$f":"IFERROR($E139*SUMIF('Daily Log'!$BG$18:$BG$1017,$B139,'Daily Log'!$BH$18:$BH$1017),0)","v":0},{"$f":"IFERROR($E139*SUMIF('Daily Log'!$BJ$18:$BJ$1017,$B139,'Daily Log'!$BK$18:$BK$1017),0)","v":0},{"$f":"IFERROR($E139*SUMIF('Daily Log'!$BM$18:$BM$1017,$B139,'Daily Log'!$BN$18:$BN$1017),0)","v":0},{"$f":"IFERROR($E139*SUMIF('Daily Log'!$BP$18:$BP$1017,$B139,'Daily Log'!$BQ$18:$BQ$1017),0)","v":0},{"$f":"IFERROR($E139*SUMIF('Daily Log'!$BS$18:$BS$1017,$B139,'Daily Log'!$BT$18:$BT$1017),0)","v":0},{"$f":"IFERROR($E139*SUMIF('Daily Log'!$BV$18:$BV$1017,$B139,'Daily Log'!$BW$18:$BW$1017),0)","v":0},{"$f":"IFERROR($E139*SUMIF('Daily Log'!$BY$18:$BY$1017,$B139,'Daily Log'!$BZ$18:$BZ$1017),0)","v":0},{"$f":"IFERROR($E139*SUMIF('Daily Log'!$CB$18:$CB$1017,$B139,'Daily Log'!$CC$18:$CC$1017),0)","v":0},{"$f":"IFERROR($E139*SUMIF('Daily Log'!$CE$18:$CE$1017,$B139,'Daily Log'!$CF$18:$CF$1017),0)","v":0},{"$f":"IFERROR($E139*SUMIF('Daily Log'!$CH$18:$CH$1017,$B139,'Daily Log'!$CI$18:$CI$1017),0)","v":0},{"$f":"IFERROR($E139*SUMIF('Daily Log'!$CK$18:$CK$1017,$B139,'Daily Log'!$CL$18:$CL$1017),0)","v":0},{"$f":"IFERROR($E139*SUMIF('Daily Log'!$CN$18:$CN$1017,$B139,'Daily Log'!$CO$18:$CO$1017),0)","v":0}]
[null,"AE12 MEDIUM ROOM",null,null,null,0,{"$f":"IFERROR($E140*SUMIF('Daily Log'!$B$18:$B$1017,$B140,'Daily Log'!$C$18:$C$1017),0)","v":0},{"$f":"IFERROR($E140*SUMIF('Daily Log'!$E$18:$E$1017,$B140,'Daily Log'!$F$18:$F$1017),0)","v":0},{"$f":"IFERROR($E140*SUMIF('Daily Log'!$H$18:$H$1017,$B140,'Daily Log'!$I$18:$I$1017),0)","v":0},{"$f":"IFERROR($E140*SUMIF('Daily Log'!$K$18:$K$1017,$B140,'Daily Log'!$L$18:$L$1017),0)","v":0},{"$f":"IFERROR($E140*SUMIF('Daily Log'!$N$18:$N$1017,$B140,'Daily Log'!$O$18:$O$1017),0)","v":0},{"$f":"IFERROR($E140*SUMIF('Daily Log'!$Q$18:$Q$1017,$B140,'Daily Log'!$R$18:$R$1017),0)","v":0},{"$f":"IFERROR($E140*SUMIF('Daily Log'!$T$18:$T$1017,$B140,'Daily Log'!$U$18:$U$1017),0)","v":0},{"$f":"IFERROR($E140*SUMIF('Daily Log'!$W$18:$W$1017,$B140,'Daily Log'!$X$18:$X$1017),0)","v":0},{"$f":"IFERROR($E140*SUMIF('Daily Log'!$Z$18:$Z$1017,$B140,'Daily Log'!$AA$18:$AA$1017),0)","v":0},{"$f":"IFERROR($E140*SUMIF('Daily Log'!$AC$18:$AC$1017,$B140,'Daily Log'!$AD$18:$AD$1017),0)","v":0},{"$f":"IFERROR($E140*SUMIF('Daily Log'!$AF$18:$AF$1017,$B140,'Daily Log'!$AG$18:$AG$1017),0)","v":0},{"$f":"IFERROR($E140*SUMIF('Daily Log'!$AI$18:$AI$1017,$B140,'Daily Log'!$AJ$18:$AJ$1017),0)","v":0},{"$f":"IFERROR($E140*SUMIF('Daily Log'!$AL$18:$AL$1017,$B140,'Daily Log'!$AM$18:$AM$1017),0)","v":0},{"$f":"IFERROR($E140*SUMIF('Daily Log'!$AO$18:$AO$1017,$B140,'Daily Log'!$AP$18:$AP$1017),0)","v":0},{"$f":"IFERROR($E140*SUMIF('Daily Log'!$AR$18:$AR$1017,$B140,'Daily Log'!$AS$18:$AS$1017),0)","v":0},{"$f":"IFERROR($E140*SUMIF('Daily Log'!$AU$18:$AU$1017,$B140,'Daily Log'!$AV$18:$AV$1017),0)","v":0},{"$f":"IFERROR($E140*SUMIF('Daily Log'!$AX$18:$AX$1017,$B140,'Daily Log'!$AY$18:$AY$1017),0)","v":0},{"$f":"IFERROR($E140*SUMIF('Daily Log'!$BA$18:$BA$1017,$B140,'Daily Log'!$BB$18:$BB$1017),0)","v":0},{"$f":"IFERROR($E140*SUMIF('Daily Log'!$BD$18:$BD$1017,$B140,'Daily Log'!$BE$18:$BE$1017),0)","v":0},{"$f":"IFERROR($E140*SUMIF('Daily Log'!$BG$18:$BG$1017,$B140,'Daily Log'!$BH$18:$BH$1017),0)","v":0},{"$f":"IFERROR($E140*SUMIF('Daily Log'!$BJ$18:$BJ$1017,$B140,'Daily Log'!$BK$18:$BK$1017),0)","v":0},{"$f":"IFERROR($E140*SUMIF('Daily Log'!$BM$18:$BM$1017,$B140,'Daily Log'!$BN$18:$BN$1017),0)","v":0},{"$f":"IFERROR($E140*SUMIF('Daily Log'!$BP$18:$BP$1017,$B140,'Daily Log'!$BQ$18:$BQ$1017),0)","v":0},{"$f":"IFERROR($E140*SUMIF('Daily Log'!$BS$18:$BS$1017,$B140,'Daily Log'!$BT$18:$BT$1017),0)","v":0},{"$f":"IFERROR($E140*SUMIF('Daily Log'!$BV$18:$BV$1017,$B140,'Daily Log'!$BW$18:$BW$1017),0)","v":0},{"$f":"IFERROR($E140*SUMIF('Daily Log'!$BY$18:$BY$1017,$B140,'Daily Log'!$BZ$18:$BZ$1017),0)","v":0},{"$f":"IFERROR($E140*SUMIF('Daily Log'!$CB$18:$CB$1017,$B140,'Daily Log'!$CC$18:$CC$1017),0)","v":0},{"$f":"IFERROR($E140*SUMIF('Daily Log'!$CE$18:$CE$1017,$B140,'Daily Log'!$CF$18:$CF$1017),0)","v":0},{"$f":"IFERROR($E140*SUMIF('Daily Log'!$CH$18:$CH$1017,$B140,'Daily Log'!$CI$18:$CI$1017),0)","v":0},{"$f":"IFERROR($E140*SUMIF('Daily Log'!$CK$18:$CK$1017,$B140,'Daily Log'!$CL$18:$CL$1017),0)","v":0},{"$f":"IFERROR($E140*SUMIF('Daily Log'!$CN$18:$CN$1017,$B140,'Daily Log'!$CO$18:$CO$1017),0)","v":0}]
[null,"AE13 M.BIG ROOM",null,null,null,0,{"$f":"IFERROR($E141*SUMIF('Daily Log'!$B$18:$B$1017,$B141,'Daily Log'!$C$18:$C$1017),0)","v":0},{"$f":"IFERROR($E141*SUMIF('Daily Log'!$E$18:$E$1017,$B141,'Daily Log'!$F$18:$F$1017),0)","v":0},{"$f":"IFERROR($E141*SUMIF('Daily Log'!$H$18:$H$1017,$B141,'Daily Log'!$I$18:$I$1017),0)","v":0},{"$f":"IFERROR($E141*SUMIF('Daily Log'!$K$18:$K$1017,$B141,'Daily Log'!$L$18:$L$1017),0)","v":0},{"$f":"IFERROR($E141*SUMIF('Daily Log'!$N$18:$N$1017,$B141,'Daily Log'!$O$18:$O$1017),0)","v":0},{"$f":"IFERROR($E141*SUMIF('Daily Log'!$Q$18:$Q$1017,$B141,'Daily Log'!$R$18:$R$1017),0)","v":0},{"$f":"IFERROR($E141*SUMIF('Daily Log'!$T$18:$T$1017,$B141,'Daily Log'!$U$18:$U$1017),0)","v":0},{"$f":"IFERROR($E141*SUMIF('Daily Log'!$W$18:$W$1017,$B141,'Daily Log'!$X$18:$X$1017),0)","v":0},{"$f":"IFERROR($E141*SUMIF('Daily Log'!$Z$18:$Z$1017,$B141,'Daily Log'!$AA$18:$AA$1017),0)","v":0},{"$f":"IFERROR($E141*SUMIF('Daily Log'!$AC$18:$AC$1017,$B141,'Daily Log'!$AD$18:$AD$1017),0)","v":0},{"$f":"IFERROR($E141*SUMIF('Daily Log'!$AF$18:$AF$1017,$B141,'Daily Log'!$AG$18:$AG$1017),0)","v":0},{"$f":"IFERROR($E141*SUMIF('Daily Log'!$AI$18:$AI$1017,$B141,'Daily Log'!$AJ$18:$AJ$1017),0)","v":0},{"$f":"IFERROR($E141*SUMIF('Daily Log'!$AL$18:$AL$1017,$B141,'Daily Log'!$AM$18:$AM$1017),0)","v":0},{"$f":"IFERROR($E141*SUMIF('Daily Log'!$AO$18:$AO$1017,$B141,'Daily Log'!$AP$18:$AP$1017),0)","v":0},{"$f":"IFERROR($E141*SUMIF('Daily Log'!$AR$18:$AR$1017,$B141,'Daily Log'!$AS$18:$AS$1017),0)","v":0},{"$f":"IFERROR($E141*SUMIF('Daily Log'!$AU$18:$AU$1017,$B141,'Daily Log'!$AV$18:$AV$1017),0)","v":0},{"$f":"IFERROR($E141*SUMIF('Daily Log'!$AX$18:$AX$1017,$B141,'Daily Log'!$AY$18:$AY$1017),0)","v":0},{"$f":"IFERROR($E141*SUMIF('Daily Log'!$BA$18:$BA$1017,$B141,'Daily Log'!$BB$18:$BB$1017),0)","v":0},{"$f":"IFERROR($E141*SUMIF('Daily Log'!$BD$18:$BD$1017,$B141,'Daily Log'!$BE$18:$BE$1017),0)","v":0},{"$f":"IFERROR($E141*SUMIF('Daily Log'!$BG$18:$BG$1017,$B141,'Daily Log'!$BH$18:$BH$1017),0)","v":0},{"$f":"IFERROR($E141*SUMIF('Daily Log'!$BJ$18:$BJ$1017,$B141,'Daily Log'!$BK$18:$BK$1017),0)","v":0},{"$f":"IFERROR($E141*SUMIF('Daily Log'!$BM$18:$BM$1017,$B141,'Daily Log'!$BN$18:$BN$1017),0)","v":0},{"$f":"IFERROR($E141*SUMIF('Daily Log'!$BP$18:$BP$1017,$B141,'Daily Log'!$BQ$18:$BQ$1017),0)","v":0},{"$f":"IFERROR($E141*SUMIF('Daily Log'!$BS$18:$BS$1017,$B141,'Daily Log'!$BT$18:$BT$1017),0)","v":0},{"$f":"IFERROR($E141*SUMIF('Daily Log'!$BV$18:$BV$1017,$B141,'Daily Log'!$BW$18:$BW$1017),0)","v":0},{"$f":"IFERROR($E141*SUMIF('Daily Log'!$BY$18:$BY$1017,$B141,'Daily Log'!$BZ$18:$BZ$1017),0)","v":0},{"$f":"IFERROR($E141*SUMIF('Daily Log'!$CB$18:$CB$1017,$B141,'Daily Log'!$CC$18:$CC$1017),0)","v":0},{"$f":"IFERROR($E141*SUMIF('Daily Log'!$CE$18:$CE$1017,$B141,'Daily Log'!$CF$18:$CF$1017),0)","v":0},{"$f":"IFERROR($E141*SUMIF('Daily Log'!$CH$18:$CH$1017,$B141,'Daily Log'!$CI$18:$CI$1017),0)","v":0},{"$f":"IFERROR($E141*SUMIF('Daily Log'!$CK$18:$CK$1017,$B141,'Daily Log'!$CL$18:$CL$1017),0)","v":0},{"$f":"IFERROR($E141*SUMIF('Daily Log'!$CN$18:$CN$1017,$B141,'Daily Log'!$CO$18:$CO$1017),0)","v":0}]
[null,"AE14 BIG ROOM",null,null,null,0,{"$f":"IFERROR($E142*SUMIF('Daily Log'!$B$18:$B$1017,$B142,'Daily Log'!$C$18:$C$1017),0)","v":0},{"$f":"IFERROR($E142*SUMIF('Daily Log'!$E$18:$E$1017,$B142,'Daily Log'!$F$18:$F$1017),0)","v":0},{"$f":"IFERROR($E142*SUMIF('Daily Log'!$H$18:$H$1017,$B142,'Daily Log'!$I$18:$I$1017),0)","v":0},{"$f":"IFERROR($E142*SUMIF('Daily Log'!$K$18:$K$1017,$B142,'Daily Log'!$L$18:$L$1017),0)","v":0},{"$f":"IFERROR($E142*SUMIF('Daily Log'!$N$18:$N$1017,$B142,'Daily Log'!$O$18:$O$1017),0)","v":0},{"$f":"IFERROR($E142*SUMIF('Daily Log'!$Q$18:$Q$1017,$B142,'Daily Log'!$R$18:$R$1017),0)","v":0},{"$f":"IFERROR($E142*SUMIF('Daily Log'!$T$18:$T$1017,$B142,'Daily Log'!$U$18:$U$1017),0)","v":0},{"$f":"IFERROR($E142*SUMIF('Daily Log'!$W$18:$W$1017,$B142,'Daily Log'!$X$18:$X$1017),0)","v":0},{"$f":"IFERROR($E142*SUMIF('Daily Log'!$Z$18:$Z$1017,$B142,'Daily Log'!$AA$18:$AA$1017),0)","v":0},{"$f":"IFERROR($E142*SUMIF('Daily Log'!$AC$18:$AC$1017,$B142,'Daily Log'!$AD$18:$AD$1017),0)","v":0},{"$f":"IFERROR($E142*SUMIF('Daily Log'!$AF$18:$AF$1017,$B142,'Daily Log'!$AG$18:$AG$1017),0)","v":0},{"$f":"IFERROR($E142*SUMIF('Daily Log'!$AI$18:$AI$1017,$B142,'Daily Log'!$AJ$18:$AJ$1017),0)","v":0},{"$f":"IFERROR($E142*SUMIF('Daily Log'!$AL$18:$AL$1017,$B142,'Daily Log'!$AM$18:$AM$1017),0)","v":0},{"$f":"IFERROR($E142*SUMIF('Daily Log'!$AO$18:$AO$1017,$B142,'Daily Log'!$AP$18:$AP$1017),0)","v":0},{"$f":"IFERROR($E142*SUMIF('Daily Log'!$AR$18:$AR$1017,$B142,'Daily Log'!$AS$18:$AS$1017),0)","v":0},{"$f":"IFERROR($E142*SUMIF('Daily Log'!$AU$18:$AU$1017,$B142,'Daily Log'!$AV$18:$AV$1017),0)","v":0},{"$f":"IFERROR($E142*SUMIF('Daily Log'!$AX$18:$AX$1017,$B142,'Daily Log'!$AY$18:$AY$1017),0)","v":0},{"$f":"IFERROR($E142*SUMIF('Daily Log'!$BA$18:$BA$1017,$B142,'Daily Log'!$BB$18:$BB$1017),0)","v":0},{"$f":"IFERROR($E142*SUMIF('Daily Log'!$BD$18:$BD$1017,$B142,'Daily Log'!$BE$18:$BE$1017),0)","v":0},{"$f":"IFERROR($E142*SUMIF('Daily Log'!$BG$18:$BG$1017,$B142,'Daily Log'!$BH$18:$BH$1017),0)","v":0},{"$f":"IFERROR($E142*SUMIF('Daily Log'!$BJ$18:$BJ$1017,$B142,'Daily Log'!$BK$18:$BK$1017),0)","v":0},{"$f":"IFERROR($E142*SUMIF('Daily Log'!$BM$18:$BM$1017,$B142,'Daily Log'!$BN$18:$BN$1017),0)","v":0},{"$f":"IFERROR($E142*SUMIF('Daily Log'!$BP$18:$BP$1017,$B142,'Daily Log'!$BQ$18:$BQ$1017),0)","v":0},{"$f":"IFERROR($E142*SUMIF('Daily Log'!$BS$18:$BS$1017,$B142,'Daily Log'!$BT$18:$BT$1017),0)","v":0},{"$f":"IFERROR($E142*SUMIF('Daily Log'!$BV$18:$BV$1017,$B142,'Daily Log'!$BW$18:$BW$1017),0)","v":0},{"$f":"IFERROR($E142*SUMIF('Daily Log'!$BY$18:$BY$1017,$B142,'Daily Log'!$BZ$18:$BZ$1017),0)","v":0},{"$f":"IFERROR($E142*SUMIF('Daily Log'!$CB$18:$CB$1017,$B142,'Daily Log'!$CC$18:$CC$1017),0)","v":0},{"$f":"IFERROR($E142*SUMIF('Daily Log'!$CE$18:$CE$1017,$B142,'Daily Log'!$CF$18:$CF$1017),0)","v":0},{"$f":"IFERROR($E142*SUMIF('Daily Log'!$CH$18:$CH$1017,$B142,'Daily Log'!$CI$18:$CI$1017),0)","v":0},{"$f":"IFERROR($E142*SUMIF('Daily Log'!$CK$18:$CK$1017,$B142,'Daily Log'!$CL$18:$CL$1017),0)","v":0},{"$f":"IFERROR($E142*SUMIF('Daily Log'!$CN$18:$CN$1017,$B142,'Daily Log'!$CO$18:$CO$1017),0)","v":0}]
[null,"AE15 VIP ROOM",null,null,null,0,{"$f":"IFERROR($E143*SUMIF('Daily Log'!$B$18:$B$1017,$B143,'Daily Log'!$C$18:$C$1017),0)","v":0},{"$f":"IFERROR($E143*SUMIF('Daily Log'!$E$18:$E$1017,$B143,'Daily Log'!$F$18:$F$1017),0)","v":0},{"$f":"IFERROR($E143*SUMIF('Daily Log'!$H$18:$H$1017,$B143,'Daily Log'!$I$18:$I$1017),0)","v":0},{"$f":"IFERROR($E143*SUMIF('Daily Log'!$K$18:$K$1017,$B143,'Daily Log'!$L$18:$L$1017),0)","v":0},{"$f":"IFERROR($E143*SUMIF('Daily Log'!$N$18:$N$1017,$B143,'Daily Log'!$O$18:$O$1017),0)","v":0},{"$f":"IFERROR($E143*SUMIF('Daily Log'!$Q$18:$Q$1017,$B143,'Daily Log'!$R$18:$R$1017),0)","v":0},{"$f":"IFERROR($E143*SUMIF('Daily Log'!$T$18:$T$1017,$B143,'Daily Log'!$U$18:$U$1017),0)","v":0},{"$f":"IFERROR($E143*SUMIF('Daily Log'!$W$18:$W$1017,$B143,'Daily Log'!$X$18:$X$1017),0)","v":0},{"$f":"IFERROR($E143*SUMIF('Daily Log'!$Z$18:$Z$1017,$B143,'Daily Log'!$AA$18:$AA$1017),0)","v":0},{"$f":"IFERROR($E143*SUMIF('Daily Log'!$AC$18:$AC$1017,$B143,'Daily Log'!$AD$18:$AD$1017),0)","v":0},{"$f":"IFERROR($E143*SUMIF('Daily Log'!$AF$18:$AF$1017,$B143,'Daily Log'!$AG$18:$AG$1017),0)","v":0},{"$f":"IFERROR($E143*SUMIF('Daily Log'!$AI$18:$AI$1017,$B143,'Daily Log'!$AJ$18:$AJ$1017),0)","v":0},{"$f":"IFERROR($E143*SUMIF('Daily Log'!$AL$18:$AL$1017,$B143,'Daily Log'!$AM$18:$AM$1017),0)","v":0},{"$f":"IFERROR($E143*SUMIF('Daily Log'!$AO$18:$AO$1017,$B143,'Daily Log'!$AP$18:$AP$1017),0)","v":0},{"$f":"IFERROR($E143*SUMIF('Daily Log'!$AR$18:$AR$1017,$B143,'Daily Log'!$AS$18:$AS$1017),0)","v":0},{"$f":"IFERROR($E143*SUMIF('Daily Log'!$AU$18:$AU$1017,$B143,'Daily Log'!$AV$18:$AV$1017),0)","v":0},{"$f":"IFERROR($E143*SUMIF('Daily Log'!$AX$18:$AX$1017,$B143,'Daily Log'!$AY$18:$AY$1017),0)","v":0},{"$f":"IFERROR($E143*SUMIF('Daily Log'!$BA$18:$BA$1017,$B143,'Daily Log'!$BB$18:$BB$1017),0)","v":0},{"$f":"IFERROR($E143*SUMIF('Daily Log'!$BD$18:$BD$1017,$B143,'Daily Log'!$BE$18:$BE$1017),0)","v":0},{"$f":"IFERROR($E143*SUMIF('Daily Log'!$BG$18:$BG$1017,$B143,'Daily Log'!$BH$18:$BH$1017),0)","v":0},{"$f":"IFERROR($E143*SUMIF('Daily Log'!$BJ$18:$BJ$1017,$B143,'Daily Log'!$BK$18:$BK$1017),0)","v":0},{"$f":"IFERROR($E143*SUMIF('Daily Log'!$BM$18:$BM$1017,$B143,'Daily Log'!$BN$18:$BN$1017),0)","v":0},{"$f":"IFERROR($E143*SUMIF('Daily Log'!$BP$18:$BP$1017,$B143,'Daily Log'!$BQ$18:$BQ$1017),0)","v":0},{"$f":"IFERROR($E143*SUMIF('Daily Log'!$BS$18:$BS$1017,$B143,'Daily Log'!$BT$18:$BT$1017),0)","v":0},{"$f":"IFERROR($E143*SUMIF('Daily Log'!$BV$18:$BV$1017,$B143,'Daily Log'!$BW$18:$BW$1017),0)","v":0},{"$f":"IFERROR($E143*SUMIF('Daily Log'!$BY$18:$BY$1017,$B143,'Daily Log'!$BZ$18:$BZ$1017),0)","v":0},{"$f":"IFERROR($E143*SUMIF('Daily Log'!$CB$18:$CB$1017,$B143,'Daily Log'!$CC$18:$CC$1017),0)","v":0},{"$f":"IFERROR($E143*SUMIF('Daily Log'!$CE$18:$CE$1017,$B143,'Daily Log'!$CF$18:$CF$1017),0)","v":0},{"$f":"IFERROR($E143*SUMIF('Daily Log'!$CH$18:$CH$1017,$B143,'Daily Log'!$CI$18:$CI$1017),0)","v":0},{"$f":"IFERROR($E143*SUMIF('Daily Log'!$CK$18:$CK$1017,$B143,'Daily Log'!$CL$18:$CL$1017),0)","v":0},{"$f":"IFERROR($E143*SUMIF('Daily Log'!$CN$18:$CN$1017,$B143,'Daily Log'!$CO$18:$CO$1017),0)","v":0}]
[null,"AE16 VVIP ROOM",null,null,null,0,{"$f":"IFERROR($E144*SUMIF('Daily Log'!$B$18:$B$1017,$B144,'Daily Log'!$C$18:$C$1017),0)","v":0},{"$f":"IFERROR($E144*SUMIF('Daily Log'!$E$18:$E$1017,$B144,'Daily Log'!$F$18:$F$1017),0)","v":0},{"$f":"IFERROR($E144*SUMIF('Daily Log'!$H$18:$H$1017,$B144,'Daily Log'!$I$18:$I$1017),0)","v":0},{"$f":"IFERROR($E144*SUMIF('Daily Log'!$K$18:$K$1017,$B144,'Daily Log'!$L$18:$L$1017),0)","v":0},{"$f":"IFERROR($E144*SUMIF('Daily Log'!$N$18:$N$1017,$B144,'Daily Log'!$O$18:$O$1017),0)","v":0},{"$f":"IFERROR($E144*SUMIF('Daily Log'!$Q$18:$Q$1017,$B144,'Daily Log'!$R$18:$R$1017),0)","v":0},{"$f":"IFERROR($E144*SUMIF('Daily Log'!$T$18:$T$1017,$B144,'Daily Log'!$U$18:$U$1017),0)","v":0},{"$f":"IFERROR($E144*SUMIF('Daily Log'!$W$18:$W$1017,$B144,'Daily Log'!$X$18:$X$1017),0)","v":0},{"$f":"IFERROR($E144*SUMIF('Daily Log'!$Z$18:$Z$1017,$B144,'Daily Log'!$AA$18:$AA$1017),0)","v":0},{"$f":"IFERROR($E144*SUMIF('Daily Log'!$AC$18:$AC$1017,$B144,'Daily Log'!$AD$18:$AD$1017),0)","v":0},{"$f":"IFERROR($E144*SUMIF('Daily Log'!$AF$18:$AF$1017,$B144,'Daily Log'!$AG$18:$AG$1017),0)","v":0},{"$f":"IFERROR($E144*SUMIF('Daily Log'!$AI$18:$AI$1017,$B144,'Daily Log'!$AJ$18:$AJ$1017),0)","v":0},{"$f":"IFERROR($E144*SUMIF('Daily Log'!$AL$18:$AL$1017,$B144,'Daily Log'!$AM$18:$AM$1017),0)","v":0},{"$f":"IFERROR($E144*SUMIF('Daily Log'!$AO$18:$AO$1017,$B144,'Daily Log'!$AP$18:$AP$1017),0)","v":0},{"$f":"IFERROR($E144*SUMIF('Daily Log'!$AR$18:$AR$1017,$B144,'Daily Log'!$AS$18:$AS$1017),0)","v":0},{"$f":"IFERROR($E144*SUMIF('Daily Log'!$AU$18:$AU$1017,$B144,'Daily Log'!$AV$18:$AV$1017),0)","v":0},{"$f":"IFERROR($E144*SUMIF('Daily Log'!$AX$18:$AX$1017,$B144,'Daily Log'!$AY$18:$AY$1017),0)","v":0},{"$f":"IFERROR($E144*SUMIF('Daily Log'!$BA$18:$BA$1017,$B144,'Daily Log'!$BB$18:$BB$1017),0)","v":0},{"$f":"IFERROR($E144*SUMIF('Daily Log'!$BD$18:$BD$1017,$B144,'Daily Log'!$BE$18:$BE$1017),0)","v":0},{"$f":"IFERROR($E144*SUMIF('Daily Log'!$BG$18:$BG$1017,$B144,'Daily Log'!$BH$18:$BH$1017),0)","v":0},{"$f":"IFERROR($E144*SUMIF('Daily Log'!$BJ$18:$BJ$1017,$B144,'Daily Log'!$BK$18:$BK$1017),0)","v":0},{"$f":"IFERROR($E144*SUMIF('Daily Log'!$BM$18:$BM$1017,$B144,'Daily Log'!$BN$18:$BN$1017),0)","v":0},{"$f":"IFERROR($E144*SUMIF('Daily Log'!$BP$18:$BP$1017,$B144,'Daily Log'!$BQ$18:$BQ$1017),0)","v":0},{"$f":"IFERROR($E144*SUMIF('Daily Log'!$BS$18:$BS$1017,$B144,'Daily Log'!$BT$18:$BT$1017),0)","v":0},{"$f":"IFERROR($E144*SUMIF('Daily Log'!$BV$18:$BV$1017,$B144,'Daily Log'!$BW$18:$BW$1017),0)","v":0},{"$f":"IFERROR($E144*SUMIF('Daily Log'!$BY$18:$BY$1017,$B144,'Daily Log'!$BZ$18:$BZ$1017),0)","v":0},{"$f":"IFERROR($E144*SUMIF('Daily Log'!$CB$18:$CB$1017,$B144,'Daily Log'!$CC$18:$CC$1017),0)","v":0},{"$f":"IFERROR($E144*SUMIF('Daily Log'!$CE$18:$CE$1017,$B144,'Daily Log'!$CF$18:$CF$1017),0)","v":0},{"$f":"IFERROR($E144*SUMIF('Daily Log'!$CH$18:$CH$1017,$B144,'Daily Log'!$CI$18:$CI$1017),0)","v":0},{"$f":"IFERROR($E144*SUMIF('Daily Log'!$CK$18:$CK$1017,$B144,'Daily Log'!$CL$18:$CL$1017),0)","v":0},{"$f":"IFERROR($E144*SUMIF('Daily Log'!$CN$18:$CN$1017,$B144,'Daily Log'!$CO$18:$CO$1017),0)","v":0}]
["","AE17 S.ROOM MEM",null,null,null,0,{"$f":"IFERROR($E145*SUMIF('Daily Log'!$B$18:$B$1017,$B145,'Daily Log'!$C$18:$C$1017),0)","v":0},{"$f":"IFERROR($E145*SUMIF('Daily Log'!$E$18:$E$1017,$B145,'Daily Log'!$F$18:$F$1017),0)","v":0},{"$f":"IFERROR($E145*SUMIF('Daily Log'!$H$18:$H$1017,$B145,'Daily Log'!$I$18:$I$1017),0)","v":0},{"$f":"IFERROR($E145*SUMIF('Daily Log'!$K$18:$K$1017,$B145,'Daily Log'!$L$18:$L$1017),0)","v":0},{"$f":"IFERROR($E145*SUMIF('Daily Log'!$N$18:$N$1017,$B145,'Daily Log'!$O$18:$O$1017),0)","v":0},{"$f":"IFERROR($E145*SUMIF('Daily Log'!$Q$18:$Q$1017,$B145,'Daily Log'!$R$18:$R$1017),0)","v":0},{"$f":"IFERROR($E145*SUMIF('Daily Log'!$T$18:$T$1017,$B145,'Daily Log'!$U$18:$U$1017),0)","v":0},{"$f":"IFERROR($E145*SUMIF('Daily Log'!$W$18:$W$1017,$B145,'Daily Log'!$X$18:$X$1017),0)","v":0},{"$f":"IFERROR($E145*SUMIF('Daily Log'!$Z$18:$Z$1017,$B145,'Daily Log'!$AA$18:$AA$1017),0)","v":0},{"$f":"IFERROR($E145*SUMIF('Daily Log'!$AC$18:$AC$1017,$B145,'Daily Log'!$AD$18:$AD$1017),0)","v":0},{"$f":"IFERROR($E145*SUMIF('Daily Log'!$AF$18:$AF$1017,$B145,'Daily Log'!$AG$18:$AG$1017),0)","v":0},{"$f":"IFERROR($E145*SUMIF('Daily Log'!$AI$18:$AI$1017,$B145,'Daily Log'!$AJ$18:$AJ$1017),0)","v":0},{"$f":"IFERROR($E145*SUMIF('Daily Log'!$AL$18:$AL$1017,$B145,'Daily Log'!$AM$18:$AM$1017),0)","v":0},{"$f":"IFERROR($E145*SUMIF('Daily Log'!$AO$18:$AO$1017,$B145,'Daily Log'!$AP$18:$AP$1017),0)","v":0},{"$f":"IFERROR($E145*SUMIF('Daily Log'!$AR$18:$AR$1017,$B145,'Daily Log'!$AS$18:$AS$1017),0)","v":0},{"$f":"IFERROR($E145*SUMIF('Daily Log'!$AU$18:$AU$1017,$B145,'Daily Log'!$AV$18:$AV$1017),0)","v":0},{"$f":"IFERROR($E145*SUMIF('Daily Log'!$AX$18:$AX$1017,$B145,'Daily Log'!$AY$18:$AY$1017),0)","v":0},{"$f":"IFERROR($E145*SUMIF('Daily Log'!$BA$18:$BA$1017,$B145,'Daily Log'!$BB$18:$BB$1017),0)","v":0},{"$f":"IFERROR($E145*SUMIF('Daily Log'!$BD$18:$BD$1017,$B145,'Daily Log'!$BE$18:$BE$1017),0)","v":0},{"$f":"IFERROR($E145*SUMIF('Daily Log'!$BG$18:$BG$1017,$B145,'Daily Log'!$BH$18:$BH$1017),0)","v":0},{"$f":"IFERROR($E145*SUMIF('Daily Log'!$BJ$18:$BJ$1017,$B145,'Daily Log'!$BK$18:$BK$1017),0)","v":0},{"$f":"IFERROR($E145*SUMIF('Daily Log'!$BM$18:$BM$1017,$B145,'Daily Log'!$BN$18:$BN$1017),0)","v":0},{"$f":"IFERROR($E145*SUMIF('Daily Log'!$BP$18:$BP$1017,$B145,'Daily Log'!$BQ$18:$BQ$1017),0)","v":0},{"$f":"IFERROR($E145*SUMIF('Daily Log'!$BS$18:$BS$1017,$B145,'Daily Log'!$BT$18:$BT$1017),0)","v":0},{"$f":"IFERROR($E145*SUMIF('Daily Log'!$BV$18:$BV$1017,$B145,'Daily Log'!$BW$18:$BW$1017),0)","v":0},{"$f":"IFERROR($E145*SUMIF('Daily Log'!$BY$18:$BY$1017,$B145,'Daily Log'!$BZ$18:$BZ$1017),0)","v":0},{"$f":"IFERROR($E145*SUMIF('Daily Log'!$CB$18:$CB$1017,$B145,'Daily Log'!$CC$18:$CC$1017),0)","v":0},{"$f":"IFERROR($E145*SUMIF('Daily Log'!$CE$18:$CE$1017,$B145,'Daily Log'!$CF$18:$CF$1017),0)","v":0},{"$f":"IFERROR($E145*SUMIF('Daily Log'!$CH$18:$CH$1017,$B145,'Daily Log'!$CI$18:$CI$1017),0)","v":0},{"$f":"IFERROR($E145*SUMIF('Daily Log'!$CK$18:$CK$1017,$B145,'Daily Log'!$CL$18:$CL$1017),0)","v":0},{"$f":"IFERROR($E145*SUMIF('Daily Log'!$CN$18:$CN$1017,$B145,'Daily Log'!$CO$18:$CO$1017),0)","v":0}]
[null,"AE18 M.ROOM MEM",null,null,null,0,{"$f":"IFERROR($E146*SUMIF('Daily Log'!$B$18:$B$1017,$B146,'Daily Log'!$C$18:$C$1017),0)","v":0},{"$f":"IFERROR($E146*SUMIF('Daily Log'!$E$18:$E$1017,$B146,'Daily Log'!$F$18:$F$1017),0)","v":0},{"$f":"IFERROR($E146*SUMIF('Daily Log'!$H$18:$H$1017,$B146,'Daily Log'!$I$18:$I$1017),0)","v":0},{"$f":"IFERROR($E146*SUMIF('Daily Log'!$K$18:$K$1017,$B146,'Daily Log'!$L$18:$L$1017),0)","v":0},{"$f":"IFERROR($E146*SUMIF('Daily Log'!$N$18:$N$1017,$B146,'Daily Log'!$O$18:$O$1017),0)","v":0},{"$f":"IFERROR($E146*SUMIF('Daily Log'!$Q$18:$Q$1017,$B146,'Daily Log'!$R$18:$R$1017),0)","v":0},{"$f":"IFERROR($E146*SUMIF('Daily Log'!$T$18:$T$1017,$B146,'Daily Log'!$U$18:$U$1017),0)","v":0},{"$f":"IFERROR($E146*SUMIF('Daily Log'!$W$18:$W$1017,$B146,'Daily Log'!$X$18:$X$1017),0)","v":0},{"$f":"IFERROR($E146*SUMIF('Daily Log'!$Z$18:$Z$1017,$B146,'Daily Log'!$AA$18:$AA$1017),0)","v":0},{"$f":"IFERROR($E146*SUMIF('Daily Log'!$AC$18:$AC$1017,$B146,'Daily Log'!$AD$18:$AD$1017),0)","v":0},{"$f":"IFERROR($E146*SUMIF('Daily Log'!$AF$18:$AF$1017,$B146,'Daily Log'!$AG$18:$AG$1017),0)","v":0},{"$f":"IFERROR($E146*SUMIF('Daily Log'!$AI$18:$AI$1017,$B146,'Daily Log'!$AJ$18:$AJ$1017),0)","v":0},{"$f":"IFERROR($E146*SUMIF('Daily Log'!$AL$18:$AL$1017,$B146,'Daily Log'!$AM$18:$AM$1017),0)","v":0},{"$f":"IFERROR($E146*SUMIF('Daily Log'!$AO$18:$AO$1017,$B146,'Daily Log'!$AP$18:$AP$1017),0)","v":0},{"$f":"IFERROR($E146*SUMIF('Daily Log'!$AR$18:$AR$1017,$B146,'Daily Log'!$AS$18:$AS$1017),0)","v":0},{"$f":"IFERROR($E146*SUMIF('Daily Log'!$AU$18:$AU$1017,$B146,'Daily Log'!$AV$18:$AV$1017),0)","v":0},{"$f":"IFERROR($E146*SUMIF('Daily Log'!$AX$18:$AX$1017,$B146,'Daily Log'!$AY$18:$AY$1017),0)","v":0},{"$f":"IFERROR($E146*SUMIF('Daily Log'!$BA$18:$BA$1017,$B146,'Daily Log'!$BB$18:$BB$1017),0)","v":0},{"$f":"IFERROR($E146*SUMIF('Daily Log'!$BD$18:$BD$1017,$B146,'Daily Log'!$BE$18:$BE$1017),0)","v":0},{"$f":"IFERROR($E146*SUMIF('Daily Log'!$BG$18:$BG$1017,$B146,'Daily Log'!$BH$18:$BH$1017),0)","v":0},{"$f":"IFERROR($E146*SUMIF('Daily Log'!$BJ$18:$BJ$1017,$B146,'Daily Log'!$BK$18:$BK$1017),0)","v":0},{"$f":"IFERROR($E146*SUMIF('Daily Log'!$BM$18:$BM$1017,$B146,'Daily Log'!$BN$18:$BN$1017),0)","v":0},{"$f":"IFERROR($E146*SUMIF('Daily Log'!$BP$18:$BP$1017,$B146,'Daily Log'!$BQ$18:$BQ$1017),0)","v":0},{"$f":"IFERROR($E146*SUMIF('Daily Log'!$BS$18:$BS$1017,$B146,'Daily Log'!$BT$18:$BT$1017),0)","v":0},{"$f":"IFERROR($E146*SUMIF('Daily Log'!$BV$18:$BV$1017,$B146,'Daily Log'!$BW$18:$BW$1017),0)","v":0},{"$f":"IFERROR($E146*SUMIF('Daily Log'!$BY$18:$BY$1017,$B146,'Daily Log'!$BZ$18:$BZ$1017),0)","v":0},{"$f":"IFERROR($E146*SUMIF('Daily Log'!$CB$18:$CB$1017,$B146,'Daily Log'!$CC$18:$CC$1017),0)","v":0},{"$f":"IFERROR($E146*SUMIF('Daily Log'!$CE$18:$CE$1017,$B146,'Daily Log'!$CF$18:$CF$1017),0)","v":0},{"$f":"IFERROR($E146*SUMIF('Daily Log'!$CH$18:$CH$1017,$B146,'Daily Log'!$CI$18:$CI$1017),0)","v":0},{"$f":"IFERROR($E146*SUMIF('Daily Log'!$CK$18:$CK$1017,$B146,'Daily Log'!$CL$18:$CL$1017),0)","v":0},{"$f":"IFERROR($E146*SUMIF('Daily Log'!$CN$18:$CN$1017,$B146,'Daily Log'!$CO$18:$CO$1017),0)","v":0}]
[null,"AE19 M BIG ROOM MEM",null,null,null,0,{"$f":"IFERROR($E147*SUMIF('Daily Log'!$B$18:$B$1017,$B147,'Daily Log'!$C$18:$C$1017),0)","v":0},{"$f":"IFERROR($E147*SUMIF('Daily Log'!$E$18:$E$1017,$B147,'Daily Log'!$F$18:$F$1017),0)","v":0},{"$f":"IFERROR($E147*SUMIF('Daily Log'!$H$18:$H$1017,$B147,'Daily Log'!$I$18:$I$1017),0)","v":0},{"$f":"IFERROR($E147*SUMIF('Daily Log'!$K$18:$K$1017,$B147,'Daily Log'!$L$18:$L$1017),0)","v":0},{"$f":"IFERROR($E147*SUMIF('Daily Log'!$N$18:$N$1017,$B147,'Daily Log'!$O$18:$O$1017),0)","v":0},{"$f":"IFERROR($E147*SUMIF('Daily Log'!$Q$18:$Q$1017,$B147,'Daily Log'!$R$18:$R$1017),0)","v":0},{"$f":"IFERROR($E147*SUMIF('Daily Log'!$T$18:$T$1017,$B147,'Daily Log'!$U$18:$U$1017),0)","v":0},{"$f":"IFERROR($E147*SUMIF('Daily Log'!$W$18:$W$1017,$B147,'Daily Log'!$X$18:$X$1017),0)","v":0},{"$f":"IFERROR($E147*SUMIF('Daily Log'!$Z$18:$Z$1017,$B147,'Daily Log'!$AA$18:$AA$1017),0)","v":0},{"$f":"IFERROR($E147*SUMIF('Daily Log'!$AC$18:$AC$1017,$B147,'Daily Log'!$AD$18:$AD$1017),0)","v":0},{"$f":"IFERROR($E147*SUMIF('Daily Log'!$AF$18:$AF$1017,$B147,'Daily Log'!$AG$18:$AG$1017),0)","v":0},{"$f":"IFERROR($E147*SUMIF('Daily Log'!$AI$18:$AI$1017,$B147,'Daily Log'!$AJ$18:$AJ$1017),0)","v":0},{"$f":"IFERROR($E147*SUMIF('Daily Log'!$AL$18:$AL$1017,$B147,'Daily Log'!$AM$18:$AM$1017),0)","v":0},{"$f":"IFERROR($E147*SUMIF('Daily Log'!$AO$18:$AO$1017,$B147,'Daily Log'!$AP$18:$AP$1017),0)","v":0},{"$f":"IFERROR($E147*SUMIF('Daily Log'!$AR$18:$AR$1017,$B147,'Daily Log'!$AS$18:$AS$1017),0)","v":0},{"$f":"IFERROR($E147*SUMIF('Daily Log'!$AU$18:$AU$1017,$B147,'Daily Log'!$AV$18:$AV$1017),0)","v":0},{"$f":"IFERROR($E147*SUMIF('Daily Log'!$AX$18:$AX$1017,$B147,'Daily Log'!$AY$18:$AY$1017),0)","v":0},{"$f":"IFERROR($E147*SUMIF('Daily Log'!$BA$18:$BA$1017,$B147,'Daily Log'!$BB$18:$BB$1017),0)","v":0},{"$f":"IFERROR($E147*SUMIF('Daily Log'!$BD$18:$BD$1017,$B147,'Daily Log'!$BE$18:$BE$1017),0)","v":0},{"$f":"IFERROR($E147*SUMIF('Daily Log'!$BG$18:$BG$1017,$B147,'Daily Log'!$BH$18:$BH$1017),0)","v":0},{"$f":"IFERROR($E147*SUMIF('Daily Log'!$BJ$18:$BJ$1017,$B147,'Daily Log'!$BK$18:$BK$1017),0)","v":0},{"$f":"IFERROR($E147*SUMIF('Daily Log'!$BM$18:$BM$1017,$B147,'Daily Log'!$BN$18:$BN$1017),0)","v":0},{"$f":"IFERROR($E147*SUMIF('Daily Log'!$BP$18:$BP$1017,$B147,'Daily Log'!$BQ$18:$BQ$1017),0)","v":0},{"$f":"IFERROR($E147*SUMIF('Daily Log'!$BS$18:$BS$1017,$B147,'Daily Log'!$BT$18:$BT$1017),0)","v":0},{"$f":"IFERROR($E147*SUMIF('Daily Log'!$BV$18:$BV$1017,$B147,'Daily Log'!$BW$18:$BW$1017),0)","v":0},{"$f":"IFERROR($E147*SUMIF('Daily Log'!$BY$18:$BY$1017,$B147,'Daily Log'!$BZ$18:$BZ$1017),0)","v":0},{"$f":"IFERROR($E147*SUMIF('Daily Log'!$CB$18:$CB$1017,$B147,'Daily Log'!$CC$18:$CC$1017),0)","v":0},{"$f":"IFERROR($E147*SUMIF('Daily Log'!$CE$18:$CE$1017,$B147,'Daily Log'!$CF$18:$CF$1017),0)","v":0},{"$f":"IFERROR($E147*SUMIF('Daily Log'!$CH$18:$CH$1017,$B147,'Daily Log'!$CI$18:$CI$1017),0)","v":0},{"$f":"IFERROR($E147*SUMIF('Daily Log'!$CK$18:$CK$1017,$B147,'Daily Log'!$CL$18:$CL$1017),0)","v":0},{"$f":"IFERROR($E147*SUMIF('Daily Log'!$CN$18:$CN$1017,$B147,'Daily Log'!$CO$18:$CO$1017),0)","v":0}]
[null,"AE20 BIG ROOM MEM",null,null,null,0,{"$f":"IFERROR($E148*SUMIF('Daily Log'!$B$18:$B$1017,$B148,'Daily Log'!$C$18:$C$1017),0)","v":0},{"$f":"IFERROR($E148*SUMIF('Daily Log'!$E$18:$E$1017,$B148,'Daily Log'!$F$18:$F$1017),0)","v":0},{"$f":"IFERROR($E148*SUMIF('Daily Log'!$H$18:$H$1017,$B148,'Daily Log'!$I$18:$I$1017),0)","v":0},{"$f":"IFERROR($E148*SUMIF('Daily Log'!$K$18:$K$1017,$B148,'Daily Log'!$L$18:$L$1017),0)","v":0},{"$f":"IFERROR($E148*SUMIF('Daily Log'!$N$18:$N$1017,$B148,'Daily Log'!$O$18:$O$1017),0)","v":0},{"$f":"IFERROR($E148*SUMIF('Daily Log'!$Q$18:$Q$1017,$B148,'Daily Log'!$R$18:$R$1017),0)","v":0},{"$f":"IFERROR($E148*SUMIF('Daily Log'!$T$18:$T$1017,$B148,'Daily Log'!$U$18:$U$1017),0)","v":0},{"$f":"IFERROR($E148*SUMIF('Daily Log'!$W$18:$W$1017,$B148,'Daily Log'!$X$18:$X$1017),0)","v":0},{"$f":"IFERROR($E148*SUMIF('Daily Log'!$Z$18:$Z$1017,$B148,'Daily Log'!$AA$18:$AA$1017),0)","v":0},{"$f":"IFERROR($E148*SUMIF('Daily Log'!$AC$18:$AC$1017,$B148,'Daily Log'!$AD$18:$AD$1017),0)","v":0},{"$f":"IFERROR($E148*SUMIF('Daily Log'!$AF$18:$AF$1017,$B148,'Daily Log'!$AG$18:$AG$1017),0)","v":0},{"$f":"IFERROR($E148*SUMIF('Daily Log'!$AI$18:$AI$1017,$B148,'Daily Log'!$AJ$18:$AJ$1017),0)","v":0},{"$f":"IFERROR($E148*SUMIF('Daily Log'!$AL$18:$AL$1017,$B148,'Daily Log'!$AM$18:$AM$1017),0)","v":0},{"$f":"IFERROR($E148*SUMIF('Daily Log'!$AO$18:$AO$1017,$B148,'Daily Log'!$AP$18:$AP$1017),0)","v":0},{"$f":"IFERROR($E148*SUMIF('Daily Log'!$AR$18:$AR$1017,$B148,'Daily Log'!$AS$18:$AS$1017),0)","v":0},{"$f":"IFERROR($E148*SUMIF('Daily Log'!$AU$18:$AU$1017,$B148,'Daily Log'!$AV$18:$AV$1017),0)","v":0},{"$f":"IFERROR($E148*SUMIF('Daily Log'!$AX$18:$AX$1017,$B148,'Daily Log'!$AY$18:$AY$1017),0)","v":0},{"$f":"IFERROR($E148*SUMIF('Daily Log'!$BA$18:$BA$1017,$B148,'Daily Log'!$BB$18:$BB$1017),0)","v":0},{"$f":"IFERROR($E148*SUMIF('Daily Log'!$BD$18:$BD$1017,$B148,'Daily Log'!$BE$18:$BE$1017),0)","v":0},{"$f":"IFERROR($E148*SUMIF('Daily Log'!$BG$18:$BG$1017,$B148,'Daily Log'!$BH$18:$BH$1017),0)","v":0},{"$f":"IFERROR($E148*SUMIF('Daily Log'!$BJ$18:$BJ$1017,$B148,'Daily Log'!$BK$18:$BK$1017),0)","v":0},{"$f":"IFERROR($E148*SUMIF('Daily Log'!$BM$18:$BM$1017,$B148,'Daily Log'!$BN$18:$BN$1017),0)","v":0},{"$f":"IFERROR($E148*SUMIF('Daily Log'!$BP$18:$BP$1017,$B148,'Daily Log'!$BQ$18:$BQ$1017),0)","v":0},{"$f":"IFERROR($E148*SUMIF('Daily Log'!$BS$18:$BS$1017,$B148,'Daily Log'!$BT$18:$BT$1017),0)","v":0},{"$f":"IFERROR($E148*SUMIF('Daily Log'!$BV$18:$BV$1017,$B148,'Daily Log'!$BW$18:$BW$1017),0)","v":0},{"$f":"IFERROR($E148*SUMIF('Daily Log'!$BY$18:$BY$1017,$B148,'Daily Log'!$BZ$18:$BZ$1017),0)","v":0},{"$f":"IFERROR($E148*SUMIF('Daily Log'!$CB$18:$CB$1017,$B148,'Daily Log'!$CC$18:$CC$1017),0)","v":0},{"$f":"IFERROR($E148*SUMIF('Daily Log'!$CE$18:$CE$1017,$B148,'Daily Log'!$CF$18:$CF$1017),0)","v":0},{"$f":"IFERROR($E148*SUMIF('Daily Log'!$CH$18:$CH$1017,$B148,'Daily Log'!$CI$18:$CI$1017),0)","v":0},{"$f":"IFERROR($E148*SUMIF('Daily Log'!$CK$18:$CK$1017,$B148,'Daily Log'!$CL$18:$CL$1017),0)","v":0},{"$f":"IFERROR($E148*SUMIF('Daily Log'!$CN$18:$CN$1017,$B148,'Daily Log'!$CO$18:$CO$1017),0)","v":0}]
[null,"AE21 VIP ROOM MEM",null,null,null,0,{"$f":"IFERROR($E149*SUMIF('Daily Log'!$B$18:$B$1017,$B149,'Daily Log'!$C$18:$C$1017),0)","v":0},{"$f":"IFERROR($E149*SUMIF('Daily Log'!$E$18:$E$1017,$B149,'Daily Log'!$F$18:$F$1017),0)","v":0},{"$f":"IFERROR($E149*SUMIF('Daily Log'!$H$18:$H$1017,$B149,'Daily Log'!$I$18:$I$1017),0)","v":0},{"$f":"IFERROR($E149*SUMIF('Daily Log'!$K$18:$K$1017,$B149,'Daily Log'!$L$18:$L$1017),0)","v":0},{"$f":"IFERROR($E149*SUMIF('Daily Log'!$N$18:$N$1017,$B149,'Daily Log'!$O$18:$O$1017),0)","v":0},{"$f":"IFERROR($E149*SUMIF('Daily Log'!$Q$18:$Q$1017,$B149,'Daily Log'!$R$18:$R$1017),0)","v":0},{"$f":"IFERROR($E149*SUMIF('Daily Log'!$T$18:$T$1017,$B149,'Daily Log'!$U$18:$U$1017),0)","v":0},{"$f":"IFERROR($E149*SUMIF('Daily Log'!$W$18:$W$1017,$B149,'Daily Log'!$X$18:$X$1017),0)","v":0},{"$f":"IFERROR($E149*SUMIF('Daily Log'!$Z$18:$Z$1017,$B149,'Daily Log'!$AA$18:$AA$1017),0)","v":0},{"$f":"IFERROR($E149*SUMIF('Daily Log'!$AC$18:$AC$1017,$B149,'Daily Log'!$AD$18:$AD$1017),0)","v":0},{"$f":"IFERROR($E149*SUMIF('Daily Log'!$AF$18:$AF$1017,$B149,'Daily Log'!$AG$18:$AG$1017),0)","v":0},{"$f":"IFERROR($E149*SUMIF('Daily Log'!$AI$18:$AI$1017,$B149,'Daily Log'!$AJ$18:$AJ$1017),0)","v":0},{"$f":"IFERROR($E149*SUMIF('Daily Log'!$AL$18:$AL$1017,$B149,'Daily Log'!$AM$18:$AM$1017),0)","v":0},{"$f":"IFERROR($E149*SUMIF('Daily Log'!$AO$18:$AO$1017,$B149,'Daily Log'!$AP$18:$AP$1017),0)","v":0},{"$f":"IFERROR($E149*SUMIF('Daily Log'!$AR$18:$AR$1017,$B149,'Daily Log'!$AS$18:$AS$1017),0)","v":0},{"$f":"IFERROR($E149*SUMIF('Daily Log'!$AU$18:$AU$1017,$B149,'Daily Log'!$AV$18:$AV$1017),0)","v":0},{"$f":"IFERROR($E149*SUMIF('Daily Log'!$AX$18:$AX$1017,$B149,'Daily Log'!$AY$18:$AY$1017),0)","v":0},{"$f":"IFERROR($E149*SUMIF('Daily Log'!$BA$18:$BA$1017,$B149,'Daily Log'!$BB$18:$BB$1017),0)","v":0},{"$f":"IFERROR($E149*SUMIF('Daily Log'!$BD$18:$BD$1017,$B149,'Daily Log'!$BE$18:$BE$1017),0)","v":0},{"$f":"IFERROR($E149*SUMIF('Daily Log'!$BG$18:$BG$1017,$B149,'Daily Log'!$BH$18:$BH$1017),0)","v":0},{"$f":"IFERROR($E149*SUMIF('Daily Log'!$BJ$18:$BJ$1017,$B149,'Daily Log'!$BK$18:$BK$1017),0)","v":0},{"$f":"IFERROR($E149*SUMIF('Daily Log'!$BM$18:$BM$1017,$B149,'Daily Log'!$BN$18:$BN$1017),0)","v":0},{"$f":"IFERROR($E149*SUMIF('Daily Log'!$BP$18:$BP$1017,$B149,'Daily Log'!$BQ$18:$BQ$1017),0)","v":0},{"$f":"IFERROR($E149*SUMIF('Daily Log'!$BS$18:$BS$1017,$B149,'Daily Log'!$BT$18:$BT$1017),0)","v":0},{"$f":"IFERROR($E149*SUMIF('Daily Log'!$BV$18:$BV$1017,$B149,'Daily Log'!$BW$18:$BW$1017),0)","v":0},{"$f":"IFERROR($E149*SUMIF('Daily Log'!$BY$18:$BY$1017,$B149,'Daily Log'!$BZ$18:$BZ$1017),0)","v":0},{"$f":"IFERROR($E149*SUMIF('Daily Log'!$CB$18:$CB$1017,$B149,'Daily Log'!$CC$18:$CC$1017),0)","v":0},{"$f":"IFERROR($E149*SUMIF('Daily Log'!$CE$18:$CE$1017,$B149,'Daily Log'!$CF$18:$CF$1017),0)","v":0},{"$f":"IFERROR($E149*SUMIF('Daily Log'!$CH$18:$CH$1017,$B149,'Daily Log'!$CI$18:$CI$1017),0)","v":0},{"$f":"IFERROR($E149*SUMIF('Daily Log'!$CK$18:$CK$1017,$B149,'Daily Log'!$CL$18:$CL$1017),0)","v":0},{"$f":"IFERROR($E149*SUMIF('Daily Log'!$CN$18:$CN$1017,$B149,'Daily Log'!$CO$18:$CO$1017),0)","v":0}]
[null,"AE22 VVIP ROOM MEM",null,null,null,0,{"$f":"IFERROR($E150*SUMIF('Daily Log'!$B$18:$B$1017,$B150,'Daily Log'!$C$18:$C$1017),0)","v":0},{"$f":"IFERROR($E150*SUMIF('Daily Log'!$E$18:$E$1017,$B150,'Daily Log'!$F$18:$F$1017),0)","v":0},{"$f":"IFERROR($E150*SUMIF('Daily Log'!$H$18:$H$1017,$B150,'Daily Log'!$I$18:$I$1017),0)","v":0},{"$f":"IFERROR($E150*SUMIF('Daily Log'!$K$18:$K$1017,$B150,'Daily Log'!$L$18:$L$1017),0)","v":0},{"$f":"IFERROR($E150*SUMIF('Daily Log'!$N$18:$N$1017,$B150,'Daily Log'!$O$18:$O$1017),0)","v":0},{"$f":"IFERROR($E150*SUMIF('Daily Log'!$Q$18:$Q$1017,$B150,'Daily Log'!$R$18:$R$1017),0)","v":0},{"$f":"IFERROR($E150*SUMIF('Daily Log'!$T$18:$T$1017,$B150,'Daily Log'!$U$18:$U$1017),0)","v":0},{"$f":"IFERROR($E150*SUMIF('Daily Log'!$W$18:$W$1017,$B150,'Daily Log'!$X$18:$X$1017),0)","v":0},{"$f":"IFERROR($E150*SUMIF('Daily Log'!$Z$18:$Z$1017,$B150,'Daily Log'!$AA$18:$AA$1017),0)","v":0},{"$f":"IFERROR($E150*SUMIF('Daily Log'!$AC$18:$AC$1017,$B150,'Daily Log'!$AD$18:$AD$1017),0)","v":0},{"$f":"IFERROR($E150*SUMIF('Daily Log'!$AF$18:$AF$1017,$B150,'Daily Log'!$AG$18:$AG$1017),0)","v":0},{"$f":"IFERROR($E150*SUMIF('Daily Log'!$AI$18:$AI$1017,$B150,'Daily Log'!$AJ$18:$AJ$1017),0)","v":0},{"$f":"IFERROR($E150*SUMIF('Daily Log'!$AL$18:$AL$1017,$B150,'Daily Log'!$AM$18:$AM$1017),0)","v":0},{"$f":"IFERROR($E150*SUMIF('Daily Log'!$AO$18:$AO$1017,$B150,'Daily Log'!$AP$18:$AP$1017),0)","v":0},{"$f":"IFERROR($E150*SUMIF('Daily Log'!$AR$18:$AR$1017,$B150,'Daily Log'!$AS$18:$AS$1017),0)","v":0},{"$f":"IFERROR($E150*SUMIF('Daily Log'!$AU$18:$AU$1017,$B150,'Daily Log'!$AV$18:$AV$1017),0)","v":0},{"$f":"IFERROR($E150*SUMIF('Daily Log'!$AX$18:$AX$1017,$B150,'Daily Log'!$AY$18:$AY$1017),0)","v":0},{"$f":"IFERROR($E150*SUMIF('Daily Log'!$BA$18:$BA$1017,$B150,'Daily Log'!$BB$18:$BB$1017),0)","v":0},{"$f":"IFERROR($E150*SUMIF('Daily Log'!$BD$18:$BD$1017,$B150,'Daily Log'!$BE$18:$BE$1017),0)","v":0},{"$f":"IFERROR($E150*SUMIF('Daily Log'!$BG$18:$BG$1017,$B150,'Daily Log'!$BH$18:$BH$1017),0)","v":0},{"$f":"IFERROR($E150*SUMIF('Daily Log'!$BJ$18:$BJ$1017,$B150,'Daily Log'!$BK$18:$BK$1017),0)","v":0},{"$f":"IFERROR($E150*SUMIF('Daily Log'!$BM$18:$BM$1017,$B150,'Daily Log'!$BN$18:$BN$1017),0)","v":0},{"$f":"IFERROR($E150*SUMIF('Daily Log'!$BP$18:$BP$1017,$B150,'Daily Log'!$BQ$18:$BQ$1017),0)","v":0},{"$f":"IFERROR($E150*SUMIF('Daily Log'!$BS$18:$BS$1017,$B150,'Daily Log'!$BT$18:$BT$1017),0)","v":0},{"$f":"IFERROR($E150*SUMIF('Daily Log'!$BV$18:$BV$1017,$B150,'Daily Log'!$BW$18:$BW$1017),0)","v":0},{"$f":"IFERROR($E150*SUMIF('Daily Log'!$BY$18:$BY$1017,$B150,'Daily Log'!$BZ$18:$BZ$1017),0)","v":0},{"$f":"IFERROR($E150*SUMIF('Daily Log'!$CB$18:$CB$1017,$B150,'Daily Log'!$CC$18:$CC$1017),0)","v":0},{"$f":"IFERROR($E150*SUMIF('Daily Log'!$CE$18:$CE$1017,$B150,'Daily Log'!$CF$18:$CF$1017),0)","v":0},{"$f":"IFERROR($E150*SUMIF('Daily Log'!$CH$18:$CH$1017,$B150,'Daily Log'!$CI$18:$CI$1017),0)","v":0},{"$f":"IFERROR($E150*SUMIF('Daily Log'!$CK$18:$CK$1017,$B150,'Daily Log'!$CL$18:$CL$1017),0)","v":0},{"$f":"IFERROR($E150*SUMIF('Daily Log'!$CN$18:$CN$1017,$B150,'Daily Log'!$CO$18:$CO$1017),0)","v":0}]
[null,"AE23 CNY HEAD CHARGE",null,null,null,0,{"$f":"IFERROR($E151*SUMIF('Daily Log'!$B$18:$B$1017,$B151,'Daily Log'!$C$18:$C$1017),0)","v":0},{"$f":"IFERROR($E151*SUMIF('Daily Log'!$E$18:$E$1017,$B151,'Daily Log'!$F$18:$F$1017),0)","v":0},{"$f":"IFERROR($E151*SUMIF('Daily Log'!$H$18:$H$1017,$B151,'Daily Log'!$I$18:$I$1017),0)","v":0},{"$f":"IFERROR($E151*SUMIF('Daily Log'!$K$18:$K$1017,$B151,'Daily Log'!$L$18:$L$1017),0)","v":0},{"$f":"IFERROR($E151*SUMIF('Daily Log'!$N$18:$N$1017,$B151,'Daily Log'!$O$18:$O$1017),0)","v":0},{"$f":"IFERROR($E151*SUMIF('Daily Log'!$Q$18:$Q$1017,$B151,'Daily Log'!$R$18:$R$1017),0)","v":0},{"$f":"IFERROR($E151*SUMIF('Daily Log'!$T$18:$T$1017,$B151,'Daily Log'!$U$18:$U$1017),0)","v":0},{"$f":"IFERROR($E151*SUMIF('Daily Log'!$W$18:$W$1017,$B151,'Daily Log'!$X$18:$X$1017),0)","v":0},{"$f":"IFERROR($E151*SUMIF('Daily Log'!$Z$18:$Z$1017,$B151,'Daily Log'!$AA$18:$AA$1017),0)","v":0},{"$f":"IFERROR($E151*SUMIF('Daily Log'!$AC$18:$AC$1017,$B151,'Daily Log'!$AD$18:$AD$1017),0)","v":0},{"$f":"IFERROR($E151*SUMIF('Daily Log'!$AF$18:$AF$1017,$B151,'Daily Log'!$AG$18:$AG$1017),0)","v":0},{"$f":"IFERROR($E151*SUMIF('Daily Log'!$AI$18:$AI$1017,$B151,'Daily Log'!$AJ$18:$AJ$1017),0)","v":0},{"$f":"IFERROR($E151*SUMIF('Daily Log'!$AL$18:$AL$1017,$B151,'Daily Log'!$AM$18:$AM$1017),0)","v":0},{"$f":"IFERROR($E151*SUMIF('Daily Log'!$AO$18:$AO$1017,$B151,'Daily Log'!$AP$18:$AP$1017),0)","v":0},{"$f":"IFERROR($E151*SUMIF('Daily Log'!$AR$18:$AR$1017,$B151,'Daily Log'!$AS$18:$AS$1017),0)","v":0},{"$f":"IFERROR($E151*SUMIF('Daily Log'!$AU$18:$AU$1017,$B151,'Daily Log'!$AV$18:$AV$1017),0)","v":0},{"$f":"IFERROR($E151*SUMIF('Daily Log'!$AX$18:$AX$1017,$B151,'Daily Log'!$AY$18:$AY$1017),0)","v":0},{"$f":"IFERROR($E151*SUMIF('Daily Log'!$BA$18:$BA$1017,$B151,'Daily Log'!$BB$18:$BB$1017),0)","v":0},{"$f":"IFERROR($E151*SUMIF('Daily Log'!$BD$18:$BD$1017,$B151,'Daily Log'!$BE$18:$BE$1017),0)","v":0},{"$f":"IFERROR($E151*SUMIF('Daily Log'!$BG$18:$BG$1017,$B151,'Daily Log'!$BH$18:$BH$1017),0)","v":0},{"$f":"IFERROR($E151*SUMIF('Daily Log'!$BJ$18:$BJ$1017,$B151,'Daily Log'!$BK$18:$BK$1017),0)","v":0},{"$f":"IFERROR($E151*SUMIF('Daily Log'!$BM$18:$BM$1017,$B151,'Daily Log'!$BN$18:$BN$1017),0)","v":0},{"$f":"IFERROR($E151*SUMIF('Daily Log'!$BP$18:$BP$1017,$B151,'Daily Log'!$BQ$18:$BQ$1017),0)","v":0},{"$f":"IFERROR($E151*SUMIF('Daily Log'!$BS$18:$BS$1017,$B151,'Daily Log'!$BT$18:$BT$1017),0)","v":0},{"$f":"IFERROR($E151*SUMIF('Daily Log'!$BV$18:$BV$1017,$B151,'Daily Log'!$BW$18:$BW$1017),0)","v":0},{"$f":"IFERROR($E151*SUMIF('Daily Log'!$BY$18:$BY$1017,$B151,'Daily Log'!$BZ$18:$BZ$1017),0)","v":0},{"$f":"IFERROR($E151*SUMIF('Daily Log'!$CB$18:$CB$1017,$B151,'Daily Log'!$CC$18:$CC$1017),0)","v":0},{"$f":"IFERROR($E151*SUMIF('Daily Log'!$CE$18:$CE$1017,$B151,'Daily Log'!$CF$18:$CF$1017),0)","v":0},{"$f":"IFERROR($E151*SUMIF('Daily Log'!$CH$18:$CH$1017,$B151,'Daily Log'!$CI$18:$CI$1017),0)","v":0},{"$f":"IFERROR($E151*SUMIF('Daily Log'!$CK$18:$CK$1017,$B151,'Daily Log'!$CL$18:$CL$1017),0)","v":0},{"$f":"IFERROR($E151*SUMIF('Daily Log'!$CN$18:$CN$1017,$B151,'Daily Log'!$CO$18:$CO$1017),0)","v":0}]
[null,"AE24 CNY HEAD MEM",null,null,null,0,{"$f":"IFERROR($E152*SUMIF('Daily Log'!$B$18:$B$1017,$B152,'Daily Log'!$C$18:$C$1017),0)","v":0},{"$f":"IFERROR($E152*SUMIF('Daily Log'!$E$18:$E$1017,$B152,'Daily Log'!$F$18:$F$1017),0)","v":0},{"$f":"IFERROR($E152*SUMIF('Daily Log'!$H$18:$H$1017,$B152,'Daily Log'!$I$18:$I$1017),0)","v":0},{"$f":"IFERROR($E152*SUMIF('Daily Log'!$K$18:$K$1017,$B152,'Daily Log'!$L$18:$L$1017),0)","v":0},{"$f":"IFERROR($E152*SUMIF('Daily Log'!$N$18:$N$1017,$B152,'Daily Log'!$O$18:$O$1017),0)","v":0},{"$f":"IFERROR($E152*SUMIF('Daily Log'!$Q$18:$Q$1017,$B152,'Daily Log'!$R$18:$R$1017),0)","v":0},{"$f":"IFERROR($E152*SUMIF('Daily Log'!$T$18:$T$1017,$B152,'Daily Log'!$U$18:$U$1017),0)","v":0},{"$f":"IFERROR($E152*SUMIF('Daily Log'!$W$18:$W$1017,$B152,'Daily Log'!$X$18:$X$1017),0)","v":0},{"$f":"IFERROR($E152*SUMIF('Daily Log'!$Z$18:$Z$1017,$B152,'Daily Log'!$AA$18:$AA$1017),0)","v":0},{"$f":"IFERROR($E152*SUMIF('Daily Log'!$AC$18:$AC$1017,$B152,'Daily Log'!$AD$18:$AD$1017),0)","v":0},{"$f":"IFERROR($E152*SUMIF('Daily Log'!$AF$18:$AF$1017,$B152,'Daily Log'!$AG$18:$AG$1017),0)","v":0},{"$f":"IFERROR($E152*SUMIF('Daily Log'!$AI$18:$AI$1017,$B152,'Daily Log'!$AJ$18:$AJ$1017),0)","v":0},{"$f":"IFERROR($E152*SUMIF('Daily Log'!$AL$18:$AL$1017,$B152,'Daily Log'!$AM$18:$AM$1017),0)","v":0},{"$f":"IFERROR($E152*SUMIF('Daily Log'!$AO$18:$AO$1017,$B152,'Daily Log'!$AP$18:$AP$1017),0)","v":0},{"$f":"IFERROR($E152*SUMIF('Daily Log'!$AR$18:$AR$1017,$B152,'Daily Log'!$AS$18:$AS$1017),0)","v":0},{"$f":"IFERROR($E152*SUMIF('Daily Log'!$AU$18:$AU$1017,$B152,'Daily Log'!$AV$18:$AV$1017),0)","v":0},{"$f":"IFERROR($E152*SUMIF('Daily Log'!$AX$18:$AX$1017,$B152,'Daily Log'!$AY$18:$AY$1017),0)","v":0},{"$f":"IFERROR($E152*SUMIF('Daily Log'!$BA$18:$BA$1017,$B152,'Daily Log'!$BB$18:$BB$1017),0)","v":0},{"$f":"IFERROR($E152*SUMIF('Daily Log'!$BD$18:$BD$1017,$B152,'Daily Log'!$BE$18:$BE$1017),0)","v":0},{"$f":"IFERROR($E152*SUMIF('Daily Log'!$BG$18:$BG$1017,$B152,'Daily Log'!$BH$18:$BH$1017),0)","v":0},{"$f":"IFERROR($E152*SUMIF('Daily Log'!$BJ$18:$BJ$1017,$B152,'Daily Log'!$BK$18:$BK$1017),0)","v":0},{"$f":"IFERROR($E152*SUMIF('Daily Log'!$BM$18:$BM$1017,$B152,'Daily Log'!$BN$18:$BN$1017),0)","v":0},{"$f":"IFERROR($E152*SUMIF('Daily Log'!$BP$18:$BP$1017,$B152,'Daily Log'!$BQ$18:$BQ$1017),0)","v":0},{"$f":"IFERROR($E152*SUMIF('Daily Log'!$BS$18:$BS$1017,$B152,'Daily Log'!$BT$18:$BT$1017),0)","v":0},{"$f":"IFERROR($E152*SUMIF('Daily Log'!$BV$18:$BV$1017,$B152,'Daily Log'!$BW$18:$BW$1017),0)","v":0},{"$f":"IFERROR($E152*SUMIF('Daily Log'!$BY$18:$BY$1017,$B152,'Daily Log'!$BZ$18:$BZ$1017),0)","v":0},{"$f":"IFERROR($E152*SUMIF('Daily Log'!$CB$18:$CB$1017,$B152,'Daily Log'!$CC$18:$CC$1017),0)","v":0},{"$f":"IFERROR($E152*SUMIF('Daily Log'!$CE$18:$CE$1017,$B152,'Daily Log'!$CF$18:$CF$1017),0)","v":0},{"$f":"IFERROR($E152*SUMIF('Daily Log'!$CH$18:$CH$1017,$B152,'Daily Log'!$CI$18:$CI$1017),0)","v":0},{"$f":"IFERROR($E152*SUMIF('Daily Log'!$CK$18:$CK$1017,$B152,'Daily Log'!$CL$18:$CL$1017),0)","v":0},{"$f":"IFERROR($E152*SUMIF('Daily Log'!$CN$18:$CN$1017,$B152,'Daily Log'!$CO$18:$CO$1017),0)","v":0}]
[null,"AE25 CNY LUNCH PLATER",null,null,null,0,{"$f":"IFERROR($E153*SUMIF('Daily Log'!$B$18:$B$1017,$B153,'Daily Log'!$C$18:$C$1017),0)","v":0},{"$f":"IFERROR($E153*SUMIF('Daily Log'!$E$18:$E$1017,$B153,'Daily Log'!$F$18:$F$1017),0)","v":0},{"$f":"IFERROR($E153*SUMIF('Daily Log'!$H$18:$H$1017,$B153,'Daily Log'!$I$18:$I$1017),0)","v":0},{"$f":"IFERROR($E153*SUMIF('Daily Log'!$K$18:$K$1017,$B153,'Daily Log'!$L$18:$L$1017),0)","v":0},{"$f":"IFERROR($E153*SUMIF('Daily Log'!$N$18:$N$1017,$B153,'Daily Log'!$O$18:$O$1017),0)","v":0},{"$f":"IFERROR($E153*SUMIF('Daily Log'!$Q$18:$Q$1017,$B153,'Daily Log'!$R$18:$R$1017),0)","v":0},{"$f":"IFERROR($E153*SUMIF('Daily Log'!$T$18:$T$1017,$B153,'Daily Log'!$U$18:$U$1017),0)","v":0},{"$f":"IFERROR($E153*SUMIF('Daily Log'!$W$18:$W$1017,$B153,'Daily Log'!$X$18:$X$1017),0)","v":0},{"$f":"IFERROR($E153*SUMIF('Daily Log'!$Z$18:$Z$1017,$B153,'Daily Log'!$AA$18:$AA$1017),0)","v":0},{"$f":"IFERROR($E153*SUMIF('Daily Log'!$AC$18:$AC$1017,$B153,'Daily Log'!$AD$18:$AD$1017),0)","v":0},{"$f":"IFERROR($E153*SUMIF('Daily Log'!$AF$18:$AF$1017,$B153,'Daily Log'!$AG$18:$AG$1017),0)","v":0},{"$f":"IFERROR($E153*SUMIF('Daily Log'!$AI$18:$AI$1017,$B153,'Daily Log'!$AJ$18:$AJ$1017),0)","v":0},{"$f":"IFERROR($E153*SUMIF('Daily Log'!$AL$18:$AL$1017,$B153,'Daily Log'!$AM$18:$AM$1017),0)","v":0},{"$f":"IFERROR($E153*SUMIF('Daily Log'!$AO$18:$AO$1017,$B153,'Daily Log'!$AP$18:$AP$1017),0)","v":0},{"$f":"IFERROR($E153*SUMIF('Daily Log'!$AR$18:$AR$1017,$B153,'Daily Log'!$AS$18:$AS$1017),0)","v":0},{"$f":"IFERROR($E153*SUMIF('Daily Log'!$AU$18:$AU$1017,$B153,'Daily Log'!$AV$18:$AV$1017),0)","v":0},{"$f":"IFERROR($E153*SUMIF('Daily Log'!$AX$18:$AX$1017,$B153,'Daily Log'!$AY$18:$AY$1017),0)","v":0},{"$f":"IFERROR($E153*SUMIF('Daily Log'!$BA$18:$BA$1017,$B153,'Daily Log'!$BB$18:$BB$1017),0)","v":0},{"$f":"IFERROR($E153*SUMIF('Daily Log'!$BD$18:$BD$1017,$B153,'Daily Log'!$BE$18:$BE$1017),0)","v":0},{"$f":"IFERROR($E153*SUMIF('Daily Log'!$BG$18:$BG$1017,$B153,'Daily Log'!$BH$18:$BH$1017),0)","v":0},{"$f":"IFERROR($E153*SUMIF('Daily Log'!$BJ$18:$BJ$1017,$B153,'Daily Log'!$BK$18:$BK$1017),0)","v":0},{"$f":"IFERROR($E153*SUMIF('Daily Log'!$BM$18:$BM$1017,$B153,'Daily Log'!$BN$18:$BN$1017),0)","v":0},{"$f":"IFERROR($E153*SUMIF('Daily Log'!$BP$18:$BP$1017,$B153,'Daily Log'!$BQ$18:$BQ$1017),0)","v":0},{"$f":"IFERROR($E153*SUMIF('Daily Log'!$BS$18:$BS$1017,$B153,'Daily Log'!$BT$18:$BT$1017),0)","v":0},{"$f":"IFERROR($E153*SUMIF('Daily Log'!$BV$18:$BV$1017,$B153,'Daily Log'!$BW$18:$BW$1017),0)","v":0},{"$f":"IFERROR($E153*SUMIF('Daily Log'!$BY$18:$BY$1017,$B153,'Daily Log'!$BZ$18:$BZ$1017),0)","v":0},{"$f":"IFERROR($E153*SUMIF('Daily Log'!$CB$18:$CB$1017,$B153,'Daily Log'!$CC$18:$CC$1017),0)","v":0},{"$f":"IFERROR($E153*SUMIF('Daily Log'!$CE$18:$CE$1017,$B153,'Daily Log'!$CF$18:$CF$1017),0)","v":0},{"$f":"IFERROR($E153*SUMIF('Daily Log'!$CH$18:$CH$1017,$B153,'Daily Log'!$CI$18:$CI$1017),0)","v":0},{"$f":"IFERROR($E153*SUMIF('Daily Log'!$CK$18:$CK$1017,$B153,'Daily Log'!$CL$18:$CL$1017),0)","v":0},{"$f":"IFERROR($E153*SUMIF('Daily Log'!$CN$18:$CN$1017,$B153,'Daily Log'!$CO$18:$CO$1017),0)","v":0}]
[null,"AE26 CNY BEER PLATER",null,null,null,0,{"$f":"IFERROR($E154*SUMIF('Daily Log'!$B$18:$B$1017,$B154,'Daily Log'!$C$18:$C$1017),0)","v":0},{"$f":"IFERROR($E154*SUMIF('Daily Log'!$E$18:$E$1017,$B154,'Daily Log'!$F$18:$F$1017),0)","v":0},{"$f":"IFERROR($E154*SUMIF('Daily Log'!$H$18:$H$1017,$B154,'Daily Log'!$I$18:$I$1017),0)","v":0},{"$f":"IFERROR($E154*SUMIF('Daily Log'!$K$18:$K$1017,$B154,'Daily Log'!$L$18:$L$1017),0)","v":0},{"$f":"IFERROR($E154*SUMIF('Daily Log'!$N$18:$N$1017,$B154,'Daily Log'!$O$18:$O$1017),0)","v":0},{"$f":"IFERROR($E154*SUMIF('Daily Log'!$Q$18:$Q$1017,$B154,'Daily Log'!$R$18:$R$1017),0)","v":0},{"$f":"IFERROR($E154*SUMIF('Daily Log'!$T$18:$T$1017,$B154,'Daily Log'!$U$18:$U$1017),0)","v":0},{"$f":"IFERROR($E154*SUMIF('Daily Log'!$W$18:$W$1017,$B154,'Daily Log'!$X$18:$X$1017),0)","v":0},{"$f":"IFERROR($E154*SUMIF('Daily Log'!$Z$18:$Z$1017,$B154,'Daily Log'!$AA$18:$AA$1017),0)","v":0},{"$f":"IFERROR($E154*SUMIF('Daily Log'!$AC$18:$AC$1017,$B154,'Daily Log'!$AD$18:$AD$1017),0)","v":0},{"$f":"IFERROR($E154*SUMIF('Daily Log'!$AF$18:$AF$1017,$B154,'Daily Log'!$AG$18:$AG$1017),0)","v":0},{"$f":"IFERROR($E154*SUMIF('Daily Log'!$AI$18:$AI$1017,$B154,'Daily Log'!$AJ$18:$AJ$1017),0)","v":0},{"$f":"IFERROR($E154*SUMIF('Daily Log'!$AL$18:$AL$1017,$B154,'Daily Log'!$AM$18:$AM$1017),0)","v":0},{"$f":"IFERROR($E154*SUMIF('Daily Log'!$AO$18:$AO$1017,$B154,'Daily Log'!$AP$18:$AP$1017),0)","v":0},{"$f":"IFERROR($E154*SUMIF('Daily Log'!$AR$18:$AR$1017,$B154,'Daily Log'!$AS$18:$AS$1017),0)","v":0},{"$f":"IFERROR($E154*SUMIF('Daily Log'!$AU$18:$AU$1017,$B154,'Daily Log'!$AV$18:$AV$1017),0)","v":0},{"$f":"IFERROR($E154*SUMIF('Daily Log'!$AX$18:$AX$1017,$B154,'Daily Log'!$AY$18:$AY$1017),0)","v":0},{"$f":"IFERROR($E154*SUMIF('Daily Log'!$BA$18:$BA$1017,$B154,'Daily Log'!$BB$18:$BB$1017),0)","v":0},{"$f":"IFERROR($E154*SUMIF('Daily Log'!$BD$18:$BD$1017,$B154,'Daily Log'!$BE$18:$BE$1017),0)","v":0},{"$f":"IFERROR($E154*SUMIF('Daily Log'!$BG$18:$BG$1017,$B154,'Daily Log'!$BH$18:$BH$1017),0)","v":0},{"$f":"IFERROR($E154*SUMIF('Daily Log'!$BJ$18:$BJ$1017,$B154,'Daily Log'!$BK$18:$BK$1017),0)","v":0},{"$f":"IFERROR($E154*SUMIF('Daily Log'!$BM$18:$BM$1017,$B154,'Daily Log'!$BN$18:$BN$1017),0)","v":0},{"$f":"IFERROR($E154*SUMIF('Daily Log'!$BP$18:$BP$1017,$B154,'Daily Log'!$BQ$18:$BQ$1017),0)","v":0},{"$f":"IFERROR($E154*SUMIF('Daily Log'!$BS$18:$BS$1017,$B154,'Daily Log'!$BT$18:$BT$1017),0)","v":0},{"$f":"IFERROR($E154*SUMIF('Daily Log'!$BV$18:$BV$1017,$B154,'Daily Log'!$BW$18:$BW$1017),0)","v":0},{"$f":"IFERROR($E154*SUMIF('Daily Log'!$BY$18:$BY$1017,$B154,'Daily Log'!$BZ$18:$BZ$1017),0)","v":0},{"$f":"IFERROR($E154*SUMIF('Daily Log'!$CB$18:$CB$1017,$B154,'Daily Log'!$CC$18:$CC$1017),0)","v":0},{"$f":"IFERROR($E154*SUMIF('Daily Log'!$CE$18:$CE$1017,$B154,'Daily Log'!$CF$18:$CF$1017),0)","v":0},{"$f":"IFERROR($E154*SUMIF('Daily Log'!$CH$18:$CH$1017,$B154,'Daily Log'!$CI$18:$CI$1017),0)","v":0},{"$f":"IFERROR($E154*SUMIF('Daily Log'!$CK$18:$CK$1017,$B154,'Daily Log'!$CL$18:$CL$1017),0)","v":0},{"$f":"IFERROR($E154*SUMIF('Daily Log'!$CN$18:$CN$1017,$B154,'Daily Log'!$CO$18:$CO$1017),0)","v":0}]
[null,"AE28 S. XTD ROOM",null,null,null,0,{"$f":"IFERROR($E155*SUMIF('Daily Log'!$B$18:$B$1017,$B155,'Daily Log'!$C$18:$C$1017),0)","v":0},{"$f":"IFERROR($E155*SUMIF('Daily Log'!$E$18:$E$1017,$B155,'Daily Log'!$F$18:$F$1017),0)","v":0},{"$f":"IFERROR($E155*SUMIF('Daily Log'!$H$18:$H$1017,$B155,'Daily Log'!$I$18:$I$1017),0)","v":0},{"$f":"IFERROR($E155*SUMIF('Daily Log'!$K$18:$K$1017,$B155,'Daily Log'!$L$18:$L$1017),0)","v":0},{"$f":"IFERROR($E155*SUMIF('Daily Log'!$N$18:$N$1017,$B155,'Daily Log'!$O$18:$O$1017),0)","v":0},{"$f":"IFERROR($E155*SUMIF('Daily Log'!$Q$18:$Q$1017,$B155,'Daily Log'!$R$18:$R$1017),0)","v":0},{"$f":"IFERROR($E155*SUMIF('Daily Log'!$T$18:$T$1017,$B155,'Daily Log'!$U$18:$U$1017),0)","v":0},{"$f":"IFERROR($E155*SUMIF('Daily Log'!$W$18:$W$1017,$B155,'Daily Log'!$X$18:$X$1017),0)","v":0},{"$f":"IFERROR($E155*SUMIF('Daily Log'!$Z$18:$Z$1017,$B155,'Daily Log'!$AA$18:$AA$1017),0)","v":0},{"$f":"IFERROR($E155*SUMIF('Daily Log'!$AC$18:$AC$1017,$B155,'Daily Log'!$AD$18:$AD$1017),0)","v":0},{"$f":"IFERROR($E155*SUMIF('Daily Log'!$AF$18:$AF$1017,$B155,'Daily Log'!$AG$18:$AG$1017),0)","v":0},{"$f":"IFERROR($E155*SUMIF('Daily Log'!$AI$18:$AI$1017,$B155,'Daily Log'!$AJ$18:$AJ$1017),0)","v":0},{"$f":"IFERROR($E155*SUMIF('Daily Log'!$AL$18:$AL$1017,$B155,'Daily Log'!$AM$18:$AM$1017),0)","v":0},{"$f":"IFERROR($E155*SUMIF('Daily Log'!$AO$18:$AO$1017,$B155,'Daily Log'!$AP$18:$AP$1017),0)","v":0},{"$f":"IFERROR($E155*SUMIF('Daily Log'!$AR$18:$AR$1017,$B155,'Daily Log'!$AS$18:$AS$1017),0)","v":0},{"$f":"IFERROR($E155*SUMIF('Daily Log'!$AU$18:$AU$1017,$B155,'Daily Log'!$AV$18:$AV$1017),0)","v":0},{"$f":"IFERROR($E155*SUMIF('Daily Log'!$AX$18:$AX$1017,$B155,'Daily Log'!$AY$18:$AY$1017),0)","v":0},{"$f":"IFERROR($E155*SUMIF('Daily Log'!$BA$18:$BA$1017,$B155,'Daily Log'!$BB$18:$BB$1017),0)","v":0},{"$f":"IFERROR($E155*SUMIF('Daily Log'!$BD$18:$BD$1017,$B155,'Daily Log'!$BE$18:$BE$1017),0)","v":0},{"$f":"IFERROR($E155*SUMIF('Daily Log'!$BG$18:$BG$1017,$B155,'Daily Log'!$BH$18:$BH$1017),0)","v":0},{"$f":"IFERROR($E155*SUMIF('Daily Log'!$BJ$18:$BJ$1017,$B155,'Daily Log'!$BK$18:$BK$1017),0)","v":0},{"$f":"IFERROR($E155*SUMIF('Daily Log'!$BM$18:$BM$1017,$B155,'Daily Log'!$BN$18:$BN$1017),0)","v":0},{"$f":"IFERROR($E155*SUMIF('Daily Log'!$BP$18:$BP$1017,$B155,'Daily Log'!$BQ$18:$BQ$1017),0)","v":0},{"$f":"IFERROR($E155*SUMIF('Daily Log'!$BS$18:$BS$1017,$B155,'Daily Log'!$BT$18:$BT$1017),0)","v":0},{"$f":"IFERROR($E155*SUMIF('Daily Log'!$BV$18:$BV$1017,$B155,'Daily Log'!$BW$18:$BW$1017),0)","v":0},{"$f":"IFERROR($E155*SUMIF('Daily Log'!$BY$18:$BY$1017,$B155,'Daily Log'!$BZ$18:$BZ$1017),0)","v":0},{"$f":"IFERROR($E155*SUMIF('Daily Log'!$CB$18:$CB$1017,$B155,'Daily Log'!$CC$18:$CC$1017),0)","v":0},{"$f":"IFERROR($E155*SUMIF('Daily Log'!$CE$18:$CE$1017,$B155,'Daily Log'!$CF$18:$CF$1017),0)","v":0},{"$f":"IFERROR($E155*SUMIF('Daily Log'!$CH$18:$CH$1017,$B155,'Daily Log'!$CI$18:$CI$1017),0)","v":0},{"$f":"IFERROR($E155*SUMIF('Daily Log'!$CK$18:$CK$1017,$B155,'Daily Log'!$CL$18:$CL$1017),0)","v":0},{"$f":"IFERROR($E155*SUMIF('Daily Log'!$CN$18:$CN$1017,$B155,'Daily Log'!$CO$18:$CO$1017),0)","v":0}]
[null,"AE29 M. XTD ROOM",null,null,null,0,{"$f":"IFERROR($E156*SUMIF('Daily Log'!$B$18:$B$1017,$B156,'Daily Log'!$C$18:$C$1017),0)","v":0},{"$f":"IFERROR($E156*SUMIF('Daily Log'!$E$18:$E$1017,$B156,'Daily Log'!$F$18:$F$1017),0)","v":0},{"$f":"IFERROR($E156*SUMIF('Daily Log'!$H$18:$H$1017,$B156,'Daily Log'!$I$18:$I$1017),0)","v":0},{"$f":"IFERROR($E156*SUMIF('Daily Log'!$K$18:$K$1017,$B156,'Daily Log'!$L$18:$L$1017),0)","v":0},{"$f":"IFERROR($E156*SUMIF('Daily Log'!$N$18:$N$1017,$B156,'Daily Log'!$O$18:$O$1017),0)","v":0},{"$f":"IFERROR($E156*SUMIF('Daily Log'!$Q$18:$Q$1017,$B156,'Daily Log'!$R$18:$R$1017),0)","v":0},{"$f":"IFERROR($E156*SUMIF('Daily Log'!$T$18:$T$1017,$B156,'Daily Log'!$U$18:$U$1017),0)","v":0},{"$f":"IFERROR($E156*SUMIF('Daily Log'!$W$18:$W$1017,$B156,'Daily Log'!$X$18:$X$1017),0)","v":0},{"$f":"IFERROR($E156*SUMIF('Daily Log'!$Z$18:$Z$1017,$B156,'Daily Log'!$AA$18:$AA$1017),0)","v":0},{"$f":"IFERROR($E156*SUMIF('Daily Log'!$AC$18:$AC$1017,$B156,'Daily Log'!$AD$18:$AD$1017),0)","v":0},{"$f":"IFERROR($E156*SUMIF('Daily Log'!$AF$18:$AF$1017,$B156,'Daily Log'!$AG$18:$AG$1017),0)","v":0},{"$f":"IFERROR($E156*SUMIF('Daily Log'!$AI$18:$AI$1017,$B156,'Daily Log'!$AJ$18:$AJ$1017),0)","v":0},{"$f":"IFERROR($E156*SUMIF('Daily Log'!$AL$18:$AL$1017,$B156,'Daily Log'!$AM$18:$AM$1017),0)","v":0},{"$f":"IFERROR($E156*SUMIF('Daily Log'!$AO$18:$AO$1017,$B156,'Daily Log'!$AP$18:$AP$1017),0)","v":0},{"$f":"IFERROR($E156*SUMIF('Daily Log'!$AR$18:$AR$1017,$B156,'Daily Log'!$AS$18:$AS$1017),0)","v":0},{"$f":"IFERROR($E156*SUMIF('Daily Log'!$AU$18:$AU$1017,$B156,'Daily Log'!$AV$18:$AV$1017),0)","v":0},{"$f":"IFERROR($E156*SUMIF('Daily Log'!$AX$18:$AX$1017,$B156,'Daily Log'!$AY$18:$AY$1017),0)","v":0},{"$f":"IFERROR($E156*SUMIF('Daily Log'!$BA$18:$BA$1017,$B156,'Daily Log'!$BB$18:$BB$1017),0)","v":0},{"$f":"IFERROR($E156*SUMIF('Daily Log'!$BD$18:$BD$1017,$B156,'Daily Log'!$BE$18:$BE$1017),0)","v":0},{"$f":"IFERROR($E156*SUMIF('Daily Log'!$BG$18:$BG$1017,$B156,'Daily Log'!$BH$18:$BH$1017),0)","v":0},{"$f":"IFERROR($E156*SUMIF('Daily Log'!$BJ$18:$BJ$1017,$B156,'Daily Log'!$BK$18:$BK$1017),0)","v":0},{"$f":"IFERROR($E156*SUMIF('Daily Log'!$BM$18:$BM$1017,$B156,'Daily Log'!$BN$18:$BN$1017),0)","v":0},{"$f":"IFERROR($E156*SUMIF('Daily Log'!$BP$18:$BP$1017,$B156,'Daily Log'!$BQ$18:$BQ$1017),0)","v":0},{"$f":"IFERROR($E156*SUMIF('Daily Log'!$BS$18:$BS$1017,$B156,'Daily Log'!$BT$18:$BT$1017),0)","v":0},{"$f":"IFERROR($E156*SUMIF('Daily Log'!$BV$18:$BV$1017,$B156,'Daily Log'!$BW$18:$BW$1017),0)","v":0},{"$f":"IFERROR($E156*SUMIF('Daily Log'!$BY$18:$BY$1017,$B156,'Daily Log'!$BZ$18:$BZ$1017),0)","v":0},{"$f":"IFERROR($E156*SUMIF('Daily Log'!$CB$18:$CB$1017,$B156,'Daily Log'!$CC$18:$CC$1017),0)","v":0},{"$f":"IFERROR($E156*SUMIF('Daily Log'!$CE$18:$CE$1017,$B156,'Daily Log'!$CF$18:$CF$1017),0)","v":0},{"$f":"IFERROR($E156*SUMIF('Daily Log'!$CH$18:$CH$1017,$B156,'Daily Log'!$CI$18:$CI$1017),0)","v":0},{"$f":"IFERROR($E156*SUMIF('Daily Log'!$CK$18:$CK$1017,$B156,'Daily Log'!$CL$18:$CL$1017),0)","v":0},{"$f":"IFERROR($E156*SUMIF('Daily Log'!$CN$18:$CN$1017,$B156,'Daily Log'!$CO$18:$CO$1017),0)","v":0}]
[null,"AE30 M.BIG XTD ROOM",null,null,null,0,{"$f":"IFERROR($E157*SUMIF('Daily Log'!$B$18:$B$1017,$B157,'Daily Log'!$C$18:$C$1017),0)","v":0},{"$f":"IFERROR($E157*SUMIF('Daily Log'!$E$18:$E$1017,$B157,'Daily Log'!$F$18:$F$1017),0)","v":0},{"$f":"IFERROR($E157*SUMIF('Daily Log'!$H$18:$H$1017,$B157,'Daily Log'!$I$18:$I$1017),0)","v":0},{"$f":"IFERROR($E157*SUMIF('Daily Log'!$K$18:$K$1017,$B157,'Daily Log'!$L$18:$L$1017),0)","v":0},{"$f":"IFERROR($E157*SUMIF('Daily Log'!$N$18:$N$1017,$B157,'Daily Log'!$O$18:$O$1017),0)","v":0},{"$f":"IFERROR($E157*SUMIF('Daily Log'!$Q$18:$Q$1017,$B157,'Daily Log'!$R$18:$R$1017),0)","v":0},{"$f":"IFERROR($E157*SUMIF('Daily Log'!$T$18:$T$1017,$B157,'Daily Log'!$U$18:$U$1017),0)","v":0},{"$f":"IFERROR($E157*SUMIF('Daily Log'!$W$18:$W$1017,$B157,'Daily Log'!$X$18:$X$1017),0)","v":0},{"$f":"IFERROR($E157*SUMIF('Daily Log'!$Z$18:$Z$1017,$B157,'Daily Log'!$AA$18:$AA$1017),0)","v":0},{"$f":"IFERROR($E157*SUMIF('Daily Log'!$AC$18:$AC$1017,$B157,'Daily Log'!$AD$18:$AD$1017),0)","v":0},{"$f":"IFERROR($E157*SUMIF('Daily Log'!$AF$18:$AF$1017,$B157,'Daily Log'!$AG$18:$AG$1017),0)","v":0},{"$f":"IFERROR($E157*SUMIF('Daily Log'!$AI$18:$AI$1017,$B157,'Daily Log'!$AJ$18:$AJ$1017),0)","v":0},{"$f":"IFERROR($E157*SUMIF('Daily Log'!$AL$18:$AL$1017,$B157,'Daily Log'!$AM$18:$AM$1017),0)","v":0},{"$f":"IFERROR($E157*SUMIF('Daily Log'!$AO$18:$AO$1017,$B157,'Daily Log'!$AP$18:$AP$1017),0)","v":0},{"$f":"IFERROR($E157*SUMIF('Daily Log'!$AR$18:$AR$1017,$B157,'Daily Log'!$AS$18:$AS$1017),0)","v":0},{"$f":"IFERROR($E157*SUMIF('Daily Log'!$AU$18:$AU$1017,$B157,'Daily Log'!$AV$18:$AV$1017),0)","v":0},{"$f":"IFERROR($E157*SUMIF('Daily Log'!$AX$18:$AX$1017,$B157,'Daily Log'!$AY$18:$AY$1017),0)","v":0},{"$f":"IFERROR($E157*SUMIF('Daily Log'!$BA$18:$BA$1017,$B157,'Daily Log'!$BB$18:$BB$1017),0)","v":0},{"$f":"IFERROR($E157*SUMIF('Daily Log'!$BD$18:$BD$1017,$B157,'Daily Log'!$BE$18:$BE$1017),0)","v":0},{"$f":"IFERROR($E157*SUMIF('Daily Log'!$BG$18:$BG$1017,$B157,'Daily Log'!$BH$18:$BH$1017),0)","v":0},{"$f":"IFERROR($E157*SUMIF('Daily Log'!$BJ$18:$BJ$1017,$B157,'Daily Log'!$BK$18:$BK$1017),0)","v":0},{"$f":"IFERROR($E157*SUMIF('Daily Log'!$BM$18:$BM$1017,$B157,'Daily Log'!$BN$18:$BN$1017),0)","v":0},{"$f":"IFERROR($E157*SUMIF('Daily Log'!$BP$18:$BP$1017,$B157,'Daily Log'!$BQ$18:$BQ$1017),0)","v":0},{"$f":"IFERROR($E157*SUMIF('Daily Log'!$BS$18:$BS$1017,$B157,'Daily Log'!$BT$18:$BT$1017),0)","v":0},{"$f":"IFERROR($E157*SUMIF('Daily Log'!$BV$18:$BV$1017,$B157,'Daily Log'!$BW$18:$BW$1017),0)","v":0},{"$f":"IFERROR($E157*SUMIF('Daily Log'!$BY$18:$BY$1017,$B157,'Daily Log'!$BZ$18:$BZ$1017),0)","v":0},{"$f":"IFERROR($E157*SUMIF('Daily Log'!$CB$18:$CB$1017,$B157,'Daily Log'!$CC$18:$CC$1017),0)","v":0},{"$f":"IFERROR($E157*SUMIF('Daily Log'!$CE$18:$CE$1017,$B157,'Daily Log'!$CF$18:$CF$1017),0)","v":0},{"$f":"IFERROR($E157*SUMIF('Daily Log'!$CH$18:$CH$1017,$B157,'Daily Log'!$CI$18:$CI$1017),0)","v":0},{"$f":"IFERROR($E157*SUMIF('Daily Log'!$CK$18:$CK$1017,$B157,'Daily Log'!$CL$18:$CL$1017),0)","v":0},{"$f":"IFERROR($E157*SUMIF('Daily Log'!$CN$18:$CN$1017,$B157,'Daily Log'!$CO$18:$CO$1017),0)","v":0}]
[null,"AE31 BIG XTD ROOM",null,null,null,{"$f":"SUM($G158:$AK158)","v":0},{"$f":"IFERROR($E158*SUMIF('Daily Log'!$B$18:$B$1017,$B158,'Daily Log'!$C$18:$C$1017),0)","v":0},{"$f":"IFERROR($E158*SUMIF('Daily Log'!$E$18:$E$1017,$B158,'Daily Log'!$F$18:$F$1017),0)","v":0},{"$f":"IFERROR($E158*SUMIF('Daily Log'!$H$18:$H$1017,$B158,'Daily Log'!$I$18:$I$1017),0)","v":0},{"$f":"IFERROR($E158*SUMIF('Daily Log'!$K$18:$K$1017,$B158,'Daily Log'!$L$18:$L$1017),0)","v":0},{"$f":"IFERROR($E158*SUMIF('Daily Log'!$N$18:$N$1017,$B158,'Daily Log'!$O$18:$O$1017),0)","v":0},{"$f":"IFERROR($E158*SUMIF('Daily Log'!$Q$18:$Q$1017,$B158,'Daily Log'!$R$18:$R$1017),0)","v":0},{"$f":"IFERROR($E158*SUMIF('Daily Log'!$T$18:$T$1017,$B158,'Daily Log'!$U$18:$U$1017),0)","v":0},{"$f":"IFERROR($E158*SUMIF('Daily Log'!$W$18:$W$1017,$B158,'Daily Log'!$X$18:$X$1017),0)","v":0},{"$f":"IFERROR($E158*SUMIF('Daily Log'!$Z$18:$Z$1017,$B158,'Daily Log'!$AA$18:$AA$1017),0)","v":0},{"$f":"IFERROR($E158*SUMIF('Daily Log'!$AC$18:$AC$1017,$B158,'Daily Log'!$AD$18:$AD$1017),0)","v":0},{"$f":"IFERROR($E158*SUMIF('Daily Log'!$AF$18:$AF$1017,$B158,'Daily Log'!$AG$18:$AG$1017),0)","v":0},{"$f":"IFERROR($E158*SUMIF('Daily Log'!$AI$18:$AI$1017,$B158,'Daily Log'!$AJ$18:$AJ$1017),0)","v":0},{"$f":"IFERROR($E158*SUMIF('Daily Log'!$AL$18:$AL$1017,$B158,'Daily Log'!$AM$18:$AM$1017),0)","v":0},{"$f":"IFERROR($E158*SUMIF('Daily Log'!$AO$18:$AO$1017,$B158,'Daily Log'!$AP$18:$AP$1017),0)","v":0},{"$f":"IFERROR($E158*SUMIF('Daily Log'!$AR$18:$AR$1017,$B158,'Daily Log'!$AS$18:$AS$1017),0)","v":0},{"$f":"IFERROR($E158*SUMIF('Daily Log'!$AU$18:$AU$1017,$B158,'Daily Log'!$AV$18:$AV$1017),0)","v":0},{"$f":"IFERROR($E158*SUMIF('Daily Log'!$AX$18:$AX$1017,$B158,'Daily Log'!$AY$18:$AY$1017),0)","v":0},{"$f":"IFERROR($E158*SUMIF('Daily Log'!$BA$18:$BA$1017,$B158,'Daily Log'!$BB$18:$BB$1017),0)","v":0},{"$f":"IFERROR($E158*SUMIF('Daily Log'!$BD$18:$BD$1017,$B158,'Daily Log'!$BE$18:$BE$1017),0)","v":0},{"$f":"IFERROR($E158*SUMIF('Daily Log'!$BG$18:$BG$1017,$B158,'Daily Log'!$BH$18:$BH$1017),0)","v":0},{"$f":"IFERROR($E158*SUMIF('Daily Log'!$BJ$18:$BJ$1017,$B158,'Daily Log'!$BK$18:$BK$1017),0)","v":0},{"$f":"IFERROR($E158*SUMIF('Daily Log'!$BM$18:$BM$1017,$B158,'Daily Log'!$BN$18:$BN$1017),0)","v":0},{"$f":"IFERROR($E158*SUMIF('Daily Log'!$BP$18:$BP$1017,$B158,'Daily Log'!$BQ$18:$BQ$1017),0)","v":0},{"$f":"IFERROR($E158*SUMIF('Daily Log'!$BS$18:$BS$1017,$B158,'Daily Log'!$BT$18:$BT$1017),0)","v":0},{"$f":"IFERROR($E158*SUMIF('Daily Log'!$BV$18:$BV$1017,$B158,'Daily Log'!$BW$18:$BW$1017),0)","v":0},{"$f":"IFERROR($E158*SUMIF('Daily Log'!$BY$18:$BY$1017,$B158,'Daily Log'!$BZ$18:$BZ$1017),0)","v":0},{"$f":"IFERROR($E158*SUMIF('Daily Log'!$CB$18:$CB$1017,$B158,'Daily Log'!$CC$18:$CC$1017),0)","v":0},{"$f":"IFERROR($E158*SUMIF('Daily Log'!$CE$18:$CE$1017,$B158,'Daily Log'!$CF$18:$CF$1017),0)","v":0},{"$f":"IFERROR($E158*SUMIF('Daily Log'!$CH$18:$CH$1017,$B158,'Daily Log'!$CI$18:$CI$1017),0)","v":0},{"$f":"IFERROR($E158*SUMIF('Daily Log'!$CK$18:$CK$1017,$B158,'Daily Log'!$CL$18:$CL$1017),0)","v":0},{"$f":"IFERROR($E158*SUMIF('Daily Log'!$CN$18:$CN$1017,$B158,'Daily Log'!$CO$18:$CO$1017),0)","v":0}]
[null,"AE32 VIP XTD ROOM",null,null,null,0,{"$f":"IFERROR($E159*SUMIF('Daily Log'!$B$18:$B$1017,$B159,'Daily Log'!$C$18:$C$1017),0)","v":0},{"$f":"IFERROR($E159*SUMIF('Daily Log'!$E$18:$E$1017,$B159,'Daily Log'!$F$18:$F$1017),0)","v":0},{"$f":"IFERROR($E159*SUMIF('Daily Log'!$H$18:$H$1017,$B159,'Daily Log'!$I$18:$I$1017),0)","v":0},{"$f":"IFERROR($E159*SUMIF('Daily Log'!$K$18:$K$1017,$B159,'Daily Log'!$L$18:$L$1017),0)","v":0},{"$f":"IFERROR($E159*SUMIF('Daily Log'!$N$18:$N$1017,$B159,'Daily Log'!$O$18:$O$1017),0)","v":0},{"$f":"IFERROR($E159*SUMIF('Daily Log'!$Q$18:$Q$1017,$B159,'Daily Log'!$R$18:$R$1017),0)","v":0},{"$f":"IFERROR($E159*SUMIF('Daily Log'!$T$18:$T$1017,$B159,'Daily Log'!$U$18:$U$1017),0)","v":0},{"$f":"IFERROR($E159*SUMIF('Daily Log'!$W$18:$W$1017,$B159,'Daily Log'!$X$18:$X$1017),0)","v":0},{"$f":"IFERROR($E159*SUMIF('Daily Log'!$Z$18:$Z$1017,$B159,'Daily Log'!$AA$18:$AA$1017),0)","v":0},{"$f":"IFERROR($E159*SUMIF('Daily Log'!$AC$18:$AC$1017,$B159,'Daily Log'!$AD$18:$AD$1017),0)","v":0},{"$f":"IFERROR($E159*SUMIF('Daily Log'!$AF$18:$AF$1017,$B159,'Daily Log'!$AG$18:$AG$1017),0)","v":0},{"$f":"IFERROR($E159*SUMIF('Daily Log'!$AI$18:$AI$1017,$B159,'Daily Log'!$AJ$18:$AJ$1017),0)","v":0},{"$f":"IFERROR($E159*SUMIF('Daily Log'!$AL$18:$AL$1017,$B159,'Daily Log'!$AM$18:$AM$1017),0)","v":0},{"$f":"IFERROR($E159*SUMIF('Daily Log'!$AO$18:$AO$1017,$B159,'Daily Log'!$AP$18:$AP$1017),0)","v":0},{"$f":"IFERROR($E159*SUMIF('Daily Log'!$AR$18:$AR$1017,$B159,'Daily Log'!$AS$18:$AS$1017),0)","v":0},{"$f":"IFERROR($E159*SUMIF('Daily Log'!$AU$18:$AU$1017,$B159,'Daily Log'!$AV$18:$AV$1017),0)","v":0},{"$f":"IFERROR($E159*SUMIF('Daily Log'!$AX$18:$AX$1017,$B159,'Daily Log'!$AY$18:$AY$1017),0)","v":0},{"$f":"IFERROR($E159*SUMIF('Daily Log'!$BA$18:$BA$1017,$B159,'Daily Log'!$BB$18:$BB$1017),0)","v":0},{"$f":"IFERROR($E159*SUMIF('Daily Log'!$BD$18:$BD$1017,$B159,'Daily Log'!$BE$18:$BE$1017),0)","v":0},{"$f":"IFERROR($E159*SUMIF('Daily Log'!$BG$18:$BG$1017,$B159,'Daily Log'!$BH$18:$BH$1017),0)","v":0},{"$f":"IFERROR($E159*SUMIF('Daily Log'!$BJ$18:$BJ$1017,$B159,'Daily Log'!$BK$18:$BK$1017),0)","v":0},{"$f":"IFERROR($E159*SUMIF('Daily Log'!$BM$18:$BM$1017,$B159,'Daily Log'!$BN$18:$BN$1017),0)","v":0},{"$f":"IFERROR($E159*SUMIF('Daily Log'!$BP$18:$BP$1017,$B159,'Daily Log'!$BQ$18:$BQ$1017),0)","v":0},{"$f":"IFERROR($E159*SUMIF('Daily Log'!$BS$18:$BS$1017,$B159,'Daily Log'!$BT$18:$BT$1017),0)","v":0},{"$f":"IFERROR($E159*SUMIF('Daily Log'!$BV$18:$BV$1017,$B159,'Daily Log'!$BW$18:$BW$1017),0)","v":0},{"$f":"IFERROR($E159*SUMIF('Daily Log'!$BY$18:$BY$1017,$B159,'Daily Log'!$BZ$18:$BZ$1017),0)","v":0},{"$f":"IFERROR($E159*SUMIF('Daily Log'!$CB$18:$CB$1017,$B159,'Daily Log'!$CC$18:$CC$1017),0)","v":0},{"$f":"IFERROR($E159*SUMIF('Daily Log'!$CE$18:$CE$1017,$B159,'Daily Log'!$CF$18:$CF$1017),0)","v":0},{"$f":"IFERROR($E159*SUMIF('Daily Log'!$CH$18:$CH$1017,$B159,'Daily Log'!$CI$18:$CI$1017),0)","v":0},{"$f":"IFERROR($E159*SUMIF('Daily Log'!$CK$18:$CK$1017,$B159,'Daily Log'!$CL$18:$CL$1017),0)","v":0},{"$f":"IFERROR($E159*SUMIF('Daily Log'!$CN$18:$CN$1017,$B159,'Daily Log'!$CO$18:$CO$1017),0)","v":0}]
[null,"BA01 K : 4BP",null,"BEER",12,0,{"$f":"IFERROR($E160*SUMIF('Daily Log'!$B$18:$B$1017,$B160,'Daily Log'!$C$18:$C$1017),0)","v":0},{"$f":"IFERROR($E160*SUMIF('Daily Log'!$E$18:$E$1017,$B160,'Daily Log'!$F$18:$F$1017),0)","v":0},{"$f":"IFERROR($E160*SUMIF('Daily Log'!$H$18:$H$1017,$B160,'Daily Log'!$I$18:$I$1017),0)","v":0},{"$f":"IFERROR($E160*SUMIF('Daily Log'!$K$18:$K$1017,$B160,'Daily Log'!$L$18:$L$1017),0)","v":0},{"$f":"IFERROR($E160*SUMIF('Daily Log'!$N$18:$N$1017,$B160,'Daily Log'!$O$18:$O$1017),0)","v":0},{"$f":"IFERROR($E160*SUMIF('Daily Log'!$Q$18:$Q$1017,$B160,'Daily Log'!$R$18:$R$1017),0)","v":0},{"$f":"IFERROR($E160*SUMIF('Daily Log'!$T$18:$T$1017,$B160,'Daily Log'!$U$18:$U$1017),0)","v":0},{"$f":"IFERROR($E160*SUMIF('Daily Log'!$W$18:$W$1017,$B160,'Daily Log'!$X$18:$X$1017),0)","v":0},{"$f":"IFERROR($E160*SUMIF('Daily Log'!$Z$18:$Z$1017,$B160,'Daily Log'!$AA$18:$AA$1017),0)","v":0},{"$f":"IFERROR($E160*SUMIF('Daily Log'!$AC$18:$AC$1017,$B160,'Daily Log'!$AD$18:$AD$1017),0)","v":0},{"$f":"IFERROR($E160*SUMIF('Daily Log'!$AF$18:$AF$1017,$B160,'Daily Log'!$AG$18:$AG$1017),0)","v":0},{"$f":"IFERROR($E160*SUMIF('Daily Log'!$AI$18:$AI$1017,$B160,'Daily Log'!$AJ$18:$AJ$1017),0)","v":0},{"$f":"IFERROR($E160*SUMIF('Daily Log'!$AL$18:$AL$1017,$B160,'Daily Log'!$AM$18:$AM$1017),0)","v":0},{"$f":"IFERROR($E160*SUMIF('Daily Log'!$AO$18:$AO$1017,$B160,'Daily Log'!$AP$18:$AP$1017),0)","v":0},{"$f":"IFERROR($E160*SUMIF('Daily Log'!$AR$18:$AR$1017,$B160,'Daily Log'!$AS$18:$AS$1017),0)","v":0},{"$f":"IFERROR($E160*SUMIF('Daily Log'!$AU$18:$AU$1017,$B160,'Daily Log'!$AV$18:$AV$1017),0)","v":0},{"$f":"IFERROR($E160*SUMIF('Daily Log'!$AX$18:$AX$1017,$B160,'Daily Log'!$AY$18:$AY$1017),0)","v":0},{"$f":"IFERROR($E160*SUMIF('Daily Log'!$BA$18:$BA$1017,$B160,'Daily Log'!$BB$18:$BB$1017),0)","v":0},{"$f":"IFERROR($E160*SUMIF('Daily Log'!$BD$18:$BD$1017,$B160,'Daily Log'!$BE$18:$BE$1017),0)","v":0},{"$f":"IFERROR($E160*SUMIF('Daily Log'!$BG$18:$BG$1017,$B160,'Daily Log'!$BH$18:$BH$1017),0)","v":0},{"$f":"IFERROR($E160*SUMIF('Daily Log'!$BJ$18:$BJ$1017,$B160,'Daily Log'!$BK$18:$BK$1017),0)","v":0},{"$f":"IFERROR($E160*SUMIF('Daily Log'!$BM$18:$BM$1017,$B160,'Daily Log'!$BN$18:$BN$1017),0)","v":0},{"$f":"IFERROR($E160*SUMIF('Daily Log'!$BP$18:$BP$1017,$B160,'Daily Log'!$BQ$18:$BQ$1017),0)","v":0},{"$f":"IFERROR($E160*SUMIF('Daily Log'!$BS$18:$BS$1017,$B160,'Daily Log'!$BT$18:$BT$1017),0)","v":0},{"$f":"IFERROR($E160*SUMIF('Daily Log'!$BV$18:$BV$1017,$B160,'Daily Log'!$BW$18:$BW$1017),0)","v":0},{"$f":"IFERROR($E160*SUMIF('Daily Log'!$BY$18:$BY$1017,$B160,'Daily Log'!$BZ$18:$BZ$1017),0)","v":0},{"$f":"IFERROR($E160*SUMIF('Daily Log'!$CB$18:$CB$1017,$B160,'Daily Log'!$CC$18:$CC$1017),0)","v":0},{"$f":"IFERROR($E160*SUMIF('Daily Log'!$CE$18:$CE$1017,$B160,'Daily Log'!$CF$18:$CF$1017),0)","v":0},{"$f":"IFERROR($E160*SUMIF('Daily Log'!$CH$18:$CH$1017,$B160,'Daily Log'!$CI$18:$CI$1017),0)","v":0},{"$f":"IFERROR($E160*SUMIF('Daily Log'!$CK$18:$CK$1017,$B160,'Daily Log'!$CL$18:$CL$1017),0)","v":0},{"$f":"IFERROR($E160*SUMIF('Daily Log'!$CN$18:$CN$1017,$B160,'Daily Log'!$CO$18:$CO$1017),0)","v":0}]
[null,"BA02 H : 4BP",null,"BEER",12,36,{"$f":"IFERROR($E161*SUMIF('Daily Log'!$B$18:$B$1017,$B161,'Daily Log'!$C$18:$C$1017),0)","v":0},{"$f":"IFERROR($E161*SUMIF('Daily Log'!$E$18:$E$1017,$B161,'Daily Log'!$F$18:$F$1017),0)","v":0},{"$f":"IFERROR($E161*SUMIF('Daily Log'!$H$18:$H$1017,$B161,'Daily Log'!$I$18:$I$1017),0)","v":0},{"$f":"IFERROR($E161*SUMIF('Daily Log'!$K$18:$K$1017,$B161,'Daily Log'!$L$18:$L$1017),0)","v":0},{"$f":"IFERROR($E161*SUMIF('Daily Log'!$N$18:$N$1017,$B161,'Daily Log'!$O$18:$O$1017),0)","v":0},{"$f":"IFERROR($E161*SUMIF('Daily Log'!$Q$18:$Q$1017,$B161,'Daily Log'!$R$18:$R$1017),0)","v":0},{"$f":"IFERROR($E161*SUMIF('Daily Log'!$T$18:$T$1017,$B161,'Daily Log'!$U$18:$U$1017),0)","v":0},{"$f":"IFERROR($E161*SUMIF('Daily Log'!$W$18:$W$1017,$B161,'Daily Log'!$X$18:$X$1017),0)","v":0},{"$f":"IFERROR($E161*SUMIF('Daily Log'!$Z$18:$Z$1017,$B161,'Daily Log'!$AA$18:$AA$1017),0)","v":0},{"$f":"IFERROR($E161*SUMIF('Daily Log'!$AC$18:$AC$1017,$B161,'Daily Log'!$AD$18:$AD$1017),0)","v":0},{"$f":"IFERROR($E161*SUMIF('Daily Log'!$AF$18:$AF$1017,$B161,'Daily Log'!$AG$18:$AG$1017),0)","v":0},{"$f":"IFERROR($E161*SUMIF('Daily Log'!$AI$18:$AI$1017,$B161,'Daily Log'!$AJ$18:$AJ$1017),0)","v":0},{"$f":"IFERROR($E161*SUMIF('Daily Log'!$AL$18:$AL$1017,$B161,'Daily Log'!$AM$18:$AM$1017),0)","v":0},{"$f":"IFERROR($E161*SUMIF('Daily Log'!$AO$18:$AO$1017,$B161,'Daily Log'!$AP$18:$AP$1017),0)","v":0},{"$f":"IFERROR($E161*SUMIF('Daily Log'!$AR$18:$AR$1017,$B161,'Daily Log'!$AS$18:$AS$1017),0)","v":0},{"$f":"IFERROR($E161*SUMIF('Daily Log'!$AU$18:$AU$1017,$B161,'Daily Log'!$AV$18:$AV$1017),0)","v":0},{"$f":"IFERROR($E161*SUMIF('Daily Log'!$AX$18:$AX$1017,$B161,'Daily Log'!$AY$18:$AY$1017),0)","v":0},{"$f":"IFERROR($E161*SUMIF('Daily Log'!$BA$18:$BA$1017,$B161,'Daily Log'!$BB$18:$BB$1017),0)","v":0},{"$f":"IFERROR($E161*SUMIF('Daily Log'!$BD$18:$BD$1017,$B161,'Daily Log'!$BE$18:$BE$1017),0)","v":0},{"$f":"IFERROR($E161*SUMIF('Daily Log'!$BG$18:$BG$1017,$B161,'Daily Log'!$BH$18:$BH$1017),0)","v":0},{"$f":"IFERROR($E161*SUMIF('Daily Log'!$BJ$18:$BJ$1017,$B161,'Daily Log'!$BK$18:$BK$1017),0)","v":0},{"$f":"IFERROR($E161*SUMIF('Daily Log'!$BM$18:$BM$1017,$B161,'Daily Log'!$BN$18:$BN$1017),0)","v":0},{"$f":"IFERROR($E161*SUMIF('Daily Log'!$BP$18:$BP$1017,$B161,'Daily Log'!$BQ$18:$BQ$1017),0)","v":0},{"$f":"IFERROR($E161*SUMIF('Daily Log'!$BS$18:$BS$1017,$B161,'Daily Log'!$BT$18:$BT$1017),0)","v":0},{"$f":"IFERROR($E161*SUMIF('Daily Log'!$BV$18:$BV$1017,$B161,'Daily Log'!$BW$18:$BW$1017),0)","v":0},{"$f":"IFERROR($E161*SUMIF('Daily Log'!$BY$18:$BY$1017,$B161,'Daily Log'!$BZ$18:$BZ$1017),0)","v":0},{"$f":"IFERROR($E161*SUMIF('Daily Log'!$CB$18:$CB$1017,$B161,'Daily Log'!$CC$18:$CC$1017),0)","v":0},{"$f":"IFERROR($E161*SUMIF('Daily Log'!$CE$18:$CE$1017,$B161,'Daily Log'!$CF$18:$CF$1017),0)","v":0},{"$f":"IFERROR($E161*SUMIF('Daily Log'!$CH$18:$CH$1017,$B161,'Daily Log'!$CI$18:$CI$1017),0)","v":0},{"$f":"IFERROR($E161*SUMIF('Daily Log'!$CK$18:$CK$1017,$B161,'Daily Log'!$CL$18:$CL$1017),0)","v":36},{"$f":"IFERROR($E161*SUMIF('Daily Log'!$CN$18:$CN$1017,$B161,'Daily Log'!$CO$18:$CO$1017),0)","v":0}]
[null,"BA03 H : 4BP MEMBER",null,"BEER",12,0,{"$f":"IFERROR($E162*SUMIF('Daily Log'!$B$18:$B$1017,$B162,'Daily Log'!$C$18:$C$1017),0)","v":0},{"$f":"IFERROR($E162*SUMIF('Daily Log'!$E$18:$E$1017,$B162,'Daily Log'!$F$18:$F$1017),0)","v":0},{"$f":"IFERROR($E162*SUMIF('Daily Log'!$H$18:$H$1017,$B162,'Daily Log'!$I$18:$I$1017),0)","v":0},{"$f":"IFERROR($E162*SUMIF('Daily Log'!$K$18:$K$1017,$B162,'Daily Log'!$L$18:$L$1017),0)","v":0},{"$f":"IFERROR($E162*SUMIF('Daily Log'!$N$18:$N$1017,$B162,'Daily Log'!$O$18:$O$1017),0)","v":0},{"$f":"IFERROR($E162*SUMIF('Daily Log'!$Q$18:$Q$1017,$B162,'Daily Log'!$R$18:$R$1017),0)","v":0},{"$f":"IFERROR($E162*SUMIF('Daily Log'!$T$18:$T$1017,$B162,'Daily Log'!$U$18:$U$1017),0)","v":0},{"$f":"IFERROR($E162*SUMIF('Daily Log'!$W$18:$W$1017,$B162,'Daily Log'!$X$18:$X$1017),0)","v":0},{"$f":"IFERROR($E162*SUMIF('Daily Log'!$Z$18:$Z$1017,$B162,'Daily Log'!$AA$18:$AA$1017),0)","v":0},{"$f":"IFERROR($E162*SUMIF('Daily Log'!$AC$18:$AC$1017,$B162,'Daily Log'!$AD$18:$AD$1017),0)","v":0},{"$f":"IFERROR($E162*SUMIF('Daily Log'!$AF$18:$AF$1017,$B162,'Daily Log'!$AG$18:$AG$1017),0)","v":0},{"$f":"IFERROR($E162*SUMIF('Daily Log'!$AI$18:$AI$1017,$B162,'Daily Log'!$AJ$18:$AJ$1017),0)","v":0},{"$f":"IFERROR($E162*SUMIF('Daily Log'!$AL$18:$AL$1017,$B162,'Daily Log'!$AM$18:$AM$1017),0)","v":0},{"$f":"IFERROR($E162*SUMIF('Daily Log'!$AO$18:$AO$1017,$B162,'Daily Log'!$AP$18:$AP$1017),0)","v":0},{"$f":"IFERROR($E162*SUMIF('Daily Log'!$AR$18:$AR$1017,$B162,'Daily Log'!$AS$18:$AS$1017),0)","v":0},{"$f":"IFERROR($E162*SUMIF('Daily Log'!$AU$18:$AU$1017,$B162,'Daily Log'!$AV$18:$AV$1017),0)","v":0},{"$f":"IFERROR($E162*SUMIF('Daily Log'!$AX$18:$AX$1017,$B162,'Daily Log'!$AY$18:$AY$1017),0)","v":0},{"$f":"IFERROR($E162*SUMIF('Daily Log'!$BA$18:$BA$1017,$B162,'Daily Log'!$BB$18:$BB$1017),0)","v":0},{"$f":"IFERROR($E162*SUMIF('Daily Log'!$BD$18:$BD$1017,$B162,'Daily Log'!$BE$18:$BE$1017),0)","v":0},{"$f":"IFERROR($E162*SUMIF('Daily Log'!$BG$18:$BG$1017,$B162,'Daily Log'!$BH$18:$BH$1017),0)","v":0},{"$f":"IFERROR($E162*SUMIF('Daily Log'!$BJ$18:$BJ$1017,$B162,'Daily Log'!$BK$18:$BK$1017),0)","v":0},{"$f":"IFERROR($E162*SUMIF('Daily Log'!$BM$18:$BM$1017,$B162,'Daily Log'!$BN$18:$BN$1017),0)","v":0},{"$f":"IFERROR($E162*SUMIF('Daily Log'!$BP$18:$BP$1017,$B162,'Daily Log'!$BQ$18:$BQ$1017),0)","v":0},{"$f":"IFERROR($E162*SUMIF('Daily Log'!$BS$18:$BS$1017,$B162,'Daily Log'!$BT$18:$BT$1017),0)","v":0},{"$f":"IFERROR($E162*SUMIF('Daily Log'!$BV$18:$BV$1017,$B162,'Daily Log'!$BW$18:$BW$1017),0)","v":0},{"$f":"IFERROR($E162*SUMIF('Daily Log'!$BY$18:$BY$1017,$B162,'Daily Log'!$BZ$18:$BZ$1017),0)","v":0},{"$f":"IFERROR($E162*SUMIF('Daily Log'!$CB$18:$CB$1017,$B162,'Daily Log'!$CC$18:$CC$1017),0)","v":0},{"$f":"IFERROR($E162*SUMIF('Daily Log'!$CE$18:$CE$1017,$B162,'Daily Log'!$CF$18:$CF$1017),0)","v":0},{"$f":"IFERROR($E162*SUMIF('Daily Log'!$CH$18:$CH$1017,$B162,'Daily Log'!$CI$18:$CI$1017),0)","v":0},{"$f":"IFERROR($E162*SUMIF('Daily Log'!$CK$18:$CK$1017,$B162,'Daily Log'!$CL$18:$CL$1017),0)","v":0},{"$f":"IFERROR($E162*SUMIF('Daily Log'!$CN$18:$CN$1017,$B162,'Daily Log'!$CO$18:$CO$1017),0)","v":0}]
[null,"BA04 N : 4BP",null,"BEER",12,720,{"$f":"IFERROR($E163*SUMIF('Daily Log'!$B$18:$B$1017,$B163,'Daily Log'!$C$18:$C$1017),0)","v":0},{"$f":"IFERROR($E163*SUMIF('Daily Log'!$E$18:$E$1017,$B163,'Daily Log'!$F$18:$F$1017),0)","v":0},{"$f":"IFERROR($E163*SUMIF('Daily Log'!$H$18:$H$1017,$B163,'Daily Log'!$I$18:$I$1017),0)","v":0},{"$f":"IFERROR($E163*SUMIF('Daily Log'!$K$18:$K$1017,$B163,'Daily Log'!$L$18:$L$1017),0)","v":0},{"$f":"IFERROR($E163*SUMIF('Daily Log'!$N$18:$N$1017,$B163,'Daily Log'!$O$18:$O$1017),0)","v":0},{"$f":"IFERROR($E163*SUMIF('Daily Log'!$Q$18:$Q$1017,$B163,'Daily Log'!$R$18:$R$1017),0)","v":0},{"$f":"IFERROR($E163*SUMIF('Daily Log'!$T$18:$T$1017,$B163,'Daily Log'!$U$18:$U$1017),0)","v":0},{"$f":"IFERROR($E163*SUMIF('Daily Log'!$W$18:$W$1017,$B163,'Daily Log'!$X$18:$X$1017),0)","v":0},{"$f":"IFERROR($E163*SUMIF('Daily Log'!$Z$18:$Z$1017,$B163,'Daily Log'!$AA$18:$AA$1017),0)","v":0},{"$f":"IFERROR($E163*SUMIF('Daily Log'!$AC$18:$AC$1017,$B163,'Daily Log'!$AD$18:$AD$1017),0)","v":0},{"$f":"IFERROR($E163*SUMIF('Daily Log'!$AF$18:$AF$1017,$B163,'Daily Log'!$AG$18:$AG$1017),0)","v":0},{"$f":"IFERROR($E163*SUMIF('Daily Log'!$AI$18:$AI$1017,$B163,'Daily Log'!$AJ$18:$AJ$1017),0)","v":0},{"$f":"IFERROR($E163*SUMIF('Daily Log'!$AL$18:$AL$1017,$B163,'Daily Log'!$AM$18:$AM$1017),0)","v":0},{"$f":"IFERROR($E163*SUMIF('Daily Log'!$AO$18:$AO$1017,$B163,'Daily Log'!$AP$18:$AP$1017),0)","v":0},{"$f":"IFERROR($E163*SUMIF('Daily Log'!$AR$18:$AR$1017,$B163,'Daily Log'!$AS$18:$AS$1017),0)","v":0},{"$f":"IFERROR($E163*SUMIF('Daily Log'!$AU$18:$AU$1017,$B163,'Daily Log'!$AV$18:$AV$1017),0)","v":0},{"$f":"IFERROR($E163*SUMIF('Daily Log'!$AX$18:$AX$1017,$B163,'Daily Log'!$AY$18:$AY$1017),0)","v":0},{"$f":"IFERROR($E163*SUMIF('Daily Log'!$BA$18:$BA$1017,$B163,'Daily Log'!$BB$18:$BB$1017),0)","v":0},{"$f":"IFERROR($E163*SUMIF('Daily Log'!$BD$18:$BD$1017,$B163,'Daily Log'!$BE$18:$BE$1017),0)","v":0},{"$f":"IFERROR($E163*SUMIF('Daily Log'!$BG$18:$BG$1017,$B163,'Daily Log'!$BH$18:$BH$1017),0)","v":0},{"$f":"IFERROR($E163*SUMIF('Daily Log'!$BJ$18:$BJ$1017,$B163,'Daily Log'!$BK$18:$BK$1017),0)","v":0},{"$f":"IFERROR($E163*SUMIF('Daily Log'!$BM$18:$BM$1017,$B163,'Daily Log'!$BN$18:$BN$1017),0)","v":0},{"$f":"IFERROR($E163*SUMIF('Daily Log'!$BP$18:$BP$1017,$B163,'Daily Log'!$BQ$18:$BQ$1017),0)","v":0},{"$f":"IFERROR($E163*SUMIF('Daily Log'!$BS$18:$BS$1017,$B163,'Daily Log'!$BT$18:$BT$1017),0)","v":0},{"$f":"IFERROR($E163*SUMIF('Daily Log'!$BV$18:$BV$1017,$B163,'Daily Log'!$BW$18:$BW$1017),0)","v":0},{"$f":"IFERROR($E163*SUMIF('Daily Log'!$BY$18:$BY$1017,$B163,'Daily Log'!$BZ$18:$BZ$1017),0)","v":0},{"$f":"IFERROR($E163*SUMIF('Daily Log'!$CB$18:$CB$1017,$B163,'Daily Log'!$CC$18:$CC$1017),0)","v":0},{"$f":"IFERROR($E163*SUMIF('Daily Log'!$CE$18:$CE$1017,$B163,'Daily Log'!$CF$18:$CF$1017),0)","v":0},{"$f":"IFERROR($E163*SUMIF('Daily Log'!$CH$18:$CH$1017,$B163,'Daily Log'!$CI$18:$CI$1017),0)","v":0},{"$f":"IFERROR($E163*SUMIF('Daily Log'!$CK$18:$CK$1017,$B163,'Daily Log'!$CL$18:$CL$1017),0)","v":720},{"$f":"IFERROR($E163*SUMIF('Daily Log'!$CN$18:$CN$1017,$B163,'Daily Log'!$CO$18:$CO$1017),0)","v":0}]
[null,"BA05 N : 4BP MEMBER",null,"BEER",12,0,{"$f":"IFERROR($E164*SUMIF('Daily Log'!$B$18:$B$1017,$B164,'Daily Log'!$C$18:$C$1017),0)","v":0},{"$f":"IFERROR($E164*SUMIF('Daily Log'!$E$18:$E$1017,$B164,'Daily Log'!$F$18:$F$1017),0)","v":0},{"$f":"IFERROR($E164*SUMIF('Daily Log'!$H$18:$H$1017,$B164,'Daily Log'!$I$18:$I$1017),0)","v":0},{"$f":"IFERROR($E164*SUMIF('Daily Log'!$K$18:$K$1017,$B164,'Daily Log'!$L$18:$L$1017),0)","v":0},{"$f":"IFERROR($E164*SUMIF('Daily Log'!$N$18:$N$1017,$B164,'Daily Log'!$O$18:$O$1017),0)","v":0},{"$f":"IFERROR($E164*SUMIF('Daily Log'!$Q$18:$Q$1017,$B164,'Daily Log'!$R$18:$R$1017),0)","v":0},{"$f":"IFERROR($E164*SUMIF('Daily Log'!$T$18:$T$1017,$B164,'Daily Log'!$U$18:$U$1017),0)","v":0},{"$f":"IFERROR($E164*SUMIF('Daily Log'!$W$18:$W$1017,$B164,'Daily Log'!$X$18:$X$1017),0)","v":0},{"$f":"IFERROR($E164*SUMIF('Daily Log'!$Z$18:$Z$1017,$B164,'Daily Log'!$AA$18:$AA$1017),0)","v":0},{"$f":"IFERROR($E164*SUMIF('Daily Log'!$AC$18:$AC$1017,$B164,'Daily Log'!$AD$18:$AD$1017),0)","v":0},{"$f":"IFERROR($E164*SUMIF('Daily Log'!$AF$18:$AF$1017,$B164,'Daily Log'!$AG$18:$AG$1017),0)","v":0},{"$f":"IFERROR($E164*SUMIF('Daily Log'!$AI$18:$AI$1017,$B164,'Daily Log'!$AJ$18:$AJ$1017),0)","v":0},{"$f":"IFERROR($E164*SUMIF('Daily Log'!$AL$18:$AL$1017,$B164,'Daily Log'!$AM$18:$AM$1017),0)","v":0},{"$f":"IFERROR($E164*SUMIF('Daily Log'!$AO$18:$AO$1017,$B164,'Daily Log'!$AP$18:$AP$1017),0)","v":0},{"$f":"IFERROR($E164*SUMIF('Daily Log'!$AR$18:$AR$1017,$B164,'Daily Log'!$AS$18:$AS$1017),0)","v":0},{"$f":"IFERROR($E164*SUMIF('Daily Log'!$AU$18:$AU$1017,$B164,'Daily Log'!$AV$18:$AV$1017),0)","v":0},{"$f":"IFERROR($E164*SUMIF('Daily Log'!$AX$18:$AX$1017,$B164,'Daily Log'!$AY$18:$AY$1017),0)","v":0},{"$f":"IFERROR($E164*SUMIF('Daily Log'!$BA$18:$BA$1017,$B164,'Daily Log'!$BB$18:$BB$1017),0)","v":0},{"$f":"IFERROR($E164*SUMIF('Daily Log'!$BD$18:$BD$1017,$B164,'Daily Log'!$BE$18:$BE$1017),0)","v":0},{"$f":"IFERROR($E164*SUMIF('Daily Log'!$BG$18:$BG$1017,$B164,'Daily Log'!$BH$18:$BH$1017),0)","v":0},{"$f":"IFERROR($E164*SUMIF('Daily Log'!$BJ$18:$BJ$1017,$B164,'Daily Log'!$BK$18:$BK$1017),0)","v":0},{"$f":"IFERROR($E164*SUMIF('Daily Log'!$BM$18:$BM$1017,$B164,'Daily Log'!$BN$18:$BN$1017),0)","v":0},{"$f":"IFERROR($E164*SUMIF('Daily Log'!$BP$18:$BP$1017,$B164,'Daily Log'!$BQ$18:$BQ$1017),0)","v":0},{"$f":"IFERROR($E164*SUMIF('Daily Log'!$BS$18:$BS$1017,$B164,'Daily Log'!$BT$18:$BT$1017),0)","v":0},{"$f":"IFERROR($E164*SUMIF('Daily Log'!$BV$18:$BV$1017,$B164,'Daily Log'!$BW$18:$BW$1017),0)","v":0},{"$f":"IFERROR($E164*SUMIF('Daily Log'!$BY$18:$BY$1017,$B164,'Daily Log'!$BZ$18:$BZ$1017),0)","v":0},{"$f":"IFERROR($E164*SUMIF('Daily Log'!$CB$18:$CB$1017,$B164,'Daily Log'!$CC$18:$CC$1017),0)","v":0},{"$f":"IFERROR($E164*SUMIF('Daily Log'!$CE$18:$CE$1017,$B164,'Daily Log'!$CF$18:$CF$1017),0)","v":0},{"$f":"IFERROR($E164*SUMIF('Daily Log'!$CH$18:$CH$1017,$B164,'Daily Log'!$CI$18:$CI$1017),0)","v":0},{"$f":"IFERROR($E164*SUMIF('Daily Log'!$CK$18:$CK$1017,$B164,'Daily Log'!$CL$18:$CL$1017),0)","v":0},{"$f":"IFERROR($E164*SUMIF('Daily Log'!$CN$18:$CN$1017,$B164,'Daily Log'!$CO$18:$CO$1017),0)","v":0}]
[null,"BA06 M : 4BP",null,"BEER",12,108,{"$f":"IFERROR($E165*SUMIF('Daily Log'!$B$18:$B$1017,$B165,'Daily Log'!$C$18:$C$1017),0)","v":0},{"$f":"IFERROR($E165*SUMIF('Daily Log'!$E$18:$E$1017,$B165,'Daily Log'!$F$18:$F$1017),0)","v":0},{"$f":"IFERROR($E165*SUMIF('Daily Log'!$H$18:$H$1017,$B165,'Daily Log'!$I$18:$I$1017),0)","v":0},{"$f":"IFERROR($E165*SUMIF('Daily Log'!$K$18:$K$1017,$B165,'Daily Log'!$L$18:$L$1017),0)","v":0},{"$f":"IFERROR($E165*SUMIF('Daily Log'!$N$18:$N$1017,$B165,'Daily Log'!$O$18:$O$1017),0)","v":0},{"$f":"IFERROR($E165*SUMIF('Daily Log'!$Q$18:$Q$1017,$B165,'Daily Log'!$R$18:$R$1017),0)","v":0},{"$f":"IFERROR($E165*SUMIF('Daily Log'!$T$18:$T$1017,$B165,'Daily Log'!$U$18:$U$1017),0)","v":0},{"$f":"IFERROR($E165*SUMIF('Daily Log'!$W$18:$W$1017,$B165,'Daily Log'!$X$18:$X$1017),0)","v":0},{"$f":"IFERROR($E165*SUMIF('Daily Log'!$Z$18:$Z$1017,$B165,'Daily Log'!$AA$18:$AA$1017),0)","v":0},{"$f":"IFERROR($E165*SUMIF('Daily Log'!$AC$18:$AC$1017,$B165,'Daily Log'!$AD$18:$AD$1017),0)","v":0},{"$f":"IFERROR($E165*SUMIF('Daily Log'!$AF$18:$AF$1017,$B165,'Daily Log'!$AG$18:$AG$1017),0)","v":0},{"$f":"IFERROR($E165*SUMIF('Daily Log'!$AI$18:$AI$1017,$B165,'Daily Log'!$AJ$18:$AJ$1017),0)","v":0},{"$f":"IFERROR($E165*SUMIF('Daily Log'!$AL$18:$AL$1017,$B165,'Daily Log'!$AM$18:$AM$1017),0)","v":0},{"$f":"IFERROR($E165*SUMIF('Daily Log'!$AO$18:$AO$1017,$B165,'Daily Log'!$AP$18:$AP$1017),0)","v":0},{"$f":"IFERROR($E165*SUMIF('Daily Log'!$AR$18:$AR$1017,$B165,'Daily Log'!$AS$18:$AS$1017),0)","v":0},{"$f":"IFERROR($E165*SUMIF('Daily Log'!$AU$18:$AU$1017,$B165,'Daily Log'!$AV$18:$AV$1017),0)","v":0},{"$f":"IFERROR($E165*SUMIF('Daily Log'!$AX$18:$AX$1017,$B165,'Daily Log'!$AY$18:$AY$1017),0)","v":0},{"$f":"IFERROR($E165*SUMIF('Daily Log'!$BA$18:$BA$1017,$B165,'Daily Log'!$BB$18:$BB$1017),0)","v":0},{"$f":"IFERROR($E165*SUMIF('Daily Log'!$BD$18:$BD$1017,$B165,'Daily Log'!$BE$18:$BE$1017),0)","v":0},{"$f":"IFERROR($E165*SUMIF('Daily Log'!$BG$18:$BG$1017,$B165,'Daily Log'!$BH$18:$BH$1017),0)","v":0},{"$f":"IFERROR($E165*SUMIF('Daily Log'!$BJ$18:$BJ$1017,$B165,'Daily Log'!$BK$18:$BK$1017),0)","v":0},{"$f":"IFERROR($E165*SUMIF('Daily Log'!$BM$18:$BM$1017,$B165,'Daily Log'!$BN$18:$BN$1017),0)","v":0},{"$f":"IFERROR($E165*SUMIF('Daily Log'!$BP$18:$BP$1017,$B165,'Daily Log'!$BQ$18:$BQ$1017),0)","v":0},{"$f":"IFERROR($E165*SUMIF('Daily Log'!$BS$18:$BS$1017,$B165,'Daily Log'!$BT$18:$BT$1017),0)","v":0},{"$f":"IFERROR($E165*SUMIF('Daily Log'!$BV$18:$BV$1017,$B165,'Daily Log'!$BW$18:$BW$1017),0)","v":0},{"$f":"IFERROR($E165*SUMIF('Daily Log'!$BY$18:$BY$1017,$B165,'Daily Log'!$BZ$18:$BZ$1017),0)","v":0},{"$f":"IFERROR($E165*SUMIF('Daily Log'!$CB$18:$CB$1017,$B165,'Daily Log'!$CC$18:$CC$1017),0)","v":0},{"$f":"IFERROR($E165*SUMIF('Daily Log'!$CE$18:$CE$1017,$B165,'Daily Log'!$CF$18:$CF$1017),0)","v":0},{"$f":"IFERROR($E165*SUMIF('Daily Log'!$CH$18:$CH$1017,$B165,'Daily Log'!$CI$18:$CI$1017),0)","v":0},{"$f":"IFERROR($E165*SUMIF('Daily Log'!$CK$18:$CK$1017,$B165,'Daily Log'!$CL$18:$CL$1017),0)","v":108},{"$f":"IFERROR($E165*SUMIF('Daily Log'!$CN$18:$CN$1017,$B165,'Daily Log'!$CO$18:$CO$1017),0)","v":0}]
[null,"BA07 M : 4BP MEMBER",null,"BEER",12,0,{"$f":"IFERROR($E166*SUMIF('Daily Log'!$B$18:$B$1017,$B166,'Daily Log'!$C$18:$C$1017),0)","v":0},{"$f":"IFERROR($E166*SUMIF('Daily Log'!$E$18:$E$1017,$B166,'Daily Log'!$F$18:$F$1017),0)","v":0},{"$f":"IFERROR($E166*SUMIF('Daily Log'!$H$18:$H$1017,$B166,'Daily Log'!$I$18:$I$1017),0)","v":0},{"$f":"IFERROR($E166*SUMIF('Daily Log'!$K$18:$K$1017,$B166,'Daily Log'!$L$18:$L$1017),0)","v":0},{"$f":"IFERROR($E166*SUMIF('Daily Log'!$N$18:$N$1017,$B166,'Daily Log'!$O$18:$O$1017),0)","v":0},{"$f":"IFERROR($E166*SUMIF('Daily Log'!$Q$18:$Q$1017,$B166,'Daily Log'!$R$18:$R$1017),0)","v":0},{"$f":"IFERROR($E166*SUMIF('Daily Log'!$T$18:$T$1017,$B166,'Daily Log'!$U$18:$U$1017),0)","v":0},{"$f":"IFERROR($E166*SUMIF('Daily Log'!$W$18:$W$1017,$B166,'Daily Log'!$X$18:$X$1017),0)","v":0},{"$f":"IFERROR($E166*SUMIF('Daily Log'!$Z$18:$Z$1017,$B166,'Daily Log'!$AA$18:$AA$1017),0)","v":0},{"$f":"IFERROR($E166*SUMIF('Daily Log'!$AC$18:$AC$1017,$B166,'Daily Log'!$AD$18:$AD$1017),0)","v":0},{"$f":"IFERROR($E166*SUMIF('Daily Log'!$AF$18:$AF$1017,$B166,'Daily Log'!$AG$18:$AG$1017),0)","v":0},{"$f":"IFERROR($E166*SUMIF('Daily Log'!$AI$18:$AI$1017,$B166,'Daily Log'!$AJ$18:$AJ$1017),0)","v":0},{"$f":"IFERROR($E166*SUMIF('Daily Log'!$AL$18:$AL$1017,$B166,'Daily Log'!$AM$18:$AM$1017),0)","v":0},{"$f":"IFERROR($E166*SUMIF('Daily Log'!$AO$18:$AO$1017,$B166,'Daily Log'!$AP$18:$AP$1017),0)","v":0},{"$f":"IFERROR($E166*SUMIF('Daily Log'!$AR$18:$AR$1017,$B166,'Daily Log'!$AS$18:$AS$1017),0)","v":0},{"$f":"IFERROR($E166*SUMIF('Daily Log'!$AU$18:$AU$1017,$B166,'Daily Log'!$AV$18:$AV$1017),0)","v":0},{"$f":"IFERROR($E166*SUMIF('Daily Log'!$AX$18:$AX$1017,$B166,'Daily Log'!$AY$18:$AY$1017),0)","v":0},{"$f":"IFERROR($E166*SUMIF('Daily Log'!$BA$18:$BA$1017,$B166,'Daily Log'!$BB$18:$BB$1017),0)","v":0},{"$f":"IFERROR($E166*SUMIF('Daily Log'!$BD$18:$BD$1017,$B166,'Daily Log'!$BE$18:$BE$1017),0)","v":0},{"$f":"IFERROR($E166*SUMIF('Daily Log'!$BG$18:$BG$1017,$B166,'Daily Log'!$BH$18:$BH$1017),0)","v":0},{"$f":"IFERROR($E166*SUMIF('Daily Log'!$BJ$18:$BJ$1017,$B166,'Daily Log'!$BK$18:$BK$1017),0)","v":0},{"$f":"IFERROR($E166*SUMIF('Daily Log'!$BM$18:$BM$1017,$B166,'Daily Log'!$BN$18:$BN$1017),0)","v":0},{"$f":"IFERROR($E166*SUMIF('Daily Log'!$BP$18:$BP$1017,$B166,'Daily Log'!$BQ$18:$BQ$1017),0)","v":0},{"$f":"IFERROR($E166*SUMIF('Daily Log'!$BS$18:$BS$1017,$B166,'Daily Log'!$BT$18:$BT$1017),0)","v":0},{"$f":"IFERROR($E166*SUMIF('Daily Log'!$BV$18:$BV$1017,$B166,'Daily Log'!$BW$18:$BW$1017),0)","v":0},{"$f":"IFERROR($E166*SUMIF('Daily Log'!$BY$18:$BY$1017,$B166,'Daily Log'!$BZ$18:$BZ$1017),0)","v":0},{"$f":"IFERROR($E166*SUMIF('Daily Log'!$CB$18:$CB$1017,$B166,'Daily Log'!$CC$18:$CC$1017),0)","v":0},{"$f":"IFERROR($E166*SUMIF('Daily Log'!$CE$18:$CE$1017,$B166,'Daily Log'!$CF$18:$CF$1017),0)","v":0},{"$f":"IFERROR($E166*SUMIF('Daily Log'!$CH$18:$CH$1017,$B166,'Daily Log'!$CI$18:$CI$1017),0)","v":0},{"$f":"IFERROR($E166*SUMIF('Daily Log'!$CK$18:$CK$1017,$B166,'Daily Log'!$CL$18:$CL$1017),0)","v":0},{"$f":"IFERROR($E166*SUMIF('Daily Log'!$CN$18:$CN$1017,$B166,'Daily Log'!$CO$18:$CO$1017),0)","v":0}]
[null,"BA08 GUINNESS BTL",null,"BEER ",1,11,{"$f":"IFERROR($E167*SUMIF('Daily Log'!$B$18:$B$1017,$B167,'Daily Log'!$C$18:$C$1017),0)","v":0},{"$f":"IFERROR($E167*SUMIF('Daily Log'!$E$18:$E$1017,$B167,'Daily Log'!$F$18:$F$1017),0)","v":0},{"$f":"IFERROR($E167*SUMIF('Daily Log'!$H$18:$H$1017,$B167,'Daily Log'!$I$18:$I$1017),0)","v":0},{"$f":"IFERROR($E167*SUMIF('Daily Log'!$K$18:$K$1017,$B167,'Daily Log'!$L$18:$L$1017),0)","v":0},{"$f":"IFERROR($E167*SUMIF('Daily Log'!$N$18:$N$1017,$B167,'Daily Log'!$O$18:$O$1017),0)","v":0},{"$f":"IFERROR($E167*SUMIF('Daily Log'!$Q$18:$Q$1017,$B167,'Daily Log'!$R$18:$R$1017),0)","v":0},{"$f":"IFERROR($E167*SUMIF('Daily Log'!$T$18:$T$1017,$B167,'Daily Log'!$U$18:$U$1017),0)","v":0},{"$f":"IFERROR($E167*SUMIF('Daily Log'!$W$18:$W$1017,$B167,'Daily Log'!$X$18:$X$1017),0)","v":0},{"$f":"IFERROR($E167*SUMIF('Daily Log'!$Z$18:$Z$1017,$B167,'Daily Log'!$AA$18:$AA$1017),0)","v":0},{"$f":"IFERROR($E167*SUMIF('Daily Log'!$AC$18:$AC$1017,$B167,'Daily Log'!$AD$18:$AD$1017),0)","v":0},{"$f":"IFERROR($E167*SUMIF('Daily Log'!$AF$18:$AF$1017,$B167,'Daily Log'!$AG$18:$AG$1017),0)","v":0},{"$f":"IFERROR($E167*SUMIF('Daily Log'!$AI$18:$AI$1017,$B167,'Daily Log'!$AJ$18:$AJ$1017),0)","v":0},{"$f":"IFERROR($E167*SUMIF('Daily Log'!$AL$18:$AL$1017,$B167,'Daily Log'!$AM$18:$AM$1017),0)","v":0},{"$f":"IFERROR($E167*SUMIF('Daily Log'!$AO$18:$AO$1017,$B167,'Daily Log'!$AP$18:$AP$1017),0)","v":0},{"$f":"IFERROR($E167*SUMIF('Daily Log'!$AR$18:$AR$1017,$B167,'Daily Log'!$AS$18:$AS$1017),0)","v":0},{"$f":"IFERROR($E167*SUMIF('Daily Log'!$AU$18:$AU$1017,$B167,'Daily Log'!$AV$18:$AV$1017),0)","v":0},{"$f":"IFERROR($E167*SUMIF('Daily Log'!$AX$18:$AX$1017,$B167,'Daily Log'!$AY$18:$AY$1017),0)","v":0},{"$f":"IFERROR($E167*SUMIF('Daily Log'!$BA$18:$BA$1017,$B167,'Daily Log'!$BB$18:$BB$1017),0)","v":0},{"$f":"IFERROR($E167*SUMIF('Daily Log'!$BD$18:$BD$1017,$B167,'Daily Log'!$BE$18:$BE$1017),0)","v":0},{"$f":"IFERROR($E167*SUMIF('Daily Log'!$BG$18:$BG$1017,$B167,'Daily Log'!$BH$18:$BH$1017),0)","v":0},{"$f":"IFERROR($E167*SUMIF('Daily Log'!$BJ$18:$BJ$1017,$B167,'Daily Log'!$BK$18:$BK$1017),0)","v":0},{"$f":"IFERROR($E167*SUMIF('Daily Log'!$BM$18:$BM$1017,$B167,'Daily Log'!$BN$18:$BN$1017),0)","v":0},{"$f":"IFERROR($E167*SUMIF('Daily Log'!$BP$18:$BP$1017,$B167,'Daily Log'!$BQ$18:$BQ$1017),0)","v":0},{"$f":"IFERROR($E167*SUMIF('Daily Log'!$BS$18:$BS$1017,$B167,'Daily Log'!$BT$18:$BT$1017),0)","v":0},{"$f":"IFERROR($E167*SUMIF('Daily Log'!$BV$18:$BV$1017,$B167,'Daily Log'!$BW$18:$BW$1017),0)","v":0},{"$f":"IFERROR($E167*SUMIF('Daily Log'!$BY$18:$BY$1017,$B167,'Daily Log'!$BZ$18:$BZ$1017),0)","v":0},{"$f":"IFERROR($E167*SUMIF('Daily Log'!$CB$18:$CB$1017,$B167,'Daily Log'!$CC$18:$CC$1017),0)","v":0},{"$f":"IFERROR($E167*SUMIF('Daily Log'!$CE$18:$CE$1017,$B167,'Daily Log'!$CF$18:$CF$1017),0)","v":0},{"$f":"IFERROR($E167*SUMIF('Daily Log'!$CH$18:$CH$1017,$B167,'Daily Log'!$CI$18:$CI$1017),0)","v":0},{"$f":"IFERROR($E167*SUMIF('Daily Log'!$CK$18:$CK$1017,$B167,'Daily Log'!$CL$18:$CL$1017),0)","v":11},{"$f":"IFERROR($E167*SUMIF('Daily Log'!$CN$18:$CN$1017,$B167,'Daily Log'!$CO$18:$CO$1017),0)","v":0}]
[null,"BA09 GUINNESS BKT",null,"BEER ",4,24,{"$f":"IFERROR($E168*SUMIF('Daily Log'!$B$18:$B$1017,$B168,'Daily Log'!$C$18:$C$1017),0)","v":0},{"$f":"IFERROR($E168*SUMIF('Daily Log'!$E$18:$E$1017,$B168,'Daily Log'!$F$18:$F$1017),0)","v":0},{"$f":"IFERROR($E168*SUMIF('Daily Log'!$H$18:$H$1017,$B168,'Daily Log'!$I$18:$I$1017),0)","v":0},{"$f":"IFERROR($E168*SUMIF('Daily Log'!$K$18:$K$1017,$B168,'Daily Log'!$L$18:$L$1017),0)","v":0},{"$f":"IFERROR($E168*SUMIF('Daily Log'!$N$18:$N$1017,$B168,'Daily Log'!$O$18:$O$1017),0)","v":0},{"$f":"IFERROR($E168*SUMIF('Daily Log'!$Q$18:$Q$1017,$B168,'Daily Log'!$R$18:$R$1017),0)","v":0},{"$f":"IFERROR($E168*SUMIF('Daily Log'!$T$18:$T$1017,$B168,'Daily Log'!$U$18:$U$1017),0)","v":0},{"$f":"IFERROR($E168*SUMIF('Daily Log'!$W$18:$W$1017,$B168,'Daily Log'!$X$18:$X$1017),0)","v":0},{"$f":"IFERROR($E168*SUMIF('Daily Log'!$Z$18:$Z$1017,$B168,'Daily Log'!$AA$18:$AA$1017),0)","v":0},{"$f":"IFERROR($E168*SUMIF('Daily Log'!$AC$18:$AC$1017,$B168,'Daily Log'!$AD$18:$AD$1017),0)","v":0},{"$f":"IFERROR($E168*SUMIF('Daily Log'!$AF$18:$AF$1017,$B168,'Daily Log'!$AG$18:$AG$1017),0)","v":0},{"$f":"IFERROR($E168*SUMIF('Daily Log'!$AI$18:$AI$1017,$B168,'Daily Log'!$AJ$18:$AJ$1017),0)","v":0},{"$f":"IFERROR($E168*SUMIF('Daily Log'!$AL$18:$AL$1017,$B168,'Daily Log'!$AM$18:$AM$1017),0)","v":0},{"$f":"IFERROR($E168*SUMIF('Daily Log'!$AO$18:$AO$1017,$B168,'Daily Log'!$AP$18:$AP$1017),0)","v":0},{"$f":"IFERROR($E168*SUMIF('Daily Log'!$AR$18:$AR$1017,$B168,'Daily Log'!$AS$18:$AS$1017),0)","v":0},{"$f":"IFERROR($E168*SUMIF('Daily Log'!$AU$18:$AU$1017,$B168,'Daily Log'!$AV$18:$AV$1017),0)","v":0},{"$f":"IFERROR($E168*SUMIF('Daily Log'!$AX$18:$AX$1017,$B168,'Daily Log'!$AY$18:$AY$1017),0)","v":0},{"$f":"IFERROR($E168*SUMIF('Daily Log'!$BA$18:$BA$1017,$B168,'Daily Log'!$BB$18:$BB$1017),0)","v":0},{"$f":"IFERROR($E168*SUMIF('Daily Log'!$BD$18:$BD$1017,$B168,'Daily Log'!$BE$18:$BE$1017),0)","v":0},{"$f":"IFERROR($E168*SUMIF('Daily Log'!$BG$18:$BG$1017,$B168,'Daily Log'!$BH$18:$BH$1017),0)","v":0},{"$f":"IFERROR($E168*SUMIF('Daily Log'!$BJ$18:$BJ$1017,$B168,'Daily Log'!$BK$18:$BK$1017),0)","v":0},{"$f":"IFERROR($E168*SUMIF('Daily Log'!$BM$18:$BM$1017,$B168,'Daily Log'!$BN$18:$BN$1017),0)","v":0},{"$f":"IFERROR($E168*SUMIF('Daily Log'!$BP$18:$BP$1017,$B168,'Daily Log'!$BQ$18:$BQ$1017),0)","v":0},{"$f":"IFERROR($E168*SUMIF('Daily Log'!$BS$18:$BS$1017,$B168,'Daily Log'!$BT$18:$BT$1017),0)","v":0},{"$f":"IFERROR($E168*SUMIF('Daily Log'!$BV$18:$BV$1017,$B168,'Daily Log'!$BW$18:$BW$1017),0)","v":0},{"$f":"IFERROR($E168*SUMIF('Daily Log'!$BY$18:$BY$1017,$B168,'Daily Log'!$BZ$18:$BZ$1017),0)","v":0},{"$f":"IFERROR($E168*SUMIF('Daily Log'!$CB$18:$CB$1017,$B168,'Daily Log'!$CC$18:$CC$1017),0)","v":0},{"$f":"IFERROR($E168*SUMIF('Daily Log'!$CE$18:$CE$1017,$B168,'Daily Log'!$CF$18:$CF$1017),0)","v":0},{"$f":"IFERROR($E168*SUMIF('Daily Log'!$CH$18:$CH$1017,$B168,'Daily Log'!$CI$18:$CI$1017),0)","v":0},{"$f":"IFERROR($E168*SUMIF('Daily Log'!$CK$18:$CK$1017,$B168,'Daily Log'!$CL$18:$CL$1017),0)","v":24},{"$f":"IFERROR($E168*SUMIF('Daily Log'!$CN$18:$CN$1017,$B168,'Daily Log'!$CO$18:$CO$1017),0)","v":0}]
[null,"BA10 GUINNESS RND",null,"BEER ",12,24,{"$f":"IFERROR($E169*SUMIF('Daily Log'!$B$18:$B$1017,$B169,'Daily Log'!$C$18:$C$1017),0)","v":0},{"$f":"IFERROR($E169*SUMIF('Daily Log'!$E$18:$E$1017,$B169,'Daily Log'!$F$18:$F$1017),0)","v":0},{"$f":"IFERROR($E169*SUMIF('Daily Log'!$H$18:$H$1017,$B169,'Daily Log'!$I$18:$I$1017),0)","v":0},{"$f":"IFERROR($E169*SUMIF('Daily Log'!$K$18:$K$1017,$B169,'Daily Log'!$L$18:$L$1017),0)","v":0},{"$f":"IFERROR($E169*SUMIF('Daily Log'!$N$18:$N$1017,$B169,'Daily Log'!$O$18:$O$1017),0)","v":0},{"$f":"IFERROR($E169*SUMIF('Daily Log'!$Q$18:$Q$1017,$B169,'Daily Log'!$R$18:$R$1017),0)","v":0},{"$f":"IFERROR($E169*SUMIF('Daily Log'!$T$18:$T$1017,$B169,'Daily Log'!$U$18:$U$1017),0)","v":0},{"$f":"IFERROR($E169*SUMIF('Daily Log'!$W$18:$W$1017,$B169,'Daily Log'!$X$18:$X$1017),0)","v":0},{"$f":"IFERROR($E169*SUMIF('Daily Log'!$Z$18:$Z$1017,$B169,'Daily Log'!$AA$18:$AA$1017),0)","v":0},{"$f":"IFERROR($E169*SUMIF('Daily Log'!$AC$18:$AC$1017,$B169,'Daily Log'!$AD$18:$AD$1017),0)","v":0},{"$f":"IFERROR($E169*SUMIF('Daily Log'!$AF$18:$AF$1017,$B169,'Daily Log'!$AG$18:$AG$1017),0)","v":0},{"$f":"IFERROR($E169*SUMIF('Daily Log'!$AI$18:$AI$1017,$B169,'Daily Log'!$AJ$18:$AJ$1017),0)","v":0},{"$f":"IFERROR($E169*SUMIF('Daily Log'!$AL$18:$AL$1017,$B169,'Daily Log'!$AM$18:$AM$1017),0)","v":0},{"$f":"IFERROR($E169*SUMIF('Daily Log'!$AO$18:$AO$1017,$B169,'Daily Log'!$AP$18:$AP$1017),0)","v":0},{"$f":"IFERROR($E169*SUMIF('Daily Log'!$AR$18:$AR$1017,$B169,'Daily Log'!$AS$18:$AS$1017),0)","v":0},{"$f":"IFERROR($E169*SUMIF('Daily Log'!$AU$18:$AU$1017,$B169,'Daily Log'!$AV$18:$AV$1017),0)","v":0},{"$f":"IFERROR($E169*SUMIF('Daily Log'!$AX$18:$AX$1017,$B169,'Daily Log'!$AY$18:$AY$1017),0)","v":0},{"$f":"IFERROR($E169*SUMIF('Daily Log'!$BA$18:$BA$1017,$B169,'Daily Log'!$BB$18:$BB$1017),0)","v":0},{"$f":"IFERROR($E169*SUMIF('Daily Log'!$BD$18:$BD$1017,$B169,'Daily Log'!$BE$18:$BE$1017),0)","v":0},{"$f":"IFERROR($E169*SUMIF('Daily Log'!$BG$18:$BG$1017,$B169,'Daily Log'!$BH$18:$BH$1017),0)","v":0},{"$f":"IFERROR($E169*SUMIF('Daily Log'!$BJ$18:$BJ$1017,$B169,'Daily Log'!$BK$18:$BK$1017),0)","v":0},{"$f":"IFERROR($E169*SUMIF('Daily Log'!$BM$18:$BM$1017,$B169,'Daily Log'!$BN$18:$BN$1017),0)","v":0},{"$f":"IFERROR($E169*SUMIF('Daily Log'!$BP$18:$BP$1017,$B169,'Daily Log'!$BQ$18:$BQ$1017),0)","v":0},{"$f":"IFERROR($E169*SUMIF('Daily Log'!$BS$18:$BS$1017,$B169,'Daily Log'!$BT$18:$BT$1017),0)","v":0},{"$f":"IFERROR($E169*SUMIF('Daily Log'!$BV$18:$BV$1017,$B169,'Daily Log'!$BW$18:$BW$1017),0)","v":0},{"$f":"IFERROR($E169*SUMIF('Daily Log'!$BY$18:$BY$1017,$B169,'Daily Log'!$BZ$18:$BZ$1017),0)","v":0},{"$f":"IFERROR($E169*SUMIF('Daily Log'!$CB$18:$CB$1017,$B169,'Daily Log'!$CC$18:$CC$1017),0)","v":0},{"$f":"IFERROR($E169*SUMIF('Daily Log'!$CE$18:$CE$1017,$B169,'Daily Log'!$CF$18:$CF$1017),0)","v":0},{"$f":"IFERROR($E169*SUMIF('Daily Log'!$CH$18:$CH$1017,$B169,'Daily Log'!$CI$18:$CI$1017),0)","v":0},{"$f":"IFERROR($E169*SUMIF('Daily Log'!$CK$18:$CK$1017,$B169,'Daily Log'!$CL$18:$CL$1017),0)","v":24},{"$f":"IFERROR($E169*SUMIF('Daily Log'!$CN$18:$CN$1017,$B169,'Daily Log'!$CO$18:$CO$1017),0)","v":0}]
[null,"BA11 HEINEKEN BTL",null,"BEER ",1,12,{"$f":"IFERROR($E170*SUMIF('Daily Log'!$B$18:$B$1017,$B170,'Daily Log'!$C$18:$C$1017),0)","v":0},{"$f":"IFERROR($E170*SUMIF('Daily Log'!$E$18:$E$1017,$B170,'Daily Log'!$F$18:$F$1017),0)","v":0},{"$f":"IFERROR($E170*SUMIF('Daily Log'!$H$18:$H$1017,$B170,'Daily Log'!$I$18:$I$1017),0)","v":0},{"$f":"IFERROR($E170*SUMIF('Daily Log'!$K$18:$K$1017,$B170,'Daily Log'!$L$18:$L$1017),0)","v":0},{"$f":"IFERROR($E170*SUMIF('Daily Log'!$N$18:$N$1017,$B170,'Daily Log'!$O$18:$O$1017),0)","v":0},{"$f":"IFERROR($E170*SUMIF('Daily Log'!$Q$18:$Q$1017,$B170,'Daily Log'!$R$18:$R$1017),0)","v":0},{"$f":"IFERROR($E170*SUMIF('Daily Log'!$T$18:$T$1017,$B170,'Daily Log'!$U$18:$U$1017),0)","v":0},{"$f":"IFERROR($E170*SUMIF('Daily Log'!$W$18:$W$1017,$B170,'Daily Log'!$X$18:$X$1017),0)","v":0},{"$f":"IFERROR($E170*SUMIF('Daily Log'!$Z$18:$Z$1017,$B170,'Daily Log'!$AA$18:$AA$1017),0)","v":0},{"$f":"IFERROR($E170*SUMIF('Daily Log'!$AC$18:$AC$1017,$B170,'Daily Log'!$AD$18:$AD$1017),0)","v":0},{"$f":"IFERROR($E170*SUMIF('Daily Log'!$AF$18:$AF$1017,$B170,'Daily Log'!$AG$18:$AG$1017),0)","v":0},{"$f":"IFERROR($E170*SUMIF('Daily Log'!$AI$18:$AI$1017,$B170,'Daily Log'!$AJ$18:$AJ$1017),0)","v":0},{"$f":"IFERROR($E170*SUMIF('Daily Log'!$AL$18:$AL$1017,$B170,'Daily Log'!$AM$18:$AM$1017),0)","v":0},{"$f":"IFERROR($E170*SUMIF('Daily Log'!$AO$18:$AO$1017,$B170,'Daily Log'!$AP$18:$AP$1017),0)","v":0},{"$f":"IFERROR($E170*SUMIF('Daily Log'!$AR$18:$AR$1017,$B170,'Daily Log'!$AS$18:$AS$1017),0)","v":0},{"$f":"IFERROR($E170*SUMIF('Daily Log'!$AU$18:$AU$1017,$B170,'Daily Log'!$AV$18:$AV$1017),0)","v":0},{"$f":"IFERROR($E170*SUMIF('Daily Log'!$AX$18:$AX$1017,$B170,'Daily Log'!$AY$18:$AY$1017),0)","v":0},{"$f":"IFERROR($E170*SUMIF('Daily Log'!$BA$18:$BA$1017,$B170,'Daily Log'!$BB$18:$BB$1017),0)","v":0},{"$f":"IFERROR($E170*SUMIF('Daily Log'!$BD$18:$BD$1017,$B170,'Daily Log'!$BE$18:$BE$1017),0)","v":0},{"$f":"IFERROR($E170*SUMIF('Daily Log'!$BG$18:$BG$1017,$B170,'Daily Log'!$BH$18:$BH$1017),0)","v":0},{"$f":"IFERROR($E170*SUMIF('Daily Log'!$BJ$18:$BJ$1017,$B170,'Daily Log'!$BK$18:$BK$1017),0)","v":0},{"$f":"IFERROR($E170*SUMIF('Daily Log'!$BM$18:$BM$1017,$B170,'Daily Log'!$BN$18:$BN$1017),0)","v":0},{"$f":"IFERROR($E170*SUMIF('Daily Log'!$BP$18:$BP$1017,$B170,'Daily Log'!$BQ$18:$BQ$1017),0)","v":0},{"$f":"IFERROR($E170*SUMIF('Daily Log'!$BS$18:$BS$1017,$B170,'Daily Log'!$BT$18:$BT$1017),0)","v":0},{"$f":"IFERROR($E170*SUMIF('Daily Log'!$BV$18:$BV$1017,$B170,'Daily Log'!$BW$18:$BW$1017),0)","v":0},{"$f":"IFERROR($E170*SUMIF('Daily Log'!$BY$18:$BY$1017,$B170,'Daily Log'!$BZ$18:$BZ$1017),0)","v":0},{"$f":"IFERROR($E170*SUMIF('Daily Log'!$CB$18:$CB$1017,$B170,'Daily Log'!$CC$18:$CC$1017),0)","v":0},{"$f":"IFERROR($E170*SUMIF('Daily Log'!$CE$18:$CE$1017,$B170,'Daily Log'!$CF$18:$CF$1017),0)","v":0},{"$f":"IFERROR($E170*SUMIF('Daily Log'!$CH$18:$CH$1017,$B170,'Daily Log'!$CI$18:$CI$1017),0)","v":0},{"$f":"IFERROR($E170*SUMIF('Daily Log'!$CK$18:$CK$1017,$B170,'Daily Log'!$CL$18:$CL$1017),0)","v":12},{"$f":"IFERROR($E170*SUMIF('Daily Log'!$CN$18:$CN$1017,$B170,'Daily Log'!$CO$18:$CO$1017),0)","v":0}]
[null,"BA12 HEINEKEN BKT",null,"BEER ",4,152,{"$f":"IFERROR($E171*SUMIF('Daily Log'!$B$18:$B$1017,$B171,'Daily Log'!$C$18:$C$1017),0)","v":0},{"$f":"IFERROR($E171*SUMIF('Daily Log'!$E$18:$E$1017,$B171,'Daily Log'!$F$18:$F$1017),0)","v":0},{"$f":"IFERROR($E171*SUMIF('Daily Log'!$H$18:$H$1017,$B171,'Daily Log'!$I$18:$I$1017),0)","v":0},{"$f":"IFERROR($E171*SUMIF('Daily Log'!$K$18:$K$1017,$B171,'Daily Log'!$L$18:$L$1017),0)","v":0},{"$f":"IFERROR($E171*SUMIF('Daily Log'!$N$18:$N$1017,$B171,'Daily Log'!$O$18:$O$1017),0)","v":0},{"$f":"IFERROR($E171*SUMIF('Daily Log'!$Q$18:$Q$1017,$B171,'Daily Log'!$R$18:$R$1017),0)","v":0},{"$f":"IFERROR($E171*SUMIF('Daily Log'!$T$18:$T$1017,$B171,'Daily Log'!$U$18:$U$1017),0)","v":0},{"$f":"IFERROR($E171*SUMIF('Daily Log'!$W$18:$W$1017,$B171,'Daily Log'!$X$18:$X$1017),0)","v":0},{"$f":"IFERROR($E171*SUMIF('Daily Log'!$Z$18:$Z$1017,$B171,'Daily Log'!$AA$18:$AA$1017),0)","v":0},{"$f":"IFERROR($E171*SUMIF('Daily Log'!$AC$18:$AC$1017,$B171,'Daily Log'!$AD$18:$AD$1017),0)","v":0},{"$f":"IFERROR($E171*SUMIF('Daily Log'!$AF$18:$AF$1017,$B171,'Daily Log'!$AG$18:$AG$1017),0)","v":0},{"$f":"IFERROR($E171*SUMIF('Daily Log'!$AI$18:$AI$1017,$B171,'Daily Log'!$AJ$18:$AJ$1017),0)","v":0},{"$f":"IFERROR($E171*SUMIF('Daily Log'!$AL$18:$AL$1017,$B171,'Daily Log'!$AM$18:$AM$1017),0)","v":0},{"$f":"IFERROR($E171*SUMIF('Daily Log'!$AO$18:$AO$1017,$B171,'Daily Log'!$AP$18:$AP$1017),0)","v":0},{"$f":"IFERROR($E171*SUMIF('Daily Log'!$AR$18:$AR$1017,$B171,'Daily Log'!$AS$18:$AS$1017),0)","v":0},{"$f":"IFERROR($E171*SUMIF('Daily Log'!$AU$18:$AU$1017,$B171,'Daily Log'!$AV$18:$AV$1017),0)","v":0},{"$f":"IFERROR($E171*SUMIF('Daily Log'!$AX$18:$AX$1017,$B171,'Daily Log'!$AY$18:$AY$1017),0)","v":0},{"$f":"IFERROR($E171*SUMIF('Daily Log'!$BA$18:$BA$1017,$B171,'Daily Log'!$BB$18:$BB$1017),0)","v":0},{"$f":"IFERROR($E171*SUMIF('Daily Log'!$BD$18:$BD$1017,$B171,'Daily Log'!$BE$18:$BE$1017),0)","v":0},{"$f":"IFERROR($E171*SUMIF('Daily Log'!$BG$18:$BG$1017,$B171,'Daily Log'!$BH$18:$BH$1017),0)","v":0},{"$f":"IFERROR($E171*SUMIF('Daily Log'!$BJ$18:$BJ$1017,$B171,'Daily Log'!$BK$18:$BK$1017),0)","v":0},{"$f":"IFERROR($E171*SUMIF('Daily Log'!$BM$18:$BM$1017,$B171,'Daily Log'!$BN$18:$BN$1017),0)","v":0},{"$f":"IFERROR($E171*SUMIF('Daily Log'!$BP$18:$BP$1017,$B171,'Daily Log'!$BQ$18:$BQ$1017),0)","v":0},{"$f":"IFERROR($E171*SUMIF('Daily Log'!$BS$18:$BS$1017,$B171,'Daily Log'!$BT$18:$BT$1017),0)","v":0},{"$f":"IFERROR($E171*SUMIF('Daily Log'!$BV$18:$BV$1017,$B171,'Daily Log'!$BW$18:$BW$1017),0)","v":0},{"$f":"IFERROR($E171*SUMIF('Daily Log'!$BY$18:$BY$1017,$B171,'Daily Log'!$BZ$18:$BZ$1017),0)","v":0},{"$f":"IFERROR($E171*SUMIF('Daily Log'!$CB$18:$CB$1017,$B171,'Daily Log'!$CC$18:$CC$1017),0)","v":0},{"$f":"IFERROR($E171*SUMIF('Daily Log'!$CE$18:$CE$1017,$B171,'Daily Log'!$CF$18:$CF$1017),0)","v":0},{"$f":"IFERROR($E171*SUMIF('Daily Log'!$CH$18:$CH$1017,$B171,'Daily Log'!$CI$18:$CI$1017),0)","v":0},{"$f":"IFERROR($E171*SUMIF('Daily Log'!$CK$18:$CK$1017,$B171,'Daily Log'!$CL$18:$CL$1017),0)","v":152},{"$f":"IFERROR($E171*SUMIF('Daily Log'!$CN$18:$CN$1017,$B171,'Daily Log'!$CO$18:$CO$1017),0)","v":0}]
[null,"BA13 HEINEKEN RND",null,"BEER ",12,96,{"$f":"IFERROR($E172*SUMIF('Daily Log'!$B$18:$B$1017,$B172,'Daily Log'!$C$18:$C$1017),0)","v":0},{"$f":"IFERROR($E172*SUMIF('Daily Log'!$E$18:$E$1017,$B172,'Daily Log'!$F$18:$F$1017),0)","v":0},{"$f":"IFERROR($E172*SUMIF('Daily Log'!$H$18:$H$1017,$B172,'Daily Log'!$I$18:$I$1017),0)","v":0},{"$f":"IFERROR($E172*SUMIF('Daily Log'!$K$18:$K$1017,$B172,'Daily Log'!$L$18:$L$1017),0)","v":0},{"$f":"IFERROR($E172*SUMIF('Daily Log'!$N$18:$N$1017,$B172,'Daily Log'!$O$18:$O$1017),0)","v":0},{"$f":"IFERROR($E172*SUMIF('Daily Log'!$Q$18:$Q$1017,$B172,'Daily Log'!$R$18:$R$1017),0)","v":0},{"$f":"IFERROR($E172*SUMIF('Daily Log'!$T$18:$T$1017,$B172,'Daily Log'!$U$18:$U$1017),0)","v":0},{"$f":"IFERROR($E172*SUMIF('Daily Log'!$W$18:$W$1017,$B172,'Daily Log'!$X$18:$X$1017),0)","v":0},{"$f":"IFERROR($E172*SUMIF('Daily Log'!$Z$18:$Z$1017,$B172,'Daily Log'!$AA$18:$AA$1017),0)","v":0},{"$f":"IFERROR($E172*SUMIF('Daily Log'!$AC$18:$AC$1017,$B172,'Daily Log'!$AD$18:$AD$1017),0)","v":0},{"$f":"IFERROR($E172*SUMIF('Daily Log'!$AF$18:$AF$1017,$B172,'Daily Log'!$AG$18:$AG$1017),0)","v":0},{"$f":"IFERROR($E172*SUMIF('Daily Log'!$AI$18:$AI$1017,$B172,'Daily Log'!$AJ$18:$AJ$1017),0)","v":0},{"$f":"IFERROR($E172*SUMIF('Daily Log'!$AL$18:$AL$1017,$B172,'Daily Log'!$AM$18:$AM$1017),0)","v":0},{"$f":"IFERROR($E172*SUMIF('Daily Log'!$AO$18:$AO$1017,$B172,'Daily Log'!$AP$18:$AP$1017),0)","v":0},{"$f":"IFERROR($E172*SUMIF('Daily Log'!$AR$18:$AR$1017,$B172,'Daily Log'!$AS$18:$AS$1017),0)","v":0},{"$f":"IFERROR($E172*SUMIF('Daily Log'!$AU$18:$AU$1017,$B172,'Daily Log'!$AV$18:$AV$1017),0)","v":0},{"$f":"IFERROR($E172*SUMIF('Daily Log'!$AX$18:$AX$1017,$B172,'Daily Log'!$AY$18:$AY$1017),0)","v":0},{"$f":"IFERROR($E172*SUMIF('Daily Log'!$BA$18:$BA$1017,$B172,'Daily Log'!$BB$18:$BB$1017),0)","v":0},{"$f":"IFERROR($E172*SUMIF('Daily Log'!$BD$18:$BD$1017,$B172,'Daily Log'!$BE$18:$BE$1017),0)","v":0},{"$f":"IFERROR($E172*SUMIF('Daily Log'!$BG$18:$BG$1017,$B172,'Daily Log'!$BH$18:$BH$1017),0)","v":0},{"$f":"IFERROR($E172*SUMIF('Daily Log'!$BJ$18:$BJ$1017,$B172,'Daily Log'!$BK$18:$BK$1017),0)","v":0},{"$f":"IFERROR($E172*SUMIF('Daily Log'!$BM$18:$BM$1017,$B172,'Daily Log'!$BN$18:$BN$1017),0)","v":0},{"$f":"IFERROR($E172*SUMIF('Daily Log'!$BP$18:$BP$1017,$B172,'Daily Log'!$BQ$18:$BQ$1017),0)","v":0},{"$f":"IFERROR($E172*SUMIF('Daily Log'!$BS$18:$BS$1017,$B172,'Daily Log'!$BT$18:$BT$1017),0)","v":0},{"$f":"IFERROR($E172*SUMIF('Daily Log'!$BV$18:$BV$1017,$B172,'Daily Log'!$BW$18:$BW$1017),0)","v":0},{"$f":"IFERROR($E172*SUMIF('Daily Log'!$BY$18:$BY$1017,$B172,'Daily Log'!$BZ$18:$BZ$1017),0)","v":0},{"$f":"IFERROR($E172*SUMIF('Daily Log'!$CB$18:$CB$1017,$B172,'Daily Log'!$CC$18:$CC$1017),0)","v":0},{"$f":"IFERROR($E172*SUMIF('Daily Log'!$CE$18:$CE$1017,$B172,'Daily Log'!$CF$18:$CF$1017),0)","v":0},{"$f":"IFERROR($E172*SUMIF('Daily Log'!$CH$18:$CH$1017,$B172,'Daily Log'!$CI$18:$CI$1017),0)","v":0},{"$f":"IFERROR($E172*SUMIF('Daily Log'!$CK$18:$CK$1017,$B172,'Daily Log'!$CL$18:$CL$1017),0)","v":96},{"$f":"IFERROR($E172*SUMIF('Daily Log'!$CN$18:$CN$1017,$B172,'Daily Log'!$CO$18:$CO$1017),0)","v":0}]
[null,"BA14 TIGER BTL",null,"BEER ",1,24,{"$f":"IFERROR($E173*SUMIF('Daily Log'!$B$18:$B$1017,$B173,'Daily Log'!$C$18:$C$1017),0)","v":0},{"$f":"IFERROR($E173*SUMIF('Daily Log'!$E$18:$E$1017,$B173,'Daily Log'!$F$18:$F$1017),0)","v":0},{"$f":"IFERROR($E173*SUMIF('Daily Log'!$H$18:$H$1017,$B173,'Daily Log'!$I$18:$I$1017),0)","v":0},{"$f":"IFERROR($E173*SUMIF('Daily Log'!$K$18:$K$1017,$B173,'Daily Log'!$L$18:$L$1017),0)","v":0},{"$f":"IFERROR($E173*SUMIF('Daily Log'!$N$18:$N$1017,$B173,'Daily Log'!$O$18:$O$1017),0)","v":0},{"$f":"IFERROR($E173*SUMIF('Daily Log'!$Q$18:$Q$1017,$B173,'Daily Log'!$R$18:$R$1017),0)","v":0},{"$f":"IFERROR($E173*SUMIF('Daily Log'!$T$18:$T$1017,$B173,'Daily Log'!$U$18:$U$1017),0)","v":0},{"$f":"IFERROR($E173*SUMIF('Daily Log'!$W$18:$W$1017,$B173,'Daily Log'!$X$18:$X$1017),0)","v":0},{"$f":"IFERROR($E173*SUMIF('Daily Log'!$Z$18:$Z$1017,$B173,'Daily Log'!$AA$18:$AA$1017),0)","v":0},{"$f":"IFERROR($E173*SUMIF('Daily Log'!$AC$18:$AC$1017,$B173,'Daily Log'!$AD$18:$AD$1017),0)","v":0},{"$f":"IFERROR($E173*SUMIF('Daily Log'!$AF$18:$AF$1017,$B173,'Daily Log'!$AG$18:$AG$1017),0)","v":0},{"$f":"IFERROR($E173*SUMIF('Daily Log'!$AI$18:$AI$1017,$B173,'Daily Log'!$AJ$18:$AJ$1017),0)","v":0},{"$f":"IFERROR($E173*SUMIF('Daily Log'!$AL$18:$AL$1017,$B173,'Daily Log'!$AM$18:$AM$1017),0)","v":0},{"$f":"IFERROR($E173*SUMIF('Daily Log'!$AO$18:$AO$1017,$B173,'Daily Log'!$AP$18:$AP$1017),0)","v":0},{"$f":"IFERROR($E173*SUMIF('Daily Log'!$AR$18:$AR$1017,$B173,'Daily Log'!$AS$18:$AS$1017),0)","v":0},{"$f":"IFERROR($E173*SUMIF('Daily Log'!$AU$18:$AU$1017,$B173,'Daily Log'!$AV$18:$AV$1017),0)","v":0},{"$f":"IFERROR($E173*SUMIF('Daily Log'!$AX$18:$AX$1017,$B173,'Daily Log'!$AY$18:$AY$1017),0)","v":0},{"$f":"IFERROR($E173*SUMIF('Daily Log'!$BA$18:$BA$1017,$B173,'Daily Log'!$BB$18:$BB$1017),0)","v":0},{"$f":"IFERROR($E173*SUMIF('Daily Log'!$BD$18:$BD$1017,$B173,'Daily Log'!$BE$18:$BE$1017),0)","v":0},{"$f":"IFERROR($E173*SUMIF('Daily Log'!$BG$18:$BG$1017,$B173,'Daily Log'!$BH$18:$BH$1017),0)","v":0},{"$f":"IFERROR($E173*SUMIF('Daily Log'!$BJ$18:$BJ$1017,$B173,'Daily Log'!$BK$18:$BK$1017),0)","v":0},{"$f":"IFERROR($E173*SUMIF('Daily Log'!$BM$18:$BM$1017,$B173,'Daily Log'!$BN$18:$BN$1017),0)","v":0},{"$f":"IFERROR($E173*SUMIF('Daily Log'!$BP$18:$BP$1017,$B173,'Daily Log'!$BQ$18:$BQ$1017),0)","v":0},{"$f":"IFERROR($E173*SUMIF('Daily Log'!$BS$18:$BS$1017,$B173,'Daily Log'!$BT$18:$BT$1017),0)","v":0},{"$f":"IFERROR($E173*SUMIF('Daily Log'!$BV$18:$BV$1017,$B173,'Daily Log'!$BW$18:$BW$1017),0)","v":0},{"$f":"IFERROR($E173*SUMIF('Daily Log'!$BY$18:$BY$1017,$B173,'Daily Log'!$BZ$18:$BZ$1017),0)","v":0},{"$f":"IFERROR($E173*SUMIF('Daily Log'!$CB$18:$CB$1017,$B173,'Daily Log'!$CC$18:$CC$1017),0)","v":0},{"$f":"IFERROR($E173*SUMIF('Daily Log'!$CE$18:$CE$1017,$B173,'Daily Log'!$CF$18:$CF$1017),0)","v":0},{"$f":"IFERROR($E173*SUMIF('Daily Log'!$CH$18:$CH$1017,$B173,'Daily Log'!$CI$18:$CI$1017),0)","v":0},{"$f":"IFERROR($E173*SUMIF('Daily Log'!$CK$18:$CK$1017,$B173,'Daily Log'!$CL$18:$CL$1017),0)","v":24},{"$f":"IFERROR($E173*SUMIF('Daily Log'!$CN$18:$CN$1017,$B173,'Daily Log'!$CO$18:$CO$1017),0)","v":0}]
[null,"BA15 TIGER BKT",null,"BEER ",4,316,{"$f":"IFERROR($E174*SUMIF('Daily Log'!$B$18:$B$1017,$B174,'Daily Log'!$C$18:$C$1017),0)","v":0},{"$f":"IFERROR($E174*SUMIF('Daily Log'!$E$18:$E$1017,$B174,'Daily Log'!$F$18:$F$1017),0)","v":0},{"$f":"IFERROR($E174*SUMIF('Daily Log'!$H$18:$H$1017,$B174,'Daily Log'!$I$18:$I$1017),0)","v":0},{"$f":"IFERROR($E174*SUMIF('Daily Log'!$K$18:$K$1017,$B174,'Daily Log'!$L$18:$L$1017),0)","v":0},{"$f":"IFERROR($E174*SUMIF('Daily Log'!$N$18:$N$1017,$B174,'Daily Log'!$O$18:$O$1017),0)","v":0},{"$f":"IFERROR($E174*SUMIF('Daily Log'!$Q$18:$Q$1017,$B174,'Daily Log'!$R$18:$R$1017),0)","v":0},{"$f":"IFERROR($E174*SUMIF('Daily Log'!$T$18:$T$1017,$B174,'Daily Log'!$U$18:$U$1017),0)","v":0},{"$f":"IFERROR($E174*SUMIF('Daily Log'!$W$18:$W$1017,$B174,'Daily Log'!$X$18:$X$1017),0)","v":0},{"$f":"IFERROR($E174*SUMIF('Daily Log'!$Z$18:$Z$1017,$B174,'Daily Log'!$AA$18:$AA$1017),0)","v":0},{"$f":"IFERROR($E174*SUMIF('Daily Log'!$AC$18:$AC$1017,$B174,'Daily Log'!$AD$18:$AD$1017),0)","v":0},{"$f":"IFERROR($E174*SUMIF('Daily Log'!$AF$18:$AF$1017,$B174,'Daily Log'!$AG$18:$AG$1017),0)","v":0},{"$f":"IFERROR($E174*SUMIF('Daily Log'!$AI$18:$AI$1017,$B174,'Daily Log'!$AJ$18:$AJ$1017),0)","v":0},{"$f":"IFERROR($E174*SUMIF('Daily Log'!$AL$18:$AL$1017,$B174,'Daily Log'!$AM$18:$AM$1017),0)","v":0},{"$f":"IFERROR($E174*SUMIF('Daily Log'!$AO$18:$AO$1017,$B174,'Daily Log'!$AP$18:$AP$1017),0)","v":0},{"$f":"IFERROR($E174*SUMIF('Daily Log'!$AR$18:$AR$1017,$B174,'Daily Log'!$AS$18:$AS$1017),0)","v":0},{"$f":"IFERROR($E174*SUMIF('Daily Log'!$AU$18:$AU$1017,$B174,'Daily Log'!$AV$18:$AV$1017),0)","v":0},{"$f":"IFERROR($E174*SUMIF('Daily Log'!$AX$18:$AX$1017,$B174,'Daily Log'!$AY$18:$AY$1017),0)","v":0},{"$f":"IFERROR($E174*SUMIF('Daily Log'!$BA$18:$BA$1017,$B174,'Daily Log'!$BB$18:$BB$1017),0)","v":0},{"$f":"IFERROR($E174*SUMIF('Daily Log'!$BD$18:$BD$1017,$B174,'Daily Log'!$BE$18:$BE$1017),0)","v":0},{"$f":"IFERROR($E174*SUMIF('Daily Log'!$BG$18:$BG$1017,$B174,'Daily Log'!$BH$18:$BH$1017),0)","v":0},{"$f":"IFERROR($E174*SUMIF('Daily Log'!$BJ$18:$BJ$1017,$B174,'Daily Log'!$BK$18:$BK$1017),0)","v":0},{"$f":"IFERROR($E174*SUMIF('Daily Log'!$BM$18:$BM$1017,$B174,'Daily Log'!$BN$18:$BN$1017),0)","v":0},{"$f":"IFERROR($E174*SUMIF('Daily Log'!$BP$18:$BP$1017,$B174,'Daily Log'!$BQ$18:$BQ$1017),0)","v":0},{"$f":"IFERROR($E174*SUMIF('Daily Log'!$BS$18:$BS$1017,$B174,'Daily Log'!$BT$18:$BT$1017),0)","v":0},{"$f":"IFERROR($E174*SUMIF('Daily Log'!$BV$18:$BV$1017,$B174,'Daily Log'!$BW$18:$BW$1017),0)","v":0},{"$f":"IFERROR($E174*SUMIF('Daily Log'!$BY$18:$BY$1017,$B174,'Daily Log'!$BZ$18:$BZ$1017),0)","v":0},{"$f":"IFERROR($E174*SUMIF('Daily Log'!$CB$18:$CB$1017,$B174,'Daily Log'!$CC$18:$CC$1017),0)","v":0},{"$f":"IFERROR($E174*SUMIF('Daily Log'!$CE$18:$CE$1017,$B174,'Daily Log'!$CF$18:$CF$1017),0)","v":0},{"$f":"IFERROR($E174*SUMIF('Daily Log'!$CH$18:$CH$1017,$B174,'Daily Log'!$CI$18:$CI$1017),0)","v":0},{"$f":"IFERROR($E174*SUMIF('Daily Log'!$CK$18:$CK$1017,$B174,'Daily Log'!$CL$18:$CL$1017),0)","v":316},{"$f":"IFERROR($E174*SUMIF('Daily Log'!$CN$18:$CN$1017,$B174,'Daily Log'!$CO$18:$CO$1017),0)","v":0}]
[null,"BA16 TIGER RND",null,"BEER ",12,432,{"$f":"IFERROR($E175*SUMIF('Daily Log'!$B$18:$B$1017,$B175,'Daily Log'!$C$18:$C$1017),0)","v":0},{"$f":"IFERROR($E175*SUMIF('Daily Log'!$E$18:$E$1017,$B175,'Daily Log'!$F$18:$F$1017),0)","v":0},{"$f":"IFERROR($E175*SUMIF('Daily Log'!$H$18:$H$1017,$B175,'Daily Log'!$I$18:$I$1017),0)","v":0},{"$f":"IFERROR($E175*SUMIF('Daily Log'!$K$18:$K$1017,$B175,'Daily Log'!$L$18:$L$1017),0)","v":0},{"$f":"IFERROR($E175*SUMIF('Daily Log'!$N$18:$N$1017,$B175,'Daily Log'!$O$18:$O$1017),0)","v":0},{"$f":"IFERROR($E175*SUMIF('Daily Log'!$Q$18:$Q$1017,$B175,'Daily Log'!$R$18:$R$1017),0)","v":0},{"$f":"IFERROR($E175*SUMIF('Daily Log'!$T$18:$T$1017,$B175,'Daily Log'!$U$18:$U$1017),0)","v":0},{"$f":"IFERROR($E175*SUMIF('Daily Log'!$W$18:$W$1017,$B175,'Daily Log'!$X$18:$X$1017),0)","v":0},{"$f":"IFERROR($E175*SUMIF('Daily Log'!$Z$18:$Z$1017,$B175,'Daily Log'!$AA$18:$AA$1017),0)","v":0},{"$f":"IFERROR($E175*SUMIF('Daily Log'!$AC$18:$AC$1017,$B175,'Daily Log'!$AD$18:$AD$1017),0)","v":0},{"$f":"IFERROR($E175*SUMIF('Daily Log'!$AF$18:$AF$1017,$B175,'Daily Log'!$AG$18:$AG$1017),0)","v":0},{"$f":"IFERROR($E175*SUMIF('Daily Log'!$AI$18:$AI$1017,$B175,'Daily Log'!$AJ$18:$AJ$1017),0)","v":0},{"$f":"IFERROR($E175*SUMIF('Daily Log'!$AL$18:$AL$1017,$B175,'Daily Log'!$AM$18:$AM$1017),0)","v":0},{"$f":"IFERROR($E175*SUMIF('Daily Log'!$AO$18:$AO$1017,$B175,'Daily Log'!$AP$18:$AP$1017),0)","v":0},{"$f":"IFERROR($E175*SUMIF('Daily Log'!$AR$18:$AR$1017,$B175,'Daily Log'!$AS$18:$AS$1017),0)","v":0},{"$f":"IFERROR($E175*SUMIF('Daily Log'!$AU$18:$AU$1017,$B175,'Daily Log'!$AV$18:$AV$1017),0)","v":0},{"$f":"IFERROR($E175*SUMIF('Daily Log'!$AX$18:$AX$1017,$B175,'Daily Log'!$AY$18:$AY$1017),0)","v":0},{"$f":"IFERROR($E175*SUMIF('Daily Log'!$BA$18:$BA$1017,$B175,'Daily Log'!$BB$18:$BB$1017),0)","v":0},{"$f":"IFERROR($E175*SUMIF('Daily Log'!$BD$18:$BD$1017,$B175,'Daily Log'!$BE$18:$BE$1017),0)","v":0},{"$f":"IFERROR($E175*SUMIF('Daily Log'!$BG$18:$BG$1017,$B175,'Daily Log'!$BH$18:$BH$1017),0)","v":0},{"$f":"IFERROR($E175*SUMIF('Daily Log'!$BJ$18:$BJ$1017,$B175,'Daily Log'!$BK$18:$BK$1017),0)","v":0},{"$f":"IFERROR($E175*SUMIF('Daily Log'!$BM$18:$BM$1017,$B175,'Daily Log'!$BN$18:$BN$1017),0)","v":0},{"$f":"IFERROR($E175*SUMIF('Daily Log'!$BP$18:$BP$1017,$B175,'Daily Log'!$BQ$18:$BQ$1017),0)","v":0},{"$f":"IFERROR($E175*SUMIF('Daily Log'!$BS$18:$BS$1017,$B175,'Daily Log'!$BT$18:$BT$1017),0)","v":0},{"$f":"IFERROR($E175*SUMIF('Daily Log'!$BV$18:$BV$1017,$B175,'Daily Log'!$BW$18:$BW$1017),0)","v":0},{"$f":"IFERROR($E175*SUMIF('Daily Log'!$BY$18:$BY$1017,$B175,'Daily Log'!$BZ$18:$BZ$1017),0)","v":0},{"$f":"IFERROR($E175*SUMIF('Daily Log'!$CB$18:$CB$1017,$B175,'Daily Log'!$CC$18:$CC$1017),0)","v":0},{"$f":"IFERROR($E175*SUMIF('Daily Log'!$CE$18:$CE$1017,$B175,'Daily Log'!$CF$18:$CF$1017),0)","v":0},{"$f":"IFERROR($E175*SUMIF('Daily Log'!$CH$18:$CH$1017,$B175,'Daily Log'!$CI$18:$CI$1017),0)","v":0},{"$f":"IFERROR($E175*SUMIF('Daily Log'!$CK$18:$CK$1017,$B175,'Daily Log'!$CL$18:$CL$1017),0)","v":432},{"$f":"IFERROR($E175*SUMIF('Daily Log'!$CN$18:$CN$1017,$B175,'Daily Log'!$CO$18:$CO$1017),0)","v":0}]
[null,"BA17 TIGER 3+1",null,"BEER ",12,0,{"$f":"IFERROR($E176*SUMIF('Daily Log'!$B$18:$B$1017,$B176,'Daily Log'!$C$18:$C$1017),0)","v":0},{"$f":"IFERROR($E176*SUMIF('Daily Log'!$E$18:$E$1017,$B176,'Daily Log'!$F$18:$F$1017),0)","v":0},{"$f":"IFERROR($E176*SUMIF('Daily Log'!$H$18:$H$1017,$B176,'Daily Log'!$I$18:$I$1017),0)","v":0},{"$f":"IFERROR($E176*SUMIF('Daily Log'!$K$18:$K$1017,$B176,'Daily Log'!$L$18:$L$1017),0)","v":0},{"$f":"IFERROR($E176*SUMIF('Daily Log'!$N$18:$N$1017,$B176,'Daily Log'!$O$18:$O$1017),0)","v":0},{"$f":"IFERROR($E176*SUMIF('Daily Log'!$Q$18:$Q$1017,$B176,'Daily Log'!$R$18:$R$1017),0)","v":0},{"$f":"IFERROR($E176*SUMIF('Daily Log'!$T$18:$T$1017,$B176,'Daily Log'!$U$18:$U$1017),0)","v":0},{"$f":"IFERROR($E176*SUMIF('Daily Log'!$W$18:$W$1017,$B176,'Daily Log'!$X$18:$X$1017),0)","v":0},{"$f":"IFERROR($E176*SUMIF('Daily Log'!$Z$18:$Z$1017,$B176,'Daily Log'!$AA$18:$AA$1017),0)","v":0},{"$f":"IFERROR($E176*SUMIF('Daily Log'!$AC$18:$AC$1017,$B176,'Daily Log'!$AD$18:$AD$1017),0)","v":0},{"$f":"IFERROR($E176*SUMIF('Daily Log'!$AF$18:$AF$1017,$B176,'Daily Log'!$AG$18:$AG$1017),0)","v":0},{"$f":"IFERROR($E176*SUMIF('Daily Log'!$AI$18:$AI$1017,$B176,'Daily Log'!$AJ$18:$AJ$1017),0)","v":0},{"$f":"IFERROR($E176*SUMIF('Daily Log'!$AL$18:$AL$1017,$B176,'Daily Log'!$AM$18:$AM$1017),0)","v":0},{"$f":"IFERROR($E176*SUMIF('Daily Log'!$AO$18:$AO$1017,$B176,'Daily Log'!$AP$18:$AP$1017),0)","v":0},{"$f":"IFERROR($E176*SUMIF('Daily Log'!$AR$18:$AR$1017,$B176,'Daily Log'!$AS$18:$AS$1017),0)","v":0},{"$f":"IFERROR($E176*SUMIF('Daily Log'!$AU$18:$AU$1017,$B176,'Daily Log'!$AV$18:$AV$1017),0)","v":0},{"$f":"IFERROR($E176*SUMIF('Daily Log'!$AX$18:$AX$1017,$B176,'Daily Log'!$AY$18:$AY$1017),0)","v":0},{"$f":"IFERROR($E176*SUMIF('Daily Log'!$BA$18:$BA$1017,$B176,'Daily Log'!$BB$18:$BB$1017),0)","v":0},{"$f":"IFERROR($E176*SUMIF('Daily Log'!$BD$18:$BD$1017,$B176,'Daily Log'!$BE$18:$BE$1017),0)","v":0},{"$f":"IFERROR($E176*SUMIF('Daily Log'!$BG$18:$BG$1017,$B176,'Daily Log'!$BH$18:$BH$1017),0)","v":0},{"$f":"IFERROR($E176*SUMIF('Daily Log'!$BJ$18:$BJ$1017,$B176,'Daily Log'!$BK$18:$BK$1017),0)","v":0},{"$f":"IFERROR($E176*SUMIF('Daily Log'!$BM$18:$BM$1017,$B176,'Daily Log'!$BN$18:$BN$1017),0)","v":0},{"$f":"IFERROR($E176*SUMIF('Daily Log'!$BP$18:$BP$1017,$B176,'Daily Log'!$BQ$18:$BQ$1017),0)","v":0},{"$f":"IFERROR($E176*SUMIF('Daily Log'!$BS$18:$BS$1017,$B176,'Daily Log'!$BT$18:$BT$1017),0)","v":0},{"$f":"IFERROR($E176*SUMIF('Daily Log'!$BV$18:$BV$1017,$B176,'Daily Log'!$BW$18:$BW$1017),0)","v":0},{"$f":"IFERROR($E176*SUMIF('Daily Log'!$BY$18:$BY$1017,$B176,'Daily Log'!$BZ$18:$BZ$1017),0)","v":0},{"$f":"IFERROR($E176*SUMIF('Daily Log'!$CB$18:$CB$1017,$B176,'Daily Log'!$CC$18:$CC$1017),0)","v":0},{"$f":"IFERROR($E176*SUMIF('Daily Log'!$CE$18:$CE$1017,$B176,'Daily Log'!$CF$18:$CF$1017),0)","v":0},{"$f":"IFERROR($E176*SUMIF('Daily Log'!$CH$18:$CH$1017,$B176,'Daily Log'!$CI$18:$CI$1017),0)","v":0},{"$f":"IFERROR($E176*SUMIF('Daily Log'!$CK$18:$CK$1017,$B176,'Daily Log'!$CL$18:$CL$1017),0)","v":0},{"$f":"IFERROR($E176*SUMIF('Daily Log'!$CN$18:$CN$1017,$B176,'Daily Log'!$CO$18:$CO$1017),0)","v":0}]
[null,"BA18 BP+MEAL",null,"BEER ",null,0,{"$f":"IFERROR($E177*SUMIF('Daily Log'!$B$18:$B$1017,$B177,'Daily Log'!$C$18:$C$1017),0)","v":0},{"$f":"IFERROR($E177*SUMIF('Daily Log'!$E$18:$E$1017,$B177,'Daily Log'!$F$18:$F$1017),0)","v":0},{"$f":"IFERROR($E177*SUMIF('Daily Log'!$H$18:$H$1017,$B177,'Daily Log'!$I$18:$I$1017),0)","v":0},{"$f":"IFERROR($E177*SUMIF('Daily Log'!$K$18:$K$1017,$B177,'Daily Log'!$L$18:$L$1017),0)","v":0},{"$f":"IFERROR($E177*SUMIF('Daily Log'!$N$18:$N$1017,$B177,'Daily Log'!$O$18:$O$1017),0)","v":0},{"$f":"IFERROR($E177*SUMIF('Daily Log'!$Q$18:$Q$1017,$B177,'Daily Log'!$R$18:$R$1017),0)","v":0},{"$f":"IFERROR($E177*SUMIF('Daily Log'!$T$18:$T$1017,$B177,'Daily Log'!$U$18:$U$1017),0)","v":0},{"$f":"IFERROR($E177*SUMIF('Daily Log'!$W$18:$W$1017,$B177,'Daily Log'!$X$18:$X$1017),0)","v":0},{"$f":"IFERROR($E177*SUMIF('Daily Log'!$Z$18:$Z$1017,$B177,'Daily Log'!$AA$18:$AA$1017),0)","v":0},{"$f":"IFERROR($E177*SUMIF('Daily Log'!$AC$18:$AC$1017,$B177,'Daily Log'!$AD$18:$AD$1017),0)","v":0},{"$f":"IFERROR($E177*SUMIF('Daily Log'!$AF$18:$AF$1017,$B177,'Daily Log'!$AG$18:$AG$1017),0)","v":0},{"$f":"IFERROR($E177*SUMIF('Daily Log'!$AI$18:$AI$1017,$B177,'Daily Log'!$AJ$18:$AJ$1017),0)","v":0},{"$f":"IFERROR($E177*SUMIF('Daily Log'!$AL$18:$AL$1017,$B177,'Daily Log'!$AM$18:$AM$1017),0)","v":0},{"$f":"IFERROR($E177*SUMIF('Daily Log'!$AO$18:$AO$1017,$B177,'Daily Log'!$AP$18:$AP$1017),0)","v":0},{"$f":"IFERROR($E177*SUMIF('Daily Log'!$AR$18:$AR$1017,$B177,'Daily Log'!$AS$18:$AS$1017),0)","v":0},{"$f":"IFERROR($E177*SUMIF('Daily Log'!$AU$18:$AU$1017,$B177,'Daily Log'!$AV$18:$AV$1017),0)","v":0},{"$f":"IFERROR($E177*SUMIF('Daily Log'!$AX$18:$AX$1017,$B177,'Daily Log'!$AY$18:$AY$1017),0)","v":0},{"$f":"IFERROR($E177*SUMIF('Daily Log'!$BA$18:$BA$1017,$B177,'Daily Log'!$BB$18:$BB$1017),0)","v":0},{"$f":"IFERROR($E177*SUMIF('Daily Log'!$BD$18:$BD$1017,$B177,'Daily Log'!$BE$18:$BE$1017),0)","v":0},{"$f":"IFERROR($E177*SUMIF('Daily Log'!$BG$18:$BG$1017,$B177,'Daily Log'!$BH$18:$BH$1017),0)","v":0},{"$f":"IFERROR($E177*SUMIF('Daily Log'!$BJ$18:$BJ$1017,$B177,'Daily Log'!$BK$18:$BK$1017),0)","v":0},{"$f":"IFERROR($E177*SUMIF('Daily Log'!$BM$18:$BM$1017,$B177,'Daily Log'!$BN$18:$BN$1017),0)","v":0},{"$f":"IFERROR($E177*SUMIF('Daily Log'!$BP$18:$BP$1017,$B177,'Daily Log'!$BQ$18:$BQ$1017),0)","v":0},{"$f":"IFERROR($E177*SUMIF('Daily Log'!$BS$18:$BS$1017,$B177,'Daily Log'!$BT$18:$BT$1017),0)","v":0},{"$f":"IFERROR($E177*SUMIF('Daily Log'!$BV$18:$BV$1017,$B177,'Daily Log'!$BW$18:$BW$1017),0)","v":0},{"$f":"IFERROR($E177*SUMIF('Daily Log'!$BY$18:$BY$1017,$B177,'Daily Log'!$BZ$18:$BZ$1017),0)","v":0},{"$f":"IFERROR($E177*SUMIF('Daily Log'!$CB$18:$CB$1017,$B177,'Daily Log'!$CC$18:$CC$1017),0)","v":0},{"$f":"IFERROR($E177*SUMIF('Daily Log'!$CE$18:$CE$1017,$B177,'Daily Log'!$CF$18:$CF$1017),0)","v":0},{"$f":"IFERROR($E177*SUMIF('Daily Log'!$CH$18:$CH$1017,$B177,'Daily Log'!$CI$18:$CI$1017),0)","v":0},{"$f":"IFERROR($E177*SUMIF('Daily Log'!$CK$18:$CK$1017,$B177,'Daily Log'!$CL$18:$CL$1017),0)","v":0},{"$f":"IFERROR($E177*SUMIF('Daily Log'!$CN$18:$CN$1017,$B177,'Daily Log'!$CO$18:$CO$1017),0)","v":0}]
[null,"BA19 Tiger 2+1",null,"BEER ",12,144,{"$f":"IFERROR($E178*SUMIF('Daily Log'!$B$18:$B$1017,$B178,'Daily Log'!$C$18:$C$1017),0)","v":0},{"$f":"IFERROR($E178*SUMIF('Daily Log'!$E$18:$E$1017,$B178,'Daily Log'!$F$18:$F$1017),0)","v":0},{"$f":"IFERROR($E178*SUMIF('Daily Log'!$H$18:$H$1017,$B178,'Daily Log'!$I$18:$I$1017),0)","v":0},{"$f":"IFERROR($E178*SUMIF('Daily Log'!$K$18:$K$1017,$B178,'Daily Log'!$L$18:$L$1017),0)","v":0},{"$f":"IFERROR($E178*SUMIF('Daily Log'!$N$18:$N$1017,$B178,'Daily Log'!$O$18:$O$1017),0)","v":0},{"$f":"IFERROR($E178*SUMIF('Daily Log'!$Q$18:$Q$1017,$B178,'Daily Log'!$R$18:$R$1017),0)","v":0},{"$f":"IFERROR($E178*SUMIF('Daily Log'!$T$18:$T$1017,$B178,'Daily Log'!$U$18:$U$1017),0)","v":0},{"$f":"IFERROR($E178*SUMIF('Daily Log'!$W$18:$W$1017,$B178,'Daily Log'!$X$18:$X$1017),0)","v":0},{"$f":"IFERROR($E178*SUMIF('Daily Log'!$Z$18:$Z$1017,$B178,'Daily Log'!$AA$18:$AA$1017),0)","v":0},{"$f":"IFERROR($E178*SUMIF('Daily Log'!$AC$18:$AC$1017,$B178,'Daily Log'!$AD$18:$AD$1017),0)","v":0},{"$f":"IFERROR($E178*SUMIF('Daily Log'!$AF$18:$AF$1017,$B178,'Daily Log'!$AG$18:$AG$1017),0)","v":0},{"$f":"IFERROR($E178*SUMIF('Daily Log'!$AI$18:$AI$1017,$B178,'Daily Log'!$AJ$18:$AJ$1017),0)","v":0},{"$f":"IFERROR($E178*SUMIF('Daily Log'!$AL$18:$AL$1017,$B178,'Daily Log'!$AM$18:$AM$1017),0)","v":0},{"$f":"IFERROR($E178*SUMIF('Daily Log'!$AO$18:$AO$1017,$B178,'Daily Log'!$AP$18:$AP$1017),0)","v":0},{"$f":"IFERROR($E178*SUMIF('Daily Log'!$AR$18:$AR$1017,$B178,'Daily Log'!$AS$18:$AS$1017),0)","v":0},{"$f":"IFERROR($E178*SUMIF('Daily Log'!$AU$18:$AU$1017,$B178,'Daily Log'!$AV$18:$AV$1017),0)","v":0},{"$f":"IFERROR($E178*SUMIF('Daily Log'!$AX$18:$AX$1017,$B178,'Daily Log'!$AY$18:$AY$1017),0)","v":0},{"$f":"IFERROR($E178*SUMIF('Daily Log'!$BA$18:$BA$1017,$B178,'Daily Log'!$BB$18:$BB$1017),0)","v":0},{"$f":"IFERROR($E178*SUMIF('Daily Log'!$BD$18:$BD$1017,$B178,'Daily Log'!$BE$18:$BE$1017),0)","v":0},{"$f":"IFERROR($E178*SUMIF('Daily Log'!$BG$18:$BG$1017,$B178,'Daily Log'!$BH$18:$BH$1017),0)","v":0},{"$f":"IFERROR($E178*SUMIF('Daily Log'!$BJ$18:$BJ$1017,$B178,'Daily Log'!$BK$18:$BK$1017),0)","v":0},{"$f":"IFERROR($E178*SUMIF('Daily Log'!$BM$18:$BM$1017,$B178,'Daily Log'!$BN$18:$BN$1017),0)","v":0},{"$f":"IFERROR($E178*SUMIF('Daily Log'!$BP$18:$BP$1017,$B178,'Daily Log'!$BQ$18:$BQ$1017),0)","v":0},{"$f":"IFERROR($E178*SUMIF('Daily Log'!$BS$18:$BS$1017,$B178,'Daily Log'!$BT$18:$BT$1017),0)","v":0},{"$f":"IFERROR($E178*SUMIF('Daily Log'!$BV$18:$BV$1017,$B178,'Daily Log'!$BW$18:$BW$1017),0)","v":0},{"$f":"IFERROR($E178*SUMIF('Daily Log'!$BY$18:$BY$1017,$B178,'Daily Log'!$BZ$18:$BZ$1017),0)","v":0},{"$f":"IFERROR($E178*SUMIF('Daily Log'!$CB$18:$CB$1017,$B178,'Daily Log'!$CC$18:$CC$1017),0)","v":0},{"$f":"IFERROR($E178*SUMIF('Daily Log'!$CE$18:$CE$1017,$B178,'Daily Log'!$CF$18:$CF$1017),0)","v":0},{"$f":"IFERROR($E178*SUMIF('Daily Log'!$CH$18:$CH$1017,$B178,'Daily Log'!$CI$18:$CI$1017),0)","v":0},{"$f":"IFERROR($E178*SUMIF('Daily Log'!$CK$18:$CK$1017,$B178,'Daily Log'!$CL$18:$CL$1017),0)","v":144},{"$f":"IFERROR($E178*SUMIF('Daily Log'!$CN$18:$CN$1017,$B178,'Daily Log'!$CO$18:$CO$1017),0)","v":0}]
[null,"BA20 Heineken 3+1",null,"BEER ",16,192,{"$f":"IFERROR($E179*SUMIF('Daily Log'!$B$18:$B$1017,$B179,'Daily Log'!$C$18:$C$1017),0)","v":0},{"$f":"IFERROR($E179*SUMIF('Daily Log'!$E$18:$E$1017,$B179,'Daily Log'!$F$18:$F$1017),0)","v":0},{"$f":"IFERROR($E179*SUMIF('Daily Log'!$H$18:$H$1017,$B179,'Daily Log'!$I$18:$I$1017),0)","v":0},{"$f":"IFERROR($E179*SUMIF('Daily Log'!$K$18:$K$1017,$B179,'Daily Log'!$L$18:$L$1017),0)","v":0},{"$f":"IFERROR($E179*SUMIF('Daily Log'!$N$18:$N$1017,$B179,'Daily Log'!$O$18:$O$1017),0)","v":0},{"$f":"IFERROR($E179*SUMIF('Daily Log'!$Q$18:$Q$1017,$B179,'Daily Log'!$R$18:$R$1017),0)","v":0},{"$f":"IFERROR($E179*SUMIF('Daily Log'!$T$18:$T$1017,$B179,'Daily Log'!$U$18:$U$1017),0)","v":0},{"$f":"IFERROR($E179*SUMIF('Daily Log'!$W$18:$W$1017,$B179,'Daily Log'!$X$18:$X$1017),0)","v":0},{"$f":"IFERROR($E179*SUMIF('Daily Log'!$Z$18:$Z$1017,$B179,'Daily Log'!$AA$18:$AA$1017),0)","v":0},{"$f":"IFERROR($E179*SUMIF('Daily Log'!$AC$18:$AC$1017,$B179,'Daily Log'!$AD$18:$AD$1017),0)","v":0},{"$f":"IFERROR($E179*SUMIF('Daily Log'!$AF$18:$AF$1017,$B179,'Daily Log'!$AG$18:$AG$1017),0)","v":0},{"$f":"IFERROR($E179*SUMIF('Daily Log'!$AI$18:$AI$1017,$B179,'Daily Log'!$AJ$18:$AJ$1017),0)","v":0},{"$f":"IFERROR($E179*SUMIF('Daily Log'!$AL$18:$AL$1017,$B179,'Daily Log'!$AM$18:$AM$1017),0)","v":0},{"$f":"IFERROR($E179*SUMIF('Daily Log'!$AO$18:$AO$1017,$B179,'Daily Log'!$AP$18:$AP$1017),0)","v":0},{"$f":"IFERROR($E179*SUMIF('Daily Log'!$AR$18:$AR$1017,$B179,'Daily Log'!$AS$18:$AS$1017),0)","v":0},{"$f":"IFERROR($E179*SUMIF('Daily Log'!$AU$18:$AU$1017,$B179,'Daily Log'!$AV$18:$AV$1017),0)","v":0},{"$f":"IFERROR($E179*SUMIF('Daily Log'!$AX$18:$AX$1017,$B179,'Daily Log'!$AY$18:$AY$1017),0)","v":0},{"$f":"IFERROR($E179*SUMIF('Daily Log'!$BA$18:$BA$1017,$B179,'Daily Log'!$BB$18:$BB$1017),0)","v":0},{"$f":"IFERROR($E179*SUMIF('Daily Log'!$BD$18:$BD$1017,$B179,'Daily Log'!$BE$18:$BE$1017),0)","v":0},{"$f":"IFERROR($E179*SUMIF('Daily Log'!$BG$18:$BG$1017,$B179,'Daily Log'!$BH$18:$BH$1017),0)","v":0},{"$f":"IFERROR($E179*SUMIF('Daily Log'!$BJ$18:$BJ$1017,$B179,'Daily Log'!$BK$18:$BK$1017),0)","v":0},{"$f":"IFERROR($E179*SUMIF('Daily Log'!$BM$18:$BM$1017,$B179,'Daily Log'!$BN$18:$BN$1017),0)","v":0},{"$f":"IFERROR($E179*SUMIF('Daily Log'!$BP$18:$BP$1017,$B179,'Daily Log'!$BQ$18:$BQ$1017),0)","v":0},{"$f":"IFERROR($E179*SUMIF('Daily Log'!$BS$18:$BS$1017,$B179,'Daily Log'!$BT$18:$BT$1017),0)","v":0},{"$f":"IFERROR($E179*SUMIF('Daily Log'!$BV$18:$BV$1017,$B179,'Daily Log'!$BW$18:$BW$1017),0)","v":0},{"$f":"IFERROR($E179*SUMIF('Daily Log'!$BY$18:$BY$1017,$B179,'Daily Log'!$BZ$18:$BZ$1017),0)","v":0},{"$f":"IFERROR($E179*SUMIF('Daily Log'!$CB$18:$CB$1017,$B179,'Daily Log'!$CC$18:$CC$1017),0)","v":0},{"$f":"IFERROR($E179*SUMIF('Daily Log'!$CE$18:$CE$1017,$B179,'Daily Log'!$CF$18:$CF$1017),0)","v":0},{"$f":"IFERROR($E179*SUMIF('Daily Log'!$CH$18:$CH$1017,$B179,'Daily Log'!$CI$18:$CI$1017),0)","v":0},{"$f":"IFERROR($E179*SUMIF('Daily Log'!$CK$18:$CK$1017,$B179,'Daily Log'!$CL$18:$CL$1017),0)","v":192},{"$f":"IFERROR($E179*SUMIF('Daily Log'!$CN$18:$CN$1017,$B179,'Daily Log'!$CO$18:$CO$1017),0)","v":0}]
[null,"CA01 GRAPE J",null,"SIDE ORDER-COLD BEVERAGE",1,0,{"$f":"IFERROR($E180*SUMIF('Daily Log'!$B$18:$B$1017,$B180,'Daily Log'!$C$18:$C$1017),0)","v":0},{"$f":"IFERROR($E180*SUMIF('Daily Log'!$E$18:$E$1017,$B180,'Daily Log'!$F$18:$F$1017),0)","v":0},{"$f":"IFERROR($E180*SUMIF('Daily Log'!$H$18:$H$1017,$B180,'Daily Log'!$I$18:$I$1017),0)","v":0},{"$f":"IFERROR($E180*SUMIF('Daily Log'!$K$18:$K$1017,$B180,'Daily Log'!$L$18:$L$1017),0)","v":0},{"$f":"IFERROR($E180*SUMIF('Daily Log'!$N$18:$N$1017,$B180,'Daily Log'!$O$18:$O$1017),0)","v":0},{"$f":"IFERROR($E180*SUMIF('Daily Log'!$Q$18:$Q$1017,$B180,'Daily Log'!$R$18:$R$1017),0)","v":0},{"$f":"IFERROR($E180*SUMIF('Daily Log'!$T$18:$T$1017,$B180,'Daily Log'!$U$18:$U$1017),0)","v":0},{"$f":"IFERROR($E180*SUMIF('Daily Log'!$W$18:$W$1017,$B180,'Daily Log'!$X$18:$X$1017),0)","v":0},{"$f":"IFERROR($E180*SUMIF('Daily Log'!$Z$18:$Z$1017,$B180,'Daily Log'!$AA$18:$AA$1017),0)","v":0},{"$f":"IFERROR($E180*SUMIF('Daily Log'!$AC$18:$AC$1017,$B180,'Daily Log'!$AD$18:$AD$1017),0)","v":0},{"$f":"IFERROR($E180*SUMIF('Daily Log'!$AF$18:$AF$1017,$B180,'Daily Log'!$AG$18:$AG$1017),0)","v":0},{"$f":"IFERROR($E180*SUMIF('Daily Log'!$AI$18:$AI$1017,$B180,'Daily Log'!$AJ$18:$AJ$1017),0)","v":0},{"$f":"IFERROR($E180*SUMIF('Daily Log'!$AL$18:$AL$1017,$B180,'Daily Log'!$AM$18:$AM$1017),0)","v":0},{"$f":"IFERROR($E180*SUMIF('Daily Log'!$AO$18:$AO$1017,$B180,'Daily Log'!$AP$18:$AP$1017),0)","v":0},{"$f":"IFERROR($E180*SUMIF('Daily Log'!$AR$18:$AR$1017,$B180,'Daily Log'!$AS$18:$AS$1017),0)","v":0},{"$f":"IFERROR($E180*SUMIF('Daily Log'!$AU$18:$AU$1017,$B180,'Daily Log'!$AV$18:$AV$1017),0)","v":0},{"$f":"IFERROR($E180*SUMIF('Daily Log'!$AX$18:$AX$1017,$B180,'Daily Log'!$AY$18:$AY$1017),0)","v":0},{"$f":"IFERROR($E180*SUMIF('Daily Log'!$BA$18:$BA$1017,$B180,'Daily Log'!$BB$18:$BB$1017),0)","v":0},{"$f":"IFERROR($E180*SUMIF('Daily Log'!$BD$18:$BD$1017,$B180,'Daily Log'!$BE$18:$BE$1017),0)","v":0},{"$f":"IFERROR($E180*SUMIF('Daily Log'!$BG$18:$BG$1017,$B180,'Daily Log'!$BH$18:$BH$1017),0)","v":0},{"$f":"IFERROR($E180*SUMIF('Daily Log'!$BJ$18:$BJ$1017,$B180,'Daily Log'!$BK$18:$BK$1017),0)","v":0},{"$f":"IFERROR($E180*SUMIF('Daily Log'!$BM$18:$BM$1017,$B180,'Daily Log'!$BN$18:$BN$1017),0)","v":0},{"$f":"IFERROR($E180*SUMIF('Daily Log'!$BP$18:$BP$1017,$B180,'Daily Log'!$BQ$18:$BQ$1017),0)","v":0},{"$f":"IFERROR($E180*SUMIF('Daily Log'!$BS$18:$BS$1017,$B180,'Daily Log'!$BT$18:$BT$1017),0)","v":0},{"$f":"IFERROR($E180*SUMIF('Daily Log'!$BV$18:$BV$1017,$B180,'Daily Log'!$BW$18:$BW$1017),0)","v":0},{"$f":"IFERROR($E180*SUMIF('Daily Log'!$BY$18:$BY$1017,$B180,'Daily Log'!$BZ$18:$BZ$1017),0)","v":0},{"$f":"IFERROR($E180*SUMIF('Daily Log'!$CB$18:$CB$1017,$B180,'Daily Log'!$CC$18:$CC$1017),0)","v":0},{"$f":"IFERROR($E180*SUMIF('Daily Log'!$CE$18:$CE$1017,$B180,'Daily Log'!$CF$18:$CF$1017),0)","v":0},{"$f":"IFERROR($E180*SUMIF('Daily Log'!$CH$18:$CH$1017,$B180,'Daily Log'!$CI$18:$CI$1017),0)","v":0},{"$f":"IFERROR($E180*SUMIF('Daily Log'!$CK$18:$CK$1017,$B180,'Daily Log'!$CL$18:$CL$1017),0)","v":0},{"$f":"IFERROR($E180*SUMIF('Daily Log'!$CN$18:$CN$1017,$B180,'Daily Log'!$CO$18:$CO$1017),0)","v":0}]
[null,"CA02 APPLE J",null,"SIDE ORDER-COLD BEVERAGE",1,0,{"$f":"IFERROR($E181*SUMIF('Daily Log'!$B$18:$B$1017,$B181,'Daily Log'!$C$18:$C$1017),0)","v":0},{"$f":"IFERROR($E181*SUMIF('Daily Log'!$E$18:$E$1017,$B181,'Daily Log'!$F$18:$F$1017),0)","v":0},{"$f":"IFERROR($E181*SUMIF('Daily Log'!$H$18:$H$1017,$B181,'Daily Log'!$I$18:$I$1017),0)","v":0},{"$f":"IFERROR($E181*SUMIF('Daily Log'!$K$18:$K$1017,$B181,'Daily Log'!$L$18:$L$1017),0)","v":0},{"$f":"IFERROR($E181*SUMIF('Daily Log'!$N$18:$N$1017,$B181,'Daily Log'!$O$18:$O$1017),0)","v":0},{"$f":"IFERROR($E181*SUMIF('Daily Log'!$Q$18:$Q$1017,$B181,'Daily Log'!$R$18:$R$1017),0)","v":0},{"$f":"IFERROR($E181*SUMIF('Daily Log'!$T$18:$T$1017,$B181,'Daily Log'!$U$18:$U$1017),0)","v":0},{"$f":"IFERROR($E181*SUMIF('Daily Log'!$W$18:$W$1017,$B181,'Daily Log'!$X$18:$X$1017),0)","v":0},{"$f":"IFERROR($E181*SUMIF('Daily Log'!$Z$18:$Z$1017,$B181,'Daily Log'!$AA$18:$AA$1017),0)","v":0},{"$f":"IFERROR($E181*SUMIF('Daily Log'!$AC$18:$AC$1017,$B181,'Daily Log'!$AD$18:$AD$1017),0)","v":0},{"$f":"IFERROR($E181*SUMIF('Daily Log'!$AF$18:$AF$1017,$B181,'Daily Log'!$AG$18:$AG$1017),0)","v":0},{"$f":"IFERROR($E181*SUMIF('Daily Log'!$AI$18:$AI$1017,$B181,'Daily Log'!$AJ$18:$AJ$1017),0)","v":0},{"$f":"IFERROR($E181*SUMIF('Daily Log'!$AL$18:$AL$1017,$B181,'Daily Log'!$AM$18:$AM$1017),0)","v":0},{"$f":"IFERROR($E181*SUMIF('Daily Log'!$AO$18:$AO$1017,$B181,'Daily Log'!$AP$18:$AP$1017),0)","v":0},{"$f":"IFERROR($E181*SUMIF('Daily Log'!$AR$18:$AR$1017,$B181,'Daily Log'!$AS$18:$AS$1017),0)","v":0},{"$f":"IFERROR($E181*SUMIF('Daily Log'!$AU$18:$AU$1017,$B181,'Daily Log'!$AV$18:$AV$1017),0)","v":0},{"$f":"IFERROR($E181*SUMIF('Daily Log'!$AX$18:$AX$1017,$B181,'Daily Log'!$AY$18:$AY$1017),0)","v":0},{"$f":"IFERROR($E181*SUMIF('Daily Log'!$BA$18:$BA$1017,$B181,'Daily Log'!$BB$18:$BB$1017),0)","v":0},{"$f":"IFERROR($E181*SUMIF('Daily Log'!$BD$18:$BD$1017,$B181,'Daily Log'!$BE$18:$BE$1017),0)","v":0},{"$f":"IFERROR($E181*SUMIF('Daily Log'!$BG$18:$BG$1017,$B181,'Daily Log'!$BH$18:$BH$1017),0)","v":0},{"$f":"IFERROR($E181*SUMIF('Daily Log'!$BJ$18:$BJ$1017,$B181,'Daily Log'!$BK$18:$BK$1017),0)","v":0},{"$f":"IFERROR($E181*SUMIF('Daily Log'!$BM$18:$BM$1017,$B181,'Daily Log'!$BN$18:$BN$1017),0)","v":0},{"$f":"IFERROR($E181*SUMIF('Daily Log'!$BP$18:$BP$1017,$B181,'Daily Log'!$BQ$18:$BQ$1017),0)","v":0},{"$f":"IFERROR($E181*SUMIF('Daily Log'!$BS$18:$BS$1017,$B181,'Daily Log'!$BT$18:$BT$1017),0)","v":0},{"$f":"IFERROR($E181*SUMIF('Daily Log'!$BV$18:$BV$1017,$B181,'Daily Log'!$BW$18:$BW$1017),0)","v":0},{"$f":"IFERROR($E181*SUMIF('Daily Log'!$BY$18:$BY$1017,$B181,'Daily Log'!$BZ$18:$BZ$1017),0)","v":0},{"$f":"IFERROR($E181*SUMIF('Daily Log'!$CB$18:$CB$1017,$B181,'Daily Log'!$CC$18:$CC$1017),0)","v":0},{"$f":"IFERROR($E181*SUMIF('Daily Log'!$CE$18:$CE$1017,$B181,'Daily Log'!$CF$18:$CF$1017),0)","v":0},{"$f":"IFERROR($E181*SUMIF('Daily Log'!$CH$18:$CH$1017,$B181,'Daily Log'!$CI$18:$CI$1017),0)","v":0},{"$f":"IFERROR($E181*SUMIF('Daily Log'!$CK$18:$CK$1017,$B181,'Daily Log'!$CL$18:$CL$1017),0)","v":0},{"$f":"IFERROR($E181*SUMIF('Daily Log'!$CN$18:$CN$1017,$B181,'Daily Log'!$CO$18:$CO$1017),0)","v":0}]
[null,"CA03 KIWI J",null,"SIDE ORDER-COLD BEVERAGE",1,0,{"$f":"IFERROR($E182*SUMIF('Daily Log'!$B$18:$B$1017,$B182,'Daily Log'!$C$18:$C$1017),0)","v":0},{"$f":"IFERROR($E182*SUMIF('Daily Log'!$E$18:$E$1017,$B182,'Daily Log'!$F$18:$F$1017),0)","v":0},{"$f":"IFERROR($E182*SUMIF('Daily Log'!$H$18:$H$1017,$B182,'Daily Log'!$I$18:$I$1017),0)","v":0},{"$f":"IFERROR($E182*SUMIF('Daily Log'!$K$18:$K$1017,$B182,'Daily Log'!$L$18:$L$1017),0)","v":0},{"$f":"IFERROR($E182*SUMIF('Daily Log'!$N$18:$N$1017,$B182,'Daily Log'!$O$18:$O$1017),0)","v":0},{"$f":"IFERROR($E182*SUMIF('Daily Log'!$Q$18:$Q$1017,$B182,'Daily Log'!$R$18:$R$1017),0)","v":0},{"$f":"IFERROR($E182*SUMIF('Daily Log'!$T$18:$T$1017,$B182,'Daily Log'!$U$18:$U$1017),0)","v":0},{"$f":"IFERROR($E182*SUMIF('Daily Log'!$W$18:$W$1017,$B182,'Daily Log'!$X$18:$X$1017),0)","v":0},{"$f":"IFERROR($E182*SUMIF('Daily Log'!$Z$18:$Z$1017,$B182,'Daily Log'!$AA$18:$AA$1017),0)","v":0},{"$f":"IFERROR($E182*SUMIF('Daily Log'!$AC$18:$AC$1017,$B182,'Daily Log'!$AD$18:$AD$1017),0)","v":0},{"$f":"IFERROR($E182*SUMIF('Daily Log'!$AF$18:$AF$1017,$B182,'Daily Log'!$AG$18:$AG$1017),0)","v":0},{"$f":"IFERROR($E182*SUMIF('Daily Log'!$AI$18:$AI$1017,$B182,'Daily Log'!$AJ$18:$AJ$1017),0)","v":0},{"$f":"IFERROR($E182*SUMIF('Daily Log'!$AL$18:$AL$1017,$B182,'Daily Log'!$AM$18:$AM$1017),0)","v":0},{"$f":"IFERROR($E182*SUMIF('Daily Log'!$AO$18:$AO$1017,$B182,'Daily Log'!$AP$18:$AP$1017),0)","v":0},{"$f":"IFERROR($E182*SUMIF('Daily Log'!$AR$18:$AR$1017,$B182,'Daily Log'!$AS$18:$AS$1017),0)","v":0},{"$f":"IFERROR($E182*SUMIF('Daily Log'!$AU$18:$AU$1017,$B182,'Daily Log'!$AV$18:$AV$1017),0)","v":0},{"$f":"IFERROR($E182*SUMIF('Daily Log'!$AX$18:$AX$1017,$B182,'Daily Log'!$AY$18:$AY$1017),0)","v":0},{"$f":"IFERROR($E182*SUMIF('Daily Log'!$BA$18:$BA$1017,$B182,'Daily Log'!$BB$18:$BB$1017),0)","v":0},{"$f":"IFERROR($E182*SUMIF('Daily Log'!$BD$18:$BD$1017,$B182,'Daily Log'!$BE$18:$BE$1017),0)","v":0},{"$f":"IFERROR($E182*SUMIF('Daily Log'!$BG$18:$BG$1017,$B182,'Daily Log'!$BH$18:$BH$1017),0)","v":0},{"$f":"IFERROR($E182*SUMIF('Daily Log'!$BJ$18:$BJ$1017,$B182,'Daily Log'!$BK$18:$BK$1017),0)","v":0},{"$f":"IFERROR($E182*SUMIF('Daily Log'!$BM$18:$BM$1017,$B182,'Daily Log'!$BN$18:$BN$1017),0)","v":0},{"$f":"IFERROR($E182*SUMIF('Daily Log'!$BP$18:$BP$1017,$B182,'Daily Log'!$BQ$18:$BQ$1017),0)","v":0},{"$f":"IFERROR($E182*SUMIF('Daily Log'!$BS$18:$BS$1017,$B182,'Daily Log'!$BT$18:$BT$1017),0)","v":0},{"$f":"IFERROR($E182*SUMIF('Daily Log'!$BV$18:$BV$1017,$B182,'Daily Log'!$BW$18:$BW$1017),0)","v":0},{"$f":"IFERROR($E182*SUMIF('Daily Log'!$BY$18:$BY$1017,$B182,'Daily Log'!$BZ$18:$BZ$1017),0)","v":0},{"$f":"IFERROR($E182*SUMIF('Daily Log'!$CB$18:$CB$1017,$B182,'Daily Log'!$CC$18:$CC$1017),0)","v":0},{"$f":"IFERROR($E182*SUMIF('Daily Log'!$CE$18:$CE$1017,$B182,'Daily Log'!$CF$18:$CF$1017),0)","v":0},{"$f":"IFERROR($E182*SUMIF('Daily Log'!$CH$18:$CH$1017,$B182,'Daily Log'!$CI$18:$CI$1017),0)","v":0},{"$f":"IFERROR($E182*SUMIF('Daily Log'!$CK$18:$CK$1017,$B182,'Daily Log'!$CL$18:$CL$1017),0)","v":0},{"$f":"IFERROR($E182*SUMIF('Daily Log'!$CN$18:$CN$1017,$B182,'Daily Log'!$CO$18:$CO$1017),0)","v":0}]
[null,"CA04 MANGO J",null,"SIDE ORDER-COLD BEVERAGE",1,0,{"$f":"IFERROR($E183*SUMIF('Daily Log'!$B$18:$B$1017,$B183,'Daily Log'!$C$18:$C$1017),0)","v":0},{"$f":"IFERROR($E183*SUMIF('Daily Log'!$E$18:$E$1017,$B183,'Daily Log'!$F$18:$F$1017),0)","v":0},{"$f":"IFERROR($E183*SUMIF('Daily Log'!$H$18:$H$1017,$B183,'Daily Log'!$I$18:$I$1017),0)","v":0},{"$f":"IFERROR($E183*SUMIF('Daily Log'!$K$18:$K$1017,$B183,'Daily Log'!$L$18:$L$1017),0)","v":0},{"$f":"IFERROR($E183*SUMIF('Daily Log'!$N$18:$N$1017,$B183,'Daily Log'!$O$18:$O$1017),0)","v":0},{"$f":"IFERROR($E183*SUMIF('Daily Log'!$Q$18:$Q$1017,$B183,'Daily Log'!$R$18:$R$1017),0)","v":0},{"$f":"IFERROR($E183*SUMIF('Daily Log'!$T$18:$T$1017,$B183,'Daily Log'!$U$18:$U$1017),0)","v":0},{"$f":"IFERROR($E183*SUMIF('Daily Log'!$W$18:$W$1017,$B183,'Daily Log'!$X$18:$X$1017),0)","v":0},{"$f":"IFERROR($E183*SUMIF('Daily Log'!$Z$18:$Z$1017,$B183,'Daily Log'!$AA$18:$AA$1017),0)","v":0},{"$f":"IFERROR($E183*SUMIF('Daily Log'!$AC$18:$AC$1017,$B183,'Daily Log'!$AD$18:$AD$1017),0)","v":0},{"$f":"IFERROR($E183*SUMIF('Daily Log'!$AF$18:$AF$1017,$B183,'Daily Log'!$AG$18:$AG$1017),0)","v":0},{"$f":"IFERROR($E183*SUMIF('Daily Log'!$AI$18:$AI$1017,$B183,'Daily Log'!$AJ$18:$AJ$1017),0)","v":0},{"$f":"IFERROR($E183*SUMIF('Daily Log'!$AL$18:$AL$1017,$B183,'Daily Log'!$AM$18:$AM$1017),0)","v":0},{"$f":"IFERROR($E183*SUMIF('Daily Log'!$AO$18:$AO$1017,$B183,'Daily Log'!$AP$18:$AP$1017),0)","v":0},{"$f":"IFERROR($E183*SUMIF('Daily Log'!$AR$18:$AR$1017,$B183,'Daily Log'!$AS$18:$AS$1017),0)","v":0},{"$f":"IFERROR($E183*SUMIF('Daily Log'!$AU$18:$AU$1017,$B183,'Daily Log'!$AV$18:$AV$1017),0)","v":0},{"$f":"IFERROR($E183*SUMIF('Daily Log'!$AX$18:$AX$1017,$B183,'Daily Log'!$AY$18:$AY$1017),0)","v":0},{"$f":"IFERROR($E183*SUMIF('Daily Log'!$BA$18:$BA$1017,$B183,'Daily Log'!$BB$18:$BB$1017),0)","v":0},{"$f":"IFERROR($E183*SUMIF('Daily Log'!$BD$18:$BD$1017,$B183,'Daily Log'!$BE$18:$BE$1017),0)","v":0},{"$f":"IFERROR($E183*SUMIF('Daily Log'!$BG$18:$BG$1017,$B183,'Daily Log'!$BH$18:$BH$1017),0)","v":0},{"$f":"IFERROR($E183*SUMIF('Daily Log'!$BJ$18:$BJ$1017,$B183,'Daily Log'!$BK$18:$BK$1017),0)","v":0},{"$f":"IFERROR($E183*SUMIF('Daily Log'!$BM$18:$BM$1017,$B183,'Daily Log'!$BN$18:$BN$1017),0)","v":0},{"$f":"IFERROR($E183*SUMIF('Daily Log'!$BP$18:$BP$1017,$B183,'Daily Log'!$BQ$18:$BQ$1017),0)","v":0},{"$f":"IFERROR($E183*SUMIF('Daily Log'!$BS$18:$BS$1017,$B183,'Daily Log'!$BT$18:$BT$1017),0)","v":0},{"$f":"IFERROR($E183*SUMIF('Daily Log'!$BV$18:$BV$1017,$B183,'Daily Log'!$BW$18:$BW$1017),0)","v":0},{"$f":"IFERROR($E183*SUMIF('Daily Log'!$BY$18:$BY$1017,$B183,'Daily Log'!$BZ$18:$BZ$1017),0)","v":0},{"$f":"IFERROR($E183*SUMIF('Daily Log'!$CB$18:$CB$1017,$B183,'Daily Log'!$CC$18:$CC$1017),0)","v":0},{"$f":"IFERROR($E183*SUMIF('Daily Log'!$CE$18:$CE$1017,$B183,'Daily Log'!$CF$18:$CF$1017),0)","v":0},{"$f":"IFERROR($E183*SUMIF('Daily Log'!$CH$18:$CH$1017,$B183,'Daily Log'!$CI$18:$CI$1017),0)","v":0},{"$f":"IFERROR($E183*SUMIF('Daily Log'!$CK$18:$CK$1017,$B183,'Daily Log'!$CL$18:$CL$1017),0)","v":0},{"$f":"IFERROR($E183*SUMIF('Daily Log'!$CN$18:$CN$1017,$B183,'Daily Log'!$CO$18:$CO$1017),0)","v":0}]
[null,"CA05 PASSION J",null,"SIDE ORDER-COLD BEVERAGE",1,0,{"$f":"IFERROR($E184*SUMIF('Daily Log'!$B$18:$B$1017,$B184,'Daily Log'!$C$18:$C$1017),0)","v":0},{"$f":"IFERROR($E184*SUMIF('Daily Log'!$E$18:$E$1017,$B184,'Daily Log'!$F$18:$F$1017),0)","v":0},{"$f":"IFERROR($E184*SUMIF('Daily Log'!$H$18:$H$1017,$B184,'Daily Log'!$I$18:$I$1017),0)","v":0},{"$f":"IFERROR($E184*SUMIF('Daily Log'!$K$18:$K$1017,$B184,'Daily Log'!$L$18:$L$1017),0)","v":0},{"$f":"IFERROR($E184*SUMIF('Daily Log'!$N$18:$N$1017,$B184,'Daily Log'!$O$18:$O$1017),0)","v":0},{"$f":"IFERROR($E184*SUMIF('Daily Log'!$Q$18:$Q$1017,$B184,'Daily Log'!$R$18:$R$1017),0)","v":0},{"$f":"IFERROR($E184*SUMIF('Daily Log'!$T$18:$T$1017,$B184,'Daily Log'!$U$18:$U$1017),0)","v":0},{"$f":"IFERROR($E184*SUMIF('Daily Log'!$W$18:$W$1017,$B184,'Daily Log'!$X$18:$X$1017),0)","v":0},{"$f":"IFERROR($E184*SUMIF('Daily Log'!$Z$18:$Z$1017,$B184,'Daily Log'!$AA$18:$AA$1017),0)","v":0},{"$f":"IFERROR($E184*SUMIF('Daily Log'!$AC$18:$AC$1017,$B184,'Daily Log'!$AD$18:$AD$1017),0)","v":0},{"$f":"IFERROR($E184*SUMIF('Daily Log'!$AF$18:$AF$1017,$B184,'Daily Log'!$AG$18:$AG$1017),0)","v":0},{"$f":"IFERROR($E184*SUMIF('Daily Log'!$AI$18:$AI$1017,$B184,'Daily Log'!$AJ$18:$AJ$1017),0)","v":0},{"$f":"IFERROR($E184*SUMIF('Daily Log'!$AL$18:$AL$1017,$B184,'Daily Log'!$AM$18:$AM$1017),0)","v":0},{"$f":"IFERROR($E184*SUMIF('Daily Log'!$AO$18:$AO$1017,$B184,'Daily Log'!$AP$18:$AP$1017),0)","v":0},{"$f":"IFERROR($E184*SUMIF('Daily Log'!$AR$18:$AR$1017,$B184,'Daily Log'!$AS$18:$AS$1017),0)","v":0},{"$f":"IFERROR($E184*SUMIF('Daily Log'!$AU$18:$AU$1017,$B184,'Daily Log'!$AV$18:$AV$1017),0)","v":0},{"$f":"IFERROR($E184*SUMIF('Daily Log'!$AX$18:$AX$1017,$B184,'Daily Log'!$AY$18:$AY$1017),0)","v":0},{"$f":"IFERROR($E184*SUMIF('Daily Log'!$BA$18:$BA$1017,$B184,'Daily Log'!$BB$18:$BB$1017),0)","v":0},{"$f":"IFERROR($E184*SUMIF('Daily Log'!$BD$18:$BD$1017,$B184,'Daily Log'!$BE$18:$BE$1017),0)","v":0},{"$f":"IFERROR($E184*SUMIF('Daily Log'!$BG$18:$BG$1017,$B184,'Daily Log'!$BH$18:$BH$1017),0)","v":0},{"$f":"IFERROR($E184*SUMIF('Daily Log'!$BJ$18:$BJ$1017,$B184,'Daily Log'!$BK$18:$BK$1017),0)","v":0},{"$f":"IFERROR($E184*SUMIF('Daily Log'!$BM$18:$BM$1017,$B184,'Daily Log'!$BN$18:$BN$1017),0)","v":0},{"$f":"IFERROR($E184*SUMIF('Daily Log'!$BP$18:$BP$1017,$B184,'Daily Log'!$BQ$18:$BQ$1017),0)","v":0},{"$f":"IFERROR($E184*SUMIF('Daily Log'!$BS$18:$BS$1017,$B184,'Daily Log'!$BT$18:$BT$1017),0)","v":0},{"$f":"IFERROR($E184*SUMIF('Daily Log'!$BV$18:$BV$1017,$B184,'Daily Log'!$BW$18:$BW$1017),0)","v":0},{"$f":"IFERROR($E184*SUMIF('Daily Log'!$BY$18:$BY$1017,$B184,'Daily Log'!$BZ$18:$BZ$1017),0)","v":0},{"$f":"IFERROR($E184*SUMIF('Daily Log'!$CB$18:$CB$1017,$B184,'Daily Log'!$CC$18:$CC$1017),0)","v":0},{"$f":"IFERROR($E184*SUMIF('Daily Log'!$CE$18:$CE$1017,$B184,'Daily Log'!$CF$18:$CF$1017),0)","v":0},{"$f":"IFERROR($E184*SUMIF('Daily Log'!$CH$18:$CH$1017,$B184,'Daily Log'!$CI$18:$CI$1017),0)","v":0},{"$f":"IFERROR($E184*SUMIF('Daily Log'!$CK$18:$CK$1017,$B184,'Daily Log'!$CL$18:$CL$1017),0)","v":0},{"$f":"IFERROR($E184*SUMIF('Daily Log'!$CN$18:$CN$1017,$B184,'Daily Log'!$CO$18:$CO$1017),0)","v":0}]
[null,"CA06 RIBENA J",null,"SIDE ORDER-COLD BEVERAGE",1,1,{"$f":"IFERROR($E185*SUMIF('Daily Log'!$B$18:$B$1017,$B185,'Daily Log'!$C$18:$C$1017),0)","v":0},{"$f":"IFERROR($E185*SUMIF('Daily Log'!$E$18:$E$1017,$B185,'Daily Log'!$F$18:$F$1017),0)","v":0},{"$f":"IFERROR($E185*SUMIF('Daily Log'!$H$18:$H$1017,$B185,'Daily Log'!$I$18:$I$1017),0)","v":0},{"$f":"IFERROR($E185*SUMIF('Daily Log'!$K$18:$K$1017,$B185,'Daily Log'!$L$18:$L$1017),0)","v":0},{"$f":"IFERROR($E185*SUMIF('Daily Log'!$N$18:$N$1017,$B185,'Daily Log'!$O$18:$O$1017),0)","v":0},{"$f":"IFERROR($E185*SUMIF('Daily Log'!$Q$18:$Q$1017,$B185,'Daily Log'!$R$18:$R$1017),0)","v":0},{"$f":"IFERROR($E185*SUMIF('Daily Log'!$T$18:$T$1017,$B185,'Daily Log'!$U$18:$U$1017),0)","v":0},{"$f":"IFERROR($E185*SUMIF('Daily Log'!$W$18:$W$1017,$B185,'Daily Log'!$X$18:$X$1017),0)","v":0},{"$f":"IFERROR($E185*SUMIF('Daily Log'!$Z$18:$Z$1017,$B185,'Daily Log'!$AA$18:$AA$1017),0)","v":0},{"$f":"IFERROR($E185*SUMIF('Daily Log'!$AC$18:$AC$1017,$B185,'Daily Log'!$AD$18:$AD$1017),0)","v":0},{"$f":"IFERROR($E185*SUMIF('Daily Log'!$AF$18:$AF$1017,$B185,'Daily Log'!$AG$18:$AG$1017),0)","v":0},{"$f":"IFERROR($E185*SUMIF('Daily Log'!$AI$18:$AI$1017,$B185,'Daily Log'!$AJ$18:$AJ$1017),0)","v":0},{"$f":"IFERROR($E185*SUMIF('Daily Log'!$AL$18:$AL$1017,$B185,'Daily Log'!$AM$18:$AM$1017),0)","v":0},{"$f":"IFERROR($E185*SUMIF('Daily Log'!$AO$18:$AO$1017,$B185,'Daily Log'!$AP$18:$AP$1017),0)","v":0},{"$f":"IFERROR($E185*SUMIF('Daily Log'!$AR$18:$AR$1017,$B185,'Daily Log'!$AS$18:$AS$1017),0)","v":0},{"$f":"IFERROR($E185*SUMIF('Daily Log'!$AU$18:$AU$1017,$B185,'Daily Log'!$AV$18:$AV$1017),0)","v":0},{"$f":"IFERROR($E185*SUMIF('Daily Log'!$AX$18:$AX$1017,$B185,'Daily Log'!$AY$18:$AY$1017),0)","v":0},{"$f":"IFERROR($E185*SUMIF('Daily Log'!$BA$18:$BA$1017,$B185,'Daily Log'!$BB$18:$BB$1017),0)","v":0},{"$f":"IFERROR($E185*SUMIF('Daily Log'!$BD$18:$BD$1017,$B185,'Daily Log'!$BE$18:$BE$1017),0)","v":0},{"$f":"IFERROR($E185*SUMIF('Daily Log'!$BG$18:$BG$1017,$B185,'Daily Log'!$BH$18:$BH$1017),0)","v":0},{"$f":"IFERROR($E185*SUMIF('Daily Log'!$BJ$18:$BJ$1017,$B185,'Daily Log'!$BK$18:$BK$1017),0)","v":0},{"$f":"IFERROR($E185*SUMIF('Daily Log'!$BM$18:$BM$1017,$B185,'Daily Log'!$BN$18:$BN$1017),0)","v":0},{"$f":"IFERROR($E185*SUMIF('Daily Log'!$BP$18:$BP$1017,$B185,'Daily Log'!$BQ$18:$BQ$1017),0)","v":0},{"$f":"IFERROR($E185*SUMIF('Daily Log'!$BS$18:$BS$1017,$B185,'Daily Log'!$BT$18:$BT$1017),0)","v":0},{"$f":"IFERROR($E185*SUMIF('Daily Log'!$BV$18:$BV$1017,$B185,'Daily Log'!$BW$18:$BW$1017),0)","v":0},{"$f":"IFERROR($E185*SUMIF('Daily Log'!$BY$18:$BY$1017,$B185,'Daily Log'!$BZ$18:$BZ$1017),0)","v":0},{"$f":"IFERROR($E185*SUMIF('Daily Log'!$CB$18:$CB$1017,$B185,'Daily Log'!$CC$18:$CC$1017),0)","v":0},{"$f":"IFERROR($E185*SUMIF('Daily Log'!$CE$18:$CE$1017,$B185,'Daily Log'!$CF$18:$CF$1017),0)","v":0},{"$f":"IFERROR($E185*SUMIF('Daily Log'!$CH$18:$CH$1017,$B185,'Daily Log'!$CI$18:$CI$1017),0)","v":0},{"$f":"IFERROR($E185*SUMIF('Daily Log'!$CK$18:$CK$1017,$B185,'Daily Log'!$CL$18:$CL$1017),0)","v":1},{"$f":"IFERROR($E185*SUMIF('Daily Log'!$CN$18:$CN$1017,$B185,'Daily Log'!$CO$18:$CO$1017),0)","v":0}]
[null,"CB01 GRAPE SO",null,"SIDE ORDER-COLD BEVERAGE",1,0,{"$f":"IFERROR($E186*SUMIF('Daily Log'!$B$18:$B$1017,$B186,'Daily Log'!$C$18:$C$1017),0)","v":0},{"$f":"IFERROR($E186*SUMIF('Daily Log'!$E$18:$E$1017,$B186,'Daily Log'!$F$18:$F$1017),0)","v":0},{"$f":"IFERROR($E186*SUMIF('Daily Log'!$H$18:$H$1017,$B186,'Daily Log'!$I$18:$I$1017),0)","v":0},{"$f":"IFERROR($E186*SUMIF('Daily Log'!$K$18:$K$1017,$B186,'Daily Log'!$L$18:$L$1017),0)","v":0},{"$f":"IFERROR($E186*SUMIF('Daily Log'!$N$18:$N$1017,$B186,'Daily Log'!$O$18:$O$1017),0)","v":0},{"$f":"IFERROR($E186*SUMIF('Daily Log'!$Q$18:$Q$1017,$B186,'Daily Log'!$R$18:$R$1017),0)","v":0},{"$f":"IFERROR($E186*SUMIF('Daily Log'!$T$18:$T$1017,$B186,'Daily Log'!$U$18:$U$1017),0)","v":0},{"$f":"IFERROR($E186*SUMIF('Daily Log'!$W$18:$W$1017,$B186,'Daily Log'!$X$18:$X$1017),0)","v":0},{"$f":"IFERROR($E186*SUMIF('Daily Log'!$Z$18:$Z$1017,$B186,'Daily Log'!$AA$18:$AA$1017),0)","v":0},{"$f":"IFERROR($E186*SUMIF('Daily Log'!$AC$18:$AC$1017,$B186,'Daily Log'!$AD$18:$AD$1017),0)","v":0},{"$f":"IFERROR($E186*SUMIF('Daily Log'!$AF$18:$AF$1017,$B186,'Daily Log'!$AG$18:$AG$1017),0)","v":0},{"$f":"IFERROR($E186*SUMIF('Daily Log'!$AI$18:$AI$1017,$B186,'Daily Log'!$AJ$18:$AJ$1017),0)","v":0},{"$f":"IFERROR($E186*SUMIF('Daily Log'!$AL$18:$AL$1017,$B186,'Daily Log'!$AM$18:$AM$1017),0)","v":0},{"$f":"IFERROR($E186*SUMIF('Daily Log'!$AO$18:$AO$1017,$B186,'Daily Log'!$AP$18:$AP$1017),0)","v":0},{"$f":"IFERROR($E186*SUMIF('Daily Log'!$AR$18:$AR$1017,$B186,'Daily Log'!$AS$18:$AS$1017),0)","v":0},{"$f":"IFERROR($E186*SUMIF('Daily Log'!$AU$18:$AU$1017,$B186,'Daily Log'!$AV$18:$AV$1017),0)","v":0},{"$f":"IFERROR($E186*SUMIF('Daily Log'!$AX$18:$AX$1017,$B186,'Daily Log'!$AY$18:$AY$1017),0)","v":0},{"$f":"IFERROR($E186*SUMIF('Daily Log'!$BA$18:$BA$1017,$B186,'Daily Log'!$BB$18:$BB$1017),0)","v":0},{"$f":"IFERROR($E186*SUMIF('Daily Log'!$BD$18:$BD$1017,$B186,'Daily Log'!$BE$18:$BE$1017),0)","v":0},{"$f":"IFERROR($E186*SUMIF('Daily Log'!$BG$18:$BG$1017,$B186,'Daily Log'!$BH$18:$BH$1017),0)","v":0},{"$f":"IFERROR($E186*SUMIF('Daily Log'!$BJ$18:$BJ$1017,$B186,'Daily Log'!$BK$18:$BK$1017),0)","v":0},{"$f":"IFERROR($E186*SUMIF('Daily Log'!$BM$18:$BM$1017,$B186,'Daily Log'!$BN$18:$BN$1017),0)","v":0},{"$f":"IFERROR($E186*SUMIF('Daily Log'!$BP$18:$BP$1017,$B186,'Daily Log'!$BQ$18:$BQ$1017),0)","v":0},{"$f":"IFERROR($E186*SUMIF('Daily Log'!$BS$18:$BS$1017,$B186,'Daily Log'!$BT$18:$BT$1017),0)","v":0},{"$f":"IFERROR($E186*SUMIF('Daily Log'!$BV$18:$BV$1017,$B186,'Daily Log'!$BW$18:$BW$1017),0)","v":0},{"$f":"IFERROR($E186*SUMIF('Daily Log'!$BY$18:$BY$1017,$B186,'Daily Log'!$BZ$18:$BZ$1017),0)","v":0},{"$f":"IFERROR($E186*SUMIF('Daily Log'!$CB$18:$CB$1017,$B186,'Daily Log'!$CC$18:$CC$1017),0)","v":0},{"$f":"IFERROR($E186*SUMIF('Daily Log'!$CE$18:$CE$1017,$B186,'Daily Log'!$CF$18:$CF$1017),0)","v":0},{"$f":"IFERROR($E186*SUMIF('Daily Log'!$CH$18:$CH$1017,$B186,'Daily Log'!$CI$18:$CI$1017),0)","v":0},{"$f":"IFERROR($E186*SUMIF('Daily Log'!$CK$18:$CK$1017,$B186,'Daily Log'!$CL$18:$CL$1017),0)","v":0},{"$f":"IFERROR($E186*SUMIF('Daily Log'!$CN$18:$CN$1017,$B186,'Daily Log'!$CO$18:$CO$1017),0)","v":0}]
[null,"CB02 APPLE SO",null,"SIDE ORDER-COLD BEVERAGE",1,0,{"$f":"IFERROR($E187*SUMIF('Daily Log'!$B$18:$B$1017,$B187,'Daily Log'!$C$18:$C$1017),0)","v":0},{"$f":"IFERROR($E187*SUMIF('Daily Log'!$E$18:$E$1017,$B187,'Daily Log'!$F$18:$F$1017),0)","v":0},{"$f":"IFERROR($E187*SUMIF('Daily Log'!$H$18:$H$1017,$B187,'Daily Log'!$I$18:$I$1017),0)","v":0},{"$f":"IFERROR($E187*SUMIF('Daily Log'!$K$18:$K$1017,$B187,'Daily Log'!$L$18:$L$1017),0)","v":0},{"$f":"IFERROR($E187*SUMIF('Daily Log'!$N$18:$N$1017,$B187,'Daily Log'!$O$18:$O$1017),0)","v":0},{"$f":"IFERROR($E187*SUMIF('Daily Log'!$Q$18:$Q$1017,$B187,'Daily Log'!$R$18:$R$1017),0)","v":0},{"$f":"IFERROR($E187*SUMIF('Daily Log'!$T$18:$T$1017,$B187,'Daily Log'!$U$18:$U$1017),0)","v":0},{"$f":"IFERROR($E187*SUMIF('Daily Log'!$W$18:$W$1017,$B187,'Daily Log'!$X$18:$X$1017),0)","v":0},{"$f":"IFERROR($E187*SUMIF('Daily Log'!$Z$18:$Z$1017,$B187,'Daily Log'!$AA$18:$AA$1017),0)","v":0},{"$f":"IFERROR($E187*SUMIF('Daily Log'!$AC$18:$AC$1017,$B187,'Daily Log'!$AD$18:$AD$1017),0)","v":0},{"$f":"IFERROR($E187*SUMIF('Daily Log'!$AF$18:$AF$1017,$B187,'Daily Log'!$AG$18:$AG$1017),0)","v":0},{"$f":"IFERROR($E187*SUMIF('Daily Log'!$AI$18:$AI$1017,$B187,'Daily Log'!$AJ$18:$AJ$1017),0)","v":0},{"$f":"IFERROR($E187*SUMIF('Daily Log'!$AL$18:$AL$1017,$B187,'Daily Log'!$AM$18:$AM$1017),0)","v":0},{"$f":"IFERROR($E187*SUMIF('Daily Log'!$AO$18:$AO$1017,$B187,'Daily Log'!$AP$18:$AP$1017),0)","v":0},{"$f":"IFERROR($E187*SUMIF('Daily Log'!$AR$18:$AR$1017,$B187,'Daily Log'!$AS$18:$AS$1017),0)","v":0},{"$f":"IFERROR($E187*SUMIF('Daily Log'!$AU$18:$AU$1017,$B187,'Daily Log'!$AV$18:$AV$1017),0)","v":0},{"$f":"IFERROR($E187*SUMIF('Daily Log'!$AX$18:$AX$1017,$B187,'Daily Log'!$AY$18:$AY$1017),0)","v":0},{"$f":"IFERROR($E187*SUMIF('Daily Log'!$BA$18:$BA$1017,$B187,'Daily Log'!$BB$18:$BB$1017),0)","v":0},{"$f":"IFERROR($E187*SUMIF('Daily Log'!$BD$18:$BD$1017,$B187,'Daily Log'!$BE$18:$BE$1017),0)","v":0},{"$f":"IFERROR($E187*SUMIF('Daily Log'!$BG$18:$BG$1017,$B187,'Daily Log'!$BH$18:$BH$1017),0)","v":0},{"$f":"IFERROR($E187*SUMIF('Daily Log'!$BJ$18:$BJ$1017,$B187,'Daily Log'!$BK$18:$BK$1017),0)","v":0},{"$f":"IFERROR($E187*SUMIF('Daily Log'!$BM$18:$BM$1017,$B187,'Daily Log'!$BN$18:$BN$1017),0)","v":0},{"$f":"IFERROR($E187*SUMIF('Daily Log'!$BP$18:$BP$1017,$B187,'Daily Log'!$BQ$18:$BQ$1017),0)","v":0},{"$f":"IFERROR($E187*SUMIF('Daily Log'!$BS$18:$BS$1017,$B187,'Daily Log'!$BT$18:$BT$1017),0)","v":0},{"$f":"IFERROR($E187*SUMIF('Daily Log'!$BV$18:$BV$1017,$B187,'Daily Log'!$BW$18:$BW$1017),0)","v":0},{"$f":"IFERROR($E187*SUMIF('Daily Log'!$BY$18:$BY$1017,$B187,'Daily Log'!$BZ$18:$BZ$1017),0)","v":0},{"$f":"IFERROR($E187*SUMIF('Daily Log'!$CB$18:$CB$1017,$B187,'Daily Log'!$CC$18:$CC$1017),0)","v":0},{"$f":"IFERROR($E187*SUMIF('Daily Log'!$CE$18:$CE$1017,$B187,'Daily Log'!$CF$18:$CF$1017),0)","v":0},{"$f":"IFERROR($E187*SUMIF('Daily Log'!$CH$18:$CH$1017,$B187,'Daily Log'!$CI$18:$CI$1017),0)","v":0},{"$f":"IFERROR($E187*SUMIF('Daily Log'!$CK$18:$CK$1017,$B187,'Daily Log'!$CL$18:$CL$1017),0)","v":0},{"$f":"IFERROR($E187*SUMIF('Daily Log'!$CN$18:$CN$1017,$B187,'Daily Log'!$CO$18:$CO$1017),0)","v":0}]
[null,"CB03 KIWI SO",null,"SIDE ORDER-COLD BEVERAGE",1,0,{"$f":"IFERROR($E188*SUMIF('Daily Log'!$B$18:$B$1017,$B188,'Daily Log'!$C$18:$C$1017),0)","v":0},{"$f":"IFERROR($E188*SUMIF('Daily Log'!$E$18:$E$1017,$B188,'Daily Log'!$F$18:$F$1017),0)","v":0},{"$f":"IFERROR($E188*SUMIF('Daily Log'!$H$18:$H$1017,$B188,'Daily Log'!$I$18:$I$1017),0)","v":0},{"$f":"IFERROR($E188*SUMIF('Daily Log'!$K$18:$K$1017,$B188,'Daily Log'!$L$18:$L$1017),0)","v":0},{"$f":"IFERROR($E188*SUMIF('Daily Log'!$N$18:$N$1017,$B188,'Daily Log'!$O$18:$O$1017),0)","v":0},{"$f":"IFERROR($E188*SUMIF('Daily Log'!$Q$18:$Q$1017,$B188,'Daily Log'!$R$18:$R$1017),0)","v":0},{"$f":"IFERROR($E188*SUMIF('Daily Log'!$T$18:$T$1017,$B188,'Daily Log'!$U$18:$U$1017),0)","v":0},{"$f":"IFERROR($E188*SUMIF('Daily Log'!$W$18:$W$1017,$B188,'Daily Log'!$X$18:$X$1017),0)","v":0},{"$f":"IFERROR($E188*SUMIF('Daily Log'!$Z$18:$Z$1017,$B188,'Daily Log'!$AA$18:$AA$1017),0)","v":0},{"$f":"IFERROR($E188*SUMIF('Daily Log'!$AC$18:$AC$1017,$B188,'Daily Log'!$AD$18:$AD$1017),0)","v":0},{"$f":"IFERROR($E188*SUMIF('Daily Log'!$AF$18:$AF$1017,$B188,'Daily Log'!$AG$18:$AG$1017),0)","v":0},{"$f":"IFERROR($E188*SUMIF('Daily Log'!$AI$18:$AI$1017,$B188,'Daily Log'!$AJ$18:$AJ$1017),0)","v":0},{"$f":"IFERROR($E188*SUMIF('Daily Log'!$AL$18:$AL$1017,$B188,'Daily Log'!$AM$18:$AM$1017),0)","v":0},{"$f":"IFERROR($E188*SUMIF('Daily Log'!$AO$18:$AO$1017,$B188,'Daily Log'!$AP$18:$AP$1017),0)","v":0},{"$f":"IFERROR($E188*SUMIF('Daily Log'!$AR$18:$AR$1017,$B188,'Daily Log'!$AS$18:$AS$1017),0)","v":0},{"$f":"IFERROR($E188*SUMIF('Daily Log'!$AU$18:$AU$1017,$B188,'Daily Log'!$AV$18:$AV$1017),0)","v":0},{"$f":"IFERROR($E188*SUMIF('Daily Log'!$AX$18:$AX$1017,$B188,'Daily Log'!$AY$18:$AY$1017),0)","v":0},{"$f":"IFERROR($E188*SUMIF('Daily Log'!$BA$18:$BA$1017,$B188,'Daily Log'!$BB$18:$BB$1017),0)","v":0},{"$f":"IFERROR($E188*SUMIF('Daily Log'!$BD$18:$BD$1017,$B188,'Daily Log'!$BE$18:$BE$1017),0)","v":0},{"$f":"IFERROR($E188*SUMIF('Daily Log'!$BG$18:$BG$1017,$B188,'Daily Log'!$BH$18:$BH$1017),0)","v":0},{"$f":"IFERROR($E188*SUMIF('Daily Log'!$BJ$18:$BJ$1017,$B188,'Daily Log'!$BK$18:$BK$1017),0)","v":0},{"$f":"IFERROR($E188*SUMIF('Daily Log'!$BM$18:$BM$1017,$B188,'Daily Log'!$BN$18:$BN$1017),0)","v":0},{"$f":"IFERROR($E188*SUMIF('Daily Log'!$BP$18:$BP$1017,$B188,'Daily Log'!$BQ$18:$BQ$1017),0)","v":0},{"$f":"IFERROR($E188*SUMIF('Daily Log'!$BS$18:$BS$1017,$B188,'Daily Log'!$BT$18:$BT$1017),0)","v":0},{"$f":"IFERROR($E188*SUMIF('Daily Log'!$BV$18:$BV$1017,$B188,'Daily Log'!$BW$18:$BW$1017),0)","v":0},{"$f":"IFERROR($E188*SUMIF('Daily Log'!$BY$18:$BY$1017,$B188,'Daily Log'!$BZ$18:$BZ$1017),0)","v":0},{"$f":"IFERROR($E188*SUMIF('Daily Log'!$CB$18:$CB$1017,$B188,'Daily Log'!$CC$18:$CC$1017),0)","v":0},{"$f":"IFERROR($E188*SUMIF('Daily Log'!$CE$18:$CE$1017,$B188,'Daily Log'!$CF$18:$CF$1017),0)","v":0},{"$f":"IFERROR($E188*SUMIF('Daily Log'!$CH$18:$CH$1017,$B188,'Daily Log'!$CI$18:$CI$1017),0)","v":0},{"$f":"IFERROR($E188*SUMIF('Daily Log'!$CK$18:$CK$1017,$B188,'Daily Log'!$CL$18:$CL$1017),0)","v":0},{"$f":"IFERROR($E188*SUMIF('Daily Log'!$CN$18:$CN$1017,$B188,'Daily Log'!$CO$18:$CO$1017),0)","v":0}]
[null,"CB04 MANGO SO",null,"SIDE ORDER-COLD BEVERAGE",1,0,{"$f":"IFERROR($E189*SUMIF('Daily Log'!$B$18:$B$1017,$B189,'Daily Log'!$C$18:$C$1017),0)","v":0},{"$f":"IFERROR($E189*SUMIF('Daily Log'!$E$18:$E$1017,$B189,'Daily Log'!$F$18:$F$1017),0)","v":0},{"$f":"IFERROR($E189*SUMIF('Daily Log'!$H$18:$H$1017,$B189,'Daily Log'!$I$18:$I$1017),0)","v":0},{"$f":"IFERROR($E189*SUMIF('Daily Log'!$K$18:$K$1017,$B189,'Daily Log'!$L$18:$L$1017),0)","v":0},{"$f":"IFERROR($E189*SUMIF('Daily Log'!$N$18:$N$1017,$B189,'Daily Log'!$O$18:$O$1017),0)","v":0},{"$f":"IFERROR($E189*SUMIF('Daily Log'!$Q$18:$Q$1017,$B189,'Daily Log'!$R$18:$R$1017),0)","v":0},{"$f":"IFERROR($E189*SUMIF('Daily Log'!$T$18:$T$1017,$B189,'Daily Log'!$U$18:$U$1017),0)","v":0},{"$f":"IFERROR($E189*SUMIF('Daily Log'!$W$18:$W$1017,$B189,'Daily Log'!$X$18:$X$1017),0)","v":0},{"$f":"IFERROR($E189*SUMIF('Daily Log'!$Z$18:$Z$1017,$B189,'Daily Log'!$AA$18:$AA$1017),0)","v":0},{"$f":"IFERROR($E189*SUMIF('Daily Log'!$AC$18:$AC$1017,$B189,'Daily Log'!$AD$18:$AD$1017),0)","v":0},{"$f":"IFERROR($E189*SUMIF('Daily Log'!$AF$18:$AF$1017,$B189,'Daily Log'!$AG$18:$AG$1017),0)","v":0},{"$f":"IFERROR($E189*SUMIF('Daily Log'!$AI$18:$AI$1017,$B189,'Daily Log'!$AJ$18:$AJ$1017),0)","v":0},{"$f":"IFERROR($E189*SUMIF('Daily Log'!$AL$18:$AL$1017,$B189,'Daily Log'!$AM$18:$AM$1017),0)","v":0},{"$f":"IFERROR($E189*SUMIF('Daily Log'!$AO$18:$AO$1017,$B189,'Daily Log'!$AP$18:$AP$1017),0)","v":0},{"$f":"IFERROR($E189*SUMIF('Daily Log'!$AR$18:$AR$1017,$B189,'Daily Log'!$AS$18:$AS$1017),0)","v":0},{"$f":"IFERROR($E189*SUMIF('Daily Log'!$AU$18:$AU$1017,$B189,'Daily Log'!$AV$18:$AV$1017),0)","v":0},{"$f":"IFERROR($E189*SUMIF('Daily Log'!$AX$18:$AX$1017,$B189,'Daily Log'!$AY$18:$AY$1017),0)","v":0},{"$f":"IFERROR($E189*SUMIF('Daily Log'!$BA$18:$BA$1017,$B189,'Daily Log'!$BB$18:$BB$1017),0)","v":0},{"$f":"IFERROR($E189*SUMIF('Daily Log'!$BD$18:$BD$1017,$B189,'Daily Log'!$BE$18:$BE$1017),0)","v":0},{"$f":"IFERROR($E189*SUMIF('Daily Log'!$BG$18:$BG$1017,$B189,'Daily Log'!$BH$18:$BH$1017),0)","v":0},{"$f":"IFERROR($E189*SUMIF('Daily Log'!$BJ$18:$BJ$1017,$B189,'Daily Log'!$BK$18:$BK$1017),0)","v":0},{"$f":"IFERROR($E189*SUMIF('Daily Log'!$BM$18:$BM$1017,$B189,'Daily Log'!$BN$18:$BN$1017),0)","v":0},{"$f":"IFERROR($E189*SUMIF('Daily Log'!$BP$18:$BP$1017,$B189,'Daily Log'!$BQ$18:$BQ$1017),0)","v":0},{"$f":"IFERROR($E189*SUMIF('Daily Log'!$BS$18:$BS$1017,$B189,'Daily Log'!$BT$18:$BT$1017),0)","v":0},{"$f":"IFERROR($E189*SUMIF('Daily Log'!$BV$18:$BV$1017,$B189,'Daily Log'!$BW$18:$BW$1017),0)","v":0},{"$f":"IFERROR($E189*SUMIF('Daily Log'!$BY$18:$BY$1017,$B189,'Daily Log'!$BZ$18:$BZ$1017),0)","v":0},{"$f":"IFERROR($E189*SUMIF('Daily Log'!$CB$18:$CB$1017,$B189,'Daily Log'!$CC$18:$CC$1017),0)","v":0},{"$f":"IFERROR($E189*SUMIF('Daily Log'!$CE$18:$CE$1017,$B189,'Daily Log'!$CF$18:$CF$1017),0)","v":0},{"$f":"IFERROR($E189*SUMIF('Daily Log'!$CH$18:$CH$1017,$B189,'Daily Log'!$CI$18:$CI$1017),0)","v":0},{"$f":"IFERROR($E189*SUMIF('Daily Log'!$CK$18:$CK$1017,$B189,'Daily Log'!$CL$18:$CL$1017),0)","v":0},{"$f":"IFERROR($E189*SUMIF('Daily Log'!$CN$18:$CN$1017,$B189,'Daily Log'!$CO$18:$CO$1017),0)","v":0}]
[null,"CB05 PASSION SO",null,"SIDE ORDER-COLD BEVERAGE",1,0,{"$f":"IFERROR($E190*SUMIF('Daily Log'!$B$18:$B$1017,$B190,'Daily Log'!$C$18:$C$1017),0)","v":0},{"$f":"IFERROR($E190*SUMIF('Daily Log'!$E$18:$E$1017,$B190,'Daily Log'!$F$18:$F$1017),0)","v":0},{"$f":"IFERROR($E190*SUMIF('Daily Log'!$H$18:$H$1017,$B190,'Daily Log'!$I$18:$I$1017),0)","v":0},{"$f":"IFERROR($E190*SUMIF('Daily Log'!$K$18:$K$1017,$B190,'Daily Log'!$L$18:$L$1017),0)","v":0},{"$f":"IFERROR($E190*SUMIF('Daily Log'!$N$18:$N$1017,$B190,'Daily Log'!$O$18:$O$1017),0)","v":0},{"$f":"IFERROR($E190*SUMIF('Daily Log'!$Q$18:$Q$1017,$B190,'Daily Log'!$R$18:$R$1017),0)","v":0},{"$f":"IFERROR($E190*SUMIF('Daily Log'!$T$18:$T$1017,$B190,'Daily Log'!$U$18:$U$1017),0)","v":0},{"$f":"IFERROR($E190*SUMIF('Daily Log'!$W$18:$W$1017,$B190,'Daily Log'!$X$18:$X$1017),0)","v":0},{"$f":"IFERROR($E190*SUMIF('Daily Log'!$Z$18:$Z$1017,$B190,'Daily Log'!$AA$18:$AA$1017),0)","v":0},{"$f":"IFERROR($E190*SUMIF('Daily Log'!$AC$18:$AC$1017,$B190,'Daily Log'!$AD$18:$AD$1017),0)","v":0},{"$f":"IFERROR($E190*SUMIF('Daily Log'!$AF$18:$AF$1017,$B190,'Daily Log'!$AG$18:$AG$1017),0)","v":0},{"$f":"IFERROR($E190*SUMIF('Daily Log'!$AI$18:$AI$1017,$B190,'Daily Log'!$AJ$18:$AJ$1017),0)","v":0},{"$f":"IFERROR($E190*SUMIF('Daily Log'!$AL$18:$AL$1017,$B190,'Daily Log'!$AM$18:$AM$1017),0)","v":0},{"$f":"IFERROR($E190*SUMIF('Daily Log'!$AO$18:$AO$1017,$B190,'Daily Log'!$AP$18:$AP$1017),0)","v":0},{"$f":"IFERROR($E190*SUMIF('Daily Log'!$AR$18:$AR$1017,$B190,'Daily Log'!$AS$18:$AS$1017),0)","v":0},{"$f":"IFERROR($E190*SUMIF('Daily Log'!$AU$18:$AU$1017,$B190,'Daily Log'!$AV$18:$AV$1017),0)","v":0},{"$f":"IFERROR($E190*SUMIF('Daily Log'!$AX$18:$AX$1017,$B190,'Daily Log'!$AY$18:$AY$1017),0)","v":0},{"$f":"IFERROR($E190*SUMIF('Daily Log'!$BA$18:$BA$1017,$B190,'Daily Log'!$BB$18:$BB$1017),0)","v":0},{"$f":"IFERROR($E190*SUMIF('Daily Log'!$BD$18:$BD$1017,$B190,'Daily Log'!$BE$18:$BE$1017),0)","v":0},{"$f":"IFERROR($E190*SUMIF('Daily Log'!$BG$18:$BG$1017,$B190,'Daily Log'!$BH$18:$BH$1017),0)","v":0},{"$f":"IFERROR($E190*SUMIF('Daily Log'!$BJ$18:$BJ$1017,$B190,'Daily Log'!$BK$18:$BK$1017),0)","v":0},{"$f":"IFERROR($E190*SUMIF('Daily Log'!$BM$18:$BM$1017,$B190,'Daily Log'!$BN$18:$BN$1017),0)","v":0},{"$f":"IFERROR($E190*SUMIF('Daily Log'!$BP$18:$BP$1017,$B190,'Daily Log'!$BQ$18:$BQ$1017),0)","v":0},{"$f":"IFERROR($E190*SUMIF('Daily Log'!$BS$18:$BS$1017,$B190,'Daily Log'!$BT$18:$BT$1017),0)","v":0},{"$f":"IFERROR($E190*SUMIF('Daily Log'!$BV$18:$BV$1017,$B190,'Daily Log'!$BW$18:$BW$1017),0)","v":0},{"$f":"IFERROR($E190*SUMIF('Daily Log'!$BY$18:$BY$1017,$B190,'Daily Log'!$BZ$18:$BZ$1017),0)","v":0},{"$f":"IFERROR($E190*SUMIF('Daily Log'!$CB$18:$CB$1017,$B190,'Daily Log'!$CC$18:$CC$1017),0)","v":0},{"$f":"IFERROR($E190*SUMIF('Daily Log'!$CE$18:$CE$1017,$B190,'Daily Log'!$CF$18:$CF$1017),0)","v":0},{"$f":"IFERROR($E190*SUMIF('Daily Log'!$CH$18:$CH$1017,$B190,'Daily Log'!$CI$18:$CI$1017),0)","v":0},{"$f":"IFERROR($E190*SUMIF('Daily Log'!$CK$18:$CK$1017,$B190,'Daily Log'!$CL$18:$CL$1017),0)","v":0},{"$f":"IFERROR($E190*SUMIF('Daily Log'!$CN$18:$CN$1017,$B190,'Daily Log'!$CO$18:$CO$1017),0)","v":0}]
[null,"CB06 RIBENA SO",null,"SIDE ORDER-COLD BEVERAGE",1,0,{"$f":"IFERROR($E191*SUMIF('Daily Log'!$B$18:$B$1017,$B191,'Daily Log'!$C$18:$C$1017),0)","v":0},{"$f":"IFERROR($E191*SUMIF('Daily Log'!$E$18:$E$1017,$B191,'Daily Log'!$F$18:$F$1017),0)","v":0},{"$f":"IFERROR($E191*SUMIF('Daily Log'!$H$18:$H$1017,$B191,'Daily Log'!$I$18:$I$1017),0)","v":0},{"$f":"IFERROR($E191*SUMIF('Daily Log'!$K$18:$K$1017,$B191,'Daily Log'!$L$18:$L$1017),0)","v":0},{"$f":"IFERROR($E191*SUMIF('Daily Log'!$N$18:$N$1017,$B191,'Daily Log'!$O$18:$O$1017),0)","v":0},{"$f":"IFERROR($E191*SUMIF('Daily Log'!$Q$18:$Q$1017,$B191,'Daily Log'!$R$18:$R$1017),0)","v":0},{"$f":"IFERROR($E191*SUMIF('Daily Log'!$T$18:$T$1017,$B191,'Daily Log'!$U$18:$U$1017),0)","v":0},{"$f":"IFERROR($E191*SUMIF('Daily Log'!$W$18:$W$1017,$B191,'Daily Log'!$X$18:$X$1017),0)","v":0},{"$f":"IFERROR($E191*SUMIF('Daily Log'!$Z$18:$Z$1017,$B191,'Daily Log'!$AA$18:$AA$1017),0)","v":0},{"$f":"IFERROR($E191*SUMIF('Daily Log'!$AC$18:$AC$1017,$B191,'Daily Log'!$AD$18:$AD$1017),0)","v":0},{"$f":"IFERROR($E191*SUMIF('Daily Log'!$AF$18:$AF$1017,$B191,'Daily Log'!$AG$18:$AG$1017),0)","v":0},{"$f":"IFERROR($E191*SUMIF('Daily Log'!$AI$18:$AI$1017,$B191,'Daily Log'!$AJ$18:$AJ$1017),0)","v":0},{"$f":"IFERROR($E191*SUMIF('Daily Log'!$AL$18:$AL$1017,$B191,'Daily Log'!$AM$18:$AM$1017),0)","v":0},{"$f":"IFERROR($E191*SUMIF('Daily Log'!$AO$18:$AO$1017,$B191,'Daily Log'!$AP$18:$AP$1017),0)","v":0},{"$f":"IFERROR($E191*SUMIF('Daily Log'!$AR$18:$AR$1017,$B191,'Daily Log'!$AS$18:$AS$1017),0)","v":0},{"$f":"IFERROR($E191*SUMIF('Daily Log'!$AU$18:$AU$1017,$B191,'Daily Log'!$AV$18:$AV$1017),0)","v":0},{"$f":"IFERROR($E191*SUMIF('Daily Log'!$AX$18:$AX$1017,$B191,'Daily Log'!$AY$18:$AY$1017),0)","v":0},{"$f":"IFERROR($E191*SUMIF('Daily Log'!$BA$18:$BA$1017,$B191,'Daily Log'!$BB$18:$BB$1017),0)","v":0},{"$f":"IFERROR($E191*SUMIF('Daily Log'!$BD$18:$BD$1017,$B191,'Daily Log'!$BE$18:$BE$1017),0)","v":0},{"$f":"IFERROR($E191*SUMIF('Daily Log'!$BG$18:$BG$1017,$B191,'Daily Log'!$BH$18:$BH$1017),0)","v":0},{"$f":"IFERROR($E191*SUMIF('Daily Log'!$BJ$18:$BJ$1017,$B191,'Daily Log'!$BK$18:$BK$1017),0)","v":0},{"$f":"IFERROR($E191*SUMIF('Daily Log'!$BM$18:$BM$1017,$B191,'Daily Log'!$BN$18:$BN$1017),0)","v":0},{"$f":"IFERROR($E191*SUMIF('Daily Log'!$BP$18:$BP$1017,$B191,'Daily Log'!$BQ$18:$BQ$1017),0)","v":0},{"$f":"IFERROR($E191*SUMIF('Daily Log'!$BS$18:$BS$1017,$B191,'Daily Log'!$BT$18:$BT$1017),0)","v":0},{"$f":"IFERROR($E191*SUMIF('Daily Log'!$BV$18:$BV$1017,$B191,'Daily Log'!$BW$18:$BW$1017),0)","v":0},{"$f":"IFERROR($E191*SUMIF('Daily Log'!$BY$18:$BY$1017,$B191,'Daily Log'!$BZ$18:$BZ$1017),0)","v":0},{"$f":"IFERROR($E191*SUMIF('Daily Log'!$CB$18:$CB$1017,$B191,'Daily Log'!$CC$18:$CC$1017),0)","v":0},{"$f":"IFERROR($E191*SUMIF('Daily Log'!$CE$18:$CE$1017,$B191,'Daily Log'!$CF$18:$CF$1017),0)","v":0},{"$f":"IFERROR($E191*SUMIF('Daily Log'!$CH$18:$CH$1017,$B191,'Daily Log'!$CI$18:$CI$1017),0)","v":0},{"$f":"IFERROR($E191*SUMIF('Daily Log'!$CK$18:$CK$1017,$B191,'Daily Log'!$CL$18:$CL$1017),0)","v":0},{"$f":"IFERROR($E191*SUMIF('Daily Log'!$CN$18:$CN$1017,$B191,'Daily Log'!$CO$18:$CO$1017),0)","v":0}]
[null,"CC01 GRAPE SM",null,"SIDE ORDER-COLD BEVERAGE",1,0,{"$f":"IFERROR($E192*SUMIF('Daily Log'!$B$18:$B$1017,$B192,'Daily Log'!$C$18:$C$1017),0)","v":0},{"$f":"IFERROR($E192*SUMIF('Daily Log'!$E$18:$E$1017,$B192,'Daily Log'!$F$18:$F$1017),0)","v":0},{"$f":"IFERROR($E192*SUMIF('Daily Log'!$H$18:$H$1017,$B192,'Daily Log'!$I$18:$I$1017),0)","v":0},{"$f":"IFERROR($E192*SUMIF('Daily Log'!$K$18:$K$1017,$B192,'Daily Log'!$L$18:$L$1017),0)","v":0},{"$f":"IFERROR($E192*SUMIF('Daily Log'!$N$18:$N$1017,$B192,'Daily Log'!$O$18:$O$1017),0)","v":0},{"$f":"IFERROR($E192*SUMIF('Daily Log'!$Q$18:$Q$1017,$B192,'Daily Log'!$R$18:$R$1017),0)","v":0},{"$f":"IFERROR($E192*SUMIF('Daily Log'!$T$18:$T$1017,$B192,'Daily Log'!$U$18:$U$1017),0)","v":0},{"$f":"IFERROR($E192*SUMIF('Daily Log'!$W$18:$W$1017,$B192,'Daily Log'!$X$18:$X$1017),0)","v":0},{"$f":"IFERROR($E192*SUMIF('Daily Log'!$Z$18:$Z$1017,$B192,'Daily Log'!$AA$18:$AA$1017),0)","v":0},{"$f":"IFERROR($E192*SUMIF('Daily Log'!$AC$18:$AC$1017,$B192,'Daily Log'!$AD$18:$AD$1017),0)","v":0},{"$f":"IFERROR($E192*SUMIF('Daily Log'!$AF$18:$AF$1017,$B192,'Daily Log'!$AG$18:$AG$1017),0)","v":0},{"$f":"IFERROR($E192*SUMIF('Daily Log'!$AI$18:$AI$1017,$B192,'Daily Log'!$AJ$18:$AJ$1017),0)","v":0},{"$f":"IFERROR($E192*SUMIF('Daily Log'!$AL$18:$AL$1017,$B192,'Daily Log'!$AM$18:$AM$1017),0)","v":0},{"$f":"IFERROR($E192*SUMIF('Daily Log'!$AO$18:$AO$1017,$B192,'Daily Log'!$AP$18:$AP$1017),0)","v":0},{"$f":"IFERROR($E192*SUMIF('Daily Log'!$AR$18:$AR$1017,$B192,'Daily Log'!$AS$18:$AS$1017),0)","v":0},{"$f":"IFERROR($E192*SUMIF('Daily Log'!$AU$18:$AU$1017,$B192,'Daily Log'!$AV$18:$AV$1017),0)","v":0},{"$f":"IFERROR($E192*SUMIF('Daily Log'!$AX$18:$AX$1017,$B192,'Daily Log'!$AY$18:$AY$1017),0)","v":0},{"$f":"IFERROR($E192*SUMIF('Daily Log'!$BA$18:$BA$1017,$B192,'Daily Log'!$BB$18:$BB$1017),0)","v":0},{"$f":"IFERROR($E192*SUMIF('Daily Log'!$BD$18:$BD$1017,$B192,'Daily Log'!$BE$18:$BE$1017),0)","v":0},{"$f":"IFERROR($E192*SUMIF('Daily Log'!$BG$18:$BG$1017,$B192,'Daily Log'!$BH$18:$BH$1017),0)","v":0},{"$f":"IFERROR($E192*SUMIF('Daily Log'!$BJ$18:$BJ$1017,$B192,'Daily Log'!$BK$18:$BK$1017),0)","v":0},{"$f":"IFERROR($E192*SUMIF('Daily Log'!$BM$18:$BM$1017,$B192,'Daily Log'!$BN$18:$BN$1017),0)","v":0},{"$f":"IFERROR($E192*SUMIF('Daily Log'!$BP$18:$BP$1017,$B192,'Daily Log'!$BQ$18:$BQ$1017),0)","v":0},{"$f":"IFERROR($E192*SUMIF('Daily Log'!$BS$18:$BS$1017,$B192,'Daily Log'!$BT$18:$BT$1017),0)","v":0},{"$f":"IFERROR($E192*SUMIF('Daily Log'!$BV$18:$BV$1017,$B192,'Daily Log'!$BW$18:$BW$1017),0)","v":0},{"$f":"IFERROR($E192*SUMIF('Daily Log'!$BY$18:$BY$1017,$B192,'Daily Log'!$BZ$18:$BZ$1017),0)","v":0},{"$f":"IFERROR($E192*SUMIF('Daily Log'!$CB$18:$CB$1017,$B192,'Daily Log'!$CC$18:$CC$1017),0)","v":0},{"$f":"IFERROR($E192*SUMIF('Daily Log'!$CE$18:$CE$1017,$B192,'Daily Log'!$CF$18:$CF$1017),0)","v":0},{"$f":"IFERROR($E192*SUMIF('Daily Log'!$CH$18:$CH$1017,$B192,'Daily Log'!$CI$18:$CI$1017),0)","v":0},{"$f":"IFERROR($E192*SUMIF('Daily Log'!$CK$18:$CK$1017,$B192,'Daily Log'!$CL$18:$CL$1017),0)","v":0},{"$f":"IFERROR($E192*SUMIF('Daily Log'!$CN$18:$CN$1017,$B192,'Daily Log'!$CO$18:$CO$1017),0)","v":0}]
[null,"CC02 APPLE SM",null,"SIDE ORDER-COLD BEVERAGE",1,0,{"$f":"IFERROR($E193*SUMIF('Daily Log'!$B$18:$B$1017,$B193,'Daily Log'!$C$18:$C$1017),0)","v":0},{"$f":"IFERROR($E193*SUMIF('Daily Log'!$E$18:$E$1017,$B193,'Daily Log'!$F$18:$F$1017),0)","v":0},{"$f":"IFERROR($E193*SUMIF('Daily Log'!$H$18:$H$1017,$B193,'Daily Log'!$I$18:$I$1017),0)","v":0},{"$f":"IFERROR($E193*SUMIF('Daily Log'!$K$18:$K$1017,$B193,'Daily Log'!$L$18:$L$1017),0)","v":0},{"$f":"IFERROR($E193*SUMIF('Daily Log'!$N$18:$N$1017,$B193,'Daily Log'!$O$18:$O$1017),0)","v":0},{"$f":"IFERROR($E193*SUMIF('Daily Log'!$Q$18:$Q$1017,$B193,'Daily Log'!$R$18:$R$1017),0)","v":0},{"$f":"IFERROR($E193*SUMIF('Daily Log'!$T$18:$T$1017,$B193,'Daily Log'!$U$18:$U$1017),0)","v":0},{"$f":"IFERROR($E193*SUMIF('Daily Log'!$W$18:$W$1017,$B193,'Daily Log'!$X$18:$X$1017),0)","v":0},{"$f":"IFERROR($E193*SUMIF('Daily Log'!$Z$18:$Z$1017,$B193,'Daily Log'!$AA$18:$AA$1017),0)","v":0},{"$f":"IFERROR($E193*SUMIF('Daily Log'!$AC$18:$AC$1017,$B193,'Daily Log'!$AD$18:$AD$1017),0)","v":0},{"$f":"IFERROR($E193*SUMIF('Daily Log'!$AF$18:$AF$1017,$B193,'Daily Log'!$AG$18:$AG$1017),0)","v":0},{"$f":"IFERROR($E193*SUMIF('Daily Log'!$AI$18:$AI$1017,$B193,'Daily Log'!$AJ$18:$AJ$1017),0)","v":0},{"$f":"IFERROR($E193*SUMIF('Daily Log'!$AL$18:$AL$1017,$B193,'Daily Log'!$AM$18:$AM$1017),0)","v":0},{"$f":"IFERROR($E193*SUMIF('Daily Log'!$AO$18:$AO$1017,$B193,'Daily Log'!$AP$18:$AP$1017),0)","v":0},{"$f":"IFERROR($E193*SUMIF('Daily Log'!$AR$18:$AR$1017,$B193,'Daily Log'!$AS$18:$AS$1017),0)","v":0},{"$f":"IFERROR($E193*SUMIF('Daily Log'!$AU$18:$AU$1017,$B193,'Daily Log'!$AV$18:$AV$1017),0)","v":0},{"$f":"IFERROR($E193*SUMIF('Daily Log'!$AX$18:$AX$1017,$B193,'Daily Log'!$AY$18:$AY$1017),0)","v":0},{"$f":"IFERROR($E193*SUMIF('Daily Log'!$BA$18:$BA$1017,$B193,'Daily Log'!$BB$18:$BB$1017),0)","v":0},{"$f":"IFERROR($E193*SUMIF('Daily Log'!$BD$18:$BD$1017,$B193,'Daily Log'!$BE$18:$BE$1017),0)","v":0},{"$f":"IFERROR($E193*SUMIF('Daily Log'!$BG$18:$BG$1017,$B193,'Daily Log'!$BH$18:$BH$1017),0)","v":0},{"$f":"IFERROR($E193*SUMIF('Daily Log'!$BJ$18:$BJ$1017,$B193,'Daily Log'!$BK$18:$BK$1017),0)","v":0},{"$f":"IFERROR($E193*SUMIF('Daily Log'!$BM$18:$BM$1017,$B193,'Daily Log'!$BN$18:$BN$1017),0)","v":0},{"$f":"IFERROR($E193*SUMIF('Daily Log'!$BP$18:$BP$1017,$B193,'Daily Log'!$BQ$18:$BQ$1017),0)","v":0},{"$f":"IFERROR($E193*SUMIF('Daily Log'!$BS$18:$BS$1017,$B193,'Daily Log'!$BT$18:$BT$1017),0)","v":0},{"$f":"IFERROR($E193*SUMIF('Daily Log'!$BV$18:$BV$1017,$B193,'Daily Log'!$BW$18:$BW$1017),0)","v":0},{"$f":"IFERROR($E193*SUMIF('Daily Log'!$BY$18:$BY$1017,$B193,'Daily Log'!$BZ$18:$BZ$1017),0)","v":0},{"$f":"IFERROR($E193*SUMIF('Daily Log'!$CB$18:$CB$1017,$B193,'Daily Log'!$CC$18:$CC$1017),0)","v":0},{"$f":"IFERROR($E193*SUMIF('Daily Log'!$CE$18:$CE$1017,$B193,'Daily Log'!$CF$18:$CF$1017),0)","v":0},{"$f":"IFERROR($E193*SUMIF('Daily Log'!$CH$18:$CH$1017,$B193,'Daily Log'!$CI$18:$CI$1017),0)","v":0},{"$f":"IFERROR($E193*SUMIF('Daily Log'!$CK$18:$CK$1017,$B193,'Daily Log'!$CL$18:$CL$1017),0)","v":0},{"$f":"IFERROR($E193*SUMIF('Daily Log'!$CN$18:$CN$1017,$B193,'Daily Log'!$CO$18:$CO$1017),0)","v":0}]
[null,"CC03 KIWI SM",null,"SIDE ORDER-COLD BEVERAGE",1,0,{"$f":"IFERROR($E194*SUMIF('Daily Log'!$B$18:$B$1017,$B194,'Daily Log'!$C$18:$C$1017),0)","v":0},{"$f":"IFERROR($E194*SUMIF('Daily Log'!$E$18:$E$1017,$B194,'Daily Log'!$F$18:$F$1017),0)","v":0},{"$f":"IFERROR($E194*SUMIF('Daily Log'!$H$18:$H$1017,$B194,'Daily Log'!$I$18:$I$1017),0)","v":0},{"$f":"IFERROR($E194*SUMIF('Daily Log'!$K$18:$K$1017,$B194,'Daily Log'!$L$18:$L$1017),0)","v":0},{"$f":"IFERROR($E194*SUMIF('Daily Log'!$N$18:$N$1017,$B194,'Daily Log'!$O$18:$O$1017),0)","v":0},{"$f":"IFERROR($E194*SUMIF('Daily Log'!$Q$18:$Q$1017,$B194,'Daily Log'!$R$18:$R$1017),0)","v":0},{"$f":"IFERROR($E194*SUMIF('Daily Log'!$T$18:$T$1017,$B194,'Daily Log'!$U$18:$U$1017),0)","v":0},{"$f":"IFERROR($E194*SUMIF('Daily Log'!$W$18:$W$1017,$B194,'Daily Log'!$X$18:$X$1017),0)","v":0},{"$f":"IFERROR($E194*SUMIF('Daily Log'!$Z$18:$Z$1017,$B194,'Daily Log'!$AA$18:$AA$1017),0)","v":0},{"$f":"IFERROR($E194*SUMIF('Daily Log'!$AC$18:$AC$1017,$B194,'Daily Log'!$AD$18:$AD$1017),0)","v":0},{"$f":"IFERROR($E194*SUMIF('Daily Log'!$AF$18:$AF$1017,$B194,'Daily Log'!$AG$18:$AG$1017),0)","v":0},{"$f":"IFERROR($E194*SUMIF('Daily Log'!$AI$18:$AI$1017,$B194,'Daily Log'!$AJ$18:$AJ$1017),0)","v":0},{"$f":"IFERROR($E194*SUMIF('Daily Log'!$AL$18:$AL$1017,$B194,'Daily Log'!$AM$18:$AM$1017),0)","v":0},{"$f":"IFERROR($E194*SUMIF('Daily Log'!$AO$18:$AO$1017,$B194,'Daily Log'!$AP$18:$AP$1017),0)","v":0},{"$f":"IFERROR($E194*SUMIF('Daily Log'!$AR$18:$AR$1017,$B194,'Daily Log'!$AS$18:$AS$1017),0)","v":0},{"$f":"IFERROR($E194*SUMIF('Daily Log'!$AU$18:$AU$1017,$B194,'Daily Log'!$AV$18:$AV$1017),0)","v":0},{"$f":"IFERROR($E194*SUMIF('Daily Log'!$AX$18:$AX$1017,$B194,'Daily Log'!$AY$18:$AY$1017),0)","v":0},{"$f":"IFERROR($E194*SUMIF('Daily Log'!$BA$18:$BA$1017,$B194,'Daily Log'!$BB$18:$BB$1017),0)","v":0},{"$f":"IFERROR($E194*SUMIF('Daily Log'!$BD$18:$BD$1017,$B194,'Daily Log'!$BE$18:$BE$1017),0)","v":0},{"$f":"IFERROR($E194*SUMIF('Daily Log'!$BG$18:$BG$1017,$B194,'Daily Log'!$BH$18:$BH$1017),0)","v":0},{"$f":"IFERROR($E194*SUMIF('Daily Log'!$BJ$18:$BJ$1017,$B194,'Daily Log'!$BK$18:$BK$1017),0)","v":0},{"$f":"IFERROR($E194*SUMIF('Daily Log'!$BM$18:$BM$1017,$B194,'Daily Log'!$BN$18:$BN$1017),0)","v":0},{"$f":"IFERROR($E194*SUMIF('Daily Log'!$BP$18:$BP$1017,$B194,'Daily Log'!$BQ$18:$BQ$1017),0)","v":0},{"$f":"IFERROR($E194*SUMIF('Daily Log'!$BS$18:$BS$1017,$B194,'Daily Log'!$BT$18:$BT$1017),0)","v":0},{"$f":"IFERROR($E194*SUMIF('Daily Log'!$BV$18:$BV$1017,$B194,'Daily Log'!$BW$18:$BW$1017),0)","v":0},{"$f":"IFERROR($E194*SUMIF('Daily Log'!$BY$18:$BY$1017,$B194,'Daily Log'!$BZ$18:$BZ$1017),0)","v":0},{"$f":"IFERROR($E194*SUMIF('Daily Log'!$CB$18:$CB$1017,$B194,'Daily Log'!$CC$18:$CC$1017),0)","v":0},{"$f":"IFERROR($E194*SUMIF('Daily Log'!$CE$18:$CE$1017,$B194,'Daily Log'!$CF$18:$CF$1017),0)","v":0},{"$f":"IFERROR($E194*SUMIF('Daily Log'!$CH$18:$CH$1017,$B194,'Daily Log'!$CI$18:$CI$1017),0)","v":0},{"$f":"IFERROR($E194*SUMIF('Daily Log'!$CK$18:$CK$1017,$B194,'Daily Log'!$CL$18:$CL$1017),0)","v":0},{"$f":"IFERROR($E194*SUMIF('Daily Log'!$CN$18:$CN$1017,$B194,'Daily Log'!$CO$18:$CO$1017),0)","v":0}]
[null,"CC04 MANGO SM",null,"SIDE ORDER-COLD BEVERAGE",1,0,{"$f":"IFERROR($E195*SUMIF('Daily Log'!$B$18:$B$1017,$B195,'Daily Log'!$C$18:$C$1017),0)","v":0},{"$f":"IFERROR($E195*SUMIF('Daily Log'!$E$18:$E$1017,$B195,'Daily Log'!$F$18:$F$1017),0)","v":0},{"$f":"IFERROR($E195*SUMIF('Daily Log'!$H$18:$H$1017,$B195,'Daily Log'!$I$18:$I$1017),0)","v":0},{"$f":"IFERROR($E195*SUMIF('Daily Log'!$K$18:$K$1017,$B195,'Daily Log'!$L$18:$L$1017),0)","v":0},{"$f":"IFERROR($E195*SUMIF('Daily Log'!$N$18:$N$1017,$B195,'Daily Log'!$O$18:$O$1017),0)","v":0},{"$f":"IFERROR($E195*SUMIF('Daily Log'!$Q$18:$Q$1017,$B195,'Daily Log'!$R$18:$R$1017),0)","v":0},{"$f":"IFERROR($E195*SUMIF('Daily Log'!$T$18:$T$1017,$B195,'Daily Log'!$U$18:$U$1017),0)","v":0},{"$f":"IFERROR($E195*SUMIF('Daily Log'!$W$18:$W$1017,$B195,'Daily Log'!$X$18:$X$1017),0)","v":0},{"$f":"IFERROR($E195*SUMIF('Daily Log'!$Z$18:$Z$1017,$B195,'Daily Log'!$AA$18:$AA$1017),0)","v":0},{"$f":"IFERROR($E195*SUMIF('Daily Log'!$AC$18:$AC$1017,$B195,'Daily Log'!$AD$18:$AD$1017),0)","v":0},{"$f":"IFERROR($E195*SUMIF('Daily Log'!$AF$18:$AF$1017,$B195,'Daily Log'!$AG$18:$AG$1017),0)","v":0},{"$f":"IFERROR($E195*SUMIF('Daily Log'!$AI$18:$AI$1017,$B195,'Daily Log'!$AJ$18:$AJ$1017),0)","v":0},{"$f":"IFERROR($E195*SUMIF('Daily Log'!$AL$18:$AL$1017,$B195,'Daily Log'!$AM$18:$AM$1017),0)","v":0},{"$f":"IFERROR($E195*SUMIF('Daily Log'!$AO$18:$AO$1017,$B195,'Daily Log'!$AP$18:$AP$1017),0)","v":0},{"$f":"IFERROR($E195*SUMIF('Daily Log'!$AR$18:$AR$1017,$B195,'Daily Log'!$AS$18:$AS$1017),0)","v":0},{"$f":"IFERROR($E195*SUMIF('Daily Log'!$AU$18:$AU$1017,$B195,'Daily Log'!$AV$18:$AV$1017),0)","v":0},{"$f":"IFERROR($E195*SUMIF('Daily Log'!$AX$18:$AX$1017,$B195,'Daily Log'!$AY$18:$AY$1017),0)","v":0},{"$f":"IFERROR($E195*SUMIF('Daily Log'!$BA$18:$BA$1017,$B195,'Daily Log'!$BB$18:$BB$1017),0)","v":0},{"$f":"IFERROR($E195*SUMIF('Daily Log'!$BD$18:$BD$1017,$B195,'Daily Log'!$BE$18:$BE$1017),0)","v":0},{"$f":"IFERROR($E195*SUMIF('Daily Log'!$BG$18:$BG$1017,$B195,'Daily Log'!$BH$18:$BH$1017),0)","v":0},{"$f":"IFERROR($E195*SUMIF('Daily Log'!$BJ$18:$BJ$1017,$B195,'Daily Log'!$BK$18:$BK$1017),0)","v":0},{"$f":"IFERROR($E195*SUMIF('Daily Log'!$BM$18:$BM$1017,$B195,'Daily Log'!$BN$18:$BN$1017),0)","v":0},{"$f":"IFERROR($E195*SUMIF('Daily Log'!$BP$18:$BP$1017,$B195,'Daily Log'!$BQ$18:$BQ$1017),0)","v":0},{"$f":"IFERROR($E195*SUMIF('Daily Log'!$BS$18:$BS$1017,$B195,'Daily Log'!$BT$18:$BT$1017),0)","v":0},{"$f":"IFERROR($E195*SUMIF('Daily Log'!$BV$18:$BV$1017,$B195,'Daily Log'!$BW$18:$BW$1017),0)","v":0},{"$f":"IFERROR($E195*SUMIF('Daily Log'!$BY$18:$BY$1017,$B195,'Daily Log'!$BZ$18:$BZ$1017),0)","v":0},{"$f":"IFERROR($E195*SUMIF('Daily Log'!$CB$18:$CB$1017,$B195,'Daily Log'!$CC$18:$CC$1017),0)","v":0},{"$f":"IFERROR($E195*SUMIF('Daily Log'!$CE$18:$CE$1017,$B195,'Daily Log'!$CF$18:$CF$1017),0)","v":0},{"$f":"IFERROR($E195*SUMIF('Daily Log'!$CH$18:$CH$1017,$B195,'Daily Log'!$CI$18:$CI$1017),0)","v":0},{"$f":"IFERROR($E195*SUMIF('Daily Log'!$CK$18:$CK$1017,$B195,'Daily Log'!$CL$18:$CL$1017),0)","v":0},{"$f":"IFERROR($E195*SUMIF('Daily Log'!$CN$18:$CN$1017,$B195,'Daily Log'!$CO$18:$CO$1017),0)","v":0}]
[null,"CC05 PASSION SM",null,"SIDE ORDER-COLD BEVERAGE",1,0,{"$f":"IFERROR($E196*SUMIF('Daily Log'!$B$18:$B$1017,$B196,'Daily Log'!$C$18:$C$1017),0)","v":0},{"$f":"IFERROR($E196*SUMIF('Daily Log'!$E$18:$E$1017,$B196,'Daily Log'!$F$18:$F$1017),0)","v":0},{"$f":"IFERROR($E196*SUMIF('Daily Log'!$H$18:$H$1017,$B196,'Daily Log'!$I$18:$I$1017),0)","v":0},{"$f":"IFERROR($E196*SUMIF('Daily Log'!$K$18:$K$1017,$B196,'Daily Log'!$L$18:$L$1017),0)","v":0},{"$f":"IFERROR($E196*SUMIF('Daily Log'!$N$18:$N$1017,$B196,'Daily Log'!$O$18:$O$1017),0)","v":0},{"$f":"IFERROR($E196*SUMIF('Daily Log'!$Q$18:$Q$1017,$B196,'Daily Log'!$R$18:$R$1017),0)","v":0},{"$f":"IFERROR($E196*SUMIF('Daily Log'!$T$18:$T$1017,$B196,'Daily Log'!$U$18:$U$1017),0)","v":0},{"$f":"IFERROR($E196*SUMIF('Daily Log'!$W$18:$W$1017,$B196,'Daily Log'!$X$18:$X$1017),0)","v":0},{"$f":"IFERROR($E196*SUMIF('Daily Log'!$Z$18:$Z$1017,$B196,'Daily Log'!$AA$18:$AA$1017),0)","v":0},{"$f":"IFERROR($E196*SUMIF('Daily Log'!$AC$18:$AC$1017,$B196,'Daily Log'!$AD$18:$AD$1017),0)","v":0},{"$f":"IFERROR($E196*SUMIF('Daily Log'!$AF$18:$AF$1017,$B196,'Daily Log'!$AG$18:$AG$1017),0)","v":0},{"$f":"IFERROR($E196*SUMIF('Daily Log'!$AI$18:$AI$1017,$B196,'Daily Log'!$AJ$18:$AJ$1017),0)","v":0},{"$f":"IFERROR($E196*SUMIF('Daily Log'!$AL$18:$AL$1017,$B196,'Daily Log'!$AM$18:$AM$1017),0)","v":0},{"$f":"IFERROR($E196*SUMIF('Daily Log'!$AO$18:$AO$1017,$B196,'Daily Log'!$AP$18:$AP$1017),0)","v":0},{"$f":"IFERROR($E196*SUMIF('Daily Log'!$AR$18:$AR$1017,$B196,'Daily Log'!$AS$18:$AS$1017),0)","v":0},{"$f":"IFERROR($E196*SUMIF('Daily Log'!$AU$18:$AU$1017,$B196,'Daily Log'!$AV$18:$AV$1017),0)","v":0},{"$f":"IFERROR($E196*SUMIF('Daily Log'!$AX$18:$AX$1017,$B196,'Daily Log'!$AY$18:$AY$1017),0)","v":0},{"$f":"IFERROR($E196*SUMIF('Daily Log'!$BA$18:$BA$1017,$B196,'Daily Log'!$BB$18:$BB$1017),0)","v":0},{"$f":"IFERROR($E196*SUMIF('Daily Log'!$BD$18:$BD$1017,$B196,'Daily Log'!$BE$18:$BE$1017),0)","v":0},{"$f":"IFERROR($E196*SUMIF('Daily Log'!$BG$18:$BG$1017,$B196,'Daily Log'!$BH$18:$BH$1017),0)","v":0},{"$f":"IFERROR($E196*SUMIF('Daily Log'!$BJ$18:$BJ$1017,$B196,'Daily Log'!$BK$18:$BK$1017),0)","v":0},{"$f":"IFERROR($E196*SUMIF('Daily Log'!$BM$18:$BM$1017,$B196,'Daily Log'!$BN$18:$BN$1017),0)","v":0},{"$f":"IFERROR($E196*SUMIF('Daily Log'!$BP$18:$BP$1017,$B196,'Daily Log'!$BQ$18:$BQ$1017),0)","v":0},{"$f":"IFERROR($E196*SUMIF('Daily Log'!$BS$18:$BS$1017,$B196,'Daily Log'!$BT$18:$BT$1017),0)","v":0},{"$f":"IFERROR($E196*SUMIF('Daily Log'!$BV$18:$BV$1017,$B196,'Daily Log'!$BW$18:$BW$1017),0)","v":0},{"$f":"IFERROR($E196*SUMIF('Daily Log'!$BY$18:$BY$1017,$B196,'Daily Log'!$BZ$18:$BZ$1017),0)","v":0},{"$f":"IFERROR($E196*SUMIF('Daily Log'!$CB$18:$CB$1017,$B196,'Daily Log'!$CC$18:$CC$1017),0)","v":0},{"$f":"IFERROR($E196*SUMIF('Daily Log'!$CE$18:$CE$1017,$B196,'Daily Log'!$CF$18:$CF$1017),0)","v":0},{"$f":"IFERROR($E196*SUMIF('Daily Log'!$CH$18:$CH$1017,$B196,'Daily Log'!$CI$18:$CI$1017),0)","v":0},{"$f":"IFERROR($E196*SUMIF('Daily Log'!$CK$18:$CK$1017,$B196,'Daily Log'!$CL$18:$CL$1017),0)","v":0},{"$f":"IFERROR($E196*SUMIF('Daily Log'!$CN$18:$CN$1017,$B196,'Daily Log'!$CO$18:$CO$1017),0)","v":0}]
[null,"CC06 RIBENA SM",null,"SIDE ORDER-COLD BEVERAGE",1,1,{"$f":"IFERROR($E197*SUMIF('Daily Log'!$B$18:$B$1017,$B197,'Daily Log'!$C$18:$C$1017),0)","v":0},{"$f":"IFERROR($E197*SUMIF('Daily Log'!$E$18:$E$1017,$B197,'Daily Log'!$F$18:$F$1017),0)","v":0},{"$f":"IFERROR($E197*SUMIF('Daily Log'!$H$18:$H$1017,$B197,'Daily Log'!$I$18:$I$1017),0)","v":0},{"$f":"IFERROR($E197*SUMIF('Daily Log'!$K$18:$K$1017,$B197,'Daily Log'!$L$18:$L$1017),0)","v":0},{"$f":"IFERROR($E197*SUMIF('Daily Log'!$N$18:$N$1017,$B197,'Daily Log'!$O$18:$O$1017),0)","v":0},{"$f":"IFERROR($E197*SUMIF('Daily Log'!$Q$18:$Q$1017,$B197,'Daily Log'!$R$18:$R$1017),0)","v":0},{"$f":"IFERROR($E197*SUMIF('Daily Log'!$T$18:$T$1017,$B197,'Daily Log'!$U$18:$U$1017),0)","v":0},{"$f":"IFERROR($E197*SUMIF('Daily Log'!$W$18:$W$1017,$B197,'Daily Log'!$X$18:$X$1017),0)","v":0},{"$f":"IFERROR($E197*SUMIF('Daily Log'!$Z$18:$Z$1017,$B197,'Daily Log'!$AA$18:$AA$1017),0)","v":0},{"$f":"IFERROR($E197*SUMIF('Daily Log'!$AC$18:$AC$1017,$B197,'Daily Log'!$AD$18:$AD$1017),0)","v":0},{"$f":"IFERROR($E197*SUMIF('Daily Log'!$AF$18:$AF$1017,$B197,'Daily Log'!$AG$18:$AG$1017),0)","v":0},{"$f":"IFERROR($E197*SUMIF('Daily Log'!$AI$18:$AI$1017,$B197,'Daily Log'!$AJ$18:$AJ$1017),0)","v":0},{"$f":"IFERROR($E197*SUMIF('Daily Log'!$AL$18:$AL$1017,$B197,'Daily Log'!$AM$18:$AM$1017),0)","v":0},{"$f":"IFERROR($E197*SUMIF('Daily Log'!$AO$18:$AO$1017,$B197,'Daily Log'!$AP$18:$AP$1017),0)","v":0},{"$f":"IFERROR($E197*SUMIF('Daily Log'!$AR$18:$AR$1017,$B197,'Daily Log'!$AS$18:$AS$1017),0)","v":0},{"$f":"IFERROR($E197*SUMIF('Daily Log'!$AU$18:$AU$1017,$B197,'Daily Log'!$AV$18:$AV$1017),0)","v":0},{"$f":"IFERROR($E197*SUMIF('Daily Log'!$AX$18:$AX$1017,$B197,'Daily Log'!$AY$18:$AY$1017),0)","v":0},{"$f":"IFERROR($E197*SUMIF('Daily Log'!$BA$18:$BA$1017,$B197,'Daily Log'!$BB$18:$BB$1017),0)","v":0},{"$f":"IFERROR($E197*SUMIF('Daily Log'!$BD$18:$BD$1017,$B197,'Daily Log'!$BE$18:$BE$1017),0)","v":0},{"$f":"IFERROR($E197*SUMIF('Daily Log'!$BG$18:$BG$1017,$B197,'Daily Log'!$BH$18:$BH$1017),0)","v":0},{"$f":"IFERROR($E197*SUMIF('Daily Log'!$BJ$18:$BJ$1017,$B197,'Daily Log'!$BK$18:$BK$1017),0)","v":0},{"$f":"IFERROR($E197*SUMIF('Daily Log'!$BM$18:$BM$1017,$B197,'Daily Log'!$BN$18:$BN$1017),0)","v":0},{"$f":"IFERROR($E197*SUMIF('Daily Log'!$BP$18:$BP$1017,$B197,'Daily Log'!$BQ$18:$BQ$1017),0)","v":0},{"$f":"IFERROR($E197*SUMIF('Daily Log'!$BS$18:$BS$1017,$B197,'Daily Log'!$BT$18:$BT$1017),0)","v":0},{"$f":"IFERROR($E197*SUMIF('Daily Log'!$BV$18:$BV$1017,$B197,'Daily Log'!$BW$18:$BW$1017),0)","v":0},{"$f":"IFERROR($E197*SUMIF('Daily Log'!$BY$18:$BY$1017,$B197,'Daily Log'!$BZ$18:$BZ$1017),0)","v":0},{"$f":"IFERROR($E197*SUMIF('Daily Log'!$CB$18:$CB$1017,$B197,'Daily Log'!$CC$18:$CC$1017),0)","v":0},{"$f":"IFERROR($E197*SUMIF('Daily Log'!$CE$18:$CE$1017,$B197,'Daily Log'!$CF$18:$CF$1017),0)","v":0},{"$f":"IFERROR($E197*SUMIF('Daily Log'!$CH$18:$CH$1017,$B197,'Daily Log'!$CI$18:$CI$1017),0)","v":0},{"$f":"IFERROR($E197*SUMIF('Daily Log'!$CK$18:$CK$1017,$B197,'Daily Log'!$CL$18:$CL$1017),0)","v":1},{"$f":"IFERROR($E197*SUMIF('Daily Log'!$CN$18:$CN$1017,$B197,'Daily Log'!$CO$18:$CO$1017),0)","v":0}]
[null,"CC07 CAPPUCINNO SM",null,"SIDE ORDER-COLD BEVERAGE",1,0,{"$f":"IFERROR($E198*SUMIF('Daily Log'!$B$18:$B$1017,$B198,'Daily Log'!$C$18:$C$1017),0)","v":0},{"$f":"IFERROR($E198*SUMIF('Daily Log'!$E$18:$E$1017,$B198,'Daily Log'!$F$18:$F$1017),0)","v":0},{"$f":"IFERROR($E198*SUMIF('Daily Log'!$H$18:$H$1017,$B198,'Daily Log'!$I$18:$I$1017),0)","v":0},{"$f":"IFERROR($E198*SUMIF('Daily Log'!$K$18:$K$1017,$B198,'Daily Log'!$L$18:$L$1017),0)","v":0},{"$f":"IFERROR($E198*SUMIF('Daily Log'!$N$18:$N$1017,$B198,'Daily Log'!$O$18:$O$1017),0)","v":0},{"$f":"IFERROR($E198*SUMIF('Daily Log'!$Q$18:$Q$1017,$B198,'Daily Log'!$R$18:$R$1017),0)","v":0},{"$f":"IFERROR($E198*SUMIF('Daily Log'!$T$18:$T$1017,$B198,'Daily Log'!$U$18:$U$1017),0)","v":0},{"$f":"IFERROR($E198*SUMIF('Daily Log'!$W$18:$W$1017,$B198,'Daily Log'!$X$18:$X$1017),0)","v":0},{"$f":"IFERROR($E198*SUMIF('Daily Log'!$Z$18:$Z$1017,$B198,'Daily Log'!$AA$18:$AA$1017),0)","v":0},{"$f":"IFERROR($E198*SUMIF('Daily Log'!$AC$18:$AC$1017,$B198,'Daily Log'!$AD$18:$AD$1017),0)","v":0},{"$f":"IFERROR($E198*SUMIF('Daily Log'!$AF$18:$AF$1017,$B198,'Daily Log'!$AG$18:$AG$1017),0)","v":0},{"$f":"IFERROR($E198*SUMIF('Daily Log'!$AI$18:$AI$1017,$B198,'Daily Log'!$AJ$18:$AJ$1017),0)","v":0},{"$f":"IFERROR($E198*SUMIF('Daily Log'!$AL$18:$AL$1017,$B198,'Daily Log'!$AM$18:$AM$1017),0)","v":0},{"$f":"IFERROR($E198*SUMIF('Daily Log'!$AO$18:$AO$1017,$B198,'Daily Log'!$AP$18:$AP$1017),0)","v":0},{"$f":"IFERROR($E198*SUMIF('Daily Log'!$AR$18:$AR$1017,$B198,'Daily Log'!$AS$18:$AS$1017),0)","v":0},{"$f":"IFERROR($E198*SUMIF('Daily Log'!$AU$18:$AU$1017,$B198,'Daily Log'!$AV$18:$AV$1017),0)","v":0},{"$f":"IFERROR($E198*SUMIF('Daily Log'!$AX$18:$AX$1017,$B198,'Daily Log'!$AY$18:$AY$1017),0)","v":0},{"$f":"IFERROR($E198*SUMIF('Daily Log'!$BA$18:$BA$1017,$B198,'Daily Log'!$BB$18:$BB$1017),0)","v":0},{"$f":"IFERROR($E198*SUMIF('Daily Log'!$BD$18:$BD$1017,$B198,'Daily Log'!$BE$18:$BE$1017),0)","v":0},{"$f":"IFERROR($E198*SUMIF('Daily Log'!$BG$18:$BG$1017,$B198,'Daily Log'!$BH$18:$BH$1017),0)","v":0},{"$f":"IFERROR($E198*SUMIF('Daily Log'!$BJ$18:$BJ$1017,$B198,'Daily Log'!$BK$18:$BK$1017),0)","v":0},{"$f":"IFERROR($E198*SUMIF('Daily Log'!$BM$18:$BM$1017,$B198,'Daily Log'!$BN$18:$BN$1017),0)","v":0},{"$f":"IFERROR($E198*SUMIF('Daily Log'!$BP$18:$BP$1017,$B198,'Daily Log'!$BQ$18:$BQ$1017),0)","v":0},{"$f":"IFERROR($E198*SUMIF('Daily Log'!$BS$18:$BS$1017,$B198,'Daily Log'!$BT$18:$BT$1017),0)","v":0},{"$f":"IFERROR($E198*SUMIF('Daily Log'!$BV$18:$BV$1017,$B198,'Daily Log'!$BW$18:$BW$1017),0)","v":0},{"$f":"IFERROR($E198*SUMIF('Daily Log'!$BY$18:$BY$1017,$B198,'Daily Log'!$BZ$18:$BZ$1017),0)","v":0},{"$f":"IFERROR($E198*SUMIF('Daily Log'!$CB$18:$CB$1017,$B198,'Daily Log'!$CC$18:$CC$1017),0)","v":0},{"$f":"IFERROR($E198*SUMIF('Daily Log'!$CE$18:$CE$1017,$B198,'Daily Log'!$CF$18:$CF$1017),0)","v":0},{"$f":"IFERROR($E198*SUMIF('Daily Log'!$CH$18:$CH$1017,$B198,'Daily Log'!$CI$18:$CI$1017),0)","v":0},{"$f":"IFERROR($E198*SUMIF('Daily Log'!$CK$18:$CK$1017,$B198,'Daily Log'!$CL$18:$CL$1017),0)","v":0},{"$f":"IFERROR($E198*SUMIF('Daily Log'!$CN$18:$CN$1017,$B198,'Daily Log'!$CO$18:$CO$1017),0)","v":0}]
[null,"CC08 CHOCOLATE SM",null,"SIDE ORDER-COLD BEVERAGE",1,1,{"$f":"IFERROR($E199*SUMIF('Daily Log'!$B$18:$B$1017,$B199,'Daily Log'!$C$18:$C$1017),0)","v":0},{"$f":"IFERROR($E199*SUMIF('Daily Log'!$E$18:$E$1017,$B199,'Daily Log'!$F$18:$F$1017),0)","v":0},{"$f":"IFERROR($E199*SUMIF('Daily Log'!$H$18:$H$1017,$B199,'Daily Log'!$I$18:$I$1017),0)","v":0},{"$f":"IFERROR($E199*SUMIF('Daily Log'!$K$18:$K$1017,$B199,'Daily Log'!$L$18:$L$1017),0)","v":0},{"$f":"IFERROR($E199*SUMIF('Daily Log'!$N$18:$N$1017,$B199,'Daily Log'!$O$18:$O$1017),0)","v":0},{"$f":"IFERROR($E199*SUMIF('Daily Log'!$Q$18:$Q$1017,$B199,'Daily Log'!$R$18:$R$1017),0)","v":0},{"$f":"IFERROR($E199*SUMIF('Daily Log'!$T$18:$T$1017,$B199,'Daily Log'!$U$18:$U$1017),0)","v":0},{"$f":"IFERROR($E199*SUMIF('Daily Log'!$W$18:$W$1017,$B199,'Daily Log'!$X$18:$X$1017),0)","v":0},{"$f":"IFERROR($E199*SUMIF('Daily Log'!$Z$18:$Z$1017,$B199,'Daily Log'!$AA$18:$AA$1017),0)","v":0},{"$f":"IFERROR($E199*SUMIF('Daily Log'!$AC$18:$AC$1017,$B199,'Daily Log'!$AD$18:$AD$1017),0)","v":0},{"$f":"IFERROR($E199*SUMIF('Daily Log'!$AF$18:$AF$1017,$B199,'Daily Log'!$AG$18:$AG$1017),0)","v":0},{"$f":"IFERROR($E199*SUMIF('Daily Log'!$AI$18:$AI$1017,$B199,'Daily Log'!$AJ$18:$AJ$1017),0)","v":0},{"$f":"IFERROR($E199*SUMIF('Daily Log'!$AL$18:$AL$1017,$B199,'Daily Log'!$AM$18:$AM$1017),0)","v":0},{"$f":"IFERROR($E199*SUMIF('Daily Log'!$AO$18:$AO$1017,$B199,'Daily Log'!$AP$18:$AP$1017),0)","v":0},{"$f":"IFERROR($E199*SUMIF('Daily Log'!$AR$18:$AR$1017,$B199,'Daily Log'!$AS$18:$AS$1017),0)","v":0},{"$f":"IFERROR($E199*SUMIF('Daily Log'!$AU$18:$AU$1017,$B199,'Daily Log'!$AV$18:$AV$1017),0)","v":0},{"$f":"IFERROR($E199*SUMIF('Daily Log'!$AX$18:$AX$1017,$B199,'Daily Log'!$AY$18:$AY$1017),0)","v":0},{"$f":"IFERROR($E199*SUMIF('Daily Log'!$BA$18:$BA$1017,$B199,'Daily Log'!$BB$18:$BB$1017),0)","v":0},{"$f":"IFERROR($E199*SUMIF('Daily Log'!$BD$18:$BD$1017,$B199,'Daily Log'!$BE$18:$BE$1017),0)","v":0},{"$f":"IFERROR($E199*SUMIF('Daily Log'!$BG$18:$BG$1017,$B199,'Daily Log'!$BH$18:$BH$1017),0)","v":0},{"$f":"IFERROR($E199*SUMIF('Daily Log'!$BJ$18:$BJ$1017,$B199,'Daily Log'!$BK$18:$BK$1017),0)","v":0},{"$f":"IFERROR($E199*SUMIF('Daily Log'!$BM$18:$BM$1017,$B199,'Daily Log'!$BN$18:$BN$1017),0)","v":0},{"$f":"IFERROR($E199*SUMIF('Daily Log'!$BP$18:$BP$1017,$B199,'Daily Log'!$BQ$18:$BQ$1017),0)","v":0},{"$f":"IFERROR($E199*SUMIF('Daily Log'!$BS$18:$BS$1017,$B199,'Daily Log'!$BT$18:$BT$1017),0)","v":0},{"$f":"IFERROR($E199*SUMIF('Daily Log'!$BV$18:$BV$1017,$B199,'Daily Log'!$BW$18:$BW$1017),0)","v":0},{"$f":"IFERROR($E199*SUMIF('Daily Log'!$BY$18:$BY$1017,$B199,'Daily Log'!$BZ$18:$BZ$1017),0)","v":0},{"$f":"IFERROR($E199*SUMIF('Daily Log'!$CB$18:$CB$1017,$B199,'Daily Log'!$CC$18:$CC$1017),0)","v":0},{"$f":"IFERROR($E199*SUMIF('Daily Log'!$CE$18:$CE$1017,$B199,'Daily Log'!$CF$18:$CF$1017),0)","v":0},{"$f":"IFERROR($E199*SUMIF('Daily Log'!$CH$18:$CH$1017,$B199,'Daily Log'!$CI$18:$CI$1017),0)","v":0},{"$f":"IFERROR($E199*SUMIF('Daily Log'!$CK$18:$CK$1017,$B199,'Daily Log'!$CL$18:$CL$1017),0)","v":1},{"$f":"IFERROR($E199*SUMIF('Daily Log'!$CN$18:$CN$1017,$B199,'Daily Log'!$CO$18:$CO$1017),0)","v":0}]
[null,"CC09 MOCHA SM",null,"SIDE ORDER-COLD BEVERAGE",1,1,{"$f":"IFERROR($E200*SUMIF('Daily Log'!$B$18:$B$1017,$B200,'Daily Log'!$C$18:$C$1017),0)","v":0},{"$f":"IFERROR($E200*SUMIF('Daily Log'!$E$18:$E$1017,$B200,'Daily Log'!$F$18:$F$1017),0)","v":0},{"$f":"IFERROR($E200*SUMIF('Daily Log'!$H$18:$H$1017,$B200,'Daily Log'!$I$18:$I$1017),0)","v":0},{"$f":"IFERROR($E200*SUMIF('Daily Log'!$K$18:$K$1017,$B200,'Daily Log'!$L$18:$L$1017),0)","v":0},{"$f":"IFERROR($E200*SUMIF('Daily Log'!$N$18:$N$1017,$B200,'Daily Log'!$O$18:$O$1017),0)","v":0},{"$f":"IFERROR($E200*SUMIF('Daily Log'!$Q$18:$Q$1017,$B200,'Daily Log'!$R$18:$R$1017),0)","v":0},{"$f":"IFERROR($E200*SUMIF('Daily Log'!$T$18:$T$1017,$B200,'Daily Log'!$U$18:$U$1017),0)","v":0},{"$f":"IFERROR($E200*SUMIF('Daily Log'!$W$18:$W$1017,$B200,'Daily Log'!$X$18:$X$1017),0)","v":0},{"$f":"IFERROR($E200*SUMIF('Daily Log'!$Z$18:$Z$1017,$B200,'Daily Log'!$AA$18:$AA$1017),0)","v":0},{"$f":"IFERROR($E200*SUMIF('Daily Log'!$AC$18:$AC$1017,$B200,'Daily Log'!$AD$18:$AD$1017),0)","v":0},{"$f":"IFERROR($E200*SUMIF('Daily Log'!$AF$18:$AF$1017,$B200,'Daily Log'!$AG$18:$AG$1017),0)","v":0},{"$f":"IFERROR($E200*SUMIF('Daily Log'!$AI$18:$AI$1017,$B200,'Daily Log'!$AJ$18:$AJ$1017),0)","v":0},{"$f":"IFERROR($E200*SUMIF('Daily Log'!$AL$18:$AL$1017,$B200,'Daily Log'!$AM$18:$AM$1017),0)","v":0},{"$f":"IFERROR($E200*SUMIF('Daily Log'!$AO$18:$AO$1017,$B200,'Daily Log'!$AP$18:$AP$1017),0)","v":0},{"$f":"IFERROR($E200*SUMIF('Daily Log'!$AR$18:$AR$1017,$B200,'Daily Log'!$AS$18:$AS$1017),0)","v":0},{"$f":"IFERROR($E200*SUMIF('Daily Log'!$AU$18:$AU$1017,$B200,'Daily Log'!$AV$18:$AV$1017),0)","v":0},{"$f":"IFERROR($E200*SUMIF('Daily Log'!$AX$18:$AX$1017,$B200,'Daily Log'!$AY$18:$AY$1017),0)","v":0},{"$f":"IFERROR($E200*SUMIF('Daily Log'!$BA$18:$BA$1017,$B200,'Daily Log'!$BB$18:$BB$1017),0)","v":0},{"$f":"IFERROR($E200*SUMIF('Daily Log'!$BD$18:$BD$1017,$B200,'Daily Log'!$BE$18:$BE$1017),0)","v":0},{"$f":"IFERROR($E200*SUMIF('Daily Log'!$BG$18:$BG$1017,$B200,'Daily Log'!$BH$18:$BH$1017),0)","v":0},{"$f":"IFERROR($E200*SUMIF('Daily Log'!$BJ$18:$BJ$1017,$B200,'Daily Log'!$BK$18:$BK$1017),0)","v":0},{"$f":"IFERROR($E200*SUMIF('Daily Log'!$BM$18:$BM$1017,$B200,'Daily Log'!$BN$18:$BN$1017),0)","v":0},{"$f":"IFERROR($E200*SUMIF('Daily Log'!$BP$18:$BP$1017,$B200,'Daily Log'!$BQ$18:$BQ$1017),0)","v":0},{"$f":"IFERROR($E200*SUMIF('Daily Log'!$BS$18:$BS$1017,$B200,'Daily Log'!$BT$18:$BT$1017),0)","v":0},{"$f":"IFERROR($E200*SUMIF('Daily Log'!$BV$18:$BV$1017,$B200,'Daily Log'!$BW$18:$BW$1017),0)","v":0},{"$f":"IFERROR($E200*SUMIF('Daily Log'!$BY$18:$BY$1017,$B200,'Daily Log'!$BZ$18:$BZ$1017),0)","v":0},{"$f":"IFERROR($E200*SUMIF('Daily Log'!$CB$18:$CB$1017,$B200,'Daily Log'!$CC$18:$CC$1017),0)","v":0},{"$f":"IFERROR($E200*SUMIF('Daily Log'!$CE$18:$CE$1017,$B200,'Daily Log'!$CF$18:$CF$1017),0)","v":0},{"$f":"IFERROR($E200*SUMIF('Daily Log'!$CH$18:$CH$1017,$B200,'Daily Log'!$CI$18:$CI$1017),0)","v":0},{"$f":"IFERROR($E200*SUMIF('Daily Log'!$CK$18:$CK$1017,$B200,'Daily Log'!$CL$18:$CL$1017),0)","v":1},{"$f":"IFERROR($E200*SUMIF('Daily Log'!$CN$18:$CN$1017,$B200,'Daily Log'!$CO$18:$CO$1017),0)","v":0}]
[null,"CD01 7 UP",null,"SIDE ORDER-SOFT DRINK",1,0,{"$f":"IFERROR($E201*SUMIF('Daily Log'!$B$18:$B$1017,$B201,'Daily Log'!$C$18:$C$1017),0)","v":0},{"$f":"IFERROR($E201*SUMIF('Daily Log'!$E$18:$E$1017,$B201,'Daily Log'!$F$18:$F$1017),0)","v":0},{"$f":"IFERROR($E201*SUMIF('Daily Log'!$H$18:$H$1017,$B201,'Daily Log'!$I$18:$I$1017),0)","v":0},{"$f":"IFERROR($E201*SUMIF('Daily Log'!$K$18:$K$1017,$B201,'Daily Log'!$L$18:$L$1017),0)","v":0},{"$f":"IFERROR($E201*SUMIF('Daily Log'!$N$18:$N$1017,$B201,'Daily Log'!$O$18:$O$1017),0)","v":0},{"$f":"IFERROR($E201*SUMIF('Daily Log'!$Q$18:$Q$1017,$B201,'Daily Log'!$R$18:$R$1017),0)","v":0},{"$f":"IFERROR($E201*SUMIF('Daily Log'!$T$18:$T$1017,$B201,'Daily Log'!$U$18:$U$1017),0)","v":0},{"$f":"IFERROR($E201*SUMIF('Daily Log'!$W$18:$W$1017,$B201,'Daily Log'!$X$18:$X$1017),0)","v":0},{"$f":"IFERROR($E201*SUMIF('Daily Log'!$Z$18:$Z$1017,$B201,'Daily Log'!$AA$18:$AA$1017),0)","v":0},{"$f":"IFERROR($E201*SUMIF('Daily Log'!$AC$18:$AC$1017,$B201,'Daily Log'!$AD$18:$AD$1017),0)","v":0},{"$f":"IFERROR($E201*SUMIF('Daily Log'!$AF$18:$AF$1017,$B201,'Daily Log'!$AG$18:$AG$1017),0)","v":0},{"$f":"IFERROR($E201*SUMIF('Daily Log'!$AI$18:$AI$1017,$B201,'Daily Log'!$AJ$18:$AJ$1017),0)","v":0},{"$f":"IFERROR($E201*SUMIF('Daily Log'!$AL$18:$AL$1017,$B201,'Daily Log'!$AM$18:$AM$1017),0)","v":0},{"$f":"IFERROR($E201*SUMIF('Daily Log'!$AO$18:$AO$1017,$B201,'Daily Log'!$AP$18:$AP$1017),0)","v":0},{"$f":"IFERROR($E201*SUMIF('Daily Log'!$AR$18:$AR$1017,$B201,'Daily Log'!$AS$18:$AS$1017),0)","v":0},{"$f":"IFERROR($E201*SUMIF('Daily Log'!$AU$18:$AU$1017,$B201,'Daily Log'!$AV$18:$AV$1017),0)","v":0},{"$f":"IFERROR($E201*SUMIF('Daily Log'!$AX$18:$AX$1017,$B201,'Daily Log'!$AY$18:$AY$1017),0)","v":0},{"$f":"IFERROR($E201*SUMIF('Daily Log'!$BA$18:$BA$1017,$B201,'Daily Log'!$BB$18:$BB$1017),0)","v":0},{"$f":"IFERROR($E201*SUMIF('Daily Log'!$BD$18:$BD$1017,$B201,'Daily Log'!$BE$18:$BE$1017),0)","v":0},{"$f":"IFERROR($E201*SUMIF('Daily Log'!$BG$18:$BG$1017,$B201,'Daily Log'!$BH$18:$BH$1017),0)","v":0},{"$f":"IFERROR($E201*SUMIF('Daily Log'!$BJ$18:$BJ$1017,$B201,'Daily Log'!$BK$18:$BK$1017),0)","v":0},{"$f":"IFERROR($E201*SUMIF('Daily Log'!$BM$18:$BM$1017,$B201,'Daily Log'!$BN$18:$BN$1017),0)","v":0},{"$f":"IFERROR($E201*SUMIF('Daily Log'!$BP$18:$BP$1017,$B201,'Daily Log'!$BQ$18:$BQ$1017),0)","v":0},{"$f":"IFERROR($E201*SUMIF('Daily Log'!$BS$18:$BS$1017,$B201,'Daily Log'!$BT$18:$BT$1017),0)","v":0},{"$f":"IFERROR($E201*SUMIF('Daily Log'!$BV$18:$BV$1017,$B201,'Daily Log'!$BW$18:$BW$1017),0)","v":0},{"$f":"IFERROR($E201*SUMIF('Daily Log'!$BY$18:$BY$1017,$B201,'Daily Log'!$BZ$18:$BZ$1017),0)","v":0},{"$f":"IFERROR($E201*SUMIF('Daily Log'!$CB$18:$CB$1017,$B201,'Daily Log'!$CC$18:$CC$1017),0)","v":0},{"$f":"IFERROR($E201*SUMIF('Daily Log'!$CE$18:$CE$1017,$B201,'Daily Log'!$CF$18:$CF$1017),0)","v":0},{"$f":"IFERROR($E201*SUMIF('Daily Log'!$CH$18:$CH$1017,$B201,'Daily Log'!$CI$18:$CI$1017),0)","v":0},{"$f":"IFERROR($E201*SUMIF('Daily Log'!$CK$18:$CK$1017,$B201,'Daily Log'!$CL$18:$CL$1017),0)","v":0},{"$f":"IFERROR($E201*SUMIF('Daily Log'!$CN$18:$CN$1017,$B201,'Daily Log'!$CO$18:$CO$1017),0)","v":0}]
[null,"CD02 7 UP REVIVE",null,"SIDE ORDER-SOFT DRINK",1,0,{"$f":"IFERROR($E202*SUMIF('Daily Log'!$B$18:$B$1017,$B202,'Daily Log'!$C$18:$C$1017),0)","v":0},{"$f":"IFERROR($E202*SUMIF('Daily Log'!$E$18:$E$1017,$B202,'Daily Log'!$F$18:$F$1017),0)","v":0},{"$f":"IFERROR($E202*SUMIF('Daily Log'!$H$18:$H$1017,$B202,'Daily Log'!$I$18:$I$1017),0)","v":0},{"$f":"IFERROR($E202*SUMIF('Daily Log'!$K$18:$K$1017,$B202,'Daily Log'!$L$18:$L$1017),0)","v":0},{"$f":"IFERROR($E202*SUMIF('Daily Log'!$N$18:$N$1017,$B202,'Daily Log'!$O$18:$O$1017),0)","v":0},{"$f":"IFERROR($E202*SUMIF('Daily Log'!$Q$18:$Q$1017,$B202,'Daily Log'!$R$18:$R$1017),0)","v":0},{"$f":"IFERROR($E202*SUMIF('Daily Log'!$T$18:$T$1017,$B202,'Daily Log'!$U$18:$U$1017),0)","v":0},{"$f":"IFERROR($E202*SUMIF('Daily Log'!$W$18:$W$1017,$B202,'Daily Log'!$X$18:$X$1017),0)","v":0},{"$f":"IFERROR($E202*SUMIF('Daily Log'!$Z$18:$Z$1017,$B202,'Daily Log'!$AA$18:$AA$1017),0)","v":0},{"$f":"IFERROR($E202*SUMIF('Daily Log'!$AC$18:$AC$1017,$B202,'Daily Log'!$AD$18:$AD$1017),0)","v":0},{"$f":"IFERROR($E202*SUMIF('Daily Log'!$AF$18:$AF$1017,$B202,'Daily Log'!$AG$18:$AG$1017),0)","v":0},{"$f":"IFERROR($E202*SUMIF('Daily Log'!$AI$18:$AI$1017,$B202,'Daily Log'!$AJ$18:$AJ$1017),0)","v":0},{"$f":"IFERROR($E202*SUMIF('Daily Log'!$AL$18:$AL$1017,$B202,'Daily Log'!$AM$18:$AM$1017),0)","v":0},{"$f":"IFERROR($E202*SUMIF('Daily Log'!$AO$18:$AO$1017,$B202,'Daily Log'!$AP$18:$AP$1017),0)","v":0},{"$f":"IFERROR($E202*SUMIF('Daily Log'!$AR$18:$AR$1017,$B202,'Daily Log'!$AS$18:$AS$1017),0)","v":0},{"$f":"IFERROR($E202*SUMIF('Daily Log'!$AU$18:$AU$1017,$B202,'Daily Log'!$AV$18:$AV$1017),0)","v":0},{"$f":"IFERROR($E202*SUMIF('Daily Log'!$AX$18:$AX$1017,$B202,'Daily Log'!$AY$18:$AY$1017),0)","v":0},{"$f":"IFERROR($E202*SUMIF('Daily Log'!$BA$18:$BA$1017,$B202,'Daily Log'!$BB$18:$BB$1017),0)","v":0},{"$f":"IFERROR($E202*SUMIF('Daily Log'!$BD$18:$BD$1017,$B202,'Daily Log'!$BE$18:$BE$1017),0)","v":0},{"$f":"IFERROR($E202*SUMIF('Daily Log'!$BG$18:$BG$1017,$B202,'Daily Log'!$BH$18:$BH$1017),0)","v":0},{"$f":"IFERROR($E202*SUMIF('Daily Log'!$BJ$18:$BJ$1017,$B202,'Daily Log'!$BK$18:$BK$1017),0)","v":0},{"$f":"IFERROR($E202*SUMIF('Daily Log'!$BM$18:$BM$1017,$B202,'Daily Log'!$BN$18:$BN$1017),0)","v":0},{"$f":"IFERROR($E202*SUMIF('Daily Log'!$BP$18:$BP$1017,$B202,'Daily Log'!$BQ$18:$BQ$1017),0)","v":0},{"$f":"IFERROR($E202*SUMIF('Daily Log'!$BS$18:$BS$1017,$B202,'Daily Log'!$BT$18:$BT$1017),0)","v":0},{"$f":"IFERROR($E202*SUMIF('Daily Log'!$BV$18:$BV$1017,$B202,'Daily Log'!$BW$18:$BW$1017),0)","v":0},{"$f":"IFERROR($E202*SUMIF('Daily Log'!$BY$18:$BY$1017,$B202,'Daily Log'!$BZ$18:$BZ$1017),0)","v":0},{"$f":"IFERROR($E202*SUMIF('Daily Log'!$CB$18:$CB$1017,$B202,'Daily Log'!$CC$18:$CC$1017),0)","v":0},{"$f":"IFERROR($E202*SUMIF('Daily Log'!$CE$18:$CE$1017,$B202,'Daily Log'!$CF$18:$CF$1017),0)","v":0},{"$f":"IFERROR($E202*SUMIF('Daily Log'!$CH$18:$CH$1017,$B202,'Daily Log'!$CI$18:$CI$1017),0)","v":0},{"$f":"IFERROR($E202*SUMIF('Daily Log'!$CK$18:$CK$1017,$B202,'Daily Log'!$CL$18:$CL$1017),0)","v":0},{"$f":"IFERROR($E202*SUMIF('Daily Log'!$CN$18:$CN$1017,$B202,'Daily Log'!$CO$18:$CO$1017),0)","v":0}]
[null,"CD03 PEPSI",null,"SIDE ORDER-SOFT DRINK",1,1,{"$f":"IFERROR($E203*SUMIF('Daily Log'!$B$18:$B$1017,$B203,'Daily Log'!$C$18:$C$1017),0)","v":0},{"$f":"IFERROR($E203*SUMIF('Daily Log'!$E$18:$E$1017,$B203,'Daily Log'!$F$18:$F$1017),0)","v":0},{"$f":"IFERROR($E203*SUMIF('Daily Log'!$H$18:$H$1017,$B203,'Daily Log'!$I$18:$I$1017),0)","v":0},{"$f":"IFERROR($E203*SUMIF('Daily Log'!$K$18:$K$1017,$B203,'Daily Log'!$L$18:$L$1017),0)","v":0},{"$f":"IFERROR($E203*SUMIF('Daily Log'!$N$18:$N$1017,$B203,'Daily Log'!$O$18:$O$1017),0)","v":0},{"$f":"IFERROR($E203*SUMIF('Daily Log'!$Q$18:$Q$1017,$B203,'Daily Log'!$R$18:$R$1017),0)","v":0},{"$f":"IFERROR($E203*SUMIF('Daily Log'!$T$18:$T$1017,$B203,'Daily Log'!$U$18:$U$1017),0)","v":0},{"$f":"IFERROR($E203*SUMIF('Daily Log'!$W$18:$W$1017,$B203,'Daily Log'!$X$18:$X$1017),0)","v":0},{"$f":"IFERROR($E203*SUMIF('Daily Log'!$Z$18:$Z$1017,$B203,'Daily Log'!$AA$18:$AA$1017),0)","v":0},{"$f":"IFERROR($E203*SUMIF('Daily Log'!$AC$18:$AC$1017,$B203,'Daily Log'!$AD$18:$AD$1017),0)","v":0},{"$f":"IFERROR($E203*SUMIF('Daily Log'!$AF$18:$AF$1017,$B203,'Daily Log'!$AG$18:$AG$1017),0)","v":0},{"$f":"IFERROR($E203*SUMIF('Daily Log'!$AI$18:$AI$1017,$B203,'Daily Log'!$AJ$18:$AJ$1017),0)","v":0},{"$f":"IFERROR($E203*SUMIF('Daily Log'!$AL$18:$AL$1017,$B203,'Daily Log'!$AM$18:$AM$1017),0)","v":0},{"$f":"IFERROR($E203*SUMIF('Daily Log'!$AO$18:$AO$1017,$B203,'Daily Log'!$AP$18:$AP$1017),0)","v":0},{"$f":"IFERROR($E203*SUMIF('Daily Log'!$AR$18:$AR$1017,$B203,'Daily Log'!$AS$18:$AS$1017),0)","v":0},{"$f":"IFERROR($E203*SUMIF('Daily Log'!$AU$18:$AU$1017,$B203,'Daily Log'!$AV$18:$AV$1017),0)","v":0},{"$f":"IFERROR($E203*SUMIF('Daily Log'!$AX$18:$AX$1017,$B203,'Daily Log'!$AY$18:$AY$1017),0)","v":0},{"$f":"IFERROR($E203*SUMIF('Daily Log'!$BA$18:$BA$1017,$B203,'Daily Log'!$BB$18:$BB$1017),0)","v":0},{"$f":"IFERROR($E203*SUMIF('Daily Log'!$BD$18:$BD$1017,$B203,'Daily Log'!$BE$18:$BE$1017),0)","v":0},{"$f":"IFERROR($E203*SUMIF('Daily Log'!$BG$18:$BG$1017,$B203,'Daily Log'!$BH$18:$BH$1017),0)","v":0},{"$f":"IFERROR($E203*SUMIF('Daily Log'!$BJ$18:$BJ$1017,$B203,'Daily Log'!$BK$18:$BK$1017),0)","v":0},{"$f":"IFERROR($E203*SUMIF('Daily Log'!$BM$18:$BM$1017,$B203,'Daily Log'!$BN$18:$BN$1017),0)","v":0},{"$f":"IFERROR($E203*SUMIF('Daily Log'!$BP$18:$BP$1017,$B203,'Daily Log'!$BQ$18:$BQ$1017),0)","v":0},{"$f":"IFERROR($E203*SUMIF('Daily Log'!$BS$18:$BS$1017,$B203,'Daily Log'!$BT$18:$BT$1017),0)","v":0},{"$f":"IFERROR($E203*SUMIF('Daily Log'!$BV$18:$BV$1017,$B203,'Daily Log'!$BW$18:$BW$1017),0)","v":0},{"$f":"IFERROR($E203*SUMIF('Daily Log'!$BY$18:$BY$1017,$B203,'Daily Log'!$BZ$18:$BZ$1017),0)","v":0},{"$f":"IFERROR($E203*SUMIF('Daily Log'!$CB$18:$CB$1017,$B203,'Daily Log'!$CC$18:$CC$1017),0)","v":0},{"$f":"IFERROR($E203*SUMIF('Daily Log'!$CE$18:$CE$1017,$B203,'Daily Log'!$CF$18:$CF$1017),0)","v":0},{"$f":"IFERROR($E203*SUMIF('Daily Log'!$CH$18:$CH$1017,$B203,'Daily Log'!$CI$18:$CI$1017),0)","v":0},{"$f":"IFERROR($E203*SUMIF('Daily Log'!$CK$18:$CK$1017,$B203,'Daily Log'!$CL$18:$CL$1017),0)","v":1},{"$f":"IFERROR($E203*SUMIF('Daily Log'!$CN$18:$CN$1017,$B203,'Daily Log'!$CO$18:$CO$1017),0)","v":0}]
[null,"CE01 MILO (C)",null,"SIDE ORDER-COLD BEVERAGE",1,0,{"$f":"IFERROR($E204*SUMIF('Daily Log'!$B$18:$B$1017,$B204,'Daily Log'!$C$18:$C$1017),0)","v":0},{"$f":"IFERROR($E204*SUMIF('Daily Log'!$E$18:$E$1017,$B204,'Daily Log'!$F$18:$F$1017),0)","v":0},{"$f":"IFERROR($E204*SUMIF('Daily Log'!$H$18:$H$1017,$B204,'Daily Log'!$I$18:$I$1017),0)","v":0},{"$f":"IFERROR($E204*SUMIF('Daily Log'!$K$18:$K$1017,$B204,'Daily Log'!$L$18:$L$1017),0)","v":0},{"$f":"IFERROR($E204*SUMIF('Daily Log'!$N$18:$N$1017,$B204,'Daily Log'!$O$18:$O$1017),0)","v":0},{"$f":"IFERROR($E204*SUMIF('Daily Log'!$Q$18:$Q$1017,$B204,'Daily Log'!$R$18:$R$1017),0)","v":0},{"$f":"IFERROR($E204*SUMIF('Daily Log'!$T$18:$T$1017,$B204,'Daily Log'!$U$18:$U$1017),0)","v":0},{"$f":"IFERROR($E204*SUMIF('Daily Log'!$W$18:$W$1017,$B204,'Daily Log'!$X$18:$X$1017),0)","v":0},{"$f":"IFERROR($E204*SUMIF('Daily Log'!$Z$18:$Z$1017,$B204,'Daily Log'!$AA$18:$AA$1017),0)","v":0},{"$f":"IFERROR($E204*SUMIF('Daily Log'!$AC$18:$AC$1017,$B204,'Daily Log'!$AD$18:$AD$1017),0)","v":0},{"$f":"IFERROR($E204*SUMIF('Daily Log'!$AF$18:$AF$1017,$B204,'Daily Log'!$AG$18:$AG$1017),0)","v":0},{"$f":"IFERROR($E204*SUMIF('Daily Log'!$AI$18:$AI$1017,$B204,'Daily Log'!$AJ$18:$AJ$1017),0)","v":0},{"$f":"IFERROR($E204*SUMIF('Daily Log'!$AL$18:$AL$1017,$B204,'Daily Log'!$AM$18:$AM$1017),0)","v":0},{"$f":"IFERROR($E204*SUMIF('Daily Log'!$AO$18:$AO$1017,$B204,'Daily Log'!$AP$18:$AP$1017),0)","v":0},{"$f":"IFERROR($E204*SUMIF('Daily Log'!$AR$18:$AR$1017,$B204,'Daily Log'!$AS$18:$AS$1017),0)","v":0},{"$f":"IFERROR($E204*SUMIF('Daily Log'!$AU$18:$AU$1017,$B204,'Daily Log'!$AV$18:$AV$1017),0)","v":0},{"$f":"IFERROR($E204*SUMIF('Daily Log'!$AX$18:$AX$1017,$B204,'Daily Log'!$AY$18:$AY$1017),0)","v":0},{"$f":"IFERROR($E204*SUMIF('Daily Log'!$BA$18:$BA$1017,$B204,'Daily Log'!$BB$18:$BB$1017),0)","v":0},{"$f":"IFERROR($E204*SUMIF('Daily Log'!$BD$18:$BD$1017,$B204,'Daily Log'!$BE$18:$BE$1017),0)","v":0},{"$f":"IFERROR($E204*SUMIF('Daily Log'!$BG$18:$BG$1017,$B204,'Daily Log'!$BH$18:$BH$1017),0)","v":0},{"$f":"IFERROR($E204*SUMIF('Daily Log'!$BJ$18:$BJ$1017,$B204,'Daily Log'!$BK$18:$BK$1017),0)","v":0},{"$f":"IFERROR($E204*SUMIF('Daily Log'!$BM$18:$BM$1017,$B204,'Daily Log'!$BN$18:$BN$1017),0)","v":0},{"$f":"IFERROR($E204*SUMIF('Daily Log'!$BP$18:$BP$1017,$B204,'Daily Log'!$BQ$18:$BQ$1017),0)","v":0},{"$f":"IFERROR($E204*SUMIF('Daily Log'!$BS$18:$BS$1017,$B204,'Daily Log'!$BT$18:$BT$1017),0)","v":0},{"$f":"IFERROR($E204*SUMIF('Daily Log'!$BV$18:$BV$1017,$B204,'Daily Log'!$BW$18:$BW$1017),0)","v":0},{"$f":"IFERROR($E204*SUMIF('Daily Log'!$BY$18:$BY$1017,$B204,'Daily Log'!$BZ$18:$BZ$1017),0)","v":0},{"$f":"IFERROR($E204*SUMIF('Daily Log'!$CB$18:$CB$1017,$B204,'Daily Log'!$CC$18:$CC$1017),0)","v":0},{"$f":"IFERROR($E204*SUMIF('Daily Log'!$CE$18:$CE$1017,$B204,'Daily Log'!$CF$18:$CF$1017),0)","v":0},{"$f":"IFERROR($E204*SUMIF('Daily Log'!$CH$18:$CH$1017,$B204,'Daily Log'!$CI$18:$CI$1017),0)","v":0},{"$f":"IFERROR($E204*SUMIF('Daily Log'!$CK$18:$CK$1017,$B204,'Daily Log'!$CL$18:$CL$1017),0)","v":0},{"$f":"IFERROR($E204*SUMIF('Daily Log'!$CN$18:$CN$1017,$B204,'Daily Log'!$CO$18:$CO$1017),0)","v":0}]
[null,"CE02 NESCAFE (C)",null,"SIDE ORDER-COLD BEVERAGE",1,0,{"$f":"IFERROR($E205*SUMIF('Daily Log'!$B$18:$B$1017,$B205,'Daily Log'!$C$18:$C$1017),0)","v":0},{"$f":"IFERROR($E205*SUMIF('Daily Log'!$E$18:$E$1017,$B205,'Daily Log'!$F$18:$F$1017),0)","v":0},{"$f":"IFERROR($E205*SUMIF('Daily Log'!$H$18:$H$1017,$B205,'Daily Log'!$I$18:$I$1017),0)","v":0},{"$f":"IFERROR($E205*SUMIF('Daily Log'!$K$18:$K$1017,$B205,'Daily Log'!$L$18:$L$1017),0)","v":0},{"$f":"IFERROR($E205*SUMIF('Daily Log'!$N$18:$N$1017,$B205,'Daily Log'!$O$18:$O$1017),0)","v":0},{"$f":"IFERROR($E205*SUMIF('Daily Log'!$Q$18:$Q$1017,$B205,'Daily Log'!$R$18:$R$1017),0)","v":0},{"$f":"IFERROR($E205*SUMIF('Daily Log'!$T$18:$T$1017,$B205,'Daily Log'!$U$18:$U$1017),0)","v":0},{"$f":"IFERROR($E205*SUMIF('Daily Log'!$W$18:$W$1017,$B205,'Daily Log'!$X$18:$X$1017),0)","v":0},{"$f":"IFERROR($E205*SUMIF('Daily Log'!$Z$18:$Z$1017,$B205,'Daily Log'!$AA$18:$AA$1017),0)","v":0},{"$f":"IFERROR($E205*SUMIF('Daily Log'!$AC$18:$AC$1017,$B205,'Daily Log'!$AD$18:$AD$1017),0)","v":0},{"$f":"IFERROR($E205*SUMIF('Daily Log'!$AF$18:$AF$1017,$B205,'Daily Log'!$AG$18:$AG$1017),0)","v":0},{"$f":"IFERROR($E205*SUMIF('Daily Log'!$AI$18:$AI$1017,$B205,'Daily Log'!$AJ$18:$AJ$1017),0)","v":0},{"$f":"IFERROR($E205*SUMIF('Daily Log'!$AL$18:$AL$1017,$B205,'Daily Log'!$AM$18:$AM$1017),0)","v":0},{"$f":"IFERROR($E205*SUMIF('Daily Log'!$AO$18:$AO$1017,$B205,'Daily Log'!$AP$18:$AP$1017),0)","v":0},{"$f":"IFERROR($E205*SUMIF('Daily Log'!$AR$18:$AR$1017,$B205,'Daily Log'!$AS$18:$AS$1017),0)","v":0},{"$f":"IFERROR($E205*SUMIF('Daily Log'!$AU$18:$AU$1017,$B205,'Daily Log'!$AV$18:$AV$1017),0)","v":0},{"$f":"IFERROR($E205*SUMIF('Daily Log'!$AX$18:$AX$1017,$B205,'Daily Log'!$AY$18:$AY$1017),0)","v":0},{"$f":"IFERROR($E205*SUMIF('Daily Log'!$BA$18:$BA$1017,$B205,'Daily Log'!$BB$18:$BB$1017),0)","v":0},{"$f":"IFERROR($E205*SUMIF('Daily Log'!$BD$18:$BD$1017,$B205,'Daily Log'!$BE$18:$BE$1017),0)","v":0},{"$f":"IFERROR($E205*SUMIF('Daily Log'!$BG$18:$BG$1017,$B205,'Daily Log'!$BH$18:$BH$1017),0)","v":0},{"$f":"IFERROR($E205*SUMIF('Daily Log'!$BJ$18:$BJ$1017,$B205,'Daily Log'!$BK$18:$BK$1017),0)","v":0},{"$f":"IFERROR($E205*SUMIF('Daily Log'!$BM$18:$BM$1017,$B205,'Daily Log'!$BN$18:$BN$1017),0)","v":0},{"$f":"IFERROR($E205*SUMIF('Daily Log'!$BP$18:$BP$1017,$B205,'Daily Log'!$BQ$18:$BQ$1017),0)","v":0},{"$f":"IFERROR($E205*SUMIF('Daily Log'!$BS$18:$BS$1017,$B205,'Daily Log'!$BT$18:$BT$1017),0)","v":0},{"$f":"IFERROR($E205*SUMIF('Daily Log'!$BV$18:$BV$1017,$B205,'Daily Log'!$BW$18:$BW$1017),0)","v":0},{"$f":"IFERROR($E205*SUMIF('Daily Log'!$BY$18:$BY$1017,$B205,'Daily Log'!$BZ$18:$BZ$1017),0)","v":0},{"$f":"IFERROR($E205*SUMIF('Daily Log'!$CB$18:$CB$1017,$B205,'Daily Log'!$CC$18:$CC$1017),0)","v":0},{"$f":"IFERROR($E205*SUMIF('Daily Log'!$CE$18:$CE$1017,$B205,'Daily Log'!$CF$18:$CF$1017),0)","v":0},{"$f":"IFERROR($E205*SUMIF('Daily Log'!$CH$18:$CH$1017,$B205,'Daily Log'!$CI$18:$CI$1017),0)","v":0},{"$f":"IFERROR($E205*SUMIF('Daily Log'!$CK$18:$CK$1017,$B205,'Daily Log'!$CL$18:$CL$1017),0)","v":0},{"$f":"IFERROR($E205*SUMIF('Daily Log'!$CN$18:$CN$1017,$B205,'Daily Log'!$CO$18:$CO$1017),0)","v":0}]
[null,"CE03 TEA (C)",null,"SIDE ORDER-COLD BEVERAGE",1,{"$f":"SUM($G206:$AK206)","v":0},{"$f":"IFERROR($E206*SUMIF('Daily Log'!$B$18:$B$1017,$B206,'Daily Log'!$C$18:$C$1017),0)","v":0},{"$f":"IFERROR($E206*SUMIF('Daily Log'!$E$18:$E$1017,$B206,'Daily Log'!$F$18:$F$1017),0)","v":0},{"$f":"IFERROR($E206*SUMIF('Daily Log'!$H$18:$H$1017,$B206,'Daily Log'!$I$18:$I$1017),0)","v":0},{"$f":"IFERROR($E206*SUMIF('Daily Log'!$K$18:$K$1017,$B206,'Daily Log'!$L$18:$L$1017),0)","v":0},{"$f":"IFERROR($E206*SUMIF('Daily Log'!$N$18:$N$1017,$B206,'Daily Log'!$O$18:$O$1017),0)","v":0},{"$f":"IFERROR($E206*SUMIF('Daily Log'!$Q$18:$Q$1017,$B206,'Daily Log'!$R$18:$R$1017),0)","v":0},{"$f":"IFERROR($E206*SUMIF('Daily Log'!$T$18:$T$1017,$B206,'Daily Log'!$U$18:$U$1017),0)","v":0},{"$f":"IFERROR($E206*SUMIF('Daily Log'!$W$18:$W$1017,$B206,'Daily Log'!$X$18:$X$1017),0)","v":0},{"$f":"IFERROR($E206*SUMIF('Daily Log'!$Z$18:$Z$1017,$B206,'Daily Log'!$AA$18:$AA$1017),0)","v":0},{"$f":"IFERROR($E206*SUMIF('Daily Log'!$AC$18:$AC$1017,$B206,'Daily Log'!$AD$18:$AD$1017),0)","v":0},{"$f":"IFERROR($E206*SUMIF('Daily Log'!$AF$18:$AF$1017,$B206,'Daily Log'!$AG$18:$AG$1017),0)","v":0},{"$f":"IFERROR($E206*SUMIF('Daily Log'!$AI$18:$AI$1017,$B206,'Daily Log'!$AJ$18:$AJ$1017),0)","v":0},{"$f":"IFERROR($E206*SUMIF('Daily Log'!$AL$18:$AL$1017,$B206,'Daily Log'!$AM$18:$AM$1017),0)","v":0},{"$f":"IFERROR($E206*SUMIF('Daily Log'!$AO$18:$AO$1017,$B206,'Daily Log'!$AP$18:$AP$1017),0)","v":0},{"$f":"IFERROR($E206*SUMIF('Daily Log'!$AR$18:$AR$1017,$B206,'Daily Log'!$AS$18:$AS$1017),0)","v":0},{"$f":"IFERROR($E206*SUMIF('Daily Log'!$AU$18:$AU$1017,$B206,'Daily Log'!$AV$18:$AV$1017),0)","v":0},{"$f":"IFERROR($E206*SUMIF('Daily Log'!$AX$18:$AX$1017,$B206,'Daily Log'!$AY$18:$AY$1017),0)","v":0},{"$f":"IFERROR($E206*SUMIF('Daily Log'!$BA$18:$BA$1017,$B206,'Daily Log'!$BB$18:$BB$1017),0)","v":0},{"$f":"IFERROR($E206*SUMIF('Daily Log'!$BD$18:$BD$1017,$B206,'Daily Log'!$BE$18:$BE$1017),0)","v":0},{"$f":"IFERROR($E206*SUMIF('Daily Log'!$BG$18:$BG$1017,$B206,'Daily Log'!$BH$18:$BH$1017),0)","v":0},{"$f":"IFERROR($E206*SUMIF('Daily Log'!$BJ$18:$BJ$1017,$B206,'Daily Log'!$BK$18:$BK$1017),0)","v":0},{"$f":"IFERROR($E206*SUMIF('Daily Log'!$BM$18:$BM$1017,$B206,'Daily Log'!$BN$18:$BN$1017),0)","v":0},{"$f":"IFERROR($E206*SUMIF('Daily Log'!$BP$18:$BP$1017,$B206,'Daily Log'!$BQ$18:$BQ$1017),0)","v":0},{"$f":"IFERROR($E206*SUMIF('Daily Log'!$BS$18:$BS$1017,$B206,'Daily Log'!$BT$18:$BT$1017),0)","v":0},{"$f":"IFERROR($E206*SUMIF('Daily Log'!$BV$18:$BV$1017,$B206,'Daily Log'!$BW$18:$BW$1017),0)","v":0},{"$f":"IFERROR($E206*SUMIF('Daily Log'!$BY$18:$BY$1017,$B206,'Daily Log'!$BZ$18:$BZ$1017),0)","v":0},{"$f":"IFERROR($E206*SUMIF('Daily Log'!$CB$18:$CB$1017,$B206,'Daily Log'!$CC$18:$CC$1017),0)","v":0},{"$f":"IFERROR($E206*SUMIF('Daily Log'!$CE$18:$CE$1017,$B206,'Daily Log'!$CF$18:$CF$1017),0)","v":0},{"$f":"IFERROR($E206*SUMIF('Daily Log'!$CH$18:$CH$1017,$B206,'Daily Log'!$CI$18:$CI$1017),0)","v":0},{"$f":"IFERROR($E206*SUMIF('Daily Log'!$CK$18:$CK$1017,$B206,'Daily Log'!$CL$18:$CL$1017),0)","v":0},{"$f":"IFERROR($E206*SUMIF('Daily Log'!$CN$18:$CN$1017,$B206,'Daily Log'!$CO$18:$CO$1017),0)","v":0}]
[null,"CE04 LEMON TEA (C)",null,"SIDE ORDER-COLD BEVERAGE",1,0,{"$f":"IFERROR($E207*SUMIF('Daily Log'!$B$18:$B$1017,$B207,'Daily Log'!$C$18:$C$1017),0)","v":0},{"$f":"IFERROR($E207*SUMIF('Daily Log'!$E$18:$E$1017,$B207,'Daily Log'!$F$18:$F$1017),0)","v":0},{"$f":"IFERROR($E207*SUMIF('Daily Log'!$H$18:$H$1017,$B207,'Daily Log'!$I$18:$I$1017),0)","v":0},{"$f":"IFERROR($E207*SUMIF('Daily Log'!$K$18:$K$1017,$B207,'Daily Log'!$L$18:$L$1017),0)","v":0},{"$f":"IFERROR($E207*SUMIF('Daily Log'!$N$18:$N$1017,$B207,'Daily Log'!$O$18:$O$1017),0)","v":0},{"$f":"IFERROR($E207*SUMIF('Daily Log'!$Q$18:$Q$1017,$B207,'Daily Log'!$R$18:$R$1017),0)","v":0},{"$f":"IFERROR($E207*SUMIF('Daily Log'!$T$18:$T$1017,$B207,'Daily Log'!$U$18:$U$1017),0)","v":0},{"$f":"IFERROR($E207*SUMIF('Daily Log'!$W$18:$W$1017,$B207,'Daily Log'!$X$18:$X$1017),0)","v":0},{"$f":"IFERROR($E207*SUMIF('Daily Log'!$Z$18:$Z$1017,$B207,'Daily Log'!$AA$18:$AA$1017),0)","v":0},{"$f":"IFERROR($E207*SUMIF('Daily Log'!$AC$18:$AC$1017,$B207,'Daily Log'!$AD$18:$AD$1017),0)","v":0},{"$f":"IFERROR($E207*SUMIF('Daily Log'!$AF$18:$AF$1017,$B207,'Daily Log'!$AG$18:$AG$1017),0)","v":0},{"$f":"IFERROR($E207*SUMIF('Daily Log'!$AI$18:$AI$1017,$B207,'Daily Log'!$AJ$18:$AJ$1017),0)","v":0},{"$f":"IFERROR($E207*SUMIF('Daily Log'!$AL$18:$AL$1017,$B207,'Daily Log'!$AM$18:$AM$1017),0)","v":0},{"$f":"IFERROR($E207*SUMIF('Daily Log'!$AO$18:$AO$1017,$B207,'Daily Log'!$AP$18:$AP$1017),0)","v":0},{"$f":"IFERROR($E207*SUMIF('Daily Log'!$AR$18:$AR$1017,$B207,'Daily Log'!$AS$18:$AS$1017),0)","v":0},{"$f":"IFERROR($E207*SUMIF('Daily Log'!$AU$18:$AU$1017,$B207,'Daily Log'!$AV$18:$AV$1017),0)","v":0},{"$f":"IFERROR($E207*SUMIF('Daily Log'!$AX$18:$AX$1017,$B207,'Daily Log'!$AY$18:$AY$1017),0)","v":0},{"$f":"IFERROR($E207*SUMIF('Daily Log'!$BA$18:$BA$1017,$B207,'Daily Log'!$BB$18:$BB$1017),0)","v":0},{"$f":"IFERROR($E207*SUMIF('Daily Log'!$BD$18:$BD$1017,$B207,'Daily Log'!$BE$18:$BE$1017),0)","v":0},{"$f":"IFERROR($E207*SUMIF('Daily Log'!$BG$18:$BG$1017,$B207,'Daily Log'!$BH$18:$BH$1017),0)","v":0},{"$f":"IFERROR($E207*SUMIF('Daily Log'!$BJ$18:$BJ$1017,$B207,'Daily Log'!$BK$18:$BK$1017),0)","v":0},{"$f":"IFERROR($E207*SUMIF('Daily Log'!$BM$18:$BM$1017,$B207,'Daily Log'!$BN$18:$BN$1017),0)","v":0},{"$f":"IFERROR($E207*SUMIF('Daily Log'!$BP$18:$BP$1017,$B207,'Daily Log'!$BQ$18:$BQ$1017),0)","v":0},{"$f":"IFERROR($E207*SUMIF('Daily Log'!$BS$18:$BS$1017,$B207,'Daily Log'!$BT$18:$BT$1017),0)","v":0},{"$f":"IFERROR($E207*SUMIF('Daily Log'!$BV$18:$BV$1017,$B207,'Daily Log'!$BW$18:$BW$1017),0)","v":0},{"$f":"IFERROR($E207*SUMIF('Daily Log'!$BY$18:$BY$1017,$B207,'Daily Log'!$BZ$18:$BZ$1017),0)","v":0},{"$f":"IFERROR($E207*SUMIF('Daily Log'!$CB$18:$CB$1017,$B207,'Daily Log'!$CC$18:$CC$1017),0)","v":0},{"$f":"IFERROR($E207*SUMIF('Daily Log'!$CE$18:$CE$1017,$B207,'Daily Log'!$CF$18:$CF$1017),0)","v":0},{"$f":"IFERROR($E207*SUMIF('Daily Log'!$CH$18:$CH$1017,$B207,'Daily Log'!$CI$18:$CI$1017),0)","v":0},{"$f":"IFERROR($E207*SUMIF('Daily Log'!$CK$18:$CK$1017,$B207,'Daily Log'!$CL$18:$CL$1017),0)","v":0},{"$f":"IFERROR($E207*SUMIF('Daily Log'!$CN$18:$CN$1017,$B207,'Daily Log'!$CO$18:$CO$1017),0)","v":0}]
[null,"CE05 GRN TEA (C)",null,"SIDE ORDER-COLD BEVERAGE",1,0,{"$f":"IFERROR($E208*SUMIF('Daily Log'!$B$18:$B$1017,$B208,'Daily Log'!$C$18:$C$1017),0)","v":0},{"$f":"IFERROR($E208*SUMIF('Daily Log'!$E$18:$E$1017,$B208,'Daily Log'!$F$18:$F$1017),0)","v":0},{"$f":"IFERROR($E208*SUMIF('Daily Log'!$H$18:$H$1017,$B208,'Daily Log'!$I$18:$I$1017),0)","v":0},{"$f":"IFERROR($E208*SUMIF('Daily Log'!$K$18:$K$1017,$B208,'Daily Log'!$L$18:$L$1017),0)","v":0},{"$f":"IFERROR($E208*SUMIF('Daily Log'!$N$18:$N$1017,$B208,'Daily Log'!$O$18:$O$1017),0)","v":0},{"$f":"IFERROR($E208*SUMIF('Daily Log'!$Q$18:$Q$1017,$B208,'Daily Log'!$R$18:$R$1017),0)","v":0},{"$f":"IFERROR($E208*SUMIF('Daily Log'!$T$18:$T$1017,$B208,'Daily Log'!$U$18:$U$1017),0)","v":0},{"$f":"IFERROR($E208*SUMIF('Daily Log'!$W$18:$W$1017,$B208,'Daily Log'!$X$18:$X$1017),0)","v":0},{"$f":"IFERROR($E208*SUMIF('Daily Log'!$Z$18:$Z$1017,$B208,'Daily Log'!$AA$18:$AA$1017),0)","v":0},{"$f":"IFERROR($E208*SUMIF('Daily Log'!$AC$18:$AC$1017,$B208,'Daily Log'!$AD$18:$AD$1017),0)","v":0},{"$f":"IFERROR($E208*SUMIF('Daily Log'!$AF$18:$AF$1017,$B208,'Daily Log'!$AG$18:$AG$1017),0)","v":0},{"$f":"IFERROR($E208*SUMIF('Daily Log'!$AI$18:$AI$1017,$B208,'Daily Log'!$AJ$18:$AJ$1017),0)","v":0},{"$f":"IFERROR($E208*SUMIF('Daily Log'!$AL$18:$AL$1017,$B208,'Daily Log'!$AM$18:$AM$1017),0)","v":0},{"$f":"IFERROR($E208*SUMIF('Daily Log'!$AO$18:$AO$1017,$B208,'Daily Log'!$AP$18:$AP$1017),0)","v":0},{"$f":"IFERROR($E208*SUMIF('Daily Log'!$AR$18:$AR$1017,$B208,'Daily Log'!$AS$18:$AS$1017),0)","v":0},{"$f":"IFERROR($E208*SUMIF('Daily Log'!$AU$18:$AU$1017,$B208,'Daily Log'!$AV$18:$AV$1017),0)","v":0},{"$f":"IFERROR($E208*SUMIF('Daily Log'!$AX$18:$AX$1017,$B208,'Daily Log'!$AY$18:$AY$1017),0)","v":0},{"$f":"IFERROR($E208*SUMIF('Daily Log'!$BA$18:$BA$1017,$B208,'Daily Log'!$BB$18:$BB$1017),0)","v":0},{"$f":"IFERROR($E208*SUMIF('Daily Log'!$BD$18:$BD$1017,$B208,'Daily Log'!$BE$18:$BE$1017),0)","v":0},{"$f":"IFERROR($E208*SUMIF('Daily Log'!$BG$18:$BG$1017,$B208,'Daily Log'!$BH$18:$BH$1017),0)","v":0},{"$f":"IFERROR($E208*SUMIF('Daily Log'!$BJ$18:$BJ$1017,$B208,'Daily Log'!$BK$18:$BK$1017),0)","v":0},{"$f":"IFERROR($E208*SUMIF('Daily Log'!$BM$18:$BM$1017,$B208,'Daily Log'!$BN$18:$BN$1017),0)","v":0},{"$f":"IFERROR($E208*SUMIF('Daily Log'!$BP$18:$BP$1017,$B208,'Daily Log'!$BQ$18:$BQ$1017),0)","v":0},{"$f":"IFERROR($E208*SUMIF('Daily Log'!$BS$18:$BS$1017,$B208,'Daily Log'!$BT$18:$BT$1017),0)","v":0},{"$f":"IFERROR($E208*SUMIF('Daily Log'!$BV$18:$BV$1017,$B208,'Daily Log'!$BW$18:$BW$1017),0)","v":0},{"$f":"IFERROR($E208*SUMIF('Daily Log'!$BY$18:$BY$1017,$B208,'Daily Log'!$BZ$18:$BZ$1017),0)","v":0},{"$f":"IFERROR($E208*SUMIF('Daily Log'!$CB$18:$CB$1017,$B208,'Daily Log'!$CC$18:$CC$1017),0)","v":0},{"$f":"IFERROR($E208*SUMIF('Daily Log'!$CE$18:$CE$1017,$B208,'Daily Log'!$CF$18:$CF$1017),0)","v":0},{"$f":"IFERROR($E208*SUMIF('Daily Log'!$CH$18:$CH$1017,$B208,'Daily Log'!$CI$18:$CI$1017),0)","v":0},{"$f":"IFERROR($E208*SUMIF('Daily Log'!$CK$18:$CK$1017,$B208,'Daily Log'!$CL$18:$CL$1017),0)","v":0},{"$f":"IFERROR($E208*SUMIF('Daily Log'!$CN$18:$CN$1017,$B208,'Daily Log'!$CO$18:$CO$1017),0)","v":0}]
[null,"CE06 HNY GRN TEA (C)",null,"SIDE ORDER-COLD BEVERAGE",1,3,{"$f":"IFERROR($E209*SUMIF('Daily Log'!$B$18:$B$1017,$B209,'Daily Log'!$C$18:$C$1017),0)","v":0},{"$f":"IFERROR($E209*SUMIF('Daily Log'!$E$18:$E$1017,$B209,'Daily Log'!$F$18:$F$1017),0)","v":0},{"$f":"IFERROR($E209*SUMIF('Daily Log'!$H$18:$H$1017,$B209,'Daily Log'!$I$18:$I$1017),0)","v":0},{"$f":"IFERROR($E209*SUMIF('Daily Log'!$K$18:$K$1017,$B209,'Daily Log'!$L$18:$L$1017),0)","v":0},{"$f":"IFERROR($E209*SUMIF('Daily Log'!$N$18:$N$1017,$B209,'Daily Log'!$O$18:$O$1017),0)","v":0},{"$f":"IFERROR($E209*SUMIF('Daily Log'!$Q$18:$Q$1017,$B209,'Daily Log'!$R$18:$R$1017),0)","v":0},{"$f":"IFERROR($E209*SUMIF('Daily Log'!$T$18:$T$1017,$B209,'Daily Log'!$U$18:$U$1017),0)","v":0},{"$f":"IFERROR($E209*SUMIF('Daily Log'!$W$18:$W$1017,$B209,'Daily Log'!$X$18:$X$1017),0)","v":0},{"$f":"IFERROR($E209*SUMIF('Daily Log'!$Z$18:$Z$1017,$B209,'Daily Log'!$AA$18:$AA$1017),0)","v":0},{"$f":"IFERROR($E209*SUMIF('Daily Log'!$AC$18:$AC$1017,$B209,'Daily Log'!$AD$18:$AD$1017),0)","v":0},{"$f":"IFERROR($E209*SUMIF('Daily Log'!$AF$18:$AF$1017,$B209,'Daily Log'!$AG$18:$AG$1017),0)","v":0},{"$f":"IFERROR($E209*SUMIF('Daily Log'!$AI$18:$AI$1017,$B209,'Daily Log'!$AJ$18:$AJ$1017),0)","v":0},{"$f":"IFERROR($E209*SUMIF('Daily Log'!$AL$18:$AL$1017,$B209,'Daily Log'!$AM$18:$AM$1017),0)","v":0},{"$f":"IFERROR($E209*SUMIF('Daily Log'!$AO$18:$AO$1017,$B209,'Daily Log'!$AP$18:$AP$1017),0)","v":0},{"$f":"IFERROR($E209*SUMIF('Daily Log'!$AR$18:$AR$1017,$B209,'Daily Log'!$AS$18:$AS$1017),0)","v":0},{"$f":"IFERROR($E209*SUMIF('Daily Log'!$AU$18:$AU$1017,$B209,'Daily Log'!$AV$18:$AV$1017),0)","v":0},{"$f":"IFERROR($E209*SUMIF('Daily Log'!$AX$18:$AX$1017,$B209,'Daily Log'!$AY$18:$AY$1017),0)","v":0},{"$f":"IFERROR($E209*SUMIF('Daily Log'!$BA$18:$BA$1017,$B209,'Daily Log'!$BB$18:$BB$1017),0)","v":0},{"$f":"IFERROR($E209*SUMIF('Daily Log'!$BD$18:$BD$1017,$B209,'Daily Log'!$BE$18:$BE$1017),0)","v":0},{"$f":"IFERROR($E209*SUMIF('Daily Log'!$BG$18:$BG$1017,$B209,'Daily Log'!$BH$18:$BH$1017),0)","v":0},{"$f":"IFERROR($E209*SUMIF('Daily Log'!$BJ$18:$BJ$1017,$B209,'Daily Log'!$BK$18:$BK$1017),0)","v":0},{"$f":"IFERROR($E209*SUMIF('Daily Log'!$BM$18:$BM$1017,$B209,'Daily Log'!$BN$18:$BN$1017),0)","v":0},{"$f":"IFERROR($E209*SUMIF('Daily Log'!$BP$18:$BP$1017,$B209,'Daily Log'!$BQ$18:$BQ$1017),0)","v":0},{"$f":"IFERROR($E209*SUMIF('Daily Log'!$BS$18:$BS$1017,$B209,'Daily Log'!$BT$18:$BT$1017),0)","v":0},{"$f":"IFERROR($E209*SUMIF('Daily Log'!$BV$18:$BV$1017,$B209,'Daily Log'!$BW$18:$BW$1017),0)","v":0},{"$f":"IFERROR($E209*SUMIF('Daily Log'!$BY$18:$BY$1017,$B209,'Daily Log'!$BZ$18:$BZ$1017),0)","v":0},{"$f":"IFERROR($E209*SUMIF('Daily Log'!$CB$18:$CB$1017,$B209,'Daily Log'!$CC$18:$CC$1017),0)","v":0},{"$f":"IFERROR($E209*SUMIF('Daily Log'!$CE$18:$CE$1017,$B209,'Daily Log'!$CF$18:$CF$1017),0)","v":0},{"$f":"IFERROR($E209*SUMIF('Daily Log'!$CH$18:$CH$1017,$B209,'Daily Log'!$CI$18:$CI$1017),0)","v":0},{"$f":"IFERROR($E209*SUMIF('Daily Log'!$CK$18:$CK$1017,$B209,'Daily Log'!$CL$18:$CL$1017),0)","v":3},{"$f":"IFERROR($E209*SUMIF('Daily Log'!$CN$18:$CN$1017,$B209,'Daily Log'!$CO$18:$CO$1017),0)","v":0}]
[null,"CE07 HONEY (C)",null,"SIDE ORDER-COLD BEVERAGE",1,2,{"$f":"IFERROR($E210*SUMIF('Daily Log'!$B$18:$B$1017,$B210,'Daily Log'!$C$18:$C$1017),0)","v":0},{"$f":"IFERROR($E210*SUMIF('Daily Log'!$E$18:$E$1017,$B210,'Daily Log'!$F$18:$F$1017),0)","v":0},{"$f":"IFERROR($E210*SUMIF('Daily Log'!$H$18:$H$1017,$B210,'Daily Log'!$I$18:$I$1017),0)","v":0},{"$f":"IFERROR($E210*SUMIF('Daily Log'!$K$18:$K$1017,$B210,'Daily Log'!$L$18:$L$1017),0)","v":0},{"$f":"IFERROR($E210*SUMIF('Daily Log'!$N$18:$N$1017,$B210,'Daily Log'!$O$18:$O$1017),0)","v":0},{"$f":"IFERROR($E210*SUMIF('Daily Log'!$Q$18:$Q$1017,$B210,'Daily Log'!$R$18:$R$1017),0)","v":0},{"$f":"IFERROR($E210*SUMIF('Daily Log'!$T$18:$T$1017,$B210,'Daily Log'!$U$18:$U$1017),0)","v":0},{"$f":"IFERROR($E210*SUMIF('Daily Log'!$W$18:$W$1017,$B210,'Daily Log'!$X$18:$X$1017),0)","v":0},{"$f":"IFERROR($E210*SUMIF('Daily Log'!$Z$18:$Z$1017,$B210,'Daily Log'!$AA$18:$AA$1017),0)","v":0},{"$f":"IFERROR($E210*SUMIF('Daily Log'!$AC$18:$AC$1017,$B210,'Daily Log'!$AD$18:$AD$1017),0)","v":0},{"$f":"IFERROR($E210*SUMIF('Daily Log'!$AF$18:$AF$1017,$B210,'Daily Log'!$AG$18:$AG$1017),0)","v":0},{"$f":"IFERROR($E210*SUMIF('Daily Log'!$AI$18:$AI$1017,$B210,'Daily Log'!$AJ$18:$AJ$1017),0)","v":0},{"$f":"IFERROR($E210*SUMIF('Daily Log'!$AL$18:$AL$1017,$B210,'Daily Log'!$AM$18:$AM$1017),0)","v":0},{"$f":"IFERROR($E210*SUMIF('Daily Log'!$AO$18:$AO$1017,$B210,'Daily Log'!$AP$18:$AP$1017),0)","v":0},{"$f":"IFERROR($E210*SUMIF('Daily Log'!$AR$18:$AR$1017,$B210,'Daily Log'!$AS$18:$AS$1017),0)","v":0},{"$f":"IFERROR($E210*SUMIF('Daily Log'!$AU$18:$AU$1017,$B210,'Daily Log'!$AV$18:$AV$1017),0)","v":0},{"$f":"IFERROR($E210*SUMIF('Daily Log'!$AX$18:$AX$1017,$B210,'Daily Log'!$AY$18:$AY$1017),0)","v":0},{"$f":"IFERROR($E210*SUMIF('Daily Log'!$BA$18:$BA$1017,$B210,'Daily Log'!$BB$18:$BB$1017),0)","v":0},{"$f":"IFERROR($E210*SUMIF('Daily Log'!$BD$18:$BD$1017,$B210,'Daily Log'!$BE$18:$BE$1017),0)","v":0},{"$f":"IFERROR($E210*SUMIF('Daily Log'!$BG$18:$BG$1017,$B210,'Daily Log'!$BH$18:$BH$1017),0)","v":0},{"$f":"IFERROR($E210*SUMIF('Daily Log'!$BJ$18:$BJ$1017,$B210,'Daily Log'!$BK$18:$BK$1017),0)","v":0},{"$f":"IFERROR($E210*SUMIF('Daily Log'!$BM$18:$BM$1017,$B210,'Daily Log'!$BN$18:$BN$1017),0)","v":0},{"$f":"IFERROR($E210*SUMIF('Daily Log'!$BP$18:$BP$1017,$B210,'Daily Log'!$BQ$18:$BQ$1017),0)","v":0},{"$f":"IFERROR($E210*SUMIF('Daily Log'!$BS$18:$BS$1017,$B210,'Daily Log'!$BT$18:$BT$1017),0)","v":0},{"$f":"IFERROR($E210*SUMIF('Daily Log'!$BV$18:$BV$1017,$B210,'Daily Log'!$BW$18:$BW$1017),0)","v":0},{"$f":"IFERROR($E210*SUMIF('Daily Log'!$BY$18:$BY$1017,$B210,'Daily Log'!$BZ$18:$BZ$1017),0)","v":0},{"$f":"IFERROR($E210*SUMIF('Daily Log'!$CB$18:$CB$1017,$B210,'Daily Log'!$CC$18:$CC$1017),0)","v":0},{"$f":"IFERROR($E210*SUMIF('Daily Log'!$CE$18:$CE$1017,$B210,'Daily Log'!$CF$18:$CF$1017),0)","v":0},{"$f":"IFERROR($E210*SUMIF('Daily Log'!$CH$18:$CH$1017,$B210,'Daily Log'!$CI$18:$CI$1017),0)","v":0},{"$f":"IFERROR($E210*SUMIF('Daily Log'!$CK$18:$CK$1017,$B210,'Daily Log'!$CL$18:$CL$1017),0)","v":2},{"$f":"IFERROR($E210*SUMIF('Daily Log'!$CN$18:$CN$1017,$B210,'Daily Log'!$CO$18:$CO$1017),0)","v":0}]
[null,"CE08 LEMON HONEY (C)",null,"SIDE ORDER-COLD BEVERAGE",1,2,{"$f":"IFERROR($E211*SUMIF('Daily Log'!$B$18:$B$1017,$B211,'Daily Log'!$C$18:$C$1017),0)","v":0},{"$f":"IFERROR($E211*SUMIF('Daily Log'!$E$18:$E$1017,$B211,'Daily Log'!$F$18:$F$1017),0)","v":0},{"$f":"IFERROR($E211*SUMIF('Daily Log'!$H$18:$H$1017,$B211,'Daily Log'!$I$18:$I$1017),0)","v":0},{"$f":"IFERROR($E211*SUMIF('Daily Log'!$K$18:$K$1017,$B211,'Daily Log'!$L$18:$L$1017),0)","v":0},{"$f":"IFERROR($E211*SUMIF('Daily Log'!$N$18:$N$1017,$B211,'Daily Log'!$O$18:$O$1017),0)","v":0},{"$f":"IFERROR($E211*SUMIF('Daily Log'!$Q$18:$Q$1017,$B211,'Daily Log'!$R$18:$R$1017),0)","v":0},{"$f":"IFERROR($E211*SUMIF('Daily Log'!$T$18:$T$1017,$B211,'Daily Log'!$U$18:$U$1017),0)","v":0},{"$f":"IFERROR($E211*SUMIF('Daily Log'!$W$18:$W$1017,$B211,'Daily Log'!$X$18:$X$1017),0)","v":0},{"$f":"IFERROR($E211*SUMIF('Daily Log'!$Z$18:$Z$1017,$B211,'Daily Log'!$AA$18:$AA$1017),0)","v":0},{"$f":"IFERROR($E211*SUMIF('Daily Log'!$AC$18:$AC$1017,$B211,'Daily Log'!$AD$18:$AD$1017),0)","v":0},{"$f":"IFERROR($E211*SUMIF('Daily Log'!$AF$18:$AF$1017,$B211,'Daily Log'!$AG$18:$AG$1017),0)","v":0},{"$f":"IFERROR($E211*SUMIF('Daily Log'!$AI$18:$AI$1017,$B211,'Daily Log'!$AJ$18:$AJ$1017),0)","v":0},{"$f":"IFERROR($E211*SUMIF('Daily Log'!$AL$18:$AL$1017,$B211,'Daily Log'!$AM$18:$AM$1017),0)","v":0},{"$f":"IFERROR($E211*SUMIF('Daily Log'!$AO$18:$AO$1017,$B211,'Daily Log'!$AP$18:$AP$1017),0)","v":0},{"$f":"IFERROR($E211*SUMIF('Daily Log'!$AR$18:$AR$1017,$B211,'Daily Log'!$AS$18:$AS$1017),0)","v":0},{"$f":"IFERROR($E211*SUMIF('Daily Log'!$AU$18:$AU$1017,$B211,'Daily Log'!$AV$18:$AV$1017),0)","v":0},{"$f":"IFERROR($E211*SUMIF('Daily Log'!$AX$18:$AX$1017,$B211,'Daily Log'!$AY$18:$AY$1017),0)","v":0},{"$f":"IFERROR($E211*SUMIF('Daily Log'!$BA$18:$BA$1017,$B211,'Daily Log'!$BB$18:$BB$1017),0)","v":0},{"$f":"IFERROR($E211*SUMIF('Daily Log'!$BD$18:$BD$1017,$B211,'Daily Log'!$BE$18:$BE$1017),0)","v":0},{"$f":"IFERROR($E211*SUMIF('Daily Log'!$BG$18:$BG$1017,$B211,'Daily Log'!$BH$18:$BH$1017),0)","v":0},{"$f":"IFERROR($E211*SUMIF('Daily Log'!$BJ$18:$BJ$1017,$B211,'Daily Log'!$BK$18:$BK$1017),0)","v":0},{"$f":"IFERROR($E211*SUMIF('Daily Log'!$BM$18:$BM$1017,$B211,'Daily Log'!$BN$18:$BN$1017),0)","v":0},{"$f":"IFERROR($E211*SUMIF('Daily Log'!$BP$18:$BP$1017,$B211,'Daily Log'!$BQ$18:$BQ$1017),0)","v":0},{"$f":"IFERROR($E211*SUMIF('Daily Log'!$BS$18:$BS$1017,$B211,'Daily Log'!$BT$18:$BT$1017),0)","v":0},{"$f":"IFERROR($E211*SUMIF('Daily Log'!$BV$18:$BV$1017,$B211,'Daily Log'!$BW$18:$BW$1017),0)","v":0},{"$f":"IFERROR($E211*SUMIF('Daily Log'!$BY$18:$BY$1017,$B211,'Daily Log'!$BZ$18:$BZ$1017),0)","v":0},{"$f":"IFERROR($E211*SUMIF('Daily Log'!$CB$18:$CB$1017,$B211,'Daily Log'!$CC$18:$CC$1017),0)","v":0},{"$f":"IFERROR($E211*SUMIF('Daily Log'!$CE$18:$CE$1017,$B211,'Daily Log'!$CF$18:$CF$1017),0)","v":0},{"$f":"IFERROR($E211*SUMIF('Daily Log'!$CH$18:$CH$1017,$B211,'Daily Log'!$CI$18:$CI$1017),0)","v":0},{"$f":"IFERROR($E211*SUMIF('Daily Log'!$CK$18:$CK$1017,$B211,'Daily Log'!$CL$18:$CL$1017),0)","v":2},{"$f":"IFERROR($E211*SUMIF('Daily Log'!$CN$18:$CN$1017,$B211,'Daily Log'!$CO$18:$CO$1017),0)","v":0}]
[null,"CF01 MILO (H)",null,"SIDE ORDER-COLD BEVERAGE",1,1,{"$f":"IFERROR($E212*SUMIF('Daily Log'!$B$18:$B$1017,$B212,'Daily Log'!$C$18:$C$1017),0)","v":0},{"$f":"IFERROR($E212*SUMIF('Daily Log'!$E$18:$E$1017,$B212,'Daily Log'!$F$18:$F$1017),0)","v":0},{"$f":"IFERROR($E212*SUMIF('Daily Log'!$H$18:$H$1017,$B212,'Daily Log'!$I$18:$I$1017),0)","v":0},{"$f":"IFERROR($E212*SUMIF('Daily Log'!$K$18:$K$1017,$B212,'Daily Log'!$L$18:$L$1017),0)","v":0},{"$f":"IFERROR($E212*SUMIF('Daily Log'!$N$18:$N$1017,$B212,'Daily Log'!$O$18:$O$1017),0)","v":0},{"$f":"IFERROR($E212*SUMIF('Daily Log'!$Q$18:$Q$1017,$B212,'Daily Log'!$R$18:$R$1017),0)","v":0},{"$f":"IFERROR($E212*SUMIF('Daily Log'!$T$18:$T$1017,$B212,'Daily Log'!$U$18:$U$1017),0)","v":0},{"$f":"IFERROR($E212*SUMIF('Daily Log'!$W$18:$W$1017,$B212,'Daily Log'!$X$18:$X$1017),0)","v":0},{"$f":"IFERROR($E212*SUMIF('Daily Log'!$Z$18:$Z$1017,$B212,'Daily Log'!$AA$18:$AA$1017),0)","v":0},{"$f":"IFERROR($E212*SUMIF('Daily Log'!$AC$18:$AC$1017,$B212,'Daily Log'!$AD$18:$AD$1017),0)","v":0},{"$f":"IFERROR($E212*SUMIF('Daily Log'!$AF$18:$AF$1017,$B212,'Daily Log'!$AG$18:$AG$1017),0)","v":0},{"$f":"IFERROR($E212*SUMIF('Daily Log'!$AI$18:$AI$1017,$B212,'Daily Log'!$AJ$18:$AJ$1017),0)","v":0},{"$f":"IFERROR($E212*SUMIF('Daily Log'!$AL$18:$AL$1017,$B212,'Daily Log'!$AM$18:$AM$1017),0)","v":0},{"$f":"IFERROR($E212*SUMIF('Daily Log'!$AO$18:$AO$1017,$B212,'Daily Log'!$AP$18:$AP$1017),0)","v":0},{"$f":"IFERROR($E212*SUMIF('Daily Log'!$AR$18:$AR$1017,$B212,'Daily Log'!$AS$18:$AS$1017),0)","v":0},{"$f":"IFERROR($E212*SUMIF('Daily Log'!$AU$18:$AU$1017,$B212,'Daily Log'!$AV$18:$AV$1017),0)","v":0},{"$f":"IFERROR($E212*SUMIF('Daily Log'!$AX$18:$AX$1017,$B212,'Daily Log'!$AY$18:$AY$1017),0)","v":0},{"$f":"IFERROR($E212*SUMIF('Daily Log'!$BA$18:$BA$1017,$B212,'Daily Log'!$BB$18:$BB$1017),0)","v":0},{"$f":"IFERROR($E212*SUMIF('Daily Log'!$BD$18:$BD$1017,$B212,'Daily Log'!$BE$18:$BE$1017),0)","v":0},{"$f":"IFERROR($E212*SUMIF('Daily Log'!$BG$18:$BG$1017,$B212,'Daily Log'!$BH$18:$BH$1017),0)","v":0},{"$f":"IFERROR($E212*SUMIF('Daily Log'!$BJ$18:$BJ$1017,$B212,'Daily Log'!$BK$18:$BK$1017),0)","v":0},{"$f":"IFERROR($E212*SUMIF('Daily Log'!$BM$18:$BM$1017,$B212,'Daily Log'!$BN$18:$BN$1017),0)","v":0},{"$f":"IFERROR($E212*SUMIF('Daily Log'!$BP$18:$BP$1017,$B212,'Daily Log'!$BQ$18:$BQ$1017),0)","v":0},{"$f":"IFERROR($E212*SUMIF('Daily Log'!$BS$18:$BS$1017,$B212,'Daily Log'!$BT$18:$BT$1017),0)","v":0},{"$f":"IFERROR($E212*SUMIF('Daily Log'!$BV$18:$BV$1017,$B212,'Daily Log'!$BW$18:$BW$1017),0)","v":0},{"$f":"IFERROR($E212*SUMIF('Daily Log'!$BY$18:$BY$1017,$B212,'Daily Log'!$BZ$18:$BZ$1017),0)","v":0},{"$f":"IFERROR($E212*SUMIF('Daily Log'!$CB$18:$CB$1017,$B212,'Daily Log'!$CC$18:$CC$1017),0)","v":0},{"$f":"IFERROR($E212*SUMIF('Daily Log'!$CE$18:$CE$1017,$B212,'Daily Log'!$CF$18:$CF$1017),0)","v":0},{"$f":"IFERROR($E212*SUMIF('Daily Log'!$CH$18:$CH$1017,$B212,'Daily Log'!$CI$18:$CI$1017),0)","v":0},{"$f":"IFERROR($E212*SUMIF('Daily Log'!$CK$18:$CK$1017,$B212,'Daily Log'!$CL$18:$CL$1017),0)","v":1},{"$f":"IFERROR($E212*SUMIF('Daily Log'!$CN$18:$CN$1017,$B212,'Daily Log'!$CO$18:$CO$1017),0)","v":0}]
[null,"CF02 NESCAFE (H)",null,"SIDE ORDER-HOT BEVERAGE",1,0,{"$f":"IFERROR($E213*SUMIF('Daily Log'!$B$18:$B$1017,$B213,'Daily Log'!$C$18:$C$1017),0)","v":0},{"$f":"IFERROR($E213*SUMIF('Daily Log'!$E$18:$E$1017,$B213,'Daily Log'!$F$18:$F$1017),0)","v":0},{"$f":"IFERROR($E213*SUMIF('Daily Log'!$H$18:$H$1017,$B213,'Daily Log'!$I$18:$I$1017),0)","v":0},{"$f":"IFERROR($E213*SUMIF('Daily Log'!$K$18:$K$1017,$B213,'Daily Log'!$L$18:$L$1017),0)","v":0},{"$f":"IFERROR($E213*SUMIF('Daily Log'!$N$18:$N$1017,$B213,'Daily Log'!$O$18:$O$1017),0)","v":0},{"$f":"IFERROR($E213*SUMIF('Daily Log'!$Q$18:$Q$1017,$B213,'Daily Log'!$R$18:$R$1017),0)","v":0},{"$f":"IFERROR($E213*SUMIF('Daily Log'!$T$18:$T$1017,$B213,'Daily Log'!$U$18:$U$1017),0)","v":0},{"$f":"IFERROR($E213*SUMIF('Daily Log'!$W$18:$W$1017,$B213,'Daily Log'!$X$18:$X$1017),0)","v":0},{"$f":"IFERROR($E213*SUMIF('Daily Log'!$Z$18:$Z$1017,$B213,'Daily Log'!$AA$18:$AA$1017),0)","v":0},{"$f":"IFERROR($E213*SUMIF('Daily Log'!$AC$18:$AC$1017,$B213,'Daily Log'!$AD$18:$AD$1017),0)","v":0},{"$f":"IFERROR($E213*SUMIF('Daily Log'!$AF$18:$AF$1017,$B213,'Daily Log'!$AG$18:$AG$1017),0)","v":0},{"$f":"IFERROR($E213*SUMIF('Daily Log'!$AI$18:$AI$1017,$B213,'Daily Log'!$AJ$18:$AJ$1017),0)","v":0},{"$f":"IFERROR($E213*SUMIF('Daily Log'!$AL$18:$AL$1017,$B213,'Daily Log'!$AM$18:$AM$1017),0)","v":0},{"$f":"IFERROR($E213*SUMIF('Daily Log'!$AO$18:$AO$1017,$B213,'Daily Log'!$AP$18:$AP$1017),0)","v":0},{"$f":"IFERROR($E213*SUMIF('Daily Log'!$AR$18:$AR$1017,$B213,'Daily Log'!$AS$18:$AS$1017),0)","v":0},{"$f":"IFERROR($E213*SUMIF('Daily Log'!$AU$18:$AU$1017,$B213,'Daily Log'!$AV$18:$AV$1017),0)","v":0},{"$f":"IFERROR($E213*SUMIF('Daily Log'!$AX$18:$AX$1017,$B213,'Daily Log'!$AY$18:$AY$1017),0)","v":0},{"$f":"IFERROR($E213*SUMIF('Daily Log'!$BA$18:$BA$1017,$B213,'Daily Log'!$BB$18:$BB$1017),0)","v":0},{"$f":"IFERROR($E213*SUMIF('Daily Log'!$BD$18:$BD$1017,$B213,'Daily Log'!$BE$18:$BE$1017),0)","v":0},{"$f":"IFERROR($E213*SUMIF('Daily Log'!$BG$18:$BG$1017,$B213,'Daily Log'!$BH$18:$BH$1017),0)","v":0},{"$f":"IFERROR($E213*SUMIF('Daily Log'!$BJ$18:$BJ$1017,$B213,'Daily Log'!$BK$18:$BK$1017),0)","v":0},{"$f":"IFERROR($E213*SUMIF('Daily Log'!$BM$18:$BM$1017,$B213,'Daily Log'!$BN$18:$BN$1017),0)","v":0},{"$f":"IFERROR($E213*SUMIF('Daily Log'!$BP$18:$BP$1017,$B213,'Daily Log'!$BQ$18:$BQ$1017),0)","v":0},{"$f":"IFERROR($E213*SUMIF('Daily Log'!$BS$18:$BS$1017,$B213,'Daily Log'!$BT$18:$BT$1017),0)","v":0},{"$f":"IFERROR($E213*SUMIF('Daily Log'!$BV$18:$BV$1017,$B213,'Daily Log'!$BW$18:$BW$1017),0)","v":0},{"$f":"IFERROR($E213*SUMIF('Daily Log'!$BY$18:$BY$1017,$B213,'Daily Log'!$BZ$18:$BZ$1017),0)","v":0},{"$f":"IFERROR($E213*SUMIF('Daily Log'!$CB$18:$CB$1017,$B213,'Daily Log'!$CC$18:$CC$1017),0)","v":0},{"$f":"IFERROR($E213*SUMIF('Daily Log'!$CE$18:$CE$1017,$B213,'Daily Log'!$CF$18:$CF$1017),0)","v":0},{"$f":"IFERROR($E213*SUMIF('Daily Log'!$CH$18:$CH$1017,$B213,'Daily Log'!$CI$18:$CI$1017),0)","v":0},{"$f":"IFERROR($E213*SUMIF('Daily Log'!$CK$18:$CK$1017,$B213,'Daily Log'!$CL$18:$CL$1017),0)","v":0},{"$f":"IFERROR($E213*SUMIF('Daily Log'!$CN$18:$CN$1017,$B213,'Daily Log'!$CO$18:$CO$1017),0)","v":0}]
[null,"CF03 TEA (H)",null,"SIDE ORDER-HOT BEVERAGE",1,0,{"$f":"IFERROR($E214*SUMIF('Daily Log'!$B$18:$B$1017,$B214,'Daily Log'!$C$18:$C$1017),0)","v":0},{"$f":"IFERROR($E214*SUMIF('Daily Log'!$E$18:$E$1017,$B214,'Daily Log'!$F$18:$F$1017),0)","v":0},{"$f":"IFERROR($E214*SUMIF('Daily Log'!$H$18:$H$1017,$B214,'Daily Log'!$I$18:$I$1017),0)","v":0},{"$f":"IFERROR($E214*SUMIF('Daily Log'!$K$18:$K$1017,$B214,'Daily Log'!$L$18:$L$1017),0)","v":0},{"$f":"IFERROR($E214*SUMIF('Daily Log'!$N$18:$N$1017,$B214,'Daily Log'!$O$18:$O$1017),0)","v":0},{"$f":"IFERROR($E214*SUMIF('Daily Log'!$Q$18:$Q$1017,$B214,'Daily Log'!$R$18:$R$1017),0)","v":0},{"$f":"IFERROR($E214*SUMIF('Daily Log'!$T$18:$T$1017,$B214,'Daily Log'!$U$18:$U$1017),0)","v":0},{"$f":"IFERROR($E214*SUMIF('Daily Log'!$W$18:$W$1017,$B214,'Daily Log'!$X$18:$X$1017),0)","v":0},{"$f":"IFERROR($E214*SUMIF('Daily Log'!$Z$18:$Z$1017,$B214,'Daily Log'!$AA$18:$AA$1017),0)","v":0},{"$f":"IFERROR($E214*SUMIF('Daily Log'!$AC$18:$AC$1017,$B214,'Daily Log'!$AD$18:$AD$1017),0)","v":0},{"$f":"IFERROR($E214*SUMIF('Daily Log'!$AF$18:$AF$1017,$B214,'Daily Log'!$AG$18:$AG$1017),0)","v":0},{"$f":"IFERROR($E214*SUMIF('Daily Log'!$AI$18:$AI$1017,$B214,'Daily Log'!$AJ$18:$AJ$1017),0)","v":0},{"$f":"IFERROR($E214*SUMIF('Daily Log'!$AL$18:$AL$1017,$B214,'Daily Log'!$AM$18:$AM$1017),0)","v":0},{"$f":"IFERROR($E214*SUMIF('Daily Log'!$AO$18:$AO$1017,$B214,'Daily Log'!$AP$18:$AP$1017),0)","v":0},{"$f":"IFERROR($E214*SUMIF('Daily Log'!$AR$18:$AR$1017,$B214,'Daily Log'!$AS$18:$AS$1017),0)","v":0},{"$f":"IFERROR($E214*SUMIF('Daily Log'!$AU$18:$AU$1017,$B214,'Daily Log'!$AV$18:$AV$1017),0)","v":0},{"$f":"IFERROR($E214*SUMIF('Daily Log'!$AX$18:$AX$1017,$B214,'Daily Log'!$AY$18:$AY$1017),0)","v":0},{"$f":"IFERROR($E214*SUMIF('Daily Log'!$BA$18:$BA$1017,$B214,'Daily Log'!$BB$18:$BB$1017),0)","v":0},{"$f":"IFERROR($E214*SUMIF('Daily Log'!$BD$18:$BD$1017,$B214,'Daily Log'!$BE$18:$BE$1017),0)","v":0},{"$f":"IFERROR($E214*SUMIF('Daily Log'!$BG$18:$BG$1017,$B214,'Daily Log'!$BH$18:$BH$1017),0)","v":0},{"$f":"IFERROR($E214*SUMIF('Daily Log'!$BJ$18:$BJ$1017,$B214,'Daily Log'!$BK$18:$BK$1017),0)","v":0},{"$f":"IFERROR($E214*SUMIF('Daily Log'!$BM$18:$BM$1017,$B214,'Daily Log'!$BN$18:$BN$1017),0)","v":0},{"$f":"IFERROR($E214*SUMIF('Daily Log'!$BP$18:$BP$1017,$B214,'Daily Log'!$BQ$18:$BQ$1017),0)","v":0},{"$f":"IFERROR($E214*SUMIF('Daily Log'!$BS$18:$BS$1017,$B214,'Daily Log'!$BT$18:$BT$1017),0)","v":0},{"$f":"IFERROR($E214*SUMIF('Daily Log'!$BV$18:$BV$1017,$B214,'Daily Log'!$BW$18:$BW$1017),0)","v":0},{"$f":"IFERROR($E214*SUMIF('Daily Log'!$BY$18:$BY$1017,$B214,'Daily Log'!$BZ$18:$BZ$1017),0)","v":0},{"$f":"IFERROR($E214*SUMIF('Daily Log'!$CB$18:$CB$1017,$B214,'Daily Log'!$CC$18:$CC$1017),0)","v":0},{"$f":"IFERROR($E214*SUMIF('Daily Log'!$CE$18:$CE$1017,$B214,'Daily Log'!$CF$18:$CF$1017),0)","v":0},{"$f":"IFERROR($E214*SUMIF('Daily Log'!$CH$18:$CH$1017,$B214,'Daily Log'!$CI$18:$CI$1017),0)","v":0},{"$f":"IFERROR($E214*SUMIF('Daily Log'!$CK$18:$CK$1017,$B214,'Daily Log'!$CL$18:$CL$1017),0)","v":0},{"$f":"IFERROR($E214*SUMIF('Daily Log'!$CN$18:$CN$1017,$B214,'Daily Log'!$CO$18:$CO$1017),0)","v":0}]
[null,"CF04 LEMON TEA (H)",null,"SIDE ORDER-HOT BEVERAGE",1,0,{"$f":"IFERROR($E215*SUMIF('Daily Log'!$B$18:$B$1017,$B215,'Daily Log'!$C$18:$C$1017),0)","v":0},{"$f":"IFERROR($E215*SUMIF('Daily Log'!$E$18:$E$1017,$B215,'Daily Log'!$F$18:$F$1017),0)","v":0},{"$f":"IFERROR($E215*SUMIF('Daily Log'!$H$18:$H$1017,$B215,'Daily Log'!$I$18:$I$1017),0)","v":0},{"$f":"IFERROR($E215*SUMIF('Daily Log'!$K$18:$K$1017,$B215,'Daily Log'!$L$18:$L$1017),0)","v":0},{"$f":"IFERROR($E215*SUMIF('Daily Log'!$N$18:$N$1017,$B215,'Daily Log'!$O$18:$O$1017),0)","v":0},{"$f":"IFERROR($E215*SUMIF('Daily Log'!$Q$18:$Q$1017,$B215,'Daily Log'!$R$18:$R$1017),0)","v":0},{"$f":"IFERROR($E215*SUMIF('Daily Log'!$T$18:$T$1017,$B215,'Daily Log'!$U$18:$U$1017),0)","v":0},{"$f":"IFERROR($E215*SUMIF('Daily Log'!$W$18:$W$1017,$B215,'Daily Log'!$X$18:$X$1017),0)","v":0},{"$f":"IFERROR($E215*SUMIF('Daily Log'!$Z$18:$Z$1017,$B215,'Daily Log'!$AA$18:$AA$1017),0)","v":0},{"$f":"IFERROR($E215*SUMIF('Daily Log'!$AC$18:$AC$1017,$B215,'Daily Log'!$AD$18:$AD$1017),0)","v":0},{"$f":"IFERROR($E215*SUMIF('Daily Log'!$AF$18:$AF$1017,$B215,'Daily Log'!$AG$18:$AG$1017),0)","v":0},{"$f":"IFERROR($E215*SUMIF('Daily Log'!$AI$18:$AI$1017,$B215,'Daily Log'!$AJ$18:$AJ$1017),0)","v":0},{"$f":"IFERROR($E215*SUMIF('Daily Log'!$AL$18:$AL$1017,$B215,'Daily Log'!$AM$18:$AM$1017),0)","v":0},{"$f":"IFERROR($E215*SUMIF('Daily Log'!$AO$18:$AO$1017,$B215,'Daily Log'!$AP$18:$AP$1017),0)","v":0},{"$f":"IFERROR($E215*SUMIF('Daily Log'!$AR$18:$AR$1017,$B215,'Daily Log'!$AS$18:$AS$1017),0)","v":0},{"$f":"IFERROR($E215*SUMIF('Daily Log'!$AU$18:$AU$1017,$B215,'Daily Log'!$AV$18:$AV$1017),0)","v":0},{"$f":"IFERROR($E215*SUMIF('Daily Log'!$AX$18:$AX$1017,$B215,'Daily Log'!$AY$18:$AY$1017),0)","v":0},{"$f":"IFERROR($E215*SUMIF('Daily Log'!$BA$18:$BA$1017,$B215,'Daily Log'!$BB$18:$BB$1017),0)","v":0},{"$f":"IFERROR($E215*SUMIF('Daily Log'!$BD$18:$BD$1017,$B215,'Daily Log'!$BE$18:$BE$1017),0)","v":0},{"$f":"IFERROR($E215*SUMIF('Daily Log'!$BG$18:$BG$1017,$B215,'Daily Log'!$BH$18:$BH$1017),0)","v":0},{"$f":"IFERROR($E215*SUMIF('Daily Log'!$BJ$18:$BJ$1017,$B215,'Daily Log'!$BK$18:$BK$1017),0)","v":0},{"$f":"IFERROR($E215*SUMIF('Daily Log'!$BM$18:$BM$1017,$B215,'Daily Log'!$BN$18:$BN$1017),0)","v":0},{"$f":"IFERROR($E215*SUMIF('Daily Log'!$BP$18:$BP$1017,$B215,'Daily Log'!$BQ$18:$BQ$1017),0)","v":0},{"$f":"IFERROR($E215*SUMIF('Daily Log'!$BS$18:$BS$1017,$B215,'Daily Log'!$BT$18:$BT$1017),0)","v":0},{"$f":"IFERROR($E215*SUMIF('Daily Log'!$BV$18:$BV$1017,$B215,'Daily Log'!$BW$18:$BW$1017),0)","v":0},{"$f":"IFERROR($E215*SUMIF('Daily Log'!$BY$18:$BY$1017,$B215,'Daily Log'!$BZ$18:$BZ$1017),0)","v":0},{"$f":"IFERROR($E215*SUMIF('Daily Log'!$CB$18:$CB$1017,$B215,'Daily Log'!$CC$18:$CC$1017),0)","v":0},{"$f":"IFERROR($E215*SUMIF('Daily Log'!$CE$18:$CE$1017,$B215,'Daily Log'!$CF$18:$CF$1017),0)","v":0},{"$f":"IFERROR($E215*SUMIF('Daily Log'!$CH$18:$CH$1017,$B215,'Daily Log'!$CI$18:$CI$1017),0)","v":0},{"$f":"IFERROR($E215*SUMIF('Daily Log'!$CK$18:$CK$1017,$B215,'Daily Log'!$CL$18:$CL$1017),0)","v":0},{"$f":"IFERROR($E215*SUMIF('Daily Log'!$CN$18:$CN$1017,$B215,'Daily Log'!$CO$18:$CO$1017),0)","v":0}]
[null,"CF05 GRN TEA (H)",null,"SIDE ORDER-HOT BEVERAGE",1,0,{"$f":"IFERROR($E216*SUMIF('Daily Log'!$B$18:$B$1017,$B216,'Daily Log'!$C$18:$C$1017),0)","v":0},{"$f":"IFERROR($E216*SUMIF('Daily Log'!$E$18:$E$1017,$B216,'Daily Log'!$F$18:$F$1017),0)","v":0},{"$f":"IFERROR($E216*SUMIF('Daily Log'!$H$18:$H$1017,$B216,'Daily Log'!$I$18:$I$1017),0)","v":0},{"$f":"IFERROR($E216*SUMIF('Daily Log'!$K$18:$K$1017,$B216,'Daily Log'!$L$18:$L$1017),0)","v":0},{"$f":"IFERROR($E216*SUMIF('Daily Log'!$N$18:$N$1017,$B216,'Daily Log'!$O$18:$O$1017),0)","v":0},{"$f":"IFERROR($E216*SUMIF('Daily Log'!$Q$18:$Q$1017,$B216,'Daily Log'!$R$18:$R$1017),0)","v":0},{"$f":"IFERROR($E216*SUMIF('Daily Log'!$T$18:$T$1017,$B216,'Daily Log'!$U$18:$U$1017),0)","v":0},{"$f":"IFERROR($E216*SUMIF('Daily Log'!$W$18:$W$1017,$B216,'Daily Log'!$X$18:$X$1017),0)","v":0},{"$f":"IFERROR($E216*SUMIF('Daily Log'!$Z$18:$Z$1017,$B216,'Daily Log'!$AA$18:$AA$1017),0)","v":0},{"$f":"IFERROR($E216*SUMIF('Daily Log'!$AC$18:$AC$1017,$B216,'Daily Log'!$AD$18:$AD$1017),0)","v":0},{"$f":"IFERROR($E216*SUMIF('Daily Log'!$AF$18:$AF$1017,$B216,'Daily Log'!$AG$18:$AG$1017),0)","v":0},{"$f":"IFERROR($E216*SUMIF('Daily Log'!$AI$18:$AI$1017,$B216,'Daily Log'!$AJ$18:$AJ$1017),0)","v":0},{"$f":"IFERROR($E216*SUMIF('Daily Log'!$AL$18:$AL$1017,$B216,'Daily Log'!$AM$18:$AM$1017),0)","v":0},{"$f":"IFERROR($E216*SUMIF('Daily Log'!$AO$18:$AO$1017,$B216,'Daily Log'!$AP$18:$AP$1017),0)","v":0},{"$f":"IFERROR($E216*SUMIF('Daily Log'!$AR$18:$AR$1017,$B216,'Daily Log'!$AS$18:$AS$1017),0)","v":0},{"$f":"IFERROR($E216*SUMIF('Daily Log'!$AU$18:$AU$1017,$B216,'Daily Log'!$AV$18:$AV$1017),0)","v":0},{"$f":"IFERROR($E216*SUMIF('Daily Log'!$AX$18:$AX$1017,$B216,'Daily Log'!$AY$18:$AY$1017),0)","v":0},{"$f":"IFERROR($E216*SUMIF('Daily Log'!$BA$18:$BA$1017,$B216,'Daily Log'!$BB$18:$BB$1017),0)","v":0},{"$f":"IFERROR($E216*SUMIF('Daily Log'!$BD$18:$BD$1017,$B216,'Daily Log'!$BE$18:$BE$1017),0)","v":0},{"$f":"IFERROR($E216*SUMIF('Daily Log'!$BG$18:$BG$1017,$B216,'Daily Log'!$BH$18:$BH$1017),0)","v":0},{"$f":"IFERROR($E216*SUMIF('Daily Log'!$BJ$18:$BJ$1017,$B216,'Daily Log'!$BK$18:$BK$1017),0)","v":0},{"$f":"IFERROR($E216*SUMIF('Daily Log'!$BM$18:$BM$1017,$B216,'Daily Log'!$BN$18:$BN$1017),0)","v":0},{"$f":"IFERROR($E216*SUMIF('Daily Log'!$BP$18:$BP$1017,$B216,'Daily Log'!$BQ$18:$BQ$1017),0)","v":0},{"$f":"IFERROR($E216*SUMIF('Daily Log'!$BS$18:$BS$1017,$B216,'Daily Log'!$BT$18:$BT$1017),0)","v":0},{"$f":"IFERROR($E216*SUMIF('Daily Log'!$BV$18:$BV$1017,$B216,'Daily Log'!$BW$18:$BW$1017),0)","v":0},{"$f":"IFERROR($E216*SUMIF('Daily Log'!$BY$18:$BY$1017,$B216,'Daily Log'!$BZ$18:$BZ$1017),0)","v":0},{"$f":"IFERROR($E216*SUMIF('Daily Log'!$CB$18:$CB$1017,$B216,'Daily Log'!$CC$18:$CC$1017),0)","v":0},{"$f":"IFERROR($E216*SUMIF('Daily Log'!$CE$18:$CE$1017,$B216,'Daily Log'!$CF$18:$CF$1017),0)","v":0},{"$f":"IFERROR($E216*SUMIF('Daily Log'!$CH$18:$CH$1017,$B216,'Daily Log'!$CI$18:$CI$1017),0)","v":0},{"$f":"IFERROR($E216*SUMIF('Daily Log'!$CK$18:$CK$1017,$B216,'Daily Log'!$CL$18:$CL$1017),0)","v":0},{"$f":"IFERROR($E216*SUMIF('Daily Log'!$CN$18:$CN$1017,$B216,'Daily Log'!$CO$18:$CO$1017),0)","v":0}]
[null,"CF06 HNY GRN TEA (H)",null,"SIDE ORDER-HOT BEVERAGE",1,0,{"$f":"IFERROR($E217*SUMIF('Daily Log'!$B$18:$B$1017,$B217,'Daily Log'!$C$18:$C$1017),0)","v":0},{"$f":"IFERROR($E217*SUMIF('Daily Log'!$E$18:$E$1017,$B217,'Daily Log'!$F$18:$F$1017),0)","v":0},{"$f":"IFERROR($E217*SUMIF('Daily Log'!$H$18:$H$1017,$B217,'Daily Log'!$I$18:$I$1017),0)","v":0},{"$f":"IFERROR($E217*SUMIF('Daily Log'!$K$18:$K$1017,$B217,'Daily Log'!$L$18:$L$1017),0)","v":0},{"$f":"IFERROR($E217*SUMIF('Daily Log'!$N$18:$N$1017,$B217,'Daily Log'!$O$18:$O$1017),0)","v":0},{"$f":"IFERROR($E217*SUMIF('Daily Log'!$Q$18:$Q$1017,$B217,'Daily Log'!$R$18:$R$1017),0)","v":0},{"$f":"IFERROR($E217*SUMIF('Daily Log'!$T$18:$T$1017,$B217,'Daily Log'!$U$18:$U$1017),0)","v":0},{"$f":"IFERROR($E217*SUMIF('Daily Log'!$W$18:$W$1017,$B217,'Daily Log'!$X$18:$X$1017),0)","v":0},{"$f":"IFERROR($E217*SUMIF('Daily Log'!$Z$18:$Z$1017,$B217,'Daily Log'!$AA$18:$AA$1017),0)","v":0},{"$f":"IFERROR($E217*SUMIF('Daily Log'!$AC$18:$AC$1017,$B217,'Daily Log'!$AD$18:$AD$1017),0)","v":0},{"$f":"IFERROR($E217*SUMIF('Daily Log'!$AF$18:$AF$1017,$B217,'Daily Log'!$AG$18:$AG$1017),0)","v":0},{"$f":"IFERROR($E217*SUMIF('Daily Log'!$AI$18:$AI$1017,$B217,'Daily Log'!$AJ$18:$AJ$1017),0)","v":0},{"$f":"IFERROR($E217*SUMIF('Daily Log'!$AL$18:$AL$1017,$B217,'Daily Log'!$AM$18:$AM$1017),0)","v":0},{"$f":"IFERROR($E217*SUMIF('Daily Log'!$AO$18:$AO$1017,$B217,'Daily Log'!$AP$18:$AP$1017),0)","v":0},{"$f":"IFERROR($E217*SUMIF('Daily Log'!$AR$18:$AR$1017,$B217,'Daily Log'!$AS$18:$AS$1017),0)","v":0},{"$f":"IFERROR($E217*SUMIF('Daily Log'!$AU$18:$AU$1017,$B217,'Daily Log'!$AV$18:$AV$1017),0)","v":0},{"$f":"IFERROR($E217*SUMIF('Daily Log'!$AX$18:$AX$1017,$B217,'Daily Log'!$AY$18:$AY$1017),0)","v":0},{"$f":"IFERROR($E217*SUMIF('Daily Log'!$BA$18:$BA$1017,$B217,'Daily Log'!$BB$18:$BB$1017),0)","v":0},{"$f":"IFERROR($E217*SUMIF('Daily Log'!$BD$18:$BD$1017,$B217,'Daily Log'!$BE$18:$BE$1017),0)","v":0},{"$f":"IFERROR($E217*SUMIF('Daily Log'!$BG$18:$BG$1017,$B217,'Daily Log'!$BH$18:$BH$1017),0)","v":0},{"$f":"IFERROR($E217*SUMIF('Daily Log'!$BJ$18:$BJ$1017,$B217,'Daily Log'!$BK$18:$BK$1017),0)","v":0},{"$f":"IFERROR($E217*SUMIF('Daily Log'!$BM$18:$BM$1017,$B217,'Daily Log'!$BN$18:$BN$1017),0)","v":0},{"$f":"IFERROR($E217*SUMIF('Daily Log'!$BP$18:$BP$1017,$B217,'Daily Log'!$BQ$18:$BQ$1017),0)","v":0},{"$f":"IFERROR($E217*SUMIF('Daily Log'!$BS$18:$BS$1017,$B217,'Daily Log'!$BT$18:$BT$1017),0)","v":0},{"$f":"IFERROR($E217*SUMIF('Daily Log'!$BV$18:$BV$1017,$B217,'Daily Log'!$BW$18:$BW$1017),0)","v":0},{"$f":"IFERROR($E217*SUMIF('Daily Log'!$BY$18:$BY$1017,$B217,'Daily Log'!$BZ$18:$BZ$1017),0)","v":0},{"$f":"IFERROR($E217*SUMIF('Daily Log'!$CB$18:$CB$1017,$B217,'Daily Log'!$CC$18:$CC$1017),0)","v":0},{"$f":"IFERROR($E217*SUMIF('Daily Log'!$CE$18:$CE$1017,$B217,'Daily Log'!$CF$18:$CF$1017),0)","v":0},{"$f":"IFERROR($E217*SUMIF('Daily Log'!$CH$18:$CH$1017,$B217,'Daily Log'!$CI$18:$CI$1017),0)","v":0},{"$f":"IFERROR($E217*SUMIF('Daily Log'!$CK$18:$CK$1017,$B217,'Daily Log'!$CL$18:$CL$1017),0)","v":0},{"$f":"IFERROR($E217*SUMIF('Daily Log'!$CN$18:$CN$1017,$B217,'Daily Log'!$CO$18:$CO$1017),0)","v":0}]
[null,"CF07 HONEY (H)",null,"SIDE ORDER-HOT BEVERAGE",1,3,{"$f":"IFERROR($E218*SUMIF('Daily Log'!$B$18:$B$1017,$B218,'Daily Log'!$C$18:$C$1017),0)","v":0},{"$f":"IFERROR($E218*SUMIF('Daily Log'!$E$18:$E$1017,$B218,'Daily Log'!$F$18:$F$1017),0)","v":0},{"$f":"IFERROR($E218*SUMIF('Daily Log'!$H$18:$H$1017,$B218,'Daily Log'!$I$18:$I$1017),0)","v":0},{"$f":"IFERROR($E218*SUMIF('Daily Log'!$K$18:$K$1017,$B218,'Daily Log'!$L$18:$L$1017),0)","v":0},{"$f":"IFERROR($E218*SUMIF('Daily Log'!$N$18:$N$1017,$B218,'Daily Log'!$O$18:$O$1017),0)","v":0},{"$f":"IFERROR($E218*SUMIF('Daily Log'!$Q$18:$Q$1017,$B218,'Daily Log'!$R$18:$R$1017),0)","v":0},{"$f":"IFERROR($E218*SUMIF('Daily Log'!$T$18:$T$1017,$B218,'Daily Log'!$U$18:$U$1017),0)","v":0},{"$f":"IFERROR($E218*SUMIF('Daily Log'!$W$18:$W$1017,$B218,'Daily Log'!$X$18:$X$1017),0)","v":0},{"$f":"IFERROR($E218*SUMIF('Daily Log'!$Z$18:$Z$1017,$B218,'Daily Log'!$AA$18:$AA$1017),0)","v":0},{"$f":"IFERROR($E218*SUMIF('Daily Log'!$AC$18:$AC$1017,$B218,'Daily Log'!$AD$18:$AD$1017),0)","v":0},{"$f":"IFERROR($E218*SUMIF('Daily Log'!$AF$18:$AF$1017,$B218,'Daily Log'!$AG$18:$AG$1017),0)","v":0},{"$f":"IFERROR($E218*SUMIF('Daily Log'!$AI$18:$AI$1017,$B218,'Daily Log'!$AJ$18:$AJ$1017),0)","v":0},{"$f":"IFERROR($E218*SUMIF('Daily Log'!$AL$18:$AL$1017,$B218,'Daily Log'!$AM$18:$AM$1017),0)","v":0},{"$f":"IFERROR($E218*SUMIF('Daily Log'!$AO$18:$AO$1017,$B218,'Daily Log'!$AP$18:$AP$1017),0)","v":0},{"$f":"IFERROR($E218*SUMIF('Daily Log'!$AR$18:$AR$1017,$B218,'Daily Log'!$AS$18:$AS$1017),0)","v":0},{"$f":"IFERROR($E218*SUMIF('Daily Log'!$AU$18:$AU$1017,$B218,'Daily Log'!$AV$18:$AV$1017),0)","v":0},{"$f":"IFERROR($E218*SUMIF('Daily Log'!$AX$18:$AX$1017,$B218,'Daily Log'!$AY$18:$AY$1017),0)","v":0},{"$f":"IFERROR($E218*SUMIF('Daily Log'!$BA$18:$BA$1017,$B218,'Daily Log'!$BB$18:$BB$1017),0)","v":0},{"$f":"IFERROR($E218*SUMIF('Daily Log'!$BD$18:$BD$1017,$B218,'Daily Log'!$BE$18:$BE$1017),0)","v":0},{"$f":"IFERROR($E218*SUMIF('Daily Log'!$BG$18:$BG$1017,$B218,'Daily Log'!$BH$18:$BH$1017),0)","v":0},{"$f":"IFERROR($E218*SUMIF('Daily Log'!$BJ$18:$BJ$1017,$B218,'Daily Log'!$BK$18:$BK$1017),0)","v":0},{"$f":"IFERROR($E218*SUMIF('Daily Log'!$BM$18:$BM$1017,$B218,'Daily Log'!$BN$18:$BN$1017),0)","v":0},{"$f":"IFERROR($E218*SUMIF('Daily Log'!$BP$18:$BP$1017,$B218,'Daily Log'!$BQ$18:$BQ$1017),0)","v":0},{"$f":"IFERROR($E218*SUMIF('Daily Log'!$BS$18:$BS$1017,$B218,'Daily Log'!$BT$18:$BT$1017),0)","v":0},{"$f":"IFERROR($E218*SUMIF('Daily Log'!$BV$18:$BV$1017,$B218,'Daily Log'!$BW$18:$BW$1017),0)","v":0},{"$f":"IFERROR($E218*SUMIF('Daily Log'!$BY$18:$BY$1017,$B218,'Daily Log'!$BZ$18:$BZ$1017),0)","v":0},{"$f":"IFERROR($E218*SUMIF('Daily Log'!$CB$18:$CB$1017,$B218,'Daily Log'!$CC$18:$CC$1017),0)","v":0},{"$f":"IFERROR($E218*SUMIF('Daily Log'!$CE$18:$CE$1017,$B218,'Daily Log'!$CF$18:$CF$1017),0)","v":0},{"$f":"IFERROR($E218*SUMIF('Daily Log'!$CH$18:$CH$1017,$B218,'Daily Log'!$CI$18:$CI$1017),0)","v":0},{"$f":"IFERROR($E218*SUMIF('Daily Log'!$CK$18:$CK$1017,$B218,'Daily Log'!$CL$18:$CL$1017),0)","v":3},{"$f":"IFERROR($E218*SUMIF('Daily Log'!$CN$18:$CN$1017,$B218,'Daily Log'!$CO$18:$CO$1017),0)","v":0}]
[null,"CF08 LEMON HONEY (H)",null,"SIDE ORDER-HOT BEVERAGE",1,2,{"$f":"IFERROR($E219*SUMIF('Daily Log'!$B$18:$B$1017,$B219,'Daily Log'!$C$18:$C$1017),0)","v":0},{"$f":"IFERROR($E219*SUMIF('Daily Log'!$E$18:$E$1017,$B219,'Daily Log'!$F$18:$F$1017),0)","v":0},{"$f":"IFERROR($E219*SUMIF('Daily Log'!$H$18:$H$1017,$B219,'Daily Log'!$I$18:$I$1017),0)","v":0},{"$f":"IFERROR($E219*SUMIF('Daily Log'!$K$18:$K$1017,$B219,'Daily Log'!$L$18:$L$1017),0)","v":0},{"$f":"IFERROR($E219*SUMIF('Daily Log'!$N$18:$N$1017,$B219,'Daily Log'!$O$18:$O$1017),0)","v":0},{"$f":"IFERROR($E219*SUMIF('Daily Log'!$Q$18:$Q$1017,$B219,'Daily Log'!$R$18:$R$1017),0)","v":0},{"$f":"IFERROR($E219*SUMIF('Daily Log'!$T$18:$T$1017,$B219,'Daily Log'!$U$18:$U$1017),0)","v":0},{"$f":"IFERROR($E219*SUMIF('Daily Log'!$W$18:$W$1017,$B219,'Daily Log'!$X$18:$X$1017),0)","v":0},{"$f":"IFERROR($E219*SUMIF('Daily Log'!$Z$18:$Z$1017,$B219,'Daily Log'!$AA$18:$AA$1017),0)","v":0},{"$f":"IFERROR($E219*SUMIF('Daily Log'!$AC$18:$AC$1017,$B219,'Daily Log'!$AD$18:$AD$1017),0)","v":0},{"$f":"IFERROR($E219*SUMIF('Daily Log'!$AF$18:$AF$1017,$B219,'Daily Log'!$AG$18:$AG$1017),0)","v":0},{"$f":"IFERROR($E219*SUMIF('Daily Log'!$AI$18:$AI$1017,$B219,'Daily Log'!$AJ$18:$AJ$1017),0)","v":0},{"$f":"IFERROR($E219*SUMIF('Daily Log'!$AL$18:$AL$1017,$B219,'Daily Log'!$AM$18:$AM$1017),0)","v":0},{"$f":"IFERROR($E219*SUMIF('Daily Log'!$AO$18:$AO$1017,$B219,'Daily Log'!$AP$18:$AP$1017),0)","v":0},{"$f":"IFERROR($E219*SUMIF('Daily Log'!$AR$18:$AR$1017,$B219,'Daily Log'!$AS$18:$AS$1017),0)","v":0},{"$f":"IFERROR($E219*SUMIF('Daily Log'!$AU$18:$AU$1017,$B219,'Daily Log'!$AV$18:$AV$1017),0)","v":0},{"$f":"IFERROR($E219*SUMIF('Daily Log'!$AX$18:$AX$1017,$B219,'Daily Log'!$AY$18:$AY$1017),0)","v":0},{"$f":"IFERROR($E219*SUMIF('Daily Log'!$BA$18:$BA$1017,$B219,'Daily Log'!$BB$18:$BB$1017),0)","v":0},{"$f":"IFERROR($E219*SUMIF('Daily Log'!$BD$18:$BD$1017,$B219,'Daily Log'!$BE$18:$BE$1017),0)","v":0},{"$f":"IFERROR($E219*SUMIF('Daily Log'!$BG$18:$BG$1017,$B219,'Daily Log'!$BH$18:$BH$1017),0)","v":0},{"$f":"IFERROR($E219*SUMIF('Daily Log'!$BJ$18:$BJ$1017,$B219,'Daily Log'!$BK$18:$BK$1017),0)","v":0},{"$f":"IFERROR($E219*SUMIF('Daily Log'!$BM$18:$BM$1017,$B219,'Daily Log'!$BN$18:$BN$1017),0)","v":0},{"$f":"IFERROR($E219*SUMIF('Daily Log'!$BP$18:$BP$1017,$B219,'Daily Log'!$BQ$18:$BQ$1017),0)","v":0},{"$f":"IFERROR($E219*SUMIF('Daily Log'!$BS$18:$BS$1017,$B219,'Daily Log'!$BT$18:$BT$1017),0)","v":0},{"$f":"IFERROR($E219*SUMIF('Daily Log'!$BV$18:$BV$1017,$B219,'Daily Log'!$BW$18:$BW$1017),0)","v":0},{"$f":"IFERROR($E219*SUMIF('Daily Log'!$BY$18:$BY$1017,$B219,'Daily Log'!$BZ$18:$BZ$1017),0)","v":0},{"$f":"IFERROR($E219*SUMIF('Daily Log'!$CB$18:$CB$1017,$B219,'Daily Log'!$CC$18:$CC$1017),0)","v":0},{"$f":"IFERROR($E219*SUMIF('Daily Log'!$CE$18:$CE$1017,$B219,'Daily Log'!$CF$18:$CF$1017),0)","v":0},{"$f":"IFERROR($E219*SUMIF('Daily Log'!$CH$18:$CH$1017,$B219,'Daily Log'!$CI$18:$CI$1017),0)","v":0},{"$f":"IFERROR($E219*SUMIF('Daily Log'!$CK$18:$CK$1017,$B219,'Daily Log'!$CL$18:$CL$1017),0)","v":2},{"$f":"IFERROR($E219*SUMIF('Daily Log'!$CN$18:$CN$1017,$B219,'Daily Log'!$CO$18:$CO$1017),0)","v":0}]
[null,"CF09 CAPPUCCINO (H)",null,"SIDE ORDER-HOT BEVERAGE",1,2,{"$f":"IFERROR($E220*SUMIF('Daily Log'!$B$18:$B$1017,$B220,'Daily Log'!$C$18:$C$1017),0)","v":0},{"$f":"IFERROR($E220*SUMIF('Daily Log'!$E$18:$E$1017,$B220,'Daily Log'!$F$18:$F$1017),0)","v":0},{"$f":"IFERROR($E220*SUMIF('Daily Log'!$H$18:$H$1017,$B220,'Daily Log'!$I$18:$I$1017),0)","v":0},{"$f":"IFERROR($E220*SUMIF('Daily Log'!$K$18:$K$1017,$B220,'Daily Log'!$L$18:$L$1017),0)","v":0},{"$f":"IFERROR($E220*SUMIF('Daily Log'!$N$18:$N$1017,$B220,'Daily Log'!$O$18:$O$1017),0)","v":0},{"$f":"IFERROR($E220*SUMIF('Daily Log'!$Q$18:$Q$1017,$B220,'Daily Log'!$R$18:$R$1017),0)","v":0},{"$f":"IFERROR($E220*SUMIF('Daily Log'!$T$18:$T$1017,$B220,'Daily Log'!$U$18:$U$1017),0)","v":0},{"$f":"IFERROR($E220*SUMIF('Daily Log'!$W$18:$W$1017,$B220,'Daily Log'!$X$18:$X$1017),0)","v":0},{"$f":"IFERROR($E220*SUMIF('Daily Log'!$Z$18:$Z$1017,$B220,'Daily Log'!$AA$18:$AA$1017),0)","v":0},{"$f":"IFERROR($E220*SUMIF('Daily Log'!$AC$18:$AC$1017,$B220,'Daily Log'!$AD$18:$AD$1017),0)","v":0},{"$f":"IFERROR($E220*SUMIF('Daily Log'!$AF$18:$AF$1017,$B220,'Daily Log'!$AG$18:$AG$1017),0)","v":0},{"$f":"IFERROR($E220*SUMIF('Daily Log'!$AI$18:$AI$1017,$B220,'Daily Log'!$AJ$18:$AJ$1017),0)","v":0},{"$f":"IFERROR($E220*SUMIF('Daily Log'!$AL$18:$AL$1017,$B220,'Daily Log'!$AM$18:$AM$1017),0)","v":0},{"$f":"IFERROR($E220*SUMIF('Daily Log'!$AO$18:$AO$1017,$B220,'Daily Log'!$AP$18:$AP$1017),0)","v":0},{"$f":"IFERROR($E220*SUMIF('Daily Log'!$AR$18:$AR$1017,$B220,'Daily Log'!$AS$18:$AS$1017),0)","v":0},{"$f":"IFERROR($E220*SUMIF('Daily Log'!$AU$18:$AU$1017,$B220,'Daily Log'!$AV$18:$AV$1017),0)","v":0},{"$f":"IFERROR($E220*SUMIF('Daily Log'!$AX$18:$AX$1017,$B220,'Daily Log'!$AY$18:$AY$1017),0)","v":0},{"$f":"IFERROR($E220*SUMIF('Daily Log'!$BA$18:$BA$1017,$B220,'Daily Log'!$BB$18:$BB$1017),0)","v":0},{"$f":"IFERROR($E220*SUMIF('Daily Log'!$BD$18:$BD$1017,$B220,'Daily Log'!$BE$18:$BE$1017),0)","v":0},{"$f":"IFERROR($E220*SUMIF('Daily Log'!$BG$18:$BG$1017,$B220,'Daily Log'!$BH$18:$BH$1017),0)","v":0},{"$f":"IFERROR($E220*SUMIF('Daily Log'!$BJ$18:$BJ$1017,$B220,'Daily Log'!$BK$18:$BK$1017),0)","v":0},{"$f":"IFERROR($E220*SUMIF('Daily Log'!$BM$18:$BM$1017,$B220,'Daily Log'!$BN$18:$BN$1017),0)","v":0},{"$f":"IFERROR($E220*SUMIF('Daily Log'!$BP$18:$BP$1017,$B220,'Daily Log'!$BQ$18:$BQ$1017),0)","v":0},{"$f":"IFERROR($E220*SUMIF('Daily Log'!$BS$18:$BS$1017,$B220,'Daily Log'!$BT$18:$BT$1017),0)","v":0},{"$f":"IFERROR($E220*SUMIF('Daily Log'!$BV$18:$BV$1017,$B220,'Daily Log'!$BW$18:$BW$1017),0)","v":0},{"$f":"IFERROR($E220*SUMIF('Daily Log'!$BY$18:$BY$1017,$B220,'Daily Log'!$BZ$18:$BZ$1017),0)","v":0},{"$f":"IFERROR($E220*SUMIF('Daily Log'!$CB$18:$CB$1017,$B220,'Daily Log'!$CC$18:$CC$1017),0)","v":0},{"$f":"IFERROR($E220*SUMIF('Daily Log'!$CE$18:$CE$1017,$B220,'Daily Log'!$CF$18:$CF$1017),0)","v":0},{"$f":"IFERROR($E220*SUMIF('Daily Log'!$CH$18:$CH$1017,$B220,'Daily Log'!$CI$18:$CI$1017),0)","v":0},{"$f":"IFERROR($E220*SUMIF('Daily Log'!$CK$18:$CK$1017,$B220,'Daily Log'!$CL$18:$CL$1017),0)","v":2},{"$f":"IFERROR($E220*SUMIF('Daily Log'!$CN$18:$CN$1017,$B220,'Daily Log'!$CO$18:$CO$1017),0)","v":0}]
[null,"CF10 CHOCOLATE (H)",null,"SIDE ORDER-HOT BEVERAGE",1,2,{"$f":"IFERROR($E221*SUMIF('Daily Log'!$B$18:$B$1017,$B221,'Daily Log'!$C$18:$C$1017),0)","v":0},{"$f":"IFERROR($E221*SUMIF('Daily Log'!$E$18:$E$1017,$B221,'Daily Log'!$F$18:$F$1017),0)","v":0},{"$f":"IFERROR($E221*SUMIF('Daily Log'!$H$18:$H$1017,$B221,'Daily Log'!$I$18:$I$1017),0)","v":0},{"$f":"IFERROR($E221*SUMIF('Daily Log'!$K$18:$K$1017,$B221,'Daily Log'!$L$18:$L$1017),0)","v":0},{"$f":"IFERROR($E221*SUMIF('Daily Log'!$N$18:$N$1017,$B221,'Daily Log'!$O$18:$O$1017),0)","v":0},{"$f":"IFERROR($E221*SUMIF('Daily Log'!$Q$18:$Q$1017,$B221,'Daily Log'!$R$18:$R$1017),0)","v":0},{"$f":"IFERROR($E221*SUMIF('Daily Log'!$T$18:$T$1017,$B221,'Daily Log'!$U$18:$U$1017),0)","v":0},{"$f":"IFERROR($E221*SUMIF('Daily Log'!$W$18:$W$1017,$B221,'Daily Log'!$X$18:$X$1017),0)","v":0},{"$f":"IFERROR($E221*SUMIF('Daily Log'!$Z$18:$Z$1017,$B221,'Daily Log'!$AA$18:$AA$1017),0)","v":0},{"$f":"IFERROR($E221*SUMIF('Daily Log'!$AC$18:$AC$1017,$B221,'Daily Log'!$AD$18:$AD$1017),0)","v":0},{"$f":"IFERROR($E221*SUMIF('Daily Log'!$AF$18:$AF$1017,$B221,'Daily Log'!$AG$18:$AG$1017),0)","v":0},{"$f":"IFERROR($E221*SUMIF('Daily Log'!$AI$18:$AI$1017,$B221,'Daily Log'!$AJ$18:$AJ$1017),0)","v":0},{"$f":"IFERROR($E221*SUMIF('Daily Log'!$AL$18:$AL$1017,$B221,'Daily Log'!$AM$18:$AM$1017),0)","v":0},{"$f":"IFERROR($E221*SUMIF('Daily Log'!$AO$18:$AO$1017,$B221,'Daily Log'!$AP$18:$AP$1017),0)","v":0},{"$f":"IFERROR($E221*SUMIF('Daily Log'!$AR$18:$AR$1017,$B221,'Daily Log'!$AS$18:$AS$1017),0)","v":0},{"$f":"IFERROR($E221*SUMIF('Daily Log'!$AU$18:$AU$1017,$B221,'Daily Log'!$AV$18:$AV$1017),0)","v":0},{"$f":"IFERROR($E221*SUMIF('Daily Log'!$AX$18:$AX$1017,$B221,'Daily Log'!$AY$18:$AY$1017),0)","v":0},{"$f":"IFERROR($E221*SUMIF('Daily Log'!$BA$18:$BA$1017,$B221,'Daily Log'!$BB$18:$BB$1017),0)","v":0},{"$f":"IFERROR($E221*SUMIF('Daily Log'!$BD$18:$BD$1017,$B221,'Daily Log'!$BE$18:$BE$1017),0)","v":0},{"$f":"IFERROR($E221*SUMIF('Daily Log'!$BG$18:$BG$1017,$B221,'Daily Log'!$BH$18:$BH$1017),0)","v":0},{"$f":"IFERROR($E221*SUMIF('Daily Log'!$BJ$18:$BJ$1017,$B221,'Daily Log'!$BK$18:$BK$1017),0)","v":0},{"$f":"IFERROR($E221*SUMIF('Daily Log'!$BM$18:$BM$1017,$B221,'Daily Log'!$BN$18:$BN$1017),0)","v":0},{"$f":"IFERROR($E221*SUMIF('Daily Log'!$BP$18:$BP$1017,$B221,'Daily Log'!$BQ$18:$BQ$1017),0)","v":0},{"$f":"IFERROR($E221*SUMIF('Daily Log'!$BS$18:$BS$1017,$B221,'Daily Log'!$BT$18:$BT$1017),0)","v":0},{"$f":"IFERROR($E221*SUMIF('Daily Log'!$BV$18:$BV$1017,$B221,'Daily Log'!$BW$18:$BW$1017),0)","v":0},{"$f":"IFERROR($E221*SUMIF('Daily Log'!$BY$18:$BY$1017,$B221,'Daily Log'!$BZ$18:$BZ$1017),0)","v":0},{"$f":"IFERROR($E221*SUMIF('Daily Log'!$CB$18:$CB$1017,$B221,'Daily Log'!$CC$18:$CC$1017),0)","v":0},{"$f":"IFERROR($E221*SUMIF('Daily Log'!$CE$18:$CE$1017,$B221,'Daily Log'!$CF$18:$CF$1017),0)","v":0},{"$f":"IFERROR($E221*SUMIF('Daily Log'!$CH$18:$CH$1017,$B221,'Daily Log'!$CI$18:$CI$1017),0)","v":0},{"$f":"IFERROR($E221*SUMIF('Daily Log'!$CK$18:$CK$1017,$B221,'Daily Log'!$CL$18:$CL$1017),0)","v":2},{"$f":"IFERROR($E221*SUMIF('Daily Log'!$CN$18:$CN$1017,$B221,'Daily Log'!$CO$18:$CO$1017),0)","v":0}]
[null,"CF11 MOCHA (H)",null,"SIDE ORDER-HOT BEVERAGE",1,0,{"$f":"IFERROR($E222*SUMIF('Daily Log'!$B$18:$B$1017,$B222,'Daily Log'!$C$18:$C$1017),0)","v":0},{"$f":"IFERROR($E222*SUMIF('Daily Log'!$E$18:$E$1017,$B222,'Daily Log'!$F$18:$F$1017),0)","v":0},{"$f":"IFERROR($E222*SUMIF('Daily Log'!$H$18:$H$1017,$B222,'Daily Log'!$I$18:$I$1017),0)","v":0},{"$f":"IFERROR($E222*SUMIF('Daily Log'!$K$18:$K$1017,$B222,'Daily Log'!$L$18:$L$1017),0)","v":0},{"$f":"IFERROR($E222*SUMIF('Daily Log'!$N$18:$N$1017,$B222,'Daily Log'!$O$18:$O$1017),0)","v":0},{"$f":"IFERROR($E222*SUMIF('Daily Log'!$Q$18:$Q$1017,$B222,'Daily Log'!$R$18:$R$1017),0)","v":0},{"$f":"IFERROR($E222*SUMIF('Daily Log'!$T$18:$T$1017,$B222,'Daily Log'!$U$18:$U$1017),0)","v":0},{"$f":"IFERROR($E222*SUMIF('Daily Log'!$W$18:$W$1017,$B222,'Daily Log'!$X$18:$X$1017),0)","v":0},{"$f":"IFERROR($E222*SUMIF('Daily Log'!$Z$18:$Z$1017,$B222,'Daily Log'!$AA$18:$AA$1017),0)","v":0},{"$f":"IFERROR($E222*SUMIF('Daily Log'!$AC$18:$AC$1017,$B222,'Daily Log'!$AD$18:$AD$1017),0)","v":0},{"$f":"IFERROR($E222*SUMIF('Daily Log'!$AF$18:$AF$1017,$B222,'Daily Log'!$AG$18:$AG$1017),0)","v":0},{"$f":"IFERROR($E222*SUMIF('Daily Log'!$AI$18:$AI$1017,$B222,'Daily Log'!$AJ$18:$AJ$1017),0)","v":0},{"$f":"IFERROR($E222*SUMIF('Daily Log'!$AL$18:$AL$1017,$B222,'Daily Log'!$AM$18:$AM$1017),0)","v":0},{"$f":"IFERROR($E222*SUMIF('Daily Log'!$AO$18:$AO$1017,$B222,'Daily Log'!$AP$18:$AP$1017),0)","v":0},{"$f":"IFERROR($E222*SUMIF('Daily Log'!$AR$18:$AR$1017,$B222,'Daily Log'!$AS$18:$AS$1017),0)","v":0},{"$f":"IFERROR($E222*SUMIF('Daily Log'!$AU$18:$AU$1017,$B222,'Daily Log'!$AV$18:$AV$1017),0)","v":0},{"$f":"IFERROR($E222*SUMIF('Daily Log'!$AX$18:$AX$1017,$B222,'Daily Log'!$AY$18:$AY$1017),0)","v":0},{"$f":"IFERROR($E222*SUMIF('Daily Log'!$BA$18:$BA$1017,$B222,'Daily Log'!$BB$18:$BB$1017),0)","v":0},{"$f":"IFERROR($E222*SUMIF('Daily Log'!$BD$18:$BD$1017,$B222,'Daily Log'!$BE$18:$BE$1017),0)","v":0},{"$f":"IFERROR($E222*SUMIF('Daily Log'!$BG$18:$BG$1017,$B222,'Daily Log'!$BH$18:$BH$1017),0)","v":0},{"$f":"IFERROR($E222*SUMIF('Daily Log'!$BJ$18:$BJ$1017,$B222,'Daily Log'!$BK$18:$BK$1017),0)","v":0},{"$f":"IFERROR($E222*SUMIF('Daily Log'!$BM$18:$BM$1017,$B222,'Daily Log'!$BN$18:$BN$1017),0)","v":0},{"$f":"IFERROR($E222*SUMIF('Daily Log'!$BP$18:$BP$1017,$B222,'Daily Log'!$BQ$18:$BQ$1017),0)","v":0},{"$f":"IFERROR($E222*SUMIF('Daily Log'!$BS$18:$BS$1017,$B222,'Daily Log'!$BT$18:$BT$1017),0)","v":0},{"$f":"IFERROR($E222*SUMIF('Daily Log'!$BV$18:$BV$1017,$B222,'Daily Log'!$BW$18:$BW$1017),0)","v":0},{"$f":"IFERROR($E222*SUMIF('Daily Log'!$BY$18:$BY$1017,$B222,'Daily Log'!$BZ$18:$BZ$1017),0)","v":0},{"$f":"IFERROR($E222*SUMIF('Daily Log'!$CB$18:$CB$1017,$B222,'Daily Log'!$CC$18:$CC$1017),0)","v":0},{"$f":"IFERROR($E222*SUMIF('Daily Log'!$CE$18:$CE$1017,$B222,'Daily Log'!$CF$18:$CF$1017),0)","v":0},{"$f":"IFERROR($E222*SUMIF('Daily Log'!$CH$18:$CH$1017,$B222,'Daily Log'!$CI$18:$CI$1017),0)","v":0},{"$f":"IFERROR($E222*SUMIF('Daily Log'!$CK$18:$CK$1017,$B222,'Daily Log'!$CL$18:$CL$1017),0)","v":0},{"$f":"IFERROR($E222*SUMIF('Daily Log'!$CN$18:$CN$1017,$B222,'Daily Log'!$CO$18:$CO$1017),0)","v":0}]
[null,"CF12 CHAMOMILE (H)",null,"SIDE ORDER-HOT BEVERAGE",1,0,{"$f":"IFERROR($E223*SUMIF('Daily Log'!$B$18:$B$1017,$B223,'Daily Log'!$C$18:$C$1017),0)","v":0},{"$f":"IFERROR($E223*SUMIF('Daily Log'!$E$18:$E$1017,$B223,'Daily Log'!$F$18:$F$1017),0)","v":0},{"$f":"IFERROR($E223*SUMIF('Daily Log'!$H$18:$H$1017,$B223,'Daily Log'!$I$18:$I$1017),0)","v":0},{"$f":"IFERROR($E223*SUMIF('Daily Log'!$K$18:$K$1017,$B223,'Daily Log'!$L$18:$L$1017),0)","v":0},{"$f":"IFERROR($E223*SUMIF('Daily Log'!$N$18:$N$1017,$B223,'Daily Log'!$O$18:$O$1017),0)","v":0},{"$f":"IFERROR($E223*SUMIF('Daily Log'!$Q$18:$Q$1017,$B223,'Daily Log'!$R$18:$R$1017),0)","v":0},{"$f":"IFERROR($E223*SUMIF('Daily Log'!$T$18:$T$1017,$B223,'Daily Log'!$U$18:$U$1017),0)","v":0},{"$f":"IFERROR($E223*SUMIF('Daily Log'!$W$18:$W$1017,$B223,'Daily Log'!$X$18:$X$1017),0)","v":0},{"$f":"IFERROR($E223*SUMIF('Daily Log'!$Z$18:$Z$1017,$B223,'Daily Log'!$AA$18:$AA$1017),0)","v":0},{"$f":"IFERROR($E223*SUMIF('Daily Log'!$AC$18:$AC$1017,$B223,'Daily Log'!$AD$18:$AD$1017),0)","v":0},{"$f":"IFERROR($E223*SUMIF('Daily Log'!$AF$18:$AF$1017,$B223,'Daily Log'!$AG$18:$AG$1017),0)","v":0},{"$f":"IFERROR($E223*SUMIF('Daily Log'!$AI$18:$AI$1017,$B223,'Daily Log'!$AJ$18:$AJ$1017),0)","v":0},{"$f":"IFERROR($E223*SUMIF('Daily Log'!$AL$18:$AL$1017,$B223,'Daily Log'!$AM$18:$AM$1017),0)","v":0},{"$f":"IFERROR($E223*SUMIF('Daily Log'!$AO$18:$AO$1017,$B223,'Daily Log'!$AP$18:$AP$1017),0)","v":0},{"$f":"IFERROR($E223*SUMIF('Daily Log'!$AR$18:$AR$1017,$B223,'Daily Log'!$AS$18:$AS$1017),0)","v":0},{"$f":"IFERROR($E223*SUMIF('Daily Log'!$AU$18:$AU$1017,$B223,'Daily Log'!$AV$18:$AV$1017),0)","v":0},{"$f":"IFERROR($E223*SUMIF('Daily Log'!$AX$18:$AX$1017,$B223,'Daily Log'!$AY$18:$AY$1017),0)","v":0},{"$f":"IFERROR($E223*SUMIF('Daily Log'!$BA$18:$BA$1017,$B223,'Daily Log'!$BB$18:$BB$1017),0)","v":0},{"$f":"IFERROR($E223*SUMIF('Daily Log'!$BD$18:$BD$1017,$B223,'Daily Log'!$BE$18:$BE$1017),0)","v":0},{"$f":"IFERROR($E223*SUMIF('Daily Log'!$BG$18:$BG$1017,$B223,'Daily Log'!$BH$18:$BH$1017),0)","v":0},{"$f":"IFERROR($E223*SUMIF('Daily Log'!$BJ$18:$BJ$1017,$B223,'Daily Log'!$BK$18:$BK$1017),0)","v":0},{"$f":"IFERROR($E223*SUMIF('Daily Log'!$BM$18:$BM$1017,$B223,'Daily Log'!$BN$18:$BN$1017),0)","v":0},{"$f":"IFERROR($E223*SUMIF('Daily Log'!$BP$18:$BP$1017,$B223,'Daily Log'!$BQ$18:$BQ$1017),0)","v":0},{"$f":"IFERROR($E223*SUMIF('Daily Log'!$BS$18:$BS$1017,$B223,'Daily Log'!$BT$18:$BT$1017),0)","v":0},{"$f":"IFERROR($E223*SUMIF('Daily Log'!$BV$18:$BV$1017,$B223,'Daily Log'!$BW$18:$BW$1017),0)","v":0},{"$f":"IFERROR($E223*SUMIF('Daily Log'!$BY$18:$BY$1017,$B223,'Daily Log'!$BZ$18:$BZ$1017),0)","v":0},{"$f":"IFERROR($E223*SUMIF('Daily Log'!$CB$18:$CB$1017,$B223,'Daily Log'!$CC$18:$CC$1017),0)","v":0},{"$f":"IFERROR($E223*SUMIF('Daily Log'!$CE$18:$CE$1017,$B223,'Daily Log'!$CF$18:$CF$1017),0)","v":0},{"$f":"IFERROR($E223*SUMIF('Daily Log'!$CH$18:$CH$1017,$B223,'Daily Log'!$CI$18:$CI$1017),0)","v":0},{"$f":"IFERROR($E223*SUMIF('Daily Log'!$CK$18:$CK$1017,$B223,'Daily Log'!$CL$18:$CL$1017),0)","v":0},{"$f":"IFERROR($E223*SUMIF('Daily Log'!$CN$18:$CN$1017,$B223,'Daily Log'!$CO$18:$CO$1017),0)","v":0}]
[null,"CF13 DARJEELING (H)",null,"SIDE ORDER-HOT BEVERAGE",1,0,{"$f":"IFERROR($E224*SUMIF('Daily Log'!$B$18:$B$1017,$B224,'Daily Log'!$C$18:$C$1017),0)","v":0},{"$f":"IFERROR($E224*SUMIF('Daily Log'!$E$18:$E$1017,$B224,'Daily Log'!$F$18:$F$1017),0)","v":0},{"$f":"IFERROR($E224*SUMIF('Daily Log'!$H$18:$H$1017,$B224,'Daily Log'!$I$18:$I$1017),0)","v":0},{"$f":"IFERROR($E224*SUMIF('Daily Log'!$K$18:$K$1017,$B224,'Daily Log'!$L$18:$L$1017),0)","v":0},{"$f":"IFERROR($E224*SUMIF('Daily Log'!$N$18:$N$1017,$B224,'Daily Log'!$O$18:$O$1017),0)","v":0},{"$f":"IFERROR($E224*SUMIF('Daily Log'!$Q$18:$Q$1017,$B224,'Daily Log'!$R$18:$R$1017),0)","v":0},{"$f":"IFERROR($E224*SUMIF('Daily Log'!$T$18:$T$1017,$B224,'Daily Log'!$U$18:$U$1017),0)","v":0},{"$f":"IFERROR($E224*SUMIF('Daily Log'!$W$18:$W$1017,$B224,'Daily Log'!$X$18:$X$1017),0)","v":0},{"$f":"IFERROR($E224*SUMIF('Daily Log'!$Z$18:$Z$1017,$B224,'Daily Log'!$AA$18:$AA$1017),0)","v":0},{"$f":"IFERROR($E224*SUMIF('Daily Log'!$AC$18:$AC$1017,$B224,'Daily Log'!$AD$18:$AD$1017),0)","v":0},{"$f":"IFERROR($E224*SUMIF('Daily Log'!$AF$18:$AF$1017,$B224,'Daily Log'!$AG$18:$AG$1017),0)","v":0},{"$f":"IFERROR($E224*SUMIF('Daily Log'!$AI$18:$AI$1017,$B224,'Daily Log'!$AJ$18:$AJ$1017),0)","v":0},{"$f":"IFERROR($E224*SUMIF('Daily Log'!$AL$18:$AL$1017,$B224,'Daily Log'!$AM$18:$AM$1017),0)","v":0},{"$f":"IFERROR($E224*SUMIF('Daily Log'!$AO$18:$AO$1017,$B224,'Daily Log'!$AP$18:$AP$1017),0)","v":0},{"$f":"IFERROR($E224*SUMIF('Daily Log'!$AR$18:$AR$1017,$B224,'Daily Log'!$AS$18:$AS$1017),0)","v":0},{"$f":"IFERROR($E224*SUMIF('Daily Log'!$AU$18:$AU$1017,$B224,'Daily Log'!$AV$18:$AV$1017),0)","v":0},{"$f":"IFERROR($E224*SUMIF('Daily Log'!$AX$18:$AX$1017,$B224,'Daily Log'!$AY$18:$AY$1017),0)","v":0},{"$f":"IFERROR($E224*SUMIF('Daily Log'!$BA$18:$BA$1017,$B224,'Daily Log'!$BB$18:$BB$1017),0)","v":0},{"$f":"IFERROR($E224*SUMIF('Daily Log'!$BD$18:$BD$1017,$B224,'Daily Log'!$BE$18:$BE$1017),0)","v":0},{"$f":"IFERROR($E224*SUMIF('Daily Log'!$BG$18:$BG$1017,$B224,'Daily Log'!$BH$18:$BH$1017),0)","v":0},{"$f":"IFERROR($E224*SUMIF('Daily Log'!$BJ$18:$BJ$1017,$B224,'Daily Log'!$BK$18:$BK$1017),0)","v":0},{"$f":"IFERROR($E224*SUMIF('Daily Log'!$BM$18:$BM$1017,$B224,'Daily Log'!$BN$18:$BN$1017),0)","v":0},{"$f":"IFERROR($E224*SUMIF('Daily Log'!$BP$18:$BP$1017,$B224,'Daily Log'!$BQ$18:$BQ$1017),0)","v":0},{"$f":"IFERROR($E224*SUMIF('Daily Log'!$BS$18:$BS$1017,$B224,'Daily Log'!$BT$18:$BT$1017),0)","v":0},{"$f":"IFERROR($E224*SUMIF('Daily Log'!$BV$18:$BV$1017,$B224,'Daily Log'!$BW$18:$BW$1017),0)","v":0},{"$f":"IFERROR($E224*SUMIF('Daily Log'!$BY$18:$BY$1017,$B224,'Daily Log'!$BZ$18:$BZ$1017),0)","v":0},{"$f":"IFERROR($E224*SUMIF('Daily Log'!$CB$18:$CB$1017,$B224,'Daily Log'!$CC$18:$CC$1017),0)","v":0},{"$f":"IFERROR($E224*SUMIF('Daily Log'!$CE$18:$CE$1017,$B224,'Daily Log'!$CF$18:$CF$1017),0)","v":0},{"$f":"IFERROR($E224*SUMIF('Daily Log'!$CH$18:$CH$1017,$B224,'Daily Log'!$CI$18:$CI$1017),0)","v":0},{"$f":"IFERROR($E224*SUMIF('Daily Log'!$CK$18:$CK$1017,$B224,'Daily Log'!$CL$18:$CL$1017),0)","v":0},{"$f":"IFERROR($E224*SUMIF('Daily Log'!$CN$18:$CN$1017,$B224,'Daily Log'!$CO$18:$CO$1017),0)","v":0}]
[null,"CF14 EARL GREY (H)",null,"SIDE ORDER-HOT BEVERAGE",1,0,{"$f":"IFERROR($E225*SUMIF('Daily Log'!$B$18:$B$1017,$B225,'Daily Log'!$C$18:$C$1017),0)","v":0},{"$f":"IFERROR($E225*SUMIF('Daily Log'!$E$18:$E$1017,$B225,'Daily Log'!$F$18:$F$1017),0)","v":0},{"$f":"IFERROR($E225*SUMIF('Daily Log'!$H$18:$H$1017,$B225,'Daily Log'!$I$18:$I$1017),0)","v":0},{"$f":"IFERROR($E225*SUMIF('Daily Log'!$K$18:$K$1017,$B225,'Daily Log'!$L$18:$L$1017),0)","v":0},{"$f":"IFERROR($E225*SUMIF('Daily Log'!$N$18:$N$1017,$B225,'Daily Log'!$O$18:$O$1017),0)","v":0},{"$f":"IFERROR($E225*SUMIF('Daily Log'!$Q$18:$Q$1017,$B225,'Daily Log'!$R$18:$R$1017),0)","v":0},{"$f":"IFERROR($E225*SUMIF('Daily Log'!$T$18:$T$1017,$B225,'Daily Log'!$U$18:$U$1017),0)","v":0},{"$f":"IFERROR($E225*SUMIF('Daily Log'!$W$18:$W$1017,$B225,'Daily Log'!$X$18:$X$1017),0)","v":0},{"$f":"IFERROR($E225*SUMIF('Daily Log'!$Z$18:$Z$1017,$B225,'Daily Log'!$AA$18:$AA$1017),0)","v":0},{"$f":"IFERROR($E225*SUMIF('Daily Log'!$AC$18:$AC$1017,$B225,'Daily Log'!$AD$18:$AD$1017),0)","v":0},{"$f":"IFERROR($E225*SUMIF('Daily Log'!$AF$18:$AF$1017,$B225,'Daily Log'!$AG$18:$AG$1017),0)","v":0},{"$f":"IFERROR($E225*SUMIF('Daily Log'!$AI$18:$AI$1017,$B225,'Daily Log'!$AJ$18:$AJ$1017),0)","v":0},{"$f":"IFERROR($E225*SUMIF('Daily Log'!$AL$18:$AL$1017,$B225,'Daily Log'!$AM$18:$AM$1017),0)","v":0},{"$f":"IFERROR($E225*SUMIF('Daily Log'!$AO$18:$AO$1017,$B225,'Daily Log'!$AP$18:$AP$1017),0)","v":0},{"$f":"IFERROR($E225*SUMIF('Daily Log'!$AR$18:$AR$1017,$B225,'Daily Log'!$AS$18:$AS$1017),0)","v":0},{"$f":"IFERROR($E225*SUMIF('Daily Log'!$AU$18:$AU$1017,$B225,'Daily Log'!$AV$18:$AV$1017),0)","v":0},{"$f":"IFERROR($E225*SUMIF('Daily Log'!$AX$18:$AX$1017,$B225,'Daily Log'!$AY$18:$AY$1017),0)","v":0},{"$f":"IFERROR($E225*SUMIF('Daily Log'!$BA$18:$BA$1017,$B225,'Daily Log'!$BB$18:$BB$1017),0)","v":0},{"$f":"IFERROR($E225*SUMIF('Daily Log'!$BD$18:$BD$1017,$B225,'Daily Log'!$BE$18:$BE$1017),0)","v":0},{"$f":"IFERROR($E225*SUMIF('Daily Log'!$BG$18:$BG$1017,$B225,'Daily Log'!$BH$18:$BH$1017),0)","v":0},{"$f":"IFERROR($E225*SUMIF('Daily Log'!$BJ$18:$BJ$1017,$B225,'Daily Log'!$BK$18:$BK$1017),0)","v":0},{"$f":"IFERROR($E225*SUMIF('Daily Log'!$BM$18:$BM$1017,$B225,'Daily Log'!$BN$18:$BN$1017),0)","v":0},{"$f":"IFERROR($E225*SUMIF('Daily Log'!$BP$18:$BP$1017,$B225,'Daily Log'!$BQ$18:$BQ$1017),0)","v":0},{"$f":"IFERROR($E225*SUMIF('Daily Log'!$BS$18:$BS$1017,$B225,'Daily Log'!$BT$18:$BT$1017),0)","v":0},{"$f":"IFERROR($E225*SUMIF('Daily Log'!$BV$18:$BV$1017,$B225,'Daily Log'!$BW$18:$BW$1017),0)","v":0},{"$f":"IFERROR($E225*SUMIF('Daily Log'!$BY$18:$BY$1017,$B225,'Daily Log'!$BZ$18:$BZ$1017),0)","v":0},{"$f":"IFERROR($E225*SUMIF('Daily Log'!$CB$18:$CB$1017,$B225,'Daily Log'!$CC$18:$CC$1017),0)","v":0},{"$f":"IFERROR($E225*SUMIF('Daily Log'!$CE$18:$CE$1017,$B225,'Daily Log'!$CF$18:$CF$1017),0)","v":0},{"$f":"IFERROR($E225*SUMIF('Daily Log'!$CH$18:$CH$1017,$B225,'Daily Log'!$CI$18:$CI$1017),0)","v":0},{"$f":"IFERROR($E225*SUMIF('Daily Log'!$CK$18:$CK$1017,$B225,'Daily Log'!$CL$18:$CL$1017),0)","v":0},{"$f":"IFERROR($E225*SUMIF('Daily Log'!$CN$18:$CN$1017,$B225,'Daily Log'!$CO$18:$CO$1017),0)","v":0}]
[null,"CG01 MINERAL WATER",null,null,1,0,{"$f":"IFERROR($E226*SUMIF('Daily Log'!$B$18:$B$1017,$B226,'Daily Log'!$C$18:$C$1017),0)","v":0},{"$f":"IFERROR($E226*SUMIF('Daily Log'!$E$18:$E$1017,$B226,'Daily Log'!$F$18:$F$1017),0)","v":0},{"$f":"IFERROR($E226*SUMIF('Daily Log'!$H$18:$H$1017,$B226,'Daily Log'!$I$18:$I$1017),0)","v":0},{"$f":"IFERROR($E226*SUMIF('Daily Log'!$K$18:$K$1017,$B226,'Daily Log'!$L$18:$L$1017),0)","v":0},{"$f":"IFERROR($E226*SUMIF('Daily Log'!$N$18:$N$1017,$B226,'Daily Log'!$O$18:$O$1017),0)","v":0},{"$f":"IFERROR($E226*SUMIF('Daily Log'!$Q$18:$Q$1017,$B226,'Daily Log'!$R$18:$R$1017),0)","v":0},{"$f":"IFERROR($E226*SUMIF('Daily Log'!$T$18:$T$1017,$B226,'Daily Log'!$U$18:$U$1017),0)","v":0},{"$f":"IFERROR($E226*SUMIF('Daily Log'!$W$18:$W$1017,$B226,'Daily Log'!$X$18:$X$1017),0)","v":0},{"$f":"IFERROR($E226*SUMIF('Daily Log'!$Z$18:$Z$1017,$B226,'Daily Log'!$AA$18:$AA$1017),0)","v":0},{"$f":"IFERROR($E226*SUMIF('Daily Log'!$AC$18:$AC$1017,$B226,'Daily Log'!$AD$18:$AD$1017),0)","v":0},{"$f":"IFERROR($E226*SUMIF('Daily Log'!$AF$18:$AF$1017,$B226,'Daily Log'!$AG$18:$AG$1017),0)","v":0},{"$f":"IFERROR($E226*SUMIF('Daily Log'!$AI$18:$AI$1017,$B226,'Daily Log'!$AJ$18:$AJ$1017),0)","v":0},{"$f":"IFERROR($E226*SUMIF('Daily Log'!$AL$18:$AL$1017,$B226,'Daily Log'!$AM$18:$AM$1017),0)","v":0},{"$f":"IFERROR($E226*SUMIF('Daily Log'!$AO$18:$AO$1017,$B226,'Daily Log'!$AP$18:$AP$1017),0)","v":0},{"$f":"IFERROR($E226*SUMIF('Daily Log'!$AR$18:$AR$1017,$B226,'Daily Log'!$AS$18:$AS$1017),0)","v":0},{"$f":"IFERROR($E226*SUMIF('Daily Log'!$AU$18:$AU$1017,$B226,'Daily Log'!$AV$18:$AV$1017),0)","v":0},{"$f":"IFERROR($E226*SUMIF('Daily Log'!$AX$18:$AX$1017,$B226,'Daily Log'!$AY$18:$AY$1017),0)","v":0},{"$f":"IFERROR($E226*SUMIF('Daily Log'!$BA$18:$BA$1017,$B226,'Daily Log'!$BB$18:$BB$1017),0)","v":0},{"$f":"IFERROR($E226*SUMIF('Daily Log'!$BD$18:$BD$1017,$B226,'Daily Log'!$BE$18:$BE$1017),0)","v":0},{"$f":"IFERROR($E226*SUMIF('Daily Log'!$BG$18:$BG$1017,$B226,'Daily Log'!$BH$18:$BH$1017),0)","v":0},{"$f":"IFERROR($E226*SUMIF('Daily Log'!$BJ$18:$BJ$1017,$B226,'Daily Log'!$BK$18:$BK$1017),0)","v":0},{"$f":"IFERROR($E226*SUMIF('Daily Log'!$BM$18:$BM$1017,$B226,'Daily Log'!$BN$18:$BN$1017),0)","v":0},{"$f":"IFERROR($E226*SUMIF('Daily Log'!$BP$18:$BP$1017,$B226,'Daily Log'!$BQ$18:$BQ$1017),0)","v":0},{"$f":"IFERROR($E226*SUMIF('Daily Log'!$BS$18:$BS$1017,$B226,'Daily Log'!$BT$18:$BT$1017),0)","v":0},{"$f":"IFERROR($E226*SUMIF('Daily Log'!$BV$18:$BV$1017,$B226,'Daily Log'!$BW$18:$BW$1017),0)","v":0},{"$f":"IFERROR($E226*SUMIF('Daily Log'!$BY$18:$BY$1017,$B226,'Daily Log'!$BZ$18:$BZ$1017),0)","v":0},{"$f":"IFERROR($E226*SUMIF('Daily Log'!$CB$18:$CB$1017,$B226,'Daily Log'!$CC$18:$CC$1017),0)","v":0},{"$f":"IFERROR($E226*SUMIF('Daily Log'!$CE$18:$CE$1017,$B226,'Daily Log'!$CF$18:$CF$1017),0)","v":0},{"$f":"IFERROR($E226*SUMIF('Daily Log'!$CH$18:$CH$1017,$B226,'Daily Log'!$CI$18:$CI$1017),0)","v":0},{"$f":"IFERROR($E226*SUMIF('Daily Log'!$CK$18:$CK$1017,$B226,'Daily Log'!$CL$18:$CL$1017),0)","v":0},{"$f":"IFERROR($E226*SUMIF('Daily Log'!$CN$18:$CN$1017,$B226,'Daily Log'!$CO$18:$CO$1017),0)","v":0}]
[null,"CH01 7 UP JUG",null,null,1,0,{"$f":"IFERROR($E227*SUMIF('Daily Log'!$B$18:$B$1017,$B227,'Daily Log'!$C$18:$C$1017),0)","v":0},{"$f":"IFERROR($E227*SUMIF('Daily Log'!$E$18:$E$1017,$B227,'Daily Log'!$F$18:$F$1017),0)","v":0},{"$f":"IFERROR($E227*SUMIF('Daily Log'!$H$18:$H$1017,$B227,'Daily Log'!$I$18:$I$1017),0)","v":0},{"$f":"IFERROR($E227*SUMIF('Daily Log'!$K$18:$K$1017,$B227,'Daily Log'!$L$18:$L$1017),0)","v":0},{"$f":"IFERROR($E227*SUMIF('Daily Log'!$N$18:$N$1017,$B227,'Daily Log'!$O$18:$O$1017),0)","v":0},{"$f":"IFERROR($E227*SUMIF('Daily Log'!$Q$18:$Q$1017,$B227,'Daily Log'!$R$18:$R$1017),0)","v":0},{"$f":"IFERROR($E227*SUMIF('Daily Log'!$T$18:$T$1017,$B227,'Daily Log'!$U$18:$U$1017),0)","v":0},{"$f":"IFERROR($E227*SUMIF('Daily Log'!$W$18:$W$1017,$B227,'Daily Log'!$X$18:$X$1017),0)","v":0},{"$f":"IFERROR($E227*SUMIF('Daily Log'!$Z$18:$Z$1017,$B227,'Daily Log'!$AA$18:$AA$1017),0)","v":0},{"$f":"IFERROR($E227*SUMIF('Daily Log'!$AC$18:$AC$1017,$B227,'Daily Log'!$AD$18:$AD$1017),0)","v":0},{"$f":"IFERROR($E227*SUMIF('Daily Log'!$AF$18:$AF$1017,$B227,'Daily Log'!$AG$18:$AG$1017),0)","v":0},{"$f":"IFERROR($E227*SUMIF('Daily Log'!$AI$18:$AI$1017,$B227,'Daily Log'!$AJ$18:$AJ$1017),0)","v":0},{"$f":"IFERROR($E227*SUMIF('Daily Log'!$AL$18:$AL$1017,$B227,'Daily Log'!$AM$18:$AM$1017),0)","v":0},{"$f":"IFERROR($E227*SUMIF('Daily Log'!$AO$18:$AO$1017,$B227,'Daily Log'!$AP$18:$AP$1017),0)","v":0},{"$f":"IFERROR($E227*SUMIF('Daily Log'!$AR$18:$AR$1017,$B227,'Daily Log'!$AS$18:$AS$1017),0)","v":0},{"$f":"IFERROR($E227*SUMIF('Daily Log'!$AU$18:$AU$1017,$B227,'Daily Log'!$AV$18:$AV$1017),0)","v":0},{"$f":"IFERROR($E227*SUMIF('Daily Log'!$AX$18:$AX$1017,$B227,'Daily Log'!$AY$18:$AY$1017),0)","v":0},{"$f":"IFERROR($E227*SUMIF('Daily Log'!$BA$18:$BA$1017,$B227,'Daily Log'!$BB$18:$BB$1017),0)","v":0},{"$f":"IFERROR($E227*SUMIF('Daily Log'!$BD$18:$BD$1017,$B227,'Daily Log'!$BE$18:$BE$1017),0)","v":0},{"$f":"IFERROR($E227*SUMIF('Daily Log'!$BG$18:$BG$1017,$B227,'Daily Log'!$BH$18:$BH$1017),0)","v":0},{"$f":"IFERROR($E227*SUMIF('Daily Log'!$BJ$18:$BJ$1017,$B227,'Daily Log'!$BK$18:$BK$1017),0)","v":0},{"$f":"IFERROR($E227*SUMIF('Daily Log'!$BM$18:$BM$1017,$B227,'Daily Log'!$BN$18:$BN$1017),0)","v":0},{"$f":"IFERROR($E227*SUMIF('Daily Log'!$BP$18:$BP$1017,$B227,'Daily Log'!$BQ$18:$BQ$1017),0)","v":0},{"$f":"IFERROR($E227*SUMIF('Daily Log'!$BS$18:$BS$1017,$B227,'Daily Log'!$BT$18:$BT$1017),0)","v":0},{"$f":"IFERROR($E227*SUMIF('Daily Log'!$BV$18:$BV$1017,$B227,'Daily Log'!$BW$18:$BW$1017),0)","v":0},{"$f":"IFERROR($E227*SUMIF('Daily Log'!$BY$18:$BY$1017,$B227,'Daily Log'!$BZ$18:$BZ$1017),0)","v":0},{"$f":"IFERROR($E227*SUMIF('Daily Log'!$CB$18:$CB$1017,$B227,'Daily Log'!$CC$18:$CC$1017),0)","v":0},{"$f":"IFERROR($E227*SUMIF('Daily Log'!$CE$18:$CE$1017,$B227,'Daily Log'!$CF$18:$CF$1017),0)","v":0},{"$f":"IFERROR($E227*SUMIF('Daily Log'!$CH$18:$CH$1017,$B227,'Daily Log'!$CI$18:$CI$1017),0)","v":0},{"$f":"IFERROR($E227*SUMIF('Daily Log'!$CK$18:$CK$1017,$B227,'Daily Log'!$CL$18:$CL$1017),0)","v":0},{"$f":"IFERROR($E227*SUMIF('Daily Log'!$CN$18:$CN$1017,$B227,'Daily Log'!$CO$18:$CO$1017),0)","v":0}]
[null,"CH02 GRN TEA JUG",null,"DRINKS (IN JUG)",1,0,{"$f":"IFERROR($E228*SUMIF('Daily Log'!$B$18:$B$1017,$B228,'Daily Log'!$C$18:$C$1017),0)","v":0},{"$f":"IFERROR($E228*SUMIF('Daily Log'!$E$18:$E$1017,$B228,'Daily Log'!$F$18:$F$1017),0)","v":0},{"$f":"IFERROR($E228*SUMIF('Daily Log'!$H$18:$H$1017,$B228,'Daily Log'!$I$18:$I$1017),0)","v":0},{"$f":"IFERROR($E228*SUMIF('Daily Log'!$K$18:$K$1017,$B228,'Daily Log'!$L$18:$L$1017),0)","v":0},{"$f":"IFERROR($E228*SUMIF('Daily Log'!$N$18:$N$1017,$B228,'Daily Log'!$O$18:$O$1017),0)","v":0},{"$f":"IFERROR($E228*SUMIF('Daily Log'!$Q$18:$Q$1017,$B228,'Daily Log'!$R$18:$R$1017),0)","v":0},{"$f":"IFERROR($E228*SUMIF('Daily Log'!$T$18:$T$1017,$B228,'Daily Log'!$U$18:$U$1017),0)","v":0},{"$f":"IFERROR($E228*SUMIF('Daily Log'!$W$18:$W$1017,$B228,'Daily Log'!$X$18:$X$1017),0)","v":0},{"$f":"IFERROR($E228*SUMIF('Daily Log'!$Z$18:$Z$1017,$B228,'Daily Log'!$AA$18:$AA$1017),0)","v":0},{"$f":"IFERROR($E228*SUMIF('Daily Log'!$AC$18:$AC$1017,$B228,'Daily Log'!$AD$18:$AD$1017),0)","v":0},{"$f":"IFERROR($E228*SUMIF('Daily Log'!$AF$18:$AF$1017,$B228,'Daily Log'!$AG$18:$AG$1017),0)","v":0},{"$f":"IFERROR($E228*SUMIF('Daily Log'!$AI$18:$AI$1017,$B228,'Daily Log'!$AJ$18:$AJ$1017),0)","v":0},{"$f":"IFERROR($E228*SUMIF('Daily Log'!$AL$18:$AL$1017,$B228,'Daily Log'!$AM$18:$AM$1017),0)","v":0},{"$f":"IFERROR($E228*SUMIF('Daily Log'!$AO$18:$AO$1017,$B228,'Daily Log'!$AP$18:$AP$1017),0)","v":0},{"$f":"IFERROR($E228*SUMIF('Daily Log'!$AR$18:$AR$1017,$B228,'Daily Log'!$AS$18:$AS$1017),0)","v":0},{"$f":"IFERROR($E228*SUMIF('Daily Log'!$AU$18:$AU$1017,$B228,'Daily Log'!$AV$18:$AV$1017),0)","v":0},{"$f":"IFERROR($E228*SUMIF('Daily Log'!$AX$18:$AX$1017,$B228,'Daily Log'!$AY$18:$AY$1017),0)","v":0},{"$f":"IFERROR($E228*SUMIF('Daily Log'!$BA$18:$BA$1017,$B228,'Daily Log'!$BB$18:$BB$1017),0)","v":0},{"$f":"IFERROR($E228*SUMIF('Daily Log'!$BD$18:$BD$1017,$B228,'Daily Log'!$BE$18:$BE$1017),0)","v":0},{"$f":"IFERROR($E228*SUMIF('Daily Log'!$BG$18:$BG$1017,$B228,'Daily Log'!$BH$18:$BH$1017),0)","v":0},{"$f":"IFERROR($E228*SUMIF('Daily Log'!$BJ$18:$BJ$1017,$B228,'Daily Log'!$BK$18:$BK$1017),0)","v":0},{"$f":"IFERROR($E228*SUMIF('Daily Log'!$BM$18:$BM$1017,$B228,'Daily Log'!$BN$18:$BN$1017),0)","v":0},{"$f":"IFERROR($E228*SUMIF('Daily Log'!$BP$18:$BP$1017,$B228,'Daily Log'!$BQ$18:$BQ$1017),0)","v":0},{"$f":"IFERROR($E228*SUMIF('Daily Log'!$BS$18:$BS$1017,$B228,'Daily Log'!$BT$18:$BT$1017),0)","v":0},{"$f":"IFERROR($E228*SUMIF('Daily Log'!$BV$18:$BV$1017,$B228,'Daily Log'!$BW$18:$BW$1017),0)","v":0},{"$f":"IFERROR($E228*SUMIF('Daily Log'!$BY$18:$BY$1017,$B228,'Daily Log'!$BZ$18:$BZ$1017),0)","v":0},{"$f":"IFERROR($E228*SUMIF('Daily Log'!$CB$18:$CB$1017,$B228,'Daily Log'!$CC$18:$CC$1017),0)","v":0},{"$f":"IFERROR($E228*SUMIF('Daily Log'!$CE$18:$CE$1017,$B228,'Daily Log'!$CF$18:$CF$1017),0)","v":0},{"$f":"IFERROR($E228*SUMIF('Daily Log'!$CH$18:$CH$1017,$B228,'Daily Log'!$CI$18:$CI$1017),0)","v":0},{"$f":"IFERROR($E228*SUMIF('Daily Log'!$CK$18:$CK$1017,$B228,'Daily Log'!$CL$18:$CL$1017),0)","v":0},{"$f":"IFERROR($E228*SUMIF('Daily Log'!$CN$18:$CN$1017,$B228,'Daily Log'!$CO$18:$CO$1017),0)","v":0}]
[null,"CH03 PEPSI JUG",null,"DRINKS (IN JUG)",1,0,{"$f":"IFERROR($E229*SUMIF('Daily Log'!$B$18:$B$1017,$B229,'Daily Log'!$C$18:$C$1017),0)","v":0},{"$f":"IFERROR($E229*SUMIF('Daily Log'!$E$18:$E$1017,$B229,'Daily Log'!$F$18:$F$1017),0)","v":0},{"$f":"IFERROR($E229*SUMIF('Daily Log'!$H$18:$H$1017,$B229,'Daily Log'!$I$18:$I$1017),0)","v":0},{"$f":"IFERROR($E229*SUMIF('Daily Log'!$K$18:$K$1017,$B229,'Daily Log'!$L$18:$L$1017),0)","v":0},{"$f":"IFERROR($E229*SUMIF('Daily Log'!$N$18:$N$1017,$B229,'Daily Log'!$O$18:$O$1017),0)","v":0},{"$f":"IFERROR($E229*SUMIF('Daily Log'!$Q$18:$Q$1017,$B229,'Daily Log'!$R$18:$R$1017),0)","v":0},{"$f":"IFERROR($E229*SUMIF('Daily Log'!$T$18:$T$1017,$B229,'Daily Log'!$U$18:$U$1017),0)","v":0},{"$f":"IFERROR($E229*SUMIF('Daily Log'!$W$18:$W$1017,$B229,'Daily Log'!$X$18:$X$1017),0)","v":0},{"$f":"IFERROR($E229*SUMIF('Daily Log'!$Z$18:$Z$1017,$B229,'Daily Log'!$AA$18:$AA$1017),0)","v":0},{"$f":"IFERROR($E229*SUMIF('Daily Log'!$AC$18:$AC$1017,$B229,'Daily Log'!$AD$18:$AD$1017),0)","v":0},{"$f":"IFERROR($E229*SUMIF('Daily Log'!$AF$18:$AF$1017,$B229,'Daily Log'!$AG$18:$AG$1017),0)","v":0},{"$f":"IFERROR($E229*SUMIF('Daily Log'!$AI$18:$AI$1017,$B229,'Daily Log'!$AJ$18:$AJ$1017),0)","v":0},{"$f":"IFERROR($E229*SUMIF('Daily Log'!$AL$18:$AL$1017,$B229,'Daily Log'!$AM$18:$AM$1017),0)","v":0},{"$f":"IFERROR($E229*SUMIF('Daily Log'!$AO$18:$AO$1017,$B229,'Daily Log'!$AP$18:$AP$1017),0)","v":0},{"$f":"IFERROR($E229*SUMIF('Daily Log'!$AR$18:$AR$1017,$B229,'Daily Log'!$AS$18:$AS$1017),0)","v":0},{"$f":"IFERROR($E229*SUMIF('Daily Log'!$AU$18:$AU$1017,$B229,'Daily Log'!$AV$18:$AV$1017),0)","v":0},{"$f":"IFERROR($E229*SUMIF('Daily Log'!$AX$18:$AX$1017,$B229,'Daily Log'!$AY$18:$AY$1017),0)","v":0},{"$f":"IFERROR($E229*SUMIF('Daily Log'!$BA$18:$BA$1017,$B229,'Daily Log'!$BB$18:$BB$1017),0)","v":0},{"$f":"IFERROR($E229*SUMIF('Daily Log'!$BD$18:$BD$1017,$B229,'Daily Log'!$BE$18:$BE$1017),0)","v":0},{"$f":"IFERROR($E229*SUMIF('Daily Log'!$BG$18:$BG$1017,$B229,'Daily Log'!$BH$18:$BH$1017),0)","v":0},{"$f":"IFERROR($E229*SUMIF('Daily Log'!$BJ$18:$BJ$1017,$B229,'Daily Log'!$BK$18:$BK$1017),0)","v":0},{"$f":"IFERROR($E229*SUMIF('Daily Log'!$BM$18:$BM$1017,$B229,'Daily Log'!$BN$18:$BN$1017),0)","v":0},{"$f":"IFERROR($E229*SUMIF('Daily Log'!$BP$18:$BP$1017,$B229,'Daily Log'!$BQ$18:$BQ$1017),0)","v":0},{"$f":"IFERROR($E229*SUMIF('Daily Log'!$BS$18:$BS$1017,$B229,'Daily Log'!$BT$18:$BT$1017),0)","v":0},{"$f":"IFERROR($E229*SUMIF('Daily Log'!$BV$18:$BV$1017,$B229,'Daily Log'!$BW$18:$BW$1017),0)","v":0},{"$f":"IFERROR($E229*SUMIF('Daily Log'!$BY$18:$BY$1017,$B229,'Daily Log'!$BZ$18:$BZ$1017),0)","v":0},{"$f":"IFERROR($E229*SUMIF('Daily Log'!$CB$18:$CB$1017,$B229,'Daily Log'!$CC$18:$CC$1017),0)","v":0},{"$f":"IFERROR($E229*SUMIF('Daily Log'!$CE$18:$CE$1017,$B229,'Daily Log'!$CF$18:$CF$1017),0)","v":0},{"$f":"IFERROR($E229*SUMIF('Daily Log'!$CH$18:$CH$1017,$B229,'Daily Log'!$CI$18:$CI$1017),0)","v":0},{"$f":"IFERROR($E229*SUMIF('Daily Log'!$CK$18:$CK$1017,$B229,'Daily Log'!$CL$18:$CL$1017),0)","v":0},{"$f":"IFERROR($E229*SUMIF('Daily Log'!$CN$18:$CN$1017,$B229,'Daily Log'!$CO$18:$CO$1017),0)","v":0}]
[null,"CH04 RIBENA JUG",null,"DRINKS (IN JUG)",1,0,{"$f":"IFERROR($E230*SUMIF('Daily Log'!$B$18:$B$1017,$B230,'Daily Log'!$C$18:$C$1017),0)","v":0},{"$f":"IFERROR($E230*SUMIF('Daily Log'!$E$18:$E$1017,$B230,'Daily Log'!$F$18:$F$1017),0)","v":0},{"$f":"IFERROR($E230*SUMIF('Daily Log'!$H$18:$H$1017,$B230,'Daily Log'!$I$18:$I$1017),0)","v":0},{"$f":"IFERROR($E230*SUMIF('Daily Log'!$K$18:$K$1017,$B230,'Daily Log'!$L$18:$L$1017),0)","v":0},{"$f":"IFERROR($E230*SUMIF('Daily Log'!$N$18:$N$1017,$B230,'Daily Log'!$O$18:$O$1017),0)","v":0},{"$f":"IFERROR($E230*SUMIF('Daily Log'!$Q$18:$Q$1017,$B230,'Daily Log'!$R$18:$R$1017),0)","v":0},{"$f":"IFERROR($E230*SUMIF('Daily Log'!$T$18:$T$1017,$B230,'Daily Log'!$U$18:$U$1017),0)","v":0},{"$f":"IFERROR($E230*SUMIF('Daily Log'!$W$18:$W$1017,$B230,'Daily Log'!$X$18:$X$1017),0)","v":0},{"$f":"IFERROR($E230*SUMIF('Daily Log'!$Z$18:$Z$1017,$B230,'Daily Log'!$AA$18:$AA$1017),0)","v":0},{"$f":"IFERROR($E230*SUMIF('Daily Log'!$AC$18:$AC$1017,$B230,'Daily Log'!$AD$18:$AD$1017),0)","v":0},{"$f":"IFERROR($E230*SUMIF('Daily Log'!$AF$18:$AF$1017,$B230,'Daily Log'!$AG$18:$AG$1017),0)","v":0},{"$f":"IFERROR($E230*SUMIF('Daily Log'!$AI$18:$AI$1017,$B230,'Daily Log'!$AJ$18:$AJ$1017),0)","v":0},{"$f":"IFERROR($E230*SUMIF('Daily Log'!$AL$18:$AL$1017,$B230,'Daily Log'!$AM$18:$AM$1017),0)","v":0},{"$f":"IFERROR($E230*SUMIF('Daily Log'!$AO$18:$AO$1017,$B230,'Daily Log'!$AP$18:$AP$1017),0)","v":0},{"$f":"IFERROR($E230*SUMIF('Daily Log'!$AR$18:$AR$1017,$B230,'Daily Log'!$AS$18:$AS$1017),0)","v":0},{"$f":"IFERROR($E230*SUMIF('Daily Log'!$AU$18:$AU$1017,$B230,'Daily Log'!$AV$18:$AV$1017),0)","v":0},{"$f":"IFERROR($E230*SUMIF('Daily Log'!$AX$18:$AX$1017,$B230,'Daily Log'!$AY$18:$AY$1017),0)","v":0},{"$f":"IFERROR($E230*SUMIF('Daily Log'!$BA$18:$BA$1017,$B230,'Daily Log'!$BB$18:$BB$1017),0)","v":0},{"$f":"IFERROR($E230*SUMIF('Daily Log'!$BD$18:$BD$1017,$B230,'Daily Log'!$BE$18:$BE$1017),0)","v":0},{"$f":"IFERROR($E230*SUMIF('Daily Log'!$BG$18:$BG$1017,$B230,'Daily Log'!$BH$18:$BH$1017),0)","v":0},{"$f":"IFERROR($E230*SUMIF('Daily Log'!$BJ$18:$BJ$1017,$B230,'Daily Log'!$BK$18:$BK$1017),0)","v":0},{"$f":"IFERROR($E230*SUMIF('Daily Log'!$BM$18:$BM$1017,$B230,'Daily Log'!$BN$18:$BN$1017),0)","v":0},{"$f":"IFERROR($E230*SUMIF('Daily Log'!$BP$18:$BP$1017,$B230,'Daily Log'!$BQ$18:$BQ$1017),0)","v":0},{"$f":"IFERROR($E230*SUMIF('Daily Log'!$BS$18:$BS$1017,$B230,'Daily Log'!$BT$18:$BT$1017),0)","v":0},{"$f":"IFERROR($E230*SUMIF('Daily Log'!$BV$18:$BV$1017,$B230,'Daily Log'!$BW$18:$BW$1017),0)","v":0},{"$f":"IFERROR($E230*SUMIF('Daily Log'!$BY$18:$BY$1017,$B230,'Daily Log'!$BZ$18:$BZ$1017),0)","v":0},{"$f":"IFERROR($E230*SUMIF('Daily Log'!$CB$18:$CB$1017,$B230,'Daily Log'!$CC$18:$CC$1017),0)","v":0},{"$f":"IFERROR($E230*SUMIF('Daily Log'!$CE$18:$CE$1017,$B230,'Daily Log'!$CF$18:$CF$1017),0)","v":0},{"$f":"IFERROR($E230*SUMIF('Daily Log'!$CH$18:$CH$1017,$B230,'Daily Log'!$CI$18:$CI$1017),0)","v":0},{"$f":"IFERROR($E230*SUMIF('Daily Log'!$CK$18:$CK$1017,$B230,'Daily Log'!$CL$18:$CL$1017),0)","v":0},{"$f":"IFERROR($E230*SUMIF('Daily Log'!$CN$18:$CN$1017,$B230,'Daily Log'!$CO$18:$CO$1017),0)","v":0}]
[null,"CH05 SODA JUG",null,"DRINKS (IN JUG)",1,0,{"$f":"IFERROR($E231*SUMIF('Daily Log'!$B$18:$B$1017,$B231,'Daily Log'!$C$18:$C$1017),0)","v":0},{"$f":"IFERROR($E231*SUMIF('Daily Log'!$E$18:$E$1017,$B231,'Daily Log'!$F$18:$F$1017),0)","v":0},{"$f":"IFERROR($E231*SUMIF('Daily Log'!$H$18:$H$1017,$B231,'Daily Log'!$I$18:$I$1017),0)","v":0},{"$f":"IFERROR($E231*SUMIF('Daily Log'!$K$18:$K$1017,$B231,'Daily Log'!$L$18:$L$1017),0)","v":0},{"$f":"IFERROR($E231*SUMIF('Daily Log'!$N$18:$N$1017,$B231,'Daily Log'!$O$18:$O$1017),0)","v":0},{"$f":"IFERROR($E231*SUMIF('Daily Log'!$Q$18:$Q$1017,$B231,'Daily Log'!$R$18:$R$1017),0)","v":0},{"$f":"IFERROR($E231*SUMIF('Daily Log'!$T$18:$T$1017,$B231,'Daily Log'!$U$18:$U$1017),0)","v":0},{"$f":"IFERROR($E231*SUMIF('Daily Log'!$W$18:$W$1017,$B231,'Daily Log'!$X$18:$X$1017),0)","v":0},{"$f":"IFERROR($E231*SUMIF('Daily Log'!$Z$18:$Z$1017,$B231,'Daily Log'!$AA$18:$AA$1017),0)","v":0},{"$f":"IFERROR($E231*SUMIF('Daily Log'!$AC$18:$AC$1017,$B231,'Daily Log'!$AD$18:$AD$1017),0)","v":0},{"$f":"IFERROR($E231*SUMIF('Daily Log'!$AF$18:$AF$1017,$B231,'Daily Log'!$AG$18:$AG$1017),0)","v":0},{"$f":"IFERROR($E231*SUMIF('Daily Log'!$AI$18:$AI$1017,$B231,'Daily Log'!$AJ$18:$AJ$1017),0)","v":0},{"$f":"IFERROR($E231*SUMIF('Daily Log'!$AL$18:$AL$1017,$B231,'Daily Log'!$AM$18:$AM$1017),0)","v":0},{"$f":"IFERROR($E231*SUMIF('Daily Log'!$AO$18:$AO$1017,$B231,'Daily Log'!$AP$18:$AP$1017),0)","v":0},{"$f":"IFERROR($E231*SUMIF('Daily Log'!$AR$18:$AR$1017,$B231,'Daily Log'!$AS$18:$AS$1017),0)","v":0},{"$f":"IFERROR($E231*SUMIF('Daily Log'!$AU$18:$AU$1017,$B231,'Daily Log'!$AV$18:$AV$1017),0)","v":0},{"$f":"IFERROR($E231*SUMIF('Daily Log'!$AX$18:$AX$1017,$B231,'Daily Log'!$AY$18:$AY$1017),0)","v":0},{"$f":"IFERROR($E231*SUMIF('Daily Log'!$BA$18:$BA$1017,$B231,'Daily Log'!$BB$18:$BB$1017),0)","v":0},{"$f":"IFERROR($E231*SUMIF('Daily Log'!$BD$18:$BD$1017,$B231,'Daily Log'!$BE$18:$BE$1017),0)","v":0},{"$f":"IFERROR($E231*SUMIF('Daily Log'!$BG$18:$BG$1017,$B231,'Daily Log'!$BH$18:$BH$1017),0)","v":0},{"$f":"IFERROR($E231*SUMIF('Daily Log'!$BJ$18:$BJ$1017,$B231,'Daily Log'!$BK$18:$BK$1017),0)","v":0},{"$f":"IFERROR($E231*SUMIF('Daily Log'!$BM$18:$BM$1017,$B231,'Daily Log'!$BN$18:$BN$1017),0)","v":0},{"$f":"IFERROR($E231*SUMIF('Daily Log'!$BP$18:$BP$1017,$B231,'Daily Log'!$BQ$18:$BQ$1017),0)","v":0},{"$f":"IFERROR($E231*SUMIF('Daily Log'!$BS$18:$BS$1017,$B231,'Daily Log'!$BT$18:$BT$1017),0)","v":0},{"$f":"IFERROR($E231*SUMIF('Daily Log'!$BV$18:$BV$1017,$B231,'Daily Log'!$BW$18:$BW$1017),0)","v":0},{"$f":"IFERROR($E231*SUMIF('Daily Log'!$BY$18:$BY$1017,$B231,'Daily Log'!$BZ$18:$BZ$1017),0)","v":0},{"$f":"IFERROR($E231*SUMIF('Daily Log'!$CB$18:$CB$1017,$B231,'Daily Log'!$CC$18:$CC$1017),0)","v":0},{"$f":"IFERROR($E231*SUMIF('Daily Log'!$CE$18:$CE$1017,$B231,'Daily Log'!$CF$18:$CF$1017),0)","v":0},{"$f":"IFERROR($E231*SUMIF('Daily Log'!$CH$18:$CH$1017,$B231,'Daily Log'!$CI$18:$CI$1017),0)","v":0},{"$f":"IFERROR($E231*SUMIF('Daily Log'!$CK$18:$CK$1017,$B231,'Daily Log'!$CL$18:$CL$1017),0)","v":0},{"$f":"IFERROR($E231*SUMIF('Daily Log'!$CN$18:$CN$1017,$B231,'Daily Log'!$CO$18:$CO$1017),0)","v":0}]
[null,"CH06 WATER JUG",null,"DRINKS (IN JUG)",1,4,{"$f":"IFERROR($E232*SUMIF('Daily Log'!$B$18:$B$1017,$B232,'Daily Log'!$C$18:$C$1017),0)","v":0},{"$f":"IFERROR($E232*SUMIF('Daily Log'!$E$18:$E$1017,$B232,'Daily Log'!$F$18:$F$1017),0)","v":0},{"$f":"IFERROR($E232*SUMIF('Daily Log'!$H$18:$H$1017,$B232,'Daily Log'!$I$18:$I$1017),0)","v":0},{"$f":"IFERROR($E232*SUMIF('Daily Log'!$K$18:$K$1017,$B232,'Daily Log'!$L$18:$L$1017),0)","v":0},{"$f":"IFERROR($E232*SUMIF('Daily Log'!$N$18:$N$1017,$B232,'Daily Log'!$O$18:$O$1017),0)","v":0},{"$f":"IFERROR($E232*SUMIF('Daily Log'!$Q$18:$Q$1017,$B232,'Daily Log'!$R$18:$R$1017),0)","v":0},{"$f":"IFERROR($E232*SUMIF('Daily Log'!$T$18:$T$1017,$B232,'Daily Log'!$U$18:$U$1017),0)","v":0},{"$f":"IFERROR($E232*SUMIF('Daily Log'!$W$18:$W$1017,$B232,'Daily Log'!$X$18:$X$1017),0)","v":0},{"$f":"IFERROR($E232*SUMIF('Daily Log'!$Z$18:$Z$1017,$B232,'Daily Log'!$AA$18:$AA$1017),0)","v":0},{"$f":"IFERROR($E232*SUMIF('Daily Log'!$AC$18:$AC$1017,$B232,'Daily Log'!$AD$18:$AD$1017),0)","v":0},{"$f":"IFERROR($E232*SUMIF('Daily Log'!$AF$18:$AF$1017,$B232,'Daily Log'!$AG$18:$AG$1017),0)","v":0},{"$f":"IFERROR($E232*SUMIF('Daily Log'!$AI$18:$AI$1017,$B232,'Daily Log'!$AJ$18:$AJ$1017),0)","v":0},{"$f":"IFERROR($E232*SUMIF('Daily Log'!$AL$18:$AL$1017,$B232,'Daily Log'!$AM$18:$AM$1017),0)","v":0},{"$f":"IFERROR($E232*SUMIF('Daily Log'!$AO$18:$AO$1017,$B232,'Daily Log'!$AP$18:$AP$1017),0)","v":0},{"$f":"IFERROR($E232*SUMIF('Daily Log'!$AR$18:$AR$1017,$B232,'Daily Log'!$AS$18:$AS$1017),0)","v":0},{"$f":"IFERROR($E232*SUMIF('Daily Log'!$AU$18:$AU$1017,$B232,'Daily Log'!$AV$18:$AV$1017),0)","v":0},{"$f":"IFERROR($E232*SUMIF('Daily Log'!$AX$18:$AX$1017,$B232,'Daily Log'!$AY$18:$AY$1017),0)","v":0},{"$f":"IFERROR($E232*SUMIF('Daily Log'!$BA$18:$BA$1017,$B232,'Daily Log'!$BB$18:$BB$1017),0)","v":0},{"$f":"IFERROR($E232*SUMIF('Daily Log'!$BD$18:$BD$1017,$B232,'Daily Log'!$BE$18:$BE$1017),0)","v":0},{"$f":"IFERROR($E232*SUMIF('Daily Log'!$BG$18:$BG$1017,$B232,'Daily Log'!$BH$18:$BH$1017),0)","v":0},{"$f":"IFERROR($E232*SUMIF('Daily Log'!$BJ$18:$BJ$1017,$B232,'Daily Log'!$BK$18:$BK$1017),0)","v":0},{"$f":"IFERROR($E232*SUMIF('Daily Log'!$BM$18:$BM$1017,$B232,'Daily Log'!$BN$18:$BN$1017),0)","v":0},{"$f":"IFERROR($E232*SUMIF('Daily Log'!$BP$18:$BP$1017,$B232,'Daily Log'!$BQ$18:$BQ$1017),0)","v":0},{"$f":"IFERROR($E232*SUMIF('Daily Log'!$BS$18:$BS$1017,$B232,'Daily Log'!$BT$18:$BT$1017),0)","v":0},{"$f":"IFERROR($E232*SUMIF('Daily Log'!$BV$18:$BV$1017,$B232,'Daily Log'!$BW$18:$BW$1017),0)","v":0},{"$f":"IFERROR($E232*SUMIF('Daily Log'!$BY$18:$BY$1017,$B232,'Daily Log'!$BZ$18:$BZ$1017),0)","v":0},{"$f":"IFERROR($E232*SUMIF('Daily Log'!$CB$18:$CB$1017,$B232,'Daily Log'!$CC$18:$CC$1017),0)","v":0},{"$f":"IFERROR($E232*SUMIF('Daily Log'!$CE$18:$CE$1017,$B232,'Daily Log'!$CF$18:$CF$1017),0)","v":0},{"$f":"IFERROR($E232*SUMIF('Daily Log'!$CH$18:$CH$1017,$B232,'Daily Log'!$CI$18:$CI$1017),0)","v":0},{"$f":"IFERROR($E232*SUMIF('Daily Log'!$CK$18:$CK$1017,$B232,'Daily Log'!$CL$18:$CL$1017),0)","v":4},{"$f":"IFERROR($E232*SUMIF('Daily Log'!$CN$18:$CN$1017,$B232,'Daily Log'!$CO$18:$CO$1017),0)","v":0}]
[null,"CI01 GRAPE J",null,"FFD-COLD BEVERAGE",1,407,{"$f":"IFERROR($E233*SUMIF('Daily Log'!$B$18:$B$1017,$B233,'Daily Log'!$C$18:$C$1017),0)","v":0},{"$f":"IFERROR($E233*SUMIF('Daily Log'!$E$18:$E$1017,$B233,'Daily Log'!$F$18:$F$1017),0)","v":0},{"$f":"IFERROR($E233*SUMIF('Daily Log'!$H$18:$H$1017,$B233,'Daily Log'!$I$18:$I$1017),0)","v":0},{"$f":"IFERROR($E233*SUMIF('Daily Log'!$K$18:$K$1017,$B233,'Daily Log'!$L$18:$L$1017),0)","v":0},{"$f":"IFERROR($E233*SUMIF('Daily Log'!$N$18:$N$1017,$B233,'Daily Log'!$O$18:$O$1017),0)","v":0},{"$f":"IFERROR($E233*SUMIF('Daily Log'!$Q$18:$Q$1017,$B233,'Daily Log'!$R$18:$R$1017),0)","v":0},{"$f":"IFERROR($E233*SUMIF('Daily Log'!$T$18:$T$1017,$B233,'Daily Log'!$U$18:$U$1017),0)","v":0},{"$f":"IFERROR($E233*SUMIF('Daily Log'!$W$18:$W$1017,$B233,'Daily Log'!$X$18:$X$1017),0)","v":0},{"$f":"IFERROR($E233*SUMIF('Daily Log'!$Z$18:$Z$1017,$B233,'Daily Log'!$AA$18:$AA$1017),0)","v":0},{"$f":"IFERROR($E233*SUMIF('Daily Log'!$AC$18:$AC$1017,$B233,'Daily Log'!$AD$18:$AD$1017),0)","v":0},{"$f":"IFERROR($E233*SUMIF('Daily Log'!$AF$18:$AF$1017,$B233,'Daily Log'!$AG$18:$AG$1017),0)","v":0},{"$f":"IFERROR($E233*SUMIF('Daily Log'!$AI$18:$AI$1017,$B233,'Daily Log'!$AJ$18:$AJ$1017),0)","v":0},{"$f":"IFERROR($E233*SUMIF('Daily Log'!$AL$18:$AL$1017,$B233,'Daily Log'!$AM$18:$AM$1017),0)","v":0},{"$f":"IFERROR($E233*SUMIF('Daily Log'!$AO$18:$AO$1017,$B233,'Daily Log'!$AP$18:$AP$1017),0)","v":0},{"$f":"IFERROR($E233*SUMIF('Daily Log'!$AR$18:$AR$1017,$B233,'Daily Log'!$AS$18:$AS$1017),0)","v":0},{"$f":"IFERROR($E233*SUMIF('Daily Log'!$AU$18:$AU$1017,$B233,'Daily Log'!$AV$18:$AV$1017),0)","v":0},{"$f":"IFERROR($E233*SUMIF('Daily Log'!$AX$18:$AX$1017,$B233,'Daily Log'!$AY$18:$AY$1017),0)","v":0},{"$f":"IFERROR($E233*SUMIF('Daily Log'!$BA$18:$BA$1017,$B233,'Daily Log'!$BB$18:$BB$1017),0)","v":0},{"$f":"IFERROR($E233*SUMIF('Daily Log'!$BD$18:$BD$1017,$B233,'Daily Log'!$BE$18:$BE$1017),0)","v":0},{"$f":"IFERROR($E233*SUMIF('Daily Log'!$BG$18:$BG$1017,$B233,'Daily Log'!$BH$18:$BH$1017),0)","v":0},{"$f":"IFERROR($E233*SUMIF('Daily Log'!$BJ$18:$BJ$1017,$B233,'Daily Log'!$BK$18:$BK$1017),0)","v":0},{"$f":"IFERROR($E233*SUMIF('Daily Log'!$BM$18:$BM$1017,$B233,'Daily Log'!$BN$18:$BN$1017),0)","v":0},{"$f":"IFERROR($E233*SUMIF('Daily Log'!$BP$18:$BP$1017,$B233,'Daily Log'!$BQ$18:$BQ$1017),0)","v":0},{"$f":"IFERROR($E233*SUMIF('Daily Log'!$BS$18:$BS$1017,$B233,'Daily Log'!$BT$18:$BT$1017),0)","v":0},{"$f":"IFERROR($E233*SUMIF('Daily Log'!$BV$18:$BV$1017,$B233,'Daily Log'!$BW$18:$BW$1017),0)","v":0},{"$f":"IFERROR($E233*SUMIF('Daily Log'!$BY$18:$BY$1017,$B233,'Daily Log'!$BZ$18:$BZ$1017),0)","v":0},{"$f":"IFERROR($E233*SUMIF('Daily Log'!$CB$18:$CB$1017,$B233,'Daily Log'!$CC$18:$CC$1017),0)","v":0},{"$f":"IFERROR($E233*SUMIF('Daily Log'!$CE$18:$CE$1017,$B233,'Daily Log'!$CF$18:$CF$1017),0)","v":0},{"$f":"IFERROR($E233*SUMIF('Daily Log'!$CH$18:$CH$1017,$B233,'Daily Log'!$CI$18:$CI$1017),0)","v":0},{"$f":"IFERROR($E233*SUMIF('Daily Log'!$CK$18:$CK$1017,$B233,'Daily Log'!$CL$18:$CL$1017),0)","v":407},{"$f":"IFERROR($E233*SUMIF('Daily Log'!$CN$18:$CN$1017,$B233,'Daily Log'!$CO$18:$CO$1017),0)","v":0}]
[null,"CI02 APPLE J",null,"FFD-COLD BEVERAGE",1,618,{"$f":"IFERROR($E234*SUMIF('Daily Log'!$B$18:$B$1017,$B234,'Daily Log'!$C$18:$C$1017),0)","v":0},{"$f":"IFERROR($E234*SUMIF('Daily Log'!$E$18:$E$1017,$B234,'Daily Log'!$F$18:$F$1017),0)","v":0},{"$f":"IFERROR($E234*SUMIF('Daily Log'!$H$18:$H$1017,$B234,'Daily Log'!$I$18:$I$1017),0)","v":0},{"$f":"IFERROR($E234*SUMIF('Daily Log'!$K$18:$K$1017,$B234,'Daily Log'!$L$18:$L$1017),0)","v":0},{"$f":"IFERROR($E234*SUMIF('Daily Log'!$N$18:$N$1017,$B234,'Daily Log'!$O$18:$O$1017),0)","v":0},{"$f":"IFERROR($E234*SUMIF('Daily Log'!$Q$18:$Q$1017,$B234,'Daily Log'!$R$18:$R$1017),0)","v":0},{"$f":"IFERROR($E234*SUMIF('Daily Log'!$T$18:$T$1017,$B234,'Daily Log'!$U$18:$U$1017),0)","v":0},{"$f":"IFERROR($E234*SUMIF('Daily Log'!$W$18:$W$1017,$B234,'Daily Log'!$X$18:$X$1017),0)","v":0},{"$f":"IFERROR($E234*SUMIF('Daily Log'!$Z$18:$Z$1017,$B234,'Daily Log'!$AA$18:$AA$1017),0)","v":0},{"$f":"IFERROR($E234*SUMIF('Daily Log'!$AC$18:$AC$1017,$B234,'Daily Log'!$AD$18:$AD$1017),0)","v":0},{"$f":"IFERROR($E234*SUMIF('Daily Log'!$AF$18:$AF$1017,$B234,'Daily Log'!$AG$18:$AG$1017),0)","v":0},{"$f":"IFERROR($E234*SUMIF('Daily Log'!$AI$18:$AI$1017,$B234,'Daily Log'!$AJ$18:$AJ$1017),0)","v":0},{"$f":"IFERROR($E234*SUMIF('Daily Log'!$AL$18:$AL$1017,$B234,'Daily Log'!$AM$18:$AM$1017),0)","v":0},{"$f":"IFERROR($E234*SUMIF('Daily Log'!$AO$18:$AO$1017,$B234,'Daily Log'!$AP$18:$AP$1017),0)","v":0},{"$f":"IFERROR($E234*SUMIF('Daily Log'!$AR$18:$AR$1017,$B234,'Daily Log'!$AS$18:$AS$1017),0)","v":0},{"$f":"IFERROR($E234*SUMIF('Daily Log'!$AU$18:$AU$1017,$B234,'Daily Log'!$AV$18:$AV$1017),0)","v":0},{"$f":"IFERROR($E234*SUMIF('Daily Log'!$AX$18:$AX$1017,$B234,'Daily Log'!$AY$18:$AY$1017),0)","v":0},{"$f":"IFERROR($E234*SUMIF('Daily Log'!$BA$18:$BA$1017,$B234,'Daily Log'!$BB$18:$BB$1017),0)","v":0},{"$f":"IFERROR($E234*SUMIF('Daily Log'!$BD$18:$BD$1017,$B234,'Daily Log'!$BE$18:$BE$1017),0)","v":0},{"$f":"IFERROR($E234*SUMIF('Daily Log'!$BG$18:$BG$1017,$B234,'Daily Log'!$BH$18:$BH$1017),0)","v":0},{"$f":"IFERROR($E234*SUMIF('Daily Log'!$BJ$18:$BJ$1017,$B234,'Daily Log'!$BK$18:$BK$1017),0)","v":0},{"$f":"IFERROR($E234*SUMIF('Daily Log'!$BM$18:$BM$1017,$B234,'Daily Log'!$BN$18:$BN$1017),0)","v":0},{"$f":"IFERROR($E234*SUMIF('Daily Log'!$BP$18:$BP$1017,$B234,'Daily Log'!$BQ$18:$BQ$1017),0)","v":0},{"$f":"IFERROR($E234*SUMIF('Daily Log'!$BS$18:$BS$1017,$B234,'Daily Log'!$BT$18:$BT$1017),0)","v":0},{"$f":"IFERROR($E234*SUMIF('Daily Log'!$BV$18:$BV$1017,$B234,'Daily Log'!$BW$18:$BW$1017),0)","v":0},{"$f":"IFERROR($E234*SUMIF('Daily Log'!$BY$18:$BY$1017,$B234,'Daily Log'!$BZ$18:$BZ$1017),0)","v":0},{"$f":"IFERROR($E234*SUMIF('Daily Log'!$CB$18:$CB$1017,$B234,'Daily Log'!$CC$18:$CC$1017),0)","v":0},{"$f":"IFERROR($E234*SUMIF('Daily Log'!$CE$18:$CE$1017,$B234,'Daily Log'!$CF$18:$CF$1017),0)","v":0},{"$f":"IFERROR($E234*SUMIF('Daily Log'!$CH$18:$CH$1017,$B234,'Daily Log'!$CI$18:$CI$1017),0)","v":0},{"$f":"IFERROR($E234*SUMIF('Daily Log'!$CK$18:$CK$1017,$B234,'Daily Log'!$CL$18:$CL$1017),0)","v":618},{"$f":"IFERROR($E234*SUMIF('Daily Log'!$CN$18:$CN$1017,$B234,'Daily Log'!$CO$18:$CO$1017),0)","v":0}]
[null,"CI03 KIWI J",null,"FFD-COLD BEVERAGE",1,0,{"$f":"IFERROR($E235*SUMIF('Daily Log'!$B$18:$B$1017,$B235,'Daily Log'!$C$18:$C$1017),0)","v":0},{"$f":"IFERROR($E235*SUMIF('Daily Log'!$E$18:$E$1017,$B235,'Daily Log'!$F$18:$F$1017),0)","v":0},{"$f":"IFERROR($E235*SUMIF('Daily Log'!$H$18:$H$1017,$B235,'Daily Log'!$I$18:$I$1017),0)","v":0},{"$f":"IFERROR($E235*SUMIF('Daily Log'!$K$18:$K$1017,$B235,'Daily Log'!$L$18:$L$1017),0)","v":0},{"$f":"IFERROR($E235*SUMIF('Daily Log'!$N$18:$N$1017,$B235,'Daily Log'!$O$18:$O$1017),0)","v":0},{"$f":"IFERROR($E235*SUMIF('Daily Log'!$Q$18:$Q$1017,$B235,'Daily Log'!$R$18:$R$1017),0)","v":0},{"$f":"IFERROR($E235*SUMIF('Daily Log'!$T$18:$T$1017,$B235,'Daily Log'!$U$18:$U$1017),0)","v":0},{"$f":"IFERROR($E235*SUMIF('Daily Log'!$W$18:$W$1017,$B235,'Daily Log'!$X$18:$X$1017),0)","v":0},{"$f":"IFERROR($E235*SUMIF('Daily Log'!$Z$18:$Z$1017,$B235,'Daily Log'!$AA$18:$AA$1017),0)","v":0},{"$f":"IFERROR($E235*SUMIF('Daily Log'!$AC$18:$AC$1017,$B235,'Daily Log'!$AD$18:$AD$1017),0)","v":0},{"$f":"IFERROR($E235*SUMIF('Daily Log'!$AF$18:$AF$1017,$B235,'Daily Log'!$AG$18:$AG$1017),0)","v":0},{"$f":"IFERROR($E235*SUMIF('Daily Log'!$AI$18:$AI$1017,$B235,'Daily Log'!$AJ$18:$AJ$1017),0)","v":0},{"$f":"IFERROR($E235*SUMIF('Daily Log'!$AL$18:$AL$1017,$B235,'Daily Log'!$AM$18:$AM$1017),0)","v":0},{"$f":"IFERROR($E235*SUMIF('Daily Log'!$AO$18:$AO$1017,$B235,'Daily Log'!$AP$18:$AP$1017),0)","v":0},{"$f":"IFERROR($E235*SUMIF('Daily Log'!$AR$18:$AR$1017,$B235,'Daily Log'!$AS$18:$AS$1017),0)","v":0},{"$f":"IFERROR($E235*SUMIF('Daily Log'!$AU$18:$AU$1017,$B235,'Daily Log'!$AV$18:$AV$1017),0)","v":0},{"$f":"IFERROR($E235*SUMIF('Daily Log'!$AX$18:$AX$1017,$B235,'Daily Log'!$AY$18:$AY$1017),0)","v":0},{"$f":"IFERROR($E235*SUMIF('Daily Log'!$BA$18:$BA$1017,$B235,'Daily Log'!$BB$18:$BB$1017),0)","v":0},{"$f":"IFERROR($E235*SUMIF('Daily Log'!$BD$18:$BD$1017,$B235,'Daily Log'!$BE$18:$BE$1017),0)","v":0},{"$f":"IFERROR($E235*SUMIF('Daily Log'!$BG$18:$BG$1017,$B235,'Daily Log'!$BH$18:$BH$1017),0)","v":0},{"$f":"IFERROR($E235*SUMIF('Daily Log'!$BJ$18:$BJ$1017,$B235,'Daily Log'!$BK$18:$BK$1017),0)","v":0},{"$f":"IFERROR($E235*SUMIF('Daily Log'!$BM$18:$BM$1017,$B235,'Daily Log'!$BN$18:$BN$1017),0)","v":0},{"$f":"IFERROR($E235*SUMIF('Daily Log'!$BP$18:$BP$1017,$B235,'Daily Log'!$BQ$18:$BQ$1017),0)","v":0},{"$f":"IFERROR($E235*SUMIF('Daily Log'!$BS$18:$BS$1017,$B235,'Daily Log'!$BT$18:$BT$1017),0)","v":0},{"$f":"IFERROR($E235*SUMIF('Daily Log'!$BV$18:$BV$1017,$B235,'Daily Log'!$BW$18:$BW$1017),0)","v":0},{"$f":"IFERROR($E235*SUMIF('Daily Log'!$BY$18:$BY$1017,$B235,'Daily Log'!$BZ$18:$BZ$1017),0)","v":0},{"$f":"IFERROR($E235*SUMIF('Daily Log'!$CB$18:$CB$1017,$B235,'Daily Log'!$CC$18:$CC$1017),0)","v":0},{"$f":"IFERROR($E235*SUMIF('Daily Log'!$CE$18:$CE$1017,$B235,'Daily Log'!$CF$18:$CF$1017),0)","v":0},{"$f":"IFERROR($E235*SUMIF('Daily Log'!$CH$18:$CH$1017,$B235,'Daily Log'!$CI$18:$CI$1017),0)","v":0},{"$f":"IFERROR($E235*SUMIF('Daily Log'!$CK$18:$CK$1017,$B235,'Daily Log'!$CL$18:$CL$1017),0)","v":0},{"$f":"IFERROR($E235*SUMIF('Daily Log'!$CN$18:$CN$1017,$B235,'Daily Log'!$CO$18:$CO$1017),0)","v":0}]
[null,"CI04 MANGO J",null,"FFD-COLD BEVERAGE",1,749,{"$f":"IFERROR($E236*SUMIF('Daily Log'!$B$18:$B$1017,$B236,'Daily Log'!$C$18:$C$1017),0)","v":0},{"$f":"IFERROR($E236*SUMIF('Daily Log'!$E$18:$E$1017,$B236,'Daily Log'!$F$18:$F$1017),0)","v":0},{"$f":"IFERROR($E236*SUMIF('Daily Log'!$H$18:$H$1017,$B236,'Daily Log'!$I$18:$I$1017),0)","v":0},{"$f":"IFERROR($E236*SUMIF('Daily Log'!$K$18:$K$1017,$B236,'Daily Log'!$L$18:$L$1017),0)","v":0},{"$f":"IFERROR($E236*SUMIF('Daily Log'!$N$18:$N$1017,$B236,'Daily Log'!$O$18:$O$1017),0)","v":0},{"$f":"IFERROR($E236*SUMIF('Daily Log'!$Q$18:$Q$1017,$B236,'Daily Log'!$R$18:$R$1017),0)","v":0},{"$f":"IFERROR($E236*SUMIF('Daily Log'!$T$18:$T$1017,$B236,'Daily Log'!$U$18:$U$1017),0)","v":0},{"$f":"IFERROR($E236*SUMIF('Daily Log'!$W$18:$W$1017,$B236,'Daily Log'!$X$18:$X$1017),0)","v":0},{"$f":"IFERROR($E236*SUMIF('Daily Log'!$Z$18:$Z$1017,$B236,'Daily Log'!$AA$18:$AA$1017),0)","v":0},{"$f":"IFERROR($E236*SUMIF('Daily Log'!$AC$18:$AC$1017,$B236,'Daily Log'!$AD$18:$AD$1017),0)","v":0},{"$f":"IFERROR($E236*SUMIF('Daily Log'!$AF$18:$AF$1017,$B236,'Daily Log'!$AG$18:$AG$1017),0)","v":0},{"$f":"IFERROR($E236*SUMIF('Daily Log'!$AI$18:$AI$1017,$B236,'Daily Log'!$AJ$18:$AJ$1017),0)","v":0},{"$f":"IFERROR($E236*SUMIF('Daily Log'!$AL$18:$AL$1017,$B236,'Daily Log'!$AM$18:$AM$1017),0)","v":0},{"$f":"IFERROR($E236*SUMIF('Daily Log'!$AO$18:$AO$1017,$B236,'Daily Log'!$AP$18:$AP$1017),0)","v":0},{"$f":"IFERROR($E236*SUMIF('Daily Log'!$AR$18:$AR$1017,$B236,'Daily Log'!$AS$18:$AS$1017),0)","v":0},{"$f":"IFERROR($E236*SUMIF('Daily Log'!$AU$18:$AU$1017,$B236,'Daily Log'!$AV$18:$AV$1017),0)","v":0},{"$f":"IFERROR($E236*SUMIF('Daily Log'!$AX$18:$AX$1017,$B236,'Daily Log'!$AY$18:$AY$1017),0)","v":0},{"$f":"IFERROR($E236*SUMIF('Daily Log'!$BA$18:$BA$1017,$B236,'Daily Log'!$BB$18:$BB$1017),0)","v":0},{"$f":"IFERROR($E236*SUMIF('Daily Log'!$BD$18:$BD$1017,$B236,'Daily Log'!$BE$18:$BE$1017),0)","v":0},{"$f":"IFERROR($E236*SUMIF('Daily Log'!$BG$18:$BG$1017,$B236,'Daily Log'!$BH$18:$BH$1017),0)","v":0},{"$f":"IFERROR($E236*SUMIF('Daily Log'!$BJ$18:$BJ$1017,$B236,'Daily Log'!$BK$18:$BK$1017),0)","v":0},{"$f":"IFERROR($E236*SUMIF('Daily Log'!$BM$18:$BM$1017,$B236,'Daily Log'!$BN$18:$BN$1017),0)","v":0},{"$f":"IFERROR($E236*SUMIF('Daily Log'!$BP$18:$BP$1017,$B236,'Daily Log'!$BQ$18:$BQ$1017),0)","v":0},{"$f":"IFERROR($E236*SUMIF('Daily Log'!$BS$18:$BS$1017,$B236,'Daily Log'!$BT$18:$BT$1017),0)","v":0},{"$f":"IFERROR($E236*SUMIF('Daily Log'!$BV$18:$BV$1017,$B236,'Daily Log'!$BW$18:$BW$1017),0)","v":0},{"$f":"IFERROR($E236*SUMIF('Daily Log'!$BY$18:$BY$1017,$B236,'Daily Log'!$BZ$18:$BZ$1017),0)","v":0},{"$f":"IFERROR($E236*SUMIF('Daily Log'!$CB$18:$CB$1017,$B236,'Daily Log'!$CC$18:$CC$1017),0)","v":0},{"$f":"IFERROR($E236*SUMIF('Daily Log'!$CE$18:$CE$1017,$B236,'Daily Log'!$CF$18:$CF$1017),0)","v":0},{"$f":"IFERROR($E236*SUMIF('Daily Log'!$CH$18:$CH$1017,$B236,'Daily Log'!$CI$18:$CI$1017),0)","v":0},{"$f":"IFERROR($E236*SUMIF('Daily Log'!$CK$18:$CK$1017,$B236,'Daily Log'!$CL$18:$CL$1017),0)","v":749},{"$f":"IFERROR($E236*SUMIF('Daily Log'!$CN$18:$CN$1017,$B236,'Daily Log'!$CO$18:$CO$1017),0)","v":0}]
[null,"CI05 PASSION J",null,"FFD-COLD BEVERAGE",1,1209,{"$f":"IFERROR($E237*SUMIF('Daily Log'!$B$18:$B$1017,$B237,'Daily Log'!$C$18:$C$1017),0)","v":0},{"$f":"IFERROR($E237*SUMIF('Daily Log'!$E$18:$E$1017,$B237,'Daily Log'!$F$18:$F$1017),0)","v":0},{"$f":"IFERROR($E237*SUMIF('Daily Log'!$H$18:$H$1017,$B237,'Daily Log'!$I$18:$I$1017),0)","v":0},{"$f":"IFERROR($E237*SUMIF('Daily Log'!$K$18:$K$1017,$B237,'Daily Log'!$L$18:$L$1017),0)","v":0},{"$f":"IFERROR($E237*SUMIF('Daily Log'!$N$18:$N$1017,$B237,'Daily Log'!$O$18:$O$1017),0)","v":0},{"$f":"IFERROR($E237*SUMIF('Daily Log'!$Q$18:$Q$1017,$B237,'Daily Log'!$R$18:$R$1017),0)","v":0},{"$f":"IFERROR($E237*SUMIF('Daily Log'!$T$18:$T$1017,$B237,'Daily Log'!$U$18:$U$1017),0)","v":0},{"$f":"IFERROR($E237*SUMIF('Daily Log'!$W$18:$W$1017,$B237,'Daily Log'!$X$18:$X$1017),0)","v":0},{"$f":"IFERROR($E237*SUMIF('Daily Log'!$Z$18:$Z$1017,$B237,'Daily Log'!$AA$18:$AA$1017),0)","v":0},{"$f":"IFERROR($E237*SUMIF('Daily Log'!$AC$18:$AC$1017,$B237,'Daily Log'!$AD$18:$AD$1017),0)","v":0},{"$f":"IFERROR($E237*SUMIF('Daily Log'!$AF$18:$AF$1017,$B237,'Daily Log'!$AG$18:$AG$1017),0)","v":0},{"$f":"IFERROR($E237*SUMIF('Daily Log'!$AI$18:$AI$1017,$B237,'Daily Log'!$AJ$18:$AJ$1017),0)","v":0},{"$f":"IFERROR($E237*SUMIF('Daily Log'!$AL$18:$AL$1017,$B237,'Daily Log'!$AM$18:$AM$1017),0)","v":0},{"$f":"IFERROR($E237*SUMIF('Daily Log'!$AO$18:$AO$1017,$B237,'Daily Log'!$AP$18:$AP$1017),0)","v":0},{"$f":"IFERROR($E237*SUMIF('Daily Log'!$AR$18:$AR$1017,$B237,'Daily Log'!$AS$18:$AS$1017),0)","v":0},{"$f":"IFERROR($E237*SUMIF('Daily Log'!$AU$18:$AU$1017,$B237,'Daily Log'!$AV$18:$AV$1017),0)","v":0},{"$f":"IFERROR($E237*SUMIF('Daily Log'!$AX$18:$AX$1017,$B237,'Daily Log'!$AY$18:$AY$1017),0)","v":0},{"$f":"IFERROR($E237*SUMIF('Daily Log'!$BA$18:$BA$1017,$B237,'Daily Log'!$BB$18:$BB$1017),0)","v":0},{"$f":"IFERROR($E237*SUMIF('Daily Log'!$BD$18:$BD$1017,$B237,'Daily Log'!$BE$18:$BE$1017),0)","v":0},{"$f":"IFERROR($E237*SUMIF('Daily Log'!$BG$18:$BG$1017,$B237,'Daily Log'!$BH$18:$BH$1017),0)","v":0},{"$f":"IFERROR($E237*SUMIF('Daily Log'!$BJ$18:$BJ$1017,$B237,'Daily Log'!$BK$18:$BK$1017),0)","v":0},{"$f":"IFERROR($E237*SUMIF('Daily Log'!$BM$18:$BM$1017,$B237,'Daily Log'!$BN$18:$BN$1017),0)","v":0},{"$f":"IFERROR($E237*SUMIF('Daily Log'!$BP$18:$BP$1017,$B237,'Daily Log'!$BQ$18:$BQ$1017),0)","v":0},{"$f":"IFERROR($E237*SUMIF('Daily Log'!$BS$18:$BS$1017,$B237,'Daily Log'!$BT$18:$BT$1017),0)","v":0},{"$f":"IFERROR($E237*SUMIF('Daily Log'!$BV$18:$BV$1017,$B237,'Daily Log'!$BW$18:$BW$1017),0)","v":0},{"$f":"IFERROR($E237*SUMIF('Daily Log'!$BY$18:$BY$1017,$B237,'Daily Log'!$BZ$18:$BZ$1017),0)","v":0},{"$f":"IFERROR($E237*SUMIF('Daily Log'!$CB$18:$CB$1017,$B237,'Daily Log'!$CC$18:$CC$1017),0)","v":0},{"$f":"IFERROR($E237*SUMIF('Daily Log'!$CE$18:$CE$1017,$B237,'Daily Log'!$CF$18:$CF$1017),0)","v":0},{"$f":"IFERROR($E237*SUMIF('Daily Log'!$CH$18:$CH$1017,$B237,'Daily Log'!$CI$18:$CI$1017),0)","v":0},{"$f":"IFERROR($E237*SUMIF('Daily Log'!$CK$18:$CK$1017,$B237,'Daily Log'!$CL$18:$CL$1017),0)","v":1209},{"$f":"IFERROR($E237*SUMIF('Daily Log'!$CN$18:$CN$1017,$B237,'Daily Log'!$CO$18:$CO$1017),0)","v":0}]
[null,"CI06 RIBENA J",null,"FFD-COLD BEVERAGE",1,1732,{"$f":"IFERROR($E238*SUMIF('Daily Log'!$B$18:$B$1017,$B238,'Daily Log'!$C$18:$C$1017),0)","v":0},{"$f":"IFERROR($E238*SUMIF('Daily Log'!$E$18:$E$1017,$B238,'Daily Log'!$F$18:$F$1017),0)","v":0},{"$f":"IFERROR($E238*SUMIF('Daily Log'!$H$18:$H$1017,$B238,'Daily Log'!$I$18:$I$1017),0)","v":0},{"$f":"IFERROR($E238*SUMIF('Daily Log'!$K$18:$K$1017,$B238,'Daily Log'!$L$18:$L$1017),0)","v":0},{"$f":"IFERROR($E238*SUMIF('Daily Log'!$N$18:$N$1017,$B238,'Daily Log'!$O$18:$O$1017),0)","v":0},{"$f":"IFERROR($E238*SUMIF('Daily Log'!$Q$18:$Q$1017,$B238,'Daily Log'!$R$18:$R$1017),0)","v":0},{"$f":"IFERROR($E238*SUMIF('Daily Log'!$T$18:$T$1017,$B238,'Daily Log'!$U$18:$U$1017),0)","v":0},{"$f":"IFERROR($E238*SUMIF('Daily Log'!$W$18:$W$1017,$B238,'Daily Log'!$X$18:$X$1017),0)","v":0},{"$f":"IFERROR($E238*SUMIF('Daily Log'!$Z$18:$Z$1017,$B238,'Daily Log'!$AA$18:$AA$1017),0)","v":0},{"$f":"IFERROR($E238*SUMIF('Daily Log'!$AC$18:$AC$1017,$B238,'Daily Log'!$AD$18:$AD$1017),0)","v":0},{"$f":"IFERROR($E238*SUMIF('Daily Log'!$AF$18:$AF$1017,$B238,'Daily Log'!$AG$18:$AG$1017),0)","v":0},{"$f":"IFERROR($E238*SUMIF('Daily Log'!$AI$18:$AI$1017,$B238,'Daily Log'!$AJ$18:$AJ$1017),0)","v":0},{"$f":"IFERROR($E238*SUMIF('Daily Log'!$AL$18:$AL$1017,$B238,'Daily Log'!$AM$18:$AM$1017),0)","v":0},{"$f":"IFERROR($E238*SUMIF('Daily Log'!$AO$18:$AO$1017,$B238,'Daily Log'!$AP$18:$AP$1017),0)","v":0},{"$f":"IFERROR($E238*SUMIF('Daily Log'!$AR$18:$AR$1017,$B238,'Daily Log'!$AS$18:$AS$1017),0)","v":0},{"$f":"IFERROR($E238*SUMIF('Daily Log'!$AU$18:$AU$1017,$B238,'Daily Log'!$AV$18:$AV$1017),0)","v":0},{"$f":"IFERROR($E238*SUMIF('Daily Log'!$AX$18:$AX$1017,$B238,'Daily Log'!$AY$18:$AY$1017),0)","v":0},{"$f":"IFERROR($E238*SUMIF('Daily Log'!$BA$18:$BA$1017,$B238,'Daily Log'!$BB$18:$BB$1017),0)","v":0},{"$f":"IFERROR($E238*SUMIF('Daily Log'!$BD$18:$BD$1017,$B238,'Daily Log'!$BE$18:$BE$1017),0)","v":0},{"$f":"IFERROR($E238*SUMIF('Daily Log'!$BG$18:$BG$1017,$B238,'Daily Log'!$BH$18:$BH$1017),0)","v":0},{"$f":"IFERROR($E238*SUMIF('Daily Log'!$BJ$18:$BJ$1017,$B238,'Daily Log'!$BK$18:$BK$1017),0)","v":0},{"$f":"IFERROR($E238*SUMIF('Daily Log'!$BM$18:$BM$1017,$B238,'Daily Log'!$BN$18:$BN$1017),0)","v":0},{"$f":"IFERROR($E238*SUMIF('Daily Log'!$BP$18:$BP$1017,$B238,'Daily Log'!$BQ$18:$BQ$1017),0)","v":0},{"$f":"IFERROR($E238*SUMIF('Daily Log'!$BS$18:$BS$1017,$B238,'Daily Log'!$BT$18:$BT$1017),0)","v":0},{"$f":"IFERROR($E238*SUMIF('Daily Log'!$BV$18:$BV$1017,$B238,'Daily Log'!$BW$18:$BW$1017),0)","v":0},{"$f":"IFERROR($E238*SUMIF('Daily Log'!$BY$18:$BY$1017,$B238,'Daily Log'!$BZ$18:$BZ$1017),0)","v":0},{"$f":"IFERROR($E238*SUMIF('Daily Log'!$CB$18:$CB$1017,$B238,'Daily Log'!$CC$18:$CC$1017),0)","v":0},{"$f":"IFERROR($E238*SUMIF('Daily Log'!$CE$18:$CE$1017,$B238,'Daily Log'!$CF$18:$CF$1017),0)","v":0},{"$f":"IFERROR($E238*SUMIF('Daily Log'!$CH$18:$CH$1017,$B238,'Daily Log'!$CI$18:$CI$1017),0)","v":0},{"$f":"IFERROR($E238*SUMIF('Daily Log'!$CK$18:$CK$1017,$B238,'Daily Log'!$CL$18:$CL$1017),0)","v":1732},{"$f":"IFERROR($E238*SUMIF('Daily Log'!$CN$18:$CN$1017,$B238,'Daily Log'!$CO$18:$CO$1017),0)","v":0}]
[null,"CJ01 GRAPE SO",null,"FFD-COLD BEVERAGE",1,41,{"$f":"IFERROR($E239*SUMIF('Daily Log'!$B$18:$B$1017,$B239,'Daily Log'!$C$18:$C$1017),0)","v":0},{"$f":"IFERROR($E239*SUMIF('Daily Log'!$E$18:$E$1017,$B239,'Daily Log'!$F$18:$F$1017),0)","v":0},{"$f":"IFERROR($E239*SUMIF('Daily Log'!$H$18:$H$1017,$B239,'Daily Log'!$I$18:$I$1017),0)","v":0},{"$f":"IFERROR($E239*SUMIF('Daily Log'!$K$18:$K$1017,$B239,'Daily Log'!$L$18:$L$1017),0)","v":0},{"$f":"IFERROR($E239*SUMIF('Daily Log'!$N$18:$N$1017,$B239,'Daily Log'!$O$18:$O$1017),0)","v":0},{"$f":"IFERROR($E239*SUMIF('Daily Log'!$Q$18:$Q$1017,$B239,'Daily Log'!$R$18:$R$1017),0)","v":0},{"$f":"IFERROR($E239*SUMIF('Daily Log'!$T$18:$T$1017,$B239,'Daily Log'!$U$18:$U$1017),0)","v":0},{"$f":"IFERROR($E239*SUMIF('Daily Log'!$W$18:$W$1017,$B239,'Daily Log'!$X$18:$X$1017),0)","v":0},{"$f":"IFERROR($E239*SUMIF('Daily Log'!$Z$18:$Z$1017,$B239,'Daily Log'!$AA$18:$AA$1017),0)","v":0},{"$f":"IFERROR($E239*SUMIF('Daily Log'!$AC$18:$AC$1017,$B239,'Daily Log'!$AD$18:$AD$1017),0)","v":0},{"$f":"IFERROR($E239*SUMIF('Daily Log'!$AF$18:$AF$1017,$B239,'Daily Log'!$AG$18:$AG$1017),0)","v":0},{"$f":"IFERROR($E239*SUMIF('Daily Log'!$AI$18:$AI$1017,$B239,'Daily Log'!$AJ$18:$AJ$1017),0)","v":0},{"$f":"IFERROR($E239*SUMIF('Daily Log'!$AL$18:$AL$1017,$B239,'Daily Log'!$AM$18:$AM$1017),0)","v":0},{"$f":"IFERROR($E239*SUMIF('Daily Log'!$AO$18:$AO$1017,$B239,'Daily Log'!$AP$18:$AP$1017),0)","v":0},{"$f":"IFERROR($E239*SUMIF('Daily Log'!$AR$18:$AR$1017,$B239,'Daily Log'!$AS$18:$AS$1017),0)","v":0},{"$f":"IFERROR($E239*SUMIF('Daily Log'!$AU$18:$AU$1017,$B239,'Daily Log'!$AV$18:$AV$1017),0)","v":0},{"$f":"IFERROR($E239*SUMIF('Daily Log'!$AX$18:$AX$1017,$B239,'Daily Log'!$AY$18:$AY$1017),0)","v":0},{"$f":"IFERROR($E239*SUMIF('Daily Log'!$BA$18:$BA$1017,$B239,'Daily Log'!$BB$18:$BB$1017),0)","v":0},{"$f":"IFERROR($E239*SUMIF('Daily Log'!$BD$18:$BD$1017,$B239,'Daily Log'!$BE$18:$BE$1017),0)","v":0},{"$f":"IFERROR($E239*SUMIF('Daily Log'!$BG$18:$BG$1017,$B239,'Daily Log'!$BH$18:$BH$1017),0)","v":0},{"$f":"IFERROR($E239*SUMIF('Daily Log'!$BJ$18:$BJ$1017,$B239,'Daily Log'!$BK$18:$BK$1017),0)","v":0},{"$f":"IFERROR($E239*SUMIF('Daily Log'!$BM$18:$BM$1017,$B239,'Daily Log'!$BN$18:$BN$1017),0)","v":0},{"$f":"IFERROR($E239*SUMIF('Daily Log'!$BP$18:$BP$1017,$B239,'Daily Log'!$BQ$18:$BQ$1017),0)","v":0},{"$f":"IFERROR($E239*SUMIF('Daily Log'!$BS$18:$BS$1017,$B239,'Daily Log'!$BT$18:$BT$1017),0)","v":0},{"$f":"IFERROR($E239*SUMIF('Daily Log'!$BV$18:$BV$1017,$B239,'Daily Log'!$BW$18:$BW$1017),0)","v":0},{"$f":"IFERROR($E239*SUMIF('Daily Log'!$BY$18:$BY$1017,$B239,'Daily Log'!$BZ$18:$BZ$1017),0)","v":0},{"$f":"IFERROR($E239*SUMIF('Daily Log'!$CB$18:$CB$1017,$B239,'Daily Log'!$CC$18:$CC$1017),0)","v":0},{"$f":"IFERROR($E239*SUMIF('Daily Log'!$CE$18:$CE$1017,$B239,'Daily Log'!$CF$18:$CF$1017),0)","v":0},{"$f":"IFERROR($E239*SUMIF('Daily Log'!$CH$18:$CH$1017,$B239,'Daily Log'!$CI$18:$CI$1017),0)","v":0},{"$f":"IFERROR($E239*SUMIF('Daily Log'!$CK$18:$CK$1017,$B239,'Daily Log'!$CL$18:$CL$1017),0)","v":41},{"$f":"IFERROR($E239*SUMIF('Daily Log'!$CN$18:$CN$1017,$B239,'Daily Log'!$CO$18:$CO$1017),0)","v":0}]
[null,"CJ02 APPLE SO",null,"FFD-COLD BEVERAGE",1,40,{"$f":"IFERROR($E240*SUMIF('Daily Log'!$B$18:$B$1017,$B240,'Daily Log'!$C$18:$C$1017),0)","v":0},{"$f":"IFERROR($E240*SUMIF('Daily Log'!$E$18:$E$1017,$B240,'Daily Log'!$F$18:$F$1017),0)","v":0},{"$f":"IFERROR($E240*SUMIF('Daily Log'!$H$18:$H$1017,$B240,'Daily Log'!$I$18:$I$1017),0)","v":0},{"$f":"IFERROR($E240*SUMIF('Daily Log'!$K$18:$K$1017,$B240,'Daily Log'!$L$18:$L$1017),0)","v":0},{"$f":"IFERROR($E240*SUMIF('Daily Log'!$N$18:$N$1017,$B240,'Daily Log'!$O$18:$O$1017),0)","v":0},{"$f":"IFERROR($E240*SUMIF('Daily Log'!$Q$18:$Q$1017,$B240,'Daily Log'!$R$18:$R$1017),0)","v":0},{"$f":"IFERROR($E240*SUMIF('Daily Log'!$T$18:$T$1017,$B240,'Daily Log'!$U$18:$U$1017),0)","v":0},{"$f":"IFERROR($E240*SUMIF('Daily Log'!$W$18:$W$1017,$B240,'Daily Log'!$X$18:$X$1017),0)","v":0},{"$f":"IFERROR($E240*SUMIF('Daily Log'!$Z$18:$Z$1017,$B240,'Daily Log'!$AA$18:$AA$1017),0)","v":0},{"$f":"IFERROR($E240*SUMIF('Daily Log'!$AC$18:$AC$1017,$B240,'Daily Log'!$AD$18:$AD$1017),0)","v":0},{"$f":"IFERROR($E240*SUMIF('Daily Log'!$AF$18:$AF$1017,$B240,'Daily Log'!$AG$18:$AG$1017),0)","v":0},{"$f":"IFERROR($E240*SUMIF('Daily Log'!$AI$18:$AI$1017,$B240,'Daily Log'!$AJ$18:$AJ$1017),0)","v":0},{"$f":"IFERROR($E240*SUMIF('Daily Log'!$AL$18:$AL$1017,$B240,'Daily Log'!$AM$18:$AM$1017),0)","v":0},{"$f":"IFERROR($E240*SUMIF('Daily Log'!$AO$18:$AO$1017,$B240,'Daily Log'!$AP$18:$AP$1017),0)","v":0},{"$f":"IFERROR($E240*SUMIF('Daily Log'!$AR$18:$AR$1017,$B240,'Daily Log'!$AS$18:$AS$1017),0)","v":0},{"$f":"IFERROR($E240*SUMIF('Daily Log'!$AU$18:$AU$1017,$B240,'Daily Log'!$AV$18:$AV$1017),0)","v":0},{"$f":"IFERROR($E240*SUMIF('Daily Log'!$AX$18:$AX$1017,$B240,'Daily Log'!$AY$18:$AY$1017),0)","v":0},{"$f":"IFERROR($E240*SUMIF('Daily Log'!$BA$18:$BA$1017,$B240,'Daily Log'!$BB$18:$BB$1017),0)","v":0},{"$f":"IFERROR($E240*SUMIF('Daily Log'!$BD$18:$BD$1017,$B240,'Daily Log'!$BE$18:$BE$1017),0)","v":0},{"$f":"IFERROR($E240*SUMIF('Daily Log'!$BG$18:$BG$1017,$B240,'Daily Log'!$BH$18:$BH$1017),0)","v":0},{"$f":"IFERROR($E240*SUMIF('Daily Log'!$BJ$18:$BJ$1017,$B240,'Daily Log'!$BK$18:$BK$1017),0)","v":0},{"$f":"IFERROR($E240*SUMIF('Daily Log'!$BM$18:$BM$1017,$B240,'Daily Log'!$BN$18:$BN$1017),0)","v":0},{"$f":"IFERROR($E240*SUMIF('Daily Log'!$BP$18:$BP$1017,$B240,'Daily Log'!$BQ$18:$BQ$1017),0)","v":0},{"$f":"IFERROR($E240*SUMIF('Daily Log'!$BS$18:$BS$1017,$B240,'Daily Log'!$BT$18:$BT$1017),0)","v":0},{"$f":"IFERROR($E240*SUMIF('Daily Log'!$BV$18:$BV$1017,$B240,'Daily Log'!$BW$18:$BW$1017),0)","v":0},{"$f":"IFERROR($E240*SUMIF('Daily Log'!$BY$18:$BY$1017,$B240,'Daily Log'!$BZ$18:$BZ$1017),0)","v":0},{"$f":"IFERROR($E240*SUMIF('Daily Log'!$CB$18:$CB$1017,$B240,'Daily Log'!$CC$18:$CC$1017),0)","v":0},{"$f":"IFERROR($E240*SUMIF('Daily Log'!$CE$18:$CE$1017,$B240,'Daily Log'!$CF$18:$CF$1017),0)","v":0},{"$f":"IFERROR($E240*SUMIF('Daily Log'!$CH$18:$CH$1017,$B240,'Daily Log'!$CI$18:$CI$1017),0)","v":0},{"$f":"IFERROR($E240*SUMIF('Daily Log'!$CK$18:$CK$1017,$B240,'Daily Log'!$CL$18:$CL$1017),0)","v":40},{"$f":"IFERROR($E240*SUMIF('Daily Log'!$CN$18:$CN$1017,$B240,'Daily Log'!$CO$18:$CO$1017),0)","v":0}]
[null,"CJ03 KIWI SO",null,"FFD-COLD BEVERAGE",1,0,{"$f":"IFERROR($E241*SUMIF('Daily Log'!$B$18:$B$1017,$B241,'Daily Log'!$C$18:$C$1017),0)","v":0},{"$f":"IFERROR($E241*SUMIF('Daily Log'!$E$18:$E$1017,$B241,'Daily Log'!$F$18:$F$1017),0)","v":0},{"$f":"IFERROR($E241*SUMIF('Daily Log'!$H$18:$H$1017,$B241,'Daily Log'!$I$18:$I$1017),0)","v":0},{"$f":"IFERROR($E241*SUMIF('Daily Log'!$K$18:$K$1017,$B241,'Daily Log'!$L$18:$L$1017),0)","v":0},{"$f":"IFERROR($E241*SUMIF('Daily Log'!$N$18:$N$1017,$B241,'Daily Log'!$O$18:$O$1017),0)","v":0},{"$f":"IFERROR($E241*SUMIF('Daily Log'!$Q$18:$Q$1017,$B241,'Daily Log'!$R$18:$R$1017),0)","v":0},{"$f":"IFERROR($E241*SUMIF('Daily Log'!$T$18:$T$1017,$B241,'Daily Log'!$U$18:$U$1017),0)","v":0},{"$f":"IFERROR($E241*SUMIF('Daily Log'!$W$18:$W$1017,$B241,'Daily Log'!$X$18:$X$1017),0)","v":0},{"$f":"IFERROR($E241*SUMIF('Daily Log'!$Z$18:$Z$1017,$B241,'Daily Log'!$AA$18:$AA$1017),0)","v":0},{"$f":"IFERROR($E241*SUMIF('Daily Log'!$AC$18:$AC$1017,$B241,'Daily Log'!$AD$18:$AD$1017),0)","v":0},{"$f":"IFERROR($E241*SUMIF('Daily Log'!$AF$18:$AF$1017,$B241,'Daily Log'!$AG$18:$AG$1017),0)","v":0},{"$f":"IFERROR($E241*SUMIF('Daily Log'!$AI$18:$AI$1017,$B241,'Daily Log'!$AJ$18:$AJ$1017),0)","v":0},{"$f":"IFERROR($E241*SUMIF('Daily Log'!$AL$18:$AL$1017,$B241,'Daily Log'!$AM$18:$AM$1017),0)","v":0},{"$f":"IFERROR($E241*SUMIF('Daily Log'!$AO$18:$AO$1017,$B241,'Daily Log'!$AP$18:$AP$1017),0)","v":0},{"$f":"IFERROR($E241*SUMIF('Daily Log'!$AR$18:$AR$1017,$B241,'Daily Log'!$AS$18:$AS$1017),0)","v":0},{"$f":"IFERROR($E241*SUMIF('Daily Log'!$AU$18:$AU$1017,$B241,'Daily Log'!$AV$18:$AV$1017),0)","v":0},{"$f":"IFERROR($E241*SUMIF('Daily Log'!$AX$18:$AX$1017,$B241,'Daily Log'!$AY$18:$AY$1017),0)","v":0},{"$f":"IFERROR($E241*SUMIF('Daily Log'!$BA$18:$BA$1017,$B241,'Daily Log'!$BB$18:$BB$1017),0)","v":0},{"$f":"IFERROR($E241*SUMIF('Daily Log'!$BD$18:$BD$1017,$B241,'Daily Log'!$BE$18:$BE$1017),0)","v":0},{"$f":"IFERROR($E241*SUMIF('Daily Log'!$BG$18:$BG$1017,$B241,'Daily Log'!$BH$18:$BH$1017),0)","v":0},{"$f":"IFERROR($E241*SUMIF('Daily Log'!$BJ$18:$BJ$1017,$B241,'Daily Log'!$BK$18:$BK$1017),0)","v":0},{"$f":"IFERROR($E241*SUMIF('Daily Log'!$BM$18:$BM$1017,$B241,'Daily Log'!$BN$18:$BN$1017),0)","v":0},{"$f":"IFERROR($E241*SUMIF('Daily Log'!$BP$18:$BP$1017,$B241,'Daily Log'!$BQ$18:$BQ$1017),0)","v":0},{"$f":"IFERROR($E241*SUMIF('Daily Log'!$BS$18:$BS$1017,$B241,'Daily Log'!$BT$18:$BT$1017),0)","v":0},{"$f":"IFERROR($E241*SUMIF('Daily Log'!$BV$18:$BV$1017,$B241,'Daily Log'!$BW$18:$BW$1017),0)","v":0},{"$f":"IFERROR($E241*SUMIF('Daily Log'!$BY$18:$BY$1017,$B241,'Daily Log'!$BZ$18:$BZ$1017),0)","v":0},{"$f":"IFERROR($E241*SUMIF('Daily Log'!$CB$18:$CB$1017,$B241,'Daily Log'!$CC$18:$CC$1017),0)","v":0},{"$f":"IFERROR($E241*SUMIF('Daily Log'!$CE$18:$CE$1017,$B241,'Daily Log'!$CF$18:$CF$1017),0)","v":0},{"$f":"IFERROR($E241*SUMIF('Daily Log'!$CH$18:$CH$1017,$B241,'Daily Log'!$CI$18:$CI$1017),0)","v":0},{"$f":"IFERROR($E241*SUMIF('Daily Log'!$CK$18:$CK$1017,$B241,'Daily Log'!$CL$18:$CL$1017),0)","v":0},{"$f":"IFERROR($E241*SUMIF('Daily Log'!$CN$18:$CN$1017,$B241,'Daily Log'!$CO$18:$CO$1017),0)","v":0}]
[null,"CJ04 MANGO SO",null,"FFD-COLD BEVERAGE",1,21,{"$f":"IFERROR($E242*SUMIF('Daily Log'!$B$18:$B$1017,$B242,'Daily Log'!$C$18:$C$1017),0)","v":0},{"$f":"IFERROR($E242*SUMIF('Daily Log'!$E$18:$E$1017,$B242,'Daily Log'!$F$18:$F$1017),0)","v":0},{"$f":"IFERROR($E242*SUMIF('Daily Log'!$H$18:$H$1017,$B242,'Daily Log'!$I$18:$I$1017),0)","v":0},{"$f":"IFERROR($E242*SUMIF('Daily Log'!$K$18:$K$1017,$B242,'Daily Log'!$L$18:$L$1017),0)","v":0},{"$f":"IFERROR($E242*SUMIF('Daily Log'!$N$18:$N$1017,$B242,'Daily Log'!$O$18:$O$1017),0)","v":0},{"$f":"IFERROR($E242*SUMIF('Daily Log'!$Q$18:$Q$1017,$B242,'Daily Log'!$R$18:$R$1017),0)","v":0},{"$f":"IFERROR($E242*SUMIF('Daily Log'!$T$18:$T$1017,$B242,'Daily Log'!$U$18:$U$1017),0)","v":0},{"$f":"IFERROR($E242*SUMIF('Daily Log'!$W$18:$W$1017,$B242,'Daily Log'!$X$18:$X$1017),0)","v":0},{"$f":"IFERROR($E242*SUMIF('Daily Log'!$Z$18:$Z$1017,$B242,'Daily Log'!$AA$18:$AA$1017),0)","v":0},{"$f":"IFERROR($E242*SUMIF('Daily Log'!$AC$18:$AC$1017,$B242,'Daily Log'!$AD$18:$AD$1017),0)","v":0},{"$f":"IFERROR($E242*SUMIF('Daily Log'!$AF$18:$AF$1017,$B242,'Daily Log'!$AG$18:$AG$1017),0)","v":0},{"$f":"IFERROR($E242*SUMIF('Daily Log'!$AI$18:$AI$1017,$B242,'Daily Log'!$AJ$18:$AJ$1017),0)","v":0},{"$f":"IFERROR($E242*SUMIF('Daily Log'!$AL$18:$AL$1017,$B242,'Daily Log'!$AM$18:$AM$1017),0)","v":0},{"$f":"IFERROR($E242*SUMIF('Daily Log'!$AO$18:$AO$1017,$B242,'Daily Log'!$AP$18:$AP$1017),0)","v":0},{"$f":"IFERROR($E242*SUMIF('Daily Log'!$AR$18:$AR$1017,$B242,'Daily Log'!$AS$18:$AS$1017),0)","v":0},{"$f":"IFERROR($E242*SUMIF('Daily Log'!$AU$18:$AU$1017,$B242,'Daily Log'!$AV$18:$AV$1017),0)","v":0},{"$f":"IFERROR($E242*SUMIF('Daily Log'!$AX$18:$AX$1017,$B242,'Daily Log'!$AY$18:$AY$1017),0)","v":0},{"$f":"IFERROR($E242*SUMIF('Daily Log'!$BA$18:$BA$1017,$B242,'Daily Log'!$BB$18:$BB$1017),0)","v":0},{"$f":"IFERROR($E242*SUMIF('Daily Log'!$BD$18:$BD$1017,$B242,'Daily Log'!$BE$18:$BE$1017),0)","v":0},{"$f":"IFERROR($E242*SUMIF('Daily Log'!$BG$18:$BG$1017,$B242,'Daily Log'!$BH$18:$BH$1017),0)","v":0},{"$f":"IFERROR($E242*SUMIF('Daily Log'!$BJ$18:$BJ$1017,$B242,'Daily Log'!$BK$18:$BK$1017),0)","v":0},{"$f":"IFERROR($E242*SUMIF('Daily Log'!$BM$18:$BM$1017,$B242,'Daily Log'!$BN$18:$BN$1017),0)","v":0},{"$f":"IFERROR($E242*SUMIF('Daily Log'!$BP$18:$BP$1017,$B242,'Daily Log'!$BQ$18:$BQ$1017),0)","v":0},{"$f":"IFERROR($E242*SUMIF('Daily Log'!$BS$18:$BS$1017,$B242,'Daily Log'!$BT$18:$BT$1017),0)","v":0},{"$f":"IFERROR($E242*SUMIF('Daily Log'!$BV$18:$BV$1017,$B242,'Daily Log'!$BW$18:$BW$1017),0)","v":0},{"$f":"IFERROR($E242*SUMIF('Daily Log'!$BY$18:$BY$1017,$B242,'Daily Log'!$BZ$18:$BZ$1017),0)","v":0},{"$f":"IFERROR($E242*SUMIF('Daily Log'!$CB$18:$CB$1017,$B242,'Daily Log'!$CC$18:$CC$1017),0)","v":0},{"$f":"IFERROR($E242*SUMIF('Daily Log'!$CE$18:$CE$1017,$B242,'Daily Log'!$CF$18:$CF$1017),0)","v":0},{"$f":"IFERROR($E242*SUMIF('Daily Log'!$CH$18:$CH$1017,$B242,'Daily Log'!$CI$18:$CI$1017),0)","v":0},{"$f":"IFERROR($E242*SUMIF('Daily Log'!$CK$18:$CK$1017,$B242,'Daily Log'!$CL$18:$CL$1017),0)","v":21},{"$f":"IFERROR($E242*SUMIF('Daily Log'!$CN$18:$CN$1017,$B242,'Daily Log'!$CO$18:$CO$1017),0)","v":0}]
[null,"CJ05 PASSION SO",null,"FFD-COLD BEVERAGE",1,31,{"$f":"IFERROR($E243*SUMIF('Daily Log'!$B$18:$B$1017,$B243,'Daily Log'!$C$18:$C$1017),0)","v":0},{"$f":"IFERROR($E243*SUMIF('Daily Log'!$E$18:$E$1017,$B243,'Daily Log'!$F$18:$F$1017),0)","v":0},{"$f":"IFERROR($E243*SUMIF('Daily Log'!$H$18:$H$1017,$B243,'Daily Log'!$I$18:$I$1017),0)","v":0},{"$f":"IFERROR($E243*SUMIF('Daily Log'!$K$18:$K$1017,$B243,'Daily Log'!$L$18:$L$1017),0)","v":0},{"$f":"IFERROR($E243*SUMIF('Daily Log'!$N$18:$N$1017,$B243,'Daily Log'!$O$18:$O$1017),0)","v":0},{"$f":"IFERROR($E243*SUMIF('Daily Log'!$Q$18:$Q$1017,$B243,'Daily Log'!$R$18:$R$1017),0)","v":0},{"$f":"IFERROR($E243*SUMIF('Daily Log'!$T$18:$T$1017,$B243,'Daily Log'!$U$18:$U$1017),0)","v":0},{"$f":"IFERROR($E243*SUMIF('Daily Log'!$W$18:$W$1017,$B243,'Daily Log'!$X$18:$X$1017),0)","v":0},{"$f":"IFERROR($E243*SUMIF('Daily Log'!$Z$18:$Z$1017,$B243,'Daily Log'!$AA$18:$AA$1017),0)","v":0},{"$f":"IFERROR($E243*SUMIF('Daily Log'!$AC$18:$AC$1017,$B243,'Daily Log'!$AD$18:$AD$1017),0)","v":0},{"$f":"IFERROR($E243*SUMIF('Daily Log'!$AF$18:$AF$1017,$B243,'Daily Log'!$AG$18:$AG$1017),0)","v":0},{"$f":"IFERROR($E243*SUMIF('Daily Log'!$AI$18:$AI$1017,$B243,'Daily Log'!$AJ$18:$AJ$1017),0)","v":0},{"$f":"IFERROR($E243*SUMIF('Daily Log'!$AL$18:$AL$1017,$B243,'Daily Log'!$AM$18:$AM$1017),0)","v":0},{"$f":"IFERROR($E243*SUMIF('Daily Log'!$AO$18:$AO$1017,$B243,'Daily Log'!$AP$18:$AP$1017),0)","v":0},{"$f":"IFERROR($E243*SUMIF('Daily Log'!$AR$18:$AR$1017,$B243,'Daily Log'!$AS$18:$AS$1017),0)","v":0},{"$f":"IFERROR($E243*SUMIF('Daily Log'!$AU$18:$AU$1017,$B243,'Daily Log'!$AV$18:$AV$1017),0)","v":0},{"$f":"IFERROR($E243*SUMIF('Daily Log'!$AX$18:$AX$1017,$B243,'Daily Log'!$AY$18:$AY$1017),0)","v":0},{"$f":"IFERROR($E243*SUMIF('Daily Log'!$BA$18:$BA$1017,$B243,'Daily Log'!$BB$18:$BB$1017),0)","v":0},{"$f":"IFERROR($E243*SUMIF('Daily Log'!$BD$18:$BD$1017,$B243,'Daily Log'!$BE$18:$BE$1017),0)","v":0},{"$f":"IFERROR($E243*SUMIF('Daily Log'!$BG$18:$BG$1017,$B243,'Daily Log'!$BH$18:$BH$1017),0)","v":0},{"$f":"IFERROR($E243*SUMIF('Daily Log'!$BJ$18:$BJ$1017,$B243,'Daily Log'!$BK$18:$BK$1017),0)","v":0},{"$f":"IFERROR($E243*SUMIF('Daily Log'!$BM$18:$BM$1017,$B243,'Daily Log'!$BN$18:$BN$1017),0)","v":0},{"$f":"IFERROR($E243*SUMIF('Daily Log'!$BP$18:$BP$1017,$B243,'Daily Log'!$BQ$18:$BQ$1017),0)","v":0},{"$f":"IFERROR($E243*SUMIF('Daily Log'!$BS$18:$BS$1017,$B243,'Daily Log'!$BT$18:$BT$1017),0)","v":0},{"$f":"IFERROR($E243*SUMIF('Daily Log'!$BV$18:$BV$1017,$B243,'Daily Log'!$BW$18:$BW$1017),0)","v":0},{"$f":"IFERROR($E243*SUMIF('Daily Log'!$BY$18:$BY$1017,$B243,'Daily Log'!$BZ$18:$BZ$1017),0)","v":0},{"$f":"IFERROR($E243*SUMIF('Daily Log'!$CB$18:$CB$1017,$B243,'Daily Log'!$CC$18:$CC$1017),0)","v":0},{"$f":"IFERROR($E243*SUMIF('Daily Log'!$CE$18:$CE$1017,$B243,'Daily Log'!$CF$18:$CF$1017),0)","v":0},{"$f":"IFERROR($E243*SUMIF('Daily Log'!$CH$18:$CH$1017,$B243,'Daily Log'!$CI$18:$CI$1017),0)","v":0},{"$f":"IFERROR($E243*SUMIF('Daily Log'!$CK$18:$CK$1017,$B243,'Daily Log'!$CL$18:$CL$1017),0)","v":31},{"$f":"IFERROR($E243*SUMIF('Daily Log'!$CN$18:$CN$1017,$B243,'Daily Log'!$CO$18:$CO$1017),0)","v":0}]
[null,"CJ06 RIBENA SO",null,"FFD-COLD BEVERAGE",1,107,{"$f":"IFERROR($E244*SUMIF('Daily Log'!$B$18:$B$1017,$B244,'Daily Log'!$C$18:$C$1017),0)","v":0},{"$f":"IFERROR($E244*SUMIF('Daily Log'!$E$18:$E$1017,$B244,'Daily Log'!$F$18:$F$1017),0)","v":0},{"$f":"IFERROR($E244*SUMIF('Daily Log'!$H$18:$H$1017,$B244,'Daily Log'!$I$18:$I$1017),0)","v":0},{"$f":"IFERROR($E244*SUMIF('Daily Log'!$K$18:$K$1017,$B244,'Daily Log'!$L$18:$L$1017),0)","v":0},{"$f":"IFERROR($E244*SUMIF('Daily Log'!$N$18:$N$1017,$B244,'Daily Log'!$O$18:$O$1017),0)","v":0},{"$f":"IFERROR($E244*SUMIF('Daily Log'!$Q$18:$Q$1017,$B244,'Daily Log'!$R$18:$R$1017),0)","v":0},{"$f":"IFERROR($E244*SUMIF('Daily Log'!$T$18:$T$1017,$B244,'Daily Log'!$U$18:$U$1017),0)","v":0},{"$f":"IFERROR($E244*SUMIF('Daily Log'!$W$18:$W$1017,$B244,'Daily Log'!$X$18:$X$1017),0)","v":0},{"$f":"IFERROR($E244*SUMIF('Daily Log'!$Z$18:$Z$1017,$B244,'Daily Log'!$AA$18:$AA$1017),0)","v":0},{"$f":"IFERROR($E244*SUMIF('Daily Log'!$AC$18:$AC$1017,$B244,'Daily Log'!$AD$18:$AD$1017),0)","v":0},{"$f":"IFERROR($E244*SUMIF('Daily Log'!$AF$18:$AF$1017,$B244,'Daily Log'!$AG$18:$AG$1017),0)","v":0},{"$f":"IFERROR($E244*SUMIF('Daily Log'!$AI$18:$AI$1017,$B244,'Daily Log'!$AJ$18:$AJ$1017),0)","v":0},{"$f":"IFERROR($E244*SUMIF('Daily Log'!$AL$18:$AL$1017,$B244,'Daily Log'!$AM$18:$AM$1017),0)","v":0},{"$f":"IFERROR($E244*SUMIF('Daily Log'!$AO$18:$AO$1017,$B244,'Daily Log'!$AP$18:$AP$1017),0)","v":0},{"$f":"IFERROR($E244*SUMIF('Daily Log'!$AR$18:$AR$1017,$B244,'Daily Log'!$AS$18:$AS$1017),0)","v":0},{"$f":"IFERROR($E244*SUMIF('Daily Log'!$AU$18:$AU$1017,$B244,'Daily Log'!$AV$18:$AV$1017),0)","v":0},{"$f":"IFERROR($E244*SUMIF('Daily Log'!$AX$18:$AX$1017,$B244,'Daily Log'!$AY$18:$AY$1017),0)","v":0},{"$f":"IFERROR($E244*SUMIF('Daily Log'!$BA$18:$BA$1017,$B244,'Daily Log'!$BB$18:$BB$1017),0)","v":0},{"$f":"IFERROR($E244*SUMIF('Daily Log'!$BD$18:$BD$1017,$B244,'Daily Log'!$BE$18:$BE$1017),0)","v":0},{"$f":"IFERROR($E244*SUMIF('Daily Log'!$BG$18:$BG$1017,$B244,'Daily Log'!$BH$18:$BH$1017),0)","v":0},{"$f":"IFERROR($E244*SUMIF('Daily Log'!$BJ$18:$BJ$1017,$B244,'Daily Log'!$BK$18:$BK$1017),0)","v":0},{"$f":"IFERROR($E244*SUMIF('Daily Log'!$BM$18:$BM$1017,$B244,'Daily Log'!$BN$18:$BN$1017),0)","v":0},{"$f":"IFERROR($E244*SUMIF('Daily Log'!$BP$18:$BP$1017,$B244,'Daily Log'!$BQ$18:$BQ$1017),0)","v":0},{"$f":"IFERROR($E244*SUMIF('Daily Log'!$BS$18:$BS$1017,$B244,'Daily Log'!$BT$18:$BT$1017),0)","v":0},{"$f":"IFERROR($E244*SUMIF('Daily Log'!$BV$18:$BV$1017,$B244,'Daily Log'!$BW$18:$BW$1017),0)","v":0},{"$f":"IFERROR($E244*SUMIF('Daily Log'!$BY$18:$BY$1017,$B244,'Daily Log'!$BZ$18:$BZ$1017),0)","v":0},{"$f":"IFERROR($E244*SUMIF('Daily Log'!$CB$18:$CB$1017,$B244,'Daily Log'!$CC$18:$CC$1017),0)","v":0},{"$f":"IFERROR($E244*SUMIF('Daily Log'!$CE$18:$CE$1017,$B244,'Daily Log'!$CF$18:$CF$1017),0)","v":0},{"$f":"IFERROR($E244*SUMIF('Daily Log'!$CH$18:$CH$1017,$B244,'Daily Log'!$CI$18:$CI$1017),0)","v":0},{"$f":"IFERROR($E244*SUMIF('Daily Log'!$CK$18:$CK$1017,$B244,'Daily Log'!$CL$18:$CL$1017),0)","v":107},{"$f":"IFERROR($E244*SUMIF('Daily Log'!$CN$18:$CN$1017,$B244,'Daily Log'!$CO$18:$CO$1017),0)","v":0}]
[null,"CL01 7 UP",null,"FFD-SOFT DRINK",1,459,{"$f":"IFERROR($E245*SUMIF('Daily Log'!$B$18:$B$1017,$B245,'Daily Log'!$C$18:$C$1017),0)","v":0},{"$f":"IFERROR($E245*SUMIF('Daily Log'!$E$18:$E$1017,$B245,'Daily Log'!$F$18:$F$1017),0)","v":0},{"$f":"IFERROR($E245*SUMIF('Daily Log'!$H$18:$H$1017,$B245,'Daily Log'!$I$18:$I$1017),0)","v":0},{"$f":"IFERROR($E245*SUMIF('Daily Log'!$K$18:$K$1017,$B245,'Daily Log'!$L$18:$L$1017),0)","v":0},{"$f":"IFERROR($E245*SUMIF('Daily Log'!$N$18:$N$1017,$B245,'Daily Log'!$O$18:$O$1017),0)","v":0},{"$f":"IFERROR($E245*SUMIF('Daily Log'!$Q$18:$Q$1017,$B245,'Daily Log'!$R$18:$R$1017),0)","v":0},{"$f":"IFERROR($E245*SUMIF('Daily Log'!$T$18:$T$1017,$B245,'Daily Log'!$U$18:$U$1017),0)","v":0},{"$f":"IFERROR($E245*SUMIF('Daily Log'!$W$18:$W$1017,$B245,'Daily Log'!$X$18:$X$1017),0)","v":0},{"$f":"IFERROR($E245*SUMIF('Daily Log'!$Z$18:$Z$1017,$B245,'Daily Log'!$AA$18:$AA$1017),0)","v":0},{"$f":"IFERROR($E245*SUMIF('Daily Log'!$AC$18:$AC$1017,$B245,'Daily Log'!$AD$18:$AD$1017),0)","v":0},{"$f":"IFERROR($E245*SUMIF('Daily Log'!$AF$18:$AF$1017,$B245,'Daily Log'!$AG$18:$AG$1017),0)","v":0},{"$f":"IFERROR($E245*SUMIF('Daily Log'!$AI$18:$AI$1017,$B245,'Daily Log'!$AJ$18:$AJ$1017),0)","v":0},{"$f":"IFERROR($E245*SUMIF('Daily Log'!$AL$18:$AL$1017,$B245,'Daily Log'!$AM$18:$AM$1017),0)","v":0},{"$f":"IFERROR($E245*SUMIF('Daily Log'!$AO$18:$AO$1017,$B245,'Daily Log'!$AP$18:$AP$1017),0)","v":0},{"$f":"IFERROR($E245*SUMIF('Daily Log'!$AR$18:$AR$1017,$B245,'Daily Log'!$AS$18:$AS$1017),0)","v":0},{"$f":"IFERROR($E245*SUMIF('Daily Log'!$AU$18:$AU$1017,$B245,'Daily Log'!$AV$18:$AV$1017),0)","v":0},{"$f":"IFERROR($E245*SUMIF('Daily Log'!$AX$18:$AX$1017,$B245,'Daily Log'!$AY$18:$AY$1017),0)","v":0},{"$f":"IFERROR($E245*SUMIF('Daily Log'!$BA$18:$BA$1017,$B245,'Daily Log'!$BB$18:$BB$1017),0)","v":0},{"$f":"IFERROR($E245*SUMIF('Daily Log'!$BD$18:$BD$1017,$B245,'Daily Log'!$BE$18:$BE$1017),0)","v":0},{"$f":"IFERROR($E245*SUMIF('Daily Log'!$BG$18:$BG$1017,$B245,'Daily Log'!$BH$18:$BH$1017),0)","v":0},{"$f":"IFERROR($E245*SUMIF('Daily Log'!$BJ$18:$BJ$1017,$B245,'Daily Log'!$BK$18:$BK$1017),0)","v":0},{"$f":"IFERROR($E245*SUMIF('Daily Log'!$BM$18:$BM$1017,$B245,'Daily Log'!$BN$18:$BN$1017),0)","v":0},{"$f":"IFERROR($E245*SUMIF('Daily Log'!$BP$18:$BP$1017,$B245,'Daily Log'!$BQ$18:$BQ$1017),0)","v":0},{"$f":"IFERROR($E245*SUMIF('Daily Log'!$BS$18:$BS$1017,$B245,'Daily Log'!$BT$18:$BT$1017),0)","v":0},{"$f":"IFERROR($E245*SUMIF('Daily Log'!$BV$18:$BV$1017,$B245,'Daily Log'!$BW$18:$BW$1017),0)","v":0},{"$f":"IFERROR($E245*SUMIF('Daily Log'!$BY$18:$BY$1017,$B245,'Daily Log'!$BZ$18:$BZ$1017),0)","v":0},{"$f":"IFERROR($E245*SUMIF('Daily Log'!$CB$18:$CB$1017,$B245,'Daily Log'!$CC$18:$CC$1017),0)","v":0},{"$f":"IFERROR($E245*SUMIF('Daily Log'!$CE$18:$CE$1017,$B245,'Daily Log'!$CF$18:$CF$1017),0)","v":0},{"$f":"IFERROR($E245*SUMIF('Daily Log'!$CH$18:$CH$1017,$B245,'Daily Log'!$CI$18:$CI$1017),0)","v":0},{"$f":"IFERROR($E245*SUMIF('Daily Log'!$CK$18:$CK$1017,$B245,'Daily Log'!$CL$18:$CL$1017),0)","v":459},{"$f":"IFERROR($E245*SUMIF('Daily Log'!$CN$18:$CN$1017,$B245,'Daily Log'!$CO$18:$CO$1017),0)","v":0}]
[null,"CL02 7 UP REVIVE",null,"FFD-SOFT DRINK",1,92,{"$f":"IFERROR($E246*SUMIF('Daily Log'!$B$18:$B$1017,$B246,'Daily Log'!$C$18:$C$1017),0)","v":0},{"$f":"IFERROR($E246*SUMIF('Daily Log'!$E$18:$E$1017,$B246,'Daily Log'!$F$18:$F$1017),0)","v":0},{"$f":"IFERROR($E246*SUMIF('Daily Log'!$H$18:$H$1017,$B246,'Daily Log'!$I$18:$I$1017),0)","v":0},{"$f":"IFERROR($E246*SUMIF('Daily Log'!$K$18:$K$1017,$B246,'Daily Log'!$L$18:$L$1017),0)","v":0},{"$f":"IFERROR($E246*SUMIF('Daily Log'!$N$18:$N$1017,$B246,'Daily Log'!$O$18:$O$1017),0)","v":0},{"$f":"IFERROR($E246*SUMIF('Daily Log'!$Q$18:$Q$1017,$B246,'Daily Log'!$R$18:$R$1017),0)","v":0},{"$f":"IFERROR($E246*SUMIF('Daily Log'!$T$18:$T$1017,$B246,'Daily Log'!$U$18:$U$1017),0)","v":0},{"$f":"IFERROR($E246*SUMIF('Daily Log'!$W$18:$W$1017,$B246,'Daily Log'!$X$18:$X$1017),0)","v":0},{"$f":"IFERROR($E246*SUMIF('Daily Log'!$Z$18:$Z$1017,$B246,'Daily Log'!$AA$18:$AA$1017),0)","v":0},{"$f":"IFERROR($E246*SUMIF('Daily Log'!$AC$18:$AC$1017,$B246,'Daily Log'!$AD$18:$AD$1017),0)","v":0},{"$f":"IFERROR($E246*SUMIF('Daily Log'!$AF$18:$AF$1017,$B246,'Daily Log'!$AG$18:$AG$1017),0)","v":0},{"$f":"IFERROR($E246*SUMIF('Daily Log'!$AI$18:$AI$1017,$B246,'Daily Log'!$AJ$18:$AJ$1017),0)","v":0},{"$f":"IFERROR($E246*SUMIF('Daily Log'!$AL$18:$AL$1017,$B246,'Daily Log'!$AM$18:$AM$1017),0)","v":0},{"$f":"IFERROR($E246*SUMIF('Daily Log'!$AO$18:$AO$1017,$B246,'Daily Log'!$AP$18:$AP$1017),0)","v":0},{"$f":"IFERROR($E246*SUMIF('Daily Log'!$AR$18:$AR$1017,$B246,'Daily Log'!$AS$18:$AS$1017),0)","v":0},{"$f":"IFERROR($E246*SUMIF('Daily Log'!$AU$18:$AU$1017,$B246,'Daily Log'!$AV$18:$AV$1017),0)","v":0},{"$f":"IFERROR($E246*SUMIF('Daily Log'!$AX$18:$AX$1017,$B246,'Daily Log'!$AY$18:$AY$1017),0)","v":0},{"$f":"IFERROR($E246*SUMIF('Daily Log'!$BA$18:$BA$1017,$B246,'Daily Log'!$BB$18:$BB$1017),0)","v":0},{"$f":"IFERROR($E246*SUMIF('Daily Log'!$BD$18:$BD$1017,$B246,'Daily Log'!$BE$18:$BE$1017),0)","v":0},{"$f":"IFERROR($E246*SUMIF('Daily Log'!$BG$18:$BG$1017,$B246,'Daily Log'!$BH$18:$BH$1017),0)","v":0},{"$f":"IFERROR($E246*SUMIF('Daily Log'!$BJ$18:$BJ$1017,$B246,'Daily Log'!$BK$18:$BK$1017),0)","v":0},{"$f":"IFERROR($E246*SUMIF('Daily Log'!$BM$18:$BM$1017,$B246,'Daily Log'!$BN$18:$BN$1017),0)","v":0},{"$f":"IFERROR($E246*SUMIF('Daily Log'!$BP$18:$BP$1017,$B246,'Daily Log'!$BQ$18:$BQ$1017),0)","v":0},{"$f":"IFERROR($E246*SUMIF('Daily Log'!$BS$18:$BS$1017,$B246,'Daily Log'!$BT$18:$BT$1017),0)","v":0},{"$f":"IFERROR($E246*SUMIF('Daily Log'!$BV$18:$BV$1017,$B246,'Daily Log'!$BW$18:$BW$1017),0)","v":0},{"$f":"IFERROR($E246*SUMIF('Daily Log'!$BY$18:$BY$1017,$B246,'Daily Log'!$BZ$18:$BZ$1017),0)","v":0},{"$f":"IFERROR($E246*SUMIF('Daily Log'!$CB$18:$CB$1017,$B246,'Daily Log'!$CC$18:$CC$1017),0)","v":0},{"$f":"IFERROR($E246*SUMIF('Daily Log'!$CE$18:$CE$1017,$B246,'Daily Log'!$CF$18:$CF$1017),0)","v":0},{"$f":"IFERROR($E246*SUMIF('Daily Log'!$CH$18:$CH$1017,$B246,'Daily Log'!$CI$18:$CI$1017),0)","v":0},{"$f":"IFERROR($E246*SUMIF('Daily Log'!$CK$18:$CK$1017,$B246,'Daily Log'!$CL$18:$CL$1017),0)","v":92},{"$f":"IFERROR($E246*SUMIF('Daily Log'!$CN$18:$CN$1017,$B246,'Daily Log'!$CO$18:$CO$1017),0)","v":0}]
[null,"CL03 PEPSI",null,"FFD-SOFT DRINK",1,1461,{"$f":"IFERROR($E247*SUMIF('Daily Log'!$B$18:$B$1017,$B247,'Daily Log'!$C$18:$C$1017),0)","v":0},{"$f":"IFERROR($E247*SUMIF('Daily Log'!$E$18:$E$1017,$B247,'Daily Log'!$F$18:$F$1017),0)","v":0},{"$f":"IFERROR($E247*SUMIF('Daily Log'!$H$18:$H$1017,$B247,'Daily Log'!$I$18:$I$1017),0)","v":0},{"$f":"IFERROR($E247*SUMIF('Daily Log'!$K$18:$K$1017,$B247,'Daily Log'!$L$18:$L$1017),0)","v":0},{"$f":"IFERROR($E247*SUMIF('Daily Log'!$N$18:$N$1017,$B247,'Daily Log'!$O$18:$O$1017),0)","v":0},{"$f":"IFERROR($E247*SUMIF('Daily Log'!$Q$18:$Q$1017,$B247,'Daily Log'!$R$18:$R$1017),0)","v":0},{"$f":"IFERROR($E247*SUMIF('Daily Log'!$T$18:$T$1017,$B247,'Daily Log'!$U$18:$U$1017),0)","v":0},{"$f":"IFERROR($E247*SUMIF('Daily Log'!$W$18:$W$1017,$B247,'Daily Log'!$X$18:$X$1017),0)","v":0},{"$f":"IFERROR($E247*SUMIF('Daily Log'!$Z$18:$Z$1017,$B247,'Daily Log'!$AA$18:$AA$1017),0)","v":0},{"$f":"IFERROR($E247*SUMIF('Daily Log'!$AC$18:$AC$1017,$B247,'Daily Log'!$AD$18:$AD$1017),0)","v":0},{"$f":"IFERROR($E247*SUMIF('Daily Log'!$AF$18:$AF$1017,$B247,'Daily Log'!$AG$18:$AG$1017),0)","v":0},{"$f":"IFERROR($E247*SUMIF('Daily Log'!$AI$18:$AI$1017,$B247,'Daily Log'!$AJ$18:$AJ$1017),0)","v":0},{"$f":"IFERROR($E247*SUMIF('Daily Log'!$AL$18:$AL$1017,$B247,'Daily Log'!$AM$18:$AM$1017),0)","v":0},{"$f":"IFERROR($E247*SUMIF('Daily Log'!$AO$18:$AO$1017,$B247,'Daily Log'!$AP$18:$AP$1017),0)","v":0},{"$f":"IFERROR($E247*SUMIF('Daily Log'!$AR$18:$AR$1017,$B247,'Daily Log'!$AS$18:$AS$1017),0)","v":0},{"$f":"IFERROR($E247*SUMIF('Daily Log'!$AU$18:$AU$1017,$B247,'Daily Log'!$AV$18:$AV$1017),0)","v":0},{"$f":"IFERROR($E247*SUMIF('Daily Log'!$AX$18:$AX$1017,$B247,'Daily Log'!$AY$18:$AY$1017),0)","v":0},{"$f":"IFERROR($E247*SUMIF('Daily Log'!$BA$18:$BA$1017,$B247,'Daily Log'!$BB$18:$BB$1017),0)","v":0},{"$f":"IFERROR($E247*SUMIF('Daily Log'!$BD$18:$BD$1017,$B247,'Daily Log'!$BE$18:$BE$1017),0)","v":0},{"$f":"IFERROR($E247*SUMIF('Daily Log'!$BG$18:$BG$1017,$B247,'Daily Log'!$BH$18:$BH$1017),0)","v":0},{"$f":"IFERROR($E247*SUMIF('Daily Log'!$BJ$18:$BJ$1017,$B247,'Daily Log'!$BK$18:$BK$1017),0)","v":0},{"$f":"IFERROR($E247*SUMIF('Daily Log'!$BM$18:$BM$1017,$B247,'Daily Log'!$BN$18:$BN$1017),0)","v":0},{"$f":"IFERROR($E247*SUMIF('Daily Log'!$BP$18:$BP$1017,$B247,'Daily Log'!$BQ$18:$BQ$1017),0)","v":0},{"$f":"IFERROR($E247*SUMIF('Daily Log'!$BS$18:$BS$1017,$B247,'Daily Log'!$BT$18:$BT$1017),0)","v":0},{"$f":"IFERROR($E247*SUMIF('Daily Log'!$BV$18:$BV$1017,$B247,'Daily Log'!$BW$18:$BW$1017),0)","v":0},{"$f":"IFERROR($E247*SUMIF('Daily Log'!$BY$18:$BY$1017,$B247,'Daily Log'!$BZ$18:$BZ$1017),0)","v":0},{"$f":"IFERROR($E247*SUMIF('Daily Log'!$CB$18:$CB$1017,$B247,'Daily Log'!$CC$18:$CC$1017),0)","v":0},{"$f":"IFERROR($E247*SUMIF('Daily Log'!$CE$18:$CE$1017,$B247,'Daily Log'!$CF$18:$CF$1017),0)","v":0},{"$f":"IFERROR($E247*SUMIF('Daily Log'!$CH$18:$CH$1017,$B247,'Daily Log'!$CI$18:$CI$1017),0)","v":0},{"$f":"IFERROR($E247*SUMIF('Daily Log'!$CK$18:$CK$1017,$B247,'Daily Log'!$CL$18:$CL$1017),0)","v":1461},{"$f":"IFERROR($E247*SUMIF('Daily Log'!$CN$18:$CN$1017,$B247,'Daily Log'!$CO$18:$CO$1017),0)","v":0}]
[null,"CM01 MILO (C)",null,"FFD-COLD BEVERAGE",1,1403,{"$f":"IFERROR($E248*SUMIF('Daily Log'!$B$18:$B$1017,$B248,'Daily Log'!$C$18:$C$1017),0)","v":0},{"$f":"IFERROR($E248*SUMIF('Daily Log'!$E$18:$E$1017,$B248,'Daily Log'!$F$18:$F$1017),0)","v":0},{"$f":"IFERROR($E248*SUMIF('Daily Log'!$H$18:$H$1017,$B248,'Daily Log'!$I$18:$I$1017),0)","v":0},{"$f":"IFERROR($E248*SUMIF('Daily Log'!$K$18:$K$1017,$B248,'Daily Log'!$L$18:$L$1017),0)","v":0},{"$f":"IFERROR($E248*SUMIF('Daily Log'!$N$18:$N$1017,$B248,'Daily Log'!$O$18:$O$1017),0)","v":0},{"$f":"IFERROR($E248*SUMIF('Daily Log'!$Q$18:$Q$1017,$B248,'Daily Log'!$R$18:$R$1017),0)","v":0},{"$f":"IFERROR($E248*SUMIF('Daily Log'!$T$18:$T$1017,$B248,'Daily Log'!$U$18:$U$1017),0)","v":0},{"$f":"IFERROR($E248*SUMIF('Daily Log'!$W$18:$W$1017,$B248,'Daily Log'!$X$18:$X$1017),0)","v":0},{"$f":"IFERROR($E248*SUMIF('Daily Log'!$Z$18:$Z$1017,$B248,'Daily Log'!$AA$18:$AA$1017),0)","v":0},{"$f":"IFERROR($E248*SUMIF('Daily Log'!$AC$18:$AC$1017,$B248,'Daily Log'!$AD$18:$AD$1017),0)","v":0},{"$f":"IFERROR($E248*SUMIF('Daily Log'!$AF$18:$AF$1017,$B248,'Daily Log'!$AG$18:$AG$1017),0)","v":0},{"$f":"IFERROR($E248*SUMIF('Daily Log'!$AI$18:$AI$1017,$B248,'Daily Log'!$AJ$18:$AJ$1017),0)","v":0},{"$f":"IFERROR($E248*SUMIF('Daily Log'!$AL$18:$AL$1017,$B248,'Daily Log'!$AM$18:$AM$1017),0)","v":0},{"$f":"IFERROR($E248*SUMIF('Daily Log'!$AO$18:$AO$1017,$B248,'Daily Log'!$AP$18:$AP$1017),0)","v":0},{"$f":"IFERROR($E248*SUMIF('Daily Log'!$AR$18:$AR$1017,$B248,'Daily Log'!$AS$18:$AS$1017),0)","v":0},{"$f":"IFERROR($E248*SUMIF('Daily Log'!$AU$18:$AU$1017,$B248,'Daily Log'!$AV$18:$AV$1017),0)","v":0},{"$f":"IFERROR($E248*SUMIF('Daily Log'!$AX$18:$AX$1017,$B248,'Daily Log'!$AY$18:$AY$1017),0)","v":0},{"$f":"IFERROR($E248*SUMIF('Daily Log'!$BA$18:$BA$1017,$B248,'Daily Log'!$BB$18:$BB$1017),0)","v":0},{"$f":"IFERROR($E248*SUMIF('Daily Log'!$BD$18:$BD$1017,$B248,'Daily Log'!$BE$18:$BE$1017),0)","v":0},{"$f":"IFERROR($E248*SUMIF('Daily Log'!$BG$18:$BG$1017,$B248,'Daily Log'!$BH$18:$BH$1017),0)","v":0},{"$f":"IFERROR($E248*SUMIF('Daily Log'!$BJ$18:$BJ$1017,$B248,'Daily Log'!$BK$18:$BK$1017),0)","v":0},{"$f":"IFERROR($E248*SUMIF('Daily Log'!$BM$18:$BM$1017,$B248,'Daily Log'!$BN$18:$BN$1017),0)","v":0},{"$f":"IFERROR($E248*SUMIF('Daily Log'!$BP$18:$BP$1017,$B248,'Daily Log'!$BQ$18:$BQ$1017),0)","v":0},{"$f":"IFERROR($E248*SUMIF('Daily Log'!$BS$18:$BS$1017,$B248,'Daily Log'!$BT$18:$BT$1017),0)","v":0},{"$f":"IFERROR($E248*SUMIF('Daily Log'!$BV$18:$BV$1017,$B248,'Daily Log'!$BW$18:$BW$1017),0)","v":0},{"$f":"IFERROR($E248*SUMIF('Daily Log'!$BY$18:$BY$1017,$B248,'Daily Log'!$BZ$18:$BZ$1017),0)","v":0},{"$f":"IFERROR($E248*SUMIF('Daily Log'!$CB$18:$CB$1017,$B248,'Daily Log'!$CC$18:$CC$1017),0)","v":0},{"$f":"IFERROR($E248*SUMIF('Daily Log'!$CE$18:$CE$1017,$B248,'Daily Log'!$CF$18:$CF$1017),0)","v":0},{"$f":"IFERROR($E248*SUMIF('Daily Log'!$CH$18:$CH$1017,$B248,'Daily Log'!$CI$18:$CI$1017),0)","v":0},{"$f":"IFERROR($E248*SUMIF('Daily Log'!$CK$18:$CK$1017,$B248,'Daily Log'!$CL$18:$CL$1017),0)","v":1403},{"$f":"IFERROR($E248*SUMIF('Daily Log'!$CN$18:$CN$1017,$B248,'Daily Log'!$CO$18:$CO$1017),0)","v":0}]
[null,"CM02 NESCAFE (C)",null,"FFD-COLD BEVERAGE",1,412,{"$f":"IFERROR($E249*SUMIF('Daily Log'!$B$18:$B$1017,$B249,'Daily Log'!$C$18:$C$1017),0)","v":0},{"$f":"IFERROR($E249*SUMIF('Daily Log'!$E$18:$E$1017,$B249,'Daily Log'!$F$18:$F$1017),0)","v":0},{"$f":"IFERROR($E249*SUMIF('Daily Log'!$H$18:$H$1017,$B249,'Daily Log'!$I$18:$I$1017),0)","v":0},{"$f":"IFERROR($E249*SUMIF('Daily Log'!$K$18:$K$1017,$B249,'Daily Log'!$L$18:$L$1017),0)","v":0},{"$f":"IFERROR($E249*SUMIF('Daily Log'!$N$18:$N$1017,$B249,'Daily Log'!$O$18:$O$1017),0)","v":0},{"$f":"IFERROR($E249*SUMIF('Daily Log'!$Q$18:$Q$1017,$B249,'Daily Log'!$R$18:$R$1017),0)","v":0},{"$f":"IFERROR($E249*SUMIF('Daily Log'!$T$18:$T$1017,$B249,'Daily Log'!$U$18:$U$1017),0)","v":0},{"$f":"IFERROR($E249*SUMIF('Daily Log'!$W$18:$W$1017,$B249,'Daily Log'!$X$18:$X$1017),0)","v":0},{"$f":"IFERROR($E249*SUMIF('Daily Log'!$Z$18:$Z$1017,$B249,'Daily Log'!$AA$18:$AA$1017),0)","v":0},{"$f":"IFERROR($E249*SUMIF('Daily Log'!$AC$18:$AC$1017,$B249,'Daily Log'!$AD$18:$AD$1017),0)","v":0},{"$f":"IFERROR($E249*SUMIF('Daily Log'!$AF$18:$AF$1017,$B249,'Daily Log'!$AG$18:$AG$1017),0)","v":0},{"$f":"IFERROR($E249*SUMIF('Daily Log'!$AI$18:$AI$1017,$B249,'Daily Log'!$AJ$18:$AJ$1017),0)","v":0},{"$f":"IFERROR($E249*SUMIF('Daily Log'!$AL$18:$AL$1017,$B249,'Daily Log'!$AM$18:$AM$1017),0)","v":0},{"$f":"IFERROR($E249*SUMIF('Daily Log'!$AO$18:$AO$1017,$B249,'Daily Log'!$AP$18:$AP$1017),0)","v":0},{"$f":"IFERROR($E249*SUMIF('Daily Log'!$AR$18:$AR$1017,$B249,'Daily Log'!$AS$18:$AS$1017),0)","v":0},{"$f":"IFERROR($E249*SUMIF('Daily Log'!$AU$18:$AU$1017,$B249,'Daily Log'!$AV$18:$AV$1017),0)","v":0},{"$f":"IFERROR($E249*SUMIF('Daily Log'!$AX$18:$AX$1017,$B249,'Daily Log'!$AY$18:$AY$1017),0)","v":0},{"$f":"IFERROR($E249*SUMIF('Daily Log'!$BA$18:$BA$1017,$B249,'Daily Log'!$BB$18:$BB$1017),0)","v":0},{"$f":"IFERROR($E249*SUMIF('Daily Log'!$BD$18:$BD$1017,$B249,'Daily Log'!$BE$18:$BE$1017),0)","v":0},{"$f":"IFERROR($E249*SUMIF('Daily Log'!$BG$18:$BG$1017,$B249,'Daily Log'!$BH$18:$BH$1017),0)","v":0},{"$f":"IFERROR($E249*SUMIF('Daily Log'!$BJ$18:$BJ$1017,$B249,'Daily Log'!$BK$18:$BK$1017),0)","v":0},{"$f":"IFERROR($E249*SUMIF('Daily Log'!$BM$18:$BM$1017,$B249,'Daily Log'!$BN$18:$BN$1017),0)","v":0},{"$f":"IFERROR($E249*SUMIF('Daily Log'!$BP$18:$BP$1017,$B249,'Daily Log'!$BQ$18:$BQ$1017),0)","v":0},{"$f":"IFERROR($E249*SUMIF('Daily Log'!$BS$18:$BS$1017,$B249,'Daily Log'!$BT$18:$BT$1017),0)","v":0},{"$f":"IFERROR($E249*SUMIF('Daily Log'!$BV$18:$BV$1017,$B249,'Daily Log'!$BW$18:$BW$1017),0)","v":0},{"$f":"IFERROR($E249*SUMIF('Daily Log'!$BY$18:$BY$1017,$B249,'Daily Log'!$BZ$18:$BZ$1017),0)","v":0},{"$f":"IFERROR($E249*SUMIF('Daily Log'!$CB$18:$CB$1017,$B249,'Daily Log'!$CC$18:$CC$1017),0)","v":0},{"$f":"IFERROR($E249*SUMIF('Daily Log'!$CE$18:$CE$1017,$B249,'Daily Log'!$CF$18:$CF$1017),0)","v":0},{"$f":"IFERROR($E249*SUMIF('Daily Log'!$CH$18:$CH$1017,$B249,'Daily Log'!$CI$18:$CI$1017),0)","v":0},{"$f":"IFERROR($E249*SUMIF('Daily Log'!$CK$18:$CK$1017,$B249,'Daily Log'!$CL$18:$CL$1017),0)","v":412},{"$f":"IFERROR($E249*SUMIF('Daily Log'!$CN$18:$CN$1017,$B249,'Daily Log'!$CO$18:$CO$1017),0)","v":0}]
[null,"CM03 TEA (C)",null,"FFD-COLD BEVERAGE",1,144,{"$f":"IFERROR($E250*SUMIF('Daily Log'!$B$18:$B$1017,$B250,'Daily Log'!$C$18:$C$1017),0)","v":0},{"$f":"IFERROR($E250*SUMIF('Daily Log'!$E$18:$E$1017,$B250,'Daily Log'!$F$18:$F$1017),0)","v":0},{"$f":"IFERROR($E250*SUMIF('Daily Log'!$H$18:$H$1017,$B250,'Daily Log'!$I$18:$I$1017),0)","v":0},{"$f":"IFERROR($E250*SUMIF('Daily Log'!$K$18:$K$1017,$B250,'Daily Log'!$L$18:$L$1017),0)","v":0},{"$f":"IFERROR($E250*SUMIF('Daily Log'!$N$18:$N$1017,$B250,'Daily Log'!$O$18:$O$1017),0)","v":0},{"$f":"IFERROR($E250*SUMIF('Daily Log'!$Q$18:$Q$1017,$B250,'Daily Log'!$R$18:$R$1017),0)","v":0},{"$f":"IFERROR($E250*SUMIF('Daily Log'!$T$18:$T$1017,$B250,'Daily Log'!$U$18:$U$1017),0)","v":0},{"$f":"IFERROR($E250*SUMIF('Daily Log'!$W$18:$W$1017,$B250,'Daily Log'!$X$18:$X$1017),0)","v":0},{"$f":"IFERROR($E250*SUMIF('Daily Log'!$Z$18:$Z$1017,$B250,'Daily Log'!$AA$18:$AA$1017),0)","v":0},{"$f":"IFERROR($E250*SUMIF('Daily Log'!$AC$18:$AC$1017,$B250,'Daily Log'!$AD$18:$AD$1017),0)","v":0},{"$f":"IFERROR($E250*SUMIF('Daily Log'!$AF$18:$AF$1017,$B250,'Daily Log'!$AG$18:$AG$1017),0)","v":0},{"$f":"IFERROR($E250*SUMIF('Daily Log'!$AI$18:$AI$1017,$B250,'Daily Log'!$AJ$18:$AJ$1017),0)","v":0},{"$f":"IFERROR($E250*SUMIF('Daily Log'!$AL$18:$AL$1017,$B250,'Daily Log'!$AM$18:$AM$1017),0)","v":0},{"$f":"IFERROR($E250*SUMIF('Daily Log'!$AO$18:$AO$1017,$B250,'Daily Log'!$AP$18:$AP$1017),0)","v":0},{"$f":"IFERROR($E250*SUMIF('Daily Log'!$AR$18:$AR$1017,$B250,'Daily Log'!$AS$18:$AS$1017),0)","v":0},{"$f":"IFERROR($E250*SUMIF('Daily Log'!$AU$18:$AU$1017,$B250,'Daily Log'!$AV$18:$AV$1017),0)","v":0},{"$f":"IFERROR($E250*SUMIF('Daily Log'!$AX$18:$AX$1017,$B250,'Daily Log'!$AY$18:$AY$1017),0)","v":0},{"$f":"IFERROR($E250*SUMIF('Daily Log'!$BA$18:$BA$1017,$B250,'Daily Log'!$BB$18:$BB$1017),0)","v":0},{"$f":"IFERROR($E250*SUMIF('Daily Log'!$BD$18:$BD$1017,$B250,'Daily Log'!$BE$18:$BE$1017),0)","v":0},{"$f":"IFERROR($E250*SUMIF('Daily Log'!$BG$18:$BG$1017,$B250,'Daily Log'!$BH$18:$BH$1017),0)","v":0},{"$f":"IFERROR($E250*SUMIF('Daily Log'!$BJ$18:$BJ$1017,$B250,'Daily Log'!$BK$18:$BK$1017),0)","v":0},{"$f":"IFERROR($E250*SUMIF('Daily Log'!$BM$18:$BM$1017,$B250,'Daily Log'!$BN$18:$BN$1017),0)","v":0},{"$f":"IFERROR($E250*SUMIF('Daily Log'!$BP$18:$BP$1017,$B250,'Daily Log'!$BQ$18:$BQ$1017),0)","v":0},{"$f":"IFERROR($E250*SUMIF('Daily Log'!$BS$18:$BS$1017,$B250,'Daily Log'!$BT$18:$BT$1017),0)","v":0},{"$f":"IFERROR($E250*SUMIF('Daily Log'!$BV$18:$BV$1017,$B250,'Daily Log'!$BW$18:$BW$1017),0)","v":0},{"$f":"IFERROR($E250*SUMIF('Daily Log'!$BY$18:$BY$1017,$B250,'Daily Log'!$BZ$18:$BZ$1017),0)","v":0},{"$f":"IFERROR($E250*SUMIF('Daily Log'!$CB$18:$CB$1017,$B250,'Daily Log'!$CC$18:$CC$1017),0)","v":0},{"$f":"IFERROR($E250*SUMIF('Daily Log'!$CE$18:$CE$1017,$B250,'Daily Log'!$CF$18:$CF$1017),0)","v":0},{"$f":"IFERROR($E250*SUMIF('Daily Log'!$CH$18:$CH$1017,$B250,'Daily Log'!$CI$18:$CI$1017),0)","v":0},{"$f":"IFERROR($E250*SUMIF('Daily Log'!$CK$18:$CK$1017,$B250,'Daily Log'!$CL$18:$CL$1017),0)","v":144},{"$f":"IFERROR($E250*SUMIF('Daily Log'!$CN$18:$CN$1017,$B250,'Daily Log'!$CO$18:$CO$1017),0)","v":0}]
[null,"CM04 LEMON TEA (C)",null,"FFD-COLD BEVERAGE",1,1879,{"$f":"IFERROR($E251*SUMIF('Daily Log'!$B$18:$B$1017,$B251,'Daily Log'!$C$18:$C$1017),0)","v":0},{"$f":"IFERROR($E251*SUMIF('Daily Log'!$E$18:$E$1017,$B251,'Daily Log'!$F$18:$F$1017),0)","v":0},{"$f":"IFERROR($E251*SUMIF('Daily Log'!$H$18:$H$1017,$B251,'Daily Log'!$I$18:$I$1017),0)","v":0},{"$f":"IFERROR($E251*SUMIF('Daily Log'!$K$18:$K$1017,$B251,'Daily Log'!$L$18:$L$1017),0)","v":0},{"$f":"IFERROR($E251*SUMIF('Daily Log'!$N$18:$N$1017,$B251,'Daily Log'!$O$18:$O$1017),0)","v":0},{"$f":"IFERROR($E251*SUMIF('Daily Log'!$Q$18:$Q$1017,$B251,'Daily Log'!$R$18:$R$1017),0)","v":0},{"$f":"IFERROR($E251*SUMIF('Daily Log'!$T$18:$T$1017,$B251,'Daily Log'!$U$18:$U$1017),0)","v":0},{"$f":"IFERROR($E251*SUMIF('Daily Log'!$W$18:$W$1017,$B251,'Daily Log'!$X$18:$X$1017),0)","v":0},{"$f":"IFERROR($E251*SUMIF('Daily Log'!$Z$18:$Z$1017,$B251,'Daily Log'!$AA$18:$AA$1017),0)","v":0},{"$f":"IFERROR($E251*SUMIF('Daily Log'!$AC$18:$AC$1017,$B251,'Daily Log'!$AD$18:$AD$1017),0)","v":0},{"$f":"IFERROR($E251*SUMIF('Daily Log'!$AF$18:$AF$1017,$B251,'Daily Log'!$AG$18:$AG$1017),0)","v":0},{"$f":"IFERROR($E251*SUMIF('Daily Log'!$AI$18:$AI$1017,$B251,'Daily Log'!$AJ$18:$AJ$1017),0)","v":0},{"$f":"IFERROR($E251*SUMIF('Daily Log'!$AL$18:$AL$1017,$B251,'Daily Log'!$AM$18:$AM$1017),0)","v":0},{"$f":"IFERROR($E251*SUMIF('Daily Log'!$AO$18:$AO$1017,$B251,'Daily Log'!$AP$18:$AP$1017),0)","v":0},{"$f":"IFERROR($E251*SUMIF('Daily Log'!$AR$18:$AR$1017,$B251,'Daily Log'!$AS$18:$AS$1017),0)","v":0},{"$f":"IFERROR($E251*SUMIF('Daily Log'!$AU$18:$AU$1017,$B251,'Daily Log'!$AV$18:$AV$1017),0)","v":0},{"$f":"IFERROR($E251*SUMIF('Daily Log'!$AX$18:$AX$1017,$B251,'Daily Log'!$AY$18:$AY$1017),0)","v":0},{"$f":"IFERROR($E251*SUMIF('Daily Log'!$BA$18:$BA$1017,$B251,'Daily Log'!$BB$18:$BB$1017),0)","v":0},{"$f":"IFERROR($E251*SUMIF('Daily Log'!$BD$18:$BD$1017,$B251,'Daily Log'!$BE$18:$BE$1017),0)","v":0},{"$f":"IFERROR($E251*SUMIF('Daily Log'!$BG$18:$BG$1017,$B251,'Daily Log'!$BH$18:$BH$1017),0)","v":0},{"$f":"IFERROR($E251*SUMIF('Daily Log'!$BJ$18:$BJ$1017,$B251,'Daily Log'!$BK$18:$BK$1017),0)","v":0},{"$f":"IFERROR($E251*SUMIF('Daily Log'!$BM$18:$BM$1017,$B251,'Daily Log'!$BN$18:$BN$1017),0)","v":0},{"$f":"IFERROR($E251*SUMIF('Daily Log'!$BP$18:$BP$1017,$B251,'Daily Log'!$BQ$18:$BQ$1017),0)","v":0},{"$f":"IFERROR($E251*SUMIF('Daily Log'!$BS$18:$BS$1017,$B251,'Daily Log'!$BT$18:$BT$1017),0)","v":0},{"$f":"IFERROR($E251*SUMIF('Daily Log'!$BV$18:$BV$1017,$B251,'Daily Log'!$BW$18:$BW$1017),0)","v":0},{"$f":"IFERROR($E251*SUMIF('Daily Log'!$BY$18:$BY$1017,$B251,'Daily Log'!$BZ$18:$BZ$1017),0)","v":0},{"$f":"IFERROR($E251*SUMIF('Daily Log'!$CB$18:$CB$1017,$B251,'Daily Log'!$CC$18:$CC$1017),0)","v":0},{"$f":"IFERROR($E251*SUMIF('Daily Log'!$CE$18:$CE$1017,$B251,'Daily Log'!$CF$18:$CF$1017),0)","v":0},{"$f":"IFERROR($E251*SUMIF('Daily Log'!$CH$18:$CH$1017,$B251,'Daily Log'!$CI$18:$CI$1017),0)","v":0},{"$f":"IFERROR($E251*SUMIF('Daily Log'!$CK$18:$CK$1017,$B251,'Daily Log'!$CL$18:$CL$1017),0)","v":1879},{"$f":"IFERROR($E251*SUMIF('Daily Log'!$CN$18:$CN$1017,$B251,'Daily Log'!$CO$18:$CO$1017),0)","v":0}]
[null,"CM05 GRN TEA (C)",null,"FFD-COLD BEVERAGE",1,1293,{"$f":"IFERROR($E252*SUMIF('Daily Log'!$B$18:$B$1017,$B252,'Daily Log'!$C$18:$C$1017),0)","v":0},{"$f":"IFERROR($E252*SUMIF('Daily Log'!$E$18:$E$1017,$B252,'Daily Log'!$F$18:$F$1017),0)","v":0},{"$f":"IFERROR($E252*SUMIF('Daily Log'!$H$18:$H$1017,$B252,'Daily Log'!$I$18:$I$1017),0)","v":0},{"$f":"IFERROR($E252*SUMIF('Daily Log'!$K$18:$K$1017,$B252,'Daily Log'!$L$18:$L$1017),0)","v":0},{"$f":"IFERROR($E252*SUMIF('Daily Log'!$N$18:$N$1017,$B252,'Daily Log'!$O$18:$O$1017),0)","v":0},{"$f":"IFERROR($E252*SUMIF('Daily Log'!$Q$18:$Q$1017,$B252,'Daily Log'!$R$18:$R$1017),0)","v":0},{"$f":"IFERROR($E252*SUMIF('Daily Log'!$T$18:$T$1017,$B252,'Daily Log'!$U$18:$U$1017),0)","v":0},{"$f":"IFERROR($E252*SUMIF('Daily Log'!$W$18:$W$1017,$B252,'Daily Log'!$X$18:$X$1017),0)","v":0},{"$f":"IFERROR($E252*SUMIF('Daily Log'!$Z$18:$Z$1017,$B252,'Daily Log'!$AA$18:$AA$1017),0)","v":0},{"$f":"IFERROR($E252*SUMIF('Daily Log'!$AC$18:$AC$1017,$B252,'Daily Log'!$AD$18:$AD$1017),0)","v":0},{"$f":"IFERROR($E252*SUMIF('Daily Log'!$AF$18:$AF$1017,$B252,'Daily Log'!$AG$18:$AG$1017),0)","v":0},{"$f":"IFERROR($E252*SUMIF('Daily Log'!$AI$18:$AI$1017,$B252,'Daily Log'!$AJ$18:$AJ$1017),0)","v":0},{"$f":"IFERROR($E252*SUMIF('Daily Log'!$AL$18:$AL$1017,$B252,'Daily Log'!$AM$18:$AM$1017),0)","v":0},{"$f":"IFERROR($E252*SUMIF('Daily Log'!$AO$18:$AO$1017,$B252,'Daily Log'!$AP$18:$AP$1017),0)","v":0},{"$f":"IFERROR($E252*SUMIF('Daily Log'!$AR$18:$AR$1017,$B252,'Daily Log'!$AS$18:$AS$1017),0)","v":0},{"$f":"IFERROR($E252*SUMIF('Daily Log'!$AU$18:$AU$1017,$B252,'Daily Log'!$AV$18:$AV$1017),0)","v":0},{"$f":"IFERROR($E252*SUMIF('Daily Log'!$AX$18:$AX$1017,$B252,'Daily Log'!$AY$18:$AY$1017),0)","v":0},{"$f":"IFERROR($E252*SUMIF('Daily Log'!$BA$18:$BA$1017,$B252,'Daily Log'!$BB$18:$BB$1017),0)","v":0},{"$f":"IFERROR($E252*SUMIF('Daily Log'!$BD$18:$BD$1017,$B252,'Daily Log'!$BE$18:$BE$1017),0)","v":0},{"$f":"IFERROR($E252*SUMIF('Daily Log'!$BG$18:$BG$1017,$B252,'Daily Log'!$BH$18:$BH$1017),0)","v":0},{"$f":"IFERROR($E252*SUMIF('Daily Log'!$BJ$18:$BJ$1017,$B252,'Daily Log'!$BK$18:$BK$1017),0)","v":0},{"$f":"IFERROR($E252*SUMIF('Daily Log'!$BM$18:$BM$1017,$B252,'Daily Log'!$BN$18:$BN$1017),0)","v":0},{"$f":"IFERROR($E252*SUMIF('Daily Log'!$BP$18:$BP$1017,$B252,'Daily Log'!$BQ$18:$BQ$1017),0)","v":0},{"$f":"IFERROR($E252*SUMIF('Daily Log'!$BS$18:$BS$1017,$B252,'Daily Log'!$BT$18:$BT$1017),0)","v":0},{"$f":"IFERROR($E252*SUMIF('Daily Log'!$BV$18:$BV$1017,$B252,'Daily Log'!$BW$18:$BW$1017),0)","v":0},{"$f":"IFERROR($E252*SUMIF('Daily Log'!$BY$18:$BY$1017,$B252,'Daily Log'!$BZ$18:$BZ$1017),0)","v":0},{"$f":"IFERROR($E252*SUMIF('Daily Log'!$CB$18:$CB$1017,$B252,'Daily Log'!$CC$18:$CC$1017),0)","v":0},{"$f":"IFERROR($E252*SUMIF('Daily Log'!$CE$18:$CE$1017,$B252,'Daily Log'!$CF$18:$CF$1017),0)","v":0},{"$f":"IFERROR($E252*SUMIF('Daily Log'!$CH$18:$CH$1017,$B252,'Daily Log'!$CI$18:$CI$1017),0)","v":0},{"$f":"IFERROR($E252*SUMIF('Daily Log'!$CK$18:$CK$1017,$B252,'Daily Log'!$CL$18:$CL$1017),0)","v":1293},{"$f":"IFERROR($E252*SUMIF('Daily Log'!$CN$18:$CN$1017,$B252,'Daily Log'!$CO$18:$CO$1017),0)","v":0}]
[null,"CM06 HNY GRN TEA (C)",null,"FFD-COLD BEVERAGE",1,2405,{"$f":"IFERROR($E253*SUMIF('Daily Log'!$B$18:$B$1017,$B253,'Daily Log'!$C$18:$C$1017),0)","v":0},{"$f":"IFERROR($E253*SUMIF('Daily Log'!$E$18:$E$1017,$B253,'Daily Log'!$F$18:$F$1017),0)","v":0},{"$f":"IFERROR($E253*SUMIF('Daily Log'!$H$18:$H$1017,$B253,'Daily Log'!$I$18:$I$1017),0)","v":0},{"$f":"IFERROR($E253*SUMIF('Daily Log'!$K$18:$K$1017,$B253,'Daily Log'!$L$18:$L$1017),0)","v":0},{"$f":"IFERROR($E253*SUMIF('Daily Log'!$N$18:$N$1017,$B253,'Daily Log'!$O$18:$O$1017),0)","v":0},{"$f":"IFERROR($E253*SUMIF('Daily Log'!$Q$18:$Q$1017,$B253,'Daily Log'!$R$18:$R$1017),0)","v":0},{"$f":"IFERROR($E253*SUMIF('Daily Log'!$T$18:$T$1017,$B253,'Daily Log'!$U$18:$U$1017),0)","v":0},{"$f":"IFERROR($E253*SUMIF('Daily Log'!$W$18:$W$1017,$B253,'Daily Log'!$X$18:$X$1017),0)","v":0},{"$f":"IFERROR($E253*SUMIF('Daily Log'!$Z$18:$Z$1017,$B253,'Daily Log'!$AA$18:$AA$1017),0)","v":0},{"$f":"IFERROR($E253*SUMIF('Daily Log'!$AC$18:$AC$1017,$B253,'Daily Log'!$AD$18:$AD$1017),0)","v":0},{"$f":"IFERROR($E253*SUMIF('Daily Log'!$AF$18:$AF$1017,$B253,'Daily Log'!$AG$18:$AG$1017),0)","v":0},{"$f":"IFERROR($E253*SUMIF('Daily Log'!$AI$18:$AI$1017,$B253,'Daily Log'!$AJ$18:$AJ$1017),0)","v":0},{"$f":"IFERROR($E253*SUMIF('Daily Log'!$AL$18:$AL$1017,$B253,'Daily Log'!$AM$18:$AM$1017),0)","v":0},{"$f":"IFERROR($E253*SUMIF('Daily Log'!$AO$18:$AO$1017,$B253,'Daily Log'!$AP$18:$AP$1017),0)","v":0},{"$f":"IFERROR($E253*SUMIF('Daily Log'!$AR$18:$AR$1017,$B253,'Daily Log'!$AS$18:$AS$1017),0)","v":0},{"$f":"IFERROR($E253*SUMIF('Daily Log'!$AU$18:$AU$1017,$B253,'Daily Log'!$AV$18:$AV$1017),0)","v":0},{"$f":"IFERROR($E253*SUMIF('Daily Log'!$AX$18:$AX$1017,$B253,'Daily Log'!$AY$18:$AY$1017),0)","v":0},{"$f":"IFERROR($E253*SUMIF('Daily Log'!$BA$18:$BA$1017,$B253,'Daily Log'!$BB$18:$BB$1017),0)","v":0},{"$f":"IFERROR($E253*SUMIF('Daily Log'!$BD$18:$BD$1017,$B253,'Daily Log'!$BE$18:$BE$1017),0)","v":0},{"$f":"IFERROR($E253*SUMIF('Daily Log'!$BG$18:$BG$1017,$B253,'Daily Log'!$BH$18:$BH$1017),0)","v":0},{"$f":"IFERROR($E253*SUMIF('Daily Log'!$BJ$18:$BJ$1017,$B253,'Daily Log'!$BK$18:$BK$1017),0)","v":0},{"$f":"IFERROR($E253*SUMIF('Daily Log'!$BM$18:$BM$1017,$B253,'Daily Log'!$BN$18:$BN$1017),0)","v":0},{"$f":"IFERROR($E253*SUMIF('Daily Log'!$BP$18:$BP$1017,$B253,'Daily Log'!$BQ$18:$BQ$1017),0)","v":0},{"$f":"IFERROR($E253*SUMIF('Daily Log'!$BS$18:$BS$1017,$B253,'Daily Log'!$BT$18:$BT$1017),0)","v":0},{"$f":"IFERROR($E253*SUMIF('Daily Log'!$BV$18:$BV$1017,$B253,'Daily Log'!$BW$18:$BW$1017),0)","v":0},{"$f":"IFERROR($E253*SUMIF('Daily Log'!$BY$18:$BY$1017,$B253,'Daily Log'!$BZ$18:$BZ$1017),0)","v":0},{"$f":"IFERROR($E253*SUMIF('Daily Log'!$CB$18:$CB$1017,$B253,'Daily Log'!$CC$18:$CC$1017),0)","v":0},{"$f":"IFERROR($E253*SUMIF('Daily Log'!$CE$18:$CE$1017,$B253,'Daily Log'!$CF$18:$CF$1017),0)","v":0},{"$f":"IFERROR($E253*SUMIF('Daily Log'!$CH$18:$CH$1017,$B253,'Daily Log'!$CI$18:$CI$1017),0)","v":0},{"$f":"IFERROR($E253*SUMIF('Daily Log'!$CK$18:$CK$1017,$B253,'Daily Log'!$CL$18:$CL$1017),0)","v":2405},{"$f":"IFERROR($E253*SUMIF('Daily Log'!$CN$18:$CN$1017,$B253,'Daily Log'!$CO$18:$CO$1017),0)","v":0}]
[null,"CM07 HONEY (C)",null,"FFD-COLD BEVERAGE",1,576,{"$f":"IFERROR($E254*SUMIF('Daily Log'!$B$18:$B$1017,$B254,'Daily Log'!$C$18:$C$1017),0)","v":0},{"$f":"IFERROR($E254*SUMIF('Daily Log'!$E$18:$E$1017,$B254,'Daily Log'!$F$18:$F$1017),0)","v":0},{"$f":"IFERROR($E254*SUMIF('Daily Log'!$H$18:$H$1017,$B254,'Daily Log'!$I$18:$I$1017),0)","v":0},{"$f":"IFERROR($E254*SUMIF('Daily Log'!$K$18:$K$1017,$B254,'Daily Log'!$L$18:$L$1017),0)","v":0},{"$f":"IFERROR($E254*SUMIF('Daily Log'!$N$18:$N$1017,$B254,'Daily Log'!$O$18:$O$1017),0)","v":0},{"$f":"IFERROR($E254*SUMIF('Daily Log'!$Q$18:$Q$1017,$B254,'Daily Log'!$R$18:$R$1017),0)","v":0},{"$f":"IFERROR($E254*SUMIF('Daily Log'!$T$18:$T$1017,$B254,'Daily Log'!$U$18:$U$1017),0)","v":0},{"$f":"IFERROR($E254*SUMIF('Daily Log'!$W$18:$W$1017,$B254,'Daily Log'!$X$18:$X$1017),0)","v":0},{"$f":"IFERROR($E254*SUMIF('Daily Log'!$Z$18:$Z$1017,$B254,'Daily Log'!$AA$18:$AA$1017),0)","v":0},{"$f":"IFERROR($E254*SUMIF('Daily Log'!$AC$18:$AC$1017,$B254,'Daily Log'!$AD$18:$AD$1017),0)","v":0},{"$f":"IFERROR($E254*SUMIF('Daily Log'!$AF$18:$AF$1017,$B254,'Daily Log'!$AG$18:$AG$1017),0)","v":0},{"$f":"IFERROR($E254*SUMIF('Daily Log'!$AI$18:$AI$1017,$B254,'Daily Log'!$AJ$18:$AJ$1017),0)","v":0},{"$f":"IFERROR($E254*SUMIF('Daily Log'!$AL$18:$AL$1017,$B254,'Daily Log'!$AM$18:$AM$1017),0)","v":0},{"$f":"IFERROR($E254*SUMIF('Daily Log'!$AO$18:$AO$1017,$B254,'Daily Log'!$AP$18:$AP$1017),0)","v":0},{"$f":"IFERROR($E254*SUMIF('Daily Log'!$AR$18:$AR$1017,$B254,'Daily Log'!$AS$18:$AS$1017),0)","v":0},{"$f":"IFERROR($E254*SUMIF('Daily Log'!$AU$18:$AU$1017,$B254,'Daily Log'!$AV$18:$AV$1017),0)","v":0},{"$f":"IFERROR($E254*SUMIF('Daily Log'!$AX$18:$AX$1017,$B254,'Daily Log'!$AY$18:$AY$1017),0)","v":0},{"$f":"IFERROR($E254*SUMIF('Daily Log'!$BA$18:$BA$1017,$B254,'Daily Log'!$BB$18:$BB$1017),0)","v":0},{"$f":"IFERROR($E254*SUMIF('Daily Log'!$BD$18:$BD$1017,$B254,'Daily Log'!$BE$18:$BE$1017),0)","v":0},{"$f":"IFERROR($E254*SUMIF('Daily Log'!$BG$18:$BG$1017,$B254,'Daily Log'!$BH$18:$BH$1017),0)","v":0},{"$f":"IFERROR($E254*SUMIF('Daily Log'!$BJ$18:$BJ$1017,$B254,'Daily Log'!$BK$18:$BK$1017),0)","v":0},{"$f":"IFERROR($E254*SUMIF('Daily Log'!$BM$18:$BM$1017,$B254,'Daily Log'!$BN$18:$BN$1017),0)","v":0},{"$f":"IFERROR($E254*SUMIF('Daily Log'!$BP$18:$BP$1017,$B254,'Daily Log'!$BQ$18:$BQ$1017),0)","v":0},{"$f":"IFERROR($E254*SUMIF('Daily Log'!$BS$18:$BS$1017,$B254,'Daily Log'!$BT$18:$BT$1017),0)","v":0},{"$f":"IFERROR($E254*SUMIF('Daily Log'!$BV$18:$BV$1017,$B254,'Daily Log'!$BW$18:$BW$1017),0)","v":0},{"$f":"IFERROR($E254*SUMIF('Daily Log'!$BY$18:$BY$1017,$B254,'Daily Log'!$BZ$18:$BZ$1017),0)","v":0},{"$f":"IFERROR($E254*SUMIF('Daily Log'!$CB$18:$CB$1017,$B254,'Daily Log'!$CC$18:$CC$1017),0)","v":0},{"$f":"IFERROR($E254*SUMIF('Daily Log'!$CE$18:$CE$1017,$B254,'Daily Log'!$CF$18:$CF$1017),0)","v":0},{"$f":"IFERROR($E254*SUMIF('Daily Log'!$CH$18:$CH$1017,$B254,'Daily Log'!$CI$18:$CI$1017),0)","v":0},{"$f":"IFERROR($E254*SUMIF('Daily Log'!$CK$18:$CK$1017,$B254,'Daily Log'!$CL$18:$CL$1017),0)","v":576},{"$f":"IFERROR($E254*SUMIF('Daily Log'!$CN$18:$CN$1017,$B254,'Daily Log'!$CO$18:$CO$1017),0)","v":0}]
[null,"CM08 LEMON HONEY (C)",null,"FFD-COLD BEVERAGE",1,3968,{"$f":"IFERROR($E255*SUMIF('Daily Log'!$B$18:$B$1017,$B255,'Daily Log'!$C$18:$C$1017),0)","v":0},{"$f":"IFERROR($E255*SUMIF('Daily Log'!$E$18:$E$1017,$B255,'Daily Log'!$F$18:$F$1017),0)","v":0},{"$f":"IFERROR($E255*SUMIF('Daily Log'!$H$18:$H$1017,$B255,'Daily Log'!$I$18:$I$1017),0)","v":0},{"$f":"IFERROR($E255*SUMIF('Daily Log'!$K$18:$K$1017,$B255,'Daily Log'!$L$18:$L$1017),0)","v":0},{"$f":"IFERROR($E255*SUMIF('Daily Log'!$N$18:$N$1017,$B255,'Daily Log'!$O$18:$O$1017),0)","v":0},{"$f":"IFERROR($E255*SUMIF('Daily Log'!$Q$18:$Q$1017,$B255,'Daily Log'!$R$18:$R$1017),0)","v":0},{"$f":"IFERROR($E255*SUMIF('Daily Log'!$T$18:$T$1017,$B255,'Daily Log'!$U$18:$U$1017),0)","v":0},{"$f":"IFERROR($E255*SUMIF('Daily Log'!$W$18:$W$1017,$B255,'Daily Log'!$X$18:$X$1017),0)","v":0},{"$f":"IFERROR($E255*SUMIF('Daily Log'!$Z$18:$Z$1017,$B255,'Daily Log'!$AA$18:$AA$1017),0)","v":0},{"$f":"IFERROR($E255*SUMIF('Daily Log'!$AC$18:$AC$1017,$B255,'Daily Log'!$AD$18:$AD$1017),0)","v":0},{"$f":"IFERROR($E255*SUMIF('Daily Log'!$AF$18:$AF$1017,$B255,'Daily Log'!$AG$18:$AG$1017),0)","v":0},{"$f":"IFERROR($E255*SUMIF('Daily Log'!$AI$18:$AI$1017,$B255,'Daily Log'!$AJ$18:$AJ$1017),0)","v":0},{"$f":"IFERROR($E255*SUMIF('Daily Log'!$AL$18:$AL$1017,$B255,'Daily Log'!$AM$18:$AM$1017),0)","v":0},{"$f":"IFERROR($E255*SUMIF('Daily Log'!$AO$18:$AO$1017,$B255,'Daily Log'!$AP$18:$AP$1017),0)","v":0},{"$f":"IFERROR($E255*SUMIF('Daily Log'!$AR$18:$AR$1017,$B255,'Daily Log'!$AS$18:$AS$1017),0)","v":0},{"$f":"IFERROR($E255*SUMIF('Daily Log'!$AU$18:$AU$1017,$B255,'Daily Log'!$AV$18:$AV$1017),0)","v":0},{"$f":"IFERROR($E255*SUMIF('Daily Log'!$AX$18:$AX$1017,$B255,'Daily Log'!$AY$18:$AY$1017),0)","v":0},{"$f":"IFERROR($E255*SUMIF('Daily Log'!$BA$18:$BA$1017,$B255,'Daily Log'!$BB$18:$BB$1017),0)","v":0},{"$f":"IFERROR($E255*SUMIF('Daily Log'!$BD$18:$BD$1017,$B255,'Daily Log'!$BE$18:$BE$1017),0)","v":0},{"$f":"IFERROR($E255*SUMIF('Daily Log'!$BG$18:$BG$1017,$B255,'Daily Log'!$BH$18:$BH$1017),0)","v":0},{"$f":"IFERROR($E255*SUMIF('Daily Log'!$BJ$18:$BJ$1017,$B255,'Daily Log'!$BK$18:$BK$1017),0)","v":0},{"$f":"IFERROR($E255*SUMIF('Daily Log'!$BM$18:$BM$1017,$B255,'Daily Log'!$BN$18:$BN$1017),0)","v":0},{"$f":"IFERROR($E255*SUMIF('Daily Log'!$BP$18:$BP$1017,$B255,'Daily Log'!$BQ$18:$BQ$1017),0)","v":0},{"$f":"IFERROR($E255*SUMIF('Daily Log'!$BS$18:$BS$1017,$B255,'Daily Log'!$BT$18:$BT$1017),0)","v":0},{"$f":"IFERROR($E255*SUMIF('Daily Log'!$BV$18:$BV$1017,$B255,'Daily Log'!$BW$18:$BW$1017),0)","v":0},{"$f":"IFERROR($E255*SUMIF('Daily Log'!$BY$18:$BY$1017,$B255,'Daily Log'!$BZ$18:$BZ$1017),0)","v":0},{"$f":"IFERROR($E255*SUMIF('Daily Log'!$CB$18:$CB$1017,$B255,'Daily Log'!$CC$18:$CC$1017),0)","v":0},{"$f":"IFERROR($E255*SUMIF('Daily Log'!$CE$18:$CE$1017,$B255,'Daily Log'!$CF$18:$CF$1017),0)","v":0},{"$f":"IFERROR($E255*SUMIF('Daily Log'!$CH$18:$CH$1017,$B255,'Daily Log'!$CI$18:$CI$1017),0)","v":0},{"$f":"IFERROR($E255*SUMIF('Daily Log'!$CK$18:$CK$1017,$B255,'Daily Log'!$CL$18:$CL$1017),0)","v":3968},{"$f":"IFERROR($E255*SUMIF('Daily Log'!$CN$18:$CN$1017,$B255,'Daily Log'!$CO$18:$CO$1017),0)","v":0}]
[null,"CN01 MILO (H)",null,"FFD-HOT BEVERAGE",1,1297,{"$f":"IFERROR($E256*SUMIF('Daily Log'!$B$18:$B$1017,$B256,'Daily Log'!$C$18:$C$1017),0)","v":0},{"$f":"IFERROR($E256*SUMIF('Daily Log'!$E$18:$E$1017,$B256,'Daily Log'!$F$18:$F$1017),0)","v":0},{"$f":"IFERROR($E256*SUMIF('Daily Log'!$H$18:$H$1017,$B256,'Daily Log'!$I$18:$I$1017),0)","v":0},{"$f":"IFERROR($E256*SUMIF('Daily Log'!$K$18:$K$1017,$B256,'Daily Log'!$L$18:$L$1017),0)","v":0},{"$f":"IFERROR($E256*SUMIF('Daily Log'!$N$18:$N$1017,$B256,'Daily Log'!$O$18:$O$1017),0)","v":0},{"$f":"IFERROR($E256*SUMIF('Daily Log'!$Q$18:$Q$1017,$B256,'Daily Log'!$R$18:$R$1017),0)","v":0},{"$f":"IFERROR($E256*SUMIF('Daily Log'!$T$18:$T$1017,$B256,'Daily Log'!$U$18:$U$1017),0)","v":0},{"$f":"IFERROR($E256*SUMIF('Daily Log'!$W$18:$W$1017,$B256,'Daily Log'!$X$18:$X$1017),0)","v":0},{"$f":"IFERROR($E256*SUMIF('Daily Log'!$Z$18:$Z$1017,$B256,'Daily Log'!$AA$18:$AA$1017),0)","v":0},{"$f":"IFERROR($E256*SUMIF('Daily Log'!$AC$18:$AC$1017,$B256,'Daily Log'!$AD$18:$AD$1017),0)","v":0},{"$f":"IFERROR($E256*SUMIF('Daily Log'!$AF$18:$AF$1017,$B256,'Daily Log'!$AG$18:$AG$1017),0)","v":0},{"$f":"IFERROR($E256*SUMIF('Daily Log'!$AI$18:$AI$1017,$B256,'Daily Log'!$AJ$18:$AJ$1017),0)","v":0},{"$f":"IFERROR($E256*SUMIF('Daily Log'!$AL$18:$AL$1017,$B256,'Daily Log'!$AM$18:$AM$1017),0)","v":0},{"$f":"IFERROR($E256*SUMIF('Daily Log'!$AO$18:$AO$1017,$B256,'Daily Log'!$AP$18:$AP$1017),0)","v":0},{"$f":"IFERROR($E256*SUMIF('Daily Log'!$AR$18:$AR$1017,$B256,'Daily Log'!$AS$18:$AS$1017),0)","v":0},{"$f":"IFERROR($E256*SUMIF('Daily Log'!$AU$18:$AU$1017,$B256,'Daily Log'!$AV$18:$AV$1017),0)","v":0},{"$f":"IFERROR($E256*SUMIF('Daily Log'!$AX$18:$AX$1017,$B256,'Daily Log'!$AY$18:$AY$1017),0)","v":0},{"$f":"IFERROR($E256*SUMIF('Daily Log'!$BA$18:$BA$1017,$B256,'Daily Log'!$BB$18:$BB$1017),0)","v":0},{"$f":"IFERROR($E256*SUMIF('Daily Log'!$BD$18:$BD$1017,$B256,'Daily Log'!$BE$18:$BE$1017),0)","v":0},{"$f":"IFERROR($E256*SUMIF('Daily Log'!$BG$18:$BG$1017,$B256,'Daily Log'!$BH$18:$BH$1017),0)","v":0},{"$f":"IFERROR($E256*SUMIF('Daily Log'!$BJ$18:$BJ$1017,$B256,'Daily Log'!$BK$18:$BK$1017),0)","v":0},{"$f":"IFERROR($E256*SUMIF('Daily Log'!$BM$18:$BM$1017,$B256,'Daily Log'!$BN$18:$BN$1017),0)","v":0},{"$f":"IFERROR($E256*SUMIF('Daily Log'!$BP$18:$BP$1017,$B256,'Daily Log'!$BQ$18:$BQ$1017),0)","v":0},{"$f":"IFERROR($E256*SUMIF('Daily Log'!$BS$18:$BS$1017,$B256,'Daily Log'!$BT$18:$BT$1017),0)","v":0},{"$f":"IFERROR($E256*SUMIF('Daily Log'!$BV$18:$BV$1017,$B256,'Daily Log'!$BW$18:$BW$1017),0)","v":0},{"$f":"IFERROR($E256*SUMIF('Daily Log'!$BY$18:$BY$1017,$B256,'Daily Log'!$BZ$18:$BZ$1017),0)","v":0},{"$f":"IFERROR($E256*SUMIF('Daily Log'!$CB$18:$CB$1017,$B256,'Daily Log'!$CC$18:$CC$1017),0)","v":0},{"$f":"IFERROR($E256*SUMIF('Daily Log'!$CE$18:$CE$1017,$B256,'Daily Log'!$CF$18:$CF$1017),0)","v":0},{"$f":"IFERROR($E256*SUMIF('Daily Log'!$CH$18:$CH$1017,$B256,'Daily Log'!$CI$18:$CI$1017),0)","v":0},{"$f":"IFERROR($E256*SUMIF('Daily Log'!$CK$18:$CK$1017,$B256,'Daily Log'!$CL$18:$CL$1017),0)","v":1297},{"$f":"IFERROR($E256*SUMIF('Daily Log'!$CN$18:$CN$1017,$B256,'Daily Log'!$CO$18:$CO$1017),0)","v":0}]
[null,"CN02 NESCAFE (H)",null,"FFD-HOT BEVERAGE",1,457,{"$f":"IFERROR($E257*SUMIF('Daily Log'!$B$18:$B$1017,$B257,'Daily Log'!$C$18:$C$1017),0)","v":0},{"$f":"IFERROR($E257*SUMIF('Daily Log'!$E$18:$E$1017,$B257,'Daily Log'!$F$18:$F$1017),0)","v":0},{"$f":"IFERROR($E257*SUMIF('Daily Log'!$H$18:$H$1017,$B257,'Daily Log'!$I$18:$I$1017),0)","v":0},{"$f":"IFERROR($E257*SUMIF('Daily Log'!$K$18:$K$1017,$B257,'Daily Log'!$L$18:$L$1017),0)","v":0},{"$f":"IFERROR($E257*SUMIF('Daily Log'!$N$18:$N$1017,$B257,'Daily Log'!$O$18:$O$1017),0)","v":0},{"$f":"IFERROR($E257*SUMIF('Daily Log'!$Q$18:$Q$1017,$B257,'Daily Log'!$R$18:$R$1017),0)","v":0},{"$f":"IFERROR($E257*SUMIF('Daily Log'!$T$18:$T$1017,$B257,'Daily Log'!$U$18:$U$1017),0)","v":0},{"$f":"IFERROR($E257*SUMIF('Daily Log'!$W$18:$W$1017,$B257,'Daily Log'!$X$18:$X$1017),0)","v":0},{"$f":"IFERROR($E257*SUMIF('Daily Log'!$Z$18:$Z$1017,$B257,'Daily Log'!$AA$18:$AA$1017),0)","v":0},{"$f":"IFERROR($E257*SUMIF('Daily Log'!$AC$18:$AC$1017,$B257,'Daily Log'!$AD$18:$AD$1017),0)","v":0},{"$f":"IFERROR($E257*SUMIF('Daily Log'!$AF$18:$AF$1017,$B257,'Daily Log'!$AG$18:$AG$1017),0)","v":0},{"$f":"IFERROR($E257*SUMIF('Daily Log'!$AI$18:$AI$1017,$B257,'Daily Log'!$AJ$18:$AJ$1017),0)","v":0},{"$f":"IFERROR($E257*SUMIF('Daily Log'!$AL$18:$AL$1017,$B257,'Daily Log'!$AM$18:$AM$1017),0)","v":0},{"$f":"IFERROR($E257*SUMIF('Daily Log'!$AO$18:$AO$1017,$B257,'Daily Log'!$AP$18:$AP$1017),0)","v":0},{"$f":"IFERROR($E257*SUMIF('Daily Log'!$AR$18:$AR$1017,$B257,'Daily Log'!$AS$18:$AS$1017),0)","v":0},{"$f":"IFERROR($E257*SUMIF('Daily Log'!$AU$18:$AU$1017,$B257,'Daily Log'!$AV$18:$AV$1017),0)","v":0},{"$f":"IFERROR($E257*SUMIF('Daily Log'!$AX$18:$AX$1017,$B257,'Daily Log'!$AY$18:$AY$1017),0)","v":0},{"$f":"IFERROR($E257*SUMIF('Daily Log'!$BA$18:$BA$1017,$B257,'Daily Log'!$BB$18:$BB$1017),0)","v":0},{"$f":"IFERROR($E257*SUMIF('Daily Log'!$BD$18:$BD$1017,$B257,'Daily Log'!$BE$18:$BE$1017),0)","v":0},{"$f":"IFERROR($E257*SUMIF('Daily Log'!$BG$18:$BG$1017,$B257,'Daily Log'!$BH$18:$BH$1017),0)","v":0},{"$f":"IFERROR($E257*SUMIF('Daily Log'!$BJ$18:$BJ$1017,$B257,'Daily Log'!$BK$18:$BK$1017),0)","v":0},{"$f":"IFERROR($E257*SUMIF('Daily Log'!$BM$18:$BM$1017,$B257,'Daily Log'!$BN$18:$BN$1017),0)","v":0},{"$f":"IFERROR($E257*SUMIF('Daily Log'!$BP$18:$BP$1017,$B257,'Daily Log'!$BQ$18:$BQ$1017),0)","v":0},{"$f":"IFERROR($E257*SUMIF('Daily Log'!$BS$18:$BS$1017,$B257,'Daily Log'!$BT$18:$BT$1017),0)","v":0},{"$f":"IFERROR($E257*SUMIF('Daily Log'!$BV$18:$BV$1017,$B257,'Daily Log'!$BW$18:$BW$1017),0)","v":0},{"$f":"IFERROR($E257*SUMIF('Daily Log'!$BY$18:$BY$1017,$B257,'Daily Log'!$BZ$18:$BZ$1017),0)","v":0},{"$f":"IFERROR($E257*SUMIF('Daily Log'!$CB$18:$CB$1017,$B257,'Daily Log'!$CC$18:$CC$1017),0)","v":0},{"$f":"IFERROR($E257*SUMIF('Daily Log'!$CE$18:$CE$1017,$B257,'Daily Log'!$CF$18:$CF$1017),0)","v":0},{"$f":"IFERROR($E257*SUMIF('Daily Log'!$CH$18:$CH$1017,$B257,'Daily Log'!$CI$18:$CI$1017),0)","v":0},{"$f":"IFERROR($E257*SUMIF('Daily Log'!$CK$18:$CK$1017,$B257,'Daily Log'!$CL$18:$CL$1017),0)","v":457},{"$f":"IFERROR($E257*SUMIF('Daily Log'!$CN$18:$CN$1017,$B257,'Daily Log'!$CO$18:$CO$1017),0)","v":0}]
[null,"CN03 TEA (H)",null,"FFD-HOT BEVERAGE",1,144,{"$f":"IFERROR($E258*SUMIF('Daily Log'!$B$18:$B$1017,$B258,'Daily Log'!$C$18:$C$1017),0)","v":0},{"$f":"IFERROR($E258*SUMIF('Daily Log'!$E$18:$E$1017,$B258,'Daily Log'!$F$18:$F$1017),0)","v":0},{"$f":"IFERROR($E258*SUMIF('Daily Log'!$H$18:$H$1017,$B258,'Daily Log'!$I$18:$I$1017),0)","v":0},{"$f":"IFERROR($E258*SUMIF('Daily Log'!$K$18:$K$1017,$B258,'Daily Log'!$L$18:$L$1017),0)","v":0},{"$f":"IFERROR($E258*SUMIF('Daily Log'!$N$18:$N$1017,$B258,'Daily Log'!$O$18:$O$1017),0)","v":0},{"$f":"IFERROR($E258*SUMIF('Daily Log'!$Q$18:$Q$1017,$B258,'Daily Log'!$R$18:$R$1017),0)","v":0},{"$f":"IFERROR($E258*SUMIF('Daily Log'!$T$18:$T$1017,$B258,'Daily Log'!$U$18:$U$1017),0)","v":0},{"$f":"IFERROR($E258*SUMIF('Daily Log'!$W$18:$W$1017,$B258,'Daily Log'!$X$18:$X$1017),0)","v":0},{"$f":"IFERROR($E258*SUMIF('Daily Log'!$Z$18:$Z$1017,$B258,'Daily Log'!$AA$18:$AA$1017),0)","v":0},{"$f":"IFERROR($E258*SUMIF('Daily Log'!$AC$18:$AC$1017,$B258,'Daily Log'!$AD$18:$AD$1017),0)","v":0},{"$f":"IFERROR($E258*SUMIF('Daily Log'!$AF$18:$AF$1017,$B258,'Daily Log'!$AG$18:$AG$1017),0)","v":0},{"$f":"IFERROR($E258*SUMIF('Daily Log'!$AI$18:$AI$1017,$B258,'Daily Log'!$AJ$18:$AJ$1017),0)","v":0},{"$f":"IFERROR($E258*SUMIF('Daily Log'!$AL$18:$AL$1017,$B258,'Daily Log'!$AM$18:$AM$1017),0)","v":0},{"$f":"IFERROR($E258*SUMIF('Daily Log'!$AO$18:$AO$1017,$B258,'Daily Log'!$AP$18:$AP$1017),0)","v":0},{"$f":"IFERROR($E258*SUMIF('Daily Log'!$AR$18:$AR$1017,$B258,'Daily Log'!$AS$18:$AS$1017),0)","v":0},{"$f":"IFERROR($E258*SUMIF('Daily Log'!$AU$18:$AU$1017,$B258,'Daily Log'!$AV$18:$AV$1017),0)","v":0},{"$f":"IFERROR($E258*SUMIF('Daily Log'!$AX$18:$AX$1017,$B258,'Daily Log'!$AY$18:$AY$1017),0)","v":0},{"$f":"IFERROR($E258*SUMIF('Daily Log'!$BA$18:$BA$1017,$B258,'Daily Log'!$BB$18:$BB$1017),0)","v":0},{"$f":"IFERROR($E258*SUMIF('Daily Log'!$BD$18:$BD$1017,$B258,'Daily Log'!$BE$18:$BE$1017),0)","v":0},{"$f":"IFERROR($E258*SUMIF('Daily Log'!$BG$18:$BG$1017,$B258,'Daily Log'!$BH$18:$BH$1017),0)","v":0},{"$f":"IFERROR($E258*SUMIF('Daily Log'!$BJ$18:$BJ$1017,$B258,'Daily Log'!$BK$18:$BK$1017),0)","v":0},{"$f":"IFERROR($E258*SUMIF('Daily Log'!$BM$18:$BM$1017,$B258,'Daily Log'!$BN$18:$BN$1017),0)","v":0},{"$f":"IFERROR($E258*SUMIF('Daily Log'!$BP$18:$BP$1017,$B258,'Daily Log'!$BQ$18:$BQ$1017),0)","v":0},{"$f":"IFERROR($E258*SUMIF('Daily Log'!$BS$18:$BS$1017,$B258,'Daily Log'!$BT$18:$BT$1017),0)","v":0},{"$f":"IFERROR($E258*SUMIF('Daily Log'!$BV$18:$BV$1017,$B258,'Daily Log'!$BW$18:$BW$1017),0)","v":0},{"$f":"IFERROR($E258*SUMIF('Daily Log'!$BY$18:$BY$1017,$B258,'Daily Log'!$BZ$18:$BZ$1017),0)","v":0},{"$f":"IFERROR($E258*SUMIF('Daily Log'!$CB$18:$CB$1017,$B258,'Daily Log'!$CC$18:$CC$1017),0)","v":0},{"$f":"IFERROR($E258*SUMIF('Daily Log'!$CE$18:$CE$1017,$B258,'Daily Log'!$CF$18:$CF$1017),0)","v":0},{"$f":"IFERROR($E258*SUMIF('Daily Log'!$CH$18:$CH$1017,$B258,'Daily Log'!$CI$18:$CI$1017),0)","v":0},{"$f":"IFERROR($E258*SUMIF('Daily Log'!$CK$18:$CK$1017,$B258,'Daily Log'!$CL$18:$CL$1017),0)","v":144},{"$f":"IFERROR($E258*SUMIF('Daily Log'!$CN$18:$CN$1017,$B258,'Daily Log'!$CO$18:$CO$1017),0)","v":0}]
[null,"CN04 LEMON TEA (H)",null,"FFD-HOT BEVERAGE",1,358,{"$f":"IFERROR($E259*SUMIF('Daily Log'!$B$18:$B$1017,$B259,'Daily Log'!$C$18:$C$1017),0)","v":0},{"$f":"IFERROR($E259*SUMIF('Daily Log'!$E$18:$E$1017,$B259,'Daily Log'!$F$18:$F$1017),0)","v":0},{"$f":"IFERROR($E259*SUMIF('Daily Log'!$H$18:$H$1017,$B259,'Daily Log'!$I$18:$I$1017),0)","v":0},{"$f":"IFERROR($E259*SUMIF('Daily Log'!$K$18:$K$1017,$B259,'Daily Log'!$L$18:$L$1017),0)","v":0},{"$f":"IFERROR($E259*SUMIF('Daily Log'!$N$18:$N$1017,$B259,'Daily Log'!$O$18:$O$1017),0)","v":0},{"$f":"IFERROR($E259*SUMIF('Daily Log'!$Q$18:$Q$1017,$B259,'Daily Log'!$R$18:$R$1017),0)","v":0},{"$f":"IFERROR($E259*SUMIF('Daily Log'!$T$18:$T$1017,$B259,'Daily Log'!$U$18:$U$1017),0)","v":0},{"$f":"IFERROR($E259*SUMIF('Daily Log'!$W$18:$W$1017,$B259,'Daily Log'!$X$18:$X$1017),0)","v":0},{"$f":"IFERROR($E259*SUMIF('Daily Log'!$Z$18:$Z$1017,$B259,'Daily Log'!$AA$18:$AA$1017),0)","v":0},{"$f":"IFERROR($E259*SUMIF('Daily Log'!$AC$18:$AC$1017,$B259,'Daily Log'!$AD$18:$AD$1017),0)","v":0},{"$f":"IFERROR($E259*SUMIF('Daily Log'!$AF$18:$AF$1017,$B259,'Daily Log'!$AG$18:$AG$1017),0)","v":0},{"$f":"IFERROR($E259*SUMIF('Daily Log'!$AI$18:$AI$1017,$B259,'Daily Log'!$AJ$18:$AJ$1017),0)","v":0},{"$f":"IFERROR($E259*SUMIF('Daily Log'!$AL$18:$AL$1017,$B259,'Daily Log'!$AM$18:$AM$1017),0)","v":0},{"$f":"IFERROR($E259*SUMIF('Daily Log'!$AO$18:$AO$1017,$B259,'Daily Log'!$AP$18:$AP$1017),0)","v":0},{"$f":"IFERROR($E259*SUMIF('Daily Log'!$AR$18:$AR$1017,$B259,'Daily Log'!$AS$18:$AS$1017),0)","v":0},{"$f":"IFERROR($E259*SUMIF('Daily Log'!$AU$18:$AU$1017,$B259,'Daily Log'!$AV$18:$AV$1017),0)","v":0},{"$f":"IFERROR($E259*SUMIF('Daily Log'!$AX$18:$AX$1017,$B259,'Daily Log'!$AY$18:$AY$1017),0)","v":0},{"$f":"IFERROR($E259*SUMIF('Daily Log'!$BA$18:$BA$1017,$B259,'Daily Log'!$BB$18:$BB$1017),0)","v":0},{"$f":"IFERROR($E259*SUMIF('Daily Log'!$BD$18:$BD$1017,$B259,'Daily Log'!$BE$18:$BE$1017),0)","v":0},{"$f":"IFERROR($E259*SUMIF('Daily Log'!$BG$18:$BG$1017,$B259,'Daily Log'!$BH$18:$BH$1017),0)","v":0},{"$f":"IFERROR($E259*SUMIF('Daily Log'!$BJ$18:$BJ$1017,$B259,'Daily Log'!$BK$18:$BK$1017),0)","v":0},{"$f":"IFERROR($E259*SUMIF('Daily Log'!$BM$18:$BM$1017,$B259,'Daily Log'!$BN$18:$BN$1017),0)","v":0},{"$f":"IFERROR($E259*SUMIF('Daily Log'!$BP$18:$BP$1017,$B259,'Daily Log'!$BQ$18:$BQ$1017),0)","v":0},{"$f":"IFERROR($E259*SUMIF('Daily Log'!$BS$18:$BS$1017,$B259,'Daily Log'!$BT$18:$BT$1017),0)","v":0},{"$f":"IFERROR($E259*SUMIF('Daily Log'!$BV$18:$BV$1017,$B259,'Daily Log'!$BW$18:$BW$1017),0)","v":0},{"$f":"IFERROR($E259*SUMIF('Daily Log'!$BY$18:$BY$1017,$B259,'Daily Log'!$BZ$18:$BZ$1017),0)","v":0},{"$f":"IFERROR($E259*SUMIF('Daily Log'!$CB$18:$CB$1017,$B259,'Daily Log'!$CC$18:$CC$1017),0)","v":0},{"$f":"IFERROR($E259*SUMIF('Daily Log'!$CE$18:$CE$1017,$B259,'Daily Log'!$CF$18:$CF$1017),0)","v":0},{"$f":"IFERROR($E259*SUMIF('Daily Log'!$CH$18:$CH$1017,$B259,'Daily Log'!$CI$18:$CI$1017),0)","v":0},{"$f":"IFERROR($E259*SUMIF('Daily Log'!$CK$18:$CK$1017,$B259,'Daily Log'!$CL$18:$CL$1017),0)","v":358},{"$f":"IFERROR($E259*SUMIF('Daily Log'!$CN$18:$CN$1017,$B259,'Daily Log'!$CO$18:$CO$1017),0)","v":0}]
[null,"CN05 GRN TEA (H)",null,"FFD-HOT BEVERAGE",1,679,{"$f":"IFERROR($E260*SUMIF('Daily Log'!$B$18:$B$1017,$B260,'Daily Log'!$C$18:$C$1017),0)","v":0},{"$f":"IFERROR($E260*SUMIF('Daily Log'!$E$18:$E$1017,$B260,'Daily Log'!$F$18:$F$1017),0)","v":0},{"$f":"IFERROR($E260*SUMIF('Daily Log'!$H$18:$H$1017,$B260,'Daily Log'!$I$18:$I$1017),0)","v":0},{"$f":"IFERROR($E260*SUMIF('Daily Log'!$K$18:$K$1017,$B260,'Daily Log'!$L$18:$L$1017),0)","v":0},{"$f":"IFERROR($E260*SUMIF('Daily Log'!$N$18:$N$1017,$B260,'Daily Log'!$O$18:$O$1017),0)","v":0},{"$f":"IFERROR($E260*SUMIF('Daily Log'!$Q$18:$Q$1017,$B260,'Daily Log'!$R$18:$R$1017),0)","v":0},{"$f":"IFERROR($E260*SUMIF('Daily Log'!$T$18:$T$1017,$B260,'Daily Log'!$U$18:$U$1017),0)","v":0},{"$f":"IFERROR($E260*SUMIF('Daily Log'!$W$18:$W$1017,$B260,'Daily Log'!$X$18:$X$1017),0)","v":0},{"$f":"IFERROR($E260*SUMIF('Daily Log'!$Z$18:$Z$1017,$B260,'Daily Log'!$AA$18:$AA$1017),0)","v":0},{"$f":"IFERROR($E260*SUMIF('Daily Log'!$AC$18:$AC$1017,$B260,'Daily Log'!$AD$18:$AD$1017),0)","v":0},{"$f":"IFERROR($E260*SUMIF('Daily Log'!$AF$18:$AF$1017,$B260,'Daily Log'!$AG$18:$AG$1017),0)","v":0},{"$f":"IFERROR($E260*SUMIF('Daily Log'!$AI$18:$AI$1017,$B260,'Daily Log'!$AJ$18:$AJ$1017),0)","v":0},{"$f":"IFERROR($E260*SUMIF('Daily Log'!$AL$18:$AL$1017,$B260,'Daily Log'!$AM$18:$AM$1017),0)","v":0},{"$f":"IFERROR($E260*SUMIF('Daily Log'!$AO$18:$AO$1017,$B260,'Daily Log'!$AP$18:$AP$1017),0)","v":0},{"$f":"IFERROR($E260*SUMIF('Daily Log'!$AR$18:$AR$1017,$B260,'Daily Log'!$AS$18:$AS$1017),0)","v":0},{"$f":"IFERROR($E260*SUMIF('Daily Log'!$AU$18:$AU$1017,$B260,'Daily Log'!$AV$18:$AV$1017),0)","v":0},{"$f":"IFERROR($E260*SUMIF('Daily Log'!$AX$18:$AX$1017,$B260,'Daily Log'!$AY$18:$AY$1017),0)","v":0},{"$f":"IFERROR($E260*SUMIF('Daily Log'!$BA$18:$BA$1017,$B260,'Daily Log'!$BB$18:$BB$1017),0)","v":0},{"$f":"IFERROR($E260*SUMIF('Daily Log'!$BD$18:$BD$1017,$B260,'Daily Log'!$BE$18:$BE$1017),0)","v":0},{"$f":"IFERROR($E260*SUMIF('Daily Log'!$BG$18:$BG$1017,$B260,'Daily Log'!$BH$18:$BH$1017),0)","v":0},{"$f":"IFERROR($E260*SUMIF('Daily Log'!$BJ$18:$BJ$1017,$B260,'Daily Log'!$BK$18:$BK$1017),0)","v":0},{"$f":"IFERROR($E260*SUMIF('Daily Log'!$BM$18:$BM$1017,$B260,'Daily Log'!$BN$18:$BN$1017),0)","v":0},{"$f":"IFERROR($E260*SUMIF('Daily Log'!$BP$18:$BP$1017,$B260,'Daily Log'!$BQ$18:$BQ$1017),0)","v":0},{"$f":"IFERROR($E260*SUMIF('Daily Log'!$BS$18:$BS$1017,$B260,'Daily Log'!$BT$18:$BT$1017),0)","v":0},{"$f":"IFERROR($E260*SUMIF('Daily Log'!$BV$18:$BV$1017,$B260,'Daily Log'!$BW$18:$BW$1017),0)","v":0},{"$f":"IFERROR($E260*SUMIF('Daily Log'!$BY$18:$BY$1017,$B260,'Daily Log'!$BZ$18:$BZ$1017),0)","v":0},{"$f":"IFERROR($E260*SUMIF('Daily Log'!$CB$18:$CB$1017,$B260,'Daily Log'!$CC$18:$CC$1017),0)","v":0},{"$f":"IFERROR($E260*SUMIF('Daily Log'!$CE$18:$CE$1017,$B260,'Daily Log'!$CF$18:$CF$1017),0)","v":0},{"$f":"IFERROR($E260*SUMIF('Daily Log'!$CH$18:$CH$1017,$B260,'Daily Log'!$CI$18:$CI$1017),0)","v":0},{"$f":"IFERROR($E260*SUMIF('Daily Log'!$CK$18:$CK$1017,$B260,'Daily Log'!$CL$18:$CL$1017),0)","v":679},{"$f":"IFERROR($E260*SUMIF('Daily Log'!$CN$18:$CN$1017,$B260,'Daily Log'!$CO$18:$CO$1017),0)","v":0}]
[null,"CN06 HNY GRN TEA (H)",null,"FFD-HOT BEVERAGE",1,1349,{"$f":"IFERROR($E261*SUMIF('Daily Log'!$B$18:$B$1017,$B261,'Daily Log'!$C$18:$C$1017),0)","v":0},{"$f":"IFERROR($E261*SUMIF('Daily Log'!$E$18:$E$1017,$B261,'Daily Log'!$F$18:$F$1017),0)","v":0},{"$f":"IFERROR($E261*SUMIF('Daily Log'!$H$18:$H$1017,$B261,'Daily Log'!$I$18:$I$1017),0)","v":0},{"$f":"IFERROR($E261*SUMIF('Daily Log'!$K$18:$K$1017,$B261,'Daily Log'!$L$18:$L$1017),0)","v":0},{"$f":"IFERROR($E261*SUMIF('Daily Log'!$N$18:$N$1017,$B261,'Daily Log'!$O$18:$O$1017),0)","v":0},{"$f":"IFERROR($E261*SUMIF('Daily Log'!$Q$18:$Q$1017,$B261,'Daily Log'!$R$18:$R$1017),0)","v":0},{"$f":"IFERROR($E261*SUMIF('Daily Log'!$T$18:$T$1017,$B261,'Daily Log'!$U$18:$U$1017),0)","v":0},{"$f":"IFERROR($E261*SUMIF('Daily Log'!$W$18:$W$1017,$B261,'Daily Log'!$X$18:$X$1017),0)","v":0},{"$f":"IFERROR($E261*SUMIF('Daily Log'!$Z$18:$Z$1017,$B261,'Daily Log'!$AA$18:$AA$1017),0)","v":0},{"$f":"IFERROR($E261*SUMIF('Daily Log'!$AC$18:$AC$1017,$B261,'Daily Log'!$AD$18:$AD$1017),0)","v":0},{"$f":"IFERROR($E261*SUMIF('Daily Log'!$AF$18:$AF$1017,$B261,'Daily Log'!$AG$18:$AG$1017),0)","v":0},{"$f":"IFERROR($E261*SUMIF('Daily Log'!$AI$18:$AI$1017,$B261,'Daily Log'!$AJ$18:$AJ$1017),0)","v":0},{"$f":"IFERROR($E261*SUMIF('Daily Log'!$AL$18:$AL$1017,$B261,'Daily Log'!$AM$18:$AM$1017),0)","v":0},{"$f":"IFERROR($E261*SUMIF('Daily Log'!$AO$18:$AO$1017,$B261,'Daily Log'!$AP$18:$AP$1017),0)","v":0},{"$f":"IFERROR($E261*SUMIF('Daily Log'!$AR$18:$AR$1017,$B261,'Daily Log'!$AS$18:$AS$1017),0)","v":0},{"$f":"IFERROR($E261*SUMIF('Daily Log'!$AU$18:$AU$1017,$B261,'Daily Log'!$AV$18:$AV$1017),0)","v":0},{"$f":"IFERROR($E261*SUMIF('Daily Log'!$AX$18:$AX$1017,$B261,'Daily Log'!$AY$18:$AY$1017),0)","v":4},{"$f":"IFERROR($E261*SUMIF('Daily Log'!$BA$18:$BA$1017,$B261,'Daily Log'!$BB$18:$BB$1017),0)","v":0},{"$f":"IFERROR($E261*SUMIF('Daily Log'!$BD$18:$BD$1017,$B261,'Daily Log'!$BE$18:$BE$1017),0)","v":0},{"$f":"IFERROR($E261*SUMIF('Daily Log'!$BG$18:$BG$1017,$B261,'Daily Log'!$BH$18:$BH$1017),0)","v":0},{"$f":"IFERROR($E261*SUMIF('Daily Log'!$BJ$18:$BJ$1017,$B261,'Daily Log'!$BK$18:$BK$1017),0)","v":0},{"$f":"IFERROR($E261*SUMIF('Daily Log'!$BM$18:$BM$1017,$B261,'Daily Log'!$BN$18:$BN$1017),0)","v":0},{"$f":"IFERROR($E261*SUMIF('Daily Log'!$BP$18:$BP$1017,$B261,'Daily Log'!$BQ$18:$BQ$1017),0)","v":0},{"$f":"IFERROR($E261*SUMIF('Daily Log'!$BS$18:$BS$1017,$B261,'Daily Log'!$BT$18:$BT$1017),0)","v":0},{"$f":"IFERROR($E261*SUMIF('Daily Log'!$BV$18:$BV$1017,$B261,'Daily Log'!$BW$18:$BW$1017),0)","v":0},{"$f":"IFERROR($E261*SUMIF('Daily Log'!$BY$18:$BY$1017,$B261,'Daily Log'!$BZ$18:$BZ$1017),0)","v":0},{"$f":"IFERROR($E261*SUMIF('Daily Log'!$CB$18:$CB$1017,$B261,'Daily Log'!$CC$18:$CC$1017),0)","v":0},{"$f":"IFERROR($E261*SUMIF('Daily Log'!$CE$18:$CE$1017,$B261,'Daily Log'!$CF$18:$CF$1017),0)","v":0},{"$f":"IFERROR($E261*SUMIF('Daily Log'!$CH$18:$CH$1017,$B261,'Daily Log'!$CI$18:$CI$1017),0)","v":0},{"$f":"IFERROR($E261*SUMIF('Daily Log'!$CK$18:$CK$1017,$B261,'Daily Log'!$CL$18:$CL$1017),0)","v":1345},{"$f":"IFERROR($E261*SUMIF('Daily Log'!$CN$18:$CN$1017,$B261,'Daily Log'!$CO$18:$CO$1017),0)","v":0}]
[null,"CN07 HONEY (H)",null,"FFD-HOT BEVERAGE",1,646,{"$f":"IFERROR($E262*SUMIF('Daily Log'!$B$18:$B$1017,$B262,'Daily Log'!$C$18:$C$1017),0)","v":0},{"$f":"IFERROR($E262*SUMIF('Daily Log'!$E$18:$E$1017,$B262,'Daily Log'!$F$18:$F$1017),0)","v":0},{"$f":"IFERROR($E262*SUMIF('Daily Log'!$H$18:$H$1017,$B262,'Daily Log'!$I$18:$I$1017),0)","v":0},{"$f":"IFERROR($E262*SUMIF('Daily Log'!$K$18:$K$1017,$B262,'Daily Log'!$L$18:$L$1017),0)","v":0},{"$f":"IFERROR($E262*SUMIF('Daily Log'!$N$18:$N$1017,$B262,'Daily Log'!$O$18:$O$1017),0)","v":0},{"$f":"IFERROR($E262*SUMIF('Daily Log'!$Q$18:$Q$1017,$B262,'Daily Log'!$R$18:$R$1017),0)","v":0},{"$f":"IFERROR($E262*SUMIF('Daily Log'!$T$18:$T$1017,$B262,'Daily Log'!$U$18:$U$1017),0)","v":0},{"$f":"IFERROR($E262*SUMIF('Daily Log'!$W$18:$W$1017,$B262,'Daily Log'!$X$18:$X$1017),0)","v":0},{"$f":"IFERROR($E262*SUMIF('Daily Log'!$Z$18:$Z$1017,$B262,'Daily Log'!$AA$18:$AA$1017),0)","v":0},{"$f":"IFERROR($E262*SUMIF('Daily Log'!$AC$18:$AC$1017,$B262,'Daily Log'!$AD$18:$AD$1017),0)","v":0},{"$f":"IFERROR($E262*SUMIF('Daily Log'!$AF$18:$AF$1017,$B262,'Daily Log'!$AG$18:$AG$1017),0)","v":0},{"$f":"IFERROR($E262*SUMIF('Daily Log'!$AI$18:$AI$1017,$B262,'Daily Log'!$AJ$18:$AJ$1017),0)","v":0},{"$f":"IFERROR($E262*SUMIF('Daily Log'!$AL$18:$AL$1017,$B262,'Daily Log'!$AM$18:$AM$1017),0)","v":0},{"$f":"IFERROR($E262*SUMIF('Daily Log'!$AO$18:$AO$1017,$B262,'Daily Log'!$AP$18:$AP$1017),0)","v":0},{"$f":"IFERROR($E262*SUMIF('Daily Log'!$AR$18:$AR$1017,$B262,'Daily Log'!$AS$18:$AS$1017),0)","v":0},{"$f":"IFERROR($E262*SUMIF('Daily Log'!$AU$18:$AU$1017,$B262,'Daily Log'!$AV$18:$AV$1017),0)","v":0},{"$f":"IFERROR($E262*SUMIF('Daily Log'!$AX$18:$AX$1017,$B262,'Daily Log'!$AY$18:$AY$1017),0)","v":0},{"$f":"IFERROR($E262*SUMIF('Daily Log'!$BA$18:$BA$1017,$B262,'Daily Log'!$BB$18:$BB$1017),0)","v":0},{"$f":"IFERROR($E262*SUMIF('Daily Log'!$BD$18:$BD$1017,$B262,'Daily Log'!$BE$18:$BE$1017),0)","v":0},{"$f":"IFERROR($E262*SUMIF('Daily Log'!$BG$18:$BG$1017,$B262,'Daily Log'!$BH$18:$BH$1017),0)","v":0},{"$f":"IFERROR($E262*SUMIF('Daily Log'!$BJ$18:$BJ$1017,$B262,'Daily Log'!$BK$18:$BK$1017),0)","v":0},{"$f":"IFERROR($E262*SUMIF('Daily Log'!$BM$18:$BM$1017,$B262,'Daily Log'!$BN$18:$BN$1017),0)","v":0},{"$f":"IFERROR($E262*SUMIF('Daily Log'!$BP$18:$BP$1017,$B262,'Daily Log'!$BQ$18:$BQ$1017),0)","v":0},{"$f":"IFERROR($E262*SUMIF('Daily Log'!$BS$18:$BS$1017,$B262,'Daily Log'!$BT$18:$BT$1017),0)","v":0},{"$f":"IFERROR($E262*SUMIF('Daily Log'!$BV$18:$BV$1017,$B262,'Daily Log'!$BW$18:$BW$1017),0)","v":0},{"$f":"IFERROR($E262*SUMIF('Daily Log'!$BY$18:$BY$1017,$B262,'Daily Log'!$BZ$18:$BZ$1017),0)","v":0},{"$f":"IFERROR($E262*SUMIF('Daily Log'!$CB$18:$CB$1017,$B262,'Daily Log'!$CC$18:$CC$1017),0)","v":0},{"$f":"IFERROR($E262*SUMIF('Daily Log'!$CE$18:$CE$1017,$B262,'Daily Log'!$CF$18:$CF$1017),0)","v":0},{"$f":"IFERROR($E262*SUMIF('Daily Log'!$CH$18:$CH$1017,$B262,'Daily Log'!$CI$18:$CI$1017),0)","v":0},{"$f":"IFERROR($E262*SUMIF('Daily Log'!$CK$18:$CK$1017,$B262,'Daily Log'!$CL$18:$CL$1017),0)","v":646},{"$f":"IFERROR($E262*SUMIF('Daily Log'!$CN$18:$CN$1017,$B262,'Daily Log'!$CO$18:$CO$1017),0)","v":0}]
[null,"CN08 LEMON HONEY (H)",null,"FFD-HOT BEVERAGE",1,3840,{"$f":"IFERROR($E263*SUMIF('Daily Log'!$B$18:$B$1017,$B263,'Daily Log'!$C$18:$C$1017),0)","v":0},{"$f":"IFERROR($E263*SUMIF('Daily Log'!$E$18:$E$1017,$B263,'Daily Log'!$F$18:$F$1017),0)","v":0},{"$f":"IFERROR($E263*SUMIF('Daily Log'!$H$18:$H$1017,$B263,'Daily Log'!$I$18:$I$1017),0)","v":0},{"$f":"IFERROR($E263*SUMIF('Daily Log'!$K$18:$K$1017,$B263,'Daily Log'!$L$18:$L$1017),0)","v":0},{"$f":"IFERROR($E263*SUMIF('Daily Log'!$N$18:$N$1017,$B263,'Daily Log'!$O$18:$O$1017),0)","v":0},{"$f":"IFERROR($E263*SUMIF('Daily Log'!$Q$18:$Q$1017,$B263,'Daily Log'!$R$18:$R$1017),0)","v":0},{"$f":"IFERROR($E263*SUMIF('Daily Log'!$T$18:$T$1017,$B263,'Daily Log'!$U$18:$U$1017),0)","v":0},{"$f":"IFERROR($E263*SUMIF('Daily Log'!$W$18:$W$1017,$B263,'Daily Log'!$X$18:$X$1017),0)","v":0},{"$f":"IFERROR($E263*SUMIF('Daily Log'!$Z$18:$Z$1017,$B263,'Daily Log'!$AA$18:$AA$1017),0)","v":0},{"$f":"IFERROR($E263*SUMIF('Daily Log'!$AC$18:$AC$1017,$B263,'Daily Log'!$AD$18:$AD$1017),0)","v":0},{"$f":"IFERROR($E263*SUMIF('Daily Log'!$AF$18:$AF$1017,$B263,'Daily Log'!$AG$18:$AG$1017),0)","v":0},{"$f":"IFERROR($E263*SUMIF('Daily Log'!$AI$18:$AI$1017,$B263,'Daily Log'!$AJ$18:$AJ$1017),0)","v":0},{"$f":"IFERROR($E263*SUMIF('Daily Log'!$AL$18:$AL$1017,$B263,'Daily Log'!$AM$18:$AM$1017),0)","v":0},{"$f":"IFERROR($E263*SUMIF('Daily Log'!$AO$18:$AO$1017,$B263,'Daily Log'!$AP$18:$AP$1017),0)","v":0},{"$f":"IFERROR($E263*SUMIF('Daily Log'!$AR$18:$AR$1017,$B263,'Daily Log'!$AS$18:$AS$1017),0)","v":0},{"$f":"IFERROR($E263*SUMIF('Daily Log'!$AU$18:$AU$1017,$B263,'Daily Log'!$AV$18:$AV$1017),0)","v":0},{"$f":"IFERROR($E263*SUMIF('Daily Log'!$AX$18:$AX$1017,$B263,'Daily Log'!$AY$18:$AY$1017),0)","v":0},{"$f":"IFERROR($E263*SUMIF('Daily Log'!$BA$18:$BA$1017,$B263,'Daily Log'!$BB$18:$BB$1017),0)","v":0},{"$f":"IFERROR($E263*SUMIF('Daily Log'!$BD$18:$BD$1017,$B263,'Daily Log'!$BE$18:$BE$1017),0)","v":0},{"$f":"IFERROR($E263*SUMIF('Daily Log'!$BG$18:$BG$1017,$B263,'Daily Log'!$BH$18:$BH$1017),0)","v":0},{"$f":"IFERROR($E263*SUMIF('Daily Log'!$BJ$18:$BJ$1017,$B263,'Daily Log'!$BK$18:$BK$1017),0)","v":0},{"$f":"IFERROR($E263*SUMIF('Daily Log'!$BM$18:$BM$1017,$B263,'Daily Log'!$BN$18:$BN$1017),0)","v":0},{"$f":"IFERROR($E263*SUMIF('Daily Log'!$BP$18:$BP$1017,$B263,'Daily Log'!$BQ$18:$BQ$1017),0)","v":0},{"$f":"IFERROR($E263*SUMIF('Daily Log'!$BS$18:$BS$1017,$B263,'Daily Log'!$BT$18:$BT$1017),0)","v":0},{"$f":"IFERROR($E263*SUMIF('Daily Log'!$BV$18:$BV$1017,$B263,'Daily Log'!$BW$18:$BW$1017),0)","v":0},{"$f":"IFERROR($E263*SUMIF('Daily Log'!$BY$18:$BY$1017,$B263,'Daily Log'!$BZ$18:$BZ$1017),0)","v":0},{"$f":"IFERROR($E263*SUMIF('Daily Log'!$CB$18:$CB$1017,$B263,'Daily Log'!$CC$18:$CC$1017),0)","v":0},{"$f":"IFERROR($E263*SUMIF('Daily Log'!$CE$18:$CE$1017,$B263,'Daily Log'!$CF$18:$CF$1017),0)","v":0},{"$f":"IFERROR($E263*SUMIF('Daily Log'!$CH$18:$CH$1017,$B263,'Daily Log'!$CI$18:$CI$1017),0)","v":0},{"$f":"IFERROR($E263*SUMIF('Daily Log'!$CK$18:$CK$1017,$B263,'Daily Log'!$CL$18:$CL$1017),0)","v":3840},{"$f":"IFERROR($E263*SUMIF('Daily Log'!$CN$18:$CN$1017,$B263,'Daily Log'!$CO$18:$CO$1017),0)","v":0}]
[null,"CN12 CHAMOMILE (H)",null,"FFD-HOT BEVERAGE",1,224,{"$f":"IFERROR($E264*SUMIF('Daily Log'!$B$18:$B$1017,$B264,'Daily Log'!$C$18:$C$1017),0)","v":0},{"$f":"IFERROR($E264*SUMIF('Daily Log'!$E$18:$E$1017,$B264,'Daily Log'!$F$18:$F$1017),0)","v":0},{"$f":"IFERROR($E264*SUMIF('Daily Log'!$H$18:$H$1017,$B264,'Daily Log'!$I$18:$I$1017),0)","v":0},{"$f":"IFERROR($E264*SUMIF('Daily Log'!$K$18:$K$1017,$B264,'Daily Log'!$L$18:$L$1017),0)","v":0},{"$f":"IFERROR($E264*SUMIF('Daily Log'!$N$18:$N$1017,$B264,'Daily Log'!$O$18:$O$1017),0)","v":0},{"$f":"IFERROR($E264*SUMIF('Daily Log'!$Q$18:$Q$1017,$B264,'Daily Log'!$R$18:$R$1017),0)","v":0},{"$f":"IFERROR($E264*SUMIF('Daily Log'!$T$18:$T$1017,$B264,'Daily Log'!$U$18:$U$1017),0)","v":0},{"$f":"IFERROR($E264*SUMIF('Daily Log'!$W$18:$W$1017,$B264,'Daily Log'!$X$18:$X$1017),0)","v":0},{"$f":"IFERROR($E264*SUMIF('Daily Log'!$Z$18:$Z$1017,$B264,'Daily Log'!$AA$18:$AA$1017),0)","v":0},{"$f":"IFERROR($E264*SUMIF('Daily Log'!$AC$18:$AC$1017,$B264,'Daily Log'!$AD$18:$AD$1017),0)","v":0},{"$f":"IFERROR($E264*SUMIF('Daily Log'!$AF$18:$AF$1017,$B264,'Daily Log'!$AG$18:$AG$1017),0)","v":0},{"$f":"IFERROR($E264*SUMIF('Daily Log'!$AI$18:$AI$1017,$B264,'Daily Log'!$AJ$18:$AJ$1017),0)","v":0},{"$f":"IFERROR($E264*SUMIF('Daily Log'!$AL$18:$AL$1017,$B264,'Daily Log'!$AM$18:$AM$1017),0)","v":0},{"$f":"IFERROR($E264*SUMIF('Daily Log'!$AO$18:$AO$1017,$B264,'Daily Log'!$AP$18:$AP$1017),0)","v":0},{"$f":"IFERROR($E264*SUMIF('Daily Log'!$AR$18:$AR$1017,$B264,'Daily Log'!$AS$18:$AS$1017),0)","v":0},{"$f":"IFERROR($E264*SUMIF('Daily Log'!$AU$18:$AU$1017,$B264,'Daily Log'!$AV$18:$AV$1017),0)","v":0},{"$f":"IFERROR($E264*SUMIF('Daily Log'!$AX$18:$AX$1017,$B264,'Daily Log'!$AY$18:$AY$1017),0)","v":0},{"$f":"IFERROR($E264*SUMIF('Daily Log'!$BA$18:$BA$1017,$B264,'Daily Log'!$BB$18:$BB$1017),0)","v":0},{"$f":"IFERROR($E264*SUMIF('Daily Log'!$BD$18:$BD$1017,$B264,'Daily Log'!$BE$18:$BE$1017),0)","v":0},{"$f":"IFERROR($E264*SUMIF('Daily Log'!$BG$18:$BG$1017,$B264,'Daily Log'!$BH$18:$BH$1017),0)","v":0},{"$f":"IFERROR($E264*SUMIF('Daily Log'!$BJ$18:$BJ$1017,$B264,'Daily Log'!$BK$18:$BK$1017),0)","v":0},{"$f":"IFERROR($E264*SUMIF('Daily Log'!$BM$18:$BM$1017,$B264,'Daily Log'!$BN$18:$BN$1017),0)","v":0},{"$f":"IFERROR($E264*SUMIF('Daily Log'!$BP$18:$BP$1017,$B264,'Daily Log'!$BQ$18:$BQ$1017),0)","v":0},{"$f":"IFERROR($E264*SUMIF('Daily Log'!$BS$18:$BS$1017,$B264,'Daily Log'!$BT$18:$BT$1017),0)","v":0},{"$f":"IFERROR($E264*SUMIF('Daily Log'!$BV$18:$BV$1017,$B264,'Daily Log'!$BW$18:$BW$1017),0)","v":0},{"$f":"IFERROR($E264*SUMIF('Daily Log'!$BY$18:$BY$1017,$B264,'Daily Log'!$BZ$18:$BZ$1017),0)","v":0},{"$f":"IFERROR($E264*SUMIF('Daily Log'!$CB$18:$CB$1017,$B264,'Daily Log'!$CC$18:$CC$1017),0)","v":0},{"$f":"IFERROR($E264*SUMIF('Daily Log'!$CE$18:$CE$1017,$B264,'Daily Log'!$CF$18:$CF$1017),0)","v":0},{"$f":"IFERROR($E264*SUMIF('Daily Log'!$CH$18:$CH$1017,$B264,'Daily Log'!$CI$18:$CI$1017),0)","v":0},{"$f":"IFERROR($E264*SUMIF('Daily Log'!$CK$18:$CK$1017,$B264,'Daily Log'!$CL$18:$CL$1017),0)","v":224},{"$f":"IFERROR($E264*SUMIF('Daily Log'!$CN$18:$CN$1017,$B264,'Daily Log'!$CO$18:$CO$1017),0)","v":0}]
[null,"CN13 DARJEELING (H)",null,"FFD-HOT BEVERAGE",1,47,{"$f":"IFERROR($E265*SUMIF('Daily Log'!$B$18:$B$1017,$B265,'Daily Log'!$C$18:$C$1017),0)","v":0},{"$f":"IFERROR($E265*SUMIF('Daily Log'!$E$18:$E$1017,$B265,'Daily Log'!$F$18:$F$1017),0)","v":0},{"$f":"IFERROR($E265*SUMIF('Daily Log'!$H$18:$H$1017,$B265,'Daily Log'!$I$18:$I$1017),0)","v":0},{"$f":"IFERROR($E265*SUMIF('Daily Log'!$K$18:$K$1017,$B265,'Daily Log'!$L$18:$L$1017),0)","v":0},{"$f":"IFERROR($E265*SUMIF('Daily Log'!$N$18:$N$1017,$B265,'Daily Log'!$O$18:$O$1017),0)","v":0},{"$f":"IFERROR($E265*SUMIF('Daily Log'!$Q$18:$Q$1017,$B265,'Daily Log'!$R$18:$R$1017),0)","v":0},{"$f":"IFERROR($E265*SUMIF('Daily Log'!$T$18:$T$1017,$B265,'Daily Log'!$U$18:$U$1017),0)","v":0},{"$f":"IFERROR($E265*SUMIF('Daily Log'!$W$18:$W$1017,$B265,'Daily Log'!$X$18:$X$1017),0)","v":0},{"$f":"IFERROR($E265*SUMIF('Daily Log'!$Z$18:$Z$1017,$B265,'Daily Log'!$AA$18:$AA$1017),0)","v":0},{"$f":"IFERROR($E265*SUMIF('Daily Log'!$AC$18:$AC$1017,$B265,'Daily Log'!$AD$18:$AD$1017),0)","v":0},{"$f":"IFERROR($E265*SUMIF('Daily Log'!$AF$18:$AF$1017,$B265,'Daily Log'!$AG$18:$AG$1017),0)","v":0},{"$f":"IFERROR($E265*SUMIF('Daily Log'!$AI$18:$AI$1017,$B265,'Daily Log'!$AJ$18:$AJ$1017),0)","v":0},{"$f":"IFERROR($E265*SUMIF('Daily Log'!$AL$18:$AL$1017,$B265,'Daily Log'!$AM$18:$AM$1017),0)","v":0},{"$f":"IFERROR($E265*SUMIF('Daily Log'!$AO$18:$AO$1017,$B265,'Daily Log'!$AP$18:$AP$1017),0)","v":0},{"$f":"IFERROR($E265*SUMIF('Daily Log'!$AR$18:$AR$1017,$B265,'Daily Log'!$AS$18:$AS$1017),0)","v":0},{"$f":"IFERROR($E265*SUMIF('Daily Log'!$AU$18:$AU$1017,$B265,'Daily Log'!$AV$18:$AV$1017),0)","v":0},{"$f":"IFERROR($E265*SUMIF('Daily Log'!$AX$18:$AX$1017,$B265,'Daily Log'!$AY$18:$AY$1017),0)","v":0},{"$f":"IFERROR($E265*SUMIF('Daily Log'!$BA$18:$BA$1017,$B265,'Daily Log'!$BB$18:$BB$1017),0)","v":0},{"$f":"IFERROR($E265*SUMIF('Daily Log'!$BD$18:$BD$1017,$B265,'Daily Log'!$BE$18:$BE$1017),0)","v":0},{"$f":"IFERROR($E265*SUMIF('Daily Log'!$BG$18:$BG$1017,$B265,'Daily Log'!$BH$18:$BH$1017),0)","v":0},{"$f":"IFERROR($E265*SUMIF('Daily Log'!$BJ$18:$BJ$1017,$B265,'Daily Log'!$BK$18:$BK$1017),0)","v":0},{"$f":"IFERROR($E265*SUMIF('Daily Log'!$BM$18:$BM$1017,$B265,'Daily Log'!$BN$18:$BN$1017),0)","v":0},{"$f":"IFERROR($E265*SUMIF('Daily Log'!$BP$18:$BP$1017,$B265,'Daily Log'!$BQ$18:$BQ$1017),0)","v":0},{"$f":"IFERROR($E265*SUMIF('Daily Log'!$BS$18:$BS$1017,$B265,'Daily Log'!$BT$18:$BT$1017),0)","v":0},{"$f":"IFERROR($E265*SUMIF('Daily Log'!$BV$18:$BV$1017,$B265,'Daily Log'!$BW$18:$BW$1017),0)","v":0},{"$f":"IFERROR($E265*SUMIF('Daily Log'!$BY$18:$BY$1017,$B265,'Daily Log'!$BZ$18:$BZ$1017),0)","v":0},{"$f":"IFERROR($E265*SUMIF('Daily Log'!$CB$18:$CB$1017,$B265,'Daily Log'!$CC$18:$CC$1017),0)","v":0},{"$f":"IFERROR($E265*SUMIF('Daily Log'!$CE$18:$CE$1017,$B265,'Daily Log'!$CF$18:$CF$1017),0)","v":0},{"$f":"IFERROR($E265*SUMIF('Daily Log'!$CH$18:$CH$1017,$B265,'Daily Log'!$CI$18:$CI$1017),0)","v":0},{"$f":"IFERROR($E265*SUMIF('Daily Log'!$CK$18:$CK$1017,$B265,'Daily Log'!$CL$18:$CL$1017),0)","v":47},{"$f":"IFERROR($E265*SUMIF('Daily Log'!$CN$18:$CN$1017,$B265,'Daily Log'!$CO$18:$CO$1017),0)","v":0}]
[null,"CN14 EARL GREY (H)",null,"FFD-HOT BEVERAGE",1,135,{"$f":"IFERROR($E266*SUMIF('Daily Log'!$B$18:$B$1017,$B266,'Daily Log'!$C$18:$C$1017),0)","v":0},{"$f":"IFERROR($E266*SUMIF('Daily Log'!$E$18:$E$1017,$B266,'Daily Log'!$F$18:$F$1017),0)","v":0},{"$f":"IFERROR($E266*SUMIF('Daily Log'!$H$18:$H$1017,$B266,'Daily Log'!$I$18:$I$1017),0)","v":0},{"$f":"IFERROR($E266*SUMIF('Daily Log'!$K$18:$K$1017,$B266,'Daily Log'!$L$18:$L$1017),0)","v":0},{"$f":"IFERROR($E266*SUMIF('Daily Log'!$N$18:$N$1017,$B266,'Daily Log'!$O$18:$O$1017),0)","v":0},{"$f":"IFERROR($E266*SUMIF('Daily Log'!$Q$18:$Q$1017,$B266,'Daily Log'!$R$18:$R$1017),0)","v":0},{"$f":"IFERROR($E266*SUMIF('Daily Log'!$T$18:$T$1017,$B266,'Daily Log'!$U$18:$U$1017),0)","v":0},{"$f":"IFERROR($E266*SUMIF('Daily Log'!$W$18:$W$1017,$B266,'Daily Log'!$X$18:$X$1017),0)","v":0},{"$f":"IFERROR($E266*SUMIF('Daily Log'!$Z$18:$Z$1017,$B266,'Daily Log'!$AA$18:$AA$1017),0)","v":0},{"$f":"IFERROR($E266*SUMIF('Daily Log'!$AC$18:$AC$1017,$B266,'Daily Log'!$AD$18:$AD$1017),0)","v":0},{"$f":"IFERROR($E266*SUMIF('Daily Log'!$AF$18:$AF$1017,$B266,'Daily Log'!$AG$18:$AG$1017),0)","v":0},{"$f":"IFERROR($E266*SUMIF('Daily Log'!$AI$18:$AI$1017,$B266,'Daily Log'!$AJ$18:$AJ$1017),0)","v":0},{"$f":"IFERROR($E266*SUMIF('Daily Log'!$AL$18:$AL$1017,$B266,'Daily Log'!$AM$18:$AM$1017),0)","v":0},{"$f":"IFERROR($E266*SUMIF('Daily Log'!$AO$18:$AO$1017,$B266,'Daily Log'!$AP$18:$AP$1017),0)","v":0},{"$f":"IFERROR($E266*SUMIF('Daily Log'!$AR$18:$AR$1017,$B266,'Daily Log'!$AS$18:$AS$1017),0)","v":0},{"$f":"IFERROR($E266*SUMIF('Daily Log'!$AU$18:$AU$1017,$B266,'Daily Log'!$AV$18:$AV$1017),0)","v":0},{"$f":"IFERROR($E266*SUMIF('Daily Log'!$AX$18:$AX$1017,$B266,'Daily Log'!$AY$18:$AY$1017),0)","v":0},{"$f":"IFERROR($E266*SUMIF('Daily Log'!$BA$18:$BA$1017,$B266,'Daily Log'!$BB$18:$BB$1017),0)","v":0},{"$f":"IFERROR($E266*SUMIF('Daily Log'!$BD$18:$BD$1017,$B266,'Daily Log'!$BE$18:$BE$1017),0)","v":0},{"$f":"IFERROR($E266*SUMIF('Daily Log'!$BG$18:$BG$1017,$B266,'Daily Log'!$BH$18:$BH$1017),0)","v":0},{"$f":"IFERROR($E266*SUMIF('Daily Log'!$BJ$18:$BJ$1017,$B266,'Daily Log'!$BK$18:$BK$1017),0)","v":0},{"$f":"IFERROR($E266*SUMIF('Daily Log'!$BM$18:$BM$1017,$B266,'Daily Log'!$BN$18:$BN$1017),0)","v":0},{"$f":"IFERROR($E266*SUMIF('Daily Log'!$BP$18:$BP$1017,$B266,'Daily Log'!$BQ$18:$BQ$1017),0)","v":0},{"$f":"IFERROR($E266*SUMIF('Daily Log'!$BS$18:$BS$1017,$B266,'Daily Log'!$BT$18:$BT$1017),0)","v":0},{"$f":"IFERROR($E266*SUMIF('Daily Log'!$BV$18:$BV$1017,$B266,'Daily Log'!$BW$18:$BW$1017),0)","v":0},{"$f":"IFERROR($E266*SUMIF('Daily Log'!$BY$18:$BY$1017,$B266,'Daily Log'!$BZ$18:$BZ$1017),0)","v":0},{"$f":"IFERROR($E266*SUMIF('Daily Log'!$CB$18:$CB$1017,$B266,'Daily Log'!$CC$18:$CC$1017),0)","v":0},{"$f":"IFERROR($E266*SUMIF('Daily Log'!$CE$18:$CE$1017,$B266,'Daily Log'!$CF$18:$CF$1017),0)","v":0},{"$f":"IFERROR($E266*SUMIF('Daily Log'!$CH$18:$CH$1017,$B266,'Daily Log'!$CI$18:$CI$1017),0)","v":0},{"$f":"IFERROR($E266*SUMIF('Daily Log'!$CK$18:$CK$1017,$B266,'Daily Log'!$CL$18:$CL$1017),0)","v":135},{"$f":"IFERROR($E266*SUMIF('Daily Log'!$CN$18:$CN$1017,$B266,'Daily Log'!$CO$18:$CO$1017),0)","v":0}]
[null,"CO01 MINERAL WATER",null,"SKY JUICE",1,0,{"$f":"IFERROR($E267*SUMIF('Daily Log'!$B$18:$B$1017,$B267,'Daily Log'!$C$18:$C$1017),0)","v":0},{"$f":"IFERROR($E267*SUMIF('Daily Log'!$E$18:$E$1017,$B267,'Daily Log'!$F$18:$F$1017),0)","v":0},{"$f":"IFERROR($E267*SUMIF('Daily Log'!$H$18:$H$1017,$B267,'Daily Log'!$I$18:$I$1017),0)","v":0},{"$f":"IFERROR($E267*SUMIF('Daily Log'!$K$18:$K$1017,$B267,'Daily Log'!$L$18:$L$1017),0)","v":0},{"$f":"IFERROR($E267*SUMIF('Daily Log'!$N$18:$N$1017,$B267,'Daily Log'!$O$18:$O$1017),0)","v":0},{"$f":"IFERROR($E267*SUMIF('Daily Log'!$Q$18:$Q$1017,$B267,'Daily Log'!$R$18:$R$1017),0)","v":0},{"$f":"IFERROR($E267*SUMIF('Daily Log'!$T$18:$T$1017,$B267,'Daily Log'!$U$18:$U$1017),0)","v":0},{"$f":"IFERROR($E267*SUMIF('Daily Log'!$W$18:$W$1017,$B267,'Daily Log'!$X$18:$X$1017),0)","v":0},{"$f":"IFERROR($E267*SUMIF('Daily Log'!$Z$18:$Z$1017,$B267,'Daily Log'!$AA$18:$AA$1017),0)","v":0},{"$f":"IFERROR($E267*SUMIF('Daily Log'!$AC$18:$AC$1017,$B267,'Daily Log'!$AD$18:$AD$1017),0)","v":0},{"$f":"IFERROR($E267*SUMIF('Daily Log'!$AF$18:$AF$1017,$B267,'Daily Log'!$AG$18:$AG$1017),0)","v":0},{"$f":"IFERROR($E267*SUMIF('Daily Log'!$AI$18:$AI$1017,$B267,'Daily Log'!$AJ$18:$AJ$1017),0)","v":0},{"$f":"IFERROR($E267*SUMIF('Daily Log'!$AL$18:$AL$1017,$B267,'Daily Log'!$AM$18:$AM$1017),0)","v":0},{"$f":"IFERROR($E267*SUMIF('Daily Log'!$AO$18:$AO$1017,$B267,'Daily Log'!$AP$18:$AP$1017),0)","v":0},{"$f":"IFERROR($E267*SUMIF('Daily Log'!$AR$18:$AR$1017,$B267,'Daily Log'!$AS$18:$AS$1017),0)","v":0},{"$f":"IFERROR($E267*SUMIF('Daily Log'!$AU$18:$AU$1017,$B267,'Daily Log'!$AV$18:$AV$1017),0)","v":0},{"$f":"IFERROR($E267*SUMIF('Daily Log'!$AX$18:$AX$1017,$B267,'Daily Log'!$AY$18:$AY$1017),0)","v":0},{"$f":"IFERROR($E267*SUMIF('Daily Log'!$BA$18:$BA$1017,$B267,'Daily Log'!$BB$18:$BB$1017),0)","v":0},{"$f":"IFERROR($E267*SUMIF('Daily Log'!$BD$18:$BD$1017,$B267,'Daily Log'!$BE$18:$BE$1017),0)","v":0},{"$f":"IFERROR($E267*SUMIF('Daily Log'!$BG$18:$BG$1017,$B267,'Daily Log'!$BH$18:$BH$1017),0)","v":0},{"$f":"IFERROR($E267*SUMIF('Daily Log'!$BJ$18:$BJ$1017,$B267,'Daily Log'!$BK$18:$BK$1017),0)","v":0},{"$f":"IFERROR($E267*SUMIF('Daily Log'!$BM$18:$BM$1017,$B267,'Daily Log'!$BN$18:$BN$1017),0)","v":0},{"$f":"IFERROR($E267*SUMIF('Daily Log'!$BP$18:$BP$1017,$B267,'Daily Log'!$BQ$18:$BQ$1017),0)","v":0},{"$f":"IFERROR($E267*SUMIF('Daily Log'!$BS$18:$BS$1017,$B267,'Daily Log'!$BT$18:$BT$1017),0)","v":0},{"$f":"IFERROR($E267*SUMIF('Daily Log'!$BV$18:$BV$1017,$B267,'Daily Log'!$BW$18:$BW$1017),0)","v":0},{"$f":"IFERROR($E267*SUMIF('Daily Log'!$BY$18:$BY$1017,$B267,'Daily Log'!$BZ$18:$BZ$1017),0)","v":0},{"$f":"IFERROR($E267*SUMIF('Daily Log'!$CB$18:$CB$1017,$B267,'Daily Log'!$CC$18:$CC$1017),0)","v":0},{"$f":"IFERROR($E267*SUMIF('Daily Log'!$CE$18:$CE$1017,$B267,'Daily Log'!$CF$18:$CF$1017),0)","v":0},{"$f":"IFERROR($E267*SUMIF('Daily Log'!$CH$18:$CH$1017,$B267,'Daily Log'!$CI$18:$CI$1017),0)","v":0},{"$f":"IFERROR($E267*SUMIF('Daily Log'!$CK$18:$CK$1017,$B267,'Daily Log'!$CL$18:$CL$1017),0)","v":0},{"$f":"IFERROR($E267*SUMIF('Daily Log'!$CN$18:$CN$1017,$B267,'Daily Log'!$CO$18:$CO$1017),0)","v":0}]
[null,"DB01 1001:BP CKN CP",null,"SIDE ORDER-WESTERN CRUISE",1,72,{"$f":"IFERROR($E268*SUMIF('Daily Log'!$B$18:$B$1017,$B268,'Daily Log'!$C$18:$C$1017),0)","v":0},{"$f":"IFERROR($E268*SUMIF('Daily Log'!$E$18:$E$1017,$B268,'Daily Log'!$F$18:$F$1017),0)","v":0},{"$f":"IFERROR($E268*SUMIF('Daily Log'!$H$18:$H$1017,$B268,'Daily Log'!$I$18:$I$1017),0)","v":0},{"$f":"IFERROR($E268*SUMIF('Daily Log'!$K$18:$K$1017,$B268,'Daily Log'!$L$18:$L$1017),0)","v":0},{"$f":"IFERROR($E268*SUMIF('Daily Log'!$N$18:$N$1017,$B268,'Daily Log'!$O$18:$O$1017),0)","v":0},{"$f":"IFERROR($E268*SUMIF('Daily Log'!$Q$18:$Q$1017,$B268,'Daily Log'!$R$18:$R$1017),0)","v":0},{"$f":"IFERROR($E268*SUMIF('Daily Log'!$T$18:$T$1017,$B268,'Daily Log'!$U$18:$U$1017),0)","v":0},{"$f":"IFERROR($E268*SUMIF('Daily Log'!$W$18:$W$1017,$B268,'Daily Log'!$X$18:$X$1017),0)","v":0},{"$f":"IFERROR($E268*SUMIF('Daily Log'!$Z$18:$Z$1017,$B268,'Daily Log'!$AA$18:$AA$1017),0)","v":0},{"$f":"IFERROR($E268*SUMIF('Daily Log'!$AC$18:$AC$1017,$B268,'Daily Log'!$AD$18:$AD$1017),0)","v":0},{"$f":"IFERROR($E268*SUMIF('Daily Log'!$AF$18:$AF$1017,$B268,'Daily Log'!$AG$18:$AG$1017),0)","v":0},{"$f":"IFERROR($E268*SUMIF('Daily Log'!$AI$18:$AI$1017,$B268,'Daily Log'!$AJ$18:$AJ$1017),0)","v":0},{"$f":"IFERROR($E268*SUMIF('Daily Log'!$AL$18:$AL$1017,$B268,'Daily Log'!$AM$18:$AM$1017),0)","v":0},{"$f":"IFERROR($E268*SUMIF('Daily Log'!$AO$18:$AO$1017,$B268,'Daily Log'!$AP$18:$AP$1017),0)","v":0},{"$f":"IFERROR($E268*SUMIF('Daily Log'!$AR$18:$AR$1017,$B268,'Daily Log'!$AS$18:$AS$1017),0)","v":0},{"$f":"IFERROR($E268*SUMIF('Daily Log'!$AU$18:$AU$1017,$B268,'Daily Log'!$AV$18:$AV$1017),0)","v":0},{"$f":"IFERROR($E268*SUMIF('Daily Log'!$AX$18:$AX$1017,$B268,'Daily Log'!$AY$18:$AY$1017),0)","v":0},{"$f":"IFERROR($E268*SUMIF('Daily Log'!$BA$18:$BA$1017,$B268,'Daily Log'!$BB$18:$BB$1017),0)","v":0},{"$f":"IFERROR($E268*SUMIF('Daily Log'!$BD$18:$BD$1017,$B268,'Daily Log'!$BE$18:$BE$1017),0)","v":0},{"$f":"IFERROR($E268*SUMIF('Daily Log'!$BG$18:$BG$1017,$B268,'Daily Log'!$BH$18:$BH$1017),0)","v":0},{"$f":"IFERROR($E268*SUMIF('Daily Log'!$BJ$18:$BJ$1017,$B268,'Daily Log'!$BK$18:$BK$1017),0)","v":0},{"$f":"IFERROR($E268*SUMIF('Daily Log'!$BM$18:$BM$1017,$B268,'Daily Log'!$BN$18:$BN$1017),0)","v":0},{"$f":"IFERROR($E268*SUMIF('Daily Log'!$BP$18:$BP$1017,$B268,'Daily Log'!$BQ$18:$BQ$1017),0)","v":0},{"$f":"IFERROR($E268*SUMIF('Daily Log'!$BS$18:$BS$1017,$B268,'Daily Log'!$BT$18:$BT$1017),0)","v":0},{"$f":"IFERROR($E268*SUMIF('Daily Log'!$BV$18:$BV$1017,$B268,'Daily Log'!$BW$18:$BW$1017),0)","v":0},{"$f":"IFERROR($E268*SUMIF('Daily Log'!$BY$18:$BY$1017,$B268,'Daily Log'!$BZ$18:$BZ$1017),0)","v":0},{"$f":"IFERROR($E268*SUMIF('Daily Log'!$CB$18:$CB$1017,$B268,'Daily Log'!$CC$18:$CC$1017),0)","v":0},{"$f":"IFERROR($E268*SUMIF('Daily Log'!$CE$18:$CE$1017,$B268,'Daily Log'!$CF$18:$CF$1017),0)","v":0},{"$f":"IFERROR($E268*SUMIF('Daily Log'!$CH$18:$CH$1017,$B268,'Daily Log'!$CI$18:$CI$1017),0)","v":0},{"$f":"IFERROR($E268*SUMIF('Daily Log'!$CK$18:$CK$1017,$B268,'Daily Log'!$CL$18:$CL$1017),0)","v":72},{"$f":"IFERROR($E268*SUMIF('Daily Log'!$CN$18:$CN$1017,$B268,'Daily Log'!$CO$18:$CO$1017),0)","v":0}]
[null,"DB02 1002:GVY CHK CP",null,"SIDE ORDER-WESTERN CRUISE",1,12,{"$f":"IFERROR($E269*SUMIF('Daily Log'!$B$18:$B$1017,$B269,'Daily Log'!$C$18:$C$1017),0)","v":0},{"$f":"IFERROR($E269*SUMIF('Daily Log'!$E$18:$E$1017,$B269,'Daily Log'!$F$18:$F$1017),0)","v":0},{"$f":"IFERROR($E269*SUMIF('Daily Log'!$H$18:$H$1017,$B269,'Daily Log'!$I$18:$I$1017),0)","v":0},{"$f":"IFERROR($E269*SUMIF('Daily Log'!$K$18:$K$1017,$B269,'Daily Log'!$L$18:$L$1017),0)","v":0},{"$f":"IFERROR($E269*SUMIF('Daily Log'!$N$18:$N$1017,$B269,'Daily Log'!$O$18:$O$1017),0)","v":0},{"$f":"IFERROR($E269*SUMIF('Daily Log'!$Q$18:$Q$1017,$B269,'Daily Log'!$R$18:$R$1017),0)","v":0},{"$f":"IFERROR($E269*SUMIF('Daily Log'!$T$18:$T$1017,$B269,'Daily Log'!$U$18:$U$1017),0)","v":0},{"$f":"IFERROR($E269*SUMIF('Daily Log'!$W$18:$W$1017,$B269,'Daily Log'!$X$18:$X$1017),0)","v":0},{"$f":"IFERROR($E269*SUMIF('Daily Log'!$Z$18:$Z$1017,$B269,'Daily Log'!$AA$18:$AA$1017),0)","v":0},{"$f":"IFERROR($E269*SUMIF('Daily Log'!$AC$18:$AC$1017,$B269,'Daily Log'!$AD$18:$AD$1017),0)","v":0},{"$f":"IFERROR($E269*SUMIF('Daily Log'!$AF$18:$AF$1017,$B269,'Daily Log'!$AG$18:$AG$1017),0)","v":0},{"$f":"IFERROR($E269*SUMIF('Daily Log'!$AI$18:$AI$1017,$B269,'Daily Log'!$AJ$18:$AJ$1017),0)","v":0},{"$f":"IFERROR($E269*SUMIF('Daily Log'!$AL$18:$AL$1017,$B269,'Daily Log'!$AM$18:$AM$1017),0)","v":0},{"$f":"IFERROR($E269*SUMIF('Daily Log'!$AO$18:$AO$1017,$B269,'Daily Log'!$AP$18:$AP$1017),0)","v":0},{"$f":"IFERROR($E269*SUMIF('Daily Log'!$AR$18:$AR$1017,$B269,'Daily Log'!$AS$18:$AS$1017),0)","v":0},{"$f":"IFERROR($E269*SUMIF('Daily Log'!$AU$18:$AU$1017,$B269,'Daily Log'!$AV$18:$AV$1017),0)","v":0},{"$f":"IFERROR($E269*SUMIF('Daily Log'!$AX$18:$AX$1017,$B269,'Daily Log'!$AY$18:$AY$1017),0)","v":0},{"$f":"IFERROR($E269*SUMIF('Daily Log'!$BA$18:$BA$1017,$B269,'Daily Log'!$BB$18:$BB$1017),0)","v":0},{"$f":"IFERROR($E269*SUMIF('Daily Log'!$BD$18:$BD$1017,$B269,'Daily Log'!$BE$18:$BE$1017),0)","v":0},{"$f":"IFERROR($E269*SUMIF('Daily Log'!$BG$18:$BG$1017,$B269,'Daily Log'!$BH$18:$BH$1017),0)","v":0},{"$f":"IFERROR($E269*SUMIF('Daily Log'!$BJ$18:$BJ$1017,$B269,'Daily Log'!$BK$18:$BK$1017),0)","v":0},{"$f":"IFERROR($E269*SUMIF('Daily Log'!$BM$18:$BM$1017,$B269,'Daily Log'!$BN$18:$BN$1017),0)","v":0},{"$f":"IFERROR($E269*SUMIF('Daily Log'!$BP$18:$BP$1017,$B269,'Daily Log'!$BQ$18:$BQ$1017),0)","v":0},{"$f":"IFERROR($E269*SUMIF('Daily Log'!$BS$18:$BS$1017,$B269,'Daily Log'!$BT$18:$BT$1017),0)","v":0},{"$f":"IFERROR($E269*SUMIF('Daily Log'!$BV$18:$BV$1017,$B269,'Daily Log'!$BW$18:$BW$1017),0)","v":0},{"$f":"IFERROR($E269*SUMIF('Daily Log'!$BY$18:$BY$1017,$B269,'Daily Log'!$BZ$18:$BZ$1017),0)","v":0},{"$f":"IFERROR($E269*SUMIF('Daily Log'!$CB$18:$CB$1017,$B269,'Daily Log'!$CC$18:$CC$1017),0)","v":0},{"$f":"IFERROR($E269*SUMIF('Daily Log'!$CE$18:$CE$1017,$B269,'Daily Log'!$CF$18:$CF$1017),0)","v":0},{"$f":"IFERROR($E269*SUMIF('Daily Log'!$CH$18:$CH$1017,$B269,'Daily Log'!$CI$18:$CI$1017),0)","v":0},{"$f":"IFERROR($E269*SUMIF('Daily Log'!$CK$18:$CK$1017,$B269,'Daily Log'!$CL$18:$CL$1017),0)","v":12},{"$f":"IFERROR($E269*SUMIF('Daily Log'!$CN$18:$CN$1017,$B269,'Daily Log'!$CO$18:$CO$1017),0)","v":0}]
[null,"DB03 1003:MSR CKN CP",null,"SIDE ORDER-WESTERN CRUISE",1,{"$f":"SUM($G270:$AK270)","v":43},{"$f":"IFERROR($E270*SUMIF('Daily Log'!$B$18:$B$1017,$B270,'Daily Log'!$C$18:$C$1017),0)","v":0},{"$f":"IFERROR($E270*SUMIF('Daily Log'!$E$18:$E$1017,$B270,'Daily Log'!$F$18:$F$1017),0)","v":0},{"$f":"IFERROR($E270*SUMIF('Daily Log'!$H$18:$H$1017,$B270,'Daily Log'!$I$18:$I$1017),0)","v":0},{"$f":"IFERROR($E270*SUMIF('Daily Log'!$K$18:$K$1017,$B270,'Daily Log'!$L$18:$L$1017),0)","v":0},{"$f":"IFERROR($E270*SUMIF('Daily Log'!$N$18:$N$1017,$B270,'Daily Log'!$O$18:$O$1017),0)","v":0},{"$f":"IFERROR($E270*SUMIF('Daily Log'!$Q$18:$Q$1017,$B270,'Daily Log'!$R$18:$R$1017),0)","v":0},{"$f":"IFERROR($E270*SUMIF('Daily Log'!$T$18:$T$1017,$B270,'Daily Log'!$U$18:$U$1017),0)","v":0},{"$f":"IFERROR($E270*SUMIF('Daily Log'!$W$18:$W$1017,$B270,'Daily Log'!$X$18:$X$1017),0)","v":0},{"$f":"IFERROR($E270*SUMIF('Daily Log'!$Z$18:$Z$1017,$B270,'Daily Log'!$AA$18:$AA$1017),0)","v":0},{"$f":"IFERROR($E270*SUMIF('Daily Log'!$AC$18:$AC$1017,$B270,'Daily Log'!$AD$18:$AD$1017),0)","v":0},{"$f":"IFERROR($E270*SUMIF('Daily Log'!$AF$18:$AF$1017,$B270,'Daily Log'!$AG$18:$AG$1017),0)","v":0},{"$f":"IFERROR($E270*SUMIF('Daily Log'!$AI$18:$AI$1017,$B270,'Daily Log'!$AJ$18:$AJ$1017),0)","v":0},{"$f":"IFERROR($E270*SUMIF('Daily Log'!$AL$18:$AL$1017,$B270,'Daily Log'!$AM$18:$AM$1017),0)","v":0},{"$f":"IFERROR($E270*SUMIF('Daily Log'!$AO$18:$AO$1017,$B270,'Daily Log'!$AP$18:$AP$1017),0)","v":0},{"$f":"IFERROR($E270*SUMIF('Daily Log'!$AR$18:$AR$1017,$B270,'Daily Log'!$AS$18:$AS$1017),0)","v":0},{"$f":"IFERROR($E270*SUMIF('Daily Log'!$AU$18:$AU$1017,$B270,'Daily Log'!$AV$18:$AV$1017),0)","v":0},{"$f":"IFERROR($E270*SUMIF('Daily Log'!$AX$18:$AX$1017,$B270,'Daily Log'!$AY$18:$AY$1017),0)","v":0},{"$f":"IFERROR($E270*SUMIF('Daily Log'!$BA$18:$BA$1017,$B270,'Daily Log'!$BB$18:$BB$1017),0)","v":0},{"$f":"IFERROR($E270*SUMIF('Daily Log'!$BD$18:$BD$1017,$B270,'Daily Log'!$BE$18:$BE$1017),0)","v":0},{"$f":"IFERROR($E270*SUMIF('Daily Log'!$BG$18:$BG$1017,$B270,'Daily Log'!$BH$18:$BH$1017),0)","v":0},{"$f":"IFERROR($E270*SUMIF('Daily Log'!$BJ$18:$BJ$1017,$B270,'Daily Log'!$BK$18:$BK$1017),0)","v":0},{"$f":"IFERROR($E270*SUMIF('Daily Log'!$BM$18:$BM$1017,$B270,'Daily Log'!$BN$18:$BN$1017),0)","v":0},{"$f":"IFERROR($E270*SUMIF('Daily Log'!$BP$18:$BP$1017,$B270,'Daily Log'!$BQ$18:$BQ$1017),0)","v":0},{"$f":"IFERROR($E270*SUMIF('Daily Log'!$BS$18:$BS$1017,$B270,'Daily Log'!$BT$18:$BT$1017),0)","v":0},{"$f":"IFERROR($E270*SUMIF('Daily Log'!$BV$18:$BV$1017,$B270,'Daily Log'!$BW$18:$BW$1017),0)","v":0},{"$f":"IFERROR($E270*SUMIF('Daily Log'!$BY$18:$BY$1017,$B270,'Daily Log'!$BZ$18:$BZ$1017),0)","v":0},{"$f":"IFERROR($E270*SUMIF('Daily Log'!$CB$18:$CB$1017,$B270,'Daily Log'!$CC$18:$CC$1017),0)","v":0},{"$f":"IFERROR($E270*SUMIF('Daily Log'!$CE$18:$CE$1017,$B270,'Daily Log'!$CF$18:$CF$1017),0)","v":0},{"$f":"IFERROR($E270*SUMIF('Daily Log'!$CH$18:$CH$1017,$B270,'Daily Log'!$CI$18:$CI$1017),0)","v":0},{"$f":"IFERROR($E270*SUMIF('Daily Log'!$CK$18:$CK$1017,$B270,'Daily Log'!$CL$18:$CL$1017),0)","v":43},{"$f":"IFERROR($E270*SUMIF('Daily Log'!$CN$18:$CN$1017,$B270,'Daily Log'!$CO$18:$CO$1017),0)","v":0}]
[null,"DB04 1004:CKN MARY",null,"SIDE ORDER-WESTERN CRUISE",1,38,{"$f":"IFERROR($E271*SUMIF('Daily Log'!$B$18:$B$1017,$B271,'Daily Log'!$C$18:$C$1017),0)","v":0},{"$f":"IFERROR($E271*SUMIF('Daily Log'!$E$18:$E$1017,$B271,'Daily Log'!$F$18:$F$1017),0)","v":0},{"$f":"IFERROR($E271*SUMIF('Daily Log'!$H$18:$H$1017,$B271,'Daily Log'!$I$18:$I$1017),0)","v":0},{"$f":"IFERROR($E271*SUMIF('Daily Log'!$K$18:$K$1017,$B271,'Daily Log'!$L$18:$L$1017),0)","v":0},{"$f":"IFERROR($E271*SUMIF('Daily Log'!$N$18:$N$1017,$B271,'Daily Log'!$O$18:$O$1017),0)","v":0},{"$f":"IFERROR($E271*SUMIF('Daily Log'!$Q$18:$Q$1017,$B271,'Daily Log'!$R$18:$R$1017),0)","v":0},{"$f":"IFERROR($E271*SUMIF('Daily Log'!$T$18:$T$1017,$B271,'Daily Log'!$U$18:$U$1017),0)","v":0},{"$f":"IFERROR($E271*SUMIF('Daily Log'!$W$18:$W$1017,$B271,'Daily Log'!$X$18:$X$1017),0)","v":0},{"$f":"IFERROR($E271*SUMIF('Daily Log'!$Z$18:$Z$1017,$B271,'Daily Log'!$AA$18:$AA$1017),0)","v":0},{"$f":"IFERROR($E271*SUMIF('Daily Log'!$AC$18:$AC$1017,$B271,'Daily Log'!$AD$18:$AD$1017),0)","v":0},{"$f":"IFERROR($E271*SUMIF('Daily Log'!$AF$18:$AF$1017,$B271,'Daily Log'!$AG$18:$AG$1017),0)","v":0},{"$f":"IFERROR($E271*SUMIF('Daily Log'!$AI$18:$AI$1017,$B271,'Daily Log'!$AJ$18:$AJ$1017),0)","v":0},{"$f":"IFERROR($E271*SUMIF('Daily Log'!$AL$18:$AL$1017,$B271,'Daily Log'!$AM$18:$AM$1017),0)","v":0},{"$f":"IFERROR($E271*SUMIF('Daily Log'!$AO$18:$AO$1017,$B271,'Daily Log'!$AP$18:$AP$1017),0)","v":0},{"$f":"IFERROR($E271*SUMIF('Daily Log'!$AR$18:$AR$1017,$B271,'Daily Log'!$AS$18:$AS$1017),0)","v":0},{"$f":"IFERROR($E271*SUMIF('Daily Log'!$AU$18:$AU$1017,$B271,'Daily Log'!$AV$18:$AV$1017),0)","v":0},{"$f":"IFERROR($E271*SUMIF('Daily Log'!$AX$18:$AX$1017,$B271,'Daily Log'!$AY$18:$AY$1017),0)","v":0},{"$f":"IFERROR($E271*SUMIF('Daily Log'!$BA$18:$BA$1017,$B271,'Daily Log'!$BB$18:$BB$1017),0)","v":0},{"$f":"IFERROR($E271*SUMIF('Daily Log'!$BD$18:$BD$1017,$B271,'Daily Log'!$BE$18:$BE$1017),0)","v":0},{"$f":"IFERROR($E271*SUMIF('Daily Log'!$BG$18:$BG$1017,$B271,'Daily Log'!$BH$18:$BH$1017),0)","v":0},{"$f":"IFERROR($E271*SUMIF('Daily Log'!$BJ$18:$BJ$1017,$B271,'Daily Log'!$BK$18:$BK$1017),0)","v":0},{"$f":"IFERROR($E271*SUMIF('Daily Log'!$BM$18:$BM$1017,$B271,'Daily Log'!$BN$18:$BN$1017),0)","v":0},{"$f":"IFERROR($E271*SUMIF('Daily Log'!$BP$18:$BP$1017,$B271,'Daily Log'!$BQ$18:$BQ$1017),0)","v":0},{"$f":"IFERROR($E271*SUMIF('Daily Log'!$BS$18:$BS$1017,$B271,'Daily Log'!$BT$18:$BT$1017),0)","v":0},{"$f":"IFERROR($E271*SUMIF('Daily Log'!$BV$18:$BV$1017,$B271,'Daily Log'!$BW$18:$BW$1017),0)","v":0},{"$f":"IFERROR($E271*SUMIF('Daily Log'!$BY$18:$BY$1017,$B271,'Daily Log'!$BZ$18:$BZ$1017),0)","v":0},{"$f":"IFERROR($E271*SUMIF('Daily Log'!$CB$18:$CB$1017,$B271,'Daily Log'!$CC$18:$CC$1017),0)","v":0},{"$f":"IFERROR($E271*SUMIF('Daily Log'!$CE$18:$CE$1017,$B271,'Daily Log'!$CF$18:$CF$1017),0)","v":0},{"$f":"IFERROR($E271*SUMIF('Daily Log'!$CH$18:$CH$1017,$B271,'Daily Log'!$CI$18:$CI$1017),0)","v":0},{"$f":"IFERROR($E271*SUMIF('Daily Log'!$CK$18:$CK$1017,$B271,'Daily Log'!$CL$18:$CL$1017),0)","v":38},{"$f":"IFERROR($E271*SUMIF('Daily Log'!$CN$18:$CN$1017,$B271,'Daily Log'!$CO$18:$CO$1017),0)","v":0}]
[null,"DB05 1005:FISH&CHIP",null,"SIDE ORDER-WESTERN CRUISE",1,61,{"$f":"IFERROR($E272*SUMIF('Daily Log'!$B$18:$B$1017,$B272,'Daily Log'!$C$18:$C$1017),0)","v":0},{"$f":"IFERROR($E272*SUMIF('Daily Log'!$E$18:$E$1017,$B272,'Daily Log'!$F$18:$F$1017),0)","v":0},{"$f":"IFERROR($E272*SUMIF('Daily Log'!$H$18:$H$1017,$B272,'Daily Log'!$I$18:$I$1017),0)","v":0},{"$f":"IFERROR($E272*SUMIF('Daily Log'!$K$18:$K$1017,$B272,'Daily Log'!$L$18:$L$1017),0)","v":0},{"$f":"IFERROR($E272*SUMIF('Daily Log'!$N$18:$N$1017,$B272,'Daily Log'!$O$18:$O$1017),0)","v":0},{"$f":"IFERROR($E272*SUMIF('Daily Log'!$Q$18:$Q$1017,$B272,'Daily Log'!$R$18:$R$1017),0)","v":0},{"$f":"IFERROR($E272*SUMIF('Daily Log'!$T$18:$T$1017,$B272,'Daily Log'!$U$18:$U$1017),0)","v":0},{"$f":"IFERROR($E272*SUMIF('Daily Log'!$W$18:$W$1017,$B272,'Daily Log'!$X$18:$X$1017),0)","v":0},{"$f":"IFERROR($E272*SUMIF('Daily Log'!$Z$18:$Z$1017,$B272,'Daily Log'!$AA$18:$AA$1017),0)","v":0},{"$f":"IFERROR($E272*SUMIF('Daily Log'!$AC$18:$AC$1017,$B272,'Daily Log'!$AD$18:$AD$1017),0)","v":0},{"$f":"IFERROR($E272*SUMIF('Daily Log'!$AF$18:$AF$1017,$B272,'Daily Log'!$AG$18:$AG$1017),0)","v":0},{"$f":"IFERROR($E272*SUMIF('Daily Log'!$AI$18:$AI$1017,$B272,'Daily Log'!$AJ$18:$AJ$1017),0)","v":0},{"$f":"IFERROR($E272*SUMIF('Daily Log'!$AL$18:$AL$1017,$B272,'Daily Log'!$AM$18:$AM$1017),0)","v":0},{"$f":"IFERROR($E272*SUMIF('Daily Log'!$AO$18:$AO$1017,$B272,'Daily Log'!$AP$18:$AP$1017),0)","v":0},{"$f":"IFERROR($E272*SUMIF('Daily Log'!$AR$18:$AR$1017,$B272,'Daily Log'!$AS$18:$AS$1017),0)","v":0},{"$f":"IFERROR($E272*SUMIF('Daily Log'!$AU$18:$AU$1017,$B272,'Daily Log'!$AV$18:$AV$1017),0)","v":0},{"$f":"IFERROR($E272*SUMIF('Daily Log'!$AX$18:$AX$1017,$B272,'Daily Log'!$AY$18:$AY$1017),0)","v":0},{"$f":"IFERROR($E272*SUMIF('Daily Log'!$BA$18:$BA$1017,$B272,'Daily Log'!$BB$18:$BB$1017),0)","v":0},{"$f":"IFERROR($E272*SUMIF('Daily Log'!$BD$18:$BD$1017,$B272,'Daily Log'!$BE$18:$BE$1017),0)","v":0},{"$f":"IFERROR($E272*SUMIF('Daily Log'!$BG$18:$BG$1017,$B272,'Daily Log'!$BH$18:$BH$1017),0)","v":0},{"$f":"IFERROR($E272*SUMIF('Daily Log'!$BJ$18:$BJ$1017,$B272,'Daily Log'!$BK$18:$BK$1017),0)","v":0},{"$f":"IFERROR($E272*SUMIF('Daily Log'!$BM$18:$BM$1017,$B272,'Daily Log'!$BN$18:$BN$1017),0)","v":0},{"$f":"IFERROR($E272*SUMIF('Daily Log'!$BP$18:$BP$1017,$B272,'Daily Log'!$BQ$18:$BQ$1017),0)","v":0},{"$f":"IFERROR($E272*SUMIF('Daily Log'!$BS$18:$BS$1017,$B272,'Daily Log'!$BT$18:$BT$1017),0)","v":0},{"$f":"IFERROR($E272*SUMIF('Daily Log'!$BV$18:$BV$1017,$B272,'Daily Log'!$BW$18:$BW$1017),0)","v":0},{"$f":"IFERROR($E272*SUMIF('Daily Log'!$BY$18:$BY$1017,$B272,'Daily Log'!$BZ$18:$BZ$1017),0)","v":0},{"$f":"IFERROR($E272*SUMIF('Daily Log'!$CB$18:$CB$1017,$B272,'Daily Log'!$CC$18:$CC$1017),0)","v":0},{"$f":"IFERROR($E272*SUMIF('Daily Log'!$CE$18:$CE$1017,$B272,'Daily Log'!$CF$18:$CF$1017),0)","v":0},{"$f":"IFERROR($E272*SUMIF('Daily Log'!$CH$18:$CH$1017,$B272,'Daily Log'!$CI$18:$CI$1017),0)","v":0},{"$f":"IFERROR($E272*SUMIF('Daily Log'!$CK$18:$CK$1017,$B272,'Daily Log'!$CL$18:$CL$1017),0)","v":61},{"$f":"IFERROR($E272*SUMIF('Daily Log'!$CN$18:$CN$1017,$B272,'Daily Log'!$CO$18:$CO$1017),0)","v":0}]
[null,"DB06 1006:SPAGHETTI",null,"SIDE ORDER-WESTERN CRUISE",1,36,{"$f":"IFERROR($E273*SUMIF('Daily Log'!$B$18:$B$1017,$B273,'Daily Log'!$C$18:$C$1017),0)","v":0},{"$f":"IFERROR($E273*SUMIF('Daily Log'!$E$18:$E$1017,$B273,'Daily Log'!$F$18:$F$1017),0)","v":0},{"$f":"IFERROR($E273*SUMIF('Daily Log'!$H$18:$H$1017,$B273,'Daily Log'!$I$18:$I$1017),0)","v":0},{"$f":"IFERROR($E273*SUMIF('Daily Log'!$K$18:$K$1017,$B273,'Daily Log'!$L$18:$L$1017),0)","v":0},{"$f":"IFERROR($E273*SUMIF('Daily Log'!$N$18:$N$1017,$B273,'Daily Log'!$O$18:$O$1017),0)","v":0},{"$f":"IFERROR($E273*SUMIF('Daily Log'!$Q$18:$Q$1017,$B273,'Daily Log'!$R$18:$R$1017),0)","v":0},{"$f":"IFERROR($E273*SUMIF('Daily Log'!$T$18:$T$1017,$B273,'Daily Log'!$U$18:$U$1017),0)","v":0},{"$f":"IFERROR($E273*SUMIF('Daily Log'!$W$18:$W$1017,$B273,'Daily Log'!$X$18:$X$1017),0)","v":0},{"$f":"IFERROR($E273*SUMIF('Daily Log'!$Z$18:$Z$1017,$B273,'Daily Log'!$AA$18:$AA$1017),0)","v":0},{"$f":"IFERROR($E273*SUMIF('Daily Log'!$AC$18:$AC$1017,$B273,'Daily Log'!$AD$18:$AD$1017),0)","v":0},{"$f":"IFERROR($E273*SUMIF('Daily Log'!$AF$18:$AF$1017,$B273,'Daily Log'!$AG$18:$AG$1017),0)","v":0},{"$f":"IFERROR($E273*SUMIF('Daily Log'!$AI$18:$AI$1017,$B273,'Daily Log'!$AJ$18:$AJ$1017),0)","v":0},{"$f":"IFERROR($E273*SUMIF('Daily Log'!$AL$18:$AL$1017,$B273,'Daily Log'!$AM$18:$AM$1017),0)","v":0},{"$f":"IFERROR($E273*SUMIF('Daily Log'!$AO$18:$AO$1017,$B273,'Daily Log'!$AP$18:$AP$1017),0)","v":0},{"$f":"IFERROR($E273*SUMIF('Daily Log'!$AR$18:$AR$1017,$B273,'Daily Log'!$AS$18:$AS$1017),0)","v":0},{"$f":"IFERROR($E273*SUMIF('Daily Log'!$AU$18:$AU$1017,$B273,'Daily Log'!$AV$18:$AV$1017),0)","v":0},{"$f":"IFERROR($E273*SUMIF('Daily Log'!$AX$18:$AX$1017,$B273,'Daily Log'!$AY$18:$AY$1017),0)","v":0},{"$f":"IFERROR($E273*SUMIF('Daily Log'!$BA$18:$BA$1017,$B273,'Daily Log'!$BB$18:$BB$1017),0)","v":0},{"$f":"IFERROR($E273*SUMIF('Daily Log'!$BD$18:$BD$1017,$B273,'Daily Log'!$BE$18:$BE$1017),0)","v":0},{"$f":"IFERROR($E273*SUMIF('Daily Log'!$BG$18:$BG$1017,$B273,'Daily Log'!$BH$18:$BH$1017),0)","v":0},{"$f":"IFERROR($E273*SUMIF('Daily Log'!$BJ$18:$BJ$1017,$B273,'Daily Log'!$BK$18:$BK$1017),0)","v":0},{"$f":"IFERROR($E273*SUMIF('Daily Log'!$BM$18:$BM$1017,$B273,'Daily Log'!$BN$18:$BN$1017),0)","v":0},{"$f":"IFERROR($E273*SUMIF('Daily Log'!$BP$18:$BP$1017,$B273,'Daily Log'!$BQ$18:$BQ$1017),0)","v":0},{"$f":"IFERROR($E273*SUMIF('Daily Log'!$BS$18:$BS$1017,$B273,'Daily Log'!$BT$18:$BT$1017),0)","v":0},{"$f":"IFERROR($E273*SUMIF('Daily Log'!$BV$18:$BV$1017,$B273,'Daily Log'!$BW$18:$BW$1017),0)","v":0},{"$f":"IFERROR($E273*SUMIF('Daily Log'!$BY$18:$BY$1017,$B273,'Daily Log'!$BZ$18:$BZ$1017),0)","v":0},{"$f":"IFERROR($E273*SUMIF('Daily Log'!$CB$18:$CB$1017,$B273,'Daily Log'!$CC$18:$CC$1017),0)","v":0},{"$f":"IFERROR($E273*SUMIF('Daily Log'!$CE$18:$CE$1017,$B273,'Daily Log'!$CF$18:$CF$1017),0)","v":0},{"$f":"IFERROR($E273*SUMIF('Daily Log'!$CH$18:$CH$1017,$B273,'Daily Log'!$CI$18:$CI$1017),0)","v":0},{"$f":"IFERROR($E273*SUMIF('Daily Log'!$CK$18:$CK$1017,$B273,'Daily Log'!$CL$18:$CL$1017),0)","v":36},{"$f":"IFERROR($E273*SUMIF('Daily Log'!$CN$18:$CN$1017,$B273,'Daily Log'!$CO$18:$CO$1017),0)","v":0}]
[null,"DB07 1007:CHK SALAD",null,"SIDE ORDER-WESTERN CRUISE",1,31,{"$f":"IFERROR($E274*SUMIF('Daily Log'!$B$18:$B$1017,$B274,'Daily Log'!$C$18:$C$1017),0)","v":0},{"$f":"IFERROR($E274*SUMIF('Daily Log'!$E$18:$E$1017,$B274,'Daily Log'!$F$18:$F$1017),0)","v":0},{"$f":"IFERROR($E274*SUMIF('Daily Log'!$H$18:$H$1017,$B274,'Daily Log'!$I$18:$I$1017),0)","v":0},{"$f":"IFERROR($E274*SUMIF('Daily Log'!$K$18:$K$1017,$B274,'Daily Log'!$L$18:$L$1017),0)","v":0},{"$f":"IFERROR($E274*SUMIF('Daily Log'!$N$18:$N$1017,$B274,'Daily Log'!$O$18:$O$1017),0)","v":0},{"$f":"IFERROR($E274*SUMIF('Daily Log'!$Q$18:$Q$1017,$B274,'Daily Log'!$R$18:$R$1017),0)","v":0},{"$f":"IFERROR($E274*SUMIF('Daily Log'!$T$18:$T$1017,$B274,'Daily Log'!$U$18:$U$1017),0)","v":0},{"$f":"IFERROR($E274*SUMIF('Daily Log'!$W$18:$W$1017,$B274,'Daily Log'!$X$18:$X$1017),0)","v":0},{"$f":"IFERROR($E274*SUMIF('Daily Log'!$Z$18:$Z$1017,$B274,'Daily Log'!$AA$18:$AA$1017),0)","v":0},{"$f":"IFERROR($E274*SUMIF('Daily Log'!$AC$18:$AC$1017,$B274,'Daily Log'!$AD$18:$AD$1017),0)","v":0},{"$f":"IFERROR($E274*SUMIF('Daily Log'!$AF$18:$AF$1017,$B274,'Daily Log'!$AG$18:$AG$1017),0)","v":0},{"$f":"IFERROR($E274*SUMIF('Daily Log'!$AI$18:$AI$1017,$B274,'Daily Log'!$AJ$18:$AJ$1017),0)","v":0},{"$f":"IFERROR($E274*SUMIF('Daily Log'!$AL$18:$AL$1017,$B274,'Daily Log'!$AM$18:$AM$1017),0)","v":0},{"$f":"IFERROR($E274*SUMIF('Daily Log'!$AO$18:$AO$1017,$B274,'Daily Log'!$AP$18:$AP$1017),0)","v":0},{"$f":"IFERROR($E274*SUMIF('Daily Log'!$AR$18:$AR$1017,$B274,'Daily Log'!$AS$18:$AS$1017),0)","v":0},{"$f":"IFERROR($E274*SUMIF('Daily Log'!$AU$18:$AU$1017,$B274,'Daily Log'!$AV$18:$AV$1017),0)","v":0},{"$f":"IFERROR($E274*SUMIF('Daily Log'!$AX$18:$AX$1017,$B274,'Daily Log'!$AY$18:$AY$1017),0)","v":0},{"$f":"IFERROR($E274*SUMIF('Daily Log'!$BA$18:$BA$1017,$B274,'Daily Log'!$BB$18:$BB$1017),0)","v":0},{"$f":"IFERROR($E274*SUMIF('Daily Log'!$BD$18:$BD$1017,$B274,'Daily Log'!$BE$18:$BE$1017),0)","v":0},{"$f":"IFERROR($E274*SUMIF('Daily Log'!$BG$18:$BG$1017,$B274,'Daily Log'!$BH$18:$BH$1017),0)","v":0},{"$f":"IFERROR($E274*SUMIF('Daily Log'!$BJ$18:$BJ$1017,$B274,'Daily Log'!$BK$18:$BK$1017),0)","v":0},{"$f":"IFERROR($E274*SUMIF('Daily Log'!$BM$18:$BM$1017,$B274,'Daily Log'!$BN$18:$BN$1017),0)","v":0},{"$f":"IFERROR($E274*SUMIF('Daily Log'!$BP$18:$BP$1017,$B274,'Daily Log'!$BQ$18:$BQ$1017),0)","v":0},{"$f":"IFERROR($E274*SUMIF('Daily Log'!$BS$18:$BS$1017,$B274,'Daily Log'!$BT$18:$BT$1017),0)","v":0},{"$f":"IFERROR($E274*SUMIF('Daily Log'!$BV$18:$BV$1017,$B274,'Daily Log'!$BW$18:$BW$1017),0)","v":0},{"$f":"IFERROR($E274*SUMIF('Daily Log'!$BY$18:$BY$1017,$B274,'Daily Log'!$BZ$18:$BZ$1017),0)","v":0},{"$f":"IFERROR($E274*SUMIF('Daily Log'!$CB$18:$CB$1017,$B274,'Daily Log'!$CC$18:$CC$1017),0)","v":0},{"$f":"IFERROR($E274*SUMIF('Daily Log'!$CE$18:$CE$1017,$B274,'Daily Log'!$CF$18:$CF$1017),0)","v":0},{"$f":"IFERROR($E274*SUMIF('Daily Log'!$CH$18:$CH$1017,$B274,'Daily Log'!$CI$18:$CI$1017),0)","v":0},{"$f":"IFERROR($E274*SUMIF('Daily Log'!$CK$18:$CK$1017,$B274,'Daily Log'!$CL$18:$CL$1017),0)","v":31},{"$f":"IFERROR($E274*SUMIF('Daily Log'!$CN$18:$CN$1017,$B274,'Daily Log'!$CO$18:$CO$1017),0)","v":0}]
[null,"DC01 1101:THAI CHK",null,"SIDE ORDER-LOCAL DELIGHTS",1,85,{"$f":"IFERROR($E275*SUMIF('Daily Log'!$B$18:$B$1017,$B275,'Daily Log'!$C$18:$C$1017),0)","v":0},{"$f":"IFERROR($E275*SUMIF('Daily Log'!$E$18:$E$1017,$B275,'Daily Log'!$F$18:$F$1017),0)","v":0},{"$f":"IFERROR($E275*SUMIF('Daily Log'!$H$18:$H$1017,$B275,'Daily Log'!$I$18:$I$1017),0)","v":0},{"$f":"IFERROR($E275*SUMIF('Daily Log'!$K$18:$K$1017,$B275,'Daily Log'!$L$18:$L$1017),0)","v":0},{"$f":"IFERROR($E275*SUMIF('Daily Log'!$N$18:$N$1017,$B275,'Daily Log'!$O$18:$O$1017),0)","v":0},{"$f":"IFERROR($E275*SUMIF('Daily Log'!$Q$18:$Q$1017,$B275,'Daily Log'!$R$18:$R$1017),0)","v":0},{"$f":"IFERROR($E275*SUMIF('Daily Log'!$T$18:$T$1017,$B275,'Daily Log'!$U$18:$U$1017),0)","v":0},{"$f":"IFERROR($E275*SUMIF('Daily Log'!$W$18:$W$1017,$B275,'Daily Log'!$X$18:$X$1017),0)","v":0},{"$f":"IFERROR($E275*SUMIF('Daily Log'!$Z$18:$Z$1017,$B275,'Daily Log'!$AA$18:$AA$1017),0)","v":0},{"$f":"IFERROR($E275*SUMIF('Daily Log'!$AC$18:$AC$1017,$B275,'Daily Log'!$AD$18:$AD$1017),0)","v":0},{"$f":"IFERROR($E275*SUMIF('Daily Log'!$AF$18:$AF$1017,$B275,'Daily Log'!$AG$18:$AG$1017),0)","v":0},{"$f":"IFERROR($E275*SUMIF('Daily Log'!$AI$18:$AI$1017,$B275,'Daily Log'!$AJ$18:$AJ$1017),0)","v":0},{"$f":"IFERROR($E275*SUMIF('Daily Log'!$AL$18:$AL$1017,$B275,'Daily Log'!$AM$18:$AM$1017),0)","v":0},{"$f":"IFERROR($E275*SUMIF('Daily Log'!$AO$18:$AO$1017,$B275,'Daily Log'!$AP$18:$AP$1017),0)","v":0},{"$f":"IFERROR($E275*SUMIF('Daily Log'!$AR$18:$AR$1017,$B275,'Daily Log'!$AS$18:$AS$1017),0)","v":0},{"$f":"IFERROR($E275*SUMIF('Daily Log'!$AU$18:$AU$1017,$B275,'Daily Log'!$AV$18:$AV$1017),0)","v":0},{"$f":"IFERROR($E275*SUMIF('Daily Log'!$AX$18:$AX$1017,$B275,'Daily Log'!$AY$18:$AY$1017),0)","v":0},{"$f":"IFERROR($E275*SUMIF('Daily Log'!$BA$18:$BA$1017,$B275,'Daily Log'!$BB$18:$BB$1017),0)","v":0},{"$f":"IFERROR($E275*SUMIF('Daily Log'!$BD$18:$BD$1017,$B275,'Daily Log'!$BE$18:$BE$1017),0)","v":0},{"$f":"IFERROR($E275*SUMIF('Daily Log'!$BG$18:$BG$1017,$B275,'Daily Log'!$BH$18:$BH$1017),0)","v":0},{"$f":"IFERROR($E275*SUMIF('Daily Log'!$BJ$18:$BJ$1017,$B275,'Daily Log'!$BK$18:$BK$1017),0)","v":0},{"$f":"IFERROR($E275*SUMIF('Daily Log'!$BM$18:$BM$1017,$B275,'Daily Log'!$BN$18:$BN$1017),0)","v":0},{"$f":"IFERROR($E275*SUMIF('Daily Log'!$BP$18:$BP$1017,$B275,'Daily Log'!$BQ$18:$BQ$1017),0)","v":0},{"$f":"IFERROR($E275*SUMIF('Daily Log'!$BS$18:$BS$1017,$B275,'Daily Log'!$BT$18:$BT$1017),0)","v":0},{"$f":"IFERROR($E275*SUMIF('Daily Log'!$BV$18:$BV$1017,$B275,'Daily Log'!$BW$18:$BW$1017),0)","v":0},{"$f":"IFERROR($E275*SUMIF('Daily Log'!$BY$18:$BY$1017,$B275,'Daily Log'!$BZ$18:$BZ$1017),0)","v":0},{"$f":"IFERROR($E275*SUMIF('Daily Log'!$CB$18:$CB$1017,$B275,'Daily Log'!$CC$18:$CC$1017),0)","v":0},{"$f":"IFERROR($E275*SUMIF('Daily Log'!$CE$18:$CE$1017,$B275,'Daily Log'!$CF$18:$CF$1017),0)","v":0},{"$f":"IFERROR($E275*SUMIF('Daily Log'!$CH$18:$CH$1017,$B275,'Daily Log'!$CI$18:$CI$1017),0)","v":0},{"$f":"IFERROR($E275*SUMIF('Daily Log'!$CK$18:$CK$1017,$B275,'Daily Log'!$CL$18:$CL$1017),0)","v":85},{"$f":"IFERROR($E275*SUMIF('Daily Log'!$CN$18:$CN$1017,$B275,'Daily Log'!$CO$18:$CO$1017),0)","v":0}]
[null,"DC02 1102:MAMITE CHK",null,"SIDE ORDER-LOCAL DELIGHTS",1,65,{"$f":"IFERROR($E276*SUMIF('Daily Log'!$B$18:$B$1017,$B276,'Daily Log'!$C$18:$C$1017),0)","v":0},{"$f":"IFERROR($E276*SUMIF('Daily Log'!$E$18:$E$1017,$B276,'Daily Log'!$F$18:$F$1017),0)","v":0},{"$f":"IFERROR($E276*SUMIF('Daily Log'!$H$18:$H$1017,$B276,'Daily Log'!$I$18:$I$1017),0)","v":0},{"$f":"IFERROR($E276*SUMIF('Daily Log'!$K$18:$K$1017,$B276,'Daily Log'!$L$18:$L$1017),0)","v":0},{"$f":"IFERROR($E276*SUMIF('Daily Log'!$N$18:$N$1017,$B276,'Daily Log'!$O$18:$O$1017),0)","v":0},{"$f":"IFERROR($E276*SUMIF('Daily Log'!$Q$18:$Q$1017,$B276,'Daily Log'!$R$18:$R$1017),0)","v":0},{"$f":"IFERROR($E276*SUMIF('Daily Log'!$T$18:$T$1017,$B276,'Daily Log'!$U$18:$U$1017),0)","v":0},{"$f":"IFERROR($E276*SUMIF('Daily Log'!$W$18:$W$1017,$B276,'Daily Log'!$X$18:$X$1017),0)","v":0},{"$f":"IFERROR($E276*SUMIF('Daily Log'!$Z$18:$Z$1017,$B276,'Daily Log'!$AA$18:$AA$1017),0)","v":0},{"$f":"IFERROR($E276*SUMIF('Daily Log'!$AC$18:$AC$1017,$B276,'Daily Log'!$AD$18:$AD$1017),0)","v":0},{"$f":"IFERROR($E276*SUMIF('Daily Log'!$AF$18:$AF$1017,$B276,'Daily Log'!$AG$18:$AG$1017),0)","v":0},{"$f":"IFERROR($E276*SUMIF('Daily Log'!$AI$18:$AI$1017,$B276,'Daily Log'!$AJ$18:$AJ$1017),0)","v":0},{"$f":"IFERROR($E276*SUMIF('Daily Log'!$AL$18:$AL$1017,$B276,'Daily Log'!$AM$18:$AM$1017),0)","v":0},{"$f":"IFERROR($E276*SUMIF('Daily Log'!$AO$18:$AO$1017,$B276,'Daily Log'!$AP$18:$AP$1017),0)","v":0},{"$f":"IFERROR($E276*SUMIF('Daily Log'!$AR$18:$AR$1017,$B276,'Daily Log'!$AS$18:$AS$1017),0)","v":0},{"$f":"IFERROR($E276*SUMIF('Daily Log'!$AU$18:$AU$1017,$B276,'Daily Log'!$AV$18:$AV$1017),0)","v":0},{"$f":"IFERROR($E276*SUMIF('Daily Log'!$AX$18:$AX$1017,$B276,'Daily Log'!$AY$18:$AY$1017),0)","v":0},{"$f":"IFERROR($E276*SUMIF('Daily Log'!$BA$18:$BA$1017,$B276,'Daily Log'!$BB$18:$BB$1017),0)","v":0},{"$f":"IFERROR($E276*SUMIF('Daily Log'!$BD$18:$BD$1017,$B276,'Daily Log'!$BE$18:$BE$1017),0)","v":0},{"$f":"IFERROR($E276*SUMIF('Daily Log'!$BG$18:$BG$1017,$B276,'Daily Log'!$BH$18:$BH$1017),0)","v":0},{"$f":"IFERROR($E276*SUMIF('Daily Log'!$BJ$18:$BJ$1017,$B276,'Daily Log'!$BK$18:$BK$1017),0)","v":0},{"$f":"IFERROR($E276*SUMIF('Daily Log'!$BM$18:$BM$1017,$B276,'Daily Log'!$BN$18:$BN$1017),0)","v":0},{"$f":"IFERROR($E276*SUMIF('Daily Log'!$BP$18:$BP$1017,$B276,'Daily Log'!$BQ$18:$BQ$1017),0)","v":0},{"$f":"IFERROR($E276*SUMIF('Daily Log'!$BS$18:$BS$1017,$B276,'Daily Log'!$BT$18:$BT$1017),0)","v":0},{"$f":"IFERROR($E276*SUMIF('Daily Log'!$BV$18:$BV$1017,$B276,'Daily Log'!$BW$18:$BW$1017),0)","v":0},{"$f":"IFERROR($E276*SUMIF('Daily Log'!$BY$18:$BY$1017,$B276,'Daily Log'!$BZ$18:$BZ$1017),0)","v":0},{"$f":"IFERROR($E276*SUMIF('Daily Log'!$CB$18:$CB$1017,$B276,'Daily Log'!$CC$18:$CC$1017),0)","v":0},{"$f":"IFERROR($E276*SUMIF('Daily Log'!$CE$18:$CE$1017,$B276,'Daily Log'!$CF$18:$CF$1017),0)","v":0},{"$f":"IFERROR($E276*SUMIF('Daily Log'!$CH$18:$CH$1017,$B276,'Daily Log'!$CI$18:$CI$1017),0)","v":0},{"$f":"IFERROR($E276*SUMIF('Daily Log'!$CK$18:$CK$1017,$B276,'Daily Log'!$CL$18:$CL$1017),0)","v":65},{"$f":"IFERROR($E276*SUMIF('Daily Log'!$CN$18:$CN$1017,$B276,'Daily Log'!$CO$18:$CO$1017),0)","v":0}]
[null,"DC03 1103:KO PO CHK",null,"SIDE ORDER-LOCAL DELIGHTS",1,42,{"$f":"IFERROR($E277*SUMIF('Daily Log'!$B$18:$B$1017,$B277,'Daily Log'!$C$18:$C$1017),0)","v":0},{"$f":"IFERROR($E277*SUMIF('Daily Log'!$E$18:$E$1017,$B277,'Daily Log'!$F$18:$F$1017),0)","v":0},{"$f":"IFERROR($E277*SUMIF('Daily Log'!$H$18:$H$1017,$B277,'Daily Log'!$I$18:$I$1017),0)","v":0},{"$f":"IFERROR($E277*SUMIF('Daily Log'!$K$18:$K$1017,$B277,'Daily Log'!$L$18:$L$1017),0)","v":0},{"$f":"IFERROR($E277*SUMIF('Daily Log'!$N$18:$N$1017,$B277,'Daily Log'!$O$18:$O$1017),0)","v":0},{"$f":"IFERROR($E277*SUMIF('Daily Log'!$Q$18:$Q$1017,$B277,'Daily Log'!$R$18:$R$1017),0)","v":0},{"$f":"IFERROR($E277*SUMIF('Daily Log'!$T$18:$T$1017,$B277,'Daily Log'!$U$18:$U$1017),0)","v":0},{"$f":"IFERROR($E277*SUMIF('Daily Log'!$W$18:$W$1017,$B277,'Daily Log'!$X$18:$X$1017),0)","v":0},{"$f":"IFERROR($E277*SUMIF('Daily Log'!$Z$18:$Z$1017,$B277,'Daily Log'!$AA$18:$AA$1017),0)","v":0},{"$f":"IFERROR($E277*SUMIF('Daily Log'!$AC$18:$AC$1017,$B277,'Daily Log'!$AD$18:$AD$1017),0)","v":0},{"$f":"IFERROR($E277*SUMIF('Daily Log'!$AF$18:$AF$1017,$B277,'Daily Log'!$AG$18:$AG$1017),0)","v":0},{"$f":"IFERROR($E277*SUMIF('Daily Log'!$AI$18:$AI$1017,$B277,'Daily Log'!$AJ$18:$AJ$1017),0)","v":0},{"$f":"IFERROR($E277*SUMIF('Daily Log'!$AL$18:$AL$1017,$B277,'Daily Log'!$AM$18:$AM$1017),0)","v":0},{"$f":"IFERROR($E277*SUMIF('Daily Log'!$AO$18:$AO$1017,$B277,'Daily Log'!$AP$18:$AP$1017),0)","v":0},{"$f":"IFERROR($E277*SUMIF('Daily Log'!$AR$18:$AR$1017,$B277,'Daily Log'!$AS$18:$AS$1017),0)","v":0},{"$f":"IFERROR($E277*SUMIF('Daily Log'!$AU$18:$AU$1017,$B277,'Daily Log'!$AV$18:$AV$1017),0)","v":0},{"$f":"IFERROR($E277*SUMIF('Daily Log'!$AX$18:$AX$1017,$B277,'Daily Log'!$AY$18:$AY$1017),0)","v":0},{"$f":"IFERROR($E277*SUMIF('Daily Log'!$BA$18:$BA$1017,$B277,'Daily Log'!$BB$18:$BB$1017),0)","v":0},{"$f":"IFERROR($E277*SUMIF('Daily Log'!$BD$18:$BD$1017,$B277,'Daily Log'!$BE$18:$BE$1017),0)","v":0},{"$f":"IFERROR($E277*SUMIF('Daily Log'!$BG$18:$BG$1017,$B277,'Daily Log'!$BH$18:$BH$1017),0)","v":0},{"$f":"IFERROR($E277*SUMIF('Daily Log'!$BJ$18:$BJ$1017,$B277,'Daily Log'!$BK$18:$BK$1017),0)","v":0},{"$f":"IFERROR($E277*SUMIF('Daily Log'!$BM$18:$BM$1017,$B277,'Daily Log'!$BN$18:$BN$1017),0)","v":0},{"$f":"IFERROR($E277*SUMIF('Daily Log'!$BP$18:$BP$1017,$B277,'Daily Log'!$BQ$18:$BQ$1017),0)","v":0},{"$f":"IFERROR($E277*SUMIF('Daily Log'!$BS$18:$BS$1017,$B277,'Daily Log'!$BT$18:$BT$1017),0)","v":0},{"$f":"IFERROR($E277*SUMIF('Daily Log'!$BV$18:$BV$1017,$B277,'Daily Log'!$BW$18:$BW$1017),0)","v":0},{"$f":"IFERROR($E277*SUMIF('Daily Log'!$BY$18:$BY$1017,$B277,'Daily Log'!$BZ$18:$BZ$1017),0)","v":0},{"$f":"IFERROR($E277*SUMIF('Daily Log'!$CB$18:$CB$1017,$B277,'Daily Log'!$CC$18:$CC$1017),0)","v":0},{"$f":"IFERROR($E277*SUMIF('Daily Log'!$CE$18:$CE$1017,$B277,'Daily Log'!$CF$18:$CF$1017),0)","v":0},{"$f":"IFERROR($E277*SUMIF('Daily Log'!$CH$18:$CH$1017,$B277,'Daily Log'!$CI$18:$CI$1017),0)","v":0},{"$f":"IFERROR($E277*SUMIF('Daily Log'!$CK$18:$CK$1017,$B277,'Daily Log'!$CL$18:$CL$1017),0)","v":42},{"$f":"IFERROR($E277*SUMIF('Daily Log'!$CN$18:$CN$1017,$B277,'Daily Log'!$CO$18:$CO$1017),0)","v":0}]
[null,"DC04 1104:S&S CHK",null,"SIDE ORDER-LOCAL DELIGHTS",1,22,{"$f":"IFERROR($E278*SUMIF('Daily Log'!$B$18:$B$1017,$B278,'Daily Log'!$C$18:$C$1017),0)","v":0},{"$f":"IFERROR($E278*SUMIF('Daily Log'!$E$18:$E$1017,$B278,'Daily Log'!$F$18:$F$1017),0)","v":0},{"$f":"IFERROR($E278*SUMIF('Daily Log'!$H$18:$H$1017,$B278,'Daily Log'!$I$18:$I$1017),0)","v":0},{"$f":"IFERROR($E278*SUMIF('Daily Log'!$K$18:$K$1017,$B278,'Daily Log'!$L$18:$L$1017),0)","v":0},{"$f":"IFERROR($E278*SUMIF('Daily Log'!$N$18:$N$1017,$B278,'Daily Log'!$O$18:$O$1017),0)","v":0},{"$f":"IFERROR($E278*SUMIF('Daily Log'!$Q$18:$Q$1017,$B278,'Daily Log'!$R$18:$R$1017),0)","v":0},{"$f":"IFERROR($E278*SUMIF('Daily Log'!$T$18:$T$1017,$B278,'Daily Log'!$U$18:$U$1017),0)","v":0},{"$f":"IFERROR($E278*SUMIF('Daily Log'!$W$18:$W$1017,$B278,'Daily Log'!$X$18:$X$1017),0)","v":0},{"$f":"IFERROR($E278*SUMIF('Daily Log'!$Z$18:$Z$1017,$B278,'Daily Log'!$AA$18:$AA$1017),0)","v":0},{"$f":"IFERROR($E278*SUMIF('Daily Log'!$AC$18:$AC$1017,$B278,'Daily Log'!$AD$18:$AD$1017),0)","v":0},{"$f":"IFERROR($E278*SUMIF('Daily Log'!$AF$18:$AF$1017,$B278,'Daily Log'!$AG$18:$AG$1017),0)","v":0},{"$f":"IFERROR($E278*SUMIF('Daily Log'!$AI$18:$AI$1017,$B278,'Daily Log'!$AJ$18:$AJ$1017),0)","v":0},{"$f":"IFERROR($E278*SUMIF('Daily Log'!$AL$18:$AL$1017,$B278,'Daily Log'!$AM$18:$AM$1017),0)","v":0},{"$f":"IFERROR($E278*SUMIF('Daily Log'!$AO$18:$AO$1017,$B278,'Daily Log'!$AP$18:$AP$1017),0)","v":0},{"$f":"IFERROR($E278*SUMIF('Daily Log'!$AR$18:$AR$1017,$B278,'Daily Log'!$AS$18:$AS$1017),0)","v":0},{"$f":"IFERROR($E278*SUMIF('Daily Log'!$AU$18:$AU$1017,$B278,'Daily Log'!$AV$18:$AV$1017),0)","v":0},{"$f":"IFERROR($E278*SUMIF('Daily Log'!$AX$18:$AX$1017,$B278,'Daily Log'!$AY$18:$AY$1017),0)","v":0},{"$f":"IFERROR($E278*SUMIF('Daily Log'!$BA$18:$BA$1017,$B278,'Daily Log'!$BB$18:$BB$1017),0)","v":0},{"$f":"IFERROR($E278*SUMIF('Daily Log'!$BD$18:$BD$1017,$B278,'Daily Log'!$BE$18:$BE$1017),0)","v":0},{"$f":"IFERROR($E278*SUMIF('Daily Log'!$BG$18:$BG$1017,$B278,'Daily Log'!$BH$18:$BH$1017),0)","v":0},{"$f":"IFERROR($E278*SUMIF('Daily Log'!$BJ$18:$BJ$1017,$B278,'Daily Log'!$BK$18:$BK$1017),0)","v":0},{"$f":"IFERROR($E278*SUMIF('Daily Log'!$BM$18:$BM$1017,$B278,'Daily Log'!$BN$18:$BN$1017),0)","v":0},{"$f":"IFERROR($E278*SUMIF('Daily Log'!$BP$18:$BP$1017,$B278,'Daily Log'!$BQ$18:$BQ$1017),0)","v":0},{"$f":"IFERROR($E278*SUMIF('Daily Log'!$BS$18:$BS$1017,$B278,'Daily Log'!$BT$18:$BT$1017),0)","v":0},{"$f":"IFERROR($E278*SUMIF('Daily Log'!$BV$18:$BV$1017,$B278,'Daily Log'!$BW$18:$BW$1017),0)","v":0},{"$f":"IFERROR($E278*SUMIF('Daily Log'!$BY$18:$BY$1017,$B278,'Daily Log'!$BZ$18:$BZ$1017),0)","v":0},{"$f":"IFERROR($E278*SUMIF('Daily Log'!$CB$18:$CB$1017,$B278,'Daily Log'!$CC$18:$CC$1017),0)","v":0},{"$f":"IFERROR($E278*SUMIF('Daily Log'!$CE$18:$CE$1017,$B278,'Daily Log'!$CF$18:$CF$1017),0)","v":0},{"$f":"IFERROR($E278*SUMIF('Daily Log'!$CH$18:$CH$1017,$B278,'Daily Log'!$CI$18:$CI$1017),0)","v":0},{"$f":"IFERROR($E278*SUMIF('Daily Log'!$CK$18:$CK$1017,$B278,'Daily Log'!$CL$18:$CL$1017),0)","v":22},{"$f":"IFERROR($E278*SUMIF('Daily Log'!$CN$18:$CN$1017,$B278,'Daily Log'!$CO$18:$CO$1017),0)","v":0}]
[null,"DC05 1105:BUTTER CHK",null,"SIDE ORDER-LOCAL DELIGHTS",1,142,{"$f":"IFERROR($E279*SUMIF('Daily Log'!$B$18:$B$1017,$B279,'Daily Log'!$C$18:$C$1017),0)","v":0},{"$f":"IFERROR($E279*SUMIF('Daily Log'!$E$18:$E$1017,$B279,'Daily Log'!$F$18:$F$1017),0)","v":0},{"$f":"IFERROR($E279*SUMIF('Daily Log'!$H$18:$H$1017,$B279,'Daily Log'!$I$18:$I$1017),0)","v":0},{"$f":"IFERROR($E279*SUMIF('Daily Log'!$K$18:$K$1017,$B279,'Daily Log'!$L$18:$L$1017),0)","v":0},{"$f":"IFERROR($E279*SUMIF('Daily Log'!$N$18:$N$1017,$B279,'Daily Log'!$O$18:$O$1017),0)","v":0},{"$f":"IFERROR($E279*SUMIF('Daily Log'!$Q$18:$Q$1017,$B279,'Daily Log'!$R$18:$R$1017),0)","v":0},{"$f":"IFERROR($E279*SUMIF('Daily Log'!$T$18:$T$1017,$B279,'Daily Log'!$U$18:$U$1017),0)","v":0},{"$f":"IFERROR($E279*SUMIF('Daily Log'!$W$18:$W$1017,$B279,'Daily Log'!$X$18:$X$1017),0)","v":0},{"$f":"IFERROR($E279*SUMIF('Daily Log'!$Z$18:$Z$1017,$B279,'Daily Log'!$AA$18:$AA$1017),0)","v":0},{"$f":"IFERROR($E279*SUMIF('Daily Log'!$AC$18:$AC$1017,$B279,'Daily Log'!$AD$18:$AD$1017),0)","v":0},{"$f":"IFERROR($E279*SUMIF('Daily Log'!$AF$18:$AF$1017,$B279,'Daily Log'!$AG$18:$AG$1017),0)","v":0},{"$f":"IFERROR($E279*SUMIF('Daily Log'!$AI$18:$AI$1017,$B279,'Daily Log'!$AJ$18:$AJ$1017),0)","v":0},{"$f":"IFERROR($E279*SUMIF('Daily Log'!$AL$18:$AL$1017,$B279,'Daily Log'!$AM$18:$AM$1017),0)","v":0},{"$f":"IFERROR($E279*SUMIF('Daily Log'!$AO$18:$AO$1017,$B279,'Daily Log'!$AP$18:$AP$1017),0)","v":0},{"$f":"IFERROR($E279*SUMIF('Daily Log'!$AR$18:$AR$1017,$B279,'Daily Log'!$AS$18:$AS$1017),0)","v":0},{"$f":"IFERROR($E279*SUMIF('Daily Log'!$AU$18:$AU$1017,$B279,'Daily Log'!$AV$18:$AV$1017),0)","v":0},{"$f":"IFERROR($E279*SUMIF('Daily Log'!$AX$18:$AX$1017,$B279,'Daily Log'!$AY$18:$AY$1017),0)","v":0},{"$f":"IFERROR($E279*SUMIF('Daily Log'!$BA$18:$BA$1017,$B279,'Daily Log'!$BB$18:$BB$1017),0)","v":0},{"$f":"IFERROR($E279*SUMIF('Daily Log'!$BD$18:$BD$1017,$B279,'Daily Log'!$BE$18:$BE$1017),0)","v":0},{"$f":"IFERROR($E279*SUMIF('Daily Log'!$BG$18:$BG$1017,$B279,'Daily Log'!$BH$18:$BH$1017),0)","v":0},{"$f":"IFERROR($E279*SUMIF('Daily Log'!$BJ$18:$BJ$1017,$B279,'Daily Log'!$BK$18:$BK$1017),0)","v":0},{"$f":"IFERROR($E279*SUMIF('Daily Log'!$BM$18:$BM$1017,$B279,'Daily Log'!$BN$18:$BN$1017),0)","v":0},{"$f":"IFERROR($E279*SUMIF('Daily Log'!$BP$18:$BP$1017,$B279,'Daily Log'!$BQ$18:$BQ$1017),0)","v":0},{"$f":"IFERROR($E279*SUMIF('Daily Log'!$BS$18:$BS$1017,$B279,'Daily Log'!$BT$18:$BT$1017),0)","v":0},{"$f":"IFERROR($E279*SUMIF('Daily Log'!$BV$18:$BV$1017,$B279,'Daily Log'!$BW$18:$BW$1017),0)","v":0},{"$f":"IFERROR($E279*SUMIF('Daily Log'!$BY$18:$BY$1017,$B279,'Daily Log'!$BZ$18:$BZ$1017),0)","v":0},{"$f":"IFERROR($E279*SUMIF('Daily Log'!$CB$18:$CB$1017,$B279,'Daily Log'!$CC$18:$CC$1017),0)","v":0},{"$f":"IFERROR($E279*SUMIF('Daily Log'!$CE$18:$CE$1017,$B279,'Daily Log'!$CF$18:$CF$1017),0)","v":0},{"$f":"IFERROR($E279*SUMIF('Daily Log'!$CH$18:$CH$1017,$B279,'Daily Log'!$CI$18:$CI$1017),0)","v":0},{"$f":"IFERROR($E279*SUMIF('Daily Log'!$CK$18:$CK$1017,$B279,'Daily Log'!$CL$18:$CL$1017),0)","v":142},{"$f":"IFERROR($E279*SUMIF('Daily Log'!$CN$18:$CN$1017,$B279,'Daily Log'!$CO$18:$CO$1017),0)","v":0}]
[null,"DC06 1106:HK F.RICE",null,"SIDE ORDER-LOCAL DELIGHTS",1,85,{"$f":"IFERROR($E280*SUMIF('Daily Log'!$B$18:$B$1017,$B280,'Daily Log'!$C$18:$C$1017),0)","v":0},{"$f":"IFERROR($E280*SUMIF('Daily Log'!$E$18:$E$1017,$B280,'Daily Log'!$F$18:$F$1017),0)","v":0},{"$f":"IFERROR($E280*SUMIF('Daily Log'!$H$18:$H$1017,$B280,'Daily Log'!$I$18:$I$1017),0)","v":0},{"$f":"IFERROR($E280*SUMIF('Daily Log'!$K$18:$K$1017,$B280,'Daily Log'!$L$18:$L$1017),0)","v":0},{"$f":"IFERROR($E280*SUMIF('Daily Log'!$N$18:$N$1017,$B280,'Daily Log'!$O$18:$O$1017),0)","v":0},{"$f":"IFERROR($E280*SUMIF('Daily Log'!$Q$18:$Q$1017,$B280,'Daily Log'!$R$18:$R$1017),0)","v":0},{"$f":"IFERROR($E280*SUMIF('Daily Log'!$T$18:$T$1017,$B280,'Daily Log'!$U$18:$U$1017),0)","v":0},{"$f":"IFERROR($E280*SUMIF('Daily Log'!$W$18:$W$1017,$B280,'Daily Log'!$X$18:$X$1017),0)","v":0},{"$f":"IFERROR($E280*SUMIF('Daily Log'!$Z$18:$Z$1017,$B280,'Daily Log'!$AA$18:$AA$1017),0)","v":0},{"$f":"IFERROR($E280*SUMIF('Daily Log'!$AC$18:$AC$1017,$B280,'Daily Log'!$AD$18:$AD$1017),0)","v":0},{"$f":"IFERROR($E280*SUMIF('Daily Log'!$AF$18:$AF$1017,$B280,'Daily Log'!$AG$18:$AG$1017),0)","v":0},{"$f":"IFERROR($E280*SUMIF('Daily Log'!$AI$18:$AI$1017,$B280,'Daily Log'!$AJ$18:$AJ$1017),0)","v":0},{"$f":"IFERROR($E280*SUMIF('Daily Log'!$AL$18:$AL$1017,$B280,'Daily Log'!$AM$18:$AM$1017),0)","v":0},{"$f":"IFERROR($E280*SUMIF('Daily Log'!$AO$18:$AO$1017,$B280,'Daily Log'!$AP$18:$AP$1017),0)","v":0},{"$f":"IFERROR($E280*SUMIF('Daily Log'!$AR$18:$AR$1017,$B280,'Daily Log'!$AS$18:$AS$1017),0)","v":0},{"$f":"IFERROR($E280*SUMIF('Daily Log'!$AU$18:$AU$1017,$B280,'Daily Log'!$AV$18:$AV$1017),0)","v":0},{"$f":"IFERROR($E280*SUMIF('Daily Log'!$AX$18:$AX$1017,$B280,'Daily Log'!$AY$18:$AY$1017),0)","v":0},{"$f":"IFERROR($E280*SUMIF('Daily Log'!$BA$18:$BA$1017,$B280,'Daily Log'!$BB$18:$BB$1017),0)","v":0},{"$f":"IFERROR($E280*SUMIF('Daily Log'!$BD$18:$BD$1017,$B280,'Daily Log'!$BE$18:$BE$1017),0)","v":0},{"$f":"IFERROR($E280*SUMIF('Daily Log'!$BG$18:$BG$1017,$B280,'Daily Log'!$BH$18:$BH$1017),0)","v":0},{"$f":"IFERROR($E280*SUMIF('Daily Log'!$BJ$18:$BJ$1017,$B280,'Daily Log'!$BK$18:$BK$1017),0)","v":0},{"$f":"IFERROR($E280*SUMIF('Daily Log'!$BM$18:$BM$1017,$B280,'Daily Log'!$BN$18:$BN$1017),0)","v":0},{"$f":"IFERROR($E280*SUMIF('Daily Log'!$BP$18:$BP$1017,$B280,'Daily Log'!$BQ$18:$BQ$1017),0)","v":0},{"$f":"IFERROR($E280*SUMIF('Daily Log'!$BS$18:$BS$1017,$B280,'Daily Log'!$BT$18:$BT$1017),0)","v":0},{"$f":"IFERROR($E280*SUMIF('Daily Log'!$BV$18:$BV$1017,$B280,'Daily Log'!$BW$18:$BW$1017),0)","v":0},{"$f":"IFERROR($E280*SUMIF('Daily Log'!$BY$18:$BY$1017,$B280,'Daily Log'!$BZ$18:$BZ$1017),0)","v":0},{"$f":"IFERROR($E280*SUMIF('Daily Log'!$CB$18:$CB$1017,$B280,'Daily Log'!$CC$18:$CC$1017),0)","v":0},{"$f":"IFERROR($E280*SUMIF('Daily Log'!$CE$18:$CE$1017,$B280,'Daily Log'!$CF$18:$CF$1017),0)","v":0},{"$f":"IFERROR($E280*SUMIF('Daily Log'!$CH$18:$CH$1017,$B280,'Daily Log'!$CI$18:$CI$1017),0)","v":0},{"$f":"IFERROR($E280*SUMIF('Daily Log'!$CK$18:$CK$1017,$B280,'Daily Log'!$CL$18:$CL$1017),0)","v":85},{"$f":"IFERROR($E280*SUMIF('Daily Log'!$CN$18:$CN$1017,$B280,'Daily Log'!$CO$18:$CO$1017),0)","v":0}]
[null,"DC07 1107:SBL F.RICE",null,"SIDE ORDER-LOCAL DELIGHTS",1,58,{"$f":"IFERROR($E281*SUMIF('Daily Log'!$B$18:$B$1017,$B281,'Daily Log'!$C$18:$C$1017),0)","v":0},{"$f":"IFERROR($E281*SUMIF('Daily Log'!$E$18:$E$1017,$B281,'Daily Log'!$F$18:$F$1017),0)","v":0},{"$f":"IFERROR($E281*SUMIF('Daily Log'!$H$18:$H$1017,$B281,'Daily Log'!$I$18:$I$1017),0)","v":0},{"$f":"IFERROR($E281*SUMIF('Daily Log'!$K$18:$K$1017,$B281,'Daily Log'!$L$18:$L$1017),0)","v":0},{"$f":"IFERROR($E281*SUMIF('Daily Log'!$N$18:$N$1017,$B281,'Daily Log'!$O$18:$O$1017),0)","v":0},{"$f":"IFERROR($E281*SUMIF('Daily Log'!$Q$18:$Q$1017,$B281,'Daily Log'!$R$18:$R$1017),0)","v":0},{"$f":"IFERROR($E281*SUMIF('Daily Log'!$T$18:$T$1017,$B281,'Daily Log'!$U$18:$U$1017),0)","v":0},{"$f":"IFERROR($E281*SUMIF('Daily Log'!$W$18:$W$1017,$B281,'Daily Log'!$X$18:$X$1017),0)","v":0},{"$f":"IFERROR($E281*SUMIF('Daily Log'!$Z$18:$Z$1017,$B281,'Daily Log'!$AA$18:$AA$1017),0)","v":0},{"$f":"IFERROR($E281*SUMIF('Daily Log'!$AC$18:$AC$1017,$B281,'Daily Log'!$AD$18:$AD$1017),0)","v":0},{"$f":"IFERROR($E281*SUMIF('Daily Log'!$AF$18:$AF$1017,$B281,'Daily Log'!$AG$18:$AG$1017),0)","v":0},{"$f":"IFERROR($E281*SUMIF('Daily Log'!$AI$18:$AI$1017,$B281,'Daily Log'!$AJ$18:$AJ$1017),0)","v":0},{"$f":"IFERROR($E281*SUMIF('Daily Log'!$AL$18:$AL$1017,$B281,'Daily Log'!$AM$18:$AM$1017),0)","v":0},{"$f":"IFERROR($E281*SUMIF('Daily Log'!$AO$18:$AO$1017,$B281,'Daily Log'!$AP$18:$AP$1017),0)","v":0},{"$f":"IFERROR($E281*SUMIF('Daily Log'!$AR$18:$AR$1017,$B281,'Daily Log'!$AS$18:$AS$1017),0)","v":0},{"$f":"IFERROR($E281*SUMIF('Daily Log'!$AU$18:$AU$1017,$B281,'Daily Log'!$AV$18:$AV$1017),0)","v":0},{"$f":"IFERROR($E281*SUMIF('Daily Log'!$AX$18:$AX$1017,$B281,'Daily Log'!$AY$18:$AY$1017),0)","v":0},{"$f":"IFERROR($E281*SUMIF('Daily Log'!$BA$18:$BA$1017,$B281,'Daily Log'!$BB$18:$BB$1017),0)","v":0},{"$f":"IFERROR($E281*SUMIF('Daily Log'!$BD$18:$BD$1017,$B281,'Daily Log'!$BE$18:$BE$1017),0)","v":0},{"$f":"IFERROR($E281*SUMIF('Daily Log'!$BG$18:$BG$1017,$B281,'Daily Log'!$BH$18:$BH$1017),0)","v":0},{"$f":"IFERROR($E281*SUMIF('Daily Log'!$BJ$18:$BJ$1017,$B281,'Daily Log'!$BK$18:$BK$1017),0)","v":0},{"$f":"IFERROR($E281*SUMIF('Daily Log'!$BM$18:$BM$1017,$B281,'Daily Log'!$BN$18:$BN$1017),0)","v":0},{"$f":"IFERROR($E281*SUMIF('Daily Log'!$BP$18:$BP$1017,$B281,'Daily Log'!$BQ$18:$BQ$1017),0)","v":0},{"$f":"IFERROR($E281*SUMIF('Daily Log'!$BS$18:$BS$1017,$B281,'Daily Log'!$BT$18:$BT$1017),0)","v":0},{"$f":"IFERROR($E281*SUMIF('Daily Log'!$BV$18:$BV$1017,$B281,'Daily Log'!$BW$18:$BW$1017),0)","v":0},{"$f":"IFERROR($E281*SUMIF('Daily Log'!$BY$18:$BY$1017,$B281,'Daily Log'!$BZ$18:$BZ$1017),0)","v":0},{"$f":"IFERROR($E281*SUMIF('Daily Log'!$CB$18:$CB$1017,$B281,'Daily Log'!$CC$18:$CC$1017),0)","v":0},{"$f":"IFERROR($E281*SUMIF('Daily Log'!$CE$18:$CE$1017,$B281,'Daily Log'!$CF$18:$CF$1017),0)","v":0},{"$f":"IFERROR($E281*SUMIF('Daily Log'!$CH$18:$CH$1017,$B281,'Daily Log'!$CI$18:$CI$1017),0)","v":0},{"$f":"IFERROR($E281*SUMIF('Daily Log'!$CK$18:$CK$1017,$B281,'Daily Log'!$CL$18:$CL$1017),0)","v":58},{"$f":"IFERROR($E281*SUMIF('Daily Log'!$CN$18:$CN$1017,$B281,'Daily Log'!$CO$18:$CO$1017),0)","v":0}]
[null,"DC08 1108:SBL F.MEE",null,"SIDE ORDER-LOCAL DELIGHTS",1,11,{"$f":"IFERROR($E282*SUMIF('Daily Log'!$B$18:$B$1017,$B282,'Daily Log'!$C$18:$C$1017),0)","v":0},{"$f":"IFERROR($E282*SUMIF('Daily Log'!$E$18:$E$1017,$B282,'Daily Log'!$F$18:$F$1017),0)","v":0},{"$f":"IFERROR($E282*SUMIF('Daily Log'!$H$18:$H$1017,$B282,'Daily Log'!$I$18:$I$1017),0)","v":0},{"$f":"IFERROR($E282*SUMIF('Daily Log'!$K$18:$K$1017,$B282,'Daily Log'!$L$18:$L$1017),0)","v":0},{"$f":"IFERROR($E282*SUMIF('Daily Log'!$N$18:$N$1017,$B282,'Daily Log'!$O$18:$O$1017),0)","v":0},{"$f":"IFERROR($E282*SUMIF('Daily Log'!$Q$18:$Q$1017,$B282,'Daily Log'!$R$18:$R$1017),0)","v":0},{"$f":"IFERROR($E282*SUMIF('Daily Log'!$T$18:$T$1017,$B282,'Daily Log'!$U$18:$U$1017),0)","v":0},{"$f":"IFERROR($E282*SUMIF('Daily Log'!$W$18:$W$1017,$B282,'Daily Log'!$X$18:$X$1017),0)","v":0},{"$f":"IFERROR($E282*SUMIF('Daily Log'!$Z$18:$Z$1017,$B282,'Daily Log'!$AA$18:$AA$1017),0)","v":0},{"$f":"IFERROR($E282*SUMIF('Daily Log'!$AC$18:$AC$1017,$B282,'Daily Log'!$AD$18:$AD$1017),0)","v":0},{"$f":"IFERROR($E282*SUMIF('Daily Log'!$AF$18:$AF$1017,$B282,'Daily Log'!$AG$18:$AG$1017),0)","v":0},{"$f":"IFERROR($E282*SUMIF('Daily Log'!$AI$18:$AI$1017,$B282,'Daily Log'!$AJ$18:$AJ$1017),0)","v":0},{"$f":"IFERROR($E282*SUMIF('Daily Log'!$AL$18:$AL$1017,$B282,'Daily Log'!$AM$18:$AM$1017),0)","v":0},{"$f":"IFERROR($E282*SUMIF('Daily Log'!$AO$18:$AO$1017,$B282,'Daily Log'!$AP$18:$AP$1017),0)","v":0},{"$f":"IFERROR($E282*SUMIF('Daily Log'!$AR$18:$AR$1017,$B282,'Daily Log'!$AS$18:$AS$1017),0)","v":0},{"$f":"IFERROR($E282*SUMIF('Daily Log'!$AU$18:$AU$1017,$B282,'Daily Log'!$AV$18:$AV$1017),0)","v":0},{"$f":"IFERROR($E282*SUMIF('Daily Log'!$AX$18:$AX$1017,$B282,'Daily Log'!$AY$18:$AY$1017),0)","v":0},{"$f":"IFERROR($E282*SUMIF('Daily Log'!$BA$18:$BA$1017,$B282,'Daily Log'!$BB$18:$BB$1017),0)","v":0},{"$f":"IFERROR($E282*SUMIF('Daily Log'!$BD$18:$BD$1017,$B282,'Daily Log'!$BE$18:$BE$1017),0)","v":0},{"$f":"IFERROR($E282*SUMIF('Daily Log'!$BG$18:$BG$1017,$B282,'Daily Log'!$BH$18:$BH$1017),0)","v":0},{"$f":"IFERROR($E282*SUMIF('Daily Log'!$BJ$18:$BJ$1017,$B282,'Daily Log'!$BK$18:$BK$1017),0)","v":0},{"$f":"IFERROR($E282*SUMIF('Daily Log'!$BM$18:$BM$1017,$B282,'Daily Log'!$BN$18:$BN$1017),0)","v":0},{"$f":"IFERROR($E282*SUMIF('Daily Log'!$BP$18:$BP$1017,$B282,'Daily Log'!$BQ$18:$BQ$1017),0)","v":0},{"$f":"IFERROR($E282*SUMIF('Daily Log'!$BS$18:$BS$1017,$B282,'Daily Log'!$BT$18:$BT$1017),0)","v":0},{"$f":"IFERROR($E282*SUMIF('Daily Log'!$BV$18:$BV$1017,$B282,'Daily Log'!$BW$18:$BW$1017),0)","v":0},{"$f":"IFERROR($E282*SUMIF('Daily Log'!$BY$18:$BY$1017,$B282,'Daily Log'!$BZ$18:$BZ$1017),0)","v":0},{"$f":"IFERROR($E282*SUMIF('Daily Log'!$CB$18:$CB$1017,$B282,'Daily Log'!$CC$18:$CC$1017),0)","v":0},{"$f":"IFERROR($E282*SUMIF('Daily Log'!$CE$18:$CE$1017,$B282,'Daily Log'!$CF$18:$CF$1017),0)","v":0},{"$f":"IFERROR($E282*SUMIF('Daily Log'!$CH$18:$CH$1017,$B282,'Daily Log'!$CI$18:$CI$1017),0)","v":0},{"$f":"IFERROR($E282*SUMIF('Daily Log'!$CK$18:$CK$1017,$B282,'Daily Log'!$CL$18:$CL$1017),0)","v":11},{"$f":"IFERROR($E282*SUMIF('Daily Log'!$CN$18:$CN$1017,$B282,'Daily Log'!$CO$18:$CO$1017),0)","v":0}]
[null,"DC09 1109:BP UDON",null,"SIDE ORDER-LOCAL DELIGHTS",1,33,{"$f":"IFERROR($E283*SUMIF('Daily Log'!$B$18:$B$1017,$B283,'Daily Log'!$C$18:$C$1017),0)","v":0},{"$f":"IFERROR($E283*SUMIF('Daily Log'!$E$18:$E$1017,$B283,'Daily Log'!$F$18:$F$1017),0)","v":0},{"$f":"IFERROR($E283*SUMIF('Daily Log'!$H$18:$H$1017,$B283,'Daily Log'!$I$18:$I$1017),0)","v":0},{"$f":"IFERROR($E283*SUMIF('Daily Log'!$K$18:$K$1017,$B283,'Daily Log'!$L$18:$L$1017),0)","v":0},{"$f":"IFERROR($E283*SUMIF('Daily Log'!$N$18:$N$1017,$B283,'Daily Log'!$O$18:$O$1017),0)","v":0},{"$f":"IFERROR($E283*SUMIF('Daily Log'!$Q$18:$Q$1017,$B283,'Daily Log'!$R$18:$R$1017),0)","v":0},{"$f":"IFERROR($E283*SUMIF('Daily Log'!$T$18:$T$1017,$B283,'Daily Log'!$U$18:$U$1017),0)","v":0},{"$f":"IFERROR($E283*SUMIF('Daily Log'!$W$18:$W$1017,$B283,'Daily Log'!$X$18:$X$1017),0)","v":0},{"$f":"IFERROR($E283*SUMIF('Daily Log'!$Z$18:$Z$1017,$B283,'Daily Log'!$AA$18:$AA$1017),0)","v":0},{"$f":"IFERROR($E283*SUMIF('Daily Log'!$AC$18:$AC$1017,$B283,'Daily Log'!$AD$18:$AD$1017),0)","v":0},{"$f":"IFERROR($E283*SUMIF('Daily Log'!$AF$18:$AF$1017,$B283,'Daily Log'!$AG$18:$AG$1017),0)","v":0},{"$f":"IFERROR($E283*SUMIF('Daily Log'!$AI$18:$AI$1017,$B283,'Daily Log'!$AJ$18:$AJ$1017),0)","v":0},{"$f":"IFERROR($E283*SUMIF('Daily Log'!$AL$18:$AL$1017,$B283,'Daily Log'!$AM$18:$AM$1017),0)","v":0},{"$f":"IFERROR($E283*SUMIF('Daily Log'!$AO$18:$AO$1017,$B283,'Daily Log'!$AP$18:$AP$1017),0)","v":0},{"$f":"IFERROR($E283*SUMIF('Daily Log'!$AR$18:$AR$1017,$B283,'Daily Log'!$AS$18:$AS$1017),0)","v":0},{"$f":"IFERROR($E283*SUMIF('Daily Log'!$AU$18:$AU$1017,$B283,'Daily Log'!$AV$18:$AV$1017),0)","v":0},{"$f":"IFERROR($E283*SUMIF('Daily Log'!$AX$18:$AX$1017,$B283,'Daily Log'!$AY$18:$AY$1017),0)","v":0},{"$f":"IFERROR($E283*SUMIF('Daily Log'!$BA$18:$BA$1017,$B283,'Daily Log'!$BB$18:$BB$1017),0)","v":0},{"$f":"IFERROR($E283*SUMIF('Daily Log'!$BD$18:$BD$1017,$B283,'Daily Log'!$BE$18:$BE$1017),0)","v":0},{"$f":"IFERROR($E283*SUMIF('Daily Log'!$BG$18:$BG$1017,$B283,'Daily Log'!$BH$18:$BH$1017),0)","v":0},{"$f":"IFERROR($E283*SUMIF('Daily Log'!$BJ$18:$BJ$1017,$B283,'Daily Log'!$BK$18:$BK$1017),0)","v":0},{"$f":"IFERROR($E283*SUMIF('Daily Log'!$BM$18:$BM$1017,$B283,'Daily Log'!$BN$18:$BN$1017),0)","v":0},{"$f":"IFERROR($E283*SUMIF('Daily Log'!$BP$18:$BP$1017,$B283,'Daily Log'!$BQ$18:$BQ$1017),0)","v":0},{"$f":"IFERROR($E283*SUMIF('Daily Log'!$BS$18:$BS$1017,$B283,'Daily Log'!$BT$18:$BT$1017),0)","v":0},{"$f":"IFERROR($E283*SUMIF('Daily Log'!$BV$18:$BV$1017,$B283,'Daily Log'!$BW$18:$BW$1017),0)","v":0},{"$f":"IFERROR($E283*SUMIF('Daily Log'!$BY$18:$BY$1017,$B283,'Daily Log'!$BZ$18:$BZ$1017),0)","v":0},{"$f":"IFERROR($E283*SUMIF('Daily Log'!$CB$18:$CB$1017,$B283,'Daily Log'!$CC$18:$CC$1017),0)","v":0},{"$f":"IFERROR($E283*SUMIF('Daily Log'!$CE$18:$CE$1017,$B283,'Daily Log'!$CF$18:$CF$1017),0)","v":0},{"$f":"IFERROR($E283*SUMIF('Daily Log'!$CH$18:$CH$1017,$B283,'Daily Log'!$CI$18:$CI$1017),0)","v":0},{"$f":"IFERROR($E283*SUMIF('Daily Log'!$CK$18:$CK$1017,$B283,'Daily Log'!$CL$18:$CL$1017),0)","v":33},{"$f":"IFERROR($E283*SUMIF('Daily Log'!$CN$18:$CN$1017,$B283,'Daily Log'!$CO$18:$CO$1017),0)","v":0}]
[null,"DC10 1110:NISSIN",null,"SIDE ORDER-LOCAL DELIGHTS",1,29,{"$f":"IFERROR($E284*SUMIF('Daily Log'!$B$18:$B$1017,$B284,'Daily Log'!$C$18:$C$1017),0)","v":0},{"$f":"IFERROR($E284*SUMIF('Daily Log'!$E$18:$E$1017,$B284,'Daily Log'!$F$18:$F$1017),0)","v":0},{"$f":"IFERROR($E284*SUMIF('Daily Log'!$H$18:$H$1017,$B284,'Daily Log'!$I$18:$I$1017),0)","v":0},{"$f":"IFERROR($E284*SUMIF('Daily Log'!$K$18:$K$1017,$B284,'Daily Log'!$L$18:$L$1017),0)","v":0},{"$f":"IFERROR($E284*SUMIF('Daily Log'!$N$18:$N$1017,$B284,'Daily Log'!$O$18:$O$1017),0)","v":0},{"$f":"IFERROR($E284*SUMIF('Daily Log'!$Q$18:$Q$1017,$B284,'Daily Log'!$R$18:$R$1017),0)","v":0},{"$f":"IFERROR($E284*SUMIF('Daily Log'!$T$18:$T$1017,$B284,'Daily Log'!$U$18:$U$1017),0)","v":0},{"$f":"IFERROR($E284*SUMIF('Daily Log'!$W$18:$W$1017,$B284,'Daily Log'!$X$18:$X$1017),0)","v":0},{"$f":"IFERROR($E284*SUMIF('Daily Log'!$Z$18:$Z$1017,$B284,'Daily Log'!$AA$18:$AA$1017),0)","v":0},{"$f":"IFERROR($E284*SUMIF('Daily Log'!$AC$18:$AC$1017,$B284,'Daily Log'!$AD$18:$AD$1017),0)","v":0},{"$f":"IFERROR($E284*SUMIF('Daily Log'!$AF$18:$AF$1017,$B284,'Daily Log'!$AG$18:$AG$1017),0)","v":0},{"$f":"IFERROR($E284*SUMIF('Daily Log'!$AI$18:$AI$1017,$B284,'Daily Log'!$AJ$18:$AJ$1017),0)","v":0},{"$f":"IFERROR($E284*SUMIF('Daily Log'!$AL$18:$AL$1017,$B284,'Daily Log'!$AM$18:$AM$1017),0)","v":0},{"$f":"IFERROR($E284*SUMIF('Daily Log'!$AO$18:$AO$1017,$B284,'Daily Log'!$AP$18:$AP$1017),0)","v":0},{"$f":"IFERROR($E284*SUMIF('Daily Log'!$AR$18:$AR$1017,$B284,'Daily Log'!$AS$18:$AS$1017),0)","v":0},{"$f":"IFERROR($E284*SUMIF('Daily Log'!$AU$18:$AU$1017,$B284,'Daily Log'!$AV$18:$AV$1017),0)","v":0},{"$f":"IFERROR($E284*SUMIF('Daily Log'!$AX$18:$AX$1017,$B284,'Daily Log'!$AY$18:$AY$1017),0)","v":0},{"$f":"IFERROR($E284*SUMIF('Daily Log'!$BA$18:$BA$1017,$B284,'Daily Log'!$BB$18:$BB$1017),0)","v":0},{"$f":"IFERROR($E284*SUMIF('Daily Log'!$BD$18:$BD$1017,$B284,'Daily Log'!$BE$18:$BE$1017),0)","v":0},{"$f":"IFERROR($E284*SUMIF('Daily Log'!$BG$18:$BG$1017,$B284,'Daily Log'!$BH$18:$BH$1017),0)","v":0},{"$f":"IFERROR($E284*SUMIF('Daily Log'!$BJ$18:$BJ$1017,$B284,'Daily Log'!$BK$18:$BK$1017),0)","v":0},{"$f":"IFERROR($E284*SUMIF('Daily Log'!$BM$18:$BM$1017,$B284,'Daily Log'!$BN$18:$BN$1017),0)","v":0},{"$f":"IFERROR($E284*SUMIF('Daily Log'!$BP$18:$BP$1017,$B284,'Daily Log'!$BQ$18:$BQ$1017),0)","v":0},{"$f":"IFERROR($E284*SUMIF('Daily Log'!$BS$18:$BS$1017,$B284,'Daily Log'!$BT$18:$BT$1017),0)","v":0},{"$f":"IFERROR($E284*SUMIF('Daily Log'!$BV$18:$BV$1017,$B284,'Daily Log'!$BW$18:$BW$1017),0)","v":0},{"$f":"IFERROR($E284*SUMIF('Daily Log'!$BY$18:$BY$1017,$B284,'Daily Log'!$BZ$18:$BZ$1017),0)","v":0},{"$f":"IFERROR($E284*SUMIF('Daily Log'!$CB$18:$CB$1017,$B284,'Daily Log'!$CC$18:$CC$1017),0)","v":0},{"$f":"IFERROR($E284*SUMIF('Daily Log'!$CE$18:$CE$1017,$B284,'Daily Log'!$CF$18:$CF$1017),0)","v":0},{"$f":"IFERROR($E284*SUMIF('Daily Log'!$CH$18:$CH$1017,$B284,'Daily Log'!$CI$18:$CI$1017),0)","v":0},{"$f":"IFERROR($E284*SUMIF('Daily Log'!$CK$18:$CK$1017,$B284,'Daily Log'!$CL$18:$CL$1017),0)","v":29},{"$f":"IFERROR($E284*SUMIF('Daily Log'!$CN$18:$CN$1017,$B284,'Daily Log'!$CO$18:$CO$1017),0)","v":0}]
[null,"DC11 1111:VEG RICE",null,"SIDE ORDER-LOCAL DELIGHTS",1,5,{"$f":"IFERROR($E285*SUMIF('Daily Log'!$B$18:$B$1017,$B285,'Daily Log'!$C$18:$C$1017),0)","v":0},{"$f":"IFERROR($E285*SUMIF('Daily Log'!$E$18:$E$1017,$B285,'Daily Log'!$F$18:$F$1017),0)","v":0},{"$f":"IFERROR($E285*SUMIF('Daily Log'!$H$18:$H$1017,$B285,'Daily Log'!$I$18:$I$1017),0)","v":0},{"$f":"IFERROR($E285*SUMIF('Daily Log'!$K$18:$K$1017,$B285,'Daily Log'!$L$18:$L$1017),0)","v":0},{"$f":"IFERROR($E285*SUMIF('Daily Log'!$N$18:$N$1017,$B285,'Daily Log'!$O$18:$O$1017),0)","v":0},{"$f":"IFERROR($E285*SUMIF('Daily Log'!$Q$18:$Q$1017,$B285,'Daily Log'!$R$18:$R$1017),0)","v":0},{"$f":"IFERROR($E285*SUMIF('Daily Log'!$T$18:$T$1017,$B285,'Daily Log'!$U$18:$U$1017),0)","v":0},{"$f":"IFERROR($E285*SUMIF('Daily Log'!$W$18:$W$1017,$B285,'Daily Log'!$X$18:$X$1017),0)","v":0},{"$f":"IFERROR($E285*SUMIF('Daily Log'!$Z$18:$Z$1017,$B285,'Daily Log'!$AA$18:$AA$1017),0)","v":0},{"$f":"IFERROR($E285*SUMIF('Daily Log'!$AC$18:$AC$1017,$B285,'Daily Log'!$AD$18:$AD$1017),0)","v":0},{"$f":"IFERROR($E285*SUMIF('Daily Log'!$AF$18:$AF$1017,$B285,'Daily Log'!$AG$18:$AG$1017),0)","v":0},{"$f":"IFERROR($E285*SUMIF('Daily Log'!$AI$18:$AI$1017,$B285,'Daily Log'!$AJ$18:$AJ$1017),0)","v":0},{"$f":"IFERROR($E285*SUMIF('Daily Log'!$AL$18:$AL$1017,$B285,'Daily Log'!$AM$18:$AM$1017),0)","v":0},{"$f":"IFERROR($E285*SUMIF('Daily Log'!$AO$18:$AO$1017,$B285,'Daily Log'!$AP$18:$AP$1017),0)","v":0},{"$f":"IFERROR($E285*SUMIF('Daily Log'!$AR$18:$AR$1017,$B285,'Daily Log'!$AS$18:$AS$1017),0)","v":0},{"$f":"IFERROR($E285*SUMIF('Daily Log'!$AU$18:$AU$1017,$B285,'Daily Log'!$AV$18:$AV$1017),0)","v":0},{"$f":"IFERROR($E285*SUMIF('Daily Log'!$AX$18:$AX$1017,$B285,'Daily Log'!$AY$18:$AY$1017),0)","v":0},{"$f":"IFERROR($E285*SUMIF('Daily Log'!$BA$18:$BA$1017,$B285,'Daily Log'!$BB$18:$BB$1017),0)","v":0},{"$f":"IFERROR($E285*SUMIF('Daily Log'!$BD$18:$BD$1017,$B285,'Daily Log'!$BE$18:$BE$1017),0)","v":0},{"$f":"IFERROR($E285*SUMIF('Daily Log'!$BG$18:$BG$1017,$B285,'Daily Log'!$BH$18:$BH$1017),0)","v":0},{"$f":"IFERROR($E285*SUMIF('Daily Log'!$BJ$18:$BJ$1017,$B285,'Daily Log'!$BK$18:$BK$1017),0)","v":0},{"$f":"IFERROR($E285*SUMIF('Daily Log'!$BM$18:$BM$1017,$B285,'Daily Log'!$BN$18:$BN$1017),0)","v":0},{"$f":"IFERROR($E285*SUMIF('Daily Log'!$BP$18:$BP$1017,$B285,'Daily Log'!$BQ$18:$BQ$1017),0)","v":0},{"$f":"IFERROR($E285*SUMIF('Daily Log'!$BS$18:$BS$1017,$B285,'Daily Log'!$BT$18:$BT$1017),0)","v":0},{"$f":"IFERROR($E285*SUMIF('Daily Log'!$BV$18:$BV$1017,$B285,'Daily Log'!$BW$18:$BW$1017),0)","v":0},{"$f":"IFERROR($E285*SUMIF('Daily Log'!$BY$18:$BY$1017,$B285,'Daily Log'!$BZ$18:$BZ$1017),0)","v":0},{"$f":"IFERROR($E285*SUMIF('Daily Log'!$CB$18:$CB$1017,$B285,'Daily Log'!$CC$18:$CC$1017),0)","v":0},{"$f":"IFERROR($E285*SUMIF('Daily Log'!$CE$18:$CE$1017,$B285,'Daily Log'!$CF$18:$CF$1017),0)","v":0},{"$f":"IFERROR($E285*SUMIF('Daily Log'!$CH$18:$CH$1017,$B285,'Daily Log'!$CI$18:$CI$1017),0)","v":0},{"$f":"IFERROR($E285*SUMIF('Daily Log'!$CK$18:$CK$1017,$B285,'Daily Log'!$CL$18:$CL$1017),0)","v":5},{"$f":"IFERROR($E285*SUMIF('Daily Log'!$CN$18:$CN$1017,$B285,'Daily Log'!$CO$18:$CO$1017),0)","v":0}]
[null,"DC12 1112:NASI LEMAK",null,"SIDE ORDER-LOCAL DELIGHTS",1,38,{"$f":"IFERROR($E286*SUMIF('Daily Log'!$B$18:$B$1017,$B286,'Daily Log'!$C$18:$C$1017),0)","v":0},{"$f":"IFERROR($E286*SUMIF('Daily Log'!$E$18:$E$1017,$B286,'Daily Log'!$F$18:$F$1017),0)","v":0},{"$f":"IFERROR($E286*SUMIF('Daily Log'!$H$18:$H$1017,$B286,'Daily Log'!$I$18:$I$1017),0)","v":0},{"$f":"IFERROR($E286*SUMIF('Daily Log'!$K$18:$K$1017,$B286,'Daily Log'!$L$18:$L$1017),0)","v":0},{"$f":"IFERROR($E286*SUMIF('Daily Log'!$N$18:$N$1017,$B286,'Daily Log'!$O$18:$O$1017),0)","v":0},{"$f":"IFERROR($E286*SUMIF('Daily Log'!$Q$18:$Q$1017,$B286,'Daily Log'!$R$18:$R$1017),0)","v":0},{"$f":"IFERROR($E286*SUMIF('Daily Log'!$T$18:$T$1017,$B286,'Daily Log'!$U$18:$U$1017),0)","v":0},{"$f":"IFERROR($E286*SUMIF('Daily Log'!$W$18:$W$1017,$B286,'Daily Log'!$X$18:$X$1017),0)","v":0},{"$f":"IFERROR($E286*SUMIF('Daily Log'!$Z$18:$Z$1017,$B286,'Daily Log'!$AA$18:$AA$1017),0)","v":0},{"$f":"IFERROR($E286*SUMIF('Daily Log'!$AC$18:$AC$1017,$B286,'Daily Log'!$AD$18:$AD$1017),0)","v":0},{"$f":"IFERROR($E286*SUMIF('Daily Log'!$AF$18:$AF$1017,$B286,'Daily Log'!$AG$18:$AG$1017),0)","v":0},{"$f":"IFERROR($E286*SUMIF('Daily Log'!$AI$18:$AI$1017,$B286,'Daily Log'!$AJ$18:$AJ$1017),0)","v":0},{"$f":"IFERROR($E286*SUMIF('Daily Log'!$AL$18:$AL$1017,$B286,'Daily Log'!$AM$18:$AM$1017),0)","v":0},{"$f":"IFERROR($E286*SUMIF('Daily Log'!$AO$18:$AO$1017,$B286,'Daily Log'!$AP$18:$AP$1017),0)","v":0},{"$f":"IFERROR($E286*SUMIF('Daily Log'!$AR$18:$AR$1017,$B286,'Daily Log'!$AS$18:$AS$1017),0)","v":0},{"$f":"IFERROR($E286*SUMIF('Daily Log'!$AU$18:$AU$1017,$B286,'Daily Log'!$AV$18:$AV$1017),0)","v":0},{"$f":"IFERROR($E286*SUMIF('Daily Log'!$AX$18:$AX$1017,$B286,'Daily Log'!$AY$18:$AY$1017),0)","v":0},{"$f":"IFERROR($E286*SUMIF('Daily Log'!$BA$18:$BA$1017,$B286,'Daily Log'!$BB$18:$BB$1017),0)","v":0},{"$f":"IFERROR($E286*SUMIF('Daily Log'!$BD$18:$BD$1017,$B286,'Daily Log'!$BE$18:$BE$1017),0)","v":0},{"$f":"IFERROR($E286*SUMIF('Daily Log'!$BG$18:$BG$1017,$B286,'Daily Log'!$BH$18:$BH$1017),0)","v":0},{"$f":"IFERROR($E286*SUMIF('Daily Log'!$BJ$18:$BJ$1017,$B286,'Daily Log'!$BK$18:$BK$1017),0)","v":0},{"$f":"IFERROR($E286*SUMIF('Daily Log'!$BM$18:$BM$1017,$B286,'Daily Log'!$BN$18:$BN$1017),0)","v":0},{"$f":"IFERROR($E286*SUMIF('Daily Log'!$BP$18:$BP$1017,$B286,'Daily Log'!$BQ$18:$BQ$1017),0)","v":0},{"$f":"IFERROR($E286*SUMIF('Daily Log'!$BS$18:$BS$1017,$B286,'Daily Log'!$BT$18:$BT$1017),0)","v":0},{"$f":"IFERROR($E286*SUMIF('Daily Log'!$BV$18:$BV$1017,$B286,'Daily Log'!$BW$18:$BW$1017),0)","v":0},{"$f":"IFERROR($E286*SUMIF('Daily Log'!$BY$18:$BY$1017,$B286,'Daily Log'!$BZ$18:$BZ$1017),0)","v":0},{"$f":"IFERROR($E286*SUMIF('Daily Log'!$CB$18:$CB$1017,$B286,'Daily Log'!$CC$18:$CC$1017),0)","v":0},{"$f":"IFERROR($E286*SUMIF('Daily Log'!$CE$18:$CE$1017,$B286,'Daily Log'!$CF$18:$CF$1017),0)","v":0},{"$f":"IFERROR($E286*SUMIF('Daily Log'!$CH$18:$CH$1017,$B286,'Daily Log'!$CI$18:$CI$1017),0)","v":0},{"$f":"IFERROR($E286*SUMIF('Daily Log'!$CK$18:$CK$1017,$B286,'Daily Log'!$CL$18:$CL$1017),0)","v":38},{"$f":"IFERROR($E286*SUMIF('Daily Log'!$CN$18:$CN$1017,$B286,'Daily Log'!$CO$18:$CO$1017),0)","v":0}]
[null,"DC13 1113:KUEY TEOW",null,"SIDE ORDER-LOCAL DELIGHTS",1,52,{"$f":"IFERROR($E287*SUMIF('Daily Log'!$B$18:$B$1017,$B287,'Daily Log'!$C$18:$C$1017),0)","v":0},{"$f":"IFERROR($E287*SUMIF('Daily Log'!$E$18:$E$1017,$B287,'Daily Log'!$F$18:$F$1017),0)","v":0},{"$f":"IFERROR($E287*SUMIF('Daily Log'!$H$18:$H$1017,$B287,'Daily Log'!$I$18:$I$1017),0)","v":0},{"$f":"IFERROR($E287*SUMIF('Daily Log'!$K$18:$K$1017,$B287,'Daily Log'!$L$18:$L$1017),0)","v":0},{"$f":"IFERROR($E287*SUMIF('Daily Log'!$N$18:$N$1017,$B287,'Daily Log'!$O$18:$O$1017),0)","v":0},{"$f":"IFERROR($E287*SUMIF('Daily Log'!$Q$18:$Q$1017,$B287,'Daily Log'!$R$18:$R$1017),0)","v":0},{"$f":"IFERROR($E287*SUMIF('Daily Log'!$T$18:$T$1017,$B287,'Daily Log'!$U$18:$U$1017),0)","v":0},{"$f":"IFERROR($E287*SUMIF('Daily Log'!$W$18:$W$1017,$B287,'Daily Log'!$X$18:$X$1017),0)","v":0},{"$f":"IFERROR($E287*SUMIF('Daily Log'!$Z$18:$Z$1017,$B287,'Daily Log'!$AA$18:$AA$1017),0)","v":0},{"$f":"IFERROR($E287*SUMIF('Daily Log'!$AC$18:$AC$1017,$B287,'Daily Log'!$AD$18:$AD$1017),0)","v":0},{"$f":"IFERROR($E287*SUMIF('Daily Log'!$AF$18:$AF$1017,$B287,'Daily Log'!$AG$18:$AG$1017),0)","v":0},{"$f":"IFERROR($E287*SUMIF('Daily Log'!$AI$18:$AI$1017,$B287,'Daily Log'!$AJ$18:$AJ$1017),0)","v":0},{"$f":"IFERROR($E287*SUMIF('Daily Log'!$AL$18:$AL$1017,$B287,'Daily Log'!$AM$18:$AM$1017),0)","v":0},{"$f":"IFERROR($E287*SUMIF('Daily Log'!$AO$18:$AO$1017,$B287,'Daily Log'!$AP$18:$AP$1017),0)","v":0},{"$f":"IFERROR($E287*SUMIF('Daily Log'!$AR$18:$AR$1017,$B287,'Daily Log'!$AS$18:$AS$1017),0)","v":0},{"$f":"IFERROR($E287*SUMIF('Daily Log'!$AU$18:$AU$1017,$B287,'Daily Log'!$AV$18:$AV$1017),0)","v":0},{"$f":"IFERROR($E287*SUMIF('Daily Log'!$AX$18:$AX$1017,$B287,'Daily Log'!$AY$18:$AY$1017),0)","v":0},{"$f":"IFERROR($E287*SUMIF('Daily Log'!$BA$18:$BA$1017,$B287,'Daily Log'!$BB$18:$BB$1017),0)","v":0},{"$f":"IFERROR($E287*SUMIF('Daily Log'!$BD$18:$BD$1017,$B287,'Daily Log'!$BE$18:$BE$1017),0)","v":0},{"$f":"IFERROR($E287*SUMIF('Daily Log'!$BG$18:$BG$1017,$B287,'Daily Log'!$BH$18:$BH$1017),0)","v":0},{"$f":"IFERROR($E287*SUMIF('Daily Log'!$BJ$18:$BJ$1017,$B287,'Daily Log'!$BK$18:$BK$1017),0)","v":0},{"$f":"IFERROR($E287*SUMIF('Daily Log'!$BM$18:$BM$1017,$B287,'Daily Log'!$BN$18:$BN$1017),0)","v":0},{"$f":"IFERROR($E287*SUMIF('Daily Log'!$BP$18:$BP$1017,$B287,'Daily Log'!$BQ$18:$BQ$1017),0)","v":0},{"$f":"IFERROR($E287*SUMIF('Daily Log'!$BS$18:$BS$1017,$B287,'Daily Log'!$BT$18:$BT$1017),0)","v":0},{"$f":"IFERROR($E287*SUMIF('Daily Log'!$BV$18:$BV$1017,$B287,'Daily Log'!$BW$18:$BW$1017),0)","v":0},{"$f":"IFERROR($E287*SUMIF('Daily Log'!$BY$18:$BY$1017,$B287,'Daily Log'!$BZ$18:$BZ$1017),0)","v":0},{"$f":"IFERROR($E287*SUMIF('Daily Log'!$CB$18:$CB$1017,$B287,'Daily Log'!$CC$18:$CC$1017),0)","v":0},{"$f":"IFERROR($E287*SUMIF('Daily Log'!$CE$18:$CE$1017,$B287,'Daily Log'!$CF$18:$CF$1017),0)","v":0},{"$f":"IFERROR($E287*SUMIF('Daily Log'!$CH$18:$CH$1017,$B287,'Daily Log'!$CI$18:$CI$1017),0)","v":0},{"$f":"IFERROR($E287*SUMIF('Daily Log'!$CK$18:$CK$1017,$B287,'Daily Log'!$CL$18:$CL$1017),0)","v":52},{"$f":"IFERROR($E287*SUMIF('Daily Log'!$CN$18:$CN$1017,$B287,'Daily Log'!$CO$18:$CO$1017),0)","v":0}]
[null,"DC14 1114:F.BALL MEE",null,"SIDE ORDER-LOCAL DELIGHTS",1,6,{"$f":"IFERROR($E288*SUMIF('Daily Log'!$B$18:$B$1017,$B288,'Daily Log'!$C$18:$C$1017),0)","v":0},{"$f":"IFERROR($E288*SUMIF('Daily Log'!$E$18:$E$1017,$B288,'Daily Log'!$F$18:$F$1017),0)","v":0},{"$f":"IFERROR($E288*SUMIF('Daily Log'!$H$18:$H$1017,$B288,'Daily Log'!$I$18:$I$1017),0)","v":0},{"$f":"IFERROR($E288*SUMIF('Daily Log'!$K$18:$K$1017,$B288,'Daily Log'!$L$18:$L$1017),0)","v":0},{"$f":"IFERROR($E288*SUMIF('Daily Log'!$N$18:$N$1017,$B288,'Daily Log'!$O$18:$O$1017),0)","v":0},{"$f":"IFERROR($E288*SUMIF('Daily Log'!$Q$18:$Q$1017,$B288,'Daily Log'!$R$18:$R$1017),0)","v":0},{"$f":"IFERROR($E288*SUMIF('Daily Log'!$T$18:$T$1017,$B288,'Daily Log'!$U$18:$U$1017),0)","v":0},{"$f":"IFERROR($E288*SUMIF('Daily Log'!$W$18:$W$1017,$B288,'Daily Log'!$X$18:$X$1017),0)","v":0},{"$f":"IFERROR($E288*SUMIF('Daily Log'!$Z$18:$Z$1017,$B288,'Daily Log'!$AA$18:$AA$1017),0)","v":0},{"$f":"IFERROR($E288*SUMIF('Daily Log'!$AC$18:$AC$1017,$B288,'Daily Log'!$AD$18:$AD$1017),0)","v":0},{"$f":"IFERROR($E288*SUMIF('Daily Log'!$AF$18:$AF$1017,$B288,'Daily Log'!$AG$18:$AG$1017),0)","v":0},{"$f":"IFERROR($E288*SUMIF('Daily Log'!$AI$18:$AI$1017,$B288,'Daily Log'!$AJ$18:$AJ$1017),0)","v":0},{"$f":"IFERROR($E288*SUMIF('Daily Log'!$AL$18:$AL$1017,$B288,'Daily Log'!$AM$18:$AM$1017),0)","v":0},{"$f":"IFERROR($E288*SUMIF('Daily Log'!$AO$18:$AO$1017,$B288,'Daily Log'!$AP$18:$AP$1017),0)","v":0},{"$f":"IFERROR($E288*SUMIF('Daily Log'!$AR$18:$AR$1017,$B288,'Daily Log'!$AS$18:$AS$1017),0)","v":0},{"$f":"IFERROR($E288*SUMIF('Daily Log'!$AU$18:$AU$1017,$B288,'Daily Log'!$AV$18:$AV$1017),0)","v":0},{"$f":"IFERROR($E288*SUMIF('Daily Log'!$AX$18:$AX$1017,$B288,'Daily Log'!$AY$18:$AY$1017),0)","v":0},{"$f":"IFERROR($E288*SUMIF('Daily Log'!$BA$18:$BA$1017,$B288,'Daily Log'!$BB$18:$BB$1017),0)","v":0},{"$f":"IFERROR($E288*SUMIF('Daily Log'!$BD$18:$BD$1017,$B288,'Daily Log'!$BE$18:$BE$1017),0)","v":0},{"$f":"IFERROR($E288*SUMIF('Daily Log'!$BG$18:$BG$1017,$B288,'Daily Log'!$BH$18:$BH$1017),0)","v":0},{"$f":"IFERROR($E288*SUMIF('Daily Log'!$BJ$18:$BJ$1017,$B288,'Daily Log'!$BK$18:$BK$1017),0)","v":0},{"$f":"IFERROR($E288*SUMIF('Daily Log'!$BM$18:$BM$1017,$B288,'Daily Log'!$BN$18:$BN$1017),0)","v":0},{"$f":"IFERROR($E288*SUMIF('Daily Log'!$BP$18:$BP$1017,$B288,'Daily Log'!$BQ$18:$BQ$1017),0)","v":0},{"$f":"IFERROR($E288*SUMIF('Daily Log'!$BS$18:$BS$1017,$B288,'Daily Log'!$BT$18:$BT$1017),0)","v":0},{"$f":"IFERROR($E288*SUMIF('Daily Log'!$BV$18:$BV$1017,$B288,'Daily Log'!$BW$18:$BW$1017),0)","v":0},{"$f":"IFERROR($E288*SUMIF('Daily Log'!$BY$18:$BY$1017,$B288,'Daily Log'!$BZ$18:$BZ$1017),0)","v":0},{"$f":"IFERROR($E288*SUMIF('Daily Log'!$CB$18:$CB$1017,$B288,'Daily Log'!$CC$18:$CC$1017),0)","v":0},{"$f":"IFERROR($E288*SUMIF('Daily Log'!$CE$18:$CE$1017,$B288,'Daily Log'!$CF$18:$CF$1017),0)","v":0},{"$f":"IFERROR($E288*SUMIF('Daily Log'!$CH$18:$CH$1017,$B288,'Daily Log'!$CI$18:$CI$1017),0)","v":0},{"$f":"IFERROR($E288*SUMIF('Daily Log'!$CK$18:$CK$1017,$B288,'Daily Log'!$CL$18:$CL$1017),0)","v":6},{"$f":"IFERROR($E288*SUMIF('Daily Log'!$CN$18:$CN$1017,$B288,'Daily Log'!$CO$18:$CO$1017),0)","v":0}]
[null,"DC15 1115:CHK NOODLE",null,"SIDE ORDER-LOCAL DELIGHTS",1,19,{"$f":"IFERROR($E289*SUMIF('Daily Log'!$B$18:$B$1017,$B289,'Daily Log'!$C$18:$C$1017),0)","v":0},{"$f":"IFERROR($E289*SUMIF('Daily Log'!$E$18:$E$1017,$B289,'Daily Log'!$F$18:$F$1017),0)","v":0},{"$f":"IFERROR($E289*SUMIF('Daily Log'!$H$18:$H$1017,$B289,'Daily Log'!$I$18:$I$1017),0)","v":0},{"$f":"IFERROR($E289*SUMIF('Daily Log'!$K$18:$K$1017,$B289,'Daily Log'!$L$18:$L$1017),0)","v":0},{"$f":"IFERROR($E289*SUMIF('Daily Log'!$N$18:$N$1017,$B289,'Daily Log'!$O$18:$O$1017),0)","v":0},{"$f":"IFERROR($E289*SUMIF('Daily Log'!$Q$18:$Q$1017,$B289,'Daily Log'!$R$18:$R$1017),0)","v":0},{"$f":"IFERROR($E289*SUMIF('Daily Log'!$T$18:$T$1017,$B289,'Daily Log'!$U$18:$U$1017),0)","v":0},{"$f":"IFERROR($E289*SUMIF('Daily Log'!$W$18:$W$1017,$B289,'Daily Log'!$X$18:$X$1017),0)","v":0},{"$f":"IFERROR($E289*SUMIF('Daily Log'!$Z$18:$Z$1017,$B289,'Daily Log'!$AA$18:$AA$1017),0)","v":0},{"$f":"IFERROR($E289*SUMIF('Daily Log'!$AC$18:$AC$1017,$B289,'Daily Log'!$AD$18:$AD$1017),0)","v":0},{"$f":"IFERROR($E289*SUMIF('Daily Log'!$AF$18:$AF$1017,$B289,'Daily Log'!$AG$18:$AG$1017),0)","v":0},{"$f":"IFERROR($E289*SUMIF('Daily Log'!$AI$18:$AI$1017,$B289,'Daily Log'!$AJ$18:$AJ$1017),0)","v":0},{"$f":"IFERROR($E289*SUMIF('Daily Log'!$AL$18:$AL$1017,$B289,'Daily Log'!$AM$18:$AM$1017),0)","v":0},{"$f":"IFERROR($E289*SUMIF('Daily Log'!$AO$18:$AO$1017,$B289,'Daily Log'!$AP$18:$AP$1017),0)","v":0},{"$f":"IFERROR($E289*SUMIF('Daily Log'!$AR$18:$AR$1017,$B289,'Daily Log'!$AS$18:$AS$1017),0)","v":0},{"$f":"IFERROR($E289*SUMIF('Daily Log'!$AU$18:$AU$1017,$B289,'Daily Log'!$AV$18:$AV$1017),0)","v":0},{"$f":"IFERROR($E289*SUMIF('Daily Log'!$AX$18:$AX$1017,$B289,'Daily Log'!$AY$18:$AY$1017),0)","v":0},{"$f":"IFERROR($E289*SUMIF('Daily Log'!$BA$18:$BA$1017,$B289,'Daily Log'!$BB$18:$BB$1017),0)","v":0},{"$f":"IFERROR($E289*SUMIF('Daily Log'!$BD$18:$BD$1017,$B289,'Daily Log'!$BE$18:$BE$1017),0)","v":0},{"$f":"IFERROR($E289*SUMIF('Daily Log'!$BG$18:$BG$1017,$B289,'Daily Log'!$BH$18:$BH$1017),0)","v":0},{"$f":"IFERROR($E289*SUMIF('Daily Log'!$BJ$18:$BJ$1017,$B289,'Daily Log'!$BK$18:$BK$1017),0)","v":0},{"$f":"IFERROR($E289*SUMIF('Daily Log'!$BM$18:$BM$1017,$B289,'Daily Log'!$BN$18:$BN$1017),0)","v":0},{"$f":"IFERROR($E289*SUMIF('Daily Log'!$BP$18:$BP$1017,$B289,'Daily Log'!$BQ$18:$BQ$1017),0)","v":0},{"$f":"IFERROR($E289*SUMIF('Daily Log'!$BS$18:$BS$1017,$B289,'Daily Log'!$BT$18:$BT$1017),0)","v":0},{"$f":"IFERROR($E289*SUMIF('Daily Log'!$BV$18:$BV$1017,$B289,'Daily Log'!$BW$18:$BW$1017),0)","v":0},{"$f":"IFERROR($E289*SUMIF('Daily Log'!$BY$18:$BY$1017,$B289,'Daily Log'!$BZ$18:$BZ$1017),0)","v":0},{"$f":"IFERROR($E289*SUMIF('Daily Log'!$CB$18:$CB$1017,$B289,'Daily Log'!$CC$18:$CC$1017),0)","v":0},{"$f":"IFERROR($E289*SUMIF('Daily Log'!$CE$18:$CE$1017,$B289,'Daily Log'!$CF$18:$CF$1017),0)","v":0},{"$f":"IFERROR($E289*SUMIF('Daily Log'!$CH$18:$CH$1017,$B289,'Daily Log'!$CI$18:$CI$1017),0)","v":0},{"$f":"IFERROR($E289*SUMIF('Daily Log'!$CK$18:$CK$1017,$B289,'Daily Log'!$CL$18:$CL$1017),0)","v":19},{"$f":"IFERROR($E289*SUMIF('Daily Log'!$CN$18:$CN$1017,$B289,'Daily Log'!$CO$18:$CO$1017),0)","v":0}]
[null,"DD01 1201:SFD STICK",null,"SIDE ORDER-APPETIZER",1,2,{"$f":"IFERROR($E290*SUMIF('Daily Log'!$B$18:$B$1017,$B290,'Daily Log'!$C$18:$C$1017),0)","v":0},{"$f":"IFERROR($E290*SUMIF('Daily Log'!$E$18:$E$1017,$B290,'Daily Log'!$F$18:$F$1017),0)","v":0},{"$f":"IFERROR($E290*SUMIF('Daily Log'!$H$18:$H$1017,$B290,'Daily Log'!$I$18:$I$1017),0)","v":0},{"$f":"IFERROR($E290*SUMIF('Daily Log'!$K$18:$K$1017,$B290,'Daily Log'!$L$18:$L$1017),0)","v":0},{"$f":"IFERROR($E290*SUMIF('Daily Log'!$N$18:$N$1017,$B290,'Daily Log'!$O$18:$O$1017),0)","v":0},{"$f":"IFERROR($E290*SUMIF('Daily Log'!$Q$18:$Q$1017,$B290,'Daily Log'!$R$18:$R$1017),0)","v":0},{"$f":"IFERROR($E290*SUMIF('Daily Log'!$T$18:$T$1017,$B290,'Daily Log'!$U$18:$U$1017),0)","v":0},{"$f":"IFERROR($E290*SUMIF('Daily Log'!$W$18:$W$1017,$B290,'Daily Log'!$X$18:$X$1017),0)","v":0},{"$f":"IFERROR($E290*SUMIF('Daily Log'!$Z$18:$Z$1017,$B290,'Daily Log'!$AA$18:$AA$1017),0)","v":0},{"$f":"IFERROR($E290*SUMIF('Daily Log'!$AC$18:$AC$1017,$B290,'Daily Log'!$AD$18:$AD$1017),0)","v":0},{"$f":"IFERROR($E290*SUMIF('Daily Log'!$AF$18:$AF$1017,$B290,'Daily Log'!$AG$18:$AG$1017),0)","v":0},{"$f":"IFERROR($E290*SUMIF('Daily Log'!$AI$18:$AI$1017,$B290,'Daily Log'!$AJ$18:$AJ$1017),0)","v":0},{"$f":"IFERROR($E290*SUMIF('Daily Log'!$AL$18:$AL$1017,$B290,'Daily Log'!$AM$18:$AM$1017),0)","v":0},{"$f":"IFERROR($E290*SUMIF('Daily Log'!$AO$18:$AO$1017,$B290,'Daily Log'!$AP$18:$AP$1017),0)","v":0},{"$f":"IFERROR($E290*SUMIF('Daily Log'!$AR$18:$AR$1017,$B290,'Daily Log'!$AS$18:$AS$1017),0)","v":0},{"$f":"IFERROR($E290*SUMIF('Daily Log'!$AU$18:$AU$1017,$B290,'Daily Log'!$AV$18:$AV$1017),0)","v":0},{"$f":"IFERROR($E290*SUMIF('Daily Log'!$AX$18:$AX$1017,$B290,'Daily Log'!$AY$18:$AY$1017),0)","v":0},{"$f":"IFERROR($E290*SUMIF('Daily Log'!$BA$18:$BA$1017,$B290,'Daily Log'!$BB$18:$BB$1017),0)","v":0},{"$f":"IFERROR($E290*SUMIF('Daily Log'!$BD$18:$BD$1017,$B290,'Daily Log'!$BE$18:$BE$1017),0)","v":0},{"$f":"IFERROR($E290*SUMIF('Daily Log'!$BG$18:$BG$1017,$B290,'Daily Log'!$BH$18:$BH$1017),0)","v":0},{"$f":"IFERROR($E290*SUMIF('Daily Log'!$BJ$18:$BJ$1017,$B290,'Daily Log'!$BK$18:$BK$1017),0)","v":0},{"$f":"IFERROR($E290*SUMIF('Daily Log'!$BM$18:$BM$1017,$B290,'Daily Log'!$BN$18:$BN$1017),0)","v":0},{"$f":"IFERROR($E290*SUMIF('Daily Log'!$BP$18:$BP$1017,$B290,'Daily Log'!$BQ$18:$BQ$1017),0)","v":0},{"$f":"IFERROR($E290*SUMIF('Daily Log'!$BS$18:$BS$1017,$B290,'Daily Log'!$BT$18:$BT$1017),0)","v":0},{"$f":"IFERROR($E290*SUMIF('Daily Log'!$BV$18:$BV$1017,$B290,'Daily Log'!$BW$18:$BW$1017),0)","v":0},{"$f":"IFERROR($E290*SUMIF('Daily Log'!$BY$18:$BY$1017,$B290,'Daily Log'!$BZ$18:$BZ$1017),0)","v":0},{"$f":"IFERROR($E290*SUMIF('Daily Log'!$CB$18:$CB$1017,$B290,'Daily Log'!$CC$18:$CC$1017),0)","v":0},{"$f":"IFERROR($E290*SUMIF('Daily Log'!$CE$18:$CE$1017,$B290,'Daily Log'!$CF$18:$CF$1017),0)","v":0},{"$f":"IFERROR($E290*SUMIF('Daily Log'!$CH$18:$CH$1017,$B290,'Daily Log'!$CI$18:$CI$1017),0)","v":0},{"$f":"IFERROR($E290*SUMIF('Daily Log'!$CK$18:$CK$1017,$B290,'Daily Log'!$CL$18:$CL$1017),0)","v":2},{"$f":"IFERROR($E290*SUMIF('Daily Log'!$CN$18:$CN$1017,$B290,'Daily Log'!$CO$18:$CO$1017),0)","v":0}]
[null,"DD02 1202:FREN FRIES",null,"SIDE ORDER-APPETIZER",1,76,{"$f":"IFERROR($E291*SUMIF('Daily Log'!$B$18:$B$1017,$B291,'Daily Log'!$C$18:$C$1017),0)","v":0},{"$f":"IFERROR($E291*SUMIF('Daily Log'!$E$18:$E$1017,$B291,'Daily Log'!$F$18:$F$1017),0)","v":0},{"$f":"IFERROR($E291*SUMIF('Daily Log'!$H$18:$H$1017,$B291,'Daily Log'!$I$18:$I$1017),0)","v":0},{"$f":"IFERROR($E291*SUMIF('Daily Log'!$K$18:$K$1017,$B291,'Daily Log'!$L$18:$L$1017),0)","v":0},{"$f":"IFERROR($E291*SUMIF('Daily Log'!$N$18:$N$1017,$B291,'Daily Log'!$O$18:$O$1017),0)","v":0},{"$f":"IFERROR($E291*SUMIF('Daily Log'!$Q$18:$Q$1017,$B291,'Daily Log'!$R$18:$R$1017),0)","v":0},{"$f":"IFERROR($E291*SUMIF('Daily Log'!$T$18:$T$1017,$B291,'Daily Log'!$U$18:$U$1017),0)","v":0},{"$f":"IFERROR($E291*SUMIF('Daily Log'!$W$18:$W$1017,$B291,'Daily Log'!$X$18:$X$1017),0)","v":0},{"$f":"IFERROR($E291*SUMIF('Daily Log'!$Z$18:$Z$1017,$B291,'Daily Log'!$AA$18:$AA$1017),0)","v":0},{"$f":"IFERROR($E291*SUMIF('Daily Log'!$AC$18:$AC$1017,$B291,'Daily Log'!$AD$18:$AD$1017),0)","v":0},{"$f":"IFERROR($E291*SUMIF('Daily Log'!$AF$18:$AF$1017,$B291,'Daily Log'!$AG$18:$AG$1017),0)","v":0},{"$f":"IFERROR($E291*SUMIF('Daily Log'!$AI$18:$AI$1017,$B291,'Daily Log'!$AJ$18:$AJ$1017),0)","v":0},{"$f":"IFERROR($E291*SUMIF('Daily Log'!$AL$18:$AL$1017,$B291,'Daily Log'!$AM$18:$AM$1017),0)","v":0},{"$f":"IFERROR($E291*SUMIF('Daily Log'!$AO$18:$AO$1017,$B291,'Daily Log'!$AP$18:$AP$1017),0)","v":0},{"$f":"IFERROR($E291*SUMIF('Daily Log'!$AR$18:$AR$1017,$B291,'Daily Log'!$AS$18:$AS$1017),0)","v":0},{"$f":"IFERROR($E291*SUMIF('Daily Log'!$AU$18:$AU$1017,$B291,'Daily Log'!$AV$18:$AV$1017),0)","v":0},{"$f":"IFERROR($E291*SUMIF('Daily Log'!$AX$18:$AX$1017,$B291,'Daily Log'!$AY$18:$AY$1017),0)","v":0},{"$f":"IFERROR($E291*SUMIF('Daily Log'!$BA$18:$BA$1017,$B291,'Daily Log'!$BB$18:$BB$1017),0)","v":0},{"$f":"IFERROR($E291*SUMIF('Daily Log'!$BD$18:$BD$1017,$B291,'Daily Log'!$BE$18:$BE$1017),0)","v":0},{"$f":"IFERROR($E291*SUMIF('Daily Log'!$BG$18:$BG$1017,$B291,'Daily Log'!$BH$18:$BH$1017),0)","v":0},{"$f":"IFERROR($E291*SUMIF('Daily Log'!$BJ$18:$BJ$1017,$B291,'Daily Log'!$BK$18:$BK$1017),0)","v":0},{"$f":"IFERROR($E291*SUMIF('Daily Log'!$BM$18:$BM$1017,$B291,'Daily Log'!$BN$18:$BN$1017),0)","v":0},{"$f":"IFERROR($E291*SUMIF('Daily Log'!$BP$18:$BP$1017,$B291,'Daily Log'!$BQ$18:$BQ$1017),0)","v":0},{"$f":"IFERROR($E291*SUMIF('Daily Log'!$BS$18:$BS$1017,$B291,'Daily Log'!$BT$18:$BT$1017),0)","v":0},{"$f":"IFERROR($E291*SUMIF('Daily Log'!$BV$18:$BV$1017,$B291,'Daily Log'!$BW$18:$BW$1017),0)","v":0},{"$f":"IFERROR($E291*SUMIF('Daily Log'!$BY$18:$BY$1017,$B291,'Daily Log'!$BZ$18:$BZ$1017),0)","v":0},{"$f":"IFERROR($E291*SUMIF('Daily Log'!$CB$18:$CB$1017,$B291,'Daily Log'!$CC$18:$CC$1017),0)","v":0},{"$f":"IFERROR($E291*SUMIF('Daily Log'!$CE$18:$CE$1017,$B291,'Daily Log'!$CF$18:$CF$1017),0)","v":0},{"$f":"IFERROR($E291*SUMIF('Daily Log'!$CH$18:$CH$1017,$B291,'Daily Log'!$CI$18:$CI$1017),0)","v":0},{"$f":"IFERROR($E291*SUMIF('Daily Log'!$CK$18:$CK$1017,$B291,'Daily Log'!$CL$18:$CL$1017),0)","v":76},{"$f":"IFERROR($E291*SUMIF('Daily Log'!$CN$18:$CN$1017,$B291,'Daily Log'!$CO$18:$CO$1017),0)","v":0}]
[null,"DD03 1203:GOLD MROOM",null,"SIDE ORDER-APPETIZER",1,10,{"$f":"IFERROR($E292*SUMIF('Daily Log'!$B$18:$B$1017,$B292,'Daily Log'!$C$18:$C$1017),0)","v":0},{"$f":"IFERROR($E292*SUMIF('Daily Log'!$E$18:$E$1017,$B292,'Daily Log'!$F$18:$F$1017),0)","v":0},{"$f":"IFERROR($E292*SUMIF('Daily Log'!$H$18:$H$1017,$B292,'Daily Log'!$I$18:$I$1017),0)","v":0},{"$f":"IFERROR($E292*SUMIF('Daily Log'!$K$18:$K$1017,$B292,'Daily Log'!$L$18:$L$1017),0)","v":0},{"$f":"IFERROR($E292*SUMIF('Daily Log'!$N$18:$N$1017,$B292,'Daily Log'!$O$18:$O$1017),0)","v":0},{"$f":"IFERROR($E292*SUMIF('Daily Log'!$Q$18:$Q$1017,$B292,'Daily Log'!$R$18:$R$1017),0)","v":0},{"$f":"IFERROR($E292*SUMIF('Daily Log'!$T$18:$T$1017,$B292,'Daily Log'!$U$18:$U$1017),0)","v":0},{"$f":"IFERROR($E292*SUMIF('Daily Log'!$W$18:$W$1017,$B292,'Daily Log'!$X$18:$X$1017),0)","v":0},{"$f":"IFERROR($E292*SUMIF('Daily Log'!$Z$18:$Z$1017,$B292,'Daily Log'!$AA$18:$AA$1017),0)","v":0},{"$f":"IFERROR($E292*SUMIF('Daily Log'!$AC$18:$AC$1017,$B292,'Daily Log'!$AD$18:$AD$1017),0)","v":0},{"$f":"IFERROR($E292*SUMIF('Daily Log'!$AF$18:$AF$1017,$B292,'Daily Log'!$AG$18:$AG$1017),0)","v":0},{"$f":"IFERROR($E292*SUMIF('Daily Log'!$AI$18:$AI$1017,$B292,'Daily Log'!$AJ$18:$AJ$1017),0)","v":0},{"$f":"IFERROR($E292*SUMIF('Daily Log'!$AL$18:$AL$1017,$B292,'Daily Log'!$AM$18:$AM$1017),0)","v":0},{"$f":"IFERROR($E292*SUMIF('Daily Log'!$AO$18:$AO$1017,$B292,'Daily Log'!$AP$18:$AP$1017),0)","v":0},{"$f":"IFERROR($E292*SUMIF('Daily Log'!$AR$18:$AR$1017,$B292,'Daily Log'!$AS$18:$AS$1017),0)","v":0},{"$f":"IFERROR($E292*SUMIF('Daily Log'!$AU$18:$AU$1017,$B292,'Daily Log'!$AV$18:$AV$1017),0)","v":0},{"$f":"IFERROR($E292*SUMIF('Daily Log'!$AX$18:$AX$1017,$B292,'Daily Log'!$AY$18:$AY$1017),0)","v":0},{"$f":"IFERROR($E292*SUMIF('Daily Log'!$BA$18:$BA$1017,$B292,'Daily Log'!$BB$18:$BB$1017),0)","v":0},{"$f":"IFERROR($E292*SUMIF('Daily Log'!$BD$18:$BD$1017,$B292,'Daily Log'!$BE$18:$BE$1017),0)","v":0},{"$f":"IFERROR($E292*SUMIF('Daily Log'!$BG$18:$BG$1017,$B292,'Daily Log'!$BH$18:$BH$1017),0)","v":0},{"$f":"IFERROR($E292*SUMIF('Daily Log'!$BJ$18:$BJ$1017,$B292,'Daily Log'!$BK$18:$BK$1017),0)","v":0},{"$f":"IFERROR($E292*SUMIF('Daily Log'!$BM$18:$BM$1017,$B292,'Daily Log'!$BN$18:$BN$1017),0)","v":0},{"$f":"IFERROR($E292*SUMIF('Daily Log'!$BP$18:$BP$1017,$B292,'Daily Log'!$BQ$18:$BQ$1017),0)","v":0},{"$f":"IFERROR($E292*SUMIF('Daily Log'!$BS$18:$BS$1017,$B292,'Daily Log'!$BT$18:$BT$1017),0)","v":0},{"$f":"IFERROR($E292*SUMIF('Daily Log'!$BV$18:$BV$1017,$B292,'Daily Log'!$BW$18:$BW$1017),0)","v":0},{"$f":"IFERROR($E292*SUMIF('Daily Log'!$BY$18:$BY$1017,$B292,'Daily Log'!$BZ$18:$BZ$1017),0)","v":0},{"$f":"IFERROR($E292*SUMIF('Daily Log'!$CB$18:$CB$1017,$B292,'Daily Log'!$CC$18:$CC$1017),0)","v":0},{"$f":"IFERROR($E292*SUMIF('Daily Log'!$CE$18:$CE$1017,$B292,'Daily Log'!$CF$18:$CF$1017),0)","v":0},{"$f":"IFERROR($E292*SUMIF('Daily Log'!$CH$18:$CH$1017,$B292,'Daily Log'!$CI$18:$CI$1017),0)","v":0},{"$f":"IFERROR($E292*SUMIF('Daily Log'!$CK$18:$CK$1017,$B292,'Daily Log'!$CL$18:$CL$1017),0)","v":10},{"$f":"IFERROR($E292*SUMIF('Daily Log'!$CN$18:$CN$1017,$B292,'Daily Log'!$CO$18:$CO$1017),0)","v":0}]
[null,"DD04 1204:FISHBALL",null,"SIDE ORDER-APPETIZER",1,7,{"$f":"IFERROR($E293*SUMIF('Daily Log'!$B$18:$B$1017,$B293,'Daily Log'!$C$18:$C$1017),0)","v":0},{"$f":"IFERROR($E293*SUMIF('Daily Log'!$E$18:$E$1017,$B293,'Daily Log'!$F$18:$F$1017),0)","v":0},{"$f":"IFERROR($E293*SUMIF('Daily Log'!$H$18:$H$1017,$B293,'Daily Log'!$I$18:$I$1017),0)","v":0},{"$f":"IFERROR($E293*SUMIF('Daily Log'!$K$18:$K$1017,$B293,'Daily Log'!$L$18:$L$1017),0)","v":0},{"$f":"IFERROR($E293*SUMIF('Daily Log'!$N$18:$N$1017,$B293,'Daily Log'!$O$18:$O$1017),0)","v":0},{"$f":"IFERROR($E293*SUMIF('Daily Log'!$Q$18:$Q$1017,$B293,'Daily Log'!$R$18:$R$1017),0)","v":0},{"$f":"IFERROR($E293*SUMIF('Daily Log'!$T$18:$T$1017,$B293,'Daily Log'!$U$18:$U$1017),0)","v":0},{"$f":"IFERROR($E293*SUMIF('Daily Log'!$W$18:$W$1017,$B293,'Daily Log'!$X$18:$X$1017),0)","v":0},{"$f":"IFERROR($E293*SUMIF('Daily Log'!$Z$18:$Z$1017,$B293,'Daily Log'!$AA$18:$AA$1017),0)","v":0},{"$f":"IFERROR($E293*SUMIF('Daily Log'!$AC$18:$AC$1017,$B293,'Daily Log'!$AD$18:$AD$1017),0)","v":0},{"$f":"IFERROR($E293*SUMIF('Daily Log'!$AF$18:$AF$1017,$B293,'Daily Log'!$AG$18:$AG$1017),0)","v":0},{"$f":"IFERROR($E293*SUMIF('Daily Log'!$AI$18:$AI$1017,$B293,'Daily Log'!$AJ$18:$AJ$1017),0)","v":0},{"$f":"IFERROR($E293*SUMIF('Daily Log'!$AL$18:$AL$1017,$B293,'Daily Log'!$AM$18:$AM$1017),0)","v":0},{"$f":"IFERROR($E293*SUMIF('Daily Log'!$AO$18:$AO$1017,$B293,'Daily Log'!$AP$18:$AP$1017),0)","v":0},{"$f":"IFERROR($E293*SUMIF('Daily Log'!$AR$18:$AR$1017,$B293,'Daily Log'!$AS$18:$AS$1017),0)","v":0},{"$f":"IFERROR($E293*SUMIF('Daily Log'!$AU$18:$AU$1017,$B293,'Daily Log'!$AV$18:$AV$1017),0)","v":0},{"$f":"IFERROR($E293*SUMIF('Daily Log'!$AX$18:$AX$1017,$B293,'Daily Log'!$AY$18:$AY$1017),0)","v":0},{"$f":"IFERROR($E293*SUMIF('Daily Log'!$BA$18:$BA$1017,$B293,'Daily Log'!$BB$18:$BB$1017),0)","v":0},{"$f":"IFERROR($E293*SUMIF('Daily Log'!$BD$18:$BD$1017,$B293,'Daily Log'!$BE$18:$BE$1017),0)","v":0},{"$f":"IFERROR($E293*SUMIF('Daily Log'!$BG$18:$BG$1017,$B293,'Daily Log'!$BH$18:$BH$1017),0)","v":0},{"$f":"IFERROR($E293*SUMIF('Daily Log'!$BJ$18:$BJ$1017,$B293,'Daily Log'!$BK$18:$BK$1017),0)","v":0},{"$f":"IFERROR($E293*SUMIF('Daily Log'!$BM$18:$BM$1017,$B293,'Daily Log'!$BN$18:$BN$1017),0)","v":0},{"$f":"IFERROR($E293*SUMIF('Daily Log'!$BP$18:$BP$1017,$B293,'Daily Log'!$BQ$18:$BQ$1017),0)","v":0},{"$f":"IFERROR($E293*SUMIF('Daily Log'!$BS$18:$BS$1017,$B293,'Daily Log'!$BT$18:$BT$1017),0)","v":0},{"$f":"IFERROR($E293*SUMIF('Daily Log'!$BV$18:$BV$1017,$B293,'Daily Log'!$BW$18:$BW$1017),0)","v":0},{"$f":"IFERROR($E293*SUMIF('Daily Log'!$BY$18:$BY$1017,$B293,'Daily Log'!$BZ$18:$BZ$1017),0)","v":0},{"$f":"IFERROR($E293*SUMIF('Daily Log'!$CB$18:$CB$1017,$B293,'Daily Log'!$CC$18:$CC$1017),0)","v":0},{"$f":"IFERROR($E293*SUMIF('Daily Log'!$CE$18:$CE$1017,$B293,'Daily Log'!$CF$18:$CF$1017),0)","v":0},{"$f":"IFERROR($E293*SUMIF('Daily Log'!$CH$18:$CH$1017,$B293,'Daily Log'!$CI$18:$CI$1017),0)","v":0},{"$f":"IFERROR($E293*SUMIF('Daily Log'!$CK$18:$CK$1017,$B293,'Daily Log'!$CL$18:$CL$1017),0)","v":7},{"$f":"IFERROR($E293*SUMIF('Daily Log'!$CN$18:$CN$1017,$B293,'Daily Log'!$CO$18:$CO$1017),0)","v":0}]
[null,"DD05 1205:RAINBOW RL",null,"SIDE ORDER-APPETIZER",1,3,{"$f":"IFERROR($E294*SUMIF('Daily Log'!$B$18:$B$1017,$B294,'Daily Log'!$C$18:$C$1017),0)","v":0},{"$f":"IFERROR($E294*SUMIF('Daily Log'!$E$18:$E$1017,$B294,'Daily Log'!$F$18:$F$1017),0)","v":0},{"$f":"IFERROR($E294*SUMIF('Daily Log'!$H$18:$H$1017,$B294,'Daily Log'!$I$18:$I$1017),0)","v":0},{"$f":"IFERROR($E294*SUMIF('Daily Log'!$K$18:$K$1017,$B294,'Daily Log'!$L$18:$L$1017),0)","v":0},{"$f":"IFERROR($E294*SUMIF('Daily Log'!$N$18:$N$1017,$B294,'Daily Log'!$O$18:$O$1017),0)","v":0},{"$f":"IFERROR($E294*SUMIF('Daily Log'!$Q$18:$Q$1017,$B294,'Daily Log'!$R$18:$R$1017),0)","v":0},{"$f":"IFERROR($E294*SUMIF('Daily Log'!$T$18:$T$1017,$B294,'Daily Log'!$U$18:$U$1017),0)","v":0},{"$f":"IFERROR($E294*SUMIF('Daily Log'!$W$18:$W$1017,$B294,'Daily Log'!$X$18:$X$1017),0)","v":0},{"$f":"IFERROR($E294*SUMIF('Daily Log'!$Z$18:$Z$1017,$B294,'Daily Log'!$AA$18:$AA$1017),0)","v":0},{"$f":"IFERROR($E294*SUMIF('Daily Log'!$AC$18:$AC$1017,$B294,'Daily Log'!$AD$18:$AD$1017),0)","v":0},{"$f":"IFERROR($E294*SUMIF('Daily Log'!$AF$18:$AF$1017,$B294,'Daily Log'!$AG$18:$AG$1017),0)","v":0},{"$f":"IFERROR($E294*SUMIF('Daily Log'!$AI$18:$AI$1017,$B294,'Daily Log'!$AJ$18:$AJ$1017),0)","v":0},{"$f":"IFERROR($E294*SUMIF('Daily Log'!$AL$18:$AL$1017,$B294,'Daily Log'!$AM$18:$AM$1017),0)","v":0},{"$f":"IFERROR($E294*SUMIF('Daily Log'!$AO$18:$AO$1017,$B294,'Daily Log'!$AP$18:$AP$1017),0)","v":0},{"$f":"IFERROR($E294*SUMIF('Daily Log'!$AR$18:$AR$1017,$B294,'Daily Log'!$AS$18:$AS$1017),0)","v":0},{"$f":"IFERROR($E294*SUMIF('Daily Log'!$AU$18:$AU$1017,$B294,'Daily Log'!$AV$18:$AV$1017),0)","v":0},{"$f":"IFERROR($E294*SUMIF('Daily Log'!$AX$18:$AX$1017,$B294,'Daily Log'!$AY$18:$AY$1017),0)","v":0},{"$f":"IFERROR($E294*SUMIF('Daily Log'!$BA$18:$BA$1017,$B294,'Daily Log'!$BB$18:$BB$1017),0)","v":0},{"$f":"IFERROR($E294*SUMIF('Daily Log'!$BD$18:$BD$1017,$B294,'Daily Log'!$BE$18:$BE$1017),0)","v":0},{"$f":"IFERROR($E294*SUMIF('Daily Log'!$BG$18:$BG$1017,$B294,'Daily Log'!$BH$18:$BH$1017),0)","v":0},{"$f":"IFERROR($E294*SUMIF('Daily Log'!$BJ$18:$BJ$1017,$B294,'Daily Log'!$BK$18:$BK$1017),0)","v":0},{"$f":"IFERROR($E294*SUMIF('Daily Log'!$BM$18:$BM$1017,$B294,'Daily Log'!$BN$18:$BN$1017),0)","v":0},{"$f":"IFERROR($E294*SUMIF('Daily Log'!$BP$18:$BP$1017,$B294,'Daily Log'!$BQ$18:$BQ$1017),0)","v":0},{"$f":"IFERROR($E294*SUMIF('Daily Log'!$BS$18:$BS$1017,$B294,'Daily Log'!$BT$18:$BT$1017),0)","v":0},{"$f":"IFERROR($E294*SUMIF('Daily Log'!$BV$18:$BV$1017,$B294,'Daily Log'!$BW$18:$BW$1017),0)","v":0},{"$f":"IFERROR($E294*SUMIF('Daily Log'!$BY$18:$BY$1017,$B294,'Daily Log'!$BZ$18:$BZ$1017),0)","v":0},{"$f":"IFERROR($E294*SUMIF('Daily Log'!$CB$18:$CB$1017,$B294,'Daily Log'!$CC$18:$CC$1017),0)","v":0},{"$f":"IFERROR($E294*SUMIF('Daily Log'!$CE$18:$CE$1017,$B294,'Daily Log'!$CF$18:$CF$1017),0)","v":0},{"$f":"IFERROR($E294*SUMIF('Daily Log'!$CH$18:$CH$1017,$B294,'Daily Log'!$CI$18:$CI$1017),0)","v":0},{"$f":"IFERROR($E294*SUMIF('Daily Log'!$CK$18:$CK$1017,$B294,'Daily Log'!$CL$18:$CL$1017),0)","v":3},{"$f":"IFERROR($E294*SUMIF('Daily Log'!$CN$18:$CN$1017,$B294,'Daily Log'!$CO$18:$CO$1017),0)","v":0}]
[null,"DD06 1206:SPRING RL",null,"SIDE ORDER-APPETIZER",1,11,{"$f":"IFERROR($E295*SUMIF('Daily Log'!$B$18:$B$1017,$B295,'Daily Log'!$C$18:$C$1017),0)","v":0},{"$f":"IFERROR($E295*SUMIF('Daily Log'!$E$18:$E$1017,$B295,'Daily Log'!$F$18:$F$1017),0)","v":0},{"$f":"IFERROR($E295*SUMIF('Daily Log'!$H$18:$H$1017,$B295,'Daily Log'!$I$18:$I$1017),0)","v":0},{"$f":"IFERROR($E295*SUMIF('Daily Log'!$K$18:$K$1017,$B295,'Daily Log'!$L$18:$L$1017),0)","v":0},{"$f":"IFERROR($E295*SUMIF('Daily Log'!$N$18:$N$1017,$B295,'Daily Log'!$O$18:$O$1017),0)","v":0},{"$f":"IFERROR($E295*SUMIF('Daily Log'!$Q$18:$Q$1017,$B295,'Daily Log'!$R$18:$R$1017),0)","v":0},{"$f":"IFERROR($E295*SUMIF('Daily Log'!$T$18:$T$1017,$B295,'Daily Log'!$U$18:$U$1017),0)","v":0},{"$f":"IFERROR($E295*SUMIF('Daily Log'!$W$18:$W$1017,$B295,'Daily Log'!$X$18:$X$1017),0)","v":0},{"$f":"IFERROR($E295*SUMIF('Daily Log'!$Z$18:$Z$1017,$B295,'Daily Log'!$AA$18:$AA$1017),0)","v":0},{"$f":"IFERROR($E295*SUMIF('Daily Log'!$AC$18:$AC$1017,$B295,'Daily Log'!$AD$18:$AD$1017),0)","v":0},{"$f":"IFERROR($E295*SUMIF('Daily Log'!$AF$18:$AF$1017,$B295,'Daily Log'!$AG$18:$AG$1017),0)","v":0},{"$f":"IFERROR($E295*SUMIF('Daily Log'!$AI$18:$AI$1017,$B295,'Daily Log'!$AJ$18:$AJ$1017),0)","v":0},{"$f":"IFERROR($E295*SUMIF('Daily Log'!$AL$18:$AL$1017,$B295,'Daily Log'!$AM$18:$AM$1017),0)","v":0},{"$f":"IFERROR($E295*SUMIF('Daily Log'!$AO$18:$AO$1017,$B295,'Daily Log'!$AP$18:$AP$1017),0)","v":0},{"$f":"IFERROR($E295*SUMIF('Daily Log'!$AR$18:$AR$1017,$B295,'Daily Log'!$AS$18:$AS$1017),0)","v":0},{"$f":"IFERROR($E295*SUMIF('Daily Log'!$AU$18:$AU$1017,$B295,'Daily Log'!$AV$18:$AV$1017),0)","v":0},{"$f":"IFERROR($E295*SUMIF('Daily Log'!$AX$18:$AX$1017,$B295,'Daily Log'!$AY$18:$AY$1017),0)","v":0},{"$f":"IFERROR($E295*SUMIF('Daily Log'!$BA$18:$BA$1017,$B295,'Daily Log'!$BB$18:$BB$1017),0)","v":0},{"$f":"IFERROR($E295*SUMIF('Daily Log'!$BD$18:$BD$1017,$B295,'Daily Log'!$BE$18:$BE$1017),0)","v":0},{"$f":"IFERROR($E295*SUMIF('Daily Log'!$BG$18:$BG$1017,$B295,'Daily Log'!$BH$18:$BH$1017),0)","v":0},{"$f":"IFERROR($E295*SUMIF('Daily Log'!$BJ$18:$BJ$1017,$B295,'Daily Log'!$BK$18:$BK$1017),0)","v":0},{"$f":"IFERROR($E295*SUMIF('Daily Log'!$BM$18:$BM$1017,$B295,'Daily Log'!$BN$18:$BN$1017),0)","v":0},{"$f":"IFERROR($E295*SUMIF('Daily Log'!$BP$18:$BP$1017,$B295,'Daily Log'!$BQ$18:$BQ$1017),0)","v":0},{"$f":"IFERROR($E295*SUMIF('Daily Log'!$BS$18:$BS$1017,$B295,'Daily Log'!$BT$18:$BT$1017),0)","v":0},{"$f":"IFERROR($E295*SUMIF('Daily Log'!$BV$18:$BV$1017,$B295,'Daily Log'!$BW$18:$BW$1017),0)","v":0},{"$f":"IFERROR($E295*SUMIF('Daily Log'!$BY$18:$BY$1017,$B295,'Daily Log'!$BZ$18:$BZ$1017),0)","v":0},{"$f":"IFERROR($E295*SUMIF('Daily Log'!$CB$18:$CB$1017,$B295,'Daily Log'!$CC$18:$CC$1017),0)","v":0},{"$f":"IFERROR($E295*SUMIF('Daily Log'!$CE$18:$CE$1017,$B295,'Daily Log'!$CF$18:$CF$1017),0)","v":0},{"$f":"IFERROR($E295*SUMIF('Daily Log'!$CH$18:$CH$1017,$B295,'Daily Log'!$CI$18:$CI$1017),0)","v":0},{"$f":"IFERROR($E295*SUMIF('Daily Log'!$CK$18:$CK$1017,$B295,'Daily Log'!$CL$18:$CL$1017),0)","v":11},{"$f":"IFERROR($E295*SUMIF('Daily Log'!$CN$18:$CN$1017,$B295,'Daily Log'!$CO$18:$CO$1017),0)","v":0}]
[null,"DD07 1207:SAUSAGE",null,"SIDE ORDER-APPETIZER",1,18,{"$f":"IFERROR($E296*SUMIF('Daily Log'!$B$18:$B$1017,$B296,'Daily Log'!$C$18:$C$1017),0)","v":0},{"$f":"IFERROR($E296*SUMIF('Daily Log'!$E$18:$E$1017,$B296,'Daily Log'!$F$18:$F$1017),0)","v":0},{"$f":"IFERROR($E296*SUMIF('Daily Log'!$H$18:$H$1017,$B296,'Daily Log'!$I$18:$I$1017),0)","v":0},{"$f":"IFERROR($E296*SUMIF('Daily Log'!$K$18:$K$1017,$B296,'Daily Log'!$L$18:$L$1017),0)","v":0},{"$f":"IFERROR($E296*SUMIF('Daily Log'!$N$18:$N$1017,$B296,'Daily Log'!$O$18:$O$1017),0)","v":0},{"$f":"IFERROR($E296*SUMIF('Daily Log'!$Q$18:$Q$1017,$B296,'Daily Log'!$R$18:$R$1017),0)","v":0},{"$f":"IFERROR($E296*SUMIF('Daily Log'!$T$18:$T$1017,$B296,'Daily Log'!$U$18:$U$1017),0)","v":0},{"$f":"IFERROR($E296*SUMIF('Daily Log'!$W$18:$W$1017,$B296,'Daily Log'!$X$18:$X$1017),0)","v":0},{"$f":"IFERROR($E296*SUMIF('Daily Log'!$Z$18:$Z$1017,$B296,'Daily Log'!$AA$18:$AA$1017),0)","v":0},{"$f":"IFERROR($E296*SUMIF('Daily Log'!$AC$18:$AC$1017,$B296,'Daily Log'!$AD$18:$AD$1017),0)","v":0},{"$f":"IFERROR($E296*SUMIF('Daily Log'!$AF$18:$AF$1017,$B296,'Daily Log'!$AG$18:$AG$1017),0)","v":0},{"$f":"IFERROR($E296*SUMIF('Daily Log'!$AI$18:$AI$1017,$B296,'Daily Log'!$AJ$18:$AJ$1017),0)","v":0},{"$f":"IFERROR($E296*SUMIF('Daily Log'!$AL$18:$AL$1017,$B296,'Daily Log'!$AM$18:$AM$1017),0)","v":0},{"$f":"IFERROR($E296*SUMIF('Daily Log'!$AO$18:$AO$1017,$B296,'Daily Log'!$AP$18:$AP$1017),0)","v":0},{"$f":"IFERROR($E296*SUMIF('Daily Log'!$AR$18:$AR$1017,$B296,'Daily Log'!$AS$18:$AS$1017),0)","v":0},{"$f":"IFERROR($E296*SUMIF('Daily Log'!$AU$18:$AU$1017,$B296,'Daily Log'!$AV$18:$AV$1017),0)","v":0},{"$f":"IFERROR($E296*SUMIF('Daily Log'!$AX$18:$AX$1017,$B296,'Daily Log'!$AY$18:$AY$1017),0)","v":0},{"$f":"IFERROR($E296*SUMIF('Daily Log'!$BA$18:$BA$1017,$B296,'Daily Log'!$BB$18:$BB$1017),0)","v":0},{"$f":"IFERROR($E296*SUMIF('Daily Log'!$BD$18:$BD$1017,$B296,'Daily Log'!$BE$18:$BE$1017),0)","v":0},{"$f":"IFERROR($E296*SUMIF('Daily Log'!$BG$18:$BG$1017,$B296,'Daily Log'!$BH$18:$BH$1017),0)","v":0},{"$f":"IFERROR($E296*SUMIF('Daily Log'!$BJ$18:$BJ$1017,$B296,'Daily Log'!$BK$18:$BK$1017),0)","v":0},{"$f":"IFERROR($E296*SUMIF('Daily Log'!$BM$18:$BM$1017,$B296,'Daily Log'!$BN$18:$BN$1017),0)","v":0},{"$f":"IFERROR($E296*SUMIF('Daily Log'!$BP$18:$BP$1017,$B296,'Daily Log'!$BQ$18:$BQ$1017),0)","v":0},{"$f":"IFERROR($E296*SUMIF('Daily Log'!$BS$18:$BS$1017,$B296,'Daily Log'!$BT$18:$BT$1017),0)","v":0},{"$f":"IFERROR($E296*SUMIF('Daily Log'!$BV$18:$BV$1017,$B296,'Daily Log'!$BW$18:$BW$1017),0)","v":0},{"$f":"IFERROR($E296*SUMIF('Daily Log'!$BY$18:$BY$1017,$B296,'Daily Log'!$BZ$18:$BZ$1017),0)","v":0},{"$f":"IFERROR($E296*SUMIF('Daily Log'!$CB$18:$CB$1017,$B296,'Daily Log'!$CC$18:$CC$1017),0)","v":0},{"$f":"IFERROR($E296*SUMIF('Daily Log'!$CE$18:$CE$1017,$B296,'Daily Log'!$CF$18:$CF$1017),0)","v":0},{"$f":"IFERROR($E296*SUMIF('Daily Log'!$CH$18:$CH$1017,$B296,'Daily Log'!$CI$18:$CI$1017),0)","v":0},{"$f":"IFERROR($E296*SUMIF('Daily Log'!$CK$18:$CK$1017,$B296,'Daily Log'!$CL$18:$CL$1017),0)","v":18},{"$f":"IFERROR($E296*SUMIF('Daily Log'!$CN$18:$CN$1017,$B296,'Daily Log'!$CO$18:$CO$1017),0)","v":0}]
[null,"DD08 1208:HOTDOG BUN",null,"SIDE ORDER-APPETIZER",1,0,{"$f":"IFERROR($E297*SUMIF('Daily Log'!$B$18:$B$1017,$B297,'Daily Log'!$C$18:$C$1017),0)","v":0},{"$f":"IFERROR($E297*SUMIF('Daily Log'!$E$18:$E$1017,$B297,'Daily Log'!$F$18:$F$1017),0)","v":0},{"$f":"IFERROR($E297*SUMIF('Daily Log'!$H$18:$H$1017,$B297,'Daily Log'!$I$18:$I$1017),0)","v":0},{"$f":"IFERROR($E297*SUMIF('Daily Log'!$K$18:$K$1017,$B297,'Daily Log'!$L$18:$L$1017),0)","v":0},{"$f":"IFERROR($E297*SUMIF('Daily Log'!$N$18:$N$1017,$B297,'Daily Log'!$O$18:$O$1017),0)","v":0},{"$f":"IFERROR($E297*SUMIF('Daily Log'!$Q$18:$Q$1017,$B297,'Daily Log'!$R$18:$R$1017),0)","v":0},{"$f":"IFERROR($E297*SUMIF('Daily Log'!$T$18:$T$1017,$B297,'Daily Log'!$U$18:$U$1017),0)","v":0},{"$f":"IFERROR($E297*SUMIF('Daily Log'!$W$18:$W$1017,$B297,'Daily Log'!$X$18:$X$1017),0)","v":0},{"$f":"IFERROR($E297*SUMIF('Daily Log'!$Z$18:$Z$1017,$B297,'Daily Log'!$AA$18:$AA$1017),0)","v":0},{"$f":"IFERROR($E297*SUMIF('Daily Log'!$AC$18:$AC$1017,$B297,'Daily Log'!$AD$18:$AD$1017),0)","v":0},{"$f":"IFERROR($E297*SUMIF('Daily Log'!$AF$18:$AF$1017,$B297,'Daily Log'!$AG$18:$AG$1017),0)","v":0},{"$f":"IFERROR($E297*SUMIF('Daily Log'!$AI$18:$AI$1017,$B297,'Daily Log'!$AJ$18:$AJ$1017),0)","v":0},{"$f":"IFERROR($E297*SUMIF('Daily Log'!$AL$18:$AL$1017,$B297,'Daily Log'!$AM$18:$AM$1017),0)","v":0},{"$f":"IFERROR($E297*SUMIF('Daily Log'!$AO$18:$AO$1017,$B297,'Daily Log'!$AP$18:$AP$1017),0)","v":0},{"$f":"IFERROR($E297*SUMIF('Daily Log'!$AR$18:$AR$1017,$B297,'Daily Log'!$AS$18:$AS$1017),0)","v":0},{"$f":"IFERROR($E297*SUMIF('Daily Log'!$AU$18:$AU$1017,$B297,'Daily Log'!$AV$18:$AV$1017),0)","v":0},{"$f":"IFERROR($E297*SUMIF('Daily Log'!$AX$18:$AX$1017,$B297,'Daily Log'!$AY$18:$AY$1017),0)","v":0},{"$f":"IFERROR($E297*SUMIF('Daily Log'!$BA$18:$BA$1017,$B297,'Daily Log'!$BB$18:$BB$1017),0)","v":0},{"$f":"IFERROR($E297*SUMIF('Daily Log'!$BD$18:$BD$1017,$B297,'Daily Log'!$BE$18:$BE$1017),0)","v":0},{"$f":"IFERROR($E297*SUMIF('Daily Log'!$BG$18:$BG$1017,$B297,'Daily Log'!$BH$18:$BH$1017),0)","v":0},{"$f":"IFERROR($E297*SUMIF('Daily Log'!$BJ$18:$BJ$1017,$B297,'Daily Log'!$BK$18:$BK$1017),0)","v":0},{"$f":"IFERROR($E297*SUMIF('Daily Log'!$BM$18:$BM$1017,$B297,'Daily Log'!$BN$18:$BN$1017),0)","v":0},{"$f":"IFERROR($E297*SUMIF('Daily Log'!$BP$18:$BP$1017,$B297,'Daily Log'!$BQ$18:$BQ$1017),0)","v":0},{"$f":"IFERROR($E297*SUMIF('Daily Log'!$BS$18:$BS$1017,$B297,'Daily Log'!$BT$18:$BT$1017),0)","v":0},{"$f":"IFERROR($E297*SUMIF('Daily Log'!$BV$18:$BV$1017,$B297,'Daily Log'!$BW$18:$BW$1017),0)","v":0},{"$f":"IFERROR($E297*SUMIF('Daily Log'!$BY$18:$BY$1017,$B297,'Daily Log'!$BZ$18:$BZ$1017),0)","v":0},{"$f":"IFERROR($E297*SUMIF('Daily Log'!$CB$18:$CB$1017,$B297,'Daily Log'!$CC$18:$CC$1017),0)","v":0},{"$f":"IFERROR($E297*SUMIF('Daily Log'!$CE$18:$CE$1017,$B297,'Daily Log'!$CF$18:$CF$1017),0)","v":0},{"$f":"IFERROR($E297*SUMIF('Daily Log'!$CH$18:$CH$1017,$B297,'Daily Log'!$CI$18:$CI$1017),0)","v":0},{"$f":"IFERROR($E297*SUMIF('Daily Log'!$CK$18:$CK$1017,$B297,'Daily Log'!$CL$18:$CL$1017),0)","v":0},{"$f":"IFERROR($E297*SUMIF('Daily Log'!$CN$18:$CN$1017,$B297,'Daily Log'!$CO$18:$CO$1017),0)","v":0}]
[null,"DD09 1209:SFD TOFU",null,"SIDE ORDER-APPETIZER",1,0,{"$f":"IFERROR($E298*SUMIF('Daily Log'!$B$18:$B$1017,$B298,'Daily Log'!$C$18:$C$1017),0)","v":0},{"$f":"IFERROR($E298*SUMIF('Daily Log'!$E$18:$E$1017,$B298,'Daily Log'!$F$18:$F$1017),0)","v":0},{"$f":"IFERROR($E298*SUMIF('Daily Log'!$H$18:$H$1017,$B298,'Daily Log'!$I$18:$I$1017),0)","v":0},{"$f":"IFERROR($E298*SUMIF('Daily Log'!$K$18:$K$1017,$B298,'Daily Log'!$L$18:$L$1017),0)","v":0},{"$f":"IFERROR($E298*SUMIF('Daily Log'!$N$18:$N$1017,$B298,'Daily Log'!$O$18:$O$1017),0)","v":0},{"$f":"IFERROR($E298*SUMIF('Daily Log'!$Q$18:$Q$1017,$B298,'Daily Log'!$R$18:$R$1017),0)","v":0},{"$f":"IFERROR($E298*SUMIF('Daily Log'!$T$18:$T$1017,$B298,'Daily Log'!$U$18:$U$1017),0)","v":0},{"$f":"IFERROR($E298*SUMIF('Daily Log'!$W$18:$W$1017,$B298,'Daily Log'!$X$18:$X$1017),0)","v":0},{"$f":"IFERROR($E298*SUMIF('Daily Log'!$Z$18:$Z$1017,$B298,'Daily Log'!$AA$18:$AA$1017),0)","v":0},{"$f":"IFERROR($E298*SUMIF('Daily Log'!$AC$18:$AC$1017,$B298,'Daily Log'!$AD$18:$AD$1017),0)","v":0},{"$f":"IFERROR($E298*SUMIF('Daily Log'!$AF$18:$AF$1017,$B298,'Daily Log'!$AG$18:$AG$1017),0)","v":0},{"$f":"IFERROR($E298*SUMIF('Daily Log'!$AI$18:$AI$1017,$B298,'Daily Log'!$AJ$18:$AJ$1017),0)","v":0},{"$f":"IFERROR($E298*SUMIF('Daily Log'!$AL$18:$AL$1017,$B298,'Daily Log'!$AM$18:$AM$1017),0)","v":0},{"$f":"IFERROR($E298*SUMIF('Daily Log'!$AO$18:$AO$1017,$B298,'Daily Log'!$AP$18:$AP$1017),0)","v":0},{"$f":"IFERROR($E298*SUMIF('Daily Log'!$AR$18:$AR$1017,$B298,'Daily Log'!$AS$18:$AS$1017),0)","v":0},{"$f":"IFERROR($E298*SUMIF('Daily Log'!$AU$18:$AU$1017,$B298,'Daily Log'!$AV$18:$AV$1017),0)","v":0},{"$f":"IFERROR($E298*SUMIF('Daily Log'!$AX$18:$AX$1017,$B298,'Daily Log'!$AY$18:$AY$1017),0)","v":0},{"$f":"IFERROR($E298*SUMIF('Daily Log'!$BA$18:$BA$1017,$B298,'Daily Log'!$BB$18:$BB$1017),0)","v":0},{"$f":"IFERROR($E298*SUMIF('Daily Log'!$BD$18:$BD$1017,$B298,'Daily Log'!$BE$18:$BE$1017),0)","v":0},{"$f":"IFERROR($E298*SUMIF('Daily Log'!$BG$18:$BG$1017,$B298,'Daily Log'!$BH$18:$BH$1017),0)","v":0},{"$f":"IFERROR($E298*SUMIF('Daily Log'!$BJ$18:$BJ$1017,$B298,'Daily Log'!$BK$18:$BK$1017),0)","v":0},{"$f":"IFERROR($E298*SUMIF('Daily Log'!$BM$18:$BM$1017,$B298,'Daily Log'!$BN$18:$BN$1017),0)","v":0},{"$f":"IFERROR($E298*SUMIF('Daily Log'!$BP$18:$BP$1017,$B298,'Daily Log'!$BQ$18:$BQ$1017),0)","v":0},{"$f":"IFERROR($E298*SUMIF('Daily Log'!$BS$18:$BS$1017,$B298,'Daily Log'!$BT$18:$BT$1017),0)","v":0},{"$f":"IFERROR($E298*SUMIF('Daily Log'!$BV$18:$BV$1017,$B298,'Daily Log'!$BW$18:$BW$1017),0)","v":0},{"$f":"IFERROR($E298*SUMIF('Daily Log'!$BY$18:$BY$1017,$B298,'Daily Log'!$BZ$18:$BZ$1017),0)","v":0},{"$f":"IFERROR($E298*SUMIF('Daily Log'!$CB$18:$CB$1017,$B298,'Daily Log'!$CC$18:$CC$1017),0)","v":0},{"$f":"IFERROR($E298*SUMIF('Daily Log'!$CE$18:$CE$1017,$B298,'Daily Log'!$CF$18:$CF$1017),0)","v":0},{"$f":"IFERROR($E298*SUMIF('Daily Log'!$CH$18:$CH$1017,$B298,'Daily Log'!$CI$18:$CI$1017),0)","v":0},{"$f":"IFERROR($E298*SUMIF('Daily Log'!$CK$18:$CK$1017,$B298,'Daily Log'!$CL$18:$CL$1017),0)","v":0},{"$f":"IFERROR($E298*SUMIF('Daily Log'!$CN$18:$CN$1017,$B298,'Daily Log'!$CO$18:$CO$1017),0)","v":0}]
[null,"DD10 1301:DUMPLING",null,"SIDE ORDER-APPETIZER",1,4,{"$f":"IFERROR($E299*SUMIF('Daily Log'!$B$18:$B$1017,$B299,'Daily Log'!$C$18:$C$1017),0)","v":0},{"$f":"IFERROR($E299*SUMIF('Daily Log'!$E$18:$E$1017,$B299,'Daily Log'!$F$18:$F$1017),0)","v":0},{"$f":"IFERROR($E299*SUMIF('Daily Log'!$H$18:$H$1017,$B299,'Daily Log'!$I$18:$I$1017),0)","v":0},{"$f":"IFERROR($E299*SUMIF('Daily Log'!$K$18:$K$1017,$B299,'Daily Log'!$L$18:$L$1017),0)","v":0},{"$f":"IFERROR($E299*SUMIF('Daily Log'!$N$18:$N$1017,$B299,'Daily Log'!$O$18:$O$1017),0)","v":0},{"$f":"IFERROR($E299*SUMIF('Daily Log'!$Q$18:$Q$1017,$B299,'Daily Log'!$R$18:$R$1017),0)","v":0},{"$f":"IFERROR($E299*SUMIF('Daily Log'!$T$18:$T$1017,$B299,'Daily Log'!$U$18:$U$1017),0)","v":0},{"$f":"IFERROR($E299*SUMIF('Daily Log'!$W$18:$W$1017,$B299,'Daily Log'!$X$18:$X$1017),0)","v":0},{"$f":"IFERROR($E299*SUMIF('Daily Log'!$Z$18:$Z$1017,$B299,'Daily Log'!$AA$18:$AA$1017),0)","v":0},{"$f":"IFERROR($E299*SUMIF('Daily Log'!$AC$18:$AC$1017,$B299,'Daily Log'!$AD$18:$AD$1017),0)","v":0},{"$f":"IFERROR($E299*SUMIF('Daily Log'!$AF$18:$AF$1017,$B299,'Daily Log'!$AG$18:$AG$1017),0)","v":0},{"$f":"IFERROR($E299*SUMIF('Daily Log'!$AI$18:$AI$1017,$B299,'Daily Log'!$AJ$18:$AJ$1017),0)","v":0},{"$f":"IFERROR($E299*SUMIF('Daily Log'!$AL$18:$AL$1017,$B299,'Daily Log'!$AM$18:$AM$1017),0)","v":0},{"$f":"IFERROR($E299*SUMIF('Daily Log'!$AO$18:$AO$1017,$B299,'Daily Log'!$AP$18:$AP$1017),0)","v":0},{"$f":"IFERROR($E299*SUMIF('Daily Log'!$AR$18:$AR$1017,$B299,'Daily Log'!$AS$18:$AS$1017),0)","v":0},{"$f":"IFERROR($E299*SUMIF('Daily Log'!$AU$18:$AU$1017,$B299,'Daily Log'!$AV$18:$AV$1017),0)","v":0},{"$f":"IFERROR($E299*SUMIF('Daily Log'!$AX$18:$AX$1017,$B299,'Daily Log'!$AY$18:$AY$1017),0)","v":0},{"$f":"IFERROR($E299*SUMIF('Daily Log'!$BA$18:$BA$1017,$B299,'Daily Log'!$BB$18:$BB$1017),0)","v":0},{"$f":"IFERROR($E299*SUMIF('Daily Log'!$BD$18:$BD$1017,$B299,'Daily Log'!$BE$18:$BE$1017),0)","v":0},{"$f":"IFERROR($E299*SUMIF('Daily Log'!$BG$18:$BG$1017,$B299,'Daily Log'!$BH$18:$BH$1017),0)","v":0},{"$f":"IFERROR($E299*SUMIF('Daily Log'!$BJ$18:$BJ$1017,$B299,'Daily Log'!$BK$18:$BK$1017),0)","v":0},{"$f":"IFERROR($E299*SUMIF('Daily Log'!$BM$18:$BM$1017,$B299,'Daily Log'!$BN$18:$BN$1017),0)","v":0},{"$f":"IFERROR($E299*SUMIF('Daily Log'!$BP$18:$BP$1017,$B299,'Daily Log'!$BQ$18:$BQ$1017),0)","v":0},{"$f":"IFERROR($E299*SUMIF('Daily Log'!$BS$18:$BS$1017,$B299,'Daily Log'!$BT$18:$BT$1017),0)","v":0},{"$f":"IFERROR($E299*SUMIF('Daily Log'!$BV$18:$BV$1017,$B299,'Daily Log'!$BW$18:$BW$1017),0)","v":0},{"$f":"IFERROR($E299*SUMIF('Daily Log'!$BY$18:$BY$1017,$B299,'Daily Log'!$BZ$18:$BZ$1017),0)","v":0},{"$f":"IFERROR($E299*SUMIF('Daily Log'!$CB$18:$CB$1017,$B299,'Daily Log'!$CC$18:$CC$1017),0)","v":0},{"$f":"IFERROR($E299*SUMIF('Daily Log'!$CE$18:$CE$1017,$B299,'Daily Log'!$CF$18:$CF$1017),0)","v":0},{"$f":"IFERROR($E299*SUMIF('Daily Log'!$CH$18:$CH$1017,$B299,'Daily Log'!$CI$18:$CI$1017),0)","v":0},{"$f":"IFERROR($E299*SUMIF('Daily Log'!$CK$18:$CK$1017,$B299,'Daily Log'!$CL$18:$CL$1017),0)","v":4},{"$f":"IFERROR($E299*SUMIF('Daily Log'!$CN$18:$CN$1017,$B299,'Daily Log'!$CO$18:$CO$1017),0)","v":0}]
[null,"DD11 1302:NUGGET",null,"SIDE ORDER-APPETIZER",1,23,{"$f":"IFERROR($E300*SUMIF('Daily Log'!$B$18:$B$1017,$B300,'Daily Log'!$C$18:$C$1017),0)","v":0},{"$f":"IFERROR($E300*SUMIF('Daily Log'!$E$18:$E$1017,$B300,'Daily Log'!$F$18:$F$1017),0)","v":0},{"$f":"IFERROR($E300*SUMIF('Daily Log'!$H$18:$H$1017,$B300,'Daily Log'!$I$18:$I$1017),0)","v":0},{"$f":"IFERROR($E300*SUMIF('Daily Log'!$K$18:$K$1017,$B300,'Daily Log'!$L$18:$L$1017),0)","v":0},{"$f":"IFERROR($E300*SUMIF('Daily Log'!$N$18:$N$1017,$B300,'Daily Log'!$O$18:$O$1017),0)","v":0},{"$f":"IFERROR($E300*SUMIF('Daily Log'!$Q$18:$Q$1017,$B300,'Daily Log'!$R$18:$R$1017),0)","v":0},{"$f":"IFERROR($E300*SUMIF('Daily Log'!$T$18:$T$1017,$B300,'Daily Log'!$U$18:$U$1017),0)","v":0},{"$f":"IFERROR($E300*SUMIF('Daily Log'!$W$18:$W$1017,$B300,'Daily Log'!$X$18:$X$1017),0)","v":0},{"$f":"IFERROR($E300*SUMIF('Daily Log'!$Z$18:$Z$1017,$B300,'Daily Log'!$AA$18:$AA$1017),0)","v":0},{"$f":"IFERROR($E300*SUMIF('Daily Log'!$AC$18:$AC$1017,$B300,'Daily Log'!$AD$18:$AD$1017),0)","v":0},{"$f":"IFERROR($E300*SUMIF('Daily Log'!$AF$18:$AF$1017,$B300,'Daily Log'!$AG$18:$AG$1017),0)","v":0},{"$f":"IFERROR($E300*SUMIF('Daily Log'!$AI$18:$AI$1017,$B300,'Daily Log'!$AJ$18:$AJ$1017),0)","v":0},{"$f":"IFERROR($E300*SUMIF('Daily Log'!$AL$18:$AL$1017,$B300,'Daily Log'!$AM$18:$AM$1017),0)","v":0},{"$f":"IFERROR($E300*SUMIF('Daily Log'!$AO$18:$AO$1017,$B300,'Daily Log'!$AP$18:$AP$1017),0)","v":0},{"$f":"IFERROR($E300*SUMIF('Daily Log'!$AR$18:$AR$1017,$B300,'Daily Log'!$AS$18:$AS$1017),0)","v":0},{"$f":"IFERROR($E300*SUMIF('Daily Log'!$AU$18:$AU$1017,$B300,'Daily Log'!$AV$18:$AV$1017),0)","v":0},{"$f":"IFERROR($E300*SUMIF('Daily Log'!$AX$18:$AX$1017,$B300,'Daily Log'!$AY$18:$AY$1017),0)","v":0},{"$f":"IFERROR($E300*SUMIF('Daily Log'!$BA$18:$BA$1017,$B300,'Daily Log'!$BB$18:$BB$1017),0)","v":0},{"$f":"IFERROR($E300*SUMIF('Daily Log'!$BD$18:$BD$1017,$B300,'Daily Log'!$BE$18:$BE$1017),0)","v":0},{"$f":"IFERROR($E300*SUMIF('Daily Log'!$BG$18:$BG$1017,$B300,'Daily Log'!$BH$18:$BH$1017),0)","v":0},{"$f":"IFERROR($E300*SUMIF('Daily Log'!$BJ$18:$BJ$1017,$B300,'Daily Log'!$BK$18:$BK$1017),0)","v":0},{"$f":"IFERROR($E300*SUMIF('Daily Log'!$BM$18:$BM$1017,$B300,'Daily Log'!$BN$18:$BN$1017),0)","v":0},{"$f":"IFERROR($E300*SUMIF('Daily Log'!$BP$18:$BP$1017,$B300,'Daily Log'!$BQ$18:$BQ$1017),0)","v":0},{"$f":"IFERROR($E300*SUMIF('Daily Log'!$BS$18:$BS$1017,$B300,'Daily Log'!$BT$18:$BT$1017),0)","v":0},{"$f":"IFERROR($E300*SUMIF('Daily Log'!$BV$18:$BV$1017,$B300,'Daily Log'!$BW$18:$BW$1017),0)","v":0},{"$f":"IFERROR($E300*SUMIF('Daily Log'!$BY$18:$BY$1017,$B300,'Daily Log'!$BZ$18:$BZ$1017),0)","v":0},{"$f":"IFERROR($E300*SUMIF('Daily Log'!$CB$18:$CB$1017,$B300,'Daily Log'!$CC$18:$CC$1017),0)","v":0},{"$f":"IFERROR($E300*SUMIF('Daily Log'!$CE$18:$CE$1017,$B300,'Daily Log'!$CF$18:$CF$1017),0)","v":0},{"$f":"IFERROR($E300*SUMIF('Daily Log'!$CH$18:$CH$1017,$B300,'Daily Log'!$CI$18:$CI$1017),0)","v":0},{"$f":"IFERROR($E300*SUMIF('Daily Log'!$CK$18:$CK$1017,$B300,'Daily Log'!$CL$18:$CL$1017),0)","v":23},{"$f":"IFERROR($E300*SUMIF('Daily Log'!$CN$18:$CN$1017,$B300,'Daily Log'!$CO$18:$CO$1017),0)","v":0}]
[null,"DD12 1303:CHK WING",null,"SIDE ORDER-APPETIZER",1,49,{"$f":"IFERROR($E301*SUMIF('Daily Log'!$B$18:$B$1017,$B301,'Daily Log'!$C$18:$C$1017),0)","v":0},{"$f":"IFERROR($E301*SUMIF('Daily Log'!$E$18:$E$1017,$B301,'Daily Log'!$F$18:$F$1017),0)","v":0},{"$f":"IFERROR($E301*SUMIF('Daily Log'!$H$18:$H$1017,$B301,'Daily Log'!$I$18:$I$1017),0)","v":0},{"$f":"IFERROR($E301*SUMIF('Daily Log'!$K$18:$K$1017,$B301,'Daily Log'!$L$18:$L$1017),0)","v":0},{"$f":"IFERROR($E301*SUMIF('Daily Log'!$N$18:$N$1017,$B301,'Daily Log'!$O$18:$O$1017),0)","v":0},{"$f":"IFERROR($E301*SUMIF('Daily Log'!$Q$18:$Q$1017,$B301,'Daily Log'!$R$18:$R$1017),0)","v":0},{"$f":"IFERROR($E301*SUMIF('Daily Log'!$T$18:$T$1017,$B301,'Daily Log'!$U$18:$U$1017),0)","v":0},{"$f":"IFERROR($E301*SUMIF('Daily Log'!$W$18:$W$1017,$B301,'Daily Log'!$X$18:$X$1017),0)","v":0},{"$f":"IFERROR($E301*SUMIF('Daily Log'!$Z$18:$Z$1017,$B301,'Daily Log'!$AA$18:$AA$1017),0)","v":0},{"$f":"IFERROR($E301*SUMIF('Daily Log'!$AC$18:$AC$1017,$B301,'Daily Log'!$AD$18:$AD$1017),0)","v":0},{"$f":"IFERROR($E301*SUMIF('Daily Log'!$AF$18:$AF$1017,$B301,'Daily Log'!$AG$18:$AG$1017),0)","v":0},{"$f":"IFERROR($E301*SUMIF('Daily Log'!$AI$18:$AI$1017,$B301,'Daily Log'!$AJ$18:$AJ$1017),0)","v":0},{"$f":"IFERROR($E301*SUMIF('Daily Log'!$AL$18:$AL$1017,$B301,'Daily Log'!$AM$18:$AM$1017),0)","v":0},{"$f":"IFERROR($E301*SUMIF('Daily Log'!$AO$18:$AO$1017,$B301,'Daily Log'!$AP$18:$AP$1017),0)","v":0},{"$f":"IFERROR($E301*SUMIF('Daily Log'!$AR$18:$AR$1017,$B301,'Daily Log'!$AS$18:$AS$1017),0)","v":0},{"$f":"IFERROR($E301*SUMIF('Daily Log'!$AU$18:$AU$1017,$B301,'Daily Log'!$AV$18:$AV$1017),0)","v":0},{"$f":"IFERROR($E301*SUMIF('Daily Log'!$AX$18:$AX$1017,$B301,'Daily Log'!$AY$18:$AY$1017),0)","v":0},{"$f":"IFERROR($E301*SUMIF('Daily Log'!$BA$18:$BA$1017,$B301,'Daily Log'!$BB$18:$BB$1017),0)","v":0},{"$f":"IFERROR($E301*SUMIF('Daily Log'!$BD$18:$BD$1017,$B301,'Daily Log'!$BE$18:$BE$1017),0)","v":0},{"$f":"IFERROR($E301*SUMIF('Daily Log'!$BG$18:$BG$1017,$B301,'Daily Log'!$BH$18:$BH$1017),0)","v":0},{"$f":"IFERROR($E301*SUMIF('Daily Log'!$BJ$18:$BJ$1017,$B301,'Daily Log'!$BK$18:$BK$1017),0)","v":0},{"$f":"IFERROR($E301*SUMIF('Daily Log'!$BM$18:$BM$1017,$B301,'Daily Log'!$BN$18:$BN$1017),0)","v":0},{"$f":"IFERROR($E301*SUMIF('Daily Log'!$BP$18:$BP$1017,$B301,'Daily Log'!$BQ$18:$BQ$1017),0)","v":0},{"$f":"IFERROR($E301*SUMIF('Daily Log'!$BS$18:$BS$1017,$B301,'Daily Log'!$BT$18:$BT$1017),0)","v":0},{"$f":"IFERROR($E301*SUMIF('Daily Log'!$BV$18:$BV$1017,$B301,'Daily Log'!$BW$18:$BW$1017),0)","v":0},{"$f":"IFERROR($E301*SUMIF('Daily Log'!$BY$18:$BY$1017,$B301,'Daily Log'!$BZ$18:$BZ$1017),0)","v":0},{"$f":"IFERROR($E301*SUMIF('Daily Log'!$CB$18:$CB$1017,$B301,'Daily Log'!$CC$18:$CC$1017),0)","v":0},{"$f":"IFERROR($E301*SUMIF('Daily Log'!$CE$18:$CE$1017,$B301,'Daily Log'!$CF$18:$CF$1017),0)","v":0},{"$f":"IFERROR($E301*SUMIF('Daily Log'!$CH$18:$CH$1017,$B301,'Daily Log'!$CI$18:$CI$1017),0)","v":0},{"$f":"IFERROR($E301*SUMIF('Daily Log'!$CK$18:$CK$1017,$B301,'Daily Log'!$CL$18:$CL$1017),0)","v":49},{"$f":"IFERROR($E301*SUMIF('Daily Log'!$CN$18:$CN$1017,$B301,'Daily Log'!$CO$18:$CO$1017),0)","v":0}]
[null,"DD13 1304:IKAN BILIS",null,"SIDE ORDER-APPETIZER",1,4,{"$f":"IFERROR($E302*SUMIF('Daily Log'!$B$18:$B$1017,$B302,'Daily Log'!$C$18:$C$1017),0)","v":0},{"$f":"IFERROR($E302*SUMIF('Daily Log'!$E$18:$E$1017,$B302,'Daily Log'!$F$18:$F$1017),0)","v":0},{"$f":"IFERROR($E302*SUMIF('Daily Log'!$H$18:$H$1017,$B302,'Daily Log'!$I$18:$I$1017),0)","v":0},{"$f":"IFERROR($E302*SUMIF('Daily Log'!$K$18:$K$1017,$B302,'Daily Log'!$L$18:$L$1017),0)","v":0},{"$f":"IFERROR($E302*SUMIF('Daily Log'!$N$18:$N$1017,$B302,'Daily Log'!$O$18:$O$1017),0)","v":0},{"$f":"IFERROR($E302*SUMIF('Daily Log'!$Q$18:$Q$1017,$B302,'Daily Log'!$R$18:$R$1017),0)","v":0},{"$f":"IFERROR($E302*SUMIF('Daily Log'!$T$18:$T$1017,$B302,'Daily Log'!$U$18:$U$1017),0)","v":0},{"$f":"IFERROR($E302*SUMIF('Daily Log'!$W$18:$W$1017,$B302,'Daily Log'!$X$18:$X$1017),0)","v":0},{"$f":"IFERROR($E302*SUMIF('Daily Log'!$Z$18:$Z$1017,$B302,'Daily Log'!$AA$18:$AA$1017),0)","v":0},{"$f":"IFERROR($E302*SUMIF('Daily Log'!$AC$18:$AC$1017,$B302,'Daily Log'!$AD$18:$AD$1017),0)","v":0},{"$f":"IFERROR($E302*SUMIF('Daily Log'!$AF$18:$AF$1017,$B302,'Daily Log'!$AG$18:$AG$1017),0)","v":0},{"$f":"IFERROR($E302*SUMIF('Daily Log'!$AI$18:$AI$1017,$B302,'Daily Log'!$AJ$18:$AJ$1017),0)","v":0},{"$f":"IFERROR($E302*SUMIF('Daily Log'!$AL$18:$AL$1017,$B302,'Daily Log'!$AM$18:$AM$1017),0)","v":0},{"$f":"IFERROR($E302*SUMIF('Daily Log'!$AO$18:$AO$1017,$B302,'Daily Log'!$AP$18:$AP$1017),0)","v":0},{"$f":"IFERROR($E302*SUMIF('Daily Log'!$AR$18:$AR$1017,$B302,'Daily Log'!$AS$18:$AS$1017),0)","v":0},{"$f":"IFERROR($E302*SUMIF('Daily Log'!$AU$18:$AU$1017,$B302,'Daily Log'!$AV$18:$AV$1017),0)","v":0},{"$f":"IFERROR($E302*SUMIF('Daily Log'!$AX$18:$AX$1017,$B302,'Daily Log'!$AY$18:$AY$1017),0)","v":0},{"$f":"IFERROR($E302*SUMIF('Daily Log'!$BA$18:$BA$1017,$B302,'Daily Log'!$BB$18:$BB$1017),0)","v":0},{"$f":"IFERROR($E302*SUMIF('Daily Log'!$BD$18:$BD$1017,$B302,'Daily Log'!$BE$18:$BE$1017),0)","v":0},{"$f":"IFERROR($E302*SUMIF('Daily Log'!$BG$18:$BG$1017,$B302,'Daily Log'!$BH$18:$BH$1017),0)","v":0},{"$f":"IFERROR($E302*SUMIF('Daily Log'!$BJ$18:$BJ$1017,$B302,'Daily Log'!$BK$18:$BK$1017),0)","v":0},{"$f":"IFERROR($E302*SUMIF('Daily Log'!$BM$18:$BM$1017,$B302,'Daily Log'!$BN$18:$BN$1017),0)","v":0},{"$f":"IFERROR($E302*SUMIF('Daily Log'!$BP$18:$BP$1017,$B302,'Daily Log'!$BQ$18:$BQ$1017),0)","v":0},{"$f":"IFERROR($E302*SUMIF('Daily Log'!$BS$18:$BS$1017,$B302,'Daily Log'!$BT$18:$BT$1017),0)","v":0},{"$f":"IFERROR($E302*SUMIF('Daily Log'!$BV$18:$BV$1017,$B302,'Daily Log'!$BW$18:$BW$1017),0)","v":0},{"$f":"IFERROR($E302*SUMIF('Daily Log'!$BY$18:$BY$1017,$B302,'Daily Log'!$BZ$18:$BZ$1017),0)","v":0},{"$f":"IFERROR($E302*SUMIF('Daily Log'!$CB$18:$CB$1017,$B302,'Daily Log'!$CC$18:$CC$1017),0)","v":0},{"$f":"IFERROR($E302*SUMIF('Daily Log'!$CE$18:$CE$1017,$B302,'Daily Log'!$CF$18:$CF$1017),0)","v":0},{"$f":"IFERROR($E302*SUMIF('Daily Log'!$CH$18:$CH$1017,$B302,'Daily Log'!$CI$18:$CI$1017),0)","v":0},{"$f":"IFERROR($E302*SUMIF('Daily Log'!$CK$18:$CK$1017,$B302,'Daily Log'!$CL$18:$CL$1017),0)","v":4},{"$f":"IFERROR($E302*SUMIF('Daily Log'!$CN$18:$CN$1017,$B302,'Daily Log'!$CO$18:$CO$1017),0)","v":0}]
[null,"DD14 1305:THAI RL",null,"SIDE ORDER-APPETIZER",1,6,{"$f":"IFERROR($E303*SUMIF('Daily Log'!$B$18:$B$1017,$B303,'Daily Log'!$C$18:$C$1017),0)","v":0},{"$f":"IFERROR($E303*SUMIF('Daily Log'!$E$18:$E$1017,$B303,'Daily Log'!$F$18:$F$1017),0)","v":0},{"$f":"IFERROR($E303*SUMIF('Daily Log'!$H$18:$H$1017,$B303,'Daily Log'!$I$18:$I$1017),0)","v":0},{"$f":"IFERROR($E303*SUMIF('Daily Log'!$K$18:$K$1017,$B303,'Daily Log'!$L$18:$L$1017),0)","v":0},{"$f":"IFERROR($E303*SUMIF('Daily Log'!$N$18:$N$1017,$B303,'Daily Log'!$O$18:$O$1017),0)","v":0},{"$f":"IFERROR($E303*SUMIF('Daily Log'!$Q$18:$Q$1017,$B303,'Daily Log'!$R$18:$R$1017),0)","v":0},{"$f":"IFERROR($E303*SUMIF('Daily Log'!$T$18:$T$1017,$B303,'Daily Log'!$U$18:$U$1017),0)","v":0},{"$f":"IFERROR($E303*SUMIF('Daily Log'!$W$18:$W$1017,$B303,'Daily Log'!$X$18:$X$1017),0)","v":0},{"$f":"IFERROR($E303*SUMIF('Daily Log'!$Z$18:$Z$1017,$B303,'Daily Log'!$AA$18:$AA$1017),0)","v":0},{"$f":"IFERROR($E303*SUMIF('Daily Log'!$AC$18:$AC$1017,$B303,'Daily Log'!$AD$18:$AD$1017),0)","v":0},{"$f":"IFERROR($E303*SUMIF('Daily Log'!$AF$18:$AF$1017,$B303,'Daily Log'!$AG$18:$AG$1017),0)","v":0},{"$f":"IFERROR($E303*SUMIF('Daily Log'!$AI$18:$AI$1017,$B303,'Daily Log'!$AJ$18:$AJ$1017),0)","v":0},{"$f":"IFERROR($E303*SUMIF('Daily Log'!$AL$18:$AL$1017,$B303,'Daily Log'!$AM$18:$AM$1017),0)","v":0},{"$f":"IFERROR($E303*SUMIF('Daily Log'!$AO$18:$AO$1017,$B303,'Daily Log'!$AP$18:$AP$1017),0)","v":0},{"$f":"IFERROR($E303*SUMIF('Daily Log'!$AR$18:$AR$1017,$B303,'Daily Log'!$AS$18:$AS$1017),0)","v":0},{"$f":"IFERROR($E303*SUMIF('Daily Log'!$AU$18:$AU$1017,$B303,'Daily Log'!$AV$18:$AV$1017),0)","v":0},{"$f":"IFERROR($E303*SUMIF('Daily Log'!$AX$18:$AX$1017,$B303,'Daily Log'!$AY$18:$AY$1017),0)","v":0},{"$f":"IFERROR($E303*SUMIF('Daily Log'!$BA$18:$BA$1017,$B303,'Daily Log'!$BB$18:$BB$1017),0)","v":0},{"$f":"IFERROR($E303*SUMIF('Daily Log'!$BD$18:$BD$1017,$B303,'Daily Log'!$BE$18:$BE$1017),0)","v":0},{"$f":"IFERROR($E303*SUMIF('Daily Log'!$BG$18:$BG$1017,$B303,'Daily Log'!$BH$18:$BH$1017),0)","v":0},{"$f":"IFERROR($E303*SUMIF('Daily Log'!$BJ$18:$BJ$1017,$B303,'Daily Log'!$BK$18:$BK$1017),0)","v":0},{"$f":"IFERROR($E303*SUMIF('Daily Log'!$BM$18:$BM$1017,$B303,'Daily Log'!$BN$18:$BN$1017),0)","v":0},{"$f":"IFERROR($E303*SUMIF('Daily Log'!$BP$18:$BP$1017,$B303,'Daily Log'!$BQ$18:$BQ$1017),0)","v":0},{"$f":"IFERROR($E303*SUMIF('Daily Log'!$BS$18:$BS$1017,$B303,'Daily Log'!$BT$18:$BT$1017),0)","v":0},{"$f":"IFERROR($E303*SUMIF('Daily Log'!$BV$18:$BV$1017,$B303,'Daily Log'!$BW$18:$BW$1017),0)","v":0},{"$f":"IFERROR($E303*SUMIF('Daily Log'!$BY$18:$BY$1017,$B303,'Daily Log'!$BZ$18:$BZ$1017),0)","v":0},{"$f":"IFERROR($E303*SUMIF('Daily Log'!$CB$18:$CB$1017,$B303,'Daily Log'!$CC$18:$CC$1017),0)","v":0},{"$f":"IFERROR($E303*SUMIF('Daily Log'!$CE$18:$CE$1017,$B303,'Daily Log'!$CF$18:$CF$1017),0)","v":0},{"$f":"IFERROR($E303*SUMIF('Daily Log'!$CH$18:$CH$1017,$B303,'Daily Log'!$CI$18:$CI$1017),0)","v":0},{"$f":"IFERROR($E303*SUMIF('Daily Log'!$CK$18:$CK$1017,$B303,'Daily Log'!$CL$18:$CL$1017),0)","v":6},{"$f":"IFERROR($E303*SUMIF('Daily Log'!$CN$18:$CN$1017,$B303,'Daily Log'!$CO$18:$CO$1017),0)","v":0}]
[null,"DD15 1306:SLVR FISH",null,"SIDE ORDER-APPETIZER",1,0,{"$f":"IFERROR($E304*SUMIF('Daily Log'!$B$18:$B$1017,$B304,'Daily Log'!$C$18:$C$1017),0)","v":0},{"$f":"IFERROR($E304*SUMIF('Daily Log'!$E$18:$E$1017,$B304,'Daily Log'!$F$18:$F$1017),0)","v":0},{"$f":"IFERROR($E304*SUMIF('Daily Log'!$H$18:$H$1017,$B304,'Daily Log'!$I$18:$I$1017),0)","v":0},{"$f":"IFERROR($E304*SUMIF('Daily Log'!$K$18:$K$1017,$B304,'Daily Log'!$L$18:$L$1017),0)","v":0},{"$f":"IFERROR($E304*SUMIF('Daily Log'!$N$18:$N$1017,$B304,'Daily Log'!$O$18:$O$1017),0)","v":0},{"$f":"IFERROR($E304*SUMIF('Daily Log'!$Q$18:$Q$1017,$B304,'Daily Log'!$R$18:$R$1017),0)","v":0},{"$f":"IFERROR($E304*SUMIF('Daily Log'!$T$18:$T$1017,$B304,'Daily Log'!$U$18:$U$1017),0)","v":0},{"$f":"IFERROR($E304*SUMIF('Daily Log'!$W$18:$W$1017,$B304,'Daily Log'!$X$18:$X$1017),0)","v":0},{"$f":"IFERROR($E304*SUMIF('Daily Log'!$Z$18:$Z$1017,$B304,'Daily Log'!$AA$18:$AA$1017),0)","v":0},{"$f":"IFERROR($E304*SUMIF('Daily Log'!$AC$18:$AC$1017,$B304,'Daily Log'!$AD$18:$AD$1017),0)","v":0},{"$f":"IFERROR($E304*SUMIF('Daily Log'!$AF$18:$AF$1017,$B304,'Daily Log'!$AG$18:$AG$1017),0)","v":0},{"$f":"IFERROR($E304*SUMIF('Daily Log'!$AI$18:$AI$1017,$B304,'Daily Log'!$AJ$18:$AJ$1017),0)","v":0},{"$f":"IFERROR($E304*SUMIF('Daily Log'!$AL$18:$AL$1017,$B304,'Daily Log'!$AM$18:$AM$1017),0)","v":0},{"$f":"IFERROR($E304*SUMIF('Daily Log'!$AO$18:$AO$1017,$B304,'Daily Log'!$AP$18:$AP$1017),0)","v":0},{"$f":"IFERROR($E304*SUMIF('Daily Log'!$AR$18:$AR$1017,$B304,'Daily Log'!$AS$18:$AS$1017),0)","v":0},{"$f":"IFERROR($E304*SUMIF('Daily Log'!$AU$18:$AU$1017,$B304,'Daily Log'!$AV$18:$AV$1017),0)","v":0},{"$f":"IFERROR($E304*SUMIF('Daily Log'!$AX$18:$AX$1017,$B304,'Daily Log'!$AY$18:$AY$1017),0)","v":0},{"$f":"IFERROR($E304*SUMIF('Daily Log'!$BA$18:$BA$1017,$B304,'Daily Log'!$BB$18:$BB$1017),0)","v":0},{"$f":"IFERROR($E304*SUMIF('Daily Log'!$BD$18:$BD$1017,$B304,'Daily Log'!$BE$18:$BE$1017),0)","v":0},{"$f":"IFERROR($E304*SUMIF('Daily Log'!$BG$18:$BG$1017,$B304,'Daily Log'!$BH$18:$BH$1017),0)","v":0},{"$f":"IFERROR($E304*SUMIF('Daily Log'!$BJ$18:$BJ$1017,$B304,'Daily Log'!$BK$18:$BK$1017),0)","v":0},{"$f":"IFERROR($E304*SUMIF('Daily Log'!$BM$18:$BM$1017,$B304,'Daily Log'!$BN$18:$BN$1017),0)","v":0},{"$f":"IFERROR($E304*SUMIF('Daily Log'!$BP$18:$BP$1017,$B304,'Daily Log'!$BQ$18:$BQ$1017),0)","v":0},{"$f":"IFERROR($E304*SUMIF('Daily Log'!$BS$18:$BS$1017,$B304,'Daily Log'!$BT$18:$BT$1017),0)","v":0},{"$f":"IFERROR($E304*SUMIF('Daily Log'!$BV$18:$BV$1017,$B304,'Daily Log'!$BW$18:$BW$1017),0)","v":0},{"$f":"IFERROR($E304*SUMIF('Daily Log'!$BY$18:$BY$1017,$B304,'Daily Log'!$BZ$18:$BZ$1017),0)","v":0},{"$f":"IFERROR($E304*SUMIF('Daily Log'!$CB$18:$CB$1017,$B304,'Daily Log'!$CC$18:$CC$1017),0)","v":0},{"$f":"IFERROR($E304*SUMIF('Daily Log'!$CE$18:$CE$1017,$B304,'Daily Log'!$CF$18:$CF$1017),0)","v":0},{"$f":"IFERROR($E304*SUMIF('Daily Log'!$CH$18:$CH$1017,$B304,'Daily Log'!$CI$18:$CI$1017),0)","v":0},{"$f":"IFERROR($E304*SUMIF('Daily Log'!$CK$18:$CK$1017,$B304,'Daily Log'!$CL$18:$CL$1017),0)","v":0},{"$f":"IFERROR($E304*SUMIF('Daily Log'!$CN$18:$CN$1017,$B304,'Daily Log'!$CO$18:$CO$1017),0)","v":0}]
[null,"DD16 McCain AlaCarte",null,"PLATTER",1,63,{"$f":"IFERROR($E305*SUMIF('Daily Log'!$B$18:$B$1017,$B305,'Daily Log'!$C$18:$C$1017),0)","v":0},{"$f":"IFERROR($E305*SUMIF('Daily Log'!$E$18:$E$1017,$B305,'Daily Log'!$F$18:$F$1017),0)","v":0},{"$f":"IFERROR($E305*SUMIF('Daily Log'!$H$18:$H$1017,$B305,'Daily Log'!$I$18:$I$1017),0)","v":0},{"$f":"IFERROR($E305*SUMIF('Daily Log'!$K$18:$K$1017,$B305,'Daily Log'!$L$18:$L$1017),0)","v":0},{"$f":"IFERROR($E305*SUMIF('Daily Log'!$N$18:$N$1017,$B305,'Daily Log'!$O$18:$O$1017),0)","v":0},{"$f":"IFERROR($E305*SUMIF('Daily Log'!$Q$18:$Q$1017,$B305,'Daily Log'!$R$18:$R$1017),0)","v":0},{"$f":"IFERROR($E305*SUMIF('Daily Log'!$T$18:$T$1017,$B305,'Daily Log'!$U$18:$U$1017),0)","v":0},{"$f":"IFERROR($E305*SUMIF('Daily Log'!$W$18:$W$1017,$B305,'Daily Log'!$X$18:$X$1017),0)","v":0},{"$f":"IFERROR($E305*SUMIF('Daily Log'!$Z$18:$Z$1017,$B305,'Daily Log'!$AA$18:$AA$1017),0)","v":0},{"$f":"IFERROR($E305*SUMIF('Daily Log'!$AC$18:$AC$1017,$B305,'Daily Log'!$AD$18:$AD$1017),0)","v":0},{"$f":"IFERROR($E305*SUMIF('Daily Log'!$AF$18:$AF$1017,$B305,'Daily Log'!$AG$18:$AG$1017),0)","v":0},{"$f":"IFERROR($E305*SUMIF('Daily Log'!$AI$18:$AI$1017,$B305,'Daily Log'!$AJ$18:$AJ$1017),0)","v":0},{"$f":"IFERROR($E305*SUMIF('Daily Log'!$AL$18:$AL$1017,$B305,'Daily Log'!$AM$18:$AM$1017),0)","v":0},{"$f":"IFERROR($E305*SUMIF('Daily Log'!$AO$18:$AO$1017,$B305,'Daily Log'!$AP$18:$AP$1017),0)","v":0},{"$f":"IFERROR($E305*SUMIF('Daily Log'!$AR$18:$AR$1017,$B305,'Daily Log'!$AS$18:$AS$1017),0)","v":0},{"$f":"IFERROR($E305*SUMIF('Daily Log'!$AU$18:$AU$1017,$B305,'Daily Log'!$AV$18:$AV$1017),0)","v":0},{"$f":"IFERROR($E305*SUMIF('Daily Log'!$AX$18:$AX$1017,$B305,'Daily Log'!$AY$18:$AY$1017),0)","v":0},{"$f":"IFERROR($E305*SUMIF('Daily Log'!$BA$18:$BA$1017,$B305,'Daily Log'!$BB$18:$BB$1017),0)","v":0},{"$f":"IFERROR($E305*SUMIF('Daily Log'!$BD$18:$BD$1017,$B305,'Daily Log'!$BE$18:$BE$1017),0)","v":0},{"$f":"IFERROR($E305*SUMIF('Daily Log'!$BG$18:$BG$1017,$B305,'Daily Log'!$BH$18:$BH$1017),0)","v":0},{"$f":"IFERROR($E305*SUMIF('Daily Log'!$BJ$18:$BJ$1017,$B305,'Daily Log'!$BK$18:$BK$1017),0)","v":0},{"$f":"IFERROR($E305*SUMIF('Daily Log'!$BM$18:$BM$1017,$B305,'Daily Log'!$BN$18:$BN$1017),0)","v":0},{"$f":"IFERROR($E305*SUMIF('Daily Log'!$BP$18:$BP$1017,$B305,'Daily Log'!$BQ$18:$BQ$1017),0)","v":0},{"$f":"IFERROR($E305*SUMIF('Daily Log'!$BS$18:$BS$1017,$B305,'Daily Log'!$BT$18:$BT$1017),0)","v":0},{"$f":"IFERROR($E305*SUMIF('Daily Log'!$BV$18:$BV$1017,$B305,'Daily Log'!$BW$18:$BW$1017),0)","v":0},{"$f":"IFERROR($E305*SUMIF('Daily Log'!$BY$18:$BY$1017,$B305,'Daily Log'!$BZ$18:$BZ$1017),0)","v":0},{"$f":"IFERROR($E305*SUMIF('Daily Log'!$CB$18:$CB$1017,$B305,'Daily Log'!$CC$18:$CC$1017),0)","v":0},{"$f":"IFERROR($E305*SUMIF('Daily Log'!$CE$18:$CE$1017,$B305,'Daily Log'!$CF$18:$CF$1017),0)","v":0},{"$f":"IFERROR($E305*SUMIF('Daily Log'!$CH$18:$CH$1017,$B305,'Daily Log'!$CI$18:$CI$1017),0)","v":0},{"$f":"IFERROR($E305*SUMIF('Daily Log'!$CK$18:$CK$1017,$B305,'Daily Log'!$CL$18:$CL$1017),0)","v":63},{"$f":"IFERROR($E305*SUMIF('Daily Log'!$CN$18:$CN$1017,$B305,'Daily Log'!$CO$18:$CO$1017),0)","v":0}]
[null,"DD17 McCain Beer",null,"PLATTER",1,28,{"$f":"IFERROR($E306*SUMIF('Daily Log'!$B$18:$B$1017,$B306,'Daily Log'!$C$18:$C$1017),0)","v":0},{"$f":"IFERROR($E306*SUMIF('Daily Log'!$E$18:$E$1017,$B306,'Daily Log'!$F$18:$F$1017),0)","v":0},{"$f":"IFERROR($E306*SUMIF('Daily Log'!$H$18:$H$1017,$B306,'Daily Log'!$I$18:$I$1017),0)","v":0},{"$f":"IFERROR($E306*SUMIF('Daily Log'!$K$18:$K$1017,$B306,'Daily Log'!$L$18:$L$1017),0)","v":0},{"$f":"IFERROR($E306*SUMIF('Daily Log'!$N$18:$N$1017,$B306,'Daily Log'!$O$18:$O$1017),0)","v":0},{"$f":"IFERROR($E306*SUMIF('Daily Log'!$Q$18:$Q$1017,$B306,'Daily Log'!$R$18:$R$1017),0)","v":0},{"$f":"IFERROR($E306*SUMIF('Daily Log'!$T$18:$T$1017,$B306,'Daily Log'!$U$18:$U$1017),0)","v":0},{"$f":"IFERROR($E306*SUMIF('Daily Log'!$W$18:$W$1017,$B306,'Daily Log'!$X$18:$X$1017),0)","v":0},{"$f":"IFERROR($E306*SUMIF('Daily Log'!$Z$18:$Z$1017,$B306,'Daily Log'!$AA$18:$AA$1017),0)","v":0},{"$f":"IFERROR($E306*SUMIF('Daily Log'!$AC$18:$AC$1017,$B306,'Daily Log'!$AD$18:$AD$1017),0)","v":0},{"$f":"IFERROR($E306*SUMIF('Daily Log'!$AF$18:$AF$1017,$B306,'Daily Log'!$AG$18:$AG$1017),0)","v":0},{"$f":"IFERROR($E306*SUMIF('Daily Log'!$AI$18:$AI$1017,$B306,'Daily Log'!$AJ$18:$AJ$1017),0)","v":0},{"$f":"IFERROR($E306*SUMIF('Daily Log'!$AL$18:$AL$1017,$B306,'Daily Log'!$AM$18:$AM$1017),0)","v":0},{"$f":"IFERROR($E306*SUMIF('Daily Log'!$AO$18:$AO$1017,$B306,'Daily Log'!$AP$18:$AP$1017),0)","v":0},{"$f":"IFERROR($E306*SUMIF('Daily Log'!$AR$18:$AR$1017,$B306,'Daily Log'!$AS$18:$AS$1017),0)","v":0},{"$f":"IFERROR($E306*SUMIF('Daily Log'!$AU$18:$AU$1017,$B306,'Daily Log'!$AV$18:$AV$1017),0)","v":0},{"$f":"IFERROR($E306*SUMIF('Daily Log'!$AX$18:$AX$1017,$B306,'Daily Log'!$AY$18:$AY$1017),0)","v":0},{"$f":"IFERROR($E306*SUMIF('Daily Log'!$BA$18:$BA$1017,$B306,'Daily Log'!$BB$18:$BB$1017),0)","v":0},{"$f":"IFERROR($E306*SUMIF('Daily Log'!$BD$18:$BD$1017,$B306,'Daily Log'!$BE$18:$BE$1017),0)","v":0},{"$f":"IFERROR($E306*SUMIF('Daily Log'!$BG$18:$BG$1017,$B306,'Daily Log'!$BH$18:$BH$1017),0)","v":0},{"$f":"IFERROR($E306*SUMIF('Daily Log'!$BJ$18:$BJ$1017,$B306,'Daily Log'!$BK$18:$BK$1017),0)","v":0},{"$f":"IFERROR($E306*SUMIF('Daily Log'!$BM$18:$BM$1017,$B306,'Daily Log'!$BN$18:$BN$1017),0)","v":0},{"$f":"IFERROR($E306*SUMIF('Daily Log'!$BP$18:$BP$1017,$B306,'Daily Log'!$BQ$18:$BQ$1017),0)","v":0},{"$f":"IFERROR($E306*SUMIF('Daily Log'!$BS$18:$BS$1017,$B306,'Daily Log'!$BT$18:$BT$1017),0)","v":0},{"$f":"IFERROR($E306*SUMIF('Daily Log'!$BV$18:$BV$1017,$B306,'Daily Log'!$BW$18:$BW$1017),0)","v":0},{"$f":"IFERROR($E306*SUMIF('Daily Log'!$BY$18:$BY$1017,$B306,'Daily Log'!$BZ$18:$BZ$1017),0)","v":0},{"$f":"IFERROR($E306*SUMIF('Daily Log'!$CB$18:$CB$1017,$B306,'Daily Log'!$CC$18:$CC$1017),0)","v":0},{"$f":"IFERROR($E306*SUMIF('Daily Log'!$CE$18:$CE$1017,$B306,'Daily Log'!$CF$18:$CF$1017),0)","v":0},{"$f":"IFERROR($E306*SUMIF('Daily Log'!$CH$18:$CH$1017,$B306,'Daily Log'!$CI$18:$CI$1017),0)","v":0},{"$f":"IFERROR($E306*SUMIF('Daily Log'!$CK$18:$CK$1017,$B306,'Daily Log'!$CL$18:$CL$1017),0)","v":28},{"$f":"IFERROR($E306*SUMIF('Daily Log'!$CN$18:$CN$1017,$B306,'Daily Log'!$CO$18:$CO$1017),0)","v":0}]
[null,"DE01 SET 990",null,"COMBO",1,205,{"$f":"IFERROR($E307*SUMIF('Daily Log'!$B$18:$B$1017,$B307,'Daily Log'!$C$18:$C$1017),0)","v":0},{"$f":"IFERROR($E307*SUMIF('Daily Log'!$E$18:$E$1017,$B307,'Daily Log'!$F$18:$F$1017),0)","v":0},{"$f":"IFERROR($E307*SUMIF('Daily Log'!$H$18:$H$1017,$B307,'Daily Log'!$I$18:$I$1017),0)","v":0},{"$f":"IFERROR($E307*SUMIF('Daily Log'!$K$18:$K$1017,$B307,'Daily Log'!$L$18:$L$1017),0)","v":0},{"$f":"IFERROR($E307*SUMIF('Daily Log'!$N$18:$N$1017,$B307,'Daily Log'!$O$18:$O$1017),0)","v":0},{"$f":"IFERROR($E307*SUMIF('Daily Log'!$Q$18:$Q$1017,$B307,'Daily Log'!$R$18:$R$1017),0)","v":0},{"$f":"IFERROR($E307*SUMIF('Daily Log'!$T$18:$T$1017,$B307,'Daily Log'!$U$18:$U$1017),0)","v":0},{"$f":"IFERROR($E307*SUMIF('Daily Log'!$W$18:$W$1017,$B307,'Daily Log'!$X$18:$X$1017),0)","v":0},{"$f":"IFERROR($E307*SUMIF('Daily Log'!$Z$18:$Z$1017,$B307,'Daily Log'!$AA$18:$AA$1017),0)","v":0},{"$f":"IFERROR($E307*SUMIF('Daily Log'!$AC$18:$AC$1017,$B307,'Daily Log'!$AD$18:$AD$1017),0)","v":0},{"$f":"IFERROR($E307*SUMIF('Daily Log'!$AF$18:$AF$1017,$B307,'Daily Log'!$AG$18:$AG$1017),0)","v":0},{"$f":"IFERROR($E307*SUMIF('Daily Log'!$AI$18:$AI$1017,$B307,'Daily Log'!$AJ$18:$AJ$1017),0)","v":0},{"$f":"IFERROR($E307*SUMIF('Daily Log'!$AL$18:$AL$1017,$B307,'Daily Log'!$AM$18:$AM$1017),0)","v":0},{"$f":"IFERROR($E307*SUMIF('Daily Log'!$AO$18:$AO$1017,$B307,'Daily Log'!$AP$18:$AP$1017),0)","v":0},{"$f":"IFERROR($E307*SUMIF('Daily Log'!$AR$18:$AR$1017,$B307,'Daily Log'!$AS$18:$AS$1017),0)","v":0},{"$f":"IFERROR($E307*SUMIF('Daily Log'!$AU$18:$AU$1017,$B307,'Daily Log'!$AV$18:$AV$1017),0)","v":0},{"$f":"IFERROR($E307*SUMIF('Daily Log'!$AX$18:$AX$1017,$B307,'Daily Log'!$AY$18:$AY$1017),0)","v":0},{"$f":"IFERROR($E307*SUMIF('Daily Log'!$BA$18:$BA$1017,$B307,'Daily Log'!$BB$18:$BB$1017),0)","v":0},{"$f":"IFERROR($E307*SUMIF('Daily Log'!$BD$18:$BD$1017,$B307,'Daily Log'!$BE$18:$BE$1017),0)","v":0},{"$f":"IFERROR($E307*SUMIF('Daily Log'!$BG$18:$BG$1017,$B307,'Daily Log'!$BH$18:$BH$1017),0)","v":0},{"$f":"IFERROR($E307*SUMIF('Daily Log'!$BJ$18:$BJ$1017,$B307,'Daily Log'!$BK$18:$BK$1017),0)","v":0},{"$f":"IFERROR($E307*SUMIF('Daily Log'!$BM$18:$BM$1017,$B307,'Daily Log'!$BN$18:$BN$1017),0)","v":0},{"$f":"IFERROR($E307*SUMIF('Daily Log'!$BP$18:$BP$1017,$B307,'Daily Log'!$BQ$18:$BQ$1017),0)","v":0},{"$f":"IFERROR($E307*SUMIF('Daily Log'!$BS$18:$BS$1017,$B307,'Daily Log'!$BT$18:$BT$1017),0)","v":0},{"$f":"IFERROR($E307*SUMIF('Daily Log'!$BV$18:$BV$1017,$B307,'Daily Log'!$BW$18:$BW$1017),0)","v":0},{"$f":"IFERROR($E307*SUMIF('Daily Log'!$BY$18:$BY$1017,$B307,'Daily Log'!$BZ$18:$BZ$1017),0)","v":0},{"$f":"IFERROR($E307*SUMIF('Daily Log'!$CB$18:$CB$1017,$B307,'Daily Log'!$CC$18:$CC$1017),0)","v":0},{"$f":"IFERROR($E307*SUMIF('Daily Log'!$CE$18:$CE$1017,$B307,'Daily Log'!$CF$18:$CF$1017),0)","v":0},{"$f":"IFERROR($E307*SUMIF('Daily Log'!$CH$18:$CH$1017,$B307,'Daily Log'!$CI$18:$CI$1017),0)","v":0},{"$f":"IFERROR($E307*SUMIF('Daily Log'!$CK$18:$CK$1017,$B307,'Daily Log'!$CL$18:$CL$1017),0)","v":205},{"$f":"IFERROR($E307*SUMIF('Daily Log'!$CN$18:$CN$1017,$B307,'Daily Log'!$CO$18:$CO$1017),0)","v":0}]
[null,"DF01 ADD RICE",null,"SIDE ORDER",1,10,{"$f":"IFERROR($E308*SUMIF('Daily Log'!$B$18:$B$1017,$B308,'Daily Log'!$C$18:$C$1017),0)","v":0},{"$f":"IFERROR($E308*SUMIF('Daily Log'!$E$18:$E$1017,$B308,'Daily Log'!$F$18:$F$1017),0)","v":0},{"$f":"IFERROR($E308*SUMIF('Daily Log'!$H$18:$H$1017,$B308,'Daily Log'!$I$18:$I$1017),0)","v":0},{"$f":"IFERROR($E308*SUMIF('Daily Log'!$K$18:$K$1017,$B308,'Daily Log'!$L$18:$L$1017),0)","v":0},{"$f":"IFERROR($E308*SUMIF('Daily Log'!$N$18:$N$1017,$B308,'Daily Log'!$O$18:$O$1017),0)","v":0},{"$f":"IFERROR($E308*SUMIF('Daily Log'!$Q$18:$Q$1017,$B308,'Daily Log'!$R$18:$R$1017),0)","v":0},{"$f":"IFERROR($E308*SUMIF('Daily Log'!$T$18:$T$1017,$B308,'Daily Log'!$U$18:$U$1017),0)","v":0},{"$f":"IFERROR($E308*SUMIF('Daily Log'!$W$18:$W$1017,$B308,'Daily Log'!$X$18:$X$1017),0)","v":0},{"$f":"IFERROR($E308*SUMIF('Daily Log'!$Z$18:$Z$1017,$B308,'Daily Log'!$AA$18:$AA$1017),0)","v":0},{"$f":"IFERROR($E308*SUMIF('Daily Log'!$AC$18:$AC$1017,$B308,'Daily Log'!$AD$18:$AD$1017),0)","v":0},{"$f":"IFERROR($E308*SUMIF('Daily Log'!$AF$18:$AF$1017,$B308,'Daily Log'!$AG$18:$AG$1017),0)","v":0},{"$f":"IFERROR($E308*SUMIF('Daily Log'!$AI$18:$AI$1017,$B308,'Daily Log'!$AJ$18:$AJ$1017),0)","v":0},{"$f":"IFERROR($E308*SUMIF('Daily Log'!$AL$18:$AL$1017,$B308,'Daily Log'!$AM$18:$AM$1017),0)","v":0},{"$f":"IFERROR($E308*SUMIF('Daily Log'!$AO$18:$AO$1017,$B308,'Daily Log'!$AP$18:$AP$1017),0)","v":0},{"$f":"IFERROR($E308*SUMIF('Daily Log'!$AR$18:$AR$1017,$B308,'Daily Log'!$AS$18:$AS$1017),0)","v":0},{"$f":"IFERROR($E308*SUMIF('Daily Log'!$AU$18:$AU$1017,$B308,'Daily Log'!$AV$18:$AV$1017),0)","v":0},{"$f":"IFERROR($E308*SUMIF('Daily Log'!$AX$18:$AX$1017,$B308,'Daily Log'!$AY$18:$AY$1017),0)","v":0},{"$f":"IFERROR($E308*SUMIF('Daily Log'!$BA$18:$BA$1017,$B308,'Daily Log'!$BB$18:$BB$1017),0)","v":0},{"$f":"IFERROR($E308*SUMIF('Daily Log'!$BD$18:$BD$1017,$B308,'Daily Log'!$BE$18:$BE$1017),0)","v":0},{"$f":"IFERROR($E308*SUMIF('Daily Log'!$BG$18:$BG$1017,$B308,'Daily Log'!$BH$18:$BH$1017),0)","v":0},{"$f":"IFERROR($E308*SUMIF('Daily Log'!$BJ$18:$BJ$1017,$B308,'Daily Log'!$BK$18:$BK$1017),0)","v":0},{"$f":"IFERROR($E308*SUMIF('Daily Log'!$BM$18:$BM$1017,$B308,'Daily Log'!$BN$18:$BN$1017),0)","v":0},{"$f":"IFERROR($E308*SUMIF('Daily Log'!$BP$18:$BP$1017,$B308,'Daily Log'!$BQ$18:$BQ$1017),0)","v":0},{"$f":"IFERROR($E308*SUMIF('Daily Log'!$BS$18:$BS$1017,$B308,'Daily Log'!$BT$18:$BT$1017),0)","v":0},{"$f":"IFERROR($E308*SUMIF('Daily Log'!$BV$18:$BV$1017,$B308,'Daily Log'!$BW$18:$BW$1017),0)","v":0},{"$f":"IFERROR($E308*SUMIF('Daily Log'!$BY$18:$BY$1017,$B308,'Daily Log'!$BZ$18:$BZ$1017),0)","v":0},{"$f":"IFERROR($E308*SUMIF('Daily Log'!$CB$18:$CB$1017,$B308,'Daily Log'!$CC$18:$CC$1017),0)","v":0},{"$f":"IFERROR($E308*SUMIF('Daily Log'!$CE$18:$CE$1017,$B308,'Daily Log'!$CF$18:$CF$1017),0)","v":0},{"$f":"IFERROR($E308*SUMIF('Daily Log'!$CH$18:$CH$1017,$B308,'Daily Log'!$CI$18:$CI$1017),0)","v":0},{"$f":"IFERROR($E308*SUMIF('Daily Log'!$CK$18:$CK$1017,$B308,'Daily Log'!$CL$18:$CL$1017),0)","v":10},{"$f":"IFERROR($E308*SUMIF('Daily Log'!$CN$18:$CN$1017,$B308,'Daily Log'!$CO$18:$CO$1017),0)","v":0}]
[null,"DF02 ADD F.EGG",null,"SIDE ORDER",1,8,{"$f":"IFERROR($E309*SUMIF('Daily Log'!$B$18:$B$1017,$B309,'Daily Log'!$C$18:$C$1017),0)","v":0},{"$f":"IFERROR($E309*SUMIF('Daily Log'!$E$18:$E$1017,$B309,'Daily Log'!$F$18:$F$1017),0)","v":0},{"$f":"IFERROR($E309*SUMIF('Daily Log'!$H$18:$H$1017,$B309,'Daily Log'!$I$18:$I$1017),0)","v":0},{"$f":"IFERROR($E309*SUMIF('Daily Log'!$K$18:$K$1017,$B309,'Daily Log'!$L$18:$L$1017),0)","v":0},{"$f":"IFERROR($E309*SUMIF('Daily Log'!$N$18:$N$1017,$B309,'Daily Log'!$O$18:$O$1017),0)","v":0},{"$f":"IFERROR($E309*SUMIF('Daily Log'!$Q$18:$Q$1017,$B309,'Daily Log'!$R$18:$R$1017),0)","v":0},{"$f":"IFERROR($E309*SUMIF('Daily Log'!$T$18:$T$1017,$B309,'Daily Log'!$U$18:$U$1017),0)","v":0},{"$f":"IFERROR($E309*SUMIF('Daily Log'!$W$18:$W$1017,$B309,'Daily Log'!$X$18:$X$1017),0)","v":0},{"$f":"IFERROR($E309*SUMIF('Daily Log'!$Z$18:$Z$1017,$B309,'Daily Log'!$AA$18:$AA$1017),0)","v":0},{"$f":"IFERROR($E309*SUMIF('Daily Log'!$AC$18:$AC$1017,$B309,'Daily Log'!$AD$18:$AD$1017),0)","v":0},{"$f":"IFERROR($E309*SUMIF('Daily Log'!$AF$18:$AF$1017,$B309,'Daily Log'!$AG$18:$AG$1017),0)","v":0},{"$f":"IFERROR($E309*SUMIF('Daily Log'!$AI$18:$AI$1017,$B309,'Daily Log'!$AJ$18:$AJ$1017),0)","v":0},{"$f":"IFERROR($E309*SUMIF('Daily Log'!$AL$18:$AL$1017,$B309,'Daily Log'!$AM$18:$AM$1017),0)","v":0},{"$f":"IFERROR($E309*SUMIF('Daily Log'!$AO$18:$AO$1017,$B309,'Daily Log'!$AP$18:$AP$1017),0)","v":0},{"$f":"IFERROR($E309*SUMIF('Daily Log'!$AR$18:$AR$1017,$B309,'Daily Log'!$AS$18:$AS$1017),0)","v":0},{"$f":"IFERROR($E309*SUMIF('Daily Log'!$AU$18:$AU$1017,$B309,'Daily Log'!$AV$18:$AV$1017),0)","v":0},{"$f":"IFERROR($E309*SUMIF('Daily Log'!$AX$18:$AX$1017,$B309,'Daily Log'!$AY$18:$AY$1017),0)","v":0},{"$f":"IFERROR($E309*SUMIF('Daily Log'!$BA$18:$BA$1017,$B309,'Daily Log'!$BB$18:$BB$1017),0)","v":0},{"$f":"IFERROR($E309*SUMIF('Daily Log'!$BD$18:$BD$1017,$B309,'Daily Log'!$BE$18:$BE$1017),0)","v":0},{"$f":"IFERROR($E309*SUMIF('Daily Log'!$BG$18:$BG$1017,$B309,'Daily Log'!$BH$18:$BH$1017),0)","v":0},{"$f":"IFERROR($E309*SUMIF('Daily Log'!$BJ$18:$BJ$1017,$B309,'Daily Log'!$BK$18:$BK$1017),0)","v":0},{"$f":"IFERROR($E309*SUMIF('Daily Log'!$BM$18:$BM$1017,$B309,'Daily Log'!$BN$18:$BN$1017),0)","v":0},{"$f":"IFERROR($E309*SUMIF('Daily Log'!$BP$18:$BP$1017,$B309,'Daily Log'!$BQ$18:$BQ$1017),0)","v":0},{"$f":"IFERROR($E309*SUMIF('Daily Log'!$BS$18:$BS$1017,$B309,'Daily Log'!$BT$18:$BT$1017),0)","v":0},{"$f":"IFERROR($E309*SUMIF('Daily Log'!$BV$18:$BV$1017,$B309,'Daily Log'!$BW$18:$BW$1017),0)","v":0},{"$f":"IFERROR($E309*SUMIF('Daily Log'!$BY$18:$BY$1017,$B309,'Daily Log'!$BZ$18:$BZ$1017),0)","v":0},{"$f":"IFERROR($E309*SUMIF('Daily Log'!$CB$18:$CB$1017,$B309,'Daily Log'!$CC$18:$CC$1017),0)","v":0},{"$f":"IFERROR($E309*SUMIF('Daily Log'!$CE$18:$CE$1017,$B309,'Daily Log'!$CF$18:$CF$1017),0)","v":0},{"$f":"IFERROR($E309*SUMIF('Daily Log'!$CH$18:$CH$1017,$B309,'Daily Log'!$CI$18:$CI$1017),0)","v":0},{"$f":"IFERROR($E309*SUMIF('Daily Log'!$CK$18:$CK$1017,$B309,'Daily Log'!$CL$18:$CL$1017),0)","v":8},{"$f":"IFERROR($E309*SUMIF('Daily Log'!$CN$18:$CN$1017,$B309,'Daily Log'!$CO$18:$CO$1017),0)","v":0}]
[null,"DF03 ADD SAUCE 1000",null,"SAUCE",1,13,{"$f":"IFERROR($E310*SUMIF('Daily Log'!$B$18:$B$1017,$B310,'Daily Log'!$C$18:$C$1017),0)","v":0},{"$f":"IFERROR($E310*SUMIF('Daily Log'!$E$18:$E$1017,$B310,'Daily Log'!$F$18:$F$1017),0)","v":0},{"$f":"IFERROR($E310*SUMIF('Daily Log'!$H$18:$H$1017,$B310,'Daily Log'!$I$18:$I$1017),0)","v":0},{"$f":"IFERROR($E310*SUMIF('Daily Log'!$K$18:$K$1017,$B310,'Daily Log'!$L$18:$L$1017),0)","v":0},{"$f":"IFERROR($E310*SUMIF('Daily Log'!$N$18:$N$1017,$B310,'Daily Log'!$O$18:$O$1017),0)","v":0},{"$f":"IFERROR($E310*SUMIF('Daily Log'!$Q$18:$Q$1017,$B310,'Daily Log'!$R$18:$R$1017),0)","v":0},{"$f":"IFERROR($E310*SUMIF('Daily Log'!$T$18:$T$1017,$B310,'Daily Log'!$U$18:$U$1017),0)","v":0},{"$f":"IFERROR($E310*SUMIF('Daily Log'!$W$18:$W$1017,$B310,'Daily Log'!$X$18:$X$1017),0)","v":0},{"$f":"IFERROR($E310*SUMIF('Daily Log'!$Z$18:$Z$1017,$B310,'Daily Log'!$AA$18:$AA$1017),0)","v":0},{"$f":"IFERROR($E310*SUMIF('Daily Log'!$AC$18:$AC$1017,$B310,'Daily Log'!$AD$18:$AD$1017),0)","v":0},{"$f":"IFERROR($E310*SUMIF('Daily Log'!$AF$18:$AF$1017,$B310,'Daily Log'!$AG$18:$AG$1017),0)","v":0},{"$f":"IFERROR($E310*SUMIF('Daily Log'!$AI$18:$AI$1017,$B310,'Daily Log'!$AJ$18:$AJ$1017),0)","v":0},{"$f":"IFERROR($E310*SUMIF('Daily Log'!$AL$18:$AL$1017,$B310,'Daily Log'!$AM$18:$AM$1017),0)","v":0},{"$f":"IFERROR($E310*SUMIF('Daily Log'!$AO$18:$AO$1017,$B310,'Daily Log'!$AP$18:$AP$1017),0)","v":0},{"$f":"IFERROR($E310*SUMIF('Daily Log'!$AR$18:$AR$1017,$B310,'Daily Log'!$AS$18:$AS$1017),0)","v":0},{"$f":"IFERROR($E310*SUMIF('Daily Log'!$AU$18:$AU$1017,$B310,'Daily Log'!$AV$18:$AV$1017),0)","v":0},{"$f":"IFERROR($E310*SUMIF('Daily Log'!$AX$18:$AX$1017,$B310,'Daily Log'!$AY$18:$AY$1017),0)","v":0},{"$f":"IFERROR($E310*SUMIF('Daily Log'!$BA$18:$BA$1017,$B310,'Daily Log'!$BB$18:$BB$1017),0)","v":0},{"$f":"IFERROR($E310*SUMIF('Daily Log'!$BD$18:$BD$1017,$B310,'Daily Log'!$BE$18:$BE$1017),0)","v":0},{"$f":"IFERROR($E310*SUMIF('Daily Log'!$BG$18:$BG$1017,$B310,'Daily Log'!$BH$18:$BH$1017),0)","v":0},{"$f":"IFERROR($E310*SUMIF('Daily Log'!$BJ$18:$BJ$1017,$B310,'Daily Log'!$BK$18:$BK$1017),0)","v":0},{"$f":"IFERROR($E310*SUMIF('Daily Log'!$BM$18:$BM$1017,$B310,'Daily Log'!$BN$18:$BN$1017),0)","v":0},{"$f":"IFERROR($E310*SUMIF('Daily Log'!$BP$18:$BP$1017,$B310,'Daily Log'!$BQ$18:$BQ$1017),0)","v":0},{"$f":"IFERROR($E310*SUMIF('Daily Log'!$BS$18:$BS$1017,$B310,'Daily Log'!$BT$18:$BT$1017),0)","v":0},{"$f":"IFERROR($E310*SUMIF('Daily Log'!$BV$18:$BV$1017,$B310,'Daily Log'!$BW$18:$BW$1017),0)","v":0},{"$f":"IFERROR($E310*SUMIF('Daily Log'!$BY$18:$BY$1017,$B310,'Daily Log'!$BZ$18:$BZ$1017),0)","v":0},{"$f":"IFERROR($E310*SUMIF('Daily Log'!$CB$18:$CB$1017,$B310,'Daily Log'!$CC$18:$CC$1017),0)","v":0},{"$f":"IFERROR($E310*SUMIF('Daily Log'!$CE$18:$CE$1017,$B310,'Daily Log'!$CF$18:$CF$1017),0)","v":0},{"$f":"IFERROR($E310*SUMIF('Daily Log'!$CH$18:$CH$1017,$B310,'Daily Log'!$CI$18:$CI$1017),0)","v":0},{"$f":"IFERROR($E310*SUMIF('Daily Log'!$CK$18:$CK$1017,$B310,'Daily Log'!$CL$18:$CL$1017),0)","v":13},{"$f":"IFERROR($E310*SUMIF('Daily Log'!$CN$18:$CN$1017,$B310,'Daily Log'!$CO$18:$CO$1017),0)","v":0}]
[null,"DF04 ADD SAUCE BOLO",null,"SAUCE",1,0,{"$f":"IFERROR($E311*SUMIF('Daily Log'!$B$18:$B$1017,$B311,'Daily Log'!$C$18:$C$1017),0)","v":0},{"$f":"IFERROR($E311*SUMIF('Daily Log'!$E$18:$E$1017,$B311,'Daily Log'!$F$18:$F$1017),0)","v":0},{"$f":"IFERROR($E311*SUMIF('Daily Log'!$H$18:$H$1017,$B311,'Daily Log'!$I$18:$I$1017),0)","v":0},{"$f":"IFERROR($E311*SUMIF('Daily Log'!$K$18:$K$1017,$B311,'Daily Log'!$L$18:$L$1017),0)","v":0},{"$f":"IFERROR($E311*SUMIF('Daily Log'!$N$18:$N$1017,$B311,'Daily Log'!$O$18:$O$1017),0)","v":0},{"$f":"IFERROR($E311*SUMIF('Daily Log'!$Q$18:$Q$1017,$B311,'Daily Log'!$R$18:$R$1017),0)","v":0},{"$f":"IFERROR($E311*SUMIF('Daily Log'!$T$18:$T$1017,$B311,'Daily Log'!$U$18:$U$1017),0)","v":0},{"$f":"IFERROR($E311*SUMIF('Daily Log'!$W$18:$W$1017,$B311,'Daily Log'!$X$18:$X$1017),0)","v":0},{"$f":"IFERROR($E311*SUMIF('Daily Log'!$Z$18:$Z$1017,$B311,'Daily Log'!$AA$18:$AA$1017),0)","v":0},{"$f":"IFERROR($E311*SUMIF('Daily Log'!$AC$18:$AC$1017,$B311,'Daily Log'!$AD$18:$AD$1017),0)","v":0},{"$f":"IFERROR($E311*SUMIF('Daily Log'!$AF$18:$AF$1017,$B311,'Daily Log'!$AG$18:$AG$1017),0)","v":0},{"$f":"IFERROR($E311*SUMIF('Daily Log'!$AI$18:$AI$1017,$B311,'Daily Log'!$AJ$18:$AJ$1017),0)","v":0},{"$f":"IFERROR($E311*SUMIF('Daily Log'!$AL$18:$AL$1017,$B311,'Daily Log'!$AM$18:$AM$1017),0)","v":0},{"$f":"IFERROR($E311*SUMIF('Daily Log'!$AO$18:$AO$1017,$B311,'Daily Log'!$AP$18:$AP$1017),0)","v":0},{"$f":"IFERROR($E311*SUMIF('Daily Log'!$AR$18:$AR$1017,$B311,'Daily Log'!$AS$18:$AS$1017),0)","v":0},{"$f":"IFERROR($E311*SUMIF('Daily Log'!$AU$18:$AU$1017,$B311,'Daily Log'!$AV$18:$AV$1017),0)","v":0},{"$f":"IFERROR($E311*SUMIF('Daily Log'!$AX$18:$AX$1017,$B311,'Daily Log'!$AY$18:$AY$1017),0)","v":0},{"$f":"IFERROR($E311*SUMIF('Daily Log'!$BA$18:$BA$1017,$B311,'Daily Log'!$BB$18:$BB$1017),0)","v":0},{"$f":"IFERROR($E311*SUMIF('Daily Log'!$BD$18:$BD$1017,$B311,'Daily Log'!$BE$18:$BE$1017),0)","v":0},{"$f":"IFERROR($E311*SUMIF('Daily Log'!$BG$18:$BG$1017,$B311,'Daily Log'!$BH$18:$BH$1017),0)","v":0},{"$f":"IFERROR($E311*SUMIF('Daily Log'!$BJ$18:$BJ$1017,$B311,'Daily Log'!$BK$18:$BK$1017),0)","v":0},{"$f":"IFERROR($E311*SUMIF('Daily Log'!$BM$18:$BM$1017,$B311,'Daily Log'!$BN$18:$BN$1017),0)","v":0},{"$f":"IFERROR($E311*SUMIF('Daily Log'!$BP$18:$BP$1017,$B311,'Daily Log'!$BQ$18:$BQ$1017),0)","v":0},{"$f":"IFERROR($E311*SUMIF('Daily Log'!$BS$18:$BS$1017,$B311,'Daily Log'!$BT$18:$BT$1017),0)","v":0},{"$f":"IFERROR($E311*SUMIF('Daily Log'!$BV$18:$BV$1017,$B311,'Daily Log'!$BW$18:$BW$1017),0)","v":0},{"$f":"IFERROR($E311*SUMIF('Daily Log'!$BY$18:$BY$1017,$B311,'Daily Log'!$BZ$18:$BZ$1017),0)","v":0},{"$f":"IFERROR($E311*SUMIF('Daily Log'!$CB$18:$CB$1017,$B311,'Daily Log'!$CC$18:$CC$1017),0)","v":0},{"$f":"IFERROR($E311*SUMIF('Daily Log'!$CE$18:$CE$1017,$B311,'Daily Log'!$CF$18:$CF$1017),0)","v":0},{"$f":"IFERROR($E311*SUMIF('Daily Log'!$CH$18:$CH$1017,$B311,'Daily Log'!$CI$18:$CI$1017),0)","v":0},{"$f":"IFERROR($E311*SUMIF('Daily Log'!$CK$18:$CK$1017,$B311,'Daily Log'!$CL$18:$CL$1017),0)","v":0},{"$f":"IFERROR($E311*SUMIF('Daily Log'!$CN$18:$CN$1017,$B311,'Daily Log'!$CO$18:$CO$1017),0)","v":0}]
[null,"DF05 ADD SAUCE BP",null,"SAUCE",1,8,{"$f":"IFERROR($E312*SUMIF('Daily Log'!$B$18:$B$1017,$B312,'Daily Log'!$C$18:$C$1017),0)","v":0},{"$f":"IFERROR($E312*SUMIF('Daily Log'!$E$18:$E$1017,$B312,'Daily Log'!$F$18:$F$1017),0)","v":0},{"$f":"IFERROR($E312*SUMIF('Daily Log'!$H$18:$H$1017,$B312,'Daily Log'!$I$18:$I$1017),0)","v":0},{"$f":"IFERROR($E312*SUMIF('Daily Log'!$K$18:$K$1017,$B312,'Daily Log'!$L$18:$L$1017),0)","v":0},{"$f":"IFERROR($E312*SUMIF('Daily Log'!$N$18:$N$1017,$B312,'Daily Log'!$O$18:$O$1017),0)","v":0},{"$f":"IFERROR($E312*SUMIF('Daily Log'!$Q$18:$Q$1017,$B312,'Daily Log'!$R$18:$R$1017),0)","v":0},{"$f":"IFERROR($E312*SUMIF('Daily Log'!$T$18:$T$1017,$B312,'Daily Log'!$U$18:$U$1017),0)","v":0},{"$f":"IFERROR($E312*SUMIF('Daily Log'!$W$18:$W$1017,$B312,'Daily Log'!$X$18:$X$1017),0)","v":0},{"$f":"IFERROR($E312*SUMIF('Daily Log'!$Z$18:$Z$1017,$B312,'Daily Log'!$AA$18:$AA$1017),0)","v":0},{"$f":"IFERROR($E312*SUMIF('Daily Log'!$AC$18:$AC$1017,$B312,'Daily Log'!$AD$18:$AD$1017),0)","v":0},{"$f":"IFERROR($E312*SUMIF('Daily Log'!$AF$18:$AF$1017,$B312,'Daily Log'!$AG$18:$AG$1017),0)","v":0},{"$f":"IFERROR($E312*SUMIF('Daily Log'!$AI$18:$AI$1017,$B312,'Daily Log'!$AJ$18:$AJ$1017),0)","v":0},{"$f":"IFERROR($E312*SUMIF('Daily Log'!$AL$18:$AL$1017,$B312,'Daily Log'!$AM$18:$AM$1017),0)","v":0},{"$f":"IFERROR($E312*SUMIF('Daily Log'!$AO$18:$AO$1017,$B312,'Daily Log'!$AP$18:$AP$1017),0)","v":0},{"$f":"IFERROR($E312*SUMIF('Daily Log'!$AR$18:$AR$1017,$B312,'Daily Log'!$AS$18:$AS$1017),0)","v":0},{"$f":"IFERROR($E312*SUMIF('Daily Log'!$AU$18:$AU$1017,$B312,'Daily Log'!$AV$18:$AV$1017),0)","v":0},{"$f":"IFERROR($E312*SUMIF('Daily Log'!$AX$18:$AX$1017,$B312,'Daily Log'!$AY$18:$AY$1017),0)","v":0},{"$f":"IFERROR($E312*SUMIF('Daily Log'!$BA$18:$BA$1017,$B312,'Daily Log'!$BB$18:$BB$1017),0)","v":0},{"$f":"IFERROR($E312*SUMIF('Daily Log'!$BD$18:$BD$1017,$B312,'Daily Log'!$BE$18:$BE$1017),0)","v":0},{"$f":"IFERROR($E312*SUMIF('Daily Log'!$BG$18:$BG$1017,$B312,'Daily Log'!$BH$18:$BH$1017),0)","v":0},{"$f":"IFERROR($E312*SUMIF('Daily Log'!$BJ$18:$BJ$1017,$B312,'Daily Log'!$BK$18:$BK$1017),0)","v":0},{"$f":"IFERROR($E312*SUMIF('Daily Log'!$BM$18:$BM$1017,$B312,'Daily Log'!$BN$18:$BN$1017),0)","v":0},{"$f":"IFERROR($E312*SUMIF('Daily Log'!$BP$18:$BP$1017,$B312,'Daily Log'!$BQ$18:$BQ$1017),0)","v":0},{"$f":"IFERROR($E312*SUMIF('Daily Log'!$BS$18:$BS$1017,$B312,'Daily Log'!$BT$18:$BT$1017),0)","v":0},{"$f":"IFERROR($E312*SUMIF('Daily Log'!$BV$18:$BV$1017,$B312,'Daily Log'!$BW$18:$BW$1017),0)","v":0},{"$f":"IFERROR($E312*SUMIF('Daily Log'!$BY$18:$BY$1017,$B312,'Daily Log'!$BZ$18:$BZ$1017),0)","v":0},{"$f":"IFERROR($E312*SUMIF('Daily Log'!$CB$18:$CB$1017,$B312,'Daily Log'!$CC$18:$CC$1017),0)","v":0},{"$f":"IFERROR($E312*SUMIF('Daily Log'!$CE$18:$CE$1017,$B312,'Daily Log'!$CF$18:$CF$1017),0)","v":0},{"$f":"IFERROR($E312*SUMIF('Daily Log'!$CH$18:$CH$1017,$B312,'Daily Log'!$CI$18:$CI$1017),0)","v":0},{"$f":"IFERROR($E312*SUMIF('Daily Log'!$CK$18:$CK$1017,$B312,'Daily Log'!$CL$18:$CL$1017),0)","v":8},{"$f":"IFERROR($E312*SUMIF('Daily Log'!$CN$18:$CN$1017,$B312,'Daily Log'!$CO$18:$CO$1017),0)","v":0}]
[null,"DF06 ADD SAUCE BUTTER",null,"SAUCE",1,8,{"$f":"IFERROR($E313*SUMIF('Daily Log'!$B$18:$B$1017,$B313,'Daily Log'!$C$18:$C$1017),0)","v":0},{"$f":"IFERROR($E313*SUMIF('Daily Log'!$E$18:$E$1017,$B313,'Daily Log'!$F$18:$F$1017),0)","v":0},{"$f":"IFERROR($E313*SUMIF('Daily Log'!$H$18:$H$1017,$B313,'Daily Log'!$I$18:$I$1017),0)","v":0},{"$f":"IFERROR($E313*SUMIF('Daily Log'!$K$18:$K$1017,$B313,'Daily Log'!$L$18:$L$1017),0)","v":0},{"$f":"IFERROR($E313*SUMIF('Daily Log'!$N$18:$N$1017,$B313,'Daily Log'!$O$18:$O$1017),0)","v":0},{"$f":"IFERROR($E313*SUMIF('Daily Log'!$Q$18:$Q$1017,$B313,'Daily Log'!$R$18:$R$1017),0)","v":0},{"$f":"IFERROR($E313*SUMIF('Daily Log'!$T$18:$T$1017,$B313,'Daily Log'!$U$18:$U$1017),0)","v":0},{"$f":"IFERROR($E313*SUMIF('Daily Log'!$W$18:$W$1017,$B313,'Daily Log'!$X$18:$X$1017),0)","v":0},{"$f":"IFERROR($E313*SUMIF('Daily Log'!$Z$18:$Z$1017,$B313,'Daily Log'!$AA$18:$AA$1017),0)","v":0},{"$f":"IFERROR($E313*SUMIF('Daily Log'!$AC$18:$AC$1017,$B313,'Daily Log'!$AD$18:$AD$1017),0)","v":0},{"$f":"IFERROR($E313*SUMIF('Daily Log'!$AF$18:$AF$1017,$B313,'Daily Log'!$AG$18:$AG$1017),0)","v":0},{"$f":"IFERROR($E313*SUMIF('Daily Log'!$AI$18:$AI$1017,$B313,'Daily Log'!$AJ$18:$AJ$1017),0)","v":0},{"$f":"IFERROR($E313*SUMIF('Daily Log'!$AL$18:$AL$1017,$B313,'Daily Log'!$AM$18:$AM$1017),0)","v":0},{"$f":"IFERROR($E313*SUMIF('Daily Log'!$AO$18:$AO$1017,$B313,'Daily Log'!$AP$18:$AP$1017),0)","v":0},{"$f":"IFERROR($E313*SUMIF('Daily Log'!$AR$18:$AR$1017,$B313,'Daily Log'!$AS$18:$AS$1017),0)","v":0},{"$f":"IFERROR($E313*SUMIF('Daily Log'!$AU$18:$AU$1017,$B313,'Daily Log'!$AV$18:$AV$1017),0)","v":0},{"$f":"IFERROR($E313*SUMIF('Daily Log'!$AX$18:$AX$1017,$B313,'Daily Log'!$AY$18:$AY$1017),0)","v":0},{"$f":"IFERROR($E313*SUMIF('Daily Log'!$BA$18:$BA$1017,$B313,'Daily Log'!$BB$18:$BB$1017),0)","v":0},{"$f":"IFERROR($E313*SUMIF('Daily Log'!$BD$18:$BD$1017,$B313,'Daily Log'!$BE$18:$BE$1017),0)","v":0},{"$f":"IFERROR($E313*SUMIF('Daily Log'!$BG$18:$BG$1017,$B313,'Daily Log'!$BH$18:$BH$1017),0)","v":0},{"$f":"IFERROR($E313*SUMIF('Daily Log'!$BJ$18:$BJ$1017,$B313,'Daily Log'!$BK$18:$BK$1017),0)","v":0},{"$f":"IFERROR($E313*SUMIF('Daily Log'!$BM$18:$BM$1017,$B313,'Daily Log'!$BN$18:$BN$1017),0)","v":0},{"$f":"IFERROR($E313*SUMIF('Daily Log'!$BP$18:$BP$1017,$B313,'Daily Log'!$BQ$18:$BQ$1017),0)","v":0},{"$f":"IFERROR($E313*SUMIF('Daily Log'!$BS$18:$BS$1017,$B313,'Daily Log'!$BT$18:$BT$1017),0)","v":0},{"$f":"IFERROR($E313*SUMIF('Daily Log'!$BV$18:$BV$1017,$B313,'Daily Log'!$BW$18:$BW$1017),0)","v":0},{"$f":"IFERROR($E313*SUMIF('Daily Log'!$BY$18:$BY$1017,$B313,'Daily Log'!$BZ$18:$BZ$1017),0)","v":0},{"$f":"IFERROR($E313*SUMIF('Daily Log'!$CB$18:$CB$1017,$B313,'Daily Log'!$CC$18:$CC$1017),0)","v":0},{"$f":"IFERROR($E313*SUMIF('Daily Log'!$CE$18:$CE$1017,$B313,'Daily Log'!$CF$18:$CF$1017),0)","v":0},{"$f":"IFERROR($E313*SUMIF('Daily Log'!$CH$18:$CH$1017,$B313,'Daily Log'!$CI$18:$CI$1017),0)","v":0},{"$f":"IFERROR($E313*SUMIF('Daily Log'!$CK$18:$CK$1017,$B313,'Daily Log'!$CL$18:$CL$1017),0)","v":8},{"$f":"IFERROR($E313*SUMIF('Daily Log'!$CN$18:$CN$1017,$B313,'Daily Log'!$CO$18:$CO$1017),0)","v":0}]
[null,"DF07 ADD SAUCE C.PADI",null,"SAUCE",1,67,{"$f":"IFERROR($E314*SUMIF('Daily Log'!$B$18:$B$1017,$B314,'Daily Log'!$C$18:$C$1017),0)","v":0},{"$f":"IFERROR($E314*SUMIF('Daily Log'!$E$18:$E$1017,$B314,'Daily Log'!$F$18:$F$1017),0)","v":0},{"$f":"IFERROR($E314*SUMIF('Daily Log'!$H$18:$H$1017,$B314,'Daily Log'!$I$18:$I$1017),0)","v":0},{"$f":"IFERROR($E314*SUMIF('Daily Log'!$K$18:$K$1017,$B314,'Daily Log'!$L$18:$L$1017),0)","v":0},{"$f":"IFERROR($E314*SUMIF('Daily Log'!$N$18:$N$1017,$B314,'Daily Log'!$O$18:$O$1017),0)","v":0},{"$f":"IFERROR($E314*SUMIF('Daily Log'!$Q$18:$Q$1017,$B314,'Daily Log'!$R$18:$R$1017),0)","v":0},{"$f":"IFERROR($E314*SUMIF('Daily Log'!$T$18:$T$1017,$B314,'Daily Log'!$U$18:$U$1017),0)","v":0},{"$f":"IFERROR($E314*SUMIF('Daily Log'!$W$18:$W$1017,$B314,'Daily Log'!$X$18:$X$1017),0)","v":0},{"$f":"IFERROR($E314*SUMIF('Daily Log'!$Z$18:$Z$1017,$B314,'Daily Log'!$AA$18:$AA$1017),0)","v":0},{"$f":"IFERROR($E314*SUMIF('Daily Log'!$AC$18:$AC$1017,$B314,'Daily Log'!$AD$18:$AD$1017),0)","v":0},{"$f":"IFERROR($E314*SUMIF('Daily Log'!$AF$18:$AF$1017,$B314,'Daily Log'!$AG$18:$AG$1017),0)","v":0},{"$f":"IFERROR($E314*SUMIF('Daily Log'!$AI$18:$AI$1017,$B314,'Daily Log'!$AJ$18:$AJ$1017),0)","v":0},{"$f":"IFERROR($E314*SUMIF('Daily Log'!$AL$18:$AL$1017,$B314,'Daily Log'!$AM$18:$AM$1017),0)","v":0},{"$f":"IFERROR($E314*SUMIF('Daily Log'!$AO$18:$AO$1017,$B314,'Daily Log'!$AP$18:$AP$1017),0)","v":0},{"$f":"IFERROR($E314*SUMIF('Daily Log'!$AR$18:$AR$1017,$B314,'Daily Log'!$AS$18:$AS$1017),0)","v":0},{"$f":"IFERROR($E314*SUMIF('Daily Log'!$AU$18:$AU$1017,$B314,'Daily Log'!$AV$18:$AV$1017),0)","v":0},{"$f":"IFERROR($E314*SUMIF('Daily Log'!$AX$18:$AX$1017,$B314,'Daily Log'!$AY$18:$AY$1017),0)","v":0},{"$f":"IFERROR($E314*SUMIF('Daily Log'!$BA$18:$BA$1017,$B314,'Daily Log'!$BB$18:$BB$1017),0)","v":0},{"$f":"IFERROR($E314*SUMIF('Daily Log'!$BD$18:$BD$1017,$B314,'Daily Log'!$BE$18:$BE$1017),0)","v":0},{"$f":"IFERROR($E314*SUMIF('Daily Log'!$BG$18:$BG$1017,$B314,'Daily Log'!$BH$18:$BH$1017),0)","v":0},{"$f":"IFERROR($E314*SUMIF('Daily Log'!$BJ$18:$BJ$1017,$B314,'Daily Log'!$BK$18:$BK$1017),0)","v":0},{"$f":"IFERROR($E314*SUMIF('Daily Log'!$BM$18:$BM$1017,$B314,'Daily Log'!$BN$18:$BN$1017),0)","v":0},{"$f":"IFERROR($E314*SUMIF('Daily Log'!$BP$18:$BP$1017,$B314,'Daily Log'!$BQ$18:$BQ$1017),0)","v":0},{"$f":"IFERROR($E314*SUMIF('Daily Log'!$BS$18:$BS$1017,$B314,'Daily Log'!$BT$18:$BT$1017),0)","v":0},{"$f":"IFERROR($E314*SUMIF('Daily Log'!$BV$18:$BV$1017,$B314,'Daily Log'!$BW$18:$BW$1017),0)","v":0},{"$f":"IFERROR($E314*SUMIF('Daily Log'!$BY$18:$BY$1017,$B314,'Daily Log'!$BZ$18:$BZ$1017),0)","v":0},{"$f":"IFERROR($E314*SUMIF('Daily Log'!$CB$18:$CB$1017,$B314,'Daily Log'!$CC$18:$CC$1017),0)","v":0},{"$f":"IFERROR($E314*SUMIF('Daily Log'!$CE$18:$CE$1017,$B314,'Daily Log'!$CF$18:$CF$1017),0)","v":0},{"$f":"IFERROR($E314*SUMIF('Daily Log'!$CH$18:$CH$1017,$B314,'Daily Log'!$CI$18:$CI$1017),0)","v":0},{"$f":"IFERROR($E314*SUMIF('Daily Log'!$CK$18:$CK$1017,$B314,'Daily Log'!$CL$18:$CL$1017),0)","v":67},{"$f":"IFERROR($E314*SUMIF('Daily Log'!$CN$18:$CN$1017,$B314,'Daily Log'!$CO$18:$CO$1017),0)","v":0}]
[null,"DF08 ADD SAUCE GS",null,"SAUCE",1,1,{"$f":"IFERROR($E315*SUMIF('Daily Log'!$B$18:$B$1017,$B315,'Daily Log'!$C$18:$C$1017),0)","v":0},{"$f":"IFERROR($E315*SUMIF('Daily Log'!$E$18:$E$1017,$B315,'Daily Log'!$F$18:$F$1017),0)","v":0},{"$f":"IFERROR($E315*SUMIF('Daily Log'!$H$18:$H$1017,$B315,'Daily Log'!$I$18:$I$1017),0)","v":0},{"$f":"IFERROR($E315*SUMIF('Daily Log'!$K$18:$K$1017,$B315,'Daily Log'!$L$18:$L$1017),0)","v":0},{"$f":"IFERROR($E315*SUMIF('Daily Log'!$N$18:$N$1017,$B315,'Daily Log'!$O$18:$O$1017),0)","v":0},{"$f":"IFERROR($E315*SUMIF('Daily Log'!$Q$18:$Q$1017,$B315,'Daily Log'!$R$18:$R$1017),0)","v":0},{"$f":"IFERROR($E315*SUMIF('Daily Log'!$T$18:$T$1017,$B315,'Daily Log'!$U$18:$U$1017),0)","v":0},{"$f":"IFERROR($E315*SUMIF('Daily Log'!$W$18:$W$1017,$B315,'Daily Log'!$X$18:$X$1017),0)","v":0},{"$f":"IFERROR($E315*SUMIF('Daily Log'!$Z$18:$Z$1017,$B315,'Daily Log'!$AA$18:$AA$1017),0)","v":0},{"$f":"IFERROR($E315*SUMIF('Daily Log'!$AC$18:$AC$1017,$B315,'Daily Log'!$AD$18:$AD$1017),0)","v":0},{"$f":"IFERROR($E315*SUMIF('Daily Log'!$AF$18:$AF$1017,$B315,'Daily Log'!$AG$18:$AG$1017),0)","v":0},{"$f":"IFERROR($E315*SUMIF('Daily Log'!$AI$18:$AI$1017,$B315,'Daily Log'!$AJ$18:$AJ$1017),0)","v":0},{"$f":"IFERROR($E315*SUMIF('Daily Log'!$AL$18:$AL$1017,$B315,'Daily Log'!$AM$18:$AM$1017),0)","v":0},{"$f":"IFERROR($E315*SUMIF('Daily Log'!$AO$18:$AO$1017,$B315,'Daily Log'!$AP$18:$AP$1017),0)","v":0},{"$f":"IFERROR($E315*SUMIF('Daily Log'!$AR$18:$AR$1017,$B315,'Daily Log'!$AS$18:$AS$1017),0)","v":0},{"$f":"IFERROR($E315*SUMIF('Daily Log'!$AU$18:$AU$1017,$B315,'Daily Log'!$AV$18:$AV$1017),0)","v":0},{"$f":"IFERROR($E315*SUMIF('Daily Log'!$AX$18:$AX$1017,$B315,'Daily Log'!$AY$18:$AY$1017),0)","v":0},{"$f":"IFERROR($E315*SUMIF('Daily Log'!$BA$18:$BA$1017,$B315,'Daily Log'!$BB$18:$BB$1017),0)","v":0},{"$f":"IFERROR($E315*SUMIF('Daily Log'!$BD$18:$BD$1017,$B315,'Daily Log'!$BE$18:$BE$1017),0)","v":0},{"$f":"IFERROR($E315*SUMIF('Daily Log'!$BG$18:$BG$1017,$B315,'Daily Log'!$BH$18:$BH$1017),0)","v":0},{"$f":"IFERROR($E315*SUMIF('Daily Log'!$BJ$18:$BJ$1017,$B315,'Daily Log'!$BK$18:$BK$1017),0)","v":0},{"$f":"IFERROR($E315*SUMIF('Daily Log'!$BM$18:$BM$1017,$B315,'Daily Log'!$BN$18:$BN$1017),0)","v":0},{"$f":"IFERROR($E315*SUMIF('Daily Log'!$BP$18:$BP$1017,$B315,'Daily Log'!$BQ$18:$BQ$1017),0)","v":0},{"$f":"IFERROR($E315*SUMIF('Daily Log'!$BS$18:$BS$1017,$B315,'Daily Log'!$BT$18:$BT$1017),0)","v":0},{"$f":"IFERROR($E315*SUMIF('Daily Log'!$BV$18:$BV$1017,$B315,'Daily Log'!$BW$18:$BW$1017),0)","v":0},{"$f":"IFERROR($E315*SUMIF('Daily Log'!$BY$18:$BY$1017,$B315,'Daily Log'!$BZ$18:$BZ$1017),0)","v":0},{"$f":"IFERROR($E315*SUMIF('Daily Log'!$CB$18:$CB$1017,$B315,'Daily Log'!$CC$18:$CC$1017),0)","v":0},{"$f":"IFERROR($E315*SUMIF('Daily Log'!$CE$18:$CE$1017,$B315,'Daily Log'!$CF$18:$CF$1017),0)","v":0},{"$f":"IFERROR($E315*SUMIF('Daily Log'!$CH$18:$CH$1017,$B315,'Daily Log'!$CI$18:$CI$1017),0)","v":0},{"$f":"IFERROR($E315*SUMIF('Daily Log'!$CK$18:$CK$1017,$B315,'Daily Log'!$CL$18:$CL$1017),0)","v":1},{"$f":"IFERROR($E315*SUMIF('Daily Log'!$CN$18:$CN$1017,$B315,'Daily Log'!$CO$18:$CO$1017),0)","v":0}]
[null,"DF09 ADD SAUCE MAYO",null,"SAUCE",1,79,{"$f":"IFERROR($E316*SUMIF('Daily Log'!$B$18:$B$1017,$B316,'Daily Log'!$C$18:$C$1017),0)","v":0},{"$f":"IFERROR($E316*SUMIF('Daily Log'!$E$18:$E$1017,$B316,'Daily Log'!$F$18:$F$1017),0)","v":0},{"$f":"IFERROR($E316*SUMIF('Daily Log'!$H$18:$H$1017,$B316,'Daily Log'!$I$18:$I$1017),0)","v":0},{"$f":"IFERROR($E316*SUMIF('Daily Log'!$K$18:$K$1017,$B316,'Daily Log'!$L$18:$L$1017),0)","v":0},{"$f":"IFERROR($E316*SUMIF('Daily Log'!$N$18:$N$1017,$B316,'Daily Log'!$O$18:$O$1017),0)","v":0},{"$f":"IFERROR($E316*SUMIF('Daily Log'!$Q$18:$Q$1017,$B316,'Daily Log'!$R$18:$R$1017),0)","v":0},{"$f":"IFERROR($E316*SUMIF('Daily Log'!$T$18:$T$1017,$B316,'Daily Log'!$U$18:$U$1017),0)","v":0},{"$f":"IFERROR($E316*SUMIF('Daily Log'!$W$18:$W$1017,$B316,'Daily Log'!$X$18:$X$1017),0)","v":0},{"$f":"IFERROR($E316*SUMIF('Daily Log'!$Z$18:$Z$1017,$B316,'Daily Log'!$AA$18:$AA$1017),0)","v":0},{"$f":"IFERROR($E316*SUMIF('Daily Log'!$AC$18:$AC$1017,$B316,'Daily Log'!$AD$18:$AD$1017),0)","v":0},{"$f":"IFERROR($E316*SUMIF('Daily Log'!$AF$18:$AF$1017,$B316,'Daily Log'!$AG$18:$AG$1017),0)","v":0},{"$f":"IFERROR($E316*SUMIF('Daily Log'!$AI$18:$AI$1017,$B316,'Daily Log'!$AJ$18:$AJ$1017),0)","v":0},{"$f":"IFERROR($E316*SUMIF('Daily Log'!$AL$18:$AL$1017,$B316,'Daily Log'!$AM$18:$AM$1017),0)","v":0},{"$f":"IFERROR($E316*SUMIF('Daily Log'!$AO$18:$AO$1017,$B316,'Daily Log'!$AP$18:$AP$1017),0)","v":0},{"$f":"IFERROR($E316*SUMIF('Daily Log'!$AR$18:$AR$1017,$B316,'Daily Log'!$AS$18:$AS$1017),0)","v":0},{"$f":"IFERROR($E316*SUMIF('Daily Log'!$AU$18:$AU$1017,$B316,'Daily Log'!$AV$18:$AV$1017),0)","v":0},{"$f":"IFERROR($E316*SUMIF('Daily Log'!$AX$18:$AX$1017,$B316,'Daily Log'!$AY$18:$AY$1017),0)","v":0},{"$f":"IFERROR($E316*SUMIF('Daily Log'!$BA$18:$BA$1017,$B316,'Daily Log'!$BB$18:$BB$1017),0)","v":0},{"$f":"IFERROR($E316*SUMIF('Daily Log'!$BD$18:$BD$1017,$B316,'Daily Log'!$BE$18:$BE$1017),0)","v":0},{"$f":"IFERROR($E316*SUMIF('Daily Log'!$BG$18:$BG$1017,$B316,'Daily Log'!$BH$18:$BH$1017),0)","v":0},{"$f":"IFERROR($E316*SUMIF('Daily Log'!$BJ$18:$BJ$1017,$B316,'Daily Log'!$BK$18:$BK$1017),0)","v":0},{"$f":"IFERROR($E316*SUMIF('Daily Log'!$BM$18:$BM$1017,$B316,'Daily Log'!$BN$18:$BN$1017),0)","v":0},{"$f":"IFERROR($E316*SUMIF('Daily Log'!$BP$18:$BP$1017,$B316,'Daily Log'!$BQ$18:$BQ$1017),0)","v":0},{"$f":"IFERROR($E316*SUMIF('Daily Log'!$BS$18:$BS$1017,$B316,'Daily Log'!$BT$18:$BT$1017),0)","v":0},{"$f":"IFERROR($E316*SUMIF('Daily Log'!$BV$18:$BV$1017,$B316,'Daily Log'!$BW$18:$BW$1017),0)","v":0},{"$f":"IFERROR($E316*SUMIF('Daily Log'!$BY$18:$BY$1017,$B316,'Daily Log'!$BZ$18:$BZ$1017),0)","v":0},{"$f":"IFERROR($E316*SUMIF('Daily Log'!$CB$18:$CB$1017,$B316,'Daily Log'!$CC$18:$CC$1017),0)","v":0},{"$f":"IFERROR($E316*SUMIF('Daily Log'!$CE$18:$CE$1017,$B316,'Daily Log'!$CF$18:$CF$1017),0)","v":0},{"$f":"IFERROR($E316*SUMIF('Daily Log'!$CH$18:$CH$1017,$B316,'Daily Log'!$CI$18:$CI$1017),0)","v":0},{"$f":"IFERROR($E316*SUMIF('Daily Log'!$CK$18:$CK$1017,$B316,'Daily Log'!$CL$18:$CL$1017),0)","v":79},{"$f":"IFERROR($E316*SUMIF('Daily Log'!$CN$18:$CN$1017,$B316,'Daily Log'!$CO$18:$CO$1017),0)","v":0}]
[null,"DF10 ADD SAUCE MMITE",null,"SAUCE",1,0,{"$f":"IFERROR($E317*SUMIF('Daily Log'!$B$18:$B$1017,$B317,'Daily Log'!$C$18:$C$1017),0)","v":0},{"$f":"IFERROR($E317*SUMIF('Daily Log'!$E$18:$E$1017,$B317,'Daily Log'!$F$18:$F$1017),0)","v":0},{"$f":"IFERROR($E317*SUMIF('Daily Log'!$H$18:$H$1017,$B317,'Daily Log'!$I$18:$I$1017),0)","v":0},{"$f":"IFERROR($E317*SUMIF('Daily Log'!$K$18:$K$1017,$B317,'Daily Log'!$L$18:$L$1017),0)","v":0},{"$f":"IFERROR($E317*SUMIF('Daily Log'!$N$18:$N$1017,$B317,'Daily Log'!$O$18:$O$1017),0)","v":0},{"$f":"IFERROR($E317*SUMIF('Daily Log'!$Q$18:$Q$1017,$B317,'Daily Log'!$R$18:$R$1017),0)","v":0},{"$f":"IFERROR($E317*SUMIF('Daily Log'!$T$18:$T$1017,$B317,'Daily Log'!$U$18:$U$1017),0)","v":0},{"$f":"IFERROR($E317*SUMIF('Daily Log'!$W$18:$W$1017,$B317,'Daily Log'!$X$18:$X$1017),0)","v":0},{"$f":"IFERROR($E317*SUMIF('Daily Log'!$Z$18:$Z$1017,$B317,'Daily Log'!$AA$18:$AA$1017),0)","v":0},{"$f":"IFERROR($E317*SUMIF('Daily Log'!$AC$18:$AC$1017,$B317,'Daily Log'!$AD$18:$AD$1017),0)","v":0},{"$f":"IFERROR($E317*SUMIF('Daily Log'!$AF$18:$AF$1017,$B317,'Daily Log'!$AG$18:$AG$1017),0)","v":0},{"$f":"IFERROR($E317*SUMIF('Daily Log'!$AI$18:$AI$1017,$B317,'Daily Log'!$AJ$18:$AJ$1017),0)","v":0},{"$f":"IFERROR($E317*SUMIF('Daily Log'!$AL$18:$AL$1017,$B317,'Daily Log'!$AM$18:$AM$1017),0)","v":0},{"$f":"IFERROR($E317*SUMIF('Daily Log'!$AO$18:$AO$1017,$B317,'Daily Log'!$AP$18:$AP$1017),0)","v":0},{"$f":"IFERROR($E317*SUMIF('Daily Log'!$AR$18:$AR$1017,$B317,'Daily Log'!$AS$18:$AS$1017),0)","v":0},{"$f":"IFERROR($E317*SUMIF('Daily Log'!$AU$18:$AU$1017,$B317,'Daily Log'!$AV$18:$AV$1017),0)","v":0},{"$f":"IFERROR($E317*SUMIF('Daily Log'!$AX$18:$AX$1017,$B317,'Daily Log'!$AY$18:$AY$1017),0)","v":0},{"$f":"IFERROR($E317*SUMIF('Daily Log'!$BA$18:$BA$1017,$B317,'Daily Log'!$BB$18:$BB$1017),0)","v":0},{"$f":"IFERROR($E317*SUMIF('Daily Log'!$BD$18:$BD$1017,$B317,'Daily Log'!$BE$18:$BE$1017),0)","v":0},{"$f":"IFERROR($E317*SUMIF('Daily Log'!$BG$18:$BG$1017,$B317,'Daily Log'!$BH$18:$BH$1017),0)","v":0},{"$f":"IFERROR($E317*SUMIF('Daily Log'!$BJ$18:$BJ$1017,$B317,'Daily Log'!$BK$18:$BK$1017),0)","v":0},{"$f":"IFERROR($E317*SUMIF('Daily Log'!$BM$18:$BM$1017,$B317,'Daily Log'!$BN$18:$BN$1017),0)","v":0},{"$f":"IFERROR($E317*SUMIF('Daily Log'!$BP$18:$BP$1017,$B317,'Daily Log'!$BQ$18:$BQ$1017),0)","v":0},{"$f":"IFERROR($E317*SUMIF('Daily Log'!$BS$18:$BS$1017,$B317,'Daily Log'!$BT$18:$BT$1017),0)","v":0},{"$f":"IFERROR($E317*SUMIF('Daily Log'!$BV$18:$BV$1017,$B317,'Daily Log'!$BW$18:$BW$1017),0)","v":0},{"$f":"IFERROR($E317*SUMIF('Daily Log'!$BY$18:$BY$1017,$B317,'Daily Log'!$BZ$18:$BZ$1017),0)","v":0},{"$f":"IFERROR($E317*SUMIF('Daily Log'!$CB$18:$CB$1017,$B317,'Daily Log'!$CC$18:$CC$1017),0)","v":0},{"$f":"IFERROR($E317*SUMIF('Daily Log'!$CE$18:$CE$1017,$B317,'Daily Log'!$CF$18:$CF$1017),0)","v":0},{"$f":"IFERROR($E317*SUMIF('Daily Log'!$CH$18:$CH$1017,$B317,'Daily Log'!$CI$18:$CI$1017),0)","v":0},{"$f":"IFERROR($E317*SUMIF('Daily Log'!$CK$18:$CK$1017,$B317,'Daily Log'!$CL$18:$CL$1017),0)","v":0},{"$f":"IFERROR($E317*SUMIF('Daily Log'!$CN$18:$CN$1017,$B317,'Daily Log'!$CO$18:$CO$1017),0)","v":0}]
[null,"DF11 ADD SAUCE MR",null,"SAUCE",1,9,{"$f":"IFERROR($E318*SUMIF('Daily Log'!$B$18:$B$1017,$B318,'Daily Log'!$C$18:$C$1017),0)","v":0},{"$f":"IFERROR($E318*SUMIF('Daily Log'!$E$18:$E$1017,$B318,'Daily Log'!$F$18:$F$1017),0)","v":0},{"$f":"IFERROR($E318*SUMIF('Daily Log'!$H$18:$H$1017,$B318,'Daily Log'!$I$18:$I$1017),0)","v":0},{"$f":"IFERROR($E318*SUMIF('Daily Log'!$K$18:$K$1017,$B318,'Daily Log'!$L$18:$L$1017),0)","v":0},{"$f":"IFERROR($E318*SUMIF('Daily Log'!$N$18:$N$1017,$B318,'Daily Log'!$O$18:$O$1017),0)","v":0},{"$f":"IFERROR($E318*SUMIF('Daily Log'!$Q$18:$Q$1017,$B318,'Daily Log'!$R$18:$R$1017),0)","v":0},{"$f":"IFERROR($E318*SUMIF('Daily Log'!$T$18:$T$1017,$B318,'Daily Log'!$U$18:$U$1017),0)","v":0},{"$f":"IFERROR($E318*SUMIF('Daily Log'!$W$18:$W$1017,$B318,'Daily Log'!$X$18:$X$1017),0)","v":0},{"$f":"IFERROR($E318*SUMIF('Daily Log'!$Z$18:$Z$1017,$B318,'Daily Log'!$AA$18:$AA$1017),0)","v":0},{"$f":"IFERROR($E318*SUMIF('Daily Log'!$AC$18:$AC$1017,$B318,'Daily Log'!$AD$18:$AD$1017),0)","v":0},{"$f":"IFERROR($E318*SUMIF('Daily Log'!$AF$18:$AF$1017,$B318,'Daily Log'!$AG$18:$AG$1017),0)","v":0},{"$f":"IFERROR($E318*SUMIF('Daily Log'!$AI$18:$AI$1017,$B318,'Daily Log'!$AJ$18:$AJ$1017),0)","v":0},{"$f":"IFERROR($E318*SUMIF('Daily Log'!$AL$18:$AL$1017,$B318,'Daily Log'!$AM$18:$AM$1017),0)","v":0},{"$f":"IFERROR($E318*SUMIF('Daily Log'!$AO$18:$AO$1017,$B318,'Daily Log'!$AP$18:$AP$1017),0)","v":0},{"$f":"IFERROR($E318*SUMIF('Daily Log'!$AR$18:$AR$1017,$B318,'Daily Log'!$AS$18:$AS$1017),0)","v":0},{"$f":"IFERROR($E318*SUMIF('Daily Log'!$AU$18:$AU$1017,$B318,'Daily Log'!$AV$18:$AV$1017),0)","v":0},{"$f":"IFERROR($E318*SUMIF('Daily Log'!$AX$18:$AX$1017,$B318,'Daily Log'!$AY$18:$AY$1017),0)","v":0},{"$f":"IFERROR($E318*SUMIF('Daily Log'!$BA$18:$BA$1017,$B318,'Daily Log'!$BB$18:$BB$1017),0)","v":0},{"$f":"IFERROR($E318*SUMIF('Daily Log'!$BD$18:$BD$1017,$B318,'Daily Log'!$BE$18:$BE$1017),0)","v":0},{"$f":"IFERROR($E318*SUMIF('Daily Log'!$BG$18:$BG$1017,$B318,'Daily Log'!$BH$18:$BH$1017),0)","v":0},{"$f":"IFERROR($E318*SUMIF('Daily Log'!$BJ$18:$BJ$1017,$B318,'Daily Log'!$BK$18:$BK$1017),0)","v":0},{"$f":"IFERROR($E318*SUMIF('Daily Log'!$BM$18:$BM$1017,$B318,'Daily Log'!$BN$18:$BN$1017),0)","v":0},{"$f":"IFERROR($E318*SUMIF('Daily Log'!$BP$18:$BP$1017,$B318,'Daily Log'!$BQ$18:$BQ$1017),0)","v":0},{"$f":"IFERROR($E318*SUMIF('Daily Log'!$BS$18:$BS$1017,$B318,'Daily Log'!$BT$18:$BT$1017),0)","v":0},{"$f":"IFERROR($E318*SUMIF('Daily Log'!$BV$18:$BV$1017,$B318,'Daily Log'!$BW$18:$BW$1017),0)","v":0},{"$f":"IFERROR($E318*SUMIF('Daily Log'!$BY$18:$BY$1017,$B318,'Daily Log'!$BZ$18:$BZ$1017),0)","v":0},{"$f":"IFERROR($E318*SUMIF('Daily Log'!$CB$18:$CB$1017,$B318,'Daily Log'!$CC$18:$CC$1017),0)","v":0},{"$f":"IFERROR($E318*SUMIF('Daily Log'!$CE$18:$CE$1017,$B318,'Daily Log'!$CF$18:$CF$1017),0)","v":0},{"$f":"IFERROR($E318*SUMIF('Daily Log'!$CH$18:$CH$1017,$B318,'Daily Log'!$CI$18:$CI$1017),0)","v":0},{"$f":"IFERROR($E318*SUMIF('Daily Log'!$CK$18:$CK$1017,$B318,'Daily Log'!$CL$18:$CL$1017),0)","v":9},{"$f":"IFERROR($E318*SUMIF('Daily Log'!$CN$18:$CN$1017,$B318,'Daily Log'!$CO$18:$CO$1017),0)","v":0}]
[null,"DF12 ADD SAUCE SAMBAL",null,"SAUCE",1,25,{"$f":"IFERROR($E319*SUMIF('Daily Log'!$B$18:$B$1017,$B319,'Daily Log'!$C$18:$C$1017),0)","v":0},{"$f":"IFERROR($E319*SUMIF('Daily Log'!$E$18:$E$1017,$B319,'Daily Log'!$F$18:$F$1017),0)","v":0},{"$f":"IFERROR($E319*SUMIF('Daily Log'!$H$18:$H$1017,$B319,'Daily Log'!$I$18:$I$1017),0)","v":0},{"$f":"IFERROR($E319*SUMIF('Daily Log'!$K$18:$K$1017,$B319,'Daily Log'!$L$18:$L$1017),0)","v":0},{"$f":"IFERROR($E319*SUMIF('Daily Log'!$N$18:$N$1017,$B319,'Daily Log'!$O$18:$O$1017),0)","v":0},{"$f":"IFERROR($E319*SUMIF('Daily Log'!$Q$18:$Q$1017,$B319,'Daily Log'!$R$18:$R$1017),0)","v":0},{"$f":"IFERROR($E319*SUMIF('Daily Log'!$T$18:$T$1017,$B319,'Daily Log'!$U$18:$U$1017),0)","v":0},{"$f":"IFERROR($E319*SUMIF('Daily Log'!$W$18:$W$1017,$B319,'Daily Log'!$X$18:$X$1017),0)","v":0},{"$f":"IFERROR($E319*SUMIF('Daily Log'!$Z$18:$Z$1017,$B319,'Daily Log'!$AA$18:$AA$1017),0)","v":0},{"$f":"IFERROR($E319*SUMIF('Daily Log'!$AC$18:$AC$1017,$B319,'Daily Log'!$AD$18:$AD$1017),0)","v":0},{"$f":"IFERROR($E319*SUMIF('Daily Log'!$AF$18:$AF$1017,$B319,'Daily Log'!$AG$18:$AG$1017),0)","v":0},{"$f":"IFERROR($E319*SUMIF('Daily Log'!$AI$18:$AI$1017,$B319,'Daily Log'!$AJ$18:$AJ$1017),0)","v":0},{"$f":"IFERROR($E319*SUMIF('Daily Log'!$AL$18:$AL$1017,$B319,'Daily Log'!$AM$18:$AM$1017),0)","v":0},{"$f":"IFERROR($E319*SUMIF('Daily Log'!$AO$18:$AO$1017,$B319,'Daily Log'!$AP$18:$AP$1017),0)","v":0},{"$f":"IFERROR($E319*SUMIF('Daily Log'!$AR$18:$AR$1017,$B319,'Daily Log'!$AS$18:$AS$1017),0)","v":0},{"$f":"IFERROR($E319*SUMIF('Daily Log'!$AU$18:$AU$1017,$B319,'Daily Log'!$AV$18:$AV$1017),0)","v":0},{"$f":"IFERROR($E319*SUMIF('Daily Log'!$AX$18:$AX$1017,$B319,'Daily Log'!$AY$18:$AY$1017),0)","v":0},{"$f":"IFERROR($E319*SUMIF('Daily Log'!$BA$18:$BA$1017,$B319,'Daily Log'!$BB$18:$BB$1017),0)","v":0},{"$f":"IFERROR($E319*SUMIF('Daily Log'!$BD$18:$BD$1017,$B319,'Daily Log'!$BE$18:$BE$1017),0)","v":0},{"$f":"IFERROR($E319*SUMIF('Daily Log'!$BG$18:$BG$1017,$B319,'Daily Log'!$BH$18:$BH$1017),0)","v":0},{"$f":"IFERROR($E319*SUMIF('Daily Log'!$BJ$18:$BJ$1017,$B319,'Daily Log'!$BK$18:$BK$1017),0)","v":0},{"$f":"IFERROR($E319*SUMIF('Daily Log'!$BM$18:$BM$1017,$B319,'Daily Log'!$BN$18:$BN$1017),0)","v":0},{"$f":"IFERROR($E319*SUMIF('Daily Log'!$BP$18:$BP$1017,$B319,'Daily Log'!$BQ$18:$BQ$1017),0)","v":0},{"$f":"IFERROR($E319*SUMIF('Daily Log'!$BS$18:$BS$1017,$B319,'Daily Log'!$BT$18:$BT$1017),0)","v":0},{"$f":"IFERROR($E319*SUMIF('Daily Log'!$BV$18:$BV$1017,$B319,'Daily Log'!$BW$18:$BW$1017),0)","v":0},{"$f":"IFERROR($E319*SUMIF('Daily Log'!$BY$18:$BY$1017,$B319,'Daily Log'!$BZ$18:$BZ$1017),0)","v":0},{"$f":"IFERROR($E319*SUMIF('Daily Log'!$CB$18:$CB$1017,$B319,'Daily Log'!$CC$18:$CC$1017),0)","v":0},{"$f":"IFERROR($E319*SUMIF('Daily Log'!$CE$18:$CE$1017,$B319,'Daily Log'!$CF$18:$CF$1017),0)","v":0},{"$f":"IFERROR($E319*SUMIF('Daily Log'!$CH$18:$CH$1017,$B319,'Daily Log'!$CI$18:$CI$1017),0)","v":0},{"$f":"IFERROR($E319*SUMIF('Daily Log'!$CK$18:$CK$1017,$B319,'Daily Log'!$CL$18:$CL$1017),0)","v":25},{"$f":"IFERROR($E319*SUMIF('Daily Log'!$CN$18:$CN$1017,$B319,'Daily Log'!$CO$18:$CO$1017),0)","v":0}]
[null,"DF13 ADD SAUCE THAI",null,"SAUCE",1,4,{"$f":"IFERROR($E320*SUMIF('Daily Log'!$B$18:$B$1017,$B320,'Daily Log'!$C$18:$C$1017),0)","v":0},{"$f":"IFERROR($E320*SUMIF('Daily Log'!$E$18:$E$1017,$B320,'Daily Log'!$F$18:$F$1017),0)","v":0},{"$f":"IFERROR($E320*SUMIF('Daily Log'!$H$18:$H$1017,$B320,'Daily Log'!$I$18:$I$1017),0)","v":0},{"$f":"IFERROR($E320*SUMIF('Daily Log'!$K$18:$K$1017,$B320,'Daily Log'!$L$18:$L$1017),0)","v":0},{"$f":"IFERROR($E320*SUMIF('Daily Log'!$N$18:$N$1017,$B320,'Daily Log'!$O$18:$O$1017),0)","v":0},{"$f":"IFERROR($E320*SUMIF('Daily Log'!$Q$18:$Q$1017,$B320,'Daily Log'!$R$18:$R$1017),0)","v":0},{"$f":"IFERROR($E320*SUMIF('Daily Log'!$T$18:$T$1017,$B320,'Daily Log'!$U$18:$U$1017),0)","v":0},{"$f":"IFERROR($E320*SUMIF('Daily Log'!$W$18:$W$1017,$B320,'Daily Log'!$X$18:$X$1017),0)","v":0},{"$f":"IFERROR($E320*SUMIF('Daily Log'!$Z$18:$Z$1017,$B320,'Daily Log'!$AA$18:$AA$1017),0)","v":0},{"$f":"IFERROR($E320*SUMIF('Daily Log'!$AC$18:$AC$1017,$B320,'Daily Log'!$AD$18:$AD$1017),0)","v":0},{"$f":"IFERROR($E320*SUMIF('Daily Log'!$AF$18:$AF$1017,$B320,'Daily Log'!$AG$18:$AG$1017),0)","v":0},{"$f":"IFERROR($E320*SUMIF('Daily Log'!$AI$18:$AI$1017,$B320,'Daily Log'!$AJ$18:$AJ$1017),0)","v":0},{"$f":"IFERROR($E320*SUMIF('Daily Log'!$AL$18:$AL$1017,$B320,'Daily Log'!$AM$18:$AM$1017),0)","v":0},{"$f":"IFERROR($E320*SUMIF('Daily Log'!$AO$18:$AO$1017,$B320,'Daily Log'!$AP$18:$AP$1017),0)","v":0},{"$f":"IFERROR($E320*SUMIF('Daily Log'!$AR$18:$AR$1017,$B320,'Daily Log'!$AS$18:$AS$1017),0)","v":0},{"$f":"IFERROR($E320*SUMIF('Daily Log'!$AU$18:$AU$1017,$B320,'Daily Log'!$AV$18:$AV$1017),0)","v":0},{"$f":"IFERROR($E320*SUMIF('Daily Log'!$AX$18:$AX$1017,$B320,'Daily Log'!$AY$18:$AY$1017),0)","v":0},{"$f":"IFERROR($E320*SUMIF('Daily Log'!$BA$18:$BA$1017,$B320,'Daily Log'!$BB$18:$BB$1017),0)","v":0},{"$f":"IFERROR($E320*SUMIF('Daily Log'!$BD$18:$BD$1017,$B320,'Daily Log'!$BE$18:$BE$1017),0)","v":0},{"$f":"IFERROR($E320*SUMIF('Daily Log'!$BG$18:$BG$1017,$B320,'Daily Log'!$BH$18:$BH$1017),0)","v":0},{"$f":"IFERROR($E320*SUMIF('Daily Log'!$BJ$18:$BJ$1017,$B320,'Daily Log'!$BK$18:$BK$1017),0)","v":0},{"$f":"IFERROR($E320*SUMIF('Daily Log'!$BM$18:$BM$1017,$B320,'Daily Log'!$BN$18:$BN$1017),0)","v":0},{"$f":"IFERROR($E320*SUMIF('Daily Log'!$BP$18:$BP$1017,$B320,'Daily Log'!$BQ$18:$BQ$1017),0)","v":0},{"$f":"IFERROR($E320*SUMIF('Daily Log'!$BS$18:$BS$1017,$B320,'Daily Log'!$BT$18:$BT$1017),0)","v":0},{"$f":"IFERROR($E320*SUMIF('Daily Log'!$BV$18:$BV$1017,$B320,'Daily Log'!$BW$18:$BW$1017),0)","v":0},{"$f":"IFERROR($E320*SUMIF('Daily Log'!$BY$18:$BY$1017,$B320,'Daily Log'!$BZ$18:$BZ$1017),0)","v":0},{"$f":"IFERROR($E320*SUMIF('Daily Log'!$CB$18:$CB$1017,$B320,'Daily Log'!$CC$18:$CC$1017),0)","v":0},{"$f":"IFERROR($E320*SUMIF('Daily Log'!$CE$18:$CE$1017,$B320,'Daily Log'!$CF$18:$CF$1017),0)","v":0},{"$f":"IFERROR($E320*SUMIF('Daily Log'!$CH$18:$CH$1017,$B320,'Daily Log'!$CI$18:$CI$1017),0)","v":0},{"$f":"IFERROR($E320*SUMIF('Daily Log'!$CK$18:$CK$1017,$B320,'Daily Log'!$CL$18:$CL$1017),0)","v":4},{"$f":"IFERROR($E320*SUMIF('Daily Log'!$CN$18:$CN$1017,$B320,'Daily Log'!$CO$18:$CO$1017),0)","v":0}]
[null,"DF14 ADD SAUCE TOMATO",null,"SAUCE",1,36,{"$f":"IFERROR($E321*SUMIF('Daily Log'!$B$18:$B$1017,$B321,'Daily Log'!$C$18:$C$1017),0)","v":0},{"$f":"IFERROR($E321*SUMIF('Daily Log'!$E$18:$E$1017,$B321,'Daily Log'!$F$18:$F$1017),0)","v":0},{"$f":"IFERROR($E321*SUMIF('Daily Log'!$H$18:$H$1017,$B321,'Daily Log'!$I$18:$I$1017),0)","v":0},{"$f":"IFERROR($E321*SUMIF('Daily Log'!$K$18:$K$1017,$B321,'Daily Log'!$L$18:$L$1017),0)","v":0},{"$f":"IFERROR($E321*SUMIF('Daily Log'!$N$18:$N$1017,$B321,'Daily Log'!$O$18:$O$1017),0)","v":0},{"$f":"IFERROR($E321*SUMIF('Daily Log'!$Q$18:$Q$1017,$B321,'Daily Log'!$R$18:$R$1017),0)","v":0},{"$f":"IFERROR($E321*SUMIF('Daily Log'!$T$18:$T$1017,$B321,'Daily Log'!$U$18:$U$1017),0)","v":0},{"$f":"IFERROR($E321*SUMIF('Daily Log'!$W$18:$W$1017,$B321,'Daily Log'!$X$18:$X$1017),0)","v":0},{"$f":"IFERROR($E321*SUMIF('Daily Log'!$Z$18:$Z$1017,$B321,'Daily Log'!$AA$18:$AA$1017),0)","v":0},{"$f":"IFERROR($E321*SUMIF('Daily Log'!$AC$18:$AC$1017,$B321,'Daily Log'!$AD$18:$AD$1017),0)","v":0},{"$f":"IFERROR($E321*SUMIF('Daily Log'!$AF$18:$AF$1017,$B321,'Daily Log'!$AG$18:$AG$1017),0)","v":0},{"$f":"IFERROR($E321*SUMIF('Daily Log'!$AI$18:$AI$1017,$B321,'Daily Log'!$AJ$18:$AJ$1017),0)","v":0},{"$f":"IFERROR($E321*SUMIF('Daily Log'!$AL$18:$AL$1017,$B321,'Daily Log'!$AM$18:$AM$1017),0)","v":0},{"$f":"IFERROR($E321*SUMIF('Daily Log'!$AO$18:$AO$1017,$B321,'Daily Log'!$AP$18:$AP$1017),0)","v":0},{"$f":"IFERROR($E321*SUMIF('Daily Log'!$AR$18:$AR$1017,$B321,'Daily Log'!$AS$18:$AS$1017),0)","v":0},{"$f":"IFERROR($E321*SUMIF('Daily Log'!$AU$18:$AU$1017,$B321,'Daily Log'!$AV$18:$AV$1017),0)","v":0},{"$f":"IFERROR($E321*SUMIF('Daily Log'!$AX$18:$AX$1017,$B321,'Daily Log'!$AY$18:$AY$1017),0)","v":0},{"$f":"IFERROR($E321*SUMIF('Daily Log'!$BA$18:$BA$1017,$B321,'Daily Log'!$BB$18:$BB$1017),0)","v":0},{"$f":"IFERROR($E321*SUMIF('Daily Log'!$BD$18:$BD$1017,$B321,'Daily Log'!$BE$18:$BE$1017),0)","v":0},{"$f":"IFERROR($E321*SUMIF('Daily Log'!$BG$18:$BG$1017,$B321,'Daily Log'!$BH$18:$BH$1017),0)","v":0},{"$f":"IFERROR($E321*SUMIF('Daily Log'!$BJ$18:$BJ$1017,$B321,'Daily Log'!$BK$18:$BK$1017),0)","v":0},{"$f":"IFERROR($E321*SUMIF('Daily Log'!$BM$18:$BM$1017,$B321,'Daily Log'!$BN$18:$BN$1017),0)","v":0},{"$f":"IFERROR($E321*SUMIF('Daily Log'!$BP$18:$BP$1017,$B321,'Daily Log'!$BQ$18:$BQ$1017),0)","v":0},{"$f":"IFERROR($E321*SUMIF('Daily Log'!$BS$18:$BS$1017,$B321,'Daily Log'!$BT$18:$BT$1017),0)","v":0},{"$f":"IFERROR($E321*SUMIF('Daily Log'!$BV$18:$BV$1017,$B321,'Daily Log'!$BW$18:$BW$1017),0)","v":0},{"$f":"IFERROR($E321*SUMIF('Daily Log'!$BY$18:$BY$1017,$B321,'Daily Log'!$BZ$18:$BZ$1017),0)","v":0},{"$f":"IFERROR($E321*SUMIF('Daily Log'!$CB$18:$CB$1017,$B321,'Daily Log'!$CC$18:$CC$1017),0)","v":0},{"$f":"IFERROR($E321*SUMIF('Daily Log'!$CE$18:$CE$1017,$B321,'Daily Log'!$CF$18:$CF$1017),0)","v":0},{"$f":"IFERROR($E321*SUMIF('Daily Log'!$CH$18:$CH$1017,$B321,'Daily Log'!$CI$18:$CI$1017),0)","v":0},{"$f":"IFERROR($E321*SUMIF('Daily Log'!$CK$18:$CK$1017,$B321,'Daily Log'!$CL$18:$CL$1017),0)","v":36},{"$f":"IFERROR($E321*SUMIF('Daily Log'!$CN$18:$CN$1017,$B321,'Daily Log'!$CO$18:$CO$1017),0)","v":0}]
[null,"DF15 ADD TATA SAUCE",null,"SAUCE",1,21,{"$f":"IFERROR($E322*SUMIF('Daily Log'!$B$18:$B$1017,$B322,'Daily Log'!$C$18:$C$1017),0)","v":0},{"$f":"IFERROR($E322*SUMIF('Daily Log'!$E$18:$E$1017,$B322,'Daily Log'!$F$18:$F$1017),0)","v":0},{"$f":"IFERROR($E322*SUMIF('Daily Log'!$H$18:$H$1017,$B322,'Daily Log'!$I$18:$I$1017),0)","v":0},{"$f":"IFERROR($E322*SUMIF('Daily Log'!$K$18:$K$1017,$B322,'Daily Log'!$L$18:$L$1017),0)","v":0},{"$f":"IFERROR($E322*SUMIF('Daily Log'!$N$18:$N$1017,$B322,'Daily Log'!$O$18:$O$1017),0)","v":0},{"$f":"IFERROR($E322*SUMIF('Daily Log'!$Q$18:$Q$1017,$B322,'Daily Log'!$R$18:$R$1017),0)","v":0},{"$f":"IFERROR($E322*SUMIF('Daily Log'!$T$18:$T$1017,$B322,'Daily Log'!$U$18:$U$1017),0)","v":0},{"$f":"IFERROR($E322*SUMIF('Daily Log'!$W$18:$W$1017,$B322,'Daily Log'!$X$18:$X$1017),0)","v":0},{"$f":"IFERROR($E322*SUMIF('Daily Log'!$Z$18:$Z$1017,$B322,'Daily Log'!$AA$18:$AA$1017),0)","v":0},{"$f":"IFERROR($E322*SUMIF('Daily Log'!$AC$18:$AC$1017,$B322,'Daily Log'!$AD$18:$AD$1017),0)","v":0},{"$f":"IFERROR($E322*SUMIF('Daily Log'!$AF$18:$AF$1017,$B322,'Daily Log'!$AG$18:$AG$1017),0)","v":0},{"$f":"IFERROR($E322*SUMIF('Daily Log'!$AI$18:$AI$1017,$B322,'Daily Log'!$AJ$18:$AJ$1017),0)","v":0},{"$f":"IFERROR($E322*SUMIF('Daily Log'!$AL$18:$AL$1017,$B322,'Daily Log'!$AM$18:$AM$1017),0)","v":0},{"$f":"IFERROR($E322*SUMIF('Daily Log'!$AO$18:$AO$1017,$B322,'Daily Log'!$AP$18:$AP$1017),0)","v":0},{"$f":"IFERROR($E322*SUMIF('Daily Log'!$AR$18:$AR$1017,$B322,'Daily Log'!$AS$18:$AS$1017),0)","v":0},{"$f":"IFERROR($E322*SUMIF('Daily Log'!$AU$18:$AU$1017,$B322,'Daily Log'!$AV$18:$AV$1017),0)","v":0},{"$f":"IFERROR($E322*SUMIF('Daily Log'!$AX$18:$AX$1017,$B322,'Daily Log'!$AY$18:$AY$1017),0)","v":0},{"$f":"IFERROR($E322*SUMIF('Daily Log'!$BA$18:$BA$1017,$B322,'Daily Log'!$BB$18:$BB$1017),0)","v":0},{"$f":"IFERROR($E322*SUMIF('Daily Log'!$BD$18:$BD$1017,$B322,'Daily Log'!$BE$18:$BE$1017),0)","v":0},{"$f":"IFERROR($E322*SUMIF('Daily Log'!$BG$18:$BG$1017,$B322,'Daily Log'!$BH$18:$BH$1017),0)","v":0},{"$f":"IFERROR($E322*SUMIF('Daily Log'!$BJ$18:$BJ$1017,$B322,'Daily Log'!$BK$18:$BK$1017),0)","v":0},{"$f":"IFERROR($E322*SUMIF('Daily Log'!$BM$18:$BM$1017,$B322,'Daily Log'!$BN$18:$BN$1017),0)","v":0},{"$f":"IFERROR($E322*SUMIF('Daily Log'!$BP$18:$BP$1017,$B322,'Daily Log'!$BQ$18:$BQ$1017),0)","v":0},{"$f":"IFERROR($E322*SUMIF('Daily Log'!$BS$18:$BS$1017,$B322,'Daily Log'!$BT$18:$BT$1017),0)","v":0},{"$f":"IFERROR($E322*SUMIF('Daily Log'!$BV$18:$BV$1017,$B322,'Daily Log'!$BW$18:$BW$1017),0)","v":0},{"$f":"IFERROR($E322*SUMIF('Daily Log'!$BY$18:$BY$1017,$B322,'Daily Log'!$BZ$18:$BZ$1017),0)","v":0},{"$f":"IFERROR($E322*SUMIF('Daily Log'!$CB$18:$CB$1017,$B322,'Daily Log'!$CC$18:$CC$1017),0)","v":0},{"$f":"IFERROR($E322*SUMIF('Daily Log'!$CE$18:$CE$1017,$B322,'Daily Log'!$CF$18:$CF$1017),0)","v":0},{"$f":"IFERROR($E322*SUMIF('Daily Log'!$CH$18:$CH$1017,$B322,'Daily Log'!$CI$18:$CI$1017),0)","v":0},{"$f":"IFERROR($E322*SUMIF('Daily Log'!$CK$18:$CK$1017,$B322,'Daily Log'!$CL$18:$CL$1017),0)","v":21},{"$f":"IFERROR($E322*SUMIF('Daily Log'!$CN$18:$CN$1017,$B322,'Daily Log'!$CO$18:$CO$1017),0)","v":0}]
[null,"DF16 ADD SAUCE CHEES",null,"SAUCE",1,4,{"$f":"IFERROR($E323*SUMIF('Daily Log'!$B$18:$B$1017,$B323,'Daily Log'!$C$18:$C$1017),0)","v":0},{"$f":"IFERROR($E323*SUMIF('Daily Log'!$E$18:$E$1017,$B323,'Daily Log'!$F$18:$F$1017),0)","v":0},{"$f":"IFERROR($E323*SUMIF('Daily Log'!$H$18:$H$1017,$B323,'Daily Log'!$I$18:$I$1017),0)","v":0},{"$f":"IFERROR($E323*SUMIF('Daily Log'!$K$18:$K$1017,$B323,'Daily Log'!$L$18:$L$1017),0)","v":0},{"$f":"IFERROR($E323*SUMIF('Daily Log'!$N$18:$N$1017,$B323,'Daily Log'!$O$18:$O$1017),0)","v":0},{"$f":"IFERROR($E323*SUMIF('Daily Log'!$Q$18:$Q$1017,$B323,'Daily Log'!$R$18:$R$1017),0)","v":0},{"$f":"IFERROR($E323*SUMIF('Daily Log'!$T$18:$T$1017,$B323,'Daily Log'!$U$18:$U$1017),0)","v":0},{"$f":"IFERROR($E323*SUMIF('Daily Log'!$W$18:$W$1017,$B323,'Daily Log'!$X$18:$X$1017),0)","v":0},{"$f":"IFERROR($E323*SUMIF('Daily Log'!$Z$18:$Z$1017,$B323,'Daily Log'!$AA$18:$AA$1017),0)","v":0},{"$f":"IFERROR($E323*SUMIF('Daily Log'!$AC$18:$AC$1017,$B323,'Daily Log'!$AD$18:$AD$1017),0)","v":0},{"$f":"IFERROR($E323*SUMIF('Daily Log'!$AF$18:$AF$1017,$B323,'Daily Log'!$AG$18:$AG$1017),0)","v":0},{"$f":"IFERROR($E323*SUMIF('Daily Log'!$AI$18:$AI$1017,$B323,'Daily Log'!$AJ$18:$AJ$1017),0)","v":0},{"$f":"IFERROR($E323*SUMIF('Daily Log'!$AL$18:$AL$1017,$B323,'Daily Log'!$AM$18:$AM$1017),0)","v":0},{"$f":"IFERROR($E323*SUMIF('Daily Log'!$AO$18:$AO$1017,$B323,'Daily Log'!$AP$18:$AP$1017),0)","v":0},{"$f":"IFERROR($E323*SUMIF('Daily Log'!$AR$18:$AR$1017,$B323,'Daily Log'!$AS$18:$AS$1017),0)","v":0},{"$f":"IFERROR($E323*SUMIF('Daily Log'!$AU$18:$AU$1017,$B323,'Daily Log'!$AV$18:$AV$1017),0)","v":0},{"$f":"IFERROR($E323*SUMIF('Daily Log'!$AX$18:$AX$1017,$B323,'Daily Log'!$AY$18:$AY$1017),0)","v":0},{"$f":"IFERROR($E323*SUMIF('Daily Log'!$BA$18:$BA$1017,$B323,'Daily Log'!$BB$18:$BB$1017),0)","v":0},{"$f":"IFERROR($E323*SUMIF('Daily Log'!$BD$18:$BD$1017,$B323,'Daily Log'!$BE$18:$BE$1017),0)","v":0},{"$f":"IFERROR($E323*SUMIF('Daily Log'!$BG$18:$BG$1017,$B323,'Daily Log'!$BH$18:$BH$1017),0)","v":0},{"$f":"IFERROR($E323*SUMIF('Daily Log'!$BJ$18:$BJ$1017,$B323,'Daily Log'!$BK$18:$BK$1017),0)","v":0},{"$f":"IFERROR($E323*SUMIF('Daily Log'!$BM$18:$BM$1017,$B323,'Daily Log'!$BN$18:$BN$1017),0)","v":0},{"$f":"IFERROR($E323*SUMIF('Daily Log'!$BP$18:$BP$1017,$B323,'Daily Log'!$BQ$18:$BQ$1017),0)","v":0},{"$f":"IFERROR($E323*SUMIF('Daily Log'!$BS$18:$BS$1017,$B323,'Daily Log'!$BT$18:$BT$1017),0)","v":0},{"$f":"IFERROR($E323*SUMIF('Daily Log'!$BV$18:$BV$1017,$B323,'Daily Log'!$BW$18:$BW$1017),0)","v":0},{"$f":"IFERROR($E323*SUMIF('Daily Log'!$BY$18:$BY$1017,$B323,'Daily Log'!$BZ$18:$BZ$1017),0)","v":0},{"$f":"IFERROR($E323*SUMIF('Daily Log'!$CB$18:$CB$1017,$B323,'Daily Log'!$CC$18:$CC$1017),0)","v":0},{"$f":"IFERROR($E323*SUMIF('Daily Log'!$CE$18:$CE$1017,$B323,'Daily Log'!$CF$18:$CF$1017),0)","v":0},{"$f":"IFERROR($E323*SUMIF('Daily Log'!$CH$18:$CH$1017,$B323,'Daily Log'!$CI$18:$CI$1017),0)","v":0},{"$f":"IFERROR($E323*SUMIF('Daily Log'!$CK$18:$CK$1017,$B323,'Daily Log'!$CL$18:$CL$1017),0)","v":4},{"$f":"IFERROR($E323*SUMIF('Daily Log'!$CN$18:$CN$1017,$B323,'Daily Log'!$CO$18:$CO$1017),0)","v":0}]
[null,"DG01 91001:BP CHK CP",null,"KLKD-WESTERN CRUISE",1,457,{"$f":"IFERROR($E324*SUMIF('Daily Log'!$B$18:$B$1017,$B324,'Daily Log'!$C$18:$C$1017),0)","v":0},{"$f":"IFERROR($E324*SUMIF('Daily Log'!$E$18:$E$1017,$B324,'Daily Log'!$F$18:$F$1017),0)","v":0},{"$f":"IFERROR($E324*SUMIF('Daily Log'!$H$18:$H$1017,$B324,'Daily Log'!$I$18:$I$1017),0)","v":0},{"$f":"IFERROR($E324*SUMIF('Daily Log'!$K$18:$K$1017,$B324,'Daily Log'!$L$18:$L$1017),0)","v":0},{"$f":"IFERROR($E324*SUMIF('Daily Log'!$N$18:$N$1017,$B324,'Daily Log'!$O$18:$O$1017),0)","v":0},{"$f":"IFERROR($E324*SUMIF('Daily Log'!$Q$18:$Q$1017,$B324,'Daily Log'!$R$18:$R$1017),0)","v":0},{"$f":"IFERROR($E324*SUMIF('Daily Log'!$T$18:$T$1017,$B324,'Daily Log'!$U$18:$U$1017),0)","v":0},{"$f":"IFERROR($E324*SUMIF('Daily Log'!$W$18:$W$1017,$B324,'Daily Log'!$X$18:$X$1017),0)","v":0},{"$f":"IFERROR($E324*SUMIF('Daily Log'!$Z$18:$Z$1017,$B324,'Daily Log'!$AA$18:$AA$1017),0)","v":0},{"$f":"IFERROR($E324*SUMIF('Daily Log'!$AC$18:$AC$1017,$B324,'Daily Log'!$AD$18:$AD$1017),0)","v":0},{"$f":"IFERROR($E324*SUMIF('Daily Log'!$AF$18:$AF$1017,$B324,'Daily Log'!$AG$18:$AG$1017),0)","v":0},{"$f":"IFERROR($E324*SUMIF('Daily Log'!$AI$18:$AI$1017,$B324,'Daily Log'!$AJ$18:$AJ$1017),0)","v":0},{"$f":"IFERROR($E324*SUMIF('Daily Log'!$AL$18:$AL$1017,$B324,'Daily Log'!$AM$18:$AM$1017),0)","v":0},{"$f":"IFERROR($E324*SUMIF('Daily Log'!$AO$18:$AO$1017,$B324,'Daily Log'!$AP$18:$AP$1017),0)","v":0},{"$f":"IFERROR($E324*SUMIF('Daily Log'!$AR$18:$AR$1017,$B324,'Daily Log'!$AS$18:$AS$1017),0)","v":0},{"$f":"IFERROR($E324*SUMIF('Daily Log'!$AU$18:$AU$1017,$B324,'Daily Log'!$AV$18:$AV$1017),0)","v":0},{"$f":"IFERROR($E324*SUMIF('Daily Log'!$AX$18:$AX$1017,$B324,'Daily Log'!$AY$18:$AY$1017),0)","v":0},{"$f":"IFERROR($E324*SUMIF('Daily Log'!$BA$18:$BA$1017,$B324,'Daily Log'!$BB$18:$BB$1017),0)","v":0},{"$f":"IFERROR($E324*SUMIF('Daily Log'!$BD$18:$BD$1017,$B324,'Daily Log'!$BE$18:$BE$1017),0)","v":0},{"$f":"IFERROR($E324*SUMIF('Daily Log'!$BG$18:$BG$1017,$B324,'Daily Log'!$BH$18:$BH$1017),0)","v":0},{"$f":"IFERROR($E324*SUMIF('Daily Log'!$BJ$18:$BJ$1017,$B324,'Daily Log'!$BK$18:$BK$1017),0)","v":0},{"$f":"IFERROR($E324*SUMIF('Daily Log'!$BM$18:$BM$1017,$B324,'Daily Log'!$BN$18:$BN$1017),0)","v":0},{"$f":"IFERROR($E324*SUMIF('Daily Log'!$BP$18:$BP$1017,$B324,'Daily Log'!$BQ$18:$BQ$1017),0)","v":0},{"$f":"IFERROR($E324*SUMIF('Daily Log'!$BS$18:$BS$1017,$B324,'Daily Log'!$BT$18:$BT$1017),0)","v":0},{"$f":"IFERROR($E324*SUMIF('Daily Log'!$BV$18:$BV$1017,$B324,'Daily Log'!$BW$18:$BW$1017),0)","v":0},{"$f":"IFERROR($E324*SUMIF('Daily Log'!$BY$18:$BY$1017,$B324,'Daily Log'!$BZ$18:$BZ$1017),0)","v":0},{"$f":"IFERROR($E324*SUMIF('Daily Log'!$CB$18:$CB$1017,$B324,'Daily Log'!$CC$18:$CC$1017),0)","v":0},{"$f":"IFERROR($E324*SUMIF('Daily Log'!$CE$18:$CE$1017,$B324,'Daily Log'!$CF$18:$CF$1017),0)","v":0},{"$f":"IFERROR($E324*SUMIF('Daily Log'!$CH$18:$CH$1017,$B324,'Daily Log'!$CI$18:$CI$1017),0)","v":0},{"$f":"IFERROR($E324*SUMIF('Daily Log'!$CK$18:$CK$1017,$B324,'Daily Log'!$CL$18:$CL$1017),0)","v":457},{"$f":"IFERROR($E324*SUMIF('Daily Log'!$CN$18:$CN$1017,$B324,'Daily Log'!$CO$18:$CO$1017),0)","v":0}]
[null,"DG02 91002:GVY CHK CP",null,"KLKD-WESTERN CRUISE",1,110,{"$f":"IFERROR($E325*SUMIF('Daily Log'!$B$18:$B$1017,$B325,'Daily Log'!$C$18:$C$1017),0)","v":0},{"$f":"IFERROR($E325*SUMIF('Daily Log'!$E$18:$E$1017,$B325,'Daily Log'!$F$18:$F$1017),0)","v":0},{"$f":"IFERROR($E325*SUMIF('Daily Log'!$H$18:$H$1017,$B325,'Daily Log'!$I$18:$I$1017),0)","v":0},{"$f":"IFERROR($E325*SUMIF('Daily Log'!$K$18:$K$1017,$B325,'Daily Log'!$L$18:$L$1017),0)","v":0},{"$f":"IFERROR($E325*SUMIF('Daily Log'!$N$18:$N$1017,$B325,'Daily Log'!$O$18:$O$1017),0)","v":0},{"$f":"IFERROR($E325*SUMIF('Daily Log'!$Q$18:$Q$1017,$B325,'Daily Log'!$R$18:$R$1017),0)","v":0},{"$f":"IFERROR($E325*SUMIF('Daily Log'!$T$18:$T$1017,$B325,'Daily Log'!$U$18:$U$1017),0)","v":0},{"$f":"IFERROR($E325*SUMIF('Daily Log'!$W$18:$W$1017,$B325,'Daily Log'!$X$18:$X$1017),0)","v":0},{"$f":"IFERROR($E325*SUMIF('Daily Log'!$Z$18:$Z$1017,$B325,'Daily Log'!$AA$18:$AA$1017),0)","v":0},{"$f":"IFERROR($E325*SUMIF('Daily Log'!$AC$18:$AC$1017,$B325,'Daily Log'!$AD$18:$AD$1017),0)","v":0},{"$f":"IFERROR($E325*SUMIF('Daily Log'!$AF$18:$AF$1017,$B325,'Daily Log'!$AG$18:$AG$1017),0)","v":0},{"$f":"IFERROR($E325*SUMIF('Daily Log'!$AI$18:$AI$1017,$B325,'Daily Log'!$AJ$18:$AJ$1017),0)","v":0},{"$f":"IFERROR($E325*SUMIF('Daily Log'!$AL$18:$AL$1017,$B325,'Daily Log'!$AM$18:$AM$1017),0)","v":0},{"$f":"IFERROR($E325*SUMIF('Daily Log'!$AO$18:$AO$1017,$B325,'Daily Log'!$AP$18:$AP$1017),0)","v":0},{"$f":"IFERROR($E325*SUMIF('Daily Log'!$AR$18:$AR$1017,$B325,'Daily Log'!$AS$18:$AS$1017),0)","v":0},{"$f":"IFERROR($E325*SUMIF('Daily Log'!$AU$18:$AU$1017,$B325,'Daily Log'!$AV$18:$AV$1017),0)","v":0},{"$f":"IFERROR($E325*SUMIF('Daily Log'!$AX$18:$AX$1017,$B325,'Daily Log'!$AY$18:$AY$1017),0)","v":0},{"$f":"IFERROR($E325*SUMIF('Daily Log'!$BA$18:$BA$1017,$B325,'Daily Log'!$BB$18:$BB$1017),0)","v":0},{"$f":"IFERROR($E325*SUMIF('Daily Log'!$BD$18:$BD$1017,$B325,'Daily Log'!$BE$18:$BE$1017),0)","v":0},{"$f":"IFERROR($E325*SUMIF('Daily Log'!$BG$18:$BG$1017,$B325,'Daily Log'!$BH$18:$BH$1017),0)","v":0},{"$f":"IFERROR($E325*SUMIF('Daily Log'!$BJ$18:$BJ$1017,$B325,'Daily Log'!$BK$18:$BK$1017),0)","v":0},{"$f":"IFERROR($E325*SUMIF('Daily Log'!$BM$18:$BM$1017,$B325,'Daily Log'!$BN$18:$BN$1017),0)","v":0},{"$f":"IFERROR($E325*SUMIF('Daily Log'!$BP$18:$BP$1017,$B325,'Daily Log'!$BQ$18:$BQ$1017),0)","v":0},{"$f":"IFERROR($E325*SUMIF('Daily Log'!$BS$18:$BS$1017,$B325,'Daily Log'!$BT$18:$BT$1017),0)","v":0},{"$f":"IFERROR($E325*SUMIF('Daily Log'!$BV$18:$BV$1017,$B325,'Daily Log'!$BW$18:$BW$1017),0)","v":0},{"$f":"IFERROR($E325*SUMIF('Daily Log'!$BY$18:$BY$1017,$B325,'Daily Log'!$BZ$18:$BZ$1017),0)","v":0},{"$f":"IFERROR($E325*SUMIF('Daily Log'!$CB$18:$CB$1017,$B325,'Daily Log'!$CC$18:$CC$1017),0)","v":0},{"$f":"IFERROR($E325*SUMIF('Daily Log'!$CE$18:$CE$1017,$B325,'Daily Log'!$CF$18:$CF$1017),0)","v":0},{"$f":"IFERROR($E325*SUMIF('Daily Log'!$CH$18:$CH$1017,$B325,'Daily Log'!$CI$18:$CI$1017),0)","v":0},{"$f":"IFERROR($E325*SUMIF('Daily Log'!$CK$18:$CK$1017,$B325,'Daily Log'!$CL$18:$CL$1017),0)","v":110},{"$f":"IFERROR($E325*SUMIF('Daily Log'!$CN$18:$CN$1017,$B325,'Daily Log'!$CO$18:$CO$1017),0)","v":0}]
[null,"DG03 91003:MSR CHK CP",null,"KLKD-WESTERN CRUISE",1,399,{"$f":"IFERROR($E326*SUMIF('Daily Log'!$B$18:$B$1017,$B326,'Daily Log'!$C$18:$C$1017),0)","v":0},{"$f":"IFERROR($E326*SUMIF('Daily Log'!$E$18:$E$1017,$B326,'Daily Log'!$F$18:$F$1017),0)","v":0},{"$f":"IFERROR($E326*SUMIF('Daily Log'!$H$18:$H$1017,$B326,'Daily Log'!$I$18:$I$1017),0)","v":0},{"$f":"IFERROR($E326*SUMIF('Daily Log'!$K$18:$K$1017,$B326,'Daily Log'!$L$18:$L$1017),0)","v":0},{"$f":"IFERROR($E326*SUMIF('Daily Log'!$N$18:$N$1017,$B326,'Daily Log'!$O$18:$O$1017),0)","v":0},{"$f":"IFERROR($E326*SUMIF('Daily Log'!$Q$18:$Q$1017,$B326,'Daily Log'!$R$18:$R$1017),0)","v":0},{"$f":"IFERROR($E326*SUMIF('Daily Log'!$T$18:$T$1017,$B326,'Daily Log'!$U$18:$U$1017),0)","v":0},{"$f":"IFERROR($E326*SUMIF('Daily Log'!$W$18:$W$1017,$B326,'Daily Log'!$X$18:$X$1017),0)","v":0},{"$f":"IFERROR($E326*SUMIF('Daily Log'!$Z$18:$Z$1017,$B326,'Daily Log'!$AA$18:$AA$1017),0)","v":0},{"$f":"IFERROR($E326*SUMIF('Daily Log'!$AC$18:$AC$1017,$B326,'Daily Log'!$AD$18:$AD$1017),0)","v":0},{"$f":"IFERROR($E326*SUMIF('Daily Log'!$AF$18:$AF$1017,$B326,'Daily Log'!$AG$18:$AG$1017),0)","v":0},{"$f":"IFERROR($E326*SUMIF('Daily Log'!$AI$18:$AI$1017,$B326,'Daily Log'!$AJ$18:$AJ$1017),0)","v":0},{"$f":"IFERROR($E326*SUMIF('Daily Log'!$AL$18:$AL$1017,$B326,'Daily Log'!$AM$18:$AM$1017),0)","v":0},{"$f":"IFERROR($E326*SUMIF('Daily Log'!$AO$18:$AO$1017,$B326,'Daily Log'!$AP$18:$AP$1017),0)","v":0},{"$f":"IFERROR($E326*SUMIF('Daily Log'!$AR$18:$AR$1017,$B326,'Daily Log'!$AS$18:$AS$1017),0)","v":0},{"$f":"IFERROR($E326*SUMIF('Daily Log'!$AU$18:$AU$1017,$B326,'Daily Log'!$AV$18:$AV$1017),0)","v":0},{"$f":"IFERROR($E326*SUMIF('Daily Log'!$AX$18:$AX$1017,$B326,'Daily Log'!$AY$18:$AY$1017),0)","v":0},{"$f":"IFERROR($E326*SUMIF('Daily Log'!$BA$18:$BA$1017,$B326,'Daily Log'!$BB$18:$BB$1017),0)","v":0},{"$f":"IFERROR($E326*SUMIF('Daily Log'!$BD$18:$BD$1017,$B326,'Daily Log'!$BE$18:$BE$1017),0)","v":0},{"$f":"IFERROR($E326*SUMIF('Daily Log'!$BG$18:$BG$1017,$B326,'Daily Log'!$BH$18:$BH$1017),0)","v":0},{"$f":"IFERROR($E326*SUMIF('Daily Log'!$BJ$18:$BJ$1017,$B326,'Daily Log'!$BK$18:$BK$1017),0)","v":0},{"$f":"IFERROR($E326*SUMIF('Daily Log'!$BM$18:$BM$1017,$B326,'Daily Log'!$BN$18:$BN$1017),0)","v":0},{"$f":"IFERROR($E326*SUMIF('Daily Log'!$BP$18:$BP$1017,$B326,'Daily Log'!$BQ$18:$BQ$1017),0)","v":0},{"$f":"IFERROR($E326*SUMIF('Daily Log'!$BS$18:$BS$1017,$B326,'Daily Log'!$BT$18:$BT$1017),0)","v":0},{"$f":"IFERROR($E326*SUMIF('Daily Log'!$BV$18:$BV$1017,$B326,'Daily Log'!$BW$18:$BW$1017),0)","v":0},{"$f":"IFERROR($E326*SUMIF('Daily Log'!$BY$18:$BY$1017,$B326,'Daily Log'!$BZ$18:$BZ$1017),0)","v":0},{"$f":"IFERROR($E326*SUMIF('Daily Log'!$CB$18:$CB$1017,$B326,'Daily Log'!$CC$18:$CC$1017),0)","v":0},{"$f":"IFERROR($E326*SUMIF('Daily Log'!$CE$18:$CE$1017,$B326,'Daily Log'!$CF$18:$CF$1017),0)","v":0},{"$f":"IFERROR($E326*SUMIF('Daily Log'!$CH$18:$CH$1017,$B326,'Daily Log'!$CI$18:$CI$1017),0)","v":0},{"$f":"IFERROR($E326*SUMIF('Daily Log'!$CK$18:$CK$1017,$B326,'Daily Log'!$CL$18:$CL$1017),0)","v":399},{"$f":"IFERROR($E326*SUMIF('Daily Log'!$CN$18:$CN$1017,$B326,'Daily Log'!$CO$18:$CO$1017),0)","v":0}]
[null,"DG04 91004:CKN MARY",null,"KLKD-WESTERN CRUISE",1,299,{"$f":"IFERROR($E327*SUMIF('Daily Log'!$B$18:$B$1017,$B327,'Daily Log'!$C$18:$C$1017),0)","v":0},{"$f":"IFERROR($E327*SUMIF('Daily Log'!$E$18:$E$1017,$B327,'Daily Log'!$F$18:$F$1017),0)","v":0},{"$f":"IFERROR($E327*SUMIF('Daily Log'!$H$18:$H$1017,$B327,'Daily Log'!$I$18:$I$1017),0)","v":0},{"$f":"IFERROR($E327*SUMIF('Daily Log'!$K$18:$K$1017,$B327,'Daily Log'!$L$18:$L$1017),0)","v":0},{"$f":"IFERROR($E327*SUMIF('Daily Log'!$N$18:$N$1017,$B327,'Daily Log'!$O$18:$O$1017),0)","v":0},{"$f":"IFERROR($E327*SUMIF('Daily Log'!$Q$18:$Q$1017,$B327,'Daily Log'!$R$18:$R$1017),0)","v":0},{"$f":"IFERROR($E327*SUMIF('Daily Log'!$T$18:$T$1017,$B327,'Daily Log'!$U$18:$U$1017),0)","v":0},{"$f":"IFERROR($E327*SUMIF('Daily Log'!$W$18:$W$1017,$B327,'Daily Log'!$X$18:$X$1017),0)","v":0},{"$f":"IFERROR($E327*SUMIF('Daily Log'!$Z$18:$Z$1017,$B327,'Daily Log'!$AA$18:$AA$1017),0)","v":0},{"$f":"IFERROR($E327*SUMIF('Daily Log'!$AC$18:$AC$1017,$B327,'Daily Log'!$AD$18:$AD$1017),0)","v":0},{"$f":"IFERROR($E327*SUMIF('Daily Log'!$AF$18:$AF$1017,$B327,'Daily Log'!$AG$18:$AG$1017),0)","v":0},{"$f":"IFERROR($E327*SUMIF('Daily Log'!$AI$18:$AI$1017,$B327,'Daily Log'!$AJ$18:$AJ$1017),0)","v":0},{"$f":"IFERROR($E327*SUMIF('Daily Log'!$AL$18:$AL$1017,$B327,'Daily Log'!$AM$18:$AM$1017),0)","v":0},{"$f":"IFERROR($E327*SUMIF('Daily Log'!$AO$18:$AO$1017,$B327,'Daily Log'!$AP$18:$AP$1017),0)","v":0},{"$f":"IFERROR($E327*SUMIF('Daily Log'!$AR$18:$AR$1017,$B327,'Daily Log'!$AS$18:$AS$1017),0)","v":0},{"$f":"IFERROR($E327*SUMIF('Daily Log'!$AU$18:$AU$1017,$B327,'Daily Log'!$AV$18:$AV$1017),0)","v":0},{"$f":"IFERROR($E327*SUMIF('Daily Log'!$AX$18:$AX$1017,$B327,'Daily Log'!$AY$18:$AY$1017),0)","v":0},{"$f":"IFERROR($E327*SUMIF('Daily Log'!$BA$18:$BA$1017,$B327,'Daily Log'!$BB$18:$BB$1017),0)","v":0},{"$f":"IFERROR($E327*SUMIF('Daily Log'!$BD$18:$BD$1017,$B327,'Daily Log'!$BE$18:$BE$1017),0)","v":0},{"$f":"IFERROR($E327*SUMIF('Daily Log'!$BG$18:$BG$1017,$B327,'Daily Log'!$BH$18:$BH$1017),0)","v":0},{"$f":"IFERROR($E327*SUMIF('Daily Log'!$BJ$18:$BJ$1017,$B327,'Daily Log'!$BK$18:$BK$1017),0)","v":0},{"$f":"IFERROR($E327*SUMIF('Daily Log'!$BM$18:$BM$1017,$B327,'Daily Log'!$BN$18:$BN$1017),0)","v":0},{"$f":"IFERROR($E327*SUMIF('Daily Log'!$BP$18:$BP$1017,$B327,'Daily Log'!$BQ$18:$BQ$1017),0)","v":0},{"$f":"IFERROR($E327*SUMIF('Daily Log'!$BS$18:$BS$1017,$B327,'Daily Log'!$BT$18:$BT$1017),0)","v":0},{"$f":"IFERROR($E327*SUMIF('Daily Log'!$BV$18:$BV$1017,$B327,'Daily Log'!$BW$18:$BW$1017),0)","v":0},{"$f":"IFERROR($E327*SUMIF('Daily Log'!$BY$18:$BY$1017,$B327,'Daily Log'!$BZ$18:$BZ$1017),0)","v":0},{"$f":"IFERROR($E327*SUMIF('Daily Log'!$CB$18:$CB$1017,$B327,'Daily Log'!$CC$18:$CC$1017),0)","v":0},{"$f":"IFERROR($E327*SUMIF('Daily Log'!$CE$18:$CE$1017,$B327,'Daily Log'!$CF$18:$CF$1017),0)","v":0},{"$f":"IFERROR($E327*SUMIF('Daily Log'!$CH$18:$CH$1017,$B327,'Daily Log'!$CI$18:$CI$1017),0)","v":0},{"$f":"IFERROR($E327*SUMIF('Daily Log'!$CK$18:$CK$1017,$B327,'Daily Log'!$CL$18:$CL$1017),0)","v":299},{"$f":"IFERROR($E327*SUMIF('Daily Log'!$CN$18:$CN$1017,$B327,'Daily Log'!$CO$18:$CO$1017),0)","v":0}]
[null,"DG05 91005:FISH&CHIP",null,"KLKD-WESTERN CRUISE",1,518,{"$f":"IFERROR($E328*SUMIF('Daily Log'!$B$18:$B$1017,$B328,'Daily Log'!$C$18:$C$1017),0)","v":0},{"$f":"IFERROR($E328*SUMIF('Daily Log'!$E$18:$E$1017,$B328,'Daily Log'!$F$18:$F$1017),0)","v":0},{"$f":"IFERROR($E328*SUMIF('Daily Log'!$H$18:$H$1017,$B328,'Daily Log'!$I$18:$I$1017),0)","v":0},{"$f":"IFERROR($E328*SUMIF('Daily Log'!$K$18:$K$1017,$B328,'Daily Log'!$L$18:$L$1017),0)","v":0},{"$f":"IFERROR($E328*SUMIF('Daily Log'!$N$18:$N$1017,$B328,'Daily Log'!$O$18:$O$1017),0)","v":0},{"$f":"IFERROR($E328*SUMIF('Daily Log'!$Q$18:$Q$1017,$B328,'Daily Log'!$R$18:$R$1017),0)","v":0},{"$f":"IFERROR($E328*SUMIF('Daily Log'!$T$18:$T$1017,$B328,'Daily Log'!$U$18:$U$1017),0)","v":0},{"$f":"IFERROR($E328*SUMIF('Daily Log'!$W$18:$W$1017,$B328,'Daily Log'!$X$18:$X$1017),0)","v":0},{"$f":"IFERROR($E328*SUMIF('Daily Log'!$Z$18:$Z$1017,$B328,'Daily Log'!$AA$18:$AA$1017),0)","v":0},{"$f":"IFERROR($E328*SUMIF('Daily Log'!$AC$18:$AC$1017,$B328,'Daily Log'!$AD$18:$AD$1017),0)","v":0},{"$f":"IFERROR($E328*SUMIF('Daily Log'!$AF$18:$AF$1017,$B328,'Daily Log'!$AG$18:$AG$1017),0)","v":0},{"$f":"IFERROR($E328*SUMIF('Daily Log'!$AI$18:$AI$1017,$B328,'Daily Log'!$AJ$18:$AJ$1017),0)","v":0},{"$f":"IFERROR($E328*SUMIF('Daily Log'!$AL$18:$AL$1017,$B328,'Daily Log'!$AM$18:$AM$1017),0)","v":0},{"$f":"IFERROR($E328*SUMIF('Daily Log'!$AO$18:$AO$1017,$B328,'Daily Log'!$AP$18:$AP$1017),0)","v":0},{"$f":"IFERROR($E328*SUMIF('Daily Log'!$AR$18:$AR$1017,$B328,'Daily Log'!$AS$18:$AS$1017),0)","v":0},{"$f":"IFERROR($E328*SUMIF('Daily Log'!$AU$18:$AU$1017,$B328,'Daily Log'!$AV$18:$AV$1017),0)","v":0},{"$f":"IFERROR($E328*SUMIF('Daily Log'!$AX$18:$AX$1017,$B328,'Daily Log'!$AY$18:$AY$1017),0)","v":0},{"$f":"IFERROR($E328*SUMIF('Daily Log'!$BA$18:$BA$1017,$B328,'Daily Log'!$BB$18:$BB$1017),0)","v":0},{"$f":"IFERROR($E328*SUMIF('Daily Log'!$BD$18:$BD$1017,$B328,'Daily Log'!$BE$18:$BE$1017),0)","v":0},{"$f":"IFERROR($E328*SUMIF('Daily Log'!$BG$18:$BG$1017,$B328,'Daily Log'!$BH$18:$BH$1017),0)","v":0},{"$f":"IFERROR($E328*SUMIF('Daily Log'!$BJ$18:$BJ$1017,$B328,'Daily Log'!$BK$18:$BK$1017),0)","v":0},{"$f":"IFERROR($E328*SUMIF('Daily Log'!$BM$18:$BM$1017,$B328,'Daily Log'!$BN$18:$BN$1017),0)","v":0},{"$f":"IFERROR($E328*SUMIF('Daily Log'!$BP$18:$BP$1017,$B328,'Daily Log'!$BQ$18:$BQ$1017),0)","v":0},{"$f":"IFERROR($E328*SUMIF('Daily Log'!$BS$18:$BS$1017,$B328,'Daily Log'!$BT$18:$BT$1017),0)","v":0},{"$f":"IFERROR($E328*SUMIF('Daily Log'!$BV$18:$BV$1017,$B328,'Daily Log'!$BW$18:$BW$1017),0)","v":0},{"$f":"IFERROR($E328*SUMIF('Daily Log'!$BY$18:$BY$1017,$B328,'Daily Log'!$BZ$18:$BZ$1017),0)","v":0},{"$f":"IFERROR($E328*SUMIF('Daily Log'!$CB$18:$CB$1017,$B328,'Daily Log'!$CC$18:$CC$1017),0)","v":0},{"$f":"IFERROR($E328*SUMIF('Daily Log'!$CE$18:$CE$1017,$B328,'Daily Log'!$CF$18:$CF$1017),0)","v":0},{"$f":"IFERROR($E328*SUMIF('Daily Log'!$CH$18:$CH$1017,$B328,'Daily Log'!$CI$18:$CI$1017),0)","v":0},{"$f":"IFERROR($E328*SUMIF('Daily Log'!$CK$18:$CK$1017,$B328,'Daily Log'!$CL$18:$CL$1017),0)","v":518},{"$f":"IFERROR($E328*SUMIF('Daily Log'!$CN$18:$CN$1017,$B328,'Daily Log'!$CO$18:$CO$1017),0)","v":0}]
[null,"DG06 91006:SPAGHETTI",null,"KLKD-WESTERN CRUISE",1,201,{"$f":"IFERROR($E329*SUMIF('Daily Log'!$B$18:$B$1017,$B329,'Daily Log'!$C$18:$C$1017),0)","v":0},{"$f":"IFERROR($E329*SUMIF('Daily Log'!$E$18:$E$1017,$B329,'Daily Log'!$F$18:$F$1017),0)","v":0},{"$f":"IFERROR($E329*SUMIF('Daily Log'!$H$18:$H$1017,$B329,'Daily Log'!$I$18:$I$1017),0)","v":0},{"$f":"IFERROR($E329*SUMIF('Daily Log'!$K$18:$K$1017,$B329,'Daily Log'!$L$18:$L$1017),0)","v":0},{"$f":"IFERROR($E329*SUMIF('Daily Log'!$N$18:$N$1017,$B329,'Daily Log'!$O$18:$O$1017),0)","v":0},{"$f":"IFERROR($E329*SUMIF('Daily Log'!$Q$18:$Q$1017,$B329,'Daily Log'!$R$18:$R$1017),0)","v":0},{"$f":"IFERROR($E329*SUMIF('Daily Log'!$T$18:$T$1017,$B329,'Daily Log'!$U$18:$U$1017),0)","v":0},{"$f":"IFERROR($E329*SUMIF('Daily Log'!$W$18:$W$1017,$B329,'Daily Log'!$X$18:$X$1017),0)","v":0},{"$f":"IFERROR($E329*SUMIF('Daily Log'!$Z$18:$Z$1017,$B329,'Daily Log'!$AA$18:$AA$1017),0)","v":0},{"$f":"IFERROR($E329*SUMIF('Daily Log'!$AC$18:$AC$1017,$B329,'Daily Log'!$AD$18:$AD$1017),0)","v":0},{"$f":"IFERROR($E329*SUMIF('Daily Log'!$AF$18:$AF$1017,$B329,'Daily Log'!$AG$18:$AG$1017),0)","v":0},{"$f":"IFERROR($E329*SUMIF('Daily Log'!$AI$18:$AI$1017,$B329,'Daily Log'!$AJ$18:$AJ$1017),0)","v":0},{"$f":"IFERROR($E329*SUMIF('Daily Log'!$AL$18:$AL$1017,$B329,'Daily Log'!$AM$18:$AM$1017),0)","v":0},{"$f":"IFERROR($E329*SUMIF('Daily Log'!$AO$18:$AO$1017,$B329,'Daily Log'!$AP$18:$AP$1017),0)","v":0},{"$f":"IFERROR($E329*SUMIF('Daily Log'!$AR$18:$AR$1017,$B329,'Daily Log'!$AS$18:$AS$1017),0)","v":0},{"$f":"IFERROR($E329*SUMIF('Daily Log'!$AU$18:$AU$1017,$B329,'Daily Log'!$AV$18:$AV$1017),0)","v":0},{"$f":"IFERROR($E329*SUMIF('Daily Log'!$AX$18:$AX$1017,$B329,'Daily Log'!$AY$18:$AY$1017),0)","v":0},{"$f":"IFERROR($E329*SUMIF('Daily Log'!$BA$18:$BA$1017,$B329,'Daily Log'!$BB$18:$BB$1017),0)","v":0},{"$f":"IFERROR($E329*SUMIF('Daily Log'!$BD$18:$BD$1017,$B329,'Daily Log'!$BE$18:$BE$1017),0)","v":0},{"$f":"IFERROR($E329*SUMIF('Daily Log'!$BG$18:$BG$1017,$B329,'Daily Log'!$BH$18:$BH$1017),0)","v":0},{"$f":"IFERROR($E329*SUMIF('Daily Log'!$BJ$18:$BJ$1017,$B329,'Daily Log'!$BK$18:$BK$1017),0)","v":0},{"$f":"IFERROR($E329*SUMIF('Daily Log'!$BM$18:$BM$1017,$B329,'Daily Log'!$BN$18:$BN$1017),0)","v":0},{"$f":"IFERROR($E329*SUMIF('Daily Log'!$BP$18:$BP$1017,$B329,'Daily Log'!$BQ$18:$BQ$1017),0)","v":0},{"$f":"IFERROR($E329*SUMIF('Daily Log'!$BS$18:$BS$1017,$B329,'Daily Log'!$BT$18:$BT$1017),0)","v":0},{"$f":"IFERROR($E329*SUMIF('Daily Log'!$BV$18:$BV$1017,$B329,'Daily Log'!$BW$18:$BW$1017),0)","v":0},{"$f":"IFERROR($E329*SUMIF('Daily Log'!$BY$18:$BY$1017,$B329,'Daily Log'!$BZ$18:$BZ$1017),0)","v":0},{"$f":"IFERROR($E329*SUMIF('Daily Log'!$CB$18:$CB$1017,$B329,'Daily Log'!$CC$18:$CC$1017),0)","v":0},{"$f":"IFERROR($E329*SUMIF('Daily Log'!$CE$18:$CE$1017,$B329,'Daily Log'!$CF$18:$CF$1017),0)","v":0},{"$f":"IFERROR($E329*SUMIF('Daily Log'!$CH$18:$CH$1017,$B329,'Daily Log'!$CI$18:$CI$1017),0)","v":0},{"$f":"IFERROR($E329*SUMIF('Daily Log'!$CK$18:$CK$1017,$B329,'Daily Log'!$CL$18:$CL$1017),0)","v":201},{"$f":"IFERROR($E329*SUMIF('Daily Log'!$CN$18:$CN$1017,$B329,'Daily Log'!$CO$18:$CO$1017),0)","v":0}]
[null,"DG07 91007:CHK SALAD",null,"KLKD-WESTERN CRUISE",1,126,{"$f":"IFERROR($E330*SUMIF('Daily Log'!$B$18:$B$1017,$B330,'Daily Log'!$C$18:$C$1017),0)","v":0},{"$f":"IFERROR($E330*SUMIF('Daily Log'!$E$18:$E$1017,$B330,'Daily Log'!$F$18:$F$1017),0)","v":0},{"$f":"IFERROR($E330*SUMIF('Daily Log'!$H$18:$H$1017,$B330,'Daily Log'!$I$18:$I$1017),0)","v":0},{"$f":"IFERROR($E330*SUMIF('Daily Log'!$K$18:$K$1017,$B330,'Daily Log'!$L$18:$L$1017),0)","v":0},{"$f":"IFERROR($E330*SUMIF('Daily Log'!$N$18:$N$1017,$B330,'Daily Log'!$O$18:$O$1017),0)","v":0},{"$f":"IFERROR($E330*SUMIF('Daily Log'!$Q$18:$Q$1017,$B330,'Daily Log'!$R$18:$R$1017),0)","v":0},{"$f":"IFERROR($E330*SUMIF('Daily Log'!$T$18:$T$1017,$B330,'Daily Log'!$U$18:$U$1017),0)","v":0},{"$f":"IFERROR($E330*SUMIF('Daily Log'!$W$18:$W$1017,$B330,'Daily Log'!$X$18:$X$1017),0)","v":0},{"$f":"IFERROR($E330*SUMIF('Daily Log'!$Z$18:$Z$1017,$B330,'Daily Log'!$AA$18:$AA$1017),0)","v":0},{"$f":"IFERROR($E330*SUMIF('Daily Log'!$AC$18:$AC$1017,$B330,'Daily Log'!$AD$18:$AD$1017),0)","v":0},{"$f":"IFERROR($E330*SUMIF('Daily Log'!$AF$18:$AF$1017,$B330,'Daily Log'!$AG$18:$AG$1017),0)","v":0},{"$f":"IFERROR($E330*SUMIF('Daily Log'!$AI$18:$AI$1017,$B330,'Daily Log'!$AJ$18:$AJ$1017),0)","v":0},{"$f":"IFERROR($E330*SUMIF('Daily Log'!$AL$18:$AL$1017,$B330,'Daily Log'!$AM$18:$AM$1017),0)","v":0},{"$f":"IFERROR($E330*SUMIF('Daily Log'!$AO$18:$AO$1017,$B330,'Daily Log'!$AP$18:$AP$1017),0)","v":0},{"$f":"IFERROR($E330*SUMIF('Daily Log'!$AR$18:$AR$1017,$B330,'Daily Log'!$AS$18:$AS$1017),0)","v":0},{"$f":"IFERROR($E330*SUMIF('Daily Log'!$AU$18:$AU$1017,$B330,'Daily Log'!$AV$18:$AV$1017),0)","v":0},{"$f":"IFERROR($E330*SUMIF('Daily Log'!$AX$18:$AX$1017,$B330,'Daily Log'!$AY$18:$AY$1017),0)","v":0},{"$f":"IFERROR($E330*SUMIF('Daily Log'!$BA$18:$BA$1017,$B330,'Daily Log'!$BB$18:$BB$1017),0)","v":0},{"$f":"IFERROR($E330*SUMIF('Daily Log'!$BD$18:$BD$1017,$B330,'Daily Log'!$BE$18:$BE$1017),0)","v":0},{"$f":"IFERROR($E330*SUMIF('Daily Log'!$BG$18:$BG$1017,$B330,'Daily Log'!$BH$18:$BH$1017),0)","v":0},{"$f":"IFERROR($E330*SUMIF('Daily Log'!$BJ$18:$BJ$1017,$B330,'Daily Log'!$BK$18:$BK$1017),0)","v":0},{"$f":"IFERROR($E330*SUMIF('Daily Log'!$BM$18:$BM$1017,$B330,'Daily Log'!$BN$18:$BN$1017),0)","v":0},{"$f":"IFERROR($E330*SUMIF('Daily Log'!$BP$18:$BP$1017,$B330,'Daily Log'!$BQ$18:$BQ$1017),0)","v":0},{"$f":"IFERROR($E330*SUMIF('Daily Log'!$BS$18:$BS$1017,$B330,'Daily Log'!$BT$18:$BT$1017),0)","v":0},{"$f":"IFERROR($E330*SUMIF('Daily Log'!$BV$18:$BV$1017,$B330,'Daily Log'!$BW$18:$BW$1017),0)","v":0},{"$f":"IFERROR($E330*SUMIF('Daily Log'!$BY$18:$BY$1017,$B330,'Daily Log'!$BZ$18:$BZ$1017),0)","v":0},{"$f":"IFERROR($E330*SUMIF('Daily Log'!$CB$18:$CB$1017,$B330,'Daily Log'!$CC$18:$CC$1017),0)","v":0},{"$f":"IFERROR($E330*SUMIF('Daily Log'!$CE$18:$CE$1017,$B330,'Daily Log'!$CF$18:$CF$1017),0)","v":0},{"$f":"IFERROR($E330*SUMIF('Daily Log'!$CH$18:$CH$1017,$B330,'Daily Log'!$CI$18:$CI$1017),0)","v":0},{"$f":"IFERROR($E330*SUMIF('Daily Log'!$CK$18:$CK$1017,$B330,'Daily Log'!$CL$18:$CL$1017),0)","v":126},{"$f":"IFERROR($E330*SUMIF('Daily Log'!$CN$18:$CN$1017,$B330,'Daily Log'!$CO$18:$CO$1017),0)","v":0}]
[null,"DH01 91101:THAI CHK",null,"KLKD-LOCAL DELIGHTS",1,205,{"$f":"IFERROR($E331*SUMIF('Daily Log'!$B$18:$B$1017,$B331,'Daily Log'!$C$18:$C$1017),0)","v":0},{"$f":"IFERROR($E331*SUMIF('Daily Log'!$E$18:$E$1017,$B331,'Daily Log'!$F$18:$F$1017),0)","v":0},{"$f":"IFERROR($E331*SUMIF('Daily Log'!$H$18:$H$1017,$B331,'Daily Log'!$I$18:$I$1017),0)","v":0},{"$f":"IFERROR($E331*SUMIF('Daily Log'!$K$18:$K$1017,$B331,'Daily Log'!$L$18:$L$1017),0)","v":0},{"$f":"IFERROR($E331*SUMIF('Daily Log'!$N$18:$N$1017,$B331,'Daily Log'!$O$18:$O$1017),0)","v":0},{"$f":"IFERROR($E331*SUMIF('Daily Log'!$Q$18:$Q$1017,$B331,'Daily Log'!$R$18:$R$1017),0)","v":0},{"$f":"IFERROR($E331*SUMIF('Daily Log'!$T$18:$T$1017,$B331,'Daily Log'!$U$18:$U$1017),0)","v":0},{"$f":"IFERROR($E331*SUMIF('Daily Log'!$W$18:$W$1017,$B331,'Daily Log'!$X$18:$X$1017),0)","v":0},{"$f":"IFERROR($E331*SUMIF('Daily Log'!$Z$18:$Z$1017,$B331,'Daily Log'!$AA$18:$AA$1017),0)","v":0},{"$f":"IFERROR($E331*SUMIF('Daily Log'!$AC$18:$AC$1017,$B331,'Daily Log'!$AD$18:$AD$1017),0)","v":0},{"$f":"IFERROR($E331*SUMIF('Daily Log'!$AF$18:$AF$1017,$B331,'Daily Log'!$AG$18:$AG$1017),0)","v":0},{"$f":"IFERROR($E331*SUMIF('Daily Log'!$AI$18:$AI$1017,$B331,'Daily Log'!$AJ$18:$AJ$1017),0)","v":0},{"$f":"IFERROR($E331*SUMIF('Daily Log'!$AL$18:$AL$1017,$B331,'Daily Log'!$AM$18:$AM$1017),0)","v":0},{"$f":"IFERROR($E331*SUMIF('Daily Log'!$AO$18:$AO$1017,$B331,'Daily Log'!$AP$18:$AP$1017),0)","v":0},{"$f":"IFERROR($E331*SUMIF('Daily Log'!$AR$18:$AR$1017,$B331,'Daily Log'!$AS$18:$AS$1017),0)","v":0},{"$f":"IFERROR($E331*SUMIF('Daily Log'!$AU$18:$AU$1017,$B331,'Daily Log'!$AV$18:$AV$1017),0)","v":0},{"$f":"IFERROR($E331*SUMIF('Daily Log'!$AX$18:$AX$1017,$B331,'Daily Log'!$AY$18:$AY$1017),0)","v":0},{"$f":"IFERROR($E331*SUMIF('Daily Log'!$BA$18:$BA$1017,$B331,'Daily Log'!$BB$18:$BB$1017),0)","v":0},{"$f":"IFERROR($E331*SUMIF('Daily Log'!$BD$18:$BD$1017,$B331,'Daily Log'!$BE$18:$BE$1017),0)","v":0},{"$f":"IFERROR($E331*SUMIF('Daily Log'!$BG$18:$BG$1017,$B331,'Daily Log'!$BH$18:$BH$1017),0)","v":0},{"$f":"IFERROR($E331*SUMIF('Daily Log'!$BJ$18:$BJ$1017,$B331,'Daily Log'!$BK$18:$BK$1017),0)","v":0},{"$f":"IFERROR($E331*SUMIF('Daily Log'!$BM$18:$BM$1017,$B331,'Daily Log'!$BN$18:$BN$1017),0)","v":0},{"$f":"IFERROR($E331*SUMIF('Daily Log'!$BP$18:$BP$1017,$B331,'Daily Log'!$BQ$18:$BQ$1017),0)","v":0},{"$f":"IFERROR($E331*SUMIF('Daily Log'!$BS$18:$BS$1017,$B331,'Daily Log'!$BT$18:$BT$1017),0)","v":0},{"$f":"IFERROR($E331*SUMIF('Daily Log'!$BV$18:$BV$1017,$B331,'Daily Log'!$BW$18:$BW$1017),0)","v":0},{"$f":"IFERROR($E331*SUMIF('Daily Log'!$BY$18:$BY$1017,$B331,'Daily Log'!$BZ$18:$BZ$1017),0)","v":0},{"$f":"IFERROR($E331*SUMIF('Daily Log'!$CB$18:$CB$1017,$B331,'Daily Log'!$CC$18:$CC$1017),0)","v":0},{"$f":"IFERROR($E331*SUMIF('Daily Log'!$CE$18:$CE$1017,$B331,'Daily Log'!$CF$18:$CF$1017),0)","v":0},{"$f":"IFERROR($E331*SUMIF('Daily Log'!$CH$18:$CH$1017,$B331,'Daily Log'!$CI$18:$CI$1017),0)","v":0},{"$f":"IFERROR($E331*SUMIF('Daily Log'!$CK$18:$CK$1017,$B331,'Daily Log'!$CL$18:$CL$1017),0)","v":205},{"$f":"IFERROR($E331*SUMIF('Daily Log'!$CN$18:$CN$1017,$B331,'Daily Log'!$CO$18:$CO$1017),0)","v":0}]
[null,"DH02 91102:MAMITE CHK",null,"KLKD-LOCAL DELIGHTS",1,176,{"$f":"IFERROR($E332*SUMIF('Daily Log'!$B$18:$B$1017,$B332,'Daily Log'!$C$18:$C$1017),0)","v":0},{"$f":"IFERROR($E332*SUMIF('Daily Log'!$E$18:$E$1017,$B332,'Daily Log'!$F$18:$F$1017),0)","v":0},{"$f":"IFERROR($E332*SUMIF('Daily Log'!$H$18:$H$1017,$B332,'Daily Log'!$I$18:$I$1017),0)","v":0},{"$f":"IFERROR($E332*SUMIF('Daily Log'!$K$18:$K$1017,$B332,'Daily Log'!$L$18:$L$1017),0)","v":0},{"$f":"IFERROR($E332*SUMIF('Daily Log'!$N$18:$N$1017,$B332,'Daily Log'!$O$18:$O$1017),0)","v":0},{"$f":"IFERROR($E332*SUMIF('Daily Log'!$Q$18:$Q$1017,$B332,'Daily Log'!$R$18:$R$1017),0)","v":0},{"$f":"IFERROR($E332*SUMIF('Daily Log'!$T$18:$T$1017,$B332,'Daily Log'!$U$18:$U$1017),0)","v":0},{"$f":"IFERROR($E332*SUMIF('Daily Log'!$W$18:$W$1017,$B332,'Daily Log'!$X$18:$X$1017),0)","v":0},{"$f":"IFERROR($E332*SUMIF('Daily Log'!$Z$18:$Z$1017,$B332,'Daily Log'!$AA$18:$AA$1017),0)","v":0},{"$f":"IFERROR($E332*SUMIF('Daily Log'!$AC$18:$AC$1017,$B332,'Daily Log'!$AD$18:$AD$1017),0)","v":0},{"$f":"IFERROR($E332*SUMIF('Daily Log'!$AF$18:$AF$1017,$B332,'Daily Log'!$AG$18:$AG$1017),0)","v":0},{"$f":"IFERROR($E332*SUMIF('Daily Log'!$AI$18:$AI$1017,$B332,'Daily Log'!$AJ$18:$AJ$1017),0)","v":0},{"$f":"IFERROR($E332*SUMIF('Daily Log'!$AL$18:$AL$1017,$B332,'Daily Log'!$AM$18:$AM$1017),0)","v":0},{"$f":"IFERROR($E332*SUMIF('Daily Log'!$AO$18:$AO$1017,$B332,'Daily Log'!$AP$18:$AP$1017),0)","v":0},{"$f":"IFERROR($E332*SUMIF('Daily Log'!$AR$18:$AR$1017,$B332,'Daily Log'!$AS$18:$AS$1017),0)","v":0},{"$f":"IFERROR($E332*SUMIF('Daily Log'!$AU$18:$AU$1017,$B332,'Daily Log'!$AV$18:$AV$1017),0)","v":0},{"$f":"IFERROR($E332*SUMIF('Daily Log'!$AX$18:$AX$1017,$B332,'Daily Log'!$AY$18:$AY$1017),0)","v":0},{"$f":"IFERROR($E332*SUMIF('Daily Log'!$BA$18:$BA$1017,$B332,'Daily Log'!$BB$18:$BB$1017),0)","v":0},{"$f":"IFERROR($E332*SUMIF('Daily Log'!$BD$18:$BD$1017,$B332,'Daily Log'!$BE$18:$BE$1017),0)","v":0},{"$f":"IFERROR($E332*SUMIF('Daily Log'!$BG$18:$BG$1017,$B332,'Daily Log'!$BH$18:$BH$1017),0)","v":0},{"$f":"IFERROR($E332*SUMIF('Daily Log'!$BJ$18:$BJ$1017,$B332,'Daily Log'!$BK$18:$BK$1017),0)","v":0},{"$f":"IFERROR($E332*SUMIF('Daily Log'!$BM$18:$BM$1017,$B332,'Daily Log'!$BN$18:$BN$1017),0)","v":0},{"$f":"IFERROR($E332*SUMIF('Daily Log'!$BP$18:$BP$1017,$B332,'Daily Log'!$BQ$18:$BQ$1017),0)","v":0},{"$f":"IFERROR($E332*SUMIF('Daily Log'!$BS$18:$BS$1017,$B332,'Daily Log'!$BT$18:$BT$1017),0)","v":0},{"$f":"IFERROR($E332*SUMIF('Daily Log'!$BV$18:$BV$1017,$B332,'Daily Log'!$BW$18:$BW$1017),0)","v":0},{"$f":"IFERROR($E332*SUMIF('Daily Log'!$BY$18:$BY$1017,$B332,'Daily Log'!$BZ$18:$BZ$1017),0)","v":0},{"$f":"IFERROR($E332*SUMIF('Daily Log'!$CB$18:$CB$1017,$B332,'Daily Log'!$CC$18:$CC$1017),0)","v":0},{"$f":"IFERROR($E332*SUMIF('Daily Log'!$CE$18:$CE$1017,$B332,'Daily Log'!$CF$18:$CF$1017),0)","v":0},{"$f":"IFERROR($E332*SUMIF('Daily Log'!$CH$18:$CH$1017,$B332,'Daily Log'!$CI$18:$CI$1017),0)","v":0},{"$f":"IFERROR($E332*SUMIF('Daily Log'!$CK$18:$CK$1017,$B332,'Daily Log'!$CL$18:$CL$1017),0)","v":176},{"$f":"IFERROR($E332*SUMIF('Daily Log'!$CN$18:$CN$1017,$B332,'Daily Log'!$CO$18:$CO$1017),0)","v":0}]
[null,"DH03 91103:KO PO CHK",null,"KLKD-LOCAL DELIGHTS",1,81,{"$f":"IFERROR($E333*SUMIF('Daily Log'!$B$18:$B$1017,$B333,'Daily Log'!$C$18:$C$1017),0)","v":0},{"$f":"IFERROR($E333*SUMIF('Daily Log'!$E$18:$E$1017,$B333,'Daily Log'!$F$18:$F$1017),0)","v":0},{"$f":"IFERROR($E333*SUMIF('Daily Log'!$H$18:$H$1017,$B333,'Daily Log'!$I$18:$I$1017),0)","v":0},{"$f":"IFERROR($E333*SUMIF('Daily Log'!$K$18:$K$1017,$B333,'Daily Log'!$L$18:$L$1017),0)","v":0},{"$f":"IFERROR($E333*SUMIF('Daily Log'!$N$18:$N$1017,$B333,'Daily Log'!$O$18:$O$1017),0)","v":0},{"$f":"IFERROR($E333*SUMIF('Daily Log'!$Q$18:$Q$1017,$B333,'Daily Log'!$R$18:$R$1017),0)","v":0},{"$f":"IFERROR($E333*SUMIF('Daily Log'!$T$18:$T$1017,$B333,'Daily Log'!$U$18:$U$1017),0)","v":0},{"$f":"IFERROR($E333*SUMIF('Daily Log'!$W$18:$W$1017,$B333,'Daily Log'!$X$18:$X$1017),0)","v":0},{"$f":"IFERROR($E333*SUMIF('Daily Log'!$Z$18:$Z$1017,$B333,'Daily Log'!$AA$18:$AA$1017),0)","v":0},{"$f":"IFERROR($E333*SUMIF('Daily Log'!$AC$18:$AC$1017,$B333,'Daily Log'!$AD$18:$AD$1017),0)","v":0},{"$f":"IFERROR($E333*SUMIF('Daily Log'!$AF$18:$AF$1017,$B333,'Daily Log'!$AG$18:$AG$1017),0)","v":0},{"$f":"IFERROR($E333*SUMIF('Daily Log'!$AI$18:$AI$1017,$B333,'Daily Log'!$AJ$18:$AJ$1017),0)","v":0},{"$f":"IFERROR($E333*SUMIF('Daily Log'!$AL$18:$AL$1017,$B333,'Daily Log'!$AM$18:$AM$1017),0)","v":0},{"$f":"IFERROR($E333*SUMIF('Daily Log'!$AO$18:$AO$1017,$B333,'Daily Log'!$AP$18:$AP$1017),0)","v":0},{"$f":"IFERROR($E333*SUMIF('Daily Log'!$AR$18:$AR$1017,$B333,'Daily Log'!$AS$18:$AS$1017),0)","v":0},{"$f":"IFERROR($E333*SUMIF('Daily Log'!$AU$18:$AU$1017,$B333,'Daily Log'!$AV$18:$AV$1017),0)","v":0},{"$f":"IFERROR($E333*SUMIF('Daily Log'!$AX$18:$AX$1017,$B333,'Daily Log'!$AY$18:$AY$1017),0)","v":0},{"$f":"IFERROR($E333*SUMIF('Daily Log'!$BA$18:$BA$1017,$B333,'Daily Log'!$BB$18:$BB$1017),0)","v":0},{"$f":"IFERROR($E333*SUMIF('Daily Log'!$BD$18:$BD$1017,$B333,'Daily Log'!$BE$18:$BE$1017),0)","v":0},{"$f":"IFERROR($E333*SUMIF('Daily Log'!$BG$18:$BG$1017,$B333,'Daily Log'!$BH$18:$BH$1017),0)","v":0},{"$f":"IFERROR($E333*SUMIF('Daily Log'!$BJ$18:$BJ$1017,$B333,'Daily Log'!$BK$18:$BK$1017),0)","v":0},{"$f":"IFERROR($E333*SUMIF('Daily Log'!$BM$18:$BM$1017,$B333,'Daily Log'!$BN$18:$BN$1017),0)","v":0},{"$f":"IFERROR($E333*SUMIF('Daily Log'!$BP$18:$BP$1017,$B333,'Daily Log'!$BQ$18:$BQ$1017),0)","v":0},{"$f":"IFERROR($E333*SUMIF('Daily Log'!$BS$18:$BS$1017,$B333,'Daily Log'!$BT$18:$BT$1017),0)","v":0},{"$f":"IFERROR($E333*SUMIF('Daily Log'!$BV$18:$BV$1017,$B333,'Daily Log'!$BW$18:$BW$1017),0)","v":0},{"$f":"IFERROR($E333*SUMIF('Daily Log'!$BY$18:$BY$1017,$B333,'Daily Log'!$BZ$18:$BZ$1017),0)","v":0},{"$f":"IFERROR($E333*SUMIF('Daily Log'!$CB$18:$CB$1017,$B333,'Daily Log'!$CC$18:$CC$1017),0)","v":0},{"$f":"IFERROR($E333*SUMIF('Daily Log'!$CE$18:$CE$1017,$B333,'Daily Log'!$CF$18:$CF$1017),0)","v":0},{"$f":"IFERROR($E333*SUMIF('Daily Log'!$CH$18:$CH$1017,$B333,'Daily Log'!$CI$18:$CI$1017),0)","v":0},{"$f":"IFERROR($E333*SUMIF('Daily Log'!$CK$18:$CK$1017,$B333,'Daily Log'!$CL$18:$CL$1017),0)","v":81},{"$f":"IFERROR($E333*SUMIF('Daily Log'!$CN$18:$CN$1017,$B333,'Daily Log'!$CO$18:$CO$1017),0)","v":0}]
[null,"DH04 91104:S&S CHK",null,"KLKD-LOCAL DELIGHTS",1,{"$f":"SUM($G334:$AK334)","v":69},{"$f":"IFERROR($E334*SUMIF('Daily Log'!$B$18:$B$1017,$B334,'Daily Log'!$C$18:$C$1017),0)","v":0},{"$f":"IFERROR($E334*SUMIF('Daily Log'!$E$18:$E$1017,$B334,'Daily Log'!$F$18:$F$1017),0)","v":0},{"$f":"IFERROR($E334*SUMIF('Daily Log'!$H$18:$H$1017,$B334,'Daily Log'!$I$18:$I$1017),0)","v":0},{"$f":"IFERROR($E334*SUMIF('Daily Log'!$K$18:$K$1017,$B334,'Daily Log'!$L$18:$L$1017),0)","v":0},{"$f":"IFERROR($E334*SUMIF('Daily Log'!$N$18:$N$1017,$B334,'Daily Log'!$O$18:$O$1017),0)","v":0},{"$f":"IFERROR($E334*SUMIF('Daily Log'!$Q$18:$Q$1017,$B334,'Daily Log'!$R$18:$R$1017),0)","v":0},{"$f":"IFERROR($E334*SUMIF('Daily Log'!$T$18:$T$1017,$B334,'Daily Log'!$U$18:$U$1017),0)","v":0},{"$f":"IFERROR($E334*SUMIF('Daily Log'!$W$18:$W$1017,$B334,'Daily Log'!$X$18:$X$1017),0)","v":0},{"$f":"IFERROR($E334*SUMIF('Daily Log'!$Z$18:$Z$1017,$B334,'Daily Log'!$AA$18:$AA$1017),0)","v":0},{"$f":"IFERROR($E334*SUMIF('Daily Log'!$AC$18:$AC$1017,$B334,'Daily Log'!$AD$18:$AD$1017),0)","v":0},{"$f":"IFERROR($E334*SUMIF('Daily Log'!$AF$18:$AF$1017,$B334,'Daily Log'!$AG$18:$AG$1017),0)","v":0},{"$f":"IFERROR($E334*SUMIF('Daily Log'!$AI$18:$AI$1017,$B334,'Daily Log'!$AJ$18:$AJ$1017),0)","v":0},{"$f":"IFERROR($E334*SUMIF('Daily Log'!$AL$18:$AL$1017,$B334,'Daily Log'!$AM$18:$AM$1017),0)","v":0},{"$f":"IFERROR($E334*SUMIF('Daily Log'!$AO$18:$AO$1017,$B334,'Daily Log'!$AP$18:$AP$1017),0)","v":0},{"$f":"IFERROR($E334*SUMIF('Daily Log'!$AR$18:$AR$1017,$B334,'Daily Log'!$AS$18:$AS$1017),0)","v":0},{"$f":"IFERROR($E334*SUMIF('Daily Log'!$AU$18:$AU$1017,$B334,'Daily Log'!$AV$18:$AV$1017),0)","v":0},{"$f":"IFERROR($E334*SUMIF('Daily Log'!$AX$18:$AX$1017,$B334,'Daily Log'!$AY$18:$AY$1017),0)","v":0},{"$f":"IFERROR($E334*SUMIF('Daily Log'!$BA$18:$BA$1017,$B334,'Daily Log'!$BB$18:$BB$1017),0)","v":0},{"$f":"IFERROR($E334*SUMIF('Daily Log'!$BD$18:$BD$1017,$B334,'Daily Log'!$BE$18:$BE$1017),0)","v":0},{"$f":"IFERROR($E334*SUMIF('Daily Log'!$BG$18:$BG$1017,$B334,'Daily Log'!$BH$18:$BH$1017),0)","v":0},{"$f":"IFERROR($E334*SUMIF('Daily Log'!$BJ$18:$BJ$1017,$B334,'Daily Log'!$BK$18:$BK$1017),0)","v":0},{"$f":"IFERROR($E334*SUMIF('Daily Log'!$BM$18:$BM$1017,$B334,'Daily Log'!$BN$18:$BN$1017),0)","v":0},{"$f":"IFERROR($E334*SUMIF('Daily Log'!$BP$18:$BP$1017,$B334,'Daily Log'!$BQ$18:$BQ$1017),0)","v":0},{"$f":"IFERROR($E334*SUMIF('Daily Log'!$BS$18:$BS$1017,$B334,'Daily Log'!$BT$18:$BT$1017),0)","v":0},{"$f":"IFERROR($E334*SUMIF('Daily Log'!$BV$18:$BV$1017,$B334,'Daily Log'!$BW$18:$BW$1017),0)","v":0},{"$f":"IFERROR($E334*SUMIF('Daily Log'!$BY$18:$BY$1017,$B334,'Daily Log'!$BZ$18:$BZ$1017),0)","v":0},{"$f":"IFERROR($E334*SUMIF('Daily Log'!$CB$18:$CB$1017,$B334,'Daily Log'!$CC$18:$CC$1017),0)","v":0},{"$f":"IFERROR($E334*SUMIF('Daily Log'!$CE$18:$CE$1017,$B334,'Daily Log'!$CF$18:$CF$1017),0)","v":0},{"$f":"IFERROR($E334*SUMIF('Daily Log'!$CH$18:$CH$1017,$B334,'Daily Log'!$CI$18:$CI$1017),0)","v":0},{"$f":"IFERROR($E334*SUMIF('Daily Log'!$CK$18:$CK$1017,$B334,'Daily Log'!$CL$18:$CL$1017),0)","v":69},{"$f":"IFERROR($E334*SUMIF('Daily Log'!$CN$18:$CN$1017,$B334,'Daily Log'!$CO$18:$CO$1017),0)","v":0}]
[null,"DH05 91105:BUTTER CHK",null,"KLKD-LOCAL DELIGHTS",1,317,{"$f":"IFERROR($E335*SUMIF('Daily Log'!$B$18:$B$1017,$B335,'Daily Log'!$C$18:$C$1017),0)","v":0},{"$f":"IFERROR($E335*SUMIF('Daily Log'!$E$18:$E$1017,$B335,'Daily Log'!$F$18:$F$1017),0)","v":0},{"$f":"IFERROR($E335*SUMIF('Daily Log'!$H$18:$H$1017,$B335,'Daily Log'!$I$18:$I$1017),0)","v":0},{"$f":"IFERROR($E335*SUMIF('Daily Log'!$K$18:$K$1017,$B335,'Daily Log'!$L$18:$L$1017),0)","v":0},{"$f":"IFERROR($E335*SUMIF('Daily Log'!$N$18:$N$1017,$B335,'Daily Log'!$O$18:$O$1017),0)","v":0},{"$f":"IFERROR($E335*SUMIF('Daily Log'!$Q$18:$Q$1017,$B335,'Daily Log'!$R$18:$R$1017),0)","v":0},{"$f":"IFERROR($E335*SUMIF('Daily Log'!$T$18:$T$1017,$B335,'Daily Log'!$U$18:$U$1017),0)","v":0},{"$f":"IFERROR($E335*SUMIF('Daily Log'!$W$18:$W$1017,$B335,'Daily Log'!$X$18:$X$1017),0)","v":0},{"$f":"IFERROR($E335*SUMIF('Daily Log'!$Z$18:$Z$1017,$B335,'Daily Log'!$AA$18:$AA$1017),0)","v":0},{"$f":"IFERROR($E335*SUMIF('Daily Log'!$AC$18:$AC$1017,$B335,'Daily Log'!$AD$18:$AD$1017),0)","v":0},{"$f":"IFERROR($E335*SUMIF('Daily Log'!$AF$18:$AF$1017,$B335,'Daily Log'!$AG$18:$AG$1017),0)","v":0},{"$f":"IFERROR($E335*SUMIF('Daily Log'!$AI$18:$AI$1017,$B335,'Daily Log'!$AJ$18:$AJ$1017),0)","v":0},{"$f":"IFERROR($E335*SUMIF('Daily Log'!$AL$18:$AL$1017,$B335,'Daily Log'!$AM$18:$AM$1017),0)","v":0},{"$f":"IFERROR($E335*SUMIF('Daily Log'!$AO$18:$AO$1017,$B335,'Daily Log'!$AP$18:$AP$1017),0)","v":0},{"$f":"IFERROR($E335*SUMIF('Daily Log'!$AR$18:$AR$1017,$B335,'Daily Log'!$AS$18:$AS$1017),0)","v":0},{"$f":"IFERROR($E335*SUMIF('Daily Log'!$AU$18:$AU$1017,$B335,'Daily Log'!$AV$18:$AV$1017),0)","v":0},{"$f":"IFERROR($E335*SUMIF('Daily Log'!$AX$18:$AX$1017,$B335,'Daily Log'!$AY$18:$AY$1017),0)","v":0},{"$f":"IFERROR($E335*SUMIF('Daily Log'!$BA$18:$BA$1017,$B335,'Daily Log'!$BB$18:$BB$1017),0)","v":0},{"$f":"IFERROR($E335*SUMIF('Daily Log'!$BD$18:$BD$1017,$B335,'Daily Log'!$BE$18:$BE$1017),0)","v":0},{"$f":"IFERROR($E335*SUMIF('Daily Log'!$BG$18:$BG$1017,$B335,'Daily Log'!$BH$18:$BH$1017),0)","v":0},{"$f":"IFERROR($E335*SUMIF('Daily Log'!$BJ$18:$BJ$1017,$B335,'Daily Log'!$BK$18:$BK$1017),0)","v":0},{"$f":"IFERROR($E335*SUMIF('Daily Log'!$BM$18:$BM$1017,$B335,'Daily Log'!$BN$18:$BN$1017),0)","v":0},{"$f":"IFERROR($E335*SUMIF('Daily Log'!$BP$18:$BP$1017,$B335,'Daily Log'!$BQ$18:$BQ$1017),0)","v":0},{"$f":"IFERROR($E335*SUMIF('Daily Log'!$BS$18:$BS$1017,$B335,'Daily Log'!$BT$18:$BT$1017),0)","v":0},{"$f":"IFERROR($E335*SUMIF('Daily Log'!$BV$18:$BV$1017,$B335,'Daily Log'!$BW$18:$BW$1017),0)","v":0},{"$f":"IFERROR($E335*SUMIF('Daily Log'!$BY$18:$BY$1017,$B335,'Daily Log'!$BZ$18:$BZ$1017),0)","v":0},{"$f":"IFERROR($E335*SUMIF('Daily Log'!$CB$18:$CB$1017,$B335,'Daily Log'!$CC$18:$CC$1017),0)","v":0},{"$f":"IFERROR($E335*SUMIF('Daily Log'!$CE$18:$CE$1017,$B335,'Daily Log'!$CF$18:$CF$1017),0)","v":0},{"$f":"IFERROR($E335*SUMIF('Daily Log'!$CH$18:$CH$1017,$B335,'Daily Log'!$CI$18:$CI$1017),0)","v":0},{"$f":"IFERROR($E335*SUMIF('Daily Log'!$CK$18:$CK$1017,$B335,'Daily Log'!$CL$18:$CL$1017),0)","v":317},{"$f":"IFERROR($E335*SUMIF('Daily Log'!$CN$18:$CN$1017,$B335,'Daily Log'!$CO$18:$CO$1017),0)","v":0}]
[null,"DH06 91106:HK F.RICE",null,"KLKD-LOCAL DELIGHTS",1,140,{"$f":"IFERROR($E336*SUMIF('Daily Log'!$B$18:$B$1017,$B336,'Daily Log'!$C$18:$C$1017),0)","v":0},{"$f":"IFERROR($E336*SUMIF('Daily Log'!$E$18:$E$1017,$B336,'Daily Log'!$F$18:$F$1017),0)","v":0},{"$f":"IFERROR($E336*SUMIF('Daily Log'!$H$18:$H$1017,$B336,'Daily Log'!$I$18:$I$1017),0)","v":0},{"$f":"IFERROR($E336*SUMIF('Daily Log'!$K$18:$K$1017,$B336,'Daily Log'!$L$18:$L$1017),0)","v":0},{"$f":"IFERROR($E336*SUMIF('Daily Log'!$N$18:$N$1017,$B336,'Daily Log'!$O$18:$O$1017),0)","v":0},{"$f":"IFERROR($E336*SUMIF('Daily Log'!$Q$18:$Q$1017,$B336,'Daily Log'!$R$18:$R$1017),0)","v":0},{"$f":"IFERROR($E336*SUMIF('Daily Log'!$T$18:$T$1017,$B336,'Daily Log'!$U$18:$U$1017),0)","v":0},{"$f":"IFERROR($E336*SUMIF('Daily Log'!$W$18:$W$1017,$B336,'Daily Log'!$X$18:$X$1017),0)","v":0},{"$f":"IFERROR($E336*SUMIF('Daily Log'!$Z$18:$Z$1017,$B336,'Daily Log'!$AA$18:$AA$1017),0)","v":0},{"$f":"IFERROR($E336*SUMIF('Daily Log'!$AC$18:$AC$1017,$B336,'Daily Log'!$AD$18:$AD$1017),0)","v":0},{"$f":"IFERROR($E336*SUMIF('Daily Log'!$AF$18:$AF$1017,$B336,'Daily Log'!$AG$18:$AG$1017),0)","v":0},{"$f":"IFERROR($E336*SUMIF('Daily Log'!$AI$18:$AI$1017,$B336,'Daily Log'!$AJ$18:$AJ$1017),0)","v":0},{"$f":"IFERROR($E336*SUMIF('Daily Log'!$AL$18:$AL$1017,$B336,'Daily Log'!$AM$18:$AM$1017),0)","v":0},{"$f":"IFERROR($E336*SUMIF('Daily Log'!$AO$18:$AO$1017,$B336,'Daily Log'!$AP$18:$AP$1017),0)","v":0},{"$f":"IFERROR($E336*SUMIF('Daily Log'!$AR$18:$AR$1017,$B336,'Daily Log'!$AS$18:$AS$1017),0)","v":0},{"$f":"IFERROR($E336*SUMIF('Daily Log'!$AU$18:$AU$1017,$B336,'Daily Log'!$AV$18:$AV$1017),0)","v":0},{"$f":"IFERROR($E336*SUMIF('Daily Log'!$AX$18:$AX$1017,$B336,'Daily Log'!$AY$18:$AY$1017),0)","v":0},{"$f":"IFERROR($E336*SUMIF('Daily Log'!$BA$18:$BA$1017,$B336,'Daily Log'!$BB$18:$BB$1017),0)","v":0},{"$f":"IFERROR($E336*SUMIF('Daily Log'!$BD$18:$BD$1017,$B336,'Daily Log'!$BE$18:$BE$1017),0)","v":0},{"$f":"IFERROR($E336*SUMIF('Daily Log'!$BG$18:$BG$1017,$B336,'Daily Log'!$BH$18:$BH$1017),0)","v":0},{"$f":"IFERROR($E336*SUMIF('Daily Log'!$BJ$18:$BJ$1017,$B336,'Daily Log'!$BK$18:$BK$1017),0)","v":0},{"$f":"IFERROR($E336*SUMIF('Daily Log'!$BM$18:$BM$1017,$B336,'Daily Log'!$BN$18:$BN$1017),0)","v":0},{"$f":"IFERROR($E336*SUMIF('Daily Log'!$BP$18:$BP$1017,$B336,'Daily Log'!$BQ$18:$BQ$1017),0)","v":0},{"$f":"IFERROR($E336*SUMIF('Daily Log'!$BS$18:$BS$1017,$B336,'Daily Log'!$BT$18:$BT$1017),0)","v":0},{"$f":"IFERROR($E336*SUMIF('Daily Log'!$BV$18:$BV$1017,$B336,'Daily Log'!$BW$18:$BW$1017),0)","v":0},{"$f":"IFERROR($E336*SUMIF('Daily Log'!$BY$18:$BY$1017,$B336,'Daily Log'!$BZ$18:$BZ$1017),0)","v":0},{"$f":"IFERROR($E336*SUMIF('Daily Log'!$CB$18:$CB$1017,$B336,'Daily Log'!$CC$18:$CC$1017),0)","v":0},{"$f":"IFERROR($E336*SUMIF('Daily Log'!$CE$18:$CE$1017,$B336,'Daily Log'!$CF$18:$CF$1017),0)","v":0},{"$f":"IFERROR($E336*SUMIF('Daily Log'!$CH$18:$CH$1017,$B336,'Daily Log'!$CI$18:$CI$1017),0)","v":0},{"$f":"IFERROR($E336*SUMIF('Daily Log'!$CK$18:$CK$1017,$B336,'Daily Log'!$CL$18:$CL$1017),0)","v":140},{"$f":"IFERROR($E336*SUMIF('Daily Log'!$CN$18:$CN$1017,$B336,'Daily Log'!$CO$18:$CO$1017),0)","v":0}]
[null,"DH07 91107:SBL F.RICE",null,"KLKD-LOCAL DELIGHTS",1,114,{"$f":"IFERROR($E337*SUMIF('Daily Log'!$B$18:$B$1017,$B337,'Daily Log'!$C$18:$C$1017),0)","v":0},{"$f":"IFERROR($E337*SUMIF('Daily Log'!$E$18:$E$1017,$B337,'Daily Log'!$F$18:$F$1017),0)","v":0},{"$f":"IFERROR($E337*SUMIF('Daily Log'!$H$18:$H$1017,$B337,'Daily Log'!$I$18:$I$1017),0)","v":0},{"$f":"IFERROR($E337*SUMIF('Daily Log'!$K$18:$K$1017,$B337,'Daily Log'!$L$18:$L$1017),0)","v":0},{"$f":"IFERROR($E337*SUMIF('Daily Log'!$N$18:$N$1017,$B337,'Daily Log'!$O$18:$O$1017),0)","v":0},{"$f":"IFERROR($E337*SUMIF('Daily Log'!$Q$18:$Q$1017,$B337,'Daily Log'!$R$18:$R$1017),0)","v":0},{"$f":"IFERROR($E337*SUMIF('Daily Log'!$T$18:$T$1017,$B337,'Daily Log'!$U$18:$U$1017),0)","v":0},{"$f":"IFERROR($E337*SUMIF('Daily Log'!$W$18:$W$1017,$B337,'Daily Log'!$X$18:$X$1017),0)","v":0},{"$f":"IFERROR($E337*SUMIF('Daily Log'!$Z$18:$Z$1017,$B337,'Daily Log'!$AA$18:$AA$1017),0)","v":0},{"$f":"IFERROR($E337*SUMIF('Daily Log'!$AC$18:$AC$1017,$B337,'Daily Log'!$AD$18:$AD$1017),0)","v":0},{"$f":"IFERROR($E337*SUMIF('Daily Log'!$AF$18:$AF$1017,$B337,'Daily Log'!$AG$18:$AG$1017),0)","v":0},{"$f":"IFERROR($E337*SUMIF('Daily Log'!$AI$18:$AI$1017,$B337,'Daily Log'!$AJ$18:$AJ$1017),0)","v":0},{"$f":"IFERROR($E337*SUMIF('Daily Log'!$AL$18:$AL$1017,$B337,'Daily Log'!$AM$18:$AM$1017),0)","v":0},{"$f":"IFERROR($E337*SUMIF('Daily Log'!$AO$18:$AO$1017,$B337,'Daily Log'!$AP$18:$AP$1017),0)","v":0},{"$f":"IFERROR($E337*SUMIF('Daily Log'!$AR$18:$AR$1017,$B337,'Daily Log'!$AS$18:$AS$1017),0)","v":0},{"$f":"IFERROR($E337*SUMIF('Daily Log'!$AU$18:$AU$1017,$B337,'Daily Log'!$AV$18:$AV$1017),0)","v":0},{"$f":"IFERROR($E337*SUMIF('Daily Log'!$AX$18:$AX$1017,$B337,'Daily Log'!$AY$18:$AY$1017),0)","v":0},{"$f":"IFERROR($E337*SUMIF('Daily Log'!$BA$18:$BA$1017,$B337,'Daily Log'!$BB$18:$BB$1017),0)","v":0},{"$f":"IFERROR($E337*SUMIF('Daily Log'!$BD$18:$BD$1017,$B337,'Daily Log'!$BE$18:$BE$1017),0)","v":0},{"$f":"IFERROR($E337*SUMIF('Daily Log'!$BG$18:$BG$1017,$B337,'Daily Log'!$BH$18:$BH$1017),0)","v":0},{"$f":"IFERROR($E337*SUMIF('Daily Log'!$BJ$18:$BJ$1017,$B337,'Daily Log'!$BK$18:$BK$1017),0)","v":0},{"$f":"IFERROR($E337*SUMIF('Daily Log'!$BM$18:$BM$1017,$B337,'Daily Log'!$BN$18:$BN$1017),0)","v":0},{"$f":"IFERROR($E337*SUMIF('Daily Log'!$BP$18:$BP$1017,$B337,'Daily Log'!$BQ$18:$BQ$1017),0)","v":0},{"$f":"IFERROR($E337*SUMIF('Daily Log'!$BS$18:$BS$1017,$B337,'Daily Log'!$BT$18:$BT$1017),0)","v":0},{"$f":"IFERROR($E337*SUMIF('Daily Log'!$BV$18:$BV$1017,$B337,'Daily Log'!$BW$18:$BW$1017),0)","v":0},{"$f":"IFERROR($E337*SUMIF('Daily Log'!$BY$18:$BY$1017,$B337,'Daily Log'!$BZ$18:$BZ$1017),0)","v":0},{"$f":"IFERROR($E337*SUMIF('Daily Log'!$CB$18:$CB$1017,$B337,'Daily Log'!$CC$18:$CC$1017),0)","v":0},{"$f":"IFERROR($E337*SUMIF('Daily Log'!$CE$18:$CE$1017,$B337,'Daily Log'!$CF$18:$CF$1017),0)","v":0},{"$f":"IFERROR($E337*SUMIF('Daily Log'!$CH$18:$CH$1017,$B337,'Daily Log'!$CI$18:$CI$1017),0)","v":0},{"$f":"IFERROR($E337*SUMIF('Daily Log'!$CK$18:$CK$1017,$B337,'Daily Log'!$CL$18:$CL$1017),0)","v":114},{"$f":"IFERROR($E337*SUMIF('Daily Log'!$CN$18:$CN$1017,$B337,'Daily Log'!$CO$18:$CO$1017),0)","v":0}]
[null,"DH08 91108:SBL F.MEE",null,"KLKD-LOCAL DELIGHTS",1,26,{"$f":"IFERROR($E338*SUMIF('Daily Log'!$B$18:$B$1017,$B338,'Daily Log'!$C$18:$C$1017),0)","v":0},{"$f":"IFERROR($E338*SUMIF('Daily Log'!$E$18:$E$1017,$B338,'Daily Log'!$F$18:$F$1017),0)","v":0},{"$f":"IFERROR($E338*SUMIF('Daily Log'!$H$18:$H$1017,$B338,'Daily Log'!$I$18:$I$1017),0)","v":0},{"$f":"IFERROR($E338*SUMIF('Daily Log'!$K$18:$K$1017,$B338,'Daily Log'!$L$18:$L$1017),0)","v":0},{"$f":"IFERROR($E338*SUMIF('Daily Log'!$N$18:$N$1017,$B338,'Daily Log'!$O$18:$O$1017),0)","v":0},{"$f":"IFERROR($E338*SUMIF('Daily Log'!$Q$18:$Q$1017,$B338,'Daily Log'!$R$18:$R$1017),0)","v":0},{"$f":"IFERROR($E338*SUMIF('Daily Log'!$T$18:$T$1017,$B338,'Daily Log'!$U$18:$U$1017),0)","v":0},{"$f":"IFERROR($E338*SUMIF('Daily Log'!$W$18:$W$1017,$B338,'Daily Log'!$X$18:$X$1017),0)","v":0},{"$f":"IFERROR($E338*SUMIF('Daily Log'!$Z$18:$Z$1017,$B338,'Daily Log'!$AA$18:$AA$1017),0)","v":0},{"$f":"IFERROR($E338*SUMIF('Daily Log'!$AC$18:$AC$1017,$B338,'Daily Log'!$AD$18:$AD$1017),0)","v":0},{"$f":"IFERROR($E338*SUMIF('Daily Log'!$AF$18:$AF$1017,$B338,'Daily Log'!$AG$18:$AG$1017),0)","v":0},{"$f":"IFERROR($E338*SUMIF('Daily Log'!$AI$18:$AI$1017,$B338,'Daily Log'!$AJ$18:$AJ$1017),0)","v":0},{"$f":"IFERROR($E338*SUMIF('Daily Log'!$AL$18:$AL$1017,$B338,'Daily Log'!$AM$18:$AM$1017),0)","v":0},{"$f":"IFERROR($E338*SUMIF('Daily Log'!$AO$18:$AO$1017,$B338,'Daily Log'!$AP$18:$AP$1017),0)","v":0},{"$f":"IFERROR($E338*SUMIF('Daily Log'!$AR$18:$AR$1017,$B338,'Daily Log'!$AS$18:$AS$1017),0)","v":0},{"$f":"IFERROR($E338*SUMIF('Daily Log'!$AU$18:$AU$1017,$B338,'Daily Log'!$AV$18:$AV$1017),0)","v":0},{"$f":"IFERROR($E338*SUMIF('Daily Log'!$AX$18:$AX$1017,$B338,'Daily Log'!$AY$18:$AY$1017),0)","v":0},{"$f":"IFERROR($E338*SUMIF('Daily Log'!$BA$18:$BA$1017,$B338,'Daily Log'!$BB$18:$BB$1017),0)","v":0},{"$f":"IFERROR($E338*SUMIF('Daily Log'!$BD$18:$BD$1017,$B338,'Daily Log'!$BE$18:$BE$1017),0)","v":0},{"$f":"IFERROR($E338*SUMIF('Daily Log'!$BG$18:$BG$1017,$B338,'Daily Log'!$BH$18:$BH$1017),0)","v":0},{"$f":"IFERROR($E338*SUMIF('Daily Log'!$BJ$18:$BJ$1017,$B338,'Daily Log'!$BK$18:$BK$1017),0)","v":0},{"$f":"IFERROR($E338*SUMIF('Daily Log'!$BM$18:$BM$1017,$B338,'Daily Log'!$BN$18:$BN$1017),0)","v":0},{"$f":"IFERROR($E338*SUMIF('Daily Log'!$BP$18:$BP$1017,$B338,'Daily Log'!$BQ$18:$BQ$1017),0)","v":0},{"$f":"IFERROR($E338*SUMIF('Daily Log'!$BS$18:$BS$1017,$B338,'Daily Log'!$BT$18:$BT$1017),0)","v":0},{"$f":"IFERROR($E338*SUMIF('Daily Log'!$BV$18:$BV$1017,$B338,'Daily Log'!$BW$18:$BW$1017),0)","v":0},{"$f":"IFERROR($E338*SUMIF('Daily Log'!$BY$18:$BY$1017,$B338,'Daily Log'!$BZ$18:$BZ$1017),0)","v":0},{"$f":"IFERROR($E338*SUMIF('Daily Log'!$CB$18:$CB$1017,$B338,'Daily Log'!$CC$18:$CC$1017),0)","v":0},{"$f":"IFERROR($E338*SUMIF('Daily Log'!$CE$18:$CE$1017,$B338,'Daily Log'!$CF$18:$CF$1017),0)","v":0},{"$f":"IFERROR($E338*SUMIF('Daily Log'!$CH$18:$CH$1017,$B338,'Daily Log'!$CI$18:$CI$1017),0)","v":0},{"$f":"IFERROR($E338*SUMIF('Daily Log'!$CK$18:$CK$1017,$B338,'Daily Log'!$CL$18:$CL$1017),0)","v":26},{"$f":"IFERROR($E338*SUMIF('Daily Log'!$CN$18:$CN$1017,$B338,'Daily Log'!$CO$18:$CO$1017),0)","v":0}]
[null,"DH09 91109:BP UDON",null,"KLKD-LOCAL DELIGHTS",1,58,{"$f":"IFERROR($E339*SUMIF('Daily Log'!$B$18:$B$1017,$B339,'Daily Log'!$C$18:$C$1017),0)","v":0},{"$f":"IFERROR($E339*SUMIF('Daily Log'!$E$18:$E$1017,$B339,'Daily Log'!$F$18:$F$1017),0)","v":0},{"$f":"IFERROR($E339*SUMIF('Daily Log'!$H$18:$H$1017,$B339,'Daily Log'!$I$18:$I$1017),0)","v":0},{"$f":"IFERROR($E339*SUMIF('Daily Log'!$K$18:$K$1017,$B339,'Daily Log'!$L$18:$L$1017),0)","v":0},{"$f":"IFERROR($E339*SUMIF('Daily Log'!$N$18:$N$1017,$B339,'Daily Log'!$O$18:$O$1017),0)","v":0},{"$f":"IFERROR($E339*SUMIF('Daily Log'!$Q$18:$Q$1017,$B339,'Daily Log'!$R$18:$R$1017),0)","v":0},{"$f":"IFERROR($E339*SUMIF('Daily Log'!$T$18:$T$1017,$B339,'Daily Log'!$U$18:$U$1017),0)","v":0},{"$f":"IFERROR($E339*SUMIF('Daily Log'!$W$18:$W$1017,$B339,'Daily Log'!$X$18:$X$1017),0)","v":0},{"$f":"IFERROR($E339*SUMIF('Daily Log'!$Z$18:$Z$1017,$B339,'Daily Log'!$AA$18:$AA$1017),0)","v":0},{"$f":"IFERROR($E339*SUMIF('Daily Log'!$AC$18:$AC$1017,$B339,'Daily Log'!$AD$18:$AD$1017),0)","v":0},{"$f":"IFERROR($E339*SUMIF('Daily Log'!$AF$18:$AF$1017,$B339,'Daily Log'!$AG$18:$AG$1017),0)","v":0},{"$f":"IFERROR($E339*SUMIF('Daily Log'!$AI$18:$AI$1017,$B339,'Daily Log'!$AJ$18:$AJ$1017),0)","v":0},{"$f":"IFERROR($E339*SUMIF('Daily Log'!$AL$18:$AL$1017,$B339,'Daily Log'!$AM$18:$AM$1017),0)","v":0},{"$f":"IFERROR($E339*SUMIF('Daily Log'!$AO$18:$AO$1017,$B339,'Daily Log'!$AP$18:$AP$1017),0)","v":0},{"$f":"IFERROR($E339*SUMIF('Daily Log'!$AR$18:$AR$1017,$B339,'Daily Log'!$AS$18:$AS$1017),0)","v":0},{"$f":"IFERROR($E339*SUMIF('Daily Log'!$AU$18:$AU$1017,$B339,'Daily Log'!$AV$18:$AV$1017),0)","v":0},{"$f":"IFERROR($E339*SUMIF('Daily Log'!$AX$18:$AX$1017,$B339,'Daily Log'!$AY$18:$AY$1017),0)","v":0},{"$f":"IFERROR($E339*SUMIF('Daily Log'!$BA$18:$BA$1017,$B339,'Daily Log'!$BB$18:$BB$1017),0)","v":0},{"$f":"IFERROR($E339*SUMIF('Daily Log'!$BD$18:$BD$1017,$B339,'Daily Log'!$BE$18:$BE$1017),0)","v":0},{"$f":"IFERROR($E339*SUMIF('Daily Log'!$BG$18:$BG$1017,$B339,'Daily Log'!$BH$18:$BH$1017),0)","v":0},{"$f":"IFERROR($E339*SUMIF('Daily Log'!$BJ$18:$BJ$1017,$B339,'Daily Log'!$BK$18:$BK$1017),0)","v":0},{"$f":"IFERROR($E339*SUMIF('Daily Log'!$BM$18:$BM$1017,$B339,'Daily Log'!$BN$18:$BN$1017),0)","v":0},{"$f":"IFERROR($E339*SUMIF('Daily Log'!$BP$18:$BP$1017,$B339,'Daily Log'!$BQ$18:$BQ$1017),0)","v":0},{"$f":"IFERROR($E339*SUMIF('Daily Log'!$BS$18:$BS$1017,$B339,'Daily Log'!$BT$18:$BT$1017),0)","v":0},{"$f":"IFERROR($E339*SUMIF('Daily Log'!$BV$18:$BV$1017,$B339,'Daily Log'!$BW$18:$BW$1017),0)","v":0},{"$f":"IFERROR($E339*SUMIF('Daily Log'!$BY$18:$BY$1017,$B339,'Daily Log'!$BZ$18:$BZ$1017),0)","v":0},{"$f":"IFERROR($E339*SUMIF('Daily Log'!$CB$18:$CB$1017,$B339,'Daily Log'!$CC$18:$CC$1017),0)","v":0},{"$f":"IFERROR($E339*SUMIF('Daily Log'!$CE$18:$CE$1017,$B339,'Daily Log'!$CF$18:$CF$1017),0)","v":0},{"$f":"IFERROR($E339*SUMIF('Daily Log'!$CH$18:$CH$1017,$B339,'Daily Log'!$CI$18:$CI$1017),0)","v":0},{"$f":"IFERROR($E339*SUMIF('Daily Log'!$CK$18:$CK$1017,$B339,'Daily Log'!$CL$18:$CL$1017),0)","v":58},{"$f":"IFERROR($E339*SUMIF('Daily Log'!$CN$18:$CN$1017,$B339,'Daily Log'!$CO$18:$CO$1017),0)","v":0}]
[null,"DH10 91110:NISSIN",null,"KLKD-LOCAL DELIGHTS",1,52,{"$f":"IFERROR($E340*SUMIF('Daily Log'!$B$18:$B$1017,$B340,'Daily Log'!$C$18:$C$1017),0)","v":0},{"$f":"IFERROR($E340*SUMIF('Daily Log'!$E$18:$E$1017,$B340,'Daily Log'!$F$18:$F$1017),0)","v":0},{"$f":"IFERROR($E340*SUMIF('Daily Log'!$H$18:$H$1017,$B340,'Daily Log'!$I$18:$I$1017),0)","v":0},{"$f":"IFERROR($E340*SUMIF('Daily Log'!$K$18:$K$1017,$B340,'Daily Log'!$L$18:$L$1017),0)","v":0},{"$f":"IFERROR($E340*SUMIF('Daily Log'!$N$18:$N$1017,$B340,'Daily Log'!$O$18:$O$1017),0)","v":0},{"$f":"IFERROR($E340*SUMIF('Daily Log'!$Q$18:$Q$1017,$B340,'Daily Log'!$R$18:$R$1017),0)","v":0},{"$f":"IFERROR($E340*SUMIF('Daily Log'!$T$18:$T$1017,$B340,'Daily Log'!$U$18:$U$1017),0)","v":0},{"$f":"IFERROR($E340*SUMIF('Daily Log'!$W$18:$W$1017,$B340,'Daily Log'!$X$18:$X$1017),0)","v":0},{"$f":"IFERROR($E340*SUMIF('Daily Log'!$Z$18:$Z$1017,$B340,'Daily Log'!$AA$18:$AA$1017),0)","v":0},{"$f":"IFERROR($E340*SUMIF('Daily Log'!$AC$18:$AC$1017,$B340,'Daily Log'!$AD$18:$AD$1017),0)","v":0},{"$f":"IFERROR($E340*SUMIF('Daily Log'!$AF$18:$AF$1017,$B340,'Daily Log'!$AG$18:$AG$1017),0)","v":0},{"$f":"IFERROR($E340*SUMIF('Daily Log'!$AI$18:$AI$1017,$B340,'Daily Log'!$AJ$18:$AJ$1017),0)","v":0},{"$f":"IFERROR($E340*SUMIF('Daily Log'!$AL$18:$AL$1017,$B340,'Daily Log'!$AM$18:$AM$1017),0)","v":0},{"$f":"IFERROR($E340*SUMIF('Daily Log'!$AO$18:$AO$1017,$B340,'Daily Log'!$AP$18:$AP$1017),0)","v":0},{"$f":"IFERROR($E340*SUMIF('Daily Log'!$AR$18:$AR$1017,$B340,'Daily Log'!$AS$18:$AS$1017),0)","v":0},{"$f":"IFERROR($E340*SUMIF('Daily Log'!$AU$18:$AU$1017,$B340,'Daily Log'!$AV$18:$AV$1017),0)","v":0},{"$f":"IFERROR($E340*SUMIF('Daily Log'!$AX$18:$AX$1017,$B340,'Daily Log'!$AY$18:$AY$1017),0)","v":0},{"$f":"IFERROR($E340*SUMIF('Daily Log'!$BA$18:$BA$1017,$B340,'Daily Log'!$BB$18:$BB$1017),0)","v":0},{"$f":"IFERROR($E340*SUMIF('Daily Log'!$BD$18:$BD$1017,$B340,'Daily Log'!$BE$18:$BE$1017),0)","v":0},{"$f":"IFERROR($E340*SUMIF('Daily Log'!$BG$18:$BG$1017,$B340,'Daily Log'!$BH$18:$BH$1017),0)","v":0},{"$f":"IFERROR($E340*SUMIF('Daily Log'!$BJ$18:$BJ$1017,$B340,'Daily Log'!$BK$18:$BK$1017),0)","v":0},{"$f":"IFERROR($E340*SUMIF('Daily Log'!$BM$18:$BM$1017,$B340,'Daily Log'!$BN$18:$BN$1017),0)","v":0},{"$f":"IFERROR($E340*SUMIF('Daily Log'!$BP$18:$BP$1017,$B340,'Daily Log'!$BQ$18:$BQ$1017),0)","v":0},{"$f":"IFERROR($E340*SUMIF('Daily Log'!$BS$18:$BS$1017,$B340,'Daily Log'!$BT$18:$BT$1017),0)","v":0},{"$f":"IFERROR($E340*SUMIF('Daily Log'!$BV$18:$BV$1017,$B340,'Daily Log'!$BW$18:$BW$1017),0)","v":0},{"$f":"IFERROR($E340*SUMIF('Daily Log'!$BY$18:$BY$1017,$B340,'Daily Log'!$BZ$18:$BZ$1017),0)","v":0},{"$f":"IFERROR($E340*SUMIF('Daily Log'!$CB$18:$CB$1017,$B340,'Daily Log'!$CC$18:$CC$1017),0)","v":0},{"$f":"IFERROR($E340*SUMIF('Daily Log'!$CE$18:$CE$1017,$B340,'Daily Log'!$CF$18:$CF$1017),0)","v":0},{"$f":"IFERROR($E340*SUMIF('Daily Log'!$CH$18:$CH$1017,$B340,'Daily Log'!$CI$18:$CI$1017),0)","v":0},{"$f":"IFERROR($E340*SUMIF('Daily Log'!$CK$18:$CK$1017,$B340,'Daily Log'!$CL$18:$CL$1017),0)","v":52},{"$f":"IFERROR($E340*SUMIF('Daily Log'!$CN$18:$CN$1017,$B340,'Daily Log'!$CO$18:$CO$1017),0)","v":0}]
[null,"DH11 91111:VEG RICE",null,"KLKD-LOCAL DELIGHTS",1,27,{"$f":"IFERROR($E341*SUMIF('Daily Log'!$B$18:$B$1017,$B341,'Daily Log'!$C$18:$C$1017),0)","v":0},{"$f":"IFERROR($E341*SUMIF('Daily Log'!$E$18:$E$1017,$B341,'Daily Log'!$F$18:$F$1017),0)","v":0},{"$f":"IFERROR($E341*SUMIF('Daily Log'!$H$18:$H$1017,$B341,'Daily Log'!$I$18:$I$1017),0)","v":0},{"$f":"IFERROR($E341*SUMIF('Daily Log'!$K$18:$K$1017,$B341,'Daily Log'!$L$18:$L$1017),0)","v":0},{"$f":"IFERROR($E341*SUMIF('Daily Log'!$N$18:$N$1017,$B341,'Daily Log'!$O$18:$O$1017),0)","v":0},{"$f":"IFERROR($E341*SUMIF('Daily Log'!$Q$18:$Q$1017,$B341,'Daily Log'!$R$18:$R$1017),0)","v":0},{"$f":"IFERROR($E341*SUMIF('Daily Log'!$T$18:$T$1017,$B341,'Daily Log'!$U$18:$U$1017),0)","v":0},{"$f":"IFERROR($E341*SUMIF('Daily Log'!$W$18:$W$1017,$B341,'Daily Log'!$X$18:$X$1017),0)","v":0},{"$f":"IFERROR($E341*SUMIF('Daily Log'!$Z$18:$Z$1017,$B341,'Daily Log'!$AA$18:$AA$1017),0)","v":0},{"$f":"IFERROR($E341*SUMIF('Daily Log'!$AC$18:$AC$1017,$B341,'Daily Log'!$AD$18:$AD$1017),0)","v":0},{"$f":"IFERROR($E341*SUMIF('Daily Log'!$AF$18:$AF$1017,$B341,'Daily Log'!$AG$18:$AG$1017),0)","v":0},{"$f":"IFERROR($E341*SUMIF('Daily Log'!$AI$18:$AI$1017,$B341,'Daily Log'!$AJ$18:$AJ$1017),0)","v":0},{"$f":"IFERROR($E341*SUMIF('Daily Log'!$AL$18:$AL$1017,$B341,'Daily Log'!$AM$18:$AM$1017),0)","v":0},{"$f":"IFERROR($E341*SUMIF('Daily Log'!$AO$18:$AO$1017,$B341,'Daily Log'!$AP$18:$AP$1017),0)","v":0},{"$f":"IFERROR($E341*SUMIF('Daily Log'!$AR$18:$AR$1017,$B341,'Daily Log'!$AS$18:$AS$1017),0)","v":0},{"$f":"IFERROR($E341*SUMIF('Daily Log'!$AU$18:$AU$1017,$B341,'Daily Log'!$AV$18:$AV$1017),0)","v":0},{"$f":"IFERROR($E341*SUMIF('Daily Log'!$AX$18:$AX$1017,$B341,'Daily Log'!$AY$18:$AY$1017),0)","v":0},{"$f":"IFERROR($E341*SUMIF('Daily Log'!$BA$18:$BA$1017,$B341,'Daily Log'!$BB$18:$BB$1017),0)","v":0},{"$f":"IFERROR($E341*SUMIF('Daily Log'!$BD$18:$BD$1017,$B341,'Daily Log'!$BE$18:$BE$1017),0)","v":0},{"$f":"IFERROR($E341*SUMIF('Daily Log'!$BG$18:$BG$1017,$B341,'Daily Log'!$BH$18:$BH$1017),0)","v":0},{"$f":"IFERROR($E341*SUMIF('Daily Log'!$BJ$18:$BJ$1017,$B341,'Daily Log'!$BK$18:$BK$1017),0)","v":0},{"$f":"IFERROR($E341*SUMIF('Daily Log'!$BM$18:$BM$1017,$B341,'Daily Log'!$BN$18:$BN$1017),0)","v":0},{"$f":"IFERROR($E341*SUMIF('Daily Log'!$BP$18:$BP$1017,$B341,'Daily Log'!$BQ$18:$BQ$1017),0)","v":0},{"$f":"IFERROR($E341*SUMIF('Daily Log'!$BS$18:$BS$1017,$B341,'Daily Log'!$BT$18:$BT$1017),0)","v":0},{"$f":"IFERROR($E341*SUMIF('Daily Log'!$BV$18:$BV$1017,$B341,'Daily Log'!$BW$18:$BW$1017),0)","v":0},{"$f":"IFERROR($E341*SUMIF('Daily Log'!$BY$18:$BY$1017,$B341,'Daily Log'!$BZ$18:$BZ$1017),0)","v":0},{"$f":"IFERROR($E341*SUMIF('Daily Log'!$CB$18:$CB$1017,$B341,'Daily Log'!$CC$18:$CC$1017),0)","v":0},{"$f":"IFERROR($E341*SUMIF('Daily Log'!$CE$18:$CE$1017,$B341,'Daily Log'!$CF$18:$CF$1017),0)","v":0},{"$f":"IFERROR($E341*SUMIF('Daily Log'!$CH$18:$CH$1017,$B341,'Daily Log'!$CI$18:$CI$1017),0)","v":0},{"$f":"IFERROR($E341*SUMIF('Daily Log'!$CK$18:$CK$1017,$B341,'Daily Log'!$CL$18:$CL$1017),0)","v":27},{"$f":"IFERROR($E341*SUMIF('Daily Log'!$CN$18:$CN$1017,$B341,'Daily Log'!$CO$18:$CO$1017),0)","v":0}]
[null,"DH12 91112:NASI LEMAK",null,"KLKD-LOCAL DELIGHTS",1,81,{"$f":"IFERROR($E342*SUMIF('Daily Log'!$B$18:$B$1017,$B342,'Daily Log'!$C$18:$C$1017),0)","v":0},{"$f":"IFERROR($E342*SUMIF('Daily Log'!$E$18:$E$1017,$B342,'Daily Log'!$F$18:$F$1017),0)","v":0},{"$f":"IFERROR($E342*SUMIF('Daily Log'!$H$18:$H$1017,$B342,'Daily Log'!$I$18:$I$1017),0)","v":0},{"$f":"IFERROR($E342*SUMIF('Daily Log'!$K$18:$K$1017,$B342,'Daily Log'!$L$18:$L$1017),0)","v":0},{"$f":"IFERROR($E342*SUMIF('Daily Log'!$N$18:$N$1017,$B342,'Daily Log'!$O$18:$O$1017),0)","v":0},{"$f":"IFERROR($E342*SUMIF('Daily Log'!$Q$18:$Q$1017,$B342,'Daily Log'!$R$18:$R$1017),0)","v":0},{"$f":"IFERROR($E342*SUMIF('Daily Log'!$T$18:$T$1017,$B342,'Daily Log'!$U$18:$U$1017),0)","v":0},{"$f":"IFERROR($E342*SUMIF('Daily Log'!$W$18:$W$1017,$B342,'Daily Log'!$X$18:$X$1017),0)","v":0},{"$f":"IFERROR($E342*SUMIF('Daily Log'!$Z$18:$Z$1017,$B342,'Daily Log'!$AA$18:$AA$1017),0)","v":0},{"$f":"IFERROR($E342*SUMIF('Daily Log'!$AC$18:$AC$1017,$B342,'Daily Log'!$AD$18:$AD$1017),0)","v":0},{"$f":"IFERROR($E342*SUMIF('Daily Log'!$AF$18:$AF$1017,$B342,'Daily Log'!$AG$18:$AG$1017),0)","v":0},{"$f":"IFERROR($E342*SUMIF('Daily Log'!$AI$18:$AI$1017,$B342,'Daily Log'!$AJ$18:$AJ$1017),0)","v":0},{"$f":"IFERROR($E342*SUMIF('Daily Log'!$AL$18:$AL$1017,$B342,'Daily Log'!$AM$18:$AM$1017),0)","v":0},{"$f":"IFERROR($E342*SUMIF('Daily Log'!$AO$18:$AO$1017,$B342,'Daily Log'!$AP$18:$AP$1017),0)","v":0},{"$f":"IFERROR($E342*SUMIF('Daily Log'!$AR$18:$AR$1017,$B342,'Daily Log'!$AS$18:$AS$1017),0)","v":0},{"$f":"IFERROR($E342*SUMIF('Daily Log'!$AU$18:$AU$1017,$B342,'Daily Log'!$AV$18:$AV$1017),0)","v":0},{"$f":"IFERROR($E342*SUMIF('Daily Log'!$AX$18:$AX$1017,$B342,'Daily Log'!$AY$18:$AY$1017),0)","v":0},{"$f":"IFERROR($E342*SUMIF('Daily Log'!$BA$18:$BA$1017,$B342,'Daily Log'!$BB$18:$BB$1017),0)","v":0},{"$f":"IFERROR($E342*SUMIF('Daily Log'!$BD$18:$BD$1017,$B342,'Daily Log'!$BE$18:$BE$1017),0)","v":0},{"$f":"IFERROR($E342*SUMIF('Daily Log'!$BG$18:$BG$1017,$B342,'Daily Log'!$BH$18:$BH$1017),0)","v":0},{"$f":"IFERROR($E342*SUMIF('Daily Log'!$BJ$18:$BJ$1017,$B342,'Daily Log'!$BK$18:$BK$1017),0)","v":0},{"$f":"IFERROR($E342*SUMIF('Daily Log'!$BM$18:$BM$1017,$B342,'Daily Log'!$BN$18:$BN$1017),0)","v":0},{"$f":"IFERROR($E342*SUMIF('Daily Log'!$BP$18:$BP$1017,$B342,'Daily Log'!$BQ$18:$BQ$1017),0)","v":0},{"$f":"IFERROR($E342*SUMIF('Daily Log'!$BS$18:$BS$1017,$B342,'Daily Log'!$BT$18:$BT$1017),0)","v":0},{"$f":"IFERROR($E342*SUMIF('Daily Log'!$BV$18:$BV$1017,$B342,'Daily Log'!$BW$18:$BW$1017),0)","v":0},{"$f":"IFERROR($E342*SUMIF('Daily Log'!$BY$18:$BY$1017,$B342,'Daily Log'!$BZ$18:$BZ$1017),0)","v":0},{"$f":"IFERROR($E342*SUMIF('Daily Log'!$CB$18:$CB$1017,$B342,'Daily Log'!$CC$18:$CC$1017),0)","v":0},{"$f":"IFERROR($E342*SUMIF('Daily Log'!$CE$18:$CE$1017,$B342,'Daily Log'!$CF$18:$CF$1017),0)","v":0},{"$f":"IFERROR($E342*SUMIF('Daily Log'!$CH$18:$CH$1017,$B342,'Daily Log'!$CI$18:$CI$1017),0)","v":0},{"$f":"IFERROR($E342*SUMIF('Daily Log'!$CK$18:$CK$1017,$B342,'Daily Log'!$CL$18:$CL$1017),0)","v":81},{"$f":"IFERROR($E342*SUMIF('Daily Log'!$CN$18:$CN$1017,$B342,'Daily Log'!$CO$18:$CO$1017),0)","v":0}]
[null,"DH13 91113:KUEY TEOW",null,"KLKD-LOCAL DELIGHTS",1,62,{"$f":"IFERROR($E343*SUMIF('Daily Log'!$B$18:$B$1017,$B343,'Daily Log'!$C$18:$C$1017),0)","v":0},{"$f":"IFERROR($E343*SUMIF('Daily Log'!$E$18:$E$1017,$B343,'Daily Log'!$F$18:$F$1017),0)","v":0},{"$f":"IFERROR($E343*SUMIF('Daily Log'!$H$18:$H$1017,$B343,'Daily Log'!$I$18:$I$1017),0)","v":0},{"$f":"IFERROR($E343*SUMIF('Daily Log'!$K$18:$K$1017,$B343,'Daily Log'!$L$18:$L$1017),0)","v":0},{"$f":"IFERROR($E343*SUMIF('Daily Log'!$N$18:$N$1017,$B343,'Daily Log'!$O$18:$O$1017),0)","v":0},{"$f":"IFERROR($E343*SUMIF('Daily Log'!$Q$18:$Q$1017,$B343,'Daily Log'!$R$18:$R$1017),0)","v":0},{"$f":"IFERROR($E343*SUMIF('Daily Log'!$T$18:$T$1017,$B343,'Daily Log'!$U$18:$U$1017),0)","v":0},{"$f":"IFERROR($E343*SUMIF('Daily Log'!$W$18:$W$1017,$B343,'Daily Log'!$X$18:$X$1017),0)","v":0},{"$f":"IFERROR($E343*SUMIF('Daily Log'!$Z$18:$Z$1017,$B343,'Daily Log'!$AA$18:$AA$1017),0)","v":0},{"$f":"IFERROR($E343*SUMIF('Daily Log'!$AC$18:$AC$1017,$B343,'Daily Log'!$AD$18:$AD$1017),0)","v":0},{"$f":"IFERROR($E343*SUMIF('Daily Log'!$AF$18:$AF$1017,$B343,'Daily Log'!$AG$18:$AG$1017),0)","v":0},{"$f":"IFERROR($E343*SUMIF('Daily Log'!$AI$18:$AI$1017,$B343,'Daily Log'!$AJ$18:$AJ$1017),0)","v":0},{"$f":"IFERROR($E343*SUMIF('Daily Log'!$AL$18:$AL$1017,$B343,'Daily Log'!$AM$18:$AM$1017),0)","v":0},{"$f":"IFERROR($E343*SUMIF('Daily Log'!$AO$18:$AO$1017,$B343,'Daily Log'!$AP$18:$AP$1017),0)","v":0},{"$f":"IFERROR($E343*SUMIF('Daily Log'!$AR$18:$AR$1017,$B343,'Daily Log'!$AS$18:$AS$1017),0)","v":0},{"$f":"IFERROR($E343*SUMIF('Daily Log'!$AU$18:$AU$1017,$B343,'Daily Log'!$AV$18:$AV$1017),0)","v":0},{"$f":"IFERROR($E343*SUMIF('Daily Log'!$AX$18:$AX$1017,$B343,'Daily Log'!$AY$18:$AY$1017),0)","v":0},{"$f":"IFERROR($E343*SUMIF('Daily Log'!$BA$18:$BA$1017,$B343,'Daily Log'!$BB$18:$BB$1017),0)","v":0},{"$f":"IFERROR($E343*SUMIF('Daily Log'!$BD$18:$BD$1017,$B343,'Daily Log'!$BE$18:$BE$1017),0)","v":0},{"$f":"IFERROR($E343*SUMIF('Daily Log'!$BG$18:$BG$1017,$B343,'Daily Log'!$BH$18:$BH$1017),0)","v":0},{"$f":"IFERROR($E343*SUMIF('Daily Log'!$BJ$18:$BJ$1017,$B343,'Daily Log'!$BK$18:$BK$1017),0)","v":0},{"$f":"IFERROR($E343*SUMIF('Daily Log'!$BM$18:$BM$1017,$B343,'Daily Log'!$BN$18:$BN$1017),0)","v":0},{"$f":"IFERROR($E343*SUMIF('Daily Log'!$BP$18:$BP$1017,$B343,'Daily Log'!$BQ$18:$BQ$1017),0)","v":0},{"$f":"IFERROR($E343*SUMIF('Daily Log'!$BS$18:$BS$1017,$B343,'Daily Log'!$BT$18:$BT$1017),0)","v":0},{"$f":"IFERROR($E343*SUMIF('Daily Log'!$BV$18:$BV$1017,$B343,'Daily Log'!$BW$18:$BW$1017),0)","v":0},{"$f":"IFERROR($E343*SUMIF('Daily Log'!$BY$18:$BY$1017,$B343,'Daily Log'!$BZ$18:$BZ$1017),0)","v":0},{"$f":"IFERROR($E343*SUMIF('Daily Log'!$CB$18:$CB$1017,$B343,'Daily Log'!$CC$18:$CC$1017),0)","v":0},{"$f":"IFERROR($E343*SUMIF('Daily Log'!$CE$18:$CE$1017,$B343,'Daily Log'!$CF$18:$CF$1017),0)","v":0},{"$f":"IFERROR($E343*SUMIF('Daily Log'!$CH$18:$CH$1017,$B343,'Daily Log'!$CI$18:$CI$1017),0)","v":0},{"$f":"IFERROR($E343*SUMIF('Daily Log'!$CK$18:$CK$1017,$B343,'Daily Log'!$CL$18:$CL$1017),0)","v":62},{"$f":"IFERROR($E343*SUMIF('Daily Log'!$CN$18:$CN$1017,$B343,'Daily Log'!$CO$18:$CO$1017),0)","v":0}]
[null,"DH14 91114:F.BALL MEE",null,"KLKD-LOCAL DELIGHTS",1,39,{"$f":"IFERROR($E344*SUMIF('Daily Log'!$B$18:$B$1017,$B344,'Daily Log'!$C$18:$C$1017),0)","v":0},{"$f":"IFERROR($E344*SUMIF('Daily Log'!$E$18:$E$1017,$B344,'Daily Log'!$F$18:$F$1017),0)","v":0},{"$f":"IFERROR($E344*SUMIF('Daily Log'!$H$18:$H$1017,$B344,'Daily Log'!$I$18:$I$1017),0)","v":0},{"$f":"IFERROR($E344*SUMIF('Daily Log'!$K$18:$K$1017,$B344,'Daily Log'!$L$18:$L$1017),0)","v":0},{"$f":"IFERROR($E344*SUMIF('Daily Log'!$N$18:$N$1017,$B344,'Daily Log'!$O$18:$O$1017),0)","v":0},{"$f":"IFERROR($E344*SUMIF('Daily Log'!$Q$18:$Q$1017,$B344,'Daily Log'!$R$18:$R$1017),0)","v":0},{"$f":"IFERROR($E344*SUMIF('Daily Log'!$T$18:$T$1017,$B344,'Daily Log'!$U$18:$U$1017),0)","v":0},{"$f":"IFERROR($E344*SUMIF('Daily Log'!$W$18:$W$1017,$B344,'Daily Log'!$X$18:$X$1017),0)","v":0},{"$f":"IFERROR($E344*SUMIF('Daily Log'!$Z$18:$Z$1017,$B344,'Daily Log'!$AA$18:$AA$1017),0)","v":0},{"$f":"IFERROR($E344*SUMIF('Daily Log'!$AC$18:$AC$1017,$B344,'Daily Log'!$AD$18:$AD$1017),0)","v":0},{"$f":"IFERROR($E344*SUMIF('Daily Log'!$AF$18:$AF$1017,$B344,'Daily Log'!$AG$18:$AG$1017),0)","v":0},{"$f":"IFERROR($E344*SUMIF('Daily Log'!$AI$18:$AI$1017,$B344,'Daily Log'!$AJ$18:$AJ$1017),0)","v":0},{"$f":"IFERROR($E344*SUMIF('Daily Log'!$AL$18:$AL$1017,$B344,'Daily Log'!$AM$18:$AM$1017),0)","v":0},{"$f":"IFERROR($E344*SUMIF('Daily Log'!$AO$18:$AO$1017,$B344,'Daily Log'!$AP$18:$AP$1017),0)","v":0},{"$f":"IFERROR($E344*SUMIF('Daily Log'!$AR$18:$AR$1017,$B344,'Daily Log'!$AS$18:$AS$1017),0)","v":0},{"$f":"IFERROR($E344*SUMIF('Daily Log'!$AU$18:$AU$1017,$B344,'Daily Log'!$AV$18:$AV$1017),0)","v":0},{"$f":"IFERROR($E344*SUMIF('Daily Log'!$AX$18:$AX$1017,$B344,'Daily Log'!$AY$18:$AY$1017),0)","v":0},{"$f":"IFERROR($E344*SUMIF('Daily Log'!$BA$18:$BA$1017,$B344,'Daily Log'!$BB$18:$BB$1017),0)","v":0},{"$f":"IFERROR($E344*SUMIF('Daily Log'!$BD$18:$BD$1017,$B344,'Daily Log'!$BE$18:$BE$1017),0)","v":0},{"$f":"IFERROR($E344*SUMIF('Daily Log'!$BG$18:$BG$1017,$B344,'Daily Log'!$BH$18:$BH$1017),0)","v":0},{"$f":"IFERROR($E344*SUMIF('Daily Log'!$BJ$18:$BJ$1017,$B344,'Daily Log'!$BK$18:$BK$1017),0)","v":0},{"$f":"IFERROR($E344*SUMIF('Daily Log'!$BM$18:$BM$1017,$B344,'Daily Log'!$BN$18:$BN$1017),0)","v":0},{"$f":"IFERROR($E344*SUMIF('Daily Log'!$BP$18:$BP$1017,$B344,'Daily Log'!$BQ$18:$BQ$1017),0)","v":0},{"$f":"IFERROR($E344*SUMIF('Daily Log'!$BS$18:$BS$1017,$B344,'Daily Log'!$BT$18:$BT$1017),0)","v":0},{"$f":"IFERROR($E344*SUMIF('Daily Log'!$BV$18:$BV$1017,$B344,'Daily Log'!$BW$18:$BW$1017),0)","v":0},{"$f":"IFERROR($E344*SUMIF('Daily Log'!$BY$18:$BY$1017,$B344,'Daily Log'!$BZ$18:$BZ$1017),0)","v":0},{"$f":"IFERROR($E344*SUMIF('Daily Log'!$CB$18:$CB$1017,$B344,'Daily Log'!$CC$18:$CC$1017),0)","v":0},{"$f":"IFERROR($E344*SUMIF('Daily Log'!$CE$18:$CE$1017,$B344,'Daily Log'!$CF$18:$CF$1017),0)","v":0},{"$f":"IFERROR($E344*SUMIF('Daily Log'!$CH$18:$CH$1017,$B344,'Daily Log'!$CI$18:$CI$1017),0)","v":0},{"$f":"IFERROR($E344*SUMIF('Daily Log'!$CK$18:$CK$1017,$B344,'Daily Log'!$CL$18:$CL$1017),0)","v":39},{"$f":"IFERROR($E344*SUMIF('Daily Log'!$CN$18:$CN$1017,$B344,'Daily Log'!$CO$18:$CO$1017),0)","v":0}]
[null,"DH15 91115:CHK NOODLE",null,"KLKD-LOCAL DELIGHTS",1,64,{"$f":"IFERROR($E345*SUMIF('Daily Log'!$B$18:$B$1017,$B345,'Daily Log'!$C$18:$C$1017),0)","v":0},{"$f":"IFERROR($E345*SUMIF('Daily Log'!$E$18:$E$1017,$B345,'Daily Log'!$F$18:$F$1017),0)","v":0},{"$f":"IFERROR($E345*SUMIF('Daily Log'!$H$18:$H$1017,$B345,'Daily Log'!$I$18:$I$1017),0)","v":0},{"$f":"IFERROR($E345*SUMIF('Daily Log'!$K$18:$K$1017,$B345,'Daily Log'!$L$18:$L$1017),0)","v":0},{"$f":"IFERROR($E345*SUMIF('Daily Log'!$N$18:$N$1017,$B345,'Daily Log'!$O$18:$O$1017),0)","v":0},{"$f":"IFERROR($E345*SUMIF('Daily Log'!$Q$18:$Q$1017,$B345,'Daily Log'!$R$18:$R$1017),0)","v":0},{"$f":"IFERROR($E345*SUMIF('Daily Log'!$T$18:$T$1017,$B345,'Daily Log'!$U$18:$U$1017),0)","v":0},{"$f":"IFERROR($E345*SUMIF('Daily Log'!$W$18:$W$1017,$B345,'Daily Log'!$X$18:$X$1017),0)","v":0},{"$f":"IFERROR($E345*SUMIF('Daily Log'!$Z$18:$Z$1017,$B345,'Daily Log'!$AA$18:$AA$1017),0)","v":0},{"$f":"IFERROR($E345*SUMIF('Daily Log'!$AC$18:$AC$1017,$B345,'Daily Log'!$AD$18:$AD$1017),0)","v":0},{"$f":"IFERROR($E345*SUMIF('Daily Log'!$AF$18:$AF$1017,$B345,'Daily Log'!$AG$18:$AG$1017),0)","v":0},{"$f":"IFERROR($E345*SUMIF('Daily Log'!$AI$18:$AI$1017,$B345,'Daily Log'!$AJ$18:$AJ$1017),0)","v":0},{"$f":"IFERROR($E345*SUMIF('Daily Log'!$AL$18:$AL$1017,$B345,'Daily Log'!$AM$18:$AM$1017),0)","v":0},{"$f":"IFERROR($E345*SUMIF('Daily Log'!$AO$18:$AO$1017,$B345,'Daily Log'!$AP$18:$AP$1017),0)","v":0},{"$f":"IFERROR($E345*SUMIF('Daily Log'!$AR$18:$AR$1017,$B345,'Daily Log'!$AS$18:$AS$1017),0)","v":0},{"$f":"IFERROR($E345*SUMIF('Daily Log'!$AU$18:$AU$1017,$B345,'Daily Log'!$AV$18:$AV$1017),0)","v":0},{"$f":"IFERROR($E345*SUMIF('Daily Log'!$AX$18:$AX$1017,$B345,'Daily Log'!$AY$18:$AY$1017),0)","v":0},{"$f":"IFERROR($E345*SUMIF('Daily Log'!$BA$18:$BA$1017,$B345,'Daily Log'!$BB$18:$BB$1017),0)","v":0},{"$f":"IFERROR($E345*SUMIF('Daily Log'!$BD$18:$BD$1017,$B345,'Daily Log'!$BE$18:$BE$1017),0)","v":0},{"$f":"IFERROR($E345*SUMIF('Daily Log'!$BG$18:$BG$1017,$B345,'Daily Log'!$BH$18:$BH$1017),0)","v":0},{"$f":"IFERROR($E345*SUMIF('Daily Log'!$BJ$18:$BJ$1017,$B345,'Daily Log'!$BK$18:$BK$1017),0)","v":0},{"$f":"IFERROR($E345*SUMIF('Daily Log'!$BM$18:$BM$1017,$B345,'Daily Log'!$BN$18:$BN$1017),0)","v":0},{"$f":"IFERROR($E345*SUMIF('Daily Log'!$BP$18:$BP$1017,$B345,'Daily Log'!$BQ$18:$BQ$1017),0)","v":0},{"$f":"IFERROR($E345*SUMIF('Daily Log'!$BS$18:$BS$1017,$B345,'Daily Log'!$BT$18:$BT$1017),0)","v":0},{"$f":"IFERROR($E345*SUMIF('Daily Log'!$BV$18:$BV$1017,$B345,'Daily Log'!$BW$18:$BW$1017),0)","v":0},{"$f":"IFERROR($E345*SUMIF('Daily Log'!$BY$18:$BY$1017,$B345,'Daily Log'!$BZ$18:$BZ$1017),0)","v":0},{"$f":"IFERROR($E345*SUMIF('Daily Log'!$CB$18:$CB$1017,$B345,'Daily Log'!$CC$18:$CC$1017),0)","v":0},{"$f":"IFERROR($E345*SUMIF('Daily Log'!$CE$18:$CE$1017,$B345,'Daily Log'!$CF$18:$CF$1017),0)","v":0},{"$f":"IFERROR($E345*SUMIF('Daily Log'!$CH$18:$CH$1017,$B345,'Daily Log'!$CI$18:$CI$1017),0)","v":0},{"$f":"IFERROR($E345*SUMIF('Daily Log'!$CK$18:$CK$1017,$B345,'Daily Log'!$CL$18:$CL$1017),0)","v":64},{"$f":"IFERROR($E345*SUMIF('Daily Log'!$CN$18:$CN$1017,$B345,'Daily Log'!$CO$18:$CO$1017),0)","v":0}]
[null,"DI01 91201:SFD STICK",null,"KLKD-APPETIZER",1,5,{"$f":"IFERROR($E346*SUMIF('Daily Log'!$B$18:$B$1017,$B346,'Daily Log'!$C$18:$C$1017),0)","v":0},{"$f":"IFERROR($E346*SUMIF('Daily Log'!$E$18:$E$1017,$B346,'Daily Log'!$F$18:$F$1017),0)","v":0},{"$f":"IFERROR($E346*SUMIF('Daily Log'!$H$18:$H$1017,$B346,'Daily Log'!$I$18:$I$1017),0)","v":0},{"$f":"IFERROR($E346*SUMIF('Daily Log'!$K$18:$K$1017,$B346,'Daily Log'!$L$18:$L$1017),0)","v":0},{"$f":"IFERROR($E346*SUMIF('Daily Log'!$N$18:$N$1017,$B346,'Daily Log'!$O$18:$O$1017),0)","v":0},{"$f":"IFERROR($E346*SUMIF('Daily Log'!$Q$18:$Q$1017,$B346,'Daily Log'!$R$18:$R$1017),0)","v":0},{"$f":"IFERROR($E346*SUMIF('Daily Log'!$T$18:$T$1017,$B346,'Daily Log'!$U$18:$U$1017),0)","v":0},{"$f":"IFERROR($E346*SUMIF('Daily Log'!$W$18:$W$1017,$B346,'Daily Log'!$X$18:$X$1017),0)","v":0},{"$f":"IFERROR($E346*SUMIF('Daily Log'!$Z$18:$Z$1017,$B346,'Daily Log'!$AA$18:$AA$1017),0)","v":0},{"$f":"IFERROR($E346*SUMIF('Daily Log'!$AC$18:$AC$1017,$B346,'Daily Log'!$AD$18:$AD$1017),0)","v":0},{"$f":"IFERROR($E346*SUMIF('Daily Log'!$AF$18:$AF$1017,$B346,'Daily Log'!$AG$18:$AG$1017),0)","v":0},{"$f":"IFERROR($E346*SUMIF('Daily Log'!$AI$18:$AI$1017,$B346,'Daily Log'!$AJ$18:$AJ$1017),0)","v":0},{"$f":"IFERROR($E346*SUMIF('Daily Log'!$AL$18:$AL$1017,$B346,'Daily Log'!$AM$18:$AM$1017),0)","v":0},{"$f":"IFERROR($E346*SUMIF('Daily Log'!$AO$18:$AO$1017,$B346,'Daily Log'!$AP$18:$AP$1017),0)","v":0},{"$f":"IFERROR($E346*SUMIF('Daily Log'!$AR$18:$AR$1017,$B346,'Daily Log'!$AS$18:$AS$1017),0)","v":0},{"$f":"IFERROR($E346*SUMIF('Daily Log'!$AU$18:$AU$1017,$B346,'Daily Log'!$AV$18:$AV$1017),0)","v":0},{"$f":"IFERROR($E346*SUMIF('Daily Log'!$AX$18:$AX$1017,$B346,'Daily Log'!$AY$18:$AY$1017),0)","v":0},{"$f":"IFERROR($E346*SUMIF('Daily Log'!$BA$18:$BA$1017,$B346,'Daily Log'!$BB$18:$BB$1017),0)","v":0},{"$f":"IFERROR($E346*SUMIF('Daily Log'!$BD$18:$BD$1017,$B346,'Daily Log'!$BE$18:$BE$1017),0)","v":0},{"$f":"IFERROR($E346*SUMIF('Daily Log'!$BG$18:$BG$1017,$B346,'Daily Log'!$BH$18:$BH$1017),0)","v":0},{"$f":"IFERROR($E346*SUMIF('Daily Log'!$BJ$18:$BJ$1017,$B346,'Daily Log'!$BK$18:$BK$1017),0)","v":0},{"$f":"IFERROR($E346*SUMIF('Daily Log'!$BM$18:$BM$1017,$B346,'Daily Log'!$BN$18:$BN$1017),0)","v":0},{"$f":"IFERROR($E346*SUMIF('Daily Log'!$BP$18:$BP$1017,$B346,'Daily Log'!$BQ$18:$BQ$1017),0)","v":0},{"$f":"IFERROR($E346*SUMIF('Daily Log'!$BS$18:$BS$1017,$B346,'Daily Log'!$BT$18:$BT$1017),0)","v":0},{"$f":"IFERROR($E346*SUMIF('Daily Log'!$BV$18:$BV$1017,$B346,'Daily Log'!$BW$18:$BW$1017),0)","v":0},{"$f":"IFERROR($E346*SUMIF('Daily Log'!$BY$18:$BY$1017,$B346,'Daily Log'!$BZ$18:$BZ$1017),0)","v":0},{"$f":"IFERROR($E346*SUMIF('Daily Log'!$CB$18:$CB$1017,$B346,'Daily Log'!$CC$18:$CC$1017),0)","v":0},{"$f":"IFERROR($E346*SUMIF('Daily Log'!$CE$18:$CE$1017,$B346,'Daily Log'!$CF$18:$CF$1017),0)","v":0},{"$f":"IFERROR($E346*SUMIF('Daily Log'!$CH$18:$CH$1017,$B346,'Daily Log'!$CI$18:$CI$1017),0)","v":0},{"$f":"IFERROR($E346*SUMIF('Daily Log'!$CK$18:$CK$1017,$B346,'Daily Log'!$CL$18:$CL$1017),0)","v":5},{"$f":"IFERROR($E346*SUMIF('Daily Log'!$CN$18:$CN$1017,$B346,'Daily Log'!$CO$18:$CO$1017),0)","v":0}]
[null,"DI02 91202:FREN FRIES",null,"KLKD-APPETIZER",1,39,{"$f":"IFERROR($E347*SUMIF('Daily Log'!$B$18:$B$1017,$B347,'Daily Log'!$C$18:$C$1017),0)","v":0},{"$f":"IFERROR($E347*SUMIF('Daily Log'!$E$18:$E$1017,$B347,'Daily Log'!$F$18:$F$1017),0)","v":0},{"$f":"IFERROR($E347*SUMIF('Daily Log'!$H$18:$H$1017,$B347,'Daily Log'!$I$18:$I$1017),0)","v":0},{"$f":"IFERROR($E347*SUMIF('Daily Log'!$K$18:$K$1017,$B347,'Daily Log'!$L$18:$L$1017),0)","v":0},{"$f":"IFERROR($E347*SUMIF('Daily Log'!$N$18:$N$1017,$B347,'Daily Log'!$O$18:$O$1017),0)","v":0},{"$f":"IFERROR($E347*SUMIF('Daily Log'!$Q$18:$Q$1017,$B347,'Daily Log'!$R$18:$R$1017),0)","v":0},{"$f":"IFERROR($E347*SUMIF('Daily Log'!$T$18:$T$1017,$B347,'Daily Log'!$U$18:$U$1017),0)","v":0},{"$f":"IFERROR($E347*SUMIF('Daily Log'!$W$18:$W$1017,$B347,'Daily Log'!$X$18:$X$1017),0)","v":0},{"$f":"IFERROR($E347*SUMIF('Daily Log'!$Z$18:$Z$1017,$B347,'Daily Log'!$AA$18:$AA$1017),0)","v":0},{"$f":"IFERROR($E347*SUMIF('Daily Log'!$AC$18:$AC$1017,$B347,'Daily Log'!$AD$18:$AD$1017),0)","v":0},{"$f":"IFERROR($E347*SUMIF('Daily Log'!$AF$18:$AF$1017,$B347,'Daily Log'!$AG$18:$AG$1017),0)","v":0},{"$f":"IFERROR($E347*SUMIF('Daily Log'!$AI$18:$AI$1017,$B347,'Daily Log'!$AJ$18:$AJ$1017),0)","v":0},{"$f":"IFERROR($E347*SUMIF('Daily Log'!$AL$18:$AL$1017,$B347,'Daily Log'!$AM$18:$AM$1017),0)","v":0},{"$f":"IFERROR($E347*SUMIF('Daily Log'!$AO$18:$AO$1017,$B347,'Daily Log'!$AP$18:$AP$1017),0)","v":0},{"$f":"IFERROR($E347*SUMIF('Daily Log'!$AR$18:$AR$1017,$B347,'Daily Log'!$AS$18:$AS$1017),0)","v":0},{"$f":"IFERROR($E347*SUMIF('Daily Log'!$AU$18:$AU$1017,$B347,'Daily Log'!$AV$18:$AV$1017),0)","v":0},{"$f":"IFERROR($E347*SUMIF('Daily Log'!$AX$18:$AX$1017,$B347,'Daily Log'!$AY$18:$AY$1017),0)","v":0},{"$f":"IFERROR($E347*SUMIF('Daily Log'!$BA$18:$BA$1017,$B347,'Daily Log'!$BB$18:$BB$1017),0)","v":0},{"$f":"IFERROR($E347*SUMIF('Daily Log'!$BD$18:$BD$1017,$B347,'Daily Log'!$BE$18:$BE$1017),0)","v":0},{"$f":"IFERROR($E347*SUMIF('Daily Log'!$BG$18:$BG$1017,$B347,'Daily Log'!$BH$18:$BH$1017),0)","v":0},{"$f":"IFERROR($E347*SUMIF('Daily Log'!$BJ$18:$BJ$1017,$B347,'Daily Log'!$BK$18:$BK$1017),0)","v":0},{"$f":"IFERROR($E347*SUMIF('Daily Log'!$BM$18:$BM$1017,$B347,'Daily Log'!$BN$18:$BN$1017),0)","v":0},{"$f":"IFERROR($E347*SUMIF('Daily Log'!$BP$18:$BP$1017,$B347,'Daily Log'!$BQ$18:$BQ$1017),0)","v":0},{"$f":"IFERROR($E347*SUMIF('Daily Log'!$BS$18:$BS$1017,$B347,'Daily Log'!$BT$18:$BT$1017),0)","v":0},{"$f":"IFERROR($E347*SUMIF('Daily Log'!$BV$18:$BV$1017,$B347,'Daily Log'!$BW$18:$BW$1017),0)","v":0},{"$f":"IFERROR($E347*SUMIF('Daily Log'!$BY$18:$BY$1017,$B347,'Daily Log'!$BZ$18:$BZ$1017),0)","v":0},{"$f":"IFERROR($E347*SUMIF('Daily Log'!$CB$18:$CB$1017,$B347,'Daily Log'!$CC$18:$CC$1017),0)","v":0},{"$f":"IFERROR($E347*SUMIF('Daily Log'!$CE$18:$CE$1017,$B347,'Daily Log'!$CF$18:$CF$1017),0)","v":0},{"$f":"IFERROR($E347*SUMIF('Daily Log'!$CH$18:$CH$1017,$B347,'Daily Log'!$CI$18:$CI$1017),0)","v":0},{"$f":"IFERROR($E347*SUMIF('Daily Log'!$CK$18:$CK$1017,$B347,'Daily Log'!$CL$18:$CL$1017),0)","v":39},{"$f":"IFERROR($E347*SUMIF('Daily Log'!$CN$18:$CN$1017,$B347,'Daily Log'!$CO$18:$CO$1017),0)","v":0}]
[null,"DI03 91203:GOLD MROOM",null,"KLKD-APPETIZER",1,9,{"$f":"IFERROR($E348*SUMIF('Daily Log'!$B$18:$B$1017,$B348,'Daily Log'!$C$18:$C$1017),0)","v":0},{"$f":"IFERROR($E348*SUMIF('Daily Log'!$E$18:$E$1017,$B348,'Daily Log'!$F$18:$F$1017),0)","v":0},{"$f":"IFERROR($E348*SUMIF('Daily Log'!$H$18:$H$1017,$B348,'Daily Log'!$I$18:$I$1017),0)","v":0},{"$f":"IFERROR($E348*SUMIF('Daily Log'!$K$18:$K$1017,$B348,'Daily Log'!$L$18:$L$1017),0)","v":0},{"$f":"IFERROR($E348*SUMIF('Daily Log'!$N$18:$N$1017,$B348,'Daily Log'!$O$18:$O$1017),0)","v":0},{"$f":"IFERROR($E348*SUMIF('Daily Log'!$Q$18:$Q$1017,$B348,'Daily Log'!$R$18:$R$1017),0)","v":0},{"$f":"IFERROR($E348*SUMIF('Daily Log'!$T$18:$T$1017,$B348,'Daily Log'!$U$18:$U$1017),0)","v":0},{"$f":"IFERROR($E348*SUMIF('Daily Log'!$W$18:$W$1017,$B348,'Daily Log'!$X$18:$X$1017),0)","v":0},{"$f":"IFERROR($E348*SUMIF('Daily Log'!$Z$18:$Z$1017,$B348,'Daily Log'!$AA$18:$AA$1017),0)","v":0},{"$f":"IFERROR($E348*SUMIF('Daily Log'!$AC$18:$AC$1017,$B348,'Daily Log'!$AD$18:$AD$1017),0)","v":0},{"$f":"IFERROR($E348*SUMIF('Daily Log'!$AF$18:$AF$1017,$B348,'Daily Log'!$AG$18:$AG$1017),0)","v":0},{"$f":"IFERROR($E348*SUMIF('Daily Log'!$AI$18:$AI$1017,$B348,'Daily Log'!$AJ$18:$AJ$1017),0)","v":0},{"$f":"IFERROR($E348*SUMIF('Daily Log'!$AL$18:$AL$1017,$B348,'Daily Log'!$AM$18:$AM$1017),0)","v":0},{"$f":"IFERROR($E348*SUMIF('Daily Log'!$AO$18:$AO$1017,$B348,'Daily Log'!$AP$18:$AP$1017),0)","v":0},{"$f":"IFERROR($E348*SUMIF('Daily Log'!$AR$18:$AR$1017,$B348,'Daily Log'!$AS$18:$AS$1017),0)","v":0},{"$f":"IFERROR($E348*SUMIF('Daily Log'!$AU$18:$AU$1017,$B348,'Daily Log'!$AV$18:$AV$1017),0)","v":0},{"$f":"IFERROR($E348*SUMIF('Daily Log'!$AX$18:$AX$1017,$B348,'Daily Log'!$AY$18:$AY$1017),0)","v":0},{"$f":"IFERROR($E348*SUMIF('Daily Log'!$BA$18:$BA$1017,$B348,'Daily Log'!$BB$18:$BB$1017),0)","v":0},{"$f":"IFERROR($E348*SUMIF('Daily Log'!$BD$18:$BD$1017,$B348,'Daily Log'!$BE$18:$BE$1017),0)","v":0},{"$f":"IFERROR($E348*SUMIF('Daily Log'!$BG$18:$BG$1017,$B348,'Daily Log'!$BH$18:$BH$1017),0)","v":0},{"$f":"IFERROR($E348*SUMIF('Daily Log'!$BJ$18:$BJ$1017,$B348,'Daily Log'!$BK$18:$BK$1017),0)","v":0},{"$f":"IFERROR($E348*SUMIF('Daily Log'!$BM$18:$BM$1017,$B348,'Daily Log'!$BN$18:$BN$1017),0)","v":0},{"$f":"IFERROR($E348*SUMIF('Daily Log'!$BP$18:$BP$1017,$B348,'Daily Log'!$BQ$18:$BQ$1017),0)","v":0},{"$f":"IFERROR($E348*SUMIF('Daily Log'!$BS$18:$BS$1017,$B348,'Daily Log'!$BT$18:$BT$1017),0)","v":0},{"$f":"IFERROR($E348*SUMIF('Daily Log'!$BV$18:$BV$1017,$B348,'Daily Log'!$BW$18:$BW$1017),0)","v":0},{"$f":"IFERROR($E348*SUMIF('Daily Log'!$BY$18:$BY$1017,$B348,'Daily Log'!$BZ$18:$BZ$1017),0)","v":0},{"$f":"IFERROR($E348*SUMIF('Daily Log'!$CB$18:$CB$1017,$B348,'Daily Log'!$CC$18:$CC$1017),0)","v":0},{"$f":"IFERROR($E348*SUMIF('Daily Log'!$CE$18:$CE$1017,$B348,'Daily Log'!$CF$18:$CF$1017),0)","v":0},{"$f":"IFERROR($E348*SUMIF('Daily Log'!$CH$18:$CH$1017,$B348,'Daily Log'!$CI$18:$CI$1017),0)","v":0},{"$f":"IFERROR($E348*SUMIF('Daily Log'!$CK$18:$CK$1017,$B348,'Daily Log'!$CL$18:$CL$1017),0)","v":9},{"$f":"IFERROR($E348*SUMIF('Daily Log'!$CN$18:$CN$1017,$B348,'Daily Log'!$CO$18:$CO$1017),0)","v":0}]
[null,"DI04 91204:FISHBALL",null,"KLKD-APPETIZER",1,4,{"$f":"IFERROR($E349*SUMIF('Daily Log'!$B$18:$B$1017,$B349,'Daily Log'!$C$18:$C$1017),0)","v":0},{"$f":"IFERROR($E349*SUMIF('Daily Log'!$E$18:$E$1017,$B349,'Daily Log'!$F$18:$F$1017),0)","v":0},{"$f":"IFERROR($E349*SUMIF('Daily Log'!$H$18:$H$1017,$B349,'Daily Log'!$I$18:$I$1017),0)","v":0},{"$f":"IFERROR($E349*SUMIF('Daily Log'!$K$18:$K$1017,$B349,'Daily Log'!$L$18:$L$1017),0)","v":0},{"$f":"IFERROR($E349*SUMIF('Daily Log'!$N$18:$N$1017,$B349,'Daily Log'!$O$18:$O$1017),0)","v":0},{"$f":"IFERROR($E349*SUMIF('Daily Log'!$Q$18:$Q$1017,$B349,'Daily Log'!$R$18:$R$1017),0)","v":0},{"$f":"IFERROR($E349*SUMIF('Daily Log'!$T$18:$T$1017,$B349,'Daily Log'!$U$18:$U$1017),0)","v":0},{"$f":"IFERROR($E349*SUMIF('Daily Log'!$W$18:$W$1017,$B349,'Daily Log'!$X$18:$X$1017),0)","v":0},{"$f":"IFERROR($E349*SUMIF('Daily Log'!$Z$18:$Z$1017,$B349,'Daily Log'!$AA$18:$AA$1017),0)","v":0},{"$f":"IFERROR($E349*SUMIF('Daily Log'!$AC$18:$AC$1017,$B349,'Daily Log'!$AD$18:$AD$1017),0)","v":0},{"$f":"IFERROR($E349*SUMIF('Daily Log'!$AF$18:$AF$1017,$B349,'Daily Log'!$AG$18:$AG$1017),0)","v":0},{"$f":"IFERROR($E349*SUMIF('Daily Log'!$AI$18:$AI$1017,$B349,'Daily Log'!$AJ$18:$AJ$1017),0)","v":0},{"$f":"IFERROR($E349*SUMIF('Daily Log'!$AL$18:$AL$1017,$B349,'Daily Log'!$AM$18:$AM$1017),0)","v":0},{"$f":"IFERROR($E349*SUMIF('Daily Log'!$AO$18:$AO$1017,$B349,'Daily Log'!$AP$18:$AP$1017),0)","v":0},{"$f":"IFERROR($E349*SUMIF('Daily Log'!$AR$18:$AR$1017,$B349,'Daily Log'!$AS$18:$AS$1017),0)","v":0},{"$f":"IFERROR($E349*SUMIF('Daily Log'!$AU$18:$AU$1017,$B349,'Daily Log'!$AV$18:$AV$1017),0)","v":0},{"$f":"IFERROR($E349*SUMIF('Daily Log'!$AX$18:$AX$1017,$B349,'Daily Log'!$AY$18:$AY$1017),0)","v":0},{"$f":"IFERROR($E349*SUMIF('Daily Log'!$BA$18:$BA$1017,$B349,'Daily Log'!$BB$18:$BB$1017),0)","v":0},{"$f":"IFERROR($E349*SUMIF('Daily Log'!$BD$18:$BD$1017,$B349,'Daily Log'!$BE$18:$BE$1017),0)","v":0},{"$f":"IFERROR($E349*SUMIF('Daily Log'!$BG$18:$BG$1017,$B349,'Daily Log'!$BH$18:$BH$1017),0)","v":0},{"$f":"IFERROR($E349*SUMIF('Daily Log'!$BJ$18:$BJ$1017,$B349,'Daily Log'!$BK$18:$BK$1017),0)","v":0},{"$f":"IFERROR($E349*SUMIF('Daily Log'!$BM$18:$BM$1017,$B349,'Daily Log'!$BN$18:$BN$1017),0)","v":0},{"$f":"IFERROR($E349*SUMIF('Daily Log'!$BP$18:$BP$1017,$B349,'Daily Log'!$BQ$18:$BQ$1017),0)","v":0},{"$f":"IFERROR($E349*SUMIF('Daily Log'!$BS$18:$BS$1017,$B349,'Daily Log'!$BT$18:$BT$1017),0)","v":0},{"$f":"IFERROR($E349*SUMIF('Daily Log'!$BV$18:$BV$1017,$B349,'Daily Log'!$BW$18:$BW$1017),0)","v":0},{"$f":"IFERROR($E349*SUMIF('Daily Log'!$BY$18:$BY$1017,$B349,'Daily Log'!$BZ$18:$BZ$1017),0)","v":0},{"$f":"IFERROR($E349*SUMIF('Daily Log'!$CB$18:$CB$1017,$B349,'Daily Log'!$CC$18:$CC$1017),0)","v":0},{"$f":"IFERROR($E349*SUMIF('Daily Log'!$CE$18:$CE$1017,$B349,'Daily Log'!$CF$18:$CF$1017),0)","v":0},{"$f":"IFERROR($E349*SUMIF('Daily Log'!$CH$18:$CH$1017,$B349,'Daily Log'!$CI$18:$CI$1017),0)","v":0},{"$f":"IFERROR($E349*SUMIF('Daily Log'!$CK$18:$CK$1017,$B349,'Daily Log'!$CL$18:$CL$1017),0)","v":4},{"$f":"IFERROR($E349*SUMIF('Daily Log'!$CN$18:$CN$1017,$B349,'Daily Log'!$CO$18:$CO$1017),0)","v":0}]
[null,"DI05 91205:RAINBOW RL",null,"KLKD-APPETIZER",1,5,{"$f":"IFERROR($E350*SUMIF('Daily Log'!$B$18:$B$1017,$B350,'Daily Log'!$C$18:$C$1017),0)","v":0},{"$f":"IFERROR($E350*SUMIF('Daily Log'!$E$18:$E$1017,$B350,'Daily Log'!$F$18:$F$1017),0)","v":0},{"$f":"IFERROR($E350*SUMIF('Daily Log'!$H$18:$H$1017,$B350,'Daily Log'!$I$18:$I$1017),0)","v":0},{"$f":"IFERROR($E350*SUMIF('Daily Log'!$K$18:$K$1017,$B350,'Daily Log'!$L$18:$L$1017),0)","v":0},{"$f":"IFERROR($E350*SUMIF('Daily Log'!$N$18:$N$1017,$B350,'Daily Log'!$O$18:$O$1017),0)","v":0},{"$f":"IFERROR($E350*SUMIF('Daily Log'!$Q$18:$Q$1017,$B350,'Daily Log'!$R$18:$R$1017),0)","v":0},{"$f":"IFERROR($E350*SUMIF('Daily Log'!$T$18:$T$1017,$B350,'Daily Log'!$U$18:$U$1017),0)","v":0},{"$f":"IFERROR($E350*SUMIF('Daily Log'!$W$18:$W$1017,$B350,'Daily Log'!$X$18:$X$1017),0)","v":0},{"$f":"IFERROR($E350*SUMIF('Daily Log'!$Z$18:$Z$1017,$B350,'Daily Log'!$AA$18:$AA$1017),0)","v":0},{"$f":"IFERROR($E350*SUMIF('Daily Log'!$AC$18:$AC$1017,$B350,'Daily Log'!$AD$18:$AD$1017),0)","v":0},{"$f":"IFERROR($E350*SUMIF('Daily Log'!$AF$18:$AF$1017,$B350,'Daily Log'!$AG$18:$AG$1017),0)","v":0},{"$f":"IFERROR($E350*SUMIF('Daily Log'!$AI$18:$AI$1017,$B350,'Daily Log'!$AJ$18:$AJ$1017),0)","v":0},{"$f":"IFERROR($E350*SUMIF('Daily Log'!$AL$18:$AL$1017,$B350,'Daily Log'!$AM$18:$AM$1017),0)","v":0},{"$f":"IFERROR($E350*SUMIF('Daily Log'!$AO$18:$AO$1017,$B350,'Daily Log'!$AP$18:$AP$1017),0)","v":0},{"$f":"IFERROR($E350*SUMIF('Daily Log'!$AR$18:$AR$1017,$B350,'Daily Log'!$AS$18:$AS$1017),0)","v":0},{"$f":"IFERROR($E350*SUMIF('Daily Log'!$AU$18:$AU$1017,$B350,'Daily Log'!$AV$18:$AV$1017),0)","v":0},{"$f":"IFERROR($E350*SUMIF('Daily Log'!$AX$18:$AX$1017,$B350,'Daily Log'!$AY$18:$AY$1017),0)","v":0},{"$f":"IFERROR($E350*SUMIF('Daily Log'!$BA$18:$BA$1017,$B350,'Daily Log'!$BB$18:$BB$1017),0)","v":0},{"$f":"IFERROR($E350*SUMIF('Daily Log'!$BD$18:$BD$1017,$B350,'Daily Log'!$BE$18:$BE$1017),0)","v":0},{"$f":"IFERROR($E350*SUMIF('Daily Log'!$BG$18:$BG$1017,$B350,'Daily Log'!$BH$18:$BH$1017),0)","v":0},{"$f":"IFERROR($E350*SUMIF('Daily Log'!$BJ$18:$BJ$1017,$B350,'Daily Log'!$BK$18:$BK$1017),0)","v":0},{"$f":"IFERROR($E350*SUMIF('Daily Log'!$BM$18:$BM$1017,$B350,'Daily Log'!$BN$18:$BN$1017),0)","v":0},{"$f":"IFERROR($E350*SUMIF('Daily Log'!$BP$18:$BP$1017,$B350,'Daily Log'!$BQ$18:$BQ$1017),0)","v":0},{"$f":"IFERROR($E350*SUMIF('Daily Log'!$BS$18:$BS$1017,$B350,'Daily Log'!$BT$18:$BT$1017),0)","v":0},{"$f":"IFERROR($E350*SUMIF('Daily Log'!$BV$18:$BV$1017,$B350,'Daily Log'!$BW$18:$BW$1017),0)","v":0},{"$f":"IFERROR($E350*SUMIF('Daily Log'!$BY$18:$BY$1017,$B350,'Daily Log'!$BZ$18:$BZ$1017),0)","v":0},{"$f":"IFERROR($E350*SUMIF('Daily Log'!$CB$18:$CB$1017,$B350,'Daily Log'!$CC$18:$CC$1017),0)","v":0},{"$f":"IFERROR($E350*SUMIF('Daily Log'!$CE$18:$CE$1017,$B350,'Daily Log'!$CF$18:$CF$1017),0)","v":0},{"$f":"IFERROR($E350*SUMIF('Daily Log'!$CH$18:$CH$1017,$B350,'Daily Log'!$CI$18:$CI$1017),0)","v":0},{"$f":"IFERROR($E350*SUMIF('Daily Log'!$CK$18:$CK$1017,$B350,'Daily Log'!$CL$18:$CL$1017),0)","v":5},{"$f":"IFERROR($E350*SUMIF('Daily Log'!$CN$18:$CN$1017,$B350,'Daily Log'!$CO$18:$CO$1017),0)","v":0}]
[null,"DI06 91206:SPRING RL",null,"KLKD-APPETIZER",1,11,{"$f":"IFERROR($E351*SUMIF('Daily Log'!$B$18:$B$1017,$B351,'Daily Log'!$C$18:$C$1017),0)","v":0},{"$f":"IFERROR($E351*SUMIF('Daily Log'!$E$18:$E$1017,$B351,'Daily Log'!$F$18:$F$1017),0)","v":0},{"$f":"IFERROR($E351*SUMIF('Daily Log'!$H$18:$H$1017,$B351,'Daily Log'!$I$18:$I$1017),0)","v":0},{"$f":"IFERROR($E351*SUMIF('Daily Log'!$K$18:$K$1017,$B351,'Daily Log'!$L$18:$L$1017),0)","v":0},{"$f":"IFERROR($E351*SUMIF('Daily Log'!$N$18:$N$1017,$B351,'Daily Log'!$O$18:$O$1017),0)","v":0},{"$f":"IFERROR($E351*SUMIF('Daily Log'!$Q$18:$Q$1017,$B351,'Daily Log'!$R$18:$R$1017),0)","v":0},{"$f":"IFERROR($E351*SUMIF('Daily Log'!$T$18:$T$1017,$B351,'Daily Log'!$U$18:$U$1017),0)","v":0},{"$f":"IFERROR($E351*SUMIF('Daily Log'!$W$18:$W$1017,$B351,'Daily Log'!$X$18:$X$1017),0)","v":0},{"$f":"IFERROR($E351*SUMIF('Daily Log'!$Z$18:$Z$1017,$B351,'Daily Log'!$AA$18:$AA$1017),0)","v":0},{"$f":"IFERROR($E351*SUMIF('Daily Log'!$AC$18:$AC$1017,$B351,'Daily Log'!$AD$18:$AD$1017),0)","v":0},{"$f":"IFERROR($E351*SUMIF('Daily Log'!$AF$18:$AF$1017,$B351,'Daily Log'!$AG$18:$AG$1017),0)","v":0},{"$f":"IFERROR($E351*SUMIF('Daily Log'!$AI$18:$AI$1017,$B351,'Daily Log'!$AJ$18:$AJ$1017),0)","v":0},{"$f":"IFERROR($E351*SUMIF('Daily Log'!$AL$18:$AL$1017,$B351,'Daily Log'!$AM$18:$AM$1017),0)","v":0},{"$f":"IFERROR($E351*SUMIF('Daily Log'!$AO$18:$AO$1017,$B351,'Daily Log'!$AP$18:$AP$1017),0)","v":0},{"$f":"IFERROR($E351*SUMIF('Daily Log'!$AR$18:$AR$1017,$B351,'Daily Log'!$AS$18:$AS$1017),0)","v":0},{"$f":"IFERROR($E351*SUMIF('Daily Log'!$AU$18:$AU$1017,$B351,'Daily Log'!$AV$18:$AV$1017),0)","v":0},{"$f":"IFERROR($E351*SUMIF('Daily Log'!$AX$18:$AX$1017,$B351,'Daily Log'!$AY$18:$AY$1017),0)","v":0},{"$f":"IFERROR($E351*SUMIF('Daily Log'!$BA$18:$BA$1017,$B351,'Daily Log'!$BB$18:$BB$1017),0)","v":0},{"$f":"IFERROR($E351*SUMIF('Daily Log'!$BD$18:$BD$1017,$B351,'Daily Log'!$BE$18:$BE$1017),0)","v":0},{"$f":"IFERROR($E351*SUMIF('Daily Log'!$BG$18:$BG$1017,$B351,'Daily Log'!$BH$18:$BH$1017),0)","v":0},{"$f":"IFERROR($E351*SUMIF('Daily Log'!$BJ$18:$BJ$1017,$B351,'Daily Log'!$BK$18:$BK$1017),0)","v":0},{"$f":"IFERROR($E351*SUMIF('Daily Log'!$BM$18:$BM$1017,$B351,'Daily Log'!$BN$18:$BN$1017),0)","v":0},{"$f":"IFERROR($E351*SUMIF('Daily Log'!$BP$18:$BP$1017,$B351,'Daily Log'!$BQ$18:$BQ$1017),0)","v":0},{"$f":"IFERROR($E351*SUMIF('Daily Log'!$BS$18:$BS$1017,$B351,'Daily Log'!$BT$18:$BT$1017),0)","v":0},{"$f":"IFERROR($E351*SUMIF('Daily Log'!$BV$18:$BV$1017,$B351,'Daily Log'!$BW$18:$BW$1017),0)","v":0},{"$f":"IFERROR($E351*SUMIF('Daily Log'!$BY$18:$BY$1017,$B351,'Daily Log'!$BZ$18:$BZ$1017),0)","v":0},{"$f":"IFERROR($E351*SUMIF('Daily Log'!$CB$18:$CB$1017,$B351,'Daily Log'!$CC$18:$CC$1017),0)","v":0},{"$f":"IFERROR($E351*SUMIF('Daily Log'!$CE$18:$CE$1017,$B351,'Daily Log'!$CF$18:$CF$1017),0)","v":0},{"$f":"IFERROR($E351*SUMIF('Daily Log'!$CH$18:$CH$1017,$B351,'Daily Log'!$CI$18:$CI$1017),0)","v":0},{"$f":"IFERROR($E351*SUMIF('Daily Log'!$CK$18:$CK$1017,$B351,'Daily Log'!$CL$18:$CL$1017),0)","v":11},{"$f":"IFERROR($E351*SUMIF('Daily Log'!$CN$18:$CN$1017,$B351,'Daily Log'!$CO$18:$CO$1017),0)","v":0}]
[null,"DI07 91207:SAUSAGE",null,"KLKD-APPETIZER",1,22,{"$f":"IFERROR($E352*SUMIF('Daily Log'!$B$18:$B$1017,$B352,'Daily Log'!$C$18:$C$1017),0)","v":0},{"$f":"IFERROR($E352*SUMIF('Daily Log'!$E$18:$E$1017,$B352,'Daily Log'!$F$18:$F$1017),0)","v":0},{"$f":"IFERROR($E352*SUMIF('Daily Log'!$H$18:$H$1017,$B352,'Daily Log'!$I$18:$I$1017),0)","v":0},{"$f":"IFERROR($E352*SUMIF('Daily Log'!$K$18:$K$1017,$B352,'Daily Log'!$L$18:$L$1017),0)","v":0},{"$f":"IFERROR($E352*SUMIF('Daily Log'!$N$18:$N$1017,$B352,'Daily Log'!$O$18:$O$1017),0)","v":0},{"$f":"IFERROR($E352*SUMIF('Daily Log'!$Q$18:$Q$1017,$B352,'Daily Log'!$R$18:$R$1017),0)","v":0},{"$f":"IFERROR($E352*SUMIF('Daily Log'!$T$18:$T$1017,$B352,'Daily Log'!$U$18:$U$1017),0)","v":0},{"$f":"IFERROR($E352*SUMIF('Daily Log'!$W$18:$W$1017,$B352,'Daily Log'!$X$18:$X$1017),0)","v":0},{"$f":"IFERROR($E352*SUMIF('Daily Log'!$Z$18:$Z$1017,$B352,'Daily Log'!$AA$18:$AA$1017),0)","v":0},{"$f":"IFERROR($E352*SUMIF('Daily Log'!$AC$18:$AC$1017,$B352,'Daily Log'!$AD$18:$AD$1017),0)","v":0},{"$f":"IFERROR($E352*SUMIF('Daily Log'!$AF$18:$AF$1017,$B352,'Daily Log'!$AG$18:$AG$1017),0)","v":0},{"$f":"IFERROR($E352*SUMIF('Daily Log'!$AI$18:$AI$1017,$B352,'Daily Log'!$AJ$18:$AJ$1017),0)","v":0},{"$f":"IFERROR($E352*SUMIF('Daily Log'!$AL$18:$AL$1017,$B352,'Daily Log'!$AM$18:$AM$1017),0)","v":0},{"$f":"IFERROR($E352*SUMIF('Daily Log'!$AO$18:$AO$1017,$B352,'Daily Log'!$AP$18:$AP$1017),0)","v":0},{"$f":"IFERROR($E352*SUMIF('Daily Log'!$AR$18:$AR$1017,$B352,'Daily Log'!$AS$18:$AS$1017),0)","v":0},{"$f":"IFERROR($E352*SUMIF('Daily Log'!$AU$18:$AU$1017,$B352,'Daily Log'!$AV$18:$AV$1017),0)","v":0},{"$f":"IFERROR($E352*SUMIF('Daily Log'!$AX$18:$AX$1017,$B352,'Daily Log'!$AY$18:$AY$1017),0)","v":0},{"$f":"IFERROR($E352*SUMIF('Daily Log'!$BA$18:$BA$1017,$B352,'Daily Log'!$BB$18:$BB$1017),0)","v":0},{"$f":"IFERROR($E352*SUMIF('Daily Log'!$BD$18:$BD$1017,$B352,'Daily Log'!$BE$18:$BE$1017),0)","v":0},{"$f":"IFERROR($E352*SUMIF('Daily Log'!$BG$18:$BG$1017,$B352,'Daily Log'!$BH$18:$BH$1017),0)","v":0},{"$f":"IFERROR($E352*SUMIF('Daily Log'!$BJ$18:$BJ$1017,$B352,'Daily Log'!$BK$18:$BK$1017),0)","v":0},{"$f":"IFERROR($E352*SUMIF('Daily Log'!$BM$18:$BM$1017,$B352,'Daily Log'!$BN$18:$BN$1017),0)","v":0},{"$f":"IFERROR($E352*SUMIF('Daily Log'!$BP$18:$BP$1017,$B352,'Daily Log'!$BQ$18:$BQ$1017),0)","v":0},{"$f":"IFERROR($E352*SUMIF('Daily Log'!$BS$18:$BS$1017,$B352,'Daily Log'!$BT$18:$BT$1017),0)","v":0},{"$f":"IFERROR($E352*SUMIF('Daily Log'!$BV$18:$BV$1017,$B352,'Daily Log'!$BW$18:$BW$1017),0)","v":0},{"$f":"IFERROR($E352*SUMIF('Daily Log'!$BY$18:$BY$1017,$B352,'Daily Log'!$BZ$18:$BZ$1017),0)","v":0},{"$f":"IFERROR($E352*SUMIF('Daily Log'!$CB$18:$CB$1017,$B352,'Daily Log'!$CC$18:$CC$1017),0)","v":0},{"$f":"IFERROR($E352*SUMIF('Daily Log'!$CE$18:$CE$1017,$B352,'Daily Log'!$CF$18:$CF$1017),0)","v":0},{"$f":"IFERROR($E352*SUMIF('Daily Log'!$CH$18:$CH$1017,$B352,'Daily Log'!$CI$18:$CI$1017),0)","v":0},{"$f":"IFERROR($E352*SUMIF('Daily Log'!$CK$18:$CK$1017,$B352,'Daily Log'!$CL$18:$CL$1017),0)","v":22},{"$f":"IFERROR($E352*SUMIF('Daily Log'!$CN$18:$CN$1017,$B352,'Daily Log'!$CO$18:$CO$1017),0)","v":0}]
[null,"DI08 91208:HOTDOG BUN",null,"KLKD-APPETIZER",1,0,{"$f":"IFERROR($E353*SUMIF('Daily Log'!$B$18:$B$1017,$B353,'Daily Log'!$C$18:$C$1017),0)","v":0},{"$f":"IFERROR($E353*SUMIF('Daily Log'!$E$18:$E$1017,$B353,'Daily Log'!$F$18:$F$1017),0)","v":0},{"$f":"IFERROR($E353*SUMIF('Daily Log'!$H$18:$H$1017,$B353,'Daily Log'!$I$18:$I$1017),0)","v":0},{"$f":"IFERROR($E353*SUMIF('Daily Log'!$K$18:$K$1017,$B353,'Daily Log'!$L$18:$L$1017),0)","v":0},{"$f":"IFERROR($E353*SUMIF('Daily Log'!$N$18:$N$1017,$B353,'Daily Log'!$O$18:$O$1017),0)","v":0},{"$f":"IFERROR($E353*SUMIF('Daily Log'!$Q$18:$Q$1017,$B353,'Daily Log'!$R$18:$R$1017),0)","v":0},{"$f":"IFERROR($E353*SUMIF('Daily Log'!$T$18:$T$1017,$B353,'Daily Log'!$U$18:$U$1017),0)","v":0},{"$f":"IFERROR($E353*SUMIF('Daily Log'!$W$18:$W$1017,$B353,'Daily Log'!$X$18:$X$1017),0)","v":0},{"$f":"IFERROR($E353*SUMIF('Daily Log'!$Z$18:$Z$1017,$B353,'Daily Log'!$AA$18:$AA$1017),0)","v":0},{"$f":"IFERROR($E353*SUMIF('Daily Log'!$AC$18:$AC$1017,$B353,'Daily Log'!$AD$18:$AD$1017),0)","v":0},{"$f":"IFERROR($E353*SUMIF('Daily Log'!$AF$18:$AF$1017,$B353,'Daily Log'!$AG$18:$AG$1017),0)","v":0},{"$f":"IFERROR($E353*SUMIF('Daily Log'!$AI$18:$AI$1017,$B353,'Daily Log'!$AJ$18:$AJ$1017),0)","v":0},{"$f":"IFERROR($E353*SUMIF('Daily Log'!$AL$18:$AL$1017,$B353,'Daily Log'!$AM$18:$AM$1017),0)","v":0},{"$f":"IFERROR($E353*SUMIF('Daily Log'!$AO$18:$AO$1017,$B353,'Daily Log'!$AP$18:$AP$1017),0)","v":0},{"$f":"IFERROR($E353*SUMIF('Daily Log'!$AR$18:$AR$1017,$B353,'Daily Log'!$AS$18:$AS$1017),0)","v":0},{"$f":"IFERROR($E353*SUMIF('Daily Log'!$AU$18:$AU$1017,$B353,'Daily Log'!$AV$18:$AV$1017),0)","v":0},{"$f":"IFERROR($E353*SUMIF('Daily Log'!$AX$18:$AX$1017,$B353,'Daily Log'!$AY$18:$AY$1017),0)","v":0},{"$f":"IFERROR($E353*SUMIF('Daily Log'!$BA$18:$BA$1017,$B353,'Daily Log'!$BB$18:$BB$1017),0)","v":0},{"$f":"IFERROR($E353*SUMIF('Daily Log'!$BD$18:$BD$1017,$B353,'Daily Log'!$BE$18:$BE$1017),0)","v":0},{"$f":"IFERROR($E353*SUMIF('Daily Log'!$BG$18:$BG$1017,$B353,'Daily Log'!$BH$18:$BH$1017),0)","v":0},{"$f":"IFERROR($E353*SUMIF('Daily Log'!$BJ$18:$BJ$1017,$B353,'Daily Log'!$BK$18:$BK$1017),0)","v":0},{"$f":"IFERROR($E353*SUMIF('Daily Log'!$BM$18:$BM$1017,$B353,'Daily Log'!$BN$18:$BN$1017),0)","v":0},{"$f":"IFERROR($E353*SUMIF('Daily Log'!$BP$18:$BP$1017,$B353,'Daily Log'!$BQ$18:$BQ$1017),0)","v":0},{"$f":"IFERROR($E353*SUMIF('Daily Log'!$BS$18:$BS$1017,$B353,'Daily Log'!$BT$18:$BT$1017),0)","v":0},{"$f":"IFERROR($E353*SUMIF('Daily Log'!$BV$18:$BV$1017,$B353,'Daily Log'!$BW$18:$BW$1017),0)","v":0},{"$f":"IFERROR($E353*SUMIF('Daily Log'!$BY$18:$BY$1017,$B353,'Daily Log'!$BZ$18:$BZ$1017),0)","v":0},{"$f":"IFERROR($E353*SUMIF('Daily Log'!$CB$18:$CB$1017,$B353,'Daily Log'!$CC$18:$CC$1017),0)","v":0},{"$f":"IFERROR($E353*SUMIF('Daily Log'!$CE$18:$CE$1017,$B353,'Daily Log'!$CF$18:$CF$1017),0)","v":0},{"$f":"IFERROR($E353*SUMIF('Daily Log'!$CH$18:$CH$1017,$B353,'Daily Log'!$CI$18:$CI$1017),0)","v":0},{"$f":"IFERROR($E353*SUMIF('Daily Log'!$CK$18:$CK$1017,$B353,'Daily Log'!$CL$18:$CL$1017),0)","v":0},{"$f":"IFERROR($E353*SUMIF('Daily Log'!$CN$18:$CN$1017,$B353,'Daily Log'!$CO$18:$CO$1017),0)","v":0}]
[null,"DI09 91209:SFD TOFU",null,"KLKD-APPETIZER",1,0,{"$f":"IFERROR($E354*SUMIF('Daily Log'!$B$18:$B$1017,$B354,'Daily Log'!$C$18:$C$1017),0)","v":0},{"$f":"IFERROR($E354*SUMIF('Daily Log'!$E$18:$E$1017,$B354,'Daily Log'!$F$18:$F$1017),0)","v":0},{"$f":"IFERROR($E354*SUMIF('Daily Log'!$H$18:$H$1017,$B354,'Daily Log'!$I$18:$I$1017),0)","v":0},{"$f":"IFERROR($E354*SUMIF('Daily Log'!$K$18:$K$1017,$B354,'Daily Log'!$L$18:$L$1017),0)","v":0},{"$f":"IFERROR($E354*SUMIF('Daily Log'!$N$18:$N$1017,$B354,'Daily Log'!$O$18:$O$1017),0)","v":0},{"$f":"IFERROR($E354*SUMIF('Daily Log'!$Q$18:$Q$1017,$B354,'Daily Log'!$R$18:$R$1017),0)","v":0},{"$f":"IFERROR($E354*SUMIF('Daily Log'!$T$18:$T$1017,$B354,'Daily Log'!$U$18:$U$1017),0)","v":0},{"$f":"IFERROR($E354*SUMIF('Daily Log'!$W$18:$W$1017,$B354,'Daily Log'!$X$18:$X$1017),0)","v":0},{"$f":"IFERROR($E354*SUMIF('Daily Log'!$Z$18:$Z$1017,$B354,'Daily Log'!$AA$18:$AA$1017),0)","v":0},{"$f":"IFERROR($E354*SUMIF('Daily Log'!$AC$18:$AC$1017,$B354,'Daily Log'!$AD$18:$AD$1017),0)","v":0},{"$f":"IFERROR($E354*SUMIF('Daily Log'!$AF$18:$AF$1017,$B354,'Daily Log'!$AG$18:$AG$1017),0)","v":0},{"$f":"IFERROR($E354*SUMIF('Daily Log'!$AI$18:$AI$1017,$B354,'Daily Log'!$AJ$18:$AJ$1017),0)","v":0},{"$f":"IFERROR($E354*SUMIF('Daily Log'!$AL$18:$AL$1017,$B354,'Daily Log'!$AM$18:$AM$1017),0)","v":0},{"$f":"IFERROR($E354*SUMIF('Daily Log'!$AO$18:$AO$1017,$B354,'Daily Log'!$AP$18:$AP$1017),0)","v":0},{"$f":"IFERROR($E354*SUMIF('Daily Log'!$AR$18:$AR$1017,$B354,'Daily Log'!$AS$18:$AS$1017),0)","v":0},{"$f":"IFERROR($E354*SUMIF('Daily Log'!$AU$18:$AU$1017,$B354,'Daily Log'!$AV$18:$AV$1017),0)","v":0},{"$f":"IFERROR($E354*SUMIF('Daily Log'!$AX$18:$AX$1017,$B354,'Daily Log'!$AY$18:$AY$1017),0)","v":0},{"$f":"IFERROR($E354*SUMIF('Daily Log'!$BA$18:$BA$1017,$B354,'Daily Log'!$BB$18:$BB$1017),0)","v":0},{"$f":"IFERROR($E354*SUMIF('Daily Log'!$BD$18:$BD$1017,$B354,'Daily Log'!$BE$18:$BE$1017),0)","v":0},{"$f":"IFERROR($E354*SUMIF('Daily Log'!$BG$18:$BG$1017,$B354,'Daily Log'!$BH$18:$BH$1017),0)","v":0},{"$f":"IFERROR($E354*SUMIF('Daily Log'!$BJ$18:$BJ$1017,$B354,'Daily Log'!$BK$18:$BK$1017),0)","v":0},{"$f":"IFERROR($E354*SUMIF('Daily Log'!$BM$18:$BM$1017,$B354,'Daily Log'!$BN$18:$BN$1017),0)","v":0},{"$f":"IFERROR($E354*SUMIF('Daily Log'!$BP$18:$BP$1017,$B354,'Daily Log'!$BQ$18:$BQ$1017),0)","v":0},{"$f":"IFERROR($E354*SUMIF('Daily Log'!$BS$18:$BS$1017,$B354,'Daily Log'!$BT$18:$BT$1017),0)","v":0},{"$f":"IFERROR($E354*SUMIF('Daily Log'!$BV$18:$BV$1017,$B354,'Daily Log'!$BW$18:$BW$1017),0)","v":0},{"$f":"IFERROR($E354*SUMIF('Daily Log'!$BY$18:$BY$1017,$B354,'Daily Log'!$BZ$18:$BZ$1017),0)","v":0},{"$f":"IFERROR($E354*SUMIF('Daily Log'!$CB$18:$CB$1017,$B354,'Daily Log'!$CC$18:$CC$1017),0)","v":0},{"$f":"IFERROR($E354*SUMIF('Daily Log'!$CE$18:$CE$1017,$B354,'Daily Log'!$CF$18:$CF$1017),0)","v":0},{"$f":"IFERROR($E354*SUMIF('Daily Log'!$CH$18:$CH$1017,$B354,'Daily Log'!$CI$18:$CI$1017),0)","v":0},{"$f":"IFERROR($E354*SUMIF('Daily Log'!$CK$18:$CK$1017,$B354,'Daily Log'!$CL$18:$CL$1017),0)","v":0},{"$f":"IFERROR($E354*SUMIF('Daily Log'!$CN$18:$CN$1017,$B354,'Daily Log'!$CO$18:$CO$1017),0)","v":0}]
[null,"DI10 91301:DUMPLING",null,"KLKD-APPETIZER",1,8,{"$f":"IFERROR($E355*SUMIF('Daily Log'!$B$18:$B$1017,$B355,'Daily Log'!$C$18:$C$1017),0)","v":0},{"$f":"IFERROR($E355*SUMIF('Daily Log'!$E$18:$E$1017,$B355,'Daily Log'!$F$18:$F$1017),0)","v":0},{"$f":"IFERROR($E355*SUMIF('Daily Log'!$H$18:$H$1017,$B355,'Daily Log'!$I$18:$I$1017),0)","v":0},{"$f":"IFERROR($E355*SUMIF('Daily Log'!$K$18:$K$1017,$B355,'Daily Log'!$L$18:$L$1017),0)","v":0},{"$f":"IFERROR($E355*SUMIF('Daily Log'!$N$18:$N$1017,$B355,'Daily Log'!$O$18:$O$1017),0)","v":0},{"$f":"IFERROR($E355*SUMIF('Daily Log'!$Q$18:$Q$1017,$B355,'Daily Log'!$R$18:$R$1017),0)","v":0},{"$f":"IFERROR($E355*SUMIF('Daily Log'!$T$18:$T$1017,$B355,'Daily Log'!$U$18:$U$1017),0)","v":0},{"$f":"IFERROR($E355*SUMIF('Daily Log'!$W$18:$W$1017,$B355,'Daily Log'!$X$18:$X$1017),0)","v":0},{"$f":"IFERROR($E355*SUMIF('Daily Log'!$Z$18:$Z$1017,$B355,'Daily Log'!$AA$18:$AA$1017),0)","v":0},{"$f":"IFERROR($E355*SUMIF('Daily Log'!$AC$18:$AC$1017,$B355,'Daily Log'!$AD$18:$AD$1017),0)","v":0},{"$f":"IFERROR($E355*SUMIF('Daily Log'!$AF$18:$AF$1017,$B355,'Daily Log'!$AG$18:$AG$1017),0)","v":0},{"$f":"IFERROR($E355*SUMIF('Daily Log'!$AI$18:$AI$1017,$B355,'Daily Log'!$AJ$18:$AJ$1017),0)","v":0},{"$f":"IFERROR($E355*SUMIF('Daily Log'!$AL$18:$AL$1017,$B355,'Daily Log'!$AM$18:$AM$1017),0)","v":0},{"$f":"IFERROR($E355*SUMIF('Daily Log'!$AO$18:$AO$1017,$B355,'Daily Log'!$AP$18:$AP$1017),0)","v":0},{"$f":"IFERROR($E355*SUMIF('Daily Log'!$AR$18:$AR$1017,$B355,'Daily Log'!$AS$18:$AS$1017),0)","v":0},{"$f":"IFERROR($E355*SUMIF('Daily Log'!$AU$18:$AU$1017,$B355,'Daily Log'!$AV$18:$AV$1017),0)","v":0},{"$f":"IFERROR($E355*SUMIF('Daily Log'!$AX$18:$AX$1017,$B355,'Daily Log'!$AY$18:$AY$1017),0)","v":0},{"$f":"IFERROR($E355*SUMIF('Daily Log'!$BA$18:$BA$1017,$B355,'Daily Log'!$BB$18:$BB$1017),0)","v":0},{"$f":"IFERROR($E355*SUMIF('Daily Log'!$BD$18:$BD$1017,$B355,'Daily Log'!$BE$18:$BE$1017),0)","v":0},{"$f":"IFERROR($E355*SUMIF('Daily Log'!$BG$18:$BG$1017,$B355,'Daily Log'!$BH$18:$BH$1017),0)","v":0},{"$f":"IFERROR($E355*SUMIF('Daily Log'!$BJ$18:$BJ$1017,$B355,'Daily Log'!$BK$18:$BK$1017),0)","v":0},{"$f":"IFERROR($E355*SUMIF('Daily Log'!$BM$18:$BM$1017,$B355,'Daily Log'!$BN$18:$BN$1017),0)","v":0},{"$f":"IFERROR($E355*SUMIF('Daily Log'!$BP$18:$BP$1017,$B355,'Daily Log'!$BQ$18:$BQ$1017),0)","v":0},{"$f":"IFERROR($E355*SUMIF('Daily Log'!$BS$18:$BS$1017,$B355,'Daily Log'!$BT$18:$BT$1017),0)","v":0},{"$f":"IFERROR($E355*SUMIF('Daily Log'!$BV$18:$BV$1017,$B355,'Daily Log'!$BW$18:$BW$1017),0)","v":0},{"$f":"IFERROR($E355*SUMIF('Daily Log'!$BY$18:$BY$1017,$B355,'Daily Log'!$BZ$18:$BZ$1017),0)","v":0},{"$f":"IFERROR($E355*SUMIF('Daily Log'!$CB$18:$CB$1017,$B355,'Daily Log'!$CC$18:$CC$1017),0)","v":0},{"$f":"IFERROR($E355*SUMIF('Daily Log'!$CE$18:$CE$1017,$B355,'Daily Log'!$CF$18:$CF$1017),0)","v":0},{"$f":"IFERROR($E355*SUMIF('Daily Log'!$CH$18:$CH$1017,$B355,'Daily Log'!$CI$18:$CI$1017),0)","v":0},{"$f":"IFERROR($E355*SUMIF('Daily Log'!$CK$18:$CK$1017,$B355,'Daily Log'!$CL$18:$CL$1017),0)","v":8},{"$f":"IFERROR($E355*SUMIF('Daily Log'!$CN$18:$CN$1017,$B355,'Daily Log'!$CO$18:$CO$1017),0)","v":0}]
[null,"DI11 91302:NUGGET",null,"KLKD-APPETIZER",1,47,{"$f":"IFERROR($E356*SUMIF('Daily Log'!$B$18:$B$1017,$B356,'Daily Log'!$C$18:$C$1017),0)","v":0},{"$f":"IFERROR($E356*SUMIF('Daily Log'!$E$18:$E$1017,$B356,'Daily Log'!$F$18:$F$1017),0)","v":0},{"$f":"IFERROR($E356*SUMIF('Daily Log'!$H$18:$H$1017,$B356,'Daily Log'!$I$18:$I$1017),0)","v":0},{"$f":"IFERROR($E356*SUMIF('Daily Log'!$K$18:$K$1017,$B356,'Daily Log'!$L$18:$L$1017),0)","v":0},{"$f":"IFERROR($E356*SUMIF('Daily Log'!$N$18:$N$1017,$B356,'Daily Log'!$O$18:$O$1017),0)","v":0},{"$f":"IFERROR($E356*SUMIF('Daily Log'!$Q$18:$Q$1017,$B356,'Daily Log'!$R$18:$R$1017),0)","v":0},{"$f":"IFERROR($E356*SUMIF('Daily Log'!$T$18:$T$1017,$B356,'Daily Log'!$U$18:$U$1017),0)","v":0},{"$f":"IFERROR($E356*SUMIF('Daily Log'!$W$18:$W$1017,$B356,'Daily Log'!$X$18:$X$1017),0)","v":0},{"$f":"IFERROR($E356*SUMIF('Daily Log'!$Z$18:$Z$1017,$B356,'Daily Log'!$AA$18:$AA$1017),0)","v":0},{"$f":"IFERROR($E356*SUMIF('Daily Log'!$AC$18:$AC$1017,$B356,'Daily Log'!$AD$18:$AD$1017),0)","v":0},{"$f":"IFERROR($E356*SUMIF('Daily Log'!$AF$18:$AF$1017,$B356,'Daily Log'!$AG$18:$AG$1017),0)","v":0},{"$f":"IFERROR($E356*SUMIF('Daily Log'!$AI$18:$AI$1017,$B356,'Daily Log'!$AJ$18:$AJ$1017),0)","v":0},{"$f":"IFERROR($E356*SUMIF('Daily Log'!$AL$18:$AL$1017,$B356,'Daily Log'!$AM$18:$AM$1017),0)","v":0},{"$f":"IFERROR($E356*SUMIF('Daily Log'!$AO$18:$AO$1017,$B356,'Daily Log'!$AP$18:$AP$1017),0)","v":0},{"$f":"IFERROR($E356*SUMIF('Daily Log'!$AR$18:$AR$1017,$B356,'Daily Log'!$AS$18:$AS$1017),0)","v":0},{"$f":"IFERROR($E356*SUMIF('Daily Log'!$AU$18:$AU$1017,$B356,'Daily Log'!$AV$18:$AV$1017),0)","v":0},{"$f":"IFERROR($E356*SUMIF('Daily Log'!$AX$18:$AX$1017,$B356,'Daily Log'!$AY$18:$AY$1017),0)","v":0},{"$f":"IFERROR($E356*SUMIF('Daily Log'!$BA$18:$BA$1017,$B356,'Daily Log'!$BB$18:$BB$1017),0)","v":0},{"$f":"IFERROR($E356*SUMIF('Daily Log'!$BD$18:$BD$1017,$B356,'Daily Log'!$BE$18:$BE$1017),0)","v":0},{"$f":"IFERROR($E356*SUMIF('Daily Log'!$BG$18:$BG$1017,$B356,'Daily Log'!$BH$18:$BH$1017),0)","v":0},{"$f":"IFERROR($E356*SUMIF('Daily Log'!$BJ$18:$BJ$1017,$B356,'Daily Log'!$BK$18:$BK$1017),0)","v":0},{"$f":"IFERROR($E356*SUMIF('Daily Log'!$BM$18:$BM$1017,$B356,'Daily Log'!$BN$18:$BN$1017),0)","v":0},{"$f":"IFERROR($E356*SUMIF('Daily Log'!$BP$18:$BP$1017,$B356,'Daily Log'!$BQ$18:$BQ$1017),0)","v":0},{"$f":"IFERROR($E356*SUMIF('Daily Log'!$BS$18:$BS$1017,$B356,'Daily Log'!$BT$18:$BT$1017),0)","v":0},{"$f":"IFERROR($E356*SUMIF('Daily Log'!$BV$18:$BV$1017,$B356,'Daily Log'!$BW$18:$BW$1017),0)","v":0},{"$f":"IFERROR($E356*SUMIF('Daily Log'!$BY$18:$BY$1017,$B356,'Daily Log'!$BZ$18:$BZ$1017),0)","v":0},{"$f":"IFERROR($E356*SUMIF('Daily Log'!$CB$18:$CB$1017,$B356,'Daily Log'!$CC$18:$CC$1017),0)","v":0},{"$f":"IFERROR($E356*SUMIF('Daily Log'!$CE$18:$CE$1017,$B356,'Daily Log'!$CF$18:$CF$1017),0)","v":0},{"$f":"IFERROR($E356*SUMIF('Daily Log'!$CH$18:$CH$1017,$B356,'Daily Log'!$CI$18:$CI$1017),0)","v":0},{"$f":"IFERROR($E356*SUMIF('Daily Log'!$CK$18:$CK$1017,$B356,'Daily Log'!$CL$18:$CL$1017),0)","v":47},{"$f":"IFERROR($E356*SUMIF('Daily Log'!$CN$18:$CN$1017,$B356,'Daily Log'!$CO$18:$CO$1017),0)","v":0}]
[null,"DI12 91303:CHK WING",null,"KLKD-APPETIZER",1,47,{"$f":"IFERROR($E357*SUMIF('Daily Log'!$B$18:$B$1017,$B357,'Daily Log'!$C$18:$C$1017),0)","v":0},{"$f":"IFERROR($E357*SUMIF('Daily Log'!$E$18:$E$1017,$B357,'Daily Log'!$F$18:$F$1017),0)","v":0},{"$f":"IFERROR($E357*SUMIF('Daily Log'!$H$18:$H$1017,$B357,'Daily Log'!$I$18:$I$1017),0)","v":0},{"$f":"IFERROR($E357*SUMIF('Daily Log'!$K$18:$K$1017,$B357,'Daily Log'!$L$18:$L$1017),0)","v":0},{"$f":"IFERROR($E357*SUMIF('Daily Log'!$N$18:$N$1017,$B357,'Daily Log'!$O$18:$O$1017),0)","v":0},{"$f":"IFERROR($E357*SUMIF('Daily Log'!$Q$18:$Q$1017,$B357,'Daily Log'!$R$18:$R$1017),0)","v":0},{"$f":"IFERROR($E357*SUMIF('Daily Log'!$T$18:$T$1017,$B357,'Daily Log'!$U$18:$U$1017),0)","v":0},{"$f":"IFERROR($E357*SUMIF('Daily Log'!$W$18:$W$1017,$B357,'Daily Log'!$X$18:$X$1017),0)","v":0},{"$f":"IFERROR($E357*SUMIF('Daily Log'!$Z$18:$Z$1017,$B357,'Daily Log'!$AA$18:$AA$1017),0)","v":0},{"$f":"IFERROR($E357*SUMIF('Daily Log'!$AC$18:$AC$1017,$B357,'Daily Log'!$AD$18:$AD$1017),0)","v":0},{"$f":"IFERROR($E357*SUMIF('Daily Log'!$AF$18:$AF$1017,$B357,'Daily Log'!$AG$18:$AG$1017),0)","v":0},{"$f":"IFERROR($E357*SUMIF('Daily Log'!$AI$18:$AI$1017,$B357,'Daily Log'!$AJ$18:$AJ$1017),0)","v":0},{"$f":"IFERROR($E357*SUMIF('Daily Log'!$AL$18:$AL$1017,$B357,'Daily Log'!$AM$18:$AM$1017),0)","v":0},{"$f":"IFERROR($E357*SUMIF('Daily Log'!$AO$18:$AO$1017,$B357,'Daily Log'!$AP$18:$AP$1017),0)","v":0},{"$f":"IFERROR($E357*SUMIF('Daily Log'!$AR$18:$AR$1017,$B357,'Daily Log'!$AS$18:$AS$1017),0)","v":0},{"$f":"IFERROR($E357*SUMIF('Daily Log'!$AU$18:$AU$1017,$B357,'Daily Log'!$AV$18:$AV$1017),0)","v":0},{"$f":"IFERROR($E357*SUMIF('Daily Log'!$AX$18:$AX$1017,$B357,'Daily Log'!$AY$18:$AY$1017),0)","v":0},{"$f":"IFERROR($E357*SUMIF('Daily Log'!$BA$18:$BA$1017,$B357,'Daily Log'!$BB$18:$BB$1017),0)","v":0},{"$f":"IFERROR($E357*SUMIF('Daily Log'!$BD$18:$BD$1017,$B357,'Daily Log'!$BE$18:$BE$1017),0)","v":0},{"$f":"IFERROR($E357*SUMIF('Daily Log'!$BG$18:$BG$1017,$B357,'Daily Log'!$BH$18:$BH$1017),0)","v":0},{"$f":"IFERROR($E357*SUMIF('Daily Log'!$BJ$18:$BJ$1017,$B357,'Daily Log'!$BK$18:$BK$1017),0)","v":0},{"$f":"IFERROR($E357*SUMIF('Daily Log'!$BM$18:$BM$1017,$B357,'Daily Log'!$BN$18:$BN$1017),0)","v":0},{"$f":"IFERROR($E357*SUMIF('Daily Log'!$BP$18:$BP$1017,$B357,'Daily Log'!$BQ$18:$BQ$1017),0)","v":0},{"$f":"IFERROR($E357*SUMIF('Daily Log'!$BS$18:$BS$1017,$B357,'Daily Log'!$BT$18:$BT$1017),0)","v":0},{"$f":"IFERROR($E357*SUMIF('Daily Log'!$BV$18:$BV$1017,$B357,'Daily Log'!$BW$18:$BW$1017),0)","v":0},{"$f":"IFERROR($E357*SUMIF('Daily Log'!$BY$18:$BY$1017,$B357,'Daily Log'!$BZ$18:$BZ$1017),0)","v":0},{"$f":"IFERROR($E357*SUMIF('Daily Log'!$CB$18:$CB$1017,$B357,'Daily Log'!$CC$18:$CC$1017),0)","v":0},{"$f":"IFERROR($E357*SUMIF('Daily Log'!$CE$18:$CE$1017,$B357,'Daily Log'!$CF$18:$CF$1017),0)","v":0},{"$f":"IFERROR($E357*SUMIF('Daily Log'!$CH$18:$CH$1017,$B357,'Daily Log'!$CI$18:$CI$1017),0)","v":0},{"$f":"IFERROR($E357*SUMIF('Daily Log'!$CK$18:$CK$1017,$B357,'Daily Log'!$CL$18:$CL$1017),0)","v":47},{"$f":"IFERROR($E357*SUMIF('Daily Log'!$CN$18:$CN$1017,$B357,'Daily Log'!$CO$18:$CO$1017),0)","v":0}]
[null,"DI13 91304:IKAN BILIS",null,"KLKD-APPETIZER",1,3,{"$f":"IFERROR($E358*SUMIF('Daily Log'!$B$18:$B$1017,$B358,'Daily Log'!$C$18:$C$1017),0)","v":0},{"$f":"IFERROR($E358*SUMIF('Daily Log'!$E$18:$E$1017,$B358,'Daily Log'!$F$18:$F$1017),0)","v":0},{"$f":"IFERROR($E358*SUMIF('Daily Log'!$H$18:$H$1017,$B358,'Daily Log'!$I$18:$I$1017),0)","v":0},{"$f":"IFERROR($E358*SUMIF('Daily Log'!$K$18:$K$1017,$B358,'Daily Log'!$L$18:$L$1017),0)","v":0},{"$f":"IFERROR($E358*SUMIF('Daily Log'!$N$18:$N$1017,$B358,'Daily Log'!$O$18:$O$1017),0)","v":0},{"$f":"IFERROR($E358*SUMIF('Daily Log'!$Q$18:$Q$1017,$B358,'Daily Log'!$R$18:$R$1017),0)","v":0},{"$f":"IFERROR($E358*SUMIF('Daily Log'!$T$18:$T$1017,$B358,'Daily Log'!$U$18:$U$1017),0)","v":0},{"$f":"IFERROR($E358*SUMIF('Daily Log'!$W$18:$W$1017,$B358,'Daily Log'!$X$18:$X$1017),0)","v":0},{"$f":"IFERROR($E358*SUMIF('Daily Log'!$Z$18:$Z$1017,$B358,'Daily Log'!$AA$18:$AA$1017),0)","v":0},{"$f":"IFERROR($E358*SUMIF('Daily Log'!$AC$18:$AC$1017,$B358,'Daily Log'!$AD$18:$AD$1017),0)","v":0},{"$f":"IFERROR($E358*SUMIF('Daily Log'!$AF$18:$AF$1017,$B358,'Daily Log'!$AG$18:$AG$1017),0)","v":0},{"$f":"IFERROR($E358*SUMIF('Daily Log'!$AI$18:$AI$1017,$B358,'Daily Log'!$AJ$18:$AJ$1017),0)","v":0},{"$f":"IFERROR($E358*SUMIF('Daily Log'!$AL$18:$AL$1017,$B358,'Daily Log'!$AM$18:$AM$1017),0)","v":0},{"$f":"IFERROR($E358*SUMIF('Daily Log'!$AO$18:$AO$1017,$B358,'Daily Log'!$AP$18:$AP$1017),0)","v":0},{"$f":"IFERROR($E358*SUMIF('Daily Log'!$AR$18:$AR$1017,$B358,'Daily Log'!$AS$18:$AS$1017),0)","v":0},{"$f":"IFERROR($E358*SUMIF('Daily Log'!$AU$18:$AU$1017,$B358,'Daily Log'!$AV$18:$AV$1017),0)","v":0},{"$f":"IFERROR($E358*SUMIF('Daily Log'!$AX$18:$AX$1017,$B358,'Daily Log'!$AY$18:$AY$1017),0)","v":0},{"$f":"IFERROR($E358*SUMIF('Daily Log'!$BA$18:$BA$1017,$B358,'Daily Log'!$BB$18:$BB$1017),0)","v":0},{"$f":"IFERROR($E358*SUMIF('Daily Log'!$BD$18:$BD$1017,$B358,'Daily Log'!$BE$18:$BE$1017),0)","v":0},{"$f":"IFERROR($E358*SUMIF('Daily Log'!$BG$18:$BG$1017,$B358,'Daily Log'!$BH$18:$BH$1017),0)","v":0},{"$f":"IFERROR($E358*SUMIF('Daily Log'!$BJ$18:$BJ$1017,$B358,'Daily Log'!$BK$18:$BK$1017),0)","v":0},{"$f":"IFERROR($E358*SUMIF('Daily Log'!$BM$18:$BM$1017,$B358,'Daily Log'!$BN$18:$BN$1017),0)","v":0},{"$f":"IFERROR($E358*SUMIF('Daily Log'!$BP$18:$BP$1017,$B358,'Daily Log'!$BQ$18:$BQ$1017),0)","v":0},{"$f":"IFERROR($E358*SUMIF('Daily Log'!$BS$18:$BS$1017,$B358,'Daily Log'!$BT$18:$BT$1017),0)","v":0},{"$f":"IFERROR($E358*SUMIF('Daily Log'!$BV$18:$BV$1017,$B358,'Daily Log'!$BW$18:$BW$1017),0)","v":0},{"$f":"IFERROR($E358*SUMIF('Daily Log'!$BY$18:$BY$1017,$B358,'Daily Log'!$BZ$18:$BZ$1017),0)","v":0},{"$f":"IFERROR($E358*SUMIF('Daily Log'!$CB$18:$CB$1017,$B358,'Daily Log'!$CC$18:$CC$1017),0)","v":0},{"$f":"IFERROR($E358*SUMIF('Daily Log'!$CE$18:$CE$1017,$B358,'Daily Log'!$CF$18:$CF$1017),0)","v":0},{"$f":"IFERROR($E358*SUMIF('Daily Log'!$CH$18:$CH$1017,$B358,'Daily Log'!$CI$18:$CI$1017),0)","v":0},{"$f":"IFERROR($E358*SUMIF('Daily Log'!$CK$18:$CK$1017,$B358,'Daily Log'!$CL$18:$CL$1017),0)","v":3},{"$f":"IFERROR($E358*SUMIF('Daily Log'!$CN$18:$CN$1017,$B358,'Daily Log'!$CO$18:$CO$1017),0)","v":0}]
[null,"DI14 91305:THAI RL",null,"KLKD-APPETIZER",1,17,{"$f":"IFERROR($E359*SUMIF('Daily Log'!$B$18:$B$1017,$B359,'Daily Log'!$C$18:$C$1017),0)","v":0},{"$f":"IFERROR($E359*SUMIF('Daily Log'!$E$18:$E$1017,$B359,'Daily Log'!$F$18:$F$1017),0)","v":0},{"$f":"IFERROR($E359*SUMIF('Daily Log'!$H$18:$H$1017,$B359,'Daily Log'!$I$18:$I$1017),0)","v":0},{"$f":"IFERROR($E359*SUMIF('Daily Log'!$K$18:$K$1017,$B359,'Daily Log'!$L$18:$L$1017),0)","v":0},{"$f":"IFERROR($E359*SUMIF('Daily Log'!$N$18:$N$1017,$B359,'Daily Log'!$O$18:$O$1017),0)","v":0},{"$f":"IFERROR($E359*SUMIF('Daily Log'!$Q$18:$Q$1017,$B359,'Daily Log'!$R$18:$R$1017),0)","v":0},{"$f":"IFERROR($E359*SUMIF('Daily Log'!$T$18:$T$1017,$B359,'Daily Log'!$U$18:$U$1017),0)","v":0},{"$f":"IFERROR($E359*SUMIF('Daily Log'!$W$18:$W$1017,$B359,'Daily Log'!$X$18:$X$1017),0)","v":0},{"$f":"IFERROR($E359*SUMIF('Daily Log'!$Z$18:$Z$1017,$B359,'Daily Log'!$AA$18:$AA$1017),0)","v":0},{"$f":"IFERROR($E359*SUMIF('Daily Log'!$AC$18:$AC$1017,$B359,'Daily Log'!$AD$18:$AD$1017),0)","v":0},{"$f":"IFERROR($E359*SUMIF('Daily Log'!$AF$18:$AF$1017,$B359,'Daily Log'!$AG$18:$AG$1017),0)","v":0},{"$f":"IFERROR($E359*SUMIF('Daily Log'!$AI$18:$AI$1017,$B359,'Daily Log'!$AJ$18:$AJ$1017),0)","v":0},{"$f":"IFERROR($E359*SUMIF('Daily Log'!$AL$18:$AL$1017,$B359,'Daily Log'!$AM$18:$AM$1017),0)","v":0},{"$f":"IFERROR($E359*SUMIF('Daily Log'!$AO$18:$AO$1017,$B359,'Daily Log'!$AP$18:$AP$1017),0)","v":0},{"$f":"IFERROR($E359*SUMIF('Daily Log'!$AR$18:$AR$1017,$B359,'Daily Log'!$AS$18:$AS$1017),0)","v":0},{"$f":"IFERROR($E359*SUMIF('Daily Log'!$AU$18:$AU$1017,$B359,'Daily Log'!$AV$18:$AV$1017),0)","v":0},{"$f":"IFERROR($E359*SUMIF('Daily Log'!$AX$18:$AX$1017,$B359,'Daily Log'!$AY$18:$AY$1017),0)","v":0},{"$f":"IFERROR($E359*SUMIF('Daily Log'!$BA$18:$BA$1017,$B359,'Daily Log'!$BB$18:$BB$1017),0)","v":0},{"$f":"IFERROR($E359*SUMIF('Daily Log'!$BD$18:$BD$1017,$B359,'Daily Log'!$BE$18:$BE$1017),0)","v":0},{"$f":"IFERROR($E359*SUMIF('Daily Log'!$BG$18:$BG$1017,$B359,'Daily Log'!$BH$18:$BH$1017),0)","v":0},{"$f":"IFERROR($E359*SUMIF('Daily Log'!$BJ$18:$BJ$1017,$B359,'Daily Log'!$BK$18:$BK$1017),0)","v":0},{"$f":"IFERROR($E359*SUMIF('Daily Log'!$BM$18:$BM$1017,$B359,'Daily Log'!$BN$18:$BN$1017),0)","v":0},{"$f":"IFERROR($E359*SUMIF('Daily Log'!$BP$18:$BP$1017,$B359,'Daily Log'!$BQ$18:$BQ$1017),0)","v":0},{"$f":"IFERROR($E359*SUMIF('Daily Log'!$BS$18:$BS$1017,$B359,'Daily Log'!$BT$18:$BT$1017),0)","v":0},{"$f":"IFERROR($E359*SUMIF('Daily Log'!$BV$18:$BV$1017,$B359,'Daily Log'!$BW$18:$BW$1017),0)","v":0},{"$f":"IFERROR($E359*SUMIF('Daily Log'!$BY$18:$BY$1017,$B359,'Daily Log'!$BZ$18:$BZ$1017),0)","v":0},{"$f":"IFERROR($E359*SUMIF('Daily Log'!$CB$18:$CB$1017,$B359,'Daily Log'!$CC$18:$CC$1017),0)","v":0},{"$f":"IFERROR($E359*SUMIF('Daily Log'!$CE$18:$CE$1017,$B359,'Daily Log'!$CF$18:$CF$1017),0)","v":0},{"$f":"IFERROR($E359*SUMIF('Daily Log'!$CH$18:$CH$1017,$B359,'Daily Log'!$CI$18:$CI$1017),0)","v":0},{"$f":"IFERROR($E359*SUMIF('Daily Log'!$CK$18:$CK$1017,$B359,'Daily Log'!$CL$18:$CL$1017),0)","v":17},{"$f":"IFERROR($E359*SUMIF('Daily Log'!$CN$18:$CN$1017,$B359,'Daily Log'!$CO$18:$CO$1017),0)","v":0}]
[null,"DI15 91306:SLVR FISH",null,"KLKD-APPETIZER",1,0,{"$f":"IFERROR($E360*SUMIF('Daily Log'!$B$18:$B$1017,$B360,'Daily Log'!$C$18:$C$1017),0)","v":0},{"$f":"IFERROR($E360*SUMIF('Daily Log'!$E$18:$E$1017,$B360,'Daily Log'!$F$18:$F$1017),0)","v":0},{"$f":"IFERROR($E360*SUMIF('Daily Log'!$H$18:$H$1017,$B360,'Daily Log'!$I$18:$I$1017),0)","v":0},{"$f":"IFERROR($E360*SUMIF('Daily Log'!$K$18:$K$1017,$B360,'Daily Log'!$L$18:$L$1017),0)","v":0},{"$f":"IFERROR($E360*SUMIF('Daily Log'!$N$18:$N$1017,$B360,'Daily Log'!$O$18:$O$1017),0)","v":0},{"$f":"IFERROR($E360*SUMIF('Daily Log'!$Q$18:$Q$1017,$B360,'Daily Log'!$R$18:$R$1017),0)","v":0},{"$f":"IFERROR($E360*SUMIF('Daily Log'!$T$18:$T$1017,$B360,'Daily Log'!$U$18:$U$1017),0)","v":0},{"$f":"IFERROR($E360*SUMIF('Daily Log'!$W$18:$W$1017,$B360,'Daily Log'!$X$18:$X$1017),0)","v":0},{"$f":"IFERROR($E360*SUMIF('Daily Log'!$Z$18:$Z$1017,$B360,'Daily Log'!$AA$18:$AA$1017),0)","v":0},{"$f":"IFERROR($E360*SUMIF('Daily Log'!$AC$18:$AC$1017,$B360,'Daily Log'!$AD$18:$AD$1017),0)","v":0},{"$f":"IFERROR($E360*SUMIF('Daily Log'!$AF$18:$AF$1017,$B360,'Daily Log'!$AG$18:$AG$1017),0)","v":0},{"$f":"IFERROR($E360*SUMIF('Daily Log'!$AI$18:$AI$1017,$B360,'Daily Log'!$AJ$18:$AJ$1017),0)","v":0},{"$f":"IFERROR($E360*SUMIF('Daily Log'!$AL$18:$AL$1017,$B360,'Daily Log'!$AM$18:$AM$1017),0)","v":0},{"$f":"IFERROR($E360*SUMIF('Daily Log'!$AO$18:$AO$1017,$B360,'Daily Log'!$AP$18:$AP$1017),0)","v":0},{"$f":"IFERROR($E360*SUMIF('Daily Log'!$AR$18:$AR$1017,$B360,'Daily Log'!$AS$18:$AS$1017),0)","v":0},{"$f":"IFERROR($E360*SUMIF('Daily Log'!$AU$18:$AU$1017,$B360,'Daily Log'!$AV$18:$AV$1017),0)","v":0},{"$f":"IFERROR($E360*SUMIF('Daily Log'!$AX$18:$AX$1017,$B360,'Daily Log'!$AY$18:$AY$1017),0)","v":0},{"$f":"IFERROR($E360*SUMIF('Daily Log'!$BA$18:$BA$1017,$B360,'Daily Log'!$BB$18:$BB$1017),0)","v":0},{"$f":"IFERROR($E360*SUMIF('Daily Log'!$BD$18:$BD$1017,$B360,'Daily Log'!$BE$18:$BE$1017),0)","v":0},{"$f":"IFERROR($E360*SUMIF('Daily Log'!$BG$18:$BG$1017,$B360,'Daily Log'!$BH$18:$BH$1017),0)","v":0},{"$f":"IFERROR($E360*SUMIF('Daily Log'!$BJ$18:$BJ$1017,$B360,'Daily Log'!$BK$18:$BK$1017),0)","v":0},{"$f":"IFERROR($E360*SUMIF('Daily Log'!$BM$18:$BM$1017,$B360,'Daily Log'!$BN$18:$BN$1017),0)","v":0},{"$f":"IFERROR($E360*SUMIF('Daily Log'!$BP$18:$BP$1017,$B360,'Daily Log'!$BQ$18:$BQ$1017),0)","v":0},{"$f":"IFERROR($E360*SUMIF('Daily Log'!$BS$18:$BS$1017,$B360,'Daily Log'!$BT$18:$BT$1017),0)","v":0},{"$f":"IFERROR($E360*SUMIF('Daily Log'!$BV$18:$BV$1017,$B360,'Daily Log'!$BW$18:$BW$1017),0)","v":0},{"$f":"IFERROR($E360*SUMIF('Daily Log'!$BY$18:$BY$1017,$B360,'Daily Log'!$BZ$18:$BZ$1017),0)","v":0},{"$f":"IFERROR($E360*SUMIF('Daily Log'!$CB$18:$CB$1017,$B360,'Daily Log'!$CC$18:$CC$1017),0)","v":0},{"$f":"IFERROR($E360*SUMIF('Daily Log'!$CE$18:$CE$1017,$B360,'Daily Log'!$CF$18:$CF$1017),0)","v":0},{"$f":"IFERROR($E360*SUMIF('Daily Log'!$CH$18:$CH$1017,$B360,'Daily Log'!$CI$18:$CI$1017),0)","v":0},{"$f":"IFERROR($E360*SUMIF('Daily Log'!$CK$18:$CK$1017,$B360,'Daily Log'!$CL$18:$CL$1017),0)","v":0},{"$f":"IFERROR($E360*SUMIF('Daily Log'!$CN$18:$CN$1017,$B360,'Daily Log'!$CO$18:$CO$1017),0)","v":0}]
[null,"GE01 DUNHILL",null,"CIGARETTE",1,50,{"$f":"IFERROR($E361*SUMIF('Daily Log'!$B$18:$B$1017,$B361,'Daily Log'!$C$18:$C$1017),0)","v":0},{"$f":"IFERROR($E361*SUMIF('Daily Log'!$E$18:$E$1017,$B361,'Daily Log'!$F$18:$F$1017),0)","v":0},{"$f":"IFERROR($E361*SUMIF('Daily Log'!$H$18:$H$1017,$B361,'Daily Log'!$I$18:$I$1017),0)","v":0},{"$f":"IFERROR($E361*SUMIF('Daily Log'!$K$18:$K$1017,$B361,'Daily Log'!$L$18:$L$1017),0)","v":0},{"$f":"IFERROR($E361*SUMIF('Daily Log'!$N$18:$N$1017,$B361,'Daily Log'!$O$18:$O$1017),0)","v":0},{"$f":"IFERROR($E361*SUMIF('Daily Log'!$Q$18:$Q$1017,$B361,'Daily Log'!$R$18:$R$1017),0)","v":0},{"$f":"IFERROR($E361*SUMIF('Daily Log'!$T$18:$T$1017,$B361,'Daily Log'!$U$18:$U$1017),0)","v":0},{"$f":"IFERROR($E361*SUMIF('Daily Log'!$W$18:$W$1017,$B361,'Daily Log'!$X$18:$X$1017),0)","v":0},{"$f":"IFERROR($E361*SUMIF('Daily Log'!$Z$18:$Z$1017,$B361,'Daily Log'!$AA$18:$AA$1017),0)","v":0},{"$f":"IFERROR($E361*SUMIF('Daily Log'!$AC$18:$AC$1017,$B361,'Daily Log'!$AD$18:$AD$1017),0)","v":0},{"$f":"IFERROR($E361*SUMIF('Daily Log'!$AF$18:$AF$1017,$B361,'Daily Log'!$AG$18:$AG$1017),0)","v":0},{"$f":"IFERROR($E361*SUMIF('Daily Log'!$AI$18:$AI$1017,$B361,'Daily Log'!$AJ$18:$AJ$1017),0)","v":0},{"$f":"IFERROR($E361*SUMIF('Daily Log'!$AL$18:$AL$1017,$B361,'Daily Log'!$AM$18:$AM$1017),0)","v":0},{"$f":"IFERROR($E361*SUMIF('Daily Log'!$AO$18:$AO$1017,$B361,'Daily Log'!$AP$18:$AP$1017),0)","v":0},{"$f":"IFERROR($E361*SUMIF('Daily Log'!$AR$18:$AR$1017,$B361,'Daily Log'!$AS$18:$AS$1017),0)","v":0},{"$f":"IFERROR($E361*SUMIF('Daily Log'!$AU$18:$AU$1017,$B361,'Daily Log'!$AV$18:$AV$1017),0)","v":0},{"$f":"IFERROR($E361*SUMIF('Daily Log'!$AX$18:$AX$1017,$B361,'Daily Log'!$AY$18:$AY$1017),0)","v":0},{"$f":"IFERROR($E361*SUMIF('Daily Log'!$BA$18:$BA$1017,$B361,'Daily Log'!$BB$18:$BB$1017),0)","v":0},{"$f":"IFERROR($E361*SUMIF('Daily Log'!$BD$18:$BD$1017,$B361,'Daily Log'!$BE$18:$BE$1017),0)","v":0},{"$f":"IFERROR($E361*SUMIF('Daily Log'!$BG$18:$BG$1017,$B361,'Daily Log'!$BH$18:$BH$1017),0)","v":0},{"$f":"IFERROR($E361*SUMIF('Daily Log'!$BJ$18:$BJ$1017,$B361,'Daily Log'!$BK$18:$BK$1017),0)","v":0},{"$f":"IFERROR($E361*SUMIF('Daily Log'!$BM$18:$BM$1017,$B361,'Daily Log'!$BN$18:$BN$1017),0)","v":0},{"$f":"IFERROR($E361*SUMIF('Daily Log'!$BP$18:$BP$1017,$B361,'Daily Log'!$BQ$18:$BQ$1017),0)","v":0},{"$f":"IFERROR($E361*SUMIF('Daily Log'!$BS$18:$BS$1017,$B361,'Daily Log'!$BT$18:$BT$1017),0)","v":0},{"$f":"IFERROR($E361*SUMIF('Daily Log'!$BV$18:$BV$1017,$B361,'Daily Log'!$BW$18:$BW$1017),0)","v":0},{"$f":"IFERROR($E361*SUMIF('Daily Log'!$BY$18:$BY$1017,$B361,'Daily Log'!$BZ$18:$BZ$1017),0)","v":0},{"$f":"IFERROR($E361*SUMIF('Daily Log'!$CB$18:$CB$1017,$B361,'Daily Log'!$CC$18:$CC$1017),0)","v":0},{"$f":"IFERROR($E361*SUMIF('Daily Log'!$CE$18:$CE$1017,$B361,'Daily Log'!$CF$18:$CF$1017),0)","v":0},{"$f":"IFERROR($E361*SUMIF('Daily Log'!$CH$18:$CH$1017,$B361,'Daily Log'!$CI$18:$CI$1017),0)","v":0},{"$f":"IFERROR($E361*SUMIF('Daily Log'!$CK$18:$CK$1017,$B361,'Daily Log'!$CL$18:$CL$1017),0)","v":50},{"$f":"IFERROR($E361*SUMIF('Daily Log'!$CN$18:$CN$1017,$B361,'Daily Log'!$CO$18:$CO$1017),0)","v":0}]
[null,"GE02 DUNHILL LITE",null,"CIGARETTE",1,30,{"$f":"IFERROR($E362*SUMIF('Daily Log'!$B$18:$B$1017,$B362,'Daily Log'!$C$18:$C$1017),0)","v":0},{"$f":"IFERROR($E362*SUMIF('Daily Log'!$E$18:$E$1017,$B362,'Daily Log'!$F$18:$F$1017),0)","v":0},{"$f":"IFERROR($E362*SUMIF('Daily Log'!$H$18:$H$1017,$B362,'Daily Log'!$I$18:$I$1017),0)","v":0},{"$f":"IFERROR($E362*SUMIF('Daily Log'!$K$18:$K$1017,$B362,'Daily Log'!$L$18:$L$1017),0)","v":0},{"$f":"IFERROR($E362*SUMIF('Daily Log'!$N$18:$N$1017,$B362,'Daily Log'!$O$18:$O$1017),0)","v":0},{"$f":"IFERROR($E362*SUMIF('Daily Log'!$Q$18:$Q$1017,$B362,'Daily Log'!$R$18:$R$1017),0)","v":0},{"$f":"IFERROR($E362*SUMIF('Daily Log'!$T$18:$T$1017,$B362,'Daily Log'!$U$18:$U$1017),0)","v":0},{"$f":"IFERROR($E362*SUMIF('Daily Log'!$W$18:$W$1017,$B362,'Daily Log'!$X$18:$X$1017),0)","v":0},{"$f":"IFERROR($E362*SUMIF('Daily Log'!$Z$18:$Z$1017,$B362,'Daily Log'!$AA$18:$AA$1017),0)","v":0},{"$f":"IFERROR($E362*SUMIF('Daily Log'!$AC$18:$AC$1017,$B362,'Daily Log'!$AD$18:$AD$1017),0)","v":0},{"$f":"IFERROR($E362*SUMIF('Daily Log'!$AF$18:$AF$1017,$B362,'Daily Log'!$AG$18:$AG$1017),0)","v":0},{"$f":"IFERROR($E362*SUMIF('Daily Log'!$AI$18:$AI$1017,$B362,'Daily Log'!$AJ$18:$AJ$1017),0)","v":0},{"$f":"IFERROR($E362*SUMIF('Daily Log'!$AL$18:$AL$1017,$B362,'Daily Log'!$AM$18:$AM$1017),0)","v":0},{"$f":"IFERROR($E362*SUMIF('Daily Log'!$AO$18:$AO$1017,$B362,'Daily Log'!$AP$18:$AP$1017),0)","v":0},{"$f":"IFERROR($E362*SUMIF('Daily Log'!$AR$18:$AR$1017,$B362,'Daily Log'!$AS$18:$AS$1017),0)","v":0},{"$f":"IFERROR($E362*SUMIF('Daily Log'!$AU$18:$AU$1017,$B362,'Daily Log'!$AV$18:$AV$1017),0)","v":0},{"$f":"IFERROR($E362*SUMIF('Daily Log'!$AX$18:$AX$1017,$B362,'Daily Log'!$AY$18:$AY$1017),0)","v":0},{"$f":"IFERROR($E362*SUMIF('Daily Log'!$BA$18:$BA$1017,$B362,'Daily Log'!$BB$18:$BB$1017),0)","v":0},{"$f":"IFERROR($E362*SUMIF('Daily Log'!$BD$18:$BD$1017,$B362,'Daily Log'!$BE$18:$BE$1017),0)","v":0},{"$f":"IFERROR($E362*SUMIF('Daily Log'!$BG$18:$BG$1017,$B362,'Daily Log'!$BH$18:$BH$1017),0)","v":0},{"$f":"IFERROR($E362*SUMIF('Daily Log'!$BJ$18:$BJ$1017,$B362,'Daily Log'!$BK$18:$BK$1017),0)","v":0},{"$f":"IFERROR($E362*SUMIF('Daily Log'!$BM$18:$BM$1017,$B362,'Daily Log'!$BN$18:$BN$1017),0)","v":0},{"$f":"IFERROR($E362*SUMIF('Daily Log'!$BP$18:$BP$1017,$B362,'Daily Log'!$BQ$18:$BQ$1017),0)","v":0},{"$f":"IFERROR($E362*SUMIF('Daily Log'!$BS$18:$BS$1017,$B362,'Daily Log'!$BT$18:$BT$1017),0)","v":0},{"$f":"IFERROR($E362*SUMIF('Daily Log'!$BV$18:$BV$1017,$B362,'Daily Log'!$BW$18:$BW$1017),0)","v":0},{"$f":"IFERROR($E362*SUMIF('Daily Log'!$BY$18:$BY$1017,$B362,'Daily Log'!$BZ$18:$BZ$1017),0)","v":0},{"$f":"IFERROR($E362*SUMIF('Daily Log'!$CB$18:$CB$1017,$B362,'Daily Log'!$CC$18:$CC$1017),0)","v":0},{"$f":"IFERROR($E362*SUMIF('Daily Log'!$CE$18:$CE$1017,$B362,'Daily Log'!$CF$18:$CF$1017),0)","v":0},{"$f":"IFERROR($E362*SUMIF('Daily Log'!$CH$18:$CH$1017,$B362,'Daily Log'!$CI$18:$CI$1017),0)","v":0},{"$f":"IFERROR($E362*SUMIF('Daily Log'!$CK$18:$CK$1017,$B362,'Daily Log'!$CL$18:$CL$1017),0)","v":30},{"$f":"IFERROR($E362*SUMIF('Daily Log'!$CN$18:$CN$1017,$B362,'Daily Log'!$CO$18:$CO$1017),0)","v":0}]
[null,"GE03 DUNHILL MT",null,"CIGARETTE",1,30,{"$f":"IFERROR($E363*SUMIF('Daily Log'!$B$18:$B$1017,$B363,'Daily Log'!$C$18:$C$1017),0)","v":0},{"$f":"IFERROR($E363*SUMIF('Daily Log'!$E$18:$E$1017,$B363,'Daily Log'!$F$18:$F$1017),0)","v":0},{"$f":"IFERROR($E363*SUMIF('Daily Log'!$H$18:$H$1017,$B363,'Daily Log'!$I$18:$I$1017),0)","v":0},{"$f":"IFERROR($E363*SUMIF('Daily Log'!$K$18:$K$1017,$B363,'Daily Log'!$L$18:$L$1017),0)","v":0},{"$f":"IFERROR($E363*SUMIF('Daily Log'!$N$18:$N$1017,$B363,'Daily Log'!$O$18:$O$1017),0)","v":0},{"$f":"IFERROR($E363*SUMIF('Daily Log'!$Q$18:$Q$1017,$B363,'Daily Log'!$R$18:$R$1017),0)","v":0},{"$f":"IFERROR($E363*SUMIF('Daily Log'!$T$18:$T$1017,$B363,'Daily Log'!$U$18:$U$1017),0)","v":0},{"$f":"IFERROR($E363*SUMIF('Daily Log'!$W$18:$W$1017,$B363,'Daily Log'!$X$18:$X$1017),0)","v":0},{"$f":"IFERROR($E363*SUMIF('Daily Log'!$Z$18:$Z$1017,$B363,'Daily Log'!$AA$18:$AA$1017),0)","v":0},{"$f":"IFERROR($E363*SUMIF('Daily Log'!$AC$18:$AC$1017,$B363,'Daily Log'!$AD$18:$AD$1017),0)","v":0},{"$f":"IFERROR($E363*SUMIF('Daily Log'!$AF$18:$AF$1017,$B363,'Daily Log'!$AG$18:$AG$1017),0)","v":0},{"$f":"IFERROR($E363*SUMIF('Daily Log'!$AI$18:$AI$1017,$B363,'Daily Log'!$AJ$18:$AJ$1017),0)","v":0},{"$f":"IFERROR($E363*SUMIF('Daily Log'!$AL$18:$AL$1017,$B363,'Daily Log'!$AM$18:$AM$1017),0)","v":0},{"$f":"IFERROR($E363*SUMIF('Daily Log'!$AO$18:$AO$1017,$B363,'Daily Log'!$AP$18:$AP$1017),0)","v":0},{"$f":"IFERROR($E363*SUMIF('Daily Log'!$AR$18:$AR$1017,$B363,'Daily Log'!$AS$18:$AS$1017),0)","v":0},{"$f":"IFERROR($E363*SUMIF('Daily Log'!$AU$18:$AU$1017,$B363,'Daily Log'!$AV$18:$AV$1017),0)","v":0},{"$f":"IFERROR($E363*SUMIF('Daily Log'!$AX$18:$AX$1017,$B363,'Daily Log'!$AY$18:$AY$1017),0)","v":0},{"$f":"IFERROR($E363*SUMIF('Daily Log'!$BA$18:$BA$1017,$B363,'Daily Log'!$BB$18:$BB$1017),0)","v":0},{"$f":"IFERROR($E363*SUMIF('Daily Log'!$BD$18:$BD$1017,$B363,'Daily Log'!$BE$18:$BE$1017),0)","v":0},{"$f":"IFERROR($E363*SUMIF('Daily Log'!$BG$18:$BG$1017,$B363,'Daily Log'!$BH$18:$BH$1017),0)","v":0},{"$f":"IFERROR($E363*SUMIF('Daily Log'!$BJ$18:$BJ$1017,$B363,'Daily Log'!$BK$18:$BK$1017),0)","v":0},{"$f":"IFERROR($E363*SUMIF('Daily Log'!$BM$18:$BM$1017,$B363,'Daily Log'!$BN$18:$BN$1017),0)","v":0},{"$f":"IFERROR($E363*SUMIF('Daily Log'!$BP$18:$BP$1017,$B363,'Daily Log'!$BQ$18:$BQ$1017),0)","v":0},{"$f":"IFERROR($E363*SUMIF('Daily Log'!$BS$18:$BS$1017,$B363,'Daily Log'!$BT$18:$BT$1017),0)","v":0},{"$f":"IFERROR($E363*SUMIF('Daily Log'!$BV$18:$BV$1017,$B363,'Daily Log'!$BW$18:$BW$1017),0)","v":0},{"$f":"IFERROR($E363*SUMIF('Daily Log'!$BY$18:$BY$1017,$B363,'Daily Log'!$BZ$18:$BZ$1017),0)","v":0},{"$f":"IFERROR($E363*SUMIF('Daily Log'!$CB$18:$CB$1017,$B363,'Daily Log'!$CC$18:$CC$1017),0)","v":0},{"$f":"IFERROR($E363*SUMIF('Daily Log'!$CE$18:$CE$1017,$B363,'Daily Log'!$CF$18:$CF$1017),0)","v":0},{"$f":"IFERROR($E363*SUMIF('Daily Log'!$CH$18:$CH$1017,$B363,'Daily Log'!$CI$18:$CI$1017),0)","v":0},{"$f":"IFERROR($E363*SUMIF('Daily Log'!$CK$18:$CK$1017,$B363,'Daily Log'!$CL$18:$CL$1017),0)","v":30},{"$f":"IFERROR($E363*SUMIF('Daily Log'!$CN$18:$CN$1017,$B363,'Daily Log'!$CO$18:$CO$1017),0)","v":0}]
[null,"GE04 DUNHILL MT LITE",null,"CIGARETTE",1,2,{"$f":"IFERROR($E364*SUMIF('Daily Log'!$B$18:$B$1017,$B364,'Daily Log'!$C$18:$C$1017),0)","v":0},{"$f":"IFERROR($E364*SUMIF('Daily Log'!$E$18:$E$1017,$B364,'Daily Log'!$F$18:$F$1017),0)","v":0},{"$f":"IFERROR($E364*SUMIF('Daily Log'!$H$18:$H$1017,$B364,'Daily Log'!$I$18:$I$1017),0)","v":0},{"$f":"IFERROR($E364*SUMIF('Daily Log'!$K$18:$K$1017,$B364,'Daily Log'!$L$18:$L$1017),0)","v":0},{"$f":"IFERROR($E364*SUMIF('Daily Log'!$N$18:$N$1017,$B364,'Daily Log'!$O$18:$O$1017),0)","v":0},{"$f":"IFERROR($E364*SUMIF('Daily Log'!$Q$18:$Q$1017,$B364,'Daily Log'!$R$18:$R$1017),0)","v":0},{"$f":"IFERROR($E364*SUMIF('Daily Log'!$T$18:$T$1017,$B364,'Daily Log'!$U$18:$U$1017),0)","v":0},{"$f":"IFERROR($E364*SUMIF('Daily Log'!$W$18:$W$1017,$B364,'Daily Log'!$X$18:$X$1017),0)","v":0},{"$f":"IFERROR($E364*SUMIF('Daily Log'!$Z$18:$Z$1017,$B364,'Daily Log'!$AA$18:$AA$1017),0)","v":0},{"$f":"IFERROR($E364*SUMIF('Daily Log'!$AC$18:$AC$1017,$B364,'Daily Log'!$AD$18:$AD$1017),0)","v":0},{"$f":"IFERROR($E364*SUMIF('Daily Log'!$AF$18:$AF$1017,$B364,'Daily Log'!$AG$18:$AG$1017),0)","v":0},{"$f":"IFERROR($E364*SUMIF('Daily Log'!$AI$18:$AI$1017,$B364,'Daily Log'!$AJ$18:$AJ$1017),0)","v":0},{"$f":"IFERROR($E364*SUMIF('Daily Log'!$AL$18:$AL$1017,$B364,'Daily Log'!$AM$18:$AM$1017),0)","v":0},{"$f":"IFERROR($E364*SUMIF('Daily Log'!$AO$18:$AO$1017,$B364,'Daily Log'!$AP$18:$AP$1017),0)","v":0},{"$f":"IFERROR($E364*SUMIF('Daily Log'!$AR$18:$AR$1017,$B364,'Daily Log'!$AS$18:$AS$1017),0)","v":0},{"$f":"IFERROR($E364*SUMIF('Daily Log'!$AU$18:$AU$1017,$B364,'Daily Log'!$AV$18:$AV$1017),0)","v":0},{"$f":"IFERROR($E364*SUMIF('Daily Log'!$AX$18:$AX$1017,$B364,'Daily Log'!$AY$18:$AY$1017),0)","v":0},{"$f":"IFERROR($E364*SUMIF('Daily Log'!$BA$18:$BA$1017,$B364,'Daily Log'!$BB$18:$BB$1017),0)","v":0},{"$f":"IFERROR($E364*SUMIF('Daily Log'!$BD$18:$BD$1017,$B364,'Daily Log'!$BE$18:$BE$1017),0)","v":0},{"$f":"IFERROR($E364*SUMIF('Daily Log'!$BG$18:$BG$1017,$B364,'Daily Log'!$BH$18:$BH$1017),0)","v":0},{"$f":"IFERROR($E364*SUMIF('Daily Log'!$BJ$18:$BJ$1017,$B364,'Daily Log'!$BK$18:$BK$1017),0)","v":0},{"$f":"IFERROR($E364*SUMIF('Daily Log'!$BM$18:$BM$1017,$B364,'Daily Log'!$BN$18:$BN$1017),0)","v":0},{"$f":"IFERROR($E364*SUMIF('Daily Log'!$BP$18:$BP$1017,$B364,'Daily Log'!$BQ$18:$BQ$1017),0)","v":0},{"$f":"IFERROR($E364*SUMIF('Daily Log'!$BS$18:$BS$1017,$B364,'Daily Log'!$BT$18:$BT$1017),0)","v":0},{"$f":"IFERROR($E364*SUMIF('Daily Log'!$BV$18:$BV$1017,$B364,'Daily Log'!$BW$18:$BW$1017),0)","v":0},{"$f":"IFERROR($E364*SUMIF('Daily Log'!$BY$18:$BY$1017,$B364,'Daily Log'!$BZ$18:$BZ$1017),0)","v":0},{"$f":"IFERROR($E364*SUMIF('Daily Log'!$CB$18:$CB$1017,$B364,'Daily Log'!$CC$18:$CC$1017),0)","v":0},{"$f":"IFERROR($E364*SUMIF('Daily Log'!$CE$18:$CE$1017,$B364,'Daily Log'!$CF$18:$CF$1017),0)","v":0},{"$f":"IFERROR($E364*SUMIF('Daily Log'!$CH$18:$CH$1017,$B364,'Daily Log'!$CI$18:$CI$1017),0)","v":0},{"$f":"IFERROR($E364*SUMIF('Daily Log'!$CK$18:$CK$1017,$B364,'Daily Log'!$CL$18:$CL$1017),0)","v":2},{"$f":"IFERROR($E364*SUMIF('Daily Log'!$CN$18:$CN$1017,$B364,'Daily Log'!$CO$18:$CO$1017),0)","v":0}]
[null,"GE05 DUNHILL BOOST",null,"CIGARETTE",1,3,{"$f":"IFERROR($E365*SUMIF('Daily Log'!$B$18:$B$1017,$B365,'Daily Log'!$C$18:$C$1017),0)","v":0},{"$f":"IFERROR($E365*SUMIF('Daily Log'!$E$18:$E$1017,$B365,'Daily Log'!$F$18:$F$1017),0)","v":0},{"$f":"IFERROR($E365*SUMIF('Daily Log'!$H$18:$H$1017,$B365,'Daily Log'!$I$18:$I$1017),0)","v":0},{"$f":"IFERROR($E365*SUMIF('Daily Log'!$K$18:$K$1017,$B365,'Daily Log'!$L$18:$L$1017),0)","v":0},{"$f":"IFERROR($E365*SUMIF('Daily Log'!$N$18:$N$1017,$B365,'Daily Log'!$O$18:$O$1017),0)","v":0},{"$f":"IFERROR($E365*SUMIF('Daily Log'!$Q$18:$Q$1017,$B365,'Daily Log'!$R$18:$R$1017),0)","v":0},{"$f":"IFERROR($E365*SUMIF('Daily Log'!$T$18:$T$1017,$B365,'Daily Log'!$U$18:$U$1017),0)","v":0},{"$f":"IFERROR($E365*SUMIF('Daily Log'!$W$18:$W$1017,$B365,'Daily Log'!$X$18:$X$1017),0)","v":0},{"$f":"IFERROR($E365*SUMIF('Daily Log'!$Z$18:$Z$1017,$B365,'Daily Log'!$AA$18:$AA$1017),0)","v":0},{"$f":"IFERROR($E365*SUMIF('Daily Log'!$AC$18:$AC$1017,$B365,'Daily Log'!$AD$18:$AD$1017),0)","v":0},{"$f":"IFERROR($E365*SUMIF('Daily Log'!$AF$18:$AF$1017,$B365,'Daily Log'!$AG$18:$AG$1017),0)","v":0},{"$f":"IFERROR($E365*SUMIF('Daily Log'!$AI$18:$AI$1017,$B365,'Daily Log'!$AJ$18:$AJ$1017),0)","v":0},{"$f":"IFERROR($E365*SUMIF('Daily Log'!$AL$18:$AL$1017,$B365,'Daily Log'!$AM$18:$AM$1017),0)","v":0},{"$f":"IFERROR($E365*SUMIF('Daily Log'!$AO$18:$AO$1017,$B365,'Daily Log'!$AP$18:$AP$1017),0)","v":0},{"$f":"IFERROR($E365*SUMIF('Daily Log'!$AR$18:$AR$1017,$B365,'Daily Log'!$AS$18:$AS$1017),0)","v":0},{"$f":"IFERROR($E365*SUMIF('Daily Log'!$AU$18:$AU$1017,$B365,'Daily Log'!$AV$18:$AV$1017),0)","v":0},{"$f":"IFERROR($E365*SUMIF('Daily Log'!$AX$18:$AX$1017,$B365,'Daily Log'!$AY$18:$AY$1017),0)","v":0},{"$f":"IFERROR($E365*SUMIF('Daily Log'!$BA$18:$BA$1017,$B365,'Daily Log'!$BB$18:$BB$1017),0)","v":0},{"$f":"IFERROR($E365*SUMIF('Daily Log'!$BD$18:$BD$1017,$B365,'Daily Log'!$BE$18:$BE$1017),0)","v":0},{"$f":"IFERROR($E365*SUMIF('Daily Log'!$BG$18:$BG$1017,$B365,'Daily Log'!$BH$18:$BH$1017),0)","v":0},{"$f":"IFERROR($E365*SUMIF('Daily Log'!$BJ$18:$BJ$1017,$B365,'Daily Log'!$BK$18:$BK$1017),0)","v":0},{"$f":"IFERROR($E365*SUMIF('Daily Log'!$BM$18:$BM$1017,$B365,'Daily Log'!$BN$18:$BN$1017),0)","v":0},{"$f":"IFERROR($E365*SUMIF('Daily Log'!$BP$18:$BP$1017,$B365,'Daily Log'!$BQ$18:$BQ$1017),0)","v":0},{"$f":"IFERROR($E365*SUMIF('Daily Log'!$BS$18:$BS$1017,$B365,'Daily Log'!$BT$18:$BT$1017),0)","v":0},{"$f":"IFERROR($E365*SUMIF('Daily Log'!$BV$18:$BV$1017,$B365,'Daily Log'!$BW$18:$BW$1017),0)","v":0},{"$f":"IFERROR($E365*SUMIF('Daily Log'!$BY$18:$BY$1017,$B365,'Daily Log'!$BZ$18:$BZ$1017),0)","v":0},{"$f":"IFERROR($E365*SUMIF('Daily Log'!$CB$18:$CB$1017,$B365,'Daily Log'!$CC$18:$CC$1017),0)","v":0},{"$f":"IFERROR($E365*SUMIF('Daily Log'!$CE$18:$CE$1017,$B365,'Daily Log'!$CF$18:$CF$1017),0)","v":0},{"$f":"IFERROR($E365*SUMIF('Daily Log'!$CH$18:$CH$1017,$B365,'Daily Log'!$CI$18:$CI$1017),0)","v":0},{"$f":"IFERROR($E365*SUMIF('Daily Log'!$CK$18:$CK$1017,$B365,'Daily Log'!$CL$18:$CL$1017),0)","v":3},{"$f":"IFERROR($E365*SUMIF('Daily Log'!$CN$18:$CN$1017,$B365,'Daily Log'!$CO$18:$CO$1017),0)","v":0}]
[null,"GE06 DUNHILL SWITCH",null,"CIGARETTE",1,12,{"$f":"IFERROR($E366*SUMIF('Daily Log'!$B$18:$B$1017,$B366,'Daily Log'!$C$18:$C$1017),0)","v":0},{"$f":"IFERROR($E366*SUMIF('Daily Log'!$E$18:$E$1017,$B366,'Daily Log'!$F$18:$F$1017),0)","v":0},{"$f":"IFERROR($E366*SUMIF('Daily Log'!$H$18:$H$1017,$B366,'Daily Log'!$I$18:$I$1017),0)","v":0},{"$f":"IFERROR($E366*SUMIF('Daily Log'!$K$18:$K$1017,$B366,'Daily Log'!$L$18:$L$1017),0)","v":0},{"$f":"IFERROR($E366*SUMIF('Daily Log'!$N$18:$N$1017,$B366,'Daily Log'!$O$18:$O$1017),0)","v":0},{"$f":"IFERROR($E366*SUMIF('Daily Log'!$Q$18:$Q$1017,$B366,'Daily Log'!$R$18:$R$1017),0)","v":0},{"$f":"IFERROR($E366*SUMIF('Daily Log'!$T$18:$T$1017,$B366,'Daily Log'!$U$18:$U$1017),0)","v":0},{"$f":"IFERROR($E366*SUMIF('Daily Log'!$W$18:$W$1017,$B366,'Daily Log'!$X$18:$X$1017),0)","v":0},{"$f":"IFERROR($E366*SUMIF('Daily Log'!$Z$18:$Z$1017,$B366,'Daily Log'!$AA$18:$AA$1017),0)","v":0},{"$f":"IFERROR($E366*SUMIF('Daily Log'!$AC$18:$AC$1017,$B366,'Daily Log'!$AD$18:$AD$1017),0)","v":0},{"$f":"IFERROR($E366*SUMIF('Daily Log'!$AF$18:$AF$1017,$B366,'Daily Log'!$AG$18:$AG$1017),0)","v":0},{"$f":"IFERROR($E366*SUMIF('Daily Log'!$AI$18:$AI$1017,$B366,'Daily Log'!$AJ$18:$AJ$1017),0)","v":0},{"$f":"IFERROR($E366*SUMIF('Daily Log'!$AL$18:$AL$1017,$B366,'Daily Log'!$AM$18:$AM$1017),0)","v":0},{"$f":"IFERROR($E366*SUMIF('Daily Log'!$AO$18:$AO$1017,$B366,'Daily Log'!$AP$18:$AP$1017),0)","v":0},{"$f":"IFERROR($E366*SUMIF('Daily Log'!$AR$18:$AR$1017,$B366,'Daily Log'!$AS$18:$AS$1017),0)","v":0},{"$f":"IFERROR($E366*SUMIF('Daily Log'!$AU$18:$AU$1017,$B366,'Daily Log'!$AV$18:$AV$1017),0)","v":0},{"$f":"IFERROR($E366*SUMIF('Daily Log'!$AX$18:$AX$1017,$B366,'Daily Log'!$AY$18:$AY$1017),0)","v":0},{"$f":"IFERROR($E366*SUMIF('Daily Log'!$BA$18:$BA$1017,$B366,'Daily Log'!$BB$18:$BB$1017),0)","v":0},{"$f":"IFERROR($E366*SUMIF('Daily Log'!$BD$18:$BD$1017,$B366,'Daily Log'!$BE$18:$BE$1017),0)","v":0},{"$f":"IFERROR($E366*SUMIF('Daily Log'!$BG$18:$BG$1017,$B366,'Daily Log'!$BH$18:$BH$1017),0)","v":0},{"$f":"IFERROR($E366*SUMIF('Daily Log'!$BJ$18:$BJ$1017,$B366,'Daily Log'!$BK$18:$BK$1017),0)","v":0},{"$f":"IFERROR($E366*SUMIF('Daily Log'!$BM$18:$BM$1017,$B366,'Daily Log'!$BN$18:$BN$1017),0)","v":0},{"$f":"IFERROR($E366*SUMIF('Daily Log'!$BP$18:$BP$1017,$B366,'Daily Log'!$BQ$18:$BQ$1017),0)","v":0},{"$f":"IFERROR($E366*SUMIF('Daily Log'!$BS$18:$BS$1017,$B366,'Daily Log'!$BT$18:$BT$1017),0)","v":0},{"$f":"IFERROR($E366*SUMIF('Daily Log'!$BV$18:$BV$1017,$B366,'Daily Log'!$BW$18:$BW$1017),0)","v":0},{"$f":"IFERROR($E366*SUMIF('Daily Log'!$BY$18:$BY$1017,$B366,'Daily Log'!$BZ$18:$BZ$1017),0)","v":0},{"$f":"IFERROR($E366*SUMIF('Daily Log'!$CB$18:$CB$1017,$B366,'Daily Log'!$CC$18:$CC$1017),0)","v":0},{"$f":"IFERROR($E366*SUMIF('Daily Log'!$CE$18:$CE$1017,$B366,'Daily Log'!$CF$18:$CF$1017),0)","v":0},{"$f":"IFERROR($E366*SUMIF('Daily Log'!$CH$18:$CH$1017,$B366,'Daily Log'!$CI$18:$CI$1017),0)","v":0},{"$f":"IFERROR($E366*SUMIF('Daily Log'!$CK$18:$CK$1017,$B366,'Daily Log'!$CL$18:$CL$1017),0)","v":12},{"$f":"IFERROR($E366*SUMIF('Daily Log'!$CN$18:$CN$1017,$B366,'Daily Log'!$CO$18:$CO$1017),0)","v":0}]
[null,"GE07 DUNHILL ICE",null,"CIGARETTE",1,31,{"$f":"IFERROR($E367*SUMIF('Daily Log'!$B$18:$B$1017,$B367,'Daily Log'!$C$18:$C$1017),0)","v":0},{"$f":"IFERROR($E367*SUMIF('Daily Log'!$E$18:$E$1017,$B367,'Daily Log'!$F$18:$F$1017),0)","v":0},{"$f":"IFERROR($E367*SUMIF('Daily Log'!$H$18:$H$1017,$B367,'Daily Log'!$I$18:$I$1017),0)","v":0},{"$f":"IFERROR($E367*SUMIF('Daily Log'!$K$18:$K$1017,$B367,'Daily Log'!$L$18:$L$1017),0)","v":0},{"$f":"IFERROR($E367*SUMIF('Daily Log'!$N$18:$N$1017,$B367,'Daily Log'!$O$18:$O$1017),0)","v":0},{"$f":"IFERROR($E367*SUMIF('Daily Log'!$Q$18:$Q$1017,$B367,'Daily Log'!$R$18:$R$1017),0)","v":0},{"$f":"IFERROR($E367*SUMIF('Daily Log'!$T$18:$T$1017,$B367,'Daily Log'!$U$18:$U$1017),0)","v":0},{"$f":"IFERROR($E367*SUMIF('Daily Log'!$W$18:$W$1017,$B367,'Daily Log'!$X$18:$X$1017),0)","v":0},{"$f":"IFERROR($E367*SUMIF('Daily Log'!$Z$18:$Z$1017,$B367,'Daily Log'!$AA$18:$AA$1017),0)","v":0},{"$f":"IFERROR($E367*SUMIF('Daily Log'!$AC$18:$AC$1017,$B367,'Daily Log'!$AD$18:$AD$1017),0)","v":0},{"$f":"IFERROR($E367*SUMIF('Daily Log'!$AF$18:$AF$1017,$B367,'Daily Log'!$AG$18:$AG$1017),0)","v":0},{"$f":"IFERROR($E367*SUMIF('Daily Log'!$AI$18:$AI$1017,$B367,'Daily Log'!$AJ$18:$AJ$1017),0)","v":0},{"$f":"IFERROR($E367*SUMIF('Daily Log'!$AL$18:$AL$1017,$B367,'Daily Log'!$AM$18:$AM$1017),0)","v":0},{"$f":"IFERROR($E367*SUMIF('Daily Log'!$AO$18:$AO$1017,$B367,'Daily Log'!$AP$18:$AP$1017),0)","v":0},{"$f":"IFERROR($E367*SUMIF('Daily Log'!$AR$18:$AR$1017,$B367,'Daily Log'!$AS$18:$AS$1017),0)","v":0},{"$f":"IFERROR($E367*SUMIF('Daily Log'!$AU$18:$AU$1017,$B367,'Daily Log'!$AV$18:$AV$1017),0)","v":0},{"$f":"IFERROR($E367*SUMIF('Daily Log'!$AX$18:$AX$1017,$B367,'Daily Log'!$AY$18:$AY$1017),0)","v":0},{"$f":"IFERROR($E367*SUMIF('Daily Log'!$BA$18:$BA$1017,$B367,'Daily Log'!$BB$18:$BB$1017),0)","v":0},{"$f":"IFERROR($E367*SUMIF('Daily Log'!$BD$18:$BD$1017,$B367,'Daily Log'!$BE$18:$BE$1017),0)","v":0},{"$f":"IFERROR($E367*SUMIF('Daily Log'!$BG$18:$BG$1017,$B367,'Daily Log'!$BH$18:$BH$1017),0)","v":0},{"$f":"IFERROR($E367*SUMIF('Daily Log'!$BJ$18:$BJ$1017,$B367,'Daily Log'!$BK$18:$BK$1017),0)","v":0},{"$f":"IFERROR($E367*SUMIF('Daily Log'!$BM$18:$BM$1017,$B367,'Daily Log'!$BN$18:$BN$1017),0)","v":0},{"$f":"IFERROR($E367*SUMIF('Daily Log'!$BP$18:$BP$1017,$B367,'Daily Log'!$BQ$18:$BQ$1017),0)","v":0},{"$f":"IFERROR($E367*SUMIF('Daily Log'!$BS$18:$BS$1017,$B367,'Daily Log'!$BT$18:$BT$1017),0)","v":0},{"$f":"IFERROR($E367*SUMIF('Daily Log'!$BV$18:$BV$1017,$B367,'Daily Log'!$BW$18:$BW$1017),0)","v":0},{"$f":"IFERROR($E367*SUMIF('Daily Log'!$BY$18:$BY$1017,$B367,'Daily Log'!$BZ$18:$BZ$1017),0)","v":0},{"$f":"IFERROR($E367*SUMIF('Daily Log'!$CB$18:$CB$1017,$B367,'Daily Log'!$CC$18:$CC$1017),0)","v":0},{"$f":"IFERROR($E367*SUMIF('Daily Log'!$CE$18:$CE$1017,$B367,'Daily Log'!$CF$18:$CF$1017),0)","v":0},{"$f":"IFERROR($E367*SUMIF('Daily Log'!$CH$18:$CH$1017,$B367,'Daily Log'!$CI$18:$CI$1017),0)","v":0},{"$f":"IFERROR($E367*SUMIF('Daily Log'!$CK$18:$CK$1017,$B367,'Daily Log'!$CL$18:$CL$1017),0)","v":31},{"$f":"IFERROR($E367*SUMIF('Daily Log'!$CN$18:$CN$1017,$B367,'Daily Log'!$CO$18:$CO$1017),0)","v":0}]
[null,"GF01 KENT ORIGINAL",null,"CIGARETTE",1,0,{"$f":"IFERROR($E368*SUMIF('Daily Log'!$B$18:$B$1017,$B368,'Daily Log'!$C$18:$C$1017),0)","v":0},{"$f":"IFERROR($E368*SUMIF('Daily Log'!$E$18:$E$1017,$B368,'Daily Log'!$F$18:$F$1017),0)","v":0},{"$f":"IFERROR($E368*SUMIF('Daily Log'!$H$18:$H$1017,$B368,'Daily Log'!$I$18:$I$1017),0)","v":0},{"$f":"IFERROR($E368*SUMIF('Daily Log'!$K$18:$K$1017,$B368,'Daily Log'!$L$18:$L$1017),0)","v":0},{"$f":"IFERROR($E368*SUMIF('Daily Log'!$N$18:$N$1017,$B368,'Daily Log'!$O$18:$O$1017),0)","v":0},{"$f":"IFERROR($E368*SUMIF('Daily Log'!$Q$18:$Q$1017,$B368,'Daily Log'!$R$18:$R$1017),0)","v":0},{"$f":"IFERROR($E368*SUMIF('Daily Log'!$T$18:$T$1017,$B368,'Daily Log'!$U$18:$U$1017),0)","v":0},{"$f":"IFERROR($E368*SUMIF('Daily Log'!$W$18:$W$1017,$B368,'Daily Log'!$X$18:$X$1017),0)","v":0},{"$f":"IFERROR($E368*SUMIF('Daily Log'!$Z$18:$Z$1017,$B368,'Daily Log'!$AA$18:$AA$1017),0)","v":0},{"$f":"IFERROR($E368*SUMIF('Daily Log'!$AC$18:$AC$1017,$B368,'Daily Log'!$AD$18:$AD$1017),0)","v":0},{"$f":"IFERROR($E368*SUMIF('Daily Log'!$AF$18:$AF$1017,$B368,'Daily Log'!$AG$18:$AG$1017),0)","v":0},{"$f":"IFERROR($E368*SUMIF('Daily Log'!$AI$18:$AI$1017,$B368,'Daily Log'!$AJ$18:$AJ$1017),0)","v":0},{"$f":"IFERROR($E368*SUMIF('Daily Log'!$AL$18:$AL$1017,$B368,'Daily Log'!$AM$18:$AM$1017),0)","v":0},{"$f":"IFERROR($E368*SUMIF('Daily Log'!$AO$18:$AO$1017,$B368,'Daily Log'!$AP$18:$AP$1017),0)","v":0},{"$f":"IFERROR($E368*SUMIF('Daily Log'!$AR$18:$AR$1017,$B368,'Daily Log'!$AS$18:$AS$1017),0)","v":0},{"$f":"IFERROR($E368*SUMIF('Daily Log'!$AU$18:$AU$1017,$B368,'Daily Log'!$AV$18:$AV$1017),0)","v":0},{"$f":"IFERROR($E368*SUMIF('Daily Log'!$AX$18:$AX$1017,$B368,'Daily Log'!$AY$18:$AY$1017),0)","v":0},{"$f":"IFERROR($E368*SUMIF('Daily Log'!$BA$18:$BA$1017,$B368,'Daily Log'!$BB$18:$BB$1017),0)","v":0},{"$f":"IFERROR($E368*SUMIF('Daily Log'!$BD$18:$BD$1017,$B368,'Daily Log'!$BE$18:$BE$1017),0)","v":0},{"$f":"IFERROR($E368*SUMIF('Daily Log'!$BG$18:$BG$1017,$B368,'Daily Log'!$BH$18:$BH$1017),0)","v":0},{"$f":"IFERROR($E368*SUMIF('Daily Log'!$BJ$18:$BJ$1017,$B368,'Daily Log'!$BK$18:$BK$1017),0)","v":0},{"$f":"IFERROR($E368*SUMIF('Daily Log'!$BM$18:$BM$1017,$B368,'Daily Log'!$BN$18:$BN$1017),0)","v":0},{"$f":"IFERROR($E368*SUMIF('Daily Log'!$BP$18:$BP$1017,$B368,'Daily Log'!$BQ$18:$BQ$1017),0)","v":0},{"$f":"IFERROR($E368*SUMIF('Daily Log'!$BS$18:$BS$1017,$B368,'Daily Log'!$BT$18:$BT$1017),0)","v":0},{"$f":"IFERROR($E368*SUMIF('Daily Log'!$BV$18:$BV$1017,$B368,'Daily Log'!$BW$18:$BW$1017),0)","v":0},{"$f":"IFERROR($E368*SUMIF('Daily Log'!$BY$18:$BY$1017,$B368,'Daily Log'!$BZ$18:$BZ$1017),0)","v":0},{"$f":"IFERROR($E368*SUMIF('Daily Log'!$CB$18:$CB$1017,$B368,'Daily Log'!$CC$18:$CC$1017),0)","v":0},{"$f":"IFERROR($E368*SUMIF('Daily Log'!$CE$18:$CE$1017,$B368,'Daily Log'!$CF$18:$CF$1017),0)","v":0},{"$f":"IFERROR($E368*SUMIF('Daily Log'!$CH$18:$CH$1017,$B368,'Daily Log'!$CI$18:$CI$1017),0)","v":0},{"$f":"IFERROR($E368*SUMIF('Daily Log'!$CK$18:$CK$1017,$B368,'Daily Log'!$CL$18:$CL$1017),0)","v":0},{"$f":"IFERROR($E368*SUMIF('Daily Log'!$CN$18:$CN$1017,$B368,'Daily Log'!$CO$18:$CO$1017),0)","v":0}]
[null,"GF02 KENT FUTURA",null,"CIGARETTE",1,1,{"$f":"IFERROR($E369*SUMIF('Daily Log'!$B$18:$B$1017,$B369,'Daily Log'!$C$18:$C$1017),0)","v":0},{"$f":"IFERROR($E369*SUMIF('Daily Log'!$E$18:$E$1017,$B369,'Daily Log'!$F$18:$F$1017),0)","v":0},{"$f":"IFERROR($E369*SUMIF('Daily Log'!$H$18:$H$1017,$B369,'Daily Log'!$I$18:$I$1017),0)","v":0},{"$f":"IFERROR($E369*SUMIF('Daily Log'!$K$18:$K$1017,$B369,'Daily Log'!$L$18:$L$1017),0)","v":0},{"$f":"IFERROR($E369*SUMIF('Daily Log'!$N$18:$N$1017,$B369,'Daily Log'!$O$18:$O$1017),0)","v":0},{"$f":"IFERROR($E369*SUMIF('Daily Log'!$Q$18:$Q$1017,$B369,'Daily Log'!$R$18:$R$1017),0)","v":0},{"$f":"IFERROR($E369*SUMIF('Daily Log'!$T$18:$T$1017,$B369,'Daily Log'!$U$18:$U$1017),0)","v":0},{"$f":"IFERROR($E369*SUMIF('Daily Log'!$W$18:$W$1017,$B369,'Daily Log'!$X$18:$X$1017),0)","v":0},{"$f":"IFERROR($E369*SUMIF('Daily Log'!$Z$18:$Z$1017,$B369,'Daily Log'!$AA$18:$AA$1017),0)","v":0},{"$f":"IFERROR($E369*SUMIF('Daily Log'!$AC$18:$AC$1017,$B369,'Daily Log'!$AD$18:$AD$1017),0)","v":0},{"$f":"IFERROR($E369*SUMIF('Daily Log'!$AF$18:$AF$1017,$B369,'Daily Log'!$AG$18:$AG$1017),0)","v":0},{"$f":"IFERROR($E369*SUMIF('Daily Log'!$AI$18:$AI$1017,$B369,'Daily Log'!$AJ$18:$AJ$1017),0)","v":0},{"$f":"IFERROR($E369*SUMIF('Daily Log'!$AL$18:$AL$1017,$B369,'Daily Log'!$AM$18:$AM$1017),0)","v":0},{"$f":"IFERROR($E369*SUMIF('Daily Log'!$AO$18:$AO$1017,$B369,'Daily Log'!$AP$18:$AP$1017),0)","v":0},{"$f":"IFERROR($E369*SUMIF('Daily Log'!$AR$18:$AR$1017,$B369,'Daily Log'!$AS$18:$AS$1017),0)","v":0},{"$f":"IFERROR($E369*SUMIF('Daily Log'!$AU$18:$AU$1017,$B369,'Daily Log'!$AV$18:$AV$1017),0)","v":0},{"$f":"IFERROR($E369*SUMIF('Daily Log'!$AX$18:$AX$1017,$B369,'Daily Log'!$AY$18:$AY$1017),0)","v":0},{"$f":"IFERROR($E369*SUMIF('Daily Log'!$BA$18:$BA$1017,$B369,'Daily Log'!$BB$18:$BB$1017),0)","v":0},{"$f":"IFERROR($E369*SUMIF('Daily Log'!$BD$18:$BD$1017,$B369,'Daily Log'!$BE$18:$BE$1017),0)","v":0},{"$f":"IFERROR($E369*SUMIF('Daily Log'!$BG$18:$BG$1017,$B369,'Daily Log'!$BH$18:$BH$1017),0)","v":0},{"$f":"IFERROR($E369*SUMIF('Daily Log'!$BJ$18:$BJ$1017,$B369,'Daily Log'!$BK$18:$BK$1017),0)","v":0},{"$f":"IFERROR($E369*SUMIF('Daily Log'!$BM$18:$BM$1017,$B369,'Daily Log'!$BN$18:$BN$1017),0)","v":0},{"$f":"IFERROR($E369*SUMIF('Daily Log'!$BP$18:$BP$1017,$B369,'Daily Log'!$BQ$18:$BQ$1017),0)","v":0},{"$f":"IFERROR($E369*SUMIF('Daily Log'!$BS$18:$BS$1017,$B369,'Daily Log'!$BT$18:$BT$1017),0)","v":0},{"$f":"IFERROR($E369*SUMIF('Daily Log'!$BV$18:$BV$1017,$B369,'Daily Log'!$BW$18:$BW$1017),0)","v":0},{"$f":"IFERROR($E369*SUMIF('Daily Log'!$BY$18:$BY$1017,$B369,'Daily Log'!$BZ$18:$BZ$1017),0)","v":0},{"$f":"IFERROR($E369*SUMIF('Daily Log'!$CB$18:$CB$1017,$B369,'Daily Log'!$CC$18:$CC$1017),0)","v":0},{"$f":"IFERROR($E369*SUMIF('Daily Log'!$CE$18:$CE$1017,$B369,'Daily Log'!$CF$18:$CF$1017),0)","v":0},{"$f":"IFERROR($E369*SUMIF('Daily Log'!$CH$18:$CH$1017,$B369,'Daily Log'!$CI$18:$CI$1017),0)","v":0},{"$f":"IFERROR($E369*SUMIF('Daily Log'!$CK$18:$CK$1017,$B369,'Daily Log'!$CL$18:$CL$1017),0)","v":1},{"$f":"IFERROR($E369*SUMIF('Daily Log'!$CN$18:$CN$1017,$B369,'Daily Log'!$CO$18:$CO$1017),0)","v":0}]
[null,"GF03 KENT MINTEK",null,"CIGARETTE",1,0,{"$f":"IFERROR($E370*SUMIF('Daily Log'!$B$18:$B$1017,$B370,'Daily Log'!$C$18:$C$1017),0)","v":0},{"$f":"IFERROR($E370*SUMIF('Daily Log'!$E$18:$E$1017,$B370,'Daily Log'!$F$18:$F$1017),0)","v":0},{"$f":"IFERROR($E370*SUMIF('Daily Log'!$H$18:$H$1017,$B370,'Daily Log'!$I$18:$I$1017),0)","v":0},{"$f":"IFERROR($E370*SUMIF('Daily Log'!$K$18:$K$1017,$B370,'Daily Log'!$L$18:$L$1017),0)","v":0},{"$f":"IFERROR($E370*SUMIF('Daily Log'!$N$18:$N$1017,$B370,'Daily Log'!$O$18:$O$1017),0)","v":0},{"$f":"IFERROR($E370*SUMIF('Daily Log'!$Q$18:$Q$1017,$B370,'Daily Log'!$R$18:$R$1017),0)","v":0},{"$f":"IFERROR($E370*SUMIF('Daily Log'!$T$18:$T$1017,$B370,'Daily Log'!$U$18:$U$1017),0)","v":0},{"$f":"IFERROR($E370*SUMIF('Daily Log'!$W$18:$W$1017,$B370,'Daily Log'!$X$18:$X$1017),0)","v":0},{"$f":"IFERROR($E370*SUMIF('Daily Log'!$Z$18:$Z$1017,$B370,'Daily Log'!$AA$18:$AA$1017),0)","v":0},{"$f":"IFERROR($E370*SUMIF('Daily Log'!$AC$18:$AC$1017,$B370,'Daily Log'!$AD$18:$AD$1017),0)","v":0},{"$f":"IFERROR($E370*SUMIF('Daily Log'!$AF$18:$AF$1017,$B370,'Daily Log'!$AG$18:$AG$1017),0)","v":0},{"$f":"IFERROR($E370*SUMIF('Daily Log'!$AI$18:$AI$1017,$B370,'Daily Log'!$AJ$18:$AJ$1017),0)","v":0},{"$f":"IFERROR($E370*SUMIF('Daily Log'!$AL$18:$AL$1017,$B370,'Daily Log'!$AM$18:$AM$1017),0)","v":0},{"$f":"IFERROR($E370*SUMIF('Daily Log'!$AO$18:$AO$1017,$B370,'Daily Log'!$AP$18:$AP$1017),0)","v":0},{"$f":"IFERROR($E370*SUMIF('Daily Log'!$AR$18:$AR$1017,$B370,'Daily Log'!$AS$18:$AS$1017),0)","v":0},{"$f":"IFERROR($E370*SUMIF('Daily Log'!$AU$18:$AU$1017,$B370,'Daily Log'!$AV$18:$AV$1017),0)","v":0},{"$f":"IFERROR($E370*SUMIF('Daily Log'!$AX$18:$AX$1017,$B370,'Daily Log'!$AY$18:$AY$1017),0)","v":0},{"$f":"IFERROR($E370*SUMIF('Daily Log'!$BA$18:$BA$1017,$B370,'Daily Log'!$BB$18:$BB$1017),0)","v":0},{"$f":"IFERROR($E370*SUMIF('Daily Log'!$BD$18:$BD$1017,$B370,'Daily Log'!$BE$18:$BE$1017),0)","v":0},{"$f":"IFERROR($E370*SUMIF('Daily Log'!$BG$18:$BG$1017,$B370,'Daily Log'!$BH$18:$BH$1017),0)","v":0},{"$f":"IFERROR($E370*SUMIF('Daily Log'!$BJ$18:$BJ$1017,$B370,'Daily Log'!$BK$18:$BK$1017),0)","v":0},{"$f":"IFERROR($E370*SUMIF('Daily Log'!$BM$18:$BM$1017,$B370,'Daily Log'!$BN$18:$BN$1017),0)","v":0},{"$f":"IFERROR($E370*SUMIF('Daily Log'!$BP$18:$BP$1017,$B370,'Daily Log'!$BQ$18:$BQ$1017),0)","v":0},{"$f":"IFERROR($E370*SUMIF('Daily Log'!$BS$18:$BS$1017,$B370,'Daily Log'!$BT$18:$BT$1017),0)","v":0},{"$f":"IFERROR($E370*SUMIF('Daily Log'!$BV$18:$BV$1017,$B370,'Daily Log'!$BW$18:$BW$1017),0)","v":0},{"$f":"IFERROR($E370*SUMIF('Daily Log'!$BY$18:$BY$1017,$B370,'Daily Log'!$BZ$18:$BZ$1017),0)","v":0},{"$f":"IFERROR($E370*SUMIF('Daily Log'!$CB$18:$CB$1017,$B370,'Daily Log'!$CC$18:$CC$1017),0)","v":0},{"$f":"IFERROR($E370*SUMIF('Daily Log'!$CE$18:$CE$1017,$B370,'Daily Log'!$CF$18:$CF$1017),0)","v":0},{"$f":"IFERROR($E370*SUMIF('Daily Log'!$CH$18:$CH$1017,$B370,'Daily Log'!$CI$18:$CI$1017),0)","v":0},{"$f":"IFERROR($E370*SUMIF('Daily Log'!$CK$18:$CK$1017,$B370,'Daily Log'!$CL$18:$CL$1017),0)","v":0},{"$f":"IFERROR($E370*SUMIF('Daily Log'!$CN$18:$CN$1017,$B370,'Daily Log'!$CO$18:$CO$1017),0)","v":0}]
[null,"GF04 KENT NEO",null,"CIGARETTE",1,1,{"$f":"IFERROR($E371*SUMIF('Daily Log'!$B$18:$B$1017,$B371,'Daily Log'!$C$18:$C$1017),0)","v":0},{"$f":"IFERROR($E371*SUMIF('Daily Log'!$E$18:$E$1017,$B371,'Daily Log'!$F$18:$F$1017),0)","v":0},{"$f":"IFERROR($E371*SUMIF('Daily Log'!$H$18:$H$1017,$B371,'Daily Log'!$I$18:$I$1017),0)","v":0},{"$f":"IFERROR($E371*SUMIF('Daily Log'!$K$18:$K$1017,$B371,'Daily Log'!$L$18:$L$1017),0)","v":0},{"$f":"IFERROR($E371*SUMIF('Daily Log'!$N$18:$N$1017,$B371,'Daily Log'!$O$18:$O$1017),0)","v":0},{"$f":"IFERROR($E371*SUMIF('Daily Log'!$Q$18:$Q$1017,$B371,'Daily Log'!$R$18:$R$1017),0)","v":0},{"$f":"IFERROR($E371*SUMIF('Daily Log'!$T$18:$T$1017,$B371,'Daily Log'!$U$18:$U$1017),0)","v":0},{"$f":"IFERROR($E371*SUMIF('Daily Log'!$W$18:$W$1017,$B371,'Daily Log'!$X$18:$X$1017),0)","v":0},{"$f":"IFERROR($E371*SUMIF('Daily Log'!$Z$18:$Z$1017,$B371,'Daily Log'!$AA$18:$AA$1017),0)","v":0},{"$f":"IFERROR($E371*SUMIF('Daily Log'!$AC$18:$AC$1017,$B371,'Daily Log'!$AD$18:$AD$1017),0)","v":0},{"$f":"IFERROR($E371*SUMIF('Daily Log'!$AF$18:$AF$1017,$B371,'Daily Log'!$AG$18:$AG$1017),0)","v":0},{"$f":"IFERROR($E371*SUMIF('Daily Log'!$AI$18:$AI$1017,$B371,'Daily Log'!$AJ$18:$AJ$1017),0)","v":0},{"$f":"IFERROR($E371*SUMIF('Daily Log'!$AL$18:$AL$1017,$B371,'Daily Log'!$AM$18:$AM$1017),0)","v":0},{"$f":"IFERROR($E371*SUMIF('Daily Log'!$AO$18:$AO$1017,$B371,'Daily Log'!$AP$18:$AP$1017),0)","v":0},{"$f":"IFERROR($E371*SUMIF('Daily Log'!$AR$18:$AR$1017,$B371,'Daily Log'!$AS$18:$AS$1017),0)","v":0},{"$f":"IFERROR($E371*SUMIF('Daily Log'!$AU$18:$AU$1017,$B371,'Daily Log'!$AV$18:$AV$1017),0)","v":0},{"$f":"IFERROR($E371*SUMIF('Daily Log'!$AX$18:$AX$1017,$B371,'Daily Log'!$AY$18:$AY$1017),0)","v":0},{"$f":"IFERROR($E371*SUMIF('Daily Log'!$BA$18:$BA$1017,$B371,'Daily Log'!$BB$18:$BB$1017),0)","v":0},{"$f":"IFERROR($E371*SUMIF('Daily Log'!$BD$18:$BD$1017,$B371,'Daily Log'!$BE$18:$BE$1017),0)","v":0},{"$f":"IFERROR($E371*SUMIF('Daily Log'!$BG$18:$BG$1017,$B371,'Daily Log'!$BH$18:$BH$1017),0)","v":0},{"$f":"IFERROR($E371*SUMIF('Daily Log'!$BJ$18:$BJ$1017,$B371,'Daily Log'!$BK$18:$BK$1017),0)","v":0},{"$f":"IFERROR($E371*SUMIF('Daily Log'!$BM$18:$BM$1017,$B371,'Daily Log'!$BN$18:$BN$1017),0)","v":0},{"$f":"IFERROR($E371*SUMIF('Daily Log'!$BP$18:$BP$1017,$B371,'Daily Log'!$BQ$18:$BQ$1017),0)","v":0},{"$f":"IFERROR($E371*SUMIF('Daily Log'!$BS$18:$BS$1017,$B371,'Daily Log'!$BT$18:$BT$1017),0)","v":0},{"$f":"IFERROR($E371*SUMIF('Daily Log'!$BV$18:$BV$1017,$B371,'Daily Log'!$BW$18:$BW$1017),0)","v":0},{"$f":"IFERROR($E371*SUMIF('Daily Log'!$BY$18:$BY$1017,$B371,'Daily Log'!$BZ$18:$BZ$1017),0)","v":0},{"$f":"IFERROR($E371*SUMIF('Daily Log'!$CB$18:$CB$1017,$B371,'Daily Log'!$CC$18:$CC$1017),0)","v":0},{"$f":"IFERROR($E371*SUMIF('Daily Log'!$CE$18:$CE$1017,$B371,'Daily Log'!$CF$18:$CF$1017),0)","v":0},{"$f":"IFERROR($E371*SUMIF('Daily Log'!$CH$18:$CH$1017,$B371,'Daily Log'!$CI$18:$CI$1017),0)","v":0},{"$f":"IFERROR($E371*SUMIF('Daily Log'!$CK$18:$CK$1017,$B371,'Daily Log'!$CL$18:$CL$1017),0)","v":1},{"$f":"IFERROR($E371*SUMIF('Daily Log'!$CN$18:$CN$1017,$B371,'Daily Log'!$CO$18:$CO$1017),0)","v":0}]
[null,"ZAB01 1201:SFD STICK",null,"COMBO-APPETIZER",1,16,{"$f":"IFERROR($E372*SUMIF('Daily Log'!$B$18:$B$1017,$B372,'Daily Log'!$C$18:$C$1017),0)","v":0},{"$f":"IFERROR($E372*SUMIF('Daily Log'!$E$18:$E$1017,$B372,'Daily Log'!$F$18:$F$1017),0)","v":0},{"$f":"IFERROR($E372*SUMIF('Daily Log'!$H$18:$H$1017,$B372,'Daily Log'!$I$18:$I$1017),0)","v":0},{"$f":"IFERROR($E372*SUMIF('Daily Log'!$K$18:$K$1017,$B372,'Daily Log'!$L$18:$L$1017),0)","v":0},{"$f":"IFERROR($E372*SUMIF('Daily Log'!$N$18:$N$1017,$B372,'Daily Log'!$O$18:$O$1017),0)","v":0},{"$f":"IFERROR($E372*SUMIF('Daily Log'!$Q$18:$Q$1017,$B372,'Daily Log'!$R$18:$R$1017),0)","v":0},{"$f":"IFERROR($E372*SUMIF('Daily Log'!$T$18:$T$1017,$B372,'Daily Log'!$U$18:$U$1017),0)","v":0},{"$f":"IFERROR($E372*SUMIF('Daily Log'!$W$18:$W$1017,$B372,'Daily Log'!$X$18:$X$1017),0)","v":0},{"$f":"IFERROR($E372*SUMIF('Daily Log'!$Z$18:$Z$1017,$B372,'Daily Log'!$AA$18:$AA$1017),0)","v":0},{"$f":"IFERROR($E372*SUMIF('Daily Log'!$AC$18:$AC$1017,$B372,'Daily Log'!$AD$18:$AD$1017),0)","v":0},{"$f":"IFERROR($E372*SUMIF('Daily Log'!$AF$18:$AF$1017,$B372,'Daily Log'!$AG$18:$AG$1017),0)","v":0},{"$f":"IFERROR($E372*SUMIF('Daily Log'!$AI$18:$AI$1017,$B372,'Daily Log'!$AJ$18:$AJ$1017),0)","v":0},{"$f":"IFERROR($E372*SUMIF('Daily Log'!$AL$18:$AL$1017,$B372,'Daily Log'!$AM$18:$AM$1017),0)","v":0},{"$f":"IFERROR($E372*SUMIF('Daily Log'!$AO$18:$AO$1017,$B372,'Daily Log'!$AP$18:$AP$1017),0)","v":0},{"$f":"IFERROR($E372*SUMIF('Daily Log'!$AR$18:$AR$1017,$B372,'Daily Log'!$AS$18:$AS$1017),0)","v":0},{"$f":"IFERROR($E372*SUMIF('Daily Log'!$AU$18:$AU$1017,$B372,'Daily Log'!$AV$18:$AV$1017),0)","v":0},{"$f":"IFERROR($E372*SUMIF('Daily Log'!$AX$18:$AX$1017,$B372,'Daily Log'!$AY$18:$AY$1017),0)","v":0},{"$f":"IFERROR($E372*SUMIF('Daily Log'!$BA$18:$BA$1017,$B372,'Daily Log'!$BB$18:$BB$1017),0)","v":0},{"$f":"IFERROR($E372*SUMIF('Daily Log'!$BD$18:$BD$1017,$B372,'Daily Log'!$BE$18:$BE$1017),0)","v":0},{"$f":"IFERROR($E372*SUMIF('Daily Log'!$BG$18:$BG$1017,$B372,'Daily Log'!$BH$18:$BH$1017),0)","v":0},{"$f":"IFERROR($E372*SUMIF('Daily Log'!$BJ$18:$BJ$1017,$B372,'Daily Log'!$BK$18:$BK$1017),0)","v":0},{"$f":"IFERROR($E372*SUMIF('Daily Log'!$BM$18:$BM$1017,$B372,'Daily Log'!$BN$18:$BN$1017),0)","v":0},{"$f":"IFERROR($E372*SUMIF('Daily Log'!$BP$18:$BP$1017,$B372,'Daily Log'!$BQ$18:$BQ$1017),0)","v":0},{"$f":"IFERROR($E372*SUMIF('Daily Log'!$BS$18:$BS$1017,$B372,'Daily Log'!$BT$18:$BT$1017),0)","v":0},{"$f":"IFERROR($E372*SUMIF('Daily Log'!$BV$18:$BV$1017,$B372,'Daily Log'!$BW$18:$BW$1017),0)","v":0},{"$f":"IFERROR($E372*SUMIF('Daily Log'!$BY$18:$BY$1017,$B372,'Daily Log'!$BZ$18:$BZ$1017),0)","v":0},{"$f":"IFERROR($E372*SUMIF('Daily Log'!$CB$18:$CB$1017,$B372,'Daily Log'!$CC$18:$CC$1017),0)","v":0},{"$f":"IFERROR($E372*SUMIF('Daily Log'!$CE$18:$CE$1017,$B372,'Daily Log'!$CF$18:$CF$1017),0)","v":0},{"$f":"IFERROR($E372*SUMIF('Daily Log'!$CH$18:$CH$1017,$B372,'Daily Log'!$CI$18:$CI$1017),0)","v":0},{"$f":"IFERROR($E372*SUMIF('Daily Log'!$CK$18:$CK$1017,$B372,'Daily Log'!$CL$18:$CL$1017),0)","v":16},{"$f":"IFERROR($E372*SUMIF('Daily Log'!$CN$18:$CN$1017,$B372,'Daily Log'!$CO$18:$CO$1017),0)","v":0}]
[null,"ZAB02 1202:FRIES",null,"COMBO-APPETIZER",1,172,{"$f":"IFERROR($E373*SUMIF('Daily Log'!$B$18:$B$1017,$B373,'Daily Log'!$C$18:$C$1017),0)","v":0},{"$f":"IFERROR($E373*SUMIF('Daily Log'!$E$18:$E$1017,$B373,'Daily Log'!$F$18:$F$1017),0)","v":0},{"$f":"IFERROR($E373*SUMIF('Daily Log'!$H$18:$H$1017,$B373,'Daily Log'!$I$18:$I$1017),0)","v":0},{"$f":"IFERROR($E373*SUMIF('Daily Log'!$K$18:$K$1017,$B373,'Daily Log'!$L$18:$L$1017),0)","v":0},{"$f":"IFERROR($E373*SUMIF('Daily Log'!$N$18:$N$1017,$B373,'Daily Log'!$O$18:$O$1017),0)","v":0},{"$f":"IFERROR($E373*SUMIF('Daily Log'!$Q$18:$Q$1017,$B373,'Daily Log'!$R$18:$R$1017),0)","v":0},{"$f":"IFERROR($E373*SUMIF('Daily Log'!$T$18:$T$1017,$B373,'Daily Log'!$U$18:$U$1017),0)","v":0},{"$f":"IFERROR($E373*SUMIF('Daily Log'!$W$18:$W$1017,$B373,'Daily Log'!$X$18:$X$1017),0)","v":0},{"$f":"IFERROR($E373*SUMIF('Daily Log'!$Z$18:$Z$1017,$B373,'Daily Log'!$AA$18:$AA$1017),0)","v":0},{"$f":"IFERROR($E373*SUMIF('Daily Log'!$AC$18:$AC$1017,$B373,'Daily Log'!$AD$18:$AD$1017),0)","v":0},{"$f":"IFERROR($E373*SUMIF('Daily Log'!$AF$18:$AF$1017,$B373,'Daily Log'!$AG$18:$AG$1017),0)","v":0},{"$f":"IFERROR($E373*SUMIF('Daily Log'!$AI$18:$AI$1017,$B373,'Daily Log'!$AJ$18:$AJ$1017),0)","v":0},{"$f":"IFERROR($E373*SUMIF('Daily Log'!$AL$18:$AL$1017,$B373,'Daily Log'!$AM$18:$AM$1017),0)","v":0},{"$f":"IFERROR($E373*SUMIF('Daily Log'!$AO$18:$AO$1017,$B373,'Daily Log'!$AP$18:$AP$1017),0)","v":0},{"$f":"IFERROR($E373*SUMIF('Daily Log'!$AR$18:$AR$1017,$B373,'Daily Log'!$AS$18:$AS$1017),0)","v":0},{"$f":"IFERROR($E373*SUMIF('Daily Log'!$AU$18:$AU$1017,$B373,'Daily Log'!$AV$18:$AV$1017),0)","v":0},{"$f":"IFERROR($E373*SUMIF('Daily Log'!$AX$18:$AX$1017,$B373,'Daily Log'!$AY$18:$AY$1017),0)","v":0},{"$f":"IFERROR($E373*SUMIF('Daily Log'!$BA$18:$BA$1017,$B373,'Daily Log'!$BB$18:$BB$1017),0)","v":0},{"$f":"IFERROR($E373*SUMIF('Daily Log'!$BD$18:$BD$1017,$B373,'Daily Log'!$BE$18:$BE$1017),0)","v":0},{"$f":"IFERROR($E373*SUMIF('Daily Log'!$BG$18:$BG$1017,$B373,'Daily Log'!$BH$18:$BH$1017),0)","v":0},{"$f":"IFERROR($E373*SUMIF('Daily Log'!$BJ$18:$BJ$1017,$B373,'Daily Log'!$BK$18:$BK$1017),0)","v":0},{"$f":"IFERROR($E373*SUMIF('Daily Log'!$BM$18:$BM$1017,$B373,'Daily Log'!$BN$18:$BN$1017),0)","v":0},{"$f":"IFERROR($E373*SUMIF('Daily Log'!$BP$18:$BP$1017,$B373,'Daily Log'!$BQ$18:$BQ$1017),0)","v":0},{"$f":"IFERROR($E373*SUMIF('Daily Log'!$BS$18:$BS$1017,$B373,'Daily Log'!$BT$18:$BT$1017),0)","v":0},{"$f":"IFERROR($E373*SUMIF('Daily Log'!$BV$18:$BV$1017,$B373,'Daily Log'!$BW$18:$BW$1017),0)","v":0},{"$f":"IFERROR($E373*SUMIF('Daily Log'!$BY$18:$BY$1017,$B373,'Daily Log'!$BZ$18:$BZ$1017),0)","v":0},{"$f":"IFERROR($E373*SUMIF('Daily Log'!$CB$18:$CB$1017,$B373,'Daily Log'!$CC$18:$CC$1017),0)","v":0},{"$f":"IFERROR($E373*SUMIF('Daily Log'!$CE$18:$CE$1017,$B373,'Daily Log'!$CF$18:$CF$1017),0)","v":0},{"$f":"IFERROR($E373*SUMIF('Daily Log'!$CH$18:$CH$1017,$B373,'Daily Log'!$CI$18:$CI$1017),0)","v":0},{"$f":"IFERROR($E373*SUMIF('Daily Log'!$CK$18:$CK$1017,$B373,'Daily Log'!$CL$18:$CL$1017),0)","v":172},{"$f":"IFERROR($E373*SUMIF('Daily Log'!$CN$18:$CN$1017,$B373,'Daily Log'!$CO$18:$CO$1017),0)","v":0}]
[null,"ZAB03 1203:GOLD MROOM",null,"COMBO-APPETIZER",1,45,{"$f":"IFERROR($E374*SUMIF('Daily Log'!$B$18:$B$1017,$B374,'Daily Log'!$C$18:$C$1017),0)","v":0},{"$f":"IFERROR($E374*SUMIF('Daily Log'!$E$18:$E$1017,$B374,'Daily Log'!$F$18:$F$1017),0)","v":0},{"$f":"IFERROR($E374*SUMIF('Daily Log'!$H$18:$H$1017,$B374,'Daily Log'!$I$18:$I$1017),0)","v":0},{"$f":"IFERROR($E374*SUMIF('Daily Log'!$K$18:$K$1017,$B374,'Daily Log'!$L$18:$L$1017),0)","v":0},{"$f":"IFERROR($E374*SUMIF('Daily Log'!$N$18:$N$1017,$B374,'Daily Log'!$O$18:$O$1017),0)","v":0},{"$f":"IFERROR($E374*SUMIF('Daily Log'!$Q$18:$Q$1017,$B374,'Daily Log'!$R$18:$R$1017),0)","v":0},{"$f":"IFERROR($E374*SUMIF('Daily Log'!$T$18:$T$1017,$B374,'Daily Log'!$U$18:$U$1017),0)","v":0},{"$f":"IFERROR($E374*SUMIF('Daily Log'!$W$18:$W$1017,$B374,'Daily Log'!$X$18:$X$1017),0)","v":0},{"$f":"IFERROR($E374*SUMIF('Daily Log'!$Z$18:$Z$1017,$B374,'Daily Log'!$AA$18:$AA$1017),0)","v":0},{"$f":"IFERROR($E374*SUMIF('Daily Log'!$AC$18:$AC$1017,$B374,'Daily Log'!$AD$18:$AD$1017),0)","v":0},{"$f":"IFERROR($E374*SUMIF('Daily Log'!$AF$18:$AF$1017,$B374,'Daily Log'!$AG$18:$AG$1017),0)","v":0},{"$f":"IFERROR($E374*SUMIF('Daily Log'!$AI$18:$AI$1017,$B374,'Daily Log'!$AJ$18:$AJ$1017),0)","v":0},{"$f":"IFERROR($E374*SUMIF('Daily Log'!$AL$18:$AL$1017,$B374,'Daily Log'!$AM$18:$AM$1017),0)","v":0},{"$f":"IFERROR($E374*SUMIF('Daily Log'!$AO$18:$AO$1017,$B374,'Daily Log'!$AP$18:$AP$1017),0)","v":0},{"$f":"IFERROR($E374*SUMIF('Daily Log'!$AR$18:$AR$1017,$B374,'Daily Log'!$AS$18:$AS$1017),0)","v":0},{"$f":"IFERROR($E374*SUMIF('Daily Log'!$AU$18:$AU$1017,$B374,'Daily Log'!$AV$18:$AV$1017),0)","v":0},{"$f":"IFERROR($E374*SUMIF('Daily Log'!$AX$18:$AX$1017,$B374,'Daily Log'!$AY$18:$AY$1017),0)","v":0},{"$f":"IFERROR($E374*SUMIF('Daily Log'!$BA$18:$BA$1017,$B374,'Daily Log'!$BB$18:$BB$1017),0)","v":0},{"$f":"IFERROR($E374*SUMIF('Daily Log'!$BD$18:$BD$1017,$B374,'Daily Log'!$BE$18:$BE$1017),0)","v":0},{"$f":"IFERROR($E374*SUMIF('Daily Log'!$BG$18:$BG$1017,$B374,'Daily Log'!$BH$18:$BH$1017),0)","v":0},{"$f":"IFERROR($E374*SUMIF('Daily Log'!$BJ$18:$BJ$1017,$B374,'Daily Log'!$BK$18:$BK$1017),0)","v":0},{"$f":"IFERROR($E374*SUMIF('Daily Log'!$BM$18:$BM$1017,$B374,'Daily Log'!$BN$18:$BN$1017),0)","v":0},{"$f":"IFERROR($E374*SUMIF('Daily Log'!$BP$18:$BP$1017,$B374,'Daily Log'!$BQ$18:$BQ$1017),0)","v":0},{"$f":"IFERROR($E374*SUMIF('Daily Log'!$BS$18:$BS$1017,$B374,'Daily Log'!$BT$18:$BT$1017),0)","v":0},{"$f":"IFERROR($E374*SUMIF('Daily Log'!$BV$18:$BV$1017,$B374,'Daily Log'!$BW$18:$BW$1017),0)","v":0},{"$f":"IFERROR($E374*SUMIF('Daily Log'!$BY$18:$BY$1017,$B374,'Daily Log'!$BZ$18:$BZ$1017),0)","v":0},{"$f":"IFERROR($E374*SUMIF('Daily Log'!$CB$18:$CB$1017,$B374,'Daily Log'!$CC$18:$CC$1017),0)","v":0},{"$f":"IFERROR($E374*SUMIF('Daily Log'!$CE$18:$CE$1017,$B374,'Daily Log'!$CF$18:$CF$1017),0)","v":0},{"$f":"IFERROR($E374*SUMIF('Daily Log'!$CH$18:$CH$1017,$B374,'Daily Log'!$CI$18:$CI$1017),0)","v":0},{"$f":"IFERROR($E374*SUMIF('Daily Log'!$CK$18:$CK$1017,$B374,'Daily Log'!$CL$18:$CL$1017),0)","v":45},{"$f":"IFERROR($E374*SUMIF('Daily Log'!$CN$18:$CN$1017,$B374,'Daily Log'!$CO$18:$CO$1017),0)","v":0}]
[null,"ZAB04 1204:F.BALL",null,"COMBO-APPETIZER",1,35,{"$f":"IFERROR($E375*SUMIF('Daily Log'!$B$18:$B$1017,$B375,'Daily Log'!$C$18:$C$1017),0)","v":0},{"$f":"IFERROR($E375*SUMIF('Daily Log'!$E$18:$E$1017,$B375,'Daily Log'!$F$18:$F$1017),0)","v":0},{"$f":"IFERROR($E375*SUMIF('Daily Log'!$H$18:$H$1017,$B375,'Daily Log'!$I$18:$I$1017),0)","v":0},{"$f":"IFERROR($E375*SUMIF('Daily Log'!$K$18:$K$1017,$B375,'Daily Log'!$L$18:$L$1017),0)","v":0},{"$f":"IFERROR($E375*SUMIF('Daily Log'!$N$18:$N$1017,$B375,'Daily Log'!$O$18:$O$1017),0)","v":0},{"$f":"IFERROR($E375*SUMIF('Daily Log'!$Q$18:$Q$1017,$B375,'Daily Log'!$R$18:$R$1017),0)","v":0},{"$f":"IFERROR($E375*SUMIF('Daily Log'!$T$18:$T$1017,$B375,'Daily Log'!$U$18:$U$1017),0)","v":0},{"$f":"IFERROR($E375*SUMIF('Daily Log'!$W$18:$W$1017,$B375,'Daily Log'!$X$18:$X$1017),0)","v":0},{"$f":"IFERROR($E375*SUMIF('Daily Log'!$Z$18:$Z$1017,$B375,'Daily Log'!$AA$18:$AA$1017),0)","v":0},{"$f":"IFERROR($E375*SUMIF('Daily Log'!$AC$18:$AC$1017,$B375,'Daily Log'!$AD$18:$AD$1017),0)","v":0},{"$f":"IFERROR($E375*SUMIF('Daily Log'!$AF$18:$AF$1017,$B375,'Daily Log'!$AG$18:$AG$1017),0)","v":0},{"$f":"IFERROR($E375*SUMIF('Daily Log'!$AI$18:$AI$1017,$B375,'Daily Log'!$AJ$18:$AJ$1017),0)","v":0},{"$f":"IFERROR($E375*SUMIF('Daily Log'!$AL$18:$AL$1017,$B375,'Daily Log'!$AM$18:$AM$1017),0)","v":0},{"$f":"IFERROR($E375*SUMIF('Daily Log'!$AO$18:$AO$1017,$B375,'Daily Log'!$AP$18:$AP$1017),0)","v":0},{"$f":"IFERROR($E375*SUMIF('Daily Log'!$AR$18:$AR$1017,$B375,'Daily Log'!$AS$18:$AS$1017),0)","v":0},{"$f":"IFERROR($E375*SUMIF('Daily Log'!$AU$18:$AU$1017,$B375,'Daily Log'!$AV$18:$AV$1017),0)","v":0},{"$f":"IFERROR($E375*SUMIF('Daily Log'!$AX$18:$AX$1017,$B375,'Daily Log'!$AY$18:$AY$1017),0)","v":0},{"$f":"IFERROR($E375*SUMIF('Daily Log'!$BA$18:$BA$1017,$B375,'Daily Log'!$BB$18:$BB$1017),0)","v":0},{"$f":"IFERROR($E375*SUMIF('Daily Log'!$BD$18:$BD$1017,$B375,'Daily Log'!$BE$18:$BE$1017),0)","v":0},{"$f":"IFERROR($E375*SUMIF('Daily Log'!$BG$18:$BG$1017,$B375,'Daily Log'!$BH$18:$BH$1017),0)","v":0},{"$f":"IFERROR($E375*SUMIF('Daily Log'!$BJ$18:$BJ$1017,$B375,'Daily Log'!$BK$18:$BK$1017),0)","v":0},{"$f":"IFERROR($E375*SUMIF('Daily Log'!$BM$18:$BM$1017,$B375,'Daily Log'!$BN$18:$BN$1017),0)","v":0},{"$f":"IFERROR($E375*SUMIF('Daily Log'!$BP$18:$BP$1017,$B375,'Daily Log'!$BQ$18:$BQ$1017),0)","v":0},{"$f":"IFERROR($E375*SUMIF('Daily Log'!$BS$18:$BS$1017,$B375,'Daily Log'!$BT$18:$BT$1017),0)","v":0},{"$f":"IFERROR($E375*SUMIF('Daily Log'!$BV$18:$BV$1017,$B375,'Daily Log'!$BW$18:$BW$1017),0)","v":0},{"$f":"IFERROR($E375*SUMIF('Daily Log'!$BY$18:$BY$1017,$B375,'Daily Log'!$BZ$18:$BZ$1017),0)","v":0},{"$f":"IFERROR($E375*SUMIF('Daily Log'!$CB$18:$CB$1017,$B375,'Daily Log'!$CC$18:$CC$1017),0)","v":0},{"$f":"IFERROR($E375*SUMIF('Daily Log'!$CE$18:$CE$1017,$B375,'Daily Log'!$CF$18:$CF$1017),0)","v":0},{"$f":"IFERROR($E375*SUMIF('Daily Log'!$CH$18:$CH$1017,$B375,'Daily Log'!$CI$18:$CI$1017),0)","v":0},{"$f":"IFERROR($E375*SUMIF('Daily Log'!$CK$18:$CK$1017,$B375,'Daily Log'!$CL$18:$CL$1017),0)","v":35},{"$f":"IFERROR($E375*SUMIF('Daily Log'!$CN$18:$CN$1017,$B375,'Daily Log'!$CO$18:$CO$1017),0)","v":0}]
[null,"ZAB05 1205:RAINBOW RL",null,"COMBO-APPETIZER",1,11,{"$f":"IFERROR($E376*SUMIF('Daily Log'!$B$18:$B$1017,$B376,'Daily Log'!$C$18:$C$1017),0)","v":0},{"$f":"IFERROR($E376*SUMIF('Daily Log'!$E$18:$E$1017,$B376,'Daily Log'!$F$18:$F$1017),0)","v":0},{"$f":"IFERROR($E376*SUMIF('Daily Log'!$H$18:$H$1017,$B376,'Daily Log'!$I$18:$I$1017),0)","v":0},{"$f":"IFERROR($E376*SUMIF('Daily Log'!$K$18:$K$1017,$B376,'Daily Log'!$L$18:$L$1017),0)","v":0},{"$f":"IFERROR($E376*SUMIF('Daily Log'!$N$18:$N$1017,$B376,'Daily Log'!$O$18:$O$1017),0)","v":0},{"$f":"IFERROR($E376*SUMIF('Daily Log'!$Q$18:$Q$1017,$B376,'Daily Log'!$R$18:$R$1017),0)","v":0},{"$f":"IFERROR($E376*SUMIF('Daily Log'!$T$18:$T$1017,$B376,'Daily Log'!$U$18:$U$1017),0)","v":0},{"$f":"IFERROR($E376*SUMIF('Daily Log'!$W$18:$W$1017,$B376,'Daily Log'!$X$18:$X$1017),0)","v":0},{"$f":"IFERROR($E376*SUMIF('Daily Log'!$Z$18:$Z$1017,$B376,'Daily Log'!$AA$18:$AA$1017),0)","v":0},{"$f":"IFERROR($E376*SUMIF('Daily Log'!$AC$18:$AC$1017,$B376,'Daily Log'!$AD$18:$AD$1017),0)","v":0},{"$f":"IFERROR($E376*SUMIF('Daily Log'!$AF$18:$AF$1017,$B376,'Daily Log'!$AG$18:$AG$1017),0)","v":0},{"$f":"IFERROR($E376*SUMIF('Daily Log'!$AI$18:$AI$1017,$B376,'Daily Log'!$AJ$18:$AJ$1017),0)","v":0},{"$f":"IFERROR($E376*SUMIF('Daily Log'!$AL$18:$AL$1017,$B376,'Daily Log'!$AM$18:$AM$1017),0)","v":0},{"$f":"IFERROR($E376*SUMIF('Daily Log'!$AO$18:$AO$1017,$B376,'Daily Log'!$AP$18:$AP$1017),0)","v":0},{"$f":"IFERROR($E376*SUMIF('Daily Log'!$AR$18:$AR$1017,$B376,'Daily Log'!$AS$18:$AS$1017),0)","v":0},{"$f":"IFERROR($E376*SUMIF('Daily Log'!$AU$18:$AU$1017,$B376,'Daily Log'!$AV$18:$AV$1017),0)","v":0},{"$f":"IFERROR($E376*SUMIF('Daily Log'!$AX$18:$AX$1017,$B376,'Daily Log'!$AY$18:$AY$1017),0)","v":0},{"$f":"IFERROR($E376*SUMIF('Daily Log'!$BA$18:$BA$1017,$B376,'Daily Log'!$BB$18:$BB$1017),0)","v":0},{"$f":"IFERROR($E376*SUMIF('Daily Log'!$BD$18:$BD$1017,$B376,'Daily Log'!$BE$18:$BE$1017),0)","v":0},{"$f":"IFERROR($E376*SUMIF('Daily Log'!$BG$18:$BG$1017,$B376,'Daily Log'!$BH$18:$BH$1017),0)","v":0},{"$f":"IFERROR($E376*SUMIF('Daily Log'!$BJ$18:$BJ$1017,$B376,'Daily Log'!$BK$18:$BK$1017),0)","v":0},{"$f":"IFERROR($E376*SUMIF('Daily Log'!$BM$18:$BM$1017,$B376,'Daily Log'!$BN$18:$BN$1017),0)","v":0},{"$f":"IFERROR($E376*SUMIF('Daily Log'!$BP$18:$BP$1017,$B376,'Daily Log'!$BQ$18:$BQ$1017),0)","v":0},{"$f":"IFERROR($E376*SUMIF('Daily Log'!$BS$18:$BS$1017,$B376,'Daily Log'!$BT$18:$BT$1017),0)","v":0},{"$f":"IFERROR($E376*SUMIF('Daily Log'!$BV$18:$BV$1017,$B376,'Daily Log'!$BW$18:$BW$1017),0)","v":0},{"$f":"IFERROR($E376*SUMIF('Daily Log'!$BY$18:$BY$1017,$B376,'Daily Log'!$BZ$18:$BZ$1017),0)","v":0},{"$f":"IFERROR($E376*SUMIF('Daily Log'!$CB$18:$CB$1017,$B376,'Daily Log'!$CC$18:$CC$1017),0)","v":0},{"$f":"IFERROR($E376*SUMIF('Daily Log'!$CE$18:$CE$1017,$B376,'Daily Log'!$CF$18:$CF$1017),0)","v":0},{"$f":"IFERROR($E376*SUMIF('Daily Log'!$CH$18:$CH$1017,$B376,'Daily Log'!$CI$18:$CI$1017),0)","v":0},{"$f":"IFERROR($E376*SUMIF('Daily Log'!$CK$18:$CK$1017,$B376,'Daily Log'!$CL$18:$CL$1017),0)","v":11},{"$f":"IFERROR($E376*SUMIF('Daily Log'!$CN$18:$CN$1017,$B376,'Daily Log'!$CO$18:$CO$1017),0)","v":0}]
[null,"ZAB06 1206:SPRING RL",null,"COMBO-APPETIZER",1,44,{"$f":"IFERROR($E377*SUMIF('Daily Log'!$B$18:$B$1017,$B377,'Daily Log'!$C$18:$C$1017),0)","v":0},{"$f":"IFERROR($E377*SUMIF('Daily Log'!$E$18:$E$1017,$B377,'Daily Log'!$F$18:$F$1017),0)","v":0},{"$f":"IFERROR($E377*SUMIF('Daily Log'!$H$18:$H$1017,$B377,'Daily Log'!$I$18:$I$1017),0)","v":0},{"$f":"IFERROR($E377*SUMIF('Daily Log'!$K$18:$K$1017,$B377,'Daily Log'!$L$18:$L$1017),0)","v":0},{"$f":"IFERROR($E377*SUMIF('Daily Log'!$N$18:$N$1017,$B377,'Daily Log'!$O$18:$O$1017),0)","v":0},{"$f":"IFERROR($E377*SUMIF('Daily Log'!$Q$18:$Q$1017,$B377,'Daily Log'!$R$18:$R$1017),0)","v":0},{"$f":"IFERROR($E377*SUMIF('Daily Log'!$T$18:$T$1017,$B377,'Daily Log'!$U$18:$U$1017),0)","v":0},{"$f":"IFERROR($E377*SUMIF('Daily Log'!$W$18:$W$1017,$B377,'Daily Log'!$X$18:$X$1017),0)","v":0},{"$f":"IFERROR($E377*SUMIF('Daily Log'!$Z$18:$Z$1017,$B377,'Daily Log'!$AA$18:$AA$1017),0)","v":0},{"$f":"IFERROR($E377*SUMIF('Daily Log'!$AC$18:$AC$1017,$B377,'Daily Log'!$AD$18:$AD$1017),0)","v":0},{"$f":"IFERROR($E377*SUMIF('Daily Log'!$AF$18:$AF$1017,$B377,'Daily Log'!$AG$18:$AG$1017),0)","v":0},{"$f":"IFERROR($E377*SUMIF('Daily Log'!$AI$18:$AI$1017,$B377,'Daily Log'!$AJ$18:$AJ$1017),0)","v":0},{"$f":"IFERROR($E377*SUMIF('Daily Log'!$AL$18:$AL$1017,$B377,'Daily Log'!$AM$18:$AM$1017),0)","v":0},{"$f":"IFERROR($E377*SUMIF('Daily Log'!$AO$18:$AO$1017,$B377,'Daily Log'!$AP$18:$AP$1017),0)","v":0},{"$f":"IFERROR($E377*SUMIF('Daily Log'!$AR$18:$AR$1017,$B377,'Daily Log'!$AS$18:$AS$1017),0)","v":0},{"$f":"IFERROR($E377*SUMIF('Daily Log'!$AU$18:$AU$1017,$B377,'Daily Log'!$AV$18:$AV$1017),0)","v":0},{"$f":"IFERROR($E377*SUMIF('Daily Log'!$AX$18:$AX$1017,$B377,'Daily Log'!$AY$18:$AY$1017),0)","v":0},{"$f":"IFERROR($E377*SUMIF('Daily Log'!$BA$18:$BA$1017,$B377,'Daily Log'!$BB$18:$BB$1017),0)","v":0},{"$f":"IFERROR($E377*SUMIF('Daily Log'!$BD$18:$BD$1017,$B377,'Daily Log'!$BE$18:$BE$1017),0)","v":0},{"$f":"IFERROR($E377*SUMIF('Daily Log'!$BG$18:$BG$1017,$B377,'Daily Log'!$BH$18:$BH$1017),0)","v":0},{"$f":"IFERROR($E377*SUMIF('Daily Log'!$BJ$18:$BJ$1017,$B377,'Daily Log'!$BK$18:$BK$1017),0)","v":0},{"$f":"IFERROR($E377*SUMIF('Daily Log'!$BM$18:$BM$1017,$B377,'Daily Log'!$BN$18:$BN$1017),0)","v":0},{"$f":"IFERROR($E377*SUMIF('Daily Log'!$BP$18:$BP$1017,$B377,'Daily Log'!$BQ$18:$BQ$1017),0)","v":0},{"$f":"IFERROR($E377*SUMIF('Daily Log'!$BS$18:$BS$1017,$B377,'Daily Log'!$BT$18:$BT$1017),0)","v":0},{"$f":"IFERROR($E377*SUMIF('Daily Log'!$BV$18:$BV$1017,$B377,'Daily Log'!$BW$18:$BW$1017),0)","v":0},{"$f":"IFERROR($E377*SUMIF('Daily Log'!$BY$18:$BY$1017,$B377,'Daily Log'!$BZ$18:$BZ$1017),0)","v":0},{"$f":"IFERROR($E377*SUMIF('Daily Log'!$CB$18:$CB$1017,$B377,'Daily Log'!$CC$18:$CC$1017),0)","v":0},{"$f":"IFERROR($E377*SUMIF('Daily Log'!$CE$18:$CE$1017,$B377,'Daily Log'!$CF$18:$CF$1017),0)","v":0},{"$f":"IFERROR($E377*SUMIF('Daily Log'!$CH$18:$CH$1017,$B377,'Daily Log'!$CI$18:$CI$1017),0)","v":0},{"$f":"IFERROR($E377*SUMIF('Daily Log'!$CK$18:$CK$1017,$B377,'Daily Log'!$CL$18:$CL$1017),0)","v":44},{"$f":"IFERROR($E377*SUMIF('Daily Log'!$CN$18:$CN$1017,$B377,'Daily Log'!$CO$18:$CO$1017),0)","v":0}]
[null,"ZAB07 1207:SAUSAGE",null,"COMBO-APPETIZER",1,87,{"$f":"IFERROR($E378*SUMIF('Daily Log'!$B$18:$B$1017,$B378,'Daily Log'!$C$18:$C$1017),0)","v":0},{"$f":"IFERROR($E378*SUMIF('Daily Log'!$E$18:$E$1017,$B378,'Daily Log'!$F$18:$F$1017),0)","v":0},{"$f":"IFERROR($E378*SUMIF('Daily Log'!$H$18:$H$1017,$B378,'Daily Log'!$I$18:$I$1017),0)","v":0},{"$f":"IFERROR($E378*SUMIF('Daily Log'!$K$18:$K$1017,$B378,'Daily Log'!$L$18:$L$1017),0)","v":0},{"$f":"IFERROR($E378*SUMIF('Daily Log'!$N$18:$N$1017,$B378,'Daily Log'!$O$18:$O$1017),0)","v":0},{"$f":"IFERROR($E378*SUMIF('Daily Log'!$Q$18:$Q$1017,$B378,'Daily Log'!$R$18:$R$1017),0)","v":0},{"$f":"IFERROR($E378*SUMIF('Daily Log'!$T$18:$T$1017,$B378,'Daily Log'!$U$18:$U$1017),0)","v":0},{"$f":"IFERROR($E378*SUMIF('Daily Log'!$W$18:$W$1017,$B378,'Daily Log'!$X$18:$X$1017),0)","v":0},{"$f":"IFERROR($E378*SUMIF('Daily Log'!$Z$18:$Z$1017,$B378,'Daily Log'!$AA$18:$AA$1017),0)","v":0},{"$f":"IFERROR($E378*SUMIF('Daily Log'!$AC$18:$AC$1017,$B378,'Daily Log'!$AD$18:$AD$1017),0)","v":0},{"$f":"IFERROR($E378*SUMIF('Daily Log'!$AF$18:$AF$1017,$B378,'Daily Log'!$AG$18:$AG$1017),0)","v":0},{"$f":"IFERROR($E378*SUMIF('Daily Log'!$AI$18:$AI$1017,$B378,'Daily Log'!$AJ$18:$AJ$1017),0)","v":0},{"$f":"IFERROR($E378*SUMIF('Daily Log'!$AL$18:$AL$1017,$B378,'Daily Log'!$AM$18:$AM$1017),0)","v":0},{"$f":"IFERROR($E378*SUMIF('Daily Log'!$AO$18:$AO$1017,$B378,'Daily Log'!$AP$18:$AP$1017),0)","v":0},{"$f":"IFERROR($E378*SUMIF('Daily Log'!$AR$18:$AR$1017,$B378,'Daily Log'!$AS$18:$AS$1017),0)","v":0},{"$f":"IFERROR($E378*SUMIF('Daily Log'!$AU$18:$AU$1017,$B378,'Daily Log'!$AV$18:$AV$1017),0)","v":0},{"$f":"IFERROR($E378*SUMIF('Daily Log'!$AX$18:$AX$1017,$B378,'Daily Log'!$AY$18:$AY$1017),0)","v":0},{"$f":"IFERROR($E378*SUMIF('Daily Log'!$BA$18:$BA$1017,$B378,'Daily Log'!$BB$18:$BB$1017),0)","v":0},{"$f":"IFERROR($E378*SUMIF('Daily Log'!$BD$18:$BD$1017,$B378,'Daily Log'!$BE$18:$BE$1017),0)","v":0},{"$f":"IFERROR($E378*SUMIF('Daily Log'!$BG$18:$BG$1017,$B378,'Daily Log'!$BH$18:$BH$1017),0)","v":0},{"$f":"IFERROR($E378*SUMIF('Daily Log'!$BJ$18:$BJ$1017,$B378,'Daily Log'!$BK$18:$BK$1017),0)","v":0},{"$f":"IFERROR($E378*SUMIF('Daily Log'!$BM$18:$BM$1017,$B378,'Daily Log'!$BN$18:$BN$1017),0)","v":0},{"$f":"IFERROR($E378*SUMIF('Daily Log'!$BP$18:$BP$1017,$B378,'Daily Log'!$BQ$18:$BQ$1017),0)","v":0},{"$f":"IFERROR($E378*SUMIF('Daily Log'!$BS$18:$BS$1017,$B378,'Daily Log'!$BT$18:$BT$1017),0)","v":0},{"$f":"IFERROR($E378*SUMIF('Daily Log'!$BV$18:$BV$1017,$B378,'Daily Log'!$BW$18:$BW$1017),0)","v":0},{"$f":"IFERROR($E378*SUMIF('Daily Log'!$BY$18:$BY$1017,$B378,'Daily Log'!$BZ$18:$BZ$1017),0)","v":0},{"$f":"IFERROR($E378*SUMIF('Daily Log'!$CB$18:$CB$1017,$B378,'Daily Log'!$CC$18:$CC$1017),0)","v":0},{"$f":"IFERROR($E378*SUMIF('Daily Log'!$CE$18:$CE$1017,$B378,'Daily Log'!$CF$18:$CF$1017),0)","v":0},{"$f":"IFERROR($E378*SUMIF('Daily Log'!$CH$18:$CH$1017,$B378,'Daily Log'!$CI$18:$CI$1017),0)","v":0},{"$f":"IFERROR($E378*SUMIF('Daily Log'!$CK$18:$CK$1017,$B378,'Daily Log'!$CL$18:$CL$1017),0)","v":87},{"$f":"IFERROR($E378*SUMIF('Daily Log'!$CN$18:$CN$1017,$B378,'Daily Log'!$CO$18:$CO$1017),0)","v":0}]
[null,"ZAC01 1301:DUMPLING",null,"COMBO-APPETIZER",1,34,{"$f":"IFERROR($E379*SUMIF('Daily Log'!$B$18:$B$1017,$B379,'Daily Log'!$C$18:$C$1017),0)","v":0},{"$f":"IFERROR($E379*SUMIF('Daily Log'!$E$18:$E$1017,$B379,'Daily Log'!$F$18:$F$1017),0)","v":0},{"$f":"IFERROR($E379*SUMIF('Daily Log'!$H$18:$H$1017,$B379,'Daily Log'!$I$18:$I$1017),0)","v":0},{"$f":"IFERROR($E379*SUMIF('Daily Log'!$K$18:$K$1017,$B379,'Daily Log'!$L$18:$L$1017),0)","v":0},{"$f":"IFERROR($E379*SUMIF('Daily Log'!$N$18:$N$1017,$B379,'Daily Log'!$O$18:$O$1017),0)","v":0},{"$f":"IFERROR($E379*SUMIF('Daily Log'!$Q$18:$Q$1017,$B379,'Daily Log'!$R$18:$R$1017),0)","v":0},{"$f":"IFERROR($E379*SUMIF('Daily Log'!$T$18:$T$1017,$B379,'Daily Log'!$U$18:$U$1017),0)","v":0},{"$f":"IFERROR($E379*SUMIF('Daily Log'!$W$18:$W$1017,$B379,'Daily Log'!$X$18:$X$1017),0)","v":0},{"$f":"IFERROR($E379*SUMIF('Daily Log'!$Z$18:$Z$1017,$B379,'Daily Log'!$AA$18:$AA$1017),0)","v":0},{"$f":"IFERROR($E379*SUMIF('Daily Log'!$AC$18:$AC$1017,$B379,'Daily Log'!$AD$18:$AD$1017),0)","v":0},{"$f":"IFERROR($E379*SUMIF('Daily Log'!$AF$18:$AF$1017,$B379,'Daily Log'!$AG$18:$AG$1017),0)","v":0},{"$f":"IFERROR($E379*SUMIF('Daily Log'!$AI$18:$AI$1017,$B379,'Daily Log'!$AJ$18:$AJ$1017),0)","v":0},{"$f":"IFERROR($E379*SUMIF('Daily Log'!$AL$18:$AL$1017,$B379,'Daily Log'!$AM$18:$AM$1017),0)","v":0},{"$f":"IFERROR($E379*SUMIF('Daily Log'!$AO$18:$AO$1017,$B379,'Daily Log'!$AP$18:$AP$1017),0)","v":0},{"$f":"IFERROR($E379*SUMIF('Daily Log'!$AR$18:$AR$1017,$B379,'Daily Log'!$AS$18:$AS$1017),0)","v":0},{"$f":"IFERROR($E379*SUMIF('Daily Log'!$AU$18:$AU$1017,$B379,'Daily Log'!$AV$18:$AV$1017),0)","v":0},{"$f":"IFERROR($E379*SUMIF('Daily Log'!$AX$18:$AX$1017,$B379,'Daily Log'!$AY$18:$AY$1017),0)","v":0},{"$f":"IFERROR($E379*SUMIF('Daily Log'!$BA$18:$BA$1017,$B379,'Daily Log'!$BB$18:$BB$1017),0)","v":0},{"$f":"IFERROR($E379*SUMIF('Daily Log'!$BD$18:$BD$1017,$B379,'Daily Log'!$BE$18:$BE$1017),0)","v":0},{"$f":"IFERROR($E379*SUMIF('Daily Log'!$BG$18:$BG$1017,$B379,'Daily Log'!$BH$18:$BH$1017),0)","v":0},{"$f":"IFERROR($E379*SUMIF('Daily Log'!$BJ$18:$BJ$1017,$B379,'Daily Log'!$BK$18:$BK$1017),0)","v":0},{"$f":"IFERROR($E379*SUMIF('Daily Log'!$BM$18:$BM$1017,$B379,'Daily Log'!$BN$18:$BN$1017),0)","v":0},{"$f":"IFERROR($E379*SUMIF('Daily Log'!$BP$18:$BP$1017,$B379,'Daily Log'!$BQ$18:$BQ$1017),0)","v":0},{"$f":"IFERROR($E379*SUMIF('Daily Log'!$BS$18:$BS$1017,$B379,'Daily Log'!$BT$18:$BT$1017),0)","v":0},{"$f":"IFERROR($E379*SUMIF('Daily Log'!$BV$18:$BV$1017,$B379,'Daily Log'!$BW$18:$BW$1017),0)","v":0},{"$f":"IFERROR($E379*SUMIF('Daily Log'!$BY$18:$BY$1017,$B379,'Daily Log'!$BZ$18:$BZ$1017),0)","v":0},{"$f":"IFERROR($E379*SUMIF('Daily Log'!$CB$18:$CB$1017,$B379,'Daily Log'!$CC$18:$CC$1017),0)","v":0},{"$f":"IFERROR($E379*SUMIF('Daily Log'!$CE$18:$CE$1017,$B379,'Daily Log'!$CF$18:$CF$1017),0)","v":0},{"$f":"IFERROR($E379*SUMIF('Daily Log'!$CH$18:$CH$1017,$B379,'Daily Log'!$CI$18:$CI$1017),0)","v":0},{"$f":"IFERROR($E379*SUMIF('Daily Log'!$CK$18:$CK$1017,$B379,'Daily Log'!$CL$18:$CL$1017),0)","v":34},{"$f":"IFERROR($E379*SUMIF('Daily Log'!$CN$18:$CN$1017,$B379,'Daily Log'!$CO$18:$CO$1017),0)","v":0}]
[null,"ZAC02 1302:NUGGET",null,"COMBO-APPETIZER",1,84,{"$f":"IFERROR($E380*SUMIF('Daily Log'!$B$18:$B$1017,$B380,'Daily Log'!$C$18:$C$1017),0)","v":0},{"$f":"IFERROR($E380*SUMIF('Daily Log'!$E$18:$E$1017,$B380,'Daily Log'!$F$18:$F$1017),0)","v":0},{"$f":"IFERROR($E380*SUMIF('Daily Log'!$H$18:$H$1017,$B380,'Daily Log'!$I$18:$I$1017),0)","v":0},{"$f":"IFERROR($E380*SUMIF('Daily Log'!$K$18:$K$1017,$B380,'Daily Log'!$L$18:$L$1017),0)","v":0},{"$f":"IFERROR($E380*SUMIF('Daily Log'!$N$18:$N$1017,$B380,'Daily Log'!$O$18:$O$1017),0)","v":0},{"$f":"IFERROR($E380*SUMIF('Daily Log'!$Q$18:$Q$1017,$B380,'Daily Log'!$R$18:$R$1017),0)","v":0},{"$f":"IFERROR($E380*SUMIF('Daily Log'!$T$18:$T$1017,$B380,'Daily Log'!$U$18:$U$1017),0)","v":0},{"$f":"IFERROR($E380*SUMIF('Daily Log'!$W$18:$W$1017,$B380,'Daily Log'!$X$18:$X$1017),0)","v":0},{"$f":"IFERROR($E380*SUMIF('Daily Log'!$Z$18:$Z$1017,$B380,'Daily Log'!$AA$18:$AA$1017),0)","v":0},{"$f":"IFERROR($E380*SUMIF('Daily Log'!$AC$18:$AC$1017,$B380,'Daily Log'!$AD$18:$AD$1017),0)","v":0},{"$f":"IFERROR($E380*SUMIF('Daily Log'!$AF$18:$AF$1017,$B380,'Daily Log'!$AG$18:$AG$1017),0)","v":0},{"$f":"IFERROR($E380*SUMIF('Daily Log'!$AI$18:$AI$1017,$B380,'Daily Log'!$AJ$18:$AJ$1017),0)","v":0},{"$f":"IFERROR($E380*SUMIF('Daily Log'!$AL$18:$AL$1017,$B380,'Daily Log'!$AM$18:$AM$1017),0)","v":0},{"$f":"IFERROR($E380*SUMIF('Daily Log'!$AO$18:$AO$1017,$B380,'Daily Log'!$AP$18:$AP$1017),0)","v":0},{"$f":"IFERROR($E380*SUMIF('Daily Log'!$AR$18:$AR$1017,$B380,'Daily Log'!$AS$18:$AS$1017),0)","v":0},{"$f":"IFERROR($E380*SUMIF('Daily Log'!$AU$18:$AU$1017,$B380,'Daily Log'!$AV$18:$AV$1017),0)","v":0},{"$f":"IFERROR($E380*SUMIF('Daily Log'!$AX$18:$AX$1017,$B380,'Daily Log'!$AY$18:$AY$1017),0)","v":0},{"$f":"IFERROR($E380*SUMIF('Daily Log'!$BA$18:$BA$1017,$B380,'Daily Log'!$BB$18:$BB$1017),0)","v":0},{"$f":"IFERROR($E380*SUMIF('Daily Log'!$BD$18:$BD$1017,$B380,'Daily Log'!$BE$18:$BE$1017),0)","v":0},{"$f":"IFERROR($E380*SUMIF('Daily Log'!$BG$18:$BG$1017,$B380,'Daily Log'!$BH$18:$BH$1017),0)","v":0},{"$f":"IFERROR($E380*SUMIF('Daily Log'!$BJ$18:$BJ$1017,$B380,'Daily Log'!$BK$18:$BK$1017),0)","v":0},{"$f":"IFERROR($E380*SUMIF('Daily Log'!$BM$18:$BM$1017,$B380,'Daily Log'!$BN$18:$BN$1017),0)","v":0},{"$f":"IFERROR($E380*SUMIF('Daily Log'!$BP$18:$BP$1017,$B380,'Daily Log'!$BQ$18:$BQ$1017),0)","v":0},{"$f":"IFERROR($E380*SUMIF('Daily Log'!$BS$18:$BS$1017,$B380,'Daily Log'!$BT$18:$BT$1017),0)","v":0},{"$f":"IFERROR($E380*SUMIF('Daily Log'!$BV$18:$BV$1017,$B380,'Daily Log'!$BW$18:$BW$1017),0)","v":0},{"$f":"IFERROR($E380*SUMIF('Daily Log'!$BY$18:$BY$1017,$B380,'Daily Log'!$BZ$18:$BZ$1017),0)","v":0},{"$f":"IFERROR($E380*SUMIF('Daily Log'!$CB$18:$CB$1017,$B380,'Daily Log'!$CC$18:$CC$1017),0)","v":0},{"$f":"IFERROR($E380*SUMIF('Daily Log'!$CE$18:$CE$1017,$B380,'Daily Log'!$CF$18:$CF$1017),0)","v":0},{"$f":"IFERROR($E380*SUMIF('Daily Log'!$CH$18:$CH$1017,$B380,'Daily Log'!$CI$18:$CI$1017),0)","v":0},{"$f":"IFERROR($E380*SUMIF('Daily Log'!$CK$18:$CK$1017,$B380,'Daily Log'!$CL$18:$CL$1017),0)","v":84},{"$f":"IFERROR($E380*SUMIF('Daily Log'!$CN$18:$CN$1017,$B380,'Daily Log'!$CO$18:$CO$1017),0)","v":0}]
[null,"ZAC03 1303:CHK WING",null,"COMBO-APPETIZER",1,138,{"$f":"IFERROR($E381*SUMIF('Daily Log'!$B$18:$B$1017,$B381,'Daily Log'!$C$18:$C$1017),0)","v":0},{"$f":"IFERROR($E381*SUMIF('Daily Log'!$E$18:$E$1017,$B381,'Daily Log'!$F$18:$F$1017),0)","v":0},{"$f":"IFERROR($E381*SUMIF('Daily Log'!$H$18:$H$1017,$B381,'Daily Log'!$I$18:$I$1017),0)","v":0},{"$f":"IFERROR($E381*SUMIF('Daily Log'!$K$18:$K$1017,$B381,'Daily Log'!$L$18:$L$1017),0)","v":0},{"$f":"IFERROR($E381*SUMIF('Daily Log'!$N$18:$N$1017,$B381,'Daily Log'!$O$18:$O$1017),0)","v":0},{"$f":"IFERROR($E381*SUMIF('Daily Log'!$Q$18:$Q$1017,$B381,'Daily Log'!$R$18:$R$1017),0)","v":0},{"$f":"IFERROR($E381*SUMIF('Daily Log'!$T$18:$T$1017,$B381,'Daily Log'!$U$18:$U$1017),0)","v":0},{"$f":"IFERROR($E381*SUMIF('Daily Log'!$W$18:$W$1017,$B381,'Daily Log'!$X$18:$X$1017),0)","v":0},{"$f":"IFERROR($E381*SUMIF('Daily Log'!$Z$18:$Z$1017,$B381,'Daily Log'!$AA$18:$AA$1017),0)","v":0},{"$f":"IFERROR($E381*SUMIF('Daily Log'!$AC$18:$AC$1017,$B381,'Daily Log'!$AD$18:$AD$1017),0)","v":0},{"$f":"IFERROR($E381*SUMIF('Daily Log'!$AF$18:$AF$1017,$B381,'Daily Log'!$AG$18:$AG$1017),0)","v":0},{"$f":"IFERROR($E381*SUMIF('Daily Log'!$AI$18:$AI$1017,$B381,'Daily Log'!$AJ$18:$AJ$1017),0)","v":0},{"$f":"IFERROR($E381*SUMIF('Daily Log'!$AL$18:$AL$1017,$B381,'Daily Log'!$AM$18:$AM$1017),0)","v":0},{"$f":"IFERROR($E381*SUMIF('Daily Log'!$AO$18:$AO$1017,$B381,'Daily Log'!$AP$18:$AP$1017),0)","v":0},{"$f":"IFERROR($E381*SUMIF('Daily Log'!$AR$18:$AR$1017,$B381,'Daily Log'!$AS$18:$AS$1017),0)","v":0},{"$f":"IFERROR($E381*SUMIF('Daily Log'!$AU$18:$AU$1017,$B381,'Daily Log'!$AV$18:$AV$1017),0)","v":0},{"$f":"IFERROR($E381*SUMIF('Daily Log'!$AX$18:$AX$1017,$B381,'Daily Log'!$AY$18:$AY$1017),0)","v":0},{"$f":"IFERROR($E381*SUMIF('Daily Log'!$BA$18:$BA$1017,$B381,'Daily Log'!$BB$18:$BB$1017),0)","v":0},{"$f":"IFERROR($E381*SUMIF('Daily Log'!$BD$18:$BD$1017,$B381,'Daily Log'!$BE$18:$BE$1017),0)","v":0},{"$f":"IFERROR($E381*SUMIF('Daily Log'!$BG$18:$BG$1017,$B381,'Daily Log'!$BH$18:$BH$1017),0)","v":0},{"$f":"IFERROR($E381*SUMIF('Daily Log'!$BJ$18:$BJ$1017,$B381,'Daily Log'!$BK$18:$BK$1017),0)","v":0},{"$f":"IFERROR($E381*SUMIF('Daily Log'!$BM$18:$BM$1017,$B381,'Daily Log'!$BN$18:$BN$1017),0)","v":0},{"$f":"IFERROR($E381*SUMIF('Daily Log'!$BP$18:$BP$1017,$B381,'Daily Log'!$BQ$18:$BQ$1017),0)","v":0},{"$f":"IFERROR($E381*SUMIF('Daily Log'!$BS$18:$BS$1017,$B381,'Daily Log'!$BT$18:$BT$1017),0)","v":0},{"$f":"IFERROR($E381*SUMIF('Daily Log'!$BV$18:$BV$1017,$B381,'Daily Log'!$BW$18:$BW$1017),0)","v":0},{"$f":"IFERROR($E381*SUMIF('Daily Log'!$BY$18:$BY$1017,$B381,'Daily Log'!$BZ$18:$BZ$1017),0)","v":0},{"$f":"IFERROR($E381*SUMIF('Daily Log'!$CB$18:$CB$1017,$B381,'Daily Log'!$CC$18:$CC$1017),0)","v":0},{"$f":"IFERROR($E381*SUMIF('Daily Log'!$CE$18:$CE$1017,$B381,'Daily Log'!$CF$18:$CF$1017),0)","v":0},{"$f":"IFERROR($E381*SUMIF('Daily Log'!$CH$18:$CH$1017,$B381,'Daily Log'!$CI$18:$CI$1017),0)","v":0},{"$f":"IFERROR($E381*SUMIF('Daily Log'!$CK$18:$CK$1017,$B381,'Daily Log'!$CL$18:$CL$1017),0)","v":138},{"$f":"IFERROR($E381*SUMIF('Daily Log'!$CN$18:$CN$1017,$B381,'Daily Log'!$CO$18:$CO$1017),0)","v":0}]
[null,"ZAC04 1304:IKAN BILIS",null,"COMBO-APPETIZER",1,17,{"$f":"IFERROR($E382*SUMIF('Daily Log'!$B$18:$B$1017,$B382,'Daily Log'!$C$18:$C$1017),0)","v":0},{"$f":"IFERROR($E382*SUMIF('Daily Log'!$E$18:$E$1017,$B382,'Daily Log'!$F$18:$F$1017),0)","v":0},{"$f":"IFERROR($E382*SUMIF('Daily Log'!$H$18:$H$1017,$B382,'Daily Log'!$I$18:$I$1017),0)","v":0},{"$f":"IFERROR($E382*SUMIF('Daily Log'!$K$18:$K$1017,$B382,'Daily Log'!$L$18:$L$1017),0)","v":0},{"$f":"IFERROR($E382*SUMIF('Daily Log'!$N$18:$N$1017,$B382,'Daily Log'!$O$18:$O$1017),0)","v":0},{"$f":"IFERROR($E382*SUMIF('Daily Log'!$Q$18:$Q$1017,$B382,'Daily Log'!$R$18:$R$1017),0)","v":0},{"$f":"IFERROR($E382*SUMIF('Daily Log'!$T$18:$T$1017,$B382,'Daily Log'!$U$18:$U$1017),0)","v":0},{"$f":"IFERROR($E382*SUMIF('Daily Log'!$W$18:$W$1017,$B382,'Daily Log'!$X$18:$X$1017),0)","v":0},{"$f":"IFERROR($E382*SUMIF('Daily Log'!$Z$18:$Z$1017,$B382,'Daily Log'!$AA$18:$AA$1017),0)","v":0},{"$f":"IFERROR($E382*SUMIF('Daily Log'!$AC$18:$AC$1017,$B382,'Daily Log'!$AD$18:$AD$1017),0)","v":0},{"$f":"IFERROR($E382*SUMIF('Daily Log'!$AF$18:$AF$1017,$B382,'Daily Log'!$AG$18:$AG$1017),0)","v":0},{"$f":"IFERROR($E382*SUMIF('Daily Log'!$AI$18:$AI$1017,$B382,'Daily Log'!$AJ$18:$AJ$1017),0)","v":0},{"$f":"IFERROR($E382*SUMIF('Daily Log'!$AL$18:$AL$1017,$B382,'Daily Log'!$AM$18:$AM$1017),0)","v":0},{"$f":"IFERROR($E382*SUMIF('Daily Log'!$AO$18:$AO$1017,$B382,'Daily Log'!$AP$18:$AP$1017),0)","v":0},{"$f":"IFERROR($E382*SUMIF('Daily Log'!$AR$18:$AR$1017,$B382,'Daily Log'!$AS$18:$AS$1017),0)","v":0},{"$f":"IFERROR($E382*SUMIF('Daily Log'!$AU$18:$AU$1017,$B382,'Daily Log'!$AV$18:$AV$1017),0)","v":0},{"$f":"IFERROR($E382*SUMIF('Daily Log'!$AX$18:$AX$1017,$B382,'Daily Log'!$AY$18:$AY$1017),0)","v":0},{"$f":"IFERROR($E382*SUMIF('Daily Log'!$BA$18:$BA$1017,$B382,'Daily Log'!$BB$18:$BB$1017),0)","v":0},{"$f":"IFERROR($E382*SUMIF('Daily Log'!$BD$18:$BD$1017,$B382,'Daily Log'!$BE$18:$BE$1017),0)","v":0},{"$f":"IFERROR($E382*SUMIF('Daily Log'!$BG$18:$BG$1017,$B382,'Daily Log'!$BH$18:$BH$1017),0)","v":0},{"$f":"IFERROR($E382*SUMIF('Daily Log'!$BJ$18:$BJ$1017,$B382,'Daily Log'!$BK$18:$BK$1017),0)","v":0},{"$f":"IFERROR($E382*SUMIF('Daily Log'!$BM$18:$BM$1017,$B382,'Daily Log'!$BN$18:$BN$1017),0)","v":0},{"$f":"IFERROR($E382*SUMIF('Daily Log'!$BP$18:$BP$1017,$B382,'Daily Log'!$BQ$18:$BQ$1017),0)","v":0},{"$f":"IFERROR($E382*SUMIF('Daily Log'!$BS$18:$BS$1017,$B382,'Daily Log'!$BT$18:$BT$1017),0)","v":0},{"$f":"IFERROR($E382*SUMIF('Daily Log'!$BV$18:$BV$1017,$B382,'Daily Log'!$BW$18:$BW$1017),0)","v":0},{"$f":"IFERROR($E382*SUMIF('Daily Log'!$BY$18:$BY$1017,$B382,'Daily Log'!$BZ$18:$BZ$1017),0)","v":0},{"$f":"IFERROR($E382*SUMIF('Daily Log'!$CB$18:$CB$1017,$B382,'Daily Log'!$CC$18:$CC$1017),0)","v":0},{"$f":"IFERROR($E382*SUMIF('Daily Log'!$CE$18:$CE$1017,$B382,'Daily Log'!$CF$18:$CF$1017),0)","v":0},{"$f":"IFERROR($E382*SUMIF('Daily Log'!$CH$18:$CH$1017,$B382,'Daily Log'!$CI$18:$CI$1017),0)","v":0},{"$f":"IFERROR($E382*SUMIF('Daily Log'!$CK$18:$CK$1017,$B382,'Daily Log'!$CL$18:$CL$1017),0)","v":17},{"$f":"IFERROR($E382*SUMIF('Daily Log'!$CN$18:$CN$1017,$B382,'Daily Log'!$CO$18:$CO$1017),0)","v":0}]
[null,"ZAC05 1305:THAI RL",null,"COMBO-APPETIZER",1,25,{"$f":"IFERROR($E383*SUMIF('Daily Log'!$B$18:$B$1017,$B383,'Daily Log'!$C$18:$C$1017),0)","v":0},{"$f":"IFERROR($E383*SUMIF('Daily Log'!$E$18:$E$1017,$B383,'Daily Log'!$F$18:$F$1017),0)","v":0},{"$f":"IFERROR($E383*SUMIF('Daily Log'!$H$18:$H$1017,$B383,'Daily Log'!$I$18:$I$1017),0)","v":0},{"$f":"IFERROR($E383*SUMIF('Daily Log'!$K$18:$K$1017,$B383,'Daily Log'!$L$18:$L$1017),0)","v":0},{"$f":"IFERROR($E383*SUMIF('Daily Log'!$N$18:$N$1017,$B383,'Daily Log'!$O$18:$O$1017),0)","v":0},{"$f":"IFERROR($E383*SUMIF('Daily Log'!$Q$18:$Q$1017,$B383,'Daily Log'!$R$18:$R$1017),0)","v":0},{"$f":"IFERROR($E383*SUMIF('Daily Log'!$T$18:$T$1017,$B383,'Daily Log'!$U$18:$U$1017),0)","v":0},{"$f":"IFERROR($E383*SUMIF('Daily Log'!$W$18:$W$1017,$B383,'Daily Log'!$X$18:$X$1017),0)","v":0},{"$f":"IFERROR($E383*SUMIF('Daily Log'!$Z$18:$Z$1017,$B383,'Daily Log'!$AA$18:$AA$1017),0)","v":0},{"$f":"IFERROR($E383*SUMIF('Daily Log'!$AC$18:$AC$1017,$B383,'Daily Log'!$AD$18:$AD$1017),0)","v":0},{"$f":"IFERROR($E383*SUMIF('Daily Log'!$AF$18:$AF$1017,$B383,'Daily Log'!$AG$18:$AG$1017),0)","v":0},{"$f":"IFERROR($E383*SUMIF('Daily Log'!$AI$18:$AI$1017,$B383,'Daily Log'!$AJ$18:$AJ$1017),0)","v":0},{"$f":"IFERROR($E383*SUMIF('Daily Log'!$AL$18:$AL$1017,$B383,'Daily Log'!$AM$18:$AM$1017),0)","v":0},{"$f":"IFERROR($E383*SUMIF('Daily Log'!$AO$18:$AO$1017,$B383,'Daily Log'!$AP$18:$AP$1017),0)","v":0},{"$f":"IFERROR($E383*SUMIF('Daily Log'!$AR$18:$AR$1017,$B383,'Daily Log'!$AS$18:$AS$1017),0)","v":0},{"$f":"IFERROR($E383*SUMIF('Daily Log'!$AU$18:$AU$1017,$B383,'Daily Log'!$AV$18:$AV$1017),0)","v":0},{"$f":"IFERROR($E383*SUMIF('Daily Log'!$AX$18:$AX$1017,$B383,'Daily Log'!$AY$18:$AY$1017),0)","v":0},{"$f":"IFERROR($E383*SUMIF('Daily Log'!$BA$18:$BA$1017,$B383,'Daily Log'!$BB$18:$BB$1017),0)","v":0},{"$f":"IFERROR($E383*SUMIF('Daily Log'!$BD$18:$BD$1017,$B383,'Daily Log'!$BE$18:$BE$1017),0)","v":0},{"$f":"IFERROR($E383*SUMIF('Daily Log'!$BG$18:$BG$1017,$B383,'Daily Log'!$BH$18:$BH$1017),0)","v":0},{"$f":"IFERROR($E383*SUMIF('Daily Log'!$BJ$18:$BJ$1017,$B383,'Daily Log'!$BK$18:$BK$1017),0)","v":0},{"$f":"IFERROR($E383*SUMIF('Daily Log'!$BM$18:$BM$1017,$B383,'Daily Log'!$BN$18:$BN$1017),0)","v":0},{"$f":"IFERROR($E383*SUMIF('Daily Log'!$BP$18:$BP$1017,$B383,'Daily Log'!$BQ$18:$BQ$1017),0)","v":0},{"$f":"IFERROR($E383*SUMIF('Daily Log'!$BS$18:$BS$1017,$B383,'Daily Log'!$BT$18:$BT$1017),0)","v":0},{"$f":"IFERROR($E383*SUMIF('Daily Log'!$BV$18:$BV$1017,$B383,'Daily Log'!$BW$18:$BW$1017),0)","v":0},{"$f":"IFERROR($E383*SUMIF('Daily Log'!$BY$18:$BY$1017,$B383,'Daily Log'!$BZ$18:$BZ$1017),0)","v":0},{"$f":"IFERROR($E383*SUMIF('Daily Log'!$CB$18:$CB$1017,$B383,'Daily Log'!$CC$18:$CC$1017),0)","v":0},{"$f":"IFERROR($E383*SUMIF('Daily Log'!$CE$18:$CE$1017,$B383,'Daily Log'!$CF$18:$CF$1017),0)","v":0},{"$f":"IFERROR($E383*SUMIF('Daily Log'!$CH$18:$CH$1017,$B383,'Daily Log'!$CI$18:$CI$1017),0)","v":0},{"$f":"IFERROR($E383*SUMIF('Daily Log'!$CK$18:$CK$1017,$B383,'Daily Log'!$CL$18:$CL$1017),0)","v":25},{"$f":"IFERROR($E383*SUMIF('Daily Log'!$CN$18:$CN$1017,$B383,'Daily Log'!$CO$18:$CO$1017),0)","v":0}]
[null,"AE26 CNY BEER PLATER",null,"PLATER",1,0,{"$f":"IFERROR($E384*SUMIF('Daily Log'!$B$18:$B$1017,$B384,'Daily Log'!$C$18:$C$1017),0)","v":0},{"$f":"IFERROR($E384*SUMIF('Daily Log'!$E$18:$E$1017,$B384,'Daily Log'!$F$18:$F$1017),0)","v":0},{"$f":"IFERROR($E384*SUMIF('Daily Log'!$H$18:$H$1017,$B384,'Daily Log'!$I$18:$I$1017),0)","v":0},{"$f":"IFERROR($E384*SUMIF('Daily Log'!$K$18:$K$1017,$B384,'Daily Log'!$L$18:$L$1017),0)","v":0},{"$f":"IFERROR($E384*SUMIF('Daily Log'!$N$18:$N$1017,$B384,'Daily Log'!$O$18:$O$1017),0)","v":0},{"$f":"IFERROR($E384*SUMIF('Daily Log'!$Q$18:$Q$1017,$B384,'Daily Log'!$R$18:$R$1017),0)","v":0},{"$f":"IFERROR($E384*SUMIF('Daily Log'!$T$18:$T$1017,$B384,'Daily Log'!$U$18:$U$1017),0)","v":0},{"$f":"IFERROR($E384*SUMIF('Daily Log'!$W$18:$W$1017,$B384,'Daily Log'!$X$18:$X$1017),0)","v":0},{"$f":"IFERROR($E384*SUMIF('Daily Log'!$Z$18:$Z$1017,$B384,'Daily Log'!$AA$18:$AA$1017),0)","v":0},{"$f":"IFERROR($E384*SUMIF('Daily Log'!$AC$18:$AC$1017,$B384,'Daily Log'!$AD$18:$AD$1017),0)","v":0},{"$f":"IFERROR($E384*SUMIF('Daily Log'!$AF$18:$AF$1017,$B384,'Daily Log'!$AG$18:$AG$1017),0)","v":0},{"$f":"IFERROR($E384*SUMIF('Daily Log'!$AI$18:$AI$1017,$B384,'Daily Log'!$AJ$18:$AJ$1017),0)","v":0},{"$f":"IFERROR($E384*SUMIF('Daily Log'!$AL$18:$AL$1017,$B384,'Daily Log'!$AM$18:$AM$1017),0)","v":0},{"$f":"IFERROR($E384*SUMIF('Daily Log'!$AO$18:$AO$1017,$B384,'Daily Log'!$AP$18:$AP$1017),0)","v":0},{"$f":"IFERROR($E384*SUMIF('Daily Log'!$AR$18:$AR$1017,$B384,'Daily Log'!$AS$18:$AS$1017),0)","v":0},{"$f":"IFERROR($E384*SUMIF('Daily Log'!$AU$18:$AU$1017,$B384,'Daily Log'!$AV$18:$AV$1017),0)","v":0},{"$f":"IFERROR($E384*SUMIF('Daily Log'!$AX$18:$AX$1017,$B384,'Daily Log'!$AY$18:$AY$1017),0)","v":0},{"$f":"IFERROR($E384*SUMIF('Daily Log'!$BA$18:$BA$1017,$B384,'Daily Log'!$BB$18:$BB$1017),0)","v":0},{"$f":"IFERROR($E384*SUMIF('Daily Log'!$BD$18:$BD$1017,$B384,'Daily Log'!$BE$18:$BE$1017),0)","v":0},{"$f":"IFERROR($E384*SUMIF('Daily Log'!$BG$18:$BG$1017,$B384,'Daily Log'!$BH$18:$BH$1017),0)","v":0},{"$f":"IFERROR($E384*SUMIF('Daily Log'!$BJ$18:$BJ$1017,$B384,'Daily Log'!$BK$18:$BK$1017),0)","v":0},{"$f":"IFERROR($E384*SUMIF('Daily Log'!$BM$18:$BM$1017,$B384,'Daily Log'!$BN$18:$BN$1017),0)","v":0},{"$f":"IFERROR($E384*SUMIF('Daily Log'!$BP$18:$BP$1017,$B384,'Daily Log'!$BQ$18:$BQ$1017),0)","v":0},{"$f":"IFERROR($E384*SUMIF('Daily Log'!$BS$18:$BS$1017,$B384,'Daily Log'!$BT$18:$BT$1017),0)","v":0},{"$f":"IFERROR($E384*SUMIF('Daily Log'!$BV$18:$BV$1017,$B384,'Daily Log'!$BW$18:$BW$1017),0)","v":0},{"$f":"IFERROR($E384*SUMIF('Daily Log'!$BY$18:$BY$1017,$B384,'Daily Log'!$BZ$18:$BZ$1017),0)","v":0},{"$f":"IFERROR($E384*SUMIF('Daily Log'!$CB$18:$CB$1017,$B384,'Daily Log'!$CC$18:$CC$1017),0)","v":0},{"$f":"IFERROR($E384*SUMIF('Daily Log'!$CE$18:$CE$1017,$B384,'Daily Log'!$CF$18:$CF$1017),0)","v":0},{"$f":"IFERROR($E384*SUMIF('Daily Log'!$CH$18:$CH$1017,$B384,'Daily Log'!$CI$18:$CI$1017),0)","v":0},{"$f":"IFERROR($E384*SUMIF('Daily Log'!$CK$18:$CK$1017,$B384,'Daily Log'!$CL$18:$CL$1017),0)","v":0},{"$f":"IFERROR($E384*SUMIF('Daily Log'!$CN$18:$CN$1017,$B384,'Daily Log'!$CO$18:$CO$1017),0)","v":0}]
[null,"AE27 CNY PLATER",null,"PLATER",1,0,{"$f":"IFERROR($E385*SUMIF('Daily Log'!$B$18:$B$1017,$B385,'Daily Log'!$C$18:$C$1017),0)","v":0},{"$f":"IFERROR($E385*SUMIF('Daily Log'!$E$18:$E$1017,$B385,'Daily Log'!$F$18:$F$1017),0)","v":0},{"$f":"IFERROR($E385*SUMIF('Daily Log'!$H$18:$H$1017,$B385,'Daily Log'!$I$18:$I$1017),0)","v":0},{"$f":"IFERROR($E385*SUMIF('Daily Log'!$K$18:$K$1017,$B385,'Daily Log'!$L$18:$L$1017),0)","v":0},{"$f":"IFERROR($E385*SUMIF('Daily Log'!$N$18:$N$1017,$B385,'Daily Log'!$O$18:$O$1017),0)","v":0},{"$f":"IFERROR($E385*SUMIF('Daily Log'!$Q$18:$Q$1017,$B385,'Daily Log'!$R$18:$R$1017),0)","v":0},{"$f":"IFERROR($E385*SUMIF('Daily Log'!$T$18:$T$1017,$B385,'Daily Log'!$U$18:$U$1017),0)","v":0},{"$f":"IFERROR($E385*SUMIF('Daily Log'!$W$18:$W$1017,$B385,'Daily Log'!$X$18:$X$1017),0)","v":0},{"$f":"IFERROR($E385*SUMIF('Daily Log'!$Z$18:$Z$1017,$B385,'Daily Log'!$AA$18:$AA$1017),0)","v":0},{"$f":"IFERROR($E385*SUMIF('Daily Log'!$AC$18:$AC$1017,$B385,'Daily Log'!$AD$18:$AD$1017),0)","v":0},{"$f":"IFERROR($E385*SUMIF('Daily Log'!$AF$18:$AF$1017,$B385,'Daily Log'!$AG$18:$AG$1017),0)","v":0},{"$f":"IFERROR($E385*SUMIF('Daily Log'!$AI$18:$AI$1017,$B385,'Daily Log'!$AJ$18:$AJ$1017),0)","v":0},{"$f":"IFERROR($E385*SUMIF('Daily Log'!$AL$18:$AL$1017,$B385,'Daily Log'!$AM$18:$AM$1017),0)","v":0},{"$f":"IFERROR($E385*SUMIF('Daily Log'!$AO$18:$AO$1017,$B385,'Daily Log'!$AP$18:$AP$1017),0)","v":0},{"$f":"IFERROR($E385*SUMIF('Daily Log'!$AR$18:$AR$1017,$B385,'Daily Log'!$AS$18:$AS$1017),0)","v":0},{"$f":"IFERROR($E385*SUMIF('Daily Log'!$AU$18:$AU$1017,$B385,'Daily Log'!$AV$18:$AV$1017),0)","v":0},{"$f":"IFERROR($E385*SUMIF('Daily Log'!$AX$18:$AX$1017,$B385,'Daily Log'!$AY$18:$AY$1017),0)","v":0},{"$f":"IFERROR($E385*SUMIF('Daily Log'!$BA$18:$BA$1017,$B385,'Daily Log'!$BB$18:$BB$1017),0)","v":0},{"$f":"IFERROR($E385*SUMIF('Daily Log'!$BD$18:$BD$1017,$B385,'Daily Log'!$BE$18:$BE$1017),0)","v":0},{"$f":"IFERROR($E385*SUMIF('Daily Log'!$BG$18:$BG$1017,$B385,'Daily Log'!$BH$18:$BH$1017),0)","v":0},{"$f":"IFERROR($E385*SUMIF('Daily Log'!$BJ$18:$BJ$1017,$B385,'Daily Log'!$BK$18:$BK$1017),0)","v":0},{"$f":"IFERROR($E385*SUMIF('Daily Log'!$BM$18:$BM$1017,$B385,'Daily Log'!$BN$18:$BN$1017),0)","v":0},{"$f":"IFERROR($E385*SUMIF('Daily Log'!$BP$18:$BP$1017,$B385,'Daily Log'!$BQ$18:$BQ$1017),0)","v":0},{"$f":"IFERROR($E385*SUMIF('Daily Log'!$BS$18:$BS$1017,$B385,'Daily Log'!$BT$18:$BT$1017),0)","v":0},{"$f":"IFERROR($E385*SUMIF('Daily Log'!$BV$18:$BV$1017,$B385,'Daily Log'!$BW$18:$BW$1017),0)","v":0},{"$f":"IFERROR($E385*SUMIF('Daily Log'!$BY$18:$BY$1017,$B385,'Daily Log'!$BZ$18:$BZ$1017),0)","v":0},{"$f":"IFERROR($E385*SUMIF('Daily Log'!$CB$18:$CB$1017,$B385,'Daily Log'!$CC$18:$CC$1017),0)","v":0},{"$f":"IFERROR($E385*SUMIF('Daily Log'!$CE$18:$CE$1017,$B385,'Daily Log'!$CF$18:$CF$1017),0)","v":0},{"$f":"IFERROR($E385*SUMIF('Daily Log'!$CH$18:$CH$1017,$B385,'Daily Log'!$CI$18:$CI$1017),0)","v":0},{"$f":"IFERROR($E385*SUMIF('Daily Log'!$CK$18:$CK$1017,$B385,'Daily Log'!$CL$18:$CL$1017),0)","v":0},{"$f":"IFERROR($E385*SUMIF('Daily Log'!$CN$18:$CN$1017,$B385,'Daily Log'!$CO$18:$CO$1017),0)","v":0}]
[null,"DD16 McCain AlaCarte",null,"PLATER",1,63,{"$f":"IFERROR($E386*SUMIF('Daily Log'!$B$18:$B$1017,$B386,'Daily Log'!$C$18:$C$1017),0)","v":0},{"$f":"IFERROR($E386*SUMIF('Daily Log'!$E$18:$E$1017,$B386,'Daily Log'!$F$18:$F$1017),0)","v":0},{"$f":"IFERROR($E386*SUMIF('Daily Log'!$H$18:$H$1017,$B386,'Daily Log'!$I$18:$I$1017),0)","v":0},{"$f":"IFERROR($E386*SUMIF('Daily Log'!$K$18:$K$1017,$B386,'Daily Log'!$L$18:$L$1017),0)","v":0},{"$f":"IFERROR($E386*SUMIF('Daily Log'!$N$18:$N$1017,$B386,'Daily Log'!$O$18:$O$1017),0)","v":0},{"$f":"IFERROR($E386*SUMIF('Daily Log'!$Q$18:$Q$1017,$B386,'Daily Log'!$R$18:$R$1017),0)","v":0},{"$f":"IFERROR($E386*SUMIF('Daily Log'!$T$18:$T$1017,$B386,'Daily Log'!$U$18:$U$1017),0)","v":0},{"$f":"IFERROR($E386*SUMIF('Daily Log'!$W$18:$W$1017,$B386,'Daily Log'!$X$18:$X$1017),0)","v":0},{"$f":"IFERROR($E386*SUMIF('Daily Log'!$Z$18:$Z$1017,$B386,'Daily Log'!$AA$18:$AA$1017),0)","v":0},{"$f":"IFERROR($E386*SUMIF('Daily Log'!$AC$18:$AC$1017,$B386,'Daily Log'!$AD$18:$AD$1017),0)","v":0},{"$f":"IFERROR($E386*SUMIF('Daily Log'!$AF$18:$AF$1017,$B386,'Daily Log'!$AG$18:$AG$1017),0)","v":0},{"$f":"IFERROR($E386*SUMIF('Daily Log'!$AI$18:$AI$1017,$B386,'Daily Log'!$AJ$18:$AJ$1017),0)","v":0},{"$f":"IFERROR($E386*SUMIF('Daily Log'!$AL$18:$AL$1017,$B386,'Daily Log'!$AM$18:$AM$1017),0)","v":0},{"$f":"IFERROR($E386*SUMIF('Daily Log'!$AO$18:$AO$1017,$B386,'Daily Log'!$AP$18:$AP$1017),0)","v":0},{"$f":"IFERROR($E386*SUMIF('Daily Log'!$AR$18:$AR$1017,$B386,'Daily Log'!$AS$18:$AS$1017),0)","v":0},{"$f":"IFERROR($E386*SUMIF('Daily Log'!$AU$18:$AU$1017,$B386,'Daily Log'!$AV$18:$AV$1017),0)","v":0},{"$f":"IFERROR($E386*SUMIF('Daily Log'!$AX$18:$AX$1017,$B386,'Daily Log'!$AY$18:$AY$1017),0)","v":0},{"$f":"IFERROR($E386*SUMIF('Daily Log'!$BA$18:$BA$1017,$B386,'Daily Log'!$BB$18:$BB$1017),0)","v":0},{"$f":"IFERROR($E386*SUMIF('Daily Log'!$BD$18:$BD$1017,$B386,'Daily Log'!$BE$18:$BE$1017),0)","v":0},{"$f":"IFERROR($E386*SUMIF('Daily Log'!$BG$18:$BG$1017,$B386,'Daily Log'!$BH$18:$BH$1017),0)","v":0},{"$f":"IFERROR($E386*SUMIF('Daily Log'!$BJ$18:$BJ$1017,$B386,'Daily Log'!$BK$18:$BK$1017),0)","v":0},{"$f":"IFERROR($E386*SUMIF('Daily Log'!$BM$18:$BM$1017,$B386,'Daily Log'!$BN$18:$BN$1017),0)","v":0},{"$f":"IFERROR($E386*SUMIF('Daily Log'!$BP$18:$BP$1017,$B386,'Daily Log'!$BQ$18:$BQ$1017),0)","v":0},{"$f":"IFERROR($E386*SUMIF('Daily Log'!$BS$18:$BS$1017,$B386,'Daily Log'!$BT$18:$BT$1017),0)","v":0},{"$f":"IFERROR($E386*SUMIF('Daily Log'!$BV$18:$BV$1017,$B386,'Daily Log'!$BW$18:$BW$1017),0)","v":0},{"$f":"IFERROR($E386*SUMIF('Daily Log'!$BY$18:$BY$1017,$B386,'Daily Log'!$BZ$18:$BZ$1017),0)","v":0},{"$f":"IFERROR($E386*SUMIF('Daily Log'!$CB$18:$CB$1017,$B386,'Daily Log'!$CC$18:$CC$1017),0)","v":0},{"$f":"IFERROR($E386*SUMIF('Daily Log'!$CE$18:$CE$1017,$B386,'Daily Log'!$CF$18:$CF$1017),0)","v":0},{"$f":"IFERROR($E386*SUMIF('Daily Log'!$CH$18:$CH$1017,$B386,'Daily Log'!$CI$18:$CI$1017),0)","v":0},{"$f":"IFERROR($E386*SUMIF('Daily Log'!$CK$18:$CK$1017,$B386,'Daily Log'!$CL$18:$CL$1017),0)","v":63},{"$f":"IFERROR($E386*SUMIF('Daily Log'!$CN$18:$CN$1017,$B386,'Daily Log'!$CO$18:$CO$1017),0)","v":0}]
[null,"DD17 McCain Beer",null,"PLATER",1,28,{"$f":"IFERROR($E387*SUMIF('Daily Log'!$B$18:$B$1017,$B387,'Daily Log'!$C$18:$C$1017),0)","v":0},{"$f":"IFERROR($E387*SUMIF('Daily Log'!$E$18:$E$1017,$B387,'Daily Log'!$F$18:$F$1017),0)","v":0},{"$f":"IFERROR($E387*SUMIF('Daily Log'!$H$18:$H$1017,$B387,'Daily Log'!$I$18:$I$1017),0)","v":0},{"$f":"IFERROR($E387*SUMIF('Daily Log'!$K$18:$K$1017,$B387,'Daily Log'!$L$18:$L$1017),0)","v":0},{"$f":"IFERROR($E387*SUMIF('Daily Log'!$N$18:$N$1017,$B387,'Daily Log'!$O$18:$O$1017),0)","v":0},{"$f":"IFERROR($E387*SUMIF('Daily Log'!$Q$18:$Q$1017,$B387,'Daily Log'!$R$18:$R$1017),0)","v":0},{"$f":"IFERROR($E387*SUMIF('Daily Log'!$T$18:$T$1017,$B387,'Daily Log'!$U$18:$U$1017),0)","v":0},{"$f":"IFERROR($E387*SUMIF('Daily Log'!$W$18:$W$1017,$B387,'Daily Log'!$X$18:$X$1017),0)","v":0},{"$f":"IFERROR($E387*SUMIF('Daily Log'!$Z$18:$Z$1017,$B387,'Daily Log'!$AA$18:$AA$1017),0)","v":0},{"$f":"IFERROR($E387*SUMIF('Daily Log'!$AC$18:$AC$1017,$B387,'Daily Log'!$AD$18:$AD$1017),0)","v":0},{"$f":"IFERROR($E387*SUMIF('Daily Log'!$AF$18:$AF$1017,$B387,'Daily Log'!$AG$18:$AG$1017),0)","v":0},{"$f":"IFERROR($E387*SUMIF('Daily Log'!$AI$18:$AI$1017,$B387,'Daily Log'!$AJ$18:$AJ$1017),0)","v":0},{"$f":"IFERROR($E387*SUMIF('Daily Log'!$AL$18:$AL$1017,$B387,'Daily Log'!$AM$18:$AM$1017),0)","v":0},{"$f":"IFERROR($E387*SUMIF('Daily Log'!$AO$18:$AO$1017,$B387,'Daily Log'!$AP$18:$AP$1017),0)","v":0},{"$f":"IFERROR($E387*SUMIF('Daily Log'!$AR$18:$AR$1017,$B387,'Daily Log'!$AS$18:$AS$1017),0)","v":0},{"$f":"IFERROR($E387*SUMIF('Daily Log'!$AU$18:$AU$1017,$B387,'Daily Log'!$AV$18:$AV$1017),0)","v":0},{"$f":"IFERROR($E387*SUMIF('Daily Log'!$AX$18:$AX$1017,$B387,'Daily Log'!$AY$18:$AY$1017),0)","v":0},{"$f":"IFERROR($E387*SUMIF('Daily Log'!$BA$18:$BA$1017,$B387,'Daily Log'!$BB$18:$BB$1017),0)","v":0},{"$f":"IFERROR($E387*SUMIF('Daily Log'!$BD$18:$BD$1017,$B387,'Daily Log'!$BE$18:$BE$1017),0)","v":0},{"$f":"IFERROR($E387*SUMIF('Daily Log'!$BG$18:$BG$1017,$B387,'Daily Log'!$BH$18:$BH$1017),0)","v":0},{"$f":"IFERROR($E387*SUMIF('Daily Log'!$BJ$18:$BJ$1017,$B387,'Daily Log'!$BK$18:$BK$1017),0)","v":0},{"$f":"IFERROR($E387*SUMIF('Daily Log'!$BM$18:$BM$1017,$B387,'Daily Log'!$BN$18:$BN$1017),0)","v":0},{"$f":"IFERROR($E387*SUMIF('Daily Log'!$BP$18:$BP$1017,$B387,'Daily Log'!$BQ$18:$BQ$1017),0)","v":0},{"$f":"IFERROR($E387*SUMIF('Daily Log'!$BS$18:$BS$1017,$B387,'Daily Log'!$BT$18:$BT$1017),0)","v":0},{"$f":"IFERROR($E387*SUMIF('Daily Log'!$BV$18:$BV$1017,$B387,'Daily Log'!$BW$18:$BW$1017),0)","v":0},{"$f":"IFERROR($E387*SUMIF('Daily Log'!$BY$18:$BY$1017,$B387,'Daily Log'!$BZ$18:$BZ$1017),0)","v":0},{"$f":"IFERROR($E387*SUMIF('Daily Log'!$CB$18:$CB$1017,$B387,'Daily Log'!$CC$18:$CC$1017),0)","v":0},{"$f":"IFERROR($E387*SUMIF('Daily Log'!$CE$18:$CE$1017,$B387,'Daily Log'!$CF$18:$CF$1017),0)","v":0},{"$f":"IFERROR($E387*SUMIF('Daily Log'!$CH$18:$CH$1017,$B387,'Daily Log'!$CI$18:$CI$1017),0)","v":0},{"$f":"IFERROR($E387*SUMIF('Daily Log'!$CK$18:$CK$1017,$B387,'Daily Log'!$CL$18:$CL$1017),0)","v":28},{"$f":"IFERROR($E387*SUMIF('Daily Log'!$CN$18:$CN$1017,$B387,'Daily Log'!$CO$18:$CO$1017),0)","v":0}]
[null,null,null,null,1,0,{"$f":"IFERROR($E388*SUMIF('Daily Log'!$B$18:$B$1017,$B388,'Daily Log'!$C$18:$C$1017),0)","v":0},{"$f":"IFERROR($E388*SUMIF('Daily Log'!$E$18:$E$1017,$B388,'Daily Log'!$F$18:$F$1017),0)","v":0},{"$f":"IFERROR($E388*SUMIF('Daily Log'!$H$18:$H$1017,$B388,'Daily Log'!$I$18:$I$1017),0)","v":0},{"$f":"IFERROR($E388*SUMIF('Daily Log'!$K$18:$K$1017,$B388,'Daily Log'!$L$18:$L$1017),0)","v":0},{"$f":"IFERROR($E388*SUMIF('Daily Log'!$N$18:$N$1017,$B388,'Daily Log'!$O$18:$O$1017),0)","v":0},{"$f":"IFERROR($E388*SUMIF('Daily Log'!$Q$18:$Q$1017,$B388,'Daily Log'!$R$18:$R$1017),0)","v":0},{"$f":"IFERROR($E388*SUMIF('Daily Log'!$T$18:$T$1017,$B388,'Daily Log'!$U$18:$U$1017),0)","v":0},{"$f":"IFERROR($E388*SUMIF('Daily Log'!$W$18:$W$1017,$B388,'Daily Log'!$X$18:$X$1017),0)","v":0},{"$f":"IFERROR($E388*SUMIF('Daily Log'!$Z$18:$Z$1017,$B388,'Daily Log'!$AA$18:$AA$1017),0)","v":0},{"$f":"IFERROR($E388*SUMIF('Daily Log'!$AC$18:$AC$1017,$B388,'Daily Log'!$AD$18:$AD$1017),0)","v":0},{"$f":"IFERROR($E388*SUMIF('Daily Log'!$AF$18:$AF$1017,$B388,'Daily Log'!$AG$18:$AG$1017),0)","v":0},{"$f":"IFERROR($E388*SUMIF('Daily Log'!$AI$18:$AI$1017,$B388,'Daily Log'!$AJ$18:$AJ$1017),0)","v":0},{"$f":"IFERROR($E388*SUMIF('Daily Log'!$AL$18:$AL$1017,$B388,'Daily Log'!$AM$18:$AM$1017),0)","v":0},{"$f":"IFERROR($E388*SUMIF('Daily Log'!$AO$18:$AO$1017,$B388,'Daily Log'!$AP$18:$AP$1017),0)","v":0},{"$f":"IFERROR($E388*SUMIF('Daily Log'!$AR$18:$AR$1017,$B388,'Daily Log'!$AS$18:$AS$1017),0)","v":0},{"$f":"IFERROR($E388*SUMIF('Daily Log'!$AU$18:$AU$1017,$B388,'Daily Log'!$AV$18:$AV$1017),0)","v":0},{"$f":"IFERROR($E388*SUMIF('Daily Log'!$AX$18:$AX$1017,$B388,'Daily Log'!$AY$18:$AY$1017),0)","v":0},{"$f":"IFERROR($E388*SUMIF('Daily Log'!$BA$18:$BA$1017,$B388,'Daily Log'!$BB$18:$BB$1017),0)","v":0},{"$f":"IFERROR($E388*SUMIF('Daily Log'!$BD$18:$BD$1017,$B388,'Daily Log'!$BE$18:$BE$1017),0)","v":0},{"$f":"IFERROR($E388*SUMIF('Daily Log'!$BG$18:$BG$1017,$B388,'Daily Log'!$BH$18:$BH$1017),0)","v":0},{"$f":"IFERROR($E388*SUMIF('Daily Log'!$BJ$18:$BJ$1017,$B388,'Daily Log'!$BK$18:$BK$1017),0)","v":0},{"$f":"IFERROR($E388*SUMIF('Daily Log'!$BM$18:$BM$1017,$B388,'Daily Log'!$BN$18:$BN$1017),0)","v":0},{"$f":"IFERROR($E388*SUMIF('Daily Log'!$BP$18:$BP$1017,$B388,'Daily Log'!$BQ$18:$BQ$1017),0)","v":0},{"$f":"IFERROR($E388*SUMIF('Daily Log'!$BS$18:$BS$1017,$B388,'Daily Log'!$BT$18:$BT$1017),0)","v":0},{"$f":"IFERROR($E388*SUMIF('Daily Log'!$BV$18:$BV$1017,$B388,'Daily Log'!$BW$18:$BW$1017),0)","v":0},{"$f":"IFERROR($E388*SUMIF('Daily Log'!$BY$18:$BY$1017,$B388,'Daily Log'!$BZ$18:$BZ$1017),0)","v":0},{"$f":"IFERROR($E388*SUMIF('Daily Log'!$CB$18:$CB$1017,$B388,'Daily Log'!$CC$18:$CC$1017),0)","v":0},{"$f":"IFERROR($E388*SUMIF('Daily Log'!$CE$18:$CE$1017,$B388,'Daily Log'!$CF$18:$CF$1017),0)","v":0},{"$f":"IFERROR($E388*SUMIF('Daily Log'!$CH$18:$CH$1017,$B388,'Daily Log'!$CI$18:$CI$1017),0)","v":0},{"$f":"IFERROR($E388*SUMIF('Daily Log'!$CK$18:$CK$1017,$B388,'Daily Log'!$CL$18:$CL$1017),0)","v":0},{"$f":"IFERROR($E388*SUMIF('Daily Log'!$CN$18:$CN$1017,$B388,'Daily Log'!$CO$18:$CO$1017),0)","v":0}]
[null,null,null,null,1,0,{"$f":"IFERROR($E389*SUMIF('Daily Log'!$B$18:$B$1017,$B389,'Daily Log'!$C$18:$C$1017),0)","v":0},{"$f":"IFERROR($E389*SUMIF('Daily Log'!$E$18:$E$1017,$B389,'Daily Log'!$F$18:$F$1017),0)","v":0},{"$f":"IFERROR($E389*SUMIF('Daily Log'!$H$18:$H$1017,$B389,'Daily Log'!$I$18:$I$1017),0)","v":0},{"$f":"IFERROR($E389*SUMIF('Daily Log'!$K$18:$K$1017,$B389,'Daily Log'!$L$18:$L$1017),0)","v":0},{"$f":"IFERROR($E389*SUMIF('Daily Log'!$N$18:$N$1017,$B389,'Daily Log'!$O$18:$O$1017),0)","v":0},{"$f":"IFERROR($E389*SUMIF('Daily Log'!$Q$18:$Q$1017,$B389,'Daily Log'!$R$18:$R$1017),0)","v":0},{"$f":"IFERROR($E389*SUMIF('Daily Log'!$T$18:$T$1017,$B389,'Daily Log'!$U$18:$U$1017),0)","v":0},{"$f":"IFERROR($E389*SUMIF('Daily Log'!$W$18:$W$1017,$B389,'Daily Log'!$X$18:$X$1017),0)","v":0},{"$f":"IFERROR($E389*SUMIF('Daily Log'!$Z$18:$Z$1017,$B389,'Daily Log'!$AA$18:$AA$1017),0)","v":0},{"$f":"IFERROR($E389*SUMIF('Daily Log'!$AC$18:$AC$1017,$B389,'Daily Log'!$AD$18:$AD$1017),0)","v":0},{"$f":"IFERROR($E389*SUMIF('Daily Log'!$AF$18:$AF$1017,$B389,'Daily Log'!$AG$18:$AG$1017),0)","v":0},{"$f":"IFERROR($E389*SUMIF('Daily Log'!$AI$18:$AI$1017,$B389,'Daily Log'!$AJ$18:$AJ$1017),0)","v":0},{"$f":"IFERROR($E389*SUMIF('Daily Log'!$AL$18:$AL$1017,$B389,'Daily Log'!$AM$18:$AM$1017),0)","v":0},{"$f":"IFERROR($E389*SUMIF('Daily Log'!$AO$18:$AO$1017,$B389,'Daily Log'!$AP$18:$AP$1017),0)","v":0},{"$f":"IFERROR($E389*SUMIF('Daily Log'!$AR$18:$AR$1017,$B389,'Daily Log'!$AS$18:$AS$1017),0)","v":0},{"$f":"IFERROR($E389*SUMIF('Daily Log'!$AU$18:$AU$1017,$B389,'Daily Log'!$AV$18:$AV$1017),0)","v":0},{"$f":"IFERROR($E389*SUMIF('Daily Log'!$AX$18:$AX$1017,$B389,'Daily Log'!$AY$18:$AY$1017),0)","v":0},{"$f":"IFERROR($E389*SUMIF('Daily Log'!$BA$18:$BA$1017,$B389,'Daily Log'!$BB$18:$BB$1017),0)","v":0},{"$f":"IFERROR($E389*SUMIF('Daily Log'!$BD$18:$BD$1017,$B389,'Daily Log'!$BE$18:$BE$1017),0)","v":0},{"$f":"IFERROR($E389*SUMIF('Daily Log'!$BG$18:$BG$1017,$B389,'Daily Log'!$BH$18:$BH$1017),0)","v":0},{"$f":"IFERROR($E389*SUMIF('Daily Log'!$BJ$18:$BJ$1017,$B389,'Daily Log'!$BK$18:$BK$1017),0)","v":0},{"$f":"IFERROR($E389*SUMIF('Daily Log'!$BM$18:$BM$1017,$B389,'Daily Log'!$BN$18:$BN$1017),0)","v":0},{"$f":"IFERROR($E389*SUMIF('Daily Log'!$BP$18:$BP$1017,$B389,'Daily Log'!$BQ$18:$BQ$1017),0)","v":0},{"$f":"IFERROR($E389*SUMIF('Daily Log'!$BS$18:$BS$1017,$B389,'Daily Log'!$BT$18:$BT$1017),0)","v":0},{"$f":"IFERROR($E389*SUMIF('Daily Log'!$BV$18:$BV$1017,$B389,'Daily Log'!$BW$18:$BW$1017),0)","v":0},{"$f":"IFERROR($E389*SUMIF('Daily Log'!$BY$18:$BY$1017,$B389,'Daily Log'!$BZ$18:$BZ$1017),0)","v":0},{"$f":"IFERROR($E389*SUMIF('Daily Log'!$CB$18:$CB$1017,$B389,'Daily Log'!$CC$18:$CC$1017),0)","v":0},{"$f":"IFERROR($E389*SUMIF('Daily Log'!$CE$18:$CE$1017,$B389,'Daily Log'!$CF$18:$CF$1017),0)","v":0},{"$f":"IFERROR($E389*SUMIF('Daily Log'!$CH$18:$CH$1017,$B389,'Daily Log'!$CI$18:$CI$1017),0)","v":0},{"$f":"IFERROR($E389*SUMIF('Daily Log'!$CK$18:$CK$1017,$B389,'Daily Log'!$CL$18:$CL$1017),0)","v":0},{"$f":"IFERROR($E389*SUMIF('Daily Log'!$CN$18:$CN$1017,$B389,'Daily Log'!$CO$18:$CO$1017),0)","v":0}]
[null,null,null,null,1,0,{"$f":"IFERROR($E390*SUMIF('Daily Log'!$B$18:$B$1017,$B390,'Daily Log'!$C$18:$C$1017),0)","v":0},{"$f":"IFERROR($E390*SUMIF('Daily Log'!$E$18:$E$1017,$B390,'Daily Log'!$F$18:$F$1017),0)","v":0},{"$f":"IFERROR($E390*SUMIF('Daily Log'!$H$18:$H$1017,$B390,'Daily Log'!$I$18:$I$1017),0)","v":0},{"$f":"IFERROR($E390*SUMIF('Daily Log'!$K$18:$K$1017,$B390,'Daily Log'!$L$18:$L$1017),0)","v":0},{"$f":"IFERROR($E390*SUMIF('Daily Log'!$N$18:$N$1017,$B390,'Daily Log'!$O$18:$O$1017),0)","v":0},{"$f":"IFERROR($E390*SUMIF('Daily Log'!$Q$18:$Q$1017,$B390,'Daily Log'!$R$18:$R$1017),0)","v":0},{"$f":"IFERROR($E390*SUMIF('Daily Log'!$T$18:$T$1017,$B390,'Daily Log'!$U$18:$U$1017),0)","v":0},{"$f":"IFERROR($E390*SUMIF('Daily Log'!$W$18:$W$1017,$B390,'Daily Log'!$X$18:$X$1017),0)","v":0},{"$f":"IFERROR($E390*SUMIF('Daily Log'!$Z$18:$Z$1017,$B390,'Daily Log'!$AA$18:$AA$1017),0)","v":0},{"$f":"IFERROR($E390*SUMIF('Daily Log'!$AC$18:$AC$1017,$B390,'Daily Log'!$AD$18:$AD$1017),0)","v":0},{"$f":"IFERROR($E390*SUMIF('Daily Log'!$AF$18:$AF$1017,$B390,'Daily Log'!$AG$18:$AG$1017),0)","v":0},{"$f":"IFERROR($E390*SUMIF('Daily Log'!$AI$18:$AI$1017,$B390,'Daily Log'!$AJ$18:$AJ$1017),0)","v":0},{"$f":"IFERROR($E390*SUMIF('Daily Log'!$AL$18:$AL$1017,$B390,'Daily Log'!$AM$18:$AM$1017),0)","v":0},{"$f":"IFERROR($E390*SUMIF('Daily Log'!$AO$18:$AO$1017,$B390,'Daily Log'!$AP$18:$AP$1017),0)","v":0},{"$f":"IFERROR($E390*SUMIF('Daily Log'!$AR$18:$AR$1017,$B390,'Daily Log'!$AS$18:$AS$1017),0)","v":0},{"$f":"IFERROR($E390*SUMIF('Daily Log'!$AU$18:$AU$1017,$B390,'Daily Log'!$AV$18:$AV$1017),0)","v":0},{"$f":"IFERROR($E390*SUMIF('Daily Log'!$AX$18:$AX$1017,$B390,'Daily Log'!$AY$18:$AY$1017),0)","v":0},{"$f":"IFERROR($E390*SUMIF('Daily Log'!$BA$18:$BA$1017,$B390,'Daily Log'!$BB$18:$BB$1017),0)","v":0},{"$f":"IFERROR($E390*SUMIF('Daily Log'!$BD$18:$BD$1017,$B390,'Daily Log'!$BE$18:$BE$1017),0)","v":0},{"$f":"IFERROR($E390*SUMIF('Daily Log'!$BG$18:$BG$1017,$B390,'Daily Log'!$BH$18:$BH$1017),0)","v":0},{"$f":"IFERROR($E390*SUMIF('Daily Log'!$BJ$18:$BJ$1017,$B390,'Daily Log'!$BK$18:$BK$1017),0)","v":0},{"$f":"IFERROR($E390*SUMIF('Daily Log'!$BM$18:$BM$1017,$B390,'Daily Log'!$BN$18:$BN$1017),0)","v":0},{"$f":"IFERROR($E390*SUMIF('Daily Log'!$BP$18:$BP$1017,$B390,'Daily Log'!$BQ$18:$BQ$1017),0)","v":0},{"$f":"IFERROR($E390*SUMIF('Daily Log'!$BS$18:$BS$1017,$B390,'Daily Log'!$BT$18:$BT$1017),0)","v":0},{"$f":"IFERROR($E390*SUMIF('Daily Log'!$BV$18:$BV$1017,$B390,'Daily Log'!$BW$18:$BW$1017),0)","v":0},{"$f":"IFERROR($E390*SUMIF('Daily Log'!$BY$18:$BY$1017,$B390,'Daily Log'!$BZ$18:$BZ$1017),0)","v":0},{"$f":"IFERROR($E390*SUMIF('Daily Log'!$CB$18:$CB$1017,$B390,'Daily Log'!$CC$18:$CC$1017),0)","v":0},{"$f":"IFERROR($E390*SUMIF('Daily Log'!$CE$18:$CE$1017,$B390,'Daily Log'!$CF$18:$CF$1017),0)","v":0},{"$f":"IFERROR($E390*SUMIF('Daily Log'!$CH$18:$CH$1017,$B390,'Daily Log'!$CI$18:$CI$1017),0)","v":0},{"$f":"IFERROR($E390*SUMIF('Daily Log'!$CK$18:$CK$1017,$B390,'Daily Log'!$CL$18:$CL$1017),0)","v":0},{"$f":"IFERROR($E390*SUMIF('Daily Log'!$CN$18:$CN$1017,$B390,'Daily Log'!$CO$18:$CO$1017),0)","v":0}]
[null,null,null,null,1,0]
[null,null,null,null,1,0]
[null,null,null,null,1,0]
[null,null,null,null,1,0]
[null,null,null,null,1,0]
[null,null,null,null,1,0]
[null,null,null,null,1,0]
[null,null,null,null,1,{"$f":"SUM($G398:$AK398)","v":0}]
[null,null,null,null,1,0]
[null,null,null,null,1,0]
[null,null,null,null,1,0]
[null,null,null,null,1,0]
[null,null,null,null,1,0]
[null,null,null,null,1,0]
[null,null,null,null,1,0]
[null,null,null,null,1,0]
[null,null,null,null,1,0]
[null,null,null,null,1,0]
[null,null,null,null,1,0]
[null,null,null,null,1,0]
[null,null,null,null,1,0]
[null,null,null,null,1,0]
[null,null,null,null,1,0]
[null,null,null,null,1,0]
[null,null,null,null,1,0]
[null,null,null,null,1,0]
[null,null,null,null,1,0]
[null,null,null,null,1,0]
[null,null,null,null,1,0]
[null,null,null,null,1,0]
[null,null,null,null,1,0]
[null,null,null,null,null,0]
[null,null,null,null,null,0]
[null,null,null,null,null,0]
[null,null,null,null,null,0]

{"sheet":"Daily Log","index":2,"n_rows":1627,"n_cols":96,"rows_kept":1627,"cut":false,"hidden":false,"merged":[[5,2,5,4],[7,2,7,4],[9,2,9,4]]}
[]
[]
[null,null,"DAILY LOG OF PRODUCT SALES"]
[]
[]
[null,"OUTLET",{"$f":"Summary!C6","v":"SBA"}]
[]
[null,"YEAR",{"$f":"Summary!C8","v":"2013"}]
[]
[null,"MONTH",{"$f":"Summary!C10","v":"SEPTEMBER"}]
[]
[]
[]
[{"$f":"IFERROR(INDEX($CR$18:$CR$48,MAX($B$17:$CO$17),1),\"\")","v":0},{"$f":"\"DATE  \"&TEXT(Summary!G27,\"DD / MM / YYYY\")","v":"DATE  01 / 09 / 2013"},null,null,{"$f":"\"DATE  \"&TEXT(Summary!H27,\"DD / MM / YYYY\")","v":"DATE  02 / 09 / 2013"},null,null,{"$f":"\"DATE  \"&TEXT(Summary!I27,\"DD / MM / YYYY\")","v":"DATE  03 / 09 / 2013"},null,null,{"$f":"\"DATE  \"&TEXT(Summary!J27,\"DD / MM / YYYY\")","v":"DATE  04 / 09 / 2013"},null,null,{"$f":"\"DATE  \"&TEXT(Summary!K27,\"DD / MM / YYYY\")","v":"DATE  05 / 09 / 2013"},null,null,{"$f":"\"DATE  \"&TEXT(Summary!L27,\"DD / MM / YYYY\")","v":"DATE  06 / 09 / 2013"},null,null,{"$f":"\"DATE  \"&TEXT(Summary!M27,\"DD / MM / YYYY\")","v":"DATE  07 / 09 / 2013"},null,null,{"$f":"\"DATE  \"&TEXT(Summary!N27,\"DD / MM / YYYY\")","v":"DATE  08 / 09 / 2013"},null,null,{"$f":"\"DATE  \"&TEXT(Summary!O27,\"DD / MM / YYYY\")","v":"DATE  09 / 09 / 2013"},null,null,{"$f":"\"DATE  \"&TEXT(Summary!P27,\"DD / MM / YYYY\")","v":"DATE  10 / 09 / 2013"},null,null,{"$f":"\"DATE  \"&TEXT(Summary!Q27,\"DD / MM / YYYY\")","v":"DATE  11 / 09 / 2013"},null,null,{"$f":"\"DATE  \"&TEXT(Summary!R27,\"DD / MM / YYYY\")","v":"DATE  12 / 09 / 2013"},null,null,{"$f":"\"DATE  \"&TEXT(Summary!S27,\"DD / MM / YYYY\")","v":"DATE  13 / 09 / 2013"},null,null,{"$f":"\"DATE  \"&TEXT(Summary!T27,\"DD / MM / YYYY\")","v":"DATE  14 / 09 / 2013"},null,null,{"$f":"\"DATE  \"&TEXT(Summary!U27,\"DD / MM / YYYY\")","v":"DATE  15 / 09 / 2013"},null,null,{"$f":"\"DATE  \"&TEXT(Summary!V27,\"DD / MM / YYYY\")","v":"DATE  16 / 09 / 2013"},null,null,{"$f":"\"DATE  \"&TEXT(Summary!W27,\"DD / MM / YYYY\")","v":"DATE  17 / 09 / 2013"},null,null,{"$f":"\"DATE  \"&TEXT(Summary!X27,\"DD / MM / YYYY\")","v":"DATE  18 / 09 / 2013"},null,null,{"$f":"\"DATE  \"&TEXT(Summary!Y27,\"DD / MM / YYYY\")","v":"DATE  19 / 09 / 2013"},null,null,{"$f":"\"DATE  \"&TEXT(Summary!Z27,\"DD / MM / YYYY\")","v":"DATE  20 / 09 / 2013"},null,null,{"$f":"\"DATE  \"&TEXT(Summary!AA27,\"DD / MM / YYYY\")","v":"DATE  21 / 09 / 2013"},null,null,{"$f":"\"DATE  \"&TEXT(Summary!AB27,\"DD / MM / YYYY\")","v":"DATE  22 / 09 / 2013"},null,null,{"$f":"\"DATE  \"&TEXT(Summary!AC27,\"DD / MM / YYYY\")","v":"DATE  23 / 09 / 2013"},null,null,{"$f":"\"DATE  \"&TEXT(Summary!AD27,\"DD / MM / YYYY\")","v":"DATE  24 / 09 / 2013"},null,null,{"$f":"\"DATE  \"&TEXT(Summary!AE27,\"DD / MM / YYYY\")","v":"DATE  25 / 09 / 2013"},null,null,{"$f":"\"DATE  \"&TEXT(Summary!AF27,\"DD / MM / YYYY\")","v":"DATE  26 / 09 / 2013"},null,null,{"$f":"\"DATE  \"&TEXT(Summary!AG27,\"DD / MM / YYYY\")","v":"DATE  27 / 09 / 2013"},null,null,{"$f":"\"DATE  \"&TEXT(Summary!AH27,\"DD / MM / YYYY\")","v":"DATE  28 / 09 / 2013"},null,null,{"$f":"\"DATE  \"&TEXT(Summary!AI27,\"DD / MM / YYYY\")","v":"DATE  29 / 09 / 2013"},null,null,{"$f":"\"DATE  \"&TEXT(Summary!AJ27,\"DD / MM / YYYY\")","v":"DATE  30 / 09 / 2013"},null,null,{"$f":"\"DATE  \"&TEXT(Summary!AK27,\"DD / MM / YYYY\")","v":"DATE  "},null,null,"COLUMN"]
[]
[null,"PRODUCT","QUANTITY",null,"PRODUCT","QUANTITY",null,"PRODUCT","QUANTITY",null,"PRODUCT","QUANTITY",null,"PRODUCT","QUANTITY",null,"PRODUCT","QUANTITY",null,"PRODUCT","QUANTITY",null,"PRODUCT","QUANTITY",null,"PRODUCT","QUANTITY",null,"PRODUCT","QUANTITY",null,"PRODUCT","QUANTITY",null,"PRODUCT","QUANTITY",null,"PRODUCT","QUANTITY",null,"PRODUCT","QUANTITY",null,"PRODUCT","QUANTITY",null,"PRODUCT","QUANTITY",null,"PRODUCT","QUANTITY",null,"PRODUCT","QUANTITY",null,"PRODUCT","QUANTITY",null,"PRODUCT","QUANTITY",null,"PRODUCT","QUANTITY",null,"PRODUCT","QUANTITY",null,"PRODUCT","QUANTITY",null,"PRODUCT","QUANTITY",null,"PRODUCT","QUANTITY",null,"PRODUCT","QUANTITY",null,"PRODUCT","QUANTITY",null,"PRODUCT","QUANTITY",null,"PRODUCT","QUANTITY",null,"PRODUCT","QUANTITY",null,"PRODUCT","QUANTITY",null,"MONTH","COLUMN"]
[null,{"$f":"IF(B18<>\"\",1,0)","v":0},null,null,{"$f":"IF(E18<>\"\",2,0)","v":0},null,null,{"$f":"IF(H18<>\"\",3,0)","v":0},null,null,{"$f":"IF(K18<>\"\",4,0)","v":0},null,null,{"$f":"IF(N18<>\"\",5,0)","v":0},null,null,{"$f":"IF(Q18<>\"\",6,0)","v":0},null,null,{"$f":"IF(T18<>\"\",7,0)","v":0},null,null,{"$f":"IF(W18<>\"\",8,0)","v":0},null,null,{"$f":"IF(Z18<>\"\",9,0)","v":0},null,null,{"$f":"IF(AC18<>\"\",10,0)","v":0},null,null,{"$f":"IF(AF18<>\"\",11,0)","v":0},null,null,{"$f":"IF(AI18<>\"\",12,0)","v":0},null,null,{"$f":"IF(AL18<>\"\",13,0)","v":0},null,null,{"$f":"IF(AO18<>\"\",14,0)","v":0},null,null,{"$f":"IF(AR18<>\"\",15,0)","v":0},null,null,{"$f":"IF(AU18<>\"\",16,0)","v":0},null,null,{"$f":"IF(AX18<>\"\",17,0)","v":0},null,null,{"$f":"IF(BA18<>\"\",18,0)","v":0},null,null,{"$f":"IF(BD18<>\"\",19,0)","v":0},null,null,{"$f":"IF(BG18<>\"\",20,0)","v":0},null,null,{"$f":"IF(BJ18<>\"\",21,0)","v":0},null,null,{"$f":"IF(BM18<>\"\",22,0)","v":0},null,null,{"$f":"IF(BP18<>\"\",23,0)","v":0},null,null,{"$f":"IF(BS18<>\"\",24,0)","v":0},null,null,{"$f":"IF(BV18<>\"\",25,0)","v":0},null,null,{"$f":"IF(BY18<>\"\",26,0)","v":0},null,null,{"$f":"IF(CB18<>\"\",27,0)","v":0},null,null,{"$f":"IF(CE18<>\"\",28,0)","v":0},null,null,{"$f":"IF(CH18<>\"\",29,0)","v":0},null,null,{"$f":"IF(CK18<>\"\",30,0)","v":30},null,null,{"$f":"IF(CN18<>\"\",31,0)","v":0}]
[null,null,null,null,null,null,null,null,null,null,null,null,null,null,null,null,null,null,null,null,null,null,null,null,null,null,null,null,null,null,null,null,null,null,null,null,null,null,null,null,null,null,null,null,null,null,null,null,null,null,null,null,null,null,null,null,null,null,null,null,null,null,null,null,null,null,null,null,null,null,null,null,null,null,null,null,null,null,null,null,null,null,null,null,null,null,null,null,"AA01 K : REGULAR",73]
[null,null,null,null,null,null,null,null,null,null,null,null,null,null,null,null,null,null,null,null,null,null,null,null,null,null,null,null,null,null,null,null,null,null,null,null,null,null,null,null,null,null,null,null,null,null,null,null,null,null,null,null,null,null,null,null,null,null,null,null,null,null,null,null,null,null,null,null,null,null,null,null,null,null,null,null,null,null,null,null,null,null,null,null,null,null,null,null,"AA02 K : MEMBER",10]
[null,null,null,null,null,null,null,null,null,null,null,null,null,null,null,null,null,null,null,null,null,null,null,null,null,null,null,null,null,null,null,null,null,null,null,null,null,null,null,null,null,null,null,null,null,null,null,null,null,null,null,null,null,null,null,null,null,null,null,null,null,null,null,null,null,null,null,null,null,null,null,null,null,null,null,null,null,null,null,null,null,null,null,null,null,null,null,null,"AA04 K-LUNCH",1581]
[null,null,null,null,null,null,null,null,null,null,null,null,null,null,null,null,null,null,null,null,null,null,null,null,null,null,null,null,null,null,null,null,null,null,null,null,null,null,null,null,null,null,null,null,null,null,null,null,null,null,null,null,null,null,null,null,null,null,null,null,null,null,null,null,null,null,null,null,null,null,null,null,null,null,null,null,null,null,null,null,null,null,null,null,null,null,null,null,"AA05 K : CHILDREN",12]
[null,null,null,null,null,null,null,null,null,null,null,null,null,null,null,null,null,null,null,null,null,null,null,null,null,null,null,null,null,null,null,null,null,null,null,null,null,null,null,null,null,null,null,null,null,null,null,null,null,null,null,null,null,null,null,null,null,null,null,null,null,null,null,null,null,null,null,null,null,null,null,null,null,null,null,null,null,null,null,null,null,null,null,null,null,null,null,null,"AA06 K : MEMBER B'DAY",9]
[null,null,null,null,null,null,null,null,null,null,null,null,null,null,null,null,null,null,null,null,null,null,null,null,null,null,null,null,null,null,null,null,null,null,null,null,null,null,null,null,null,null,null,null,null,null,null,null,null,null,null,null,null,null,null,null,null,null,null,null,null,null,null,null,null,null,null,null,null,null,null,null,null,null,null,null,null,null,null,null,null,null,null,null,null,null,null,null,"AA09 K : FREEHEAD (B)",3]
[null,null,null,null,null,null,null,null,null,null,null,null,null,null,null,null,null,null,null,null,null,null,null,null,null,null,null,null,null,null,null,null,null,null,null,null,null,null,null,null,null,null,null,null,null,null,null,null,null,null,null,null,null,null,null,null,null,null,null,null,null,null,null,null,null,null,null,null,null,null,null,null,null,null,null,null,null,null,null,null,null,null,null,null,null,null,null,null,"AA16 K : XTD S ROOM",1]
[null,null,null,null,null,null,null,null,null,null,null,null,null,null,null,null,null,null,null,null,null,null,null,null,null,null,null,null,null,null,null,null,null,null,null,null,null,null,null,null,null,null,null,null,null,null,null,null,null,null,null,null,null,null,null,null,null,null,null,null,null,null,null,null,null,null,null,null,null,null,null,null,null,null,null,null,null,null,null,null,null,null,null,null,null,null,null,null,"AA18 K : XTD B ROOM",1]
[null,null,null,null,null,null,null,null,null,null,null,null,null,null,null,null,null,null,null,null,null,null,null,null,null,null,null,null,null,null,null,null,null,null,null,null,null,null,null,null,null,null,null,null,null,null,null,null,null,null,null,null,null,null,null,null,null,null,null,null,null,null,null,null,null,null,null,null,null,null,null,null,null,null,null,null,null,null,null,null,null,null,null,null,null,null,null,null,"AA23 K:Student Mem",3]
[null,null,null,null,null,null,null,null,null,null,null,null,null,null,null,null,null,null,null,null,null,null,null,null,null,null,null,null,null,null,null,null,null,null,null,null,null,null,null,null,null,null,null,null,null,null,null,null,null,null,null,null,null,null,null,null,null,null,null,null,null,null,null,null,null,null,null,null,null,null,null,null,null,null,null,null,null,null,null,null,null,null,null,null,null,null,null,null,"AB01 H : REGULAR",904]
[null,null,null,null,null,null,null,null,null,null,null,null,null,null,null,null,null,null,null,null,null,null,null,null,null,null,null,null,null,null,null,null,null,null,null,null,null,null,null,null,null,null,null,null,null,null,null,null,null,null,null,null,null,null,null,null,null,null,null,null,null,null,null,null,null,null,null,null,null,null,null,null,null,null,null,null,null,null,null,null,null,null,null,null,null,null,null,null,"AB02 H : MEMBER",282]
[null,null,null,null,null,null,null,null,null,null,null,null,null,null,null,null,null,null,null,null,null,null,null,null,null,null,null,null,null,null,null,null,null,null,null,null,null,null,null,null,null,null,null,null,null,null,null,null,null,null,null,null,null,null,null,null,null,null,null,null,null,null,null,null,null,null,null,null,null,null,null,null,null,null,null,null,null,null,null,null,null,null,null,null,null,null,null,null,"AB03 H : MEMBER 30%",8]
[null,null,null,null,null,null,null,null,null,null,null,null,null,null,null,null,null,null,null,null,null,null,null,null,null,null,null,null,null,null,null,null,null,null,null,null,null,null,null,null,null,null,null,null,null,null,null,null,null,null,null,null,null,null,null,null,null,null,null,null,null,null,null,null,null,null,null,null,null,null,null,null,null,null,null,null,null,null,null,null,null,null,null,null,null,null,null,null,"AB05 H : STUDENT",942]
[null,null,null,null,null,null,null,null,null,null,null,null,null,null,null,null,null,null,null,null,null,null,null,null,null,null,null,null,null,null,null,null,null,null,null,null,null,null,null,null,null,null,null,null,null,null,null,null,null,null,null,null,null,null,null,null,null,null,null,null,null,null,null,null,null,null,null,null,null,null,null,null,null,null,null,null,null,null,null,null,null,null,null,null,null,null,null,null,"AB06 H : SENIOR",3]
[null,null,null,null,null,null,null,null,null,null,null,null,null,null,null,null,null,null,null,null,null,null,null,null,null,null,null,null,null,null,null,null,null,null,null,null,null,null,null,null,null,null,null,null,null,null,null,null,null,null,null,null,null,null,null,null,null,null,null,null,null,null,null,null,null,null,null,null,null,null,null,null,null,null,null,null,null,null,null,null,null,null,null,null,null,null,null,null,"AB07 H : CHILDREN",18]
[null,null,null,null,null,null,null,null,null,null,null,null,null,null,null,null,null,null,null,null,null,null,null,null,null,null,null,null,null,null,null,null,null,null,null,null,null,null,null,null,null,null,null,null,null,null,null,null,null,null,null,null,null,null,null,null,null,null,null,null,null,null,null,null,null,null,null,null,null,null,null,null,null,null,null,null,null,null,null,null,null,null,null,null,null,null,null,null,"AB08 H : MEMBER B'DAY",11]
[null,null,null,null,null,null,null,null,null,null,null,null,null,null,null,null,null,null,null,null,null,null,null,null,null,null,null,null,null,null,null,null,null,null,null,null,null,null,null,null,null,null,null,null,null,null,null,null,null,null,null,null,null,null,null,null,null,null,null,null,null,null,null,null,null,null,null,null,null,null,null,null,null,null,null,null,null,null,null,null,null,null,null,null,null,null,null,null,"AB11 H : FREEHEAD (B)",12]
[null,null,null,null,null,null,null,null,null,null,null,null,null,null,null,null,null,null,null,null,null,null,null,null,null,null,null,null,null,null,null,null,null,null,null,null,null,null,null,null,null,null,null,null,null,null,null,null,null,null,null,null,null,null,null,null,null,null,null,null,null,null,null,null,null,null,null,null,null,null,null,null,null,null,null,null,null,null,null,null,null,null,null,null,null,null,null,null,"AB16 H : EVENT",1]
[null,null,null,null,null,null,null,null,null,null,null,null,null,null,null,null,null,null,null,null,null,null,null,null,null,null,null,null,null,null,null,null,null,null,null,null,null,null,null,null,null,null,null,null,null,null,null,null,null,null,null,null,null,null,null,null,null,null,null,null,null,null,null,null,null,null,null,null,null,null,null,null,null,null,null,null,null,null,null,null,null,null,null,null,null,null,null,null,"AB17 H : XTD S ROOM",4]
[null,null,null,null,null,null,null,null,null,null,null,null,null,null,null,null,null,null,null,null,null,null,null,null,null,null,null,null,null,null,null,null,null,null,null,null,null,null,null,null,null,null,null,null,null,null,null,null,null,null,null,null,null,null,null,null,null,null,null,null,null,null,null,null,null,null,null,null,null,null,null,null,null,null,null,null,null,null,null,null,null,null,null,null,null,null,null,null,"AB18 H : XTD M ROOM"]
[null,null,null,null,null,null,null,null,null,null,null,null,null,null,null,null,null,null,null,null,null,null,null,null,null,null,null,null,null,null,null,null,null,null,null,null,null,null,null,null,null,null,null,null,null,null,null,null,null,null,null,null,null,null,null,null,null,null,null,null,null,null,null,null,null,null,null,null,null,null,null,null,null,null,null,null,null,null,null,null,null,null,null,null,null,null,null,null,"AB21 H: FB LIKED 50%",98]
[null,null,null,null,null,null,null,null,null,null,null,null,null,null,null,null,null,null,null,null,null,null,null,null,null,null,null,null,null,null,null,null,null,null,null,null,null,null,null,null,null,null,null,null,null,null,null,null,null,null,null,null,null,null,null,null,null,null,null,null,null,null,null,null,null,null,null,null,null,null,null,null,null,null,null,null,null,null,null,null,null,null,null,null,null,null,null,null,"AB50 H:Student Mem",23]
[null,null,null,null,null,null,null,null,null,null,null,null,null,null,null,null,null,null,null,null,null,null,null,null,null,null,null,null,null,null,null,null,null,null,null,null,null,null,null,null,null,null,null,null,null,null,null,null,null,null,null,null,null,null,null,null,null,null,null,null,null,null,null,null,null,null,null,null,null,null,null,null,null,null,null,null,null,null,null,null,null,null,null,null,null,null,null,null,"AC01 N : REGULAR",2531]
[null,null,null,null,null,null,null,null,null,null,null,null,null,null,null,null,null,null,null,null,null,null,null,null,null,null,null,null,null,null,null,null,null,null,null,null,null,null,null,null,null,null,null,null,null,null,null,null,null,null,null,null,null,null,null,null,null,null,null,null,null,null,null,null,null,null,null,null,null,null,null,null,null,null,null,null,null,null,null,null,null,null,null,null,null,null,null,null,"AC02 N : MEMBER",998]
[null,null,null,null,null,null,null,null,null,null,null,null,null,null,null,null,null,null,null,null,null,null,null,null,null,null,null,null,null,null,null,null,null,null,null,null,null,null,null,null,null,null,null,null,null,null,null,null,null,null,null,null,null,null,null,null,null,null,null,null,null,null,null,null,null,null,null,null,null,null,null,null,null,null,null,null,null,null,null,null,null,null,null,null,null,null,null,null,"AC03 N : MEMBER 30%",228]
[null,null,null,null,null,null,null,null,null,null,null,null,null,null,null,null,null,null,null,null,null,null,null,null,null,null,null,null,null,null,null,null,null,null,null,null,null,null,null,null,null,null,null,null,null,null,null,null,null,null,null,null,null,null,null,null,null,null,null,null,null,null,null,null,null,null,null,null,null,null,null,null,null,null,null,null,null,null,null,null,null,null,null,null,null,null,null,null,"AC05 K-DINNER",2270]
[null,null,null,null,null,null,null,null,null,null,null,null,null,null,null,null,null,null,null,null,null,null,null,null,null,null,null,null,null,null,null,null,null,null,null,null,null,null,null,null,null,null,null,null,null,null,null,null,null,null,null,null,null,null,null,null,null,null,null,null,null,null,null,null,null,null,null,null,null,null,null,null,null,null,null,null,null,null,null,null,null,null,null,null,null,null,null,null,"AC06 N : CHILDREN",61]
[null,null,null,null,null,null,null,null,null,null,null,null,null,null,null,null,null,null,null,null,null,null,null,null,null,null,null,null,null,null,null,null,null,null,null,null,null,null,null,null,null,null,null,null,null,null,null,null,null,null,null,null,null,null,null,null,null,null,null,null,null,null,null,null,null,null,null,null,null,null,null,null,null,null,null,null,null,null,null,null,null,null,null,null,null,null,null,null,"AC07 N : MEMBER B'DAY",56]
[null,null,null,null,null,null,null,null,null,null,null,null,null,null,null,null,null,null,null,null,null,null,null,null,null,null,null,null,null,null,null,null,null,null,null,null,null,null,null,null,null,null,null,null,null,null,null,null,null,null,null,null,null,null,null,null,null,null,null,null,null,null,null,null,null,null,null,null,null,null,null,null,null,null,null,null,null,null,null,null,null,null,null,null,null,null,null,null,"AC10 N : FREEHEAD (B)",60]
[null,null,null,null,null,null,null,null,null,null,null,null,null,null,null,null,null,null,null,null,null,null,null,null,null,null,null,null,null,null,null,null,null,null,null,null,null,null,null,null,null,null,null,null,null,null,null,null,null,null,null,null,null,null,null,null,null,null,null,null,null,null,null,null,null,null,null,null,null,null,null,null,null,null,null,null,null,null,null,null,null,null,null,null,null,null,null,null,"AC13 N : 3+1",1]
[null,null,null,null,null,null,null,null,null,null,null,null,null,null,null,null,null,null,null,null,null,null,null,null,null,null,null,null,null,null,null,null,null,null,null,null,null,null,null,null,null,null,null,null,null,null,null,null,null,null,null,null,null,null,null,null,null,null,null,null,null,null,null,null,null,null,null,null,null,null,null,null,null,null,null,null,null,null,null,null,null,null,null,null,null,null,null,null,"AC16 N : EVENT",7]
[null,null,null,null,null,null,null,null,null,null,null,null,null,null,null,null,null,null,null,null,null,null,null,null,null,null,null,null,null,null,null,null,null,null,null,null,null,null,null,null,null,null,null,null,null,null,null,null,null,null,null,null,null,null,null,null,null,null,null,null,null,null,null,null,null,null,null,null,null,null,null,null,null,null,null,null,null,null,null,null,null,null,null,null,null,null,null,null,"AC17 N : XTD S ROOM",31]
[null,null,null,null,null,null,null,null,null,null,null,null,null,null,null,null,null,null,null,null,null,null,null,null,null,null,null,null,null,null,null,null,null,null,null,null,null,null,null,null,null,null,null,null,null,null,null,null,null,null,null,null,null,null,null,null,null,null,null,null,null,null,null,null,null,null,null,null,null,null,null,null,null,null,null,null,null,null,null,null,null,null,null,null,null,null,null,null,"AC18 N : XTD M ROOM",55]
[null,null,null,null,null,null,null,null,null,null,null,null,null,null,null,null,null,null,null,null,null,null,null,null,null,null,null,null,null,null,null,null,null,null,null,null,null,null,null,null,null,null,null,null,null,null,null,null,null,null,null,null,null,null,null,null,null,null,null,null,null,null,null,null,null,null,null,null,null,null,null,null,null,null,null,null,null,null,null,null,null,null,null,null,null,null,null,null,"AC19 N : XTD B ROOM",16]
[null,null,null,null,null,null,null,null,null,null,null,null,null,null,null,null,null,null,null,null,null,null,null,null,null,null,null,null,null,null,null,null,null,null,null,null,null,null,null,null,null,null,null,null,null,null,null,null,null,null,null,null,null,null,null,null,null,null,null,null,null,null,null,null,null,null,null,null,null,null,null,null,null,null,null,null,null,null,null,null,null,null,null,null,null,null,null,null,"AC20 N : FREE HOUR",1]
[null,null,null,null,null,null,null,null,null,null,null,null,null,null,null,null,null,null,null,null,null,null,null,null,null,null,null,null,null,null,null,null,null,null,null,null,null,null,null,null,null,null,null,null,null,null,null,null,null,null,null,null,null,null,null,null,null,null,null,null,null,null,null,null,null,null,null,null,null,null,null,null,null,null,null,null,null,null,null,null,null,null,null,null,null,null,null,null,"AC24 N:Student Mem",9]
[null,null,null,null,null,null,null,null,null,null,null,null,null,null,null,null,null,null,null,null,null,null,null,null,null,null,null,null,null,null,null,null,null,null,null,null,null,null,null,null,null,null,null,null,null,null,null,null,null,null,null,null,null,null,null,null,null,null,null,null,null,null,null,null,null,null,null,null,null,null,null,null,null,null,null,null,null,null,null,null,null,null,null,null,null,null,null,null,"AC29 N: 9.0 Ver",114]
[null,null,null,null,null,null,null,null,null,null,null,null,null,null,null,null,null,null,null,null,null,null,null,null,null,null,null,null,null,null,null,null,null,null,null,null,null,null,null,null,null,null,null,null,null,null,null,null,null,null,null,null,null,null,null,null,null,null,null,null,null,null,null,null,null,null,null,null,null,null,null,null,null,null,null,null,null,null,null,null,null,null,null,null,null,null,null,null,"AC30 N: 9.0 Ver Aeon",297]
[null,null,null,null,null,null,null,null,null,null,null,null,null,null,null,null,null,null,null,null,null,null,null,null,null,null,null,null,null,null,null,null,null,null,null,null,null,null,null,null,null,null,null,null,null,null,null,null,null,null,null,null,null,null,null,null,null,null,null,null,null,null,null,null,null,null,null,null,null,null,null,null,null,null,null,null,null,null,null,null,null,null,null,null,null,null,null,null,"AD01 M : REGULAR",949]
[null,null,null,null,null,null,null,null,null,null,null,null,null,null,null,null,null,null,null,null,null,null,null,null,null,null,null,null,null,null,null,null,null,null,null,null,null,null,null,null,null,null,null,null,null,null,null,null,null,null,null,null,null,null,null,null,null,null,null,null,null,null,null,null,null,null,null,null,null,null,null,null,null,null,null,null,null,null,null,null,null,null,null,null,null,null,null,null,"AD02 M : MEMBER",160]
[null,null,null,null,null,null,null,null,null,null,null,null,null,null,null,null,null,null,null,null,null,null,null,null,null,null,null,null,null,null,null,null,null,null,null,null,null,null,null,null,null,null,null,null,null,null,null,null,null,null,null,null,null,null,null,null,null,null,null,null,null,null,null,null,null,null,null,null,null,null,null,null,null,null,null,null,null,null,null,null,null,null,null,null,null,null,null,null,"AD05 M : LADIES",628]
[null,null,null,null,null,null,null,null,null,null,null,null,null,null,null,null,null,null,null,null,null,null,null,null,null,null,null,null,null,null,null,null,null,null,null,null,null,null,null,null,null,null,null,null,null,null,null,null,null,null,null,null,null,null,null,null,null,null,null,null,null,null,null,null,null,null,null,null,null,null,null,null,null,null,null,null,null,null,null,null,null,null,null,null,null,null,null,null,"AD06 M : CHILDREN",3]
[null,null,null,null,null,null,null,null,null,null,null,null,null,null,null,null,null,null,null,null,null,null,null,null,null,null,null,null,null,null,null,null,null,null,null,null,null,null,null,null,null,null,null,null,null,null,null,null,null,null,null,null,null,null,null,null,null,null,null,null,null,null,null,null,null,null,null,null,null,null,null,null,null,null,null,null,null,null,null,null,null,null,null,null,null,null,null,null,"AD07 M : MEMBER B'DAY",6]
[null,null,null,null,null,null,null,null,null,null,null,null,null,null,null,null,null,null,null,null,null,null,null,null,null,null,null,null,null,null,null,null,null,null,null,null,null,null,null,null,null,null,null,null,null,null,null,null,null,null,null,null,null,null,null,null,null,null,null,null,null,null,null,null,null,null,null,null,null,null,null,null,null,null,null,null,null,null,null,null,null,null,null,null,null,null,null,null,"AD09 M : FREEHEAD (B)",4]
[null,null,null,null,null,null,null,null,null,null,null,null,null,null,null,null,null,null,null,null,null,null,null,null,null,null,null,null,null,null,null,null,null,null,null,null,null,null,null,null,null,null,null,null,null,null,null,null,null,null,null,null,null,null,null,null,null,null,null,null,null,null,null,null,null,null,null,null,null,null,null,null,null,null,null,null,null,null,null,null,null,null,null,null,null,null,null,null,"AD14 M : EVENT",2]
[null,null,null,null,null,null,null,null,null,null,null,null,null,null,null,null,null,null,null,null,null,null,null,null,null,null,null,null,null,null,null,null,null,null,null,null,null,null,null,null,null,null,null,null,null,null,null,null,null,null,null,null,null,null,null,null,null,null,null,null,null,null,null,null,null,null,null,null,null,null,null,null,null,null,null,null,null,null,null,null,null,null,null,null,null,null,null,null,"AD15 M : XTD S ROOM",6]
[null,null,null,null,null,null,null,null,null,null,null,null,null,null,null,null,null,null,null,null,null,null,null,null,null,null,null,null,null,null,null,null,null,null,null,null,null,null,null,null,null,null,null,null,null,null,null,null,null,null,null,null,null,null,null,null,null,null,null,null,null,null,null,null,null,null,null,null,null,null,null,null,null,null,null,null,null,null,null,null,null,null,null,null,null,null,null,null,"AD16 M : XTD M ROOM",8]
[null,null,null,null,null,null,null,null,null,null,null,null,null,null,null,null,null,null,null,null,null,null,null,null,null,null,null,null,null,null,null,null,null,null,null,null,null,null,null,null,null,null,null,null,null,null,null,null,null,null,null,null,null,null,null,null,null,null,null,null,null,null,null,null,null,null,null,null,null,null,null,null,null,null,null,null,null,null,null,null,null,null,null,null,null,null,null,null,"AD17 M : XTD B ROOM",3]
[null,null,null,null,null,null,null,null,null,null,null,null,null,null,null,null,null,null,null,null,null,null,null,null,null,null,null,null,null,null,null,null,null,null,null,null,null,null,null,null,null,null,null,null,null,null,null,null,null,null,null,null,null,null,null,null,null,null,null,null,null,null,null,null,null,null,null,null,null,null,null,null,null,null,null,null,null,null,null,null,null,null,null,null,null,null,null,null,"BA01 K : 4BP"]
[null,null,null,null,null,null,null,null,null,null,null,null,null,null,null,null,null,null,null,null,null,null,null,null,null,null,null,null,null,null,null,null,null,null,null,null,null,null,null,null,null,null,null,null,null,null,null,null,null,null,null,null,null,null,null,null,null,null,null,null,null,null,null,null,null,null,null,null,null,null,null,null,null,null,null,null,null,null,null,null,null,null,null,null,null,null,null,null,"BA02 H : 4BP",3]
[null,null,null,null,null,null,null,null,null,null,null,null,null,null,null,null,null,null,null,null,null,null,null,null,null,null,null,null,null,null,null,null,null,null,null,null,null,null,null,null,null,null,null,null,null,null,null,null,null,null,null,null,null,null,null,null,null,null,null,null,null,null,null,null,null,null,null,null,null,null,null,null,null,null,null,null,null,null,null,null,null,null,null,null,null,null,null,null,"BA04 N : 4BP",60]
[null,null,null,null,null,null,null,null,null,null,null,null,null,null,null,null,null,null,null,null,null,null,null,null,null,null,null,null,null,null,null,null,null,null,null,null,null,null,null,null,null,null,null,null,null,null,null,null,null,null,null,null,null,null,null,null,null,null,null,null,null,null,null,null,null,null,null,null,null,null,null,null,null,null,null,null,null,null,null,null,null,null,null,null,null,null,null,null,"BA06 M : 4BP",9]
[null,null,null,null,null,null,null,null,null,null,null,null,null,null,null,null,null,null,null,null,null,null,null,null,null,null,null,null,null,null,null,null,null,null,null,null,null,null,null,null,null,null,null,null,null,null,null,null,null,null,null,null,null,null,null,null,null,null,null,null,null,null,null,null,null,null,null,null,null,null,null,null,null,null,null,null,null,null,null,null,null,null,null,null,null,null,null,null,"BA08 GUINNESS BTL",11]
[null,null,null,null,null,null,null,null,null,null,null,null,null,null,null,null,null,null,null,null,null,null,null,null,null,null,null,null,null,null,null,null,null,null,null,null,null,null,null,null,null,null,null,null,null,null,null,null,null,null,null,null,null,null,null,null,null,null,null,null,null,null,null,null,null,null,null,null,null,null,null,null,null,null,null,null,null,null,null,null,null,null,null,null,null,null,null,null,"BA09 GUINNESS BKT",6]
[null,null,null,null,null,null,null,null,null,null,null,null,null,null,null,null,null,null,null,null,null,null,null,null,null,null,null,null,null,null,null,null,null,null,null,null,null,null,null,null,null,null,null,null,null,null,null,null,null,null,null,null,null,null,null,null,null,null,null,null,null,null,null,null,null,null,null,null,null,null,null,null,null,null,null,null,null,null,null,null,null,null,null,null,null,null,null,null,"BA10 GUINNESS RND",2]
[null,null,null,null,null,null,null,null,null,null,null,null,null,null,null,null,null,null,null,null,null,null,null,null,null,null,null,null,null,null,null,null,null,null,null,null,null,null,null,null,null,null,null,null,null,null,null,null,null,null,null,null,null,null,null,null,null,null,null,null,null,null,null,null,null,null,null,null,null,null,null,null,null,null,null,null,null,null,null,null,null,null,null,null,null,null,null,null,"BA11 HEINEKEN BTL",12]
[null,null,null,null,null,null,null,null,null,null,null,null,null,null,null,null,null,null,null,null,null,null,null,null,null,null,null,null,null,null,null,null,null,null,null,null,null,null,null,null,null,null,null,null,null,null,null,null,null,null,null,null,null,null,null,null,null,null,null,null,null,null,null,null,null,null,null,null,null,null,null,null,null,null,null,null,null,null,null,null,null,null,null,null,null,null,null,null,"BA12 HEINEKEN BKT",38]
[null,null,null,null,null,null,null,null,null,null,null,null,null,null,null,null,null,null,null,null,null,null,null,null,null,null,null,null,null,null,null,null,null,null,null,null,null,null,null,null,null,null,null,null,null,null,null,null,null,null,null,null,null,null,null,null,null,null,null,null,null,null,null,null,null,null,null,null,null,null,null,null,null,null,null,null,null,null,null,null,null,null,null,null,null,null,null,null,"BA13 HEINEKEN RND",8]
[null,null,null,null,null,null,null,null,null,null,null,null,null,null,null,null,null,null,null,null,null,null,null,null,null,null,null,null,null,null,null,null,null,null,null,null,null,null,null,null,null,null,null,null,null,null,null,null,null,null,null,null,null,null,null,null,null,null,null,null,null,null,null,null,null,null,null,null,null,null,null,null,null,null,null,null,null,null,null,null,null,null,null,null,null,null,null,null,"BA14 TIGER BTL",24]
[null,null,null,null,null,null,null,null,null,null,null,null,null,null,null,null,null,null,null,null,null,null,null,null,null,null,null,null,null,null,null,null,null,null,null,null,null,null,null,null,null,null,null,null,null,null,null,null,null,null,null,null,null,null,null,null,null,null,null,null,null,null,null,null,null,null,null,null,null,null,null,null,null,null,null,null,null,null,null,null,null,null,null,null,null,null,null,null,"BA15 TIGER BKT",79]
[null,null,null,null,null,null,null,null,null,null,null,null,null,null,null,null,null,null,null,null,null,null,null,null,null,null,null,null,null,null,null,null,null,null,null,null,null,null,null,null,null,null,null,null,null,null,null,null,null,null,null,null,null,null,null,null,null,null,null,null,null,null,null,null,null,null,null,null,null,null,null,null,null,null,null,null,null,null,null,null,null,null,null,null,null,null,null,null,"BA16 TIGER RND",36]
[null,null,null,null,null,null,null,null,null,null,null,null,null,null,null,null,null,null,null,null,null,null,null,null,null,null,null,null,null,null,null,null,null,null,null,null,null,null,null,null,null,null,null,null,null,null,null,null,null,null,null,null,null,null,null,null,null,null,null,null,null,null,null,null,null,null,null,null,null,null,null,null,null,null,null,null,null,null,null,null,null,null,null,null,null,null,null,null,"BA19 Tiger 2+1",12]
[null,null,null,null,null,null,null,null,null,null,null,null,null,null,null,null,null,null,null,null,null,null,null,null,null,null,null,null,null,null,null,null,null,null,null,null,null,null,null,null,null,null,null,null,null,null,null,null,null,null,null,null,null,null,null,null,null,null,null,null,null,null,null,null,null,null,null,null,null,null,null,null,null,null,null,null,null,null,null,null,null,null,null,null,null,null,null,null,"BA20 Heineken 3+1",12]
[null,null,null,null,null,null,null,null,null,null,null,null,null,null,null,null,null,null,null,null,null,null,null,null,null,null,null,null,null,null,null,null,null,null,null,null,null,null,null,null,null,null,null,null,null,null,null,null,null,null,null,null,null,null,null,null,null,null,null,null,null,null,null,null,null,null,null,null,null,null,null,null,null,null,null,null,null,null,null,null,null,null,null,null,null,null,null,null,"BA23 SOMERSBY",9]
[null,null,null,null,null,null,null,null,null,null,null,null,null,null,null,null,null,null,null,null,null,null,null,null,null,null,null,null,null,null,null,null,null,null,null,null,null,null,null,null,null,null,null,null,null,null,null,null,null,null,null,null,null,null,null,null,null,null,null,null,null,null,null,null,null,null,null,null,null,null,null,null,null,null,null,null,null,null,null,null,null,null,null,null,null,null,null,null,"BA24 SOMERSBY BKT",22]
[null,null,null,null,null,null,null,null,null,null,null,null,null,null,null,null,null,null,null,null,null,null,null,null,null,null,null,null,null,null,null,null,null,null,null,null,null,null,null,null,null,null,null,null,null,null,null,null,null,null,null,null,null,null,null,null,null,null,null,null,null,null,null,null,null,null,null,null,null,null,null,null,null,null,null,null,null,null,null,null,null,null,null,null,null,null,null,null,"BA25 STRONGBOW",3]
[null,null,null,null,null,null,null,null,null,null,null,null,null,null,null,null,null,null,null,null,null,null,null,null,null,null,null,null,null,null,null,null,null,null,null,null,null,null,null,null,null,null,null,null,null,null,null,null,null,null,null,null,null,null,null,null,null,null,null,null,null,null,null,null,null,null,null,null,null,null,null,null,null,null,null,null,null,null,null,null,null,null,null,null,null,null,null,null,"BA26 STRONGBOW BKT",4]
[null,null,null,null,null,null,null,null,null,null,null,null,null,null,null,null,null,null,null,null,null,null,null,null,null,null,null,null,null,null,null,null,null,null,null,null,null,null,null,null,null,null,null,null,null,null,null,null,null,null,null,null,null,null,null,null,null,null,null,null,null,null,null,null,null,null,null,null,null,null,null,null,null,null,null,null,null,null,null,null,null,null,null,null,null,null,null,null,"BA27 HOEGAARDEN",7]
[null,null,null,null,null,null,null,null,null,null,null,null,null,null,null,null,null,null,null,null,null,null,null,null,null,null,null,null,null,null,null,null,null,null,null,null,null,null,null,null,null,null,null,null,null,null,null,null,null,null,null,null,null,null,null,null,null,null,null,null,null,null,null,null,null,null,null,null,null,null,null,null,null,null,null,null,null,null,null,null,null,null,null,null,null,null,null,null,"BA28 HOEGAARDEN BKT",19]
[null,null,null,null,null,null,null,null,null,null,null,null,null,null,null,null,null,null,null,null,null,null,null,null,null,null,null,null,null,null,null,null,null,null,null,null,null,null,null,null,null,null,null,null,null,null,null,null,null,null,null,null,null,null,null,null,null,null,null,null,null,null,null,null,null,null,null,null,null,null,null,null,null,null,null,null,null,null,null,null,null,null,null,null,null,null,null,null,"BA29 PAULANER",4]
[null,null,null,null,null,null,null,null,null,null,null,null,null,null,null,null,null,null,null,null,null,null,null,null,null,null,null,null,null,null,null,null,null,null,null,null,null,null,null,null,null,null,null,null,null,null,null,null,null,null,null,null,null,null,null,null,null,null,null,null,null,null,null,null,null,null,null,null,null,null,null,null,null,null,null,null,null,null,null,null,null,null,null,null,null,null,null,null,"BA30 PAULANER BKT",3]
[null,null,null,null,null,null,null,null,null,null,null,null,null,null,null,null,null,null,null,null,null,null,null,null,null,null,null,null,null,null,null,null,null,null,null,null,null,null,null,null,null,null,null,null,null,null,null,null,null,null,null,null,null,null,null,null,null,null,null,null,null,null,null,null,null,null,null,null,null,null,null,null,null,null,null,null,null,null,null,null,null,null,null,null,null,null,null,null,"BD01 K:4BP PROMO",1]
[null,null,null,null,null,null,null,null,null,null,null,null,null,null,null,null,null,null,null,null,null,null,null,null,null,null,null,null,null,null,null,null,null,null,null,null,null,null,null,null,null,null,null,null,null,null,null,null,null,null,null,null,null,null,null,null,null,null,null,null,null,null,null,null,null,null,null,null,null,null,null,null,null,null,null,null,null,null,null,null,null,null,null,null,null,null,null,null,"BD02 K:4BP MEMBER"]
[null,null,null,null,null,null,null,null,null,null,null,null,null,null,null,null,null,null,null,null,null,null,null,null,null,null,null,null,null,null,null,null,null,null,null,null,null,null,null,null,null,null,null,null,null,null,null,null,null,null,null,null,null,null,null,null,null,null,null,null,null,null,null,null,null,null,null,null,null,null,null,null,null,null,null,null,null,null,null,null,null,null,null,null,null,null,null,null,"BD03 H:4BP PROMO",1]
[null,null,null,null,null,null,null,null,null,null,null,null,null,null,null,null,null,null,null,null,null,null,null,null,null,null,null,null,null,null,null,null,null,null,null,null,null,null,null,null,null,null,null,null,null,null,null,null,null,null,null,null,null,null,null,null,null,null,null,null,null,null,null,null,null,null,null,null,null,null,null,null,null,null,null,null,null,null,null,null,null,null,null,null,null,null,null,null,"BD04 H:4BP MEMBER"]
[null,null,null,null,null,null,null,null,null,null,null,null,null,null,null,null,null,null,null,null,null,null,null,null,null,null,null,null,null,null,null,null,null,null,null,null,null,null,null,null,null,null,null,null,null,null,null,null,null,null,null,null,null,null,null,null,null,null,null,null,null,null,null,null,null,null,null,null,null,null,null,null,null,null,null,null,null,null,null,null,null,null,null,null,null,null,null,null,"BD05 N:4BP PROMO",33]
[null,null,null,null,null,null,null,null,null,null,null,null,null,null,null,null,null,null,null,null,null,null,null,null,null,null,null,null,null,null,null,null,null,null,null,null,null,null,null,null,null,null,null,null,null,null,null,null,null,null,null,null,null,null,null,null,null,null,null,null,null,null,null,null,null,null,null,null,null,null,null,null,null,null,null,null,null,null,null,null,null,null,null,null,null,null,null,null,"BD06 N:4BP MEMBER",13]
[null,null,null,null,null,null,null,null,null,null,null,null,null,null,null,null,null,null,null,null,null,null,null,null,null,null,null,null,null,null,null,null,null,null,null,null,null,null,null,null,null,null,null,null,null,null,null,null,null,null,null,null,null,null,null,null,null,null,null,null,null,null,null,null,null,null,null,null,null,null,null,null,null,null,null,null,null,null,null,null,null,null,null,null,null,null,null,null,"BD07 M:4BP PROMO",6]
[null,null,null,null,null,null,null,null,null,null,null,null,null,null,null,null,null,null,null,null,null,null,null,null,null,null,null,null,null,null,null,null,null,null,null,null,null,null,null,null,null,null,null,null,null,null,null,null,null,null,null,null,null,null,null,null,null,null,null,null,null,null,null,null,null,null,null,null,null,null,null,null,null,null,null,null,null,null,null,null,null,null,null,null,null,null,null,null,"BD08 M:4BP MEMBER",3]
[null,null,null,null,null,null,null,null,null,null,null,null,null,null,null,null,null,null,null,null,null,null,null,null,null,null,null,null,null,null,null,null,null,null,null,null,null,null,null,null,null,null,null,null,null,null,null,null,null,null,null,null,null,null,null,null,null,null,null,null,null,null,null,null,null,null,null,null,null,null,null,null,null,null,null,null,null,null,null,null,null,null,null,null,null,null,null,null,"BD09 GUI 2 x BKT",4]
[null,null,null,null,null,null,null,null,null,null,null,null,null,null,null,null,null,null,null,null,null,null,null,null,null,null,null,null,null,null,null,null,null,null,null,null,null,null,null,null,null,null,null,null,null,null,null,null,null,null,null,null,null,null,null,null,null,null,null,null,null,null,null,null,null,null,null,null,null,null,null,null,null,null,null,null,null,null,null,null,null,null,null,null,null,null,null,null,"BD10 GUI 2 x BKT MEM",7]
[null,null,null,null,null,null,null,null,null,null,null,null,null,null,null,null,null,null,null,null,null,null,null,null,null,null,null,null,null,null,null,null,null,null,null,null,null,null,null,null,null,null,null,null,null,null,null,null,null,null,null,null,null,null,null,null,null,null,null,null,null,null,null,null,null,null,null,null,null,null,null,null,null,null,null,null,null,null,null,null,null,null,null,null,null,null,null,null,"BD11 HEI 2 x BKT",11]
[null,null,null,null,null,null,null,null,null,null,null,null,null,null,null,null,null,null,null,null,null,null,null,null,null,null,null,null,null,null,null,null,null,null,null,null,null,null,null,null,null,null,null,null,null,null,null,null,null,null,null,null,null,null,null,null,null,null,null,null,null,null,null,null,null,null,null,null,null,null,null,null,null,null,null,null,null,null,null,null,null,null,null,null,null,null,null,null,"BD12 HEI 2 x BKT MEM",9]
[null,null,null,null,null,null,null,null,null,null,null,null,null,null,null,null,null,null,null,null,null,null,null,null,null,null,null,null,null,null,null,null,null,null,null,null,null,null,null,null,null,null,null,null,null,null,null,null,null,null,null,null,null,null,null,null,null,null,null,null,null,null,null,null,null,null,null,null,null,null,null,null,null,null,null,null,null,null,null,null,null,null,null,null,null,null,null,null,"BD13 TIGER 2 x BKT",70]
[null,null,null,null,null,null,null,null,null,null,null,null,null,null,null,null,null,null,null,null,null,null,null,null,null,null,null,null,null,null,null,null,null,null,null,null,null,null,null,null,null,null,null,null,null,null,null,null,null,null,null,null,null,null,null,null,null,null,null,null,null,null,null,null,null,null,null,null,null,null,null,null,null,null,null,null,null,null,null,null,null,null,null,null,null,null,null,null,"BD14 TIGER 2 xBKT MEM",30]
[null,null,null,null,null,null,null,null,null,null,null,null,null,null,null,null,null,null,null,null,null,null,null,null,null,null,null,null,null,null,null,null,null,null,null,null,null,null,null,null,null,null,null,null,null,null,null,null,null,null,null,null,null,null,null,null,null,null,null,null,null,null,null,null,null,null,null,null,null,null,null,null,null,null,null,null,null,null,null,null,null,null,null,null,null,null,null,null,"CA01 GRAPE J"]
[null,null,null,null,null,null,null,null,null,null,null,null,null,null,null,null,null,null,null,null,null,null,null,null,null,null,null,null,null,null,null,null,null,null,null,null,null,null,null,null,null,null,null,null,null,null,null,null,null,null,null,null,null,null,null,null,null,null,null,null,null,null,null,null,null,null,null,null,null,null,null,null,null,null,null,null,null,null,null,null,null,null,null,null,null,null,null,null,"CA02 APPLE J"]
[null,null,null,null,null,null,null,null,null,null,null,null,null,null,null,null,null,null,null,null,null,null,null,null,null,null,null,null,null,null,null,null,null,null,null,null,null,null,null,null,null,null,null,null,null,null,null,null,null,null,null,null,null,null,null,null,null,null,null,null,null,null,null,null,null,null,null,null,null,null,null,null,null,null,null,null,null,null,null,null,null,null,null,null,null,null,null,null,"CA04 MANGO J"]
[null,null,null,null,null,null,null,null,null,null,null,null,null,null,null,null,null,null,null,null,null,null,null,null,null,null,null,null,null,null,null,null,null,null,null,null,null,null,null,null,null,null,null,null,null,null,null,null,null,null,null,null,null,null,null,null,null,null,null,null,null,null,null,null,null,null,null,null,null,null,null,null,null,null,null,null,null,null,null,null,null,null,null,null,null,null,null,null,"CA05 PASSION J"]
[null,null,null,null,null,null,null,null,null,null,null,null,null,null,null,null,null,null,null,null,null,null,null,null,null,null,null,null,null,null,null,null,null,null,null,null,null,null,null,null,null,null,null,null,null,null,null,null,null,null,null,null,null,null,null,null,null,null,null,null,null,null,null,null,null,null,null,null,null,null,null,null,null,null,null,null,null,null,null,null,null,null,null,null,null,null,null,null,"CA06 RIBENA J",1]
[null,null,null,null,null,null,null,null,null,null,null,null,null,null,null,null,null,null,null,null,null,null,null,null,null,null,null,null,null,null,null,null,null,null,null,null,null,null,null,null,null,null,null,null,null,null,null,null,null,null,null,null,null,null,null,null,null,null,null,null,null,null,null,null,null,null,null,null,null,null,null,null,null,null,null,null,null,null,null,null,null,null,null,null,null,null,null,null,"CC06 RIBENA SM",1]
[null,null,null,null,null,null,null,null,null,null,null,null,null,null,null,null,null,null,null,null,null,null,null,null,null,null,null,null,null,null,null,null,null,null,null,null,null,null,null,null,null,null,null,null,null,null,null,null,null,null,null,null,null,null,null,null,null,null,null,null,null,null,null,null,null,null,null,null,null,null,null,null,null,null,null,null,null,null,null,null,null,null,null,null,null,null,null,null,"CC08 CHOCOLATE SM",1]
[null,null,null,null,null,null,null,null,null,null,null,null,null,null,null,null,null,null,null,null,null,null,null,null,null,null,null,null,null,null,null,null,null,null,null,null,null,null,null,null,null,null,null,null,null,null,null,null,null,null,null,null,null,null,null,null,null,null,null,null,null,null,null,null,null,null,null,null,null,null,null,null,null,null,null,null,null,null,null,null,null,null,null,null,null,null,null,null,"CC09 MOCHA SM",1]
[null,null,null,null,null,null,null,null,null,null,null,null,null,null,null,null,null,null,null,null,null,null,null,null,null,null,null,null,null,null,null,null,null,null,null,null,null,null,null,null,null,null,null,null,null,null,null,null,null,null,null,null,null,null,null,null,null,null,null,null,null,null,null,null,null,null,null,null,null,null,null,null,null,null,null,null,null,null,null,null,null,null,null,null,null,null,null,null,"CD03 PEPSI",1]
[null,null,null,null,null,null,null,null,null,null,null,null,null,null,null,null,null,null,null,null,null,null,null,null,null,null,null,null,null,null,null,null,null,null,null,null,null,null,null,null,null,null,null,null,null,null,null,null,null,null,null,null,null,null,null,null,null,null,null,null,null,null,null,null,null,null,null,null,null,null,null,null,null,null,null,null,null,null,null,null,null,null,null,null,null,null,null,null,"CE01 MILO (C)"]
[null,null,null,null,null,null,null,null,null,null,null,null,null,null,null,null,null,null,null,null,null,null,null,null,null,null,null,null,null,null,null,null,null,null,null,null,null,null,null,null,null,null,null,null,null,null,null,null,null,null,null,null,null,null,null,null,null,null,null,null,null,null,null,null,null,null,null,null,null,null,null,null,null,null,null,null,null,null,null,null,null,null,null,null,null,null,null,null,"CE04 LEMON TEA (C)"]
[null,null,null,null,null,null,null,null,null,null,null,null,null,null,null,null,null,null,null,null,null,null,null,null,null,null,null,null,null,null,null,null,null,null,null,null,null,null,null,null,null,null,null,null,null,null,null,null,null,null,null,null,null,null,null,null,null,null,null,null,null,null,null,null,null,null,null,null,null,null,null,null,null,null,null,null,null,null,null,null,null,null,null,null,null,null,null,null,"CE06 HNY GRN TEA (C)",3]
[null,null,null,null,null,null,null,null,null,null,null,null,null,null,null,null,null,null,null,null,null,null,null,null,null,null,null,null,null,null,null,null,null,null,null,null,null,null,null,null,null,null,null,null,null,null,null,null,null,null,null,null,null,null,null,null,null,null,null,null,null,null,null,null,null,null,null,null,null,null,null,null,null,null,null,null,null,null,null,null,null,null,null,null,null,null,null,null,"CE07 HONEY (C)",2]
[null,null,null,null,null,null,null,null,null,null,null,null,null,null,null,null,null,null,null,null,null,null,null,null,null,null,null,null,null,null,null,null,null,null,null,null,null,null,null,null,null,null,null,null,null,null,null,null,null,null,null,null,null,null,null,null,null,null,null,null,null,null,null,null,null,null,null,null,null,null,null,null,null,null,null,null,null,null,null,null,null,null,null,null,null,null,null,null,"CE08 LEMON HONEY (C)",2]
[null,null,null,null,null,null,null,null,null,null,null,null,null,null,null,null,null,null,null,null,null,null,null,null,null,null,null,null,null,null,null,null,null,null,null,null,null,null,null,null,null,null,null,null,null,null,null,null,null,null,null,null,null,null,null,null,null,null,null,null,null,null,null,null,null,null,null,null,null,null,null,null,null,null,null,null,null,null,null,null,null,null,null,null,null,null,null,null,"CF01 MILO (H)",1]
[null,null,null,null,null,null,null,null,null,null,null,null,null,null,null,null,null,null,null,null,null,null,null,null,null,null,null,null,null,null,null,null,null,null,null,null,null,null,null,null,null,null,null,null,null,null,null,null,null,null,null,null,null,null,null,null,null,null,null,null,null,null,null,null,null,null,null,null,null,null,null,null,null,null,null,null,null,null,null,null,null,null,null,null,null,null,null,null,"CF07 HONEY (H)",3]
[null,null,null,null,null,null,null,null,null,null,null,null,null,null,null,null,null,null,null,null,null,null,null,null,null,null,null,null,null,null,null,null,null,null,null,null,null,null,null,null,null,null,null,null,null,null,null,null,null,null,null,null,null,null,null,null,null,null,null,null,null,null,null,null,null,null,null,null,null,null,null,null,null,null,null,null,null,null,null,null,null,null,null,null,null,null,null,null,"CF08 LEMON HONEY (H)",2]
[null,null,null,null,null,null,null,null,null,null,null,null,null,null,null,null,null,null,null,null,null,null,null,null,null,null,null,null,null,null,null,null,null,null,null,null,null,null,null,null,null,null,null,null,null,null,null,null,null,null,null,null,null,null,null,null,null,null,null,null,null,null,null,null,null,null,null,null,null,null,null,null,null,null,null,null,null,null,null,null,null,null,null,null,null,null,null,null,"CF09 CAPPUCCINO (H)",2]
[null,null,null,null,null,null,null,null,null,null,null,null,null,null,null,null,null,null,null,null,null,null,null,null,null,null,null,null,null,null,null,null,null,null,null,null,null,null,null,null,null,null,null,null,null,null,null,null,null,null,null,null,null,null,null,null,null,null,null,null,null,null,null,null,null,null,null,null,null,null,null,null,null,null,null,null,null,null,null,null,null,null,null,null,null,null,null,null,"CF10 CHOCOLATE (H)",2]
[null,null,null,null,null,null,null,null,null,null,null,null,null,null,null,null,null,null,null,null,null,null,null,null,null,null,null,null,null,null,null,null,null,null,null,null,null,null,null,null,null,null,null,null,null,null,null,null,null,null,null,null,null,null,null,null,null,null,null,null,null,null,null,null,null,null,null,null,null,null,null,null,null,null,null,null,null,null,null,null,null,null,null,null,null,null,null,null,"CG01 MINERAL WATER"]
[null,null,null,null,null,null,null,null,null,null,null,null,null,null,null,null,null,null,null,null,null,null,null,null,null,null,null,null,null,null,null,null,null,null,null,null,null,null,null,null,null,null,null,null,null,null,null,null,null,null,null,null,null,null,null,null,null,null,null,null,null,null,null,null,null,null,null,null,null,null,null,null,null,null,null,null,null,null,null,null,null,null,null,null,null,null,null,null,"CH01 7 UP JUG"]
[null,null,null,null,null,null,null,null,null,null,null,null,null,null,null,null,null,null,null,null,null,null,null,null,null,null,null,null,null,null,null,null,null,null,null,null,null,null,null,null,null,null,null,null,null,null,null,null,null,null,null,null,null,null,null,null,null,null,null,null,null,null,null,null,null,null,null,null,null,null,null,null,null,null,null,null,null,null,null,null,null,null,null,null,null,null,null,null,"CH02 GRN TEA JUG"]
[null,null,null,null,null,null,null,null,null,null,null,null,null,null,null,null,null,null,null,null,null,null,null,null,null,null,null,null,null,null,null,null,null,null,null,null,null,null,null,null,null,null,null,null,null,null,null,null,null,null,null,null,null,null,null,null,null,null,null,null,null,null,null,null,null,null,null,null,null,null,null,null,null,null,null,null,null,null,null,null,null,null,null,null,null,null,null,null,"CH03 PEPSI JUG"]
[null,null,null,null,null,null,null,null,null,null,null,null,null,null,null,null,null,null,null,null,null,null,null,null,null,null,null,null,null,null,null,null,null,null,null,null,null,null,null,null,null,null,null,null,null,null,null,null,null,null,null,null,null,null,null,null,null,null,null,null,null,null,null,null,null,null,null,null,null,null,null,null,null,null,null,null,null,null,null,null,null,null,null,null,null,null,null,null,"CH06 WATER JUG",4]
[null,null,null,null,null,null,null,null,null,null,null,null,null,null,null,null,null,null,null,null,null,null,null,null,null,null,null,null,null,null,null,null,null,null,null,null,null,null,null,null,null,null,null,null,null,null,null,null,null,null,null,null,null,null,null,null,null,null,null,null,null,null,null,null,null,null,null,null,null,null,null,null,null,null,null,null,null,null,null,null,null,null,null,null,null,null,null,null,"CI01 GRAPE J",407]
[null,null,null,null,null,null,null,null,null,null,null,null,null,null,null,null,null,null,null,null,null,null,null,null,null,null,null,null,null,null,null,null,null,null,null,null,null,null,null,null,null,null,null,null,null,null,null,null,null,null,null,null,null,null,null,null,null,null,null,null,null,null,null,null,null,null,null,null,null,null,null,null,null,null,null,null,null,null,null,null,null,null,null,null,null,null,null,null,"CI02 APPLE J",618]
[null,null,null,null,null,null,null,null,null,null,null,null,null,null,null,null,null,null,null,null,null,null,null,null,null,null,null,null,null,null,null,null,null,null,null,null,null,null,null,null,null,null,null,null,null,null,null,null,null,null,null,null,null,null,null,null,null,null,null,null,null,null,null,null,null,null,null,null,null,null,null,null,null,null,null,null,null,null,null,null,null,null,null,null,null,null,null,null,"CI04 MANGO J",749]
[null,null,null,null,null,null,null,null,null,null,null,null,null,null,null,null,null,null,null,null,null,null,null,null,null,null,null,null,null,null,null,null,null,null,null,null,null,null,null,null,null,null,null,null,null,null,null,null,null,null,null,null,null,null,null,null,null,null,null,null,null,null,null,null,null,null,null,null,null,null,null,null,null,null,null,null,null,null,null,null,null,null,null,null,null,null,null,null,"CI05 PASSION J",1209]
[null,null,null,null,null,null,null,null,null,null,null,null,null,null,null,null,null,null,null,null,null,null,null,null,null,null,null,null,null,null,null,null,null,null,null,null,null,null,null,null,null,null,null,null,null,null,null,null,null,null,null,null,null,null,null,null,null,null,null,null,null,null,null,null,null,null,null,null,null,null,null,null,null,null,null,null,null,null,null,null,null,null,null,null,null,null,null,null,"CI06 RIBENA J",1732]
[null,null,null,null,null,null,null,null,null,null,null,null,null,null,null,null,null,null,null,null,null,null,null,null,null,null,null,null,null,null,null,null,null,null,null,null,null,null,null,null,null,null,null,null,null,null,null,null,null,null,null,null,null,null,null,null,null,null,null,null,null,null,null,null,null,null,null,null,null,null,null,null,null,null,null,null,null,null,null,null,null,null,null,null,null,null,null,null,"CJ01 GRAPE SO",41]
[null,null,null,null,null,null,null,null,null,null,null,null,null,null,null,null,null,null,null,null,null,null,null,null,null,null,null,null,null,null,null,null,null,null,null,null,null,null,null,null,null,null,null,null,null,null,null,null,null,null,null,null,null,null,null,null,null,null,null,null,null,null,null,null,null,null,null,null,null,null,null,null,null,null,null,null,null,null,null,null,null,null,null,null,null,null,null,null,"CJ02 APPLE SO",40]
[null,null,null,null,null,null,null,null,null,null,null,null,null,null,null,null,null,null,null,null,null,null,null,null,null,null,null,null,null,null,null,null,null,null,null,null,null,null,null,null,null,null,null,null,null,null,null,null,null,null,null,null,null,null,null,null,null,null,null,null,null,null,null,null,null,null,null,null,null,null,null,null,null,null,null,null,null,null,null,null,null,null,null,null,null,null,null,null,"CJ04 MANGO SO",21]
[null,null,null,null,null,null,null,null,null,null,null,null,null,null,null,null,null,null,null,null,null,null,null,null,null,null,null,null,null,null,null,null,null,null,null,null,null,null,null,null,null,null,null,null,null,null,null,null,null,null,null,null,null,null,null,null,null,null,null,null,null,null,null,null,null,null,null,null,null,null,null,null,null,null,null,null,null,null,null,null,null,null,null,null,null,null,null,null,"CJ05 PASSION SO",31]
[null,null,null,null,null,null,null,null,null,null,null,null,null,null,null,null,null,null,null,null,null,null,null,null,null,null,null,null,null,null,null,null,null,null,null,null,null,null,null,null,null,null,null,null,null,null,null,null,null,null,null,null,null,null,null,null,null,null,null,null,null,null,null,null,null,null,null,null,null,null,null,null,null,null,null,null,null,null,null,null,null,null,null,null,null,null,null,null,"CJ06 RIBENA SO",107]
[null,null,null,null,null,null,null,null,null,null,null,null,null,null,null,null,null,null,null,null,null,null,null,null,null,null,null,null,null,null,null,null,null,null,null,null,null,null,null,null,null,null,null,null,null,null,null,null,null,null,null,null,null,null,null,null,null,null,null,null,null,null,null,null,null,null,null,null,null,null,null,null,null,null,null,null,null,null,null,null,null,null,null,null,null,null,null,null,"CL01 7 UP",459]
[null,null,null,null,null,null,null,null,null,null,null,null,null,null,null,null,null,null,null,null,null,null,null,null,null,null,null,null,null,null,null,null,null,null,null,null,null,null,null,null,null,null,null,null,null,null,null,null,null,null,null,null,null,null,null,null,null,null,null,null,null,null,null,null,null,null,null,null,null,null,null,null,null,null,null,null,null,null,null,null,null,null,null,null,null,null,null,null,"CL02 7 UP REVIVE",92]
[null,null,null,null,null,null,null,null,null,null,null,null,null,null,null,null,null,null,null,null,null,null,null,null,null,null,null,null,null,null,null,null,null,null,null,null,null,null,null,null,null,null,null,null,null,null,null,null,null,null,null,null,null,null,null,null,null,null,null,null,null,null,null,null,null,null,null,null,null,null,null,null,null,null,null,null,null,null,null,null,null,null,null,null,null,null,null,null,"CL03 PEPSI",1461]
[null,null,null,null,null,null,null,null,null,null,null,null,null,null,null,null,null,null,null,null,null,null,null,null,null,null,null,null,null,null,null,null,null,null,null,null,null,null,null,null,null,null,null,null,null,null,null,null,null,null,null,null,null,null,null,null,null,null,null,null,null,null,null,null,null,null,null,null,null,null,null,null,null,null,null,null,null,null,null,null,null,null,null,null,null,null,null,null,"CM01 MILO (C)",1403]
[null,null,null,null,null,null,null,null,null,null,null,null,null,null,null,null,null,null,null,null,null,null,null,null,null,null,null,null,null,null,null,null,null,null,null,null,null,null,null,null,null,null,null,null,null,null,null,null,null,null,null,null,null,null,null,null,null,null,null,null,null,null,null,null,null,null,null,null,null,null,null,null,null,null,null,null,null,null,null,null,null,null,null,null,null,null,null,null,"CM02 NESCAFE (C)",412]
[null,null,null,null,null,null,null,null,null,null,null,null,null,null,null,null,null,null,null,null,null,null,null,null,null,null,null,null,null,null,null,null,null,null,null,null,null,null,null,null,null,null,null,null,null,null,null,null,null,null,null,null,null,null,null,null,null,null,null,null,null,null,null,null,null,null,null,null,null,null,null,null,null,null,null,null,null,null,null,null,null,null,null,null,null,null,null,null,"CM03 TEA (C)",144]
[null,null,null,null,null,null,null,null,null,null,null,null,null,null,null,null,null,null,null,null,null,null,null,null,null,null,null,null,null,null,null,null,null,null,null,null,null,null,null,null,null,null,null,null,null,null,null,null,null,null,null,null,null,null,null,null,null,null,null,null,null,null,null,null,null,null,null,null,null,null,null,null,null,null,null,null,null,null,null,null,null,null,null,null,null,null,null,null,"CM04 LEMON TEA (C)",1879]
[null,null,null,null,null,null,null,null,null,null,null,null,null,null,null,null,null,null,null,null,null,null,null,null,null,null,null,null,null,null,null,null,null,null,null,null,null,null,null,null,null,null,null,null,null,null,null,null,null,null,null,null,null,null,null,null,null,null,null,null,null,null,null,null,null,null,null,null,null,null,null,null,null,null,null,null,null,null,null,null,null,null,null,null,null,null,null,null,"CM05 GRN TEA (C)",1293]
[null,null,null,null,null,null,null,null,null,null,null,null,null,null,null,null,null,null,null,null,null,null,null,null,null,null,null,null,null,null,null,null,null,null,null,null,null,null,null,null,null,null,null,null,null,null,null,null,null,null,null,null,null,null,null,null,null,null,null,null,null,null,null,null,null,null,null,null,null,null,null,null,null,null,null,null,null,null,null,null,null,null,null,null,null,null,null,null,"CM06 HNY GRN TEA (C)",2405]
[null,null,null,null,null,null,null,null,null,null,null,null,null,null,null,null,null,null,null,null,null,null,null,null,null,null,null,null,null,null,null,null,null,null,null,null,null,null,null,null,null,null,null,null,null,null,null,null,null,null,null,null,null,null,null,null,null,null,null,null,null,null,null,null,null,null,null,null,null,null,null,null,null,null,null,null,null,null,null,null,null,null,null,null,null,null,null,null,"CM07 HONEY (C)",576]
[null,null,null,null,null,null,null,null,null,null,null,null,null,null,null,null,null,null,null,null,null,null,null,null,null,null,null,null,null,null,null,null,null,null,null,null,null,null,null,null,null,null,null,null,null,null,null,null,null,null,null,null,null,null,null,null,null,null,null,null,null,null,null,null,null,null,null,null,null,null,null,null,null,null,null,null,null,null,null,null,null,null,null,null,null,null,null,null,"CM08 LEMON HONEY (C)",3968]
[null,null,null,null,null,null,null,null,null,null,null,null,null,null,null,null,null,null,null,null,null,null,null,null,null,null,null,null,null,null,null,null,null,null,null,null,null,null,null,null,null,null,null,null,null,null,null,null,null,null,null,null,null,null,null,null,null,null,null,null,null,null,null,null,null,null,null,null,null,null,null,null,null,null,null,null,null,null,null,null,null,null,null,null,null,null,null,null,"CN01 MILO (H)",1297]
[null,null,null,null,null,null,null,null,null,null,null,null,null,null,null,null,null,null,null,null,null,null,null,null,null,null,null,null,null,null,null,null,null,null,null,null,null,null,null,null,null,null,null,null,null,null,null,null,null,null,null,null,null,null,null,null,null,null,null,null,null,null,null,null,null,null,null,null,null,null,null,null,null,null,null,null,null,null,null,null,null,null,null,null,null,null,null,null,"CN02 NESCAFE (H)",457]
[null,null,null,null,null,null,null,null,null,null,null,null,null,null,null,null,null,null,null,null,null,null,null,null,null,null,null,null,null,null,null,null,null,null,null,null,null,null,null,null,null,null,null,null,null,null,null,null,null,null,null,null,null,null,null,null,null,null,null,null,null,null,null,null,null,null,null,null,null,null,null,null,null,null,null,null,null,null,null,null,null,null,null,null,null,null,null,null,"CN03 TEA (H)",144]
[null,null,null,null,null,null,null,null,null,null,null,null,null,null,null,null,null,null,null,null,null,null,null,null,null,null,null,null,null,null,null,null,null,null,null,null,null,null,null,null,null,null,null,null,null,null,null,null,null,null,null,null,null,null,null,null,null,null,null,null,null,null,null,null,null,null,null,null,null,null,null,null,null,null,null,null,null,null,null,null,null,null,null,null,null,null,null,null,"CN04 LEMON TEA (H)",358]
[null,null,null,null,null,null,null,null,null,null,null,null,null,null,null,null,null,null,null,null,null,null,null,null,null,null,null,null,null,null,null,null,null,null,null,null,null,null,null,null,null,null,null,null,null,null,null,null,null,null,null,null,null,null,null,null,null,null,null,null,null,null,null,null,null,null,null,null,null,null,null,null,null,null,null,null,null,null,null,null,null,null,null,null,null,null,null,null,"CN05 GRN TEA (H)",679]
[null,null,null,null,null,null,null,null,null,null,null,null,null,null,null,null,null,null,null,null,null,null,null,null,null,null,null,null,null,null,null,null,null,null,null,null,null,null,null,null,null,null,null,null,null,null,null,null,null,null,null,null,null,null,null,null,null,null,null,null,null,null,null,null,null,null,null,null,null,null,null,null,null,null,null,null,null,null,null,null,null,null,null,null,null,null,null,null,"CN06 HNY GRN TEA (H)",1345]
[null,null,null,null,null,null,null,null,null,null,null,null,null,null,null,null,null,null,null,null,null,null,null,null,null,null,null,null,null,null,null,null,null,null,null,null,null,null,null,null,null,null,null,null,null,null,null,null,null,null,null,null,null,null,null,null,null,null,null,null,null,null,null,null,null,null,null,null,null,null,null,null,null,null,null,null,null,null,null,null,null,null,null,null,null,null,null,null,"CN07 HONEY (H)",646]
[null,null,null,null,null,null,null,null,null,null,null,null,null,null,null,null,null,null,null,null,null,null,null,null,null,null,null,null,null,null,null,null,null,null,null,null,null,null,null,null,null,null,null,null,null,null,null,null,null,null,null,null,null,null,null,null,null,null,null,null,null,null,null,null,null,null,null,null,null,null,null,null,null,null,null,null,null,null,null,null,null,null,null,null,null,null,null,null,"CN08 LEMON HONEY (H)",3840]
[null,null,null,null,null,null,null,null,null,null,null,null,null,null,null,null,null,null,null,null,null,null,null,null,null,null,null,null,null,null,null,null,null,null,null,null,null,null,null,null,null,null,null,null,null,null,null,null,null,null,null,null,null,null,null,null,null,null,null,null,null,null,null,null,null,null,null,null,null,null,null,null,null,null,null,null,null,null,null,null,null,null,null,null,null,null,null,null,"CN12 CHAMOMILE (H)",224]
[null,null,null,null,null,null,null,null,null,null,null,null,null,null,null,null,null,null,null,null,null,null,null,null,null,null,null,null,null,null,null,null,null,null,null,null,null,null,null,null,null,null,null,null,null,null,null,null,null,null,null,null,null,null,null,null,null,null,null,null,null,null,null,null,null,null,null,null,null,null,null,null,null,null,null,null,null,null,null,null,null,null,null,null,null,null,null,null,"CN13 DARJEELING (H)",47]
[null,null,null,null,null,null,null,null,null,null,null,null,null,null,null,null,null,null,null,null,null,null,null,null,null,null,null,null,null,null,null,null,null,null,null,null,null,null,null,null,null,null,null,null,null,null,null,null,null,null,null,null,null,null,null,null,null,null,null,null,null,null,null,null,null,null,null,null,null,null,null,null,null,null,null,null,null,null,null,null,null,null,null,null,null,null,null,null,"CN14 EARL GREY (H)",135]
[null,null,null,null,null,null,null,null,null,null,null,null,null,null,null,null,null,null,null,null,null,null,null,null,null,null,null,null,null,null,null,null,null,null,null,null,null,null,null,null,null,null,null,null,null,null,null,null,null,null,null,null,null,null,null,null,null,null,null,null,null,null,null,null,null,null,null,null,null,null,null,null,null,null,null,null,null,null,null,null,null,null,null,null,null,null,null,null,"CO02 PLAIN WATER",1511]
[null,null,null,null,null,null,null,null,null,null,null,null,null,null,null,null,null,null,null,null,null,null,null,null,null,null,null,null,null,null,null,null,null,null,null,null,null,null,null,null,null,null,null,null,null,null,null,null,null,null,null,null,null,null,null,null,null,null,null,null,null,null,null,null,null,null,null,null,null,null,null,null,null,null,null,null,null,null,null,null,null,null,null,null,null,null,null,null,"DB01 1001:BP CKN CP",72]
[null,null,null,null,null,null,null,null,null,null,null,null,null,null,null,null,null,null,null,null,null,null,null,null,null,null,null,null,null,null,null,null,null,null,null,null,null,null,null,null,null,null,null,null,null,null,null,null,null,null,null,null,null,null,null,null,null,null,null,null,null,null,null,null,null,null,null,null,null,null,null,null,null,null,null,null,null,null,null,null,null,null,null,null,null,null,null,null,"DB02 1002:GVY CHK CP",12]
[null,null,null,null,null,null,null,null,null,null,null,null,null,null,null,null,null,null,null,null,null,null,null,null,null,null,null,null,null,null,null,null,null,null,null,null,null,null,null,null,null,null,null,null,null,null,null,null,null,null,null,null,null,null,null,null,null,null,null,null,null,null,null,null,null,null,null,null,null,null,null,null,null,null,null,null,null,null,null,null,null,null,null,null,null,null,null,null,"DB03 1003:MSR CKN CP",43]
[null,null,null,null,null,null,null,null,null,null,null,null,null,null,null,null,null,null,null,null,null,null,null,null,null,null,null,null,null,null,null,null,null,null,null,null,null,null,null,null,null,null,null,null,null,null,null,null,null,null,null,null,null,null,null,null,null,null,null,null,null,null,null,null,null,null,null,null,null,null,null,null,null,null,null,null,null,null,null,null,null,null,null,null,null,null,null,null,"DB04 1004:CKN MARY",38]
[null,null,null,null,null,null,null,null,null,null,null,null,null,null,null,null,null,null,null,null,null,null,null,null,null,null,null,null,null,null,null,null,null,null,null,null,null,null,null,null,null,null,null,null,null,null,null,null,null,null,null,null,null,null,null,null,null,null,null,null,null,null,null,null,null,null,null,null,null,null,null,null,null,null,null,null,null,null,null,null,null,null,null,null,null,null,null,null,"DB05 1005:FISH&CHIP",61]
[null,null,null,null,null,null,null,null,null,null,null,null,null,null,null,null,null,null,null,null,null,null,null,null,null,null,null,null,null,null,null,null,null,null,null,null,null,null,null,null,null,null,null,null,null,null,null,null,null,null,null,null,null,null,null,null,null,null,null,null,null,null,null,null,null,null,null,null,null,null,null,null,null,null,null,null,null,null,null,null,null,null,null,null,null,null,null,null,"DB06 1006:SPAGHETTI",36]
[null,null,null,null,null,null,null,null,null,null,null,null,null,null,null,null,null,null,null,null,null,null,null,null,null,null,null,null,null,null,null,null,null,null,null,null,null,null,null,null,null,null,null,null,null,null,null,null,null,null,null,null,null,null,null,null,null,null,null,null,null,null,null,null,null,null,null,null,null,null,null,null,null,null,null,null,null,null,null,null,null,null,null,null,null,null,null,null,"DB07 1007:CHK SALAD",31]
[null,null,null,null,null,null,null,null,null,null,null,null,null,null,null,null,null,null,null,null,null,null,null,null,null,null,null,null,null,null,null,null,null,null,null,null,null,null,null,null,null,null,null,null,null,null,null,null,null,null,null,null,null,null,null,null,null,null,null,null,null,null,null,null,null,null,null,null,null,null,null,null,null,null,null,null,null,null,null,null,null,null,null,null,null,null,null,null,"DC01 1101:THAI CHK",85]
[null,null,null,null,null,null,null,null,null,null,null,null,null,null,null,null,null,null,null,null,null,null,null,null,null,null,null,null,null,null,null,null,null,null,null,null,null,null,null,null,null,null,null,null,null,null,null,null,null,null,null,null,null,null,null,null,null,null,null,null,null,null,null,null,null,null,null,null,null,null,null,null,null,null,null,null,null,null,null,null,null,null,null,null,null,null,null,null,"DC02 1102:MAMITE CHK",65]
[null,null,null,null,null,null,null,null,null,null,null,null,null,null,null,null,null,null,null,null,null,null,null,null,null,null,null,null,null,null,null,null,null,null,null,null,null,null,null,null,null,null,null,null,null,null,null,null,null,null,null,null,null,null,null,null,null,null,null,null,null,null,null,null,null,null,null,null,null,null,null,null,null,null,null,null,null,null,null,null,null,null,null,null,null,null,null,null,"DC03 1103:KO PO CHK",42]
[null,null,null,null,null,null,null,null,null,null,null,null,null,null,null,null,null,null,null,null,null,null,null,null,null,null,null,null,null,null,null,null,null,null,null,null,null,null,null,null,null,null,null,null,null,null,null,null,null,null,null,null,null,null,null,null,null,null,null,null,null,null,null,null,null,null,null,null,null,null,null,null,null,null,null,null,null,null,null,null,null,null,null,null,null,null,null,null,"DC04 1104:S&S CHK",22]
[null,null,null,null,null,null,null,null,null,null,null,null,null,null,null,null,null,null,null,null,null,null,null,null,null,null,null,null,null,null,null,null,null,null,null,null,null,null,null,null,null,null,null,null,null,null,null,null,null,null,null,null,null,null,null,null,null,null,null,null,null,null,null,null,null,null,null,null,null,null,null,null,null,null,null,null,null,null,null,null,null,null,null,null,null,null,null,null,"DC05 1105:BUTTER CHK",142]
[null,null,null,null,null,null,null,null,null,null,null,null,null,null,null,null,null,null,null,null,null,null,null,null,null,null,null,null,null,null,null,null,null,null,null,null,null,null,null,null,null,null,null,null,null,null,null,null,null,null,null,null,null,null,null,null,null,null,null,null,null,null,null,null,null,null,null,null,null,null,null,null,null,null,null,null,null,null,null,null,null,null,null,null,null,null,null,null,"DC06 1106:HK F.RICE",85]
[null,null,null,null,null,null,null,null,null,null,null,null,null,null,null,null,null,null,null,null,null,null,null,null,null,null,null,null,null,null,null,null,null,null,null,null,null,null,null,null,null,null,null,null,null,null,null,null,null,null,null,null,null,null,null,null,null,null,null,null,null,null,null,null,null,null,null,null,null,null,null,null,null,null,null,null,null,null,null,null,null,null,null,null,null,null,null,null,"DC07 1107:SBL F.RICE",58]
[null,null,null,null,null,null,null,null,null,null,null,null,null,null,null,null,null,null,null,null,null,null,null,null,null,null,null,null,null,null,null,null,null,null,null,null,null,null,null,null,null,null,null,null,null,null,null,null,null,null,null,null,null,null,null,null,null,null,null,null,null,null,null,null,null,null,null,null,null,null,null,null,null,null,null,null,null,null,null,null,null,null,null,null,null,null,null,null,"DC08 1108:SBL F.MEE",11]
[null,null,null,null,null,null,null,null,null,null,null,null,null,null,null,null,null,null,null,null,null,null,null,null,null,null,null,null,null,null,null,null,null,null,null,null,null,null,null,null,null,null,null,null,null,null,null,null,null,null,null,null,null,null,null,null,null,null,null,null,null,null,null,null,null,null,null,null,null,null,null,null,null,null,null,null,null,null,null,null,null,null,null,null,null,null,null,null,"DC09 1109:BP UDON",33]
[null,null,null,null,null,null,null,null,null,null,null,null,null,null,null,null,null,null,null,null,null,null,null,null,null,null,null,null,null,null,null,null,null,null,null,null,null,null,null,null,null,null,null,null,null,null,null,null,null,null,null,null,null,null,null,null,null,null,null,null,null,null,null,null,null,null,null,null,null,null,null,null,null,null,null,null,null,null,null,null,null,null,null,null,null,null,null,null,"DC10 1110:NISSIN",29]
[null,null,null,null,null,null,null,null,null,null,null,null,null,null,null,null,null,null,null,null,null,null,null,null,null,null,null,null,null,null,null,null,null,null,null,null,null,null,null,null,null,null,null,null,null,null,null,null,null,null,null,null,null,null,null,null,null,null,null,null,null,null,null,null,null,null,null,null,null,null,null,null,null,null,null,null,null,null,null,null,null,null,null,null,null,null,null,null,"DC11 1111:VEG RICE",5]
[null,null,null,null,null,null,null,null,null,null,null,null,null,null,null,null,null,null,null,null,null,null,null,null,null,null,null,null,null,null,null,null,null,null,null,null,null,null,null,null,null,null,null,null,null,null,null,null,null,null,null,null,null,null,null,null,null,null,null,null,null,null,null,null,null,null,null,null,null,null,null,null,null,null,null,null,null,null,null,null,null,null,null,null,null,null,null,null,"DC12 1112:NASI LEMAK",38]
[null,null,null,null,null,null,null,null,null,null,null,null,null,null,null,null,null,null,null,null,null,null,null,null,null,null,null,null,null,null,null,null,null,null,null,null,null,null,null,null,null,null,null,null,null,null,null,null,null,null,null,null,null,null,null,null,null,null,null,null,null,null,null,null,null,null,null,null,null,null,null,null,null,null,null,null,null,null,null,null,null,null,null,null,null,null,null,null,"DC13 1113:KUEY TEOW",52]
[null,null,null,null,null,null,null,null,null,null,null,null,null,null,null,null,null,null,null,null,null,null,null,null,null,null,null,null,null,null,null,null,null,null,null,null,null,null,null,null,null,null,null,null,null,null,null,null,null,null,null,null,null,null,null,null,null,null,null,null,null,null,null,null,null,null,null,null,null,null,null,null,null,null,null,null,null,null,null,null,null,null,null,null,null,null,null,null,"DC14 1114:F.BALL MEE",6]
[null,null,null,null,null,null,null,null,null,null,null,null,null,null,null,null,null,null,null,null,null,null,null,null,null,null,null,null,null,null,null,null,null,null,null,null,null,null,null,null,null,null,null,null,null,null,null,null,null,null,null,null,null,null,null,null,null,null,null,null,null,null,null,null,null,null,null,null,null,null,null,null,null,null,null,null,null,null,null,null,null,null,null,null,null,null,null,null,"DC15 1115:CHK NOODLE",19]
[null,null,null,null,null,null,null,null,null,null,null,null,null,null,null,null,null,null,null,null,null,null,null,null,null,null,null,null,null,null,null,null,null,null,null,null,null,null,null,null,null,null,null,null,null,null,null,null,null,null,null,null,null,null,null,null,null,null,null,null,null,null,null,null,null,null,null,null,null,null,null,null,null,null,null,null,null,null,null,null,null,null,null,null,null,null,null,null,"DD01 1201:SFD STICK",2]
[null,null,null,null,null,null,null,null,null,null,null,null,null,null,null,null,null,null,null,null,null,null,null,null,null,null,null,null,null,null,null,null,null,null,null,null,null,null,null,null,null,null,null,null,null,null,null,null,null,null,null,null,null,null,null,null,null,null,null,null,null,null,null,null,null,null,null,null,null,null,null,null,null,null,null,null,null,null,null,null,null,null,null,null,null,null,null,null,"DD02 1202:FREN FRIES",76]
[null,null,null,null,null,null,null,null,null,null,null,null,null,null,null,null,null,null,null,null,null,null,null,null,null,null,null,null,null,null,null,null,null,null,null,null,null,null,null,null,null,null,null,null,null,null,null,null,null,null,null,null,null,null,null,null,null,null,null,null,null,null,null,null,null,null,null,null,null,null,null,null,null,null,null,null,null,null,null,null,null,null,null,null,null,null,null,null,"DD03 1203:GOLD MROOM",10]
[null,null,null,null,null,null,null,null,null,null,null,null,null,null,null,null,null,null,null,null,null,null,null,null,null,null,null,null,null,null,null,null,null,null,null,null,null,null,null,null,null,null,null,null,null,null,null,null,null,null,null,null,null,null,null,null,null,null,null,null,null,null,null,null,null,null,null,null,null,null,null,null,null,null,null,null,null,null,null,null,null,null,null,null,null,null,null,null,"DD04 1204:FISHBALL",7]
[null,null,null,null,null,null,null,null,null,null,null,null,null,null,null,null,null,null,null,null,null,null,null,null,null,null,null,null,null,null,null,null,null,null,null,null,null,null,null,null,null,null,null,null,null,null,null,null,null,null,null,null,null,null,null,null,null,null,null,null,null,null,null,null,null,null,null,null,null,null,null,null,null,null,null,null,null,null,null,null,null,null,null,null,null,null,null,null,"DD05 1205:RAINBOW RL",3]
[null,null,null,null,null,null,null,null,null,null,null,null,null,null,null,null,null,null,null,null,null,null,null,null,null,null,null,null,null,null,null,null,null,null,null,null,null,null,null,null,null,null,null,null,null,null,null,null,null,null,null,null,null,null,null,null,null,null,null,null,null,null,null,null,null,null,null,null,null,null,null,null,null,null,null,null,null,null,null,null,null,null,null,null,null,null,null,null,"DD06 1206:SPRING RL",11]
[null,null,null,null,null,null,null,null,null,null,null,null,null,null,null,null,null,null,null,null,null,null,null,null,null,null,null,null,null,null,null,null,null,null,null,null,null,null,null,null,null,null,null,null,null,null,null,null,null,null,null,null,null,null,null,null,null,null,null,null,null,null,null,null,null,null,null,null,null,null,null,null,null,null,null,null,null,null,null,null,null,null,null,null,null,null,null,null,"DD07 1207:SAUSAGE",18]
[null,null,null,null,null,null,null,null,null,null,null,null,null,null,null,null,null,null,null,null,null,null,null,null,null,null,null,null,null,null,null,null,null,null,null,null,null,null,null,null,null,null,null,null,null,null,null,null,null,null,null,null,null,null,null,null,null,null,null,null,null,null,null,null,null,null,null,null,null,null,null,null,null,null,null,null,null,null,null,null,null,null,null,null,null,null,null,null,"DD10 1301:DUMPLING",4]
[null,null,null,null,null,null,null,null,null,null,null,null,null,null,null,null,null,null,null,null,null,null,null,null,null,null,null,null,null,null,null,null,null,null,null,null,null,null,null,null,null,null,null,null,null,null,null,null,null,null,null,null,null,null,null,null,null,null,null,null,null,null,null,null,null,null,null,null,null,null,null,null,null,null,null,null,null,null,null,null,null,null,null,null,null,null,null,null,"DD11 1302:NUGGET",23]
[null,null,null,null,null,null,null,null,null,null,null,null,null,null,null,null,null,null,null,null,null,null,null,null,null,null,null,null,null,null,null,null,null,null,null,null,null,null,null,null,null,null,null,null,null,null,null,null,null,null,null,null,null,null,null,null,null,null,null,null,null,null,null,null,null,null,null,null,null,null,null,null,null,null,null,null,null,null,null,null,null,null,null,null,null,null,null,null,"DD12 1303:CHK WING",49]
[null,null,null,null,null,null,null,null,null,null,null,null,null,null,null,null,null,null,null,null,null,null,null,null,null,null,null,null,null,null,null,null,null,null,null,null,null,null,null,null,null,null,null,null,null,null,null,null,null,null,null,null,null,null,null,null,null,null,null,null,null,null,null,null,null,null,null,null,null,null,null,null,null,null,null,null,null,null,null,null,null,null,null,null,null,null,null,null,"DD13 1304:IKAN BILIS",4]
[null,null,null,null,null,null,null,null,null,null,null,null,null,null,null,null,null,null,null,null,null,null,null,null,null,null,null,null,null,null,null,null,null,null,null,null,null,null,null,null,null,null,null,null,null,null,null,null,null,null,null,null,null,null,null,null,null,null,null,null,null,null,null,null,null,null,null,null,null,null,null,null,null,null,null,null,null,null,null,null,null,null,null,null,null,null,null,null,"DD14 1305:THAI RL",6]
[null,null,null,null,null,null,null,null,null,null,null,null,null,null,null,null,null,null,null,null,null,null,null,null,null,null,null,null,null,null,null,null,null,null,null,null,null,null,null,null,null,null,null,null,null,null,null,null,null,null,null,null,null,null,null,null,null,null,null,null,null,null,null,null,null,null,null,null,null,null,null,null,null,null,null,null,null,null,null,null,null,null,null,null,null,null,null,null,"DD16 McCain AlaCarte",63]
[null,null,null,null,null,null,null,null,null,null,null,null,null,null,null,null,null,null,null,null,null,null,null,null,null,null,null,null,null,null,null,null,null,null,null,null,null,null,null,null,null,null,null,null,null,null,null,null,null,null,null,null,null,null,null,null,null,null,null,null,null,null,null,null,null,null,null,null,null,null,null,null,null,null,null,null,null,null,null,null,null,null,null,null,null,null,null,null,"DD17 McCain Beer",28]
[null,null,null,null,null,null,null,null,null,null,null,null,null,null,null,null,null,null,null,null,null,null,null,null,null,null,null,null,null,null,null,null,null,null,null,null,null,null,null,null,null,null,null,null,null,null,null,null,null,null,null,null,null,null,null,null,null,null,null,null,null,null,null,null,null,null,null,null,null,null,null,null,null,null,null,null,null,null,null,null,null,null,null,null,null,null,null,null,"DE01 SET 990",205]
[null,null,null,null,null,null,null,null,null,null,null,null,null,null,null,null,null,null,null,null,null,null,null,null,null,null,null,null,null,null,null,null,null,null,null,null,null,null,null,null,null,null,null,null,null,null,null,null,null,null,null,null,null,null,null,null,null,null,null,null,null,null,null,null,null,null,null,null,null,null,null,null,null,null,null,null,null,null,null,null,null,null,null,null,null,null,null,null,"DE02 SET 1390",149]
[null,null,null,null,null,null,null,null,null,null,null,null,null,null,null,null,null,null,null,null,null,null,null,null,null,null,null,null,null,null,null,null,null,null,null,null,null,null,null,null,null,null,null,null,null,null,null,null,null,null,null,null,null,null,null,null,null,null,null,null,null,null,null,null,null,null,null,null,null,null,null,null,null,null,null,null,null,null,null,null,null,null,null,null,null,null,null,null,"DF01 ADD RICE",10]
[null,null,null,null,null,null,null,null,null,null,null,null,null,null,null,null,null,null,null,null,null,null,null,null,null,null,null,null,null,null,null,null,null,null,null,null,null,null,null,null,null,null,null,null,null,null,null,null,null,null,null,null,null,null,null,null,null,null,null,null,null,null,null,null,null,null,null,null,null,null,null,null,null,null,null,null,null,null,null,null,null,null,null,null,null,null,null,null,"DF02 ADD F.EGG",8]
[null,null,null,null,null,null,null,null,null,null,null,null,null,null,null,null,null,null,null,null,null,null,null,null,null,null,null,null,null,null,null,null,null,null,null,null,null,null,null,null,null,null,null,null,null,null,null,null,null,null,null,null,null,null,null,null,null,null,null,null,null,null,null,null,null,null,null,null,null,null,null,null,null,null,null,null,null,null,null,null,null,null,null,null,null,null,null,null,"DF03 ADD SAUCE 1000",13]
[null,null,null,null,null,null,null,null,null,null,null,null,null,null,null,null,null,null,null,null,null,null,null,null,null,null,null,null,null,null,null,null,null,null,null,null,null,null,null,null,null,null,null,null,null,null,null,null,null,null,null,null,null,null,null,null,null,null,null,null,null,null,null,null,null,null,null,null,null,null,null,null,null,null,null,null,null,null,null,null,null,null,null,null,null,null,null,null,"DF05 ADD SAUCE BP",8]
[null,null,null,null,null,null,null,null,null,null,null,null,null,null,null,null,null,null,null,null,null,null,null,null,null,null,null,null,null,null,null,null,null,null,null,null,null,null,null,null,null,null,null,null,null,null,null,null,null,null,null,null,null,null,null,null,null,null,null,null,null,null,null,null,null,null,null,null,null,null,null,null,null,null,null,null,null,null,null,null,null,null,null,null,null,null,null,null,"DF06 ADD SAUCE BUTTER",8]
[null,null,null,null,null,null,null,null,null,null,null,null,null,null,null,null,null,null,null,null,null,null,null,null,null,null,null,null,null,null,null,null,null,null,null,null,null,null,null,null,null,null,null,null,null,null,null,null,null,null,null,null,null,null,null,null,null,null,null,null,null,null,null,null,null,null,null,null,null,null,null,null,null,null,null,null,null,null,null,null,null,null,null,null,null,null,null,null,"DF07 ADD SAUCE C.PADI",67]
[null,null,null,null,null,null,null,null,null,null,null,null,null,null,null,null,null,null,null,null,null,null,null,null,null,null,null,null,null,null,null,null,null,null,null,null,null,null,null,null,null,null,null,null,null,null,null,null,null,null,null,null,null,null,null,null,null,null,null,null,null,null,null,null,null,null,null,null,null,null,null,null,null,null,null,null,null,null,null,null,null,null,null,null,null,null,null,null,"DF08 ADD SAUCE GS",1]
[null,null,null,null,null,null,null,null,null,null,null,null,null,null,null,null,null,null,null,null,null,null,null,null,null,null,null,null,null,null,null,null,null,null,null,null,null,null,null,null,null,null,null,null,null,null,null,null,null,null,null,null,null,null,null,null,null,null,null,null,null,null,null,null,null,null,null,null,null,null,null,null,null,null,null,null,null,null,null,null,null,null,null,null,null,null,null,null,"DF09 ADD SAUCE MAYO",79]
[null,null,null,null,null,null,null,null,null,null,null,null,null,null,null,null,null,null,null,null,null,null,null,null,null,null,null,null,null,null,null,null,null,null,null,null,null,null,null,null,null,null,null,null,null,null,null,null,null,null,null,null,null,null,null,null,null,null,null,null,null,null,null,null,null,null,null,null,null,null,null,null,null,null,null,null,null,null,null,null,null,null,null,null,null,null,null,null,"DF11 ADD SAUCE MR",9]
[null,null,null,null,null,null,null,null,null,null,null,null,null,null,null,null,null,null,null,null,null,null,null,null,null,null,null,null,null,null,null,null,null,null,null,null,null,null,null,null,null,null,null,null,null,null,null,null,null,null,null,null,null,null,null,null,null,null,null,null,null,null,null,null,null,null,null,null,null,null,null,null,null,null,null,null,null,null,null,null,null,null,null,null,null,null,null,null,"DF12 ADD SAUCE SAMBAL",25]
[null,null,null,null,null,null,null,null,null,null,null,null,null,null,null,null,null,null,null,null,null,null,null,null,null,null,null,null,null,null,null,null,null,null,null,null,null,null,null,null,null,null,null,null,null,null,null,null,null,null,null,null,null,null,null,null,null,null,null,null,null,null,null,null,null,null,null,null,null,null,null,null,null,null,null,null,null,null,null,null,null,null,null,null,null,null,null,null,"DF13 ADD SAUCE THAI",4]
[null,null,null,null,null,null,null,null,null,null,null,null,null,null,null,null,null,null,null,null,null,null,null,null,null,null,null,null,null,null,null,null,null,null,null,null,null,null,null,null,null,null,null,null,null,null,null,null,null,null,null,null,null,null,null,null,null,null,null,null,null,null,null,null,null,null,null,null,null,null,null,null,null,null,null,null,null,null,null,null,null,null,null,null,null,null,null,null,"DF14 ADD SAUCE TOMATO",36]
[null,null,null,null,null,null,null,null,null,null,null,null,null,null,null,null,null,null,null,null,null,null,null,null,null,null,null,null,null,null,null,null,null,null,null,null,null,null,null,null,null,null,null,null,null,null,null,null,null,null,null,null,null,null,null,null,null,null,null,null,null,null,null,null,null,null,null,null,null,null,null,null,null,null,null,null,null,null,null,null,null,null,null,null,null,null,null,null,"DF15 ADD TATA SAUCE",21]
[{"$f":"IFERROR(IF(INDIRECT($A$14&ROW())<>\"\",COUNTIF([1]Summary!$B$30:$B$1029,INDIRECT($A$14&ROW())),\"\"),\"\")","v":""},null,null,null,null,null,null,null,null,null,null,null,null,null,null,null,null,null,null,null,null,null,null,null,null,null,null,null,null,null,null,null,null,null,null,null,null,null,null,null,null,null,null,null,null,null,null,null,null,null,null,null,null,null,null,null,null,null,null,null,null,null,null,null,null,null,null,null,null,null,null,null,null,null,null,null,null,null,null,null,null,null,null,null,null,null,null,null,"DF16 ADD SAUCE CHEES",4]
[{"$f":"IFERROR(IF(INDIRECT($A$14&ROW())<>\"\",COUNTIF([1]Summary!$B$30:$B$1029,INDIRECT($A$14&ROW())),\"\"),\"\")","v":""},null,null,null,null,null,null,null,null,null,null,null,null,null,null,null,null,null,null,null,null,null,null,null,null,null,null,null,null,null,null,null,null,null,null,null,null,null,null,null,null,null,null,null,null,null,null,null,null,null,null,null,null,null,null,null,null,null,null,null,null,null,null,null,null,null,null,null,null,null,null,null,null,null,null,null,null,null,null,null,null,null,null,null,null,null,null,null,"DG01 91001:BP CHK CP",457]
[{"$f":"IFERROR(IF(INDIRECT($A$14&ROW())<>\"\",COUNTIF([1]Summary!$B$30:$B$1029,INDIRECT($A$14&ROW())),\"\"),\"\")","v":""},null,null,null,null,null,null,null,null,null,null,null,null,null,null,null,null,null,null,null,null,null,null,null,null,null,null,null,null,null,null,null,null,null,null,null,null,null,null,null,null,null,null,null,null,null,null,null,null,null,null,null,null,null,null,null,null,null,null,null,null,null,null,null,null,null,null,null,null,null,null,null,null,null,null,null,null,null,null,null,null,null,null,null,null,null,null,null,"DG02 91002:GVY CHK CP",110]
[{"$f":"IFERROR(IF(INDIRECT($A$14&ROW())<>\"\",COUNTIF([1]Summary!$B$30:$B$1029,INDIRECT($A$14&ROW())),\"\"),\"\")","v":""},null,null,null,null,null,null,null,null,null,null,null,null,null,null,null,null,null,null,null,null,null,null,null,null,null,null,null,null,null,null,null,null,null,null,null,null,null,null,null,null,null,null,null,null,null,null,null,null,null,null,null,null,null,null,null,null,null,null,null,null,null,null,null,null,null,null,null,null,null,null,null,null,null,null,null,null,null,null,null,null,null,null,null,null,null,null,null,"DG03 91003:MSR CHK CP",399]
[{"$f":"IFERROR(IF(INDIRECT($A$14&ROW())<>\"\",COUNTIF([1]Summary!$B$30:$B$1029,INDIRECT($A$14&ROW())),\"\"),\"\")","v":""},null,null,null,null,null,null,null,null,null,null,null,null,null,null,null,null,null,null,null,null,null,null,null,null,null,null,null,null,null,null,null,null,null,null,null,null,null,null,null,null,null,null,null,null,null,null,null,null,null,null,null,null,null,null,null,null,null,null,null,null,null,null,null,null,null,null,null,null,null,null,null,null,null,null,null,null,null,null,null,null,null,null,null,null,null,null,null,"DG04 91004:CKN MARY",299]
[{"$f":"IFERROR(IF(INDIRECT($A$14&ROW())<>\"\",COUNTIF([1]Summary!$B$30:$B$1029,INDIRECT($A$14&ROW())),\"\"),\"\")","v":""},null,null,null,null,null,null,null,null,null,null,null,null,null,null,null,null,null,null,null,null,null,null,null,null,null,null,null,null,null,null,null,null,null,null,null,null,null,null,null,null,null,null,null,null,null,null,null,null,null,null,null,null,null,null,null,null,null,null,null,null,null,null,null,null,null,null,null,null,null,null,null,null,null,null,null,null,null,null,null,null,null,null,null,null,null,null,null,"DG05 91005:FISH&CHIP",518]
[{"$f":"IFERROR(IF(INDIRECT($A$14&ROW())<>\"\",COUNTIF([1]Summary!$B$30:$B$1029,INDIRECT($A$14&ROW())),\"\"),\"\")","v":""},null,null,null,null,null,null,null,null,null,null,null,null,null,null,null,null,null,null,null,null,null,null,null,null,null,null,null,null,null,null,null,null,null,null,null,null,null,null,null,null,null,null,null,null,null,null,null,null,null,null,null,null,null,null,null,null,null,null,null,null,null,null,null,null,null,null,null,null,null,null,null,null,null,null,null,null,null,null,null,null,null,null,null,null,null,null,null,"DG06 91006:SPAGHETTI",201]
[{"$f":"IFERROR(IF(INDIRECT($A$14&ROW())<>\"\",COUNTIF([1]Summary!$B$30:$B$1029,INDIRECT($A$14&ROW())),\"\"),\"\")","v":""},null,null,null,null,null,null,null,null,null,null,null,null,null,null,null,null,null,null,null,null,null,null,null,null,null,null,null,null,null,null,null,null,null,null,null,null,null,null,null,null,null,null,null,null,null,null,null,null,null,null,null,null,null,null,null,null,null,null,null,null,null,null,null,null,null,null,null,null,null,null,null,null,null,null,null,null,null,null,null,null,null,null,null,null,null,null,null,"DG07 91007:CHK SALAD",126]
[{"$f":"IFERROR(IF(INDIRECT($A$14&ROW())<>\"\",COUNTIF([1]Summary!$B$30:$B$1029,INDIRECT($A$14&ROW())),\"\"),\"\")","v":""},null,null,null,null,null,null,null,null,null,null,null,null,null,null,null,null,null,null,null,null,null,null,null,null,null,null,null,null,null,null,null,null,null,null,null,null,null,null,null,null,null,null,null,null,null,null,null,null,null,null,null,null,null,null,null,null,null,null,null,null,null,null,null,null,null,null,null,null,null,null,null,null,null,null,null,null,null,null,null,null,null,null,null,null,null,null,null,"DH01 91101:THAI CHK",205]
[{"$f":"IFERROR(IF(INDIRECT($A$14&ROW())<>\"\",COUNTIF([1]Summary!$B$30:$B$1029,INDIRECT($A$14&ROW())),\"\"),\"\")","v":""},null,null,null,null,null,null,null,null,null,null,null,null,null,null,null,null,null,null,null,null,null,null,null,null,null,null,null,null,null,null,null,null,null,null,null,null,null,null,null,null,null,null,null,null,null,null,null,null,null,null,null,null,null,null,null,null,null,null,null,null,null,null,null,null,null,null,null,null,null,null,null,null,null,null,null,null,null,null,null,null,null,null,null,null,null,null,null,"DH02 91102:MAMITE CHK",176]
[{"$f":"IFERROR(IF(INDIRECT($A$14&ROW())<>\"\",COUNTIF([1]Summary!$B$30:$B$1029,INDIRECT($A$14&ROW())),\"\"),\"\")","v":""},null,null,null,null,null,null,null,null,null,null,null,null,null,null,null,null,null,null,null,null,null,null,null,null,null,null,null,null,null,null,null,null,null,null,null,null,null,null,null,null,null,null,null,null,null,null,null,null,null,null,null,null,null,null,null,null,null,null,null,null,null,null,null,null,null,null,null,null,null,null,null,null,null,null,null,null,null,null,null,null,null,null,null,null,null,null,null,"DH03 91103:KO PO CHK",81]
[{"$f":"IFERROR(IF(INDIRECT($A$14&ROW())<>\"\",COUNTIF([1]Summary!$B$30:$B$1029,INDIRECT($A$14&ROW())),\"\"),\"\")","v":""},null,null,null,null,null,null,null,null,null,null,null,null,null,null,null,null,null,null,null,null,null,null,null,null,null,null,null,null,null,null,null,null,null,null,null,null,null,null,null,null,null,null,null,null,null,null,null,null,null,null,null,null,null,null,null,null,null,null,null,null,null,null,null,null,null,null,null,null,null,null,null,null,null,null,null,null,null,null,null,null,null,null,null,null,null,null,null,"DH04 91104:S&S CHK",69]
[{"$f":"IFERROR(IF(INDIRECT($A$14&ROW())<>\"\",COUNTIF([1]Summary!$B$30:$B$1029,INDIRECT($A$14&ROW())),\"\"),\"\")","v":""},null,null,null,null,null,null,null,null,null,null,null,null,null,null,null,null,null,null,null,null,null,null,null,null,null,null,null,null,null,null,null,null,null,null,null,null,null,null,null,null,null,null,null,null,null,null,null,null,null,null,null,null,null,null,null,null,null,null,null,null,null,null,null,null,null,null,null,null,null,null,null,null,null,null,null,null,null,null,null,null,null,null,null,null,null,null,null,"DH05 91105:BUTTER CHK",317]
[{"$f":"IFERROR(IF(INDIRECT($A$14&ROW())<>\"\",COUNTIF([1]Summary!$B$30:$B$1029,INDIRECT($A$14&ROW())),\"\"),\"\")","v":""},null,null,null,null,null,null,null,null,null,null,null,null,null,null,null,null,null,null,null,null,null,null,null,null,null,null,null,null,null,null,null,null,null,null,null,null,null,null,null,null,null,null,null,null,null,null,null,null,null,null,null,null,null,null,null,null,null,null,null,null,null,null,null,null,null,null,null,null,null,null,null,null,null,null,null,null,null,null,null,null,null,null,null,null,null,null,null,"DH06 91106:HK F.RICE",140]
[{"$f":"IFERROR(IF(INDIRECT($A$14&ROW())<>\"\",COUNTIF([1]Summary!$B$30:$B$1029,INDIRECT($A$14&ROW())),\"\"),\"\")","v":""},null,null,null,null,null,null,null,null,null,null,null,null,null,null,null,null,null,null,null,null,null,null,null,null,null,null,null,null,null,null,null,null,null,null,null,null,null,null,null,null,null,null,null,null,null,null,null,null,null,null,null,null,null,null,null,null,null,null,null,null,null,null,null,null,null,null,null,null,null,null,null,null,null,null,null,null,null,null,null,null,null,null,null,null,null,null,null,"DH07 91107:SBL F.RICE",114]
[{"$f":"IFERROR(IF(INDIRECT($A$14&ROW())<>\"\",COUNTIF([1]Summary!$B$30:$B$1029,INDIRECT($A$14&ROW())),\"\"),\"\")","v":""},null,null,null,null,null,null,null,null,null,null,null,null,null,null,null,null,null,null,null,null,null,null,null,null,null,null,null,null,null,null,null,null,null,null,null,null,null,null,null,null,null,null,null,null,null,null,null,null,null,null,null,null,null,null,null,null,null,null,null,null,null,null,null,null,null,null,null,null,null,null,null,null,null,null,null,null,null,null,null,null,null,null,null,null,null,null,null,"DH08 91108:SBL F.MEE",26]
[{"$f":"IFERROR(IF(INDIRECT($A$14&ROW())<>\"\",COUNTIF([1]Summary!$B$30:$B$1029,INDIRECT($A$14&ROW())),\"\"),\"\")","v":""},null,null,null,null,null,null,null,null,null,null,null,null,null,null,null,null,null,null,null,null,null,null,null,null,null,null,null,null,null,null,null,null,null,null,null,null,null,null,null,null,null,null,null,null,null,null,null,null,null,null,null,null,null,null,null,null,null,null,null,null,null,null,null,null,null,null,null,null,null,null,null,null,null,null,null,null,null,null,null,null,null,null,null,null,null,null,null,"DH09 91109:BP UDON",58]
[{"$f":"IFERROR(IF(INDIRECT($A$14&ROW())<>\"\",COUNTIF([1]Summary!$B$30:$B$1029,INDIRECT($A$14&ROW())),\"\"),\"\")","v":""},null,null,null,null,null,null,null,null,null,null,null,null,null,null,null,null,null,null,null,null,null,null,null,null,null,null,null,null,null,null,null,null,null,null,null,null,null,null,null,null,null,null,null,null,null,null,null,null,null,null,null,null,null,null,null,null,null,null,null,null,null,null,null,null,null,null,null,null,null,null,null,null,null,null,null,null,null,null,null,null,null,null,null,null,null,null,null,"DH10 91110:NISSIN",52]
[{"$f":"IFERROR(IF(INDIRECT($A$14&ROW())<>\"\",COUNTIF([1]Summary!$B$30:$B$1029,INDIRECT($A$14&ROW())),\"\"),\"\")","v":""},null,null,null,null,null,null,null,null,null,null,null,null,null,null,null,null,null,null,null,null,null,null,null,null,null,null,null,null,null,null,null,null,null,null,null,null,null,null,null,null,null,null,null,null,null,null,null,null,null,null,null,null,null,null,null,null,null,null,null,null,null,null,null,null,null,null,null,null,null,null,null,null,null,null,null,null,null,null,null,null,null,null,null,null,null,null,null,"DH11 91111:VEG RICE",27]
[{"$f":"IFERROR(IF(INDIRECT($A$14&ROW())<>\"\",COUNTIF([1]Summary!$B$30:$B$1029,INDIRECT($A$14&ROW())),\"\"),\"\")","v":""},null,null,null,null,null,null,null,null,null,null,null,null,null,null,null,null,null,null,null,null,null,null,null,null,null,null,null,null,null,null,null,null,null,null,null,null,null,null,null,null,null,null,null,null,null,null,null,null,null,null,null,null,null,null,null,null,null,null,null,null,null,null,null,null,null,null,null,null,null,null,null,null,null,null,null,null,null,null,null,null,null,null,null,null,null,null,null,"DH12 91112:NASI LEMAK",81]
[{"$f":"IFERROR(IF(INDIRECT($A$14&ROW())<>\"\",COUNTIF([1]Summary!$B$30:$B$1029,INDIRECT($A$14&ROW())),\"\"),\"\")","v":""},null,null,null,null,null,null,null,null,null,null,null,null,null,null,null,null,null,null,null,null,null,null,null,null,null,null,null,null,null,null,null,null,null,null,null,null,null,null,null,null,null,null,null,null,null,null,null,null,null,null,null,null,null,null,null,null,null,null,null,null,null,null,null,null,null,null,null,null,null,null,null,null,null,null,null,null,null,null,null,null,null,null,null,null,null,null,null,"DH13 91113:KUEY TEOW",62]
[{"$f":"IFERROR(IF(INDIRECT($A$14&ROW())<>\"\",COUNTIF([1]Summary!$B$30:$B$1029,INDIRECT($A$14&ROW())),\"\"),\"\")","v":""},null,null,null,null,null,null,null,null,null,null,null,null,null,null,null,null,null,null,null,null,null,null,null,null,null,null,null,null,null,null,null,null,null,null,null,null,null,null,null,null,null,null,null,null,null,null,null,null,null,null,null,null,null,null,null,null,null,null,null,null,null,null,null,null,null,null,null,null,null,null,null,null,null,null,null,null,null,null,null,null,null,null,null,null,null,null,null,"DH14 91114:F.BALL MEE",39]
[{"$f":"IFERROR(IF(INDIRECT($A$14&ROW())<>\"\",COUNTIF([1]Summary!$B$30:$B$1029,INDIRECT($A$14&ROW())),\"\"),\"\")","v":""},null,null,null,null,null,null,null,null,null,null,null,null,null,null,null,null,null,null,null,null,null,null,null,null,null,null,null,null,null,null,null,null,null,null,null,null,null,null,null,null,null,null,null,null,null,null,null,null,null,null,null,null,null,null,null,null,null,null,null,null,null,null,null,null,null,null,null,null,null,null,null,null,null,null,null,null,null,null,null,null,null,null,null,null,null,null,null,"DH15 91115:CHK NOODLE",64]
[{"$f":"IFERROR(IF(INDIRECT($A$14&ROW())<>\"\",COUNTIF([1]Summary!$B$30:$B$1029,INDIRECT($A$14&ROW())),\"\"),\"\")","v":""},null,null,null,null,null,null,null,null,null,null,null,null,null,null,null,null,null,null,null,null,null,null,null,null,null,null,null,null,null,null,null,null,null,null,null,null,null,null,null,null,null,null,null,null,null,null,null,null,null,null,null,null,null,null,null,null,null,null,null,null,null,null,null,null,null,null,null,null,null,null,null,null,null,null,null,null,null,null,null,null,null,null,null,null,null,null,null,"DI01 91201:SFD STICK",5]
[{"$f":"IFERROR(IF(INDIRECT($A$14&ROW())<>\"\",COUNTIF([1]Summary!$B$30:$B$1029,INDIRECT($A$14&ROW())),\"\"),\"\")","v":""},null,null,null,null,null,null,null,null,null,null,null,null,null,null,null,null,null,null,null,null,null,null,null,null,null,null,null,null,null,null,null,null,null,null,null,null,null,null,null,null,null,null,null,null,null,null,null,null,null,null,null,null,null,null,null,null,null,null,null,null,null,null,null,null,null,null,null,null,null,null,null,null,null,null,null,null,null,null,null,null,null,null,null,null,null,null,null,"DI02 91202:FREN FRIES",39]
[{"$f":"IFERROR(IF(INDIRECT($A$14&ROW())<>\"\",COUNTIF([1]Summary!$B$30:$B$1029,INDIRECT($A$14&ROW())),\"\"),\"\")","v":""},null,null,null,null,null,null,null,null,null,null,null,null,null,null,null,null,null,null,null,null,null,null,null,null,null,null,null,null,null,null,null,null,null,null,null,null,null,null,null,null,null,null,null,null,null,null,null,null,null,null,null,null,null,null,null,null,null,null,null,null,null,null,null,null,null,null,null,null,null,null,null,null,null,null,null,null,null,null,null,null,null,null,null,null,null,null,null,"DI03 91203:GOLD MROOM",9]
[{"$f":"IFERROR(IF(INDIRECT($A$14&ROW())<>\"\",COUNTIF([1]Summary!$B$30:$B$1029,INDIRECT($A$14&ROW())),\"\"),\"\")","v":""},null,null,null,null,null,null,null,null,null,null,null,null,null,null,null,null,null,null,null,null,null,null,null,null,null,null,null,null,null,null,null,null,null,null,null,null,null,null,null,null,null,null,null,null,null,null,null,null,null,null,null,null,null,null,null,null,null,null,null,null,null,null,null,null,null,null,null,null,null,null,null,null,null,null,null,null,null,null,null,null,null,null,null,null,null,null,null,"DI04 91204:FISHBALL",4]
[{"$f":"IFERROR(IF(INDIRECT($A$14&ROW())<>\"\",COUNTIF([1]Summary!$B$30:$B$1029,INDIRECT($A$14&ROW())),\"\"),\"\")","v":""},null,null,null,null,null,null,null,null,null,null,null,null,null,null,null,null,null,null,null,null,null,null,null,null,null,null,null,null,null,null,null,null,null,null,null,null,null,null,null,null,null,null,null,null,null,null,null,null,null,null,null,null,null,null,null,null,null,null,null,null,null,null,null,null,null,null,null,null,null,null,null,null,null,null,null,null,null,null,null,null,null,null,null,null,null,null,null,"DI05 91205:RAINBOW RL",5]
[{"$f":"IFERROR(IF(INDIRECT($A$14&ROW())<>\"\",COUNTIF([1]Summary!$B$30:$B$1029,INDIRECT($A$14&ROW())),\"\"),\"\")","v":""},null,null,null,null,null,null,null,null,null,null,null,null,null,null,null,null,null,null,null,null,null,null,null,null,null,null,null,null,null,null,null,null,null,null,null,null,null,null,null,null,null,null,null,null,null,null,null,null,null,null,null,null,null,null,null,null,null,null,null,null,null,null,null,null,null,null,null,null,null,null,null,null,null,null,null,null,null,null,null,null,null,null,null,null,null,null,null,"DI06 91206:SPRING RL",11]
[{"$f":"IFERROR(IF(INDIRECT($A$14&ROW())<>\"\",COUNTIF([1]Summary!$B$30:$B$1029,INDIRECT($A$14&ROW())),\"\"),\"\")","v":""},null,null,null,null,null,null,null,null,null,null,null,null,null,null,null,null,null,null,null,null,null,null,null,null,null,null,null,null,null,null,null,null,null,null,null,null,null,null,null,null,null,null,null,null,null,null,null,null,null,null,null,null,null,null,null,null,null,null,null,null,null,null,null,null,null,null,null,null,null,null,null,null,null,null,null,null,null,null,null,null,null,null,null,null,null,null,null,"DI07 91207:SAUSAGE",22]
[{"$f":"IFERROR(IF(INDIRECT($A$14&ROW())<>\"\",COUNTIF([1]Summary!$B$30:$B$1029,INDIRECT($A$14&ROW())),\"\"),\"\")","v":""},null,null,null,null,null,null,null,null,null,null,null,null,null,null,null,null,null,null,null,null,null,null,null,null,null,null,null,null,null,null,null,null,null,null,null,null,null,null,null,null,null,null,null,null,null,null,null,null,null,null,null,null,null,null,null,null,null,null,null,null,null,null,null,null,null,null,null,null,null,null,null,null,null,null,null,null,null,null,null,null,null,null,null,null,null,null,null,"DI10 91301:DUMPLING",8]
[{"$f":"IFERROR(IF(INDIRECT($A$14&ROW())<>\"\",COUNTIF([1]Summary!$B$30:$B$1029,INDIRECT($A$14&ROW())),\"\"),\"\")","v":""},null,null,null,null,null,null,null,null,null,null,null,null,null,null,null,null,null,null,null,null,null,null,null,null,null,null,null,null,null,null,null,null,null,null,null,null,null,null,null,null,null,null,null,null,null,null,null,null,null,null,null,null,null,null,null,null,null,null,null,null,null,null,null,null,null,null,null,null,null,null,null,null,null,null,null,null,null,null,null,null,null,null,null,null,null,null,null,"DI11 91302:NUGGET",47]
[{"$f":"IFERROR(IF(INDIRECT($A$14&ROW())<>\"\",COUNTIF([1]Summary!$B$30:$B$1029,INDIRECT($A$14&ROW())),\"\"),\"\")","v":""},null,null,null,null,null,null,null,null,null,null,null,null,null,null,null,null,null,null,null,null,null,null,null,null,null,null,null,null,null,null,null,null,null,null,null,null,null,null,null,null,null,null,null,null,null,null,null,null,null,null,null,null,null,null,null,null,null,null,null,null,null,null,null,null,null,null,null,null,null,null,null,null,null,null,null,null,null,null,null,null,null,null,null,null,null,null,null,"DI12 91303:CHK WING",47]
[{"$f":"IFERROR(IF(INDIRECT($A$14&ROW())<>\"\",COUNTIF([1]Summary!$B$30:$B$1029,INDIRECT($A$14&ROW())),\"\"),\"\")","v":""},null,null,null,null,null,null,null,null,null,null,null,null,null,null,null,null,null,null,null,null,null,null,null,null,null,null,null,null,null,null,null,null,null,null,null,null,null,null,null,null,null,null,null,null,null,null,null,null,null,null,null,null,null,null,null,null,null,null,null,null,null,null,null,null,null,null,null,null,null,null,null,null,null,null,null,null,null,null,null,null,null,null,null,null,null,null,null,"DI13 91304:IKAN BILIS",3]
[{"$f":"IFERROR(IF(INDIRECT($A$14&ROW())<>\"\",COUNTIF([1]Summary!$B$30:$B$1029,INDIRECT($A$14&ROW())),\"\"),\"\")","v":""},null,null,null,null,null,null,null,null,null,null,null,null,null,null,null,null,null,null,null,null,null,null,null,null,null,null,null,null,null,null,null,null,null,null,null,null,null,null,null,null,null,null,null,null,null,null,null,null,null,null,null,null,null,null,null,null,null,null,null,null,null,null,null,null,null,null,null,null,null,null,null,null,null,null,null,null,null,null,null,null,null,null,null,null,null,null,null,"DI14 91305:THAI RL",17]
[{"$f":"IFERROR(IF(INDIRECT($A$14&ROW())<>\"\",COUNTIF([1]Summary!$B$30:$B$1029,INDIRECT($A$14&ROW())),\"\"),\"\")","v":""},null,null,null,null,null,null,null,null,null,null,null,null,null,null,null,null,null,null,null,null,null,null,null,null,null,null,null,null,null,null,null,null,null,null,null,null,null,null,null,null,null,null,null,null,null,null,null,null,null,null,null,null,null,null,null,null,null,null,null,null,null,null,null,null,null,null,null,null,null,null,null,null,null,null,null,null,null,null,null,null,null,null,null,null,null,null,null,"EA01 TIDBITS",20]
[{"$f":"IFERROR(IF(INDIRECT($A$14&ROW())<>\"\",COUNTIF([1]Summary!$B$30:$B$1029,INDIRECT($A$14&ROW())),\"\"),\"\")","v":""},null,null,null,null,null,null,null,null,null,null,null,null,null,null,null,null,null,null,null,null,null,null,null,null,null,null,null,null,null,null,null,null,null,null,null,null,null,null,null,null,null,null,null,null,null,null,null,null,null,null,null,null,null,null,null,null,null,null,null,null,null,null,null,null,null,null,null,null,null,null,null,null,null,null,null,null,null,null,null,null,null,null,null,null,null,null,null,"GA09 LIGHTER",16]
[{"$f":"IFERROR(IF(INDIRECT($A$14&ROW())<>\"\",COUNTIF([1]Summary!$B$30:$B$1029,INDIRECT($A$14&ROW())),\"\"),\"\")","v":""},null,null,null,null,null,null,null,null,null,null,null,null,null,null,null,null,null,null,null,null,null,null,null,null,null,null,null,null,null,null,null,null,null,null,null,null,null,null,null,null,null,null,null,null,null,null,null,null,null,null,null,null,null,null,null,null,null,null,null,null,null,null,null,null,null,null,null,null,null,null,null,null,null,null,null,null,null,null,null,null,null,null,null,null,null,null,null,"GC01 CARD NEW",59]
[{"$f":"IFERROR(IF(INDIRECT($A$14&ROW())<>\"\",COUNTIF([1]Summary!$B$30:$B$1029,INDIRECT($A$14&ROW())),\"\"),\"\")","v":""},null,null,null,null,null,null,null,null,null,null,null,null,null,null,null,null,null,null,null,null,null,null,null,null,null,null,null,null,null,null,null,null,null,null,null,null,null,null,null,null,null,null,null,null,null,null,null,null,null,null,null,null,null,null,null,null,null,null,null,null,null,null,null,null,null,null,null,null,null,null,null,null,null,null,null,null,null,null,null,null,null,null,null,null,null,null,null,"GC02 CARD REPLACE",7]
[{"$f":"IFERROR(IF(INDIRECT($A$14&ROW())<>\"\",COUNTIF([1]Summary!$B$30:$B$1029,INDIRECT($A$14&ROW())),\"\"),\"\")","v":""},null,null,null,null,null,null,null,null,null,null,null,null,null,null,null,null,null,null,null,null,null,null,null,null,null,null,null,null,null,null,null,null,null,null,null,null,null,null,null,null,null,null,null,null,null,null,null,null,null,null,null,null,null,null,null,null,null,null,null,null,null,null,null,null,null,null,null,null,null,null,null,null,null,null,null,null,null,null,null,null,null,null,null,null,null,null,null,"GC03 Student Mem Card",5]
[{"$f":"IFERROR(IF(INDIRECT($A$14&ROW())<>\"\",COUNTIF([1]Summary!$B$30:$B$1029,INDIRECT($A$14&ROW())),\"\"),\"\")","v":""},null,null,null,null,null,null,null,null,null,null,null,null,null,null,null,null,null,null,null,null,null,null,null,null,null,null,null,null,null,null,null,null,null,null,null,null,null,null,null,null,null,null,null,null,null,null,null,null,null,null,null,null,null,null,null,null,null,null,null,null,null,null,null,null,null,null,null,null,null,null,null,null,null,null,null,null,null,null,null,null,null,null,null,null,null,null,null,"GC04 RRDEPT STU CARD",5]
[{"$f":"IFERROR(IF(INDIRECT($A$14&ROW())<>\"\",COUNTIF([1]Summary!$B$30:$B$1029,INDIRECT($A$14&ROW())),\"\"),\"\")","v":""},null,null,null,null,null,null,null,null,null,null,null,null,null,null,null,null,null,null,null,null,null,null,null,null,null,null,null,null,null,null,null,null,null,null,null,null,null,null,null,null,null,null,null,null,null,null,null,null,null,null,null,null,null,null,null,null,null,null,null,null,null,null,null,null,null,null,null,null,null,null,null,null,null,null,null,null,null,null,null,null,null,null,null,null,null,null,null,"GC05 AEON MEMBER 50%",5]
[{"$f":"IFERROR(IF(INDIRECT($A$14&ROW())<>\"\",COUNTIF([1]Summary!$B$30:$B$1029,INDIRECT($A$14&ROW())),\"\"),\"\")","v":""},null,null,null,null,null,null,null,null,null,null,null,null,null,null,null,null,null,null,null,null,null,null,null,null,null,null,null,null,null,null,null,null,null,null,null,null,null,null,null,null,null,null,null,null,null,null,null,null,null,null,null,null,null,null,null,null,null,null,null,null,null,null,null,null,null,null,null,null,null,null,null,null,null,null,null,null,null,null,null,null,null,null,null,null,null,null,null,"GD01 MIKE COVER 01",2]
[{"$f":"IFERROR(IF(INDIRECT($A$14&ROW())<>\"\",COUNTIF([1]Summary!$B$30:$B$1029,INDIRECT($A$14&ROW())),\"\"),\"\")","v":""},null,null,null,null,null,null,null,null,null,null,null,null,null,null,null,null,null,null,null,null,null,null,null,null,null,null,null,null,null,null,null,null,null,null,null,null,null,null,null,null,null,null,null,null,null,null,null,null,null,null,null,null,null,null,null,null,null,null,null,null,null,null,null,null,null,null,null,null,null,null,null,null,null,null,null,null,null,null,null,null,null,null,null,null,null,null,null,"GD02 MIKE COVER 03",80]
[{"$f":"IFERROR(IF(INDIRECT($A$14&ROW())<>\"\",COUNTIF([1]Summary!$B$30:$B$1029,INDIRECT($A$14&ROW())),\"\"),\"\")","v":""},null,null,null,null,null,null,null,null,null,null,null,null,null,null,null,null,null,null,null,null,null,null,null,null,null,null,null,null,null,null,null,null,null,null,null,null,null,null,null,null,null,null,null,null,null,null,null,null,null,null,null,null,null,null,null,null,null,null,null,null,null,null,null,null,null,null,null,null,null,null,null,null,null,null,null,null,null,null,null,null,null,null,null,null,null,null,null,"GE01 DUNHILL",50]
[{"$f":"IFERROR(IF(INDIRECT($A$14&ROW())<>\"\",COUNTIF([1]Summary!$B$30:$B$1029,INDIRECT($A$14&ROW())),\"\"),\"\")","v":""},null,null,null,null,null,null,null,null,null,null,null,null,null,null,null,null,null,null,null,null,null,null,null,null,null,null,null,null,null,null,null,null,null,null,null,null,null,null,null,null,null,null,null,null,null,null,null,null,null,null,null,null,null,null,null,null,null,null,null,null,null,null,null,null,null,null,null,null,null,null,null,null,null,null,null,null,null,null,null,null,null,null,null,null,null,null,null,"GE02 DUNHILL LITE",30]
[{"$f":"IFERROR(IF(INDIRECT($A$14&ROW())<>\"\",COUNTIF([1]Summary!$B$30:$B$1029,INDIRECT($A$14&ROW())),\"\"),\"\")","v":""},null,null,null,null,null,null,null,null,null,null,null,null,null,null,null,null,null,null,null,null,null,null,null,null,null,null,null,null,null,null,null,null,null,null,null,null,null,null,null,null,null,null,null,null,null,null,null,null,null,null,null,null,null,null,null,null,null,null,null,null,null,null,null,null,null,null,null,null,null,null,null,null,null,null,null,null,null,null,null,null,null,null,null,null,null,null,null,"GE03 DUNHILL MT",30]
[{"$f":"IFERROR(IF(INDIRECT($A$14&ROW())<>\"\",COUNTIF([1]Summary!$B$30:$B$1029,INDIRECT($A$14&ROW())),\"\"),\"\")","v":""},null,null,null,null,null,null,null,null,null,null,null,null,null,null,null,null,null,null,null,null,null,null,null,null,null,null,null,null,null,null,null,null,null,null,null,null,null,null,null,null,null,null,null,null,null,null,null,null,null,null,null,null,null,null,null,null,null,null,null,null,null,null,null,null,null,null,null,null,null,null,null,null,null,null,null,null,null,null,null,null,null,null,null,null,null,null,null,"GE04 DUNHILL MT LITE",2]
[{"$f":"IFERROR(IF(INDIRECT($A$14&ROW())<>\"\",COUNTIF([1]Summary!$B$30:$B$1029,INDIRECT($A$14&ROW())),\"\"),\"\")","v":""},null,null,null,null,null,null,null,null,null,null,null,null,null,null,null,null,null,null,null,null,null,null,null,null,null,null,null,null,null,null,null,null,null,null,null,null,null,null,null,null,null,null,null,null,null,null,null,null,null,null,null,null,null,null,null,null,null,null,null,null,null,null,null,null,null,null,null,null,null,null,null,null,null,null,null,null,null,null,null,null,null,null,null,null,null,null,null,"GE05 DUNHILL BOOST",3]
[{"$f":"IFERROR(IF(INDIRECT($A$14&ROW())<>\"\",COUNTIF([1]Summary!$B$30:$B$1029,INDIRECT($A$14&ROW())),\"\"),\"\")","v":""},null,null,null,null,null,null,null,null,null,null,null,null,null,null,null,null,null,null,null,null,null,null,null,null,null,null,null,null,null,null,null,null,null,null,null,null,null,null,null,null,null,null,null,null,null,null,null,null,null,null,null,null,null,null,null,null,null,null,null,null,null,null,null,null,null,null,null,null,null,null,null,null,null,null,null,null,null,null,null,null,null,null,null,null,null,null,null,"GE06 DUNHILL SWITCH",12]
[{"$f":"IFERROR(IF(INDIRECT($A$14&ROW())<>\"\",COUNTIF([1]Summary!$B$30:$B$1029,INDIRECT($A$14&ROW())),\"\"),\"\")","v":""},null,null,null,null,null,null,null,null,null,null,null,null,null,null,null,null,null,null,null,null,null,null,null,null,null,null,null,null,null,null,null,null,null,null,null,null,null,null,null,null,null,null,null,null,null,null,null,null,null,null,null,null,null,null,null,null,null,null,null,null,null,null,null,null,null,null,null,null,null,null,null,null,null,null,null,null,null,null,null,null,null,null,null,null,null,null,null,"GE07 DUNHILL ICE",31]
[{"$f":"IFERROR(IF(INDIRECT($A$14&ROW())<>\"\",COUNTIF([1]Summary!$B$30:$B$1029,INDIRECT($A$14&ROW())),\"\"),\"\")","v":""},null,null,null,null,null,null,null,null,null,null,null,null,null,null,null,null,null,null,null,null,null,null,null,null,null,null,null,null,null,null,null,null,null,null,null,null,null,null,null,null,null,null,null,null,null,null,null,null,null,null,null,null,null,null,null,null,null,null,null,null,null,null,null,null,null,null,null,null,null,null,null,null,null,null,null,null,null,null,null,null,null,null,null,null,null,null,null,"GF01 KENT ORIGINAL"]
[{"$f":"IFERROR(IF(INDIRECT($A$14&ROW())<>\"\",COUNTIF([1]Summary!$B$30:$B$1029,INDIRECT($A$14&ROW())),\"\"),\"\")","v":""},null,null,null,null,null,null,null,null,null,null,null,null,null,null,null,null,null,null,null,null,null,null,null,null,null,null,null,null,null,null,null,null,null,null,null,null,null,null,null,null,null,null,null,null,null,null,null,null,null,null,null,null,null,null,null,null,null,null,null,null,null,null,null,null,null,null,null,null,null,null,null,null,null,null,null,null,null,null,null,null,null,null,null,null,null,null,null,"GF02 KENT FUTURA",1]
[{"$f":"IFERROR(IF(INDIRECT($A$14&ROW())<>\"\",COUNTIF([1]Summary!$B$30:$B$1029,INDIRECT($A$14&ROW())),\"\"),\"\")","v":""},null,null,null,null,null,null,null,null,null,null,null,null,null,null,null,null,null,null,null,null,null,null,null,null,null,null,null,null,null,null,null,null,null,null,null,null,null,null,null,null,null,null,null,null,null,null,null,null,null,null,null,null,null,null,null,null,null,null,null,null,null,null,null,null,null,null,null,null,null,null,null,null,null,null,null,null,null,null,null,null,null,null,null,null,null,null,null,"GF04 KENT NEO",1]
[{"$f":"IFERROR(IF(INDIRECT($A$14&ROW())<>\"\",COUNTIF([1]Summary!$B$30:$B$1029,INDIRECT($A$14&ROW())),\"\"),\"\")","v":""},null,null,null,null,null,null,null,null,null,null,null,null,null,null,null,null,null,null,null,null,null,null,null,null,null,null,null,null,null,null,null,null,null,null,null,null,null,null,null,null,null,null,null,null,null,null,null,null,null,null,null,null,null,null,null,null,null,null,null,null,null,null,null,null,null,null,null,null,null,null,null,null,null,null,null,null,null,null,null,null,null,null,null,null,null,null,null,"ZAA01 GUINNESS EX BKT",2]
[{"$f":"IFERROR(IF(INDIRECT($A$14&ROW())<>\"\",COUNTIF([1]Summary!$B$30:$B$1029,INDIRECT($A$14&ROW())),\"\"),\"\")","v":""},null,null,null,null,null,null,null,null,null,null,null,null,null,null,null,null,null,null,null,null,null,null,null,null,null,null,null,null,null,null,null,null,null,null,null,null,null,null,null,null,null,null,null,null,null,null,null,null,null,null,null,null,null,null,null,null,null,null,null,null,null,null,null,null,null,null,null,null,null,null,null,null,null,null,null,null,null,null,null,null,null,null,null,null,null,null,null,"ZAA02 HEINEKEN EX BKT",19]
[{"$f":"IFERROR(IF(INDIRECT($A$14&ROW())<>\"\",COUNTIF([1]Summary!$B$30:$B$1029,INDIRECT($A$14&ROW())),\"\"),\"\")","v":""},null,null,null,null,null,null,null,null,null,null,null,null,null,null,null,null,null,null,null,null,null,null,null,null,null,null,null,null,null,null,null,null,null,null,null,null,null,null,null,null,null,null,null,null,null,null,null,null,null,null,null,null,null,null,null,null,null,null,null,null,null,null,null,null,null,null,null,null,null,null,null,null,null,null,null,null,null,null,null,null,null,null,null,null,null,null,null,"ZAB01 1201:SFD STICK",16]
[{"$f":"IFERROR(IF(INDIRECT($A$14&ROW())<>\"\",COUNTIF([1]Summary!$B$30:$B$1029,INDIRECT($A$14&ROW())),\"\"),\"\")","v":""},null,null,null,null,null,null,null,null,null,null,null,null,null,null,null,null,null,null,null,null,null,null,null,null,null,null,null,null,null,null,null,null,null,null,null,null,null,null,null,null,null,null,null,null,null,null,null,null,null,null,null,null,null,null,null,null,null,null,null,null,null,null,null,null,null,null,null,null,null,null,null,null,null,null,null,null,null,null,null,null,null,null,null,null,null,null,null,"ZAB02 1202:FRIES",172]
[{"$f":"IFERROR(IF(INDIRECT($A$14&ROW())<>\"\",COUNTIF([1]Summary!$B$30:$B$1029,INDIRECT($A$14&ROW())),\"\"),\"\")","v":""},null,null,null,null,null,null,null,null,null,null,null,null,null,null,null,null,null,null,null,null,null,null,null,null,null,null,null,null,null,null,null,null,null,null,null,null,null,null,null,null,null,null,null,null,null,null,null,null,null,null,null,null,null,null,null,null,null,null,null,null,null,null,null,null,null,null,null,null,null,null,null,null,null,null,null,null,null,null,null,null,null,null,null,null,null,null,null,"ZAB03 1203:GOLD MROOM",45]
[{"$f":"IFERROR(IF(INDIRECT($A$14&ROW())<>\"\",COUNTIF([1]Summary!$B$30:$B$1029,INDIRECT($A$14&ROW())),\"\"),\"\")","v":""},null,null,null,null,null,null,null,null,null,null,null,null,null,null,null,null,null,null,null,null,null,null,null,null,null,null,null,null,null,null,null,null,null,null,null,null,null,null,null,null,null,null,null,null,null,null,null,null,null,null,null,null,null,null,null,null,null,null,null,null,null,null,null,null,null,null,null,null,null,null,null,null,null,null,null,null,null,null,null,null,null,null,null,null,null,null,null,"ZAB04 1204:F.BALL",35]
[{"$f":"IFERROR(IF(INDIRECT($A$14&ROW())<>\"\",COUNTIF([1]Summary!$B$30:$B$1029,INDIRECT($A$14&ROW())),\"\"),\"\")","v":""},null,null,null,null,null,null,null,null,null,null,null,null,null,null,null,null,null,null,null,null,null,null,null,null,null,null,null,null,null,null,null,null,null,null,null,null,null,null,null,null,null,null,null,null,null,null,null,null,null,null,null,null,null,null,null,null,null,null,null,null,null,null,null,null,null,null,null,null,null,null,null,null,null,null,null,null,null,null,null,null,null,null,null,null,null,null,null,"ZAB05 1205:RAINBOW RL",11]
[{"$f":"IFERROR(IF(INDIRECT($A$14&ROW())<>\"\",COUNTIF([1]Summary!$B$30:$B$1029,INDIRECT($A$14&ROW())),\"\"),\"\")","v":""},null,null,null,null,null,null,null,null,null,null,null,null,null,null,null,null,null,null,null,null,null,null,null,null,null,null,null,null,null,null,null,null,null,null,null,null,null,null,null,null,null,null,null,null,null,null,null,null,null,null,null,null,null,null,null,null,null,null,null,null,null,null,null,null,null,null,null,null,null,null,null,null,null,null,null,null,null,null,null,null,null,null,null,null,null,null,null,"ZAB06 1206:SPRING RL",44]
[{"$f":"IFERROR(IF(INDIRECT($A$14&ROW())<>\"\",COUNTIF([1]Summary!$B$30:$B$1029,INDIRECT($A$14&ROW())),\"\"),\"\")","v":""},null,null,null,null,null,null,null,null,null,null,null,null,null,null,null,null,null,null,null,null,null,null,null,null,null,null,null,null,null,null,null,null,null,null,null,null,null,null,null,null,null,null,null,null,null,null,null,null,null,null,null,null,null,null,null,null,null,null,null,null,null,null,null,null,null,null,null,null,null,null,null,null,null,null,null,null,null,null,null,null,null,null,null,null,null,null,null,"ZAB07 1207:SAUSAGE",87]
[{"$f":"IFERROR(IF(INDIRECT($A$14&ROW())<>\"\",COUNTIF([1]Summary!$B$30:$B$1029,INDIRECT($A$14&ROW())),\"\"),\"\")","v":""},null,null,null,null,null,null,null,null,null,null,null,null,null,null,null,null,null,null,null,null,null,null,null,null,null,null,null,null,null,null,null,null,null,null,null,null,null,null,null,null,null,null,null,null,null,null,null,null,null,null,null,null,null,null,null,null,null,null,null,null,null,null,null,null,null,null,null,null,null,null,null,null,null,null,null,null,null,null,null,null,null,null,null,null,null,null,null,"ZAC01 1301:DUMPLING",34]
[{"$f":"IFERROR(IF(INDIRECT($A$14&ROW())<>\"\",COUNTIF([1]Summary!$B$30:$B$1029,INDIRECT($A$14&ROW())),\"\"),\"\")","v":""},null,null,null,null,null,null,null,null,null,null,null,null,null,null,null,null,null,null,null,null,null,null,null,null,null,null,null,null,null,null,null,null,null,null,null,null,null,null,null,null,null,null,null,null,null,null,null,null,null,null,null,null,null,null,null,null,null,null,null,null,null,null,null,null,null,null,null,null,null,null,null,null,null,null,null,null,null,null,null,null,null,null,null,null,null,null,null,"ZAC02 1302:NUGGET",84]
[{"$f":"IFERROR(IF(INDIRECT($A$14&ROW())<>\"\",COUNTIF([1]Summary!$B$30:$B$1029,INDIRECT($A$14&ROW())),\"\"),\"\")","v":""},null,null,null,null,null,null,null,null,null,null,null,null,null,null,null,null,null,null,null,null,null,null,null,null,null,null,null,null,null,null,null,null,null,null,null,null,null,null,null,null,null,null,null,null,null,null,null,null,null,null,null,null,null,null,null,null,null,null,null,null,null,null,null,null,null,null,null,null,null,null,null,null,null,null,null,null,null,null,null,null,null,null,null,null,null,null,null,"ZAC03 1303:CHK WING",138]
[{"$f":"IFERROR(IF(INDIRECT($A$14&ROW())<>\"\",COUNTIF([1]Summary!$B$30:$B$1029,INDIRECT($A$14&ROW())),\"\"),\"\")","v":""},null,null,null,null,null,null,null,null,null,null,null,null,null,null,null,null,null,null,null,null,null,null,null,null,null,null,null,null,null,null,null,null,null,null,null,null,null,null,null,null,null,null,null,null,null,null,null,null,null,null,null,null,null,null,null,null,null,null,null,null,null,null,null,null,null,null,null,null,null,null,null,null,null,null,null,null,null,null,null,null,null,null,null,null,null,null,null,"ZAC04 1304:IKAN BILIS",17]
[{"$f":"IFERROR(IF(INDIRECT($A$14&ROW())<>\"\",COUNTIF([1]Summary!$B$30:$B$1029,INDIRECT($A$14&ROW())),\"\"),\"\")","v":""},null,null,null,null,null,null,null,null,null,null,null,null,null,null,null,null,null,null,null,null,null,null,null,null,null,null,null,null,null,null,null,null,null,null,null,null,null,null,null,null,null,null,null,null,null,null,null,null,null,null,null,null,null,null,null,null,null,null,null,null,null,null,null,null,null,null,null,null,null,null,null,null,null,null,null,null,null,null,null,null,null,null,null,null,null,null,null,"ZAC05 1305:THAI RL",25]
[{"$f":"IFERROR(IF(INDIRECT($A$14&ROW())<>\"\",COUNTIF([1]Summary!$B$30:$B$1029,INDIRECT($A$14&ROW())),\"\"),\"\")","v":""},null,null,null,null,null,null,null,null,null,null,null,null,null,null,null,null,null,null,null,null,null,null,null,null,null,null,null,null,null,null,null,null,null,null,null,null,null,null,null,null,null,null,null,null,null,null,null,null,null,null,null,null,null,null,null,null,null,null,null,null,null,null,null,null,null,null,null,null,null,null,null,null,null,null,null,null,null,null,null,null,null,null,null,null,null,null,null,"ZAD01 COLD",128]
[{"$f":"IFERROR(IF(INDIRECT($A$14&ROW())<>\"\",COUNTIF([1]Summary!$B$30:$B$1029,INDIRECT($A$14&ROW())),\"\"),\"\")","v":""},null,null,null,null,null,null,null,null,null,null,null,null,null,null,null,null,null,null,null,null,null,null,null,null,null,null,null,null,null,null,null,null,null,null,null,null,null,null,null,null,null,null,null,null,null,null,null,null,null,null,null,null,null,null,null,null,null,null,null,null,null,null,null,null,null,null,null,null,null,null,null,null,null,null,null,null,null,null,null,null,null,null,null,null,null,null,null,"ZAD02 HOT",56]
[{"$f":"IFERROR(IF(INDIRECT($A$14&ROW())<>\"\",COUNTIF([1]Summary!$B$30:$B$1029,INDIRECT($A$14&ROW())),\"\"),\"\")","v":""},null,null,null,null,null,null,null,null,null,null,null,null,null,null,null,null,null,null,null,null,null,null,null,null,null,null,null,null,null,null,null,null,null,null,null,null,null,null,null,null,null,null,null,null,null,null,null,null,null,null,null,null,null,null,null,null,null,null,null,null,null,null,null,null,null,null,null,null,null,null,null,null,null,null,null,null,null,null,null,null,null,null,null,null,null,null,null,"ZAD03 WARM",958]
[{"$f":"IFERROR(IF(INDIRECT($A$14&ROW())<>\"\",COUNTIF([1]Summary!$B$30:$B$1029,INDIRECT($A$14&ROW())),\"\"),\"\")","v":""},null,null,null,null,null,null,null,null,null,null,null,null,null,null,null,null,null,null,null,null,null,null,null,null,null,null,null,null,null,null,null,null,null,null,null,null,null,null,null,null,null,null,null,null,null,null,null,null,null,null,null,null,null,null,null,null,null,null,null,null,null,null,null,null,null,null,null,null,null,null,null,null,null,null,null,null,null,null,null,null,null,null,null,null,null,null,null,"ZAD04 LESS ICE",863]
[{"$f":"IFERROR(IF(INDIRECT($A$14&ROW())<>\"\",COUNTIF([1]Summary!$B$30:$B$1029,INDIRECT($A$14&ROW())),\"\"),\"\")","v":""},null,null,null,null,null,null,null,null,null,null,null,null,null,null,null,null,null,null,null,null,null,null,null,null,null,null,null,null,null,null,null,null,null,null,null,null,null,null,null,null,null,null,null,null,null,null,null,null,null,null,null,null,null,null,null,null,null,null,null,null,null,null,null,null,null,null,null,null,null,null,null,null,null,null,null,null,null,null,null,null,null,null,null,null,null,null,null,"ZAD05 MORE ICE",18]
[{"$f":"IFERROR(IF(INDIRECT($A$14&ROW())<>\"\",COUNTIF([1]Summary!$B$30:$B$1029,INDIRECT($A$14&ROW())),\"\"),\"\")","v":""},null,null,null,null,null,null,null,null,null,null,null,null,null,null,null,null,null,null,null,null,null,null,null,null,null,null,null,null,null,null,null,null,null,null,null,null,null,null,null,null,null,null,null,null,null,null,null,null,null,null,null,null,null,null,null,null,null,null,null,null,null,null,null,null,null,null,null,null,null,null,null,null,null,null,null,null,null,null,null,null,null,null,null,null,null,null,null,"ZAD06 NO ICE",307]
[{"$f":"IFERROR(IF(INDIRECT($A$14&ROW())<>\"\",COUNTIF([1]Summary!$B$30:$B$1029,INDIRECT($A$14&ROW())),\"\"),\"\")","v":""},null,null,null,null,null,null,null,null,null,null,null,null,null,null,null,null,null,null,null,null,null,null,null,null,null,null,null,null,null,null,null,null,null,null,null,null,null,null,null,null,null,null,null,null,null,null,null,null,null,null,null,null,null,null,null,null,null,null,null,null,null,null,null,null,null,null,null,null,null,null,null,null,null,null,null,null,null,null,null,null,null,null,null,null,null,null,null,"ZAD07 LESS SWEET",75]
[{"$f":"IFERROR(IF(INDIRECT($A$14&ROW())<>\"\",COUNTIF([1]Summary!$B$30:$B$1029,INDIRECT($A$14&ROW())),\"\"),\"\")","v":""},null,null,null,null,null,null,null,null,null,null,null,null,null,null,null,null,null,null,null,null,null,null,null,null,null,null,null,null,null,null,null,null,null,null,null,null,null,null,null,null,null,null,null,null,null,null,null,null,null,null,null,null,null,null,null,null,null,null,null,null,null,null,null,null,null,null,null,null,null,null,null,null,null,null,null,null,null,null,null,null,null,null,null,null,null,null,null,"ZAD10 LESS SPICY",7]
[{"$f":"IFERROR(IF(INDIRECT($A$14&ROW())<>\"\",COUNTIF([1]Summary!$B$30:$B$1029,INDIRECT($A$14&ROW())),\"\"),\"\")","v":""},null,null,null,null,null,null,null,null,null,null,null,null,null,null,null,null,null,null,null,null,null,null,null,null,null,null,null,null,null,null,null,null,null,null,null,null,null,null,null,null,null,null,null,null,null,null,null,null,null,null,null,null,null,null,null,null,null,null,null,null,null,null,null,null,null,null,null,null,null,null,null,null,null,null,null,null,null,null,null,null,null,null,null,null,null,null,null,"ZAD11 MORE SPICY",13]
[{"$f":"IFERROR(IF(INDIRECT($A$14&ROW())<>\"\",COUNTIF([1]Summary!$B$30:$B$1029,INDIRECT($A$14&ROW())),\"\"),\"\")","v":""},null,null,null,null,null,null,null,null,null,null,null,null,null,null,null,null,null,null,null,null,null,null,null,null,null,null,null,null,null,null,null,null,null,null,null,null,null,null,null,null,null,null,null,null,null,null,null,null,null,null,null,null,null,null,null,null,null,null,null,null,null,null,null,null,null,null,null,null,null,null,null,null,null,null,null,null,null,null,null,null,null,null,null,null,null,null,null,"ZAD12 NO VEGGIE",6]
[{"$f":"IFERROR(IF(INDIRECT($A$14&ROW())<>\"\",COUNTIF([1]Summary!$B$30:$B$1029,INDIRECT($A$14&ROW())),\"\"),\"\")","v":""},null,null,null,null,null,null,null,null,null,null,null,null,null,null,null,null,null,null,null,null,null,null,null,null,null,null,null,null,null,null,null,null,null,null,null,null,null,null,null,null,null,null,null,null,null,null,null,null,null,null,null,null,null,null,null,null,null,null,null,null,null,null,null,null,null,null,null,null,null,null,null,null,null,null,null,null,null,null,null,null,null,null,null,null,null,null,null,"ZAD13 ADD LEMON",373]
[{"$f":"IFERROR(IF(INDIRECT($A$14&ROW())<>\"\",COUNTIF([1]Summary!$B$30:$B$1029,INDIRECT($A$14&ROW())),\"\"),\"\")","v":""},null,null,null,null,null,null,null,null,null,null,null,null,null,null,null,null,null,null,null,null,null,null,null,null,null,null,null,null,null,null,null,null,null,null,null,null,null,null,null,null,null,null,null,null,null,null,null,null,null,null,null,null,null,null,null,null,null,null,null,null,null,null,null,null,null,null,null,null,null,null,null,null,null,null,null,null,null,null,null,null,null,null,null,null,null,null,null,"ZAD14 MORE SWEET",34]
[{"$f":"IFERROR(IF(INDIRECT($A$14&ROW())<>\"\",COUNTIF([1]Summary!$B$30:$B$1029,INDIRECT($A$14&ROW())),\"\"),\"\")","v":""},null,null,null,null,null,null,null,null,null,null,null,null,null,null,null,null,null,null,null,null,null,null,null,null,null,null,null,null,null,null,null,null,null,null,null,null,null,null,null,null,null,null,null,null,null,null,null,null,null,null,null,null,null,null,null,null,null,null,null,null,null,null,null,null,null,null,null,null,null,null,null,null,null,null,null,null,null,null,null,null,null,null,null,null,null,null,null,"ZAD15 VEGGIE ONLY"]
[{"$f":"IFERROR(IF(INDIRECT($A$14&ROW())<>\"\",COUNTIF([1]Summary!$B$30:$B$1029,INDIRECT($A$14&ROW())),\"\"),\"\")","v":""},null,null,null,null,null,null,null,null,null,null,null,null,null,null,null,null,null,null,null,null,null,null,null,null,null,null,null,null,null,null,null,null,null,null,null,null,null,null,null,null,null,null,null,null,null,null,null,null,null,null,null,null,null,null,null,null,null,null,null,null,null,null,null,null,null,null,null,null,null,null,null,null,null,null,null,null,null,null,null,null,null,null,null,null,null,null,null,"ZAD16 ICE ONLY",129]
[{"$f":"IFERROR(IF(INDIRECT($A$14&ROW())<>\"\",COUNTIF([1]Summary!$B$30:$B$1029,INDIRECT($A$14&ROW())),\"\"),\"\")","v":""},null,null,null,null,null,null,null,null,null,null,null,null,null,null,null,null,null,null,null,null,null,null,null,null,null,null,null,null,null,null,null,null,null,null,null,null,null,null,null,null,null,null,null,null,null,null,null,null,null,null,null,null,null,null,null,null,null,null,null,null,null,null,null,null,null,null,null,null,null,null,null,null,null,null,null,null,null,null,null,null,null,null,null,null,null,null,null,"ZAD17 LEMON ONLY",92]
[{"$f":"IFERROR(IF(INDIRECT($A$14&ROW())<>\"\",COUNTIF([1]Summary!$B$30:$B$1029,INDIRECT($A$14&ROW())),\"\"),\"\")","v":""},null,null,null,null,null,null,null,null,null,null,null,null,null,null,null,null,null,null,null,null,null,null,null,null,null,null,null,null,null,null,null,null,null,null,null,null,null,null,null,null,null,null,null,null,null,null,null,null,null,null,null,null,null,null,null,null,null,null,null,null,null,null,null,null,null,null,null,null,null,null,null,null,null,null,null,null,null,null,null,null,null,null,null,null,null,null,null,"ZAD19 KAU KAU",54]
[{"$f":"IFERROR(IF(INDIRECT($A$14&ROW())<>\"\",COUNTIF([1]Summary!$B$30:$B$1029,INDIRECT($A$14&ROW())),\"\"),\"\")","v":""},null,null,null,null,null,null,null,null,null,null,null,null,null,null,null,null,null,null,null,null,null,null,null,null,null,null,null,null,null,null,null,null,null,null,null,null,null,null,null,null,null,null,null,null,null,null,null,null,null,null,null,null,null,null,null,null,null,null,null,null,null,null,null,null,null,null,null,null,null,null,null,null,null,null,null,null,null,null,null,null,null,null,null,null,null,null,null,"ZAD20 JUG",407]
[{"$f":"IFERROR(IF(INDIRECT($A$14&ROW())<>\"\",COUNTIF([1]Summary!$B$30:$B$1029,INDIRECT($A$14&ROW())),\"\"),\"\")","v":""},null,null,null,null,null,null,null,null,null,null,null,null,null,null,null,null,null,null,null,null,null,null,null,null,null,null,null,null,null,null,null,null,null,null,null,null,null,null,null,null,null,null,null,null,null,null,null,null,null,null,null,null,null,null,null,null,null,null,null,null,null,null,null,null,null,null,null,null,null,null,null,null,null,null,null,null,null,null,null,null,null,null,null,null,null,null,null,"ZAD22 + SAUCE 1000",1]
[{"$f":"IFERROR(IF(INDIRECT($A$14&ROW())<>\"\",COUNTIF([1]Summary!$B$30:$B$1029,INDIRECT($A$14&ROW())),\"\"),\"\")","v":""},null,null,null,null,null,null,null,null,null,null,null,null,null,null,null,null,null,null,null,null,null,null,null,null,null,null,null,null,null,null,null,null,null,null,null,null,null,null,null,null,null,null,null,null,null,null,null,null,null,null,null,null,null,null,null,null,null,null,null,null,null,null,null,null,null,null,null,null,null,null,null,null,null,null,null,null,null,null,null,null,null,null,null,null,null,null,null,"ZAD24 + SAUCE BP",5]
[{"$f":"IFERROR(IF(INDIRECT($A$14&ROW())<>\"\",COUNTIF([1]Summary!$B$30:$B$1029,INDIRECT($A$14&ROW())),\"\"),\"\")","v":""},null,null,null,null,null,null,null,null,null,null,null,null,null,null,null,null,null,null,null,null,null,null,null,null,null,null,null,null,null,null,null,null,null,null,null,null,null,null,null,null,null,null,null,null,null,null,null,null,null,null,null,null,null,null,null,null,null,null,null,null,null,null,null,null,null,null,null,null,null,null,null,null,null,null,null,null,null,null,null,null,null,null,null,null,null,null,null,"ZAD25 + SAUCE BUTTER",3]
[{"$f":"IFERROR(IF(INDIRECT($A$14&ROW())<>\"\",COUNTIF([1]Summary!$B$30:$B$1029,INDIRECT($A$14&ROW())),\"\"),\"\")","v":""},null,null,null,null,null,null,null,null,null,null,null,null,null,null,null,null,null,null,null,null,null,null,null,null,null,null,null,null,null,null,null,null,null,null,null,null,null,null,null,null,null,null,null,null,null,null,null,null,null,null,null,null,null,null,null,null,null,null,null,null,null,null,null,null,null,null,null,null,null,null,null,null,null,null,null,null,null,null,null,null,null,null,null,null,null,null,null,"ZAD26 + CILLI PADI",2]
[{"$f":"IFERROR(IF(INDIRECT($A$14&ROW())<>\"\",COUNTIF([1]Summary!$B$30:$B$1029,INDIRECT($A$14&ROW())),\"\"),\"\")","v":""},null,null,null,null,null,null,null,null,null,null,null,null,null,null,null,null,null,null,null,null,null,null,null,null,null,null,null,null,null,null,null,null,null,null,null,null,null,null,null,null,null,null,null,null,null,null,null,null,null,null,null,null,null,null,null,null,null,null,null,null,null,null,null,null,null,null,null,null,null,null,null,null,null,null,null,null,null,null,null,null,null,null,null,null,null,null,null,"ZAD30 + SAUCE MR",1]
[{"$f":"IFERROR(IF(INDIRECT($A$14&ROW())<>\"\",COUNTIF([1]Summary!$B$30:$B$1029,INDIRECT($A$14&ROW())),\"\"),\"\")","v":""},null,null,null,null,null,null,null,null,null,null,null,null,null,null,null,null,null,null,null,null,null,null,null,null,null,null,null,null,null,null,null,null,null,null,null,null,null,null,null,null,null,null,null,null,null,null,null,null,null,null,null,null,null,null,null,null,null,null,null,null,null,null,null,null,null,null,null,null,null,null,null,null,null,null,null,null,null,null,null,null,null,null,null,null,null,null,null,"ZAD36 BEER GLASS",1322]
[{"$f":"IFERROR(IF(INDIRECT($A$14&ROW())<>\"\",COUNTIF([1]Summary!$B$30:$B$1029,INDIRECT($A$14&ROW())),\"\"),\"\")","v":""},null,null,null,null,null,null,null,null,null,null,null,null,null,null,null,null,null,null,null,null,null,null,null,null,null,null,null,null,null,null,null,null,null,null,null,null,null,null,null,null,null,null,null,null,null,null,null,null,null,null,null,null,null,null,null,null,null,null,null,null,null,null,null,null,null,null,null,null,null,null,null,null,null,null,null,null,null,null,null,null,null,null,null,null,null,null,null,"ZAD37 ICE BUCKET",140]
[{"$f":"IFERROR(IF(INDIRECT($A$14&ROW())<>\"\",COUNTIF([1]Summary!$B$30:$B$1029,INDIRECT($A$14&ROW())),\"\"),\"\")","v":""},null,null,null,null,null,null,null,null,null,null,null,null,null,null,null,null,null,null,null,null,null,null,null,null,null,null,null,null,null,null,null,null,null,null,null,null,null,null,null,null,null,null,null,null,null,null,null,null,null,null,null,null,null,null,null,null,null,null,null,null,null,null,null,null,null,null,null,null,null,null,null,null,null,null,null,null,null,null,null,null,null,null,null,null,null,null,null,"ZZZQ Split:AB"]
[{"$f":"IFERROR(IF(INDIRECT($A$14&ROW())<>\"\",COUNTIF([1]Summary!$B$30:$B$1029,INDIRECT($A$14&ROW())),\"\"),\"\")","v":""},null,null,null,null,null,null,null,null,null,null,null,null,null,null,null,null,null,null,null,null,null,null,null,null,null,null,null,null,null,null,null,null,null,null,null,null,null,null,null,null,null,null,null,null,null,null,null,null,null,null,null,null,null,null,null,null,null,null,null,null,null,null,null,null,null,null,null,null,null,null,null,null,null,null,null,null,null,null,null,null,null,null,null,null,null,null,null,"ZZZZZ WRONG KEY"]
[{"$f":"IFERROR(IF(INDIRECT($A$14&ROW())<>\"\",COUNTIF([1]Summary!$B$30:$B$1029,INDIRECT($A$14&ROW())),\"\"),\"\")","v":""}]
[{"$f":"IFERROR(IF(INDIRECT($A$14&ROW())<>\"\",COUNTIF([1]Summary!$B$30:$B$1029,INDIRECT($A$14&ROW())),\"\"),\"\")","v":""}]
[{"$f":"IFERROR(IF(INDIRECT($A$14&ROW())<>\"\",COUNTIF([1]Summary!$B$30:$B$1029,INDIRECT($A$14&ROW())),\"\"),\"\")","v":""}]
[{"$f":"IFERROR(IF(INDIRECT($A$14&ROW())<>\"\",COUNTIF([1]Summary!$B$30:$B$1029,INDIRECT($A$14&ROW())),\"\"),\"\")","v":""}]
[{"$f":"IFERROR(IF(INDIRECT($A$14&ROW())<>\"\",COUNTIF([1]Summary!$B$30:$B$1029,INDIRECT($A$14&ROW())),\"\"),\"\")","v":""}]
[{"$f":"IFERROR(IF(INDIRECT($A$14&ROW())<>\"\",COUNTIF([1]Summary!$B$30:$B$1029,INDIRECT($A$14&ROW())),\"\"),\"\")","v":""}]
[{"$f":"IFERROR(IF(INDIRECT($A$14&ROW())<>\"\",COUNTIF([1]Summary!$B$30:$B$1029,INDIRECT($A$14&ROW())),\"\"),\"\")","v":""}]
[{"$f":"IFERROR(IF(INDIRECT($A$14&ROW())<>\"\",COUNTIF([1]Summary!$B$30:$B$1029,INDIRECT($A$14&ROW())),\"\"),\"\")","v":""}]
[{"$f":"IFERROR(IF(INDIRECT($A$14&ROW())<>\"\",COUNTIF([1]Summary!$B$30:$B$1029,INDIRECT($A$14&ROW())),\"\"),\"\")","v":""}]
[{"$f":"IFERROR(IF(INDIRECT($A$14&ROW())<>\"\",COUNTIF([1]Summary!$B$30:$B$1029,INDIRECT($A$14&ROW())),\"\"),\"\")","v":""}]
[{"$f":"IFERROR(IF(INDIRECT($A$14&ROW())<>\"\",COUNTIF([1]Summary!$B$30:$B$1029,INDIRECT($A$14&ROW())),\"\"),\"\")","v":""}]
[{"$f":"IFERROR(IF(INDIRECT($A$14&ROW())<>\"\",COUNTIF([1]Summary!$B$30:$B$1029,INDIRECT($A$14&ROW())),\"\"),\"\")","v":""}]
[{"$f":"IFERROR(IF(INDIRECT($A$14&ROW())<>\"\",COUNTIF([1]Summary!$B$30:$B$1029,INDIRECT($A$14&ROW())),\"\"),\"\")","v":""}]
[{"$f":"IFERROR(IF(INDIRECT($A$14&ROW())<>\"\",COUNTIF([1]Summary!$B$30:$B$1029,INDIRECT($A$14&ROW())),\"\"),\"\")","v":""}]
[{"$f":"IFERROR(IF(INDIRECT($A$14&ROW())<>\"\",COUNTIF([1]Summary!$B$30:$B$1029,INDIRECT($A$14&ROW())),\"\"),\"\")","v":""}]
[{"$f":"IFERROR(IF(INDIRECT($A$14&ROW())<>\"\",COUNTIF([1]Summary!$B$30:$B$1029,INDIRECT($A$14&ROW())),\"\"),\"\")","v":""}]
[{"$f":"IFERROR(IF(INDIRECT($A$14&ROW())<>\"\",COUNTIF([1]Summary!$B$30:$B$1029,INDIRECT($A$14&ROW())),\"\"),\"\")","v":""}]
[{"$f":"IFERROR(IF(INDIRECT($A$14&ROW())<>\"\",COUNTIF([1]Summary!$B$30:$B$1029,INDIRECT($A$14&ROW())),\"\"),\"\")","v":""}]
[{"$f":"IFERROR(IF(INDIRECT($A$14&ROW())<>\"\",COUNTIF([1]Summary!$B$30:$B$1029,INDIRECT($A$14&ROW())),\"\"),\"\")","v":""}]
[{"$f":"IFERROR(IF(INDIRECT($A$14&ROW())<>\"\",COUNTIF([1]Summary!$B$30:$B$1029,INDIRECT($A$14&ROW())),\"\"),\"\")","v":""}]
[{"$f":"IFERROR(IF(INDIRECT($A$14&ROW())<>\"\",COUNTIF([1]Summary!$B$30:$B$1029,INDIRECT($A$14&ROW())),\"\"),\"\")","v":""}]
[{"$f":"IFERROR(IF(INDIRECT($A$14&ROW())<>\"\",COUNTIF([1]Summary!$B$30:$B$1029,INDIRECT($A$14&ROW())),\"\"),\"\")","v":""}]
[{"$f":"IFERROR(IF(INDIRECT($A$14&ROW())<>\"\",COUNTIF([1]Summary!$B$30:$B$1029,INDIRECT($A$14&ROW())),\"\"),\"\")","v":""}]
[{"$f":"IFERROR(IF(INDIRECT($A$14&ROW())<>\"\",COUNTIF([1]Summary!$B$30:$B$1029,INDIRECT($A$14&ROW())),\"\"),\"\")","v":""}]
[{"$f":"IFERROR(IF(INDIRECT($A$14&ROW())<>\"\",COUNTIF([1]Summary!$B$30:$B$1029,INDIRECT($A$14&ROW())),\"\"),\"\")","v":""}]
[{"$f":"IFERROR(IF(INDIRECT($A$14&ROW())<>\"\",COUNTIF([1]Summary!$B$30:$B$1029,INDIRECT($A$14&ROW())),\"\"),\"\")","v":""}]
[{"$f":"IFERROR(IF(INDIRECT($A$14&ROW())<>\"\",COUNTIF([1]Summary!$B$30:$B$1029,INDIRECT($A$14&ROW())),\"\"),\"\")","v":""}]
[{"$f":"IFERROR(IF(INDIRECT($A$14&ROW())<>\"\",COUNTIF([1]Summary!$B$30:$B$1029,INDIRECT($A$14&ROW())),\"\"),\"\")","v":""}]
[{"$f":"IFERROR(IF(INDIRECT($A$14&ROW())<>\"\",COUNTIF([1]Summary!$B$30:$B$1029,INDIRECT($A$14&ROW())),\"\"),\"\")","v":""}]
[{"$f":"IFERROR(IF(INDIRECT($A$14&ROW())<>\"\",COUNTIF([1]Summary!$B$30:$B$1029,INDIRECT($A$14&ROW())),\"\"),\"\")","v":""}]
[{"$f":"IFERROR(IF(INDIRECT($A$14&ROW())<>\"\",COUNTIF([1]Summary!$B$30:$B$1029,INDIRECT($A$14&ROW())),\"\"),\"\")","v":""}]
[{"$f":"IFERROR(IF(INDIRECT($A$14&ROW())<>\"\",COUNTIF([1]Summary!$B$30:$B$1029,INDIRECT($A$14&ROW())),\"\"),\"\")","v":""}]
[{"$f":"IFERROR(IF(INDIRECT($A$14&ROW())<>\"\",COUNTIF([1]Summary!$B$30:$B$1029,INDIRECT($A$14&ROW())),\"\"),\"\")","v":""}]
[{"$f":"IFERROR(IF(INDIRECT($A$14&ROW())<>\"\",COUNTIF([1]Summary!$B$30:$B$1029,INDIRECT($A$14&ROW())),\"\"),\"\")","v":""}]
[{"$f":"IFERROR(IF(INDIRECT($A$14&ROW())<>\"\",COUNTIF([1]Summary!$B$30:$B$1029,INDIRECT($A$14&ROW())),\"\"),\"\")","v":""}]
[{"$f":"IFERROR(IF(INDIRECT($A$14&ROW())<>\"\",COUNTIF([1]Summary!$B$30:$B$1029,INDIRECT($A$14&ROW())),\"\"),\"\")","v":""}]
[{"$f":"IFERROR(IF(INDIRECT($A$14&ROW())<>\"\",COUNTIF([1]Summary!$B$30:$B$1029,INDIRECT($A$14&ROW())),\"\"),\"\")","v":""}]
[{"$f":"IFERROR(IF(INDIRECT($A$14&ROW())<>\"\",COUNTIF([1]Summary!$B$30:$B$1029,INDIRECT($A$14&ROW())),\"\"),\"\")","v":""}]
[{"$f":"IFERROR(IF(INDIRECT($A$14&ROW())<>\"\",COUNTIF([1]Summary!$B$30:$B$1029,INDIRECT($A$14&ROW())),\"\"),\"\")","v":""}]
[{"$f":"IFERROR(IF(INDIRECT($A$14&ROW())<>\"\",COUNTIF([1]Summary!$B$30:$B$1029,INDIRECT($A$14&ROW())),\"\"),\"\")","v":""}]
[{"$f":"IFERROR(IF(INDIRECT($A$14&ROW())<>\"\",COUNTIF([1]Summary!$B$30:$B$1029,INDIRECT($A$14&ROW())),\"\"),\"\")","v":""}]
[{"$f":"IFERROR(IF(INDIRECT($A$14&ROW())<>\"\",COUNTIF([1]Summary!$B$30:$B$1029,INDIRECT($A$14&ROW())),\"\"),\"\")","v":""}]
[{"$f":"IFERROR(IF(INDIRECT($A$14&ROW())<>\"\",COUNTIF([1]Summary!$B$30:$B$1029,INDIRECT($A$14&ROW())),\"\"),\"\")","v":""}]
[{"$f":"IFERROR(IF(INDIRECT($A$14&ROW())<>\"\",COUNTIF([1]Summary!$B$30:$B$1029,INDIRECT($A$14&ROW())),\"\"),\"\")","v":""}]
[{"$f":"IFERROR(IF(INDIRECT($A$14&ROW())<>\"\",COUNTIF([1]Summary!$B$30:$B$1029,INDIRECT($A$14&ROW())),\"\"),\"\")","v":""}]
[{"$f":"IFERROR(IF(INDIRECT($A$14&ROW())<>\"\",COUNTIF([1]Summary!$B$30:$B$1029,INDIRECT($A$14&ROW())),\"\"),\"\")","v":""}]
[{"$f":"IFERROR(IF(INDIRECT($A$14&ROW())<>\"\",COUNTIF([1]Summary!$B$30:$B$1029,INDIRECT($A$14&ROW())),\"\"),\"\")","v":""}]
[{"$f":"IFERROR(IF(INDIRECT($A$14&ROW())<>\"\",COUNTIF([1]Summary!$B$30:$B$1029,INDIRECT($A$14&ROW())),\"\"),\"\")","v":""}]
[{"$f":"IFERROR(IF(INDIRECT($A$14&ROW())<>\"\",COUNTIF([1]Summary!$B$30:$B$1029,INDIRECT($A$14&ROW())),\"\"),\"\")","v":""}]
[{"$f":"IFERROR(IF(INDIRECT($A$14&ROW())<>\"\",COUNTIF([1]Summary!$B$30:$B$1029,INDIRECT($A$14&ROW())),\"\"),\"\")","v":""}]
[{"$f":"IFERROR(IF(INDIRECT($A$14&ROW())<>\"\",COUNTIF([1]Summary!$B$30:$B$1029,INDIRECT($A$14&ROW())),\"\"),\"\")","v":""}]
[{"$f":"IFERROR(IF(INDIRECT($A$14&ROW())<>\"\",COUNTIF([1]Summary!$B$30:$B$1029,INDIRECT($A$14&ROW())),\"\"),\"\")","v":""}]
[{"$f":"IFERROR(IF(INDIRECT($A$14&ROW())<>\"\",COUNTIF([1]Summary!$B$30:$B$1029,INDIRECT($A$14&ROW())),\"\"),\"\")","v":""}]
[{"$f":"IFERROR(IF(INDIRECT($A$14&ROW())<>\"\",COUNTIF([1]Summary!$B$30:$B$1029,INDIRECT($A$14&ROW())),\"\"),\"\")","v":""}]
[{"$f":"IFERROR(IF(INDIRECT($A$14&ROW())<>\"\",COUNTIF([1]Summary!$B$30:$B$1029,INDIRECT($A$14&ROW())),\"\"),\"\")","v":""}]
[{"$f":"IFERROR(IF(INDIRECT($A$14&ROW())<>\"\",COUNTIF([1]Summary!$B$30:$B$1029,INDIRECT($A$14&ROW())),\"\"),\"\")","v":""}]
[{"$f":"IFERROR(IF(INDIRECT($A$14&ROW())<>\"\",COUNTIF([1]Summary!$B$30:$B$1029,INDIRECT($A$14&ROW())),\"\"),\"\")","v":""}]
[{"$f":"IFERROR(IF(INDIRECT($A$14&ROW())<>\"\",COUNTIF([1]Summary!$B$30:$B$1029,INDIRECT($A$14&ROW())),\"\"),\"\")","v":""}]
[{"$f":"IFERROR(IF(INDIRECT($A$14&ROW())<>\"\",COUNTIF([1]Summary!$B$30:$B$1029,INDIRECT($A$14&ROW())),\"\"),\"\")","v":""}]
[{"$f":"IFERROR(IF(INDIRECT($A$14&ROW())<>\"\",COUNTIF([1]Summary!$B$30:$B$1029,INDIRECT($A$14&ROW())),\"\"),\"\")","v":""}]
[{"$f":"IFERROR(IF(INDIRECT($A$14&ROW())<>\"\",COUNTIF([1]Summary!$B$30:$B$1029,INDIRECT($A$14&ROW())),\"\"),\"\")","v":""}]
[{"$f":"IFERROR(IF(INDIRECT($A$14&ROW())<>\"\",COUNTIF([1]Summary!$B$30:$B$1029,INDIRECT($A$14&ROW())),\"\"),\"\")","v":""}]
[{"$f":"IFERROR(IF(INDIRECT($A$14&ROW())<>\"\",COUNTIF([1]Summary!$B$30:$B$1029,INDIRECT($A$14&ROW())),\"\"),\"\")","v":""}]
[{"$f":"IFERROR(IF(INDIRECT($A$14&ROW())<>\"\",COUNTIF([1]Summary!$B$30:$B$1029,INDIRECT($A$14&ROW())),\"\"),\"\")","v":""}]
[{"$f":"IFERROR(IF(INDIRECT($A$14&ROW())<>\"\",COUNTIF([1]Summary!$B$30:$B$1029,INDIRECT($A$14&ROW())),\"\"),\"\")","v":""}]
[{"$f":"IFERROR(IF(INDIRECT($A$14&ROW())<>\"\",COUNTIF([1]Summary!$B$30:$B$1029,INDIRECT($A$14&ROW())),\"\"),\"\")","v":""}]
[{"$f":"IFERROR(IF(INDIRECT($A$14&ROW())<>\"\",COUNTIF([1]Summary!$B$30:$B$1029,INDIRECT($A$14&ROW())),\"\"),\"\")","v":""}]
[{"$f":"IFERROR(IF(INDIRECT($A$14&ROW())<>\"\",COUNTIF([1]Summary!$B$30:$B$1029,INDIRECT($A$14&ROW())),\"\"),\"\")","v":""}]
[{"$f":"IFERROR(IF(INDIRECT($A$14&ROW())<>\"\",COUNTIF([1]Summary!$B$30:$B$1029,INDIRECT($A$14&ROW())),\"\"),\"\")","v":""}]
[{"$f":"IFERROR(IF(INDIRECT($A$14&ROW())<>\"\",COUNTIF([1]Summary!$B$30:$B$1029,INDIRECT($A$14&ROW())),\"\"),\"\")","v":""}]
[{"$f":"IFERROR(IF(INDIRECT($A$14&ROW())<>\"\",COUNTIF([1]Summary!$B$30:$B$1029,INDIRECT($A$14&ROW())),\"\"),\"\")","v":""}]
[{"$f":"IFERROR(IF(INDIRECT($A$14&ROW())<>\"\",COUNTIF([1]Summary!$B$30:$B$1029,INDIRECT($A$14&ROW())),\"\"),\"\")","v":""}]
[{"$f":"IFERROR(IF(INDIRECT($A$14&ROW())<>\"\",COUNTIF([1]Summary!$B$30:$B$1029,INDIRECT($A$14&ROW())),\"\"),\"\")","v":""}]
[{"$f":"IFERROR(IF(INDIRECT($A$14&ROW())<>\"\",COUNTIF([1]Summary!$B$30:$B$1029,INDIRECT($A$14&ROW())),\"\"),\"\")","v":""}]
[{"$f":"IFERROR(IF(INDIRECT($A$14&ROW())<>\"\",COUNTIF([1]Summary!$B$30:$B$1029,INDIRECT($A$14&ROW())),\"\"),\"\")","v":""}]
[{"$f":"IFERROR(IF(INDIRECT($A$14&ROW())<>\"\",COUNTIF([1]Summary!$B$30:$B$1029,INDIRECT($A$14&ROW())),\"\"),\"\")","v":""}]
[{"$f":"IFERROR(IF(INDIRECT($A$14&ROW())<>\"\",COUNTIF([1]Summary!$B$30:$B$1029,INDIRECT($A$14&ROW())),\"\"),\"\")","v":""}]
[{"$f":"IFERROR(IF(INDIRECT($A$14&ROW())<>\"\",COUNTIF([1]Summary!$B$30:$B$1029,INDIRECT($A$14&ROW())),\"\"),\"\")","v":""}]
[{"$f":"IFERROR(IF(INDIRECT($A$14&ROW())<>\"\",COUNTIF([1]Summary!$B$30:$B$1029,INDIRECT($A$14&ROW())),\"\"),\"\")","v":""}]
[{"$f":"IFERROR(IF(INDIRECT($A$14&ROW())<>\"\",COUNTIF([1]Summary!$B$30:$B$1029,INDIRECT($A$14&ROW())),\"\"),\"\")","v":""}]
[{"$f":"IFERROR(IF(INDIRECT($A$14&ROW())<>\"\",COUNTIF([1]Summary!$B$30:$B$1029,INDIRECT($A$14&ROW())),\"\"),\"\")","v":""}]
[{"$f":"IFERROR(IF(INDIRECT($A$14&ROW())<>\"\",COUNTIF([1]Summary!$B$30:$B$1029,INDIRECT($A$14&ROW())),\"\"),\"\")","v":""}]
[{"$f":"IFERROR(IF(INDIRECT($A$14&ROW())<>\"\",COUNTIF([1]Summary!$B$30:$B$1029,INDIRECT($A$14&ROW())),\"\"),\"\")","v":""}]
[{"$f":"IFERROR(IF(INDIRECT($A$14&ROW())<>\"\",COUNTIF([1]Summary!$B$30:$B$1029,INDIRECT($A$14&ROW())),\"\"),\"\")","v":""}]
[{"$f":"IFERROR(IF(INDIRECT($A$14&ROW())<>\"\",COUNTIF([1]Summary!$B$30:$B$1029,INDIRECT($A$14&ROW())),\"\"),\"\")","v":""}]
[{"$f":"IFERROR(IF(INDIRECT($A$14&ROW())<>\"\",COUNTIF([1]Summary!$B$30:$B$1029,INDIRECT($A$14&ROW())),\"\"),\"\")","v":""}]
[{"$f":"IFERROR(IF(INDIRECT($A$14&ROW())<>\"\",COUNTIF([1]Summary!$B$30:$B$1029,INDIRECT($A$14&ROW())),\"\"),\"\")","v":""}]
[{"$f":"IFERROR(IF(INDIRECT($A$14&ROW())<>\"\",COUNTIF([1]Summary!$B$30:$B$1029,INDIRECT($A$14&ROW())),\"\"),\"\")","v":""}]
[{"$f":"IFERROR(IF(INDIRECT($A$14&ROW())<>\"\",COUNTIF([1]Summary!$B$30:$B$1029,INDIRECT($A$14&ROW())),\"\"),\"\")","v":""}]
[{"$f":"IFERROR(IF(INDIRECT($A$14&ROW())<>\"\",COUNTIF([1]Summary!$B$30:$B$1029,INDIRECT($A$14&ROW())),\"\"),\"\")","v":""}]
[{"$f":"IFERROR(IF(INDIRECT($A$14&ROW())<>\"\",COUNTIF([1]Summary!$B$30:$B$1029,INDIRECT($A$14&ROW())),\"\"),\"\")","v":""}]
[{"$f":"IFERROR(IF(INDIRECT($A$14&ROW())<>\"\",COUNTIF([1]Summary!$B$30:$B$1029,INDIRECT($A$14&ROW())),\"\"),\"\")","v":""}]
[{"$f":"IFERROR(IF(INDIRECT($A$14&ROW())<>\"\",COUNTIF([1]Summary!$B$30:$B$1029,INDIRECT($A$14&ROW())),\"\"),\"\")","v":""}]
[{"$f":"IFERROR(IF(INDIRECT($A$14&ROW())<>\"\",COUNTIF([1]Summary!$B$30:$B$1029,INDIRECT($A$14&ROW())),\"\"),\"\")","v":""}]
[{"$f":"IFERROR(IF(INDIRECT($A$14&ROW())<>\"\",COUNTIF([1]Summary!$B$30:$B$1029,INDIRECT($A$14&ROW())),\"\"),\"\")","v":""}]
[{"$f":"IFERROR(IF(INDIRECT($A$14&ROW())<>\"\",COUNTIF([1]Summary!$B$30:$B$1029,INDIRECT($A$14&ROW())),\"\"),\"\")","v":""}]
[{"$f":"IFERROR(IF(INDIRECT($A$14&ROW())<>\"\",COUNTIF([1]Summary!$B$30:$B$1029,INDIRECT($A$14&ROW())),\"\"),\"\")","v":""}]
[{"$f":"IFERROR(IF(INDIRECT($A$14&ROW())<>\"\",COUNTIF([1]Summary!$B$30:$B$1029,INDIRECT($A$14&ROW())),\"\"),\"\")","v":""}]
[{"$f":"IFERROR(IF(INDIRECT($A$14&ROW())<>\"\",COUNTIF([1]Summary!$B$30:$B$1029,INDIRECT($A$14&ROW())),\"\"),\"\")","v":""}]
[{"$f":"IFERROR(IF(INDIRECT($A$14&ROW())<>\"\",COUNTIF([1]Summary!$B$30:$B$1029,INDIRECT($A$14&ROW())),\"\"),\"\")","v":""}]
[{"$f":"IFERROR(IF(INDIRECT($A$14&ROW())<>\"\",COUNTIF([1]Summary!$B$30:$B$1029,INDIRECT($A$14&ROW())),\"\"),\"\")","v":""}]
[{"$f":"IFERROR(IF(INDIRECT($A$14&ROW())<>\"\",COUNTIF([1]Summary!$B$30:$B$1029,INDIRECT($A$14&ROW())),\"\"),\"\")","v":""}]
[{"$f":"IFERROR(IF(INDIRECT($A$14&ROW())<>\"\",COUNTIF([1]Summary!$B$30:$B$1029,INDIRECT($A$14&ROW())),\"\"),\"\")","v":""}]
[{"$f":"IFERROR(IF(INDIRECT($A$14&ROW())<>\"\",COUNTIF([1]Summary!$B$30:$B$1029,INDIRECT($A$14&ROW())),\"\"),\"\")","v":""}]
[{"$f":"IFERROR(IF(INDIRECT($A$14&ROW())<>\"\",COUNTIF([1]Summary!$B$30:$B$1029,INDIRECT($A$14&ROW())),\"\"),\"\")","v":""}]
[{"$f":"IFERROR(IF(INDIRECT($A$14&ROW())<>\"\",COUNTIF([1]Summary!$B$30:$B$1029,INDIRECT($A$14&ROW())),\"\"),\"\")","v":""}]
[{"$f":"IFERROR(IF(INDIRECT($A$14&ROW())<>\"\",COUNTIF([1]Summary!$B$30:$B$1029,INDIRECT($A$14&ROW())),\"\"),\"\")","v":""}]
[{"$f":"IFERROR(IF(INDIRECT($A$14&ROW())<>\"\",COUNTIF([1]Summary!$B$30:$B$1029,INDIRECT($A$14&ROW())),\"\"),\"\")","v":""}]
[{"$f":"IFERROR(IF(INDIRECT($A$14&ROW())<>\"\",COUNTIF([1]Summary!$B$30:$B$1029,INDIRECT($A$14&ROW())),\"\"),\"\")","v":""}]
[{"$f":"IFERROR(IF(INDIRECT($A$14&ROW())<>\"\",COUNTIF([1]Summary!$B$30:$B$1029,INDIRECT($A$14&ROW())),\"\"),\"\")","v":""}]
[{"$f":"IFERROR(IF(INDIRECT($A$14&ROW())<>\"\",COUNTIF([1]Summary!$B$30:$B$1029,INDIRECT($A$14&ROW())),\"\"),\"\")","v":""}]
[{"$f":"IFERROR(IF(INDIRECT($A$14&ROW())<>\"\",COUNTIF([1]Summary!$B$30:$B$1029,INDIRECT($A$14&ROW())),\"\"),\"\")","v":""}]
[{"$f":"IFERROR(IF(INDIRECT($A$14&ROW())<>\"\",COUNTIF([1]Summary!$B$30:$B$1029,INDIRECT($A$14&ROW())),\"\"),\"\")","v":""}]
[{"$f":"IFERROR(IF(INDIRECT($A$14&ROW())<>\"\",COUNTIF([1]Summary!$B$30:$B$1029,INDIRECT($A$14&ROW())),\"\"),\"\")","v":""}]
[{"$f":"IFERROR(IF(INDIRECT($A$14&ROW())<>\"\",COUNTIF([1]Summary!$B$30:$B$1029,INDIRECT($A$14&ROW())),\"\"),\"\")","v":""}]
[{"$f":"IFERROR(IF(INDIRECT($A$14&ROW())<>\"\",COUNTIF([1]Summary!$B$30:$B$1029,INDIRECT($A$14&ROW())),\"\"),\"\")","v":""}]
[{"$f":"IFERROR(IF(INDIRECT($A$14&ROW())<>\"\",COUNTIF([1]Summary!$B$30:$B$1029,INDIRECT($A$14&ROW())),\"\"),\"\")","v":""}]
[{"$f":"IFERROR(IF(INDIRECT($A$14&ROW())<>\"\",COUNTIF([1]Summary!$B$30:$B$1029,INDIRECT($A$14&ROW())),\"\"),\"\")","v":""}]
[{"$f":"IFERROR(IF(INDIRECT($A$14&ROW())<>\"\",COUNTIF([1]Summary!$B$30:$B$1029,INDIRECT($A$14&ROW())),\"\"),\"\")","v":""}]
[{"$f":"IFERROR(IF(INDIRECT($A$14&ROW())<>\"\",COUNTIF([1]Summary!$B$30:$B$1029,INDIRECT($A$14&ROW())),\"\"),\"\")","v":""}]
[{"$f":"IFERROR(IF(INDIRECT($A$14&ROW())<>\"\",COUNTIF([1]Summary!$B$30:$B$1029,INDIRECT($A$14&ROW())),\"\"),\"\")","v":""}]
[{"$f":"IFERROR(IF(INDIRECT($A$14&ROW())<>\"\",COUNTIF([1]Summary!$B$30:$B$1029,INDIRECT($A$14&ROW())),\"\"),\"\")","v":""}]
[{"$f":"IFERROR(IF(INDIRECT($A$14&ROW())<>\"\",COUNTIF([1]Summary!$B$30:$B$1029,INDIRECT($A$14&ROW())),\"\"),\"\")","v":""}]
[{"$f":"IFERROR(IF(INDIRECT($A$14&ROW())<>\"\",COUNTIF([1]Summary!$B$30:$B$1029,INDIRECT($A$14&ROW())),\"\"),\"\")","v":""}]
[{"$f":"IFERROR(IF(INDIRECT($A$14&ROW())<>\"\",COUNTIF([1]Summary!$B$30:$B$1029,INDIRECT($A$14&ROW())),\"\"),\"\")","v":""}]
[{"$f":"IFERROR(IF(INDIRECT($A$14&ROW())<>\"\",COUNTIF([1]Summary!$B$30:$B$1029,INDIRECT($A$14&ROW())),\"\"),\"\")","v":""}]
[{"$f":"IFERROR(IF(INDIRECT($A$14&ROW())<>\"\",COUNTIF([1]Summary!$B$30:$B$1029,INDIRECT($A$14&ROW())),\"\"),\"\")","v":""}]
[{"$f":"IFERROR(IF(INDIRECT($A$14&ROW())<>\"\",COUNTIF([1]Summary!$B$30:$B$1029,INDIRECT($A$14&ROW())),\"\"),\"\")","v":""}]
[{"$f":"IFERROR(IF(INDIRECT($A$14&ROW())<>\"\",COUNTIF([1]Summary!$B$30:$B$1029,INDIRECT($A$14&ROW())),\"\"),\"\")","v":""}]
[{"$f":"IFERROR(IF(INDIRECT($A$14&ROW())<>\"\",COUNTIF([1]Summary!$B$30:$B$1029,INDIRECT($A$14&ROW())),\"\"),\"\")","v":""}]
[{"$f":"IFERROR(IF(INDIRECT($A$14&ROW())<>\"\",COUNTIF([1]Summary!$B$30:$B$1029,INDIRECT($A$14&ROW())),\"\"),\"\")","v":""}]
[{"$f":"IFERROR(IF(INDIRECT($A$14&ROW())<>\"\",COUNTIF([1]Summary!$B$30:$B$1029,INDIRECT($A$14&ROW())),\"\"),\"\")","v":""}]
[{"$f":"IFERROR(IF(INDIRECT($A$14&ROW())<>\"\",COUNTIF([1]Summary!$B$30:$B$1029,INDIRECT($A$14&ROW())),\"\"),\"\")","v":""}]
[{"$f":"IFERROR(IF(INDIRECT($A$14&ROW())<>\"\",COUNTIF([1]Summary!$B$30:$B$1029,INDIRECT($A$14&ROW())),\"\"),\"\")","v":""}]
[{"$f":"IFERROR(IF(INDIRECT($A$14&ROW())<>\"\",COUNTIF([1]Summary!$B$30:$B$1029,INDIRECT($A$14&ROW())),\"\"),\"\")","v":""}]
[{"$f":"IFERROR(IF(INDIRECT($A$14&ROW())<>\"\",COUNTIF([1]Summary!$B$30:$B$1029,INDIRECT($A$14&ROW())),\"\"),\"\")","v":""}]
[{"$f":"IFERROR(IF(INDIRECT($A$14&ROW())<>\"\",COUNTIF([1]Summary!$B$30:$B$1029,INDIRECT($A$14&ROW())),\"\"),\"\")","v":""}]
[{"$f":"IFERROR(IF(INDIRECT($A$14&ROW())<>\"\",COUNTIF([1]Summary!$B$30:$B$1029,INDIRECT($A$14&ROW())),\"\"),\"\")","v":""}]
[{"$f":"IFERROR(IF(INDIRECT($A$14&ROW())<>\"\",COUNTIF([1]Summary!$B$30:$B$1029,INDIRECT($A$14&ROW())),\"\"),\"\")","v":""}]
[{"$f":"IFERROR(IF(INDIRECT($A$14&ROW())<>\"\",COUNTIF([1]Summary!$B$30:$B$1029,INDIRECT($A$14&ROW())),\"\"),\"\")","v":""}]
[{"$f":"IFERROR(IF(INDIRECT($A$14&ROW())<>\"\",COUNTIF([1]Summary!$B$30:$B$1029,INDIRECT($A$14&ROW())),\"\"),\"\")","v":""}]
[{"$f":"IFERROR(IF(INDIRECT($A$14&ROW())<>\"\",COUNTIF([1]Summary!$B$30:$B$1029,INDIRECT($A$14&ROW())),\"\"),\"\")","v":""}]
[{"$f":"IFERROR(IF(INDIRECT($A$14&ROW())<>\"\",COUNTIF([1]Summary!$B$30:$B$1029,INDIRECT($A$14&ROW())),\"\"),\"\")","v":""}]
[{"$f":"IFERROR(IF(INDIRECT($A$14&ROW())<>\"\",COUNTIF([1]Summary!$B$30:$B$1029,INDIRECT($A$14&ROW())),\"\"),\"\")","v":""}]
[{"$f":"IFERROR(IF(INDIRECT($A$14&ROW())<>\"\",COUNTIF([1]Summary!$B$30:$B$1029,INDIRECT($A$14&ROW())),\"\"),\"\")","v":""}]
[{"$f":"IFERROR(IF(INDIRECT($A$14&ROW())<>\"\",COUNTIF([1]Summary!$B$30:$B$1029,INDIRECT($A$14&ROW())),\"\"),\"\")","v":""}]
[{"$f":"IFERROR(IF(INDIRECT($A$14&ROW())<>\"\",COUNTIF([1]Summary!$B$30:$B$1029,INDIRECT($A$14&ROW())),\"\"),\"\")","v":""}]
[{"$f":"IFERROR(IF(INDIRECT($A$14&ROW())<>\"\",COUNTIF([1]Summary!$B$30:$B$1029,INDIRECT($A$14&ROW())),\"\"),\"\")","v":""}]
[{"$f":"IFERROR(IF(INDIRECT($A$14&ROW())<>\"\",COUNTIF([1]Summary!$B$30:$B$1029,INDIRECT($A$14&ROW())),\"\"),\"\")","v":""}]
[{"$f":"IFERROR(IF(INDIRECT($A$14&ROW())<>\"\",COUNTIF([1]Summary!$B$30:$B$1029,INDIRECT($A$14&ROW())),\"\"),\"\")","v":""}]
[{"$f":"IFERROR(IF(INDIRECT($A$14&ROW())<>\"\",COUNTIF([1]Summary!$B$30:$B$1029,INDIRECT($A$14&ROW())),\"\"),\"\")","v":""}]
[{"$f":"IFERROR(IF(INDIRECT($A$14&ROW())<>\"\",COUNTIF([1]Summary!$B$30:$B$1029,INDIRECT($A$14&ROW())),\"\"),\"\")","v":""}]
[{"$f":"IFERROR(IF(INDIRECT($A$14&ROW())<>\"\",COUNTIF([1]Summary!$B$30:$B$1029,INDIRECT($A$14&ROW())),\"\"),\"\")","v":""}]
[{"$f":"IFERROR(IF(INDIRECT($A$14&ROW())<>\"\",COUNTIF([1]Summary!$B$30:$B$1029,INDIRECT($A$14&ROW())),\"\"),\"\")","v":""}]
[{"$f":"IFERROR(IF(INDIRECT($A$14&ROW())<>\"\",COUNTIF([1]Summary!$B$30:$B$1029,INDIRECT($A$14&ROW())),\"\"),\"\")","v":""}]
[{"$f":"IFERROR(IF(INDIRECT($A$14&ROW())<>\"\",COUNTIF([1]Summary!$B$30:$B$1029,INDIRECT($A$14&ROW())),\"\"),\"\")","v":""}]
[{"$f":"IFERROR(IF(INDIRECT($A$14&ROW())<>\"\",COUNTIF([1]Summary!$B$30:$B$1029,INDIRECT($A$14&ROW())),\"\"),\"\")","v":""}]
[{"$f":"IFERROR(IF(INDIRECT($A$14&ROW())<>\"\",COUNTIF([1]Summary!$B$30:$B$1029,INDIRECT($A$14&ROW())),\"\"),\"\")","v":""}]
[{"$f":"IFERROR(IF(INDIRECT($A$14&ROW())<>\"\",COUNTIF([1]Summary!$B$30:$B$1029,INDIRECT($A$14&ROW())),\"\"),\"\")","v":""}]
[{"$f":"IFERROR(IF(INDIRECT($A$14&ROW())<>\"\",COUNTIF([1]Summary!$B$30:$B$1029,INDIRECT($A$14&ROW())),\"\"),\"\")","v":""}]
[{"$f":"IFERROR(IF(INDIRECT($A$14&ROW())<>\"\",COUNTIF([1]Summary!$B$30:$B$1029,INDIRECT($A$14&ROW())),\"\"),\"\")","v":""}]
[{"$f":"IFERROR(IF(INDIRECT($A$14&ROW())<>\"\",COUNTIF([1]Summary!$B$30:$B$1029,INDIRECT($A$14&ROW())),\"\"),\"\")","v":""}]
[{"$f":"IFERROR(IF(INDIRECT($A$14&ROW())<>\"\",COUNTIF([1]Summary!$B$30:$B$1029,INDIRECT($A$14&ROW())),\"\"),\"\")","v":""}]
[{"$f":"IFERROR(IF(INDIRECT($A$14&ROW())<>\"\",COUNTIF([1]Summary!$B$30:$B$1029,INDIRECT($A$14&ROW())),\"\"),\"\")","v":""}]
[{"$f":"IFERROR(IF(INDIRECT($A$14&ROW())<>\"\",COUNTIF([1]Summary!$B$30:$B$1029,INDIRECT($A$14&ROW())),\"\"),\"\")","v":""}]
[{"$f":"IFERROR(IF(INDIRECT($A$14&ROW())<>\"\",COUNTIF([1]Summary!$B$30:$B$1029,INDIRECT($A$14&ROW())),\"\"),\"\")","v":""}]
[{"$f":"IFERROR(IF(INDIRECT($A$14&ROW())<>\"\",COUNTIF([1]Summary!$B$30:$B$1029,INDIRECT($A$14&ROW())),\"\"),\"\")","v":""}]
[{"$f":"IFERROR(IF(INDIRECT($A$14&ROW())<>\"\",COUNTIF([1]Summary!$B$30:$B$1029,INDIRECT($A$14&ROW())),\"\"),\"\")","v":""}]
[{"$f":"IFERROR(IF(INDIRECT($A$14&ROW())<>\"\",COUNTIF([1]Summary!$B$30:$B$1029,INDIRECT($A$14&ROW())),\"\"),\"\")","v":""}]
[{"$f":"IFERROR(IF(INDIRECT($A$14&ROW())<>\"\",COUNTIF([1]Summary!$B$30:$B$1029,INDIRECT($A$14&ROW())),\"\"),\"\")","v":""}]
[{"$f":"IFERROR(IF(INDIRECT($A$14&ROW())<>\"\",COUNTIF([1]Summary!$B$30:$B$1029,INDIRECT($A$14&ROW())),\"\"),\"\")","v":""}]
[{"$f":"IFERROR(IF(INDIRECT($A$14&ROW())<>\"\",COUNTIF([1]Summary!$B$30:$B$1029,INDIRECT($A$14&ROW())),\"\"),\"\")","v":""}]
[{"$f":"IFERROR(IF(INDIRECT($A$14&ROW())<>\"\",COUNTIF([1]Summary!$B$30:$B$1029,INDIRECT($A$14&ROW())),\"\"),\"\")","v":""}]
[{"$f":"IFERROR(IF(INDIRECT($A$14&ROW())<>\"\",COUNTIF([1]Summary!$B$30:$B$1029,INDIRECT($A$14&ROW())),\"\"),\"\")","v":""}]
[{"$f":"IFERROR(IF(INDIRECT($A$14&ROW())<>\"\",COUNTIF([1]Summary!$B$30:$B$1029,INDIRECT($A$14&ROW())),\"\"),\"\")","v":""}]
[{"$f":"IFERROR(IF(INDIRECT($A$14&ROW())<>\"\",COUNTIF([1]Summary!$B$30:$B$1029,INDIRECT($A$14&ROW())),\"\"),\"\")","v":""}]
[{"$f":"IFERROR(IF(INDIRECT($A$14&ROW())<>\"\",COUNTIF([1]Summary!$B$30:$B$1029,INDIRECT($A$14&ROW())),\"\"),\"\")","v":""}]
[{"$f":"IFERROR(IF(INDIRECT($A$14&ROW())<>\"\",COUNTIF([1]Summary!$B$30:$B$1029,INDIRECT($A$14&ROW())),\"\"),\"\")","v":""}]
[{"$f":"IFERROR(IF(INDIRECT($A$14&ROW())<>\"\",COUNTIF([1]Summary!$B$30:$B$1029,INDIRECT($A$14&ROW())),\"\"),\"\")","v":""}]
[{"$f":"IFERROR(IF(INDIRECT($A$14&ROW())<>\"\",COUNTIF([1]Summary!$B$30:$B$1029,INDIRECT($A$14&ROW())),\"\"),\"\")","v":""}]
[{"$f":"IFERROR(IF(INDIRECT($A$14&ROW())<>\"\",COUNTIF([1]Summary!$B$30:$B$1029,INDIRECT($A$14&ROW())),\"\"),\"\")","v":""}]
[{"$f":"IFERROR(IF(INDIRECT($A$14&ROW())<>\"\",COUNTIF([1]Summary!$B$30:$B$1029,INDIRECT($A$14&ROW())),\"\"),\"\")","v":""}]
[{"$f":"IFERROR(IF(INDIRECT($A$14&ROW())<>\"\",COUNTIF([1]Summary!$B$30:$B$1029,INDIRECT($A$14&ROW())),\"\"),\"\")","v":""}]
[{"$f":"IFERROR(IF(INDIRECT($A$14&ROW())<>\"\",COUNTIF([1]Summary!$B$30:$B$1029,INDIRECT($A$14&ROW())),\"\"),\"\")","v":""}]
[{"$f":"IFERROR(IF(INDIRECT($A$14&ROW())<>\"\",COUNTIF([1]Summary!$B$30:$B$1029,INDIRECT($A$14&ROW())),\"\"),\"\")","v":""}]
[{"$f":"IFERROR(IF(INDIRECT($A$14&ROW())<>\"\",COUNTIF([1]Summary!$B$30:$B$1029,INDIRECT($A$14&ROW())),\"\"),\"\")","v":""}]
[{"$f":"IFERROR(IF(INDIRECT($A$14&ROW())<>\"\",COUNTIF([1]Summary!$B$30:$B$1029,INDIRECT($A$14&ROW())),\"\"),\"\")","v":""}]
[{"$f":"IFERROR(IF(INDIRECT($A$14&ROW())<>\"\",COUNTIF([1]Summary!$B$30:$B$1029,INDIRECT($A$14&ROW())),\"\"),\"\")","v":""}]
[{"$f":"IFERROR(IF(INDIRECT($A$14&ROW())<>\"\",COUNTIF([1]Summary!$B$30:$B$1029,INDIRECT($A$14&ROW())),\"\"),\"\")","v":""}]
[{"$f":"IFERROR(IF(INDIRECT($A$14&ROW())<>\"\",COUNTIF([1]Summary!$B$30:$B$1029,INDIRECT($A$14&ROW())),\"\"),\"\")","v":""}]
[{"$f":"IFERROR(IF(INDIRECT($A$14&ROW())<>\"\",COUNTIF([1]Summary!$B$30:$B$1029,INDIRECT($A$14&ROW())),\"\"),\"\")","v":""}]
[{"$f":"IFERROR(IF(INDIRECT($A$14&ROW())<>\"\",COUNTIF([1]Summary!$B$30:$B$1029,INDIRECT($A$14&ROW())),\"\"),\"\")","v":""}]
[{"$f":"IFERROR(IF(INDIRECT($A$14&ROW())<>\"\",COUNTIF([1]Summary!$B$30:$B$1029,INDIRECT($A$14&ROW())),\"\"),\"\")","v":""}]
[{"$f":"IFERROR(IF(INDIRECT($A$14&ROW())<>\"\",COUNTIF([1]Summary!$B$30:$B$1029,INDIRECT($A$14&ROW())),\"\"),\"\")","v":""}]
[{"$f":"IFERROR(IF(INDIRECT($A$14&ROW())<>\"\",COUNTIF([1]Summary!$B$30:$B$1029,INDIRECT($A$14&ROW())),\"\"),\"\")","v":""}]
[{"$f":"IFERROR(IF(INDIRECT($A$14&ROW())<>\"\",COUNTIF([1]Summary!$B$30:$B$1029,INDIRECT($A$14&ROW())),\"\"),\"\")","v":""}]
[{"$f":"IFERROR(IF(INDIRECT($A$14&ROW())<>\"\",COUNTIF([1]Summary!$B$30:$B$1029,INDIRECT($A$14&ROW())),\"\"),\"\")","v":""}]
[{"$f":"IFERROR(IF(INDIRECT($A$14&ROW())<>\"\",COUNTIF([1]Summary!$B$30:$B$1029,INDIRECT($A$14&ROW())),\"\"),\"\")","v":""}]
[{"$f":"IFERROR(IF(INDIRECT($A$14&ROW())<>\"\",COUNTIF([1]Summary!$B$30:$B$1029,INDIRECT($A$14&ROW())),\"\"),\"\")","v":""}]
[{"$f":"IFERROR(IF(INDIRECT($A$14&ROW())<>\"\",COUNTIF([1]Summary!$B$30:$B$1029,INDIRECT($A$14&ROW())),\"\"),\"\")","v":""}]
[{"$f":"IFERROR(IF(INDIRECT($A$14&ROW())<>\"\",COUNTIF([1]Summary!$B$30:$B$1029,INDIRECT($A$14&ROW())),\"\"),\"\")","v":""}]
[{"$f":"IFERROR(IF(INDIRECT($A$14&ROW())<>\"\",COUNTIF([1]Summary!$B$30:$B$1029,INDIRECT($A$14&ROW())),\"\"),\"\")","v":""}]
[{"$f":"IFERROR(IF(INDIRECT($A$14&ROW())<>\"\",COUNTIF([1]Summary!$B$30:$B$1029,INDIRECT($A$14&ROW())),\"\"),\"\")","v":""}]
[{"$f":"IFERROR(IF(INDIRECT($A$14&ROW())<>\"\",COUNTIF([1]Summary!$B$30:$B$1029,INDIRECT($A$14&ROW())),\"\"),\"\")","v":""}]
[{"$f":"IFERROR(IF(INDIRECT($A$14&ROW())<>\"\",COUNTIF([1]Summary!$B$30:$B$1029,INDIRECT($A$14&ROW())),\"\"),\"\")","v":""}]
[{"$f":"IFERROR(IF(INDIRECT($A$14&ROW())<>\"\",COUNTIF([1]Summary!$B$30:$B$1029,INDIRECT($A$14&ROW())),\"\"),\"\")","v":""}]
[{"$f":"IFERROR(IF(INDIRECT($A$14&ROW())<>\"\",COUNTIF([1]Summary!$B$30:$B$1029,INDIRECT($A$14&ROW())),\"\"),\"\")","v":""}]
[{"$f":"IFERROR(IF(INDIRECT($A$14&ROW())<>\"\",COUNTIF([1]Summary!$B$30:$B$1029,INDIRECT($A$14&ROW())),\"\"),\"\")","v":""}]
[{"$f":"IFERROR(IF(INDIRECT($A$14&ROW())<>\"\",COUNTIF([1]Summary!$B$30:$B$1029,INDIRECT($A$14&ROW())),\"\"),\"\")","v":""}]
[{"$f":"IFERROR(IF(INDIRECT($A$14&ROW())<>\"\",COUNTIF([1]Summary!$B$30:$B$1029,INDIRECT($A$14&ROW())),\"\"),\"\")","v":""}]
[{"$f":"IFERROR(IF(INDIRECT($A$14&ROW())<>\"\",COUNTIF([1]Summary!$B$30:$B$1029,INDIRECT($A$14&ROW())),\"\"),\"\")","v":""}]
[{"$f":"IFERROR(IF(INDIRECT($A$14&ROW())<>\"\",COUNTIF([1]Summary!$B$30:$B$1029,INDIRECT($A$14&ROW())),\"\"),\"\")","v":""}]
[{"$f":"IFERROR(IF(INDIRECT($A$14&ROW())<>\"\",COUNTIF([1]Summary!$B$30:$B$1029,INDIRECT($A$14&ROW())),\"\"),\"\")","v":""}]
[{"$f":"IFERROR(IF(INDIRECT($A$14&ROW())<>\"\",COUNTIF([1]Summary!$B$30:$B$1029,INDIRECT($A$14&ROW())),\"\"),\"\")","v":""}]
[{"$f":"IFERROR(IF(INDIRECT($A$14&ROW())<>\"\",COUNTIF([1]Summary!$B$30:$B$1029,INDIRECT($A$14&ROW())),\"\"),\"\")","v":""}]
[{"$f":"IFERROR(IF(INDIRECT($A$14&ROW())<>\"\",COUNTIF([1]Summary!$B$30:$B$1029,INDIRECT($A$14&ROW())),\"\"),\"\")","v":""}]
[{"$f":"IFERROR(IF(INDIRECT($A$14&ROW())<>\"\",COUNTIF([1]Summary!$B$30:$B$1029,INDIRECT($A$14&ROW())),\"\"),\"\")","v":""}]
[{"$f":"IFERROR(IF(INDIRECT($A$14&ROW())<>\"\",COUNTIF([1]Summary!$B$30:$B$1029,INDIRECT($A$14&ROW())),\"\"),\"\")","v":""}]
[{"$f":"IFERROR(IF(INDIRECT($A$14&ROW())<>\"\",COUNTIF([1]Summary!$B$30:$B$1029,INDIRECT($A$14&ROW())),\"\"),\"\")","v":""}]
[{"$f":"IFERROR(IF(INDIRECT($A$14&ROW())<>\"\",COUNTIF([1]Summary!$B$30:$B$1029,INDIRECT($A$14&ROW())),\"\"),\"\")","v":""}]
[{"$f":"IFERROR(IF(INDIRECT($A$14&ROW())<>\"\",COUNTIF([1]Summary!$B$30:$B$1029,INDIRECT($A$14&ROW())),\"\"),\"\")","v":""}]
[{"$f":"IFERROR(IF(INDIRECT($A$14&ROW())<>\"\",COUNTIF([1]Summary!$B$30:$B$1029,INDIRECT($A$14&ROW())),\"\"),\"\")","v":""}]
[{"$f":"IFERROR(IF(INDIRECT($A$14&ROW())<>\"\",COUNTIF([1]Summary!$B$30:$B$1029,INDIRECT($A$14&ROW())),\"\"),\"\")","v":""}]
[{"$f":"IFERROR(IF(INDIRECT($A$14&ROW())<>\"\",COUNTIF([1]Summary!$B$30:$B$1029,INDIRECT($A$14&ROW())),\"\"),\"\")","v":""}]
[{"$f":"IFERROR(IF(INDIRECT($A$14&ROW())<>\"\",COUNTIF([1]Summary!$B$30:$B$1029,INDIRECT($A$14&ROW())),\"\"),\"\")","v":""}]
[{"$f":"IFERROR(IF(INDIRECT($A$14&ROW())<>\"\",COUNTIF([1]Summary!$B$30:$B$1029,INDIRECT($A$14&ROW())),\"\"),\"\")","v":""}]
[{"$f":"IFERROR(IF(INDIRECT($A$14&ROW())<>\"\",COUNTIF([1]Summary!$B$30:$B$1029,INDIRECT($A$14&ROW())),\"\"),\"\")","v":""}]
[{"$f":"IFERROR(IF(INDIRECT($A$14&ROW())<>\"\",COUNTIF([1]Summary!$B$30:$B$1029,INDIRECT($A$14&ROW())),\"\"),\"\")","v":""}]
[{"$f":"IFERROR(IF(INDIRECT($A$14&ROW())<>\"\",COUNTIF([1]Summary!$B$30:$B$1029,INDIRECT($A$14&ROW())),\"\"),\"\")","v":""}]
[{"$f":"IFERROR(IF(INDIRECT($A$14&ROW())<>\"\",COUNTIF([1]Summary!$B$30:$B$1029,INDIRECT($A$14&ROW())),\"\"),\"\")","v":""}]
[{"$f":"IFERROR(IF(INDIRECT($A$14&ROW())<>\"\",COUNTIF([1]Summary!$B$30:$B$1029,INDIRECT($A$14&ROW())),\"\"),\"\")","v":""}]
[{"$f":"IFERROR(IF(INDIRECT($A$14&ROW())<>\"\",COUNTIF([1]Summary!$B$30:$B$1029,INDIRECT($A$14&ROW())),\"\"),\"\")","v":""}]
[{"$f":"IFERROR(IF(INDIRECT($A$14&ROW())<>\"\",COUNTIF([1]Summary!$B$30:$B$1029,INDIRECT($A$14&ROW())),\"\"),\"\")","v":""}]
[{"$f":"IFERROR(IF(INDIRECT($A$14&ROW())<>\"\",COUNTIF([1]Summary!$B$30:$B$1029,INDIRECT($A$14&ROW())),\"\"),\"\")","v":""}]
[{"$f":"IFERROR(IF(INDIRECT($A$14&ROW())<>\"\",COUNTIF([1]Summary!$B$30:$B$1029,INDIRECT($A$14&ROW())),\"\"),\"\")","v":""}]
[{"$f":"IFERROR(IF(INDIRECT($A$14&ROW())<>\"\",COUNTIF([1]Summary!$B$30:$B$1029,INDIRECT($A$14&ROW())),\"\"),\"\")","v":""}]
[{"$f":"IFERROR(IF(INDIRECT($A$14&ROW())<>\"\",COUNTIF([1]Summary!$B$30:$B$1029,INDIRECT($A$14&ROW())),\"\"),\"\")","v":""}]
[{"$f":"IFERROR(IF(INDIRECT($A$14&ROW())<>\"\",COUNTIF([1]Summary!$B$30:$B$1029,INDIRECT($A$14&ROW())),\"\"),\"\")","v":""}]
[{"$f":"IFERROR(IF(INDIRECT($A$14&ROW())<>\"\",COUNTIF([1]Summary!$B$30:$B$1029,INDIRECT($A$14&ROW())),\"\"),\"\")","v":""}]
[{"$f":"IFERROR(IF(INDIRECT($A$14&ROW())<>\"\",COUNTIF([1]Summary!$B$30:$B$1029,INDIRECT($A$14&ROW())),\"\"),\"\")","v":""}]
[{"$f":"IFERROR(IF(INDIRECT($A$14&ROW())<>\"\",COUNTIF([1]Summary!$B$30:$B$1029,INDIRECT($A$14&ROW())),\"\"),\"\")","v":""}]
[{"$f":"IFERROR(IF(INDIRECT($A$14&ROW())<>\"\",COUNTIF([1]Summary!$B$30:$B$1029,INDIRECT($A$14&ROW())),\"\"),\"\")","v":""}]
[{"$f":"IFERROR(IF(INDIRECT($A$14&ROW())<>\"\",COUNTIF([1]Summary!$B$30:$B$1029,INDIRECT($A$14&ROW())),\"\"),\"\")","v":""}]
[{"$f":"IFERROR(IF(INDIRECT($A$14&ROW())<>\"\",COUNTIF([1]Summary!$B$30:$B$1029,INDIRECT($A$14&ROW())),\"\"),\"\")","v":""}]
[{"$f":"IFERROR(IF(INDIRECT($A$14&ROW())<>\"\",COUNTIF([1]Summary!$B$30:$B$1029,INDIRECT($A$14&ROW())),\"\"),\"\")","v":""}]
[{"$f":"IFERROR(IF(INDIRECT($A$14&ROW())<>\"\",COUNTIF([1]Summary!$B$30:$B$1029,INDIRECT($A$14&ROW())),\"\"),\"\")","v":""}]
[{"$f":"IFERROR(IF(INDIRECT($A$14&ROW())<>\"\",COUNTIF([1]Summary!$B$30:$B$1029,INDIRECT($A$14&ROW())),\"\"),\"\")","v":""}]
[{"$f":"IFERROR(IF(INDIRECT($A$14&ROW())<>\"\",COUNTIF([1]Summary!$B$30:$B$1029,INDIRECT($A$14&ROW())),\"\"),\"\")","v":""}]
[{"$f":"IFERROR(IF(INDIRECT($A$14&ROW())<>\"\",COUNTIF([1]Summary!$B$30:$B$1029,INDIRECT($A$14&ROW())),\"\"),\"\")","v":""}]
[{"$f":"IFERROR(IF(INDIRECT($A$14&ROW())<>\"\",COUNTIF([1]Summary!$B$30:$B$1029,INDIRECT($A$14&ROW())),\"\"),\"\")","v":""}]
[{"$f":"IFERROR(IF(INDIRECT($A$14&ROW())<>\"\",COUNTIF([1]Summary!$B$30:$B$1029,INDIRECT($A$14&ROW())),\"\"),\"\")","v":""}]
[{"$f":"IFERROR(IF(INDIRECT($A$14&ROW())<>\"\",COUNTIF([1]Summary!$B$30:$B$1029,INDIRECT($A$14&ROW())),\"\"),\"\")","v":""}]
[{"$f":"IFERROR(IF(INDIRECT($A$14&ROW())<>\"\",COUNTIF([1]Summary!$B$30:$B$1029,INDIRECT($A$14&ROW())),\"\"),\"\")","v":""}]
[{"$f":"IFERROR(IF(INDIRECT($A$14&ROW())<>\"\",COUNTIF([1]Summary!$B$30:$B$1029,INDIRECT($A$14&ROW())),\"\"),\"\")","v":""}]
[{"$f":"IFERROR(IF(INDIRECT($A$14&ROW())<>\"\",COUNTIF([1]Summary!$B$30:$B$1029,INDIRECT($A$14&ROW())),\"\"),\"\")","v":""}]
[{"$f":"IFERROR(IF(INDIRECT($A$14&ROW())<>\"\",COUNTIF([1]Summary!$B$30:$B$1029,INDIRECT($A$14&ROW())),\"\"),\"\")","v":""}]
[{"$f":"IFERROR(IF(INDIRECT($A$14&ROW())<>\"\",COUNTIF([1]Summary!$B$30:$B$1029,INDIRECT($A$14&ROW())),\"\"),\"\")","v":""}]
[{"$f":"IFERROR(IF(INDIRECT($A$14&ROW())<>\"\",COUNTIF([1]Summary!$B$30:$B$1029,INDIRECT($A$14&ROW())),\"\"),\"\")","v":""}]
[{"$f":"IFERROR(IF(INDIRECT($A$14&ROW())<>\"\",COUNTIF([1]Summary!$B$30:$B$1029,INDIRECT($A$14&ROW())),\"\"),\"\")","v":""}]
[{"$f":"IFERROR(IF(INDIRECT($A$14&ROW())<>\"\",COUNTIF([1]Summary!$B$30:$B$1029,INDIRECT($A$14&ROW())),\"\"),\"\")","v":""}]
[{"$f":"IFERROR(IF(INDIRECT($A$14&ROW())<>\"\",COUNTIF([1]Summary!$B$30:$B$1029,INDIRECT($A$14&ROW())),\"\"),\"\")","v":""}]
[{"$f":"IFERROR(IF(INDIRECT($A$14&ROW())<>\"\",COUNTIF([1]Summary!$B$30:$B$1029,INDIRECT($A$14&ROW())),\"\"),\"\")","v":""}]
[{"$f":"IFERROR(IF(INDIRECT($A$14&ROW())<>\"\",COUNTIF([1]Summary!$B$30:$B$1029,INDIRECT($A$14&ROW())),\"\"),\"\")","v":""}]
[{"$f":"IFERROR(IF(INDIRECT($A$14&ROW())<>\"\",COUNTIF([1]Summary!$B$30:$B$1029,INDIRECT($A$14&ROW())),\"\"),\"\")","v":""}]
[{"$f":"IFERROR(IF(INDIRECT($A$14&ROW())<>\"\",COUNTIF([1]Summary!$B$30:$B$1029,INDIRECT($A$14&ROW())),\"\"),\"\")","v":""}]
[{"$f":"IFERROR(IF(INDIRECT($A$14&ROW())<>\"\",COUNTIF([1]Summary!$B$30:$B$1029,INDIRECT($A$14&ROW())),\"\"),\"\")","v":""}]
[{"$f":"IFERROR(IF(INDIRECT($A$14&ROW())<>\"\",COUNTIF([1]Summary!$B$30:$B$1029,INDIRECT($A$14&ROW())),\"\"),\"\")","v":""}]
[{"$f":"IFERROR(IF(INDIRECT($A$14&ROW())<>\"\",COUNTIF([1]Summary!$B$30:$B$1029,INDIRECT($A$14&ROW())),\"\"),\"\")","v":""}]
[{"$f":"IFERROR(IF(INDIRECT($A$14&ROW())<>\"\",COUNTIF([1]Summary!$B$30:$B$1029,INDIRECT($A$14&ROW())),\"\"),\"\")","v":""}]
[{"$f":"IFERROR(IF(INDIRECT($A$14&ROW())<>\"\",COUNTIF([1]Summary!$B$30:$B$1029,INDIRECT($A$14&ROW())),\"\"),\"\")","v":""}]
[{"$f":"IFERROR(IF(INDIRECT($A$14&ROW())<>\"\",COUNTIF([1]Summary!$B$30:$B$1029,INDIRECT($A$14&ROW())),\"\"),\"\")","v":""}]
[{"$f":"IFERROR(IF(INDIRECT($A$14&ROW())<>\"\",COUNTIF([1]Summary!$B$30:$B$1029,INDIRECT($A$14&ROW())),\"\"),\"\")","v":""}]
[{"$f":"IFERROR(IF(INDIRECT($A$14&ROW())<>\"\",COUNTIF([1]Summary!$B$30:$B$1029,INDIRECT($A$14&ROW())),\"\"),\"\")","v":""}]
[{"$f":"IFERROR(IF(INDIRECT($A$14&ROW())<>\"\",COUNTIF([1]Summary!$B$30:$B$1029,INDIRECT($A$14&ROW())),\"\"),\"\")","v":""}]
[{"$f":"IFERROR(IF(INDIRECT($A$14&ROW())<>\"\",COUNTIF([1]Summary!$B$30:$B$1029,INDIRECT($A$14&ROW())),\"\"),\"\")","v":""}]
[{"$f":"IFERROR(IF(INDIRECT($A$14&ROW())<>\"\",COUNTIF([1]Summary!$B$30:$B$1029,INDIRECT($A$14&ROW())),\"\"),\"\")","v":""}]
[{"$f":"IFERROR(IF(INDIRECT($A$14&ROW())<>\"\",COUNTIF([1]Summary!$B$30:$B$1029,INDIRECT($A$14&ROW())),\"\"),\"\")","v":""}]
[{"$f":"IFERROR(IF(INDIRECT($A$14&ROW())<>\"\",COUNTIF([1]Summary!$B$30:$B$1029,INDIRECT($A$14&ROW())),\"\"),\"\")","v":""}]
[{"$f":"IFERROR(IF(INDIRECT($A$14&ROW())<>\"\",COUNTIF([1]Summary!$B$30:$B$1029,INDIRECT($A$14&ROW())),\"\"),\"\")","v":""}]
[{"$f":"IFERROR(IF(INDIRECT($A$14&ROW())<>\"\",COUNTIF([1]Summary!$B$30:$B$1029,INDIRECT($A$14&ROW())),\"\"),\"\")","v":""}]
[{"$f":"IFERROR(IF(INDIRECT($A$14&ROW())<>\"\",COUNTIF([1]Summary!$B$30:$B$1029,INDIRECT($A$14&ROW())),\"\"),\"\")","v":""}]
[{"$f":"IFERROR(IF(INDIRECT($A$14&ROW())<>\"\",COUNTIF([1]Summary!$B$30:$B$1029,INDIRECT($A$14&ROW())),\"\"),\"\")","v":""}]
[{"$f":"IFERROR(IF(INDIRECT($A$14&ROW())<>\"\",COUNTIF([1]Summary!$B$30:$B$1029,INDIRECT($A$14&ROW())),\"\"),\"\")","v":""}]
[{"$f":"IFERROR(IF(INDIRECT($A$14&ROW())<>\"\",COUNTIF([1]Summary!$B$30:$B$1029,INDIRECT($A$14&ROW())),\"\"),\"\")","v":""}]
[{"$f":"IFERROR(IF(INDIRECT($A$14&ROW())<>\"\",COUNTIF([1]Summary!$B$30:$B$1029,INDIRECT($A$14&ROW())),\"\"),\"\")","v":""}]
[{"$f":"IFERROR(IF(INDIRECT($A$14&ROW())<>\"\",COUNTIF([1]Summary!$B$30:$B$1029,INDIRECT($A$14&ROW())),\"\"),\"\")","v":""}]
[{"$f":"IFERROR(IF(INDIRECT($A$14&ROW())<>\"\",COUNTIF([1]Summary!$B$30:$B$1029,INDIRECT($A$14&ROW())),\"\"),\"\")","v":""}]
[{"$f":"IFERROR(IF(INDIRECT($A$14&ROW())<>\"\",COUNTIF([1]Summary!$B$30:$B$1029,INDIRECT($A$14&ROW())),\"\"),\"\")","v":""}]
[{"$f":"IFERROR(IF(INDIRECT($A$14&ROW())<>\"\",COUNTIF([1]Summary!$B$30:$B$1029,INDIRECT($A$14&ROW())),\"\"),\"\")","v":""}]
[{"$f":"IFERROR(IF(INDIRECT($A$14&ROW())<>\"\",COUNTIF([1]Summary!$B$30:$B$1029,INDIRECT($A$14&ROW())),\"\"),\"\")","v":""}]
[{"$f":"IFERROR(IF(INDIRECT($A$14&ROW())<>\"\",COUNTIF([1]Summary!$B$30:$B$1029,INDIRECT($A$14&ROW())),\"\"),\"\")","v":""}]
[{"$f":"IFERROR(IF(INDIRECT($A$14&ROW())<>\"\",COUNTIF([1]Summary!$B$30:$B$1029,INDIRECT($A$14&ROW())),\"\"),\"\")","v":""}]
[{"$f":"IFERROR(IF(INDIRECT($A$14&ROW())<>\"\",COUNTIF([1]Summary!$B$30:$B$1029,INDIRECT($A$14&ROW())),\"\"),\"\")","v":""}]
[{"$f":"IFERROR(IF(INDIRECT($A$14&ROW())<>\"\",COUNTIF([1]Summary!$B$30:$B$1029,INDIRECT($A$14&ROW())),\"\"),\"\")","v":""}]
[{"$f":"IFERROR(IF(INDIRECT($A$14&ROW())<>\"\",COUNTIF([1]Summary!$B$30:$B$1029,INDIRECT($A$14&ROW())),\"\"),\"\")","v":""}]
[{"$f":"IFERROR(IF(INDIRECT($A$14&ROW())<>\"\",COUNTIF([1]Summary!$B$30:$B$1029,INDIRECT($A$14&ROW())),\"\"),\"\")","v":""}]
[{"$f":"IFERROR(IF(INDIRECT($A$14&ROW())<>\"\",COUNTIF([1]Summary!$B$30:$B$1029,INDIRECT($A$14&ROW())),\"\"),\"\")","v":""}]
[{"$f":"IFERROR(IF(INDIRECT($A$14&ROW())<>\"\",COUNTIF([1]Summary!$B$30:$B$1029,INDIRECT($A$14&ROW())),\"\"),\"\")","v":""}]
[{"$f":"IFERROR(IF(INDIRECT($A$14&ROW())<>\"\",COUNTIF([1]Summary!$B$30:$B$1029,INDIRECT($A$14&ROW())),\"\"),\"\")","v":""}]
[{"$f":"IFERROR(IF(INDIRECT($A$14&ROW())<>\"\",COUNTIF([1]Summary!$B$30:$B$1029,INDIRECT($A$14&ROW())),\"\"),\"\")","v":""}]
[{"$f":"IFERROR(IF(INDIRECT($A$14&ROW())<>\"\",COUNTIF([1]Summary!$B$30:$B$1029,INDIRECT($A$14&ROW())),\"\"),\"\")","v":""}]
[{"$f":"IFERROR(IF(INDIRECT($A$14&ROW())<>\"\",COUNTIF([1]Summary!$B$30:$B$1029,INDIRECT($A$14&ROW())),\"\"),\"\")","v":""}]
[{"$f":"IFERROR(IF(INDIRECT($A$14&ROW())<>\"\",COUNTIF([1]Summary!$B$30:$B$1029,INDIRECT($A$14&ROW())),\"\"),\"\")","v":""}]
[{"$f":"IFERROR(IF(INDIRECT($A$14&ROW())<>\"\",COUNTIF([1]Summary!$B$30:$B$1029,INDIRECT($A$14&ROW())),\"\"),\"\")","v":""}]
[{"$f":"IFERROR(IF(INDIRECT($A$14&ROW())<>\"\",COUNTIF([1]Summary!$B$30:$B$1029,INDIRECT($A$14&ROW())),\"\"),\"\")","v":""}]
[{"$f":"IFERROR(IF(INDIRECT($A$14&ROW())<>\"\",COUNTIF([1]Summary!$B$30:$B$1029,INDIRECT($A$14&ROW())),\"\"),\"\")","v":""}]
[{"$f":"IFERROR(IF(INDIRECT($A$14&ROW())<>\"\",COUNTIF([1]Summary!$B$30:$B$1029,INDIRECT($A$14&ROW())),\"\"),\"\")","v":""}]
[{"$f":"IFERROR(IF(INDIRECT($A$14&ROW())<>\"\",COUNTIF([1]Summary!$B$30:$B$1029,INDIRECT($A$14&ROW())),\"\"),\"\")","v":""}]
[{"$f":"IFERROR(IF(INDIRECT($A$14&ROW())<>\"\",COUNTIF([1]Summary!$B$30:$B$1029,INDIRECT($A$14&ROW())),\"\"),\"\")","v":""}]
[{"$f":"IFERROR(IF(INDIRECT($A$14&ROW())<>\"\",COUNTIF([1]Summary!$B$30:$B$1029,INDIRECT($A$14&ROW())),\"\"),\"\")","v":""}]
[{"$f":"IFERROR(IF(INDIRECT($A$14&ROW())<>\"\",COUNTIF([1]Summary!$B$30:$B$1029,INDIRECT($A$14&ROW())),\"\"),\"\")","v":""}]
[{"$f":"IFERROR(IF(INDIRECT($A$14&ROW())<>\"\",COUNTIF([1]Summary!$B$30:$B$1029,INDIRECT($A$14&ROW())),\"\"),\"\")","v":""}]
[{"$f":"IFERROR(IF(INDIRECT($A$14&ROW())<>\"\",COUNTIF([1]Summary!$B$30:$B$1029,INDIRECT($A$14&ROW())),\"\"),\"\")","v":""}]
[{"$f":"IFERROR(IF(INDIRECT($A$14&ROW())<>\"\",COUNTIF([1]Summary!$B$30:$B$1029,INDIRECT($A$14&ROW())),\"\"),\"\")","v":""}]
[{"$f":"IFERROR(IF(INDIRECT($A$14&ROW())<>\"\",COUNTIF([1]Summary!$B$30:$B$1029,INDIRECT($A$14&ROW())),\"\"),\"\")","v":""}]
[{"$f":"IFERROR(IF(INDIRECT($A$14&ROW())<>\"\",COUNTIF([1]Summary!$B$30:$B$1029,INDIRECT($A$14&ROW())),\"\"),\"\")","v":""}]
[{"$f":"IFERROR(IF(INDIRECT($A$14&ROW())<>\"\",COUNTIF([1]Summary!$B$30:$B$1029,INDIRECT($A$14&ROW())),\"\"),\"\")","v":""}]
[{"$f":"IFERROR(IF(INDIRECT($A$14&ROW())<>\"\",COUNTIF([1]Summary!$B$30:$B$1029,INDIRECT($A$14&ROW())),\"\"),\"\")","v":""}]
[{"$f":"IFERROR(IF(INDIRECT($A$14&ROW())<>\"\",COUNTIF([1]Summary!$B$30:$B$1029,INDIRECT($A$14&ROW())),\"\"),\"\")","v":""}]
[{"$f":"IFERROR(IF(INDIRECT($A$14&ROW())<>\"\",COUNTIF([1]Summary!$B$30:$B$1029,INDIRECT($A$14&ROW())),\"\"),\"\")","v":""}]
[{"$f":"IFERROR(IF(INDIRECT($A$14&ROW())<>\"\",COUNTIF([1]Summary!$B$30:$B$1029,INDIRECT($A$14&ROW())),\"\"),\"\")","v":""}]
[{"$f":"IFERROR(IF(INDIRECT($A$14&ROW())<>\"\",COUNTIF([1]Summary!$B$30:$B$1029,INDIRECT($A$14&ROW())),\"\"),\"\")","v":""}]
[{"$f":"IFERROR(IF(INDIRECT($A$14&ROW())<>\"\",COUNTIF([1]Summary!$B$30:$B$1029,INDIRECT($A$14&ROW())),\"\"),\"\")","v":""}]
[{"$f":"IFERROR(IF(INDIRECT($A$14&ROW())<>\"\",COUNTIF([1]Summary!$B$30:$B$1029,INDIRECT($A$14&ROW())),\"\"),\"\")","v":""}]
[{"$f":"IFERROR(IF(INDIRECT($A$14&ROW())<>\"\",COUNTIF([1]Summary!$B$30:$B$1029,INDIRECT($A$14&ROW())),\"\"),\"\")","v":""}]
[{"$f":"IFERROR(IF(INDIRECT($A$14&ROW())<>\"\",COUNTIF([1]Summary!$B$30:$B$1029,INDIRECT($A$14&ROW())),\"\"),\"\")","v":""}]
[{"$f":"IFERROR(IF(INDIRECT($A$14&ROW())<>\"\",COUNTIF([1]Summary!$B$30:$B$1029,INDIRECT($A$14&ROW())),\"\"),\"\")","v":""}]
[{"$f":"IFERROR(IF(INDIRECT($A$14&ROW())<>\"\",COUNTIF([1]Summary!$B$30:$B$1029,INDIRECT($A$14&ROW())),\"\"),\"\")","v":""}]
[{"$f":"IFERROR(IF(INDIRECT($A$14&ROW())<>\"\",COUNTIF([1]Summary!$B$30:$B$1029,INDIRECT($A$14&ROW())),\"\"),\"\")","v":""}]
[{"$f":"IFERROR(IF(INDIRECT($A$14&ROW())<>\"\",COUNTIF([1]Summary!$B$30:$B$1029,INDIRECT($A$14&ROW())),\"\"),\"\")","v":""}]
[{"$f":"IFERROR(IF(INDIRECT($A$14&ROW())<>\"\",COUNTIF([1]Summary!$B$30:$B$1029,INDIRECT($A$14&ROW())),\"\"),\"\")","v":""}]
[{"$f":"IFERROR(IF(INDIRECT($A$14&ROW())<>\"\",COUNTIF([1]Summary!$B$30:$B$1029,INDIRECT($A$14&ROW())),\"\"),\"\")","v":""}]
[{"$f":"IFERROR(IF(INDIRECT($A$14&ROW())<>\"\",COUNTIF([1]Summary!$B$30:$B$1029,INDIRECT($A$14&ROW())),\"\"),\"\")","v":""}]
[{"$f":"IFERROR(IF(INDIRECT($A$14&ROW())<>\"\",COUNTIF([1]Summary!$B$30:$B$1029,INDIRECT($A$14&ROW())),\"\"),\"\")","v":""}]
[{"$f":"IFERROR(IF(INDIRECT($A$14&ROW())<>\"\",COUNTIF([1]Summary!$B$30:$B$1029,INDIRECT($A$14&ROW())),\"\"),\"\")","v":""}]
[{"$f":"IFERROR(IF(INDIRECT($A$14&ROW())<>\"\",COUNTIF([1]Summary!$B$30:$B$1029,INDIRECT($A$14&ROW())),\"\"),\"\")","v":""}]
[{"$f":"IFERROR(IF(INDIRECT($A$14&ROW())<>\"\",COUNTIF([1]Summary!$B$30:$B$1029,INDIRECT($A$14&ROW())),\"\"),\"\")","v":""}]
[{"$f":"IFERROR(IF(INDIRECT($A$14&ROW())<>\"\",COUNTIF([1]Summary!$B$30:$B$1029,INDIRECT($A$14&ROW())),\"\"),\"\")","v":""}]
[{"$f":"IFERROR(IF(INDIRECT($A$14&ROW())<>\"\",COUNTIF([1]Summary!$B$30:$B$1029,INDIRECT($A$14&ROW())),\"\"),\"\")","v":""}]
[{"$f":"IFERROR(IF(INDIRECT($A$14&ROW())<>\"\",COUNTIF([1]Summary!$B$30:$B$1029,INDIRECT($A$14&ROW())),\"\"),\"\")","v":""}]
[{"$f":"IFERROR(IF(INDIRECT($A$14&ROW())<>\"\",COUNTIF([1]Summary!$B$30:$B$1029,INDIRECT($A$14&ROW())),\"\"),\"\")","v":""}]
[{"$f":"IFERROR(IF(INDIRECT($A$14&ROW())<>\"\",COUNTIF([1]Summary!$B$30:$B$1029,INDIRECT($A$14&ROW())),\"\"),\"\")","v":""}]
[{"$f":"IFERROR(IF(INDIRECT($A$14&ROW())<>\"\",COUNTIF([1]Summary!$B$30:$B$1029,INDIRECT($A$14&ROW())),\"\"),\"\")","v":""}]
[{"$f":"IFERROR(IF(INDIRECT($A$14&ROW())<>\"\",COUNTIF([1]Summary!$B$30:$B$1029,INDIRECT($A$14&ROW())),\"\"),\"\")","v":""}]
[{"$f":"IFERROR(IF(INDIRECT($A$14&ROW())<>\"\",COUNTIF([1]Summary!$B$30:$B$1029,INDIRECT($A$14&ROW())),\"\"),\"\")","v":""}]
[{"$f":"IFERROR(IF(INDIRECT($A$14&ROW())<>\"\",COUNTIF([1]Summary!$B$30:$B$1029,INDIRECT($A$14&ROW())),\"\"),\"\")","v":""}]
[{"$f":"IFERROR(IF(INDIRECT($A$14&ROW())<>\"\",COUNTIF([1]Summary!$B$30:$B$1029,INDIRECT($A$14&ROW())),\"\"),\"\")","v":""}]
[{"$f":"IFERROR(IF(INDIRECT($A$14&ROW())<>\"\",COUNTIF([1]Summary!$B$30:$B$1029,INDIRECT($A$14&ROW())),\"\"),\"\")","v":""}]
[{"$f":"IFERROR(IF(INDIRECT($A$14&ROW())<>\"\",COUNTIF([1]Summary!$B$30:$B$1029,INDIRECT($A$14&ROW())),\"\"),\"\")","v":""}]
[{"$f":"IFERROR(IF(INDIRECT($A$14&ROW())<>\"\",COUNTIF([1]Summary!$B$30:$B$1029,INDIRECT($A$14&ROW())),\"\"),\"\")","v":""}]
[{"$f":"IFERROR(IF(INDIRECT($A$14&ROW())<>\"\",COUNTIF([1]Summary!$B$30:$B$1029,INDIRECT($A$14&ROW())),\"\"),\"\")","v":""}]
[{"$f":"IFERROR(IF(INDIRECT($A$14&ROW())<>\"\",COUNTIF([1]Summary!$B$30:$B$1029,INDIRECT($A$14&ROW())),\"\"),\"\")","v":""}]
[{"$f":"IFERROR(IF(INDIRECT($A$14&ROW())<>\"\",COUNTIF([1]Summary!$B$30:$B$1029,INDIRECT($A$14&ROW())),\"\"),\"\")","v":""}]
[{"$f":"IFERROR(IF(INDIRECT($A$14&ROW())<>\"\",COUNTIF([1]Summary!$B$30:$B$1029,INDIRECT($A$14&ROW())),\"\"),\"\")","v":""}]
[{"$f":"IFERROR(IF(INDIRECT($A$14&ROW())<>\"\",COUNTIF([1]Summary!$B$30:$B$1029,INDIRECT($A$14&ROW())),\"\"),\"\")","v":""}]
[{"$f":"IFERROR(IF(INDIRECT($A$14&ROW())<>\"\",COUNTIF([1]Summary!$B$30:$B$1029,INDIRECT($A$14&ROW())),\"\"),\"\")","v":""}]
[{"$f":"IFERROR(IF(INDIRECT($A$14&ROW())<>\"\",COUNTIF([1]Summary!$B$30:$B$1029,INDIRECT($A$14&ROW())),\"\"),\"\")","v":""}]
[{"$f":"IFERROR(IF(INDIRECT($A$14&ROW())<>\"\",COUNTIF([1]Summary!$B$30:$B$1029,INDIRECT($A$14&ROW())),\"\"),\"\")","v":""}]
[{"$f":"IFERROR(IF(INDIRECT($A$14&ROW())<>\"\",COUNTIF([1]Summary!$B$30:$B$1029,INDIRECT($A$14&ROW())),\"\"),\"\")","v":""}]
[{"$f":"IFERROR(IF(INDIRECT($A$14&ROW())<>\"\",COUNTIF([1]Summary!$B$30:$B$1029,INDIRECT($A$14&ROW())),\"\"),\"\")","v":""}]
[{"$f":"IFERROR(IF(INDIRECT($A$14&ROW())<>\"\",COUNTIF([1]Summary!$B$30:$B$1029,INDIRECT($A$14&ROW())),\"\"),\"\")","v":""}]
[{"$f":"IFERROR(IF(INDIRECT($A$14&ROW())<>\"\",COUNTIF([1]Summary!$B$30:$B$1029,INDIRECT($A$14&ROW())),\"\"),\"\")","v":""}]
[{"$f":"IFERROR(IF(INDIRECT($A$14&ROW())<>\"\",COUNTIF([1]Summary!$B$30:$B$1029,INDIRECT($A$14&ROW())),\"\"),\"\")","v":""}]
[{"$f":"IFERROR(IF(INDIRECT($A$14&ROW())<>\"\",COUNTIF([1]Summary!$B$30:$B$1029,INDIRECT($A$14&ROW())),\"\"),\"\")","v":""}]
[{"$f":"IFERROR(IF(INDIRECT($A$14&ROW())<>\"\",COUNTIF([1]Summary!$B$30:$B$1029,INDIRECT($A$14&ROW())),\"\"),\"\")","v":""}]
[{"$f":"IFERROR(IF(INDIRECT($A$14&ROW())<>\"\",COUNTIF([1]Summary!$B$30:$B$1029,INDIRECT($A$14&ROW())),\"\"),\"\")","v":""}]
[{"$f":"IFERROR(IF(INDIRECT($A$14&ROW())<>\"\",COUNTIF([1]Summary!$B$30:$B$1029,INDIRECT($A$14&ROW())),\"\"),\"\")","v":""}]
[{"$f":"IFERROR(IF(INDIRECT($A$14&ROW())<>\"\",COUNTIF([1]Summary!$B$30:$B$1029,INDIRECT($A$14&ROW())),\"\"),\"\")","v":""}]
[{"$f":"IFERROR(IF(INDIRECT($A$14&ROW())<>\"\",COUNTIF([1]Summary!$B$30:$B$1029,INDIRECT($A$14&ROW())),\"\"),\"\")","v":""}]
[{"$f":"IFERROR(IF(INDIRECT($A$14&ROW())<>\"\",COUNTIF([1]Summary!$B$30:$B$1029,INDIRECT($A$14&ROW())),\"\"),\"\")","v":""}]
[{"$f":"IFERROR(IF(INDIRECT($A$14&ROW())<>\"\",COUNTIF([1]Summary!$B$30:$B$1029,INDIRECT($A$14&ROW())),\"\"),\"\")","v":""}]
[{"$f":"IFERROR(IF(INDIRECT($A$14&ROW())<>\"\",COUNTIF([1]Summary!$B$30:$B$1029,INDIRECT($A$14&ROW())),\"\"),\"\")","v":""}]
[{"$f":"IFERROR(IF(INDIRECT($A$14&ROW())<>\"\",COUNTIF([1]Summary!$B$30:$B$1029,INDIRECT($A$14&ROW())),\"\"),\"\")","v":""}]
[{"$f":"IFERROR(IF(INDIRECT($A$14&ROW())<>\"\",COUNTIF([1]Summary!$B$30:$B$1029,INDIRECT($A$14&ROW())),\"\"),\"\")","v":""}]
[{"$f":"IFERROR(IF(INDIRECT($A$14&ROW())<>\"\",COUNTIF([1]Summary!$B$30:$B$1029,INDIRECT($A$14&ROW())),\"\"),\"\")","v":""}]
[{"$f":"IFERROR(IF(INDIRECT($A$14&ROW())<>\"\",COUNTIF([1]Summary!$B$30:$B$1029,INDIRECT($A$14&ROW())),\"\"),\"\")","v":""}]
[{"$f":"IFERROR(IF(INDIRECT($A$14&ROW())<>\"\",COUNTIF([1]Summary!$B$30:$B$1029,INDIRECT($A$14&ROW())),\"\"),\"\")","v":""}]
[{"$f":"IFERROR(IF(INDIRECT($A$14&ROW())<>\"\",COUNTIF([1]Summary!$B$30:$B$1029,INDIRECT($A$14&ROW())),\"\"),\"\")","v":""}]
[{"$f":"IFERROR(IF(INDIRECT($A$14&ROW())<>\"\",COUNTIF([1]Summary!$B$30:$B$1029,INDIRECT($A$14&ROW())),\"\"),\"\")","v":""}]
[{"$f":"IFERROR(IF(INDIRECT($A$14&ROW())<>\"\",COUNTIF([1]Summary!$B$30:$B$1029,INDIRECT($A$14&ROW())),\"\"),\"\")","v":""}]
[{"$f":"IFERROR(IF(INDIRECT($A$14&ROW())<>\"\",COUNTIF([1]Summary!$B$30:$B$1029,INDIRECT($A$14&ROW())),\"\"),\"\")","v":""}]
[{"$f":"IFERROR(IF(INDIRECT($A$14&ROW())<>\"\",COUNTIF([1]Summary!$B$30:$B$1029,INDIRECT($A$14&ROW())),\"\"),\"\")","v":""}]
[{"$f":"IFERROR(IF(INDIRECT($A$14&ROW())<>\"\",COUNTIF([1]Summary!$B$30:$B$1029,INDIRECT($A$14&ROW())),\"\"),\"\")","v":""}]
[{"$f":"IFERROR(IF(INDIRECT($A$14&ROW())<>\"\",COUNTIF([1]Summary!$B$30:$B$1029,INDIRECT($A$14&ROW())),\"\"),\"\")","v":""}]
[{"$f":"IFERROR(IF(INDIRECT($A$14&ROW())<>\"\",COUNTIF([1]Summary!$B$30:$B$1029,INDIRECT($A$14&ROW())),\"\"),\"\")","v":""}]
[{"$f":"IFERROR(IF(INDIRECT($A$14&ROW())<>\"\",COUNTIF([1]Summary!$B$30:$B$1029,INDIRECT($A$14&ROW())),\"\"),\"\")","v":""}]
[{"$f":"IFERROR(IF(INDIRECT($A$14&ROW())<>\"\",COUNTIF([1]Summary!$B$30:$B$1029,INDIRECT($A$14&ROW())),\"\"),\"\")","v":""}]
[{"$f":"IFERROR(IF(INDIRECT($A$14&ROW())<>\"\",COUNTIF([1]Summary!$B$30:$B$1029,INDIRECT($A$14&ROW())),\"\"),\"\")","v":""}]
[{"$f":"IFERROR(IF(INDIRECT($A$14&ROW())<>\"\",COUNTIF([1]Summary!$B$30:$B$1029,INDIRECT($A$14&ROW())),\"\"),\"\")","v":""}]
[{"$f":"IFERROR(IF(INDIRECT($A$14&ROW())<>\"\",COUNTIF([1]Summary!$B$30:$B$1029,INDIRECT($A$14&ROW())),\"\"),\"\")","v":""}]
[{"$f":"IFERROR(IF(INDIRECT($A$14&ROW())<>\"\",COUNTIF([1]Summary!$B$30:$B$1029,INDIRECT($A$14&ROW())),\"\"),\"\")","v":""}]
[{"$f":"IFERROR(IF(INDIRECT($A$14&ROW())<>\"\",COUNTIF([1]Summary!$B$30:$B$1029,INDIRECT($A$14&ROW())),\"\"),\"\")","v":""}]
[{"$f":"IFERROR(IF(INDIRECT($A$14&ROW())<>\"\",COUNTIF([1]Summary!$B$30:$B$1029,INDIRECT($A$14&ROW())),\"\"),\"\")","v":""}]
[{"$f":"IFERROR(IF(INDIRECT($A$14&ROW())<>\"\",COUNTIF([1]Summary!$B$30:$B$1029,INDIRECT($A$14&ROW())),\"\"),\"\")","v":""}]
[{"$f":"IFERROR(IF(INDIRECT($A$14&ROW())<>\"\",COUNTIF([1]Summary!$B$30:$B$1029,INDIRECT($A$14&ROW())),\"\"),\"\")","v":""}]
[{"$f":"IFERROR(IF(INDIRECT($A$14&ROW())<>\"\",COUNTIF([1]Summary!$B$30:$B$1029,INDIRECT($A$14&ROW())),\"\"),\"\")","v":""}]
[{"$f":"IFERROR(IF(INDIRECT($A$14&ROW())<>\"\",COUNTIF([1]Summary!$B$30:$B$1029,INDIRECT($A$14&ROW())),\"\"),\"\")","v":""}]
[{"$f":"IFERROR(IF(INDIRECT($A$14&ROW())<>\"\",COUNTIF([1]Summary!$B$30:$B$1029,INDIRECT($A$14&ROW())),\"\"),\"\")","v":""}]
[{"$f":"IFERROR(IF(INDIRECT($A$14&ROW())<>\"\",COUNTIF([1]Summary!$B$30:$B$1029,INDIRECT($A$14&ROW())),\"\"),\"\")","v":""}]
[{"$f":"IFERROR(IF(INDIRECT($A$14&ROW())<>\"\",COUNTIF([1]Summary!$B$30:$B$1029,INDIRECT($A$14&ROW())),\"\"),\"\")","v":""}]
[{"$f":"IFERROR(IF(INDIRECT($A$14&ROW())<>\"\",COUNTIF([1]Summary!$B$30:$B$1029,INDIRECT($A$14&ROW())),\"\"),\"\")","v":""}]
[{"$f":"IFERROR(IF(INDIRECT($A$14&ROW())<>\"\",COUNTIF([1]Summary!$B$30:$B$1029,INDIRECT($A$14&ROW())),\"\"),\"\")","v":""}]
[{"$f":"IFERROR(IF(INDIRECT($A$14&ROW())<>\"\",COUNTIF([1]Summary!$B$30:$B$1029,INDIRECT($A$14&ROW())),\"\"),\"\")","v":""}]
[{"$f":"IFERROR(IF(INDIRECT($A$14&ROW())<>\"\",COUNTIF([1]Summary!$B$30:$B$1029,INDIRECT($A$14&ROW())),\"\"),\"\")","v":""}]
[{"$f":"IFERROR(IF(INDIRECT($A$14&ROW())<>\"\",COUNTIF([1]Summary!$B$30:$B$1029,INDIRECT($A$14&ROW())),\"\"),\"\")","v":""}]
[{"$f":"IFERROR(IF(INDIRECT($A$14&ROW())<>\"\",COUNTIF([1]Summary!$B$30:$B$1029,INDIRECT($A$14&ROW())),\"\"),\"\")","v":""}]
[{"$f":"IFERROR(IF(INDIRECT($A$14&ROW())<>\"\",COUNTIF([1]Summary!$B$30:$B$1029,INDIRECT($A$14&ROW())),\"\"),\"\")","v":""}]
[{"$f":"IFERROR(IF(INDIRECT($A$14&ROW())<>\"\",COUNTIF([1]Summary!$B$30:$B$1029,INDIRECT($A$14&ROW())),\"\"),\"\")","v":""}]
[{"$f":"IFERROR(IF(INDIRECT($A$14&ROW())<>\"\",COUNTIF([1]Summary!$B$30:$B$1029,INDIRECT($A$14&ROW())),\"\"),\"\")","v":""}]
[{"$f":"IFERROR(IF(INDIRECT($A$14&ROW())<>\"\",COUNTIF([1]Summary!$B$30:$B$1029,INDIRECT($A$14&ROW())),\"\"),\"\")","v":""}]
[{"$f":"IFERROR(IF(INDIRECT($A$14&ROW())<>\"\",COUNTIF([1]Summary!$B$30:$B$1029,INDIRECT($A$14&ROW())),\"\"),\"\")","v":""}]
[{"$f":"IFERROR(IF(INDIRECT($A$14&ROW())<>\"\",COUNTIF([1]Summary!$B$30:$B$1029,INDIRECT($A$14&ROW())),\"\"),\"\")","v":""}]
[{"$f":"IFERROR(IF(INDIRECT($A$14&ROW())<>\"\",COUNTIF([1]Summary!$B$30:$B$1029,INDIRECT($A$14&ROW())),\"\"),\"\")","v":""}]
[{"$f":"IFERROR(IF(INDIRECT($A$14&ROW())<>\"\",COUNTIF([1]Summary!$B$30:$B$1029,INDIRECT($A$14&ROW())),\"\"),\"\")","v":""}]
[{"$f":"IFERROR(IF(INDIRECT($A$14&ROW())<>\"\",COUNTIF([1]Summary!$B$30:$B$1029,INDIRECT($A$14&ROW())),\"\"),\"\")","v":""}]
[{"$f":"IFERROR(IF(INDIRECT($A$14&ROW())<>\"\",COUNTIF([1]Summary!$B$30:$B$1029,INDIRECT($A$14&ROW())),\"\"),\"\")","v":""}]
[{"$f":"IFERROR(IF(INDIRECT($A$14&ROW())<>\"\",COUNTIF([1]Summary!$B$30:$B$1029,INDIRECT($A$14&ROW())),\"\"),\"\")","v":""}]
[{"$f":"IFERROR(IF(INDIRECT($A$14&ROW())<>\"\",COUNTIF([1]Summary!$B$30:$B$1029,INDIRECT($A$14&ROW())),\"\"),\"\")","v":""}]
[{"$f":"IFERROR(IF(INDIRECT($A$14&ROW())<>\"\",COUNTIF([1]Summary!$B$30:$B$1029,INDIRECT($A$14&ROW())),\"\"),\"\")","v":""}]
[{"$f":"IFERROR(IF(INDIRECT($A$14&ROW())<>\"\",COUNTIF([1]Summary!$B$30:$B$1029,INDIRECT($A$14&ROW())),\"\"),\"\")","v":""}]
[{"$f":"IFERROR(IF(INDIRECT($A$14&ROW())<>\"\",COUNTIF([1]Summary!$B$30:$B$1029,INDIRECT($A$14&ROW())),\"\"),\"\")","v":""}]
[{"$f":"IFERROR(IF(INDIRECT($A$14&ROW())<>\"\",COUNTIF([1]Summary!$B$30:$B$1029,INDIRECT($A$14&ROW())),\"\"),\"\")","v":""}]
[{"$f":"IFERROR(IF(INDIRECT($A$14&ROW())<>\"\",COUNTIF([1]Summary!$B$30:$B$1029,INDIRECT($A$14&ROW())),\"\"),\"\")","v":""}]
[{"$f":"IFERROR(IF(INDIRECT($A$14&ROW())<>\"\",COUNTIF([1]Summary!$B$30:$B$1029,INDIRECT($A$14&ROW())),\"\"),\"\")","v":""}]
[{"$f":"IFERROR(IF(INDIRECT($A$14&ROW())<>\"\",COUNTIF([1]Summary!$B$30:$B$1029,INDIRECT($A$14&ROW())),\"\"),\"\")","v":""}]
[{"$f":"IFERROR(IF(INDIRECT($A$14&ROW())<>\"\",COUNTIF([1]Summary!$B$30:$B$1029,INDIRECT($A$14&ROW())),\"\"),\"\")","v":""}]
[{"$f":"IFERROR(IF(INDIRECT($A$14&ROW())<>\"\",COUNTIF([1]Summary!$B$30:$B$1029,INDIRECT($A$14&ROW())),\"\"),\"\")","v":""}]
[{"$f":"IFERROR(IF(INDIRECT($A$14&ROW())<>\"\",COUNTIF([1]Summary!$B$30:$B$1029,INDIRECT($A$14&ROW())),\"\"),\"\")","v":""}]
[{"$f":"IFERROR(IF(INDIRECT($A$14&ROW())<>\"\",COUNTIF([1]Summary!$B$30:$B$1029,INDIRECT($A$14&ROW())),\"\"),\"\")","v":""}]
[{"$f":"IFERROR(IF(INDIRECT($A$14&ROW())<>\"\",COUNTIF([1]Summary!$B$30:$B$1029,INDIRECT($A$14&ROW())),\"\"),\"\")","v":""}]
[{"$f":"IFERROR(IF(INDIRECT($A$14&ROW())<>\"\",COUNTIF([1]Summary!$B$30:$B$1029,INDIRECT($A$14&ROW())),\"\"),\"\")","v":""}]
[{"$f":"IFERROR(IF(INDIRECT($A$14&ROW())<>\"\",COUNTIF([1]Summary!$B$30:$B$1029,INDIRECT($A$14&ROW())),\"\"),\"\")","v":""}]
[{"$f":"IFERROR(IF(INDIRECT($A$14&ROW())<>\"\",COUNTIF([1]Summary!$B$30:$B$1029,INDIRECT($A$14&ROW())),\"\"),\"\")","v":""}]
[{"$f":"IFERROR(IF(INDIRECT($A$14&ROW())<>\"\",COUNTIF([1]Summary!$B$30:$B$1029,INDIRECT($A$14&ROW())),\"\"),\"\")","v":""}]
[{"$f":"IFERROR(IF(INDIRECT($A$14&ROW())<>\"\",COUNTIF([1]Summary!$B$30:$B$1029,INDIRECT($A$14&ROW())),\"\"),\"\")","v":""}]
[{"$f":"IFERROR(IF(INDIRECT($A$14&ROW())<>\"\",COUNTIF([1]Summary!$B$30:$B$1029,INDIRECT($A$14&ROW())),\"\"),\"\")","v":""}]
[{"$f":"IFERROR(IF(INDIRECT($A$14&ROW())<>\"\",COUNTIF([1]Summary!$B$30:$B$1029,INDIRECT($A$14&ROW())),\"\"),\"\")","v":""}]
[{"$f":"IFERROR(IF(INDIRECT($A$14&ROW())<>\"\",COUNTIF([1]Summary!$B$30:$B$1029,INDIRECT($A$14&ROW())),\"\"),\"\")","v":""}]
[{"$f":"IFERROR(IF(INDIRECT($A$14&ROW())<>\"\",COUNTIF([1]Summary!$B$30:$B$1029,INDIRECT($A$14&ROW())),\"\"),\"\")","v":""}]
[{"$f":"IFERROR(IF(INDIRECT($A$14&ROW())<>\"\",COUNTIF([1]Summary!$B$30:$B$1029,INDIRECT($A$14&ROW())),\"\"),\"\")","v":""}]
[{"$f":"IFERROR(IF(INDIRECT($A$14&ROW())<>\"\",COUNTIF([1]Summary!$B$30:$B$1029,INDIRECT($A$14&ROW())),\"\"),\"\")","v":""}]
[{"$f":"IFERROR(IF(INDIRECT($A$14&ROW())<>\"\",COUNTIF([1]Summary!$B$30:$B$1029,INDIRECT($A$14&ROW())),\"\"),\"\")","v":""}]
[{"$f":"IFERROR(IF(INDIRECT($A$14&ROW())<>\"\",COUNTIF([1]Summary!$B$30:$B$1029,INDIRECT($A$14&ROW())),\"\"),\"\")","v":""}]
[{"$f":"IFERROR(IF(INDIRECT($A$14&ROW())<>\"\",COUNTIF([1]Summary!$B$30:$B$1029,INDIRECT($A$14&ROW())),\"\"),\"\")","v":""}]
[{"$f":"IFERROR(IF(INDIRECT($A$14&ROW())<>\"\",COUNTIF([1]Summary!$B$30:$B$1029,INDIRECT($A$14&ROW())),\"\"),\"\")","v":""}]
[{"$f":"IFERROR(IF(INDIRECT($A$14&ROW())<>\"\",COUNTIF([1]Summary!$B$30:$B$1029,INDIRECT($A$14&ROW())),\"\"),\"\")","v":""}]
[{"$f":"IFERROR(IF(INDIRECT($A$14&ROW())<>\"\",COUNTIF([1]Summary!$B$30:$B$1029,INDIRECT($A$14&ROW())),\"\"),\"\")","v":""}]
[{"$f":"IFERROR(IF(INDIRECT($A$14&ROW())<>\"\",COUNTIF([1]Summary!$B$30:$B$1029,INDIRECT($A$14&ROW())),\"\"),\"\")","v":""}]
[{"$f":"IFERROR(IF(INDIRECT($A$14&ROW())<>\"\",COUNTIF([1]Summary!$B$30:$B$1029,INDIRECT($A$14&ROW())),\"\"),\"\")","v":""}]
[{"$f":"IFERROR(IF(INDIRECT($A$14&ROW())<>\"\",COUNTIF([1]Summary!$B$30:$B$1029,INDIRECT($A$14&ROW())),\"\"),\"\")","v":""}]
[{"$f":"IFERROR(IF(INDIRECT($A$14&ROW())<>\"\",COUNTIF([1]Summary!$B$30:$B$1029,INDIRECT($A$14&ROW())),\"\"),\"\")","v":""}]
[{"$f":"IFERROR(IF(INDIRECT($A$14&ROW())<>\"\",COUNTIF([1]Summary!$B$30:$B$1029,INDIRECT($A$14&ROW())),\"\"),\"\")","v":""}]
[{"$f":"IFERROR(IF(INDIRECT($A$14&ROW())<>\"\",COUNTIF([1]Summary!$B$30:$B$1029,INDIRECT($A$14&ROW())),\"\"),\"\")","v":""}]
[{"$f":"IFERROR(IF(INDIRECT($A$14&ROW())<>\"\",COUNTIF([1]Summary!$B$30:$B$1029,INDIRECT($A$14&ROW())),\"\"),\"\")","v":""}]
[{"$f":"IFERROR(IF(INDIRECT($A$14&ROW())<>\"\",COUNTIF([1]Summary!$B$30:$B$1029,INDIRECT($A$14&ROW())),\"\"),\"\")","v":""}]
[{"$f":"IFERROR(IF(INDIRECT($A$14&ROW())<>\"\",COUNTIF([1]Summary!$B$30:$B$1029,INDIRECT($A$14&ROW())),\"\"),\"\")","v":""}]
[{"$f":"IFERROR(IF(INDIRECT($A$14&ROW())<>\"\",COUNTIF([1]Summary!$B$30:$B$1029,INDIRECT($A$14&ROW())),\"\"),\"\")","v":""}]
[{"$f":"IFERROR(IF(INDIRECT($A$14&ROW())<>\"\",COUNTIF([1]Summary!$B$30:$B$1029,INDIRECT($A$14&ROW())),\"\"),\"\")","v":""}]
[{"$f":"IFERROR(IF(INDIRECT($A$14&ROW())<>\"\",COUNTIF([1]Summary!$B$30:$B$1029,INDIRECT($A$14&ROW())),\"\"),\"\")","v":""}]
[{"$f":"IFERROR(IF(INDIRECT($A$14&ROW())<>\"\",COUNTIF([1]Summary!$B$30:$B$1029,INDIRECT($A$14&ROW())),\"\"),\"\")","v":""}]
[{"$f":"IFERROR(IF(INDIRECT($A$14&ROW())<>\"\",COUNTIF([1]Summary!$B$30:$B$1029,INDIRECT($A$14&ROW())),\"\"),\"\")","v":""}]
[{"$f":"IFERROR(IF(INDIRECT($A$14&ROW())<>\"\",COUNTIF([1]Summary!$B$30:$B$1029,INDIRECT($A$14&ROW())),\"\"),\"\")","v":""}]
[{"$f":"IFERROR(IF(INDIRECT($A$14&ROW())<>\"\",COUNTIF([1]Summary!$B$30:$B$1029,INDIRECT($A$14&ROW())),\"\"),\"\")","v":""}]
[{"$f":"IFERROR(IF(INDIRECT($A$14&ROW())<>\"\",COUNTIF([1]Summary!$B$30:$B$1029,INDIRECT($A$14&ROW())),\"\"),\"\")","v":""}]
[{"$f":"IFERROR(IF(INDIRECT($A$14&ROW())<>\"\",COUNTIF([1]Summary!$B$30:$B$1029,INDIRECT($A$14&ROW())),\"\"),\"\")","v":""}]
[{"$f":"IFERROR(IF(INDIRECT($A$14&ROW())<>\"\",COUNTIF([1]Summary!$B$30:$B$1029,INDIRECT($A$14&ROW())),\"\"),\"\")","v":""}]
[{"$f":"IFERROR(IF(INDIRECT($A$14&ROW())<>\"\",COUNTIF([1]Summary!$B$30:$B$1029,INDIRECT($A$14&ROW())),\"\"),\"\")","v":""}]
[{"$f":"IFERROR(IF(INDIRECT($A$14&ROW())<>\"\",COUNTIF([1]Summary!$B$30:$B$1029,INDIRECT($A$14&ROW())),\"\"),\"\")","v":""}]
[{"$f":"IFERROR(IF(INDIRECT($A$14&ROW())<>\"\",COUNTIF([1]Summary!$B$30:$B$1029,INDIRECT($A$14&ROW())),\"\"),\"\")","v":""}]
[{"$f":"IFERROR(IF(INDIRECT($A$14&ROW())<>\"\",COUNTIF([1]Summary!$B$30:$B$1029,INDIRECT($A$14&ROW())),\"\"),\"\")","v":""}]
[{"$f":"IFERROR(IF(INDIRECT($A$14&ROW())<>\"\",COUNTIF([1]Summary!$B$30:$B$1029,INDIRECT($A$14&ROW())),\"\"),\"\")","v":""}]
[{"$f":"IFERROR(IF(INDIRECT($A$14&ROW())<>\"\",COUNTIF([1]Summary!$B$30:$B$1029,INDIRECT($A$14&ROW())),\"\"),\"\")","v":""}]
[{"$f":"IFERROR(IF(INDIRECT($A$14&ROW())<>\"\",COUNTIF([1]Summary!$B$30:$B$1029,INDIRECT($A$14&ROW())),\"\"),\"\")","v":""}]
[{"$f":"IFERROR(IF(INDIRECT($A$14&ROW())<>\"\",COUNTIF([1]Summary!$B$30:$B$1029,INDIRECT($A$14&ROW())),\"\"),\"\")","v":""}]
[{"$f":"IFERROR(IF(INDIRECT($A$14&ROW())<>\"\",COUNTIF([1]Summary!$B$30:$B$1029,INDIRECT($A$14&ROW())),\"\"),\"\")","v":""}]
[{"$f":"IFERROR(IF(INDIRECT($A$14&ROW())<>\"\",COUNTIF([1]Summary!$B$30:$B$1029,INDIRECT($A$14&ROW())),\"\"),\"\")","v":""}]
[{"$f":"IFERROR(IF(INDIRECT($A$14&ROW())<>\"\",COUNTIF([1]Summary!$B$30:$B$1029,INDIRECT($A$14&ROW())),\"\"),\"\")","v":""}]
[{"$f":"IFERROR(IF(INDIRECT($A$14&ROW())<>\"\",COUNTIF([1]Summary!$B$30:$B$1029,INDIRECT($A$14&ROW())),\"\"),\"\")","v":""}]
[{"$f":"IFERROR(IF(INDIRECT($A$14&ROW())<>\"\",COUNTIF([1]Summary!$B$30:$B$1029,INDIRECT($A$14&ROW())),\"\"),\"\")","v":""}]
[{"$f":"IFERROR(IF(INDIRECT($A$14&ROW())<>\"\",COUNTIF([1]Summary!$B$30:$B$1029,INDIRECT($A$14&ROW())),\"\"),\"\")","v":""}]
[{"$f":"IFERROR(IF(INDIRECT($A$14&ROW())<>\"\",COUNTIF([1]Summary!$B$30:$B$1029,INDIRECT($A$14&ROW())),\"\"),\"\")","v":""}]
[{"$f":"IFERROR(IF(INDIRECT($A$14&ROW())<>\"\",COUNTIF([1]Summary!$B$30:$B$1029,INDIRECT($A$14&ROW())),\"\"),\"\")","v":""}]
[{"$f":"IFERROR(IF(INDIRECT($A$14&ROW())<>\"\",COUNTIF([1]Summary!$B$30:$B$1029,INDIRECT($A$14&ROW())),\"\"),\"\")","v":""}]
[{"$f":"IFERROR(IF(INDIRECT($A$14&ROW())<>\"\",COUNTIF([1]Summary!$B$30:$B$1029,INDIRECT($A$14&ROW())),\"\"),\"\")","v":""}]
[{"$f":"IFERROR(IF(INDIRECT($A$14&ROW())<>\"\",COUNTIF([1]Summary!$B$30:$B$1029,INDIRECT($A$14&ROW())),\"\"),\"\")","v":""}]
[{"$f":"IFERROR(IF(INDIRECT($A$14&ROW())<>\"\",COUNTIF([1]Summary!$B$30:$B$1029,INDIRECT($A$14&ROW())),\"\"),\"\")","v":""}]
[{"$f":"IFERROR(IF(INDIRECT($A$14&ROW())<>\"\",COUNTIF([1]Summary!$B$30:$B$1029,INDIRECT($A$14&ROW())),\"\"),\"\")","v":""}]
[{"$f":"IFERROR(IF(INDIRECT($A$14&ROW())<>\"\",COUNTIF([1]Summary!$B$30:$B$1029,INDIRECT($A$14&ROW())),\"\"),\"\")","v":""}]
[{"$f":"IFERROR(IF(INDIRECT($A$14&ROW())<>\"\",COUNTIF([1]Summary!$B$30:$B$1029,INDIRECT($A$14&ROW())),\"\"),\"\")","v":""}]
[{"$f":"IFERROR(IF(INDIRECT($A$14&ROW())<>\"\",COUNTIF([1]Summary!$B$30:$B$1029,INDIRECT($A$14&ROW())),\"\"),\"\")","v":""}]
[{"$f":"IFERROR(IF(INDIRECT($A$14&ROW())<>\"\",COUNTIF([1]Summary!$B$30:$B$1029,INDIRECT($A$14&ROW())),\"\"),\"\")","v":""}]
[{"$f":"IFERROR(IF(INDIRECT($A$14&ROW())<>\"\",COUNTIF([1]Summary!$B$30:$B$1029,INDIRECT($A$14&ROW())),\"\"),\"\")","v":""}]
[{"$f":"IFERROR(IF(INDIRECT($A$14&ROW())<>\"\",COUNTIF([1]Summary!$B$30:$B$1029,INDIRECT($A$14&ROW())),\"\"),\"\")","v":""}]
[{"$f":"IFERROR(IF(INDIRECT($A$14&ROW())<>\"\",COUNTIF([1]Summary!$B$30:$B$1029,INDIRECT($A$14&ROW())),\"\"),\"\")","v":""}]
[{"$f":"IFERROR(IF(INDIRECT($A$14&ROW())<>\"\",COUNTIF([1]Summary!$B$30:$B$1029,INDIRECT($A$14&ROW())),\"\"),\"\")","v":""}]
[{"$f":"IFERROR(IF(INDIRECT($A$14&ROW())<>\"\",COUNTIF([1]Summary!$B$30:$B$1029,INDIRECT($A$14&ROW())),\"\"),\"\")","v":""}]
[{"$f":"IFERROR(IF(INDIRECT($A$14&ROW())<>\"\",COUNTIF([1]Summary!$B$30:$B$1029,INDIRECT($A$14&ROW())),\"\"),\"\")","v":""}]
[{"$f":"IFERROR(IF(INDIRECT($A$14&ROW())<>\"\",COUNTIF([1]Summary!$B$30:$B$1029,INDIRECT($A$14&ROW())),\"\"),\"\")","v":""}]
[{"$f":"IFERROR(IF(INDIRECT($A$14&ROW())<>\"\",COUNTIF([1]Summary!$B$30:$B$1029,INDIRECT($A$14&ROW())),\"\"),\"\")","v":""}]
[{"$f":"IFERROR(IF(INDIRECT($A$14&ROW())<>\"\",COUNTIF([1]Summary!$B$30:$B$1029,INDIRECT($A$14&ROW())),\"\"),\"\")","v":""}]
[{"$f":"IFERROR(IF(INDIRECT($A$14&ROW())<>\"\",COUNTIF([1]Summary!$B$30:$B$1029,INDIRECT($A$14&ROW())),\"\"),\"\")","v":""}]
[{"$f":"IFERROR(IF(INDIRECT($A$14&ROW())<>\"\",COUNTIF([1]Summary!$B$30:$B$1029,INDIRECT($A$14&ROW())),\"\"),\"\")","v":""}]
[{"$f":"IFERROR(IF(INDIRECT($A$14&ROW())<>\"\",COUNTIF([1]Summary!$B$30:$B$1029,INDIRECT($A$14&ROW())),\"\"),\"\")","v":""}]
[{"$f":"IFERROR(IF(INDIRECT($A$14&ROW())<>\"\",COUNTIF([1]Summary!$B$30:$B$1029,INDIRECT($A$14&ROW())),\"\"),\"\")","v":""}]
[{"$f":"IFERROR(IF(INDIRECT($A$14&ROW())<>\"\",COUNTIF([1]Summary!$B$30:$B$1029,INDIRECT($A$14&ROW())),\"\"),\"\")","v":""}]
[{"$f":"IFERROR(IF(INDIRECT($A$14&ROW())<>\"\",COUNTIF([1]Summary!$B$30:$B$1029,INDIRECT($A$14&ROW())),\"\"),\"\")","v":""}]
[{"$f":"IFERROR(IF(INDIRECT($A$14&ROW())<>\"\",COUNTIF([1]Summary!$B$30:$B$1029,INDIRECT($A$14&ROW())),\"\"),\"\")","v":""}]
[{"$f":"IFERROR(IF(INDIRECT($A$14&ROW())<>\"\",COUNTIF([1]Summary!$B$30:$B$1029,INDIRECT($A$14&ROW())),\"\"),\"\")","v":""}]
[{"$f":"IFERROR(IF(INDIRECT($A$14&ROW())<>\"\",COUNTIF([1]Summary!$B$30:$B$1029,INDIRECT($A$14&ROW())),\"\"),\"\")","v":""}]
[{"$f":"IFERROR(IF(INDIRECT($A$14&ROW())<>\"\",COUNTIF([1]Summary!$B$30:$B$1029,INDIRECT($A$14&ROW())),\"\"),\"\")","v":""}]
[{"$f":"IFERROR(IF(INDIRECT($A$14&ROW())<>\"\",COUNTIF([1]Summary!$B$30:$B$1029,INDIRECT($A$14&ROW())),\"\"),\"\")","v":""}]
[{"$f":"IFERROR(IF(INDIRECT($A$14&ROW())<>\"\",COUNTIF([1]Summary!$B$30:$B$1029,INDIRECT($A$14&ROW())),\"\"),\"\")","v":""}]
[{"$f":"IFERROR(IF(INDIRECT($A$14&ROW())<>\"\",COUNTIF([1]Summary!$B$30:$B$1029,INDIRECT($A$14&ROW())),\"\"),\"\")","v":""}]
[{"$f":"IFERROR(IF(INDIRECT($A$14&ROW())<>\"\",COUNTIF([1]Summary!$B$30:$B$1029,INDIRECT($A$14&ROW())),\"\"),\"\")","v":""}]
[{"$f":"IFERROR(IF(INDIRECT($A$14&ROW())<>\"\",COUNTIF([1]Summary!$B$30:$B$1029,INDIRECT($A$14&ROW())),\"\"),\"\")","v":""}]
[{"$f":"IFERROR(IF(INDIRECT($A$14&ROW())<>\"\",COUNTIF([1]Summary!$B$30:$B$1029,INDIRECT($A$14&ROW())),\"\"),\"\")","v":""}]
[{"$f":"IFERROR(IF(INDIRECT($A$14&ROW())<>\"\",COUNTIF([1]Summary!$B$30:$B$1029,INDIRECT($A$14&ROW())),\"\"),\"\")","v":""}]
[{"$f":"IFERROR(IF(INDIRECT($A$14&ROW())<>\"\",COUNTIF([1]Summary!$B$30:$B$1029,INDIRECT($A$14&ROW())),\"\"),\"\")","v":""}]
[{"$f":"IFERROR(IF(INDIRECT($A$14&ROW())<>\"\",COUNTIF([1]Summary!$B$30:$B$1029,INDIRECT($A$14&ROW())),\"\"),\"\")","v":""}]
[{"$f":"IFERROR(IF(INDIRECT($A$14&ROW())<>\"\",COUNTIF([1]Summary!$B$30:$B$1029,INDIRECT($A$14&ROW())),\"\"),\"\")","v":""}]
[{"$f":"IFERROR(IF(INDIRECT($A$14&ROW())<>\"\",COUNTIF([1]Summary!$B$30:$B$1029,INDIRECT($A$14&ROW())),\"\"),\"\")","v":""}]
[{"$f":"IFERROR(IF(INDIRECT($A$14&ROW())<>\"\",COUNTIF([1]Summary!$B$30:$B$1029,INDIRECT($A$14&ROW())),\"\"),\"\")","v":""}]
[{"$f":"IFERROR(IF(INDIRECT($A$14&ROW())<>\"\",COUNTIF([1]Summary!$B$30:$B$1029,INDIRECT($A$14&ROW())),\"\"),\"\")","v":""}]
[{"$f":"IFERROR(IF(INDIRECT($A$14&ROW())<>\"\",COUNTIF([1]Summary!$B$30:$B$1029,INDIRECT($A$14&ROW())),\"\"),\"\")","v":""}]
[{"$f":"IFERROR(IF(INDIRECT($A$14&ROW())<>\"\",COUNTIF([1]Summary!$B$30:$B$1029,INDIRECT($A$14&ROW())),\"\"),\"\")","v":""}]
[{"$f":"IFERROR(IF(INDIRECT($A$14&ROW())<>\"\",COUNTIF([1]Summary!$B$30:$B$1029,INDIRECT($A$14&ROW())),\"\"),\"\")","v":""}]
[{"$f":"IFERROR(IF(INDIRECT($A$14&ROW())<>\"\",COUNTIF([1]Summary!$B$30:$B$1029,INDIRECT($A$14&ROW())),\"\"),\"\")","v":""}]
[{"$f":"IFERROR(IF(INDIRECT($A$14&ROW())<>\"\",COUNTIF([1]Summary!$B$30:$B$1029,INDIRECT($A$14&ROW())),\"\"),\"\")","v":""}]
[{"$f":"IFERROR(IF(INDIRECT($A$14&ROW())<>\"\",COUNTIF([1]Summary!$B$30:$B$1029,INDIRECT($A$14&ROW())),\"\"),\"\")","v":""}]
[{"$f":"IFERROR(IF(INDIRECT($A$14&ROW())<>\"\",COUNTIF([1]Summary!$B$30:$B$1029,INDIRECT($A$14&ROW())),\"\"),\"\")","v":""}]
[{"$f":"IFERROR(IF(INDIRECT($A$14&ROW())<>\"\",COUNTIF([1]Summary!$B$30:$B$1029,INDIRECT($A$14&ROW())),\"\"),\"\")","v":""}]
[{"$f":"IFERROR(IF(INDIRECT($A$14&ROW())<>\"\",COUNTIF([1]Summary!$B$30:$B$1029,INDIRECT($A$14&ROW())),\"\"),\"\")","v":""}]
[{"$f":"IFERROR(IF(INDIRECT($A$14&ROW())<>\"\",COUNTIF([1]Summary!$B$30:$B$1029,INDIRECT($A$14&ROW())),\"\"),\"\")","v":""}]
[{"$f":"IFERROR(IF(INDIRECT($A$14&ROW())<>\"\",COUNTIF([1]Summary!$B$30:$B$1029,INDIRECT($A$14&ROW())),\"\"),\"\")","v":""}]
[{"$f":"IFERROR(IF(INDIRECT($A$14&ROW())<>\"\",COUNTIF([1]Summary!$B$30:$B$1029,INDIRECT($A$14&ROW())),\"\"),\"\")","v":""}]
[{"$f":"IFERROR(IF(INDIRECT($A$14&ROW())<>\"\",COUNTIF([1]Summary!$B$30:$B$1029,INDIRECT($A$14&ROW())),\"\"),\"\")","v":""}]
[{"$f":"IFERROR(IF(INDIRECT($A$14&ROW())<>\"\",COUNTIF([1]Summary!$B$30:$B$1029,INDIRECT($A$14&ROW())),\"\"),\"\")","v":""}]
[{"$f":"IFERROR(IF(INDIRECT($A$14&ROW())<>\"\",COUNTIF([1]Summary!$B$30:$B$1029,INDIRECT($A$14&ROW())),\"\"),\"\")","v":""}]
[{"$f":"IFERROR(IF(INDIRECT($A$14&ROW())<>\"\",COUNTIF([1]Summary!$B$30:$B$1029,INDIRECT($A$14&ROW())),\"\"),\"\")","v":""}]
[{"$f":"IFERROR(IF(INDIRECT($A$14&ROW())<>\"\",COUNTIF([1]Summary!$B$30:$B$1029,INDIRECT($A$14&ROW())),\"\"),\"\")","v":""}]
[{"$f":"IFERROR(IF(INDIRECT($A$14&ROW())<>\"\",COUNTIF([1]Summary!$B$30:$B$1029,INDIRECT($A$14&ROW())),\"\"),\"\")","v":""}]
[{"$f":"IFERROR(IF(INDIRECT($A$14&ROW())<>\"\",COUNTIF([1]Summary!$B$30:$B$1029,INDIRECT($A$14&ROW())),\"\"),\"\")","v":""}]
[{"$f":"IFERROR(IF(INDIRECT($A$14&ROW())<>\"\",COUNTIF([1]Summary!$B$30:$B$1029,INDIRECT($A$14&ROW())),\"\"),\"\")","v":""}]
[{"$f":"IFERROR(IF(INDIRECT($A$14&ROW())<>\"\",COUNTIF([1]Summary!$B$30:$B$1029,INDIRECT($A$14&ROW())),\"\"),\"\")","v":""}]
[{"$f":"IFERROR(IF(INDIRECT($A$14&ROW())<>\"\",COUNTIF([1]Summary!$B$30:$B$1029,INDIRECT($A$14&ROW())),\"\"),\"\")","v":""}]
[{"$f":"IFERROR(IF(INDIRECT($A$14&ROW())<>\"\",COUNTIF([1]Summary!$B$30:$B$1029,INDIRECT($A$14&ROW())),\"\"),\"\")","v":""}]
[{"$f":"IFERROR(IF(INDIRECT($A$14&ROW())<>\"\",COUNTIF([1]Summary!$B$30:$B$1029,INDIRECT($A$14&ROW())),\"\"),\"\")","v":""}]
[{"$f":"IFERROR(IF(INDIRECT($A$14&ROW())<>\"\",COUNTIF([1]Summary!$B$30:$B$1029,INDIRECT($A$14&ROW())),\"\"),\"\")","v":""}]
[{"$f":"IFERROR(IF(INDIRECT($A$14&ROW())<>\"\",COUNTIF([1]Summary!$B$30:$B$1029,INDIRECT($A$14&ROW())),\"\"),\"\")","v":""}]
[{"$f":"IFERROR(IF(INDIRECT($A$14&ROW())<>\"\",COUNTIF([1]Summary!$B$30:$B$1029,INDIRECT($A$14&ROW())),\"\"),\"\")","v":""}]
[{"$f":"IFERROR(IF(INDIRECT($A$14&ROW())<>\"\",COUNTIF([1]Summary!$B$30:$B$1029,INDIRECT($A$14&ROW())),\"\"),\"\")","v":""}]
[{"$f":"IFERROR(IF(INDIRECT($A$14&ROW())<>\"\",COUNTIF([1]Summary!$B$30:$B$1029,INDIRECT($A$14&ROW())),\"\"),\"\")","v":""}]
[{"$f":"IFERROR(IF(INDIRECT($A$14&ROW())<>\"\",COUNTIF([1]Summary!$B$30:$B$1029,INDIRECT($A$14&ROW())),\"\"),\"\")","v":""}]
[{"$f":"IFERROR(IF(INDIRECT($A$14&ROW())<>\"\",COUNTIF([1]Summary!$B$30:$B$1029,INDIRECT($A$14&ROW())),\"\"),\"\")","v":""}]
[{"$f":"IFERROR(IF(INDIRECT($A$14&ROW())<>\"\",COUNTIF([1]Summary!$B$30:$B$1029,INDIRECT($A$14&ROW())),\"\"),\"\")","v":""}]
[{"$f":"IFERROR(IF(INDIRECT($A$14&ROW())<>\"\",COUNTIF([1]Summary!$B$30:$B$1029,INDIRECT($A$14&ROW())),\"\"),\"\")","v":""}]
[{"$f":"IFERROR(IF(INDIRECT($A$14&ROW())<>\"\",COUNTIF([1]Summary!$B$30:$B$1029,INDIRECT($A$14&ROW())),\"\"),\"\")","v":""}]
[{"$f":"IFERROR(IF(INDIRECT($A$14&ROW())<>\"\",COUNTIF([1]Summary!$B$30:$B$1029,INDIRECT($A$14&ROW())),\"\"),\"\")","v":""}]
[{"$f":"IFERROR(IF(INDIRECT($A$14&ROW())<>\"\",COUNTIF([1]Summary!$B$30:$B$1029,INDIRECT($A$14&ROW())),\"\"),\"\")","v":""}]
[{"$f":"IFERROR(IF(INDIRECT($A$14&ROW())<>\"\",COUNTIF([1]Summary!$B$30:$B$1029,INDIRECT($A$14&ROW())),\"\"),\"\")","v":""}]
[{"$f":"IFERROR(IF(INDIRECT($A$14&ROW())<>\"\",COUNTIF([1]Summary!$B$30:$B$1029,INDIRECT($A$14&ROW())),\"\"),\"\")","v":""}]
[{"$f":"IFERROR(IF(INDIRECT($A$14&ROW())<>\"\",COUNTIF([1]Summary!$B$30:$B$1029,INDIRECT($A$14&ROW())),\"\"),\"\")","v":""}]
[{"$f":"IFERROR(IF(INDIRECT($A$14&ROW())<>\"\",COUNTIF([1]Summary!$B$30:$B$1029,INDIRECT($A$14&ROW())),\"\"),\"\")","v":""}]
[{"$f":"IFERROR(IF(INDIRECT($A$14&ROW())<>\"\",COUNTIF([1]Summary!$B$30:$B$1029,INDIRECT($A$14&ROW())),\"\"),\"\")","v":""}]
[{"$f":"IFERROR(IF(INDIRECT($A$14&ROW())<>\"\",COUNTIF([1]Summary!$B$30:$B$1029,INDIRECT($A$14&ROW())),\"\"),\"\")","v":""}]
[{"$f":"IFERROR(IF(INDIRECT($A$14&ROW())<>\"\",COUNTIF([1]Summary!$B$30:$B$1029,INDIRECT($A$14&ROW())),\"\"),\"\")","v":""}]
[{"$f":"IFERROR(IF(INDIRECT($A$14&ROW())<>\"\",COUNTIF([1]Summary!$B$30:$B$1029,INDIRECT($A$14&ROW())),\"\"),\"\")","v":""}]
[{"$f":"IFERROR(IF(INDIRECT($A$14&ROW())<>\"\",COUNTIF([1]Summary!$B$30:$B$1029,INDIRECT($A$14&ROW())),\"\"),\"\")","v":""}]
[{"$f":"IFERROR(IF(INDIRECT($A$14&ROW())<>\"\",COUNTIF([1]Summary!$B$30:$B$1029,INDIRECT($A$14&ROW())),\"\"),\"\")","v":""}]
[{"$f":"IFERROR(IF(INDIRECT($A$14&ROW())<>\"\",COUNTIF([1]Summary!$B$30:$B$1029,INDIRECT($A$14&ROW())),\"\"),\"\")","v":""}]
[{"$f":"IFERROR(IF(INDIRECT($A$14&ROW())<>\"\",COUNTIF([1]Summary!$B$30:$B$1029,INDIRECT($A$14&ROW())),\"\"),\"\")","v":""}]
[{"$f":"IFERROR(IF(INDIRECT($A$14&ROW())<>\"\",COUNTIF([1]Summary!$B$30:$B$1029,INDIRECT($A$14&ROW())),\"\"),\"\")","v":""}]
[{"$f":"IFERROR(IF(INDIRECT($A$14&ROW())<>\"\",COUNTIF([1]Summary!$B$30:$B$1029,INDIRECT($A$14&ROW())),\"\"),\"\")","v":""}]
[{"$f":"IFERROR(IF(INDIRECT($A$14&ROW())<>\"\",COUNTIF([1]Summary!$B$30:$B$1029,INDIRECT($A$14&ROW())),\"\"),\"\")","v":""}]
[{"$f":"IFERROR(IF(INDIRECT($A$14&ROW())<>\"\",COUNTIF([1]Summary!$B$30:$B$1029,INDIRECT($A$14&ROW())),\"\"),\"\")","v":""}]
[{"$f":"IFERROR(IF(INDIRECT($A$14&ROW())<>\"\",COUNTIF([1]Summary!$B$30:$B$1029,INDIRECT($A$14&ROW())),\"\"),\"\")","v":""}]
[{"$f":"IFERROR(IF(INDIRECT($A$14&ROW())<>\"\",COUNTIF([1]Summary!$B$30:$B$1029,INDIRECT($A$14&ROW())),\"\"),\"\")","v":""}]
[{"$f":"IFERROR(IF(INDIRECT($A$14&ROW())<>\"\",COUNTIF([1]Summary!$B$30:$B$1029,INDIRECT($A$14&ROW())),\"\"),\"\")","v":""}]
[{"$f":"IFERROR(IF(INDIRECT($A$14&ROW())<>\"\",COUNTIF([1]Summary!$B$30:$B$1029,INDIRECT($A$14&ROW())),\"\"),\"\")","v":""}]
[{"$f":"IFERROR(IF(INDIRECT($A$14&ROW())<>\"\",COUNTIF([1]Summary!$B$30:$B$1029,INDIRECT($A$14&ROW())),\"\"),\"\")","v":""}]
[{"$f":"IFERROR(IF(INDIRECT($A$14&ROW())<>\"\",COUNTIF([1]Summary!$B$30:$B$1029,INDIRECT($A$14&ROW())),\"\"),\"\")","v":""}]
[{"$f":"IFERROR(IF(INDIRECT($A$14&ROW())<>\"\",COUNTIF([1]Summary!$B$30:$B$1029,INDIRECT($A$14&ROW())),\"\"),\"\")","v":""}]
[{"$f":"IFERROR(IF(INDIRECT($A$14&ROW())<>\"\",COUNTIF([1]Summary!$B$30:$B$1029,INDIRECT($A$14&ROW())),\"\"),\"\")","v":""}]
[{"$f":"IFERROR(IF(INDIRECT($A$14&ROW())<>\"\",COUNTIF([1]Summary!$B$30:$B$1029,INDIRECT($A$14&ROW())),\"\"),\"\")","v":""}]
[{"$f":"IFERROR(IF(INDIRECT($A$14&ROW())<>\"\",COUNTIF([1]Summary!$B$30:$B$1029,INDIRECT($A$14&ROW())),\"\"),\"\")","v":""}]
[{"$f":"IFERROR(IF(INDIRECT($A$14&ROW())<>\"\",COUNTIF([1]Summary!$B$30:$B$1029,INDIRECT($A$14&ROW())),\"\"),\"\")","v":""}]
[{"$f":"IFERROR(IF(INDIRECT($A$14&ROW())<>\"\",COUNTIF([1]Summary!$B$30:$B$1029,INDIRECT($A$14&ROW())),\"\"),\"\")","v":""}]
[{"$f":"IFERROR(IF(INDIRECT($A$14&ROW())<>\"\",COUNTIF([1]Summary!$B$30:$B$1029,INDIRECT($A$14&ROW())),\"\"),\"\")","v":""}]
[{"$f":"IFERROR(IF(INDIRECT($A$14&ROW())<>\"\",COUNTIF([1]Summary!$B$30:$B$1029,INDIRECT($A$14&ROW())),\"\"),\"\")","v":""}]
[{"$f":"IFERROR(IF(INDIRECT($A$14&ROW())<>\"\",COUNTIF([1]Summary!$B$30:$B$1029,INDIRECT($A$14&ROW())),\"\"),\"\")","v":""}]
[{"$f":"IFERROR(IF(INDIRECT($A$14&ROW())<>\"\",COUNTIF([1]Summary!$B$30:$B$1029,INDIRECT($A$14&ROW())),\"\"),\"\")","v":""}]
[{"$f":"IFERROR(IF(INDIRECT($A$14&ROW())<>\"\",COUNTIF([1]Summary!$B$30:$B$1029,INDIRECT($A$14&ROW())),\"\"),\"\")","v":""}]
[{"$f":"IFERROR(IF(INDIRECT($A$14&ROW())<>\"\",COUNTIF([1]Summary!$B$30:$B$1029,INDIRECT($A$14&ROW())),\"\"),\"\")","v":""}]
[{"$f":"IFERROR(IF(INDIRECT($A$14&ROW())<>\"\",COUNTIF([1]Summary!$B$30:$B$1029,INDIRECT($A$14&ROW())),\"\"),\"\")","v":""}]
[{"$f":"IFERROR(IF(INDIRECT($A$14&ROW())<>\"\",COUNTIF([1]Summary!$B$30:$B$1029,INDIRECT($A$14&ROW())),\"\"),\"\")","v":""}]
[{"$f":"IFERROR(IF(INDIRECT($A$14&ROW())<>\"\",COUNTIF([1]Summary!$B$30:$B$1029,INDIRECT($A$14&ROW())),\"\"),\"\")","v":""}]
[{"$f":"IFERROR(IF(INDIRECT($A$14&ROW())<>\"\",COUNTIF([1]Summary!$B$30:$B$1029,INDIRECT($A$14&ROW())),\"\"),\"\")","v":""}]
[{"$f":"IFERROR(IF(INDIRECT($A$14&ROW())<>\"\",COUNTIF([1]Summary!$B$30:$B$1029,INDIRECT($A$14&ROW())),\"\"),\"\")","v":""}]
[{"$f":"IFERROR(IF(INDIRECT($A$14&ROW())<>\"\",COUNTIF([1]Summary!$B$30:$B$1029,INDIRECT($A$14&ROW())),\"\"),\"\")","v":""}]
[{"$f":"IFERROR(IF(INDIRECT($A$14&ROW())<>\"\",COUNTIF([1]Summary!$B$30:$B$1029,INDIRECT($A$14&ROW())),\"\"),\"\")","v":""}]
[{"$f":"IFERROR(IF(INDIRECT($A$14&ROW())<>\"\",COUNTIF([1]Summary!$B$30:$B$1029,INDIRECT($A$14&ROW())),\"\"),\"\")","v":""}]
[{"$f":"IFERROR(IF(INDIRECT($A$14&ROW())<>\"\",COUNTIF([1]Summary!$B$30:$B$1029,INDIRECT($A$14&ROW())),\"\"),\"\")","v":""}]
[{"$f":"IFERROR(IF(INDIRECT($A$14&ROW())<>\"\",COUNTIF([1]Summary!$B$30:$B$1029,INDIRECT($A$14&ROW())),\"\"),\"\")","v":""}]
[{"$f":"IFERROR(IF(INDIRECT($A$14&ROW())<>\"\",COUNTIF([1]Summary!$B$30:$B$1029,INDIRECT($A$14&ROW())),\"\"),\"\")","v":""}]
[{"$f":"IFERROR(IF(INDIRECT($A$14&ROW())<>\"\",COUNTIF([1]Summary!$B$30:$B$1029,INDIRECT($A$14&ROW())),\"\"),\"\")","v":""}]
[{"$f":"IFERROR(IF(INDIRECT($A$14&ROW())<>\"\",COUNTIF([1]Summary!$B$30:$B$1029,INDIRECT($A$14&ROW())),\"\"),\"\")","v":""}]
[{"$f":"IFERROR(IF(INDIRECT($A$14&ROW())<>\"\",COUNTIF([1]Summary!$B$30:$B$1029,INDIRECT($A$14&ROW())),\"\"),\"\")","v":""}]
[{"$f":"IFERROR(IF(INDIRECT($A$14&ROW())<>\"\",COUNTIF([1]Summary!$B$30:$B$1029,INDIRECT($A$14&ROW())),\"\"),\"\")","v":""}]
[{"$f":"IFERROR(IF(INDIRECT($A$14&ROW())<>\"\",COUNTIF([1]Summary!$B$30:$B$1029,INDIRECT($A$14&ROW())),\"\"),\"\")","v":""}]
[{"$f":"IFERROR(IF(INDIRECT($A$14&ROW())<>\"\",COUNTIF([1]Summary!$B$30:$B$1029,INDIRECT($A$14&ROW())),\"\"),\"\")","v":""}]
[{"$f":"IFERROR(IF(INDIRECT($A$14&ROW())<>\"\",COUNTIF([1]Summary!$B$30:$B$1029,INDIRECT($A$14&ROW())),\"\"),\"\")","v":""}]
[{"$f":"IFERROR(IF(INDIRECT($A$14&ROW())<>\"\",COUNTIF([1]Summary!$B$30:$B$1029,INDIRECT($A$14&ROW())),\"\"),\"\")","v":""}]
[{"$f":"IFERROR(IF(INDIRECT($A$14&ROW())<>\"\",COUNTIF([1]Summary!$B$30:$B$1029,INDIRECT($A$14&ROW())),\"\"),\"\")","v":""}]
[{"$f":"IFERROR(IF(INDIRECT($A$14&ROW())<>\"\",COUNTIF([1]Summary!$B$30:$B$1029,INDIRECT($A$14&ROW())),\"\"),\"\")","v":""}]
[{"$f":"IFERROR(IF(INDIRECT($A$14&ROW())<>\"\",COUNTIF([1]Summary!$B$30:$B$1029,INDIRECT($A$14&ROW())),\"\"),\"\")","v":""}]
[{"$f":"IFERROR(IF(INDIRECT($A$14&ROW())<>\"\",COUNTIF([1]Summary!$B$30:$B$1029,INDIRECT($A$14&ROW())),\"\"),\"\")","v":""}]
[{"$f":"IFERROR(IF(INDIRECT($A$14&ROW())<>\"\",COUNTIF([1]Summary!$B$30:$B$1029,INDIRECT($A$14&ROW())),\"\"),\"\")","v":""}]
[{"$f":"IFERROR(IF(INDIRECT($A$14&ROW())<>\"\",COUNTIF([1]Summary!$B$30:$B$1029,INDIRECT($A$14&ROW())),\"\"),\"\")","v":""}]
[{"$f":"IFERROR(IF(INDIRECT($A$14&ROW())<>\"\",COUNTIF([1]Summary!$B$30:$B$1029,INDIRECT($A$14&ROW())),\"\"),\"\")","v":""}]
[{"$f":"IFERROR(IF(INDIRECT($A$14&ROW())<>\"\",COUNTIF([1]Summary!$B$30:$B$1029,INDIRECT($A$14&ROW())),\"\"),\"\")","v":""}]
[{"$f":"IFERROR(IF(INDIRECT($A$14&ROW())<>\"\",COUNTIF([1]Summary!$B$30:$B$1029,INDIRECT($A$14&ROW())),\"\"),\"\")","v":""}]
[{"$f":"IFERROR(IF(INDIRECT($A$14&ROW())<>\"\",COUNTIF([1]Summary!$B$30:$B$1029,INDIRECT($A$14&ROW())),\"\"),\"\")","v":""}]
[{"$f":"IFERROR(IF(INDIRECT($A$14&ROW())<>\"\",COUNTIF([1]Summary!$B$30:$B$1029,INDIRECT($A$14&ROW())),\"\"),\"\")","v":""}]
[{"$f":"IFERROR(IF(INDIRECT($A$14&ROW())<>\"\",COUNTIF([1]Summary!$B$30:$B$1029,INDIRECT($A$14&ROW())),\"\"),\"\")","v":""}]
[{"$f":"IFERROR(IF(INDIRECT($A$14&ROW())<>\"\",COUNTIF([1]Summary!$B$30:$B$1029,INDIRECT($A$14&ROW())),\"\"),\"\")","v":""}]
[{"$f":"IFERROR(IF(INDIRECT($A$14&ROW())<>\"\",COUNTIF([1]Summary!$B$30:$B$1029,INDIRECT($A$14&ROW())),\"\"),\"\")","v":""}]
[{"$f":"IFERROR(IF(INDIRECT($A$14&ROW())<>\"\",COUNTIF([1]Summary!$B$30:$B$1029,INDIRECT($A$14&ROW())),\"\"),\"\")","v":""}]
[{"$f":"IFERROR(IF(INDIRECT($A$14&ROW())<>\"\",COUNTIF([1]Summary!$B$30:$B$1029,INDIRECT($A$14&ROW())),\"\"),\"\")","v":""}]
[{"$f":"IFERROR(IF(INDIRECT($A$14&ROW())<>\"\",COUNTIF([1]Summary!$B$30:$B$1029,INDIRECT($A$14&ROW())),\"\"),\"\")","v":""}]
[{"$f":"IFERROR(IF(INDIRECT($A$14&ROW())<>\"\",COUNTIF([1]Summary!$B$30:$B$1029,INDIRECT($A$14&ROW())),\"\"),\"\")","v":""}]
[{"$f":"IFERROR(IF(INDIRECT($A$14&ROW())<>\"\",COUNTIF([1]Summary!$B$30:$B$1029,INDIRECT($A$14&ROW())),\"\"),\"\")","v":""}]
[{"$f":"IFERROR(IF(INDIRECT($A$14&ROW())<>\"\",COUNTIF([1]Summary!$B$30:$B$1029,INDIRECT($A$14&ROW())),\"\"),\"\")","v":""}]
[{"$f":"IFERROR(IF(INDIRECT($A$14&ROW())<>\"\",COUNTIF([1]Summary!$B$30:$B$1029,INDIRECT($A$14&ROW())),\"\"),\"\")","v":""}]
[{"$f":"IFERROR(IF(INDIRECT($A$14&ROW())<>\"\",COUNTIF([1]Summary!$B$30:$B$1029,INDIRECT($A$14&ROW())),\"\"),\"\")","v":""}]
[{"$f":"IFERROR(IF(INDIRECT($A$14&ROW())<>\"\",COUNTIF([1]Summary!$B$30:$B$1029,INDIRECT($A$14&ROW())),\"\"),\"\")","v":""}]
[{"$f":"IFERROR(IF(INDIRECT($A$14&ROW())<>\"\",COUNTIF([1]Summary!$B$30:$B$1029,INDIRECT($A$14&ROW())),\"\"),\"\")","v":""}]
[{"$f":"IFERROR(IF(INDIRECT($A$14&ROW())<>\"\",COUNTIF([1]Summary!$B$30:$B$1029,INDIRECT($A$14&ROW())),\"\"),\"\")","v":""}]
[{"$f":"IFERROR(IF(INDIRECT($A$14&ROW())<>\"\",COUNTIF([1]Summary!$B$30:$B$1029,INDIRECT($A$14&ROW())),\"\"),\"\")","v":""}]
[{"$f":"IFERROR(IF(INDIRECT($A$14&ROW())<>\"\",COUNTIF([1]Summary!$B$30:$B$1029,INDIRECT($A$14&ROW())),\"\"),\"\")","v":""}]
[{"$f":"IFERROR(IF(INDIRECT($A$14&ROW())<>\"\",COUNTIF([1]Summary!$B$30:$B$1029,INDIRECT($A$14&ROW())),\"\"),\"\")","v":""}]
[{"$f":"IFERROR(IF(INDIRECT($A$14&ROW())<>\"\",COUNTIF([1]Summary!$B$30:$B$1029,INDIRECT($A$14&ROW())),\"\"),\"\")","v":""}]
[{"$f":"IFERROR(IF(INDIRECT($A$14&ROW())<>\"\",COUNTIF([1]Summary!$B$30:$B$1029,INDIRECT($A$14&ROW())),\"\"),\"\")","v":""}]
[{"$f":"IFERROR(IF(INDIRECT($A$14&ROW())<>\"\",COUNTIF([1]Summary!$B$30:$B$1029,INDIRECT($A$14&ROW())),\"\"),\"\")","v":""}]
[{"$f":"IFERROR(IF(INDIRECT($A$14&ROW())<>\"\",COUNTIF([1]Summary!$B$30:$B$1029,INDIRECT($A$14&ROW())),\"\"),\"\")","v":""}]
[{"$f":"IFERROR(IF(INDIRECT($A$14&ROW())<>\"\",COUNTIF([1]Summary!$B$30:$B$1029,INDIRECT($A$14&ROW())),\"\"),\"\")","v":""}]
[{"$f":"IFERROR(IF(INDIRECT($A$14&ROW())<>\"\",COUNTIF([1]Summary!$B$30:$B$1029,INDIRECT($A$14&ROW())),\"\"),\"\")","v":""}]
[{"$f":"IFERROR(IF(INDIRECT($A$14&ROW())<>\"\",COUNTIF([1]Summary!$B$30:$B$1029,INDIRECT($A$14&ROW())),\"\"),\"\")","v":""}]
[{"$f":"IFERROR(IF(INDIRECT($A$14&ROW())<>\"\",COUNTIF([1]Summary!$B$30:$B$1029,INDIRECT($A$14&ROW())),\"\"),\"\")","v":""}]
[{"$f":"IFERROR(IF(INDIRECT($A$14&ROW())<>\"\",COUNTIF([1]Summary!$B$30:$B$1029,INDIRECT($A$14&ROW())),\"\"),\"\")","v":""}]
[{"$f":"IFERROR(IF(INDIRECT($A$14&ROW())<>\"\",COUNTIF([1]Summary!$B$30:$B$1029,INDIRECT($A$14&ROW())),\"\"),\"\")","v":""}]
[{"$f":"IFERROR(IF(INDIRECT($A$14&ROW())<>\"\",COUNTIF([1]Summary!$B$30:$B$1029,INDIRECT($A$14&ROW())),\"\"),\"\")","v":""}]
[{"$f":"IFERROR(IF(INDIRECT($A$14&ROW())<>\"\",COUNTIF([1]Summary!$B$30:$B$1029,INDIRECT($A$14&ROW())),\"\"),\"\")","v":""}]
[{"$f":"IFERROR(IF(INDIRECT($A$14&ROW())<>\"\",COUNTIF([1]Summary!$B$30:$B$1029,INDIRECT($A$14&ROW())),\"\"),\"\")","v":""}]
[{"$f":"IFERROR(IF(INDIRECT($A$14&ROW())<>\"\",COUNTIF([1]Summary!$B$30:$B$1029,INDIRECT($A$14&ROW())),\"\"),\"\")","v":""}]
[{"$f":"IFERROR(IF(INDIRECT($A$14&ROW())<>\"\",COUNTIF([1]Summary!$B$30:$B$1029,INDIRECT($A$14&ROW())),\"\"),\"\")","v":""}]
[{"$f":"IFERROR(IF(INDIRECT($A$14&ROW())<>\"\",COUNTIF([1]Summary!$B$30:$B$1029,INDIRECT($A$14&ROW())),\"\"),\"\")","v":""}]
[{"$f":"IFERROR(IF(INDIRECT($A$14&ROW())<>\"\",COUNTIF([1]Summary!$B$30:$B$1029,INDIRECT($A$14&ROW())),\"\"),\"\")","v":""}]
[{"$f":"IFERROR(IF(INDIRECT($A$14&ROW())<>\"\",COUNTIF([1]Summary!$B$30:$B$1029,INDIRECT($A$14&ROW())),\"\"),\"\")","v":""}]
[{"$f":"IFERROR(IF(INDIRECT($A$14&ROW())<>\"\",COUNTIF([1]Summary!$B$30:$B$1029,INDIRECT($A$14&ROW())),\"\"),\"\")","v":""}]
[{"$f":"IFERROR(IF(INDIRECT($A$14&ROW())<>\"\",COUNTIF([1]Summary!$B$30:$B$1029,INDIRECT($A$14&ROW())),\"\"),\"\")","v":""}]
[{"$f":"IFERROR(IF(INDIRECT($A$14&ROW())<>\"\",COUNTIF([1]Summary!$B$30:$B$1029,INDIRECT($A$14&ROW())),\"\"),\"\")","v":""}]
[{"$f":"IFERROR(IF(INDIRECT($A$14&ROW())<>\"\",COUNTIF([1]Summary!$B$30:$B$1029,INDIRECT($A$14&ROW())),\"\"),\"\")","v":""}]
[{"$f":"IFERROR(IF(INDIRECT($A$14&ROW())<>\"\",COUNTIF([1]Summary!$B$30:$B$1029,INDIRECT($A$14&ROW())),\"\"),\"\")","v":""}]
[{"$f":"IFERROR(IF(INDIRECT($A$14&ROW())<>\"\",COUNTIF([1]Summary!$B$30:$B$1029,INDIRECT($A$14&ROW())),\"\"),\"\")","v":""}]
[{"$f":"IFERROR(IF(INDIRECT($A$14&ROW())<>\"\",COUNTIF([1]Summary!$B$30:$B$1029,INDIRECT($A$14&ROW())),\"\"),\"\")","v":""}]
[{"$f":"IFERROR(IF(INDIRECT($A$14&ROW())<>\"\",COUNTIF([1]Summary!$B$30:$B$1029,INDIRECT($A$14&ROW())),\"\"),\"\")","v":""}]
[{"$f":"IFERROR(IF(INDIRECT($A$14&ROW())<>\"\",COUNTIF([1]Summary!$B$30:$B$1029,INDIRECT($A$14&ROW())),\"\"),\"\")","v":""}]
[{"$f":"IFERROR(IF(INDIRECT($A$14&ROW())<>\"\",COUNTIF([1]Summary!$B$30:$B$1029,INDIRECT($A$14&ROW())),\"\"),\"\")","v":""}]
[{"$f":"IFERROR(IF(INDIRECT($A$14&ROW())<>\"\",COUNTIF([1]Summary!$B$30:$B$1029,INDIRECT($A$14&ROW())),\"\"),\"\")","v":""}]
[{"$f":"IFERROR(IF(INDIRECT($A$14&ROW())<>\"\",COUNTIF([1]Summary!$B$30:$B$1029,INDIRECT($A$14&ROW())),\"\"),\"\")","v":""}]
[{"$f":"IFERROR(IF(INDIRECT($A$14&ROW())<>\"\",COUNTIF([1]Summary!$B$30:$B$1029,INDIRECT($A$14&ROW())),\"\"),\"\")","v":""}]
[{"$f":"IFERROR(IF(INDIRECT($A$14&ROW())<>\"\",COUNTIF([1]Summary!$B$30:$B$1029,INDIRECT($A$14&ROW())),\"\"),\"\")","v":""}]
[{"$f":"IFERROR(IF(INDIRECT($A$14&ROW())<>\"\",COUNTIF([1]Summary!$B$30:$B$1029,INDIRECT($A$14&ROW())),\"\"),\"\")","v":""}]
[{"$f":"IFERROR(IF(INDIRECT($A$14&ROW())<>\"\",COUNTIF([1]Summary!$B$30:$B$1029,INDIRECT($A$14&ROW())),\"\"),\"\")","v":""}]
[{"$f":"IFERROR(IF(INDIRECT($A$14&ROW())<>\"\",COUNTIF([1]Summary!$B$30:$B$1029,INDIRECT($A$14&ROW())),\"\"),\"\")","v":""}]
[{"$f":"IFERROR(IF(INDIRECT($A$14&ROW())<>\"\",COUNTIF([1]Summary!$B$30:$B$1029,INDIRECT($A$14&ROW())),\"\"),\"\")","v":""}]
[{"$f":"IFERROR(IF(INDIRECT($A$14&ROW())<>\"\",COUNTIF([1]Summary!$B$30:$B$1029,INDIRECT($A$14&ROW())),\"\"),\"\")","v":""}]
[{"$f":"IFERROR(IF(INDIRECT($A$14&ROW())<>\"\",COUNTIF([1]Summary!$B$30:$B$1029,INDIRECT($A$14&ROW())),\"\"),\"\")","v":""}]
[{"$f":"IFERROR(IF(INDIRECT($A$14&ROW())<>\"\",COUNTIF([1]Summary!$B$30:$B$1029,INDIRECT($A$14&ROW())),\"\"),\"\")","v":""}]
[{"$f":"IFERROR(IF(INDIRECT($A$14&ROW())<>\"\",COUNTIF([1]Summary!$B$30:$B$1029,INDIRECT($A$14&ROW())),\"\"),\"\")","v":""}]
[{"$f":"IFERROR(IF(INDIRECT($A$14&ROW())<>\"\",COUNTIF([1]Summary!$B$30:$B$1029,INDIRECT($A$14&ROW())),\"\"),\"\")","v":""}]
[{"$f":"IFERROR(IF(INDIRECT($A$14&ROW())<>\"\",COUNTIF([1]Summary!$B$30:$B$1029,INDIRECT($A$14&ROW())),\"\"),\"\")","v":""}]
[{"$f":"IFERROR(IF(INDIRECT($A$14&ROW())<>\"\",COUNTIF([1]Summary!$B$30:$B$1029,INDIRECT($A$14&ROW())),\"\"),\"\")","v":""}]
[{"$f":"IFERROR(IF(INDIRECT($A$14&ROW())<>\"\",COUNTIF([1]Summary!$B$30:$B$1029,INDIRECT($A$14&ROW())),\"\"),\"\")","v":""}]
[{"$f":"IFERROR(IF(INDIRECT($A$14&ROW())<>\"\",COUNTIF([1]Summary!$B$30:$B$1029,INDIRECT($A$14&ROW())),\"\"),\"\")","v":""}]
[{"$f":"IFERROR(IF(INDIRECT($A$14&ROW())<>\"\",COUNTIF([1]Summary!$B$30:$B$1029,INDIRECT($A$14&ROW())),\"\"),\"\")","v":""}]
[{"$f":"IFERROR(IF(INDIRECT($A$14&ROW())<>\"\",COUNTIF([1]Summary!$B$30:$B$1029,INDIRECT($A$14&ROW())),\"\"),\"\")","v":""}]
[{"$f":"IFERROR(IF(INDIRECT($A$14&ROW())<>\"\",COUNTIF([1]Summary!$B$30:$B$1029,INDIRECT($A$14&ROW())),\"\"),\"\")","v":""}]
[{"$f":"IFERROR(IF(INDIRECT($A$14&ROW())<>\"\",COUNTIF([1]Summary!$B$30:$B$1029,INDIRECT($A$14&ROW())),\"\"),\"\")","v":""}]
[{"$f":"IFERROR(IF(INDIRECT($A$14&ROW())<>\"\",COUNTIF([1]Summary!$B$30:$B$1029,INDIRECT($A$14&ROW())),\"\"),\"\")","v":""}]
[{"$f":"IFERROR(IF(INDIRECT($A$14&ROW())<>\"\",COUNTIF([1]Summary!$B$30:$B$1029,INDIRECT($A$14&ROW())),\"\"),\"\")","v":""}]
[{"$f":"IFERROR(IF(INDIRECT($A$14&ROW())<>\"\",COUNTIF([1]Summary!$B$30:$B$1029,INDIRECT($A$14&ROW())),\"\"),\"\")","v":""}]
[{"$f":"IFERROR(IF(INDIRECT($A$14&ROW())<>\"\",COUNTIF([1]Summary!$B$30:$B$1029,INDIRECT($A$14&ROW())),\"\"),\"\")","v":""}]
[{"$f":"IFERROR(IF(INDIRECT($A$14&ROW())<>\"\",COUNTIF([1]Summary!$B$30:$B$1029,INDIRECT($A$14&ROW())),\"\"),\"\")","v":""}]
[{"$f":"IFERROR(IF(INDIRECT($A$14&ROW())<>\"\",COUNTIF([1]Summary!$B$30:$B$1029,INDIRECT($A$14&ROW())),\"\"),\"\")","v":""}]
[{"$f":"IFERROR(IF(INDIRECT($A$14&ROW())<>\"\",COUNTIF([1]Summary!$B$30:$B$1029,INDIRECT($A$14&ROW())),\"\"),\"\")","v":""}]
[{"$f":"IFERROR(IF(INDIRECT($A$14&ROW())<>\"\",COUNTIF([1]Summary!$B$30:$B$1029,INDIRECT($A$14&ROW())),\"\"),\"\")","v":""}]
[{"$f":"IFERROR(IF(INDIRECT($A$14&ROW())<>\"\",COUNTIF([1]Summary!$B$30:$B$1029,INDIRECT($A$14&ROW())),\"\"),\"\")","v":""}]
[{"$f":"IFERROR(IF(INDIRECT($A$14&ROW())<>\"\",COUNTIF([1]Summary!$B$30:$B$1029,INDIRECT($A$14&ROW())),\"\"),\"\")","v":""}]
[{"$f":"IFERROR(IF(INDIRECT($A$14&ROW())<>\"\",COUNTIF([1]Summary!$B$30:$B$1029,INDIRECT($A$14&ROW())),\"\"),\"\")","v":""}]
[{"$f":"IFERROR(IF(INDIRECT($A$14&ROW())<>\"\",COUNTIF([1]Summary!$B$30:$B$1029,INDIRECT($A$14&ROW())),\"\"),\"\")","v":""}]
[{"$f":"IFERROR(IF(INDIRECT($A$14&ROW())<>\"\",COUNTIF([1]Summary!$B$30:$B$1029,INDIRECT($A$14&ROW())),\"\"),\"\")","v":""}]
[{"$f":"IFERROR(IF(INDIRECT($A$14&ROW())<>\"\",COUNTIF([1]Summary!$B$30:$B$1029,INDIRECT($A$14&ROW())),\"\"),\"\")","v":""}]
[{"$f":"IFERROR(IF(INDIRECT($A$14&ROW())<>\"\",COUNTIF([1]Summary!$B$30:$B$1029,INDIRECT($A$14&ROW())),\"\"),\"\")","v":""}]
[{"$f":"IFERROR(IF(INDIRECT($A$14&ROW())<>\"\",COUNTIF([1]Summary!$B$30:$B$1029,INDIRECT($A$14&ROW())),\"\"),\"\")","v":""}]
[{"$f":"IFERROR(IF(INDIRECT($A$14&ROW())<>\"\",COUNTIF([1]Summary!$B$30:$B$1029,INDIRECT($A$14&ROW())),\"\"),\"\")","v":""}]
[{"$f":"IFERROR(IF(INDIRECT($A$14&ROW())<>\"\",COUNTIF([1]Summary!$B$30:$B$1029,INDIRECT($A$14&ROW())),\"\"),\"\")","v":""}]
[{"$f":"IFERROR(IF(INDIRECT($A$14&ROW())<>\"\",COUNTIF([1]Summary!$B$30:$B$1029,INDIRECT($A$14&ROW())),\"\"),\"\")","v":""}]
[{"$f":"IFERROR(IF(INDIRECT($A$14&ROW())<>\"\",COUNTIF([1]Summary!$B$30:$B$1029,INDIRECT($A$14&ROW())),\"\"),\"\")","v":""}]
[{"$f":"IFERROR(IF(INDIRECT($A$14&ROW())<>\"\",COUNTIF([1]Summary!$B$30:$B$1029,INDIRECT($A$14&ROW())),\"\"),\"\")","v":""}]
[{"$f":"IFERROR(IF(INDIRECT($A$14&ROW())<>\"\",COUNTIF([1]Summary!$B$30:$B$1029,INDIRECT($A$14&ROW())),\"\"),\"\")","v":""},null,null,null,null,null,null,null,null,null,null,null,null,null,null,null,null,null,null,null,null,null,null,null,null,null,null,null,null,null,null,null,null,null,null,null,null,null,null,null,null,null,null,null,null,null,null,null,null,"CN06 HNY GRN TEA (H)",1]
[{"$f":"IFERROR(IF(INDIRECT($A$14&ROW())<>\"\",COUNTIF([1]Summary!$B$30:$B$1029,INDIRECT($A$14&ROW())),\"\"),\"\")","v":""},null,null,null,null,null,null,null,null,null,null,null,null,null,null,null,null,null,null,null,null,null,null,null,null,null,null,null,null,null,null,null,null,null,null,null,null,null,null,null,null,null,null,null,null,null,null,null,null,"CN06 HNY GRN TEA (H)",1]
[{"$f":"IFERROR(IF(INDIRECT($A$14&ROW())<>\"\",COUNTIF([1]Summary!$B$30:$B$1029,INDIRECT($A$14&ROW())),\"\"),\"\")","v":""},null,null,null,null,null,null,null,null,null,null,null,null,null,null,null,null,null,null,null,null,null,null,null,null,null,null,null,null,null,null,null,null,null,null,null,null,null,null,null,null,null,null,null,null,null,null,null,null,"CN06 HNY GRN TEA (H)",2]
[null,null,null,null,null,null,null,null,null,null,null,null,null,null,null,null,null,null,null,null,null,null,null,null,null,null,null,null,null,null,null,null,null,null,null,null,null,null,null,null,null,null,null,null,null,null,null,null,null,"CN06 HNY GRN TEA (H)",1]
[null,"Copyright © 2013 by Oracle Symphony Sdn Bhd",null,null,null,null,null,null,null,null,null,null,null,null,null,null,null,null,null,null,null,null,null,null,null,null,null,null,null,null,null,null,null,null,null,null,null,null,null,null,null,null,null,null,null,null,null,null,null,"CN06 HNY GRN TEA (H)",2]
[null,null,null,null,null,null,null,null,null,null,null,null,null,null,null,null,null,null,null,null,null,null,null,null,null,null,null,null,null,null,null,null,null,null,null,null,null,null,null,null,null,null,null,null,null,null,null,null,null,"CN06 HNY GRN TEA (H)",2]
[null,null,null,null,null,null,null,null,null,null,null,null,null,null,null,null,null,null,null,null,null,null,null,null,null,null,null,null,null,null,null,null,null,null,null,null,null,null,null,null,null,null,null,null,null,null,null,null,null,"CN06 HNY GRN TEA (H)",1]
[null,null,null,null,null,null,null,null,null,null,null,null,null,null,null,null,null,null,null,null,null,null,null,null,null,null,null,null,null,null,null,null,null,null,null,null,null,null,null,null,null,null,null,null,null,null,null,null,null,"CN06 HNY GRN TEA (H)",1]
[null,null,null,null,null,null,null,null,null,null,null,null,null,null,null,null,null,null,null,null,null,null,null,null,null,null,null,null,null,null,null,null,null,null,null,null,null,null,null,null,null,null,null,null,null,null,null,null,null,"CN06 HNY GRN TEA (H)",1]
[null,null,null,null,null,null,null,null,null,null,null,null,null,null,null,null,null,null,null,null,null,null,null,null,null,null,null,null,null,null,null,null,null,null,null,null,null,null,null,null,null,null,null,null,null,null,null,null,null,"CN06 HNY GRN TEA (H)",1]
[null,null,null,null,null,null,null,null,null,null,null,null,null,null,null,null,null,null,null,null,null,null,null,null,null,null,null,null,null,null,null,null,null,null,null,null,null,null,null,null,null,null,null,null,null,null,null,null,null,"CN06 HNY GRN TEA (H)",1]
[null,null,null,null,null,null,null,null,null,null,null,null,null,null,null,null,null,null,null,null,null,null,null,null,null,null,null,null,null,null,null,null,null,null,null,null,null,null,null,null,null,null,null,null,null,null,null,null,null,"CN06 HNY GRN TEA (H)",2]
[null,null,null,null,null,null,null,null,null,null,null,null,null,null,null,null,null,null,null,null,null,null,null,null,null,null,null,null,null,null,null,null,null,null,null,null,null,null,null,null,null,null,null,null,null,null,null,null,null,"CN06 HNY GRN TEA (H)",2]
[null,null,null,null,null,null,null,null,null,null,null,null,null,null,null,null,null,null,null,null,null,null,null,null,null,null,null,null,null,null,null,null,null,null,null,null,null,null,null,null,null,null,null,null,null,null,null,null,null,"CN06 HNY GRN TEA (H)",1]
[null,null,null,null,null,null,null,null,null,null,null,null,null,null,null,null,null,null,null,null,null,null,null,null,null,null,null,null,null,null,null,null,null,null,null,null,null,null,null,null,null,null,null,null,null,null,null,null,null,"CN06 HNY GRN TEA (H)",1]
[null,null,null,null,null,null,null,null,null,null,null,null,null,null,null,null,null,null,null,null,null,null,null,null,null,null,null,null,null,null,null,null,null,null,null,null,null,null,null,null,null,null,null,null,null,null,null,null,null,"CN06 HNY GRN TEA (H)",1]
[null,null,null,null,null,null,null,null,null,null,null,null,null,null,null,null,null,null,null,null,null,null,null,null,null,null,null,null,null,null,null,null,null,null,null,null,null,null,null,null,null,null,null,null,null,null,null,null,null,"CN07 HONEY (H)",1]
[null,null,null,null,null,null,null,null,null,null,null,null,null,null,null,null,null,null,null,null,null,null,null,null,null,null,null,null,null,null,null,null,null,null,null,null,null,null,null,null,null,null,null,null,null,null,null,null,null,"CN07 HONEY (H)",1]
[null,null,null,null,null,null,null,null,null,null,null,null,null,null,null,null,null,null,null,null,null,null,null,null,null,null,null,null,null,null,null,null,null,null,null,null,null,null,null,null,null,null,null,null,null,null,null,null,null,"CN07 HONEY (H)",1]
[null,null,null,null,null,null,null,null,null,null,null,null,null,null,null,null,null,null,null,null,null,null,null,null,null,null,null,null,null,null,null,null,null,null,null,null,null,null,null,null,null,null,null,null,null,null,null,null,null,"CN07 HONEY (H)",1]
[null,null,null,null,null,null,null,null,null,null,null,null,null,null,null,null,null,null,null,null,null,null,null,null,null,null,null,null,null,null,null,null,null,null,null,null,null,null,null,null,null,null,null,null,null,null,null,null,null,"CN07 HONEY (H)",2]
[null,null,null,null,null,null,null,null,null,null,null,null,null,null,null,null,null,null,null,null,null,null,null,null,null,null,null,null,null,null,null,null,null,null,null,null,null,null,null,null,null,null,null,null,null,null,null,null,null,"CN07 HONEY (H)",1]
[null,null,null,null,null,null,null,null,null,null,null,null,null,null,null,null,null,null,null,null,null,null,null,null,null,null,null,null,null,null,null,null,null,null,null,null,null,null,null,null,null,null,null,null,null,null,null,null,null,"CN07 HONEY (H)",1]
[null,null,null,null,null,null,null,null,null,null,null,null,null,null,null,null,null,null,null,null,null,null,null,null,null,null,null,null,null,null,null,null,null,null,null,null,null,null,null,null,null,null,null,null,null,null,null,null,null,"CN07 HONEY (H)",2]
[null,null,null,null,null,null,null,null,null,null,null,null,null,null,null,null,null,null,null,null,null,null,null,null,null,null,null,null,null,null,null,null,null,null,null,null,null,null,null,null,null,null,null,null,null,null,null,null,null,"CN07 HONEY (H)",1]
[null,null,null,null,null,null,null,null,null,null,null,null,null,null,null,null,null,null,null,null,null,null,null,null,null,null,null,null,null,null,null,null,null,null,null,null,null,null,null,null,null,null,null,null,null,null,null,null,null,"CN07 HONEY (H)",1]
[null,null,null,null,null,null,null,null,null,null,null,null,null,null,null,null,null,null,null,null,null,null,null,null,null,null,null,null,null,null,null,null,null,null,null,null,null,null,null,null,null,null,null,null,null,null,null,null,null,"CN07 HONEY (H)",1]
[null,null,null,null,null,null,null,null,null,null,null,null,null,null,null,null,null,null,null,null,null,null,null,null,null,null,null,null,null,null,null,null,null,null,null,null,null,null,null,null,null,null,null,null,null,null,null,null,null,"CN07 HONEY (H)",1]
[null,null,null,null,null,null,null,null,null,null,null,null,null,null,null,null,null,null,null,null,null,null,null,null,null,null,null,null,null,null,null,null,null,null,null,null,null,null,null,null,null,null,null,null,null,null,null,null,null,"CN07 HONEY (H)",1]
[null,null,null,null,null,null,null,null,null,null,null,null,null,null,null,null,null,null,null,null,null,null,null,null,null,null,null,null,null,null,null,null,null,null,null,null,null,null,null,null,null,null,null,null,null,null,null,null,null,"CN07 HONEY (H)",2]
[null,null,null,null,null,null,null,null,null,null,null,null,null,null,null,null,null,null,null,null,null,null,null,null,null,null,null,null,null,null,null,null,null,null,null,null,null,null,null,null,null,null,null,null,null,null,null,null,null,"CN07 HONEY (H)",1]
[null,null,null,null,null,null,null,null,null,null,null,null,null,null,null,null,null,null,null,null,null,null,null,null,null,null,null,null,null,null,null,null,null,null,null,null,null,null,null,null,null,null,null,null,null,null,null,null,null,"CN07 HONEY (H)",1]
[null,null,null,null,null,null,null,null,null,null,null,null,null,null,null,null,null,null,null,null,null,null,null,null,null,null,null,null,null,null,null,null,null,null,null,null,null,null,null,null,null,null,null,null,null,null,null,null,null,"CN07 HONEY (H)",2]
[null,null,null,null,null,null,null,null,null,null,null,null,null,null,null,null,null,null,null,null,null,null,null,null,null,null,null,null,null,null,null,null,null,null,null,null,null,null,null,null,null,null,null,null,null,null,null,null,null,"CN07 HONEY (H)",1]
[null,null,null,null,null,null,null,null,null,null,null,null,null,null,null,null,null,null,null,null,null,null,null,null,null,null,null,null,null,null,null,null,null,null,null,null,null,null,null,null,null,null,null,null,null,null,null,null,null,"CN07 HONEY (H)",1]
[null,null,null,null,null,null,null,null,null,null,null,null,null,null,null,null,null,null,null,null,null,null,null,null,null,null,null,null,null,null,null,null,null,null,null,null,null,null,null,null,null,null,null,null,null,null,null,null,null,"CN07 HONEY (H)",1]
[null,null,null,null,null,null,null,null,null,null,null,null,null,null,null,null,null,null,null,null,null,null,null,null,null,null,null,null,null,null,null,null,null,null,null,null,null,null,null,null,null,null,null,null,null,null,null,null,null,"CN07 HONEY (H)",4]
[null,null,null,null,null,null,null,null,null,null,null,null,null,null,null,null,null,null,null,null,null,null,null,null,null,null,null,null,null,null,null,null,null,null,null,null,null,null,null,null,null,null,null,null,null,null,null,null,null,"CN07 HONEY (H)",1]
[null,null,null,null,null,null,null,null,null,null,null,null,null,null,null,null,null,null,null,null,null,null,null,null,null,null,null,null,null,null,null,null,null,null,null,null,null,null,null,null,null,null,null,null,null,null,null,null,null,"CN07 HONEY (H)",1]
[null,null,null,null,null,null,null,null,null,null,null,null,null,null,null,null,null,null,null,null,null,null,null,null,null,null,null,null,null,null,null,null,null,null,null,null,null,null,null,null,null,null,null,null,null,null,null,null,null,"CN07 HONEY (H)",3]
[null,null,null,null,null,null,null,null,null,null,null,null,null,null,null,null,null,null,null,null,null,null,null,null,null,null,null,null,null,null,null,null,null,null,null,null,null,null,null,null,null,null,null,null,null,null,null,null,null,"CN07 HONEY (H)",1]
[null,null,null,null,null,null,null,null,null,null,null,null,null,null,null,null,null,null,null,null,null,null,null,null,null,null,null,null,null,null,null,null,null,null,null,null,null,null,null,null,null,null,null,null,null,null,null,null,null,"CN07 HONEY (H)",1]
[null,null,null,null,null,null,null,null,null,null,null,null,null,null,null,null,null,null,null,null,null,null,null,null,null,null,null,null,null,null,null,null,null,null,null,null,null,null,null,null,null,null,null,null,null,null,null,null,null,"CN07 HONEY (H)",3]
[null,null,null,null,null,null,null,null,null,null,null,null,null,null,null,null,null,null,null,null,null,null,null,null,null,null,null,null,null,null,null,null,null,null,null,null,null,null,null,null,null,null,null,null,null,null,null,null,null,"CN07 HONEY (H)",3]
[null,null,null,null,null,null,null,null,null,null,null,null,null,null,null,null,null,null,null,null,null,null,null,null,null,null,null,null,null,null,null,null,null,null,null,null,null,null,null,null,null,null,null,null,null,null,null,null,null,"CN07 HONEY (H)",4]
[null,null,null,null,null,null,null,null,null,null,null,null,null,null,null,null,null,null,null,null,null,null,null,null,null,null,null,null,null,null,null,null,null,null,null,null,null,null,null,null,null,null,null,null,null,null,null,null,null,"CN07 HONEY (H)",1]
[null,null,null,null,null,null,null,null,null,null,null,null,null,null,null,null,null,null,null,null,null,null,null,null,null,null,null,null,null,null,null,null,null,null,null,null,null,null,null,null,null,null,null,null,null,null,null,null,null,"CN07 HONEY (H)",2]
[null,null,null,null,null,null,null,null,null,null,null,null,null,null,null,null,null,null,null,null,null,null,null,null,null,null,null,null,null,null,null,null,null,null,null,null,null,null,null,null,null,null,null,null,null,null,null,null,null,"CN07 HONEY (H)",1]
[null,null,null,null,null,null,null,null,null,null,null,null,null,null,null,null,null,null,null,null,null,null,null,null,null,null,null,null,null,null,null,null,null,null,null,null,null,null,null,null,null,null,null,null,null,null,null,null,null,"CN07 HONEY (H)",1]
[null,null,null,null,null,null,null,null,null,null,null,null,null,null,null,null,null,null,null,null,null,null,null,null,null,null,null,null,null,null,null,null,null,null,null,null,null,null,null,null,null,null,null,null,null,null,null,null,null,"CN07 HONEY (H)",1]
[null,null,null,null,null,null,null,null,null,null,null,null,null,null,null,null,null,null,null,null,null,null,null,null,null,null,null,null,null,null,null,null,null,null,null,null,null,null,null,null,null,null,null,null,null,null,null,null,null,"CN08 LEMON HONEY (H)",1]
[null,null,null,null,null,null,null,null,null,null,null,null,null,null,null,null,null,null,null,null,null,null,null,null,null,null,null,null,null,null,null,null,null,null,null,null,null,null,null,null,null,null,null,null,null,null,null,null,null,"CN08 LEMON HONEY (H)",2]
[null,null,null,null,null,null,null,null,null,null,null,null,null,null,null,null,null,null,null,null,null,null,null,null,null,null,null,null,null,null,null,null,null,null,null,null,null,null,null,null,null,null,null,null,null,null,null,null,null,"CN08 LEMON HONEY (H)",1]
[null,null,null,null,null,null,null,null,null,null,null,null,null,null,null,null,null,null,null,null,null,null,null,null,null,null,null,null,null,null,null,null,null,null,null,null,null,null,null,null,null,null,null,null,null,null,null,null,null,"CN08 LEMON HONEY (H)",1]
[null,null,null,null,null,null,null,null,null,null,null,null,null,null,null,null,null,null,null,null,null,null,null,null,null,null,null,null,null,null,null,null,null,null,null,null,null,null,null,null,null,null,null,null,null,null,null,null,null,"CN08 LEMON HONEY (H)",2]
[null,null,null,null,null,null,null,null,null,null,null,null,null,null,null,null,null,null,null,null,null,null,null,null,null,null,null,null,null,null,null,null,null,null,null,null,null,null,null,null,null,null,null,null,null,null,null,null,null,"CN08 LEMON HONEY (H)",1]
[null,null,null,null,null,null,null,null,null,null,null,null,null,null,null,null,null,null,null,null,null,null,null,null,null,null,null,null,null,null,null,null,null,null,null,null,null,null,null,null,null,null,null,null,null,null,null,null,null,"CN08 LEMON HONEY (H)",1]
[null,null,null,null,null,null,null,null,null,null,null,null,null,null,null,null,null,null,null,null,null,null,null,null,null,null,null,null,null,null,null,null,null,null,null,null,null,null,null,null,null,null,null,null,null,null,null,null,null,"CN08 LEMON HONEY (H)",1]
[null,null,null,null,null,null,null,null,null,null,null,null,null,null,null,null,null,null,null,null,null,null,null,null,null,null,null,null,null,null,null,null,null,null,null,null,null,null,null,null,null,null,null,null,null,null,null,null,null,"CN08 LEMON HONEY (H)",1]
[null,null,null,null,null,null,null,null,null,null,null,null,null,null,null,null,null,null,null,null,null,null,null,null,null,null,null,null,null,null,null,null,null,null,null,null,null,null,null,null,null,null,null,null,null,null,null,null,null,"CN08 LEMON HONEY (H)",3]
[null,null,null,null,null,null,null,null,null,null,null,null,null,null,null,null,null,null,null,null,null,null,null,null,null,null,null,null,null,null,null,null,null,null,null,null,null,null,null,null,null,null,null,null,null,null,null,null,null,"CN08 LEMON HONEY (H)",2]
[null,null,null,null,null,null,null,null,null,null,null,null,null,null,null,null,null,null,null,null,null,null,null,null,null,null,null,null,null,null,null,null,null,null,null,null,null,null,null,null,null,null,null,null,null,null,null,null,null,"CN08 LEMON HONEY (H)",1]
[null,null,null,null,null,null,null,null,null,null,null,null,null,null,null,null,null,null,null,null,null,null,null,null,null,null,null,null,null,null,null,null,null,null,null,null,null,null,null,null,null,null,null,null,null,null,null,null,null,"CN08 LEMON HONEY (H)",1]
[null,null,null,null,null,null,null,null,null,null,null,null,null,null,null,null,null,null,null,null,null,null,null,null,null,null,null,null,null,null,null,null,null,null,null,null,null,null,null,null,null,null,null,null,null,null,null,null,null,"CN08 LEMON HONEY (H)",2]
[null,null,null,null,null,null,null,null,null,null,null,null,null,null,null,null,null,null,null,null,null,null,null,null,null,null,null,null,null,null,null,null,null,null,null,null,null,null,null,null,null,null,null,null,null,null,null,null,null,"CN08 LEMON HONEY (H)",3]
[null,null,null,null,null,null,null,null,null,null,null,null,null,null,null,null,null,null,null,null,null,null,null,null,null,null,null,null,null,null,null,null,null,null,null,null,null,null,null,null,null,null,null,null,null,null,null,null,null,"CN08 LEMON HONEY (H)",5]
[null,null,null,null,null,null,null,null,null,null,null,null,null,null,null,null,null,null,null,null,null,null,null,null,null,null,null,null,null,null,null,null,null,null,null,null,null,null,null,null,null,null,null,null,null,null,null,null,null,"CN08 LEMON HONEY (H)",4]
[null,null,null,null,null,null,null,null,null,null,null,null,null,null,null,null,null,null,null,null,null,null,null,null,null,null,null,null,null,null,null,null,null,null,null,null,null,null,null,null,null,null,null,null,null,null,null,null,null,"CN08 LEMON HONEY (H)",1]
[null,null,null,null,null,null,null,null,null,null,null,null,null,null,null,null,null,null,null,null,null,null,null,null,null,null,null,null,null,null,null,null,null,null,null,null,null,null,null,null,null,null,null,null,null,null,null,null,null,"CN08 LEMON HONEY (H)",1]
[null,null,null,null,null,null,null,null,null,null,null,null,null,null,null,null,null,null,null,null,null,null,null,null,null,null,null,null,null,null,null,null,null,null,null,null,null,null,null,null,null,null,null,null,null,null,null,null,null,"CN08 LEMON HONEY (H)",1]
[null,null,null,null,null,null,null,null,null,null,null,null,null,null,null,null,null,null,null,null,null,null,null,null,null,null,null,null,null,null,null,null,null,null,null,null,null,null,null,null,null,null,null,null,null,null,null,null,null,"CN08 LEMON HONEY (H)",1]
[null,null,null,null,null,null,null,null,null,null,null,null,null,null,null,null,null,null,null,null,null,null,null,null,null,null,null,null,null,null,null,null,null,null,null,null,null,null,null,null,null,null,null,null,null,null,null,null,null,"CN08 LEMON HONEY (H)",1]
[null,null,null,null,null,null,null,null,null,null,null,null,null,null,null,null,null,null,null,null,null,null,null,null,null,null,null,null,null,null,null,null,null,null,null,null,null,null,null,null,null,null,null,null,null,null,null,null,null,"CN08 LEMON HONEY (H)",4]
[null,null,null,null,null,null,null,null,null,null,null,null,null,null,null,null,null,null,null,null,null,null,null,null,null,null,null,null,null,null,null,null,null,null,null,null,null,null,null,null,null,null,null,null,null,null,null,null,null,"CN08 LEMON HONEY (H)",3]
[null,null,null,null,null,null,null,null,null,null,null,null,null,null,null,null,null,null,null,null,null,null,null,null,null,null,null,null,null,null,null,null,null,null,null,null,null,null,null,null,null,null,null,null,null,null,null,null,null,"CN08 LEMON HONEY (H)",1]
[null,null,null,null,null,null,null,null,null,null,null,null,null,null,null,null,null,null,null,null,null,null,null,null,null,null,null,null,null,null,null,null,null,null,null,null,null,null,null,null,null,null,null,null,null,null,"DG05 91005 91005:FISH&CHIP",1,null,"CN08 LEMON HONEY (H)",2,null,"CN06 HNY GRN TEA (H)",1,null,"DB05 1005:FISH&CHIP",2]
[null,null,null,null,null,null,null,null,null,null,null,null,null,null,null,null,null,null,null,null,null,null,null,null,null,null,null,null,null,null,null,null,null,null,null,null,null,null,null,null,null,null,null,null,null,null,"DG05 91005 91005:FISH&CHIP",1,null,"CN08 LEMON HONEY (H)",1,null,"CN06 HNY GRN TEA (H)",1,null,"DB06 1006:SPAGHETTI",1]
[null,null,null,null,null,null,null,null,null,null,null,null,null,null,null,null,null,null,null,null,null,null,null,null,null,null,null,null,null,null,null,null,null,null,null,null,null,null,null,null,null,null,null,null,null,null,"DG05 91005 91005:FISH&CHIP",1,null,"CN08 LEMON HONEY (H)",3,null,"CN06 HNY GRN TEA (H)",1,null,"DG01 91001:BP CHK CP",1]
[null,null,null,null,null,null,null,null,null,null,null,null,null,null,null,null,null,null,null,null,null,null,null,null,null,null,null,null,null,null,null,null,null,null,null,null,null,null,null,null,null,null,null,null,null,null,"DG05 91005 91005:FISH&CHIP",1,null,"CN08 LEMON HONEY (H)",1,null,"CN06 HNY GRN TEA (H)",1,null,"DG01 91001:BP CHK CP",1]
[null,null,null,null,null,null,null,null,null,null,null,null,null,null,null,null,null,null,null,null,null,null,null,null,null,null,null,null,null,null,null,null,null,null,null,null,null,null,null,null,null,null,null,null,null,null,"DG05 91005 91005:FISH&CHIP",2,null,"CN08 LEMON HONEY (H)",2,null,"CN06 HNY GRN TEA (H)",3,null,"DG01 91001:BP CHK CP",1]
[null,null,null,null,null,null,null,null,null,null,null,null,null,null,null,null,null,null,null,null,null,null,null,null,null,null,null,null,null,null,null,null,null,null,null,null,null,null,null,null,null,null,null,null,null,null,"DG05 91005 91005:FISH&CHIP",1,null,"CN08 LEMON HONEY (H)",2,null,"CN07 HONEY (H)",1,null,"DG01 91001:BP CHK CP",1]
[null,null,null,null,null,null,null,null,null,null,null,null,null,null,null,null,null,null,null,null,null,null,null,null,null,null,null,null,null,null,null,null,null,null,null,null,null,null,null,null,null,null,null,null,null,null,"DG05 91005 91005:FISH&CHIP",1,null,"CN08 LEMON HONEY (H)",1,null,"CN07 HONEY (H)",1,null,"DG01 91001:BP CHK CP",1]
[null,null,null,null,null,null,null,null,null,null,null,null,null,null,null,null,null,null,null,null,null,null,null,null,null,null,null,null,null,null,null,null,null,null,null,null,null,null,null,null,null,null,null,null,null,null,"DG05 91005 91005:FISH&CHIP",1,null,"CN08 LEMON HONEY (H)",1,null,"CN07 HONEY (H)",1,null,"DG01 91001:BP CHK CP",1]
[null,null,null,null,null,null,null,null,null,null,null,null,null,null,null,null,null,null,null,null,null,null,null,null,null,null,null,null,null,null,null,null,null,null,null,null,null,null,null,null,null,null,null,null,null,null,"DG05 91005 91005:FISH&CHIP",1,null,"CN08 LEMON HONEY (H)",1,null,"CN07 HONEY (H)",1,null,"DG01 91001:BP CHK CP",1]
[null,null,null,null,null,null,null,null,null,null,null,null,null,null,null,null,null,null,null,null,null,null,null,null,null,null,null,null,null,null,null,null,null,null,null,null,null,null,null,null,null,null,null,null,null,null,"DG05 91005 91005:FISH&CHIP",2,null,"CN08 LEMON HONEY (H)",5,null,"CN07 HONEY (H)",1,null,"DG01 91001:BP CHK CP",1]
[null,null,null,null,null,null,null,null,null,null,null,null,null,null,null,null,null,null,null,null,null,null,null,null,null,null,null,null,null,null,null,null,null,null,null,null,null,null,null,null,null,null,null,null,null,null,"DG05 91005 91005:FISH&CHIP",2,null,"CN08 LEMON HONEY (H)",1,null,"CN07 HONEY (H)",1,null,"DG01 91001:BP CHK CP",1]
[null,null,null,null,null,null,null,null,null,null,null,null,null,null,null,null,null,null,null,null,null,null,null,null,null,null,null,null,null,null,null,null,null,null,null,null,null,null,null,null,null,null,null,null,null,null,"DG05 91005 91005:FISH&CHIP",1,null,"CN08 LEMON HONEY (H)",5,null,"CN07 HONEY (H)",1,null,"DG01 91001:BP CHK CP",1]
[null,null,null,null,null,null,null,null,null,null,null,null,null,null,null,null,null,null,null,null,null,null,null,null,null,null,null,null,null,null,null,null,null,null,null,null,null,null,null,null,null,null,null,null,null,null,"DG06 91006 91006:SPAGHETTI",1,null,"CN08 LEMON HONEY (H)",4,null,"CN07 HONEY (H)",1,null,"DG01 91001:BP CHK CP",1]
[null,null,null,null,null,null,null,null,null,null,null,null,null,null,null,null,null,null,null,null,null,null,null,null,null,null,null,null,null,null,null,null,null,null,null,null,null,null,null,null,null,null,null,null,null,null,"DG06 91006 91006:SPAGHETTI",1,null,"CN08 LEMON HONEY (H)",1,null,"CN07 HONEY (H)",1,null,"DG02 91002:GVY CHK CP",2]
[null,null,null,null,null,null,null,null,null,null,null,null,null,null,null,null,null,null,null,null,null,null,null,null,null,null,null,null,null,null,null,null,null,null,null,null,null,null,null,null,null,null,null,null,null,null,"DG06 91006 91006:SPAGHETTI",1,null,"CN08 LEMON HONEY (H)",2,null,"CN07 HONEY (H)",1,null,"DG02 91002:GVY CHK CP",1]
[null,null,null,null,null,null,null,null,null,null,null,null,null,null,null,null,null,null,null,null,null,null,null,null,null,null,null,null,null,null,null,null,null,null,null,null,null,null,null,null,null,null,null,null,null,null,"DG06 91006 91006:SPAGHETTI",1,null,"CN08 LEMON HONEY (H)",2,null,"CN07 HONEY (H)",1,null,"DG02 91002:GVY CHK CP",1]
[null,null,null,null,null,null,null,null,null,null,null,null,null,null,null,null,null,null,null,null,null,null,null,null,null,null,null,null,null,null,null,null,null,null,null,null,null,null,null,null,null,null,null,null,null,null,"DG06 91006 91006:SPAGHETTI",1,null,"CN08 LEMON HONEY (H)",1,null,"CN07 HONEY (H)",1,null,"DG02 91002:GVY CHK CP",1]
[null,null,null,null,null,null,null,null,null,null,null,null,null,null,null,null,null,null,null,null,null,null,null,null,null,null,null,null,null,null,null,null,null,null,null,null,null,null,null,null,null,null,null,null,null,null,"DG06 91006 91006:SPAGHETTI",4,null,"CN08 LEMON HONEY (H)",2,null,"CN07 HONEY (H)",1,null,"DG02 91002:GVY CHK CP",1]
[null,null,null,null,null,null,null,null,null,null,null,null,null,null,null,null,null,null,null,null,null,null,null,null,null,null,null,null,null,null,null,null,null,null,null,null,null,null,null,null,null,null,null,null,null,null,"DG07 91007 91007:CHK SALAD",1,null,"CN08 LEMON HONEY (H)",1,null,"CN07 HONEY (H)",1,null,"DG03 91003:MSR CHK CP",1]
[null,null,null,null,null,null,null,null,null,null,null,null,null,null,null,null,null,null,null,null,null,null,null,null,null,null,null,null,null,null,null,null,null,null,null,null,null,null,null,null,null,null,null,null,null,null,"DG07 91007 91007:CHK SALAD",1,null,"CN08 LEMON HONEY (H)",1,null,"CN07 HONEY (H)",1,null,"DG03 91003:MSR CHK CP",1]
[null,null,null,null,null,null,null,null,null,null,null,null,null,null,null,null,null,null,null,null,null,null,null,null,null,null,null,null,null,null,null,null,null,null,null,null,null,null,null,null,null,null,null,null,null,null,"DG07 91007 91007:CHK SALAD",1,null,"CN08 LEMON HONEY (H)",2,null,"CN07 HONEY (H)",1,null,"DG03 91003:MSR CHK CP",1]
[null,null,null,null,null,null,null,null,null,null,null,null,null,null,null,null,null,null,null,null,null,null,null,null,null,null,null,null,null,null,null,null,null,null,null,null,null,null,null,null,null,null,null,null,null,null,"DC01 1101 1101:THAI CHK",1,null,"CN08 LEMON HONEY (H)",1,null,"CN07 HONEY (H)",2,null,"DG03 91003:MSR CHK CP",1]
[null,null,null,null,null,null,null,null,null,null,null,null,null,null,null,null,null,null,null,null,null,null,null,null,null,null,null,null,null,null,null,null,null,null,null,null,null,null,null,null,null,null,null,null,null,null,"DC02 1102 1102:MAMITE CHK",2,null,"CN08 LEMON HONEY (H)",1,null,"CN07 HONEY (H)",1,null,"DG03 91003:MSR CHK CP",1]
[null,null,null,null,null,null,null,null,null,null,null,null,null,null,null,null,null,null,null,null,null,null,null,null,null,null,null,null,null,null,null,null,null,null,null,null,null,null,null,null,null,null,null,null,null,null,"DC02 1102 1102:MAMITE CHK",1,null,"CN08 LEMON HONEY (H)",1,null,"CN08 LEMON HONEY (H)",1,null,"DG03 91003:MSR CHK CP",1]
[null,null,null,null,null,null,null,null,null,null,null,null,null,null,null,null,null,null,null,null,null,null,null,null,null,null,null,null,null,null,null,null,null,null,null,null,null,null,null,null,null,null,null,null,null,null,"DC02 1102 1102:MAMITE CHK",1,null,"CN08 LEMON HONEY (H)",1,null,"CN08 LEMON HONEY (H)",2,null,"DG03 91003:MSR CHK CP",1]
[null,null,null,null,null,null,null,null,null,null,null,null,null,null,null,null,null,null,null,null,null,null,null,null,null,null,null,null,null,null,null,null,null,null,null,null,null,null,null,null,null,null,null,null,null,null,"DC03 1103 1103:KO PO CHK",1,null,"CN08 LEMON HONEY (H)",2,null,"CN08 LEMON HONEY (H)",1,null,"DG03 91003:MSR CHK CP",1]
[null,null,null,null,null,null,null,null,null,null,null,null,null,null,null,null,null,null,null,null,null,null,null,null,null,null,null,null,null,null,null,null,null,null,null,null,null,null,null,null,null,null,null,null,null,null,"DC05 1105 1105:BUTTER CHK",1,null,"CN08 LEMON HONEY (H)",4,null,"CN08 LEMON HONEY (H)",1,null,"DG03 91003:MSR CHK CP",1]
[null,null,null,null,null,null,null,null,null,null,null,null,null,null,null,null,null,null,null,null,null,null,null,null,null,null,null,null,null,null,null,null,null,null,null,null,null,null,null,null,null,null,null,null,null,null,"DC05 1105 1105:BUTTER CHK",1,null,"CN08 LEMON HONEY (H)",1,null,"CN08 LEMON HONEY (H)",2,null,"DG03 91003:MSR CHK CP",2]
[null,null,null,null,null,null,null,null,null,null,null,null,null,null,null,null,null,null,null,null,null,null,null,null,null,null,null,null,null,null,null,null,null,null,null,null,null,null,null,null,null,null,null,null,null,null,"DC05 1105 1105:BUTTER CHK",1,null,"CN08 LEMON HONEY (H)",1,null,"CN08 LEMON HONEY (H)",1,null,"DG03 91003:MSR CHK CP",1]
[null,null,null,null,null,null,null,null,null,null,null,null,null,null,null,null,null,null,null,null,null,null,null,null,null,null,null,null,null,null,null,null,null,null,null,null,null,null,null,null,null,null,null,null,null,null,"DC06 1106 1106:HK F.RICE",1,null,"CN08 LEMON HONEY (H)",2,null,"CN08 LEMON HONEY (H)",1,null,"DG03 91003:MSR CHK CP",3]
[null,null,null,null,null,null,null,null,null,null,null,null,null,null,null,null,null,null,null,null,null,null,null,null,null,null,null,null,null,null,null,null,null,null,null,null,null,null,null,null,null,null,null,null,null,null,"DC06 1106 1106:HK F.RICE",1,null,"CN08 LEMON HONEY (H)",1,null,"CN08 LEMON HONEY (H)",1,null,"DG03 91003:MSR CHK CP",1]
[null,null,null,null,null,null,null,null,null,null,null,null,null,null,null,null,null,null,null,null,null,null,null,null,null,null,null,null,null,null,null,null,null,null,null,null,null,null,null,null,null,null,null,null,null,null,"DC06 1106 1106:HK F.RICE",1,null,"CN08 LEMON HONEY (H)",1,null,"CN08 LEMON HONEY (H)",1,null,"DG03 91003:MSR CHK CP",1]
[null,null,null,null,null,null,null,null,null,null,null,null,null,null,null,null,null,null,null,null,null,null,null,null,null,null,null,null,null,null,null,null,null,null,null,null,null,null,null,null,null,null,null,null,null,null,"DC06 1106 1106:HK F.RICE",1,null,"CN08 LEMON HONEY (H)",2,null,"CN08 LEMON HONEY (H)",1,null,"DG03 91003:MSR CHK CP",1]
[null,null,null,null,null,null,null,null,null,null,null,null,null,null,null,null,null,null,null,null,null,null,null,null,null,null,null,null,null,null,null,null,null,null,null,null,null,null,null,null,null,null,null,null,null,null,"DC07 1107 1107:SBL F.RICE",1,null,"CN08 LEMON HONEY (H)",2,null,"CN08 LEMON HONEY (H)",1,null,"DG03 91003:MSR CHK CP",1]
[null,null,null,null,null,null,null,null,null,null,null,null,null,null,null,null,null,null,null,null,null,null,null,null,null,null,null,null,null,null,null,null,null,null,null,null,null,null,null,null,null,null,null,null,null,null,"DC07 1107 1107:SBL F.RICE",1,null,"CN08 LEMON HONEY (H)",2,null,"CN08 LEMON HONEY (H)",1,null,"DG04 91004:CKN MARY",1]
[null,null,null,null,null,null,null,null,null,null,null,null,null,null,null,null,null,null,null,null,null,null,null,null,null,null,null,null,null,null,null,null,null,null,null,null,null,null,null,null,null,null,null,null,null,null,"DC07 1107 1107:SBL F.RICE",1,null,"CN08 LEMON HONEY (H)",1,null,"CN08 LEMON HONEY (H)",1,null,"DG04 91004:CKN MARY",1]
[null,null,null,null,null,null,null,null,null,null,null,null,null,null,null,null,null,null,null,null,null,null,null,null,null,null,null,null,null,null,null,null,null,null,null,null,null,null,null,null,null,null,null,null,null,null,"DC08 1108 1108:SBL F.MEE",1,null,"CN08 LEMON HONEY (H)",1,null,"CN08 LEMON HONEY (H)",3,null,"DG04 91004:CKN MARY",1]
[null,null,null,null,null,null,null,null,null,null,null,null,null,null,null,null,null,null,null,null,null,null,null,null,null,null,null,null,null,null,null,null,null,null,null,null,null,null,null,null,null,null,null,null,null,null,"DC08 1108 1108:SBL F.MEE",1,null,"CN08 LEMON HONEY (H)",1,null,"CN08 LEMON HONEY (H)",1,null,"DG04 91004:CKN MARY",1]
[null,null,null,null,null,null,null,null,null,null,null,null,null,null,null,null,null,null,null,null,null,null,null,null,null,null,null,null,null,null,null,null,null,null,null,null,null,null,null,null,null,null,null,null,null,null,"DC09 1109 1109:BP UDON",1,null,"CN08 LEMON HONEY (H)",1,null,"CN08 LEMON HONEY (H)",1,null,"DG04 91004:CKN MARY",1]
[null,null,null,null,null,null,null,null,null,null,null,null,null,null,null,null,null,null,null,null,null,null,null,null,null,null,null,null,null,null,null,null,null,null,null,null,null,null,null,null,null,null,null,null,null,null,"DC09 1109 1109:BP UDON",1,null,"CN08 LEMON HONEY (H)",1,null,"CN08 LEMON HONEY (H)",1,null,"DG04 91004:CKN MARY",1]
[null,null,null,null,null,null,null,null,null,null,null,null,null,null,null,null,null,null,null,null,null,null,null,null,null,null,null,null,null,null,null,null,null,null,null,null,null,null,null,null,null,null,null,null,null,null,"DC10 1110 1110:NISSIN",1,null,"CN08 LEMON HONEY (H)",3,null,"CN08 LEMON HONEY (H)",1,null,"DG04 91004:CKN MARY",1]
[null,null,null,null,null,null,null,null,null,null,null,null,null,null,null,null,null,null,null,null,null,null,null,null,null,null,null,null,null,null,null,null,null,null,null,null,null,null,null,null,null,null,null,null,null,null,"DC12 1112 1112:NASI LEMAK",1,null,"CN08 LEMON HONEY (H)",1,null,"CN08 LEMON HONEY (H)",2,null,"DG04 91004:CKN MARY",3]
[null,null,null,null,null,null,null,null,null,null,null,null,null,null,null,null,null,null,null,null,null,null,null,null,null,null,null,null,null,null,null,null,null,null,null,null,null,null,null,null,null,null,null,null,null,null,"DC13 1113 1113:KUEY TEOW",1,null,"CN08 LEMON HONEY (H)",2,null,"CN08 LEMON HONEY (H)",1,null,"DG04 91004:CKN MARY",1]
[null,null,null,null,null,null,null,null,null,null,null,null,null,null,null,null,null,null,null,null,null,null,null,null,null,null,null,null,null,null,null,null,null,null,null,null,null,null,null,null,null,null,null,null,null,null,"DC13 1113 1113:KUEY TEOW",1,null,"CN08 LEMON HONEY (H)",1,null,"CN08 LEMON HONEY (H)",1,null,"DG04 91004:CKN MARY",2]
[null,null,null,null,null,null,null,null,null,null,null,null,null,null,null,null,null,null,null,null,null,null,null,null,null,null,null,null,null,null,null,null,null,null,null,null,null,null,null,null,null,null,null,null,null,null,"DC13 1113 1113:KUEY TEOW",1,null,"CN08 LEMON HONEY (H)",2,null,"CN08 LEMON HONEY (H)",1,null,"DG04 91004:CKN MARY",1]
[null,null,null,null,null,null,null,null,null,null,null,null,null,null,null,null,null,null,null,null,null,null,null,null,null,null,null,null,null,null,null,null,null,null,null,null,null,null,null,null,null,null,null,null,null,null,"DC13 1113 1113:KUEY TEOW",-1,null,"CN08 LEMON HONEY (H)",2,null,"CN08 LEMON HONEY (H)",1,null,"DG04 91004:CKN MARY",1]
[null,null,null,null,null,null,null,null,null,null,null,null,null,null,null,null,null,null,null,null,null,null,null,null,null,null,null,null,null,null,null,null,null,null,null,null,null,null,null,null,null,null,null,null,null,null,"DC14 1114 1114:F.BALL MEE",1,null,"CN08 LEMON HONEY (H)",1,null,"CN08 LEMON HONEY (H)",3,null,"DG04 91004:CKN MARY",1]
[null,null,null,null,null,null,null,null,null,null,null,null,null,null,null,null,null,null,null,null,null,null,null,null,null,null,null,null,null,null,null,null,null,null,null,null,null,null,null,null,null,null,null,null,null,null,"DC15 1115 1115:CHK NOODLE",1,null,"CN08 LEMON HONEY (H)",2,null,"CN08 LEMON HONEY (H)",2,null,"DG05 91005:FISH&CHIP",1]
[null,null,null,null,null,null,null,null,null,null,null,null,null,null,null,null,null,null,null,null,null,null,null,null,null,null,null,null,null,null,null,null,null,null,null,null,null,null,null,null,null,null,null,null,null,null,"DH01 91101 91101:THAI CHK",1,null,"CN08 LEMON HONEY (H)",1,null,"CN08 LEMON HONEY (H)",1,null,"DG05 91005:FISH&CHIP",1]
[null,null,null,null,null,null,null,null,null,null,null,null,null,null,null,null,null,null,null,null,null,null,null,null,null,null,null,null,null,null,null,null,null,null,null,null,null,null,null,null,null,null,null,null,null,null,"DH01 91101 91101:THAI CHK",1,null,"CN08 LEMON HONEY (H)",3,null,"CN08 LEMON HONEY (H)",3,null,"DG05 91005:FISH&CHIP",1]
[null,null,null,null,null,null,null,null,null,null,null,null,null,null,null,null,null,null,null,null,null,null,null,null,null,null,null,null,null,null,null,null,null,null,null,null,null,null,null,null,null,null,null,null,null,null,"DH01 91101 91101:THAI CHK",1,null,"CN08 LEMON HONEY (H)",1,null,"CN08 LEMON HONEY (H)",1,null,"DG05 91005:FISH&CHIP",1]
[null,null,null,null,null,null,null,null,null,null,null,null,null,null,null,null,null,null,null,null,null,null,null,null,null,null,null,null,null,null,null,null,null,null,null,null,null,null,null,null,null,null,null,null,null,null,"DH01 91101 91101:THAI CHK",1,null,"CN08 LEMON HONEY (H)",1,null,"CN08 LEMON HONEY (H)",2,null,"DG05 91005:FISH&CHIP",1]
[null,null,null,null,null,null,null,null,null,null,null,null,null,null,null,null,null,null,null,null,null,null,null,null,null,null,null,null,null,null,null,null,null,null,null,null,null,null,null,null,null,null,null,null,null,null,"DH01 91101 91101:THAI CHK",1,null,"CN08 LEMON HONEY (H)",1,null,"CN08 LEMON HONEY (H)",1,null,"DG05 91005:FISH&CHIP",1]
[null,null,null,null,null,null,null,null,null,null,null,null,null,null,null,null,null,null,null,null,null,null,null,null,null,null,null,null,null,null,null,null,null,null,null,null,null,null,null,null,null,null,null,null,null,null,"DH01 91101 91101:THAI CHK",1,null,"CN08 LEMON HONEY (H)",2,null,"CN08 LEMON HONEY (H)",2,null,"DG05 91005:FISH&CHIP",6]
[null,null,null,null,null,null,null,null,null,null,null,null,null,null,null,null,null,null,null,null,null,null,null,null,null,null,null,null,null,null,null,null,null,null,null,null,null,null,null,null,null,null,null,null,null,null,"DH01 91101 91101:THAI CHK",2,null,"CN08 LEMON HONEY (H)",3,null,"CN08 LEMON HONEY (H)",2,null,"DG05 91005:FISH&CHIP",1]
[null,null,null,null,null,null,null,null,null,null,null,null,null,null,null,null,null,null,null,null,null,null,null,null,null,null,null,null,null,null,null,null,null,null,null,null,null,null,null,null,null,null,null,null,null,null,"DH01 91101 91101:THAI CHK",1,null,"CN08 LEMON HONEY (H)",10,null,"CN08 LEMON HONEY (H)",1,null,"DG05 91005:FISH&CHIP",3]
[null,null,null,null,null,null,null,null,null,null,null,null,null,null,null,null,null,null,null,null,null,null,null,null,null,null,null,null,null,null,null,null,null,null,null,null,null,null,null,null,null,null,null,null,null,null,"DH01 91101 91101:THAI CHK",1,null,"CN08 LEMON HONEY (H)",1,null,"CN08 LEMON HONEY (H)",1,null,"DG05 91005:FISH&CHIP",2]
[null,null,null,null,null,null,null,null,null,null,null,null,null,null,null,null,null,null,null,null,null,null,null,null,null,null,null,null,null,null,null,null,null,null,null,null,null,null,null,null,null,null,null,null,null,null,"DH02 91102 91102:MAMITE CHK",2,null,"CN08 LEMON HONEY (H)",1,null,"CN08 LEMON HONEY (H)",1,null,"DG05 91005:FISH&CHIP",1]
[null,null,null,null,null,null,null,null,null,null,null,null,null,null,null,null,null,null,null,null,null,null,null,null,null,null,null,null,null,null,null,null,null,null,null,null,null,null,null,null,null,null,null,null,null,null,"DH02 91102 91102:MAMITE CHK",1,null,"CN08 LEMON HONEY (H)",2,null,"CN08 LEMON HONEY (H)",2,null,"DG05 91005:FISH&CHIP",1]
[null,null,null,null,null,null,null,null,null,null,null,null,null,null,null,null,null,null,null,null,null,null,null,null,null,null,null,null,null,null,null,null,null,null,null,null,null,null,null,null,null,null,null,null,null,null,"DH02 91102 91102:MAMITE CHK",1,null,"CN08 LEMON HONEY (H)",1,null,"CN08 LEMON HONEY (H)",1,null,"DG05 91005:FISH&CHIP",2]
[null,null,null,null,null,null,null,null,null,null,null,null,null,null,null,null,null,null,null,null,null,null,null,null,null,null,null,null,null,null,null,null,null,null,null,null,null,null,null,null,null,null,null,null,null,null,"DH02 91102 91102:MAMITE CHK",1,null,"CN08 LEMON HONEY (H)",2,null,"CN08 LEMON HONEY (H)",1,null,"DG05 91005:FISH&CHIP",1]
[null,null,null,null,null,null,null,null,null,null,null,null,null,null,null,null,null,null,null,null,null,null,null,null,null,null,null,null,null,null,null,null,null,null,null,null,null,null,null,null,null,null,null,null,null,null,"DH03 91103 91103:KO PO CHK",1,null,"CN08 LEMON HONEY (H)",5,null,"CN08 LEMON HONEY (H)",2,null,"DG06 91006:SPAGHETTI",1]
[null,null,null,null,null,null,null,null,null,null,null,null,null,null,null,null,null,null,null,null,null,null,null,null,null,null,null,null,null,null,null,null,null,null,null,null,null,null,null,null,null,null,null,null,null,null,"DH03 91103 91103:KO PO CHK",1,null,"CN08 LEMON HONEY (H)",2,null,"CN08 LEMON HONEY (H)",2,null,"DG06 91006:SPAGHETTI",1]
[null,null,null,null,null,null,null,null,null,null,null,null,null,null,null,null,null,null,null,null,null,null,null,null,null,null,null,null,null,null,null,null,null,null,null,null,null,null,null,null,null,null,null,null,null,null,"DH03 91103 91103:KO PO CHK",1,null,"CN08 LEMON HONEY (H)",4,null,"CN08 LEMON HONEY (H)",1,null,"DG06 91006:SPAGHETTI",2]
[null,null,null,null,null,null,null,null,null,null,null,null,null,null,null,null,null,null,null,null,null,null,null,null,null,null,null,null,null,null,null,null,null,null,null,null,null,null,null,null,null,null,null,null,null,null,"DH04 91104 91104:S&S CHK",1,null,"CN08 LEMON HONEY (H)",1,null,"CN08 LEMON HONEY (H)",1,null,"DG06 91006:SPAGHETTI",1]
[null,null,null,null,null,null,null,null,null,null,null,null,null,null,null,null,null,null,null,null,null,null,null,null,null,null,null,null,null,null,null,null,null,null,null,null,null,null,null,null,null,null,null,null,null,null,"DH04 91104 91104:S&S CHK",1,null,"CN08 LEMON HONEY (H)",1,null,"CN08 LEMON HONEY (H)",1,null,"DG06 91006:SPAGHETTI",1]
[null,null,null,null,null,null,null,null,null,null,null,null,null,null,null,null,null,null,null,null,null,null,null,null,null,null,null,null,null,null,null,null,null,null,null,null,null,null,null,null,null,null,null,null,null,null,"DH04 91104 91104:S&S CHK",2,null,"CN08 LEMON HONEY (H)",2,null,"CN08 LEMON HONEY (H)",1,null,"DG06 91006:SPAGHETTI",4]
[null,null,null,null,null,null,null,null,null,null,null,null,null,null,null,null,null,null,null,null,null,null,null,null,null,null,null,null,null,null,null,null,null,null,null,null,null,null,null,null,null,null,null,null,null,null,"DH05 91105 91105:BUTTER CHK",1,null,"CN08 LEMON HONEY (H)",2,null,"CN08 LEMON HONEY (H)",1,null,"DG06 91006:SPAGHETTI",1]
[null,null,null,null,null,null,null,null,null,null,null,null,null,null,null,null,null,null,null,null,null,null,null,null,null,null,null,null,null,null,null,null,null,null,null,null,null,null,null,null,null,null,null,null,null,null,"DH05 91105 91105:BUTTER CHK",2,null,"CN08 LEMON HONEY (H)",1,null,"CN08 LEMON HONEY (H)",1,null,"DG06 91006:SPAGHETTI",1]
[null,null,null,null,null,null,null,null,null,null,null,null,null,null,null,null,null,null,null,null,null,null,null,null,null,null,null,null,null,null,null,null,null,null,null,null,null,null,null,null,null,null,null,null,null,null,"DH05 91105 91105:BUTTER CHK",1,null,"CN08 LEMON HONEY (H)",3,null,"CN08 LEMON HONEY (H)",1,null,"DG07 91007:CHK SALAD",1]
[null,null,null,null,null,null,null,null,null,null,null,null,null,null,null,null,null,null,null,null,null,null,null,null,null,null,null,null,null,null,null,null,null,null,null,null,null,null,null,null,null,null,null,null,null,null,"DH05 91105 91105:BUTTER CHK",1,null,"CN08 LEMON HONEY (H)",1,null,"CN08 LEMON HONEY (H)",1,null,"DG07 91007:CHK SALAD",1]
[null,null,null,null,null,null,null,null,null,null,null,null,null,null,null,null,null,null,null,null,null,null,null,null,null,null,null,null,null,null,null,null,null,null,null,null,null,null,null,null,null,null,null,null,null,null,"DH05 91105 91105:BUTTER CHK",1,null,"CN08 LEMON HONEY (H)",1,null,"CN08 LEMON HONEY (H)",1,null,"DG07 91007:CHK SALAD",1]
[null,null,null,null,null,null,null,null,null,null,null,null,null,null,null,null,null,null,null,null,null,null,null,null,null,null,null,null,null,null,null,null,null,null,null,null,null,null,null,null,null,null,null,null,null,null,"DH05 91105 91105:BUTTER CHK",1,null,"CN08 LEMON HONEY (H)",4,null,"CN08 LEMON HONEY (H)",2,null,"DG07 91007:CHK SALAD",1]
[null,null,null,null,null,null,null,null,null,null,null,null,null,null,null,null,null,null,null,null,null,null,null,null,null,null,null,null,null,null,null,null,null,null,null,null,null,null,null,null,null,null,null,null,null,null,"DH06 91106 91106:HK F.RICE",1,null,"CN08 LEMON HONEY (H)",3,null,"CN08 LEMON HONEY (H)",1,null,"DG07 91007:CHK SALAD",1]
[null,null,null,null,null,null,null,null,null,null,null,null,null,null,null,null,null,null,null,null,null,null,null,null,null,null,null,null,null,null,null,null,null,null,null,null,null,null,null,null,null,null,null,null,null,null,"DH06 91106 91106:HK F.RICE",1,null,"CN08 LEMON HONEY (H)",2,null,"CN08 LEMON HONEY (H)",1,null,"DC01 1101:THAI CHK",1]
[null,null,null,null,null,null,null,null,null,null,null,null,null,null,null,null,null,null,null,null,null,null,null,null,null,null,null,null,null,null,null,null,null,null,null,null,null,null,null,null,null,null,null,null,null,null,"DH07 91107 91107:SBL F.RICE",1,null,"CN08 LEMON HONEY (H)",1,null,"CN08 LEMON HONEY (H)",2,null,"DC01 1101:THAI CHK",1]
[null,null,null,null,null,null,null,null,null,null,null,null,null,null,null,null,null,null,null,null,null,null,null,null,null,null,null,null,null,null,null,null,null,null,null,null,null,null,null,null,null,null,null,null,null,null,"DH07 91107 91107:SBL F.RICE",1,null,"CN08 LEMON HONEY (H)",1,null,"CN08 LEMON HONEY (H)",1,null,"DC01 1101:THAI CHK",1]
[null,null,null,null,null,null,null,null,null,null,null,null,null,null,null,null,null,null,null,null,null,null,null,null,null,null,null,null,null,null,null,null,null,null,null,null,null,null,null,null,null,null,null,null,null,null,"DH07 91107 91107:SBL F.RICE",1,null,"CN08 LEMON HONEY (H)",3,null,"CN08 LEMON HONEY (H)",2,null,"DC01 1101:THAI CHK",-1]
[null,null,null,null,null,null,null,null,null,null,null,null,null,null,null,null,null,null,null,null,null,null,null,null,null,null,null,null,null,null,null,null,null,null,null,null,null,null,null,null,null,null,null,null,null,null,"DH07 91107 91107:SBL F.RICE",1,null,"CN08 LEMON HONEY (H)",2,null,"CN08 LEMON HONEY (H)",3,null,"DC01 1101:THAI CHK",1]
[null,null,null,null,null,null,null,null,null,null,null,null,null,null,null,null,null,null,null,null,null,null,null,null,null,null,null,null,null,null,null,null,null,null,null,null,null,null,null,null,null,null,null,null,null,null,"DH07 91107 91107:SBL F.RICE",1,null,"CN08 LEMON HONEY (H)",1,null,"CN08 LEMON HONEY (H)",2,null,"DC02 1102:MAMITE CHK",1]
[null,null,null,null,null,null,null,null,null,null,null,null,null,null,null,null,null,null,null,null,null,null,null,null,null,null,null,null,null,null,null,null,null,null,null,null,null,null,null,null,null,null,null,null,null,null,"DH08 91108 91108:SBL F.MEE",1,null,"CN08 LEMON HONEY (H)",2,null,"CN08 LEMON HONEY (H)",2,null,"DC02 1102:MAMITE CHK",1]
[null,null,null,null,null,null,null,null,null,null,null,null,null,null,null,null,null,null,null,null,null,null,null,null,null,null,null,null,null,null,null,null,null,null,null,null,null,null,null,null,null,null,null,null,null,null,"DH09 91109 91109:BP UDON",1,null,"CN08 LEMON HONEY (H)",2,null,"CN08 LEMON HONEY (H)",1,null,"DC02 1102:MAMITE CHK",1]
[null,null,null,null,null,null,null,null,null,null,null,null,null,null,null,null,null,null,null,null,null,null,null,null,null,null,null,null,null,null,null,null,null,null,null,null,null,null,null,null,null,null,null,null,null,null,"DH10 91110 91110:NISSIN",1,null,"CN08 LEMON HONEY (H)",3,null,"CN08 LEMON HONEY (H)",1,null,"DC02 1102:MAMITE CHK",1]
[null,null,null,null,null,null,null,null,null,null,null,null,null,null,null,null,null,null,null,null,null,null,null,null,null,null,null,null,null,null,null,null,null,null,null,null,null,null,null,null,null,null,null,null,null,null,"DH11 91111 91111:VEG RICE",1,null,"CN08 LEMON HONEY (H)",1,null,"CN08 LEMON HONEY (H)",1,null,"DC02 1102:MAMITE CHK",1]
[null,null,null,null,null,null,null,null,null,null,null,null,null,null,null,null,null,null,null,null,null,null,null,null,null,null,null,null,null,null,null,null,null,null,null,null,null,null,null,null,null,null,null,null,null,null,"DH12 91112 91112:NASI LEMAK",1,null,"CN08 LEMON HONEY (H)",3,null,"CN08 LEMON HONEY (H)",1,null,"DC03 1103:KO PO CHK",1]
[null,null,null,null,null,null,null,null,null,null,null,null,null,null,null,null,null,null,null,null,null,null,null,null,null,null,null,null,null,null,null,null,null,null,null,null,null,null,null,null,null,null,null,null,null,null,"DH12 91112 91112:NASI LEMAK",1,null,"CN08 LEMON HONEY (H)",2,null,"CN08 LEMON HONEY (H)",1,null,"DC05 1105:BUTTER CHK",1]
[null,null,null,null,null,null,null,null,null,null,null,null,null,null,null,null,null,null,null,null,null,null,null,null,null,null,null,null,null,null,null,null,null,null,null,null,null,null,null,null,null,null,null,null,null,null,"DH12 91112 91112:NASI LEMAK",1,null,"CN08 LEMON HONEY (H)",1,null,"CN08 LEMON HONEY (H)",1,null,"DC05 1105:BUTTER CHK",1]
[null,null,null,null,null,null,null,null,null,null,null,null,null,null,null,null,null,null,null,null,null,null,null,null,null,null,null,null,null,null,null,null,null,null,null,null,null,null,null,null,null,null,null,null,null,null,"DH12 91112 91112:NASI LEMAK",1,null,"CN08 LEMON HONEY (H)",2,null,"CN08 LEMON HONEY (H)",3,null,"DC05 1105:BUTTER CHK",1]
[null,null,null,null,null,null,null,null,null,null,null,null,null,null,null,null,null,null,null,null,null,null,null,null,null,null,null,null,null,null,null,null,null,null,null,null,null,null,null,null,null,null,null,null,null,null,"DH13 91113 91113:KUEY TEOW",1,null,"CN08 LEMON HONEY (H)",1,null,"CN08 LEMON HONEY (H)",1,null,"DC05 1105:BUTTER CHK",1]
[null,null,null,null,null,null,null,null,null,null,null,null,null,null,null,null,null,null,null,null,null,null,null,null,null,null,null,null,null,null,null,null,null,null,null,null,null,null,null,null,null,null,null,null,null,null,"DH13 91113 91113:KUEY TEOW",2,null,"CN08 LEMON HONEY (H)",1,null,"CN08 LEMON HONEY (H)",1,null,"DC06 1106:HK F.RICE",1]
[null,null,null,null,null,null,null,null,null,null,null,null,null,null,null,null,null,null,null,null,null,null,null,null,null,null,null,null,null,null,null,null,null,null,null,null,null,null,null,null,null,null,null,null,null,null,"DH13 91113 91113:KUEY TEOW",2,null,"CN08 LEMON HONEY (H)",1,null,"CN08 LEMON HONEY (H)",2,null,"DC07 1107:SBL F.RICE",1]
[null,null,null,null,null,null,null,null,null,null,null,null,null,null,null,null,null,null,null,null,null,null,null,null,null,null,null,null,null,null,null,null,null,null,null,null,null,null,null,null,null,null,null,null,null,null,"DH13 91113 91113:KUEY TEOW",1,null,"CN08 LEMON HONEY (H)",2,null,"CN08 LEMON HONEY (H)",1,null,"DC08 1108:SBL F.MEE",1]
[null,null,null,null,null,null,null,null,null,null,null,null,null,null,null,null,null,null,null,null,null,null,null,null,null,null,null,null,null,null,null,null,null,null,null,null,null,null,null,null,null,null,null,null,null,null,"DH15 91115 91115:CHK NOODLE",1,null,"CN08 LEMON HONEY (H)",1,null,"CN08 LEMON HONEY (H)",2,null,"DC12 1112:NASI LEMAK",1]
[null,null,null,null,null,null,null,null,null,null,null,null,null,null,null,null,null,null,null,null,null,null,null,null,null,null,null,null,null,null,null,null,null,null,null,null,null,null,null,null,null,null,null,null,null,null,"DH15 91115 91115:CHK NOODLE",1,null,"CN08 LEMON HONEY (H)",2,null,"CN08 LEMON HONEY (H)",1,null,"DC12 1112:NASI LEMAK",1]
[null,null,null,null,null,null,null,null,null,null,null,null,null,null,null,null,null,null,null,null,null,null,null,null,null,null,null,null,null,null,null,null,null,null,null,null,null,null,null,null,null,null,null,null,null,null,"DD02 1202 1202:FREN FRIES",1,null,"CN08 LEMON HONEY (H)",3,null,"CN08 LEMON HONEY (H)",1,null,"DC13 1113:KUEY TEOW",1]
[null,null,null,null,null,null,null,null,null,null,null,null,null,null,null,null,null,null,null,null,null,null,null,null,null,null,null,null,null,null,null,null,null,null,null,null,null,null,null,null,null,null,null,null,null,null,"DD03 1203 1203:GOLD MROOM",1,null,"CN08 LEMON HONEY (H)",1,null,"CN08 LEMON HONEY (H)",1,null,"DC14 1114:F.BALL MEE",1]
[null,null,null,null,null,null,null,null,null,null,null,null,null,null,null,null,null,null,null,null,null,null,null,null,null,null,null,null,null,null,null,null,null,null,null,null,null,null,null,null,null,null,null,null,null,null,"DD03 1203 1203:GOLD MROOM",1,null,"CN08 LEMON HONEY (H)",1,null,"CN08 LEMON HONEY (H)",1,null,"DC15 1115:CHK NOODLE",1]
[null,null,null,null,null,null,null,null,null,null,null,null,null,null,null,null,null,null,null,null,null,null,null,null,null,null,null,null,null,null,null,null,null,null,null,null,null,null,null,null,null,null,null,null,null,null,"DD04 1204 1204:FISHBALL",1,null,"CN08 LEMON HONEY (H)",2,null,"CN08 LEMON HONEY (H)",1,null,"DH01 91101:THAI CHK",1]
[null,null,null,null,null,null,null,null,null,null,null,null,null,null,null,null,null,null,null,null,null,null,null,null,null,null,null,null,null,null,null,null,null,null,null,null,null,null,null,null,null,null,null,null,null,null,"DD06 1206 1206:SPRING RL",1,null,"CN08 LEMON HONEY (H)",1,null,"CN08 LEMON HONEY (H)",1,null,"DH01 91101:THAI CHK",1]
[null,null,null,null,null,null,null,null,null,null,null,null,null,null,null,null,null,null,null,null,null,null,null,null,null,null,null,null,null,null,null,null,null,null,null,null,null,null,null,null,null,null,null,null,null,null,"DD07 1207 1207:SAUSAGE",1,null,"CN04 LEMON TEA (H)",1,null,"CN08 LEMON HONEY (H)",1,null,"DH01 91101:THAI CHK",1]
[null,null,null,null,null,null,null,null,null,null,null,null,null,null,null,null,null,null,null,null,null,null,null,null,null,null,null,null,null,null,null,null,null,null,null,null,null,null,null,null,null,null,null,null,null,null,"DD07 1207 1207:SAUSAGE",1,null,"CN04 LEMON TEA (H)",1,null,"CN08 LEMON HONEY (H)",1,null,"DH01 91101:THAI CHK",1]
[null,null,null,null,null,null,null,null,null,null,null,null,null,null,null,null,null,null,null,null,null,null,null,null,null,null,null,null,null,null,null,null,null,null,null,null,null,null,null,null,null,null,null,null,null,null,"DD11 1302 1302:NUGGET",1,null,"CN04 LEMON TEA (H)",1,null,"CN08 LEMON HONEY (H)",2,null,"DH01 91101:THAI CHK",1]
[null,null,null,null,null,null,null,null,null,null,null,null,null,null,null,null,null,null,null,null,null,null,null,null,null,null,null,null,null,null,null,null,null,null,null,null,null,null,null,null,null,null,null,null,null,null,"DD12 1303 1303:CHK WING",1,null,"CN04 LEMON TEA (H)",1,null,"CN08 LEMON HONEY (H)",1,null,"DH02 91102:MAMITE CHK",1]
[null,null,null,null,null,null,null,null,null,null,null,null,null,null,null,null,null,null,null,null,null,null,null,null,null,null,null,null,null,null,null,null,null,null,null,null,null,null,null,null,null,null,null,null,null,null,"DD12 1303 1303:CHK WING",1,null,"CN04 LEMON TEA (H)",1,null,"CN08 LEMON HONEY (H)",3,null,"DH02 91102:MAMITE CHK",1]
[null,null,null,null,null,null,null,null,null,null,null,null,null,null,null,null,null,null,null,null,null,null,null,null,null,null,null,null,null,null,null,null,null,null,null,null,null,null,null,null,null,null,null,null,null,null,"DD12 1303 1303:CHK WING",1,null,"CN04 LEMON TEA (H)",1,null,"CN08 LEMON HONEY (H)",1,null,"DH02 91102:MAMITE CHK",2]
[null,null,null,null,null,null,null,null,null,null,null,null,null,null,null,null,null,null,null,null,null,null,null,null,null,null,null,null,null,null,null,null,null,null,null,null,null,null,null,null,null,null,null,null,null,null,"DD12 1303 1303:CHK WING",1,null,"CN04 LEMON TEA (H)",1,null,"CN08 LEMON HONEY (H)",3,null,"DH02 91102:MAMITE CHK",1]
[null,null,null,null,null,null,null,null,null,null,null,null,null,null,null,null,null,null,null,null,null,null,null,null,null,null,null,null,null,null,null,null,null,null,null,null,null,null,null,null,null,null,null,null,null,null,"DI07 91207 91207:SAUSAGE",1,null,"CN04 LEMON TEA (H)",1,null,"CN08 LEMON HONEY (H)",1,null,"DH03 91103:KO PO CHK",1]
[null,null,null,null,null,null,null,null,null,null,null,null,null,null,null,null,null,null,null,null,null,null,null,null,null,null,null,null,null,null,null,null,null,null,null,null,null,null,null,null,null,null,null,null,null,null,"DI11 91302 91302:NUGGET",1,null,"CN04 LEMON TEA (H)",1,null,"CN08 LEMON HONEY (H)",1,null,"DH03 91103:KO PO CHK",1]
[null,null,null,null,null,null,null,null,null,null,null,null,null,null,null,null,null,null,null,null,null,null,null,null,null,null,null,null,null,null,null,null,null,null,null,null,null,null,null,null,null,null,null,null,null,null,"DI11 91302 91302:NUGGET",1,null,"CN04 LEMON TEA (H)",1,null,"CN08 LEMON HONEY (H)",3,null,"DH04 91104:S&S CHK",1]
[null,null,null,null,null,null,null,null,null,null,null,null,null,null,null,null,null,null,null,null,null,null,null,null,null,null,null,null,null,null,null,null,null,null,null,null,null,null,null,null,null,null,null,null,null,null,"DI11 91302 91302:NUGGET",1,null,"CN04 LEMON TEA (H)",1,null,"CN08 LEMON HONEY (H)",1,null,"DH04 91104:S&S CHK",1]
[null,null,null,null,null,null,null,null,null,null,null,null,null,null,null,null,null,null,null,null,null,null,null,null,null,null,null,null,null,null,null,null,null,null,null,null,null,null,null,null,null,null,null,null,null,null,"DI12 91303 91303:CHK WING",1,null,"CN04 LEMON TEA (H)",2,null,"CN08 LEMON HONEY (H)",1,null,"DH04 91104:S&S CHK",3]
[null,null,null,null,null,null,null,null,null,null,null,null,null,null,null,null,null,null,null,null,null,null,null,null,null,null,null,null,null,null,null,null,null,null,null,null,null,null,null,null,null,null,null,null,null,null,"DI12 91303 91303:CHK WING",1,null,"CN04 LEMON TEA (H)",1,null,"CN08 LEMON HONEY (H)",1,null,"DH04 91104:S&S CHK",-1]
[null,null,null,null,null,null,null,null,null,null,null,null,null,null,null,null,null,null,null,null,null,null,null,null,null,null,null,null,null,null,null,null,null,null,null,null,null,null,null,null,null,null,null,null,null,null,"DE02 SET 1390",1,null,"CN01 MILO (H)",1,null,"CN08 LEMON HONEY (H)",1,null,"DH05 91105:BUTTER CHK",1]
[null,null,null,null,null,null,null,null,null,null,null,null,null,null,null,null,null,null,null,null,null,null,null,null,null,null,null,null,null,null,null,null,null,null,null,null,null,null,null,null,null,null,null,null,null,null,"DE02 SET 1390",1,null,"CN01 MILO (H)",1,null,"CN08 LEMON HONEY (H)",3,null,"DH05 91105:BUTTER CHK",1]
[null,null,null,null,null,null,null,null,null,null,null,null,null,null,null,null,null,null,null,null,null,null,null,null,null,null,null,null,null,null,null,null,null,null,null,null,null,null,null,null,null,null,null,null,null,null,"DE02 SET 1390",1,null,"CN01 MILO (H)",1,null,"CN08 LEMON HONEY (H)",2,null,"DH05 91105:BUTTER CHK",1]
[null,null,null,null,null,null,null,null,null,null,null,null,null,null,null,null,null,null,null,null,null,null,null,null,null,null,null,null,null,null,null,null,null,null,null,null,null,null,null,null,null,null,null,null,null,null,"DE01 SET 990",1,null,"CN01 MILO (H)",1,null,"CN08 LEMON HONEY (H)",2,null,"DH05 91105:BUTTER CHK",1]
[null,null,null,null,null,null,null,null,null,null,null,null,null,null,null,null,null,null,null,null,null,null,null,null,null,null,null,null,null,null,null,null,null,null,null,null,null,null,null,null,null,null,null,null,null,null,"DE01 SET 990",1,null,"CN01 MILO (H)",1,null,"CN08 LEMON HONEY (H)",2,null,"DH05 91105:BUTTER CHK",1]
[null,null,null,null,null,null,null,null,null,null,null,null,null,null,null,null,null,null,null,null,null,null,null,null,null,null,null,null,null,null,null,null,null,null,null,null,null,null,null,null,null,null,null,null,null,null,"DE01 SET 990",1,null,"CN01 MILO (H)",1,null,"CN08 LEMON HONEY (H)",1,null,"DH05 91105:BUTTER CHK",1]
[null,null,null,null,null,null,null,null,null,null,null,null,null,null,null,null,null,null,null,null,null,null,null,null,null,null,null,null,null,null,null,null,null,null,null,null,null,null,null,null,null,null,null,null,null,null,"DE01 SET 990",1,null,"CN01 MILO (H)",1,null,"CN08 LEMON HONEY (H)",2,null,"DH05 91105:BUTTER CHK",1]
[null,null,null,null,null,null,null,null,null,null,null,null,null,null,null,null,null,null,null,null,null,null,null,null,null,null,null,null,null,null,null,null,null,null,null,null,null,null,null,null,null,null,null,null,null,null,"DE01 SET 990",1,null,"CN01 MILO (H)",1,null,"CN08 LEMON HONEY (H)",1,null,"DH05 91105:BUTTER CHK",1]
[null,null,null,null,null,null,null,null,null,null,null,null,null,null,null,null,null,null,null,null,null,null,null,null,null,null,null,null,null,null,null,null,null,null,null,null,null,null,null,null,null,null,null,null,null,null,"DE01 SET 990",1,null,"CN01 MILO (H)",1,null,"CN08 LEMON HONEY (H)",2,null,"DH05 91105:BUTTER CHK",1]
[null,null,null,null,null,null,null,null,null,null,null,null,null,null,null,null,null,null,null,null,null,null,null,null,null,null,null,null,null,null,null,null,null,null,null,null,null,null,null,null,null,null,null,null,null,null,"DF07 ADD SAUCE C.PADI",1,null,"CN01 MILO (H)",1,null,"CN08 LEMON HONEY (H)",2,null,"DH05 91105:BUTTER CHK",1]
[null,null,null,null,null,null,null,null,null,null,null,null,null,null,null,null,null,null,null,null,null,null,null,null,null,null,null,null,null,null,null,null,null,null,null,null,null,null,null,null,null,null,null,null,null,null,"DF07 ADD SAUCE C.PADI",1,null,"CN01 MILO (H)",4,null,"CN08 LEMON HONEY (H)",1,null,"DH05 91105:BUTTER CHK",1]
[null,null,null,null,null,null,null,null,null,null,null,null,null,null,null,null,null,null,null,null,null,null,null,null,null,null,null,null,null,null,null,null,null,null,null,null,null,null,null,null,null,null,null,null,null,null,"DF09 ADD SAUCE MAYO",1,null,"CN01 MILO (H)",1,null,"CN08 LEMON HONEY (H)",1,null,"DH05 91105:BUTTER CHK",1]
[null,null,null,null,null,null,null,null,null,null,null,null,null,null,null,null,null,null,null,null,null,null,null,null,null,null,null,null,null,null,null,null,null,null,null,null,null,null,null,null,null,null,null,null,null,null,"DF11 ADD SAUCE MR",1,null,"CN01 MILO (H)",2,null,"CN08 LEMON HONEY (H)",3,null,"DH06 91106:HK F.RICE",1]
[null,null,null,null,null,null,null,null,null,null,null,null,null,null,null,null,null,null,null,null,null,null,null,null,null,null,null,null,null,null,null,null,null,null,null,null,null,null,null,null,null,null,null,null,null,null,"DF13 ADD SAUCE THAI",1,null,"CN01 MILO (H)",2,null,"CN08 LEMON HONEY (H)",2,null,"DH06 91106:HK F.RICE",1]
[null,null,null,null,null,null,null,null,null,null,null,null,null,null,null,null,null,null,null,null,null,null,null,null,null,null,null,null,null,null,null,null,null,null,null,null,null,null,null,null,null,null,null,null,null,null,"DF13 ADD SAUCE THAI",1,null,"CN01 MILO (H)",1,null,"CN08 LEMON HONEY (H)",2,null,"DH06 91106:HK F.RICE",1]
[null,null,null,null,null,null,null,null,null,null,null,null,null,null,null,null,null,null,null,null,null,null,null,null,null,null,null,null,null,null,null,null,null,null,null,null,null,null,null,null,null,null,null,null,null,null,"DF15 ADD TATA SAUCE",1,null,"CN01 MILO (H)",1,null,"CN08 LEMON HONEY (H)",2,null,"DH06 91106:HK F.RICE",1]
[null,null,null,null,null,null,null,null,null,null,null,null,null,null,null,null,null,null,null,null,null,null,null,null,null,null,null,null,null,null,null,null,null,null,null,null,null,null,null,null,null,null,null,null,null,null,"DF15 ADD TATA SAUCE",1,null,"CN01 MILO (H)",2,null,"CN08 LEMON HONEY (H)",3,null,"DH07 91107:SBL F.RICE",1]
[null,null,null,null,null,null,null,null,null,null,null,null,null,null,null,null,null,null,null,null,null,null,null,null,null,null,null,null,null,null,null,null,null,null,null,null,null,null,null,null,null,null,null,null,null,null,"DF15 ADD TATA SAUCE",1,null,"CN01 MILO (H)",1,null,"CN08 LEMON HONEY (H)",2,null,"DH07 91107:SBL F.RICE",1]
[null,null,null,null,null,null,null,null,null,null,null,null,null,null,null,null,null,null,null,null,null,null,null,null,null,null,null,null,null,null,null,null,null,null,null,null,null,null,null,null,null,null,null,null,null,null,"DF15 ADD TATA SAUCE",1,null,"CN01 MILO (H)",1,null,"CN08 LEMON HONEY (H)",1,null,"DH07 91107:SBL F.RICE",1]
[null,null,null,null,null,null,null,null,null,null,null,null,null,null,null,null,null,null,null,null,null,null,null,null,null,null,null,null,null,null,null,null,null,null,null,null,null,null,null,null,null,null,null,null,null,null,"GC02 CARD REPLACE",1,null,"CN01 MILO (H)",1,null,"CN08 LEMON HONEY (H)",2,null,"DH07 91107:SBL F.RICE",1]
[null,null,null,null,null,null,null,null,null,null,null,null,null,null,null,null,null,null,null,null,null,null,null,null,null,null,null,null,null,null,null,null,null,null,null,null,null,null,null,null,null,null,null,null,null,null,"GD01 MIKE COVER 01",1,null,"CN01 MILO (H)",1,null,"CN08 LEMON HONEY (H)",2,null,"DH08 91108:SBL F.MEE",1]
[null,null,null,null,null,null,null,null,null,null,null,null,null,null,null,null,null,null,null,null,null,null,null,null,null,null,null,null,null,null,null,null,null,null,null,null,null,null,null,null,null,null,null,null,null,null,"GD01 MIKE COVER 01",1,null,"CN01 MILO (H)",1,null,"CN08 LEMON HONEY (H)",4,null,"DH08 91108:SBL F.MEE",1]
[null,null,null,null,null,null,null,null,null,null,null,null,null,null,null,null,null,null,null,null,null,null,null,null,null,null,null,null,null,null,null,null,null,null,null,null,null,null,null,null,null,null,null,null,null,null,"GD02 MIKE COVER 03",1,null,"CN01 MILO (H)",1,null,"CN08 LEMON HONEY (H)",2,null,"DH08 91108:SBL F.MEE",-1]
[null,null,null,null,null,null,null,null,null,null,null,null,null,null,null,null,null,null,null,null,null,null,null,null,null,null,null,null,null,null,null,null,null,null,null,null,null,null,null,null,null,null,null,null,null,null,"GD02 MIKE COVER 03",1,null,"CN01 MILO (H)",1,null,"CN08 LEMON HONEY (H)",4,null,"DH09 91109:BP UDON",1]
[null,null,null,null,null,null,null,null,null,null,null,null,null,null,null,null,null,null,null,null,null,null,null,null,null,null,null,null,null,null,null,null,null,null,null,null,null,null,null,null,null,null,null,null,null,null,"GE01 DUNHILL",1,null,"CN01 MILO (H)",1,null,"CN08 LEMON HONEY (H)",1,null,"DH10 91110:NISSIN",1]
[null,null,null,null,null,null,null,null,null,null,null,null,null,null,null,null,null,null,null,null,null,null,null,null,null,null,null,null,null,null,null,null,null,null,null,null,null,null,null,null,null,null,null,null,null,null,"GE01 DUNHILL",1,null,"CN01 MILO (H)",1,null,"CN08 LEMON HONEY (H)",1,null,"DH10 91110:NISSIN",1]
[null,null,null,null,null,null,null,null,null,null,null,null,null,null,null,null,null,null,null,null,null,null,null,null,null,null,null,null,null,null,null,null,null,null,null,null,null,null,null,null,null,null,null,null,null,null,"GE01 DUNHILL",1,null,"CN01 MILO (H)",3,null,"CN08 LEMON HONEY (H)",1,null,"DH10 91110:NISSIN",1]
[null,null,null,null,null,null,null,null,null,null,null,null,null,null,null,null,null,null,null,null,null,null,null,null,null,null,null,null,null,null,null,null,null,null,null,null,null,null,null,null,null,null,null,null,null,null,"GE07 DUNHILL ICE",1,null,"CN01 MILO (H)",1,null,"CN08 LEMON HONEY (H)",2,null,"DH10 91110:NISSIN",1]
[null,null,null,null,null,null,null,null,null,null,null,null,null,null,null,null,null,null,null,null,null,null,null,null,null,null,null,null,null,null,null,null,null,null,null,null,null,null,null,null,null,null,null,null,null,null,"GE07 DUNHILL ICE",1,null,"CN01 MILO (H)",1,null,"CN08 LEMON HONEY (H)",1,null,"DH10 91110:NISSIN",1]
[null,null,null,null,null,null,null,null,null,null,null,null,null,null,null,null,null,null,null,null,null,null,null,null,null,null,null,null,null,null,null,null,null,null,null,null,null,null,null,null,null,null,null,null,null,null,"GE02 DUNHILL LITE",1,null,"CN01 MILO (H)",1,null,"CN08 LEMON HONEY (H)",1,null,"DH10 91110:NISSIN",1]
[null,null,null,null,null,null,null,null,null,null,null,null,null,null,null,null,null,null,null,null,null,null,null,null,null,null,null,null,null,null,null,null,null,null,null,null,null,null,null,null,null,null,null,null,null,null,"GE02 DUNHILL LITE",2,null,"CN01 MILO (H)",1,null,"CN08 LEMON HONEY (H)",2,null,"DH10 91110:NISSIN",1]
[null,null,null,null,null,null,null,null,null,null,null,null,null,null,null,null,null,null,null,null,null,null,null,null,null,null,null,null,null,null,null,null,null,null,null,null,null,null,null,null,null,null,null,null,null,null,"ZAA02 HEINEKEN EX BKT",3,null,"CN01 MILO (H)",2,null,"CN08 LEMON HONEY (H)",2,null,"DH11 91111:VEG RICE",1]
[null,null,null,null,null,null,null,null,null,null,null,null,null,null,null,null,null,null,null,null,null,null,null,null,null,null,null,null,null,null,null,null,null,null,null,null,null,null,null,null,null,null,null,null,null,null,null,null,null,"CN01 MILO (H)",1,null,"CN08 LEMON HONEY (H)",1,null,"DH12 91112:NASI LEMAK",1]
[null,null,null,null,null,null,null,null,null,null,null,null,null,null,null,null,null,null,null,null,null,null,null,null,null,null,null,null,null,null,null,null,null,null,null,null,null,null,null,null,null,null,null,null,null,null,null,null,null,"CN01 MILO (H)",1,null,"CN08 LEMON HONEY (H)",2,null,"DH12 91112:NASI LEMAK",1]
[null,null,null,null,null,null,null,null,null,null,null,null,null,null,null,null,null,null,null,null,null,null,null,null,null,null,null,null,null,null,null,null,null,null,null,null,null,null,null,null,null,null,null,null,null,null,null,null,null,"CN01 MILO (H)",1,null,"CN08 LEMON HONEY (H)",1,null,"DH12 91112:NASI LEMAK",1]
[null,null,null,null,null,null,null,null,null,null,null,null,null,null,null,null,null,null,null,null,null,null,null,null,null,null,null,null,null,null,null,null,null,null,null,null,null,null,null,null,null,null,null,null,null,null,null,null,null,"CN01 MILO (H)",1,null,"CN08 LEMON HONEY (H)",1,null,"DH12 91112:NASI LEMAK",1]
[null,null,null,null,null,null,null,null,null,null,null,null,null,null,null,null,null,null,null,null,null,null,null,null,null,null,null,null,null,null,null,null,null,null,null,null,null,null,null,null,null,null,null,null,null,null,null,null,null,"CN01 MILO (H)",1,null,"CN08 LEMON HONEY (H)",1,null,"DH12 91112:NASI LEMAK",1]
[null,null,null,null,null,null,null,null,null,null,null,null,null,null,null,null,null,null,null,null,null,null,null,null,null,null,null,null,null,null,null,null,null,null,null,null,null,null,null,null,null,null,null,null,null,null,null,null,null,"CN01 MILO (H)",1,null,"CN08 LEMON HONEY (H)",1,null,"DH13 91113:KUEY TEOW",1]
[null,null,null,null,null,null,null,null,null,null,null,null,null,null,null,null,null,null,null,null,null,null,null,null,null,null,null,null,null,null,null,null,null,null,null,null,null,null,null,null,null,null,null,null,null,null,null,null,null,"CN01 MILO (H)",1,null,"CN04 LEMON TEA (H)",1,null,"DH14 91114:F.BALL MEE",1]
[null,null,null,null,null,null,null,null,null,null,null,null,null,null,null,null,null,null,null,null,null,null,null,null,null,null,null,null,null,null,null,null,null,null,null,null,null,null,null,null,null,null,null,null,null,null,null,null,null,"CN02 NESCAFE (H)",1,null,"CN04 LEMON TEA (H)",1,null,"DH15 91115:CHK NOODLE",1]
[null,null,null,null,null,null,null,null,null,null,null,null,null,null,null,null,null,null,null,null,null,null,null,null,null,null,null,null,null,null,null,null,null,null,null,null,null,null,null,null,null,null,null,null,null,null,null,null,null,"CN02 NESCAFE (H)",1,null,"CN04 LEMON TEA (H)",1,null,"DH15 91115:CHK NOODLE",1]
[null,null,null,null,null,null,null,null,null,null,null,null,null,null,null,null,null,null,null,null,null,null,null,null,null,null,null,null,null,null,null,null,null,null,null,null,null,null,null,null,null,null,null,null,null,null,null,null,null,"CN02 NESCAFE (H)",1,null,"CN04 LEMON TEA (H)",1,null,"DH15 91115:CHK NOODLE",1]
[null,null,null,null,null,null,null,null,null,null,null,null,null,null,null,null,null,null,null,null,null,null,null,null,null,null,null,null,null,null,null,null,null,null,null,null,null,null,null,null,null,null,null,null,null,null,null,null,null,"CN02 NESCAFE (H)",1,null,"CN04 LEMON TEA (H)",1,null,"DD02 1202:FREN FRIES",1]
[null,null,null,null,null,null,null,null,null,null,null,null,null,null,null,null,null,null,null,null,null,null,null,null,null,null,null,null,null,null,null,null,null,null,null,null,null,null,null,null,null,null,null,null,null,null,null,null,null,"CN02 NESCAFE (H)",2,null,"CN04 LEMON TEA (H)",3,null,"DD02 1202:FREN FRIES",1]
[null,null,null,null,null,null,null,null,null,null,null,null,null,null,null,null,null,null,null,null,null,null,null,null,null,null,null,null,null,null,null,null,null,null,null,null,null,null,null,null,null,null,null,null,null,null,null,null,null,"CN02 NESCAFE (H)",1,null,"CN04 LEMON TEA (H)",3,null,"DD02 1202:FREN FRIES",1]
[null,null,null,null,null,null,null,null,null,null,null,null,null,null,null,null,null,null,null,null,null,null,null,null,null,null,null,null,null,null,null,null,null,null,null,null,null,null,null,null,null,null,null,null,null,null,null,null,null,"CN02 NESCAFE (H)",1,null,"CN04 LEMON TEA (H)",2,null,"DD02 1202:FREN FRIES",1]
[null,null,null,null,null,null,null,null,null,null,null,null,null,null,null,null,null,null,null,null,null,null,null,null,null,null,null,null,null,null,null,null,null,null,null,null,null,null,null,null,null,null,null,null,null,null,null,null,null,"CN02 NESCAFE (H)",1,null,"CN04 LEMON TEA (H)",1,null,"DD11 1302:NUGGET",1]
[null,null,null,null,null,null,null,null,null,null,null,null,null,null,null,null,null,null,null,null,null,null,null,null,null,null,null,null,null,null,null,null,null,null,null,null,null,null,null,null,null,null,null,null,null,null,null,null,null,"CN02 NESCAFE (H)",1,null,"CN04 LEMON TEA (H)",1,null,"DD11 1302:NUGGET",1]
[null,null,null,null,null,null,null,null,null,null,null,null,null,null,null,null,null,null,null,null,null,null,null,null,null,null,null,null,null,null,null,null,null,null,null,null,null,null,null,null,null,null,null,null,null,null,null,null,null,"CN02 NESCAFE (H)",1,null,"CN04 LEMON TEA (H)",1,null,"DD11 1302:NUGGET",1]
[null,null,null,null,null,null,null,null,null,null,null,null,null,null,null,null,null,null,null,null,null,null,null,null,null,null,null,null,null,null,null,null,null,null,null,null,null,null,null,null,null,null,null,null,null,null,null,null,null,"CN03 TEA (H)",1,null,"CN04 LEMON TEA (H)",3,null,"DD12 1303:CHK WING",1]
[null,null,null,null,null,null,null,null,null,null,null,null,null,null,null,null,null,null,null,null,null,null,null,null,null,null,null,null,null,null,null,null,null,null,null,null,null,null,null,null,null,null,null,null,null,null,null,null,null,"CN03 TEA (H)",1,null,"CN04 LEMON TEA (H)",1,null,"DD12 1303:CHK WING",1]
[null,null,null,null,null,null,null,null,null,null,null,null,null,null,null,null,null,null,null,null,null,null,null,null,null,null,null,null,null,null,null,null,null,null,null,null,null,null,null,null,null,null,null,null,null,null,null,null,null,"CN03 TEA (H)",1,null,"CN01 MILO (H)",1,null,"DD12 1303:CHK WING",1]
[null,null,null,null,null,null,null,null,null,null,null,null,null,null,null,null,null,null,null,null,null,null,null,null,null,null,null,null,null,null,null,null,null,null,null,null,null,null,null,null,null,null,null,null,null,null,null,null,null,"CN03 TEA (H)",1,null,"CN01 MILO (H)",1,null,"DD12 1303:CHK WING",1]
[null,null,null,null,null,null,null,null,null,null,null,null,null,null,null,null,null,null,null,null,null,null,null,null,null,null,null,null,null,null,null,null,null,null,null,null,null,null,null,null,null,null,null,null,null,null,null,null,null,"CN03 TEA (H)",1,null,"CN01 MILO (H)",1,null,"DI02 91202:FREN FRIES",1]
[null,null,null,null,null,null,null,null,null,null,null,null,null,null,null,null,null,null,null,null,null,null,null,null,null,null,null,null,null,null,null,null,null,null,null,null,null,null,null,null,null,null,null,null,null,null,null,null,null,"CN03 TEA (H)",3,null,"CN01 MILO (H)",1,null,"DI03 91203:GOLD MROOM",1]
[null,null,null,null,null,null,null,null,null,null,null,null,null,null,null,null,null,null,null,null,null,null,null,null,null,null,null,null,null,null,null,null,null,null,null,null,null,null,null,null,null,null,null,null,null,null,null,null,null,"CN03 TEA (H)",1,null,"CN01 MILO (H)",1,null,"DI05 91205:RAINBOW RL",1]
[null,null,null,null,null,null,null,null,null,null,null,null,null,null,null,null,null,null,null,null,null,null,null,null,null,null,null,null,null,null,null,null,null,null,null,null,null,null,null,null,null,null,null,null,null,null,null,null,null,"CN03 TEA (H)",1,null,"CN01 MILO (H)",1,null,"DI10 91301:DUMPLING",1]
[null,null,null,null,null,null,null,null,null,null,null,null,null,null,null,null,null,null,null,null,null,null,null,null,null,null,null,null,null,null,null,null,null,null,null,null,null,null,null,null,null,null,null,null,null,null,null,null,null,"CN03 TEA (H)",2,null,"CN01 MILO (H)",1,null,"DI11 91302:NUGGET",1]
[null,null,null,null,null,null,null,null,null,null,null,null,null,null,null,null,null,null,null,null,null,null,null,null,null,null,null,null,null,null,null,null,null,null,null,null,null,null,null,null,null,null,null,null,null,null,null,null,null,"CO02 PLAIN WATER",1,null,"CN01 MILO (H)",1,null,"DI11 91302:NUGGET",1]
[null,null,null,null,null,null,null,null,null,null,null,null,null,null,null,null,null,null,null,null,null,null,null,null,null,null,null,null,null,null,null,null,null,null,null,null,null,null,null,null,null,null,null,null,null,null,null,null,null,"CO02 PLAIN WATER",1,null,"CN01 MILO (H)",1,null,"DI11 91302:NUGGET",1]
[null,null,null,null,null,null,null,null,null,null,null,null,null,null,null,null,null,null,null,null,null,null,null,null,null,null,null,null,null,null,null,null,null,null,null,null,null,null,null,null,null,null,null,null,null,null,null,null,null,"CO02 PLAIN WATER",1,null,"CN01 MILO (H)",1,null,"DI12 91303:CHK WING",1]
[null,null,null,null,null,null,null,null,null,null,null,null,null,null,null,null,null,null,null,null,null,null,null,null,null,null,null,null,null,null,null,null,null,null,null,null,null,null,null,null,null,null,null,null,null,null,null,null,null,"CO02 PLAIN WATER",1,null,"CN01 MILO (H)",1,null,"DI12 91303:CHK WING",1]
[null,null,null,null,null,null,null,null,null,null,null,null,null,null,null,null,null,null,null,null,null,null,null,null,null,null,null,null,null,null,null,null,null,null,null,null,null,null,null,null,null,null,null,null,null,null,null,null,null,"CO02 PLAIN WATER",2,null,"CN01 MILO (H)",1,null,"DI12 91303:CHK WING",1]
[null,null,null,null,null,null,null,null,null,null,null,null,null,null,null,null,null,null,null,null,null,null,null,null,null,null,null,null,null,null,null,null,null,null,null,null,null,null,null,null,null,null,null,null,null,null,null,null,null,"CO02 PLAIN WATER",1,null,"CN01 MILO (H)",2,null,"DI14 91305:THAI RL",1]
[null,null,null,null,null,null,null,null,null,null,null,null,null,null,null,null,null,null,null,null,null,null,null,null,null,null,null,null,null,null,null,null,null,null,null,null,null,null,null,null,null,null,null,null,null,null,null,null,null,"CO02 PLAIN WATER",1,null,"CN01 MILO (H)",1,null,"DD16 McCain AlaCarte",1]
[null,null,null,null,null,null,null,null,null,null,null,null,null,null,null,null,null,null,null,null,null,null,null,null,null,null,null,null,null,null,null,null,null,null,null,null,null,null,null,null,null,null,null,null,null,null,null,null,null,"CO02 PLAIN WATER",1,null,"CN01 MILO (H)",1,null,"DD16 McCain AlaCarte",1]
[null,null,null,null,null,null,null,null,null,null,null,null,null,null,null,null,null,null,null,null,null,null,null,null,null,null,null,null,null,null,null,null,null,null,null,null,null,null,null,null,null,null,null,null,null,null,null,null,null,"CO02 PLAIN WATER",1,null,"CN01 MILO (H)",1,null,"DD16 McCain AlaCarte",1]
[null,null,null,null,null,null,null,null,null,null,null,null,null,null,null,null,null,null,null,null,null,null,null,null,null,null,null,null,null,null,null,null,null,null,null,null,null,null,null,null,null,null,null,null,null,null,null,null,null,"CO02 PLAIN WATER",1,null,"CN01 MILO (H)",3,null,"DE02 SET 1390",1]
[null,null,null,null,null,null,null,null,null,null,null,null,null,null,null,null,null,null,null,null,null,null,null,null,null,null,null,null,null,null,null,null,null,null,null,null,null,null,null,null,null,null,null,null,null,null,null,null,null,"CO02 PLAIN WATER",2,null,"CN01 MILO (H)",1,null,"DE02 SET 1390",1]
[null,null,null,null,null,null,null,null,null,null,null,null,null,null,null,null,null,null,null,null,null,null,null,null,null,null,null,null,null,null,null,null,null,null,null,null,null,null,null,null,null,null,null,null,null,null,null,null,null,"CO02 PLAIN WATER",1,null,"CN01 MILO (H)",1,null,"DE02 SET 1390",1]
[null,null,null,null,null,null,null,null,null,null,null,null,null,null,null,null,null,null,null,null,null,null,null,null,null,null,null,null,null,null,null,null,null,null,null,null,null,null,null,null,null,null,null,null,null,null,null,null,null,"CO02 PLAIN WATER",1,null,"CN01 MILO (H)",1,null,"DE02 SET 1390",1]
[null,null,null,null,null,null,null,null,null,null,null,null,null,null,null,null,null,null,null,null,null,null,null,null,null,null,null,null,null,null,null,null,null,null,null,null,null,null,null,null,null,null,null,null,null,null,null,null,null,"CO02 PLAIN WATER",2,null,"CN01 MILO (H)",2,null,"DE01 SET 990",1]
[null,null,null,null,null,null,null,null,null,null,null,null,null,null,null,null,null,null,null,null,null,null,null,null,null,null,null,null,null,null,null,null,null,null,null,null,null,null,null,null,null,null,null,null,null,null,null,null,null,"CO02 PLAIN WATER",1,null,"CN01 MILO (H)",1,null,"DE01 SET 990",1]
[null,null,null,null,null,null,null,null,null,null,null,null,null,null,null,null,null,null,null,null,null,null,null,null,null,null,null,null,null,null,null,null,null,null,null,null,null,null,null,null,null,null,null,null,null,null,null,null,null,"CO02 PLAIN WATER",1,null,"CN01 MILO (H)",1,null,"DE01 SET 990",1]
[null,null,null,null,null,null,null,null,null,null,null,null,null,null,null,null,null,null,null,null,null,null,null,null,null,null,null,null,null,null,null,null,null,null,null,null,null,null,null,null,null,null,null,null,null,null,null,null,null,"CO02 PLAIN WATER",1,null,"CN01 MILO (H)",1,null,"DE01 SET 990",1]
[null,null,null,null,null,null,null,null,null,null,null,null,null,null,null,null,null,null,null,null,null,null,null,null,null,null,null,null,null,null,null,null,null,null,null,null,null,null,null,null,null,null,null,null,null,null,null,null,null,"CO02 PLAIN WATER",1,null,"CN01 MILO (H)",1,null,"DE01 SET 990",1]
[null,null,null,null,null,null,null,null,null,null,null,null,null,null,null,null,null,null,null,null,null,null,null,null,null,null,null,null,null,null,null,null,null,null,null,null,null,null,null,null,null,null,null,null,null,null,null,null,null,"CO02 PLAIN WATER",1,null,"CN01 MILO (H)",1,null,"DE01 SET 990",1]
[null,null,null,null,null,null,null,null,null,null,null,null,null,null,null,null,null,null,null,null,null,null,null,null,null,null,null,null,null,null,null,null,null,null,null,null,null,null,null,null,null,null,null,null,null,null,null,null,null,"CO02 PLAIN WATER",1,null,"CN01 MILO (H)",1,null,"DE01 SET 990",1]
[null,null,null,null,null,null,null,null,null,null,null,null,null,null,null,null,null,null,null,null,null,null,null,null,null,null,null,null,null,null,null,null,null,null,null,null,null,null,null,null,null,null,null,null,null,null,null,null,null,"CO02 PLAIN WATER",1,null,"CN01 MILO (H)",1,null,"DE01 SET 990",1]
[null,null,null,null,null,null,null,null,null,null,null,null,null,null,null,null,null,null,null,null,null,null,null,null,null,null,null,null,null,null,null,null,null,null,null,null,null,null,null,null,null,null,null,null,null,null,null,null,null,"CO02 PLAIN WATER",4,null,"CN01 MILO (H)",1,null,"DF05 ADD SAUCE BP",1]
[null,null,null,null,null,null,null,null,null,null,null,null,null,null,null,null,null,null,null,null,null,null,null,null,null,null,null,null,null,null,null,null,null,null,null,null,null,null,null,null,null,null,null,null,null,null,null,null,null,"CO02 PLAIN WATER",2,null,"CN01 MILO (H)",1,null,"DF07 ADD SAUCE C.PADI",2]
[null,null,null,null,null,null,null,null,null,null,null,null,null,null,null,null,null,null,null,null,null,null,null,null,null,null,null,null,null,null,null,null,null,null,null,null,null,null,null,null,null,null,null,null,null,null,null,null,null,"CO02 PLAIN WATER",1,null,"CN01 MILO (H)",1,null,"DF07 ADD SAUCE C.PADI",1]
[null,null,null,null,null,null,null,null,null,null,null,null,null,null,null,null,null,null,null,null,null,null,null,null,null,null,null,null,null,null,null,null,null,null,null,null,null,null,null,null,null,null,null,null,null,null,null,null,null,"CO02 PLAIN WATER",1,null,"CN01 MILO (H)",1,null,"DF07 ADD SAUCE C.PADI",1]
[null,null,null,null,null,null,null,null,null,null,null,null,null,null,null,null,null,null,null,null,null,null,null,null,null,null,null,null,null,null,null,null,null,null,null,null,null,null,null,null,null,null,null,null,null,null,null,null,null,"CO02 PLAIN WATER",1,null,"CN01 MILO (H)",2,null,"DF09 ADD SAUCE MAYO",1]
[null,null,null,null,null,null,null,null,null,null,null,null,null,null,null,null,null,null,null,null,null,null,null,null,null,null,null,null,null,null,null,null,null,null,null,null,null,null,null,null,null,null,null,null,null,null,null,null,null,"CO02 PLAIN WATER",1,null,"CN01 MILO (H)",1,null,"DF09 ADD SAUCE MAYO",1]
[null,null,null,null,null,null,null,null,null,null,null,null,null,null,null,null,null,null,null,null,null,null,null,null,null,null,null,null,null,null,null,null,null,null,null,null,null,null,null,null,null,null,null,null,null,null,null,null,null,"CO02 PLAIN WATER",1,null,"CN01 MILO (H)",1,null,"DF10 ADD SAUCE MMITE",1]
[null,null,null,null,null,null,null,null,null,null,null,null,null,null,null,null,null,null,null,null,null,null,null,null,null,null,null,null,null,null,null,null,null,null,null,null,null,null,null,null,null,null,null,null,null,null,null,null,null,"CO02 PLAIN WATER",1,null,"CN02 NESCAFE (H)",1,null,"DF12 ADD SAUCE SAMBAL",1]
[null,null,null,null,null,null,null,null,null,null,null,null,null,null,null,null,null,null,null,null,null,null,null,null,null,null,null,null,null,null,null,null,null,null,null,null,null,null,null,null,null,null,null,null,null,null,null,null,null,"CO02 PLAIN WATER",1,null,"CN02 NESCAFE (H)",1,null,"DF14 ADD SAUCE TOMATO",1]
[null,null,null,null,null,null,null,null,null,null,null,null,null,null,null,null,null,null,null,null,null,null,null,null,null,null,null,null,null,null,null,null,null,null,null,null,null,null,null,null,null,null,null,null,null,null,null,null,null,"CO02 PLAIN WATER",1,null,"CN02 NESCAFE (H)",1,null,"DF14 ADD SAUCE TOMATO",1]
[null,null,null,null,null,null,null,null,null,null,null,null,null,null,null,null,null,null,null,null,null,null,null,null,null,null,null,null,null,null,null,null,null,null,null,null,null,null,null,null,null,null,null,null,null,null,null,null,null,"CO02 PLAIN WATER",1,null,"CN02 NESCAFE (H)",1,null,"DF14 ADD SAUCE TOMATO",1]
[null,null,null,null,null,null,null,null,null,null,null,null,null,null,null,null,null,null,null,null,null,null,null,null,null,null,null,null,null,null,null,null,null,null,null,null,null,null,null,null,null,null,null,null,null,null,null,null,null,"CO02 PLAIN WATER",1,null,"CN02 NESCAFE (H)",1,null,"DF14 ADD SAUCE TOMATO",1]
[null,null,null,null,null,null,null,null,null,null,null,null,null,null,null,null,null,null,null,null,null,null,null,null,null,null,null,null,null,null,null,null,null,null,null,null,null,null,null,null,null,null,null,null,null,null,null,null,null,"CO02 PLAIN WATER",2,null,"CN02 NESCAFE (H)",1,null,"GA09 LIGHTER",1]
[null,null,null,null,null,null,null,null,null,null,null,null,null,null,null,null,null,null,null,null,null,null,null,null,null,null,null,null,null,null,null,null,null,null,null,null,null,null,null,null,null,null,null,null,null,null,null,null,null,"CO02 PLAIN WATER",1,null,"CN02 NESCAFE (H)",1,null,"GA09 LIGHTER",1]
[null,null,null,null,null,null,null,null,null,null,null,null,null,null,null,null,null,null,null,null,null,null,null,null,null,null,null,null,null,null,null,null,null,null,null,null,null,null,null,null,null,null,null,null,null,null,null,null,null,"CO02 PLAIN WATER",1,null,"CN02 NESCAFE (H)",1,null,"GC01 CARD NEW",1]
[null,null,null,null,null,null,null,null,null,null,null,null,null,null,null,null,null,null,null,null,null,null,null,null,null,null,null,null,null,null,null,null,null,null,null,null,null,null,null,null,null,null,null,null,null,null,null,null,null,"CO02 PLAIN WATER",1,null,"CN02 NESCAFE (H)",1,null,"GC01 CARD NEW",1]
[null,null,null,null,null,null,null,null,null,null,null,null,null,null,null,null,null,null,null,null,null,null,null,null,null,null,null,null,null,null,null,null,null,null,null,null,null,null,null,null,null,null,null,null,null,null,null,null,null,"CO02 PLAIN WATER",1,null,"CN02 NESCAFE (H)",1,null,"GC02 CARD REPLACE",1]
[null,null,null,null,null,null,null,null,null,null,null,null,null,null,null,null,null,null,null,null,null,null,null,null,null,null,null,null,null,null,null,null,null,null,null,null,null,null,null,null,null,null,null,null,null,null,null,null,null,"DB01 1001:BP CKN CP",1,null,"CN02 NESCAFE (H)",1,null,"GC03 Student Mem Card",1]
[null,null,null,null,null,null,null,null,null,null,null,null,null,null,null,null,null,null,null,null,null,null,null,null,null,null,null,null,null,null,null,null,null,null,null,null,null,null,null,null,null,null,null,null,null,null,null,null,null,"DB01 1001:BP CKN CP",2,null,"CN02 NESCAFE (H)",1,null,"GD02 MIKE COVER 03",1]
[null,null,null,null,null,null,null,null,null,null,null,null,null,null,null,null,null,null,null,null,null,null,null,null,null,null,null,null,null,null,null,null,null,null,null,null,null,null,null,null,null,null,null,null,null,null,null,null,null,"DB01 1001:BP CKN CP",1,null,"CN02 NESCAFE (H)",1,null,"GD02 MIKE COVER 03",1]
[null,null,null,null,null,null,null,null,null,null,null,null,null,null,null,null,null,null,null,null,null,null,null,null,null,null,null,null,null,null,null,null,null,null,null,null,null,null,null,null,null,null,null,null,null,null,null,null,null,"DB01 1001:BP CKN CP",1,null,"CN02 NESCAFE (H)",1,null,"GE01 DUNHILL",1]
[null,null,null,null,null,null,null,null,null,null,null,null,null,null,null,null,null,null,null,null,null,null,null,null,null,null,null,null,null,null,null,null,null,null,null,null,null,null,null,null,null,null,null,null,null,null,null,null,null,"DB01 1001:BP CKN CP",1,null,"CN02 NESCAFE (H)",2,null,"GE01 DUNHILL",1]
[null,null,null,null,null,null,null,null,null,null,null,null,null,null,null,null,null,null,null,null,null,null,null,null,null,null,null,null,null,null,null,null,null,null,null,null,null,null,null,null,null,null,null,null,null,null,null,null,null,"DB03 1003:MSR CKN CP",1,null,"CN02 NESCAFE (H)",2,null,"GE07 DUNHILL ICE",1]
[null,null,null,null,null,null,null,null,null,null,null,null,null,null,null,null,null,null,null,null,null,null,null,null,null,null,null,null,null,null,null,null,null,null,null,null,null,null,null,null,null,null,null,null,null,null,null,null,null,"DB03 1003:MSR CKN CP",1,null,"CN03 TEA (H)",1,null,"GE02 DUNHILL LITE",1]
[null,null,null,null,null,null,null,null,null,null,null,null,null,null,null,null,null,null,null,null,null,null,null,null,null,null,null,null,null,null,null,null,null,null,null,null,null,null,null,null,null,null,null,null,null,null,null,null,null,"DB03 1003:MSR CKN CP",1,null,"CN03 TEA (H)",2,null,"GE02 DUNHILL LITE",-1]
[null,null,null,null,null,null,null,null,null,null,null,null,null,null,null,null,null,null,null,null,null,null,null,null,null,null,null,null,null,null,null,null,null,null,null,null,null,null,null,null,null,null,null,null,null,null,null,null,null,"DB03 1003:MSR CKN CP",1,null,"CN03 TEA (H)",1,null,"GE02 DUNHILL LITE",1]
[null,null,null,null,null,null,null,null,null,null,null,null,null,null,null,null,null,null,null,null,null,null,null,null,null,null,null,null,null,null,null,null,null,null,null,null,null,null,null,null,null,null,null,null,null,null,null,null,null,"DB04 1004:CKN MARY",1,null,"CO02 PLAIN WATER",1,null,"GE03 DUNHILL MT",1]
[null,null,null,null,null,null,null,null,null,null,null,null,null,null,null,null,null,null,null,null,null,null,null,null,null,null,null,null,null,null,null,null,null,null,null,null,null,null,null,null,null,null,null,null,null,null,null,null,null,"DB04 1004:CKN MARY",1,null,"CO02 PLAIN WATER",1,null,"GE04 DUNHILL MT LITE",1]
[null,null,null,null,null,null,null,null,null,null,null,null,null,null,null,null,null,null,null,null,null,null,null,null,null,null,null,null,null,null,null,null,null,null,null,null,null,null,null,null,null,null,null,null,null,null,null,null,null,"DB04 1004:CKN MARY",1,null,"CO02 PLAIN WATER",1]
[null,null,null,null,null,null,null,null,null,null,null,null,null,null,null,null,null,null,null,null,null,null,null,null,null,null,null,null,null,null,null,null,null,null,null,null,null,null,null,null,null,null,null,null,null,null,null,null,null,"DB04 1004:CKN MARY",1,null,"CO02 PLAIN WATER",3]
[null,null,null,null,null,null,null,null,null,null,null,null,null,null,null,null,null,null,null,null,null,null,null,null,null,null,null,null,null,null,null,null,null,null,null,null,null,null,null,null,null,null,null,null,null,null,null,null,null,"DB04 1004:CKN MARY",1,null,"CO02 PLAIN WATER",1]
[null,null,null,null,null,null,null,null,null,null,null,null,null,null,null,null,null,null,null,null,null,null,null,null,null,null,null,null,null,null,null,null,null,null,null,null,null,null,null,null,null,null,null,null,null,null,null,null,null,"DB04 1004:CKN MARY",1,null,"CO02 PLAIN WATER",1]
[null,null,null,null,null,null,null,null,null,null,null,null,null,null,null,null,null,null,null,null,null,null,null,null,null,null,null,null,null,null,null,null,null,null,null,null,null,null,null,null,null,null,null,null,null,null,null,null,null,"DB05 1005:FISH&CHIP",1,null,"CO02 PLAIN WATER",1]
[null,null,null,null,null,null,null,null,null,null,null,null,null,null,null,null,null,null,null,null,null,null,null,null,null,null,null,null,null,null,null,null,null,null,null,null,null,null,null,null,null,null,null,null,null,null,null,null,null,"DB05 1005:FISH&CHIP",2,null,"CO02 PLAIN WATER",1]
[null,null,null,null,null,null,null,null,null,null,null,null,null,null,null,null,null,null,null,null,null,null,null,null,null,null,null,null,null,null,null,null,null,null,null,null,null,null,null,null,null,null,null,null,null,null,null,null,null,"DB05 1005:FISH&CHIP",1,null,"CO02 PLAIN WATER",1]
[null,null,null,null,null,null,null,null,null,null,null,null,null,null,null,null,null,null,null,null,null,null,null,null,null,null,null,null,null,null,null,null,null,null,null,null,null,null,null,null,null,null,null,null,null,null,null,null,null,"DB05 1005:FISH&CHIP",1,null,"CO02 PLAIN WATER",1]
[null,null,null,null,null,null,null,null,null,null,null,null,null,null,null,null,null,null,null,null,null,null,null,null,null,null,null,null,null,null,null,null,null,null,null,null,null,null,null,null,null,null,null,null,null,null,null,null,null,"DB06 1006:SPAGHETTI",1,null,"CO02 PLAIN WATER",1]
[null,null,null,null,null,null,null,null,null,null,null,null,null,null,null,null,null,null,null,null,null,null,null,null,null,null,null,null,null,null,null,null,null,null,null,null,null,null,null,null,null,null,null,null,null,null,null,null,null,"DB06 1006:SPAGHETTI",1,null,"CO02 PLAIN WATER",1]
[null,null,null,null,null,null,null,null,null,null,null,null,null,null,null,null,null,null,null,null,null,null,null,null,null,null,null,null,null,null,null,null,null,null,null,null,null,null,null,null,null,null,null,null,null,null,null,null,null,"DB06 1006:SPAGHETTI",1,null,"CO02 PLAIN WATER",1]
[null,null,null,null,null,null,null,null,null,null,null,null,null,null,null,null,null,null,null,null,null,null,null,null,null,null,null,null,null,null,null,null,null,null,null,null,null,null,null,null,null,null,null,null,null,null,null,null,null,"DB06 1006:SPAGHETTI",1,null,"CO02 PLAIN WATER",1]
[null,null,null,null,null,null,null,null,null,null,null,null,null,null,null,null,null,null,null,null,null,null,null,null,null,null,null,null,null,null,null,null,null,null,null,null,null,null,null,null,null,null,null,null,null,null,null,null,null,"DB06 1006:SPAGHETTI",1,null,"CO02 PLAIN WATER",1]
[null,null,null,null,null,null,null,null,null,null,null,null,null,null,null,null,null,null,null,null,null,null,null,null,null,null,null,null,null,null,null,null,null,null,null,null,null,null,null,null,null,null,null,null,null,null,null,null,null,"DB06 1006:SPAGHETTI",1,null,"CO02 PLAIN WATER",1]
[null,null,null,null,null,null,null,null,null,null,null,null,null,null,null,null,null,null,null,null,null,null,null,null,null,null,null,null,null,null,null,null,null,null,null,null,null,null,null,null,null,null,null,null,null,null,null,null,null,"DB07 1007:CHK SALAD",1,null,"CO02 PLAIN WATER",1]
[null,null,null,null,null,null,null,null,null,null,null,null,null,null,null,null,null,null,null,null,null,null,null,null,null,null,null,null,null,null,null,null,null,null,null,null,null,null,null,null,null,null,null,null,null,null,null,null,null,"DG01 91001:BP CHK CP",2,null,"CO02 PLAIN WATER",1]
[null,null,null,null,null,null,null,null,null,null,null,null,null,null,null,null,null,null,null,null,null,null,null,null,null,null,null,null,null,null,null,null,null,null,null,null,null,null,null,null,null,null,null,null,null,null,null,null,null,"DG01 91001:BP CHK CP",3,null,"CO02 PLAIN WATER",2]
[null,null,null,null,null,null,null,null,null,null,null,null,null,null,null,null,null,null,null,null,null,null,null,null,null,null,null,null,null,null,null,null,null,null,null,null,null,null,null,null,null,null,null,null,null,null,null,null,null,"DG01 91001:BP CHK CP",3,null,"CO02 PLAIN WATER",2]
[null,null,null,null,null,null,null,null,null,null,null,null,null,null,null,null,null,null,null,null,null,null,null,null,null,null,null,null,null,null,null,null,null,null,null,null,null,null,null,null,null,null,null,null,null,null,null,null,null,"DG01 91001:BP CHK CP",-1,null,"CO02 PLAIN WATER",1]
[null,null,null,null,null,null,null,null,null,null,null,null,null,null,null,null,null,null,null,null,null,null,null,null,null,null,null,null,null,null,null,null,null,null,null,null,null,null,null,null,null,null,null,null,null,null,null,null,null,"DG01 91001:BP CHK CP",-1,null,"CO02 PLAIN WATER",1]
[null,null,null,null,null,null,null,null,null,null,null,null,null,null,null,null,null,null,null,null,null,null,null,null,null,null,null,null,null,null,null,null,null,null,null,null,null,null,null,null,null,null,null,null,null,null,null,null,null,"DG01 91001:BP CHK CP",1,null,"CO02 PLAIN WATER",2]
[null,null,null,null,null,null,null,null,null,null,null,null,null,null,null,null,null,null,null,null,null,null,null,null,null,null,null,null,null,null,null,null,null,null,null,null,null,null,null,null,null,null,null,null,null,null,null,null,null,"DG01 91001:BP CHK CP",1,null,"CO02 PLAIN WATER",1]
[null,null,null,null,null,null,null,null,null,null,null,null,null,null,null,null,null,null,null,null,null,null,null,null,null,null,null,null,null,null,null,null,null,null,null,null,null,null,null,null,null,null,null,null,null,null,null,null,null,"DG01 91001:BP CHK CP",1,null,"CO02 PLAIN WATER",1]
[null,null,null,null,null,null,null,null,null,null,null,null,null,null,null,null,null,null,null,null,null,null,null,null,null,null,null,null,null,null,null,null,null,null,null,null,null,null,null,null,null,null,null,null,null,null,null,null,null,"DG01 91001:BP CHK CP",1,null,"CO02 PLAIN WATER",1]
[null,null,null,null,null,null,null,null,null,null,null,null,null,null,null,null,null,null,null,null,null,null,null,null,null,null,null,null,null,null,null,null,null,null,null,null,null,null,null,null,null,null,null,null,null,null,null,null,null,"DG01 91001:BP CHK CP",1,null,"CO02 PLAIN WATER",1]
[null,null,null,null,null,null,null,null,null,null,null,null,null,null,null,null,null,null,null,null,null,null,null,null,null,null,null,null,null,null,null,null,null,null,null,null,null,null,null,null,null,null,null,null,null,null,null,null,null,"DG02 91002:GVY CHK CP",2,null,"CO02 PLAIN WATER",2]
[null,null,null,null,null,null,null,null,null,null,null,null,null,null,null,null,null,null,null,null,null,null,null,null,null,null,null,null,null,null,null,null,null,null,null,null,null,null,null,null,null,null,null,null,null,null,null,null,null,"DG03 91003:MSR CHK CP",1,null,"CO02 PLAIN WATER",1]
[null,null,null,null,null,null,null,null,null,null,null,null,null,null,null,null,null,null,null,null,null,null,null,null,null,null,null,null,null,null,null,null,null,null,null,null,null,null,null,null,null,null,null,null,null,null,null,null,null,"DG03 91003:MSR CHK CP",1,null,"CO02 PLAIN WATER",2]
[null,null,null,null,null,null,null,null,null,null,null,null,null,null,null,null,null,null,null,null,null,null,null,null,null,null,null,null,null,null,null,null,null,null,null,null,null,null,null,null,null,null,null,null,null,null,null,null,null,"DG03 91003:MSR CHK CP",1,null,"CO02 PLAIN WATER",2]
[null,null,null,null,null,null,null,null,null,null,null,null,null,null,null,null,null,null,null,null,null,null,null,null,null,null,null,null,null,null,null,null,null,null,null,null,null,null,null,null,null,null,null,null,null,null,null,null,null,"DG03 91003:MSR CHK CP",1,null,"CO02 PLAIN WATER",2]
[null,null,null,null,null,null,null,null,null,null,null,null,null,null,null,null,null,null,null,null,null,null,null,null,null,null,null,null,null,null,null,null,null,null,null,null,null,null,null,null,null,null,null,null,null,null,null,null,null,"DG03 91003:MSR CHK CP",1,null,"CO02 PLAIN WATER",4]
[null,null,null,null,null,null,null,null,null,null,null,null,null,null,null,null,null,null,null,null,null,null,null,null,null,null,null,null,null,null,null,null,null,null,null,null,null,null,null,null,null,null,null,null,null,null,null,null,null,"DG03 91003:MSR CHK CP",1,null,"CO02 PLAIN WATER",1]
[null,null,null,null,null,null,null,null,null,null,null,null,null,null,null,null,null,null,null,null,null,null,null,null,null,null,null,null,null,null,null,null,null,null,null,null,null,null,null,null,null,null,null,null,null,null,null,null,null,"DG03 91003:MSR CHK CP",1,null,"CO02 PLAIN WATER",1]
[null,null,null,null,null,null,null,null,null,null,null,null,null,null,null,null,null,null,null,null,null,null,null,null,null,null,null,null,null,null,null,null,null,null,null,null,null,null,null,null,null,null,null,null,null,null,null,null,null,"DG03 91003:MSR CHK CP",2,null,"CO02 PLAIN WATER",4]
[null,null,null,null,null,null,null,null,null,null,null,null,null,null,null,null,null,null,null,null,null,null,null,null,null,null,null,null,null,null,null,null,null,null,null,null,null,null,null,null,null,null,null,null,null,null,null,null,null,"DG04 91004:CKN MARY",1,null,"CO02 PLAIN WATER",1]
[null,null,null,null,null,null,null,null,null,null,null,null,null,null,null,null,null,null,null,null,null,null,null,null,null,null,null,null,null,null,null,null,null,null,null,null,null,null,null,null,null,null,null,null,null,null,null,null,null,"DG04 91004:CKN MARY",1,null,"CH05 SODA JUG",4]
[null,null,null,null,null,null,null,null,null,null,null,null,null,null,null,null,null,null,null,null,null,null,null,null,null,null,null,null,null,null,null,null,null,null,null,null,null,null,null,null,null,null,null,null,null,null,null,null,null,"DG04 91004:CKN MARY",1,null,"DB01 1001:BP CKN CP",1]
[null,null,null,null,null,null,null,null,null,null,null,null,null,null,null,null,null,null,null,null,null,null,null,null,null,null,null,null,null,null,null,null,null,null,null,null,null,null,null,null,null,null,null,null,null,null,null,null,null,"DG04 91004:CKN MARY",4,null,"DB01 1001:BP CKN CP",2]
[null,null,null,null,null,null,null,null,null,null,null,null,null,null,null,null,null,null,null,null,null,null,null,null,null,null,null,null,null,null,null,null,null,null,null,null,null,null,null,null,null,null,null,null,null,null,null,null,null,"DG04 91004:CKN MARY",1,null,"DB03 1003:MSR CKN CP",1]
[null,null,null,null,null,null,null,null,null,null,null,null,null,null,null,null,null,null,null,null,null,null,null,null,null,null,null,null,null,null,null,null,null,null,null,null,null,null,null,null,null,null,null,null,null,null,null,null,null,"DG04 91004:CKN MARY",1,null,"DB03 1003:MSR CKN CP",1]
[null,null,null,null,null,null,null,null,null,null,null,null,null,null,null,null,null,null,null,null,null,null,null,null,null,null,null,null,null,null,null,null,null,null,null,null,null,null,null,null,null,null,null,null,null,null,null,null,null,"DG04 91004:CKN MARY",1,null,"DB04 1004:CKN MARY",1]
[null,null,null,null,null,null,null,null,null,null,null,null,null,null,null,null,null,null,null,null,null,null,null,null,null,null,null,null,null,null,null,null,null,null,null,null,null,null,null,null,null,null,null,null,null,null,null,null,null,"DG05 91005:FISH&CHIP",1,null,"DB04 1004:CKN MARY",1]
[null,null,null,null,null,null,null,null,null,null,null,null,null,null,null,null,null,null,null,null,null,null,null,null,null,null,null,null,null,null,null,null,null,null,null,null,null,null,null,null,null,null,null,null,null,null,null,null,null,"DG05 91005:FISH&CHIP",6,null,"DB04 1004:CKN MARY",1]
[null,null,null,null,null,null,null,null,null,null,null,null,null,null,null,null,null,null,null,null,null,null,null,null,null,null,null,null,null,null,null,null,null,null,null,null,null,null,null,null,null,null,null,null,null,null,null,null,null,"DG05 91005:FISH&CHIP",7,null,"DB05 1005:FISH&CHIP",1]
[null,null,null,null,null,null,null,null,null,null,null,null,null,null,null,null,null,null,null,null,null,null,null,null,null,null,null,null,null,null,null,null,null,null,null,null,null,null,null,null,null,null,null,null,null,null,null,null,null,"DG05 91005:FISH&CHIP",1,null,"DB05 1005:FISH&CHIP",1]
[null,null,null,null,null,null,null,null,null,null,null,null,null,null,null,null,null,null,null,null,null,null,null,null,null,null,null,null,null,null,null,null,null,null,null,null,null,null,null,null,null,null,null,null,null,null,null,null,null,"DG05 91005:FISH&CHIP",3,null,"DB05 1005:FISH&CHIP",2]
[null,null,null,null,null,null,null,null,null,null,null,null,null,null,null,null,null,null,null,null,null,null,null,null,null,null,null,null,null,null,null,null,null,null,null,null,null,null,null,null,null,null,null,null,null,null,null,null,null,"DG05 91005:FISH&CHIP",1,null,"DB05 1005:FISH&CHIP",1]
[null,null,null,null,null,null,null,null,null,null,null,null,null,null,null,null,null,null,null,null,null,null,null,null,null,null,null,null,null,null,null,null,null,null,null,null,null,null,null,null,null,null,null,null,null,null,null,null,null,"DG05 91005:FISH&CHIP",1,null,"DB05 1005:FISH&CHIP",1]
[null,null,null,null,null,null,null,null,null,null,null,null,null,null,null,null,null,null,null,null,null,null,null,null,null,null,null,null,null,null,null,null,null,null,null,null,null,null,null,null,null,null,null,null,null,null,null,null,null,"DG05 91005:FISH&CHIP",1,null,"DB06 1006:SPAGHETTI",1]
[null,null,null,null,null,null,null,null,null,null,null,null,null,null,null,null,null,null,null,null,null,null,null,null,null,null,null,null,null,null,null,null,null,null,null,null,null,null,null,null,null,null,null,null,null,null,null,null,null,"DG05 91005:FISH&CHIP",1,null,"DB06 1006:SPAGHETTI",1]
[null,null,null,null,null,null,null,null,null,null,null,null,null,null,null,null,null,null,null,null,null,null,null,null,null,null,null,null,null,null,null,null,null,null,null,null,null,null,null,null,null,null,null,null,null,null,null,null,null,"DG05 91005:FISH&CHIP",1,null,"DB07 1007:CHK SALAD",1]
[null,null,null,null,null,null,null,null,null,null,null,null,null,null,null,null,null,null,null,null,null,null,null,null,null,null,null,null,null,null,null,null,null,null,null,null,null,null,null,null,null,null,null,null,null,null,null,null,null,"DG05 91005:FISH&CHIP",1,null,"DB07 1007:CHK SALAD",1]
[null,null,null,null,null,null,null,null,null,null,null,null,null,null,null,null,null,null,null,null,null,null,null,null,null,null,null,null,null,null,null,null,null,null,null,null,null,null,null,null,null,null,null,null,null,null,null,null,null,"DG05 91005:FISH&CHIP",1,null,"DG01 91001:BP CHK CP",1]
[null,null,null,null,null,null,null,null,null,null,null,null,null,null,null,null,null,null,null,null,null,null,null,null,null,null,null,null,null,null,null,null,null,null,null,null,null,null,null,null,null,null,null,null,null,null,null,null,null,"DG05 91005:FISH&CHIP",2,null,"DG01 91001:BP CHK CP",1]
[null,null,null,null,null,null,null,null,null,null,null,null,null,null,null,null,null,null,null,null,null,null,null,null,null,null,null,null,null,null,null,null,null,null,null,null,null,null,null,null,null,null,null,null,null,null,null,null,null,"DG05 91005:FISH&CHIP",1,null,"DG01 91001:BP CHK CP",1]
[null,null,null,null,null,null,null,null,null,null,null,null,null,null,null,null,null,null,null,null,null,null,null,null,null,null,null,null,null,null,null,null,null,null,null,null,null,null,null,null,null,null,null,null,null,null,null,null,null,"DG05 91005:FISH&CHIP",1,null,"DG01 91001:BP CHK CP",1]
[null,null,null,null,null,null,null,null,null,null,null,null,null,null,null,null,null,null,null,null,null,null,null,null,null,null,null,null,null,null,null,null,null,null,null,null,null,null,null,null,null,null,null,null,null,null,null,null,null,"DG06 91006:SPAGHETTI",1,null,"DG01 91001:BP CHK CP",1]
[null,null,null,null,null,null,null,null,null,null,null,null,null,null,null,null,null,null,null,null,null,null,null,null,null,null,null,null,null,null,null,null,null,null,null,null,null,null,null,null,null,null,null,null,null,null,null,null,null,"DG06 91006:SPAGHETTI",1,null,"DG01 91001:BP CHK CP",1]
[null,null,null,null,null,null,null,null,null,null,null,null,null,null,null,null,null,null,null,null,null,null,null,null,null,null,null,null,null,null,null,null,null,null,null,null,null,null,null,null,null,null,null,null,null,null,null,null,null,"DG06 91006:SPAGHETTI",1,null,"DG01 91001:BP CHK CP",3]
[null,null,null,null,null,null,null,null,null,null,null,null,null,null,null,null,null,null,null,null,null,null,null,null,null,null,null,null,null,null,null,null,null,null,null,null,null,null,null,null,null,null,null,null,null,null,null,null,null,"DG06 91006:SPAGHETTI",1,null,"DG01 91001:BP CHK CP",1]
[null,null,null,null,null,null,null,null,null,null,null,null,null,null,null,null,null,null,null,null,null,null,null,null,null,null,null,null,null,null,null,null,null,null,null,null,null,null,null,null,null,null,null,null,null,null,null,null,null,"DG06 91006:SPAGHETTI",1,null,"DG01 91001:BP CHK CP",1]
[null,null,null,null,null,null,null,null,null,null,null,null,null,null,null,null,null,null,null,null,null,null,null,null,null,null,null,null,null,null,null,null,null,null,null,null,null,null,null,null,null,null,null,null,null,null,null,null,null,"DG07 91007:CHK SALAD",1,null,"DG01 91001:BP CHK CP",1]
[null,null,null,null,null,null,null,null,null,null,null,null,null,null,null,null,null,null,null,null,null,null,null,null,null,null,null,null,null,null,null,null,null,null,null,null,null,null,null,null,null,null,null,null,null,null,null,null,null,"DC01 1101:THAI CHK",1,null,"DG01 91001:BP CHK CP",2]
[null,null,null,null,null,null,null,null,null,null,null,null,null,null,null,null,null,null,null,null,null,null,null,null,null,null,null,null,null,null,null,null,null,null,null,null,null,null,null,null,null,null,null,null,null,null,null,null,null,"DC01 1101:THAI CHK",1,null,"DG01 91001:BP CHK CP",4]
[null,null,null,null,null,null,null,null,null,null,null,null,null,null,null,null,null,null,null,null,null,null,null,null,null,null,null,null,null,null,null,null,null,null,null,null,null,null,null,null,null,null,null,null,null,null,null,null,null,"DC01 1101:THAI CHK",1,null,"DG01 91001:BP CHK CP",1]
[null,null,null,null,null,null,null,null,null,null,null,null,null,null,null,null,null,null,null,null,null,null,null,null,null,null,null,null,null,null,null,null,null,null,null,null,null,null,null,null,null,null,null,null,null,null,null,null,null,"DC02 1102:MAMITE CHK",1,null,"DG01 91001:BP CHK CP",1]
[null,null,null,null,null,null,null,null,null,null,null,null,null,null,null,null,null,null,null,null,null,null,null,null,null,null,null,null,null,null,null,null,null,null,null,null,null,null,null,null,null,null,null,null,null,null,null,null,null,"DC02 1102:MAMITE CHK",1,null,"DG01 91001:BP CHK CP",2]
[null,null,null,null,null,null,null,null,null,null,null,null,null,null,null,null,null,null,null,null,null,null,null,null,null,null,null,null,null,null,null,null,null,null,null,null,null,null,null,null,null,null,null,null,null,null,null,null,null,"DC02 1102:MAMITE CHK",1,null,"DG02 91002:GVY CHK CP",1]
[null,null,null,null,null,null,null,null,null,null,null,null,null,null,null,null,null,null,null,null,null,null,null,null,null,null,null,null,null,null,null,null,null,null,null,null,null,null,null,null,null,null,null,null,null,null,null,null,null,"DC02 1102:MAMITE CHK",2,null,"DG02 91002:GVY CHK CP",1]
[null,null,null,null,null,null,null,null,null,null,null,null,null,null,null,null,null,null,null,null,null,null,null,null,null,null,null,null,null,null,null,null,null,null,null,null,null,null,null,null,null,null,null,null,null,null,null,null,null,"DC02 1102:MAMITE CHK",1,null,"DG02 91002:GVY CHK CP",1]
[null,null,null,null,null,null,null,null,null,null,null,null,null,null,null,null,null,null,null,null,null,null,null,null,null,null,null,null,null,null,null,null,null,null,null,null,null,null,null,null,null,null,null,null,null,null,null,null,null,"DC03 1103:KO PO CHK",1,null,"DG03 91003:MSR CHK CP",1]
[null,null,null,null,null,null,null,null,null,null,null,null,null,null,null,null,null,null,null,null,null,null,null,null,null,null,null,null,null,null,null,null,null,null,null,null,null,null,null,null,null,null,null,null,null,null,null,null,null,"DC03 1103:KO PO CHK",1,null,"DG03 91003:MSR CHK CP",1]
[null,null,null,null,null,null,null,null,null,null,null,null,null,null,null,null,null,null,null,null,null,null,null,null,null,null,null,null,null,null,null,null,null,null,null,null,null,null,null,null,null,null,null,null,null,null,null,null,null,"DC03 1103:KO PO CHK",1,null,"DG03 91003:MSR CHK CP",1]
[null,null,null,null,null,null,null,null,null,null,null,null,null,null,null,null,null,null,null,null,null,null,null,null,null,null,null,null,null,null,null,null,null,null,null,null,null,null,null,null,null,null,null,null,null,null,null,null,null,"DC04 1104:S&S CHK",1,null,"DG03 91003:MSR CHK CP",1]
[null,null,null,null,null,null,null,null,null,null,null,null,null,null,null,null,null,null,null,null,null,null,null,null,null,null,null,null,null,null,null,null,null,null,null,null,null,null,null,null,null,null,null,null,null,null,null,null,null,"DC04 1104:S&S CHK",1,null,"DG03 91003:MSR CHK CP",1]
[null,null,null,null,null,null,null,null,null,null,null,null,null,null,null,null,null,null,null,null,null,null,null,null,null,null,null,null,null,null,null,null,null,null,null,null,null,null,null,null,null,null,null,null,null,null,null,null,null,"DC04 1104:S&S CHK",1,null,"DG03 91003:MSR CHK CP",1]
[null,null,null,null,null,null,null,null,null,null,null,null,null,null,null,null,null,null,null,null,null,null,null,null,null,null,null,null,null,null,null,null,null,null,null,null,null,null,null,null,null,null,null,null,null,null,null,null,null,"DC05 1105:BUTTER CHK",1,null,"DG03 91003:MSR CHK CP",1]
[null,null,null,null,null,null,null,null,null,null,null,null,null,null,null,null,null,null,null,null,null,null,null,null,null,null,null,null,null,null,null,null,null,null,null,null,null,null,null,null,null,null,null,null,null,null,null,null,null,"DC05 1105:BUTTER CHK",1,null,"DG03 91003:MSR CHK CP",2]
[null,null,null,null,null,null,null,null,null,null,null,null,null,null,null,null,null,null,null,null,null,null,null,null,null,null,null,null,null,null,null,null,null,null,null,null,null,null,null,null,null,null,null,null,null,null,null,null,null,"DC05 1105:BUTTER CHK",1,null,"DG03 91003:MSR CHK CP",1]
[null,null,null,null,null,null,null,null,null,null,null,null,null,null,null,null,null,null,null,null,null,null,null,null,null,null,null,null,null,null,null,null,null,null,null,null,null,null,null,null,null,null,null,null,null,null,null,null,null,"DC05 1105:BUTTER CHK",2,null,"DG03 91003:MSR CHK CP",1]
[null,null,null,null,null,null,null,null,null,null,null,null,null,null,null,null,null,null,null,null,null,null,null,null,null,null,null,null,null,null,null,null,null,null,null,null,null,null,null,null,null,null,null,null,null,null,null,null,null,"DC05 1105:BUTTER CHK",1,null,"DG03 91003:MSR CHK CP",1]
[null,null,null,null,null,null,null,null,null,null,null,null,null,null,null,null,null,null,null,null,null,null,null,null,null,null,null,null,null,null,null,null,null,null,null,null,null,null,null,null,null,null,null,null,null,null,null,null,null,"DC05 1105:BUTTER CHK",1,null,"DG03 91003:MSR CHK CP",1]
[null,null,null,null,null,null,null,null,null,null,null,null,null,null,null,null,null,null,null,null,null,null,null,null,null,null,null,null,null,null,null,null,null,null,null,null,null,null,null,null,null,null,null,null,null,null,null,null,null,"DC05 1105:BUTTER CHK",2,null,"DG03 91003:MSR CHK CP",1]
[null,null,null,null,null,null,null,null,null,null,null,null,null,null,null,null,null,null,null,null,null,null,null,null,null,null,null,null,null,null,null,null,null,null,null,null,null,null,null,null,null,null,null,null,null,null,null,null,null,"DC05 1105:BUTTER CHK",2,null,"DG03 91003:MSR CHK CP",1]
[null,null,null,null,null,null,null,null,null,null,null,null,null,null,null,null,null,null,null,null,null,null,null,null,null,null,null,null,null,null,null,null,null,null,null,null,null,null,null,null,null,null,null,null,null,null,null,null,null,"DC05 1105:BUTTER CHK",1,null,"DG03 91003:MSR CHK CP",1]
[null,null,null,null,null,null,null,null,null,null,null,null,null,null,null,null,null,null,null,null,null,null,null,null,null,null,null,null,null,null,null,null,null,null,null,null,null,null,null,null,null,null,null,null,null,null,null,null,null,"DC05 1105:BUTTER CHK",3,null,"DG03 91003:MSR CHK CP",1]
[null,null,null,null,null,null,null,null,null,null,null,null,null,null,null,null,null,null,null,null,null,null,null,null,null,null,null,null,null,null,null,null,null,null,null,null,null,null,null,null,null,null,null,null,null,null,null,null,null,"DC05 1105:BUTTER CHK",2,null,"DG03 91003:MSR CHK CP",1]
[null,null,null,null,null,null,null,null,null,null,null,null,null,null,null,null,null,null,null,null,null,null,null,null,null,null,null,null,null,null,null,null,null,null,null,null,null,null,null,null,null,null,null,null,null,null,null,null,null,"DC05 1105:BUTTER CHK",1,null,"DG03 91003:MSR CHK CP",-1]
[null,null,null,null,null,null,null,null,null,null,null,null,null,null,null,null,null,null,null,null,null,null,null,null,null,null,null,null,null,null,null,null,null,null,null,null,null,null,null,null,null,null,null,null,null,null,null,null,null,"DC05 1105:BUTTER CHK",1,null,"DG03 91003:MSR CHK CP",1]
[null,null,null,null,null,null,null,null,null,null,null,null,null,null,null,null,null,null,null,null,null,null,null,null,null,null,null,null,null,null,null,null,null,null,null,null,null,null,null,null,null,null,null,null,null,null,null,null,null,"DC06 1106:HK F.RICE",1,null,"DG03 91003:MSR CHK CP",1]
[null,null,null,null,null,null,null,null,null,null,null,null,null,null,null,null,null,null,null,null,null,null,null,null,null,null,null,null,null,null,null,null,null,null,null,null,null,null,null,null,null,null,null,null,null,null,null,null,null,"DC06 1106:HK F.RICE",1,null,"DG03 91003:MSR CHK CP",1]
[null,null,null,null,null,null,null,null,null,null,null,null,null,null,null,null,null,null,null,null,null,null,null,null,null,null,null,null,null,null,null,null,null,null,null,null,null,null,null,null,null,null,null,null,null,null,null,null,null,"DC07 1107:SBL F.RICE",1,null,"DG04 91004:CKN MARY",2]
[null,null,null,null,null,null,null,null,null,null,null,null,null,null,null,null,null,null,null,null,null,null,null,null,null,null,null,null,null,null,null,null,null,null,null,null,null,null,null,null,null,null,null,null,null,null,null,null,null,"DC07 1107:SBL F.RICE",1,null,"DG04 91004:CKN MARY",1]
[null,null,null,null,null,null,null,null,null,null,null,null,null,null,null,null,null,null,null,null,null,null,null,null,null,null,null,null,null,null,null,null,null,null,null,null,null,null,null,null,null,null,null,null,null,null,null,null,null,"DC07 1107:SBL F.RICE",1,null,"DG04 91004:CKN MARY",1]
[null,null,null,null,null,null,null,null,null,null,null,null,null,null,null,null,null,null,null,null,null,null,null,null,null,null,null,null,null,null,null,null,null,null,null,null,null,null,null,null,null,null,null,null,null,null,null,null,null,"DC09 1109:BP UDON",2,null,"DG04 91004:CKN MARY",1]
[null,null,null,null,null,null,null,null,null,null,null,null,null,null,null,null,null,null,null,null,null,null,null,null,null,null,null,null,null,null,null,null,null,null,null,null,null,null,null,null,null,null,null,null,null,null,null,null,null,"DC09 1109:BP UDON",1,null,"DG04 91004:CKN MARY",5]
[null,null,null,null,null,null,null,null,null,null,null,null,null,null,null,null,null,null,null,null,null,null,null,null,null,null,null,null,null,null,null,null,null,null,null,null,null,null,null,null,null,null,null,null,null,null,null,null,null,"DC10 1110:NISSIN",1,null,"DG04 91004:CKN MARY",1]
[null,null,null,null,null,null,null,null,null,null,null,null,null,null,null,null,null,null,null,null,null,null,null,null,null,null,null,null,null,null,null,null,null,null,null,null,null,null,null,null,null,null,null,null,null,null,null,null,null,"DC10 1110:NISSIN",1,null,"DG04 91004:CKN MARY",2]
[null,null,null,null,null,null,null,null,null,null,null,null,null,null,null,null,null,null,null,null,null,null,null,null,null,null,null,null,null,null,null,null,null,null,null,null,null,null,null,null,null,null,null,null,null,null,null,null,null,"DC10 1110:NISSIN",-1,null,"DG04 91004:CKN MARY",1]
[null,null,null,null,null,null,null,null,null,null,null,null,null,null,null,null,null,null,null,null,null,null,null,null,null,null,null,null,null,null,null,null,null,null,null,null,null,null,null,null,null,null,null,null,null,null,null,null,null,"DC10 1110:NISSIN",1,null,"DG04 91004:CKN MARY",1]
[null,null,null,null,null,null,null,null,null,null,null,null,null,null,null,null,null,null,null,null,null,null,null,null,null,null,null,null,null,null,null,null,null,null,null,null,null,null,null,null,null,null,null,null,null,null,null,null,null,"DC11 1111:VEG RICE",1,null,"DG04 91004:CKN MARY",1]
[null,null,null,null,null,null,null,null,null,null,null,null,null,null,null,null,null,null,null,null,null,null,null,null,null,null,null,null,null,null,null,null,null,null,null,null,null,null,null,null,null,null,null,null,null,null,null,null,null,"DC11 1111:VEG RICE",1,null,"DG04 91004:CKN MARY",2]
[null,null,null,null,null,null,null,null,null,null,null,null,null,null,null,null,null,null,null,null,null,null,null,null,null,null,null,null,null,null,null,null,null,null,null,null,null,null,null,null,null,null,null,null,null,null,null,null,null,"DC13 1113:KUEY TEOW",1,null,"DG04 91004:CKN MARY",1]
[null,null,null,null,null,null,null,null,null,null,null,null,null,null,null,null,null,null,null,null,null,null,null,null,null,null,null,null,null,null,null,null,null,null,null,null,null,null,null,null,null,null,null,null,null,null,null,null,null,"DC13 1113:KUEY TEOW",-1,null,"DG04 91004:CKN MARY",1]
[null,null,null,null,null,null,null,null,null,null,null,null,null,null,null,null,null,null,null,null,null,null,null,null,null,null,null,null,null,null,null,null,null,null,null,null,null,null,null,null,null,null,null,null,null,null,null,null,null,"DC14 1114:F.BALL MEE",1,null,"DG05 91005:FISH&CHIP",1]
[null,null,null,null,null,null,null,null,null,null,null,null,null,null,null,null,null,null,null,null,null,null,null,null,null,null,null,null,null,null,null,null,null,null,null,null,null,null,null,null,null,null,null,null,null,null,null,null,null,"DC14 1114:F.BALL MEE",1,null,"DG05 91005:FISH&CHIP",1]
[null,null,null,null,null,null,null,null,null,null,null,null,null,null,null,null,null,null,null,null,null,null,null,null,null,null,null,null,null,null,null,null,null,null,null,null,null,null,null,null,null,null,null,null,null,null,null,null,null,"DH01 91101:THAI CHK",1,null,"DG05 91005:FISH&CHIP",1]
[null,null,null,null,null,null,null,null,null,null,null,null,null,null,null,null,null,null,null,null,null,null,null,null,null,null,null,null,null,null,null,null,null,null,null,null,null,null,null,null,null,null,null,null,null,null,null,null,null,"DH01 91101:THAI CHK",1,null,"DG05 91005:FISH&CHIP",1]
[null,null,null,null,null,null,null,null,null,null,null,null,null,null,null,null,null,null,null,null,null,null,null,null,null,null,null,null,null,null,null,null,null,null,null,null,null,null,null,null,null,null,null,null,null,null,null,null,null,"DH01 91101:THAI CHK",1,null,"DG05 91005:FISH&CHIP",1]
[null,null,null,null,null,null,null,null,null,null,null,null,null,null,null,null,null,null,null,null,null,null,null,null,null,null,null,null,null,null,null,null,null,null,null,null,null,null,null,null,null,null,null,null,null,null,null,null,null,"DH01 91101:THAI CHK",1,null,"DG05 91005:FISH&CHIP",2]
[null,null,null,null,null,null,null,null,null,null,null,null,null,null,null,null,null,null,null,null,null,null,null,null,null,null,null,null,null,null,null,null,null,null,null,null,null,null,null,null,null,null,null,null,null,null,null,null,null,"DH01 91101:THAI CHK",1,null,"DG05 91005:FISH&CHIP",1]
[null,null,null,null,null,null,null,null,null,null,null,null,null,null,null,null,null,null,null,null,null,null,null,null,null,null,null,null,null,null,null,null,null,null,null,null,null,null,null,null,null,null,null,null,null,null,null,null,null,"DH02 91102:MAMITE CHK",1,null,"DG05 91005:FISH&CHIP",1]
[null,null,null,null,null,null,null,null,null,null,null,null,null,null,null,null,null,null,null,null,null,null,null,null,null,null,null,null,null,null,null,null,null,null,null,null,null,null,null,null,null,null,null,null,null,null,null,null,null,"DH02 91102:MAMITE CHK",4,null,"DG05 91005:FISH&CHIP",1]
[null,null,null,null,null,null,null,null,null,null,null,null,null,null,null,null,null,null,null,null,null,null,null,null,null,null,null,null,null,null,null,null,null,null,null,null,null,null,null,null,null,null,null,null,null,null,null,null,null,"DH02 91102:MAMITE CHK",1,null,"DG05 91005:FISH&CHIP",1]
[null,null,null,null,null,null,null,null,null,null,null,null,null,null,null,null,null,null,null,null,null,null,null,null,null,null,null,null,null,null,null,null,null,null,null,null,null,null,null,null,null,null,null,null,null,null,null,null,null,"DH02 91102:MAMITE CHK",1,null,"DG05 91005:FISH&CHIP",1]
[null,null,null,null,null,null,null,null,null,null,null,null,null,null,null,null,null,null,null,null,null,null,null,null,null,null,null,null,null,null,null,null,null,null,null,null,null,null,null,null,null,null,null,null,null,null,null,null,null,"DH02 91102:MAMITE CHK",1,null,"DG05 91005:FISH&CHIP",1]
[null,null,null,null,null,null,null,null,null,null,null,null,null,null,null,null,null,null,null,null,null,null,null,null,null,null,null,null,null,null,null,null,null,null,null,null,null,null,null,null,null,null,null,null,null,null,null,null,null,"DH02 91102:MAMITE CHK",2,null,"DG05 91005:FISH&CHIP",1]
[null,null,null,null,null,null,null,null,null,null,null,null,null,null,null,null,null,null,null,null,null,null,null,null,null,null,null,null,null,null,null,null,null,null,null,null,null,null,null,null,null,null,null,null,null,null,null,null,null,"DH03 91103:KO PO CHK",1,null,"DG05 91005:FISH&CHIP",2]
[null,null,null,null,null,null,null,null,null,null,null,null,null,null,null,null,null,null,null,null,null,null,null,null,null,null,null,null,null,null,null,null,null,null,null,null,null,null,null,null,null,null,null,null,null,null,null,null,null,"DH03 91103:KO PO CHK",1,null,"DG05 91005:FISH&CHIP",1]
[null,null,null,null,null,null,null,null,null,null,null,null,null,null,null,null,null,null,null,null,null,null,null,null,null,null,null,null,null,null,null,null,null,null,null,null,null,null,null,null,null,null,null,null,null,null,null,null,null,"DH04 91104:S&S CHK",1,null,"DG05 91005:FISH&CHIP",1]
[null,null,null,null,null,null,null,null,null,null,null,null,null,null,null,null,null,null,null,null,null,null,null,null,null,null,null,null,null,null,null,null,null,null,null,null,null,null,null,null,null,null,null,null,null,null,null,null,null,"DH05 91105:BUTTER CHK",1,null,"DG05 91005:FISH&CHIP",1]
[null,null,null,null,null,null,null,null,null,null,null,null,null,null,null,null,null,null,null,null,null,null,null,null,null,null,null,null,null,null,null,null,null,null,null,null,null,null,null,null,null,null,null,null,null,null,null,null,null,"DH05 91105:BUTTER CHK",2,null,"DG05 91005:FISH&CHIP",1]
[null,null,null,null,null,null,null,null,null,null,null,null,null,null,null,null,null,null,null,null,null,null,null,null,null,null,null,null,null,null,null,null,null,null,null,null,null,null,null,null,null,null,null,null,null,null,null,null,null,"DH05 91105:BUTTER CHK",1,null,"DG05 91005:FISH&CHIP",1]
[null,null,null,null,null,null,null,null,null,null,null,null,null,null,null,null,null,null,null,null,null,null,null,null,null,null,null,null,null,null,null,null,null,null,null,null,null,null,null,null,null,null,null,null,null,null,null,null,null,"DH05 91105:BUTTER CHK",1,null,"DG05 91005:FISH&CHIP",3]
[null,null,null,null,null,null,null,null,null,null,null,null,null,null,null,null,null,null,null,null,null,null,null,null,null,null,null,null,null,null,null,null,null,null,null,null,null,null,null,null,null,null,null,null,null,null,null,null,null,"DH05 91105:BUTTER CHK",1,null,"DG05 91005:FISH&CHIP",1]
[null,null,null,null,null,null,null,null,null,null,null,null,null,null,null,null,null,null,null,null,null,null,null,null,null,null,null,null,null,null,null,null,null,null,null,null,null,null,null,null,null,null,null,null,null,null,null,null,null,"DH05 91105:BUTTER CHK",1,null,"DG05 91005:FISH&CHIP",1]
[null,null,null,null,null,null,null,null,null,null,null,null,null,null,null,null,null,null,null,null,null,null,null,null,null,null,null,null,null,null,null,null,null,null,null,null,null,null,null,null,null,null,null,null,null,null,null,null,null,"DH05 91105:BUTTER CHK",1,null,"DG05 91005:FISH&CHIP",1]
[null,null,null,null,null,null,null,null,null,null,null,null,null,null,null,null,null,null,null,null,null,null,null,null,null,null,null,null,null,null,null,null,null,null,null,null,null,null,null,null,null,null,null,null,null,null,null,null,null,"DH06 91106:HK F.RICE",1,null,"DG05 91005:FISH&CHIP",1]
[null,null,null,null,null,null,null,null,null,null,null,null,null,null,null,null,null,null,null,null,null,null,null,null,null,null,null,null,null,null,null,null,null,null,null,null,null,null,null,null,null,null,null,null,null,null,null,null,null,"DH06 91106:HK F.RICE",1,null,"DG05 91005:FISH&CHIP",2]
[null,null,null,null,null,null,null,null,null,null,null,null,null,null,null,null,null,null,null,null,null,null,null,null,null,null,null,null,null,null,null,null,null,null,null,null,null,null,null,null,null,null,null,null,null,null,null,null,null,"DH06 91106:HK F.RICE",1,null,"DG05 91005:FISH&CHIP",2]
[null,null,null,null,null,null,null,null,null,null,null,null,null,null,null,null,null,null,null,null,null,null,null,null,null,null,null,null,null,null,null,null,null,null,null,null,null,null,null,null,null,null,null,null,null,null,null,null,null,"DH06 91106:HK F.RICE",1,null,"DG06 91006:SPAGHETTI",1]
[null,null,null,null,null,null,null,null,null,null,null,null,null,null,null,null,null,null,null,null,null,null,null,null,null,null,null,null,null,null,null,null,null,null,null,null,null,null,null,null,null,null,null,null,null,null,null,null,null,"DH06 91106:HK F.RICE",1,null,"DG06 91006:SPAGHETTI",1]
[null,null,null,null,null,null,null,null,null,null,null,null,null,null,null,null,null,null,null,null,null,null,null,null,null,null,null,null,null,null,null,null,null,null,null,null,null,null,null,null,null,null,null,null,null,null,null,null,null,"DH07 91107:SBL F.RICE",1,null,"DG06 91006:SPAGHETTI",1]
[null,null,null,null,null,null,null,null,null,null,null,null,null,null,null,null,null,null,null,null,null,null,null,null,null,null,null,null,null,null,null,null,null,null,null,null,null,null,null,null,null,null,null,null,null,null,null,null,null,"DH07 91107:SBL F.RICE",1,null,"DG06 91006:SPAGHETTI",2]
[null,null,null,null,null,null,null,null,null,null,null,null,null,null,null,null,null,null,null,null,null,null,null,null,null,null,null,null,null,null,null,null,null,null,null,null,null,null,null,null,null,null,null,null,null,null,null,null,null,"DH07 91107:SBL F.RICE",1,null,"DG06 91006:SPAGHETTI",1]
[null,null,null,null,null,null,null,null,null,null,null,null,null,null,null,null,null,null,null,null,null,null,null,null,null,null,null,null,null,null,null,null,null,null,null,null,null,null,null,null,null,null,null,null,null,null,null,null,null,"DH07 91107:SBL F.RICE",2,null,"DG06 91006:SPAGHETTI",1]
[null,null,null,null,null,null,null,null,null,null,null,null,null,null,null,null,null,null,null,null,null,null,null,null,null,null,null,null,null,null,null,null,null,null,null,null,null,null,null,null,null,null,null,null,null,null,null,null,null,"DH09 91109:BP UDON",1,null,"DG06 91006:SPAGHETTI",1]
[null,null,null,null,null,null,null,null,null,null,null,null,null,null,null,null,null,null,null,null,null,null,null,null,null,null,null,null,null,null,null,null,null,null,null,null,null,null,null,null,null,null,null,null,null,null,null,null,null,"DH10 91110:NISSIN",1,null,"DG06 91006:SPAGHETTI",1]
[null,null,null,null,null,null,null,null,null,null,null,null,null,null,null,null,null,null,null,null,null,null,null,null,null,null,null,null,null,null,null,null,null,null,null,null,null,null,null,null,null,null,null,null,null,null,null,null,null,"DH10 91110:NISSIN",1,null,"DG06 91006:SPAGHETTI",1]
[null,null,null,null,null,null,null,null,null,null,null,null,null,null,null,null,null,null,null,null,null,null,null,null,null,null,null,null,null,null,null,null,null,null,null,null,null,null,null,null,null,null,null,null,null,null,null,null,null,"DH10 91110:NISSIN",1,null,"DG06 91006:SPAGHETTI",1]
[null,null,null,null,null,null,null,null,null,null,null,null,null,null,null,null,null,null,null,null,null,null,null,null,null,null,null,null,null,null,null,null,null,null,null,null,null,null,null,null,null,null,null,null,null,null,null,null,null,"DH10 91110:NISSIN",1,null,"DG06 91006:SPAGHETTI",1]
[null,null,null,null,null,null,null,null,null,null,null,null,null,null,null,null,null,null,null,null,null,null,null,null,null,null,null,null,null,null,null,null,null,null,null,null,null,null,null,null,null,null,null,null,null,null,null,null,null,"DH11 91111:VEG RICE",1,null,"DG07 91007:CHK SALAD",1]
[null,null,null,null,null,null,null,null,null,null,null,null,null,null,null,null,null,null,null,null,null,null,null,null,null,null,null,null,null,null,null,null,null,null,null,null,null,null,null,null,null,null,null,null,null,null,null,null,null,"DH13 91113:KUEY TEOW",1,null,"DG07 91007:CHK SALAD",1]
[null,null,null,null,null,null,null,null,null,null,null,null,null,null,null,null,null,null,null,null,null,null,null,null,null,null,null,null,null,null,null,null,null,null,null,null,null,null,null,null,null,null,null,null,null,null,null,null,null,"DH13 91113:KUEY TEOW",-1,null,"DG07 91007:CHK SALAD",6]
[null,null,null,null,null,null,null,null,null,null,null,null,null,null,null,null,null,null,null,null,null,null,null,null,null,null,null,null,null,null,null,null,null,null,null,null,null,null,null,null,null,null,null,null,null,null,null,null,null,"DH15 91115:CHK NOODLE",1,null,"DG07 91007:CHK SALAD",1]
[null,null,null,null,null,null,null,null,null,null,null,null,null,null,null,null,null,null,null,null,null,null,null,null,null,null,null,null,null,null,null,null,null,null,null,null,null,null,null,null,null,null,null,null,null,null,null,null,null,"DH15 91115:CHK NOODLE",1,null,"DG07 91007:CHK SALAD",1]
[null,null,null,null,null,null,null,null,null,null,null,null,null,null,null,null,null,null,null,null,null,null,null,null,null,null,null,null,null,null,null,null,null,null,null,null,null,null,null,null,null,null,null,null,null,null,null,null,null,"DH15 91115:CHK NOODLE",1,null,"DG07 91007:CHK SALAD",1]
[null,null,null,null,null,null,null,null,null,null,null,null,null,null,null,null,null,null,null,null,null,null,null,null,null,null,null,null,null,null,null,null,null,null,null,null,null,null,null,null,null,null,null,null,null,null,null,null,null,"DH15 91115:CHK NOODLE",1,null,"DG07 91007:CHK SALAD",2]
[null,null,null,null,null,null,null,null,null,null,null,null,null,null,null,null,null,null,null,null,null,null,null,null,null,null,null,null,null,null,null,null,null,null,null,null,null,null,null,null,null,null,null,null,null,null,null,null,null,"DD02 1202:FREN FRIES",1,null,"DG07 91007:CHK SALAD",1]
[null,null,null,null,null,null,null,null,null,null,null,null,null,null,null,null,null,null,null,null,null,null,null,null,null,null,null,null,null,null,null,null,null,null,null,null,null,null,null,null,null,null,null,null,null,null,null,null,null,"DD02 1202:FREN FRIES",1,null,"DG07 91007:CHK SALAD",-1]
[null,null,null,null,null,null,null,null,null,null,null,null,null,null,null,null,null,null,null,null,null,null,null,null,null,null,null,null,null,null,null,null,null,null,null,null,null,null,null,null,null,null,null,null,null,null,null,null,null,"DD04 1204:FISHBALL",1,null,"DC01 1101:THAI CHK",1]
[null,null,null,null,null,null,null,null,null,null,null,null,null,null,null,null,null,null,null,null,null,null,null,null,null,null,null,null,null,null,null,null,null,null,null,null,null,null,null,null,null,null,null,null,null,null,null,null,null,"DD07 1207:SAUSAGE",1,null,"DC01 1101:THAI CHK",1]
[null,null,null,null,null,null,null,null,null,null,null,null,null,null,null,null,null,null,null,null,null,null,null,null,null,null,null,null,null,null,null,null,null,null,null,null,null,null,null,null,null,null,null,null,null,null,null,null,null,"DD11 1302:NUGGET",1,null,"DC01 1101:THAI CHK",1]
[null,null,null,null,null,null,null,null,null,null,null,null,null,null,null,null,null,null,null,null,null,null,null,null,null,null,null,null,null,null,null,null,null,null,null,null,null,null,null,null,null,null,null,null,null,null,null,null,null,"DD11 1302:NUGGET",1,null,"DC01 1101:THAI CHK",1]
[null,null,null,null,null,null,null,null,null,null,null,null,null,null,null,null,null,null,null,null,null,null,null,null,null,null,null,null,null,null,null,null,null,null,null,null,null,null,null,null,null,null,null,null,null,null,null,null,null,"DD12 1303:CHK WING",1,null,"DC01 1101:THAI CHK",1]
[null,null,null,null,null,null,null,null,null,null,null,null,null,null,null,null,null,null,null,null,null,null,null,null,null,null,null,null,null,null,null,null,null,null,null,null,null,null,null,null,null,null,null,null,null,null,null,null,null,"DD12 1303:CHK WING",1,null,"DC01 1101:THAI CHK",1]
[null,null,null,null,null,null,null,null,null,null,null,null,null,null,null,null,null,null,null,null,null,null,null,null,null,null,null,null,null,null,null,null,null,null,null,null,null,null,null,null,null,null,null,null,null,null,null,null,null,"DI06 91206:SPRING RL",1,null,"DC02 1102:MAMITE CHK",1]
[null,null,null,null,null,null,null,null,null,null,null,null,null,null,null,null,null,null,null,null,null,null,null,null,null,null,null,null,null,null,null,null,null,null,null,null,null,null,null,null,null,null,null,null,null,null,null,null,null,"DI10 91301:DUMPLING",1,null,"DC02 1102:MAMITE CHK",1]
[null,null,null,null,null,null,null,null,null,null,null,null,null,null,null,null,null,null,null,null,null,null,null,null,null,null,null,null,null,null,null,null,null,null,null,null,null,null,null,null,null,null,null,null,null,null,null,null,null,"DI11 91302:NUGGET",1,null,"DC05 1105:BUTTER CHK",1]
[null,null,null,null,null,null,null,null,null,null,null,null,null,null,null,null,null,null,null,null,null,null,null,null,null,null,null,null,null,null,null,null,null,null,null,null,null,null,null,null,null,null,null,null,null,null,null,null,null,"DI12 91303:CHK WING",2,null,"DC05 1105:BUTTER CHK",1]
[null,null,null,null,null,null,null,null,null,null,null,null,null,null,null,null,null,null,null,null,null,null,null,null,null,null,null,null,null,null,null,null,null,null,null,null,null,null,null,null,null,null,null,null,null,null,null,null,null,"DI12 91303:CHK WING",1,null,"DC05 1105:BUTTER CHK",1]
[null,null,null,null,null,null,null,null,null,null,null,null,null,null,null,null,null,null,null,null,null,null,null,null,null,null,null,null,null,null,null,null,null,null,null,null,null,null,null,null,null,null,null,null,null,null,null,null,null,"DI14 91305:THAI RL",1,null,"DC05 1105:BUTTER CHK",1]
[null,null,null,null,null,null,null,null,null,null,null,null,null,null,null,null,null,null,null,null,null,null,null,null,null,null,null,null,null,null,null,null,null,null,null,null,null,null,null,null,null,null,null,null,null,null,null,null,null,"DD16 McCain AlaCarte",1,null,"DC05 1105:BUTTER CHK",1]
[null,null,null,null,null,null,null,null,null,null,null,null,null,null,null,null,null,null,null,null,null,null,null,null,null,null,null,null,null,null,null,null,null,null,null,null,null,null,null,null,null,null,null,null,null,null,null,null,null,"DD16 McCain AlaCarte",1,null,"DC05 1105:BUTTER CHK",1]
[null,null,null,null,null,null,null,null,null,null,null,null,null,null,null,null,null,null,null,null,null,null,null,null,null,null,null,null,null,null,null,null,null,null,null,null,null,null,null,null,null,null,null,null,null,null,null,null,null,"DD17 McCain Beer",2,null,"DC05 1105:BUTTER CHK",1]
[null,null,null,null,null,null,null,null,null,null,null,null,null,null,null,null,null,null,null,null,null,null,null,null,null,null,null,null,null,null,null,null,null,null,null,null,null,null,null,null,null,null,null,null,null,null,null,null,null,"DD17 McCain Beer",1,null,"DC05 1105:BUTTER CHK",1]
[null,null,null,null,null,null,null,null,null,null,null,null,null,null,null,null,null,null,null,null,null,null,null,null,null,null,null,null,null,null,null,null,null,null,null,null,null,null,null,null,null,null,null,null,null,null,null,null,null,"DE02 SET 1390",1,null,"DC05 1105:BUTTER CHK",1]
[null,null,null,null,null,null,null,null,null,null,null,null,null,null,null,null,null,null,null,null,null,null,null,null,null,null,null,null,null,null,null,null,null,null,null,null,null,null,null,null,null,null,null,null,null,null,null,null,null,"DE02 SET 1390",2,null,"DC06 1106:HK F.RICE",1]
[null,null,null,null,null,null,null,null,null,null,null,null,null,null,null,null,null,null,null,null,null,null,null,null,null,null,null,null,null,null,null,null,null,null,null,null,null,null,null,null,null,null,null,null,null,null,null,null,null,"DE02 SET 1390",1,null,"DC06 1106:HK F.RICE",1]
[null,null,null,null,null,null,null,null,null,null,null,null,null,null,null,null,null,null,null,null,null,null,null,null,null,null,null,null,null,null,null,null,null,null,null,null,null,null,null,null,null,null,null,null,null,null,null,null,null,"DE02 SET 1390",1,null,"DC06 1106:HK F.RICE",1]
[null,null,null,null,null,null,null,null,null,null,null,null,null,null,null,null,null,null,null,null,null,null,null,null,null,null,null,null,null,null,null,null,null,null,null,null,null,null,null,null,null,null,null,null,null,null,null,null,null,"DE02 SET 1390",1,null,"DC06 1106:HK F.RICE",1]
[null,null,null,null,null,null,null,null,null,null,null,null,null,null,null,null,null,null,null,null,null,null,null,null,null,null,null,null,null,null,null,null,null,null,null,null,null,null,null,null,null,null,null,null,null,null,null,null,null,"DE02 SET 1390",1,null,"DC06 1106:HK F.RICE",1]
[null,null,null,null,null,null,null,null,null,null,null,null,null,null,null,null,null,null,null,null,null,null,null,null,null,null,null,null,null,null,null,null,null,null,null,null,null,null,null,null,null,null,null,null,null,null,null,null,null,"DE02 SET 1390",1,null,"DC06 1106:HK F.RICE",1]
[null,null,null,null,null,null,null,null,null,null,null,null,null,null,null,null,null,null,null,null,null,null,null,null,null,null,null,null,null,null,null,null,null,null,null,null,null,null,null,null,null,null,null,null,null,null,null,null,null,"DE02 SET 1390",1,null,"DC07 1107:SBL F.RICE",1]
[null,null,null,null,null,null,null,null,null,null,null,null,null,null,null,null,null,null,null,null,null,null,null,null,null,null,null,null,null,null,null,null,null,null,null,null,null,null,null,null,null,null,null,null,null,null,null,null,null,"DE01 SET 990",1,null,"DC07 1107:SBL F.RICE",1]
[null,null,null,null,null,null,null,null,null,null,null,null,null,null,null,null,null,null,null,null,null,null,null,null,null,null,null,null,null,null,null,null,null,null,null,null,null,null,null,null,null,null,null,null,null,null,null,null,null,"DE01 SET 990",1,null,"DC07 1107:SBL F.RICE",1]
[null,null,null,null,null,null,null,null,null,null,null,null,null,null,null,null,null,null,null,null,null,null,null,null,null,null,null,null,null,null,null,null,null,null,null,null,null,null,null,null,null,null,null,null,null,null,null,null,null,"DE01 SET 990",1,null,"DC07 1107:SBL F.RICE",1]
[null,null,null,null,null,null,null,null,null,null,null,null,null,null,null,null,null,null,null,null,null,null,null,null,null,null,null,null,null,null,null,null,null,null,null,null,null,null,null,null,null,null,null,null,null,null,null,null,null,"DE01 SET 990",1,null,"DC07 1107:SBL F.RICE",1]
[null,null,null,null,null,null,null,null,null,null,null,null,null,null,null,null,null,null,null,null,null,null,null,null,null,null,null,null,null,null,null,null,null,null,null,null,null,null,null,null,null,null,null,null,null,null,null,null,null,"DE01 SET 990",1,null,"DC09 1109:BP UDON",1]
[null,null,null,null,null,null,null,null,null,null,null,null,null,null,null,null,null,null,null,null,null,null,null,null,null,null,null,null,null,null,null,null,null,null,null,null,null,null,null,null,null,null,null,null,null,null,null,null,null,"DE01 SET 990",1,null,"DC10 1110:NISSIN",1]
[null,null,null,null,null,null,null,null,null,null,null,null,null,null,null,null,null,null,null,null,null,null,null,null,null,null,null,null,null,null,null,null,null,null,null,null,null,null,null,null,null,null,null,null,null,null,null,null,null,"DE01 SET 990",1,null,"DC10 1110:NISSIN",1]
[null,null,null,null,null,null,null,null,null,null,null,null,null,null,null,null,null,null,null,null,null,null,null,null,null,null,null,null,null,null,null,null,null,null,null,null,null,null,null,null,null,null,null,null,null,null,null,null,null,"DE01 SET 990",1,null,"DC12 1112:NASI LEMAK",1]
[null,null,null,null,null,null,null,null,null,null,null,null,null,null,null,null,null,null,null,null,null,null,null,null,null,null,null,null,null,null,null,null,null,null,null,null,null,null,null,null,null,null,null,null,null,null,null,null,null,"DE01 SET 990",1,null,"DC15 1115:CHK NOODLE",1]
[null,null,null,null,null,null,null,null,null,null,null,null,null,null,null,null,null,null,null,null,null,null,null,null,null,null,null,null,null,null,null,null,null,null,null,null,null,null,null,null,null,null,null,null,null,null,null,null,null,"DE01 SET 990",1,null,"DC15 1115:CHK NOODLE",1]
[null,null,null,null,null,null,null,null,null,null,null,null,null,null,null,null,null,null,null,null,null,null,null,null,null,null,null,null,null,null,null,null,null,null,null,null,null,null,null,null,null,null,null,null,null,null,null,null,null,"DE01 SET 990",1,null,"DC15 1115:CHK NOODLE",1]
[null,null,null,null,null,null,null,null,null,null,null,null,null,null,null,null,null,null,null,null,null,null,null,null,null,null,null,null,null,null,null,null,null,null,null,null,null,null,null,null,null,null,null,null,null,null,null,null,null,"DE01 SET 990",1,null,"DH01 91101:THAI CHK",1]
[null,null,null,null,null,null,null,null,null,null,null,null,null,null,null,null,null,null,null,null,null,null,null,null,null,null,null,null,null,null,null,null,null,null,null,null,null,null,null,null,null,null,null,null,null,null,null,null,null,"DE01 SET 990",-1,null,"DH01 91101:THAI CHK",1]
[null,null,null,null,null,null,null,null,null,null,null,null,null,null,null,null,null,null,null,null,null,null,null,null,null,null,null,null,null,null,null,null,null,null,null,null,null,null,null,null,null,null,null,null,null,null,null,null,null,"DE01 SET 990",1,null,"DH01 91101:THAI CHK",1]
[null,null,null,null,null,null,null,null,null,null,null,null,null,null,null,null,null,null,null,null,null,null,null,null,null,null,null,null,null,null,null,null,null,null,null,null,null,null,null,null,null,null,null,null,null,null,null,null,null,"DF03 ADD SAUCE 1000",1,null,"DH01 91101:THAI CHK",2]
[null,null,null,null,null,null,null,null,null,null,null,null,null,null,null,null,null,null,null,null,null,null,null,null,null,null,null,null,null,null,null,null,null,null,null,null,null,null,null,null,null,null,null,null,null,null,null,null,null,"DF05 ADD SAUCE BP",1,null,"DH01 91101:THAI CHK",3]
[null,null,null,null,null,null,null,null,null,null,null,null,null,null,null,null,null,null,null,null,null,null,null,null,null,null,null,null,null,null,null,null,null,null,null,null,null,null,null,null,null,null,null,null,null,null,null,null,null,"DF05 ADD SAUCE BP",1,null,"DH01 91101:THAI CHK",2]
[null,null,null,null,null,null,null,null,null,null,null,null,null,null,null,null,null,null,null,null,null,null,null,null,null,null,null,null,null,null,null,null,null,null,null,null,null,null,null,null,null,null,null,null,null,null,null,null,null,"DF07 ADD SAUCE C.PADI",1,null,"DH01 91101:THAI CHK",1]
[null,null,null,null,null,null,null,null,null,null,null,null,null,null,null,null,null,null,null,null,null,null,null,null,null,null,null,null,null,null,null,null,null,null,null,null,null,null,null,null,null,null,null,null,null,null,null,null,null,"DF07 ADD SAUCE C.PADI",1,null,"DH01 91101:THAI CHK",1]
[null,null,null,null,null,null,null,null,null,null,null,null,null,null,null,null,null,null,null,null,null,null,null,null,null,null,null,null,null,null,null,null,null,null,null,null,null,null,null,null,null,null,null,null,null,null,null,null,null,"DF09 ADD SAUCE MAYO",1,null,"DH01 91101:THAI CHK",1]
[null,null,null,null,null,null,null,null,null,null,null,null,null,null,null,null,null,null,null,null,null,null,null,null,null,null,null,null,null,null,null,null,null,null,null,null,null,null,null,null,null,null,null,null,null,null,null,null,null,"DF09 ADD SAUCE MAYO",1,null,"DH01 91101:THAI CHK",1]
[null,null,null,null,null,null,null,null,null,null,null,null,null,null,null,null,null,null,null,null,null,null,null,null,null,null,null,null,null,null,null,null,null,null,null,null,null,null,null,null,null,null,null,null,null,null,null,null,null,"DF09 ADD SAUCE MAYO",1,null,"DH01 91101:THAI CHK",1]
[null,null,null,null,null,null,null,null,null,null,null,null,null,null,null,null,null,null,null,null,null,null,null,null,null,null,null,null,null,null,null,null,null,null,null,null,null,null,null,null,null,null,null,null,null,null,null,null,null,"DF09 ADD SAUCE MAYO",2,null,"DH02 91102:MAMITE CHK",1]
[null,null,null,null,null,null,null,null,null,null,null,null,null,null,null,null,null,null,null,null,null,null,null,null,null,null,null,null,null,null,null,null,null,null,null,null,null,null,null,null,null,null,null,null,null,null,null,null,null,"DF12 ADD SAUCE SAMBAL",1,null,"DH02 91102:MAMITE CHK",1]
[null,null,null,null,null,null,null,null,null,null,null,null,null,null,null,null,null,null,null,null,null,null,null,null,null,null,null,null,null,null,null,null,null,null,null,null,null,null,null,null,null,null,null,null,null,null,null,null,null,"DF15 ADD TATA SAUCE",1,null,"DH02 91102:MAMITE CHK",1]
[null,null,null,null,null,null,null,null,null,null,null,null,null,null,null,null,null,null,null,null,null,null,null,null,null,null,null,null,null,null,null,null,null,null,null,null,null,null,null,null,null,null,null,null,null,null,null,null,null,"GA09 LIGHTER",1,null,"DH02 91102:MAMITE CHK",1]
[null,null,null,null,null,null,null,null,null,null,null,null,null,null,null,null,null,null,null,null,null,null,null,null,null,null,null,null,null,null,null,null,null,null,null,null,null,null,null,null,null,null,null,null,null,null,null,null,null,"GC01 CARD NEW",1,null,"DH02 91102:MAMITE CHK",1]
[null,null,null,null,null,null,null,null,null,null,null,null,null,null,null,null,null,null,null,null,null,null,null,null,null,null,null,null,null,null,null,null,null,null,null,null,null,null,null,null,null,null,null,null,null,null,null,null,null,"GC02 CARD REPLACE",1,null,"DH02 91102:MAMITE CHK",1]
[null,null,null,null,null,null,null,null,null,null,null,null,null,null,null,null,null,null,null,null,null,null,null,null,null,null,null,null,null,null,null,null,null,null,null,null,null,null,null,null,null,null,null,null,null,null,null,null,null,"GD02 MIKE COVER 03",1,null,"DH02 91102:MAMITE CHK",1]
[null,null,null,null,null,null,null,null,null,null,null,null,null,null,null,null,null,null,null,null,null,null,null,null,null,null,null,null,null,null,null,null,null,null,null,null,null,null,null,null,null,null,null,null,null,null,null,null,null,"GE01 DUNHILL",1,null,"DH02 91102:MAMITE CHK",1]
[null,null,null,null,null,null,null,null,null,null,null,null,null,null,null,null,null,null,null,null,null,null,null,null,null,null,null,null,null,null,null,null,null,null,null,null,null,null,null,null,null,null,null,null,null,null,null,null,null,"GE01 DUNHILL",1,null,"DH03 91103:KO PO CHK",1]
[null,null,null,null,null,null,null,null,null,null,null,null,null,null,null,null,null,null,null,null,null,null,null,null,null,null,null,null,null,null,null,null,null,null,null,null,null,null,null,null,null,null,null,null,null,null,null,null,null,"GE02 DUNHILL LITE",1,null,"DH03 91103:KO PO CHK",1]
[null,null,null,null,null,null,null,null,null,null,null,null,null,null,null,null,null,null,null,null,null,null,null,null,null,null,null,null,null,null,null,null,null,null,null,null,null,null,null,null,null,null,null,null,null,null,null,null,null,"GE02 DUNHILL LITE",1,null,"DH03 91103:KO PO CHK",1]
[null,null,null,null,null,null,null,null,null,null,null,null,null,null,null,null,null,null,null,null,null,null,null,null,null,null,null,null,null,null,null,null,null,null,null,null,null,null,null,null,null,null,null,null,null,null,null,null,null,"GE03 DUNHILL MT",1,null,"DH03 91103:KO PO CHK",1]
[null,null,null,null,null,null,null,null,null,null,null,null,null,null,null,null,null,null,null,null,null,null,null,null,null,null,null,null,null,null,null,null,null,null,null,null,null,null,null,null,null,null,null,null,null,null,null,null,null,"GE03 DUNHILL MT",2,null,"DH04 91104:S&S CHK",2]
[null,null,null,null,null,null,null,null,null,null,null,null,null,null,null,null,null,null,null,null,null,null,null,null,null,null,null,null,null,null,null,null,null,null,null,null,null,null,null,null,null,null,null,null,null,null,null,null,null,"GE03 DUNHILL MT",-2,null,"DH04 91104:S&S CHK",1]
[null,null,null,null,null,null,null,null,null,null,null,null,null,null,null,null,null,null,null,null,null,null,null,null,null,null,null,null,null,null,null,null,null,null,null,null,null,null,null,null,null,null,null,null,null,null,null,null,null,"GE03 DUNHILL MT",1,null,"DH04 91104:S&S CHK",1]
[null,null,null,null,null,null,null,null,null,null,null,null,null,null,null,null,null,null,null,null,null,null,null,null,null,null,null,null,null,null,null,null,null,null,null,null,null,null,null,null,null,null,null,null,null,null,null,null,null,"GE06 DUNHILL SWITCH",1,null,"DH04 91104:S&S CHK",2]
[null,null,null,null,null,null,null,null,null,null,null,null,null,null,null,null,null,null,null,null,null,null,null,null,null,null,null,null,null,null,null,null,null,null,null,null,null,null,null,null,null,null,null,null,null,null,null,null,null,null,null,null,"DH04 91104:S&S CHK",1]
[null,null,null,null,null,null,null,null,null,null,null,null,null,null,null,null,null,null,null,null,null,null,null,null,null,null,null,null,null,null,null,null,null,null,null,null,null,null,null,null,null,null,null,null,null,null,null,null,null,null,null,null,"DH05 91105:BUTTER CHK",1]
[null,null,null,null,null,null,null,null,null,null,null,null,null,null,null,null,null,null,null,null,null,null,null,null,null,null,null,null,null,null,null,null,null,null,null,null,null,null,null,null,null,null,null,null,null,null,null,null,null,null,null,null,"DH05 91105:BUTTER CHK",1]
[null,null,null,null,null,null,null,null,null,null,null,null,null,null,null,null,null,null,null,null,null,null,null,null,null,null,null,null,null,null,null,null,null,null,null,null,null,null,null,null,null,null,null,null,null,null,null,null,null,null,null,null,"DH05 91105:BUTTER CHK",1]
[null,null,null,null,null,null,null,null,null,null,null,null,null,null,null,null,null,null,null,null,null,null,null,null,null,null,null,null,null,null,null,null,null,null,null,null,null,null,null,null,null,null,null,null,null,null,null,null,null,null,null,null,"DH05 91105:BUTTER CHK",1]
[null,null,null,null,null,null,null,null,null,null,null,null,null,null,null,null,null,null,null,null,null,null,null,null,null,null,null,null,null,null,null,null,null,null,null,null,null,null,null,null,null,null,null,null,null,null,null,null,null,null,null,null,"DH05 91105:BUTTER CHK",1]
[null,null,null,null,null,null,null,null,null,null,null,null,null,null,null,null,null,null,null,null,null,null,null,null,null,null,null,null,null,null,null,null,null,null,null,null,null,null,null,null,null,null,null,null,null,null,null,null,null,null,null,null,"DH05 91105:BUTTER CHK",1]
[null,null,null,null,null,null,null,null,null,null,null,null,null,null,null,null,null,null,null,null,null,null,null,null,null,null,null,null,null,null,null,null,null,null,null,null,null,null,null,null,null,null,null,null,null,null,null,null,null,null,null,null,"DH05 91105:BUTTER CHK",1]
[null,null,null,null,null,null,null,null,null,null,null,null,null,null,null,null,null,null,null,null,null,null,null,null,null,null,null,null,null,null,null,null,null,null,null,null,null,null,null,null,null,null,null,null,null,null,null,null,null,null,null,null,"DH05 91105:BUTTER CHK",1]
[null,null,null,null,null,null,null,null,null,null,null,null,null,null,null,null,null,null,null,null,null,null,null,null,null,null,null,null,null,null,null,null,null,null,null,null,null,null,null,null,null,null,null,null,null,null,null,null,null,null,null,null,"DH06 91106:HK F.RICE",1]
[null,null,null,null,null,null,null,null,null,null,null,null,null,null,null,null,null,null,null,null,null,null,null,null,null,null,null,null,null,null,null,null,null,null,null,null,null,null,null,null,null,null,null,null,null,null,null,null,null,null,null,null,"DH06 91106:HK F.RICE",1]
[null,null,null,null,null,null,null,null,null,null,null,null,null,null,null,null,null,null,null,null,null,null,null,null,null,null,null,null,null,null,null,null,null,null,null,null,null,null,null,null,null,null,null,null,null,null,null,null,null,null,null,null,"DH06 91106:HK F.RICE",1]
[null,null,null,null,null,null,null,null,null,null,null,null,null,null,null,null,null,null,null,null,null,null,null,null,null,null,null,null,null,null,null,null,null,null,null,null,null,null,null,null,null,null,null,null,null,null,null,null,null,null,null,null,"DH06 91106:HK F.RICE",1]
[null,null,null,null,null,null,null,null,null,null,null,null,null,null,null,null,null,null,null,null,null,null,null,null,null,null,null,null,null,null,null,null,null,null,null,null,null,null,null,null,null,null,null,null,null,null,null,null,null,null,null,null,"DH06 91106:HK F.RICE",1]
[null,null,null,null,null,null,null,null,null,null,null,null,null,null,null,null,null,null,null,null,null,null,null,null,null,null,null,null,null,null,null,null,null,null,null,null,null,null,null,null,null,null,null,null,null,null,null,null,null,null,null,null,"DH06 91106:HK F.RICE",1]
[null,null,null,null,null,null,null,null,null,null,null,null,null,null,null,null,null,null,null,null,null,null,null,null,null,null,null,null,null,null,null,null,null,null,null,null,null,null,null,null,null,null,null,null,null,null,null,null,null,null,null,null,"DH06 91106:HK F.RICE",1]
[null,null,null,null,null,null,null,null,null,null,null,null,null,null,null,null,null,null,null,null,null,null,null,null,null,null,null,null,null,null,null,null,null,null,null,null,null,null,null,null,null,null,null,null,null,null,null,null,null,null,null,null,"DH06 91106:HK F.RICE",1]
[null,null,null,null,null,null,null,null,null,null,null,null,null,null,null,null,null,null,null,null,null,null,null,null,null,null,null,null,null,null,null,null,null,null,null,null,null,null,null,null,null,null,null,null,null,null,null,null,null,null,null,null,"DH06 91106:HK F.RICE",1]
[null,null,null,null,null,null,null,null,null,null,null,null,null,null,null,null,null,null,null,null,null,null,null,null,null,null,null,null,null,null,null,null,null,null,null,null,null,null,null,null,null,null,null,null,null,null,null,null,null,null,null,null,"DH07 91107:SBL F.RICE",1]
[null,null,null,null,null,null,null,null,null,null,null,null,null,null,null,null,null,null,null,null,null,null,null,null,null,null,null,null,null,null,null,null,null,null,null,null,null,null,null,null,null,null,null,null,null,null,null,null,null,null,null,null,"DH07 91107:SBL F.RICE",1]
[null,null,null,null,null,null,null,null,null,null,null,null,null,null,null,null,null,null,null,null,null,null,null,null,null,null,null,null,null,null,null,null,null,null,null,null,null,null,null,null,null,null,null,null,null,null,null,null,null,null,null,null,"DH07 91107:SBL F.RICE",1]
[null,null,null,null,null,null,null,null,null,null,null,null,null,null,null,null,null,null,null,null,null,null,null,null,null,null,null,null,null,null,null,null,null,null,null,null,null,null,null,null,null,null,null,null,null,null,null,null,null,null,null,null,"DH07 91107:SBL F.RICE",1]
[null,null,null,null,null,null,null,null,null,null,null,null,null,null,null,null,null,null,null,null,null,null,null,null,null,null,null,null,null,null,null,null,null,null,null,null,null,null,null,null,null,null,null,null,null,null,null,null,null,null,null,null,"DH07 91107:SBL F.RICE",2]
[null,null,null,null,null,null,null,null,null,null,null,null,null,null,null,null,null,null,null,null,null,null,null,null,null,null,null,null,null,null,null,null,null,null,null,null,null,null,null,null,null,null,null,null,null,null,null,null,null,null,null,null,"DH07 91107:SBL F.RICE",1]
[null,null,null,null,null,null,null,null,null,null,null,null,null,null,null,null,null,null,null,null,null,null,null,null,null,null,null,null,null,null,null,null,null,null,null,null,null,null,null,null,null,null,null,null,null,null,null,null,null,null,null,null,"DH09 91109:BP UDON",1]
[null,null,null,null,null,null,null,null,null,null,null,null,null,null,null,null,null,null,null,null,null,null,null,null,null,null,null,null,null,null,null,null,null,null,null,null,null,null,null,null,null,null,null,null,null,null,null,null,null,null,null,null,"DH09 91109:BP UDON",1]
[null,null,null,null,null,null,null,null,null,null,null,null,null,null,null,null,null,null,null,null,null,null,null,null,null,null,null,null,null,null,null,null,null,null,null,null,null,null,null,null,null,null,null,null,null,null,null,null,null,null,null,null,"DH09 91109:BP UDON",2]
[null,null,null,null,null,null,null,null,null,null,null,null,null,null,null,null,null,null,null,null,null,null,null,null,null,null,null,null,null,null,null,null,null,null,null,null,null,null,null,null,null,null,null,null,null,null,null,null,null,null,null,null,"DH09 91109:BP UDON",1]
[null,null,null,null,null,null,null,null,null,null,null,null,null,null,null,null,null,null,null,null,null,null,null,null,null,null,null,null,null,null,null,null,null,null,null,null,null,null,null,null,null,null,null,null,null,null,null,null,null,null,null,null,"DH10 91110:NISSIN",1]
[null,null,null,null,null,null,null,null,null,null,null,null,null,null,null,null,null,null,null,null,null,null,null,null,null,null,null,null,null,null,null,null,null,null,null,null,null,null,null,null,null,null,null,null,null,null,null,null,null,null,null,null,"DH10 91110:NISSIN",1]
[null,null,null,null,null,null,null,null,null,null,null,null,null,null,null,null,null,null,null,null,null,null,null,null,null,null,null,null,null,null,null,null,null,null,null,null,null,null,null,null,null,null,null,null,null,null,null,null,null,null,null,null,"DH10 91110:NISSIN",1]
[null,null,null,null,null,null,null,null,null,null,null,null,null,null,null,null,null,null,null,null,null,null,null,null,null,null,null,null,null,null,null,null,null,null,null,null,null,null,null,null,null,null,null,null,null,null,null,null,null,null,null,null,"DH10 91110:NISSIN",1]
[null,null,null,null,null,null,null,null,null,null,null,null,null,null,null,null,null,null,null,null,null,null,null,null,null,null,null,null,null,null,null,null,null,null,null,null,null,null,null,null,null,null,null,null,null,null,null,null,null,null,null,null,"DH10 91110:NISSIN",1]
[null,null,null,null,null,null,null,null,null,null,null,null,null,null,null,null,null,null,null,null,null,null,null,null,null,null,null,null,null,null,null,null,null,null,null,null,null,null,null,null,null,null,null,null,null,null,null,null,null,null,null,null,"DH11 91111:VEG RICE",1]
[null,null,null,null,null,null,null,null,null,null,null,null,null,null,null,null,null,null,null,null,null,null,null,null,null,null,null,null,null,null,null,null,null,null,null,null,null,null,null,null,null,null,null,null,null,null,null,null,null,null,null,null,"DH11 91111:VEG RICE",2]
[null,null,null,null,null,null,null,null,null,null,null,null,null,null,null,null,null,null,null,null,null,null,null,null,null,null,null,null,null,null,null,null,null,null,null,null,null,null,null,null,null,null,null,null,null,null,null,null,null,null,null,null,"DH11 91111:VEG RICE",1]
[null,null,null,null,null,null,null,null,null,null,null,null,null,null,null,null,null,null,null,null,null,null,null,null,null,null,null,null,null,null,null,null,null,null,null,null,null,null,null,null,null,null,null,null,null,null,null,null,null,null,null,null,"DH12 91112:NASI LEMAK",1]
[null,null,null,null,null,null,null,null,null,null,null,null,null,null,null,null,null,null,null,null,null,null,null,null,null,null,null,null,null,null,null,null,null,null,null,null,null,null,null,null,null,null,null,null,null,null,null,null,null,null,null,null,"DH12 91112:NASI LEMAK",1]
[null,null,null,null,null,null,null,null,null,null,null,null,null,null,null,null,null,null,null,null,null,null,null,null,null,null,null,null,null,null,null,null,null,null,null,null,null,null,null,null,null,null,null,null,null,null,null,null,null,null,null,null,"DH12 91112:NASI LEMAK",2]
[null,null,null,null,null,null,null,null,null,null,null,null,null,null,null,null,null,null,null,null,null,null,null,null,null,null,null,null,null,null,null,null,null,null,null,null,null,null,null,null,null,null,null,null,null,null,null,null,null,null,null,null,"DH12 91112:NASI LEMAK",1]
[null,null,null,null,null,null,null,null,null,null,null,null,null,null,null,null,null,null,null,null,null,null,null,null,null,null,null,null,null,null,null,null,null,null,null,null,null,null,null,null,null,null,null,null,null,null,null,null,null,null,null,null,"DH12 91112:NASI LEMAK",1]
[null,null,null,null,null,null,null,null,null,null,null,null,null,null,null,null,null,null,null,null,null,null,null,null,null,null,null,null,null,null,null,null,null,null,null,null,null,null,null,null,null,null,null,null,null,null,null,null,null,null,null,null,"DH14 91114:F.BALL MEE",1]
[null,null,null,null,null,null,null,null,null,null,null,null,null,null,null,null,null,null,null,null,null,null,null,null,null,null,null,null,null,null,null,null,null,null,null,null,null,null,null,null,null,null,null,null,null,null,null,null,null,null,null,null,"DH15 91115:CHK NOODLE",1]
[null,null,null,null,null,null,null,null,null,null,null,null,null,null,null,null,null,null,null,null,null,null,null,null,null,null,null,null,null,null,null,null,null,null,null,null,null,null,null,null,null,null,null,null,null,null,null,null,null,null,null,null,"DH15 91115:CHK NOODLE",1]
[null,null,null,null,null,null,null,null,null,null,null,null,null,null,null,null,null,null,null,null,null,null,null,null,null,null,null,null,null,null,null,null,null,null,null,null,null,null,null,null,null,null,null,null,null,null,null,null,null,null,null,null,"DH15 91115:CHK NOODLE",1]
[null,null,null,null,null,null,null,null,null,null,null,null,null,null,null,null,null,null,null,null,null,null,null,null,null,null,null,null,null,null,null,null,null,null,null,null,null,null,null,null,null,null,null,null,null,null,null,null,null,null,null,null,"DD02 1202:FREN FRIES",1]
[null,null,null,null,null,null,null,null,null,null,null,null,null,null,null,null,null,null,null,null,null,null,null,null,null,null,null,null,null,null,null,null,null,null,null,null,null,null,null,null,null,null,null,null,null,null,null,null,null,null,null,null,"DD07 1207:SAUSAGE",1]
[null,null,null,null,null,null,null,null,null,null,null,null,null,null,null,null,null,null,null,null,null,null,null,null,null,null,null,null,null,null,null,null,null,null,null,null,null,null,null,null,null,null,null,null,null,null,null,null,null,null,null,null,"DD12 1303:CHK WING",1]
[null,null,null,null,null,null,null,null,null,null,null,null,null,null,null,null,null,null,null,null,null,null,null,null,null,null,null,null,null,null,null,null,null,null,null,null,null,null,null,null,null,null,null,null,null,null,null,null,null,null,null,null,"DI02 91202:FREN FRIES",1]
[null,null,null,null,null,null,null,null,null,null,null,null,null,null,null,null,null,null,null,null,null,null,null,null,null,null,null,null,null,null,null,null,null,null,null,null,null,null,null,null,null,null,null,null,null,null,null,null,null,null,null,null,"DI02 91202:FREN FRIES",1]
[null,null,null,null,null,null,null,null,null,null,null,null,null,null,null,null,null,null,null,null,null,null,null,null,null,null,null,null,null,null,null,null,null,null,null,null,null,null,null,null,null,null,null,null,null,null,null,null,null,null,null,null,"DI04 91204:FISHBALL",1]
[null,null,null,null,null,null,null,null,null,null,null,null,null,null,null,null,null,null,null,null,null,null,null,null,null,null,null,null,null,null,null,null,null,null,null,null,null,null,null,null,null,null,null,null,null,null,null,null,null,null,null,null,"DI06 91206:SPRING RL",1]
[null,null,null,null,null,null,null,null,null,null,null,null,null,null,null,null,null,null,null,null,null,null,null,null,null,null,null,null,null,null,null,null,null,null,null,null,null,null,null,null,null,null,null,null,null,null,null,null,null,null,null,null,"DI10 91301:DUMPLING",1]
[null,null,null,null,null,null,null,null,null,null,null,null,null,null,null,null,null,null,null,null,null,null,null,null,null,null,null,null,null,null,null,null,null,null,null,null,null,null,null,null,null,null,null,null,null,null,null,null,null,null,null,null,"DI11 91302:NUGGET",1]
[null,null,null,null,null,null,null,null,null,null,null,null,null,null,null,null,null,null,null,null,null,null,null,null,null,null,null,null,null,null,null,null,null,null,null,null,null,null,null,null,null,null,null,null,null,null,null,null,null,null,null,null,"DI11 91302:NUGGET",1]
[null,null,null,null,null,null,null,null,null,null,null,null,null,null,null,null,null,null,null,null,null,null,null,null,null,null,null,null,null,null,null,null,null,null,null,null,null,null,null,null,null,null,null,null,null,null,null,null,null,null,null,null,"DI12 91303:CHK WING",1]
[null,null,null,null,null,null,null,null,null,null,null,null,null,null,null,null,null,null,null,null,null,null,null,null,null,null,null,null,null,null,null,null,null,null,null,null,null,null,null,null,null,null,null,null,null,null,null,null,null,null,null,null,"DD16 McCain AlaCarte",1]
[null,null,null,null,null,null,null,null,null,null,null,null,null,null,null,null,null,null,null,null,null,null,null,null,null,null,null,null,null,null,null,null,null,null,null,null,null,null,null,null,null,null,null,null,null,null,null,null,null,null,null,null,"DD16 McCain AlaCarte",1]
[null,null,null,null,null,null,null,null,null,null,null,null,null,null,null,null,null,null,null,null,null,null,null,null,null,null,null,null,null,null,null,null,null,null,null,null,null,null,null,null,null,null,null,null,null,null,null,null,null,null,null,null,"DD16 McCain AlaCarte",1]
[null,null,null,null,null,null,null,null,null,null,null,null,null,null,null,null,null,null,null,null,null,null,null,null,null,null,null,null,null,null,null,null,null,null,null,null,null,null,null,null,null,null,null,null,null,null,null,null,null,null,null,null,"DD16 McCain AlaCarte",1]
[null,null,null,null,null,null,null,null,null,null,null,null,null,null,null,null,null,null,null,null,null,null,null,null,null,null,null,null,null,null,null,null,null,null,null,null,null,null,null,null,null,null,null,null,null,null,null,null,null,null,null,null,"DD16 McCain AlaCarte",1]
[null,null,null,null,null,null,null,null,null,null,null,null,null,null,null,null,null,null,null,null,null,null,null,null,null,null,null,null,null,null,null,null,null,null,null,null,null,null,null,null,null,null,null,null,null,null,null,null,null,null,null,null,"DD17 McCain Beer",1]
[null,null,null,null,null,null,null,null,null,null,null,null,null,null,null,null,null,null,null,null,null,null,null,null,null,null,null,null,null,null,null,null,null,null,null,null,null,null,null,null,null,null,null,null,null,null,null,null,null,null,null,null,"DD17 McCain Beer",1]
[null,null,null,null,null,null,null,null,null,null,null,null,null,null,null,null,null,null,null,null,null,null,null,null,null,null,null,null,null,null,null,null,null,null,null,null,null,null,null,null,null,null,null,null,null,null,null,null,null,null,null,null,"DE02 SET 1390",1]
[null,null,null,null,null,null,null,null,null,null,null,null,null,null,null,null,null,null,null,null,null,null,null,null,null,null,null,null,null,null,null,null,null,null,null,null,null,null,null,null,null,null,null,null,null,null,null,null,null,null,null,null,"DE02 SET 1390",1]
[null,null,null,null,null,null,null,null,null,null,null,null,null,null,null,null,null,null,null,null,null,null,null,null,null,null,null,null,null,null,null,null,null,null,null,null,null,null,null,null,null,null,null,null,null,null,null,null,null,null,null,null,"DE02 SET 1390",1]
[null,null,null,null,null,null,null,null,null,null,null,null,null,null,null,null,null,null,null,null,null,null,null,null,null,null,null,null,null,null,null,null,null,null,null,null,null,null,null,null,null,null,null,null,null,null,null,null,null,null,null,null,"DE02 SET 1390",1]
[null,null,null,null,null,null,null,null,null,null,null,null,null,null,null,null,null,null,null,null,null,null,null,null,null,null,null,null,null,null,null,null,null,null,null,null,null,null,null,null,null,null,null,null,null,null,null,null,null,null,null,null,"DE02 SET 1390",1]
[null,null,null,null,null,null,null,null,null,null,null,null,null,null,null,null,null,null,null,null,null,null,null,null,null,null,null,null,null,null,null,null,null,null,null,null,null,null,null,null,null,null,null,null,null,null,null,null,null,null,null,null,"DE02 SET 1390",1]
[null,null,null,null,null,null,null,null,null,null,null,null,null,null,null,null,null,null,null,null,null,null,null,null,null,null,null,null,null,null,null,null,null,null,null,null,null,null,null,null,null,null,null,null,null,null,null,null,null,null,null,null,"DE02 SET 1390",1]
[null,null,null,null,null,null,null,null,null,null,null,null,null,null,null,null,null,null,null,null,null,null,null,null,null,null,null,null,null,null,null,null,null,null,null,null,null,null,null,null,null,null,null,null,null,null,null,null,null,null,null,null,"DE02 SET 1390",1]
[null,null,null,null,null,null,null,null,null,null,null,null,null,null,null,null,null,null,null,null,null,null,null,null,null,null,null,null,null,null,null,null,null,null,null,null,null,null,null,null,null,null,null,null,null,null,null,null,null,null,null,null,"DE01 SET 990",1]
[null,null,null,null,null,null,null,null,null,null,null,null,null,null,null,null,null,null,null,null,null,null,null,null,null,null,null,null,null,null,null,null,null,null,null,null,null,null,null,null,null,null,null,null,null,null,null,null,null,null,null,null,"DE01 SET 990",1]
[null,null,null,null,null,null,null,null,null,null,null,null,null,null,null,null,null,null,null,null,null,null,null,null,null,null,null,null,null,null,null,null,null,null,null,null,null,null,null,null,null,null,null,null,null,null,null,null,null,null,null,null,"DE01 SET 990",1]
[null,null,null,null,null,null,null,null,null,null,null,null,null,null,null,null,null,null,null,null,null,null,null,null,null,null,null,null,null,null,null,null,null,null,null,null,null,null,null,null,null,null,null,null,null,null,null,null,null,null,null,null,"DE01 SET 990",1]
[null,null,null,null,null,null,null,null,null,null,null,null,null,null,null,null,null,null,null,null,null,null,null,null,null,null,null,null,null,null,null,null,null,null,null,null,null,null,null,null,null,null,null,null,null,null,null,null,null,null,null,null,"DE01 SET 990",1]
[null,null,null,null,null,null,null,null,null,null,null,null,null,null,null,null,null,null,null,null,null,null,null,null,null,null,null,null,null,null,null,null,null,null,null,null,null,null,null,null,null,null,null,null,null,null,null,null,null,null,null,null,"DE01 SET 990",1]
[null,null,null,null,null,null,null,null,null,null,null,null,null,null,null,null,null,null,null,null,null,null,null,null,null,null,null,null,null,null,null,null,null,null,null,null,null,null,null,null,null,null,null,null,null,null,null,null,null,null,null,null,"DE01 SET 990",1]
[null,null,null,null,null,null,null,null,null,null,null,null,null,null,null,null,null,null,null,null,null,null,null,null,null,null,null,null,null,null,null,null,null,null,null,null,null,null,null,null,null,null,null,null,null,null,null,null,null,null,null,null,"DE01 SET 990",1]
[null,null,null,null,null,null,null,null,null,null,null,null,null,null,null,null,null,null,null,null,null,null,null,null,null,null,null,null,null,null,null,null,null,null,null,null,null,null,null,null,null,null,null,null,null,null,null,null,null,null,null,null,"DE01 SET 990",1]
[null,null,null,null,null,null,null,null,null,null,null,null,null,null,null,null,null,null,null,null,null,null,null,null,null,null,null,null,null,null,null,null,null,null,null,null,null,null,null,null,null,null,null,null,null,null,null,null,null,null,null,null,"DE01 SET 990",1]
[null,null,null,null,null,null,null,null,null,null,null,null,null,null,null,null,null,null,null,null,null,null,null,null,null,null,null,null,null,null,null,null,null,null,null,null,null,null,null,null,null,null,null,null,null,null,null,null,null,null,null,null,"DE01 SET 990",1]
[null,null,null,null,null,null,null,null,null,null,null,null,null,null,null,null,null,null,null,null,null,null,null,null,null,null,null,null,null,null,null,null,null,null,null,null,null,null,null,null,null,null,null,null,null,null,null,null,null,null,null,null,"DF07 ADD SAUCE C.PADI",1]
[null,null,null,null,null,null,null,null,null,null,null,null,null,null,null,null,null,null,null,null,null,null,null,null,null,null,null,null,null,null,null,null,null,null,null,null,null,null,null,null,null,null,null,null,null,null,null,null,null,null,null,null,"DF07 ADD SAUCE C.PADI",1]
[null,null,null,null,null,null,null,null,null,null,null,null,null,null,null,null,null,null,null,null,null,null,null,null,null,null,null,null,null,null,null,null,null,null,null,null,null,null,null,null,null,null,null,null,null,null,null,null,null,null,null,null,"DF09 ADD SAUCE MAYO",1]
[null,null,null,null,null,null,null,null,null,null,null,null,null,null,null,null,null,null,null,null,null,null,null,null,null,null,null,null,null,null,null,null,null,null,null,null,null,null,null,null,null,null,null,null,null,null,null,null,null,null,null,null,"DF09 ADD SAUCE MAYO",1]
[null,null,null,null,null,null,null,null,null,null,null,null,null,null,null,null,null,null,null,null,null,null,null,null,null,null,null,null,null,null,null,null,null,null,null,null,null,null,null,null,null,null,null,null,null,null,null,null,null,null,null,null,"DF09 ADD SAUCE MAYO",1]
[null,null,null,null,null,null,null,null,null,null,null,null,null,null,null,null,null,null,null,null,null,null,null,null,null,null,null,null,null,null,null,null,null,null,null,null,null,null,null,null,null,null,null,null,null,null,null,null,null,null,null,null,"DF13 ADD SAUCE THAI",2]
[null,null,null,null,null,null,null,null,null,null,null,null,null,null,null,null,null,null,null,null,null,null,null,null,null,null,null,null,null,null,null,null,null,null,null,null,null,null,null,null,null,null,null,null,null,null,null,null,null,null,null,null,"DF15 ADD TATA SAUCE",1]
[null,null,null,null,null,null,null,null,null,null,null,null,null,null,null,null,null,null,null,null,null,null,null,null,null,null,null,null,null,null,null,null,null,null,null,null,null,null,null,null,null,null,null,null,null,null,null,null,null,null,null,null,"EA01 TIDBITS",4]
[null,null,null,null,null,null,null,null,null,null,null,null,null,null,null,null,null,null,null,null,null,null,null,null,null,null,null,null,null,null,null,null,null,null,null,null,null,null,null,null,null,null,null,null,null,null,null,null,null,null,null,null,"EA01 TIDBITS",-4]
[null,null,null,null,null,null,null,null,null,null,null,null,null,null,null,null,null,null,null,null,null,null,null,null,null,null,null,null,null,null,null,null,null,null,null,null,null,null,null,null,null,null,null,null,null,null,null,null,null,null,null,null,"GA09 LIGHTER",1]
[null,null,null,null,null,null,null,null,null,null,null,null,null,null,null,null,null,null,null,null,null,null,null,null,null,null,null,null,null,null,null,null,null,null,null,null,null,null,null,null,null,null,null,null,null,null,null,null,null,null,null,null,"GC01 CARD NEW",1]
[null,null,null,null,null,null,null,null,null,null,null,null,null,null,null,null,null,null,null,null,null,null,null,null,null,null,null,null,null,null,null,null,null,null,null,null,null,null,null,null,null,null,null,null,null,null,null,null,null,null,null,null,"GC01 CARD NEW",1]
[null,null,null,null,null,null,null,null,null,null,null,null,null,null,null,null,null,null,null,null,null,null,null,null,null,null,null,null,null,null,null,null,null,null,null,null,null,null,null,null,null,null,null,null,null,null,null,null,null,null,null,null,"GC01 CARD NEW",-1]
[null,null,null,null,null,null,null,null,null,null,null,null,null,null,null,null,null,null,null,null,null,null,null,null,null,null,null,null,null,null,null,null,null,null,null,null,null,null,null,null,null,null,null,null,null,null,null,null,null,null,null,null,"GC01 CARD NEW",1]
[null,null,null,null,null,null,null,null,null,null,null,null,null,null,null,null,null,null,null,null,null,null,null,null,null,null,null,null,null,null,null,null,null,null,null,null,null,null,null,null,null,null,null,null,null,null,null,null,null,null,null,null,"GD02 MIKE COVER 03",1]
[null,null,null,null,null,null,null,null,null,null,null,null,null,null,null,null,null,null,null,null,null,null,null,null,null,null,null,null,null,null,null,null,null,null,null,null,null,null,null,null,null,null,null,null,null,null,null,null,null,null,null,null,"GD02 MIKE COVER 03",1]
[null,null,null,null,null,null,null,null,null,null,null,null,null,null,null,null,null,null,null,null,null,null,null,null,null,null,null,null,null,null,null,null,null,null,null,null,null,null,null,null,null,null,null,null,null,null,null,null,null,null,null,null,"GD02 MIKE COVER 03",1]
[null,null,null,null,null,null,null,null,null,null,null,null,null,null,null,null,null,null,null,null,null,null,null,null,null,null,null,null,null,null,null,null,null,null,null,null,null,null,null,null,null,null,null,null,null,null,null,null,null,null,null,null,"GD02 MIKE COVER 03",1]
[null,null,null,null,null,null,null,null,null,null,null,null,null,null,null,null,null,null,null,null,null,null,null,null,null,null,null,null,null,null,null,null,null,null,null,null,null,null,null,null,null,null,null,null,null,null,null,null,null,null,null,null,"GD02 MIKE COVER 03",1]
[null,null,null,null,null,null,null,null,null,null,null,null,null,null,null,null,null,null,null,null,null,null,null,null,null,null,null,null,null,null,null,null,null,null,null,null,null,null,null,null,null,null,null,null,null,null,null,null,null,null,null,null,"GD02 MIKE COVER 03",1]
[null,null,null,null,null,null,null,null,null,null,null,null,null,null,null,null,null,null,null,null,null,null,null,null,null,null,null,null,null,null,null,null,null,null,null,null,null,null,null,null,null,null,null,null,null,null,null,null,null,null,null,null,"GD02 MIKE COVER 03",1]
[null,null,null,null,null,null,null,null,null,null,null,null,null,null,null,null,null,null,null,null,null,null,null,null,null,null,null,null,null,null,null,null,null,null,null,null,null,null,null,null,null,null,null,null,null,null,null,null,null,null,null,null,"GD02 MIKE COVER 03",1]
[null,null,null,null,null,null,null,null,null,null,null,null,null,null,null,null,null,null,null,null,null,null,null,null,null,null,null,null,null,null,null,null,null,null,null,null,null,null,null,null,null,null,null,null,null,null,null,null,null,null,null,null,"GD02 MIKE COVER 03",1]
[null,null,null,null,null,null,null,null,null,null,null,null,null,null,null,null,null,null,null,null,null,null,null,null,null,null,null,null,null,null,null,null,null,null,null,null,null,null,null,null,null,null,null,null,null,null,null,null,null,null,null,null,"GE01 DUNHILL",1]
[null,null,null,null,null,null,null,null,null,null,null,null,null,null,null,null,null,null,null,null,null,null,null,null,null,null,null,null,null,null,null,null,null,null,null,null,null,null,null,null,null,null,null,null,null,null,null,null,null,null,null,null,"GE07 DUNHILL ICE",2]

{"sheet":"STOCK ANALYSIS","index":3,"n_rows":88,"n_cols":19,"rows_kept":88,"cut":false,"hidden":false,"merged":[[72,1,72,4],[32,1,32,2],[44,1,44,2],[17,18,18,18],[65,1,65,4],[62,1,62,2],[6,3,6,4],[9,3,9,4]]}
[]
[]
[null,null,"MONTHLY KITCHEN STOCK SUMMARY "]
[null,null,"每月厨房货物总结表"]
[]
[]
[null,null,"OUTLET KITCHEN ","SBA"]
[null,null,"分行厨房"]
[]
[null,null,"YEAR / MONTH","SEPT 2013"]
[null,null,"年/月"]
[]
[]
[]
[null,"ITEM","PRODUCT DESCRIPTION","PRICE","UOM","FOR SBA KITCHEN "]
[null,"项目","食材产品","价格","单位","A","B","C","D","E","F","G","H","I","J","K","L","M","N"]
[null,null,null,null,null,null,null,null,null,null,null,null,"=C+D+E+F+G","=A+B-H",null,"=J-I","=K / I","=UP*K","=K / H"]
[null,null,null,null,null,"OPENING","PURCHASE","USAGE ","USAGE ","DISPOSED","CUSTOMER REQUEST /","USAGE ","TOTAL","BOOKING","STOCK ","DIFF.","DIFF.","LOSS/GAIN","STOCK DIFF OVER USAGE"]
[null,null,null,null,null,"STOCK",null,"IN K LUNCH & K DINNER","IN SIDE ORDER","STOCK","STAFF MEAL","IN OTHER ","USAGE ","INVENTORY","TAKE "]
[null,null,null,null,null,"上月存货","购买数量","K LUNCH / DINNER  用量","附加菜 用量","本月抛弃","顾客请求/员工餐","其他用途","总用量","账面存货","本月点货","差异","%差异","盈亏 (RM)"]
[]
["MAIN SAUCE 主要酱料 "]
[null,1,"BLACK PEPPER SAUCE",3.88,"KG ",1.4,34.700000000000003,{"$f":"SUMIF('SAUCE USAGE'!$G$28:$G$62,C23,'SAUCE USAGE'!$I$28:$I$62)/1000","v":41.13},{"$f":"SUMIF('SAUCE USAGE'!$G$65:$G$99,C23,'SAUCE USAGE'!$I$65:$I$99)/1000","v":6.48},null,{"$f":"SUMIF('SAUCE USAGE'!$G$12:$G$25,C23,'SAUCE USAGE'!$I$12:$I$25)/1000","v":0.64},null,{"$f":"SUM(H23:L23)","v":48.25},{"$f":"+F23+G23-M23","v":-12.149999999999999},{"$f":"SUMIF('CLOSING STOCK'!$B$114:$B$128,'STOCK ANALYSIS'!C23,'CLOSING STOCK'!$L$114:$L$129)","v":6.7},{"$f":"+O23-N23","v":18.849999999999998},{"$f":"IF(N23=0,\"\",P23/N23)","v":-1.5514403292181069},{"$f":"+P23*D23","v":73.137999999999991},{"$f":"+P23/M23","v":0.39067357512953366}]
[null,{"$f":"+B23+1","v":2},"BLACK PEPPER SAUCE (UDON)",3.88,"KG ",2.1,7.1,{"$f":"SUMIF('SAUCE USAGE'!$G$28:$G$62,C24,'SAUCE USAGE'!$I$28:$I$62)/1000","v":4.0599999999999996},{"$f":"SUMIF('SAUCE USAGE'!$G$65:$G$99,C24,'SAUCE USAGE'!$I$65:$I$99)/1000","v":2.31},null,{"$f":"SUMIF('SAUCE USAGE'!$G$12:$G$25,C24,'SAUCE USAGE'!$I$12:$I$25)/1000","v":0},null,6.3699999999999992,2.83,{"$f":"SUMIF('CLOSING STOCK'!$B$114:$B$128,'STOCK ANALYSIS'!C24,'CLOSING STOCK'!$L$114:$L$129)","v":1},-1.83,-0.64664310954063609,-7.1004000000000005,{"$f":"+P24/M24","v":-0.28728414442700162}]
[null,{"$f":"+B24+1","v":3},"BOLOGNESE SAUCE",11.35,"KG ",6,22.5,{"$f":"SUMIF('SAUCE USAGE'!$G$28:$G$62,C25,'SAUCE USAGE'!$I$28:$I$62)/1000","v":30.15},{"$f":"SUMIF('SAUCE USAGE'!$G$65:$G$99,C25,'SAUCE USAGE'!$I$65:$I$99)/1000","v":5.4},null,{"$f":"SUMIF('SAUCE USAGE'!$G$12:$G$25,C25,'SAUCE USAGE'!$I$12:$I$25)/1000","v":0},null,35.549999999999997,-7.0499999999999972,{"$f":"SUMIF('CLOSING STOCK'!$B$114:$B$128,'STOCK ANALYSIS'!C25,'CLOSING STOCK'!$L$114:$L$129)","v":23},30.049999999999997,-4.2624113475177321,341.06749999999994,0.84528832630098449]
[null,4,"BUTTER CREAM SAUCE",5.9,"KG ",0.6,23.5,{"$f":"SUMIF('SAUCE USAGE'!$G$28:$G$62,C26,'SAUCE USAGE'!$I$28:$I$62)/1000","v":23.774999999999999},{"$f":"SUMIF('SAUCE USAGE'!$G$65:$G$99,C26,'SAUCE USAGE'!$I$65:$I$99)/1000","v":10.65},null,{"$f":"SUMIF('SAUCE USAGE'!$G$12:$G$25,C26,'SAUCE USAGE'!$I$12:$I$25)/1000","v":0.52},null,{"$f":"SUM(H26:L26)","v":34.945},{"$f":"+F26+G26-M26","v":-10.844999999999999},{"$f":"SUMIF('CLOSING STOCK'!$B$114:$B$128,'STOCK ANALYSIS'!C26,'CLOSING STOCK'!$L$114:$L$129)","v":0.5},{"$f":"+O26-N26","v":11.344999999999999},{"$f":"IF(N26=0,\"\",P26/N26)","v":-1.0461041954817889},{"$f":"+P26*D26","v":66.93549999999999},{"$f":"+P26/M26","v":0.32465302618400338}]
[null,5,"GRAVY SAUCE",3.3,"KG ",0,33,{"$f":"SUMIF('SAUCE USAGE'!$G$28:$G$62,C27,'SAUCE USAGE'!$I$28:$I$62)/1000","v":9.9},{"$f":"SUMIF('SAUCE USAGE'!$G$65:$G$99,C27,'SAUCE USAGE'!$I$65:$I$99)/1000","v":1.08},null,{"$f":"SUMIF('SAUCE USAGE'!$G$12:$G$25,C27,'SAUCE USAGE'!$I$12:$I$25)/1000","v":0.08},null,11.06,21.939999999999998,{"$f":"SUMIF('CLOSING STOCK'!$B$114:$B$128,'STOCK ANALYSIS'!C27,'CLOSING STOCK'!$L$114:$L$129)","v":0},-21.939999999999998,-1,-72.401999999999987,-1.9837251356238694]
[null,6,"MARMITE SAUCE ",2,"KG ",1.8,26.3,{"$f":"SUMIF('SAUCE USAGE'!$G$28:$G$62,C28,'SAUCE USAGE'!$I$28:$I$62)/1000","v":14.08},{"$f":"SUMIF('SAUCE USAGE'!$G$65:$G$99,C28,'SAUCE USAGE'!$I$65:$I$99)/1000","v":5.2},null,{"$f":"SUMIF('SAUCE USAGE'!$G$12:$G$25,C28,'SAUCE USAGE'!$I$12:$I$25)/1000","v":0},null,19.28,8.82,{"$f":"SUMIF('CLOSING STOCK'!$B$114:$B$128,'STOCK ANALYSIS'!C28,'CLOSING STOCK'!$L$114:$L$129)","v":8.5},-0.32000000000000028,-3.6281179138322024E-2,-0.64000000000000057,-1.6597510373443997E-2]
[null,7,"MUSHROOM SAUCE",6.78,"KG ",1,31.3,{"$f":"SUMIF('SAUCE USAGE'!$G$28:$G$62,C29,'SAUCE USAGE'!$I$28:$I$62)/1000","v":35.909999999999997},{"$f":"SUMIF('SAUCE USAGE'!$G$65:$G$99,C29,'SAUCE USAGE'!$I$65:$I$99)/1000","v":3.87},null,{"$f":"SUMIF('SAUCE USAGE'!$G$12:$G$25,C29,'SAUCE USAGE'!$I$12:$I$25)/1000","v":0.72},null,40.499999999999993,-8.1999999999999957,{"$f":"SUMIF('CLOSING STOCK'!$B$114:$B$128,'STOCK ANALYSIS'!C29,'CLOSING STOCK'!$L$114:$L$129)","v":7.2},15.399999999999995,-1.8780487804878052,104.41199999999996,0.38024691358024687]
[null,8,"SAMBAL (FRIED)SAUCE",9.07,"KG ",4.3,14.1,{"$f":"SUMIF('SAUCE USAGE'!$G$28:$G$62,C30,'SAUCE USAGE'!$I$28:$I$62)/1000","v":6.15},{"$f":"SUMIF('SAUCE USAGE'!$G$65:$G$99,C30,'SAUCE USAGE'!$I$65:$I$99)/1000","v":3.75},null,{"$f":"SUMIF('SAUCE USAGE'!$G$12:$G$25,C30,'SAUCE USAGE'!$I$12:$I$25)/1000","v":0},null,9.9,8.4999999999999982,{"$f":"SUMIF('CLOSING STOCK'!$B$114:$B$128,'STOCK ANALYSIS'!C30,'CLOSING STOCK'!$L$114:$L$129)","v":21.9},13.4,1.5764705882352945,121.53800000000001,1.3535353535353536]
[null,9,"SWEET & SOUR SAUCE",1.88,"KG ",3.1,12.2,{"$f":"SUMIF('SAUCE USAGE'!$G$28:$G$62,C31,'SAUCE USAGE'!$I$28:$I$62)/1000","v":13.8},{"$f":"SUMIF('SAUCE USAGE'!$G$65:$G$99,C31,'SAUCE USAGE'!$I$65:$I$99)/1000","v":4.4000000000000004},null,{"$f":"SUMIF('SAUCE USAGE'!$G$12:$G$25,C31,'SAUCE USAGE'!$I$12:$I$25)/1000","v":0},null,18.200000000000003,-2.9000000000000039,{"$f":"SUMIF('CLOSING STOCK'!$B$114:$B$128,'STOCK ANALYSIS'!C31,'CLOSING STOCK'!$L$114:$L$129)","v":9},11.900000000000004,-4.103448275862065,22.372000000000007,{"$f":"+P31/M31","v":0.65384615384615397}]
[]
[null,"GRAND TOTAL ",null,null,null,null,null,null,null,null,null,null,null,null,null,null,null,{"$f":"SUM(R23:R32)","v":649.3205999999999}]
[]
[]
[null,"MAIN COURSE MATERIAL 主餐食材"]
[null,1,"CHICKEN CHOP (MARINATED)",3.34,"PCS",391,2110,{"$f":"SUMIF('K-LUNCH & K DINNER'!$H$9:$H$46,C37,'K-LUNCH & K DINNER'!$J$9:$J$46)","v":2014.68},{"$f":"SUMIF('SIDE ORDER & FOC'!$Q$11:$Q$78,C37,'SIDE ORDER & FOC'!$S$11:$S$78)","v":449.96000000000004},null,4,null,{"$f":"SUM(H37:L37)","v":2468.6400000000003},{"$f":"+F37+G37-M37","v":32.359999999999673},{"$f":"SUMIF('CLOSING STOCK'!$B$12:$B$50,'STOCK ANALYSIS'!C37,'CLOSING STOCK'!$L$12:$L$49)","v":201},{"$f":"+O37-N37","v":168.64000000000033},{"$f":"IF(N37=0,\"\",P37/N37)","v":5.2113720642769481},{"$f":"+P37*D37","v":563.25760000000105},6.8312917233780662E-2]
[]
[null,{"$f":"+B37+1","v":2},"CHICKEN WING  (MARINATED)",1.17,"PCS",109,754,{"$f":"SUMIF('K-LUNCH & K DINNER'!$H$9:$H$46,C39,'K-LUNCH & K DINNER'!$J$9:$J$46)","v":141},{"$f":"SUMIF('SIDE ORDER & FOC'!$Q$11:$Q$78,C39,'SIDE ORDER & FOC'!$S$11:$S$78)","v":561},null,null,null,{"$f":"SUM(H39:L39)","v":702},{"$f":"+F39+G39-M39","v":161},{"$f":"SUMIF('CLOSING STOCK'!$B$12:$B$50,'STOCK ANALYSIS'!C39,'CLOSING STOCK'!$L$12:$L$49)","v":117},{"$f":"+O39-N39","v":-44},-0.27329192546583853]
[null,{"$f":"+B39+1","v":3},"CHICKEN WINGS (NON -MARINATED)",1.17,"PCS",51,280,{"$f":"SUMIF('K-LUNCH & K DINNER'!$H$9:$H$46,C40,'K-LUNCH & K DINNER'!$J$9:$J$46)","v":81},{"$f":"SUMIF('SIDE ORDER & FOC'!$Q$11:$Q$78,C40,'SIDE ORDER & FOC'!$S$11:$S$78)","v":38},2,10,null,131,{"$f":"+F40+G40-M40","v":200},{"$f":"SUMIF('CLOSING STOCK'!$B$12:$B$50,'STOCK ANALYSIS'!C40,'CLOSING STOCK'!$L$12:$L$49)","v":189},-11,-5.5E-2]
[null,null,"CHICKEN WINGS -TOTAL",1.17,"PCS",{"$f":"SUM(F39:F40)","v":160},1034,222,599,2,10,0,833,361,306,{"$f":"SUM(P39:P40)","v":-55},-0.32829192546583852,{"$f":"+P41*D41","v":-64.349999999999994},-6.6026410564225688E-2]
[]
[null,4,"DORY FISH FILLET ",2.4900000000000002,"PCS",83,636,{"$f":"SUMIF('K-LUNCH & K DINNER'!$H$9:$H$46,C43,'K-LUNCH & K DINNER'!$J$9:$J$46)","v":518},{"$f":"SUMIF('SIDE ORDER & FOC'!$Q$11:$Q$78,C43,'SIDE ORDER & FOC'!$S$11:$S$78)","v":61},null,null,null,{"$f":"SUM(H43:L43)","v":579},{"$f":"+F43+G43-M43","v":140},{"$f":"SUMIF('CLOSING STOCK'!$B$12:$B$50,'STOCK ANALYSIS'!C43,'CLOSING STOCK'!$L$12:$L$49)","v":103},{"$f":"+O43-N43","v":-37},-0.26428571428571429,{"$f":"+P43*D43","v":-92.13000000000001},-6.3903281519861826E-2]
[null,null,null,null,null,null,null,null,null,null,null,null,null,null,null,null,""]
[null,"GRAND TOTAL ",null,null,null,null,null,null,null,null,null,null,null,null,null,null,null,{"$f":"SUM(R37:R44)","v":406.77760000000103}]
[]
[null,"SNACKS MATERIAL   小吃食材"]
[null,5,"MCCAIN ONION RING",0.17,"PCS",631,480,{"$f":"SUMIF('K-LUNCH & K DINNER'!$H$9:$H$46,C48,'K-LUNCH & K DINNER'!$J$9:$J$46)","v":0},{"$f":"SUMIF('SIDE ORDER & FOC'!$Q$11:$Q$78,C48,'SIDE ORDER & FOC'!$S$11:$S$78)","v":728},null,null,null,728,{"$f":"+F48+G48-M48","v":383},{"$f":"SUMIF('CLOSING STOCK'!$B$12:$B$50,'STOCK ANALYSIS'!C48,'CLOSING STOCK'!$L$12:$L$49)","v":284},{"$f":"+O48-N48","v":-99},-0.25848563968668409,{"$f":"+P48*D48","v":-16.830000000000002},-0.13598901098901098]
[null,{"$f":"+B48+1","v":6},"MCCAIN SMILES",0.12,"PCS",966,0,{"$f":"SUMIF('K-LUNCH & K DINNER'!$H$9:$H$46,C49,'K-LUNCH & K DINNER'!$J$9:$J$46)","v":0},{"$f":"SUMIF('SIDE ORDER & FOC'!$Q$11:$Q$78,C49,'SIDE ORDER & FOC'!$S$11:$S$78)","v":546},null,null,null,546,{"$f":"+F49+G49-M49","v":420},{"$f":"SUMIF('CLOSING STOCK'!$B$12:$B$50,'STOCK ANALYSIS'!C49,'CLOSING STOCK'!$L$12:$L$49)","v":418},-2,-4.7619047619047623E-3,{"$f":"+P49*D49","v":-0.24},-3.663003663003663E-3]
[null,{"$f":"+B49+1","v":7},"MCCAIN VERSITOT",0.06,"PCS",1847,0,{"$f":"SUMIF('K-LUNCH & K DINNER'!$H$9:$H$46,C50,'K-LUNCH & K DINNER'!$J$9:$J$46)","v":0},{"$f":"SUMIF('SIDE ORDER & FOC'!$Q$11:$Q$78,C50,'SIDE ORDER & FOC'!$S$11:$S$78)","v":728},null,null,null,728,{"$f":"+F50+G50-M50","v":1119},{"$f":"SUMIF('CLOSING STOCK'!$B$12:$B$50,'STOCK ANALYSIS'!C50,'CLOSING STOCK'!$L$12:$L$49)","v":1130},11,9.8302055406613055E-3,{"$f":"+P50*D50","v":0.65999999999999992},1.510989010989011E-2]
[null,8,"MCCAIN SPIRAL FRIES",7.87,"KG",10.7,0,{"$f":"SUMIF('K-LUNCH & K DINNER'!$H$9:$H$46,C51,'K-LUNCH & K DINNER'!$J$9:$J$46)","v":0},{"$f":"SUMIF('SIDE ORDER & FOC'!$Q$11:$Q$78,C51,'SIDE ORDER & FOC'!$S$11:$S$78)","v":10.92},null,null,null,10.92,{"$f":"+F51+G51-M51","v":-0.22000000000000064},{"$f":"SUMIF('CLOSING STOCK'!$B$12:$B$50,'STOCK ANALYSIS'!C51,'CLOSING STOCK'!$L$12:$L$49)","v":0},0.22000000000000064,-1,{"$f":"+P51*D51","v":1.7314000000000052},2.0146520146520207E-2]
[null,9,"CHICKEN NUGGET",0.26,"PCS",124,1296,{"$f":"SUMIF('K-LUNCH & K DINNER'!$H$9:$H$46,C52,'K-LUNCH & K DINNER'!$J$9:$J$46)","v":376},{"$f":"SUMIF('SIDE ORDER & FOC'!$Q$11:$Q$78,C52,'SIDE ORDER & FOC'!$S$11:$S$78)","v":856},null,null,null,1232,{"$f":"+F52+G52-M52","v":188},{"$f":"SUMIF('CLOSING STOCK'!$B$12:$B$50,'STOCK ANALYSIS'!C52,'CLOSING STOCK'!$L$12:$L$49)","v":143},{"$f":"+O52-N52","v":-45},{"$f":"IF(N52=0,\"\",P52/N52)","v":-0.23936170212765959},{"$f":"+P52*D52","v":-11.700000000000001},-3.6525974025974024E-2]
[null,10,"CHICKEN SAUSAGE ",0.23,"PCS",300,600,{"$f":"SUMIF('K-LUNCH & K DINNER'!$H$9:$H$46,C53,'K-LUNCH & K DINNER'!$J$9:$J$46)","v":166},{"$f":"SUMIF('SIDE ORDER & FOC'!$Q$11:$Q$78,C53,'SIDE ORDER & FOC'!$S$11:$S$78)","v":463.5},null,15,null,644.5,255.5,{"$f":"SUMIF('CLOSING STOCK'!$B$12:$B$50,'STOCK ANALYSIS'!C53,'CLOSING STOCK'!$L$12:$L$49)","v":218},-37.5,-0.14677103718199608,-8.625,-5.818463925523662E-2]
[null,11,"DUMPLING ",0.65,"PCS",79,300,{"$f":"SUMIF('K-LUNCH & K DINNER'!$H$9:$H$46,C54,'K-LUNCH & K DINNER'!$J$9:$J$46)","v":48},{"$f":"SUMIF('SIDE ORDER & FOC'!$Q$11:$Q$78,C54,'SIDE ORDER & FOC'!$S$11:$S$78)","v":228},null,null,null,276,103,{"$f":"SUMIF('CLOSING STOCK'!$B$12:$B$50,'STOCK ANALYSIS'!C54,'CLOSING STOCK'!$L$12:$L$49)","v":90},-13,-0.12621359223300971,-8.4500000000000011,-4.710144927536232E-2]
[null,12,"FISH BALL (BIG)",0.24,"PCS",26,320,{"$f":"SUMIF('K-LUNCH & K DINNER'!$H$9:$H$46,C55,'K-LUNCH & K DINNER'!$J$9:$J$46)","v":24},{"$f":"SUMIF('SIDE ORDER & FOC'!$Q$11:$Q$78,C55,'SIDE ORDER & FOC'!$S$11:$S$78)","v":252},null,null,null,276,70,{"$f":"SUMIF('CLOSING STOCK'!$B$12:$B$50,'STOCK ANALYSIS'!C55,'CLOSING STOCK'!$L$12:$L$49)","v":45},-25,-0.35714285714285715,-6,-9.0579710144927536E-2]
[null,13,"FISH BALL (SMALL)",0.1,"PCS",40,400,{"$f":"SUMIF('K-LUNCH & K DINNER'!$H$9:$H$46,C56,'K-LUNCH & K DINNER'!$J$9:$J$46)","v":195},{"$f":"SUMIF('SIDE ORDER & FOC'!$Q$11:$Q$78,C56,'SIDE ORDER & FOC'!$S$11:$S$78)","v":30},null,null,null,225,215,{"$f":"SUMIF('CLOSING STOCK'!$B$12:$B$50,'STOCK ANALYSIS'!C56,'CLOSING STOCK'!$L$12:$L$49)","v":202},-13,-6.0465116279069767E-2,-1.3,-5.7777777777777775E-2]
[null,14,"RAINBOW ROLL",1.96,"PCS",7,25,{"$f":"SUMIF('K-LUNCH & K DINNER'!$H$9:$H$46,C57,'K-LUNCH & K DINNER'!$J$9:$J$46)","v":5},{"$f":"SUMIF('SIDE ORDER & FOC'!$Q$11:$Q$78,C57,'SIDE ORDER & FOC'!$S$11:$S$78)","v":14},null,null,null,19,13,{"$f":"SUMIF('CLOSING STOCK'!$B$12:$B$50,'STOCK ANALYSIS'!C57,'CLOSING STOCK'!$L$12:$L$49)","v":13},0,0,0,0]
[null,15,"SALMON BALL",0.27,"PCS",44,60,{"$f":"SUMIF('K-LUNCH & K DINNER'!$H$9:$H$46,C58,'K-LUNCH & K DINNER'!$J$9:$J$46)","v":10},{"$f":"SUMIF('SIDE ORDER & FOC'!$Q$11:$Q$78,C58,'SIDE ORDER & FOC'!$S$11:$S$78)","v":36},null,null,null,46,58,{"$f":"SUMIF('CLOSING STOCK'!$B$12:$B$50,'STOCK ANALYSIS'!C58,'CLOSING STOCK'!$L$12:$L$49)","v":31},-27,-0.46551724137931033,-7.2900000000000009,-0.58695652173913049]
[null,16,"SEAFOOD TOFU ",0.33,"PCS",47,66,{"$f":"SUMIF('K-LUNCH & K DINNER'!$H$9:$H$46,C59,'K-LUNCH & K DINNER'!$J$9:$J$46)","v":10},{"$f":"SUMIF('SIDE ORDER & FOC'!$Q$11:$Q$78,C59,'SIDE ORDER & FOC'!$S$11:$S$78)","v":36},null,null,null,46,67,{"$f":"SUMIF('CLOSING STOCK'!$B$12:$B$50,'STOCK ANALYSIS'!C59,'CLOSING STOCK'!$L$12:$L$49)","v":33},-34,-0.5074626865671642,-11.22,-0.73913043478260865]
[null,17,"SOTONG BALL",0.17,"PCS",14,100,{"$f":"SUMIF('K-LUNCH & K DINNER'!$H$9:$H$46,C60,'K-LUNCH & K DINNER'!$J$9:$J$46)","v":10},{"$f":"SUMIF('SIDE ORDER & FOC'!$Q$11:$Q$78,C60,'SIDE ORDER & FOC'!$S$11:$S$78)","v":36},null,null,null,{"$f":"SUM(H60:L60)","v":46},68,{"$f":"SUMIF('CLOSING STOCK'!$B$12:$B$50,'STOCK ANALYSIS'!C60,'CLOSING STOCK'!$L$12:$L$49)","v":83},{"$f":"+O60-N60","v":15},0.22058823529411764,2.5500000000000003,0.32608695652173914]
[null,18,"SPRING ROLL",0.27,"PCS",95,600,{"$f":"SUMIF('K-LUNCH & K DINNER'!$H$9:$H$46,C61,'K-LUNCH & K DINNER'!$J$9:$J$46)","v":88},{"$f":"SUMIF('SIDE ORDER & FOC'!$Q$11:$Q$78,C61,'SIDE ORDER & FOC'!$S$11:$S$78)","v":440},null,null,null,528,167,{"$f":"SUMIF('CLOSING STOCK'!$B$12:$B$50,'STOCK ANALYSIS'!C61,'CLOSING STOCK'!$L$12:$L$49)","v":145},-22,-0.1317365269461078,-5.94,-4.1666666666666664E-2]
[null,19,"THAI ROLL ",0.45,"PCS",125,345,{"$f":"SUMIF('K-LUNCH & K DINNER'!$H$9:$H$46,C62,'K-LUNCH & K DINNER'!$J$9:$J$46)","v":119},{"$f":"SUMIF('SIDE ORDER & FOC'!$Q$11:$Q$78,C62,'SIDE ORDER & FOC'!$S$11:$S$78)","v":217},null,null,null,336,134,{"$f":"SUMIF('CLOSING STOCK'!$B$12:$B$50,'STOCK ANALYSIS'!C62,'CLOSING STOCK'!$L$12:$L$49)","v":112},-22,-0.16417910447761194,{"$f":"+P62*D62","v":-9.9},-6.5476190476190479E-2]
[null,"GRAND TOTAL ",null,null,null,null,null,null,null,null,null,null,null,null,null,null,null,{"$f":"SUM(R48:R62)","v":-82.553600000000003}]
[]
[]
[null,"COMPARISON OF TOTAL LOSSES",null,null,null,null,null,null,null,"COMPARISON OF ACTUAL USAGE "]
[null,"NO","CATEGORIES",null,null,"AUG","SEP","DIFF",null,"NO",null,null,null,null,"AUG","SEP","DIFF"]
[null,null,null,null,null,"RM ","RM ","%",null,null,null,null,null,null,"PCS","PCS","%"]
[null,1,"MAIN SAUCE 主要酱料",null,null,383.2623000000001,{"$f":"+R33","v":649.3205999999999},{"$f":"(+G69-F69)/F69","v":0.69419376755814421},null,1,{"$f":"+C37","v":"CHICKEN CHOP (MARINATED)"},null,null,null,219.32000000000016,{"$f":"M37","v":2468.6400000000003},{"$f":"(+P69-O69)/O69","v":10.255881816523793}]
[null,2,"MAIN COURSE MATERIAL 主餐食材",null,null,389.1588000000005,{"$f":"+R45","v":406.77760000000103},{"$f":"(+G70-F70)/F70","v":4.5274062927526011E-2},null,2,{"$f":"+C41","v":"CHICKEN WINGS -TOTAL"},null,null,null,-216,{"$f":"M41","v":833},{"$f":"(+P70-O70)/O70","v":-4.8564814814814818}]
[null,3,"SNACKS MATERIAL   小吃食材",null,null,-95.816200000000038,{"$f":"+R63","v":-82.553600000000003},-0.13841709439531133,null,3,{"$f":"+C43","v":"DORY FISH FILLET "},null,null,null,-37,{"$f":"M43","v":579},-16.648648648648649]
[null,null,null,null,null,null,null,null,null,4,{"$f":"+C48","v":"MCCAIN ONION RING"},null,null,null,896,{"$f":"M48","v":728},-0.1875]
[null,"GRAND TOTAL ",null,null,null,{"$f":"SUM(F69:F71)","v":676.6049000000005},{"$f":"SUM(G69:G71)","v":973.54460000000086},null,null,5,{"$f":"+C49","v":"MCCAIN SMILES"},null,null,null,672,546,-0.1875]
[null,null,null,null,null,null,null,null,null,6,"MCCAIN VERSITOT",null,null,null,896,728,-0.1875]
[null,null,null,null,null,null,null,null,null,7,"MCCAIN SPIRAL FRIES",null,null,null,15.24,10.92,-0.28346456692913385]
[null,"COMPARISON OF ACTUAL USAGE  (SAUCE)",null,null,null,null,null,null,null,8,"CHICKEN NUGGET",null,null,null,1296,1232,-4.9382716049382713E-2]
[null,null,null,null,null,null,null,null,null,9,"CHICKEN SAUSAGE ",null,null,null,687,644.5,-6.186317321688501E-2]
[null,"NO","CATEGORIES",null,null,"AUG","SEP","DIFF",null,10,"DUMPLING ",null,null,null,342,276,-0.19298245614035087]
[null,null,null,null,null,"KG","KG","%",null,11,"FISH BALL (BIG)",null,null,null,246,276,0.12195121951219512]
[null,1,{"$f":"+C23","v":"BLACK PEPPER SAUCE"},null,null,49.71,{"$f":"+M23","v":48.25},{"$f":"(+G80-F80)/F80","v":-2.937034801850736E-2},null,{"$f":"+J79+1","v":12},"FISH BALL (SMALL)",null,null,null,330,225,-0.31818181818181818]
[null,2,"BLACK PEPPER SAUCE (UDON)",null,null,7.21,6.3699999999999992,-0.11650485436893214,null,{"$f":"+J80+1","v":13},"RAINBOW ROLL",null,null,null,17,19,0.11764705882352941]
[null,3,"BOLOGNESE SAUCE",null,null,39.9,35.549999999999997,-0.10902255639097748,null,14,"SALMON BALL",null,null,null,50,46,-0.08]
[null,4,"BUTTER CREAM SAUCE",null,null,39.550000000000004,34.945,-0.11643489254108733,null,{"$f":"+J82+1","v":15},{"$f":"+C59","v":"SEAFOOD TOFU "},null,null,null,50,46,-0.08]
[null,5,"GRAVY SAUCE",null,null,10.16,11.06,{"$f":"(+G84-F84)/F84","v":8.8582677165354368E-2},null,16,{"$f":"+C60","v":"SOTONG BALL"},null,null,null,50,46,-0.08]
[null,6,"MARMITE SAUCE ",null,null,21.830000000000002,19.28,{"$f":"(+G85-F85)/F85","v":-0.11681172698121853},null,17,{"$f":"+C61","v":"SPRING ROLL"},null,null,null,720,528,-0.26666666666666666]
[null,7,"MUSHROOM SAUCE",null,null,45.300000000000004,40.499999999999993,{"$f":"(+G86-F86)/F86","v":-0.10596026490066249},null,18,{"$f":"+C62","v":"THAI ROLL "},null,null,null,224,336,{"$f":"(+P86-O86)/O86","v":0.5}]
[null,8,"SAMBAL (FRIED)SAUCE",null,null,10.41,9.9,{"$f":"(+G87-F87)/F87","v":-4.8991354466858768E-2}]
[null,9,"SWEET & SOUR SAUCE",null,null,21.6,18.200000000000003,{"$f":"(+G88-F88)/F88","v":-0.15740740740740733}]

{"sheet":"CLOSING STOCK","index":4,"n_rows":224,"n_cols":14,"rows_kept":224,"cut":false,"hidden":false,"merged":[[3,1,3,4],[4,1,4,4],[8,5,8,6],[8,9,8,10],[8,11,8,12]]}
[null,"LOUDSPEAKER KARAOKE "]
[null,"MONTHLY KITCHEN  STOCK TAKE "]
[]
[null,"OUTLET : SBA KITCHEN"]
[null,"DATE      : 01.10.2013 (CLOSING STOCK VALUE FOR SEPT )"]
[]
["Price Changed"]
[]
[null,"ITEMS 物品","中文","Packing     包装","U/P","(WHOLE PACK.)",null,"CONVERT",null,"(PARTIAL PACK)",null,"TOTAL ",null,"TOTAL "]
[null,null,null,null,"RM","Qty","UOM ",{"$f":"+F10","v":"Qty"},{"$f":"+G10","v":"UOM "},"QTY","UOM","QTY","UOM","RM "]
["FROZEN FOOD 冷冻食品"]
["(A ) MEAT 肉类","CHICKEN CHOP (MARINATED)","鸡扒","1 PKT * 10 PCS",3.34,20,"PKT",10,"PCS",1,"PCS",{"$f":"+J12+(H12*F12)","v":201},"PCS",{"$f":"+L12*E12","v":671.33999999999992}]
[null,"CHICKEN CHOP ( ORIGINAL)","鸡扒(未加工）","1 PKT * 1 KG",11.8,50,"PKT",1,"KG",null,"PKT",50,"KG ",590]
[null,"WHOLE CHICKEN","全鸡","1 PKT * 1 KG",8.4,20,"KG",1,"KG",0.5,"KG",20.5,"KG ",172.20000000000002]
[null,"CHICKEN WING  (MARINATED)","腌制鸡翅膀","1PKT*21 PCS",1.17,5,"PKT",21,"PCS",12,"PCS",117,"PCS",136.88999999999999]
[null,"CHICKEN WINGS (NON -MARINATED)","鸡翅膀","PER  PCS",1.17,9,"PKT",21,"PCS",null,"PCS",{"$f":"+J16+(H16*F16)","v":189},"PCS",{"$f":"+L16*E16","v":221.13}]
[null,"CHICKEN WING ","未腌制鸡翅膀","PER KG ",9.6999999999999993,null,"KG",1,"KG",null,"KG",0,"KG ",0]
[null,"MINCED CHICKEN ","鸡肉碎","1PKT * 1 KG",12.5,null,"PKT",1,{"$f":"+G18","v":"PKT"},null,"PKT",0,"PKT",0]
[]
[]
["(B ) SEAFOOD 海鲜类","DORY FISH FILLET ","多利鱼","1 PKT*16PCS",2.4900000000000002,6,"PKT",16,"PCS",7,"PCS",{"$f":"+J21+(H21*F21)","v":103},{"$f":"+K21","v":"PCS"},{"$f":"+L21*E21","v":256.47000000000003}]
[null,"DORRY FISH FILLET ","多利鱼","1CTN *23PCS",56,3,"CTN",1,"CTN",null,"KG",{"$f":"+J22+(H22*F22)","v":3},"CTN",{"$f":"+L22*E22","v":168}]
[null,"TAIL PRAWN 41/50","有尾虾","1PKT*1KG*45PCS",{"$f":"24.5/45","v":0.5444444444444444},5,"PKT",45,"PCS",275,"PCS",{"$f":"+J23+(H23*F23)","v":500},{"$f":"+K23","v":"PCS"},{"$f":"+L23*E23","v":272.22222222222217}]
[]
["(C ) MC Cain 产品","MCCAIN ONION RING","洋葱圈","1CTN*8PKT*60 PCS * 907 GM",0.17,4,"PKT",60,"PCS",44,"PCS",{"$f":"+J25+(H25*F25)","v":284},"PCS",{"$f":"+L25*E25","v":48.28}]
[null,"MCCAIN SMILES","笑脸","1CTN*6PKT*105 PCS * 1.8 KG",0.13,3,"PKT",105,"PCS",103,"PCS",{"$f":"+J26+(H26*F26)","v":418},{"$f":"+I26","v":"PCS"},{"$f":"+L26*E26","v":54.34}]
[null,"MCCAIN VERSITOT","粒粒","1CTN*6PKT*220 PCS * 2.27 KG",6.363636363636363E-2,5,"PKT",220,"PCS",30,"PCS",{"$f":"+J27+(H27*F27)","v":1130},{"$f":"+I27","v":"PCS"},{"$f":"+L27*E27","v":71.909090909090907}]
[null,"MCCAIN SPIRAL FRIES","薯仔角","1PKT * 2.2KG*250 PCS",{"$f":"14.17/250","v":5.6680000000000001E-2},null,"PKT",250,"PCS",null,"PCS",{"$f":"+J28+(H28*F28)","v":0},{"$f":"+I28","v":"PCS"},{"$f":"+L28*E28","v":0}]
[null,"MC CAIN REDTONE CANYON SPIRALS","卷曲薯条","1CTN*6PKT*1.8 KG",{"$f":"14.17/1.8","v":7.8722222222222218},1,"PKT",1.8,"KG ",0.8,"KG",{"$f":"+J29+(H29*F29)","v":2.6},{"$f":"+I29","v":"KG "},{"$f":"+L29*E29","v":20.467777777777776}]
[]
[]
["(E  ) FISH /SALMON/SOTONG","SALMON BALL","三文鱼丸","1CTN * 20PKTS *30PCS * 500G",0.27,1,"PKT",30,"PCS",1,"PCS",{"$f":"+J32+(H32*F32)","v":31},{"$f":"+K32","v":"PCS"},{"$f":"+L32*E32","v":8.370000000000001}]
["         BALL ","SOTONG BALL","苏东丸","1CTN * 20PKTS*50PCS  * 1KG",{"$f":"8.5/50","v":0.17},1,"PKT",50,"PCS",33,"PCS",{"$f":"+J33+(H33*F33)","v":83},{"$f":"+K33","v":"PCS"},{"$f":"+L33*E33","v":14.110000000000001}]
[null,"FISH BALL (BIG)","大白鱼丸","1CTN * 10PKTS*40PCS * 1KG",0.24,1,"PKT",40,"PCS",5,"PCS",{"$f":"+J34+(H34*F34)","v":45},{"$f":"+K34","v":"PCS"},{"$f":"+L34*E34","v":10.799999999999999}]
[null,"FISH BALL (SMALL)","小白鱼丸","1CTN * 20PKTS*100PCS * 1KG",9.5000000000000001E-2,1,"PKT",100,"PCS",102,"PCS",{"$f":"+J35+(H35*F35)","v":202},{"$f":"+K35","v":"PCS"},{"$f":"+L35*E35","v":19.190000000000001}]
[]
["(F ) OTHERS 其他"]
[null,"CALAMARI RING","苏东圈","1PKT*300G * 15PCS",0.46666666666666667,null,"PKT",15,"PCS",null,"PCS",{"$f":"+J38+(H38*F38)","v":0},"PCS",{"$f":"+L38*E38","v":0}]
[null,"CHICKEN SAUSAGE ","鸡肉香肠","1CTN *32PKTS * 10PCS",0.23,21,"PKT",10,"PCS",8,"PCS",218,{"$f":"+K39","v":"PCS"},50.14]
[null,"SPRING ROLL","春卷","1CTN * 50PKTS *20PCS",0.27,7,"PKT",20,"PCS",5,"PCS",145,{"$f":"+K40","v":"PCS"},39.150000000000006]
[null,"CRAB STICK (FILAMENT STICK)","蟹柳","1CTN * 20PKT*30PCS*1KG",0.28999999999999998,4,"PKT",30,"PCS",30,"PCS",150,{"$f":"+K41","v":"PCS"},43.5]
[null,"THAI ROLL ","泰式卷","1CTN *50PKTS* 15PCS",0.45,7,"PKT",15,"PCS",7,"PCS",112,{"$f":"+K42","v":"PCS"},50.4]
[null,"FISH CAKE -DODO (BIG)","鱼饼","1PKT *1KG*10PCS",0.98,3,"PKT",10,"PCS",3,"PCS",33,{"$f":"+K43","v":"PCS"},32.339999999999996]
[null,"FRENCH FRIES CRINCLE CUT ","薯条有牙","1CTN * 10 PKT * 1KG",4.8,23,"PKT",1,"KG",0,{"$f":"+I44","v":"KG"},23,"KG",{"$f":"+L44*E44","v":110.39999999999999}]
[null,"SEAFOOD TOFU ","海鲜豆腐","1 PKT * 33 PCS",0.33,1,"PKT",33,"PCS",0,"PCS",33,{"$f":"+K45","v":"PCS"},10.89]
[null,"CHICKEN NUGGET","天妇罗鸡肉块","1PKT * 36 PCS ",0.26,3,"PKT",36,"PCS",35,"PCS",143,{"$f":"+K46","v":"PCS"},{"$f":"+L46*E46","v":37.18}]
[null,"DUMPLING ","上海锅贴","1CTN *50PKTS* 20PCS",0.65,4,"PKT",20,"PCS",10,"PCS",90,{"$f":"+K47","v":"PCS"},{"$f":"+L47*E47","v":58.5}]
[null,"RAINBOW ROLL","彩虹寿司卷","1CTN *30PKTS *5PCS",1.96,2,"PKT",5,"PCS",3,"PCS",13,{"$f":"+K48","v":"PCS"},{"$f":"+L48*E48","v":25.48}]
[]
["CHEESE PRODUCTS 芝士产品"]
[null,"CHEESE MOZZARELLA SHREDDED","芝士碎","1PKT * 1 KG",39,1,"PKT",1,"PKT",null,null,{"$f":"+J51+(H51*F51)","v":1},{"$f":"+G51","v":"PKT"},{"$f":"+L51*E51","v":39}]
[null,"PAMECAN CHEESE ","芝士粉","1PKT * 1 KG",23,1,"PKT",1,{"$f":"+G52","v":"PKT"},null,null,{"$f":"+J52+(H52*F52)","v":1},{"$f":"+G52","v":"PKT"},{"$f":"+L52*E52","v":23}]
[null,"SHREDDED MILD CHEDDAR CHEESE","瑞士乳酪","1PKT*2KG ",11.5,null,"PKT",1,{"$f":"+G53","v":"PKT"},null,null,{"$f":"+J53+(H53*F53)","v":0},{"$f":"+G53","v":"PKT"},{"$f":"+L53*E53","v":0}]
[null,"TROPIC CHOICE NACHOS CHEESE DIP","玉米片奶酪","1TUB*3KG",48,null,"TUB",1,{"$f":"+G54","v":"TUB"},null,null,{"$f":"+J54+(H54*F54)","v":0},{"$f":"+G54","v":"TUB"},{"$f":"+L54*E54","v":0}]
[]
[]
["NOODLES 面类"]
[null,"KUEY TEOH ","粿条","1PKT * 1KG",1.5,7,"PKT",1,"PKT",null,null,{"$f":"+J58+(+H58*F58)","v":7},"PKT",{"$f":"+L58*E58","v":10.5}]
[null,"MEE KUNING","黄面","1PKT * 1KG",1.7,5,"PKT",1,"PKT",null,null,5,"PKT",8.5]
[null,"NDL SESAME OIL NISSIN                ","出前一丁面","1CTN*12 PKT*5PCS* 100 GM ",6.666666666666667,84,"PKT",1,"PKT",null,null,84,{"$f":"+G60","v":"PKT"},560]
[null,"RAMEN","日式拉面","1CTN * 12PKT *12PCS",0.9,3,"PKT",12,"PCS",7,"PCS",43,"PCS",38.700000000000003]
[null,"SPAGHETTI","意大利面","1 PKT* 500 GM",2.5,37,"PKT",1,"PKT",null,null,37,{"$f":"+G62","v":"PKT"},92.5]
[null,"UDON NOODLES","乌东面","1 PKT*200 GM",1.1000000000000001,26,"PKT",1,"PKT",null,null,26,{"$f":"+G63","v":"PKT"},28.6]
[]
["RICE 米"]
[null,"WANGI IMP.THAI - PEARL ","泰国香米","1PKT * 10 KG ",42.9,20,"PKT",1,{"$f":"+I67","v":"PKT "},null,null,{"$f":"+J66+(+H66*F66)","v":20},{"$f":"+G66","v":"PKT"},{"$f":"+L66*E66","v":858}]
[null,"RICE  ( RAMBUTAN)","红毛丹米","1PKT * 10 KG ",27.5,1,"PKT",1,"PKT ",null,null,{"$f":"+J67+(+H67*F67)","v":1},"PKT",{"$f":"+L67*E67","v":27.5}]
[]
[]
["CONDIMENT 调味料"]
["(A ) Soy  sauce","MCM SAUCE OYSTER                                            ","(美中美)蚝油","1 TUB * 5 KG",10,null,"TUB",1,"TUB",null,null,{"$f":"+J71+(+H71*F71)","v":0},{"$f":"+G71","v":"TUB"},{"$f":"+L71*E71","v":0}]
[null,"MCM SAUCE SOY DARK (2)                               ","(美中美)加晒","1 TUB * 5 KG",19.5,1,"TUB",1,"TUB",null,null,{"$f":"+J72+(+H72*F72)","v":1},"TUB",{"$f":"+L72*E72","v":19.5}]
[null,"MCM SAUCE SOY LIGHT( 4KG)                            ","(美中美)生抽","1 TUB * 4 KG",7.5,1,"TUB",1,"TUB",null,null,{"$f":"+J73+(+H73*F73)","v":1},"TUB",{"$f":"+L73*E73","v":7.5}]
[null,"BENTONG SAUCE SOY LIGHT","文东生抽","1TUB* 1.3 KG",10,4,"TUB",1,"TUB",null,null,{"$f":"+J74+(+H74*F74)","v":4},"TUB",{"$f":"+L74*E74","v":40}]
[null,"STH OYSTER SAUCE (TONG)","新泰兴蚝油（桶）","1TONG*5KG",10.5,null,"TONG",1,"TONG",null,null,{"$f":"+J75+(+H75*F75)","v":0},{"$f":"+G75","v":"TONG"},{"$f":"+L75*E75","v":0}]
[]
["(B) Chilli / Tomato ","KIMBALL CHILI SAUCE(PKT)","(KIMBALL)辣椒酱","1CNT*12PKT*1kg",3.8,null,"PKT",1,{"$f":"+G77","v":"PKT"},null,null,{"$f":"+J77+(+H77*F77)","v":0},{"$f":"+G77","v":"PKT"},{"$f":"+L77*E77","v":0}]
[null,"KIMBALL TOMATO SAUCE(PKT)","(KIMBALL)蕃茄酱","1CNT*12PKT*1kg",3.7,6,"PKT",1,"PKT",null,null,6,"PKT",22.200000000000003]
[null,"KN PRONTO ITALIAN TOMATO SAUCE","(家乐)番茄肉粒酱","1TIN * 2KG",24,13,"TUB",1,"TUB",null,null,13,"TUB",312]
[null,"KIMBALL TOMATO PUREE","(KIMBALL)番茄膏","1CTN *24CAN *430G",3.8,null,"CAN",1,"CAN",null,null,0,"CAN",0]
[null,"MAGGIE CHILLI SAUCE","辣椒酱","1CNT*12PKT*1.5 KG",6.8,4,"PKT",1,"PKT",null,null,4,"PKT",27.2]
[null,"MAGGIE TOMATO SAUCE","蕃茄酱","1CNT*12PKT*1.5 KG",6.3,5,"PKT",1,"PKT",null,null,5,"PKT",31.5]
[]
["(C ) Salad Sauce 沙拉酱","LC COLESLAW DRESSING                                   ","沙拉酱","1 CTN*4 TUB *3 LIT ",28.9,1,"TUB",1,{"$f":"+G84","v":"TUB"},null,null,{"$f":"+J84+(+H84*F84)","v":1},{"$f":"+G84","v":"TUB"},{"$f":"+L84*E84","v":28.9}]
[null,"LC MAYO MAGIC              (PKT)                                     ","蛋黄酱 ( 包）","1 CTN*4 PKT *3 LIT ",18.899999999999999,null,"PKT",1,{"$f":"+G85","v":"PKT"},null,null,{"$f":"+J85+(+H85*F85)","v":0},{"$f":"+G85","v":"PKT"},{"$f":"+L85*E85","v":0}]
[null,"LC TARTAR SAUCE                                              ","鞑靼酱","1 CTN*6 TUB *3 LIT",31.5,1,"TUB",1,{"$f":"+G86","v":"TUB"},null,null,{"$f":"+J86+(+H86*F86)","v":1},{"$f":"+G86","v":"TUB"},{"$f":"+L86*E86","v":31.5}]
[null,"LC THOUSAND ISLAND DRESSING                       ","千岛酱","1 CTN*6 TUB *2.4 LIT",25.5,1,"TUB",1,{"$f":"+G87","v":"TUB"},null,null,{"$f":"+J87+(+H87*F87)","v":1},{"$f":"+G87","v":"TUB"},{"$f":"+L87*E87","v":25.5}]
[]
["(D) MCM Product","MCM VINEGAR WHITE                                           ","(美中美)白醋","1 TUB * 4000G",6.5,null,"TUB",1,"TUB",null,null,{"$f":"+J89+(+H89*F89)","v":0},{"$f":"+G89","v":"TUB"},{"$f":"+L89*E89","v":0}]
[null,"MCM SAUCE SOURPLUM                                    ","(美中美)酸梅酱","1 TUB * 3KG",16.5,1,"TUB",1,"TUB",null,null,{"$f":"+J90+(+H90*F90)","v":1},{"$f":"+G90","v":"TUB"},{"$f":"+L90*E90","v":16.5}]
[null,"MCM TAUCU PASTE                                           ","(美中美)蘑豆酱","1 TUB * 3KG",11.5,1,"TUB",1,"TUB",null,null,{"$f":"+J91+(+H91*F91)","v":1},{"$f":"+G91","v":"TUB"},{"$f":"+L91*E91","v":11.5}]
[]
["(E ) OTHERS 其他","A1 Sauce","A1 汁"," 1BTL * 630ML ",7,1,"BTL",1,{"$f":"+G93","v":"BTL"},null,null,{"$f":"+J93+(+H93*F93)","v":1},"BTL",{"$f":"+L93*E93","v":7}]
[null,"COLOURING YELLOW","黄色素","1BTL * 25ml",2,1,"BTL ",1,"BTL ",null,null,1,"BTL ",2]
[null,"COLOURING RED","红色素","1BTL * 25ml",2,1,"BTL ",1,"BTL ",null,null,1,"BTL",2]
[null,"DIPPING FOR CHIKEN (TONG)                                ","泰国-点鸡汁","1CTN*3TUB*5KG",37,null,"TUB",1,"TUB",null,null,0,"TUB",0]
[null,"FISH SAUCE","鱼露","1 BTL * 750 ML ",2.2000000000000002,1,"BTL",1,"BTL",null,null,1,"BTL",2.2000000000000002]
[null,"H.P SAUCE","Hp酱","1BTL *220GM",5.5,null,"BTL",1,"BTL",null,null,0,"BTL",0]
[null,"SAUCE LEA & PERRIN (LP)                                     ","LP调味汁","1 BTL *290ML",7.9,1,"BTL",1,"BTL",null,null,1,"BTL ",7.9]
[null,"KN BARBEQUE SAUCE","烧烤酱","1TUB * 900G ",25,1,"TUB",1,"TUB",null,null,1,{"$f":"+I100","v":"TUB"},25]
[null,"LKK CHU HOU PASTE                              ","(李)柱侯酱","1 CAN *2.2KG",25.5,null,"CAN",1,"CAN",null,null,0,{"$f":"+I101","v":"CAN"},0]
[null,"PASTE PRAWN (HK) SALTED","咸虾酱","1CAN * 227 G",4.9000000000000004,2,"CAN",1,"CAN",null,null,2,{"$f":"+I102","v":"CAN"},9.8000000000000007]
[null,"RICE WINE    (HAI-O)","白米酒(兴兴发）","1 BTL * 640ML",4.95,3,"BTL",1,"BTL",null,null,3,"BTL",14.850000000000001]
[null,"SATAY SAUCE","沙爹酱","1PKT * 1KG",21.5,null,"PKT",1,"PKT",null,null,0,"PKT",0]
[null,"SAUCE TABASCO","辣酱油","1BTL * 60ml",6.5,null,"BTL ",1,"BTL ",null,null,0,"BTL ",0]
[null,"VINEGAR (RED) -ELISEN","大红浙醋","1BTL*640ML",5.2,1,"BTL",1,"BTL",null,null,1,"BTL",5.2]
[null,"VINEGER GREATWALL","长城淅醋","1BTL * 667ML",3.3,2,"BTL",1,"BTL",null,null,2,"BTL",6.6]
[null,"WINE HUA TIAO CHEW (A)                                                ","花雕酒(尖塔)","1 BTL * 640ML",4.95,1,"BTL",1,{"$f":"+G108","v":"BTL"},null,null,1,"BTL",4.95]
[null,"MAGGI SEASONING","(美极)调味料","1CTN*6BTL*790ML",17.5,1,"BTL",1,{"$f":"+G109","v":"BTL"},null,null,1,"BTL",17.5]
[]
[]
[]
["PREPARED SAUCE 自制酱料"]
[null,"BLACK PEPPER SAUCE","黑椒酱","TUB*3.7KG",3.02,1,"TUB",3.7,{"$f":"+K114","v":"KG"},3,"KG",{"$f":"+J114+(+H114*F114)","v":6.7},{"$f":"+K114","v":"KG"},{"$f":"+L114*E114","v":20.234000000000002}]
[null,"BLACK PEPPER SAUCE (UDON)","黑椒酱 (乌冬面）","TUB*4 KG",3.88,null,"TUB",4,{"$f":"+I114","v":"KG"},1,"KG",1,"KG",3.88]
[null,"BOLOGNESE SAUCE","肉酱意粉酱","1 PKT*2KG",{"$f":"136.22/12","v":11.351666666666667},6,"PKT",2,"KG",11,"KG",23,"KG",261.08833333333331]
[null,"CHICKEN SAUCE","鸡汁","TUB*1.6 KG",3.3,1,"TUB",1.6,{"$f":"+I125","v":"KG"},1.5,"KG",3.1,"KG",10.23]
[null,"MARMITE SAUCE ","妈蜜汁","TUB*4.50KG",2,1,"TUB",4.5,{"$f":"+I119","v":"KG"},4,"KG",{"$f":"+J118+(+H118*F118)","v":8.5},{"$f":"+K118","v":"KG"},{"$f":"+L118*E118","v":17}]
[null,"GONG BAO SAUCE ","宫保酱","TUB*4.2KG",1.53,1,"TUB",4.2,{"$f":"+I126","v":"KG"},6.5,"KG",10.7,"KG",16.370999999999999]
[null,"MUSHROOM SAUCE","蘑菇酱","TUB*3.7 KG",6.78,1,"TUB",3.7,{"$f":"+I118","v":"KG"},3.5,"KG",7.2,"KG",48.816000000000003]
[null,"SAMBAL (FRIED)SAUCE","叁巴酱","TUB*7.2KG",9.07,2,"TUB",7.2,"KG",7.5,"KG",21.9,"KG",198.63299999999998]
[null,"SAMBAL (NASI LEMAK )","叁巴酱","TUB*6KG",7.39,2,"TUB",6,"KG",8,"KG",20,"KG",147.79999999999998]
[null,"SWEET & SOUR SAUCE","糖醋酱","TUB*4KG",1.88,1,"TUB",4,{"$f":"+I121","v":"KG"},5,"KG",9,"KG",16.919999999999998]
[null,"THAI SAUCE","泰式酱","1TUB*7.1 KG",7.1,1,"TUB",7.1,{"$f":"+I123","v":"KG"},8,"KG",15.1,"KG",107.21]
[null,"BUTTER CREAM SAUCE","奶油酱","1TUB*1.1 KG",{"$f":"6.49/1.1","v":5.8999999999999995},null,"TUB",1.1000000000000001,{"$f":"+I116","v":"KG"},0.5,"KG",{"$f":"+J125+(+H125*F125)","v":0.5},{"$f":"+K125","v":"KG"},{"$f":"+L125*E125","v":2.9499999999999997}]
[null,"DRY NOODLE SAUCE","干捞酱","1TUB*2.1 KG",{"$f":"13.55/2.1","v":6.4523809523809526},1,"TUB",2.1,{"$f":"+I117","v":"KG"},3,"KG",{"$f":"+J126+(+H126*F126)","v":5.0999999999999996},{"$f":"+K126","v":"KG"},{"$f":"+L126*E126","v":32.907142857142858}]
[null,"ZONG WEI ","总味","1PKT * 0.94 KG",{"$f":"7.69/0.94","v":8.1808510638297882},null,"TUB",0.94,{"$f":"+I124","v":"KG"},0.6,"KG",0.6,"KG",4.9085106382978729]
[]
[]
["OIL 油"]
[null,"COOKING OIL","食油","1CTN *17PKT * 1KG",2.7,2,"CTN",17,"PKT",1,"PKT",{"$f":"+J131+(+H131*F131)","v":35},"PKT",{"$f":"+L131*E131","v":94.5}]
[null,"OIL CORN DAISY                                                ","包蜀油"," 1TUB *3KG",29.5,1,"TUB",1,{"$f":"+G132","v":"TUB"},null,null,{"$f":"+J132+(+H132*F132)","v":1},{"$f":"+G132","v":"TUB"},{"$f":"+L132*E132","v":29.5}]
[null,"OIL SESAME CY                                   ","麻油(胡泉益)鹿牌","1 TIN * 6KG",43,null,"TIN",1,{"$f":"+G133","v":"TIN"},null,null,{"$f":"+J133+(+H133*F133)","v":0},{"$f":"+G133","v":"TIN"},{"$f":"+L133*E133","v":0}]
[null,"OLIVE OIL","橄榄油","1 BTL * 1 LIT ",20.5,null,"BTL",1,"KG",null,null,{"$f":"+J134+(+H134*F134)","v":0},{"$f":"+G134","v":"BTL"},{"$f":"+L134*E134","v":0}]
[]
[]
["POWDER 粉类"]
["(A ) KNORR BRAND","KN CHICKEN STOCK                                         ","(家乐)鸡精粉","1ctn*6pkt*1.2kg",17.899999999999999,2,"PKT",1,"PKT",null,null,{"$f":"+J138+(+H138*F138)","v":2},{"$f":"+G138","v":"PKT"},{"$f":"+L138*E138","v":35.799999999999997}]
[null,"KN DEMI-GLACE BROWN SAUCE MIX               ","(家乐)黄揭汁粉","1ctn*6pkt*1kg",20.9,3,"PKT",1,"PKT",null,null,{"$f":"+J139+(+H139*F139)","v":3},{"$f":"+G139","v":"PKT"},{"$f":"+L139*E139","v":62.699999999999996}]
[null,"KN INSTANT CHICKEN GRAVY MIX                 ","(家乐)即溶鸡肉汁","1ctn*6pkt*1kg",23.9,3,"PKT",1,"PKT",null,null,{"$f":"+J140+(+H140*F140)","v":3},{"$f":"+G140","v":"PKT"},{"$f":"+L140*E140","v":71.699999999999989}]
[null,"KN TENDERIZER ","（家乐）松肉粉","1btl*453.6gm",6.9,null,"BTL ",1,{"$f":"+G141","v":"BTL "},null,null,{"$f":"+J141+(+H141*F141)","v":0},{"$f":"+G141","v":"BTL "},{"$f":"+L141*E141","v":0}]
[null,"KN TEPUNG GORENG AYAM","(家乐)酥炸脆鸡粉","1ctn*12pkt*1kg",12,1,"PKT",1,"PKT",null,null,{"$f":"+J142+(+H142*F142)","v":1},{"$f":"+G142","v":"PKT"},{"$f":"+L142*E142","v":12}]
[]
["(B ) FLOUR","FLOUR SUPERIOR (WINDMILL)                              ","风车粉","1pkt*1kg",6.5,1,"PKT",1,"KG",null,null,{"$f":"+J144+(+H144*F144)","v":1},{"$f":"+G144","v":"PKT"},{"$f":"+L144*E144","v":6.5}]
[null,"FLOUR TAPIOCA                                                      ","薯粉","1pkt*1kg",2.9,8,"PKT",1,"KG",null,null,{"$f":"+J145+(+H145*F145)","v":8},{"$f":"+G145","v":"PKT"},{"$f":"+L145*E145","v":23.2}]
[null,"FLOUR WHEAT (ANCHOR)                                ","面粉","1pkt*1kg",2.7,4,"PKT",1,"KG",null,null,{"$f":"+J146+(+H146*F146)","v":4},{"$f":"+G146","v":"PKT"},{"$f":"+L146*E146","v":10.8}]
[null,"FLOUR RICE","粘米粉","1PKT * 500G",1.9,null,"PKT",1,"KG",null,null,{"$f":"+J147+(+H147*F147)","v":0},{"$f":"+G147","v":"PKT"},{"$f":"+L147*E147","v":0}]
[]
["(C  ) OTHERS","AJINOMOTO","味精粉","1CTN*20PKT*1KG",9.5,1,"PKT",1,"PKT",null,null,{"$f":"+J149+(+H149*F149)","v":1},"PKT",{"$f":"+L149*E149","v":9.5}]
[null,"CUMIN (JINTAN PUTIH)                   ","小茴粉","1ctn*40pkt*70g",null,null,"PKT",1,{"$f":"+G150","v":"PKT"},null,null,0,{"$f":"+G150","v":"PKT"},{"$f":"+L150*E150","v":0}]
[null,"DRIED CHILI POWDER","辣椒干粉","1ctn*40pkt*250g",4.5,null,"PKT",1,{"$f":"+G151","v":"PKT"},null,null,0,{"$f":"+G151","v":"PKT"},0]
[null,"PARPIKA ","灯笼椒粉","1pkt*100gm",6,null,"PKT",1,{"$f":"+G152","v":"PKT"},null,null,0,"PKT",0]
[null,"PEPPER BLACK (CORN WHOLE)                          ","黑胡椒粒","PER KG",28,null,"PKT",1,{"$f":"+G153","v":"PKT"},null,null,0,"PKT",0]
[null,"POWDER CURRY (BABA)","(BABA)加厘粉","1pkt*250g",4.5,null,"PKT",1,"PKT",null,null,0,"PKT",0]
[null,"POWDER CURRY (BURUNG BRAND)","咖哩粉（鸟牌）","1PKT * 250GM",13.8,null,"PKT",1,"KG",null,null,0,"PKT",0]
[null,"POWDER CURRY WATCH BRAND (ENGLAND)                     ","英式咖哩粉","1ctn*36btl*115g",5.2,null,"BTL ",1,"BTL ",null,null,0,"BTL ",0]
[null,"POWDER CUSTARD","鸡仔粉","1pkt*300gm",3.95,null,"PKT",1,"PKT",null,null,0,"PKT",0]
[null,"POWDER FIVE SPICE              ","五香粉(博安堂)","1pkt*300gm",12.5,null,"PKT",1,"PKT",null,null,0,"PKT",0]
[null,"POWDER MUSTARD","黄芥辣粉","1tub*454gm",29.5,null,"PKT",1,"PKT",null,null,0,"PKT",0]
[null,"POWDER WHITE PEPPER                                     ","白胡椒粉(平)","1pkt*500gm",{"$f":"+[2]Mar!E224","v":5.9},null,"PKT",1,"PKT",null,null,0,"PKT",0]
[null,"TURMERIC (KUNYIT)                              ","黄姜粉","1pkt*250g",4.8,null,"PKT",1,"PKT",null,null,0,"PKT",0]
[null,"WHITE BREADCRUMB","面包粉","1pkt*1KG",8,null,"PKT",1,"PKT",null,null,0,"PKT",0]
[]
["HERBS & SPICES 香料类"]
[null,"BASIL WHOLE","九层塔香草","GRAM",0.06,null,"PKT",1,"GM",500,{"$f":"+I165","v":"GM"},{"$f":"+J165+(+H165*F165)","v":500},{"$f":"+K165","v":"GM"},{"$f":"+L165*E165","v":30}]
[null,"BAY LEAVES WHOLE","月桂叶","GRAM",5.5E-2,null,"PKT",1,"GM",null,"GM",0,"GM",0]
[null,"CINNAMON BARK (SMALL)","桂皮(小)","GRAM",{"$f":"9.5/1000","v":9.4999999999999998E-3},null,"KG",1,"GM",100,"GM",100,"GM",0.95]
[null,"DING XIANG(CENGKIH)","丁香","GRAM",6.6000000000000003E-2,null,"PKT",1,"GM",null,"GM",0,"GM",0]
[null,"FUNGUS BLACK                                         ","木耳","GRAM",1.4E-2,null,"PKT",1,"GM",600,"GM",600,"GM",8.4]
[null,"RED DATE","红枣","1KG",7,null,"KG",1,"KG",null,"KG",0,"KG",0]
[null,"STAR ANISE/ BUNGA LAWANG","八角","GRAM",0.02,null,"PKT",1,"KG",200,"GM",200,"GM",4]
[]
[]
["CREAM / MILK / JUICE  忌廉/牛奶/汁"]
[null,"CARNATION MILK","三花生奶","1CTN *48 CAN *400G",2.9,8,"CAN",1,{"$f":"+G175","v":"CAN"},null,null,{"$f":"+J175+(+H175*F175)","v":8},{"$f":"+G175","v":"CAN"},{"$f":"+L175*E175","v":23.2}]
[null,"GREENFIELD FULL CREAM MILK （INDONESIA）","全脂牛奶","1 PKT * 1 LIT",3.8,null,"PKT",1,{"$f":"+G176","v":"PKT"},null,null,0,{"$f":"+G176","v":"PKT"},0]
[null,"MILK TEA POT                                                          ","茶壶牛奶","1CTN *48 CAN *505G",2.75,null,"CAN",1,{"$f":"+G177","v":"CAN"},null,null,0,"CAN",0]
[null,"GREENFIELD UHT WHIPPING CREAM","液体奶油","1PKT * 1 LIT",12.5,null,"PKT",1,"PKT",null,null,0,"PKT",0]
[null,"LEMON JUICE","柠檬汁","1BTL * 2LIT ",8.5,null,"BTL",1,"BTL",null,null,0,"BTL",0]
[null,"LIME JUICE","酸柑汁","1BTL * 2LIT ",8.5,null,"BTL",1,"BTL",null,null,0,"BTL",0]
[null,"MILK COCONUT (RASAKU)                                    ","椰汁","1PKT * 1 LIT",8.8000000000000007,2,"PKT",1,"PKT",null,null,2,"PKT",17.600000000000001]
[null,"ORANGE JUICE","橙汁","1BTL * 2LIT ",4.25,1,"BTL",1,"BTL",null,null,1,"BTL",4.25]
[]
[]
[]
["EGG 鸡蛋 "]
[null,"EGG","鸡蛋","NOS",0.37,197,"PCS",1,{"$f":"+G187","v":"PCS"},null,null,{"$f":"+J187+(+H187*F187)","v":197},{"$f":"+G187","v":"PCS"},{"$f":"+L187*E187","v":72.89}]
[null,"EGG SALTED","咸蛋","NOS",0.62,null,"PCS",1,{"$f":"+G188","v":"PCS"},null,null,{"$f":"+J188+(+H188*F188)","v":0},{"$f":"+G188","v":"PCS"},{"$f":"+L188*E188","v":0}]
[]
["SUGAR / SALT 糖与盐"]
[null,"SUGER WHITE FINE","幼白糖","1CTN*24PKT*1KG",2.7,5,"PKT",1,{"$f":"+G191","v":"PKT"},null,null,{"$f":"+J191+(+H191*F191)","v":5},{"$f":"+G191","v":"PKT"},{"$f":"+L191*E191","v":13.5}]
[null,"SALT FINE (PKT)                                                       ","幼盐(包)","1CTN*12PKT*450GM",0.57999999999999996,16,"PKT",1,{"$f":"+G192","v":"PKT"},null,null,{"$f":"+J192+(+H192*F192)","v":16},"PKT",{"$f":"+L192*E192","v":9.2799999999999994}]
[]
["GROCERIES 杂货"]
[null,"IKAN BILIS (B)","金钱鱼肉","PER KG",20,null,"KG",1,{"$f":"+G195","v":"KG"},null,null,{"$f":"+J195+(+H195*F195)","v":0},{"$f":"+G195","v":"KG"},{"$f":"+L195*E195","v":0}]
[null,"BAKED BEAN                                                ","茄汁豆","1CTN*24CAN *425G",1.8,8,"CAN",1,"CAN",null,null,8,{"$f":"+G196","v":"CAN"},14.4]
[null,"BEANCURD RED PRESERVED","南乳(罐)","1 CTN *36BTL *250G",2,3,"CAN",1,"CAN",null,null,3,"CAN",6]
[null,"BEANCURD WHITE PRESERVED                ","大石付乳","1 CTN *36BTL *350G",2,4,"CAN",1,"CAN",null,null,4,"CAN",8]
[null,"DOU CHU LI ","豆豉粒","1 CAN *500G",3.9,null,"CAN",1,"CAN",null,null,0,"CAN",0]
[null,"MALTOSE","麦芽糖","1CAN* 350G",2.2000000000000002,1,"CAN",1,"CAN",null,null,1,"CAN",2.2000000000000002]
[null,"MARMITE","妈蜜汁","1CAN* 470G",24.9,null,"CAN",1,"CAN",null,null,0,"CAN",0]
[null,"MASHED POTATO POWDER","薯泥粉","1TIN* 2.2KG",34,null,"TIN",1,"TIN",null,null,0,"TIN",0]
[null,"MUSHROOM BUTTON                               ","蘑菇","1CTN*24CAN *425G",2.4,1,"CAN",1,"CAN",null,null,1,"CAN",2.4]
[null,"MUSHROOM STRAW ","草菇","1CTN*24CAN *425G",2.35,5,"CAN",1,"CAN",null,null,5,"CAN",11.75]
[null,"NUT CANDLENUT (BUAH KERAS)                   ","石古仔","1 PKT * 1KG",14,null,"PKT",1,"PKT",null,null,0,"PKT",0]
[null,"NUT GROUND                                                ","花生米","1 PKT * 1KG",0,null,"KG",1,"KG",null,null,0,"KG",0]
[null,"PICKLED LETTUCE","罐头菜心","1CTN*48CAN*170G",0,null,"CTN",1,"CTN",null,null,0,"CTN",0]
[null,"PINEAPPLE (SLICE)","黄梨片","1TIN * 565G",2.9,null,"CAN",1,"CAN",null,null,0,"CAN",0]
[null,"PLANTA CHEF","白兰她","1TUB*4.8KG",48.9,null,"TUB ",1,"TUB ",null,null,0,"TUB ",0]
[null,"PRESERVED VEGETABLE","包装菜蒲碎","1PKT *120G",6.5,null,"PKT",1,"PKT",null,null,0,"PKT",0]
[null,"SARDINE","沙丁鱼","1CTN*24CAN *425G",2.5,9,"CAN",1,"CAN",null,null,9,"CAN",22.5]
[null,"SESAME SEED WHITE","白芝麻","1 PKT * 1KG",null,null,"PKT",1,"PKT",null,null,0,"PKT",0]
[null,"SILVER FISH","白饭银鱼","1PKT*50GM",null,null,"PKT",1,"PKT",null,null,0,"PKT",0]
[null,"VE-TSIN POWDER-SMALL","佛手味精","1BTL*94.5G",3.5,1,"CAN",1,"CAN",null,null,1,"CAN",3.5]
[null,"VG DRIED CHILI                                                      ","辣椒干","1 PKT * 1KG",9.5,1,"PKT",1,"PKT",null,null,1,"PKT",9.5]
["G.TOTAL FOR FOOD MATERIAL  ",null,null,null,null,null,null,null,null,null,null,null,null,{"$f":"SUM(N1:N215)","v":7068.2670777378635}]
[]
["OTHERS 其他"]
[null,"DISHWASHING ","洗碗精","1DRUM*10 LIT",13.5,1,"DRUM",1,{"$f":"+G219","v":"DRUM"},null,null,{"$f":"+J219+(+H219*F219)","v":1},{"$f":"+I219","v":"DRUM"},{"$f":"+L219*E219","v":13.5}]
[null,"LUNCH BOX SET","打包饭盒","PCS",0.4,326,"PCS",1,{"$f":"+G220","v":"PCS"},null,null,{"$f":"+J220+(+H220*F220)","v":326},"PKT",{"$f":"+L220*E220","v":130.4}]
[null,"OIL ABSORBING PAPER","吸油纸","1CTN*20PKT",3.5,20,"PKT",1,{"$f":"+G221","v":"PKT"},null,null,{"$f":"+J221+(+H221*F221)","v":20},"PKT",{"$f":"+L221*E221","v":70}]
[]
[]
["G.TOTAL  ( FOOD MATERIAL + OTHERS)",null,null,null,null,null,null,null,null,null,null,null,null,{"$f":"SUM(N216:N223)","v":7282.1670777378631}]

{"sheet":"K-LUNCH & K DINNER","index":5,"n_rows":50,"n_cols":10,"rows_kept":50,"cut":false,"hidden":false,"merged":[[46,0,46,2],[0,0,0,4],[5,8,5,9]]}
["MONTHLY SALES FOOD RECORD ( K LUNCH & K DINNER)"]
[]
["Outlet :","SBA OUTLET"]
["Month :","2013-09-01"]
[]
[null,null,null,"K-LUNCH & K DINNER","TOTAL COST ",null,null,null,"USAGE"]
["NO","MENU ITEM","Cost","Sales",null,null,null,"MATERIAL  USED","PORTION","TOTAL"]
[null,null,"RM","Q","RM",null,null,"Q","Q","Q"]
[]
[1,"DH01 91101:THAI CHK",{"$f":"SUMIF(DATABASE!$B$3:$B$44,'K-LUNCH & K DINNER'!B10,DATABASE!$C$3:$C$36)","v":3.29},{"$f":"VLOOKUP(B10,Summary!$B$30:$AJ$438,5,FALSE)","v":205},{"$f":"+D10*C10","v":674.45},null,null,"CHICKEN CHOP (MARINATED)",0.66,{"$f":"+I10*D10","v":135.30000000000001}]
[{"$f":"+A10+1","v":2},"DH02 91102:MAMITE CHK",{"$f":"SUMIF(DATABASE!$B$3:$B$44,'K-LUNCH & K DINNER'!B11,DATABASE!$C$3:$C$36)","v":3.02},{"$f":"VLOOKUP(B11,Summary!$B$30:$AJ$438,5,FALSE)","v":176},{"$f":"+D11*C11","v":531.52},null,null,"CHICKEN CHOP (MARINATED)",0.66,116.16000000000001]
[{"$f":"+A11+1","v":3},"DH03 91103:KO PO CHK",{"$f":"SUMIF(DATABASE!$B$3:$B$44,'K-LUNCH & K DINNER'!B12,DATABASE!$C$3:$C$36)","v":3.45},{"$f":"VLOOKUP(B12,Summary!$B$30:$AJ$438,5,FALSE)","v":81},279.45,null,null,"CHICKEN CHOP (MARINATED)",0.66,53.46]
[4,"DH04 91104:S&S CHK",{"$f":"SUMIF(DATABASE!$B$3:$B$44,'K-LUNCH & K DINNER'!B13,DATABASE!$C$3:$C$36)","v":3.45},{"$f":"VLOOKUP(B13,Summary!$B$30:$AJ$438,5,FALSE)","v":69},238.05,null,null,"CHICKEN CHOP (MARINATED)",0.66,45.54]
[5,"DH05 91105:BUTTER CHK",{"$f":"SUMIF(DATABASE!$B$3:$B$44,'K-LUNCH & K DINNER'!B14,DATABASE!$C$3:$C$36)","v":3.32},{"$f":"VLOOKUP(B14,Summary!$B$30:$AJ$438,5,FALSE)","v":317},1052.44,null,null,"CHICKEN CHOP (MARINATED)",0.66,209.22]
[6,"DH06 91106:HK F.RICE",{"$f":"SUMIF(DATABASE!$B$3:$B$44,'K-LUNCH & K DINNER'!B15,DATABASE!$C$3:$C$36)","v":3.16},{"$f":"VLOOKUP(B15,Summary!$B$30:$AJ$438,5,FALSE)","v":140},442.40000000000003,null,null,null,null,0]
[7,"DH07 91107:SBL F.RICE",{"$f":"SUMIF(DATABASE!$B$3:$B$44,'K-LUNCH & K DINNER'!B16,DATABASE!$C$3:$C$36)","v":2.41},{"$f":"VLOOKUP(B16,Summary!$B$30:$AJ$438,5,FALSE)","v":114},274.74,null,null,null,null,{"$f":"+I16*D16","v":0}]
[8,"DH08 91108:SBL F.MEE",{"$f":"SUMIF(DATABASE!$B$3:$B$44,'K-LUNCH & K DINNER'!B17,DATABASE!$C$3:$C$36)","v":2.8},{"$f":"VLOOKUP(B17,Summary!$B$30:$AJ$438,5,FALSE)","v":26},72.8,null,null,null,null,0]
[9,"DH09 91109:BP UDON",{"$f":"SUMIF(DATABASE!$B$3:$B$44,'K-LUNCH & K DINNER'!B18,DATABASE!$C$3:$C$36)","v":2.08},{"$f":"VLOOKUP(B18,Summary!$B$30:$AJ$438,5,FALSE)","v":58},120.64,null,null,null,null,0]
[10,"DH10 91110:NISSIN",{"$f":"SUMIF(DATABASE!$B$3:$B$44,'K-LUNCH & K DINNER'!B19,DATABASE!$C$3:$C$36)","v":2.3199999999999998},{"$f":"VLOOKUP(B19,Summary!$B$30:$AJ$438,5,FALSE)","v":52},120.63999999999999,null,null,"CHICKEN SAUSAGE ",1.5,{"$f":"+I19*D19","v":78}]
[11,"DH11 91111:VEG RICE",{"$f":"SUMIF(DATABASE!$B$3:$B$44,'K-LUNCH & K DINNER'!B20,DATABASE!$C$3:$C$36)","v":1.6},{"$f":"VLOOKUP(B20,Summary!$B$30:$AJ$438,5,FALSE)","v":27},43.2,null,null,null,null,0]
[12,"DH12 91112:NASI LEMAK",{"$f":"SUMIF(DATABASE!$B$3:$B$44,'K-LUNCH & K DINNER'!B21,DATABASE!$C$3:$C$36)","v":3.56},{"$f":"VLOOKUP(B21,Summary!$B$30:$AJ$438,5,FALSE)","v":81},288.36,null,null,"CHICKEN WINGS (NON -MARINATED)",1,{"$f":"+I21*D21","v":81}]
[13,"DH13 91113:KUEY TEOW",{"$f":"SUMIF(DATABASE!$B$3:$B$44,'K-LUNCH & K DINNER'!B22,DATABASE!$C$3:$C$36)","v":3.16},{"$f":"VLOOKUP(B22,Summary!$B$30:$AJ$438,5,FALSE)","v":62},195.92000000000002,null,null,null,null,{"$f":"+I22*D22","v":0}]
[14,"DH14 91114:F.BALL MEE",{"$f":"SUMIF(DATABASE!$B$3:$B$44,'K-LUNCH & K DINNER'!B23,DATABASE!$C$3:$C$36)","v":2.59},{"$f":"VLOOKUP(B23,Summary!$B$30:$AJ$438,5,FALSE)","v":39},101.00999999999999,null,null,"FISH BALL (SMALL)",5,{"$f":"+I23*D23","v":195}]
[15,"DH15 91115:CHK NOODLE",{"$f":"SUMIF(DATABASE!$B$3:$B$44,'K-LUNCH & K DINNER'!B24,DATABASE!$C$3:$C$36)","v":4.71},{"$f":"VLOOKUP(B24,Summary!$B$30:$AJ$438,5,FALSE)","v":64},301.44,null,null,"CHICKEN CHOP (MARINATED)",1,{"$f":"+I24*D24","v":64}]
[16,"DG01 91001:BP CHK CP",{"$f":"SUMIF(DATABASE!$B$3:$B$44,'K-LUNCH & K DINNER'!B25,DATABASE!$C$3:$C$36)","v":4.41},{"$f":"VLOOKUP(B25,Summary!$B$30:$AJ$438,5,FALSE)","v":457},2015.3700000000001,null,null,"CHICKEN CHOP (MARINATED)",1,457]
[{"$f":"+A25+1","v":17},"DG02 91002:GVY CHK CP",{"$f":"SUMIF(DATABASE!$B$3:$B$44,'K-LUNCH & K DINNER'!B26,DATABASE!$C$3:$C$36)","v":4.43},{"$f":"VLOOKUP(B26,Summary!$B$30:$AJ$438,5,FALSE)","v":110},487.29999999999995,null,null,"CHICKEN CHOP (MARINATED)",1,110]
[18,"DG03 91003:MSR CHK CP",{"$f":"SUMIF(DATABASE!$B$3:$B$44,'K-LUNCH & K DINNER'!B27,DATABASE!$C$3:$C$36)","v":4.75},{"$f":"VLOOKUP(B27,Summary!$B$30:$AJ$438,5,FALSE)","v":399},1895.25,null,null,"CHICKEN CHOP (MARINATED)",1,{"$f":"+I27*D27","v":399}]
[19,"DG04 91004:CKN MARY",{"$f":"SUMIF(DATABASE!$B$3:$B$44,'K-LUNCH & K DINNER'!B28,DATABASE!$C$3:$C$36)","v":5.98},{"$f":"VLOOKUP(B28,Summary!$B$30:$AJ$438,5,FALSE)","v":299},1788.0200000000002,null,null,"CHICKEN CHOP (MARINATED)",1,299]
[20,"DG05 91005:FISH&CHIP",{"$f":"SUMIF(DATABASE!$B$3:$B$44,'K-LUNCH & K DINNER'!B29,DATABASE!$C$3:$C$36)","v":4.32},{"$f":"VLOOKUP(B29,Summary!$B$30:$AJ$438,5,FALSE)","v":518},2237.7600000000002,null,null,"DORY FISH FILLET ",1,{"$f":"+I29*D29","v":518}]
[21,"DG06 91006:SPAGHETTI",{"$f":"SUMIF(DATABASE!$B$3:$B$44,'K-LUNCH & K DINNER'!B30,DATABASE!$C$3:$C$36)","v":2.1},{"$f":"VLOOKUP(B30,Summary!$B$30:$AJ$438,5,FALSE)","v":201},422.1]
[22,"DG07 91007:CHK SALAD",{"$f":"SUMIF(DATABASE!$B$3:$B$44,'K-LUNCH & K DINNER'!B31,DATABASE!$C$3:$C$36)","v":4.9400000000000004},{"$f":"VLOOKUP(B31,Summary!$B$30:$AJ$438,5,FALSE)","v":126},622.44000000000005,null,null,"CHICKEN CHOP (MARINATED)",1,{"$f":"+I31*D31","v":126}]
[23,"DI01 91201:SFD STICK",{"$f":"SUMIF(DATABASE!$B$3:$B$44,'K-LUNCH & K DINNER'!B32,DATABASE!$C$3:$C$36)","v":2},{"$f":"VLOOKUP(B32,Summary!$B$30:$AJ$438,5,FALSE)","v":5},10,null,null,"SOTONG BALL",2,{"$f":"+I32*$D$32","v":10}]
[null,null,null,null,null,null,null,"SALMON BALL",2,{"$f":"+I33*$D$32","v":10}]
[null,null,null,null,null,null,null,"SEAFOOD TOFU ",2,{"$f":"+I34*$D$32","v":10}]
[24,"DI02 91202:FREN FRIES",{"$f":"SUMIF(DATABASE!$B$3:$B$44,'K-LUNCH & K DINNER'!B35,DATABASE!$C$3:$C$36)","v":1.76},{"$f":"VLOOKUP(B35,Summary!$B$30:$AJ$438,5,FALSE)","v":39},68.64,null,null,null,null,{"$f":"+I35*D35","v":0}]
[25,"DI03 91203:GOLD MROOM",{"$f":"SUMIF(DATABASE!$B$3:$B$44,'K-LUNCH & K DINNER'!B36,DATABASE!$C$3:$C$36)","v":2.15},{"$f":"VLOOKUP(B36,Summary!$B$30:$AJ$438,5,FALSE)","v":9},19.349999999999998,null,null,null,null,{"$f":"+I36*D36","v":0}]
[26,"DI04 91204:FISHBALL",{"$f":"SUMIF(DATABASE!$B$3:$B$44,'K-LUNCH & K DINNER'!B37,DATABASE!$C$3:$C$36)","v":1.56},{"$f":"VLOOKUP(B37,Summary!$B$30:$AJ$438,5,FALSE)","v":4},6.24,null,null,"FISH BALL (BIG)",6,{"$f":"+I37*D37","v":24}]
[27,"DI05 91205:RAINBOW RL",{"$f":"SUMIF(DATABASE!$B$3:$B$44,'K-LUNCH & K DINNER'!B38,DATABASE!$C$3:$C$36)","v":2.5},{"$f":"VLOOKUP(B38,Summary!$B$30:$AJ$438,5,FALSE)","v":5},12.5,null,null,"RAINBOW ROLL",1,{"$f":"+I38*D38","v":5}]
[28,"DI06 91206:SPRING RL",{"$f":"SUMIF(DATABASE!$B$3:$B$44,'K-LUNCH & K DINNER'!B39,DATABASE!$C$3:$C$36)","v":2.67},{"$f":"VLOOKUP(B39,Summary!$B$30:$AJ$438,5,FALSE)","v":11},29.369999999999997,null,null,"SPRING ROLL",8,88]
[29,"DI07 91207:SAUSAGE",{"$f":"SUMIF(DATABASE!$B$3:$B$44,'K-LUNCH & K DINNER'!B40,DATABASE!$C$3:$C$36)","v":1.24},{"$f":"VLOOKUP(B40,Summary!$B$30:$AJ$438,5,FALSE)","v":22},27.28,null,null,"CHICKEN SAUSAGE ",4,88]
[30,"DI10 91301:DUMPLING",{"$f":"SUMIF(DATABASE!$B$3:$B$44,'K-LUNCH & K DINNER'!B41,DATABASE!$C$3:$C$36)","v":4.5},{"$f":"VLOOKUP(B41,Summary!$B$30:$AJ$438,5,FALSE)","v":8},36,null,null,"DUMPLING ",6,48]
[31,"DI11 91302:NUGGET",{"$f":"SUMIF(DATABASE!$B$3:$B$44,'K-LUNCH & K DINNER'!B42,DATABASE!$C$3:$C$36)","v":2.4300000000000002},{"$f":"VLOOKUP(B42,Summary!$B$30:$AJ$438,5,FALSE)","v":47},114.21000000000001,null,null,"CHICKEN NUGGET",8,{"$f":"+I42*D42","v":376}]
[32,"DI12 91303:CHK WING",{"$f":"SUMIF(DATABASE!$B$3:$B$44,'K-LUNCH & K DINNER'!B43,DATABASE!$C$3:$C$36)","v":3.97},{"$f":"VLOOKUP(B43,Summary!$B$30:$AJ$438,5,FALSE)","v":47},186.59,null,null,"CHICKEN WING  (MARINATED)",3,{"$f":"+I43*D43","v":141}]
[33,"DI13 91304:IKAN BILIS",{"$f":"SUMIF(DATABASE!$B$3:$B$44,'K-LUNCH & K DINNER'!B44,DATABASE!$C$3:$C$36)","v":2.1800000000000002},{"$f":"VLOOKUP(B44,Summary!$B$30:$AJ$438,5,FALSE)","v":3},6.5400000000000009,null,null,null,null,{"$f":"+I44*D44","v":0}]
[34,"DI14 91305:THAI RL",{"$f":"SUMIF(DATABASE!$B$3:$B$44,'K-LUNCH & K DINNER'!B45,DATABASE!$C$3:$C$36)","v":3.61},{"$f":"VLOOKUP(B45,Summary!$B$30:$AJ$438,5,FALSE)","v":17},61.37,null,null,"THAI ROLL ",7,{"$f":"+I45*D45","v":119}]
[]
["Total Sales / COST",null,null,{"$f":"SUM(D10:D45)","v":3838},{"$f":"SUM(E10:E46)","v":14783.390000000003}]
[]
[]
[null,null,null,null,null,null,null,null,null,{"$f":"SUBTOTAL(9,J10:J40)","v":3121.6800000000003}]

{"sheet":"SIDE ORDER & FOC","index":6,"n_rows":160,"n_cols":19,"rows_kept":160,"cut":false,"hidden":false,"merged":[[122,0,122,2],[126,9,126,11],[127,9,127,11],[84,3,84,4],[84,6,84,7],[84,8,84,9],[84,11,84,12],[78,0,78,2],[84,16,84,18],[84,13,84,14],[7,16,7,18],[7,13,7,14],[7,3,7,4],[7,6,7,7],[7,8,7,9],[0,0,0,12],[7,11,7,12],[6,3,6,4],[6,6,6,7],[6,8,6,9]]}
["MONTHLY SALES FOOD RECORD ( SIDE ORDER & FOC )"]
[]
[{"$f":"+'[3]K-LUNCH & K DINNER'!A3","v":"Outlet :"},{"$f":"+'K-LUNCH & K DINNER'!B3","v":"SBA OUTLET"}]
[{"$f":"+'[3]K-LUNCH & K DINNER'!A4","v":"Month :"},{"$f":"+'K-LUNCH & K DINNER'!B4","v":"2013-09-01"}]
[]
["LOCAL DELIGHTS / WESTERN CRUISE / APPETIZER "]
[null,null,null,"(A)",null,null,"(B)",null,"(A) - (B)"]
[null,null,null,"SIDE ORDER                 (INCLUDING FOC)",null,null,"FOC",null,"SIDE ORDER                        (NETT SALES)",null,null,"SIDE ORDER                        (NETT COST)",null,"FOC (COST)",null,null,"USAGE"]
["NO","MENU ITEM","S/P","Sales","TOTAL",null,"Sales","TOTAL","Sales","TOTAL",null,"COST","TOTAL","COST","TOTAL",null,"MATERIAL ","RECIPE","TOTAL"]
[null,null,"RM","Q","RM",null,"Q","RM","Q","RM",null,"RM","RM","RM","RM",null,"Q","Q","Q"]
[1,"DF01 ADD RICE",1,{"$f":"VLOOKUP(B11,Summary!$B$30:$AK$409,5,FALSE)","v":10},{"$f":"D11*C11","v":10},null,{"$f":"SUMIF('DAILY FOC'!$B$9:$B$47,'SIDE ORDER & FOC'!B11,'DAILY FOC'!$BO$9:$BO$47)","v":0},{"$f":"G11*C11","v":0},{"$f":"+D11-G11","v":10},{"$f":"+I11*C11","v":10},null,{"$f":"SUMIF(DATABASE!$E$3:$E$65,'SIDE ORDER & FOC'!B11,DATABASE!$F$3:$F$49)","v":0.5},{"$f":"+L11*I11","v":5},{"$f":"+L11","v":0.5},{"$f":"+N11*G11","v":0}]
[{"$f":"+A11+1","v":2},"DF02 ADD F.EGG",1.5,{"$f":"VLOOKUP(B12,Summary!$B$30:$AK$409,5,FALSE)","v":8},{"$f":"D12*C12","v":12},null,{"$f":"SUMIF('DAILY FOC'!$B$9:$B$47,'SIDE ORDER & FOC'!B12,'DAILY FOC'!$BO$9:$BO$47)","v":0},0,{"$f":"+D12-G12","v":8},12,null,{"$f":"SUMIF(DATABASE!$E$3:$E$65,'SIDE ORDER & FOC'!B12,DATABASE!$F$3:$F$49)","v":0.34},2.72,{"$f":"+L12","v":0.34},0]
[{"$f":"+A12+1","v":3},"DC01 1101:THAI CHK",9.9,{"$f":"VLOOKUP(B13,Summary!$B$30:$AK$409,5,FALSE)","v":85},841.5,null,{"$f":"SUMIF('DAILY FOC'!$B$9:$B$47,'SIDE ORDER & FOC'!B13,'DAILY FOC'!$BO$9:$BO$47)","v":0},0,85,841.5,null,{"$f":"SUMIF(DATABASE!$E$3:$E$65,'SIDE ORDER & FOC'!B13,DATABASE!$F$3:$F$49)","v":3.29},279.64999999999998,{"$f":"+L13","v":3.29},0,null,"CHICKEN CHOP (MARINATED)",0.66,{"$f":"+R13*D13","v":56.1}]
[4,"DC02 1102:MAMITE CHK",9.9,{"$f":"VLOOKUP(B14,Summary!$B$30:$AK$409,5,FALSE)","v":65},643.5,null,{"$f":"SUMIF('DAILY FOC'!$B$9:$B$47,'SIDE ORDER & FOC'!B14,'DAILY FOC'!$BO$9:$BO$47)","v":0},0,65,643.5,null,{"$f":"SUMIF(DATABASE!$E$3:$E$65,'SIDE ORDER & FOC'!B14,DATABASE!$F$3:$F$49)","v":3.02},196.3,{"$f":"+L14","v":3.02},0,null,"CHICKEN CHOP (MARINATED)",0.66,{"$f":"+R14*D14","v":42.9}]
[5,"DC03 1103:KO PO CHK",9.9,{"$f":"VLOOKUP(B15,Summary!$B$30:$AK$409,5,FALSE)","v":42},415.8,null,{"$f":"SUMIF('DAILY FOC'!$B$9:$B$47,'SIDE ORDER & FOC'!B15,'DAILY FOC'!$BO$9:$BO$47)","v":0},0,42,415.8,null,{"$f":"SUMIF(DATABASE!$E$3:$E$65,'SIDE ORDER & FOC'!B15,DATABASE!$F$3:$F$49)","v":3.45},144.9,3.45,0,null,"CHICKEN CHOP (MARINATED)",0.66,{"$f":"+R15*D15","v":27.720000000000002}]
[6,"DC04 1104:S&S CHK",9.9,{"$f":"VLOOKUP(B16,Summary!$B$30:$AK$409,5,FALSE)","v":22},217.8,null,{"$f":"SUMIF('DAILY FOC'!$B$9:$B$47,'SIDE ORDER & FOC'!B16,'DAILY FOC'!$BO$9:$BO$47)","v":0},0,22,217.8,null,{"$f":"SUMIF(DATABASE!$E$3:$E$65,'SIDE ORDER & FOC'!B16,DATABASE!$F$3:$F$49)","v":3.45},75.900000000000006,3.45,0,null,"CHICKEN CHOP (MARINATED)",0.66,{"$f":"+R16*D16","v":14.520000000000001}]
[7,"DC05 1105:BUTTER CHK",9.9,{"$f":"VLOOKUP(B17,Summary!$B$30:$AK$409,5,FALSE)","v":142},1405.8,null,{"$f":"SUMIF('DAILY FOC'!$B$9:$B$47,'SIDE ORDER & FOC'!B17,'DAILY FOC'!$BO$9:$BO$47)","v":0},0,142,1405.8,null,{"$f":"SUMIF(DATABASE!$E$3:$E$65,'SIDE ORDER & FOC'!B17,DATABASE!$F$3:$F$49)","v":3.32},471.44,3.32,0,null,"CHICKEN CHOP (MARINATED)",0.66,{"$f":"+R17*D17","v":93.72}]
[8,"DC06 1106:HK F.RICE",9.9,{"$f":"VLOOKUP(B18,Summary!$B$30:$AK$409,5,FALSE)","v":85},841.5,null,{"$f":"SUMIF('DAILY FOC'!$B$9:$B$47,'SIDE ORDER & FOC'!B18,'DAILY FOC'!$BO$9:$BO$47)","v":0},0,85,841.5,null,{"$f":"SUMIF(DATABASE!$E$3:$E$65,'SIDE ORDER & FOC'!B18,DATABASE!$F$3:$F$49)","v":3.16},268.60000000000002,3.16,0]
[9,"DC07 1107:SBL F.RICE",9.9,{"$f":"VLOOKUP(B19,Summary!$B$30:$AK$409,5,FALSE)","v":58},574.20000000000005,null,{"$f":"SUMIF('DAILY FOC'!$B$9:$B$47,'SIDE ORDER & FOC'!B19,'DAILY FOC'!$BO$9:$BO$47)","v":1},9.9,57,564.30000000000007,null,{"$f":"SUMIF(DATABASE!$E$3:$E$65,'SIDE ORDER & FOC'!B19,DATABASE!$F$3:$F$49)","v":2.41},137.37,2.41,2.41]
[10,"DC08 1108:SBL F.MEE",9.9,{"$f":"VLOOKUP(B20,Summary!$B$30:$AK$409,5,FALSE)","v":11},108.9,null,{"$f":"SUMIF('DAILY FOC'!$B$9:$B$47,'SIDE ORDER & FOC'!B20,'DAILY FOC'!$BO$9:$BO$47)","v":0},0,11,108.9,null,{"$f":"SUMIF(DATABASE!$E$3:$E$65,'SIDE ORDER & FOC'!B20,DATABASE!$F$3:$F$49)","v":2.8},30.799999999999997,2.8,0]
[11,"DC09 1109:BP UDON",9.9,{"$f":"VLOOKUP(B21,Summary!$B$30:$AK$409,5,FALSE)","v":33},326.7,null,{"$f":"SUMIF('DAILY FOC'!$B$9:$B$47,'SIDE ORDER & FOC'!B21,'DAILY FOC'!$BO$9:$BO$47)","v":0},0,33,326.7,null,{"$f":"SUMIF(DATABASE!$E$3:$E$65,'SIDE ORDER & FOC'!B21,DATABASE!$F$3:$F$49)","v":2.08},68.64,2.08,0]
[12,"DC10 1110:NISSIN",9.9,{"$f":"VLOOKUP(B22,Summary!$B$30:$AK$409,5,FALSE)","v":29},287.10000000000002,null,{"$f":"SUMIF('DAILY FOC'!$B$9:$B$47,'SIDE ORDER & FOC'!B22,'DAILY FOC'!$BO$9:$BO$47)","v":0},0,29,287.10000000000002,null,{"$f":"SUMIF(DATABASE!$E$3:$E$65,'SIDE ORDER & FOC'!B22,DATABASE!$F$3:$F$49)","v":2.3199999999999998},67.28,2.3199999999999998,0,null,"CHICKEN SAUSAGE ",1.5,{"$f":"+R22*D22","v":43.5}]
[13,"DC11 1111:VEG RICE",9.9,{"$f":"VLOOKUP(B23,Summary!$B$30:$AK$409,5,FALSE)","v":5},49.5,null,{"$f":"SUMIF('DAILY FOC'!$B$9:$B$47,'SIDE ORDER & FOC'!B23,'DAILY FOC'!$BO$9:$BO$47)","v":0},0,5,49.5,null,{"$f":"SUMIF(DATABASE!$E$3:$E$65,'SIDE ORDER & FOC'!B23,DATABASE!$F$3:$F$49)","v":1.6},8,1.6,0]
[14,"DC12 1112:NASI LEMAK",9.9,{"$f":"VLOOKUP(B24,Summary!$B$30:$AK$409,5,FALSE)","v":38},376.2,null,{"$f":"SUMIF('DAILY FOC'!$B$9:$B$47,'SIDE ORDER & FOC'!B24,'DAILY FOC'!$BO$9:$BO$47)","v":0},0,38,376.2,null,{"$f":"SUMIF(DATABASE!$E$3:$E$65,'SIDE ORDER & FOC'!B24,DATABASE!$F$3:$F$49)","v":3.56},135.28,3.56,0,null,"CHICKEN WINGS (NON -MARINATED)",1,38]
[15,"DC13 1113:KUEY TEOW",9.9,{"$f":"VLOOKUP(B25,Summary!$B$30:$AK$409,5,FALSE)","v":52},514.80000000000007,null,{"$f":"SUMIF('DAILY FOC'!$B$9:$B$47,'SIDE ORDER & FOC'!B25,'DAILY FOC'!$BO$9:$BO$47)","v":0},0,52,514.80000000000007,null,{"$f":"SUMIF(DATABASE!$E$3:$E$65,'SIDE ORDER & FOC'!B25,DATABASE!$F$3:$F$49)","v":3.16},164.32,3.16,0]
[16,"DC14 1114:F.BALL MEE",9.9,{"$f":"VLOOKUP(B26,Summary!$B$30:$AK$409,5,FALSE)","v":6},59.400000000000006,null,{"$f":"SUMIF('DAILY FOC'!$B$9:$B$47,'SIDE ORDER & FOC'!B26,'DAILY FOC'!$BO$9:$BO$47)","v":0},0,6,59.400000000000006,null,{"$f":"SUMIF(DATABASE!$E$3:$E$65,'SIDE ORDER & FOC'!B26,DATABASE!$F$3:$F$49)","v":2.59},15.54,2.59,0,null,"FISH BALL (SMALL)",5,30]
[17,"DC15 1115:CHK NOODLE",9.9,{"$f":"VLOOKUP(B27,Summary!$B$30:$AK$409,5,FALSE)","v":19},188.1,null,{"$f":"SUMIF('DAILY FOC'!$B$9:$B$47,'SIDE ORDER & FOC'!B27,'DAILY FOC'!$BO$9:$BO$47)","v":0},0,19,188.1,null,{"$f":"SUMIF(DATABASE!$E$3:$E$65,'SIDE ORDER & FOC'!B27,DATABASE!$F$3:$F$49)","v":4.71},89.49,4.71,0,null,"CHICKEN CHOP (MARINATED)",1,19]
[18,"DB01 1001:BP CKN CP",12.9,{"$f":"VLOOKUP(B28,Summary!$B$30:$AK$409,5,FALSE)","v":72},928.80000000000007,null,{"$f":"SUMIF('DAILY FOC'!$B$9:$B$47,'SIDE ORDER & FOC'!B28,'DAILY FOC'!$BO$9:$BO$47)","v":0},0,72,928.80000000000007,null,{"$f":"SUMIF(DATABASE!$E$3:$E$65,'SIDE ORDER & FOC'!B28,DATABASE!$F$3:$F$49)","v":4.41},317.52,4.41,0,null,"CHICKEN CHOP (MARINATED)",1,72]
[19,"DB02 1002:GVY CHK CP",12.9,{"$f":"VLOOKUP(B29,Summary!$B$30:$AK$409,5,FALSE)","v":12},154.80000000000001,null,{"$f":"SUMIF('DAILY FOC'!$B$9:$B$47,'SIDE ORDER & FOC'!B29,'DAILY FOC'!$BO$9:$BO$47)","v":0},0,12,154.80000000000001,null,{"$f":"SUMIF(DATABASE!$E$3:$E$65,'SIDE ORDER & FOC'!B29,DATABASE!$F$3:$F$49)","v":4.43},53.16,4.43,0,null,"CHICKEN CHOP (MARINATED)",1,12]
[20,"DB03 1003:MSR CKN CP",12.9,{"$f":"VLOOKUP(B30,Summary!$B$30:$AK$409,5,FALSE)","v":43},554.70000000000005,null,{"$f":"SUMIF('DAILY FOC'!$B$9:$B$47,'SIDE ORDER & FOC'!B30,'DAILY FOC'!$BO$9:$BO$47)","v":0},0,43,554.70000000000005,null,{"$f":"SUMIF(DATABASE!$E$3:$E$65,'SIDE ORDER & FOC'!B30,DATABASE!$F$3:$F$49)","v":4.75},204.25,4.75,0,null,"CHICKEN CHOP (MARINATED)",1,43]
[21,"DB04 1004:CKN MARY",12.9,{"$f":"VLOOKUP(B31,Summary!$B$30:$AK$409,5,FALSE)","v":38},490.2,null,{"$f":"SUMIF('DAILY FOC'!$B$9:$B$47,'SIDE ORDER & FOC'!B31,'DAILY FOC'!$BO$9:$BO$47)","v":0},0,38,490.2,null,{"$f":"SUMIF(DATABASE!$E$3:$E$65,'SIDE ORDER & FOC'!B31,DATABASE!$F$3:$F$49)","v":5.98},227.24,5.98,0,null,"CHICKEN CHOP (MARINATED)",1,38]
[22,"DB05 1005:FISH&CHIP",12.9,{"$f":"VLOOKUP(B32,Summary!$B$30:$AK$409,5,FALSE)","v":61},786.9,null,{"$f":"SUMIF('DAILY FOC'!$B$9:$B$47,'SIDE ORDER & FOC'!B32,'DAILY FOC'!$BO$9:$BO$47)","v":0},0,61,786.9,null,{"$f":"SUMIF(DATABASE!$E$3:$E$65,'SIDE ORDER & FOC'!B32,DATABASE!$F$3:$F$49)","v":4.32},263.52000000000004,4.32,0,null,"DORY FISH FILLET ",1,{"$f":"+R32*D32","v":61}]
[23,"DB06 1006:SPAGHETTI",12.9,{"$f":"VLOOKUP(B33,Summary!$B$30:$AK$409,5,FALSE)","v":36},464.40000000000003,null,{"$f":"SUMIF('DAILY FOC'!$B$9:$B$47,'SIDE ORDER & FOC'!B33,'DAILY FOC'!$BO$9:$BO$47)","v":0},0,36,464.40000000000003,null,{"$f":"SUMIF(DATABASE!$E$3:$E$65,'SIDE ORDER & FOC'!B33,DATABASE!$F$3:$F$49)","v":2.1},75.600000000000009,2.1,0]
[24,"DB07 1007:CHK SALAD",12.9,{"$f":"VLOOKUP(B34,Summary!$B$30:$AK$409,5,FALSE)","v":31},399.90000000000003,null,{"$f":"SUMIF('DAILY FOC'!$B$9:$B$47,'SIDE ORDER & FOC'!B34,'DAILY FOC'!$BO$9:$BO$47)","v":1},12.9,30,387,null,{"$f":"SUMIF(DATABASE!$E$3:$E$65,'SIDE ORDER & FOC'!B34,DATABASE!$F$3:$F$49)","v":4.9400000000000004},148.20000000000002,4.9400000000000004,4.9400000000000004,null,"CHICKEN CHOP (MARINATED)",1,31]
[25,"DD01 1201:SFD STICK",5.9,{"$f":"VLOOKUP(B35,Summary!$B$30:$AK$409,5,FALSE)","v":2},{"$f":"D35*C35","v":11.8},null,{"$f":"SUMIF('DAILY FOC'!$B$9:$B$47,'SIDE ORDER & FOC'!B35,'DAILY FOC'!$BO$9:$BO$47)","v":0},0,2,{"$f":"+I35*C35","v":11.8},null,{"$f":"SUMIF(DATABASE!$E$3:$E$65,'SIDE ORDER & FOC'!B35,DATABASE!$F$3:$F$49)","v":2},4,2,0,null,"SOTONG BALL",2,{"$f":"+R35*$D$35","v":4}]
[null,null,null,null,null,null,null,null,null,null,null,null,null,null,null,null,"SALMON BALL",2,{"$f":"+R36*$D$35","v":4}]
[null,null,null,null,null,null,null,null,null,null,null,null,null,null,null,null,"SEAFOOD TOFU ",2,{"$f":"+R37*$D$35","v":4}]
[{"$f":"+A35+1","v":26},"DD02 1202:FREN FRIES",5.9,{"$f":"VLOOKUP(B38,Summary!$B$30:$AK$409,5,FALSE)","v":76},{"$f":"D38*C38","v":448.40000000000003},null,{"$f":"SUMIF('DAILY FOC'!$B$9:$B$100,'SIDE ORDER & FOC'!B38,'DAILY FOC'!$BO$9:$BO$100)","v":0},{"$f":"G38*C38","v":0},{"$f":"+D38-G38","v":76},{"$f":"+I38*C38","v":448.40000000000003},null,{"$f":"SUMIF(DATABASE!$E$3:$E$65,'SIDE ORDER & FOC'!B38,DATABASE!$F$3:$F$49)","v":1.76},133.76,{"$f":"+L38","v":1.76},0]
[{"$f":"+A38+1","v":27},"DD03 1203:GOLD MROOM",5.9,{"$f":"VLOOKUP(B39,Summary!$B$30:$AK$409,5,FALSE)","v":10},59,null,{"$f":"SUMIF('DAILY FOC'!$B$9:$B$100,'SIDE ORDER & FOC'!B39,'DAILY FOC'!$BO$9:$BO$100)","v":0},{"$f":"G39*C39","v":0},{"$f":"+D39-G39","v":10},{"$f":"+I39*C39","v":59},null,{"$f":"SUMIF(DATABASE!$E$3:$E$65,'SIDE ORDER & FOC'!B39,DATABASE!$F$3:$F$49)","v":2.15},21.5,2.15,0,null,null,null,{"$f":"+R39*D39","v":0}]
[28,"DD04 1204:FISHBALL",5.9,{"$f":"VLOOKUP(B40,Summary!$B$30:$AK$409,5,FALSE)","v":7},41.300000000000004,null,{"$f":"SUMIF('DAILY FOC'!$B$9:$B$100,'SIDE ORDER & FOC'!B40,'DAILY FOC'!$BO$9:$BO$100)","v":0},0,7,41.300000000000004,null,{"$f":"SUMIF(DATABASE!$E$3:$E$65,'SIDE ORDER & FOC'!B40,DATABASE!$F$3:$F$49)","v":1.56},10.92,1.56,0,null,"FISH BALL (BIG)",6,{"$f":"+R40*D40","v":42}]
[29,"DD05 1205:RAINBOW RL",5.9,{"$f":"VLOOKUP(B41,Summary!$B$30:$AK$409,5,FALSE)","v":3},17.700000000000003,null,{"$f":"SUMIF('DAILY FOC'!$B$9:$B$100,'SIDE ORDER & FOC'!B41,'DAILY FOC'!$BO$9:$BO$100)","v":0},0,0,0,null,{"$f":"SUMIF(DATABASE!$E$3:$E$65,'SIDE ORDER & FOC'!B41,DATABASE!$F$3:$F$49)","v":2.5},0,2.5,0,null,"RAINBOW ROLL",1,3]
[30,"DD06 1206:SPRING RL",5.9,{"$f":"VLOOKUP(B42,Summary!$B$30:$AK$409,5,FALSE)","v":11},64.900000000000006,null,{"$f":"SUMIF('DAILY FOC'!$B$9:$B$100,'SIDE ORDER & FOC'!B42,'DAILY FOC'!$BO$9:$BO$100)","v":1},{"$f":"G42*C42","v":5.9},10,{"$f":"+I42*C42","v":59},null,{"$f":"SUMIF(DATABASE!$E$3:$E$65,'SIDE ORDER & FOC'!B42,DATABASE!$F$3:$F$49)","v":2.67},26.7,2.67,2.67,null,"SPRING ROLL",8,88]
[31,"DD07 1207:SAUSAGE",5.9,{"$f":"VLOOKUP(B43,Summary!$B$30:$AK$409,5,FALSE)","v":18},106.2,null,{"$f":"SUMIF('DAILY FOC'!$B$9:$B$100,'SIDE ORDER & FOC'!B43,'DAILY FOC'!$BO$9:$BO$100)","v":0},0,18,106.2,null,{"$f":"SUMIF(DATABASE!$E$3:$E$65,'SIDE ORDER & FOC'!B43,DATABASE!$F$3:$F$49)","v":1.24},22.32,1.24,0,null,"CHICKEN SAUSAGE ",4,72]
[32,"DD10 1301:DUMPLING",5.9,{"$f":"VLOOKUP(B44,Summary!$B$30:$AK$409,5,FALSE)","v":4},23.6,null,{"$f":"SUMIF('DAILY FOC'!$B$9:$B$100,'SIDE ORDER & FOC'!B44,'DAILY FOC'!$BO$9:$BO$100)","v":0},0,0,0,null,{"$f":"SUMIF(DATABASE!$E$3:$E$65,'SIDE ORDER & FOC'!B44,DATABASE!$F$3:$F$49)","v":4.5},0,4.5,0,null,"DUMPLING ",6,24]
[33,"DD11 1302:NUGGET",7.9,{"$f":"VLOOKUP(B45,Summary!$B$30:$AK$409,5,FALSE)","v":23},181.70000000000002,null,{"$f":"SUMIF('DAILY FOC'!$B$9:$B$100,'SIDE ORDER & FOC'!B45,'DAILY FOC'!$BO$9:$BO$100)","v":0},0,23,181.70000000000002,null,{"$f":"SUMIF(DATABASE!$E$3:$E$65,'SIDE ORDER & FOC'!B45,DATABASE!$F$3:$F$49)","v":2.4300000000000002},55.89,2.4300000000000002,0,null,"CHICKEN NUGGET",8,184]
[34,"DD12 1303:CHK WING",7.9,{"$f":"VLOOKUP(B46,Summary!$B$30:$AK$409,5,FALSE)","v":49},387.1,null,{"$f":"SUMIF('DAILY FOC'!$B$9:$B$100,'SIDE ORDER & FOC'!B46,'DAILY FOC'!$BO$9:$BO$100)","v":1},7.9,48,379.20000000000005,null,{"$f":"SUMIF(DATABASE!$E$3:$E$65,'SIDE ORDER & FOC'!B46,DATABASE!$F$3:$F$49)","v":3.97},190.56,3.97,3.97,null,"CHICKEN WING  (MARINATED)",3,147]
[35,"DD13 1304:IKAN BILIS",7.9,{"$f":"VLOOKUP(B47,Summary!$B$30:$AK$409,5,FALSE)","v":4},31.6,null,{"$f":"SUMIF('DAILY FOC'!$B$9:$B$100,'SIDE ORDER & FOC'!B47,'DAILY FOC'!$BO$9:$BO$100)","v":0},0,4,31.6,null,{"$f":"SUMIF(DATABASE!$E$3:$E$65,'SIDE ORDER & FOC'!B47,DATABASE!$F$3:$F$49)","v":2.1800000000000002},8.7200000000000006,2.1800000000000002,0,null,null,null,0]
[36,"DD14 1305:THAI RL",7.9,{"$f":"VLOOKUP(B48,Summary!$B$30:$AK$409,5,FALSE)","v":6},47.400000000000006,null,{"$f":"SUMIF('DAILY FOC'!$B$9:$B$100,'SIDE ORDER & FOC'!B48,'DAILY FOC'!$BO$9:$BO$100)","v":0},0,6,47.400000000000006,null,{"$f":"SUMIF(DATABASE!$E$3:$E$65,'SIDE ORDER & FOC'!B48,DATABASE!$F$3:$F$49)","v":3.61},21.66,3.61,0,null,"THAI ROLL ",7,{"$f":"+R48*D48","v":42}]
[37,"DD15 1306:SLVR FISH",7.9,{"$f":"VLOOKUP(B49,Summary!$B$30:$AK$409,5,FALSE)","v":0},0,null,{"$f":"SUMIF('DAILY FOC'!$B$9:$B$100,'SIDE ORDER & FOC'!B49,'DAILY FOC'!$BO$9:$BO$100)","v":0},0,0,0,null,{"$f":"SUMIF(DATABASE!$E$3:$E$65,'SIDE ORDER & FOC'!B49,DATABASE!$F$3:$F$49)","v":0},0,0,0,null,null,null,{"$f":"+R49*D49","v":0}]
[null,"COMBO SET"]
[1,"ZAB01 1201:SFD STICK",4.95,{"$f":"VLOOKUP(B51,Summary!$B$30:$AK$409,5,FALSE)","v":16},{"$f":"D51*C51","v":79.2},null,null,null,{"$f":"+D51-G51","v":16},{"$f":"+I51*C51","v":79.2},null,{"$f":"SUMIF(DATABASE!$E$3:$E$65,'SIDE ORDER & FOC'!B51,DATABASE!$F$3:$F$49)","v":2},{"$f":"+L51*I51","v":32},{"$f":"+L51","v":2},{"$f":"+N51*G51","v":0},null,"SOTONG BALL",2,{"$f":"+R51*$D$51","v":32}]
[null,null,null,null,null,null,null,null,null,null,null,null,null,null,null,null,"SALMON BALL",2,{"$f":"+R52*$D$51","v":32}]
[null,null,null,null,null,null,null,null,null,null,null,null,null,null,null,null,"SEAFOOD TOFU ",2,{"$f":"+R53*$D$51","v":32}]
[{"$f":"+A51+1","v":2},"ZAB02 1202:FRIES",4.95,{"$f":"VLOOKUP(B54,Summary!$B$30:$AK$409,5,FALSE)","v":172},{"$f":"D54*C54","v":851.4},null,null,null,{"$f":"+D54-G54","v":172},{"$f":"+I54*C54","v":851.4},null,{"$f":"SUMIF(DATABASE!$E$3:$E$65,'SIDE ORDER & FOC'!B54,DATABASE!$F$3:$F$49)","v":1.76},{"$f":"+L54*I54","v":302.72000000000003},{"$f":"+L54","v":1.76},{"$f":"+N54*G54","v":0},null,null,null,{"$f":"+R54*D54","v":0}]
[{"$f":"+A54+1","v":3},"ZAB03 1203:GOLD MROOM",4.95,{"$f":"VLOOKUP(B55,Summary!$B$30:$AK$409,5,FALSE)","v":45},222.75,null,null,null,{"$f":"+D55-G55","v":45},222.75,null,{"$f":"SUMIF(DATABASE!$E$3:$E$65,'SIDE ORDER & FOC'!B55,DATABASE!$F$3:$F$49)","v":2.15},96.75,2.15,0,null,null,null,0]
[{"$f":"+A55+1","v":4},"ZAB04 1204:F.BALL",4.95,{"$f":"VLOOKUP(B56,Summary!$B$30:$AK$409,5,FALSE)","v":35},173.25,null,null,null,35,173.25,null,{"$f":"SUMIF(DATABASE!$E$3:$E$65,'SIDE ORDER & FOC'!B56,DATABASE!$F$3:$F$49)","v":1.56},54.6,1.56,0,null,"FISH BALL (BIG)",6,210]
[5,"ZAB05 1205:RAINBOW RL",4.95,{"$f":"VLOOKUP(B57,Summary!$B$30:$AK$409,5,FALSE)","v":11},{"$f":"D57*C57","v":54.45},null,null,null,{"$f":"+D57-G57","v":11},{"$f":"+I57*C57","v":54.45},null,{"$f":"SUMIF(DATABASE!$E$3:$E$65,'SIDE ORDER & FOC'!B57,DATABASE!$F$3:$F$49)","v":2.5},{"$f":"+L57*I57","v":27.5},{"$f":"+L57","v":2.5},{"$f":"+N57*G57","v":0},null,"RAINBOW ROLL",1,11]
[6,"ZAB06 1206:SPRING RL",4.95,{"$f":"VLOOKUP(B58,Summary!$B$30:$AK$409,5,FALSE)","v":44},217.8,null,null,null,44,217.8,null,{"$f":"SUMIF(DATABASE!$E$3:$E$65,'SIDE ORDER & FOC'!B58,DATABASE!$F$3:$F$49)","v":2.5},110,2.5,0,null,"SPRING ROLL",8,352]
[7,"ZAB07 1207:SAUSAGE",4.95,{"$f":"VLOOKUP(B59,Summary!$B$30:$AK$409,5,FALSE)","v":87},430.65000000000003,null,null,null,87,430.65000000000003,null,{"$f":"SUMIF(DATABASE!$E$3:$E$65,'SIDE ORDER & FOC'!B59,DATABASE!$F$3:$F$49)","v":2.67},232.29,2.67,0,null,"CHICKEN SAUSAGE ",4,348]
[8,"ZAC01 1301:DUMPLING",6.95,{"$f":"VLOOKUP(B60,Summary!$B$30:$AK$409,5,FALSE)","v":34},{"$f":"D60*C60","v":236.3},null,null,null,{"$f":"+D60-G60","v":34},{"$f":"+I60*C60","v":236.3},null,{"$f":"SUMIF(DATABASE!$E$3:$E$65,'SIDE ORDER & FOC'!B60,DATABASE!$F$3:$F$49)","v":1.24},{"$f":"+L60*I60","v":42.16},{"$f":"+L60","v":1.24},{"$f":"+N60*G60","v":0},null,"DUMPLING ",6,204]
[9,"ZAC02 1302:NUGGET",6.95,{"$f":"VLOOKUP(B61,Summary!$B$30:$AK$409,5,FALSE)","v":84},583.80000000000007,null,null,null,84,583.80000000000007,null,{"$f":"SUMIF(DATABASE!$E$3:$E$65,'SIDE ORDER & FOC'!B61,DATABASE!$F$3:$F$49)","v":1.24},104.16,1.24,0,null,"CHICKEN NUGGET",8,672]
[10,"ZAC03 1303:CHK WING",6.95,{"$f":"VLOOKUP(B62,Summary!$B$30:$AK$409,5,FALSE)","v":138},959.1,null,null,null,138,959.1,null,{"$f":"SUMIF(DATABASE!$E$3:$E$65,'SIDE ORDER & FOC'!B62,DATABASE!$F$3:$F$49)","v":3.97},547.86,3.97,0,null,"CHICKEN WING  (MARINATED)",3,414]
[11,"ZAC04 1304:IKAN BILIS",6.95,{"$f":"VLOOKUP(B63,Summary!$B$30:$AK$409,5,FALSE)","v":17},118.15,null,null,null,17,118.15,null,{"$f":"SUMIF(DATABASE!$E$3:$E$65,'SIDE ORDER & FOC'!B63,DATABASE!$F$3:$F$49)","v":2.1800000000000002},37.06,2.1800000000000002,0]
[12,"ZAC05 1305:THAI RL",6.95,{"$f":"VLOOKUP(B64,Summary!$B$30:$AK$409,5,FALSE)","v":25},173.75,null,null,null,25,173.75,null,{"$f":"SUMIF(DATABASE!$E$3:$E$65,'SIDE ORDER & FOC'!B64,DATABASE!$F$3:$F$49)","v":3.61},90.25,3.61,0,null,"THAI ROLL ",7,{"$f":"+R64*D64","v":175}]
[]
[null,"PLATTER"]
[1,"AE26 CNY BEER PLATER",19.899999999999999,{"$f":"VLOOKUP(B67,Summary!$B$30:$AK$409,5,FALSE)","v":0},{"$f":"D67*C67","v":0},null,null,null,{"$f":"+D67-G67","v":0},{"$f":"+I67*C67","v":0},null,{"$f":"SUMIF(DATABASE!$E$3:$E$65,'SIDE ORDER & FOC'!B67,DATABASE!$F$3:$F$49)","v":9.81},{"$f":"+L67*I67","v":0},{"$f":"+L67","v":9.81},{"$f":"+N67*G67","v":0},null,"CHICKEN WINGS (NON -MARINATED)",4,{"$f":"+R67*$D$67","v":0}]
[null,null,null,null,null,null,null,null,null,null,null,null,null,null,null,null,"MCCAIN ONION RING",8,{"$f":"+R68*$D$67","v":0}]
[2,"AE27 CNY PLATER",23.9,{"$f":"VLOOKUP(B69,Summary!$B$30:$AK$409,5,FALSE)","v":0},{"$f":"D69*C69","v":0},null,null,null,{"$f":"+D69-G69","v":0},{"$f":"+I69*C69","v":0},null,{"$f":"SUMIF(DATABASE!$E$3:$E$65,'SIDE ORDER & FOC'!B69,DATABASE!$F$3:$F$49)","v":9.81},{"$f":"+L69*I69","v":0},{"$f":"+L69","v":9.81},0,null,"CHICKEN WINGS (NON -MARINATED)",4,{"$f":"+R69*$D$69","v":0}]
[null,null,null,null,null,null,null,null,null,null,null,null,null,null,null,null,"MCCAIN ONION RING",8,{"$f":"+R70*$D$69","v":0}]
[3,"DD16 McCain AlaCarte",16.899999999999999,{"$f":"VLOOKUP(B71,Summary!$B$30:$AK$409,5,FALSE)","v":63},{"$f":"D71*C71","v":1064.6999999999998},null,{"$f":"SUMIF('DAILY FOC'!$B$9:$B$100,'SIDE ORDER & FOC'!B71,'DAILY FOC'!$BO$9:$BO$100)","v":0},null,{"$f":"+D71-G71","v":63},{"$f":"+I71*C71","v":1064.6999999999998},null,{"$f":"SUMIF(DATABASE!$E$3:$E$65,'SIDE ORDER & FOC'!B71,DATABASE!$F$3:$F$49)","v":4.5999999999999996},{"$f":"+L71*I71","v":289.79999999999995},{"$f":"+L71","v":4.5999999999999996},0,null,"MCCAIN VERSITOT",8,{"$f":"+R71*$D$71","v":504}]
[null,null,null,null,null,null,null,null,null,null,null,null,null,null,null,null,"MCCAIN SMILES",6,{"$f":"+R72*$D$71","v":378}]
[null,null,null,null,null,null,null,null,null,null,null,null,null,null,null,null,"MCCAIN ONION RING",8,{"$f":"+R73*$D$71","v":504}]
[null,null,null,null,null,null,null,null,null,null,null,null,null,null,null,null,"MCCAIN SPIRAL FRIES",0.12,{"$f":"+R74*$D$71","v":7.56}]
[4,"DD17 McCain Beer",12.9,{"$f":"VLOOKUP(B75,Summary!$B$30:$AK$409,5,FALSE)","v":28},{"$f":"D75*C75","v":361.2},null,{"$f":"SUMIF('DAILY FOC'!$B$9:$B$100,'SIDE ORDER & FOC'!B75,'DAILY FOC'!$BO$9:$BO$100)","v":0},null,{"$f":"+D75-G75","v":28},{"$f":"+I75*C75","v":361.2},null,{"$f":"SUMIF(DATABASE!$E$3:$E$65,'SIDE ORDER & FOC'!B75,DATABASE!$F$3:$F$49)","v":4.5999999999999996},{"$f":"+L75*I75","v":128.79999999999998},{"$f":"+L75","v":4.5999999999999996},0,null,"MCCAIN VERSITOT",8,{"$f":"+R75*$D$75","v":224}]
[null,null,null,null,null,null,null,null,null,null,null,null,null,null,null,null,"MCCAIN SMILES",6,{"$f":"+R76*$D$75","v":168}]
[null,null,null,null,null,null,null,null,null,null,null,null,null,null,null,null,"MCCAIN ONION RING",8,{"$f":"+R77*$D$75","v":224}]
[null,null,null,null,null,null,null,null,null,null,null,null,null,null,null,null,"MCCAIN SPIRAL FRIES",0.12,{"$f":"+R78*$D$75","v":3.36}]
["Total Sales / COST",null,null,{"$f":"SUM(D11:D78)","v":2015},{"$f":"SUM(E11:E78)","v":17599.7},null,{"$f":"SUM(G11:G78)","v":4},{"$f":"SUM(H11:H78)","v":36.6},{"$f":"SUM(I11:I78)","v":2004},{"$f":"SUM(J11:J78)","v":17521.8},null,null,{"$f":"SUM(M11:M78)","v":6042.7},null,{"$f":"SUM(O11:O78)","v":13.99}]
[]
[]
[]
[]
[]
[]
[]
[]
[]
[]
[]
[]
[]
[]
[]
[]
[]
[]
[]
[]
[]
[]
[]
[]
[]
[]
[]
[]
[]
[]
[]
[]
[]
[]
[]
[]
[]
[]
[]
[]
[]
[]
[]
[]
[]
[]
[]
[]
[]
[]
[]
[]
[]
[]
[]
[]
[]
[]
[]
[]
[]
[]
[]
[]
[]
[]
[]
[]
[]
[]
[]
[]
[]
[]
[]
[]
[]
[]
[]
[]
[null,null,null,null,null,null,null,null,null,null,null,null,null,null,null,null,null,null,{"$f":"SUBTOTAL(9,S13:S34)","v":622.46}]

{"sheet":"DAILY FOC","index":7,"n_rows":49,"n_cols":69,"rows_kept":49,"cut":false,"hidden":false,"merged":[[6,41,6,42],[6,57,6,58],[6,59,6,60],[6,61,6,62],[6,63,6,64],[6,45,6,46],[6,47,6,48],[6,49,6,50],[6,51,6,52],[6,53,6,54],[6,55,6,56],[6,31,6,32],[6,33,6,34],[6,35,6,36],[6,37,6,38],[6,39,6,40],[0,0,0,67],[6,3,6,4],[6,5,6,6],[6,7,6,8],[6,9,6,10],[6,11,6,12],[6,13,6,14],[6,15,6,16],[6,17,6,18],[6,19,6,20],[6,43,6,44],[6,21,6,22],[6,23,6,24],[6,25,6,26],[6,27,6,28],[6,29,6,30]]}
["MONTHLY SALES FOOD RECORD ( FOC)"]
[]
[{"$f":"+'[3]K-LUNCH & K DINNER'!A3","v":"Outlet :"},{"$f":"+'K-LUNCH & K DINNER'!B3","v":"SBA OUTLET"}]
[{"$f":"+'[3]K-LUNCH & K DINNER'!A4","v":"Month :"},{"$f":"+'K-LUNCH & K DINNER'!B4","v":"2013-09-01"}]
[]
[]
["NO","Item","S/P",1,null,{"$f":"+D7+1","v":2},null,{"$f":"+F7+1","v":3},null,{"$f":"+H7+1","v":4},null,{"$f":"+J7+1","v":5},null,{"$f":"+L7+1","v":6},null,{"$f":"+N7+1","v":7},null,{"$f":"+P7+1","v":8},null,{"$f":"+R7+1","v":9},null,{"$f":"+T7+1","v":10},null,{"$f":"+V7+1","v":11},null,{"$f":"+X7+1","v":12},null,{"$f":"+Z7+1","v":13},null,{"$f":"+AB7+1","v":14},null,{"$f":"+AD7+1","v":15},null,{"$f":"+AF7+1","v":16},null,{"$f":"+AH7+1","v":17},null,{"$f":"+AJ7+1","v":18},null,{"$f":"+AL7+1","v":19},null,{"$f":"+AN7+1","v":20},null,{"$f":"+AP7+1","v":21},null,{"$f":"+AR7+1","v":22},null,{"$f":"+AT7+1","v":23},null,{"$f":"+AV7+1","v":24},null,{"$f":"+AX7+1","v":25},null,{"$f":"+AZ7+1","v":26},null,{"$f":"+BB7+1","v":27},null,{"$f":"+BD7+1","v":28},null,{"$f":"+BF7+1","v":29},null,{"$f":"+BH7+1","v":30},null,{"$f":"+BJ7+1","v":31},null,null,"TOTAL","TOTAL","%"]
[null,null,"RM","Q","RM","Q","RM","Q","RM","Q","RM","Q","RM","Q","RM","Q","RM","Q","RM","Q","RM","Q","RM","Q","RM","Q","RM","Q","RM","Q","RM","Q","RM","Q","RM","Q","RM","Q","RM","Q","RM","Q","RM","Q","RM","Q","RM","Q","RM","Q","RM","Q","RM","Q","RM","Q","RM","Q","RM","Q","RM","Q","RM","Q","RM",null,"Q","RM"]
[1,"DF01 ADD RICE",1,0,{"$f":"D9*C9","v":0},0,{"$f":"F9*C9","v":0},0,{"$f":"H9*C9","v":0},0,{"$f":"J9*C9","v":0},0,{"$f":"L9*C9","v":0},0,{"$f":"N9*C9","v":0},0,{"$f":"P9*C9","v":0},0,{"$f":"R9*C9","v":0},0,{"$f":"T9*C9","v":0},0,{"$f":"V9*C9","v":0},0,{"$f":"X9*C9","v":0},0,{"$f":"Z9*C9","v":0},0,{"$f":"AB9*C9","v":0},0,{"$f":"AD9*C9","v":0},0,{"$f":"AF9*C9","v":0},0,{"$f":"AH9*C9","v":0},0,{"$f":"AJ9*C9","v":0},0,{"$f":"AL9*C9","v":0},0,{"$f":"AN9*C9","v":0},0,{"$f":"AP9*C9","v":0},0,{"$f":"AR9*C9","v":0},0,{"$f":"AT9*C9","v":0},0,{"$f":"AV9*C9","v":0},0,{"$f":"AX9*C9","v":0},0,{"$f":"AZ9*C9","v":0},0,{"$f":"BB9*C9","v":0},0,{"$f":"BD9*C9","v":0},0,{"$f":"BF9*C9","v":0},0,{"$f":"BH9*C9","v":0},0,{"$f":"BJ9*C9","v":0},0,{"$f":"BL9*C9","v":0},null,{"$f":"D9+F9+H9+J9+L9+N9+P9+R9+T9+V9+X9+Z9+AB9+AD9+AF9+AH9+AJ9+AL9+AN9+AP9+AR9+AT9+AV9+AX9+AZ9+BB9+BD9+BF9+BH9+BJ9+BL9","v":0},{"$f":"BO9*C9","v":0}]
[{"$f":"+A9+1","v":2},"DF02 ADD F.EGG",1.5,0,0,0,0,0,0,0,0,0,0,0,0,0,0,0,0,0,0,0,0,0,0,0,0,0,0,0,0,0,0,0,0,0,0,0,0,0,0,0,0,0,0,0,0,0,0,0,0,0,0,0,0,0,0,0,0,0,0,0,0,0,0,null,0,0]
[{"$f":"+A10+1","v":3},"DC01 1101:THAI CHK",9.9,0,{"$f":"D11*C11","v":0},0,{"$f":"F11*C11","v":0},0,{"$f":"H11*C11","v":0},0,{"$f":"J11*C11","v":0},0,{"$f":"L11*C11","v":0},0,{"$f":"N11*C11","v":0},0,{"$f":"P11*C11","v":0},0,{"$f":"R11*C11","v":0},0,{"$f":"T11*C11","v":0},0,{"$f":"V11*C11","v":0},0,{"$f":"X11*C11","v":0},0,{"$f":"Z11*C11","v":0},0,{"$f":"AB11*C11","v":0},0,{"$f":"AD11*C11","v":0},0,{"$f":"AF11*C11","v":0},0,{"$f":"AH11*C11","v":0},0,{"$f":"AJ11*C11","v":0},0,{"$f":"AL11*C11","v":0},0,{"$f":"AN11*C11","v":0},0,{"$f":"AP11*C11","v":0},0,{"$f":"AR11*C11","v":0},0,{"$f":"AT11*C11","v":0},0,{"$f":"AV11*C11","v":0},0,{"$f":"AX11*C11","v":0},0,{"$f":"AZ11*C11","v":0},0,{"$f":"BB11*C11","v":0},0,{"$f":"BD11*C11","v":0},0,{"$f":"BF11*C11","v":0},0,{"$f":"BH11*C11","v":0},0,{"$f":"BJ11*C11","v":0},0,{"$f":"BL11*C11","v":0},null,{"$f":"D11+F11+H11+J11+L11+N11+P11+R11+T11+V11+X11+Z11+AB11+AD11+AF11+AH11+AJ11+AL11+AN11+AP11+AR11+AT11+AV11+AX11+AZ11+BB11+BD11+BF11+BH11+BJ11+BL11","v":0},{"$f":"BO11*C11","v":0}]
[4,"DC02 1102:MAMITE CHK",9.9,0,0,0,0,0,0,0,0,0,0,0,0,0,0,0,0,0,0,0,0,0,0,0,0,0,0,0,0,0,0,0,0,0,0,0,0,0,0,0,0,0,0,0,0,0,0,0,0,0,0,0,0,0,0,0,0,0,0,0,0,0,0,null,0,0]
[5,"DC03 1103:KO PO CHK",9.9,0,0,0,0,0,0,0,0,0,0,0,0,0,0,0,0,0,0,0,0,0,0,0,0,0,0,0,0,0,0,0,0,0,0,0,0,0,0,0,0,0,0,0,0,0,0,0,0,0,0,0,0,0,0,0,0,0,0,0,0,0,0,null,0,0]
[6,"DC04 1104:S&S CHK",9.9,0,0,0,0,0,0,0,0,0,0,0,0,0,0,0,0,0,0,0,0,0,0,0,0,0,0,0,0,0,0,0,0,0,0,0,0,0,0,0,0,0,0,0,0,0,0,0,0,0,0,0,0,0,0,0,0,0,0,0,0,0,0,null,0,0]
[7,"DC05 1105:BUTTER CHK",9.9,0,0,0,0,0,0,0,0,0,0,0,0,0,0,0,0,0,0,0,0,0,0,0,0,0,0,0,0,0,0,0,0,0,0,0,0,0,0,0,0,0,0,0,0,0,0,0,0,0,0,0,0,0,0,0,0,0,0,0,0,0,0,null,0,0]
[8,"DC06 1106:HK F.RICE",9.9,0,0,0,0,0,0,0,0,0,0,0,0,0,0,0,0,0,0,0,0,0,0,0,0,0,0,0,0,0,0,0,0,0,0,0,0,0,0,0,0,0,0,0,0,0,0,0,0,0,0,0,0,0,0,0,0,0,0,0,0,0,0,null,0,0]
[9,"DC07 1107:SBL F.RICE",9.9,0,0,0,0,0,0,0,0,0,0,0,0,0,0,0,0,0,0,0,0,0,0,0,0,0,0,0,0,0,0,0,0,0,0,0,0,0,0,0,0,0,0,0,0,0,0,0,0,0,0,0,0,0,0,0,0,1,9.9,0,0,0,0,null,1,9.9]
[10,"DC08 1108:SBL F.MEE",9.9,0,0,0,0,0,0,0,0,0,0,0,0,0,0,0,0,0,0,0,0,0,0,0,0,0,0,0,0,0,0,0,0,0,0,0,0,0,0,0,0,0,0,0,0,0,0,0,0,0,0,0,0,0,0,0,0,0,0,0,0,0,0,null,0,0]
[11,"DC09 1109:BP UDON",9.9,0,0,0,0,0,0,0,0,0,0,0,0,0,0,0,0,0,0,0,0,0,0,0,0,0,0,0,0,0,0,0,0,0,0,0,0,0,0,0,0,0,0,0,0,0,0,0,0,0,0,0,0,0,0,0,0,0,0,0,0,0,0,null,0,0]
[12,"DC10 1110:NISSIN",9.9,0,0,0,0,0,0,0,0,0,0,0,0,0,0,0,0,0,0,0,0,0,0,0,0,0,0,0,0,0,0,0,0,0,0,0,0,0,0,0,0,0,0,0,0,0,0,0,0,0,0,0,0,0,0,0,0,0,0,0,0,0,0,null,0,0]
[13,"DC11 1111:VEG RICE",9.9,0,0,0,0,0,0,0,0,0,0,0,0,0,0,0,0,0,0,0,0,0,0,0,0,0,0,0,0,0,0,0,0,0,0,0,0,0,0,0,0,0,0,0,0,0,0,0,0,0,0,0,0,0,0,0,0,0,0,0,0,0,0,null,0,0]
[14,"DC12 1112:NASI LEMAK",9.9,0,0,0,0,0,0,0,0,0,0,0,0,0,0,0,0,0,0,0,0,0,0,0,0,0,0,0,0,0,0,0,0,0,0,0,0,0,0,0,0,0,0,0,0,0,0,0,0,0,0,0,0,0,0,0,0,0,0,0,0,0,0,null,0,0]
[15,"DC13 1113:KUEY TEOW",9.9,0,0,0,0,0,0,0,0,0,0,0,0,0,0,0,0,0,0,0,0,0,0,0,0,0,0,0,0,0,0,0,0,0,0,0,0,0,0,0,0,0,0,0,0,0,0,0,0,0,0,0,0,0,0,0,0,0,0,0,0,0,0,null,0,0]
[16,"DC14 1114:F.BALL MEE",9.9,0,0,0,0,0,0,0,0,0,0,0,0,0,0,0,0,0,0,0,0,0,0,0,0,0,0,0,0,0,0,0,0,0,0,0,0,0,0,0,0,0,0,0,0,0,0,0,0,0,0,0,0,0,0,0,0,0,0,0,0,0,0,null,0,0]
[17,"DC15 1115:CHK NOODLE",9.9,0,0,0,0,0,0,0,0,0,0,0,0,0,0,0,0,0,0,0,0,0,0,0,0,0,0,0,0,0,0,0,0,0,0,0,0,0,0,0,0,0,0,0,0,0,0,0,0,0,0,0,0,0,0,0,0,0,0,0,0,0,0,null,0,0]
[18,"DB01 1001:BP CKN CP",12.9,0,0,0,0,0,0,0,0,0,0,0,0,0,0,0,0,0,0,0,0,0,0,0,0,0,0,0,0,0,0,0,0,0,0,0,0,0,0,0,0,0,0,0,0,0,0,0,0,0,0,0,0,0,0,0,0,0,0,0,0,0,0,null,0,0]
[19,"DB02 1002:GVY CHK CP",12.9,0,0,0,0,0,0,0,0,0,0,0,0,0,0,0,0,0,0,0,0,0,0,0,0,0,0,0,0,0,0,0,0,0,0,0,0,0,0,0,0,0,0,0,0,0,0,0,0,0,0,0,0,0,0,0,0,0,0,0,0,0,0,null,0,0]
[20,"DB03 1003:MSR CKN CP",12.9,0,0,0,0,0,0,0,0,0,0,0,0,0,0,0,0,0,0,0,0,0,0,0,0,0,0,0,0,0,0,0,0,0,0,0,0,0,0,0,0,0,0,0,0,0,0,0,0,0,0,0,0,0,0,0,0,0,0,0,0,0,0,null,0,0]
[21,"DB04 1004:CKN MARY",12.9,0,0,0,0,0,0,0,0,0,0,0,0,0,0,0,0,0,0,0,0,0,0,0,0,0,0,0,0,0,0,0,0,0,0,0,0,0,0,0,0,0,0,0,0,0,0,0,0,0,0,0,0,0,0,0,0,0,0,0,0,0,0,null,0,0]
[22,"DB05 1005:FISH&CHIP",12.9,0,0,0,0,0,0,0,0,0,0,0,0,0,0,0,0,0,0,0,0,0,0,0,0,0,0,0,0,0,0,0,0,0,0,0,0,0,0,0,0,0,0,0,0,0,0,0,0,0,0,0,0,0,0,0,0,0,0,0,0,0,0,null,0,0]
[23,"DB06 1006:SPAGHETTI",12.9,0,0,0,0,0,0,0,0,0,0,0,0,0,0,0,0,0,0,0,0,0,0,0,0,0,0,0,0,0,0,0,0,0,0,0,0,0,0,0,0,0,0,0,0,0,0,0,0,0,0,0,0,0,0,0,0,0,0,0,0,0,0,null,0,0]
[24,"DB07 1007:CHK SALAD",12.9,0,0,0,0,0,0,0,0,0,0,0,0,0,0,0,0,0,0,0,0,0,0,0,0,0,0,0,0,0,0,0,0,0,0,0,0,0,0,0,0,0,0,0,0,0,0,0,0,0,0,0,0,0,0,0,0,1,12.9,0,0,0,0,null,1,12.9]
[25,"DD01 1201:SFD STICK",5.9,0,0,0,0,0,0,0,0,0,0,0,0,0,0,0,0,0,0,0,0,0,0,0,0,0,0,0,0,0,0,0,0,0,0,0,0,0,0,0,0,0,0,0,0,0,0,0,0,0,0,0,0,0,0,0,0,0,0,0,0,0,0,null,0,0]
[26,"DD02 1202:FREN FRIES",5.9,0,0,0,0,0,0,0,0,0,0,0,0,0,0,0,0,0,0,0,0,0,0,0,0,0,0,0,0,0,0,0,0,0,0,0,0,0,0,0,0,0,0,0,0,0,0,0,0,0,0,0,0,0,0,0,0,0,0,0,0,0,0,null,0,0]
[27,"DD03 1203:GOLD MROOM",5.9,0,0,0,0,0,0,0,0,0,0,0,0,0,0,0,0,0,0,0,0,0,0,0,0,0,0,0,0,0,0,0,0,0,0,0,0,0,0,0,0,0,0,0,0,0,0,0,0,0,0,0,0,0,0,0,0,0,0,0,0,0,0,null,0,0]
[28,"DD04 1204:FISHBALL",5.9,0,0,0,0,0,0,0,0,0,0,0,0,0,0,0,0,0,0,0,0,0,0,0,0,0,0,0,0,0,0,0,0,0,0,0,0,0,0,0,0,0,0,0,0,0,0,0,0,0,0,0,0,0,0,0,0,0,0,0,0,0,0,null,0,0]
[29,"DD05 1205:RAINBOW RL",5.9,0,0,0,0,0,0,0,0,0,0,0,0,0,0,0,0,0,0,0,0,0,0,0,0,0,0,0,0,0,0,0,0,0,0,0,0,0,0,0,0,0,0,0,0,0,0,0,0,0,0,0,0,0,0,0,0,0,0,0,0,0,0,null,0,0]
[30,"DD06 1206:SPRING RL",5.9,0,0,0,0,0,0,0,0,0,0,0,0,0,0,0,0,0,0,0,0,0,0,0,0,0,0,0,0,0,0,0,0,0,0,0,0,0,0,0,0,0,0,0,0,0,0,0,0,0,0,0,0,0,0,0,0,1,5.9,0,0,0,0,null,1,5.9]
[31,"DD07 1207:SAUSAGE",5.9,0,0,0,0,0,0,0,0,0,0,0,0,0,0,0,0,0,0,0,0,0,0,0,0,0,0,0,0,0,0,0,0,0,0,0,0,0,0,0,0,0,0,0,0,0,0,0,0,0,0,0,0,0,0,0,0,0,0,0,0,0,0,null,0,0]
[32,"DD10 1301:DUMPLING",7.9,0,0,0,0,0,0,0,0,0,0,0,0,0,0,0,0,0,0,0,0,0,0,0,0,0,0,0,0,0,0,0,0,0,0,0,0,0,0,0,0,0,0,0,0,0,0,0,0,0,0,0,0,0,0,0,0,0,0,0,0,0,0,null,0,0]
[33,"DD11 1302:NUGGET",7.9,0,0,0,0,0,0,0,0,0,0,0,0,0,0,0,0,0,0,0,0,0,0,0,0,0,0,0,0,0,0,0,0,0,0,0,0,0,0,0,0,0,0,0,0,0,0,0,0,0,0,0,0,0,0,0,0,0,0,0,0,0,0,null,0,0]
[34,"DD12 1303:CHK WING",7.9,0,0,0,0,0,0,0,0,0,0,0,0,0,0,0,0,0,0,0,0,0,0,0,0,0,0,0,0,0,0,0,0,0,0,0,0,0,0,0,0,0,0,0,0,0,0,0,0,0,0,0,0,0,0,0,0,1,7.9,0,0,0,0,null,1,7.9]
[35,"DD13 1304:IKAN BILIS",7.9,0,0,0,0,0,0,0,0,0,0,0,0,0,0,0,0,0,0,0,0,0,0,0,0,0,0,0,0,0,0,0,0,0,0,0,0,0,0,0,0,0,0,0,0,0,0,0,0,0,0,0,0,0,0,0,0,0,0,0,0,0,0,null,0,0]
[36,"DD14 1305:THAI RL",7.9,0,0,0,0,0,0,0,0,0,0,0,0,0,0,0,0,0,0,0,0,0,0,0,0,0,0,0,0,0,0,0,0,0,0,0,0,0,0,0,0,0,0,0,0,0,0,0,0,0,0,0,0,0,0,0,0,0,0,0,0,0,0,null,0,0]
[37,"DD15 1306:SLVR FISH",7.9,0,0,0,0,0,0,0,0,0,0,0,0,0,0,0,0,0,0,0,0,0,0,0,0,0,0,0,0,0,0,0,0,0,0,0,0,0,0,0,0,0,0,0,0,0,0,0,0,0,0,0,0,0,0,0,0,0,0,0,0,0,0,null,0,0]
[38,"DD16 McCain AlaCarte",16.899999999999999,0,0,0,0,0,0,0,0,0,0,0,0,0,0,0,0,0,0,0,0,0,0,0,0,0,0,0,0,0,0,0,0,0,0,0,0,0,0,0,0,0,0,0,0,0,0,0,0,0,0,0,0,0,0,0,0,0,0,0,0,0,0,null,0,0]
[39,"DD17 McCain Beer",12.9,0,0,0,0,0,0,0,0,0,0,0,0,0,0,0,0,0,0,0,0,0,0,0,0,0,0,0,0,0,0,0,0,0,0,0,0,0,0,0,0,0,0,0,0,0,0,0,0,0,0,0,0,0,0,0,0,0,0,0,0,0,0,null,0,0]
[]
[null,"Total Foc","-",{"$f":"SUM(D9:D47)","v":0},{"$f":"SUM(E9:E47)","v":0},0,0,0,0,0,0,0,0,0,0,0,0,0,0,0,0,0,0,0,0,0,0,0,0,0,0,0,0,0,0,0,0,0,0,0,0,{"$f":"SUM(AP9:AP47)","v":0},0,0,0,0,0,0,0,0,0,0,0,0,0,0,0,0,0,{"$f":"SUM(BH9:BH47)","v":4},36.6,0,0,0,0,null,{"$f":"SUM(BO9:BO47)","v":4},{"$f":"SUM(BP9:BP48)","v":36.6}]

{"sheet":"SAUCE USAGE","index":8,"n_rows":100,"n_cols":10,"rows_kept":100,"cut":false,"hidden":false,"merged":[[6,6,6,8]]}
["MONTHLY SERVINGS: SAUCE "]
[]
[{"$f":"+'[4]K-LUNCH & K DINNER'!A3","v":"Outlet :"},{"$f":"+'K-LUNCH & K DINNER'!B3","v":"SBA OUTLET"}]
[{"$f":"+'K-LUNCH & K DINNER'!A4","v":"Month :"},{"$f":"+'K-LUNCH & K DINNER'!B4","v":"2013-09-01"}]
[]
[]
[null,null,null,"FROM SYSTEM ",null,null,"USAGE"]
["NO","Item","COST","SERVINGS","TOTAL ",null,"MATERIAL ","RECIPE","TOTAL","TOTAL COST"]
[null,null,"RM","Q","Q",null,"Q","GRAM","GRAM ","RM"]
[]
[null,"REQUEST BY CUSTOMERS",null,null,null,null,"ALL PORTION DECREASED BY 10 GRAM"]
[1,"DF03 ADD SAUCE 1000",1.0800000000000001E-2,{"$f":"VLOOKUP(B12,Summary!$B$30:$AK$376,5,FALSE)","v":13},{"$f":"+D12","v":13},null,"DRESSING THOUSAND ISLAND",55,{"$f":"+H12*E12","v":715},{"$f":"+I12*C12","v":7.7220000000000004}]
[{"$f":"+A12+1","v":2},"DF04 ADD SAUCE BOLO",1.14E-2,{"$f":"VLOOKUP(B13,Summary!$B$30:$AK$376,5,FALSE)","v":0},{"$f":"+D13","v":0},null,"BOLOGNESE SAUCE",140,0,0]
[{"$f":"+A13+1","v":3},"DF05 ADD SAUCE BP",3.0000000000000001E-3,{"$f":"VLOOKUP(B14,Summary!$B$30:$AK$376,5,FALSE)","v":8},8,null,"BLACK PEPPER SAUCE",80,640,1.92]
[4,"DF06 ADD SAUCE BUTTER",5.8999999999999999E-3,{"$f":"VLOOKUP(B15,Summary!$B$30:$AK$376,5,FALSE)","v":8},8,null,"BUTTER CREAM SAUCE",65,520,3.0680000000000001]
[5,"DF07 ADD SAUCE C.PADI",{"$f":"0.13/30","v":4.3333333333333331E-3},{"$f":"VLOOKUP(B16,Summary!$B$30:$AK$376,5,FALSE)","v":67},67,null,"SAUCE CHILLI (KIMBALL)",20,1340,5.8066666666666666]
[6,"DF08 ADD SAUCE GS",3.3E-3,{"$f":"VLOOKUP(B17,Summary!$B$30:$AK$376,5,FALSE)","v":1},1,null,"GRAVY SAUCE",80,80,0.26400000000000001]
[7,"DF09 ADD SAUCE MAYO",6.3E-3,{"$f":"VLOOKUP(B18,Summary!$B$30:$AK$376,5,FALSE)","v":79},79,null,"MAYONNAISE",70,5530,34.838999999999999]
[8,"DF10 ADD SAUCE MMITE",2E-3,{"$f":"VLOOKUP(B19,Summary!$B$30:$AK$376,5,FALSE)","v":0},0,null,"MARMITE SAUCE ",70,0,0]
[9,"DF11 ADD SAUCE MR",6.7999999999999996E-3,{"$f":"VLOOKUP(B20,Summary!$B$30:$AK$376,5,FALSE)","v":9},9,null,"MUSHROOM SAUCE",80,720,4.8959999999999999]
[10,"DF12 ADD SAUCE SAMBAL",8.2500000000000004E-3,{"$f":"VLOOKUP(B21,Summary!$B$30:$AK$376,5,FALSE)","v":25},25,null,"SAMBAL SAUCE (NASI)",110,2750,22.6875]
[11,"DF13 ADD SAUCE THAI",{"$f":"0.27/38","v":7.1052631578947369E-3},{"$f":"VLOOKUP(B22,Summary!$B$30:$AK$376,5,FALSE)","v":4},4,null,"THAI SAUCE",65,260,1.8473684210526315]
[12,"DF14 ADD SAUCE TOMATO",3.5000000000000001E-3,{"$f":"VLOOKUP(B23,Summary!$B$30:$AK$376,5,FALSE)","v":36},36,null,"TOMATO SAUCE ( KIMBALL )",20,720,2.52]
[13,"DF15 ADD TATA SAUCE",1.24E-2,{"$f":"VLOOKUP(B24,Summary!$B$30:$AK$376,5,FALSE)","v":21},21,null,"TARTAR SAUCE",28,588,7.2911999999999999]
[14,"DF16 ADD SAUCE CHEES",null,{"$f":"VLOOKUP(B25,Summary!$B$30:$AK$376,5,FALSE)","v":4},4,null,"NACHO CHEESE DIP ",70,280,0]
[]
[null,"K LUNCH & K DINNER"]
[1,"DH01 91101:THAI CHK",{"$f":"0.27/38","v":7.1052631578947369E-3},{"$f":"VLOOKUP(B28,Summary!$B$30:$AK$376,5,FALSE)","v":205},{"$f":"+D28","v":205},null,"THAI SAUCE",75,{"$f":"+H28*E28","v":15375},{"$f":"+I28*C28","v":109.24342105263158}]
[{"$f":"+A28+1","v":2},"DH02 91102:MAMITE CHK",2E-3,{"$f":"VLOOKUP(B29,Summary!$B$30:$AK$376,5,FALSE)","v":176},{"$f":"+D29","v":176},null,"MARMITE SAUCE ",80,{"$f":"+H29*E29","v":14080},28.16]
[{"$f":"+A29+1","v":3},"DH03 91103:KO PO CHK",1.5E-3,{"$f":"VLOOKUP(B30,Summary!$B$30:$AK$376,5,FALSE)","v":81},81,null,"KONG PO SAUCE",180,14580,21.87]
[4,"DH04 91104:S&S CHK",{"$f":"0.38/200","v":1.9E-3},{"$f":"VLOOKUP(B31,Summary!$B$30:$AK$376,5,FALSE)","v":69},69,null,"SWEET & SOUR SAUCE",200,13800,26.22]
[5,"DH05 91105:BUTTER CHK",5.8999999999999999E-3,{"$f":"VLOOKUP(B32,Summary!$B$30:$AK$376,5,FALSE)","v":317},317,null,"BUTTER CREAM SAUCE",75,23775,140.27250000000001]
[6,"DH06 91106:HK F.RICE",{"$f":"0.28/30","v":9.3333333333333341E-3},{"$f":"VLOOKUP(B33,Summary!$B$30:$AK$376,5,FALSE)","v":140},140,null,null,null,0,0]
[7,"DH07 91107:SBL F.RICE",9.1000000000000004E-3,{"$f":"VLOOKUP(B34,Summary!$B$30:$AK$376,5,FALSE)","v":114},114,null,"SAMBAL (FRIED)SAUCE",30,3420,31.122]
[8,"DH08 91108:SBL F.MEE",9.1000000000000004E-3,{"$f":"VLOOKUP(B35,Summary!$B$30:$AK$376,5,FALSE)","v":26},26,null,"SAMBAL (FRIED)SAUCE",30,780,7.0980000000000008]
[9,"DH09 91109:BP UDON",3.8999999999999998E-3,{"$f":"VLOOKUP(B36,Summary!$B$30:$AK$376,5,FALSE)","v":58},58,null,"BLACK PEPPER SAUCE (UDON)",70,4060,15.834]
[10,"DH10 91110:NISSIN",{"$f":"0.7/80","v":8.7499999999999991E-3},{"$f":"VLOOKUP(B37,Summary!$B$30:$AK$376,5,FALSE)","v":52},52,null,null,null,0,0]
[{"$f":"+A37+1","v":11},"DH11 91111:VEG RICE",{"$f":"0.28/90","v":3.1111111111111114E-3},{"$f":"VLOOKUP(B38,Summary!$B$30:$AK$376,5,FALSE)","v":27},27,null,null,null,0,0]
[{"$f":"+A38+1","v":12},"DH12 91112:NASI LEMAK",7.4000000000000003E-3,{"$f":"VLOOKUP(B39,Summary!$B$30:$AK$376,5,FALSE)","v":81},81,null,"SAMBAL SAUCE (NASI)",110,8910,65.933999999999997]
[13,"DH13 91113:KUEY TEOW",9.1000000000000004E-3,{"$f":"VLOOKUP(B40,Summary!$B$30:$AK$376,5,FALSE)","v":62},62,null,"SAMBAL (FRIED)SAUCE",30,1860,16.926000000000002]
[14,"DH14 91114:F.BALL MEE",{"$f":"0.75/130","v":5.7692307692307696E-3},{"$f":"VLOOKUP(B41,Summary!$B$30:$AK$376,5,FALSE)","v":39},39,null,null,null,0,0]
[{"$f":"+A41+1","v":15},"DH15 91115:CHK NOODLE",1.5E-3,{"$f":"VLOOKUP(B42,Summary!$B$30:$AK$376,5,FALSE)","v":64},{"$f":"+D42","v":64},null,"DRY NOODLE SAUCE",25,1600,2.4]
[16,"DG01 91001:BP CHK CP",3.0000000000000001E-3,{"$f":"VLOOKUP(B43,Summary!$B$30:$AK$376,5,FALSE)","v":457},457,null,"BLACK PEPPER SAUCE",90,41130,123.39]
[17,"DG02 91002:GVY CHK CP",3.3E-3,{"$f":"VLOOKUP(B44,Summary!$B$30:$AK$376,5,FALSE)","v":110},110,null,"GRAVY SAUCE",90,9900,32.67]
[18,"DG03 91003:MSR CHK CP",6.7999999999999996E-3,{"$f":"VLOOKUP(B45,Summary!$B$30:$AK$376,5,FALSE)","v":399},399,null,"MUSHROOM SAUCE",90,35910,244.18799999999999]
[19,"DG04 91004:CKN MARY",{"$f":"0.27/38","v":7.1052631578947369E-3},{"$f":"VLOOKUP(B46,Summary!$B$30:$AK$376,5,FALSE)","v":299},299,null,"DRESSING THOUSAND ISLAND",30,8970,63.734210526315792]
[null,null,null,{"$f":"VLOOKUP(B47,Summary!$B$30:$AK$376,5,FALSE)","v":{"$error":"#N/A"}},{"$error":"#N/A"},null,"DRESSING COLESLAW",130,{"$error":"#N/A"},{"$error":"#N/A"}]
[{"$f":"+A46+1","v":20},"DG05 91005:FISH&CHIP",1.24E-2,{"$f":"VLOOKUP(B48,Summary!$B$30:$AK$376,5,FALSE)","v":518},518,null,"TARTAR SAUCE",30,15540,192.696]
[21,"DG06 91006:SPAGHETTI",1.14E-2,{"$f":"VLOOKUP(B49,Summary!$B$30:$AK$376,5,FALSE)","v":201},201,null,"BOLOGNESE SAUCE",150,30150,343.71000000000004]
[22,"DG07 91007:CHK SALAD",{"$f":"0.7/65","v":1.0769230769230769E-2},{"$f":"VLOOKUP(B50,Summary!$B$30:$AK$376,5,FALSE)","v":126},126,null,"DRESSING THOUSAND ISLAND",65,8190,88.2]
[23,"DI01 91201:SFD STICK",{"$f":"0.27/38","v":7.1052631578947369E-3},{"$f":"VLOOKUP(B51,Summary!$B$30:$AK$376,5,FALSE)","v":5},5,null,"THAI SAUCE",38,190,1.35]
[24,"DI02 91202:FREN FRIES",{"$f":"0.13/30","v":4.3333333333333331E-3},{"$f":"VLOOKUP(B52,Summary!$B$30:$AK$376,5,FALSE)","v":39},39,null,"SAUCE CHILLI (KIMBALL)",30,1170,5.0699999999999994]
[25,"DI03 91203:GOLD MROOM",{"$f":"0.28/30","v":9.3333333333333341E-3},{"$f":"VLOOKUP(B53,Summary!$B$30:$AK$376,5,FALSE)","v":9},9,null,null,null,0,0]
[26,"DI04 91204:FISHBALL",4.3E-3,{"$f":"VLOOKUP(B54,Summary!$B$30:$AK$376,5,FALSE)","v":4},4,null,"SAUCE CHILLI (KIMBALL)",30,120,0.51600000000000001]
[27,"DI05 91205:RAINBOW RL",1.24E-2,{"$f":"VLOOKUP(B55,Summary!$B$30:$AK$376,5,FALSE)","v":5},5,null,"TARTAR SAUCE",38,190,2.3559999999999999]
[28,"DI06 91206:SPRING RL",1.24E-2,{"$f":"VLOOKUP(B56,Summary!$B$30:$AK$376,5,FALSE)","v":11},{"$f":"+D56","v":11},null,"TARTAR SAUCE",30,330,4.0919999999999996]
[29,"DI07 91207:SAUSAGE",{"$f":"0.32/30","v":1.0666666666666666E-2},{"$f":"VLOOKUP(B57,Summary!$B$30:$AK$376,5,FALSE)","v":22},22,null,"SAUCE CHILLI (KIMBALL)",30,660,7.04]
[30,"DI10 91301:DUMPLING",{"$f":"0.2/30","v":6.6666666666666671E-3},{"$f":"VLOOKUP(B58,Summary!$B$30:$AK$376,5,FALSE)","v":8},8,null,null,null,0,0]
[31,"DI11 91302:NUGGET",{"$f":"0.2/30","v":6.6666666666666671E-3},{"$f":"VLOOKUP(B59,Summary!$B$30:$AK$376,5,FALSE)","v":47},47,null,"SAUCE CHILLI (KIMBALL)",30,1410,9.4]
[32,"DI12 91303:CHK WING",{"$f":"0.2/30","v":6.6666666666666671E-3},{"$f":"VLOOKUP(B60,Summary!$B$30:$AK$376,5,FALSE)","v":47},47,null,"THAI SAUCE",38,1786,11.906666666666668]
[33,"DI13 91304:IKAN BILIS",9.1000000000000004E-3,{"$f":"VLOOKUP(B61,Summary!$B$30:$AK$376,5,FALSE)","v":3},3,null,"SAMBAL (FRIED)SAUCE",30,90,16.106999999999999]
[34,"DI14 91305:THAI RL",{"$f":"0.2/30","v":6.6666666666666671E-3},{"$f":"VLOOKUP(B62,Summary!$B$30:$AK$376,5,FALSE)","v":17},17,null,"THAI SAUCE",38,646,{"$f":"+I62*C62","v":4.3066666666666666}]
[]
[null,"SIDE ORDER"]
[1,"DC01 1101:THAI CHK",{"$f":"0.27/38","v":7.1052631578947369E-3},{"$f":"VLOOKUP(B65,Summary!$B$30:$AK$376,5,FALSE)","v":85},85,null,"THAI SAUCE",75,{"$f":"+H65*E65","v":6375},{"$f":"+I65*C65","v":45.296052631578945}]
[{"$f":"+A65+1","v":2},"DC02 1102:MAMITE CHK",2E-3,{"$f":"VLOOKUP(B66,Summary!$B$30:$AK$376,5,FALSE)","v":65},65,null,"MARMITE SAUCE ",80,{"$f":"+H66*E66","v":5200},10.4]
[{"$f":"+A66+1","v":3},"DC03 1103:KO PO CHK",1.5E-3,{"$f":"VLOOKUP(B67,Summary!$B$30:$AK$376,5,FALSE)","v":42},42,null,"KONG PO SAUCE",180,7560,11.34]
[4,"DC04 1104:S&S CHK",{"$f":"0.38/200","v":1.9E-3},{"$f":"VLOOKUP(B68,Summary!$B$30:$AK$376,5,FALSE)","v":22},22,null,"SWEET & SOUR SAUCE",200,4400,8.36]
[5,"DC05 1105:BUTTER CHK",5.8999999999999999E-3,{"$f":"VLOOKUP(B69,Summary!$B$30:$AK$376,5,FALSE)","v":142},142,null,"BUTTER CREAM SAUCE",75,10650,62.835000000000001]
[6,"DC06 1106:HK F.RICE",{"$f":"0.28/30","v":9.3333333333333341E-3},{"$f":"VLOOKUP(B70,Summary!$B$30:$AK$376,5,FALSE)","v":85},{"$f":"+#REF!+D70","v":{"$error":"#REF!"}},null,null,null,{"$error":"#REF!"},{"$error":"#REF!"}]
[7,"DC07 1107:SBL F.RICE",9.1000000000000004E-3,{"$f":"VLOOKUP(B71,Summary!$B$30:$AK$376,5,FALSE)","v":58},58,null,"SAMBAL (FRIED)SAUCE",30,1740,15.834000000000001]
[8,"DC08 1108:SBL F.MEE",9.1000000000000004E-3,{"$f":"VLOOKUP(B72,Summary!$B$30:$AK$376,5,FALSE)","v":11},11,null,"SAMBAL (FRIED)SAUCE",30,330,3.0030000000000001]
[9,"DC09 1109:BP UDON",3.8999999999999998E-3,{"$f":"VLOOKUP(B73,Summary!$B$30:$AK$376,5,FALSE)","v":33},33,null,"BLACK PEPPER SAUCE (UDON)",70,2310,9.0090000000000003]
[10,"DC10 1110:NISSIN",{"$f":"0.7/80","v":8.7499999999999991E-3},{"$f":"VLOOKUP(B74,Summary!$B$30:$AK$376,5,FALSE)","v":29},29,null,null,null,0,0]
[{"$f":"+A74+1","v":11},"DC11 1111:VEG RICE",{"$f":"0.28/90","v":3.1111111111111114E-3},{"$f":"VLOOKUP(B75,Summary!$B$30:$AK$376,5,FALSE)","v":5},5,null,null,null,0,0]
[{"$f":"+A75+1","v":12},"DC12 1112:NASI LEMAK",7.4000000000000003E-3,{"$f":"VLOOKUP(B76,Summary!$B$30:$AK$376,5,FALSE)","v":38},38,null,"SAMBAL SAUCE (NASI)",110,4180,30.932000000000002]
[13,"DC13 1113:KUEY TEOW",9.1000000000000004E-3,{"$f":"VLOOKUP(B77,Summary!$B$30:$AK$376,5,FALSE)","v":52},52,null,"SAMBAL (FRIED)SAUCE",30,1560,14.196000000000002]
[14,"DC14 1114:F.BALL MEE",{"$f":"0.75/130","v":5.7692307692307696E-3},{"$f":"VLOOKUP(B78,Summary!$B$30:$AK$376,5,FALSE)","v":6},6,null,null,null,0,0]
[{"$f":"+A78+1","v":15},"DC15 1115:CHK NOODLE",1.5E-3,{"$f":"VLOOKUP(B79,Summary!$B$30:$AK$376,5,FALSE)","v":19},19,null,"DRY NOODLE SAUCE",25,475,0.71250000000000002]
[16,"DB01 1001:BP CKN CP",3.0000000000000001E-3,{"$f":"VLOOKUP(B80,Summary!$B$30:$AK$376,5,FALSE)","v":72},72,null,"BLACK PEPPER SAUCE",90,6480,19.440000000000001]
[17,"DB02 1002:GVY CHK CP",3.3E-3,{"$f":"VLOOKUP(B81,Summary!$B$30:$AK$376,5,FALSE)","v":12},12,null,"GRAVY SAUCE",90,1080,3.5640000000000001]
[18,"DB03 1003:MSR CKN CP",6.7999999999999996E-3,{"$f":"VLOOKUP(B82,Summary!$B$30:$AK$376,5,FALSE)","v":43},43,null,"MUSHROOM SAUCE",90,3870,26.315999999999999]
[19,"DB04 1004:CKN MARY",{"$f":"0.27/38","v":7.1052631578947369E-3},{"$f":"VLOOKUP(B83,Summary!$B$30:$AK$376,5,FALSE)","v":38},38,null,"DRESSING THOUSAND ISLAND",30,1140,8.1]
[null,null,null,{"$f":"VLOOKUP(B84,Summary!$B$30:$AK$376,5,FALSE)","v":{"$error":"#N/A"}},{"$error":"#N/A"},null,"DRESSING COLESLAW",130,{"$error":"#N/A"},{"$error":"#N/A"}]
[{"$f":"+A83+1","v":20},"DB05 1005:FISH&CHIP",1.24E-2,{"$f":"VLOOKUP(B85,Summary!$B$30:$AK$376,5,FALSE)","v":61},61,null,"TARTAR SAUCE",30,1830,22.692]
[21,"DB06 1006:SPAGHETTI",1.14E-2,{"$f":"VLOOKUP(B86,Summary!$B$30:$AK$376,5,FALSE)","v":36},36,null,"BOLOGNESE SAUCE",150,5400,61.56]
[22,"DB07 1007:CHK SALAD",{"$f":"0.7/65","v":1.0769230769230769E-2},{"$f":"VLOOKUP(B87,Summary!$B$30:$AK$376,5,FALSE)","v":31},31,null,"DRESSING THOUSAND ISLAND",65,2015,21.7]
[23,"DD01 1201:SFD STICK",{"$f":"0.27/38","v":7.1052631578947369E-3},{"$f":"VLOOKUP(B88,Summary!$B$30:$AK$376,5,FALSE)","v":2},2,null,"THAI SAUCE",38,76,0.54]
[24,"DD02 1202:FREN FRIES",{"$f":"0.13/30","v":4.3333333333333331E-3},{"$f":"VLOOKUP(B89,Summary!$B$30:$AK$376,5,FALSE)","v":76},76,null,"SAUCE CHILLI (KIMBALL)",30,2280,9.879999999999999]
[25,"DD03 1203:GOLD MROOM",{"$f":"0.28/30","v":9.3333333333333341E-3},{"$f":"VLOOKUP(B90,Summary!$B$30:$AK$376,5,FALSE)","v":10},10,null,null,null,0,0]
[26,"DD04 1204:FISHBALL",4.3E-3,{"$f":"VLOOKUP(B91,Summary!$B$30:$AK$376,5,FALSE)","v":7},7,null,"SAUCE CHILLI (KIMBALL)",30,210,0.90300000000000002]
[27,"DD05 1205:RAINBOW RL",1.24E-2,{"$f":"VLOOKUP(B92,Summary!$B$30:$AK$376,5,FALSE)","v":3},3,null,"TARTAR SAUCE",38,114,1.4136]
[28,"DD06 1206:SPRING RL",1.24E-2,{"$f":"VLOOKUP(B93,Summary!$B$30:$AK$376,5,FALSE)","v":11},{"$f":"+D93","v":11},null,"TARTAR SAUCE",30,330,4.0919999999999996]
[29,"DD07 1207:SAUSAGE",{"$f":"0.32/30","v":1.0666666666666666E-2},{"$f":"VLOOKUP(B94,Summary!$B$30:$AK$376,5,FALSE)","v":18},18,null,"SAUCE CHILLI (KIMBALL)",30,540,5.76]
[30,"DD10 1301:DUMPLING",{"$f":"0.2/30","v":6.6666666666666671E-3},{"$f":"VLOOKUP(B95,Summary!$B$30:$AK$376,5,FALSE)","v":4},4,null,null,null,0,0]
[31,"DD11 1302:NUGGET",{"$f":"0.2/30","v":6.6666666666666671E-3},{"$f":"VLOOKUP(B96,Summary!$B$30:$AK$376,5,FALSE)","v":23},23,null,"SAUCE CHILLI (KIMBALL)",30,690,4.6000000000000005]
[32,"DD12 1303:CHK WING",{"$f":"0.2/30","v":6.6666666666666671E-3},{"$f":"VLOOKUP(B97,Summary!$B$30:$AK$376,5,FALSE)","v":49},49,null,"THAI SAUCE",38,1862,12.413333333333334]
[33,"DD13 1304:IKAN BILIS",9.1000000000000004E-3,{"$f":"VLOOKUP(B98,Summary!$B$30:$AK$376,5,FALSE)","v":4},4,null,"SAMBAL (FRIED)SAUCE",30,120,16.106999999999999]
[34,"DD14 1305:THAI RL",{"$f":"0.2/30","v":6.6666666666666671E-3},{"$f":"VLOOKUP(B99,Summary!$B$30:$AK$376,5,FALSE)","v":6},6,null,"THAI SAUCE",38,228,{"$f":"+I99*C99","v":1.52}]
[null,null,null,null,0]