{"text_format":"1","workbook":"xlsx","n_sheets":12,"sheets":["DATABASE","Summary","STOCK ANALYSIS","Daily Log","CLOSING STOCK","DAILY FOC ","SAUCE USAGE","SIDE ORDER & FOC","K LUNCH & K DINNER","LOK LOK","SALES IN DECEMBER","Sheet2"],"not_rendered":{"charts":0,"images":6,"macros":0,"external_links":4,"defined_names":12,"comments":1,"pivot_tables":0},"unopened":[],"bounds":{"document_bytes":16777216,"sheet_cells":100000,"rows_first":2000,"rows_last":500,"rows_between":2000,"halvings":0,"cell_chars":16384,"cell_head_chars":4096},"cells_cut":0,"cells_raw":0,"read":"whole","date_system":"1900"}

{"sheet":"DATABASE","index":0,"n_rows":113,"n_cols":15,"rows_kept":113,"cut":false,"hidden":false,"merged":[]}
[]
[null,"K LUNCH ","COST",null,"SIDE ORDER","COST",null,"LOK LOK","COST",null,"LOK LOK-MAIN COURSE","COST",null,"LOK LOK","COST"]
[null,"LF01 91101:THAI CHK",3.29,null,"LC01 1101:THAI CHK",3.29,null,"TE01 80028:COCKLES",0.4,null,"TC01 81101:THAI CHK",{"$f":"+F3","v":3.29},null,"PA01 80001:COC SAUSG",0.39]
[null,"LF02 91102:MAMITE CHK",3.02,null,"LC02 1102:MAMITE CHK",3.02,null,"TE02 80029:CTL FSH",0.4,null,"TC02 81102:MAMITE CHK",{"$f":"+F4","v":3.02},null,"PA02 80002:BEEF BAL",0.65]
[null,"LF03 91103:KO PO CHK",3.45,null,"LC03 1103:KO PO CHK",3.45,null,"TE03 80030:CRB STICK",0.5,null,"TC03 81105:BUTTER CHK",{"$f":"+F5","v":3.45},null,"PA03 80003:CHK KIDNEY",1]
[null,"LF04 91104:S&S CHK",3.45,null,"LC04 1104:S&S CHK",3.45,null,"TE04 80031:FSH BAL S",0.5,null,null,null,null,"PA04 80004:CHK LIVER",1]
[null,"LF05 91105:BUTTER CHK",3.32,null,"LC05 1105:BUTTER CHK",3.32,null,"TE05 80032:SOTONG",0.75,null,"TC04 81117:THAI FSH",{"$f":"+F15","v":3.16},null,"PA05 80005:CHEE SAUSG",0.8]
[null,"LF06 91106:HK F.RICE",3.16,null,"LC06 1106:HK F.RICE",3.16,null,"TE06 80033:TPURA PRW",0.45,null,"TC05 81118:MAMITE FSH",{"$f":"+F16","v":2.59},null,"PA06 80006:BP SAUSG",0.8]
[null,"LF07 91107:SBL F.RICE",2.41,null,"LC07 1107:SBL F.RICE",2.41,null,"TE07 80034:BBQ FSH SK",0.4,null,"TC06 81119:BUTTER FSH",{"$f":"+#REF!","v":{"$error":"#REF!"}},null,"PA07 80007:PANDAN CHK",1.64]
[null,"LF08 91108:SBL F.MEE",2.8,null,"LC08 1108:SBL F.MEE",2.8,null,null,null,null,null,null,null,"PA08 80008:DCK BREAST",2.13]
[null,"LF09 91109:BP UDON",2.08,null,"LC09 1109:BP UDON",2.08,null,"TM01 80001:CHK HAM",0.25,null,null,null,null,"PA09 80009:CHK WING",2.8]
[null,"LF10 91110:NISSIN",2.3199999999999998,null,"LC10 1110:NISSIN",2.3199999999999998,null,"TM02 80002:CHK KIDNEY",0.35,null,null,null,null,"PC01 80016:FSH MI CAK",0.6]
[null,"LF11 91111:VEG RICE",1.6,null,"LC11 1111:VEG RICE",1.6,null,"TM03 80003:COC SAUSG",0.4,null,null,null,null,"PC02 80017:SP FSH CAK",0.48]
[null,"LF12 91112:NASI LEMAK",3.56,null,"LC12 1112:NASI LEMAK",3.56,null,"TM04 80004:CHK SAUSG",0.6,null,null,null,null,"PC03 80018:CLAM",1.5]
[null,"LF13 91113:KUEY TEOW",3.16,null,"LC13 1113:KUEY TEOW",3.16,null,"TM05 80005:HAM&BEAN",0.85,null,null,null,null,"PC04 80019:FV FSH BAL",0.75]
[null,"LF14 91114:F.BALL MEE",2.59,null,"LC14 1114:F.BALL MEE",2.59,null,null,null,null,null,null,null,"PC05 80020:FSH BAL S",0.65]
[null,"LF16 91103:MGL CHK",4.75,null,"LC15 1112:CHK NOODLE",4.71,null,"TM07 80007:CHEE H DOG",1.95,null,"TW02 81003:MR CKN CP",{"$f":"+F34","v":4.43},null,"PC06 80021:PRW BAL",0.39]
[null,"LF15 91112:CHK NOODLE",4.71,null,"LC16 1103:MGL CHK",4.75,null,"TM08 80008:TRK STICK",0.8,null,"TW03 81004:CKN MARY",{"$f":"+F35","v":4.75},null,"PC07 80022:ABALO SLC",0.72]
[null,"AF01 91201:SFD STICK",2,null,"AA01 1201:SFD STICK",2,null,"TM09 80009:CHEE HAM",0.97,null,"TW04 81005:FSH&CHIP",{"$f":"+F36","v":5.98},null,"PC08 80023:FSH BAL B",1]
[null,"AF02 91202:FREN FRIES",1.76,null,"AA02 1202:FREN FRIES",1.76,null,"TM10 80010:CRAB HAM",1.19,null,"TW05 81007:CHK SALAD",{"$f":"+F37","v":4.32},null,"PC09 80024:TPURA PRW",0.9]
[null,"AF03 91203:GOLD MR",2.15,null,"AA03 1203:GOLD MR",2.15,null,"TM11 80011:F CHK BAL",1.08,null,null,null,null,"PC10 80025:CRB CLAW",0.9]
[null,"AF04 91204:FSH BALL",1.56,null,"AA04 1204:FSH BALL",1.56,null,"TM12 80012:DCK MT",null,null,null,null,null,"PC11 80026:SALMON BAL",0.73]
[null,"AF05 91205:RAINBOW RL",2.5,null,"AA05 1205:RAINBOW RL",2.5,null,"TM13 80013:SCLOP SHL",1.3,null,null,null,null,"PC12 80027:FZ FSH BAL",0.67]
[null,"AF06 91206:SPRING RL",2.67,null,"AA06 1206:SPRING RL",2.67,null,"TM14 80014:CN C SAUSG",1.38,null,null,null,null,"PC13 80028:SCLOP BAL",0.9]
[null,"AF07 91207:SAUSG",1.24,null,"AA07 1207:SAUSG",1.24,null,null,null,null,null,null,null,"PC14 80029:CFSH BAL",1.29]
[null,null,null,null,null,null,null,"TO01 80035:F SMS YAM",null,null,null,null,null,"PC15 80030:SF BAL",1.02]
[null,"AF31 91301:DUMPLING",4.5,null,"AA31 1301:DUMPLING",4.5,null,"TO02 80036:F TF SKIN",0.25,null,null,null,null,"PC16 80031:CTL FSH",1.06]
[null,"AF32 91302:NUGGET",2.4300000000000002,null,"AA32 1302:NUGGET",2.4300000000000002,null,"TO03 80037:TF PO",0.25,null,null,null,null,"PB01 80010:BOTTON MR",0.6]
[null,"AF33 91303:CHK WING",3.97,null,"AA33 1303:CHK WING",3.97,null,"TO04 80038:F MANTOU",0.57999999999999996,null,null,null,null,"PB02 80011:KANG KONG",0.4]
[null,"AF34 91304:IKAN BILIS",2.1800000000000002,null,"AA34 1304:IKAN BILIS",2.1800000000000002,null,"TO05 80039:CRS F BAO",0.4,null,null,null,null,"PB03 80012:BROCCOLI",0.5]
[null,"AF35 91305:THAI RL",3.61,null,"AA35 1305:THAI RL",3.61,null,"TO06 80040:QUAIL EGGS",0.52,null,null,null,null,"PB04 80013:LONG BEAN",0.3]
[null,null,null,null,"AA36 1306:DF WING",{"$f":"+C28","v":2.4300000000000002},null,"TO07 80041:FSH TF PO",0.66,null,null,null,null,"PB05 80014:ABALO MR",0.4]
[null,"WF01 91001:BP CHK CP",4.41,null,"WT01 1001:BP CKN CP",4.41,null,"TO08 80042:CRS BAO",0.76,null,null,null,null,"PB06 80015:STAKE MR",0.7]
[null,"WF02 91002:GVY CHK CP",4.43,null,"WT02 1002:GVY CKN CP",4.43,null,"TO09 80043:Y DUMPLING",0.69,null,null,null,null,"PD01 80032:FSHP EGGPL",0.52]
[null,"WF03 91003:MR CHK CP",4.75,null,"WT03 1003:MR CKN CP",4.75,null,"TO10 80044:QC EGGS",0.9,null,null,null,null,"PD02 80033:FSHP CL",0.52]
[null,"WF04 91004:CKN MARY",5.98,null,"WT04 1004:CKN MARY",5.98,null,"TO11 80045:SF TF",0.8,null,null,null,null,"PD03 80034:FSHP LF",0.52]
[null,"WF05 91005:FSH&CHIP",4.32,null,"WT05 1005:FSH&CHIP",4.32,null,null,null,null,null,null,null,"PD04 80035:CRS BCURD",0.33]
[null,"WF06 91006:SPAGHETTI",2.1,null,"WT06 1006:SPAGHETTI",2.1,null,"TP01 80015:MT BAL",0.45,null,null,null,null,"PD05 80036:QUAIL EGGS",0.56000000000000005]
[null,"WF07 91007:CHK SALAD",4.9400000000000004,null,"WT07 1007:CHK SALAD",4.9400000000000004,null,"TP02 80016:BACON",0.75,null,null,null,null,"PD06 80037:F WANTON",0.9]
[null,null,null,null,null,null,null,"TP03 80017:F WONTON",0.8,null,null,null,null,"PD07 80038:LGP SAMOSA",0.7]
[null,null,null,null,null,null,null,"TP04 80018:WX RL",0.6,null,null,null,null,"PD08 80039:VEGE BAL",0.75]
[null,null,null,null,"SET 9.9 & 13.90","COST",null,"TP05 80019:DUMPLING",0.63,null,null,null,null,"PD09 80040:SF TF",0.87]
[null,null,null,null,"AP01 1411:MC ALACARTE",4.5999999999999996,null,"TP06 80020:TW SAUSG",0.9,null,null,null,null,"PD10 80041:SPRING RL",1]
[null,null,null,null,"AP02 1412:MC BEER",4.5999999999999996,null,"TP07 80021:ENA BC ROL",1,null,null,null,null,"PD11 80042:QC EGGS",0.81]
[null,null,null,null,"AS01 1401:SET 990",null,null,"TP08 80022:NAN RU MT",1.03,null,null,null,null,"PD12 80043:THAI RL",1.2]
[null,null,null,null,"AS02 1402:SET 1390",null,null,null,null,null,null,null,null,"PD13 80044:CHEE SF TF",1.02]
[null,null,null,null,"ZAA02 1202:FREN FRIES",1.76,null,"TV04 80026:ABALO MR",0.45,null,null,null,null,"PD14 80045:R SKIN RL",1.2]
[null,null,null,null,"AA03 1203:GOLD MR",2.15,null,"TV05 80027:OYSTER MR",0.6,null,null,null,null,"PE01 LOK PACKAGE A",8.2799999999999994]
[null,null,null,null,"ZAA04 1204:FSHBALL",1.56,null,null,null,null,null,null,null,"PE02 LOK PACKAGE B",8.4600000000000009]
[null,null,null,null,"ZAA05 1205:RAINBOW RL",2.5]
[null,null,null,null,"ZAA06 1206:SPRING RL",2.67]
[null,null,null,null,"ZAA07 1207:SAUSG",1.24]
[null,null,null,null,"ZAA08 1208:HOTDOG BUN",4.5]
[null,null,null,null,"ZAA09 1209:SF TF",2.4300000000000002]
[null,null,null,null,"ZAA10 1210:SALAD RL"]
[null,null,null,null,"ZAA11 1211:BBQ CHK",0]
[null,null,null,null,"ZAB02 1302:NUGGET",2.4300000000000002]
[null,null,null,null,"ZAB03 1303:CHK WING",3.97]
[null,null,null,null,"ZAB04 1304:IKAN BILIS",2.1800000000000002]
[null,null,null,null,"ZAB05 1305:THAI RL",3.61]
[null,null,null,null,"AB06 1306:DF WING",4.3099999999999996]
[null,null,null,null,"AB07 1307: CALAMARI",3.69]
[null,null,null,null,"ZAB09 1309:MC SPIRAL F",1.72]
[null,null,null,null,"ZAB08 1308 MC RING",3.69]
[null,null,null,null,"ZAB10 1310:MC HP SMILE",1.34]
[null,null,null,null,"ZAB11 1311:MC HASH BRW",0.59]
[null,null,null,null,"ZAB05 1205:RAINBOW RL",2.5]
[null,null,null,null,"ZTC01 80001:CHK HAM",{"$f":"+I71","v":0}]
[null,null,null,null,"ZTC02 80002:CHK KIDNEY",{"$f":"+I72","v":0}]
[null,null,null,null,"ZTC03 80003:COC SAUSG",{"$f":"+I73","v":0}]
[null,null,null,null,"ZTC04 80004:CHK SAUSG",{"$f":"+I74","v":0}]
[null,null,null,null,"ZTC05 80005:HAM&BEAN",{"$f":"+I75","v":0}]
[null,null,null,null,"ZTC06 80006:CHK WING",{"$f":"+I77","v":0}]
[null,null,null,null,"ZTC07 80007:CHEE H DOG",{"$f":"+I78","v":0}]
[null,null,null,null,"ZTC08 80008:TRK STICK",{"$f":"+I79","v":0}]
[null,null,null,null,"ZTC15 80015:MT BAL",{"$f":"+I99","v":0}]
[null,null,null,null,"ZTC16 80016:BACON",{"$f":"+I100","v":0}]
[null,null,null,null,"ZTC17 80017:F WONTO",{"$f":"+I101","v":0}]
[null,null,null,null,"ZTC18 80018:WX RL",{"$f":"+I102","v":0}]
[null,null,null,null,"ZTC19 80019:DUMPLING",{"$f":"+I103","v":0}]
[null,null,null,null,"ZTC23 80023:KANG KONG"]
[null,null,null,null,"ZTC24 80024:BROCCOLI"]
[null,null,null,null,"ZTC25 80025:LONG BEAN"]
[null,null,null,null,"ZTC26 80026:ABALO MR",{"$f":"+I108","v":0}]
[null,null,null,null,"ZTC28 80028:COCKLES",{"$f":"+I63","v":0}]
[null,null,null,null,"ZTC29 80029:CTL FSH",{"$f":"+I64","v":0}]
[null,null,null,null,"ZTC31 80031:FSH BAL S",{"$f":"+I66","v":0}]
[null,null,null,null,"ZTC32 80032:SOTONG",{"$f":"+I67","v":0}]
[null,null,null,null,"ZTC33 80033:TPURA PRW",{"$f":"+I68","v":0}]
[null,null,null,null,"ZTC36 80036:F TF SKIN",{"$f":"+I88","v":0}]
[null,null,null,null,"ZTC38 80038:F MANTOU",{"$f":"+I90","v":0}]
[null,null,null,null,"ZTC39 80039:CRS F BAO",0]
[null,null,null,null,"ZTC40 80040:QUAIL EGGS",0]
[null,null,null,null,"ZTC41 80041:FSH TF PO",0]
[null,null,null,null,"ZTC42 80042:CRS BAO",0]
[null,null,null,null,"ZTC43 80043:Y DUMPLING",0]
[null,null,null,null,"ZAA03 1203:GOLD MR",2.15]
[null,null,null,null,"RQ01 1601:ADD RICE",0.5]
[null,null,null,null,"RQ02 1602:ADD F.EGG",0.34]
[null,null,null,null,"ZAC01 1301:DUMPLING"]
[null,null,null,null,"ZAC02 1302:NUGGET"]
[null,null,null,null,"ZAC03 1303:CHK WING"]
[null,null,null,null,"ZAC04 1304:IKAN BILIS"]
[null,null,null,null,"ZAC05 1305:THAI RL"]
[null,null,null,null,"ZAC06 1306:SLVR FISH"]
[null,null,null,null,"ZAB06 1306:DF WING",4.3099999999999996]
[null,null,null,null,"ZAB07 1307: CALAMARI",3.69]
[null,null,null,null,"ZAA01 1201:SFD STICK",2]
[null,null,null,null,"AA37 1307:CALAMARI",3.69]
[null,null,null,null,"AA38 1308:MC RING",1.72]
[null,null,null,null,"AA39 1309:MC S.FRIES",1.72]
[null,null,null,null,"AA40 1310:MC HP SMIL",0.59]
[null,null,null,null,"AA41 1311:MC HSH BRW",1.34]

{"sheet":"Summary","index":1,"n_rows":325,"n_cols":37,"rows_kept":325,"cut":false,"hidden":false,"merged":[[5,2,5,3],[7,2,7,3],[9,2,9,3],[28,1,28,2]]}
[]
[]
[null,null,"SUMMARY OF PRODUCT SALES IN MONTH"]
[]
[]
[null,"OUTLET",{"$f":"MID(CELL(\"FILENAME\",$A$1),FIND(\"[\",CELL(\"FILENAME\",$A$1))+1,3)","v":"STP"}]
[]
[null,"YEAR",{"$f":"MID(CELL(\"FILENAME\",$A$1),FIND(\"[\",CELL(\"FILENAME\",$A$1))+4,4)","v":"2014"}]
[]
[null,"MONTH",{"$f":"INDEX($C$12:$C$23,MID(CELL(\"FILENAME\",$A$1),FIND(\"[\",CELL(\"FILENAME\",$A$1))+8,2),1)","v":"JANUARY"}]
[]
[null,"MONTH","JANUARY"]
[null,null,"FEBRUARY"]
[null,null,"MARCH"]
[null,null,"APRIL"]
[null,null,"MAY"]
[null,null,"JUNE"]
[null,null,"JULY"]
[null,null,"AUGUST"]
[null,null,"SEPTEMBER"]
[null,null,"OCTOBER"]
[null,null,"NOVEMBER"]
[null,null,"DECEMBER"]
[]
[]
[null,"PRODUCT",null,"CATEGORY","QTY","QUANTITIES SOLD IN MONTH"]
[null,null,null,null,"PER","TOTAL",{"$f":"DATE(C8,MID(CELL(\"FILENAME\",$A$1),FIND(\"[\",CELL(\"FILENAME\",$A$1))+8,2),1)","v":"2014-01-01"},{"$f":"IFERROR(IF(MONTH(G27+1)<=MONTH($G$27),G27+1,\"\"),\"\")","v":"2014-01-02"},{"$f":"IFERROR(IF(MONTH(H27+1)<=MONTH($G$27),H27+1,\"\"),\"\")","v":"2014-01-03"},"2014-01-04","2014-01-05","2014-01-06","2014-01-07","2014-01-08","2014-01-09","2014-01-10","2014-01-11","2014-01-12","2014-01-13","2014-01-14","2014-01-15","2014-01-16","2014-01-17","2014-01-18","2014-01-19","2014-01-20","2014-01-21","2014-01-22","2014-01-23","2014-01-24","2014-01-25","2014-01-26","2014-01-27","2014-01-28","2014-01-29","2014-01-30","2014-01-31"]
[null,null,null,null,"ITEM"]
[]
[null,"LF01 91101:THAI CHK",null,"KLKD",1,{"$f":"SUM($G30:$AK30)","v":46},{"$f":"IFERROR($E30*SUMIF('Daily Log'!$B$18:$B$1017,$B30,'Daily Log'!$C$18:$C$1017),0)","v":0},{"$f":"IFERROR($E30*SUMIF('Daily Log'!$E$18:$E$1017,$B30,'Daily Log'!$F$18:$F$1017),0)","v":0},{"$f":"IFERROR($E30*SUMIF('Daily Log'!$H$18:$H$1017,$B30,'Daily Log'!$I$18:$I$1017),0)","v":0},{"$f":"IFERROR($E30*SUMIF('Daily Log'!$K$18:$K$1017,$B30,'Daily Log'!$L$18:$L$1017),0)","v":0},{"$f":"IFERROR($E30*SUMIF('Daily Log'!$N$18:$N$1017,$B30,'Daily Log'!$O$18:$O$1017),0)","v":0},{"$f":"IFERROR($E30*SUMIF('Daily Log'!$Q$18:$Q$1017,$B30,'Daily Log'!$R$18:$R$1017),0)","v":0},{"$f":"IFERROR($E30*SUMIF('Daily Log'!$T$18:$T$1017,$B30,'Daily Log'!$U$18:$U$1017),0)","v":0},{"$f":"IFERROR($E30*SUMIF('Daily Log'!$W$18:$W$1017,$B30,'Daily Log'!$X$18:$X$1017),0)","v":0},{"$f":"IFERROR($E30*SUMIF('Daily Log'!$Z$18:$Z$1017,$B30,'Daily Log'!$AA$18:$AA$1017),0)","v":0},{"$f":"IFERROR($E30*SUMIF('Daily Log'!$AC$18:$AC$1017,$B30,'Daily Log'!$AD$18:$AD$1017),0)","v":0},{"$f":"IFERROR($E30*SUMIF('Daily Log'!$AF$18:$AF$1017,$B30,'Daily Log'!$AG$18:$AG$1017),0)","v":0},{"$f":"IFERROR($E30*SUMIF('Daily Log'!$AI$18:$AI$1017,$B30,'Daily Log'!$AJ$18:$AJ$1017),0)","v":0},{"$f":"IFERROR($E30*SUMIF('Daily Log'!$AL$18:$AL$1017,$B30,'Daily Log'!$AM$18:$AM$1017),0)","v":0},{"$f":"IFERROR($E30*SUMIF('Daily Log'!$AO$18:$AO$1017,$B30,'Daily Log'!$AP$18:$AP$1017),0)","v":0},{"$f":"IFERROR($E30*SUMIF('Daily Log'!$AR$18:$AR$1017,$B30,'Daily Log'!$AS$18:$AS$1017),0)","v":0},{"$f":"IFERROR($E30*SUMIF('Daily Log'!$AU$18:$AU$1017,$B30,'Daily Log'!$AV$18:$AV$1017),0)","v":0},{"$f":"IFERROR($E30*SUMIF('Daily Log'!$AX$18:$AX$1017,$B30,'Daily Log'!$AY$18:$AY$1017),0)","v":0},{"$f":"IFERROR($E30*SUMIF('Daily Log'!$BA$18:$BA$1017,$B30,'Daily Log'!$BB$18:$BB$1017),0)","v":0},{"$f":"IFERROR($E30*SUMIF('Daily Log'!$BD$18:$BD$1017,$B30,'Daily Log'!$BE$18:$BE$1017),0)","v":0},{"$f":"IFERROR($E30*SUMIF('Daily Log'!$BG$18:$BG$1017,$B30,'Daily Log'!$BH$18:$BH$1017),0)","v":0},{"$f":"IFERROR($E30*SUMIF('Daily Log'!$BJ$18:$BJ$1017,$B30,'Daily Log'!$BK$18:$BK$1017),0)","v":0},{"$f":"IFERROR($E30*SUMIF('Daily Log'!$BM$18:$BM$1017,$B30,'Daily Log'!$BN$18:$BN$1017),0)","v":0},{"$f":"IFERROR($E30*SUMIF('Daily Log'!$BP$18:$BP$1017,$B30,'Daily Log'!$BQ$18:$BQ$1017),0)","v":0},{"$f":"IFERROR($E30*SUMIF('Daily Log'!$BS$18:$BS$1017,$B30,'Daily Log'!$BT$18:$BT$1017),0)","v":0},{"$f":"IFERROR($E30*SUMIF('Daily Log'!$BV$18:$BV$1017,$B30,'Daily Log'!$BW$18:$BW$1017),0)","v":0},{"$f":"IFERROR($E30*SUMIF('Daily Log'!$BY$18:$BY$1017,$B30,'Daily Log'!$BZ$18:$BZ$1017),0)","v":0},{"$f":"IFERROR($E30*SUMIF('Daily Log'!$CB$18:$CB$1017,$B30,'Daily Log'!$CC$18:$CC$1017),0)","v":0},{"$f":"IFERROR($E30*SUMIF('Daily Log'!$CE$18:$CE$1017,$B30,'Daily Log'!$CF$18:$CF$1017),0)","v":0},{"$f":"IFERROR($E30*SUMIF('Daily Log'!$CH$18:$CH$1017,$B30,'Daily Log'!$CI$18:$CI$1017),0)","v":0},{"$f":"IFERROR($E30*SUMIF('Daily Log'!$CK$18:$CK$1017,$B30,'Daily Log'!$CL$18:$CL$1017),0)","v":0},{"$f":"IFERROR($E30*SUMIF('Daily Log'!$CN$18:$CN$1017,$B30,'Daily Log'!$CO$18:$CO$1017),0)","v":46}]
[null,"LF02 91102:MAMITE CHK",null,"KLKD",1,43,{"$f":"IFERROR($E31*SUMIF('Daily Log'!$B$18:$B$1017,$B31,'Daily Log'!$C$18:$C$1017),0)","v":0},{"$f":"IFERROR($E31*SUMIF('Daily Log'!$E$18:$E$1017,$B31,'Daily Log'!$F$18:$F$1017),0)","v":0},{"$f":"IFERROR($E31*SUMIF('Daily Log'!$H$18:$H$1017,$B31,'Daily Log'!$I$18:$I$1017),0)","v":0},{"$f":"IFERROR($E31*SUMIF('Daily Log'!$K$18:$K$1017,$B31,'Daily Log'!$L$18:$L$1017),0)","v":0},{"$f":"IFERROR($E31*SUMIF('Daily Log'!$N$18:$N$1017,$B31,'Daily Log'!$O$18:$O$1017),0)","v":0},{"$f":"IFERROR($E31*SUMIF('Daily Log'!$Q$18:$Q$1017,$B31,'Daily Log'!$R$18:$R$1017),0)","v":0},{"$f":"IFERROR($E31*SUMIF('Daily Log'!$T$18:$T$1017,$B31,'Daily Log'!$U$18:$U$1017),0)","v":0},{"$f":"IFERROR($E31*SUMIF('Daily Log'!$W$18:$W$1017,$B31,'Daily Log'!$X$18:$X$1017),0)","v":0},{"$f":"IFERROR($E31*SUMIF('Daily Log'!$Z$18:$Z$1017,$B31,'Daily Log'!$AA$18:$AA$1017),0)","v":0},{"$f":"IFERROR($E31*SUMIF('Daily Log'!$AC$18:$AC$1017,$B31,'Daily Log'!$AD$18:$AD$1017),0)","v":0},{"$f":"IFERROR($E31*SUMIF('Daily Log'!$AF$18:$AF$1017,$B31,'Daily Log'!$AG$18:$AG$1017),0)","v":0},{"$f":"IFERROR($E31*SUMIF('Daily Log'!$AI$18:$AI$1017,$B31,'Daily Log'!$AJ$18:$AJ$1017),0)","v":0},{"$f":"IFERROR($E31*SUMIF('Daily Log'!$AL$18:$AL$1017,$B31,'Daily Log'!$AM$18:$AM$1017),0)","v":0},{"$f":"IFERROR($E31*SUMIF('Daily Log'!$AO$18:$AO$1017,$B31,'Daily Log'!$AP$18:$AP$1017),0)","v":0},{"$f":"IFERROR($E31*SUMIF('Daily Log'!$AR$18:$AR$1017,$B31,'Daily Log'!$AS$18:$AS$1017),0)","v":0},{"$f":"IFERROR($E31*SUMIF('Daily Log'!$AU$18:$AU$1017,$B31,'Daily Log'!$AV$18:$AV$1017),0)","v":0},{"$f":"IFERROR($E31*SUMIF('Daily Log'!$AX$18:$AX$1017,$B31,'Daily Log'!$AY$18:$AY$1017),0)","v":0},{"$f":"IFERROR($E31*SUMIF('Daily Log'!$BA$18:$BA$1017,$B31,'Daily Log'!$BB$18:$BB$1017),0)","v":0},{"$f":"IFERROR($E31*SUMIF('Daily Log'!$BD$18:$BD$1017,$B31,'Daily Log'!$BE$18:$BE$1017),0)","v":0},{"$f":"IFERROR($E31*SUMIF('Daily Log'!$BG$18:$BG$1017,$B31,'Daily Log'!$BH$18:$BH$1017),0)","v":0},{"$f":"IFERROR($E31*SUMIF('Daily Log'!$BJ$18:$BJ$1017,$B31,'Daily Log'!$BK$18:$BK$1017),0)","v":0},{"$f":"IFERROR($E31*SUMIF('Daily Log'!$BM$18:$BM$1017,$B31,'Daily Log'!$BN$18:$BN$1017),0)","v":0},{"$f":"IFERROR($E31*SUMIF('Daily Log'!$BP$18:$BP$1017,$B31,'Daily Log'!$BQ$18:$BQ$1017),0)","v":0},{"$f":"IFERROR($E31*SUMIF('Daily Log'!$BS$18:$BS$1017,$B31,'Daily Log'!$BT$18:$BT$1017),0)","v":0},{"$f":"IFERROR($E31*SUMIF('Daily Log'!$BV$18:$BV$1017,$B31,'Daily Log'!$BW$18:$BW$1017),0)","v":0},{"$f":"IFERROR($E31*SUMIF('Daily Log'!$BY$18:$BY$1017,$B31,'Daily Log'!$BZ$18:$BZ$1017),0)","v":0},{"$f":"IFERROR($E31*SUMIF('Daily Log'!$CB$18:$CB$1017,$B31,'Daily Log'!$CC$18:$CC$1017),0)","v":0},{"$f":"IFERROR($E31*SUMIF('Daily Log'!$CE$18:$CE$1017,$B31,'Daily Log'!$CF$18:$CF$1017),0)","v":0},{"$f":"IFERROR($E31*SUMIF('Daily Log'!$CH$18:$CH$1017,$B31,'Daily Log'!$CI$18:$CI$1017),0)","v":0},{"$f":"IFERROR($E31*SUMIF('Daily Log'!$CK$18:$CK$1017,$B31,'Daily Log'!$CL$18:$CL$1017),0)","v":0},{"$f":"IFERROR($E31*SUMIF('Daily Log'!$CN$18:$CN$1017,$B31,'Daily Log'!$CO$18:$CO$1017),0)","v":43}]
[null,"LF03 91103:KO PO CHK",null,"KLKD",1,0,{"$f":"IFERROR($E32*SUMIF('Daily Log'!$B$18:$B$1017,$B32,'Daily Log'!$C$18:$C$1017),0)","v":0},{"$f":"IFERROR($E32*SUMIF('Daily Log'!$E$18:$E$1017,$B32,'Daily Log'!$F$18:$F$1017),0)","v":0},{"$f":"IFERROR($E32*SUMIF('Daily Log'!$H$18:$H$1017,$B32,'Daily Log'!$I$18:$I$1017),0)","v":0},{"$f":"IFERROR($E32*SUMIF('Daily Log'!$K$18:$K$1017,$B32,'Daily Log'!$L$18:$L$1017),0)","v":0},{"$f":"IFERROR($E32*SUMIF('Daily Log'!$N$18:$N$1017,$B32,'Daily Log'!$O$18:$O$1017),0)","v":0},{"$f":"IFERROR($E32*SUMIF('Daily Log'!$Q$18:$Q$1017,$B32,'Daily Log'!$R$18:$R$1017),0)","v":0},{"$f":"IFERROR($E32*SUMIF('Daily Log'!$T$18:$T$1017,$B32,'Daily Log'!$U$18:$U$1017),0)","v":0},{"$f":"IFERROR($E32*SUMIF('Daily Log'!$W$18:$W$1017,$B32,'Daily Log'!$X$18:$X$1017),0)","v":0},{"$f":"IFERROR($E32*SUMIF('Daily Log'!$Z$18:$Z$1017,$B32,'Daily Log'!$AA$18:$AA$1017),0)","v":0},{"$f":"IFERROR($E32*SUMIF('Daily Log'!$AC$18:$AC$1017,$B32,'Daily Log'!$AD$18:$AD$1017),0)","v":0},{"$f":"IFERROR($E32*SUMIF('Daily Log'!$AF$18:$AF$1017,$B32,'Daily Log'!$AG$18:$AG$1017),0)","v":0},{"$f":"IFERROR($E32*SUMIF('Daily Log'!$AI$18:$AI$1017,$B32,'Daily Log'!$AJ$18:$AJ$1017),0)","v":0},{"$f":"IFERROR($E32*SUMIF('Daily Log'!$AL$18:$AL$1017,$B32,'Daily Log'!$AM$18:$AM$1017),0)","v":0},{"$f":"IFERROR($E32*SUMIF('Daily Log'!$AO$18:$AO$1017,$B32,'Daily Log'!$AP$18:$AP$1017),0)","v":0},{"$f":"IFERROR($E32*SUMIF('Daily Log'!$AR$18:$AR$1017,$B32,'Daily Log'!$AS$18:$AS$1017),0)","v":0},{"$f":"IFERROR($E32*SUMIF('Daily Log'!$AU$18:$AU$1017,$B32,'Daily Log'!$AV$18:$AV$1017),0)","v":0},{"$f":"IFERROR($E32*SUMIF('Daily Log'!$AX$18:$AX$1017,$B32,'Daily Log'!$AY$18:$AY$1017),0)","v":0},{"$f":"IFERROR($E32*SUMIF('Daily Log'!$BA$18:$BA$1017,$B32,'Daily Log'!$BB$18:$BB$1017),0)","v":0},{"$f":"IFERROR($E32*SUMIF('Daily Log'!$BD$18:$BD$1017,$B32,'Daily Log'!$BE$18:$BE$1017),0)","v":0},{"$f":"IFERROR($E32*SUMIF('Daily Log'!$BG$18:$BG$1017,$B32,'Daily Log'!$BH$18:$BH$1017),0)","v":0},{"$f":"IFERROR($E32*SUMIF('Daily Log'!$BJ$18:$BJ$1017,$B32,'Daily Log'!$BK$18:$BK$1017),0)","v":0},{"$f":"IFERROR($E32*SUMIF('Daily Log'!$BM$18:$BM$1017,$B32,'Daily Log'!$BN$18:$BN$1017),0)","v":0},{"$f":"IFERROR($E32*SUMIF('Daily Log'!$BP$18:$BP$1017,$B32,'Daily Log'!$BQ$18:$BQ$1017),0)","v":0},{"$f":"IFERROR($E32*SUMIF('Daily Log'!$BS$18:$BS$1017,$B32,'Daily Log'!$BT$18:$BT$1017),0)","v":0},{"$f":"IFERROR($E32*SUMIF('Daily Log'!$BV$18:$BV$1017,$B32,'Daily Log'!$BW$18:$BW$1017),0)","v":0},{"$f":"IFERROR($E32*SUMIF('Daily Log'!$BY$18:$BY$1017,$B32,'Daily Log'!$BZ$18:$BZ$1017),0)","v":0},{"$f":"IFERROR($E32*SUMIF('Daily Log'!$CB$18:$CB$1017,$B32,'Daily Log'!$CC$18:$CC$1017),0)","v":0},{"$f":"IFERROR($E32*SUMIF('Daily Log'!$CE$18:$CE$1017,$B32,'Daily Log'!$CF$18:$CF$1017),0)","v":0},{"$f":"IFERROR($E32*SUMIF('Daily Log'!$CH$18:$CH$1017,$B32,'Daily Log'!$CI$18:$CI$1017),0)","v":0},{"$f":"IFERROR($E32*SUMIF('Daily Log'!$CK$18:$CK$1017,$B32,'Daily Log'!$CL$18:$CL$1017),0)","v":0},{"$f":"IFERROR($E32*SUMIF('Daily Log'!$CN$18:$CN$1017,$B32,'Daily Log'!$CO$18:$CO$1017),0)","v":0}]
[null,"LF04 91104:S&S CHK",null,"KLKD",1,23,{"$f":"IFERROR($E33*SUMIF('Daily Log'!$B$18:$B$1017,$B33,'Daily Log'!$C$18:$C$1017),0)","v":0},{"$f":"IFERROR($E33*SUMIF('Daily Log'!$E$18:$E$1017,$B33,'Daily Log'!$F$18:$F$1017),0)","v":0},{"$f":"IFERROR($E33*SUMIF('Daily Log'!$H$18:$H$1017,$B33,'Daily Log'!$I$18:$I$1017),0)","v":0},{"$f":"IFERROR($E33*SUMIF('Daily Log'!$K$18:$K$1017,$B33,'Daily Log'!$L$18:$L$1017),0)","v":0},{"$f":"IFERROR($E33*SUMIF('Daily Log'!$N$18:$N$1017,$B33,'Daily Log'!$O$18:$O$1017),0)","v":0},{"$f":"IFERROR($E33*SUMIF('Daily Log'!$Q$18:$Q$1017,$B33,'Daily Log'!$R$18:$R$1017),0)","v":0},{"$f":"IFERROR($E33*SUMIF('Daily Log'!$T$18:$T$1017,$B33,'Daily Log'!$U$18:$U$1017),0)","v":0},{"$f":"IFERROR($E33*SUMIF('Daily Log'!$W$18:$W$1017,$B33,'Daily Log'!$X$18:$X$1017),0)","v":0},{"$f":"IFERROR($E33*SUMIF('Daily Log'!$Z$18:$Z$1017,$B33,'Daily Log'!$AA$18:$AA$1017),0)","v":0},{"$f":"IFERROR($E33*SUMIF('Daily Log'!$AC$18:$AC$1017,$B33,'Daily Log'!$AD$18:$AD$1017),0)","v":0},{"$f":"IFERROR($E33*SUMIF('Daily Log'!$AF$18:$AF$1017,$B33,'Daily Log'!$AG$18:$AG$1017),0)","v":0},{"$f":"IFERROR($E33*SUMIF('Daily Log'!$AI$18:$AI$1017,$B33,'Daily Log'!$AJ$18:$AJ$1017),0)","v":0},{"$f":"IFERROR($E33*SUMIF('Daily Log'!$AL$18:$AL$1017,$B33,'Daily Log'!$AM$18:$AM$1017),0)","v":0},{"$f":"IFERROR($E33*SUMIF('Daily Log'!$AO$18:$AO$1017,$B33,'Daily Log'!$AP$18:$AP$1017),0)","v":0},{"$f":"IFERROR($E33*SUMIF('Daily Log'!$AR$18:$AR$1017,$B33,'Daily Log'!$AS$18:$AS$1017),0)","v":0},{"$f":"IFERROR($E33*SUMIF('Daily Log'!$AU$18:$AU$1017,$B33,'Daily Log'!$AV$18:$AV$1017),0)","v":0},{"$f":"IFERROR($E33*SUMIF('Daily Log'!$AX$18:$AX$1017,$B33,'Daily Log'!$AY$18:$AY$1017),0)","v":0},{"$f":"IFERROR($E33*SUMIF('Daily Log'!$BA$18:$BA$1017,$B33,'Daily Log'!$BB$18:$BB$1017),0)","v":0},{"$f":"IFERROR($E33*SUMIF('Daily Log'!$BD$18:$BD$1017,$B33,'Daily Log'!$BE$18:$BE$1017),0)","v":0},{"$f":"IFERROR($E33*SUMIF('Daily Log'!$BG$18:$BG$1017,$B33,'Daily Log'!$BH$18:$BH$1017),0)","v":0},{"$f":"IFERROR($E33*SUMIF('Daily Log'!$BJ$18:$BJ$1017,$B33,'Daily Log'!$BK$18:$BK$1017),0)","v":0},{"$f":"IFERROR($E33*SUMIF('Daily Log'!$BM$18:$BM$1017,$B33,'Daily Log'!$BN$18:$BN$1017),0)","v":0},{"$f":"IFERROR($E33*SUMIF('Daily Log'!$BP$18:$BP$1017,$B33,'Daily Log'!$BQ$18:$BQ$1017),0)","v":0},{"$f":"IFERROR($E33*SUMIF('Daily Log'!$BS$18:$BS$1017,$B33,'Daily Log'!$BT$18:$BT$1017),0)","v":0},{"$f":"IFERROR($E33*SUMIF('Daily Log'!$BV$18:$BV$1017,$B33,'Daily Log'!$BW$18:$BW$1017),0)","v":0},{"$f":"IFERROR($E33*SUMIF('Daily Log'!$BY$18:$BY$1017,$B33,'Daily Log'!$BZ$18:$BZ$1017),0)","v":0},{"$f":"IFERROR($E33*SUMIF('Daily Log'!$CB$18:$CB$1017,$B33,'Daily Log'!$CC$18:$CC$1017),0)","v":0},{"$f":"IFERROR($E33*SUMIF('Daily Log'!$CE$18:$CE$1017,$B33,'Daily Log'!$CF$18:$CF$1017),0)","v":0},{"$f":"IFERROR($E33*SUMIF('Daily Log'!$CH$18:$CH$1017,$B33,'Daily Log'!$CI$18:$CI$1017),0)","v":0},{"$f":"IFERROR($E33*SUMIF('Daily Log'!$CK$18:$CK$1017,$B33,'Daily Log'!$CL$18:$CL$1017),0)","v":0},{"$f":"IFERROR($E33*SUMIF('Daily Log'!$CN$18:$CN$1017,$B33,'Daily Log'!$CO$18:$CO$1017),0)","v":23}]
[null,"LF05 91105:BUTTER CHK",null,"KLKD",1,66,{"$f":"IFERROR($E34*SUMIF('Daily Log'!$B$18:$B$1017,$B34,'Daily Log'!$C$18:$C$1017),0)","v":0},{"$f":"IFERROR($E34*SUMIF('Daily Log'!$E$18:$E$1017,$B34,'Daily Log'!$F$18:$F$1017),0)","v":0},{"$f":"IFERROR($E34*SUMIF('Daily Log'!$H$18:$H$1017,$B34,'Daily Log'!$I$18:$I$1017),0)","v":0},{"$f":"IFERROR($E34*SUMIF('Daily Log'!$K$18:$K$1017,$B34,'Daily Log'!$L$18:$L$1017),0)","v":0},{"$f":"IFERROR($E34*SUMIF('Daily Log'!$N$18:$N$1017,$B34,'Daily Log'!$O$18:$O$1017),0)","v":0},{"$f":"IFERROR($E34*SUMIF('Daily Log'!$Q$18:$Q$1017,$B34,'Daily Log'!$R$18:$R$1017),0)","v":0},{"$f":"IFERROR($E34*SUMIF('Daily Log'!$T$18:$T$1017,$B34,'Daily Log'!$U$18:$U$1017),0)","v":0},{"$f":"IFERROR($E34*SUMIF('Daily Log'!$W$18:$W$1017,$B34,'Daily Log'!$X$18:$X$1017),0)","v":0},{"$f":"IFERROR($E34*SUMIF('Daily Log'!$Z$18:$Z$1017,$B34,'Daily Log'!$AA$18:$AA$1017),0)","v":0},{"$f":"IFERROR($E34*SUMIF('Daily Log'!$AC$18:$AC$1017,$B34,'Daily Log'!$AD$18:$AD$1017),0)","v":0},{"$f":"IFERROR($E34*SUMIF('Daily Log'!$AF$18:$AF$1017,$B34,'Daily Log'!$AG$18:$AG$1017),0)","v":0},{"$f":"IFERROR($E34*SUMIF('Daily Log'!$AI$18:$AI$1017,$B34,'Daily Log'!$AJ$18:$AJ$1017),0)","v":0},{"$f":"IFERROR($E34*SUMIF('Daily Log'!$AL$18:$AL$1017,$B34,'Daily Log'!$AM$18:$AM$1017),0)","v":0},{"$f":"IFERROR($E34*SUMIF('Daily Log'!$AO$18:$AO$1017,$B34,'Daily Log'!$AP$18:$AP$1017),0)","v":0},{"$f":"IFERROR($E34*SUMIF('Daily Log'!$AR$18:$AR$1017,$B34,'Daily Log'!$AS$18:$AS$1017),0)","v":0},{"$f":"IFERROR($E34*SUMIF('Daily Log'!$AU$18:$AU$1017,$B34,'Daily Log'!$AV$18:$AV$1017),0)","v":0},{"$f":"IFERROR($E34*SUMIF('Daily Log'!$AX$18:$AX$1017,$B34,'Daily Log'!$AY$18:$AY$1017),0)","v":0},{"$f":"IFERROR($E34*SUMIF('Daily Log'!$BA$18:$BA$1017,$B34,'Daily Log'!$BB$18:$BB$1017),0)","v":0},{"$f":"IFERROR($E34*SUMIF('Daily Log'!$BD$18:$BD$1017,$B34,'Daily Log'!$BE$18:$BE$1017),0)","v":0},{"$f":"IFERROR($E34*SUMIF('Daily Log'!$BG$18:$BG$1017,$B34,'Daily Log'!$BH$18:$BH$1017),0)","v":0},{"$f":"IFERROR($E34*SUMIF('Daily Log'!$BJ$18:$BJ$1017,$B34,'Daily Log'!$BK$18:$BK$1017),0)","v":0},{"$f":"IFERROR($E34*SUMIF('Daily Log'!$BM$18:$BM$1017,$B34,'Daily Log'!$BN$18:$BN$1017),0)","v":0},{"$f":"IFERROR($E34*SUMIF('Daily Log'!$BP$18:$BP$1017,$B34,'Daily Log'!$BQ$18:$BQ$1017),0)","v":0},{"$f":"IFERROR($E34*SUMIF('Daily Log'!$BS$18:$BS$1017,$B34,'Daily Log'!$BT$18:$BT$1017),0)","v":0},{"$f":"IFERROR($E34*SUMIF('Daily Log'!$BV$18:$BV$1017,$B34,'Daily Log'!$BW$18:$BW$1017),0)","v":0},{"$f":"IFERROR($E34*SUMIF('Daily Log'!$BY$18:$BY$1017,$B34,'Daily Log'!$BZ$18:$BZ$1017),0)","v":0},{"$f":"IFERROR($E34*SUMIF('Daily Log'!$CB$18:$CB$1017,$B34,'Daily Log'!$CC$18:$CC$1017),0)","v":0},{"$f":"IFERROR($E34*SUMIF('Daily Log'!$CE$18:$CE$1017,$B34,'Daily Log'!$CF$18:$CF$1017),0)","v":0},{"$f":"IFERROR($E34*SUMIF('Daily Log'!$CH$18:$CH$1017,$B34,'Daily Log'!$CI$18:$CI$1017),0)","v":0},{"$f":"IFERROR($E34*SUMIF('Daily Log'!$CK$18:$CK$1017,$B34,'Daily Log'!$CL$18:$CL$1017),0)","v":0},{"$f":"IFERROR($E34*SUMIF('Daily Log'!$CN$18:$CN$1017,$B34,'Daily Log'!$CO$18:$CO$1017),0)","v":66}]
[null,"LF06 91106:HK F.RICE",null,"KLKD",1,41,{"$f":"IFERROR($E35*SUMIF('Daily Log'!$B$18:$B$1017,$B35,'Daily Log'!$C$18:$C$1017),0)","v":0},{"$f":"IFERROR($E35*SUMIF('Daily Log'!$E$18:$E$1017,$B35,'Daily Log'!$F$18:$F$1017),0)","v":0},{"$f":"IFERROR($E35*SUMIF('Daily Log'!$H$18:$H$1017,$B35,'Daily Log'!$I$18:$I$1017),0)","v":0},{"$f":"IFERROR($E35*SUMIF('Daily Log'!$K$18:$K$1017,$B35,'Daily Log'!$L$18:$L$1017),0)","v":0},{"$f":"IFERROR($E35*SUMIF('Daily Log'!$N$18:$N$1017,$B35,'Daily Log'!$O$18:$O$1017),0)","v":0},{"$f":"IFERROR($E35*SUMIF('Daily Log'!$Q$18:$Q$1017,$B35,'Daily Log'!$R$18:$R$1017),0)","v":0},{"$f":"IFERROR($E35*SUMIF('Daily Log'!$T$18:$T$1017,$B35,'Daily Log'!$U$18:$U$1017),0)","v":0},{"$f":"IFERROR($E35*SUMIF('Daily Log'!$W$18:$W$1017,$B35,'Daily Log'!$X$18:$X$1017),0)","v":0},{"$f":"IFERROR($E35*SUMIF('Daily Log'!$Z$18:$Z$1017,$B35,'Daily Log'!$AA$18:$AA$1017),0)","v":0},{"$f":"IFERROR($E35*SUMIF('Daily Log'!$AC$18:$AC$1017,$B35,'Daily Log'!$AD$18:$AD$1017),0)","v":0},{"$f":"IFERROR($E35*SUMIF('Daily Log'!$AF$18:$AF$1017,$B35,'Daily Log'!$AG$18:$AG$1017),0)","v":0},{"$f":"IFERROR($E35*SUMIF('Daily Log'!$AI$18:$AI$1017,$B35,'Daily Log'!$AJ$18:$AJ$1017),0)","v":0},{"$f":"IFERROR($E35*SUMIF('Daily Log'!$AL$18:$AL$1017,$B35,'Daily Log'!$AM$18:$AM$1017),0)","v":0},{"$f":"IFERROR($E35*SUMIF('Daily Log'!$AO$18:$AO$1017,$B35,'Daily Log'!$AP$18:$AP$1017),0)","v":0},{"$f":"IFERROR($E35*SUMIF('Daily Log'!$AR$18:$AR$1017,$B35,'Daily Log'!$AS$18:$AS$1017),0)","v":0},{"$f":"IFERROR($E35*SUMIF('Daily Log'!$AU$18:$AU$1017,$B35,'Daily Log'!$AV$18:$AV$1017),0)","v":0},{"$f":"IFERROR($E35*SUMIF('Daily Log'!$AX$18:$AX$1017,$B35,'Daily Log'!$AY$18:$AY$1017),0)","v":0},{"$f":"IFERROR($E35*SUMIF('Daily Log'!$BA$18:$BA$1017,$B35,'Daily Log'!$BB$18:$BB$1017),0)","v":0},{"$f":"IFERROR($E35*SUMIF('Daily Log'!$BD$18:$BD$1017,$B35,'Daily Log'!$BE$18:$BE$1017),0)","v":0},{"$f":"IFERROR($E35*SUMIF('Daily Log'!$BG$18:$BG$1017,$B35,'Daily Log'!$BH$18:$BH$1017),0)","v":0},{"$f":"IFERROR($E35*SUMIF('Daily Log'!$BJ$18:$BJ$1017,$B35,'Daily Log'!$BK$18:$BK$1017),0)","v":0},{"$f":"IFERROR($E35*SUMIF('Daily Log'!$BM$18:$BM$1017,$B35,'Daily Log'!$BN$18:$BN$1017),0)","v":0},{"$f":"IFERROR($E35*SUMIF('Daily Log'!$BP$18:$BP$1017,$B35,'Daily Log'!$BQ$18:$BQ$1017),0)","v":0},{"$f":"IFERROR($E35*SUMIF('Daily Log'!$BS$18:$BS$1017,$B35,'Daily Log'!$BT$18:$BT$1017),0)","v":0},{"$f":"IFERROR($E35*SUMIF('Daily Log'!$BV$18:$BV$1017,$B35,'Daily Log'!$BW$18:$BW$1017),0)","v":0},{"$f":"IFERROR($E35*SUMIF('Daily Log'!$BY$18:$BY$1017,$B35,'Daily Log'!$BZ$18:$BZ$1017),0)","v":0},{"$f":"IFERROR($E35*SUMIF('Daily Log'!$CB$18:$CB$1017,$B35,'Daily Log'!$CC$18:$CC$1017),0)","v":0},{"$f":"IFERROR($E35*SUMIF('Daily Log'!$CE$18:$CE$1017,$B35,'Daily Log'!$CF$18:$CF$1017),0)","v":0},{"$f":"IFERROR($E35*SUMIF('Daily Log'!$CH$18:$CH$1017,$B35,'Daily Log'!$CI$18:$CI$1017),0)","v":0},{"$f":"IFERROR($E35*SUMIF('Daily Log'!$CK$18:$CK$1017,$B35,'Daily Log'!$CL$18:$CL$1017),0)","v":0},{"$f":"IFERROR($E35*SUMIF('Daily Log'!$CN$18:$CN$1017,$B35,'Daily Log'!$CO$18:$CO$1017),0)","v":41}]
[null,"LF07 91107:SBL F.RICE",null,"KLKD",1,28,{"$f":"IFERROR($E36*SUMIF('Daily Log'!$B$18:$B$1017,$B36,'Daily Log'!$C$18:$C$1017),0)","v":0},{"$f":"IFERROR($E36*SUMIF('Daily Log'!$E$18:$E$1017,$B36,'Daily Log'!$F$18:$F$1017),0)","v":0},{"$f":"IFERROR($E36*SUMIF('Daily Log'!$H$18:$H$1017,$B36,'Daily Log'!$I$18:$I$1017),0)","v":0},{"$f":"IFERROR($E36*SUMIF('Daily Log'!$K$18:$K$1017,$B36,'Daily Log'!$L$18:$L$1017),0)","v":0},{"$f":"IFERROR($E36*SUMIF('Daily Log'!$N$18:$N$1017,$B36,'Daily Log'!$O$18:$O$1017),0)","v":0},{"$f":"IFERROR($E36*SUMIF('Daily Log'!$Q$18:$Q$1017,$B36,'Daily Log'!$R$18:$R$1017),0)","v":0},{"$f":"IFERROR($E36*SUMIF('Daily Log'!$T$18:$T$1017,$B36,'Daily Log'!$U$18:$U$1017),0)","v":0},{"$f":"IFERROR($E36*SUMIF('Daily Log'!$W$18:$W$1017,$B36,'Daily Log'!$X$18:$X$1017),0)","v":0},{"$f":"IFERROR($E36*SUMIF('Daily Log'!$Z$18:$Z$1017,$B36,'Daily Log'!$AA$18:$AA$1017),0)","v":0},{"$f":"IFERROR($E36*SUMIF('Daily Log'!$AC$18:$AC$1017,$B36,'Daily Log'!$AD$18:$AD$1017),0)","v":0},{"$f":"IFERROR($E36*SUMIF('Daily Log'!$AF$18:$AF$1017,$B36,'Daily Log'!$AG$18:$AG$1017),0)","v":0},{"$f":"IFERROR($E36*SUMIF('Daily Log'!$AI$18:$AI$1017,$B36,'Daily Log'!$AJ$18:$AJ$1017),0)","v":0},{"$f":"IFERROR($E36*SUMIF('Daily Log'!$AL$18:$AL$1017,$B36,'Daily Log'!$AM$18:$AM$1017),0)","v":0},{"$f":"IFERROR($E36*SUMIF('Daily Log'!$AO$18:$AO$1017,$B36,'Daily Log'!$AP$18:$AP$1017),0)","v":0},{"$f":"IFERROR($E36*SUMIF('Daily Log'!$AR$18:$AR$1017,$B36,'Daily Log'!$AS$18:$AS$1017),0)","v":0},{"$f":"IFERROR($E36*SUMIF('Daily Log'!$AU$18:$AU$1017,$B36,'Daily Log'!$AV$18:$AV$1017),0)","v":0},{"$f":"IFERROR($E36*SUMIF('Daily Log'!$AX$18:$AX$1017,$B36,'Daily Log'!$AY$18:$AY$1017),0)","v":0},{"$f":"IFERROR($E36*SUMIF('Daily Log'!$BA$18:$BA$1017,$B36,'Daily Log'!$BB$18:$BB$1017),0)","v":0},{"$f":"IFERROR($E36*SUMIF('Daily Log'!$BD$18:$BD$1017,$B36,'Daily Log'!$BE$18:$BE$1017),0)","v":0},{"$f":"IFERROR($E36*SUMIF('Daily Log'!$BG$18:$BG$1017,$B36,'Daily Log'!$BH$18:$BH$1017),0)","v":0},{"$f":"IFERROR($E36*SUMIF('Daily Log'!$BJ$18:$BJ$1017,$B36,'Daily Log'!$BK$18:$BK$1017),0)","v":0},{"$f":"IFERROR($E36*SUMIF('Daily Log'!$BM$18:$BM$1017,$B36,'Daily Log'!$BN$18:$BN$1017),0)","v":0},{"$f":"IFERROR($E36*SUMIF('Daily Log'!$BP$18:$BP$1017,$B36,'Daily Log'!$BQ$18:$BQ$1017),0)","v":0},{"$f":"IFERROR($E36*SUMIF('Daily Log'!$BS$18:$BS$1017,$B36,'Daily Log'!$BT$18:$BT$1017),0)","v":0},{"$f":"IFERROR($E36*SUMIF('Daily Log'!$BV$18:$BV$1017,$B36,'Daily Log'!$BW$18:$BW$1017),0)","v":0},{"$f":"IFERROR($E36*SUMIF('Daily Log'!$BY$18:$BY$1017,$B36,'Daily Log'!$BZ$18:$BZ$1017),0)","v":0},{"$f":"IFERROR($E36*SUMIF('Daily Log'!$CB$18:$CB$1017,$B36,'Daily Log'!$CC$18:$CC$1017),0)","v":0},{"$f":"IFERROR($E36*SUMIF('Daily Log'!$CE$18:$CE$1017,$B36,'Daily Log'!$CF$18:$CF$1017),0)","v":0},{"$f":"IFERROR($E36*SUMIF('Daily Log'!$CH$18:$CH$1017,$B36,'Daily Log'!$CI$18:$CI$1017),0)","v":0},{"$f":"IFERROR($E36*SUMIF('Daily Log'!$CK$18:$CK$1017,$B36,'Daily Log'!$CL$18:$CL$1017),0)","v":0},{"$f":"IFERROR($E36*SUMIF('Daily Log'!$CN$18:$CN$1017,$B36,'Daily Log'!$CO$18:$CO$1017),0)","v":28}]
[null,"LF08 91108:SBL F.MEE",null,"KLKD",1,3,{"$f":"IFERROR($E37*SUMIF('Daily Log'!$B$18:$B$1017,$B37,'Daily Log'!$C$18:$C$1017),0)","v":0},{"$f":"IFERROR($E37*SUMIF('Daily Log'!$E$18:$E$1017,$B37,'Daily Log'!$F$18:$F$1017),0)","v":0},{"$f":"IFERROR($E37*SUMIF('Daily Log'!$H$18:$H$1017,$B37,'Daily Log'!$I$18:$I$1017),0)","v":0},{"$f":"IFERROR($E37*SUMIF('Daily Log'!$K$18:$K$1017,$B37,'Daily Log'!$L$18:$L$1017),0)","v":0},{"$f":"IFERROR($E37*SUMIF('Daily Log'!$N$18:$N$1017,$B37,'Daily Log'!$O$18:$O$1017),0)","v":0},{"$f":"IFERROR($E37*SUMIF('Daily Log'!$Q$18:$Q$1017,$B37,'Daily Log'!$R$18:$R$1017),0)","v":0},{"$f":"IFERROR($E37*SUMIF('Daily Log'!$T$18:$T$1017,$B37,'Daily Log'!$U$18:$U$1017),0)","v":0},{"$f":"IFERROR($E37*SUMIF('Daily Log'!$W$18:$W$1017,$B37,'Daily Log'!$X$18:$X$1017),0)","v":0},{"$f":"IFERROR($E37*SUMIF('Daily Log'!$Z$18:$Z$1017,$B37,'Daily Log'!$AA$18:$AA$1017),0)","v":0},{"$f":"IFERROR($E37*SUMIF('Daily Log'!$AC$18:$AC$1017,$B37,'Daily Log'!$AD$18:$AD$1017),0)","v":0},{"$f":"IFERROR($E37*SUMIF('Daily Log'!$AF$18:$AF$1017,$B37,'Daily Log'!$AG$18:$AG$1017),0)","v":0},{"$f":"IFERROR($E37*SUMIF('Daily Log'!$AI$18:$AI$1017,$B37,'Daily Log'!$AJ$18:$AJ$1017),0)","v":0},{"$f":"IFERROR($E37*SUMIF('Daily Log'!$AL$18:$AL$1017,$B37,'Daily Log'!$AM$18:$AM$1017),0)","v":0},{"$f":"IFERROR($E37*SUMIF('Daily Log'!$AO$18:$AO$1017,$B37,'Daily Log'!$AP$18:$AP$1017),0)","v":0},{"$f":"IFERROR($E37*SUMIF('Daily Log'!$AR$18:$AR$1017,$B37,'Daily Log'!$AS$18:$AS$1017),0)","v":0},{"$f":"IFERROR($E37*SUMIF('Daily Log'!$AU$18:$AU$1017,$B37,'Daily Log'!$AV$18:$AV$1017),0)","v":0},{"$f":"IFERROR($E37*SUMIF('Daily Log'!$AX$18:$AX$1017,$B37,'Daily Log'!$AY$18:$AY$1017),0)","v":0},{"$f":"IFERROR($E37*SUMIF('Daily Log'!$BA$18:$BA$1017,$B37,'Daily Log'!$BB$18:$BB$1017),0)","v":0},{"$f":"IFERROR($E37*SUMIF('Daily Log'!$BD$18:$BD$1017,$B37,'Daily Log'!$BE$18:$BE$1017),0)","v":0},{"$f":"IFERROR($E37*SUMIF('Daily Log'!$BG$18:$BG$1017,$B37,'Daily Log'!$BH$18:$BH$1017),0)","v":0},{"$f":"IFERROR($E37*SUMIF('Daily Log'!$BJ$18:$BJ$1017,$B37,'Daily Log'!$BK$18:$BK$1017),0)","v":0},{"$f":"IFERROR($E37*SUMIF('Daily Log'!$BM$18:$BM$1017,$B37,'Daily Log'!$BN$18:$BN$1017),0)","v":0},{"$f":"IFERROR($E37*SUMIF('Daily Log'!$BP$18:$BP$1017,$B37,'Daily Log'!$BQ$18:$BQ$1017),0)","v":0},{"$f":"IFERROR($E37*SUMIF('Daily Log'!$BS$18:$BS$1017,$B37,'Daily Log'!$BT$18:$BT$1017),0)","v":0},{"$f":"IFERROR($E37*SUMIF('Daily Log'!$BV$18:$BV$1017,$B37,'Daily Log'!$BW$18:$BW$1017),0)","v":0},{"$f":"IFERROR($E37*SUMIF('Daily Log'!$BY$18:$BY$1017,$B37,'Daily Log'!$BZ$18:$BZ$1017),0)","v":0},{"$f":"IFERROR($E37*SUMIF('Daily Log'!$CB$18:$CB$1017,$B37,'Daily Log'!$CC$18:$CC$1017),0)","v":0},{"$f":"IFERROR($E37*SUMIF('Daily Log'!$CE$18:$CE$1017,$B37,'Daily Log'!$CF$18:$CF$1017),0)","v":0},{"$f":"IFERROR($E37*SUMIF('Daily Log'!$CH$18:$CH$1017,$B37,'Daily Log'!$CI$18:$CI$1017),0)","v":0},{"$f":"IFERROR($E37*SUMIF('Daily Log'!$CK$18:$CK$1017,$B37,'Daily Log'!$CL$18:$CL$1017),0)","v":0},{"$f":"IFERROR($E37*SUMIF('Daily Log'!$CN$18:$CN$1017,$B37,'Daily Log'!$CO$18:$CO$1017),0)","v":3}]
[null,"LF09 91109:BP UDON",null,"KLKD",1,15,{"$f":"IFERROR($E38*SUMIF('Daily Log'!$B$18:$B$1017,$B38,'Daily Log'!$C$18:$C$1017),0)","v":0},{"$f":"IFERROR($E38*SUMIF('Daily Log'!$E$18:$E$1017,$B38,'Daily Log'!$F$18:$F$1017),0)","v":0},{"$f":"IFERROR($E38*SUMIF('Daily Log'!$H$18:$H$1017,$B38,'Daily Log'!$I$18:$I$1017),0)","v":0},{"$f":"IFERROR($E38*SUMIF('Daily Log'!$K$18:$K$1017,$B38,'Daily Log'!$L$18:$L$1017),0)","v":0},{"$f":"IFERROR($E38*SUMIF('Daily Log'!$N$18:$N$1017,$B38,'Daily Log'!$O$18:$O$1017),0)","v":0},{"$f":"IFERROR($E38*SUMIF('Daily Log'!$Q$18:$Q$1017,$B38,'Daily Log'!$R$18:$R$1017),0)","v":0},{"$f":"IFERROR($E38*SUMIF('Daily Log'!$T$18:$T$1017,$B38,'Daily Log'!$U$18:$U$1017),0)","v":0},{"$f":"IFERROR($E38*SUMIF('Daily Log'!$W$18:$W$1017,$B38,'Daily Log'!$X$18:$X$1017),0)","v":0},{"$f":"IFERROR($E38*SUMIF('Daily Log'!$Z$18:$Z$1017,$B38,'Daily Log'!$AA$18:$AA$1017),0)","v":0},{"$f":"IFERROR($E38*SUMIF('Daily Log'!$AC$18:$AC$1017,$B38,'Daily Log'!$AD$18:$AD$1017),0)","v":0},{"$f":"IFERROR($E38*SUMIF('Daily Log'!$AF$18:$AF$1017,$B38,'Daily Log'!$AG$18:$AG$1017),0)","v":0},{"$f":"IFERROR($E38*SUMIF('Daily Log'!$AI$18:$AI$1017,$B38,'Daily Log'!$AJ$18:$AJ$1017),0)","v":0},{"$f":"IFERROR($E38*SUMIF('Daily Log'!$AL$18:$AL$1017,$B38,'Daily Log'!$AM$18:$AM$1017),0)","v":0},{"$f":"IFERROR($E38*SUMIF('Daily Log'!$AO$18:$AO$1017,$B38,'Daily Log'!$AP$18:$AP$1017),0)","v":0},{"$f":"IFERROR($E38*SUMIF('Daily Log'!$AR$18:$AR$1017,$B38,'Daily Log'!$AS$18:$AS$1017),0)","v":0},{"$f":"IFERROR($E38*SUMIF('Daily Log'!$AU$18:$AU$1017,$B38,'Daily Log'!$AV$18:$AV$1017),0)","v":0},{"$f":"IFERROR($E38*SUMIF('Daily Log'!$AX$18:$AX$1017,$B38,'Daily Log'!$AY$18:$AY$1017),0)","v":0},{"$f":"IFERROR($E38*SUMIF('Daily Log'!$BA$18:$BA$1017,$B38,'Daily Log'!$BB$18:$BB$1017),0)","v":0},{"$f":"IFERROR($E38*SUMIF('Daily Log'!$BD$18:$BD$1017,$B38,'Daily Log'!$BE$18:$BE$1017),0)","v":0},{"$f":"IFERROR($E38*SUMIF('Daily Log'!$BG$18:$BG$1017,$B38,'Daily Log'!$BH$18:$BH$1017),0)","v":0},{"$f":"IFERROR($E38*SUMIF('Daily Log'!$BJ$18:$BJ$1017,$B38,'Daily Log'!$BK$18:$BK$1017),0)","v":0},{"$f":"IFERROR($E38*SUMIF('Daily Log'!$BM$18:$BM$1017,$B38,'Daily Log'!$BN$18:$BN$1017),0)","v":0},{"$f":"IFERROR($E38*SUMIF('Daily Log'!$BP$18:$BP$1017,$B38,'Daily Log'!$BQ$18:$BQ$1017),0)","v":0},{"$f":"IFERROR($E38*SUMIF('Daily Log'!$BS$18:$BS$1017,$B38,'Daily Log'!$BT$18:$BT$1017),0)","v":0},{"$f":"IFERROR($E38*SUMIF('Daily Log'!$BV$18:$BV$1017,$B38,'Daily Log'!$BW$18:$BW$1017),0)","v":0},{"$f":"IFERROR($E38*SUMIF('Daily Log'!$BY$18:$BY$1017,$B38,'Daily Log'!$BZ$18:$BZ$1017),0)","v":0},{"$f":"IFERROR($E38*SUMIF('Daily Log'!$CB$18:$CB$1017,$B38,'Daily Log'!$CC$18:$CC$1017),0)","v":0},{"$f":"IFERROR($E38*SUMIF('Daily Log'!$CE$18:$CE$1017,$B38,'Daily Log'!$CF$18:$CF$1017),0)","v":0},{"$f":"IFERROR($E38*SUMIF('Daily Log'!$CH$18:$CH$1017,$B38,'Daily Log'!$CI$18:$CI$1017),0)","v":0},{"$f":"IFERROR($E38*SUMIF('Daily Log'!$CK$18:$CK$1017,$B38,'Daily Log'!$CL$18:$CL$1017),0)","v":0},{"$f":"IFERROR($E38*SUMIF('Daily Log'!$CN$18:$CN$1017,$B38,'Daily Log'!$CO$18:$CO$1017),0)","v":15}]
[null,"LF10 91110:NISSIN",null,"KLKD",1,34,{"$f":"IFERROR($E39*SUMIF('Daily Log'!$B$18:$B$1017,$B39,'Daily Log'!$C$18:$C$1017),0)","v":0},{"$f":"IFERROR($E39*SUMIF('Daily Log'!$E$18:$E$1017,$B39,'Daily Log'!$F$18:$F$1017),0)","v":0},{"$f":"IFERROR($E39*SUMIF('Daily Log'!$H$18:$H$1017,$B39,'Daily Log'!$I$18:$I$1017),0)","v":0},{"$f":"IFERROR($E39*SUMIF('Daily Log'!$K$18:$K$1017,$B39,'Daily Log'!$L$18:$L$1017),0)","v":0},{"$f":"IFERROR($E39*SUMIF('Daily Log'!$N$18:$N$1017,$B39,'Daily Log'!$O$18:$O$1017),0)","v":0},{"$f":"IFERROR($E39*SUMIF('Daily Log'!$Q$18:$Q$1017,$B39,'Daily Log'!$R$18:$R$1017),0)","v":0},{"$f":"IFERROR($E39*SUMIF('Daily Log'!$T$18:$T$1017,$B39,'Daily Log'!$U$18:$U$1017),0)","v":0},{"$f":"IFERROR($E39*SUMIF('Daily Log'!$W$18:$W$1017,$B39,'Daily Log'!$X$18:$X$1017),0)","v":0},{"$f":"IFERROR($E39*SUMIF('Daily Log'!$Z$18:$Z$1017,$B39,'Daily Log'!$AA$18:$AA$1017),0)","v":0},{"$f":"IFERROR($E39*SUMIF('Daily Log'!$AC$18:$AC$1017,$B39,'Daily Log'!$AD$18:$AD$1017),0)","v":0},{"$f":"IFERROR($E39*SUMIF('Daily Log'!$AF$18:$AF$1017,$B39,'Daily Log'!$AG$18:$AG$1017),0)","v":0},{"$f":"IFERROR($E39*SUMIF('Daily Log'!$AI$18:$AI$1017,$B39,'Daily Log'!$AJ$18:$AJ$1017),0)","v":0},{"$f":"IFERROR($E39*SUMIF('Daily Log'!$AL$18:$AL$1017,$B39,'Daily Log'!$AM$18:$AM$1017),0)","v":0},{"$f":"IFERROR($E39*SUMIF('Daily Log'!$AO$18:$AO$1017,$B39,'Daily Log'!$AP$18:$AP$1017),0)","v":0},{"$f":"IFERROR($E39*SUMIF('Daily Log'!$AR$18:$AR$1017,$B39,'Daily Log'!$AS$18:$AS$1017),0)","v":0},{"$f":"IFERROR($E39*SUMIF('Daily Log'!$AU$18:$AU$1017,$B39,'Daily Log'!$AV$18:$AV$1017),0)","v":0},{"$f":"IFERROR($E39*SUMIF('Daily Log'!$AX$18:$AX$1017,$B39,'Daily Log'!$AY$18:$AY$1017),0)","v":0},{"$f":"IFERROR($E39*SUMIF('Daily Log'!$BA$18:$BA$1017,$B39,'Daily Log'!$BB$18:$BB$1017),0)","v":0},{"$f":"IFERROR($E39*SUMIF('Daily Log'!$BD$18:$BD$1017,$B39,'Daily Log'!$BE$18:$BE$1017),0)","v":0},{"$f":"IFERROR($E39*SUMIF('Daily Log'!$BG$18:$BG$1017,$B39,'Daily Log'!$BH$18:$BH$1017),0)","v":0},{"$f":"IFERROR($E39*SUMIF('Daily Log'!$BJ$18:$BJ$1017,$B39,'Daily Log'!$BK$18:$BK$1017),0)","v":0},{"$f":"IFERROR($E39*SUMIF('Daily Log'!$BM$18:$BM$1017,$B39,'Daily Log'!$BN$18:$BN$1017),0)","v":0},{"$f":"IFERROR($E39*SUMIF('Daily Log'!$BP$18:$BP$1017,$B39,'Daily Log'!$BQ$18:$BQ$1017),0)","v":0},{"$f":"IFERROR($E39*SUMIF('Daily Log'!$BS$18:$BS$1017,$B39,'Daily Log'!$BT$18:$BT$1017),0)","v":0},{"$f":"IFERROR($E39*SUMIF('Daily Log'!$BV$18:$BV$1017,$B39,'Daily Log'!$BW$18:$BW$1017),0)","v":0},{"$f":"IFERROR($E39*SUMIF('Daily Log'!$BY$18:$BY$1017,$B39,'Daily Log'!$BZ$18:$BZ$1017),0)","v":0},{"$f":"IFERROR($E39*SUMIF('Daily Log'!$CB$18:$CB$1017,$B39,'Daily Log'!$CC$18:$CC$1017),0)","v":0},{"$f":"IFERROR($E39*SUMIF('Daily Log'!$CE$18:$CE$1017,$B39,'Daily Log'!$CF$18:$CF$1017),0)","v":0},{"$f":"IFERROR($E39*SUMIF('Daily Log'!$CH$18:$CH$1017,$B39,'Daily Log'!$CI$18:$CI$1017),0)","v":0},{"$f":"IFERROR($E39*SUMIF('Daily Log'!$CK$18:$CK$1017,$B39,'Daily Log'!$CL$18:$CL$1017),0)","v":0},{"$f":"IFERROR($E39*SUMIF('Daily Log'!$CN$18:$CN$1017,$B39,'Daily Log'!$CO$18:$CO$1017),0)","v":34}]
[null,"LF11 91111:VEG RICE",null,"KLKD",1,15,{"$f":"IFERROR($E40*SUMIF('Daily Log'!$B$18:$B$1017,$B40,'Daily Log'!$C$18:$C$1017),0)","v":0},{"$f":"IFERROR($E40*SUMIF('Daily Log'!$E$18:$E$1017,$B40,'Daily Log'!$F$18:$F$1017),0)","v":0},{"$f":"IFERROR($E40*SUMIF('Daily Log'!$H$18:$H$1017,$B40,'Daily Log'!$I$18:$I$1017),0)","v":0},{"$f":"IFERROR($E40*SUMIF('Daily Log'!$K$18:$K$1017,$B40,'Daily Log'!$L$18:$L$1017),0)","v":0},{"$f":"IFERROR($E40*SUMIF('Daily Log'!$N$18:$N$1017,$B40,'Daily Log'!$O$18:$O$1017),0)","v":0},{"$f":"IFERROR($E40*SUMIF('Daily Log'!$Q$18:$Q$1017,$B40,'Daily Log'!$R$18:$R$1017),0)","v":0},{"$f":"IFERROR($E40*SUMIF('Daily Log'!$T$18:$T$1017,$B40,'Daily Log'!$U$18:$U$1017),0)","v":0},{"$f":"IFERROR($E40*SUMIF('Daily Log'!$W$18:$W$1017,$B40,'Daily Log'!$X$18:$X$1017),0)","v":0},{"$f":"IFERROR($E40*SUMIF('Daily Log'!$Z$18:$Z$1017,$B40,'Daily Log'!$AA$18:$AA$1017),0)","v":0},{"$f":"IFERROR($E40*SUMIF('Daily Log'!$AC$18:$AC$1017,$B40,'Daily Log'!$AD$18:$AD$1017),0)","v":0},{"$f":"IFERROR($E40*SUMIF('Daily Log'!$AF$18:$AF$1017,$B40,'Daily Log'!$AG$18:$AG$1017),0)","v":0},{"$f":"IFERROR($E40*SUMIF('Daily Log'!$AI$18:$AI$1017,$B40,'Daily Log'!$AJ$18:$AJ$1017),0)","v":0},{"$f":"IFERROR($E40*SUMIF('Daily Log'!$AL$18:$AL$1017,$B40,'Daily Log'!$AM$18:$AM$1017),0)","v":0},{"$f":"IFERROR($E40*SUMIF('Daily Log'!$AO$18:$AO$1017,$B40,'Daily Log'!$AP$18:$AP$1017),0)","v":0},{"$f":"IFERROR($E40*SUMIF('Daily Log'!$AR$18:$AR$1017,$B40,'Daily Log'!$AS$18:$AS$1017),0)","v":0},{"$f":"IFERROR($E40*SUMIF('Daily Log'!$AU$18:$AU$1017,$B40,'Daily Log'!$AV$18:$AV$1017),0)","v":0},{"$f":"IFERROR($E40*SUMIF('Daily Log'!$AX$18:$AX$1017,$B40,'Daily Log'!$AY$18:$AY$1017),0)","v":0},{"$f":"IFERROR($E40*SUMIF('Daily Log'!$BA$18:$BA$1017,$B40,'Daily Log'!$BB$18:$BB$1017),0)","v":0},{"$f":"IFERROR($E40*SUMIF('Daily Log'!$BD$18:$BD$1017,$B40,'Daily Log'!$BE$18:$BE$1017),0)","v":0},{"$f":"IFERROR($E40*SUMIF('Daily Log'!$BG$18:$BG$1017,$B40,'Daily Log'!$BH$18:$BH$1017),0)","v":0},{"$f":"IFERROR($E40*SUMIF('Daily Log'!$BJ$18:$BJ$1017,$B40,'Daily Log'!$BK$18:$BK$1017),0)","v":0},{"$f":"IFERROR($E40*SUMIF('Daily Log'!$BM$18:$BM$1017,$B40,'Daily Log'!$BN$18:$BN$1017),0)","v":0},{"$f":"IFERROR($E40*SUMIF('Daily Log'!$BP$18:$BP$1017,$B40,'Daily Log'!$BQ$18:$BQ$1017),0)","v":0},{"$f":"IFERROR($E40*SUMIF('Daily Log'!$BS$18:$BS$1017,$B40,'Daily Log'!$BT$18:$BT$1017),0)","v":0},{"$f":"IFERROR($E40*SUMIF('Daily Log'!$BV$18:$BV$1017,$B40,'Daily Log'!$BW$18:$BW$1017),0)","v":0},{"$f":"IFERROR($E40*SUMIF('Daily Log'!$BY$18:$BY$1017,$B40,'Daily Log'!$BZ$18:$BZ$1017),0)","v":0},{"$f":"IFERROR($E40*SUMIF('Daily Log'!$CB$18:$CB$1017,$B40,'Daily Log'!$CC$18:$CC$1017),0)","v":0},{"$f":"IFERROR($E40*SUMIF('Daily Log'!$CE$18:$CE$1017,$B40,'Daily Log'!$CF$18:$CF$1017),0)","v":0},{"$f":"IFERROR($E40*SUMIF('Daily Log'!$CH$18:$CH$1017,$B40,'Daily Log'!$CI$18:$CI$1017),0)","v":0},{"$f":"IFERROR($E40*SUMIF('Daily Log'!$CK$18:$CK$1017,$B40,'Daily Log'!$CL$18:$CL$1017),0)","v":0},{"$f":"IFERROR($E40*SUMIF('Daily Log'!$CN$18:$CN$1017,$B40,'Daily Log'!$CO$18:$CO$1017),0)","v":15}]
[null,"LF12 91112:NASI LEMAK",null,"KLKD",1,0,{"$f":"IFERROR($E41*SUMIF('Daily Log'!$B$18:$B$1017,$B41,'Daily Log'!$C$18:$C$1017),0)","v":0},{"$f":"IFERROR($E41*SUMIF('Daily Log'!$E$18:$E$1017,$B41,'Daily Log'!$F$18:$F$1017),0)","v":0},{"$f":"IFERROR($E41*SUMIF('Daily Log'!$H$18:$H$1017,$B41,'Daily Log'!$I$18:$I$1017),0)","v":0},{"$f":"IFERROR($E41*SUMIF('Daily Log'!$K$18:$K$1017,$B41,'Daily Log'!$L$18:$L$1017),0)","v":0},{"$f":"IFERROR($E41*SUMIF('Daily Log'!$N$18:$N$1017,$B41,'Daily Log'!$O$18:$O$1017),0)","v":0},{"$f":"IFERROR($E41*SUMIF('Daily Log'!$Q$18:$Q$1017,$B41,'Daily Log'!$R$18:$R$1017),0)","v":0},{"$f":"IFERROR($E41*SUMIF('Daily Log'!$T$18:$T$1017,$B41,'Daily Log'!$U$18:$U$1017),0)","v":0},{"$f":"IFERROR($E41*SUMIF('Daily Log'!$W$18:$W$1017,$B41,'Daily Log'!$X$18:$X$1017),0)","v":0},{"$f":"IFERROR($E41*SUMIF('Daily Log'!$Z$18:$Z$1017,$B41,'Daily Log'!$AA$18:$AA$1017),0)","v":0},{"$f":"IFERROR($E41*SUMIF('Daily Log'!$AC$18:$AC$1017,$B41,'Daily Log'!$AD$18:$AD$1017),0)","v":0},{"$f":"IFERROR($E41*SUMIF('Daily Log'!$AF$18:$AF$1017,$B41,'Daily Log'!$AG$18:$AG$1017),0)","v":0},{"$f":"IFERROR($E41*SUMIF('Daily Log'!$AI$18:$AI$1017,$B41,'Daily Log'!$AJ$18:$AJ$1017),0)","v":0},{"$f":"IFERROR($E41*SUMIF('Daily Log'!$AL$18:$AL$1017,$B41,'Daily Log'!$AM$18:$AM$1017),0)","v":0},{"$f":"IFERROR($E41*SUMIF('Daily Log'!$AO$18:$AO$1017,$B41,'Daily Log'!$AP$18:$AP$1017),0)","v":0},{"$f":"IFERROR($E41*SUMIF('Daily Log'!$AR$18:$AR$1017,$B41,'Daily Log'!$AS$18:$AS$1017),0)","v":0},{"$f":"IFERROR($E41*SUMIF('Daily Log'!$AU$18:$AU$1017,$B41,'Daily Log'!$AV$18:$AV$1017),0)","v":0},{"$f":"IFERROR($E41*SUMIF('Daily Log'!$AX$18:$AX$1017,$B41,'Daily Log'!$AY$18:$AY$1017),0)","v":0},{"$f":"IFERROR($E41*SUMIF('Daily Log'!$BA$18:$BA$1017,$B41,'Daily Log'!$BB$18:$BB$1017),0)","v":0},{"$f":"IFERROR($E41*SUMIF('Daily Log'!$BD$18:$BD$1017,$B41,'Daily Log'!$BE$18:$BE$1017),0)","v":0},{"$f":"IFERROR($E41*SUMIF('Daily Log'!$BG$18:$BG$1017,$B41,'Daily Log'!$BH$18:$BH$1017),0)","v":0},{"$f":"IFERROR($E41*SUMIF('Daily Log'!$BJ$18:$BJ$1017,$B41,'Daily Log'!$BK$18:$BK$1017),0)","v":0},{"$f":"IFERROR($E41*SUMIF('Daily Log'!$BM$18:$BM$1017,$B41,'Daily Log'!$BN$18:$BN$1017),0)","v":0},{"$f":"IFERROR($E41*SUMIF('Daily Log'!$BP$18:$BP$1017,$B41,'Daily Log'!$BQ$18:$BQ$1017),0)","v":0},{"$f":"IFERROR($E41*SUMIF('Daily Log'!$BS$18:$BS$1017,$B41,'Daily Log'!$BT$18:$BT$1017),0)","v":0},{"$f":"IFERROR($E41*SUMIF('Daily Log'!$BV$18:$BV$1017,$B41,'Daily Log'!$BW$18:$BW$1017),0)","v":0},{"$f":"IFERROR($E41*SUMIF('Daily Log'!$BY$18:$BY$1017,$B41,'Daily Log'!$BZ$18:$BZ$1017),0)","v":0},{"$f":"IFERROR($E41*SUMIF('Daily Log'!$CB$18:$CB$1017,$B41,'Daily Log'!$CC$18:$CC$1017),0)","v":0},{"$f":"IFERROR($E41*SUMIF('Daily Log'!$CE$18:$CE$1017,$B41,'Daily Log'!$CF$18:$CF$1017),0)","v":0},{"$f":"IFERROR($E41*SUMIF('Daily Log'!$CH$18:$CH$1017,$B41,'Daily Log'!$CI$18:$CI$1017),0)","v":0},{"$f":"IFERROR($E41*SUMIF('Daily Log'!$CK$18:$CK$1017,$B41,'Daily Log'!$CL$18:$CL$1017),0)","v":0},{"$f":"IFERROR($E41*SUMIF('Daily Log'!$CN$18:$CN$1017,$B41,'Daily Log'!$CO$18:$CO$1017),0)","v":0}]
[null,"LF13 91113:KUEY TEOW",null,"KLKD",1,0,{"$f":"IFERROR($E42*SUMIF('Daily Log'!$B$18:$B$1017,$B42,'Daily Log'!$C$18:$C$1017),0)","v":0},{"$f":"IFERROR($E42*SUMIF('Daily Log'!$E$18:$E$1017,$B42,'Daily Log'!$F$18:$F$1017),0)","v":0},{"$f":"IFERROR($E42*SUMIF('Daily Log'!$H$18:$H$1017,$B42,'Daily Log'!$I$18:$I$1017),0)","v":0},{"$f":"IFERROR($E42*SUMIF('Daily Log'!$K$18:$K$1017,$B42,'Daily Log'!$L$18:$L$1017),0)","v":0},{"$f":"IFERROR($E42*SUMIF('Daily Log'!$N$18:$N$1017,$B42,'Daily Log'!$O$18:$O$1017),0)","v":0},{"$f":"IFERROR($E42*SUMIF('Daily Log'!$Q$18:$Q$1017,$B42,'Daily Log'!$R$18:$R$1017),0)","v":0},{"$f":"IFERROR($E42*SUMIF('Daily Log'!$T$18:$T$1017,$B42,'Daily Log'!$U$18:$U$1017),0)","v":0},{"$f":"IFERROR($E42*SUMIF('Daily Log'!$W$18:$W$1017,$B42,'Daily Log'!$X$18:$X$1017),0)","v":0},{"$f":"IFERROR($E42*SUMIF('Daily Log'!$Z$18:$Z$1017,$B42,'Daily Log'!$AA$18:$AA$1017),0)","v":0},{"$f":"IFERROR($E42*SUMIF('Daily Log'!$AC$18:$AC$1017,$B42,'Daily Log'!$AD$18:$AD$1017),0)","v":0},{"$f":"IFERROR($E42*SUMIF('Daily Log'!$AF$18:$AF$1017,$B42,'Daily Log'!$AG$18:$AG$1017),0)","v":0},{"$f":"IFERROR($E42*SUMIF('Daily Log'!$AI$18:$AI$1017,$B42,'Daily Log'!$AJ$18:$AJ$1017),0)","v":0},{"$f":"IFERROR($E42*SUMIF('Daily Log'!$AL$18:$AL$1017,$B42,'Daily Log'!$AM$18:$AM$1017),0)","v":0},{"$f":"IFERROR($E42*SUMIF('Daily Log'!$AO$18:$AO$1017,$B42,'Daily Log'!$AP$18:$AP$1017),0)","v":0},{"$f":"IFERROR($E42*SUMIF('Daily Log'!$AR$18:$AR$1017,$B42,'Daily Log'!$AS$18:$AS$1017),0)","v":0},{"$f":"IFERROR($E42*SUMIF('Daily Log'!$AU$18:$AU$1017,$B42,'Daily Log'!$AV$18:$AV$1017),0)","v":0},{"$f":"IFERROR($E42*SUMIF('Daily Log'!$AX$18:$AX$1017,$B42,'Daily Log'!$AY$18:$AY$1017),0)","v":0},{"$f":"IFERROR($E42*SUMIF('Daily Log'!$BA$18:$BA$1017,$B42,'Daily Log'!$BB$18:$BB$1017),0)","v":0},{"$f":"IFERROR($E42*SUMIF('Daily Log'!$BD$18:$BD$1017,$B42,'Daily Log'!$BE$18:$BE$1017),0)","v":0},{"$f":"IFERROR($E42*SUMIF('Daily Log'!$BG$18:$BG$1017,$B42,'Daily Log'!$BH$18:$BH$1017),0)","v":0},{"$f":"IFERROR($E42*SUMIF('Daily Log'!$BJ$18:$BJ$1017,$B42,'Daily Log'!$BK$18:$BK$1017),0)","v":0},{"$f":"IFERROR($E42*SUMIF('Daily Log'!$BM$18:$BM$1017,$B42,'Daily Log'!$BN$18:$BN$1017),0)","v":0},{"$f":"IFERROR($E42*SUMIF('Daily Log'!$BP$18:$BP$1017,$B42,'Daily Log'!$BQ$18:$BQ$1017),0)","v":0},{"$f":"IFERROR($E42*SUMIF('Daily Log'!$BS$18:$BS$1017,$B42,'Daily Log'!$BT$18:$BT$1017),0)","v":0},{"$f":"IFERROR($E42*SUMIF('Daily Log'!$BV$18:$BV$1017,$B42,'Daily Log'!$BW$18:$BW$1017),0)","v":0},{"$f":"IFERROR($E42*SUMIF('Daily Log'!$BY$18:$BY$1017,$B42,'Daily Log'!$BZ$18:$BZ$1017),0)","v":0},{"$f":"IFERROR($E42*SUMIF('Daily Log'!$CB$18:$CB$1017,$B42,'Daily Log'!$CC$18:$CC$1017),0)","v":0},{"$f":"IFERROR($E42*SUMIF('Daily Log'!$CE$18:$CE$1017,$B42,'Daily Log'!$CF$18:$CF$1017),0)","v":0},{"$f":"IFERROR($E42*SUMIF('Daily Log'!$CH$18:$CH$1017,$B42,'Daily Log'!$CI$18:$CI$1017),0)","v":0},{"$f":"IFERROR($E42*SUMIF('Daily Log'!$CK$18:$CK$1017,$B42,'Daily Log'!$CL$18:$CL$1017),0)","v":0},{"$f":"IFERROR($E42*SUMIF('Daily Log'!$CN$18:$CN$1017,$B42,'Daily Log'!$CO$18:$CO$1017),0)","v":0}]
[null,"LF14 91114:F.BALL MEE",null,"KLKD",1,0,{"$f":"IFERROR($E43*SUMIF('Daily Log'!$B$18:$B$1017,$B43,'Daily Log'!$C$18:$C$1017),0)","v":0},{"$f":"IFERROR($E43*SUMIF('Daily Log'!$E$18:$E$1017,$B43,'Daily Log'!$F$18:$F$1017),0)","v":0},{"$f":"IFERROR($E43*SUMIF('Daily Log'!$H$18:$H$1017,$B43,'Daily Log'!$I$18:$I$1017),0)","v":0},{"$f":"IFERROR($E43*SUMIF('Daily Log'!$K$18:$K$1017,$B43,'Daily Log'!$L$18:$L$1017),0)","v":0},{"$f":"IFERROR($E43*SUMIF('Daily Log'!$N$18:$N$1017,$B43,'Daily Log'!$O$18:$O$1017),0)","v":0},{"$f":"IFERROR($E43*SUMIF('Daily Log'!$Q$18:$Q$1017,$B43,'Daily Log'!$R$18:$R$1017),0)","v":0},{"$f":"IFERROR($E43*SUMIF('Daily Log'!$T$18:$T$1017,$B43,'Daily Log'!$U$18:$U$1017),0)","v":0},{"$f":"IFERROR($E43*SUMIF('Daily Log'!$W$18:$W$1017,$B43,'Daily Log'!$X$18:$X$1017),0)","v":0},{"$f":"IFERROR($E43*SUMIF('Daily Log'!$Z$18:$Z$1017,$B43,'Daily Log'!$AA$18:$AA$1017),0)","v":0},{"$f":"IFERROR($E43*SUMIF('Daily Log'!$AC$18:$AC$1017,$B43,'Daily Log'!$AD$18:$AD$1017),0)","v":0},{"$f":"IFERROR($E43*SUMIF('Daily Log'!$AF$18:$AF$1017,$B43,'Daily Log'!$AG$18:$AG$1017),0)","v":0},{"$f":"IFERROR($E43*SUMIF('Daily Log'!$AI$18:$AI$1017,$B43,'Daily Log'!$AJ$18:$AJ$1017),0)","v":0},{"$f":"IFERROR($E43*SUMIF('Daily Log'!$AL$18:$AL$1017,$B43,'Daily Log'!$AM$18:$AM$1017),0)","v":0},{"$f":"IFERROR($E43*SUMIF('Daily Log'!$AO$18:$AO$1017,$B43,'Daily Log'!$AP$18:$AP$1017),0)","v":0},{"$f":"IFERROR($E43*SUMIF('Daily Log'!$AR$18:$AR$1017,$B43,'Daily Log'!$AS$18:$AS$1017),0)","v":0},{"$f":"IFERROR($E43*SUMIF('Daily Log'!$AU$18:$AU$1017,$B43,'Daily Log'!$AV$18:$AV$1017),0)","v":0},{"$f":"IFERROR($E43*SUMIF('Daily Log'!$AX$18:$AX$1017,$B43,'Daily Log'!$AY$18:$AY$1017),0)","v":0},{"$f":"IFERROR($E43*SUMIF('Daily Log'!$BA$18:$BA$1017,$B43,'Daily Log'!$BB$18:$BB$1017),0)","v":0},{"$f":"IFERROR($E43*SUMIF('Daily Log'!$BD$18:$BD$1017,$B43,'Daily Log'!$BE$18:$BE$1017),0)","v":0},{"$f":"IFERROR($E43*SUMIF('Daily Log'!$BG$18:$BG$1017,$B43,'Daily Log'!$BH$18:$BH$1017),0)","v":0},{"$f":"IFERROR($E43*SUMIF('Daily Log'!$BJ$18:$BJ$1017,$B43,'Daily Log'!$BK$18:$BK$1017),0)","v":0},{"$f":"IFERROR($E43*SUMIF('Daily Log'!$BM$18:$BM$1017,$B43,'Daily Log'!$BN$18:$BN$1017),0)","v":0},{"$f":"IFERROR($E43*SUMIF('Daily Log'!$BP$18:$BP$1017,$B43,'Daily Log'!$BQ$18:$BQ$1017),0)","v":0},{"$f":"IFERROR($E43*SUMIF('Daily Log'!$BS$18:$BS$1017,$B43,'Daily Log'!$BT$18:$BT$1017),0)","v":0},{"$f":"IFERROR($E43*SUMIF('Daily Log'!$BV$18:$BV$1017,$B43,'Daily Log'!$BW$18:$BW$1017),0)","v":0},{"$f":"IFERROR($E43*SUMIF('Daily Log'!$BY$18:$BY$1017,$B43,'Daily Log'!$BZ$18:$BZ$1017),0)","v":0},{"$f":"IFERROR($E43*SUMIF('Daily Log'!$CB$18:$CB$1017,$B43,'Daily Log'!$CC$18:$CC$1017),0)","v":0},{"$f":"IFERROR($E43*SUMIF('Daily Log'!$CE$18:$CE$1017,$B43,'Daily Log'!$CF$18:$CF$1017),0)","v":0},{"$f":"IFERROR($E43*SUMIF('Daily Log'!$CH$18:$CH$1017,$B43,'Daily Log'!$CI$18:$CI$1017),0)","v":0},{"$f":"IFERROR($E43*SUMIF('Daily Log'!$CK$18:$CK$1017,$B43,'Daily Log'!$CL$18:$CL$1017),0)","v":0},{"$f":"IFERROR($E43*SUMIF('Daily Log'!$CN$18:$CN$1017,$B43,'Daily Log'!$CO$18:$CO$1017),0)","v":0}]
[null,"LF15 91112:CHK NOODLE",null,"KLKD",1,17,{"$f":"IFERROR($E44*SUMIF('Daily Log'!$B$18:$B$1017,$B44,'Daily Log'!$C$18:$C$1017),0)","v":0},{"$f":"IFERROR($E44*SUMIF('Daily Log'!$E$18:$E$1017,$B44,'Daily Log'!$F$18:$F$1017),0)","v":0},{"$f":"IFERROR($E44*SUMIF('Daily Log'!$H$18:$H$1017,$B44,'Daily Log'!$I$18:$I$1017),0)","v":0},{"$f":"IFERROR($E44*SUMIF('Daily Log'!$K$18:$K$1017,$B44,'Daily Log'!$L$18:$L$1017),0)","v":0},{"$f":"IFERROR($E44*SUMIF('Daily Log'!$N$18:$N$1017,$B44,'Daily Log'!$O$18:$O$1017),0)","v":0},{"$f":"IFERROR($E44*SUMIF('Daily Log'!$Q$18:$Q$1017,$B44,'Daily Log'!$R$18:$R$1017),0)","v":0},{"$f":"IFERROR($E44*SUMIF('Daily Log'!$T$18:$T$1017,$B44,'Daily Log'!$U$18:$U$1017),0)","v":0},{"$f":"IFERROR($E44*SUMIF('Daily Log'!$W$18:$W$1017,$B44,'Daily Log'!$X$18:$X$1017),0)","v":0},{"$f":"IFERROR($E44*SUMIF('Daily Log'!$Z$18:$Z$1017,$B44,'Daily Log'!$AA$18:$AA$1017),0)","v":0},{"$f":"IFERROR($E44*SUMIF('Daily Log'!$AC$18:$AC$1017,$B44,'Daily Log'!$AD$18:$AD$1017),0)","v":0},{"$f":"IFERROR($E44*SUMIF('Daily Log'!$AF$18:$AF$1017,$B44,'Daily Log'!$AG$18:$AG$1017),0)","v":0},{"$f":"IFERROR($E44*SUMIF('Daily Log'!$AI$18:$AI$1017,$B44,'Daily Log'!$AJ$18:$AJ$1017),0)","v":0},{"$f":"IFERROR($E44*SUMIF('Daily Log'!$AL$18:$AL$1017,$B44,'Daily Log'!$AM$18:$AM$1017),0)","v":0},{"$f":"IFERROR($E44*SUMIF('Daily Log'!$AO$18:$AO$1017,$B44,'Daily Log'!$AP$18:$AP$1017),0)","v":0},{"$f":"IFERROR($E44*SUMIF('Daily Log'!$AR$18:$AR$1017,$B44,'Daily Log'!$AS$18:$AS$1017),0)","v":0},{"$f":"IFERROR($E44*SUMIF('Daily Log'!$AU$18:$AU$1017,$B44,'Daily Log'!$AV$18:$AV$1017),0)","v":0},{"$f":"IFERROR($E44*SUMIF('Daily Log'!$AX$18:$AX$1017,$B44,'Daily Log'!$AY$18:$AY$1017),0)","v":0},{"$f":"IFERROR($E44*SUMIF('Daily Log'!$BA$18:$BA$1017,$B44,'Daily Log'!$BB$18:$BB$1017),0)","v":0},{"$f":"IFERROR($E44*SUMIF('Daily Log'!$BD$18:$BD$1017,$B44,'Daily Log'!$BE$18:$BE$1017),0)","v":0},{"$f":"IFERROR($E44*SUMIF('Daily Log'!$BG$18:$BG$1017,$B44,'Daily Log'!$BH$18:$BH$1017),0)","v":0},{"$f":"IFERROR($E44*SUMIF('Daily Log'!$BJ$18:$BJ$1017,$B44,'Daily Log'!$BK$18:$BK$1017),0)","v":0},{"$f":"IFERROR($E44*SUMIF('Daily Log'!$BM$18:$BM$1017,$B44,'Daily Log'!$BN$18:$BN$1017),0)","v":0},{"$f":"IFERROR($E44*SUMIF('Daily Log'!$BP$18:$BP$1017,$B44,'Daily Log'!$BQ$18:$BQ$1017),0)","v":0},{"$f":"IFERROR($E44*SUMIF('Daily Log'!$BS$18:$BS$1017,$B44,'Daily Log'!$BT$18:$BT$1017),0)","v":0},{"$f":"IFERROR($E44*SUMIF('Daily Log'!$BV$18:$BV$1017,$B44,'Daily Log'!$BW$18:$BW$1017),0)","v":0},{"$f":"IFERROR($E44*SUMIF('Daily Log'!$BY$18:$BY$1017,$B44,'Daily Log'!$BZ$18:$BZ$1017),0)","v":0},{"$f":"IFERROR($E44*SUMIF('Daily Log'!$CB$18:$CB$1017,$B44,'Daily Log'!$CC$18:$CC$1017),0)","v":0},{"$f":"IFERROR($E44*SUMIF('Daily Log'!$CE$18:$CE$1017,$B44,'Daily Log'!$CF$18:$CF$1017),0)","v":0},{"$f":"IFERROR($E44*SUMIF('Daily Log'!$CH$18:$CH$1017,$B44,'Daily Log'!$CI$18:$CI$1017),0)","v":0},{"$f":"IFERROR($E44*SUMIF('Daily Log'!$CK$18:$CK$1017,$B44,'Daily Log'!$CL$18:$CL$1017),0)","v":0},{"$f":"IFERROR($E44*SUMIF('Daily Log'!$CN$18:$CN$1017,$B44,'Daily Log'!$CO$18:$CO$1017),0)","v":17}]
[null,"LF16 91116:MGL CHK",null,"KLKD",1,0,{"$f":"IFERROR($E45*SUMIF('Daily Log'!$B$18:$B$1017,$B45,'Daily Log'!$C$18:$C$1017),0)","v":0},{"$f":"IFERROR($E45*SUMIF('Daily Log'!$E$18:$E$1017,$B45,'Daily Log'!$F$18:$F$1017),0)","v":0},{"$f":"IFERROR($E45*SUMIF('Daily Log'!$H$18:$H$1017,$B45,'Daily Log'!$I$18:$I$1017),0)","v":0},{"$f":"IFERROR($E45*SUMIF('Daily Log'!$K$18:$K$1017,$B45,'Daily Log'!$L$18:$L$1017),0)","v":0},{"$f":"IFERROR($E45*SUMIF('Daily Log'!$N$18:$N$1017,$B45,'Daily Log'!$O$18:$O$1017),0)","v":0},{"$f":"IFERROR($E45*SUMIF('Daily Log'!$Q$18:$Q$1017,$B45,'Daily Log'!$R$18:$R$1017),0)","v":0},{"$f":"IFERROR($E45*SUMIF('Daily Log'!$T$18:$T$1017,$B45,'Daily Log'!$U$18:$U$1017),0)","v":0},{"$f":"IFERROR($E45*SUMIF('Daily Log'!$W$18:$W$1017,$B45,'Daily Log'!$X$18:$X$1017),0)","v":0},{"$f":"IFERROR($E45*SUMIF('Daily Log'!$Z$18:$Z$1017,$B45,'Daily Log'!$AA$18:$AA$1017),0)","v":0},{"$f":"IFERROR($E45*SUMIF('Daily Log'!$AC$18:$AC$1017,$B45,'Daily Log'!$AD$18:$AD$1017),0)","v":0},{"$f":"IFERROR($E45*SUMIF('Daily Log'!$AF$18:$AF$1017,$B45,'Daily Log'!$AG$18:$AG$1017),0)","v":0},{"$f":"IFERROR($E45*SUMIF('Daily Log'!$AI$18:$AI$1017,$B45,'Daily Log'!$AJ$18:$AJ$1017),0)","v":0},{"$f":"IFERROR($E45*SUMIF('Daily Log'!$AL$18:$AL$1017,$B45,'Daily Log'!$AM$18:$AM$1017),0)","v":0},{"$f":"IFERROR($E45*SUMIF('Daily Log'!$AO$18:$AO$1017,$B45,'Daily Log'!$AP$18:$AP$1017),0)","v":0},{"$f":"IFERROR($E45*SUMIF('Daily Log'!$AR$18:$AR$1017,$B45,'Daily Log'!$AS$18:$AS$1017),0)","v":0},{"$f":"IFERROR($E45*SUMIF('Daily Log'!$AU$18:$AU$1017,$B45,'Daily Log'!$AV$18:$AV$1017),0)","v":0},{"$f":"IFERROR($E45*SUMIF('Daily Log'!$AX$18:$AX$1017,$B45,'Daily Log'!$AY$18:$AY$1017),0)","v":0},{"$f":"IFERROR($E45*SUMIF('Daily Log'!$BA$18:$BA$1017,$B45,'Daily Log'!$BB$18:$BB$1017),0)","v":0},{"$f":"IFERROR($E45*SUMIF('Daily Log'!$BD$18:$BD$1017,$B45,'Daily Log'!$BE$18:$BE$1017),0)","v":0},{"$f":"IFERROR($E45*SUMIF('Daily Log'!$BG$18:$BG$1017,$B45,'Daily Log'!$BH$18:$BH$1017),0)","v":0},{"$f":"IFERROR($E45*SUMIF('Daily Log'!$BJ$18:$BJ$1017,$B45,'Daily Log'!$BK$18:$BK$1017),0)","v":0},{"$f":"IFERROR($E45*SUMIF('Daily Log'!$BM$18:$BM$1017,$B45,'Daily Log'!$BN$18:$BN$1017),0)","v":0},{"$f":"IFERROR($E45*SUMIF('Daily Log'!$BP$18:$BP$1017,$B45,'Daily Log'!$BQ$18:$BQ$1017),0)","v":0},{"$f":"IFERROR($E45*SUMIF('Daily Log'!$BS$18:$BS$1017,$B45,'Daily Log'!$BT$18:$BT$1017),0)","v":0},{"$f":"IFERROR($E45*SUMIF('Daily Log'!$BV$18:$BV$1017,$B45,'Daily Log'!$BW$18:$BW$1017),0)","v":0},{"$f":"IFERROR($E45*SUMIF('Daily Log'!$BY$18:$BY$1017,$B45,'Daily Log'!$BZ$18:$BZ$1017),0)","v":0},{"$f":"IFERROR($E45*SUMIF('Daily Log'!$CB$18:$CB$1017,$B45,'Daily Log'!$CC$18:$CC$1017),0)","v":0},{"$f":"IFERROR($E45*SUMIF('Daily Log'!$CE$18:$CE$1017,$B45,'Daily Log'!$CF$18:$CF$1017),0)","v":0},{"$f":"IFERROR($E45*SUMIF('Daily Log'!$CH$18:$CH$1017,$B45,'Daily Log'!$CI$18:$CI$1017),0)","v":0},{"$f":"IFERROR($E45*SUMIF('Daily Log'!$CK$18:$CK$1017,$B45,'Daily Log'!$CL$18:$CL$1017),0)","v":0},{"$f":"IFERROR($E45*SUMIF('Daily Log'!$CN$18:$CN$1017,$B45,'Daily Log'!$CO$18:$CO$1017),0)","v":0}]
[null,"LF17 91117:THAI FSH",null,"KLKD",1,0,{"$f":"IFERROR($E46*SUMIF('Daily Log'!$B$18:$B$1017,$B46,'Daily Log'!$C$18:$C$1017),0)","v":0},{"$f":"IFERROR($E46*SUMIF('Daily Log'!$E$18:$E$1017,$B46,'Daily Log'!$F$18:$F$1017),0)","v":0},{"$f":"IFERROR($E46*SUMIF('Daily Log'!$H$18:$H$1017,$B46,'Daily Log'!$I$18:$I$1017),0)","v":0},{"$f":"IFERROR($E46*SUMIF('Daily Log'!$K$18:$K$1017,$B46,'Daily Log'!$L$18:$L$1017),0)","v":0},{"$f":"IFERROR($E46*SUMIF('Daily Log'!$N$18:$N$1017,$B46,'Daily Log'!$O$18:$O$1017),0)","v":0},{"$f":"IFERROR($E46*SUMIF('Daily Log'!$Q$18:$Q$1017,$B46,'Daily Log'!$R$18:$R$1017),0)","v":0},{"$f":"IFERROR($E46*SUMIF('Daily Log'!$T$18:$T$1017,$B46,'Daily Log'!$U$18:$U$1017),0)","v":0},{"$f":"IFERROR($E46*SUMIF('Daily Log'!$W$18:$W$1017,$B46,'Daily Log'!$X$18:$X$1017),0)","v":0},{"$f":"IFERROR($E46*SUMIF('Daily Log'!$Z$18:$Z$1017,$B46,'Daily Log'!$AA$18:$AA$1017),0)","v":0},{"$f":"IFERROR($E46*SUMIF('Daily Log'!$AC$18:$AC$1017,$B46,'Daily Log'!$AD$18:$AD$1017),0)","v":0},{"$f":"IFERROR($E46*SUMIF('Daily Log'!$AF$18:$AF$1017,$B46,'Daily Log'!$AG$18:$AG$1017),0)","v":0},{"$f":"IFERROR($E46*SUMIF('Daily Log'!$AI$18:$AI$1017,$B46,'Daily Log'!$AJ$18:$AJ$1017),0)","v":0},{"$f":"IFERROR($E46*SUMIF('Daily Log'!$AL$18:$AL$1017,$B46,'Daily Log'!$AM$18:$AM$1017),0)","v":0},{"$f":"IFERROR($E46*SUMIF('Daily Log'!$AO$18:$AO$1017,$B46,'Daily Log'!$AP$18:$AP$1017),0)","v":0},{"$f":"IFERROR($E46*SUMIF('Daily Log'!$AR$18:$AR$1017,$B46,'Daily Log'!$AS$18:$AS$1017),0)","v":0},{"$f":"IFERROR($E46*SUMIF('Daily Log'!$AU$18:$AU$1017,$B46,'Daily Log'!$AV$18:$AV$1017),0)","v":0},{"$f":"IFERROR($E46*SUMIF('Daily Log'!$AX$18:$AX$1017,$B46,'Daily Log'!$AY$18:$AY$1017),0)","v":0},{"$f":"IFERROR($E46*SUMIF('Daily Log'!$BA$18:$BA$1017,$B46,'Daily Log'!$BB$18:$BB$1017),0)","v":0},{"$f":"IFERROR($E46*SUMIF('Daily Log'!$BD$18:$BD$1017,$B46,'Daily Log'!$BE$18:$BE$1017),0)","v":0},{"$f":"IFERROR($E46*SUMIF('Daily Log'!$BG$18:$BG$1017,$B46,'Daily Log'!$BH$18:$BH$1017),0)","v":0},{"$f":"IFERROR($E46*SUMIF('Daily Log'!$BJ$18:$BJ$1017,$B46,'Daily Log'!$BK$18:$BK$1017),0)","v":0},{"$f":"IFERROR($E46*SUMIF('Daily Log'!$BM$18:$BM$1017,$B46,'Daily Log'!$BN$18:$BN$1017),0)","v":0},{"$f":"IFERROR($E46*SUMIF('Daily Log'!$BP$18:$BP$1017,$B46,'Daily Log'!$BQ$18:$BQ$1017),0)","v":0},{"$f":"IFERROR($E46*SUMIF('Daily Log'!$BS$18:$BS$1017,$B46,'Daily Log'!$BT$18:$BT$1017),0)","v":0},{"$f":"IFERROR($E46*SUMIF('Daily Log'!$BV$18:$BV$1017,$B46,'Daily Log'!$BW$18:$BW$1017),0)","v":0},{"$f":"IFERROR($E46*SUMIF('Daily Log'!$BY$18:$BY$1017,$B46,'Daily Log'!$BZ$18:$BZ$1017),0)","v":0},{"$f":"IFERROR($E46*SUMIF('Daily Log'!$CB$18:$CB$1017,$B46,'Daily Log'!$CC$18:$CC$1017),0)","v":0},{"$f":"IFERROR($E46*SUMIF('Daily Log'!$CE$18:$CE$1017,$B46,'Daily Log'!$CF$18:$CF$1017),0)","v":0},{"$f":"IFERROR($E46*SUMIF('Daily Log'!$CH$18:$CH$1017,$B46,'Daily Log'!$CI$18:$CI$1017),0)","v":0},{"$f":"IFERROR($E46*SUMIF('Daily Log'!$CK$18:$CK$1017,$B46,'Daily Log'!$CL$18:$CL$1017),0)","v":0},{"$f":"IFERROR($E46*SUMIF('Daily Log'!$CN$18:$CN$1017,$B46,'Daily Log'!$CO$18:$CO$1017),0)","v":0}]
[null,"LF18 91118:MAMITE FSH",null,"KLKD",1,0,{"$f":"IFERROR($E47*SUMIF('Daily Log'!$B$18:$B$1017,$B47,'Daily Log'!$C$18:$C$1017),0)","v":0},{"$f":"IFERROR($E47*SUMIF('Daily Log'!$E$18:$E$1017,$B47,'Daily Log'!$F$18:$F$1017),0)","v":0},{"$f":"IFERROR($E47*SUMIF('Daily Log'!$H$18:$H$1017,$B47,'Daily Log'!$I$18:$I$1017),0)","v":0},{"$f":"IFERROR($E47*SUMIF('Daily Log'!$K$18:$K$1017,$B47,'Daily Log'!$L$18:$L$1017),0)","v":0},{"$f":"IFERROR($E47*SUMIF('Daily Log'!$N$18:$N$1017,$B47,'Daily Log'!$O$18:$O$1017),0)","v":0},{"$f":"IFERROR($E47*SUMIF('Daily Log'!$Q$18:$Q$1017,$B47,'Daily Log'!$R$18:$R$1017),0)","v":0},{"$f":"IFERROR($E47*SUMIF('Daily Log'!$T$18:$T$1017,$B47,'Daily Log'!$U$18:$U$1017),0)","v":0},{"$f":"IFERROR($E47*SUMIF('Daily Log'!$W$18:$W$1017,$B47,'Daily Log'!$X$18:$X$1017),0)","v":0},{"$f":"IFERROR($E47*SUMIF('Daily Log'!$Z$18:$Z$1017,$B47,'Daily Log'!$AA$18:$AA$1017),0)","v":0},{"$f":"IFERROR($E47*SUMIF('Daily Log'!$AC$18:$AC$1017,$B47,'Daily Log'!$AD$18:$AD$1017),0)","v":0},{"$f":"IFERROR($E47*SUMIF('Daily Log'!$AF$18:$AF$1017,$B47,'Daily Log'!$AG$18:$AG$1017),0)","v":0},{"$f":"IFERROR($E47*SUMIF('Daily Log'!$AI$18:$AI$1017,$B47,'Daily Log'!$AJ$18:$AJ$1017),0)","v":0},{"$f":"IFERROR($E47*SUMIF('Daily Log'!$AL$18:$AL$1017,$B47,'Daily Log'!$AM$18:$AM$1017),0)","v":0},{"$f":"IFERROR($E47*SUMIF('Daily Log'!$AO$18:$AO$1017,$B47,'Daily Log'!$AP$18:$AP$1017),0)","v":0},{"$f":"IFERROR($E47*SUMIF('Daily Log'!$AR$18:$AR$1017,$B47,'Daily Log'!$AS$18:$AS$1017),0)","v":0},{"$f":"IFERROR($E47*SUMIF('Daily Log'!$AU$18:$AU$1017,$B47,'Daily Log'!$AV$18:$AV$1017),0)","v":0},{"$f":"IFERROR($E47*SUMIF('Daily Log'!$AX$18:$AX$1017,$B47,'Daily Log'!$AY$18:$AY$1017),0)","v":0},{"$f":"IFERROR($E47*SUMIF('Daily Log'!$BA$18:$BA$1017,$B47,'Daily Log'!$BB$18:$BB$1017),0)","v":0},{"$f":"IFERROR($E47*SUMIF('Daily Log'!$BD$18:$BD$1017,$B47,'Daily Log'!$BE$18:$BE$1017),0)","v":0},{"$f":"IFERROR($E47*SUMIF('Daily Log'!$BG$18:$BG$1017,$B47,'Daily Log'!$BH$18:$BH$1017),0)","v":0},{"$f":"IFERROR($E47*SUMIF('Daily Log'!$BJ$18:$BJ$1017,$B47,'Daily Log'!$BK$18:$BK$1017),0)","v":0},{"$f":"IFERROR($E47*SUMIF('Daily Log'!$BM$18:$BM$1017,$B47,'Daily Log'!$BN$18:$BN$1017),0)","v":0},{"$f":"IFERROR($E47*SUMIF('Daily Log'!$BP$18:$BP$1017,$B47,'Daily Log'!$BQ$18:$BQ$1017),0)","v":0},{"$f":"IFERROR($E47*SUMIF('Daily Log'!$BS$18:$BS$1017,$B47,'Daily Log'!$BT$18:$BT$1017),0)","v":0},{"$f":"IFERROR($E47*SUMIF('Daily Log'!$BV$18:$BV$1017,$B47,'Daily Log'!$BW$18:$BW$1017),0)","v":0},{"$f":"IFERROR($E47*SUMIF('Daily Log'!$BY$18:$BY$1017,$B47,'Daily Log'!$BZ$18:$BZ$1017),0)","v":0},{"$f":"IFERROR($E47*SUMIF('Daily Log'!$CB$18:$CB$1017,$B47,'Daily Log'!$CC$18:$CC$1017),0)","v":0},{"$f":"IFERROR($E47*SUMIF('Daily Log'!$CE$18:$CE$1017,$B47,'Daily Log'!$CF$18:$CF$1017),0)","v":0},{"$f":"IFERROR($E47*SUMIF('Daily Log'!$CH$18:$CH$1017,$B47,'Daily Log'!$CI$18:$CI$1017),0)","v":0},{"$f":"IFERROR($E47*SUMIF('Daily Log'!$CK$18:$CK$1017,$B47,'Daily Log'!$CL$18:$CL$1017),0)","v":0},{"$f":"IFERROR($E47*SUMIF('Daily Log'!$CN$18:$CN$1017,$B47,'Daily Log'!$CO$18:$CO$1017),0)","v":0}]
[null,"LF19 91119:BUTTER FSH",null,"KLKD",1,0,{"$f":"IFERROR($E48*SUMIF('Daily Log'!$B$18:$B$1017,$B48,'Daily Log'!$C$18:$C$1017),0)","v":0},{"$f":"IFERROR($E48*SUMIF('Daily Log'!$E$18:$E$1017,$B48,'Daily Log'!$F$18:$F$1017),0)","v":0},{"$f":"IFERROR($E48*SUMIF('Daily Log'!$H$18:$H$1017,$B48,'Daily Log'!$I$18:$I$1017),0)","v":0},{"$f":"IFERROR($E48*SUMIF('Daily Log'!$K$18:$K$1017,$B48,'Daily Log'!$L$18:$L$1017),0)","v":0},{"$f":"IFERROR($E48*SUMIF('Daily Log'!$N$18:$N$1017,$B48,'Daily Log'!$O$18:$O$1017),0)","v":0},{"$f":"IFERROR($E48*SUMIF('Daily Log'!$Q$18:$Q$1017,$B48,'Daily Log'!$R$18:$R$1017),0)","v":0},{"$f":"IFERROR($E48*SUMIF('Daily Log'!$T$18:$T$1017,$B48,'Daily Log'!$U$18:$U$1017),0)","v":0},{"$f":"IFERROR($E48*SUMIF('Daily Log'!$W$18:$W$1017,$B48,'Daily Log'!$X$18:$X$1017),0)","v":0},{"$f":"IFERROR($E48*SUMIF('Daily Log'!$Z$18:$Z$1017,$B48,'Daily Log'!$AA$18:$AA$1017),0)","v":0},{"$f":"IFERROR($E48*SUMIF('Daily Log'!$AC$18:$AC$1017,$B48,'Daily Log'!$AD$18:$AD$1017),0)","v":0},{"$f":"IFERROR($E48*SUMIF('Daily Log'!$AF$18:$AF$1017,$B48,'Daily Log'!$AG$18:$AG$1017),0)","v":0},{"$f":"IFERROR($E48*SUMIF('Daily Log'!$AI$18:$AI$1017,$B48,'Daily Log'!$AJ$18:$AJ$1017),0)","v":0},{"$f":"IFERROR($E48*SUMIF('Daily Log'!$AL$18:$AL$1017,$B48,'Daily Log'!$AM$18:$AM$1017),0)","v":0},{"$f":"IFERROR($E48*SUMIF('Daily Log'!$AO$18:$AO$1017,$B48,'Daily Log'!$AP$18:$AP$1017),0)","v":0},{"$f":"IFERROR($E48*SUMIF('Daily Log'!$AR$18:$AR$1017,$B48,'Daily Log'!$AS$18:$AS$1017),0)","v":0},{"$f":"IFERROR($E48*SUMIF('Daily Log'!$AU$18:$AU$1017,$B48,'Daily Log'!$AV$18:$AV$1017),0)","v":0},{"$f":"IFERROR($E48*SUMIF('Daily Log'!$AX$18:$AX$1017,$B48,'Daily Log'!$AY$18:$AY$1017),0)","v":0},{"$f":"IFERROR($E48*SUMIF('Daily Log'!$BA$18:$BA$1017,$B48,'Daily Log'!$BB$18:$BB$1017),0)","v":0},{"$f":"IFERROR($E48*SUMIF('Daily Log'!$BD$18:$BD$1017,$B48,'Daily Log'!$BE$18:$BE$1017),0)","v":0},{"$f":"IFERROR($E48*SUMIF('Daily Log'!$BG$18:$BG$1017,$B48,'Daily Log'!$BH$18:$BH$1017),0)","v":0},{"$f":"IFERROR($E48*SUMIF('Daily Log'!$BJ$18:$BJ$1017,$B48,'Daily Log'!$BK$18:$BK$1017),0)","v":0},{"$f":"IFERROR($E48*SUMIF('Daily Log'!$BM$18:$BM$1017,$B48,'Daily Log'!$BN$18:$BN$1017),0)","v":0},{"$f":"IFERROR($E48*SUMIF('Daily Log'!$BP$18:$BP$1017,$B48,'Daily Log'!$BQ$18:$BQ$1017),0)","v":0},{"$f":"IFERROR($E48*SUMIF('Daily Log'!$BS$18:$BS$1017,$B48,'Daily Log'!$BT$18:$BT$1017),0)","v":0},{"$f":"IFERROR($E48*SUMIF('Daily Log'!$BV$18:$BV$1017,$B48,'Daily Log'!$BW$18:$BW$1017),0)","v":0},{"$f":"IFERROR($E48*SUMIF('Daily Log'!$BY$18:$BY$1017,$B48,'Daily Log'!$BZ$18:$BZ$1017),0)","v":0},{"$f":"IFERROR($E48*SUMIF('Daily Log'!$CB$18:$CB$1017,$B48,'Daily Log'!$CC$18:$CC$1017),0)","v":0},{"$f":"IFERROR($E48*SUMIF('Daily Log'!$CE$18:$CE$1017,$B48,'Daily Log'!$CF$18:$CF$1017),0)","v":0},{"$f":"IFERROR($E48*SUMIF('Daily Log'!$CH$18:$CH$1017,$B48,'Daily Log'!$CI$18:$CI$1017),0)","v":0},{"$f":"IFERROR($E48*SUMIF('Daily Log'!$CK$18:$CK$1017,$B48,'Daily Log'!$CL$18:$CL$1017),0)","v":0},{"$f":"IFERROR($E48*SUMIF('Daily Log'!$CN$18:$CN$1017,$B48,'Daily Log'!$CO$18:$CO$1017),0)","v":0}]
[null,"LF16 91103:MGL CHK",null,"KLKD",1,33,{"$f":"IFERROR($E49*SUMIF('Daily Log'!$B$18:$B$1017,$B49,'Daily Log'!$C$18:$C$1017),0)","v":0},{"$f":"IFERROR($E49*SUMIF('Daily Log'!$E$18:$E$1017,$B49,'Daily Log'!$F$18:$F$1017),0)","v":0},{"$f":"IFERROR($E49*SUMIF('Daily Log'!$H$18:$H$1017,$B49,'Daily Log'!$I$18:$I$1017),0)","v":0},{"$f":"IFERROR($E49*SUMIF('Daily Log'!$K$18:$K$1017,$B49,'Daily Log'!$L$18:$L$1017),0)","v":0},{"$f":"IFERROR($E49*SUMIF('Daily Log'!$N$18:$N$1017,$B49,'Daily Log'!$O$18:$O$1017),0)","v":0},{"$f":"IFERROR($E49*SUMIF('Daily Log'!$Q$18:$Q$1017,$B49,'Daily Log'!$R$18:$R$1017),0)","v":0},{"$f":"IFERROR($E49*SUMIF('Daily Log'!$T$18:$T$1017,$B49,'Daily Log'!$U$18:$U$1017),0)","v":0},{"$f":"IFERROR($E49*SUMIF('Daily Log'!$W$18:$W$1017,$B49,'Daily Log'!$X$18:$X$1017),0)","v":0},{"$f":"IFERROR($E49*SUMIF('Daily Log'!$Z$18:$Z$1017,$B49,'Daily Log'!$AA$18:$AA$1017),0)","v":0},{"$f":"IFERROR($E49*SUMIF('Daily Log'!$AC$18:$AC$1017,$B49,'Daily Log'!$AD$18:$AD$1017),0)","v":0},{"$f":"IFERROR($E49*SUMIF('Daily Log'!$AF$18:$AF$1017,$B49,'Daily Log'!$AG$18:$AG$1017),0)","v":0},{"$f":"IFERROR($E49*SUMIF('Daily Log'!$AI$18:$AI$1017,$B49,'Daily Log'!$AJ$18:$AJ$1017),0)","v":0},{"$f":"IFERROR($E49*SUMIF('Daily Log'!$AL$18:$AL$1017,$B49,'Daily Log'!$AM$18:$AM$1017),0)","v":0},{"$f":"IFERROR($E49*SUMIF('Daily Log'!$AO$18:$AO$1017,$B49,'Daily Log'!$AP$18:$AP$1017),0)","v":0},{"$f":"IFERROR($E49*SUMIF('Daily Log'!$AR$18:$AR$1017,$B49,'Daily Log'!$AS$18:$AS$1017),0)","v":0},{"$f":"IFERROR($E49*SUMIF('Daily Log'!$AU$18:$AU$1017,$B49,'Daily Log'!$AV$18:$AV$1017),0)","v":0},{"$f":"IFERROR($E49*SUMIF('Daily Log'!$AX$18:$AX$1017,$B49,'Daily Log'!$AY$18:$AY$1017),0)","v":0},{"$f":"IFERROR($E49*SUMIF('Daily Log'!$BA$18:$BA$1017,$B49,'Daily Log'!$BB$18:$BB$1017),0)","v":0},{"$f":"IFERROR($E49*SUMIF('Daily Log'!$BD$18:$BD$1017,$B49,'Daily Log'!$BE$18:$BE$1017),0)","v":0},{"$f":"IFERROR($E49*SUMIF('Daily Log'!$BG$18:$BG$1017,$B49,'Daily Log'!$BH$18:$BH$1017),0)","v":0},{"$f":"IFERROR($E49*SUMIF('Daily Log'!$BJ$18:$BJ$1017,$B49,'Daily Log'!$BK$18:$BK$1017),0)","v":0},{"$f":"IFERROR($E49*SUMIF('Daily Log'!$BM$18:$BM$1017,$B49,'Daily Log'!$BN$18:$BN$1017),0)","v":0},{"$f":"IFERROR($E49*SUMIF('Daily Log'!$BP$18:$BP$1017,$B49,'Daily Log'!$BQ$18:$BQ$1017),0)","v":0},{"$f":"IFERROR($E49*SUMIF('Daily Log'!$BS$18:$BS$1017,$B49,'Daily Log'!$BT$18:$BT$1017),0)","v":0},{"$f":"IFERROR($E49*SUMIF('Daily Log'!$BV$18:$BV$1017,$B49,'Daily Log'!$BW$18:$BW$1017),0)","v":0},{"$f":"IFERROR($E49*SUMIF('Daily Log'!$BY$18:$BY$1017,$B49,'Daily Log'!$BZ$18:$BZ$1017),0)","v":0},{"$f":"IFERROR($E49*SUMIF('Daily Log'!$CB$18:$CB$1017,$B49,'Daily Log'!$CC$18:$CC$1017),0)","v":0},{"$f":"IFERROR($E49*SUMIF('Daily Log'!$CE$18:$CE$1017,$B49,'Daily Log'!$CF$18:$CF$1017),0)","v":0},{"$f":"IFERROR($E49*SUMIF('Daily Log'!$CH$18:$CH$1017,$B49,'Daily Log'!$CI$18:$CI$1017),0)","v":0},{"$f":"IFERROR($E49*SUMIF('Daily Log'!$CK$18:$CK$1017,$B49,'Daily Log'!$CL$18:$CL$1017),0)","v":0},{"$f":"IFERROR($E49*SUMIF('Daily Log'!$CN$18:$CN$1017,$B49,'Daily Log'!$CO$18:$CO$1017),0)","v":33}]
[null,"WF01 91001:BP CHK CP",null,"KLKD",1,204,{"$f":"IFERROR($E50*SUMIF('Daily Log'!$B$18:$B$1017,$B50,'Daily Log'!$C$18:$C$1017),0)","v":0},{"$f":"IFERROR($E50*SUMIF('Daily Log'!$E$18:$E$1017,$B50,'Daily Log'!$F$18:$F$1017),0)","v":0},{"$f":"IFERROR($E50*SUMIF('Daily Log'!$H$18:$H$1017,$B50,'Daily Log'!$I$18:$I$1017),0)","v":0},{"$f":"IFERROR($E50*SUMIF('Daily Log'!$K$18:$K$1017,$B50,'Daily Log'!$L$18:$L$1017),0)","v":0},{"$f":"IFERROR($E50*SUMIF('Daily Log'!$N$18:$N$1017,$B50,'Daily Log'!$O$18:$O$1017),0)","v":0},{"$f":"IFERROR($E50*SUMIF('Daily Log'!$Q$18:$Q$1017,$B50,'Daily Log'!$R$18:$R$1017),0)","v":0},{"$f":"IFERROR($E50*SUMIF('Daily Log'!$T$18:$T$1017,$B50,'Daily Log'!$U$18:$U$1017),0)","v":0},{"$f":"IFERROR($E50*SUMIF('Daily Log'!$W$18:$W$1017,$B50,'Daily Log'!$X$18:$X$1017),0)","v":0},{"$f":"IFERROR($E50*SUMIF('Daily Log'!$Z$18:$Z$1017,$B50,'Daily Log'!$AA$18:$AA$1017),0)","v":0},{"$f":"IFERROR($E50*SUMIF('Daily Log'!$AC$18:$AC$1017,$B50,'Daily Log'!$AD$18:$AD$1017),0)","v":0},{"$f":"IFERROR($E50*SUMIF('Daily Log'!$AF$18:$AF$1017,$B50,'Daily Log'!$AG$18:$AG$1017),0)","v":0},{"$f":"IFERROR($E50*SUMIF('Daily Log'!$AI$18:$AI$1017,$B50,'Daily Log'!$AJ$18:$AJ$1017),0)","v":0},{"$f":"IFERROR($E50*SUMIF('Daily Log'!$AL$18:$AL$1017,$B50,'Daily Log'!$AM$18:$AM$1017),0)","v":0},{"$f":"IFERROR($E50*SUMIF('Daily Log'!$AO$18:$AO$1017,$B50,'Daily Log'!$AP$18:$AP$1017),0)","v":0},{"$f":"IFERROR($E50*SUMIF('Daily Log'!$AR$18:$AR$1017,$B50,'Daily Log'!$AS$18:$AS$1017),0)","v":0},{"$f":"IFERROR($E50*SUMIF('Daily Log'!$AU$18:$AU$1017,$B50,'Daily Log'!$AV$18:$AV$1017),0)","v":0},{"$f":"IFERROR($E50*SUMIF('Daily Log'!$AX$18:$AX$1017,$B50,'Daily Log'!$AY$18:$AY$1017),0)","v":0},{"$f":"IFERROR($E50*SUMIF('Daily Log'!$BA$18:$BA$1017,$B50,'Daily Log'!$BB$18:$BB$1017),0)","v":0},{"$f":"IFERROR($E50*SUMIF('Daily Log'!$BD$18:$BD$1017,$B50,'Daily Log'!$BE$18:$BE$1017),0)","v":0},{"$f":"IFERROR($E50*SUMIF('Daily Log'!$BG$18:$BG$1017,$B50,'Daily Log'!$BH$18:$BH$1017),0)","v":0},{"$f":"IFERROR($E50*SUMIF('Daily Log'!$BJ$18:$BJ$1017,$B50,'Daily Log'!$BK$18:$BK$1017),0)","v":0},{"$f":"IFERROR($E50*SUMIF('Daily Log'!$BM$18:$BM$1017,$B50,'Daily Log'!$BN$18:$BN$1017),0)","v":0},{"$f":"IFERROR($E50*SUMIF('Daily Log'!$BP$18:$BP$1017,$B50,'Daily Log'!$BQ$18:$BQ$1017),0)","v":0},{"$f":"IFERROR($E50*SUMIF('Daily Log'!$BS$18:$BS$1017,$B50,'Daily Log'!$BT$18:$BT$1017),0)","v":0},{"$f":"IFERROR($E50*SUMIF('Daily Log'!$BV$18:$BV$1017,$B50,'Daily Log'!$BW$18:$BW$1017),0)","v":0},{"$f":"IFERROR($E50*SUMIF('Daily Log'!$BY$18:$BY$1017,$B50,'Daily Log'!$BZ$18:$BZ$1017),0)","v":0},{"$f":"IFERROR($E50*SUMIF('Daily Log'!$CB$18:$CB$1017,$B50,'Daily Log'!$CC$18:$CC$1017),0)","v":0},{"$f":"IFERROR($E50*SUMIF('Daily Log'!$CE$18:$CE$1017,$B50,'Daily Log'!$CF$18:$CF$1017),0)","v":0},{"$f":"IFERROR($E50*SUMIF('Daily Log'!$CH$18:$CH$1017,$B50,'Daily Log'!$CI$18:$CI$1017),0)","v":0},{"$f":"IFERROR($E50*SUMIF('Daily Log'!$CK$18:$CK$1017,$B50,'Daily Log'!$CL$18:$CL$1017),0)","v":0},{"$f":"IFERROR($E50*SUMIF('Daily Log'!$CN$18:$CN$1017,$B50,'Daily Log'!$CO$18:$CO$1017),0)","v":204}]
[null,"WF02 91002:GVY CHK CP",null,"KLKD",1,66,{"$f":"IFERROR($E51*SUMIF('Daily Log'!$B$18:$B$1017,$B51,'Daily Log'!$C$18:$C$1017),0)","v":0},{"$f":"IFERROR($E51*SUMIF('Daily Log'!$E$18:$E$1017,$B51,'Daily Log'!$F$18:$F$1017),0)","v":0},{"$f":"IFERROR($E51*SUMIF('Daily Log'!$H$18:$H$1017,$B51,'Daily Log'!$I$18:$I$1017),0)","v":0},{"$f":"IFERROR($E51*SUMIF('Daily Log'!$K$18:$K$1017,$B51,'Daily Log'!$L$18:$L$1017),0)","v":0},{"$f":"IFERROR($E51*SUMIF('Daily Log'!$N$18:$N$1017,$B51,'Daily Log'!$O$18:$O$1017),0)","v":0},{"$f":"IFERROR($E51*SUMIF('Daily Log'!$Q$18:$Q$1017,$B51,'Daily Log'!$R$18:$R$1017),0)","v":0},{"$f":"IFERROR($E51*SUMIF('Daily Log'!$T$18:$T$1017,$B51,'Daily Log'!$U$18:$U$1017),0)","v":0},{"$f":"IFERROR($E51*SUMIF('Daily Log'!$W$18:$W$1017,$B51,'Daily Log'!$X$18:$X$1017),0)","v":0},{"$f":"IFERROR($E51*SUMIF('Daily Log'!$Z$18:$Z$1017,$B51,'Daily Log'!$AA$18:$AA$1017),0)","v":0},{"$f":"IFERROR($E51*SUMIF('Daily Log'!$AC$18:$AC$1017,$B51,'Daily Log'!$AD$18:$AD$1017),0)","v":0},{"$f":"IFERROR($E51*SUMIF('Daily Log'!$AF$18:$AF$1017,$B51,'Daily Log'!$AG$18:$AG$1017),0)","v":0},{"$f":"IFERROR($E51*SUMIF('Daily Log'!$AI$18:$AI$1017,$B51,'Daily Log'!$AJ$18:$AJ$1017),0)","v":0},{"$f":"IFERROR($E51*SUMIF('Daily Log'!$AL$18:$AL$1017,$B51,'Daily Log'!$AM$18:$AM$1017),0)","v":0},{"$f":"IFERROR($E51*SUMIF('Daily Log'!$AO$18:$AO$1017,$B51,'Daily Log'!$AP$18:$AP$1017),0)","v":0},{"$f":"IFERROR($E51*SUMIF('Daily Log'!$AR$18:$AR$1017,$B51,'Daily Log'!$AS$18:$AS$1017),0)","v":0},{"$f":"IFERROR($E51*SUMIF('Daily Log'!$AU$18:$AU$1017,$B51,'Daily Log'!$AV$18:$AV$1017),0)","v":0},{"$f":"IFERROR($E51*SUMIF('Daily Log'!$AX$18:$AX$1017,$B51,'Daily Log'!$AY$18:$AY$1017),0)","v":0},{"$f":"IFERROR($E51*SUMIF('Daily Log'!$BA$18:$BA$1017,$B51,'Daily Log'!$BB$18:$BB$1017),0)","v":0},{"$f":"IFERROR($E51*SUMIF('Daily Log'!$BD$18:$BD$1017,$B51,'Daily Log'!$BE$18:$BE$1017),0)","v":0},{"$f":"IFERROR($E51*SUMIF('Daily Log'!$BG$18:$BG$1017,$B51,'Daily Log'!$BH$18:$BH$1017),0)","v":0},{"$f":"IFERROR($E51*SUMIF('Daily Log'!$BJ$18:$BJ$1017,$B51,'Daily Log'!$BK$18:$BK$1017),0)","v":0},{"$f":"IFERROR($E51*SUMIF('Daily Log'!$BM$18:$BM$1017,$B51,'Daily Log'!$BN$18:$BN$1017),0)","v":0},{"$f":"IFERROR($E51*SUMIF('Daily Log'!$BP$18:$BP$1017,$B51,'Daily Log'!$BQ$18:$BQ$1017),0)","v":0},{"$f":"IFERROR($E51*SUMIF('Daily Log'!$BS$18:$BS$1017,$B51,'Daily Log'!$BT$18:$BT$1017),0)","v":0},{"$f":"IFERROR($E51*SUMIF('Daily Log'!$BV$18:$BV$1017,$B51,'Daily Log'!$BW$18:$BW$1017),0)","v":0},{"$f":"IFERROR($E51*SUMIF('Daily Log'!$BY$18:$BY$1017,$B51,'Daily Log'!$BZ$18:$BZ$1017),0)","v":0},{"$f":"IFERROR($E51*SUMIF('Daily Log'!$CB$18:$CB$1017,$B51,'Daily Log'!$CC$18:$CC$1017),0)","v":0},{"$f":"IFERROR($E51*SUMIF('Daily Log'!$CE$18:$CE$1017,$B51,'Daily Log'!$CF$18:$CF$1017),0)","v":0},{"$f":"IFERROR($E51*SUMIF('Daily Log'!$CH$18:$CH$1017,$B51,'Daily Log'!$CI$18:$CI$1017),0)","v":0},{"$f":"IFERROR($E51*SUMIF('Daily Log'!$CK$18:$CK$1017,$B51,'Daily Log'!$CL$18:$CL$1017),0)","v":0},{"$f":"IFERROR($E51*SUMIF('Daily Log'!$CN$18:$CN$1017,$B51,'Daily Log'!$CO$18:$CO$1017),0)","v":66}]
[null,"WF03 91003:MR CHK CP",null,"KLKD",1,314,{"$f":"IFERROR($E52*SUMIF('Daily Log'!$B$18:$B$1017,$B52,'Daily Log'!$C$18:$C$1017),0)","v":0},{"$f":"IFERROR($E52*SUMIF('Daily Log'!$E$18:$E$1017,$B52,'Daily Log'!$F$18:$F$1017),0)","v":0},{"$f":"IFERROR($E52*SUMIF('Daily Log'!$H$18:$H$1017,$B52,'Daily Log'!$I$18:$I$1017),0)","v":0},{"$f":"IFERROR($E52*SUMIF('Daily Log'!$K$18:$K$1017,$B52,'Daily Log'!$L$18:$L$1017),0)","v":0},{"$f":"IFERROR($E52*SUMIF('Daily Log'!$N$18:$N$1017,$B52,'Daily Log'!$O$18:$O$1017),0)","v":0},{"$f":"IFERROR($E52*SUMIF('Daily Log'!$Q$18:$Q$1017,$B52,'Daily Log'!$R$18:$R$1017),0)","v":0},{"$f":"IFERROR($E52*SUMIF('Daily Log'!$T$18:$T$1017,$B52,'Daily Log'!$U$18:$U$1017),0)","v":0},{"$f":"IFERROR($E52*SUMIF('Daily Log'!$W$18:$W$1017,$B52,'Daily Log'!$X$18:$X$1017),0)","v":0},{"$f":"IFERROR($E52*SUMIF('Daily Log'!$Z$18:$Z$1017,$B52,'Daily Log'!$AA$18:$AA$1017),0)","v":0},{"$f":"IFERROR($E52*SUMIF('Daily Log'!$AC$18:$AC$1017,$B52,'Daily Log'!$AD$18:$AD$1017),0)","v":0},{"$f":"IFERROR($E52*SUMIF('Daily Log'!$AF$18:$AF$1017,$B52,'Daily Log'!$AG$18:$AG$1017),0)","v":0},{"$f":"IFERROR($E52*SUMIF('Daily Log'!$AI$18:$AI$1017,$B52,'Daily Log'!$AJ$18:$AJ$1017),0)","v":0},{"$f":"IFERROR($E52*SUMIF('Daily Log'!$AL$18:$AL$1017,$B52,'Daily Log'!$AM$18:$AM$1017),0)","v":0},{"$f":"IFERROR($E52*SUMIF('Daily Log'!$AO$18:$AO$1017,$B52,'Daily Log'!$AP$18:$AP$1017),0)","v":0},{"$f":"IFERROR($E52*SUMIF('Daily Log'!$AR$18:$AR$1017,$B52,'Daily Log'!$AS$18:$AS$1017),0)","v":0},{"$f":"IFERROR($E52*SUMIF('Daily Log'!$AU$18:$AU$1017,$B52,'Daily Log'!$AV$18:$AV$1017),0)","v":0},{"$f":"IFERROR($E52*SUMIF('Daily Log'!$AX$18:$AX$1017,$B52,'Daily Log'!$AY$18:$AY$1017),0)","v":0},{"$f":"IFERROR($E52*SUMIF('Daily Log'!$BA$18:$BA$1017,$B52,'Daily Log'!$BB$18:$BB$1017),0)","v":0},{"$f":"IFERROR($E52*SUMIF('Daily Log'!$BD$18:$BD$1017,$B52,'Daily Log'!$BE$18:$BE$1017),0)","v":0},{"$f":"IFERROR($E52*SUMIF('Daily Log'!$BG$18:$BG$1017,$B52,'Daily Log'!$BH$18:$BH$1017),0)","v":0},{"$f":"IFERROR($E52*SUMIF('Daily Log'!$BJ$18:$BJ$1017,$B52,'Daily Log'!$BK$18:$BK$1017),0)","v":0},{"$f":"IFERROR($E52*SUMIF('Daily Log'!$BM$18:$BM$1017,$B52,'Daily Log'!$BN$18:$BN$1017),0)","v":0},{"$f":"IFERROR($E52*SUMIF('Daily Log'!$BP$18:$BP$1017,$B52,'Daily Log'!$BQ$18:$BQ$1017),0)","v":0},{"$f":"IFERROR($E52*SUMIF('Daily Log'!$BS$18:$BS$1017,$B52,'Daily Log'!$BT$18:$BT$1017),0)","v":0},{"$f":"IFERROR($E52*SUMIF('Daily Log'!$BV$18:$BV$1017,$B52,'Daily Log'!$BW$18:$BW$1017),0)","v":0},{"$f":"IFERROR($E52*SUMIF('Daily Log'!$BY$18:$BY$1017,$B52,'Daily Log'!$BZ$18:$BZ$1017),0)","v":0},{"$f":"IFERROR($E52*SUMIF('Daily Log'!$CB$18:$CB$1017,$B52,'Daily Log'!$CC$18:$CC$1017),0)","v":0},{"$f":"IFERROR($E52*SUMIF('Daily Log'!$CE$18:$CE$1017,$B52,'Daily Log'!$CF$18:$CF$1017),0)","v":0},{"$f":"IFERROR($E52*SUMIF('Daily Log'!$CH$18:$CH$1017,$B52,'Daily Log'!$CI$18:$CI$1017),0)","v":0},{"$f":"IFERROR($E52*SUMIF('Daily Log'!$CK$18:$CK$1017,$B52,'Daily Log'!$CL$18:$CL$1017),0)","v":0},{"$f":"IFERROR($E52*SUMIF('Daily Log'!$CN$18:$CN$1017,$B52,'Daily Log'!$CO$18:$CO$1017),0)","v":314}]
[null,"WF04 91004:CKN MARY",null,"KLKD",1,76,{"$f":"IFERROR($E53*SUMIF('Daily Log'!$B$18:$B$1017,$B53,'Daily Log'!$C$18:$C$1017),0)","v":0},{"$f":"IFERROR($E53*SUMIF('Daily Log'!$E$18:$E$1017,$B53,'Daily Log'!$F$18:$F$1017),0)","v":0},{"$f":"IFERROR($E53*SUMIF('Daily Log'!$H$18:$H$1017,$B53,'Daily Log'!$I$18:$I$1017),0)","v":0},{"$f":"IFERROR($E53*SUMIF('Daily Log'!$K$18:$K$1017,$B53,'Daily Log'!$L$18:$L$1017),0)","v":0},{"$f":"IFERROR($E53*SUMIF('Daily Log'!$N$18:$N$1017,$B53,'Daily Log'!$O$18:$O$1017),0)","v":0},{"$f":"IFERROR($E53*SUMIF('Daily Log'!$Q$18:$Q$1017,$B53,'Daily Log'!$R$18:$R$1017),0)","v":0},{"$f":"IFERROR($E53*SUMIF('Daily Log'!$T$18:$T$1017,$B53,'Daily Log'!$U$18:$U$1017),0)","v":0},{"$f":"IFERROR($E53*SUMIF('Daily Log'!$W$18:$W$1017,$B53,'Daily Log'!$X$18:$X$1017),0)","v":0},{"$f":"IFERROR($E53*SUMIF('Daily Log'!$Z$18:$Z$1017,$B53,'Daily Log'!$AA$18:$AA$1017),0)","v":0},{"$f":"IFERROR($E53*SUMIF('Daily Log'!$AC$18:$AC$1017,$B53,'Daily Log'!$AD$18:$AD$1017),0)","v":0},{"$f":"IFERROR($E53*SUMIF('Daily Log'!$AF$18:$AF$1017,$B53,'Daily Log'!$AG$18:$AG$1017),0)","v":0},{"$f":"IFERROR($E53*SUMIF('Daily Log'!$AI$18:$AI$1017,$B53,'Daily Log'!$AJ$18:$AJ$1017),0)","v":0},{"$f":"IFERROR($E53*SUMIF('Daily Log'!$AL$18:$AL$1017,$B53,'Daily Log'!$AM$18:$AM$1017),0)","v":0},{"$f":"IFERROR($E53*SUMIF('Daily Log'!$AO$18:$AO$1017,$B53,'Daily Log'!$AP$18:$AP$1017),0)","v":0},{"$f":"IFERROR($E53*SUMIF('Daily Log'!$AR$18:$AR$1017,$B53,'Daily Log'!$AS$18:$AS$1017),0)","v":0},{"$f":"IFERROR($E53*SUMIF('Daily Log'!$AU$18:$AU$1017,$B53,'Daily Log'!$AV$18:$AV$1017),0)","v":0},{"$f":"IFERROR($E53*SUMIF('Daily Log'!$AX$18:$AX$1017,$B53,'Daily Log'!$AY$18:$AY$1017),0)","v":0},{"$f":"IFERROR($E53*SUMIF('Daily Log'!$BA$18:$BA$1017,$B53,'Daily Log'!$BB$18:$BB$1017),0)","v":0},{"$f":"IFERROR($E53*SUMIF('Daily Log'!$BD$18:$BD$1017,$B53,'Daily Log'!$BE$18:$BE$1017),0)","v":0},{"$f":"IFERROR($E53*SUMIF('Daily Log'!$BG$18:$BG$1017,$B53,'Daily Log'!$BH$18:$BH$1017),0)","v":0},{"$f":"IFERROR($E53*SUMIF('Daily Log'!$BJ$18:$BJ$1017,$B53,'Daily Log'!$BK$18:$BK$1017),0)","v":0},{"$f":"IFERROR($E53*SUMIF('Daily Log'!$BM$18:$BM$1017,$B53,'Daily Log'!$BN$18:$BN$1017),0)","v":0},{"$f":"IFERROR($E53*SUMIF('Daily Log'!$BP$18:$BP$1017,$B53,'Daily Log'!$BQ$18:$BQ$1017),0)","v":0},{"$f":"IFERROR($E53*SUMIF('Daily Log'!$BS$18:$BS$1017,$B53,'Daily Log'!$BT$18:$BT$1017),0)","v":0},{"$f":"IFERROR($E53*SUMIF('Daily Log'!$BV$18:$BV$1017,$B53,'Daily Log'!$BW$18:$BW$1017),0)","v":0},{"$f":"IFERROR($E53*SUMIF('Daily Log'!$BY$18:$BY$1017,$B53,'Daily Log'!$BZ$18:$BZ$1017),0)","v":0},{"$f":"IFERROR($E53*SUMIF('Daily Log'!$CB$18:$CB$1017,$B53,'Daily Log'!$CC$18:$CC$1017),0)","v":0},{"$f":"IFERROR($E53*SUMIF('Daily Log'!$CE$18:$CE$1017,$B53,'Daily Log'!$CF$18:$CF$1017),0)","v":0},{"$f":"IFERROR($E53*SUMIF('Daily Log'!$CH$18:$CH$1017,$B53,'Daily Log'!$CI$18:$CI$1017),0)","v":0},{"$f":"IFERROR($E53*SUMIF('Daily Log'!$CK$18:$CK$1017,$B53,'Daily Log'!$CL$18:$CL$1017),0)","v":0},{"$f":"IFERROR($E53*SUMIF('Daily Log'!$CN$18:$CN$1017,$B53,'Daily Log'!$CO$18:$CO$1017),0)","v":76}]
[null,"WF05 91005:FSH&CHIP",null,"KLKD",1,159,{"$f":"IFERROR($E54*SUMIF('Daily Log'!$B$18:$B$1017,$B54,'Daily Log'!$C$18:$C$1017),0)","v":0},{"$f":"IFERROR($E54*SUMIF('Daily Log'!$E$18:$E$1017,$B54,'Daily Log'!$F$18:$F$1017),0)","v":0},{"$f":"IFERROR($E54*SUMIF('Daily Log'!$H$18:$H$1017,$B54,'Daily Log'!$I$18:$I$1017),0)","v":0},{"$f":"IFERROR($E54*SUMIF('Daily Log'!$K$18:$K$1017,$B54,'Daily Log'!$L$18:$L$1017),0)","v":0},{"$f":"IFERROR($E54*SUMIF('Daily Log'!$N$18:$N$1017,$B54,'Daily Log'!$O$18:$O$1017),0)","v":0},{"$f":"IFERROR($E54*SUMIF('Daily Log'!$Q$18:$Q$1017,$B54,'Daily Log'!$R$18:$R$1017),0)","v":0},{"$f":"IFERROR($E54*SUMIF('Daily Log'!$T$18:$T$1017,$B54,'Daily Log'!$U$18:$U$1017),0)","v":0},{"$f":"IFERROR($E54*SUMIF('Daily Log'!$W$18:$W$1017,$B54,'Daily Log'!$X$18:$X$1017),0)","v":0},{"$f":"IFERROR($E54*SUMIF('Daily Log'!$Z$18:$Z$1017,$B54,'Daily Log'!$AA$18:$AA$1017),0)","v":0},{"$f":"IFERROR($E54*SUMIF('Daily Log'!$AC$18:$AC$1017,$B54,'Daily Log'!$AD$18:$AD$1017),0)","v":0},{"$f":"IFERROR($E54*SUMIF('Daily Log'!$AF$18:$AF$1017,$B54,'Daily Log'!$AG$18:$AG$1017),0)","v":0},{"$f":"IFERROR($E54*SUMIF('Daily Log'!$AI$18:$AI$1017,$B54,'Daily Log'!$AJ$18:$AJ$1017),0)","v":0},{"$f":"IFERROR($E54*SUMIF('Daily Log'!$AL$18:$AL$1017,$B54,'Daily Log'!$AM$18:$AM$1017),0)","v":0},{"$f":"IFERROR($E54*SUMIF('Daily Log'!$AO$18:$AO$1017,$B54,'Daily Log'!$AP$18:$AP$1017),0)","v":0},{"$f":"IFERROR($E54*SUMIF('Daily Log'!$AR$18:$AR$1017,$B54,'Daily Log'!$AS$18:$AS$1017),0)","v":0},{"$f":"IFERROR($E54*SUMIF('Daily Log'!$AU$18:$AU$1017,$B54,'Daily Log'!$AV$18:$AV$1017),0)","v":0},{"$f":"IFERROR($E54*SUMIF('Daily Log'!$AX$18:$AX$1017,$B54,'Daily Log'!$AY$18:$AY$1017),0)","v":0},{"$f":"IFERROR($E54*SUMIF('Daily Log'!$BA$18:$BA$1017,$B54,'Daily Log'!$BB$18:$BB$1017),0)","v":0},{"$f":"IFERROR($E54*SUMIF('Daily Log'!$BD$18:$BD$1017,$B54,'Daily Log'!$BE$18:$BE$1017),0)","v":0},{"$f":"IFERROR($E54*SUMIF('Daily Log'!$BG$18:$BG$1017,$B54,'Daily Log'!$BH$18:$BH$1017),0)","v":0},{"$f":"IFERROR($E54*SUMIF('Daily Log'!$BJ$18:$BJ$1017,$B54,'Daily Log'!$BK$18:$BK$1017),0)","v":0},{"$f":"IFERROR($E54*SUMIF('Daily Log'!$BM$18:$BM$1017,$B54,'Daily Log'!$BN$18:$BN$1017),0)","v":0},{"$f":"IFERROR($E54*SUMIF('Daily Log'!$BP$18:$BP$1017,$B54,'Daily Log'!$BQ$18:$BQ$1017),0)","v":0},{"$f":"IFERROR($E54*SUMIF('Daily Log'!$BS$18:$BS$1017,$B54,'Daily Log'!$BT$18:$BT$1017),0)","v":0},{"$f":"IFERROR($E54*SUMIF('Daily Log'!$BV$18:$BV$1017,$B54,'Daily Log'!$BW$18:$BW$1017),0)","v":0},{"$f":"IFERROR($E54*SUMIF('Daily Log'!$BY$18:$BY$1017,$B54,'Daily Log'!$BZ$18:$BZ$1017),0)","v":0},{"$f":"IFERROR($E54*SUMIF('Daily Log'!$CB$18:$CB$1017,$B54,'Daily Log'!$CC$18:$CC$1017),0)","v":0},{"$f":"IFERROR($E54*SUMIF('Daily Log'!$CE$18:$CE$1017,$B54,'Daily Log'!$CF$18:$CF$1017),0)","v":0},{"$f":"IFERROR($E54*SUMIF('Daily Log'!$CH$18:$CH$1017,$B54,'Daily Log'!$CI$18:$CI$1017),0)","v":0},{"$f":"IFERROR($E54*SUMIF('Daily Log'!$CK$18:$CK$1017,$B54,'Daily Log'!$CL$18:$CL$1017),0)","v":0},{"$f":"IFERROR($E54*SUMIF('Daily Log'!$CN$18:$CN$1017,$B54,'Daily Log'!$CO$18:$CO$1017),0)","v":159}]
[null,"WF06 91006:SPAGHETTI",null,"KLKD",1,89,{"$f":"IFERROR($E55*SUMIF('Daily Log'!$B$18:$B$1017,$B55,'Daily Log'!$C$18:$C$1017),0)","v":0},{"$f":"IFERROR($E55*SUMIF('Daily Log'!$E$18:$E$1017,$B55,'Daily Log'!$F$18:$F$1017),0)","v":0},{"$f":"IFERROR($E55*SUMIF('Daily Log'!$H$18:$H$1017,$B55,'Daily Log'!$I$18:$I$1017),0)","v":0},{"$f":"IFERROR($E55*SUMIF('Daily Log'!$K$18:$K$1017,$B55,'Daily Log'!$L$18:$L$1017),0)","v":0},{"$f":"IFERROR($E55*SUMIF('Daily Log'!$N$18:$N$1017,$B55,'Daily Log'!$O$18:$O$1017),0)","v":0},{"$f":"IFERROR($E55*SUMIF('Daily Log'!$Q$18:$Q$1017,$B55,'Daily Log'!$R$18:$R$1017),0)","v":0},{"$f":"IFERROR($E55*SUMIF('Daily Log'!$T$18:$T$1017,$B55,'Daily Log'!$U$18:$U$1017),0)","v":0},{"$f":"IFERROR($E55*SUMIF('Daily Log'!$W$18:$W$1017,$B55,'Daily Log'!$X$18:$X$1017),0)","v":0},{"$f":"IFERROR($E55*SUMIF('Daily Log'!$Z$18:$Z$1017,$B55,'Daily Log'!$AA$18:$AA$1017),0)","v":0},{"$f":"IFERROR($E55*SUMIF('Daily Log'!$AC$18:$AC$1017,$B55,'Daily Log'!$AD$18:$AD$1017),0)","v":0},{"$f":"IFERROR($E55*SUMIF('Daily Log'!$AF$18:$AF$1017,$B55,'Daily Log'!$AG$18:$AG$1017),0)","v":0},{"$f":"IFERROR($E55*SUMIF('Daily Log'!$AI$18:$AI$1017,$B55,'Daily Log'!$AJ$18:$AJ$1017),0)","v":0},{"$f":"IFERROR($E55*SUMIF('Daily Log'!$AL$18:$AL$1017,$B55,'Daily Log'!$AM$18:$AM$1017),0)","v":0},{"$f":"IFERROR($E55*SUMIF('Daily Log'!$AO$18:$AO$1017,$B55,'Daily Log'!$AP$18:$AP$1017),0)","v":0},{"$f":"IFERROR($E55*SUMIF('Daily Log'!$AR$18:$AR$1017,$B55,'Daily Log'!$AS$18:$AS$1017),0)","v":0},{"$f":"IFERROR($E55*SUMIF('Daily Log'!$AU$18:$AU$1017,$B55,'Daily Log'!$AV$18:$AV$1017),0)","v":0},{"$f":"IFERROR($E55*SUMIF('Daily Log'!$AX$18:$AX$1017,$B55,'Daily Log'!$AY$18:$AY$1017),0)","v":0},{"$f":"IFERROR($E55*SUMIF('Daily Log'!$BA$18:$BA$1017,$B55,'Daily Log'!$BB$18:$BB$1017),0)","v":0},{"$f":"IFERROR($E55*SUMIF('Daily Log'!$BD$18:$BD$1017,$B55,'Daily Log'!$BE$18:$BE$1017),0)","v":0},{"$f":"IFERROR($E55*SUMIF('Daily Log'!$BG$18:$BG$1017,$B55,'Daily Log'!$BH$18:$BH$1017),0)","v":0},{"$f":"IFERROR($E55*SUMIF('Daily Log'!$BJ$18:$BJ$1017,$B55,'Daily Log'!$BK$18:$BK$1017),0)","v":0},{"$f":"IFERROR($E55*SUMIF('Daily Log'!$BM$18:$BM$1017,$B55,'Daily Log'!$BN$18:$BN$1017),0)","v":0},{"$f":"IFERROR($E55*SUMIF('Daily Log'!$BP$18:$BP$1017,$B55,'Daily Log'!$BQ$18:$BQ$1017),0)","v":0},{"$f":"IFERROR($E55*SUMIF('Daily Log'!$BS$18:$BS$1017,$B55,'Daily Log'!$BT$18:$BT$1017),0)","v":0},{"$f":"IFERROR($E55*SUMIF('Daily Log'!$BV$18:$BV$1017,$B55,'Daily Log'!$BW$18:$BW$1017),0)","v":0},{"$f":"IFERROR($E55*SUMIF('Daily Log'!$BY$18:$BY$1017,$B55,'Daily Log'!$BZ$18:$BZ$1017),0)","v":0},{"$f":"IFERROR($E55*SUMIF('Daily Log'!$CB$18:$CB$1017,$B55,'Daily Log'!$CC$18:$CC$1017),0)","v":0},{"$f":"IFERROR($E55*SUMIF('Daily Log'!$CE$18:$CE$1017,$B55,'Daily Log'!$CF$18:$CF$1017),0)","v":0},{"$f":"IFERROR($E55*SUMIF('Daily Log'!$CH$18:$CH$1017,$B55,'Daily Log'!$CI$18:$CI$1017),0)","v":0},{"$f":"IFERROR($E55*SUMIF('Daily Log'!$CK$18:$CK$1017,$B55,'Daily Log'!$CL$18:$CL$1017),0)","v":0},{"$f":"IFERROR($E55*SUMIF('Daily Log'!$CN$18:$CN$1017,$B55,'Daily Log'!$CO$18:$CO$1017),0)","v":89}]
[null,"WF07 91007:CHK SALAD",null,"KLKD",1,41,{"$f":"IFERROR($E56*SUMIF('Daily Log'!$B$18:$B$1017,$B56,'Daily Log'!$C$18:$C$1017),0)","v":0},{"$f":"IFERROR($E56*SUMIF('Daily Log'!$E$18:$E$1017,$B56,'Daily Log'!$F$18:$F$1017),0)","v":0},{"$f":"IFERROR($E56*SUMIF('Daily Log'!$H$18:$H$1017,$B56,'Daily Log'!$I$18:$I$1017),0)","v":0},{"$f":"IFERROR($E56*SUMIF('Daily Log'!$K$18:$K$1017,$B56,'Daily Log'!$L$18:$L$1017),0)","v":0},{"$f":"IFERROR($E56*SUMIF('Daily Log'!$N$18:$N$1017,$B56,'Daily Log'!$O$18:$O$1017),0)","v":0},{"$f":"IFERROR($E56*SUMIF('Daily Log'!$Q$18:$Q$1017,$B56,'Daily Log'!$R$18:$R$1017),0)","v":0},{"$f":"IFERROR($E56*SUMIF('Daily Log'!$T$18:$T$1017,$B56,'Daily Log'!$U$18:$U$1017),0)","v":0},{"$f":"IFERROR($E56*SUMIF('Daily Log'!$W$18:$W$1017,$B56,'Daily Log'!$X$18:$X$1017),0)","v":0},{"$f":"IFERROR($E56*SUMIF('Daily Log'!$Z$18:$Z$1017,$B56,'Daily Log'!$AA$18:$AA$1017),0)","v":0},{"$f":"IFERROR($E56*SUMIF('Daily Log'!$AC$18:$AC$1017,$B56,'Daily Log'!$AD$18:$AD$1017),0)","v":0},{"$f":"IFERROR($E56*SUMIF('Daily Log'!$AF$18:$AF$1017,$B56,'Daily Log'!$AG$18:$AG$1017),0)","v":0},{"$f":"IFERROR($E56*SUMIF('Daily Log'!$AI$18:$AI$1017,$B56,'Daily Log'!$AJ$18:$AJ$1017),0)","v":0},{"$f":"IFERROR($E56*SUMIF('Daily Log'!$AL$18:$AL$1017,$B56,'Daily Log'!$AM$18:$AM$1017),0)","v":0},{"$f":"IFERROR($E56*SUMIF('Daily Log'!$AO$18:$AO$1017,$B56,'Daily Log'!$AP$18:$AP$1017),0)","v":0},{"$f":"IFERROR($E56*SUMIF('Daily Log'!$AR$18:$AR$1017,$B56,'Daily Log'!$AS$18:$AS$1017),0)","v":0},{"$f":"IFERROR($E56*SUMIF('Daily Log'!$AU$18:$AU$1017,$B56,'Daily Log'!$AV$18:$AV$1017),0)","v":0},{"$f":"IFERROR($E56*SUMIF('Daily Log'!$AX$18:$AX$1017,$B56,'Daily Log'!$AY$18:$AY$1017),0)","v":0},{"$f":"IFERROR($E56*SUMIF('Daily Log'!$BA$18:$BA$1017,$B56,'Daily Log'!$BB$18:$BB$1017),0)","v":0},{"$f":"IFERROR($E56*SUMIF('Daily Log'!$BD$18:$BD$1017,$B56,'Daily Log'!$BE$18:$BE$1017),0)","v":0},{"$f":"IFERROR($E56*SUMIF('Daily Log'!$BG$18:$BG$1017,$B56,'Daily Log'!$BH$18:$BH$1017),0)","v":0},{"$f":"IFERROR($E56*SUMIF('Daily Log'!$BJ$18:$BJ$1017,$B56,'Daily Log'!$BK$18:$BK$1017),0)","v":0},{"$f":"IFERROR($E56*SUMIF('Daily Log'!$BM$18:$BM$1017,$B56,'Daily Log'!$BN$18:$BN$1017),0)","v":0},{"$f":"IFERROR($E56*SUMIF('Daily Log'!$BP$18:$BP$1017,$B56,'Daily Log'!$BQ$18:$BQ$1017),0)","v":0},{"$f":"IFERROR($E56*SUMIF('Daily Log'!$BS$18:$BS$1017,$B56,'Daily Log'!$BT$18:$BT$1017),0)","v":0},{"$f":"IFERROR($E56*SUMIF('Daily Log'!$BV$18:$BV$1017,$B56,'Daily Log'!$BW$18:$BW$1017),0)","v":0},{"$f":"IFERROR($E56*SUMIF('Daily Log'!$BY$18:$BY$1017,$B56,'Daily Log'!$BZ$18:$BZ$1017),0)","v":0},{"$f":"IFERROR($E56*SUMIF('Daily Log'!$CB$18:$CB$1017,$B56,'Daily Log'!$CC$18:$CC$1017),0)","v":0},{"$f":"IFERROR($E56*SUMIF('Daily Log'!$CE$18:$CE$1017,$B56,'Daily Log'!$CF$18:$CF$1017),0)","v":0},{"$f":"IFERROR($E56*SUMIF('Daily Log'!$CH$18:$CH$1017,$B56,'Daily Log'!$CI$18:$CI$1017),0)","v":0},{"$f":"IFERROR($E56*SUMIF('Daily Log'!$CK$18:$CK$1017,$B56,'Daily Log'!$CL$18:$CL$1017),0)","v":0},{"$f":"IFERROR($E56*SUMIF('Daily Log'!$CN$18:$CN$1017,$B56,'Daily Log'!$CO$18:$CO$1017),0)","v":41}]
[null,"AF01 91201:SFD STICK",null,"KLKD",1,4,{"$f":"IFERROR($E57*SUMIF('Daily Log'!$B$18:$B$1017,$B57,'Daily Log'!$C$18:$C$1017),0)","v":0},{"$f":"IFERROR($E57*SUMIF('Daily Log'!$E$18:$E$1017,$B57,'Daily Log'!$F$18:$F$1017),0)","v":0},{"$f":"IFERROR($E57*SUMIF('Daily Log'!$H$18:$H$1017,$B57,'Daily Log'!$I$18:$I$1017),0)","v":0},{"$f":"IFERROR($E57*SUMIF('Daily Log'!$K$18:$K$1017,$B57,'Daily Log'!$L$18:$L$1017),0)","v":0},{"$f":"IFERROR($E57*SUMIF('Daily Log'!$N$18:$N$1017,$B57,'Daily Log'!$O$18:$O$1017),0)","v":0},{"$f":"IFERROR($E57*SUMIF('Daily Log'!$Q$18:$Q$1017,$B57,'Daily Log'!$R$18:$R$1017),0)","v":0},{"$f":"IFERROR($E57*SUMIF('Daily Log'!$T$18:$T$1017,$B57,'Daily Log'!$U$18:$U$1017),0)","v":0},{"$f":"IFERROR($E57*SUMIF('Daily Log'!$W$18:$W$1017,$B57,'Daily Log'!$X$18:$X$1017),0)","v":0},{"$f":"IFERROR($E57*SUMIF('Daily Log'!$Z$18:$Z$1017,$B57,'Daily Log'!$AA$18:$AA$1017),0)","v":0},{"$f":"IFERROR($E57*SUMIF('Daily Log'!$AC$18:$AC$1017,$B57,'Daily Log'!$AD$18:$AD$1017),0)","v":0},{"$f":"IFERROR($E57*SUMIF('Daily Log'!$AF$18:$AF$1017,$B57,'Daily Log'!$AG$18:$AG$1017),0)","v":0},{"$f":"IFERROR($E57*SUMIF('Daily Log'!$AI$18:$AI$1017,$B57,'Daily Log'!$AJ$18:$AJ$1017),0)","v":0},{"$f":"IFERROR($E57*SUMIF('Daily Log'!$AL$18:$AL$1017,$B57,'Daily Log'!$AM$18:$AM$1017),0)","v":0},{"$f":"IFERROR($E57*SUMIF('Daily Log'!$AO$18:$AO$1017,$B57,'Daily Log'!$AP$18:$AP$1017),0)","v":0},{"$f":"IFERROR($E57*SUMIF('Daily Log'!$AR$18:$AR$1017,$B57,'Daily Log'!$AS$18:$AS$1017),0)","v":0},{"$f":"IFERROR($E57*SUMIF('Daily Log'!$AU$18:$AU$1017,$B57,'Daily Log'!$AV$18:$AV$1017),0)","v":0},{"$f":"IFERROR($E57*SUMIF('Daily Log'!$AX$18:$AX$1017,$B57,'Daily Log'!$AY$18:$AY$1017),0)","v":0},{"$f":"IFERROR($E57*SUMIF('Daily Log'!$BA$18:$BA$1017,$B57,'Daily Log'!$BB$18:$BB$1017),0)","v":0},{"$f":"IFERROR($E57*SUMIF('Daily Log'!$BD$18:$BD$1017,$B57,'Daily Log'!$BE$18:$BE$1017),0)","v":0},{"$f":"IFERROR($E57*SUMIF('Daily Log'!$BG$18:$BG$1017,$B57,'Daily Log'!$BH$18:$BH$1017),0)","v":0},{"$f":"IFERROR($E57*SUMIF('Daily Log'!$BJ$18:$BJ$1017,$B57,'Daily Log'!$BK$18:$BK$1017),0)","v":0},{"$f":"IFERROR($E57*SUMIF('Daily Log'!$BM$18:$BM$1017,$B57,'Daily Log'!$BN$18:$BN$1017),0)","v":0},{"$f":"IFERROR($E57*SUMIF('Daily Log'!$BP$18:$BP$1017,$B57,'Daily Log'!$BQ$18:$BQ$1017),0)","v":0},{"$f":"IFERROR($E57*SUMIF('Daily Log'!$BS$18:$BS$1017,$B57,'Daily Log'!$BT$18:$BT$1017),0)","v":0},{"$f":"IFERROR($E57*SUMIF('Daily Log'!$BV$18:$BV$1017,$B57,'Daily Log'!$BW$18:$BW$1017),0)","v":0},{"$f":"IFERROR($E57*SUMIF('Daily Log'!$BY$18:$BY$1017,$B57,'Daily Log'!$BZ$18:$BZ$1017),0)","v":0},{"$f":"IFERROR($E57*SUMIF('Daily Log'!$CB$18:$CB$1017,$B57,'Daily Log'!$CC$18:$CC$1017),0)","v":0},{"$f":"IFERROR($E57*SUMIF('Daily Log'!$CE$18:$CE$1017,$B57,'Daily Log'!$CF$18:$CF$1017),0)","v":0},{"$f":"IFERROR($E57*SUMIF('Daily Log'!$CH$18:$CH$1017,$B57,'Daily Log'!$CI$18:$CI$1017),0)","v":0},{"$f":"IFERROR($E57*SUMIF('Daily Log'!$CK$18:$CK$1017,$B57,'Daily Log'!$CL$18:$CL$1017),0)","v":0},{"$f":"IFERROR($E57*SUMIF('Daily Log'!$CN$18:$CN$1017,$B57,'Daily Log'!$CO$18:$CO$1017),0)","v":4}]
[null,"AF02 91202:FREN FRIES",null,"KLKD",1,16,{"$f":"IFERROR($E58*SUMIF('Daily Log'!$B$18:$B$1017,$B58,'Daily Log'!$C$18:$C$1017),0)","v":0},{"$f":"IFERROR($E58*SUMIF('Daily Log'!$E$18:$E$1017,$B58,'Daily Log'!$F$18:$F$1017),0)","v":0},{"$f":"IFERROR($E58*SUMIF('Daily Log'!$H$18:$H$1017,$B58,'Daily Log'!$I$18:$I$1017),0)","v":0},{"$f":"IFERROR($E58*SUMIF('Daily Log'!$K$18:$K$1017,$B58,'Daily Log'!$L$18:$L$1017),0)","v":0},{"$f":"IFERROR($E58*SUMIF('Daily Log'!$N$18:$N$1017,$B58,'Daily Log'!$O$18:$O$1017),0)","v":0},{"$f":"IFERROR($E58*SUMIF('Daily Log'!$Q$18:$Q$1017,$B58,'Daily Log'!$R$18:$R$1017),0)","v":0},{"$f":"IFERROR($E58*SUMIF('Daily Log'!$T$18:$T$1017,$B58,'Daily Log'!$U$18:$U$1017),0)","v":0},{"$f":"IFERROR($E58*SUMIF('Daily Log'!$W$18:$W$1017,$B58,'Daily Log'!$X$18:$X$1017),0)","v":0},{"$f":"IFERROR($E58*SUMIF('Daily Log'!$Z$18:$Z$1017,$B58,'Daily Log'!$AA$18:$AA$1017),0)","v":0},{"$f":"IFERROR($E58*SUMIF('Daily Log'!$AC$18:$AC$1017,$B58,'Daily Log'!$AD$18:$AD$1017),0)","v":0},{"$f":"IFERROR($E58*SUMIF('Daily Log'!$AF$18:$AF$1017,$B58,'Daily Log'!$AG$18:$AG$1017),0)","v":0},{"$f":"IFERROR($E58*SUMIF('Daily Log'!$AI$18:$AI$1017,$B58,'Daily Log'!$AJ$18:$AJ$1017),0)","v":0},{"$f":"IFERROR($E58*SUMIF('Daily Log'!$AL$18:$AL$1017,$B58,'Daily Log'!$AM$18:$AM$1017),0)","v":0},{"$f":"IFERROR($E58*SUMIF('Daily Log'!$AO$18:$AO$1017,$B58,'Daily Log'!$AP$18:$AP$1017),0)","v":0},{"$f":"IFERROR($E58*SUMIF('Daily Log'!$AR$18:$AR$1017,$B58,'Daily Log'!$AS$18:$AS$1017),0)","v":0},{"$f":"IFERROR($E58*SUMIF('Daily Log'!$AU$18:$AU$1017,$B58,'Daily Log'!$AV$18:$AV$1017),0)","v":0},{"$f":"IFERROR($E58*SUMIF('Daily Log'!$AX$18:$AX$1017,$B58,'Daily Log'!$AY$18:$AY$1017),0)","v":0},{"$f":"IFERROR($E58*SUMIF('Daily Log'!$BA$18:$BA$1017,$B58,'Daily Log'!$BB$18:$BB$1017),0)","v":0},{"$f":"IFERROR($E58*SUMIF('Daily Log'!$BD$18:$BD$1017,$B58,'Daily Log'!$BE$18:$BE$1017),0)","v":0},{"$f":"IFERROR($E58*SUMIF('Daily Log'!$BG$18:$BG$1017,$B58,'Daily Log'!$BH$18:$BH$1017),0)","v":0},{"$f":"IFERROR($E58*SUMIF('Daily Log'!$BJ$18:$BJ$1017,$B58,'Daily Log'!$BK$18:$BK$1017),0)","v":0},{"$f":"IFERROR($E58*SUMIF('Daily Log'!$BM$18:$BM$1017,$B58,'Daily Log'!$BN$18:$BN$1017),0)","v":0},{"$f":"IFERROR($E58*SUMIF('Daily Log'!$BP$18:$BP$1017,$B58,'Daily Log'!$BQ$18:$BQ$1017),0)","v":0},{"$f":"IFERROR($E58*SUMIF('Daily Log'!$BS$18:$BS$1017,$B58,'Daily Log'!$BT$18:$BT$1017),0)","v":0},{"$f":"IFERROR($E58*SUMIF('Daily Log'!$BV$18:$BV$1017,$B58,'Daily Log'!$BW$18:$BW$1017),0)","v":0},{"$f":"IFERROR($E58*SUMIF('Daily Log'!$BY$18:$BY$1017,$B58,'Daily Log'!$BZ$18:$BZ$1017),0)","v":0},{"$f":"IFERROR($E58*SUMIF('Daily Log'!$CB$18:$CB$1017,$B58,'Daily Log'!$CC$18:$CC$1017),0)","v":0},{"$f":"IFERROR($E58*SUMIF('Daily Log'!$CE$18:$CE$1017,$B58,'Daily Log'!$CF$18:$CF$1017),0)","v":0},{"$f":"IFERROR($E58*SUMIF('Daily Log'!$CH$18:$CH$1017,$B58,'Daily Log'!$CI$18:$CI$1017),0)","v":0},{"$f":"IFERROR($E58*SUMIF('Daily Log'!$CK$18:$CK$1017,$B58,'Daily Log'!$CL$18:$CL$1017),0)","v":0},{"$f":"IFERROR($E58*SUMIF('Daily Log'!$CN$18:$CN$1017,$B58,'Daily Log'!$CO$18:$CO$1017),0)","v":16}]
[null,"AF03 91203:GOLD MR",null,"KLKD",1,3,{"$f":"IFERROR($E59*SUMIF('Daily Log'!$B$18:$B$1017,$B59,'Daily Log'!$C$18:$C$1017),0)","v":0},{"$f":"IFERROR($E59*SUMIF('Daily Log'!$E$18:$E$1017,$B59,'Daily Log'!$F$18:$F$1017),0)","v":0},{"$f":"IFERROR($E59*SUMIF('Daily Log'!$H$18:$H$1017,$B59,'Daily Log'!$I$18:$I$1017),0)","v":0},{"$f":"IFERROR($E59*SUMIF('Daily Log'!$K$18:$K$1017,$B59,'Daily Log'!$L$18:$L$1017),0)","v":0},{"$f":"IFERROR($E59*SUMIF('Daily Log'!$N$18:$N$1017,$B59,'Daily Log'!$O$18:$O$1017),0)","v":0},{"$f":"IFERROR($E59*SUMIF('Daily Log'!$Q$18:$Q$1017,$B59,'Daily Log'!$R$18:$R$1017),0)","v":0},{"$f":"IFERROR($E59*SUMIF('Daily Log'!$T$18:$T$1017,$B59,'Daily Log'!$U$18:$U$1017),0)","v":0},{"$f":"IFERROR($E59*SUMIF('Daily Log'!$W$18:$W$1017,$B59,'Daily Log'!$X$18:$X$1017),0)","v":0},{"$f":"IFERROR($E59*SUMIF('Daily Log'!$Z$18:$Z$1017,$B59,'Daily Log'!$AA$18:$AA$1017),0)","v":0},{"$f":"IFERROR($E59*SUMIF('Daily Log'!$AC$18:$AC$1017,$B59,'Daily Log'!$AD$18:$AD$1017),0)","v":0},{"$f":"IFERROR($E59*SUMIF('Daily Log'!$AF$18:$AF$1017,$B59,'Daily Log'!$AG$18:$AG$1017),0)","v":0},{"$f":"IFERROR($E59*SUMIF('Daily Log'!$AI$18:$AI$1017,$B59,'Daily Log'!$AJ$18:$AJ$1017),0)","v":0},{"$f":"IFERROR($E59*SUMIF('Daily Log'!$AL$18:$AL$1017,$B59,'Daily Log'!$AM$18:$AM$1017),0)","v":0},{"$f":"IFERROR($E59*SUMIF('Daily Log'!$AO$18:$AO$1017,$B59,'Daily Log'!$AP$18:$AP$1017),0)","v":0},{"$f":"IFERROR($E59*SUMIF('Daily Log'!$AR$18:$AR$1017,$B59,'Daily Log'!$AS$18:$AS$1017),0)","v":0},{"$f":"IFERROR($E59*SUMIF('Daily Log'!$AU$18:$AU$1017,$B59,'Daily Log'!$AV$18:$AV$1017),0)","v":0},{"$f":"IFERROR($E59*SUMIF('Daily Log'!$AX$18:$AX$1017,$B59,'Daily Log'!$AY$18:$AY$1017),0)","v":0},{"$f":"IFERROR($E59*SUMIF('Daily Log'!$BA$18:$BA$1017,$B59,'Daily Log'!$BB$18:$BB$1017),0)","v":0},{"$f":"IFERROR($E59*SUMIF('Daily Log'!$BD$18:$BD$1017,$B59,'Daily Log'!$BE$18:$BE$1017),0)","v":0},{"$f":"IFERROR($E59*SUMIF('Daily Log'!$BG$18:$BG$1017,$B59,'Daily Log'!$BH$18:$BH$1017),0)","v":0},{"$f":"IFERROR($E59*SUMIF('Daily Log'!$BJ$18:$BJ$1017,$B59,'Daily Log'!$BK$18:$BK$1017),0)","v":0},{"$f":"IFERROR($E59*SUMIF('Daily Log'!$BM$18:$BM$1017,$B59,'Daily Log'!$BN$18:$BN$1017),0)","v":0},{"$f":"IFERROR($E59*SUMIF('Daily Log'!$BP$18:$BP$1017,$B59,'Daily Log'!$BQ$18:$BQ$1017),0)","v":0},{"$f":"IFERROR($E59*SUMIF('Daily Log'!$BS$18:$BS$1017,$B59,'Daily Log'!$BT$18:$BT$1017),0)","v":0},{"$f":"IFERROR($E59*SUMIF('Daily Log'!$BV$18:$BV$1017,$B59,'Daily Log'!$BW$18:$BW$1017),0)","v":0},{"$f":"IFERROR($E59*SUMIF('Daily Log'!$BY$18:$BY$1017,$B59,'Daily Log'!$BZ$18:$BZ$1017),0)","v":0},{"$f":"IFERROR($E59*SUMIF('Daily Log'!$CB$18:$CB$1017,$B59,'Daily Log'!$CC$18:$CC$1017),0)","v":0},{"$f":"IFERROR($E59*SUMIF('Daily Log'!$CE$18:$CE$1017,$B59,'Daily Log'!$CF$18:$CF$1017),0)","v":0},{"$f":"IFERROR($E59*SUMIF('Daily Log'!$CH$18:$CH$1017,$B59,'Daily Log'!$CI$18:$CI$1017),0)","v":0},{"$f":"IFERROR($E59*SUMIF('Daily Log'!$CK$18:$CK$1017,$B59,'Daily Log'!$CL$18:$CL$1017),0)","v":0},{"$f":"IFERROR($E59*SUMIF('Daily Log'!$CN$18:$CN$1017,$B59,'Daily Log'!$CO$18:$CO$1017),0)","v":3}]
[null,"AF04 91204:FSH BALL",null,"KLKD",1,3,{"$f":"IFERROR($E60*SUMIF('Daily Log'!$B$18:$B$1017,$B60,'Daily Log'!$C$18:$C$1017),0)","v":0},{"$f":"IFERROR($E60*SUMIF('Daily Log'!$E$18:$E$1017,$B60,'Daily Log'!$F$18:$F$1017),0)","v":0},{"$f":"IFERROR($E60*SUMIF('Daily Log'!$H$18:$H$1017,$B60,'Daily Log'!$I$18:$I$1017),0)","v":0},{"$f":"IFERROR($E60*SUMIF('Daily Log'!$K$18:$K$1017,$B60,'Daily Log'!$L$18:$L$1017),0)","v":0},{"$f":"IFERROR($E60*SUMIF('Daily Log'!$N$18:$N$1017,$B60,'Daily Log'!$O$18:$O$1017),0)","v":0},{"$f":"IFERROR($E60*SUMIF('Daily Log'!$Q$18:$Q$1017,$B60,'Daily Log'!$R$18:$R$1017),0)","v":0},{"$f":"IFERROR($E60*SUMIF('Daily Log'!$T$18:$T$1017,$B60,'Daily Log'!$U$18:$U$1017),0)","v":0},{"$f":"IFERROR($E60*SUMIF('Daily Log'!$W$18:$W$1017,$B60,'Daily Log'!$X$18:$X$1017),0)","v":0},{"$f":"IFERROR($E60*SUMIF('Daily Log'!$Z$18:$Z$1017,$B60,'Daily Log'!$AA$18:$AA$1017),0)","v":0},{"$f":"IFERROR($E60*SUMIF('Daily Log'!$AC$18:$AC$1017,$B60,'Daily Log'!$AD$18:$AD$1017),0)","v":0},{"$f":"IFERROR($E60*SUMIF('Daily Log'!$AF$18:$AF$1017,$B60,'Daily Log'!$AG$18:$AG$1017),0)","v":0},{"$f":"IFERROR($E60*SUMIF('Daily Log'!$AI$18:$AI$1017,$B60,'Daily Log'!$AJ$18:$AJ$1017),0)","v":0},{"$f":"IFERROR($E60*SUMIF('Daily Log'!$AL$18:$AL$1017,$B60,'Daily Log'!$AM$18:$AM$1017),0)","v":0},{"$f":"IFERROR($E60*SUMIF('Daily Log'!$AO$18:$AO$1017,$B60,'Daily Log'!$AP$18:$AP$1017),0)","v":0},{"$f":"IFERROR($E60*SUMIF('Daily Log'!$AR$18:$AR$1017,$B60,'Daily Log'!$AS$18:$AS$1017),0)","v":0},{"$f":"IFERROR($E60*SUMIF('Daily Log'!$AU$18:$AU$1017,$B60,'Daily Log'!$AV$18:$AV$1017),0)","v":0},{"$f":"IFERROR($E60*SUMIF('Daily Log'!$AX$18:$AX$1017,$B60,'Daily Log'!$AY$18:$AY$1017),0)","v":0},{"$f":"IFERROR($E60*SUMIF('Daily Log'!$BA$18:$BA$1017,$B60,'Daily Log'!$BB$18:$BB$1017),0)","v":0},{"$f":"IFERROR($E60*SUMIF('Daily Log'!$BD$18:$BD$1017,$B60,'Daily Log'!$BE$18:$BE$1017),0)","v":0},{"$f":"IFERROR($E60*SUMIF('Daily Log'!$BG$18:$BG$1017,$B60,'Daily Log'!$BH$18:$BH$1017),0)","v":0},{"$f":"IFERROR($E60*SUMIF('Daily Log'!$BJ$18:$BJ$1017,$B60,'Daily Log'!$BK$18:$BK$1017),0)","v":0},{"$f":"IFERROR($E60*SUMIF('Daily Log'!$BM$18:$BM$1017,$B60,'Daily Log'!$BN$18:$BN$1017),0)","v":0},{"$f":"IFERROR($E60*SUMIF('Daily Log'!$BP$18:$BP$1017,$B60,'Daily Log'!$BQ$18:$BQ$1017),0)","v":0},{"$f":"IFERROR($E60*SUMIF('Daily Log'!$BS$18:$BS$1017,$B60,'Daily Log'!$BT$18:$BT$1017),0)","v":0},{"$f":"IFERROR($E60*SUMIF('Daily Log'!$BV$18:$BV$1017,$B60,'Daily Log'!$BW$18:$BW$1017),0)","v":0},{"$f":"IFERROR($E60*SUMIF('Daily Log'!$BY$18:$BY$1017,$B60,'Daily Log'!$BZ$18:$BZ$1017),0)","v":0},{"$f":"IFERROR($E60*SUMIF('Daily Log'!$CB$18:$CB$1017,$B60,'Daily Log'!$CC$18:$CC$1017),0)","v":0},{"$f":"IFERROR($E60*SUMIF('Daily Log'!$CE$18:$CE$1017,$B60,'Daily Log'!$CF$18:$CF$1017),0)","v":0},{"$f":"IFERROR($E60*SUMIF('Daily Log'!$CH$18:$CH$1017,$B60,'Daily Log'!$CI$18:$CI$1017),0)","v":0},{"$f":"IFERROR($E60*SUMIF('Daily Log'!$CK$18:$CK$1017,$B60,'Daily Log'!$CL$18:$CL$1017),0)","v":0},{"$f":"IFERROR($E60*SUMIF('Daily Log'!$CN$18:$CN$1017,$B60,'Daily Log'!$CO$18:$CO$1017),0)","v":3}]
[null,"AF05 91205:RAINBOW RL",null,"KLKD",1,0,{"$f":"IFERROR($E61*SUMIF('Daily Log'!$B$18:$B$1017,$B61,'Daily Log'!$C$18:$C$1017),0)","v":0},{"$f":"IFERROR($E61*SUMIF('Daily Log'!$E$18:$E$1017,$B61,'Daily Log'!$F$18:$F$1017),0)","v":0},{"$f":"IFERROR($E61*SUMIF('Daily Log'!$H$18:$H$1017,$B61,'Daily Log'!$I$18:$I$1017),0)","v":0},{"$f":"IFERROR($E61*SUMIF('Daily Log'!$K$18:$K$1017,$B61,'Daily Log'!$L$18:$L$1017),0)","v":0},{"$f":"IFERROR($E61*SUMIF('Daily Log'!$N$18:$N$1017,$B61,'Daily Log'!$O$18:$O$1017),0)","v":0},{"$f":"IFERROR($E61*SUMIF('Daily Log'!$Q$18:$Q$1017,$B61,'Daily Log'!$R$18:$R$1017),0)","v":0},{"$f":"IFERROR($E61*SUMIF('Daily Log'!$T$18:$T$1017,$B61,'Daily Log'!$U$18:$U$1017),0)","v":0},{"$f":"IFERROR($E61*SUMIF('Daily Log'!$W$18:$W$1017,$B61,'Daily Log'!$X$18:$X$1017),0)","v":0},{"$f":"IFERROR($E61*SUMIF('Daily Log'!$Z$18:$Z$1017,$B61,'Daily Log'!$AA$18:$AA$1017),0)","v":0},{"$f":"IFERROR($E61*SUMIF('Daily Log'!$AC$18:$AC$1017,$B61,'Daily Log'!$AD$18:$AD$1017),0)","v":0},{"$f":"IFERROR($E61*SUMIF('Daily Log'!$AF$18:$AF$1017,$B61,'Daily Log'!$AG$18:$AG$1017),0)","v":0},{"$f":"IFERROR($E61*SUMIF('Daily Log'!$AI$18:$AI$1017,$B61,'Daily Log'!$AJ$18:$AJ$1017),0)","v":0},{"$f":"IFERROR($E61*SUMIF('Daily Log'!$AL$18:$AL$1017,$B61,'Daily Log'!$AM$18:$AM$1017),0)","v":0},{"$f":"IFERROR($E61*SUMIF('Daily Log'!$AO$18:$AO$1017,$B61,'Daily Log'!$AP$18:$AP$1017),0)","v":0},{"$f":"IFERROR($E61*SUMIF('Daily Log'!$AR$18:$AR$1017,$B61,'Daily Log'!$AS$18:$AS$1017),0)","v":0},{"$f":"IFERROR($E61*SUMIF('Daily Log'!$AU$18:$AU$1017,$B61,'Daily Log'!$AV$18:$AV$1017),0)","v":0},{"$f":"IFERROR($E61*SUMIF('Daily Log'!$AX$18:$AX$1017,$B61,'Daily Log'!$AY$18:$AY$1017),0)","v":0},{"$f":"IFERROR($E61*SUMIF('Daily Log'!$BA$18:$BA$1017,$B61,'Daily Log'!$BB$18:$BB$1017),0)","v":0},{"$f":"IFERROR($E61*SUMIF('Daily Log'!$BD$18:$BD$1017,$B61,'Daily Log'!$BE$18:$BE$1017),0)","v":0},{"$f":"IFERROR($E61*SUMIF('Daily Log'!$BG$18:$BG$1017,$B61,'Daily Log'!$BH$18:$BH$1017),0)","v":0},{"$f":"IFERROR($E61*SUMIF('Daily Log'!$BJ$18:$BJ$1017,$B61,'Daily Log'!$BK$18:$BK$1017),0)","v":0},{"$f":"IFERROR($E61*SUMIF('Daily Log'!$BM$18:$BM$1017,$B61,'Daily Log'!$BN$18:$BN$1017),0)","v":0},{"$f":"IFERROR($E61*SUMIF('Daily Log'!$BP$18:$BP$1017,$B61,'Daily Log'!$BQ$18:$BQ$1017),0)","v":0},{"$f":"IFERROR($E61*SUMIF('Daily Log'!$BS$18:$BS$1017,$B61,'Daily Log'!$BT$18:$BT$1017),0)","v":0},{"$f":"IFERROR($E61*SUMIF('Daily Log'!$BV$18:$BV$1017,$B61,'Daily Log'!$BW$18:$BW$1017),0)","v":0},{"$f":"IFERROR($E61*SUMIF('Daily Log'!$BY$18:$BY$1017,$B61,'Daily Log'!$BZ$18:$BZ$1017),0)","v":0},{"$f":"IFERROR($E61*SUMIF('Daily Log'!$CB$18:$CB$1017,$B61,'Daily Log'!$CC$18:$CC$1017),0)","v":0},{"$f":"IFERROR($E61*SUMIF('Daily Log'!$CE$18:$CE$1017,$B61,'Daily Log'!$CF$18:$CF$1017),0)","v":0},{"$f":"IFERROR($E61*SUMIF('Daily Log'!$CH$18:$CH$1017,$B61,'Daily Log'!$CI$18:$CI$1017),0)","v":0},{"$f":"IFERROR($E61*SUMIF('Daily Log'!$CK$18:$CK$1017,$B61,'Daily Log'!$CL$18:$CL$1017),0)","v":0},{"$f":"IFERROR($E61*SUMIF('Daily Log'!$CN$18:$CN$1017,$B61,'Daily Log'!$CO$18:$CO$1017),0)","v":0}]
[null,"AF06 91206:SPRING RL",null,"KLKD",1,6,{"$f":"IFERROR($E62*SUMIF('Daily Log'!$B$18:$B$1017,$B62,'Daily Log'!$C$18:$C$1017),0)","v":0},{"$f":"IFERROR($E62*SUMIF('Daily Log'!$E$18:$E$1017,$B62,'Daily Log'!$F$18:$F$1017),0)","v":0},{"$f":"IFERROR($E62*SUMIF('Daily Log'!$H$18:$H$1017,$B62,'Daily Log'!$I$18:$I$1017),0)","v":0},{"$f":"IFERROR($E62*SUMIF('Daily Log'!$K$18:$K$1017,$B62,'Daily Log'!$L$18:$L$1017),0)","v":0},{"$f":"IFERROR($E62*SUMIF('Daily Log'!$N$18:$N$1017,$B62,'Daily Log'!$O$18:$O$1017),0)","v":0},{"$f":"IFERROR($E62*SUMIF('Daily Log'!$Q$18:$Q$1017,$B62,'Daily Log'!$R$18:$R$1017),0)","v":0},{"$f":"IFERROR($E62*SUMIF('Daily Log'!$T$18:$T$1017,$B62,'Daily Log'!$U$18:$U$1017),0)","v":0},{"$f":"IFERROR($E62*SUMIF('Daily Log'!$W$18:$W$1017,$B62,'Daily Log'!$X$18:$X$1017),0)","v":0},{"$f":"IFERROR($E62*SUMIF('Daily Log'!$Z$18:$Z$1017,$B62,'Daily Log'!$AA$18:$AA$1017),0)","v":0},{"$f":"IFERROR($E62*SUMIF('Daily Log'!$AC$18:$AC$1017,$B62,'Daily Log'!$AD$18:$AD$1017),0)","v":0},{"$f":"IFERROR($E62*SUMIF('Daily Log'!$AF$18:$AF$1017,$B62,'Daily Log'!$AG$18:$AG$1017),0)","v":0},{"$f":"IFERROR($E62*SUMIF('Daily Log'!$AI$18:$AI$1017,$B62,'Daily Log'!$AJ$18:$AJ$1017),0)","v":0},{"$f":"IFERROR($E62*SUMIF('Daily Log'!$AL$18:$AL$1017,$B62,'Daily Log'!$AM$18:$AM$1017),0)","v":0},{"$f":"IFERROR($E62*SUMIF('Daily Log'!$AO$18:$AO$1017,$B62,'Daily Log'!$AP$18:$AP$1017),0)","v":0},{"$f":"IFERROR($E62*SUMIF('Daily Log'!$AR$18:$AR$1017,$B62,'Daily Log'!$AS$18:$AS$1017),0)","v":0},{"$f":"IFERROR($E62*SUMIF('Daily Log'!$AU$18:$AU$1017,$B62,'Daily Log'!$AV$18:$AV$1017),0)","v":0},{"$f":"IFERROR($E62*SUMIF('Daily Log'!$AX$18:$AX$1017,$B62,'Daily Log'!$AY$18:$AY$1017),0)","v":0},{"$f":"IFERROR($E62*SUMIF('Daily Log'!$BA$18:$BA$1017,$B62,'Daily Log'!$BB$18:$BB$1017),0)","v":0},{"$f":"IFERROR($E62*SUMIF('Daily Log'!$BD$18:$BD$1017,$B62,'Daily Log'!$BE$18:$BE$1017),0)","v":0},{"$f":"IFERROR($E62*SUMIF('Daily Log'!$BG$18:$BG$1017,$B62,'Daily Log'!$BH$18:$BH$1017),0)","v":0},{"$f":"IFERROR($E62*SUMIF('Daily Log'!$BJ$18:$BJ$1017,$B62,'Daily Log'!$BK$18:$BK$1017),0)","v":0},{"$f":"IFERROR($E62*SUMIF('Daily Log'!$BM$18:$BM$1017,$B62,'Daily Log'!$BN$18:$BN$1017),0)","v":0},{"$f":"IFERROR($E62*SUMIF('Daily Log'!$BP$18:$BP$1017,$B62,'Daily Log'!$BQ$18:$BQ$1017),0)","v":0},{"$f":"IFERROR($E62*SUMIF('Daily Log'!$BS$18:$BS$1017,$B62,'Daily Log'!$BT$18:$BT$1017),0)","v":0},{"$f":"IFERROR($E62*SUMIF('Daily Log'!$BV$18:$BV$1017,$B62,'Daily Log'!$BW$18:$BW$1017),0)","v":0},{"$f":"IFERROR($E62*SUMIF('Daily Log'!$BY$18:$BY$1017,$B62,'Daily Log'!$BZ$18:$BZ$1017),0)","v":0},{"$f":"IFERROR($E62*SUMIF('Daily Log'!$CB$18:$CB$1017,$B62,'Daily Log'!$CC$18:$CC$1017),0)","v":0},{"$f":"IFERROR($E62*SUMIF('Daily Log'!$CE$18:$CE$1017,$B62,'Daily Log'!$CF$18:$CF$1017),0)","v":0},{"$f":"IFERROR($E62*SUMIF('Daily Log'!$CH$18:$CH$1017,$B62,'Daily Log'!$CI$18:$CI$1017),0)","v":0},{"$f":"IFERROR($E62*SUMIF('Daily Log'!$CK$18:$CK$1017,$B62,'Daily Log'!$CL$18:$CL$1017),0)","v":0},{"$f":"IFERROR($E62*SUMIF('Daily Log'!$CN$18:$CN$1017,$B62,'Daily Log'!$CO$18:$CO$1017),0)","v":6}]
[null,"AF07 91207:SAUSG",null,"KLKD",1,6,{"$f":"IFERROR($E63*SUMIF('Daily Log'!$B$18:$B$1017,$B63,'Daily Log'!$C$18:$C$1017),0)","v":0},{"$f":"IFERROR($E63*SUMIF('Daily Log'!$E$18:$E$1017,$B63,'Daily Log'!$F$18:$F$1017),0)","v":0},{"$f":"IFERROR($E63*SUMIF('Daily Log'!$H$18:$H$1017,$B63,'Daily Log'!$I$18:$I$1017),0)","v":0},{"$f":"IFERROR($E63*SUMIF('Daily Log'!$K$18:$K$1017,$B63,'Daily Log'!$L$18:$L$1017),0)","v":0},{"$f":"IFERROR($E63*SUMIF('Daily Log'!$N$18:$N$1017,$B63,'Daily Log'!$O$18:$O$1017),0)","v":0},{"$f":"IFERROR($E63*SUMIF('Daily Log'!$Q$18:$Q$1017,$B63,'Daily Log'!$R$18:$R$1017),0)","v":0},{"$f":"IFERROR($E63*SUMIF('Daily Log'!$T$18:$T$1017,$B63,'Daily Log'!$U$18:$U$1017),0)","v":0},{"$f":"IFERROR($E63*SUMIF('Daily Log'!$W$18:$W$1017,$B63,'Daily Log'!$X$18:$X$1017),0)","v":0},{"$f":"IFERROR($E63*SUMIF('Daily Log'!$Z$18:$Z$1017,$B63,'Daily Log'!$AA$18:$AA$1017),0)","v":0},{"$f":"IFERROR($E63*SUMIF('Daily Log'!$AC$18:$AC$1017,$B63,'Daily Log'!$AD$18:$AD$1017),0)","v":0},{"$f":"IFERROR($E63*SUMIF('Daily Log'!$AF$18:$AF$1017,$B63,'Daily Log'!$AG$18:$AG$1017),0)","v":0},{"$f":"IFERROR($E63*SUMIF('Daily Log'!$AI$18:$AI$1017,$B63,'Daily Log'!$AJ$18:$AJ$1017),0)","v":0},{"$f":"IFERROR($E63*SUMIF('Daily Log'!$AL$18:$AL$1017,$B63,'Daily Log'!$AM$18:$AM$1017),0)","v":0},{"$f":"IFERROR($E63*SUMIF('Daily Log'!$AO$18:$AO$1017,$B63,'Daily Log'!$AP$18:$AP$1017),0)","v":0},{"$f":"IFERROR($E63*SUMIF('Daily Log'!$AR$18:$AR$1017,$B63,'Daily Log'!$AS$18:$AS$1017),0)","v":0},{"$f":"IFERROR($E63*SUMIF('Daily Log'!$AU$18:$AU$1017,$B63,'Daily Log'!$AV$18:$AV$1017),0)","v":0},{"$f":"IFERROR($E63*SUMIF('Daily Log'!$AX$18:$AX$1017,$B63,'Daily Log'!$AY$18:$AY$1017),0)","v":0},{"$f":"IFERROR($E63*SUMIF('Daily Log'!$BA$18:$BA$1017,$B63,'Daily Log'!$BB$18:$BB$1017),0)","v":0},{"$f":"IFERROR($E63*SUMIF('Daily Log'!$BD$18:$BD$1017,$B63,'Daily Log'!$BE$18:$BE$1017),0)","v":0},{"$f":"IFERROR($E63*SUMIF('Daily Log'!$BG$18:$BG$1017,$B63,'Daily Log'!$BH$18:$BH$1017),0)","v":0},{"$f":"IFERROR($E63*SUMIF('Daily Log'!$BJ$18:$BJ$1017,$B63,'Daily Log'!$BK$18:$BK$1017),0)","v":0},{"$f":"IFERROR($E63*SUMIF('Daily Log'!$BM$18:$BM$1017,$B63,'Daily Log'!$BN$18:$BN$1017),0)","v":0},{"$f":"IFERROR($E63*SUMIF('Daily Log'!$BP$18:$BP$1017,$B63,'Daily Log'!$BQ$18:$BQ$1017),0)","v":0},{"$f":"IFERROR($E63*SUMIF('Daily Log'!$BS$18:$BS$1017,$B63,'Daily Log'!$BT$18:$BT$1017),0)","v":0},{"$f":"IFERROR($E63*SUMIF('Daily Log'!$BV$18:$BV$1017,$B63,'Daily Log'!$BW$18:$BW$1017),0)","v":0},{"$f":"IFERROR($E63*SUMIF('Daily Log'!$BY$18:$BY$1017,$B63,'Daily Log'!$BZ$18:$BZ$1017),0)","v":0},{"$f":"IFERROR($E63*SUMIF('Daily Log'!$CB$18:$CB$1017,$B63,'Daily Log'!$CC$18:$CC$1017),0)","v":0},{"$f":"IFERROR($E63*SUMIF('Daily Log'!$CE$18:$CE$1017,$B63,'Daily Log'!$CF$18:$CF$1017),0)","v":0},{"$f":"IFERROR($E63*SUMIF('Daily Log'!$CH$18:$CH$1017,$B63,'Daily Log'!$CI$18:$CI$1017),0)","v":0},{"$f":"IFERROR($E63*SUMIF('Daily Log'!$CK$18:$CK$1017,$B63,'Daily Log'!$CL$18:$CL$1017),0)","v":0},{"$f":"IFERROR($E63*SUMIF('Daily Log'!$CN$18:$CN$1017,$B63,'Daily Log'!$CO$18:$CO$1017),0)","v":6}]
[null,"AF08 91208:HOTDOG BUN",null,"KLKD",1,0,{"$f":"IFERROR($E64*SUMIF('Daily Log'!$B$18:$B$1017,$B64,'Daily Log'!$C$18:$C$1017),0)","v":0},{"$f":"IFERROR($E64*SUMIF('Daily Log'!$E$18:$E$1017,$B64,'Daily Log'!$F$18:$F$1017),0)","v":0},{"$f":"IFERROR($E64*SUMIF('Daily Log'!$H$18:$H$1017,$B64,'Daily Log'!$I$18:$I$1017),0)","v":0},{"$f":"IFERROR($E64*SUMIF('Daily Log'!$K$18:$K$1017,$B64,'Daily Log'!$L$18:$L$1017),0)","v":0},{"$f":"IFERROR($E64*SUMIF('Daily Log'!$N$18:$N$1017,$B64,'Daily Log'!$O$18:$O$1017),0)","v":0},{"$f":"IFERROR($E64*SUMIF('Daily Log'!$Q$18:$Q$1017,$B64,'Daily Log'!$R$18:$R$1017),0)","v":0},{"$f":"IFERROR($E64*SUMIF('Daily Log'!$T$18:$T$1017,$B64,'Daily Log'!$U$18:$U$1017),0)","v":0},{"$f":"IFERROR($E64*SUMIF('Daily Log'!$W$18:$W$1017,$B64,'Daily Log'!$X$18:$X$1017),0)","v":0},{"$f":"IFERROR($E64*SUMIF('Daily Log'!$Z$18:$Z$1017,$B64,'Daily Log'!$AA$18:$AA$1017),0)","v":0},{"$f":"IFERROR($E64*SUMIF('Daily Log'!$AC$18:$AC$1017,$B64,'Daily Log'!$AD$18:$AD$1017),0)","v":0},{"$f":"IFERROR($E64*SUMIF('Daily Log'!$AF$18:$AF$1017,$B64,'Daily Log'!$AG$18:$AG$1017),0)","v":0},{"$f":"IFERROR($E64*SUMIF('Daily Log'!$AI$18:$AI$1017,$B64,'Daily Log'!$AJ$18:$AJ$1017),0)","v":0},{"$f":"IFERROR($E64*SUMIF('Daily Log'!$AL$18:$AL$1017,$B64,'Daily Log'!$AM$18:$AM$1017),0)","v":0},{"$f":"IFERROR($E64*SUMIF('Daily Log'!$AO$18:$AO$1017,$B64,'Daily Log'!$AP$18:$AP$1017),0)","v":0},{"$f":"IFERROR($E64*SUMIF('Daily Log'!$AR$18:$AR$1017,$B64,'Daily Log'!$AS$18:$AS$1017),0)","v":0},{"$f":"IFERROR($E64*SUMIF('Daily Log'!$AU$18:$AU$1017,$B64,'Daily Log'!$AV$18:$AV$1017),0)","v":0},{"$f":"IFERROR($E64*SUMIF('Daily Log'!$AX$18:$AX$1017,$B64,'Daily Log'!$AY$18:$AY$1017),0)","v":0},{"$f":"IFERROR($E64*SUMIF('Daily Log'!$BA$18:$BA$1017,$B64,'Daily Log'!$BB$18:$BB$1017),0)","v":0},{"$f":"IFERROR($E64*SUMIF('Daily Log'!$BD$18:$BD$1017,$B64,'Daily Log'!$BE$18:$BE$1017),0)","v":0},{"$f":"IFERROR($E64*SUMIF('Daily Log'!$BG$18:$BG$1017,$B64,'Daily Log'!$BH$18:$BH$1017),0)","v":0},{"$f":"IFERROR($E64*SUMIF('Daily Log'!$BJ$18:$BJ$1017,$B64,'Daily Log'!$BK$18:$BK$1017),0)","v":0},{"$f":"IFERROR($E64*SUMIF('Daily Log'!$BM$18:$BM$1017,$B64,'Daily Log'!$BN$18:$BN$1017),0)","v":0},{"$f":"IFERROR($E64*SUMIF('Daily Log'!$BP$18:$BP$1017,$B64,'Daily Log'!$BQ$18:$BQ$1017),0)","v":0},{"$f":"IFERROR($E64*SUMIF('Daily Log'!$BS$18:$BS$1017,$B64,'Daily Log'!$BT$18:$BT$1017),0)","v":0},{"$f":"IFERROR($E64*SUMIF('Daily Log'!$BV$18:$BV$1017,$B64,'Daily Log'!$BW$18:$BW$1017),0)","v":0},{"$f":"IFERROR($E64*SUMIF('Daily Log'!$BY$18:$BY$1017,$B64,'Daily Log'!$BZ$18:$BZ$1017),0)","v":0},{"$f":"IFERROR($E64*SUMIF('Daily Log'!$CB$18:$CB$1017,$B64,'Daily Log'!$CC$18:$CC$1017),0)","v":0},{"$f":"IFERROR($E64*SUMIF('Daily Log'!$CE$18:$CE$1017,$B64,'Daily Log'!$CF$18:$CF$1017),0)","v":0},{"$f":"IFERROR($E64*SUMIF('Daily Log'!$CH$18:$CH$1017,$B64,'Daily Log'!$CI$18:$CI$1017),0)","v":0},{"$f":"IFERROR($E64*SUMIF('Daily Log'!$CK$18:$CK$1017,$B64,'Daily Log'!$CL$18:$CL$1017),0)","v":0},{"$f":"IFERROR($E64*SUMIF('Daily Log'!$CN$18:$CN$1017,$B64,'Daily Log'!$CO$18:$CO$1017),0)","v":0}]
[null,"AF09 91209:SF TF",null,"KLKD",1,0,{"$f":"IFERROR($E65*SUMIF('Daily Log'!$B$18:$B$1017,$B65,'Daily Log'!$C$18:$C$1017),0)","v":0},{"$f":"IFERROR($E65*SUMIF('Daily Log'!$E$18:$E$1017,$B65,'Daily Log'!$F$18:$F$1017),0)","v":0},{"$f":"IFERROR($E65*SUMIF('Daily Log'!$H$18:$H$1017,$B65,'Daily Log'!$I$18:$I$1017),0)","v":0},{"$f":"IFERROR($E65*SUMIF('Daily Log'!$K$18:$K$1017,$B65,'Daily Log'!$L$18:$L$1017),0)","v":0},{"$f":"IFERROR($E65*SUMIF('Daily Log'!$N$18:$N$1017,$B65,'Daily Log'!$O$18:$O$1017),0)","v":0},{"$f":"IFERROR($E65*SUMIF('Daily Log'!$Q$18:$Q$1017,$B65,'Daily Log'!$R$18:$R$1017),0)","v":0},{"$f":"IFERROR($E65*SUMIF('Daily Log'!$T$18:$T$1017,$B65,'Daily Log'!$U$18:$U$1017),0)","v":0},{"$f":"IFERROR($E65*SUMIF('Daily Log'!$W$18:$W$1017,$B65,'Daily Log'!$X$18:$X$1017),0)","v":0},{"$f":"IFERROR($E65*SUMIF('Daily Log'!$Z$18:$Z$1017,$B65,'Daily Log'!$AA$18:$AA$1017),0)","v":0},{"$f":"IFERROR($E65*SUMIF('Daily Log'!$AC$18:$AC$1017,$B65,'Daily Log'!$AD$18:$AD$1017),0)","v":0},{"$f":"IFERROR($E65*SUMIF('Daily Log'!$AF$18:$AF$1017,$B65,'Daily Log'!$AG$18:$AG$1017),0)","v":0},{"$f":"IFERROR($E65*SUMIF('Daily Log'!$AI$18:$AI$1017,$B65,'Daily Log'!$AJ$18:$AJ$1017),0)","v":0},{"$f":"IFERROR($E65*SUMIF('Daily Log'!$AL$18:$AL$1017,$B65,'Daily Log'!$AM$18:$AM$1017),0)","v":0},{"$f":"IFERROR($E65*SUMIF('Daily Log'!$AO$18:$AO$1017,$B65,'Daily Log'!$AP$18:$AP$1017),0)","v":0},{"$f":"IFERROR($E65*SUMIF('Daily Log'!$AR$18:$AR$1017,$B65,'Daily Log'!$AS$18:$AS$1017),0)","v":0},{"$f":"IFERROR($E65*SUMIF('Daily Log'!$AU$18:$AU$1017,$B65,'Daily Log'!$AV$18:$AV$1017),0)","v":0},{"$f":"IFERROR($E65*SUMIF('Daily Log'!$AX$18:$AX$1017,$B65,'Daily Log'!$AY$18:$AY$1017),0)","v":0},{"$f":"IFERROR($E65*SUMIF('Daily Log'!$BA$18:$BA$1017,$B65,'Daily Log'!$BB$18:$BB$1017),0)","v":0},{"$f":"IFERROR($E65*SUMIF('Daily Log'!$BD$18:$BD$1017,$B65,'Daily Log'!$BE$18:$BE$1017),0)","v":0},{"$f":"IFERROR($E65*SUMIF('Daily Log'!$BG$18:$BG$1017,$B65,'Daily Log'!$BH$18:$BH$1017),0)","v":0},{"$f":"IFERROR($E65*SUMIF('Daily Log'!$BJ$18:$BJ$1017,$B65,'Daily Log'!$BK$18:$BK$1017),0)","v":0},{"$f":"IFERROR($E65*SUMIF('Daily Log'!$BM$18:$BM$1017,$B65,'Daily Log'!$BN$18:$BN$1017),0)","v":0},{"$f":"IFERROR($E65*SUMIF('Daily Log'!$BP$18:$BP$1017,$B65,'Daily Log'!$BQ$18:$BQ$1017),0)","v":0},{"$f":"IFERROR($E65*SUMIF('Daily Log'!$BS$18:$BS$1017,$B65,'Daily Log'!$BT$18:$BT$1017),0)","v":0},{"$f":"IFERROR($E65*SUMIF('Daily Log'!$BV$18:$BV$1017,$B65,'Daily Log'!$BW$18:$BW$1017),0)","v":0},{"$f":"IFERROR($E65*SUMIF('Daily Log'!$BY$18:$BY$1017,$B65,'Daily Log'!$BZ$18:$BZ$1017),0)","v":0},{"$f":"IFERROR($E65*SUMIF('Daily Log'!$CB$18:$CB$1017,$B65,'Daily Log'!$CC$18:$CC$1017),0)","v":0},{"$f":"IFERROR($E65*SUMIF('Daily Log'!$CE$18:$CE$1017,$B65,'Daily Log'!$CF$18:$CF$1017),0)","v":0},{"$f":"IFERROR($E65*SUMIF('Daily Log'!$CH$18:$CH$1017,$B65,'Daily Log'!$CI$18:$CI$1017),0)","v":0},{"$f":"IFERROR($E65*SUMIF('Daily Log'!$CK$18:$CK$1017,$B65,'Daily Log'!$CL$18:$CL$1017),0)","v":0},{"$f":"IFERROR($E65*SUMIF('Daily Log'!$CN$18:$CN$1017,$B65,'Daily Log'!$CO$18:$CO$1017),0)","v":0}]
[null,"AF10 91210:SALAD RL",null,"KLKD",1,0,{"$f":"IFERROR($E66*SUMIF('Daily Log'!$B$18:$B$1017,$B66,'Daily Log'!$C$18:$C$1017),0)","v":0},{"$f":"IFERROR($E66*SUMIF('Daily Log'!$E$18:$E$1017,$B66,'Daily Log'!$F$18:$F$1017),0)","v":0},{"$f":"IFERROR($E66*SUMIF('Daily Log'!$H$18:$H$1017,$B66,'Daily Log'!$I$18:$I$1017),0)","v":0},{"$f":"IFERROR($E66*SUMIF('Daily Log'!$K$18:$K$1017,$B66,'Daily Log'!$L$18:$L$1017),0)","v":0},{"$f":"IFERROR($E66*SUMIF('Daily Log'!$N$18:$N$1017,$B66,'Daily Log'!$O$18:$O$1017),0)","v":0},{"$f":"IFERROR($E66*SUMIF('Daily Log'!$Q$18:$Q$1017,$B66,'Daily Log'!$R$18:$R$1017),0)","v":0},{"$f":"IFERROR($E66*SUMIF('Daily Log'!$T$18:$T$1017,$B66,'Daily Log'!$U$18:$U$1017),0)","v":0},{"$f":"IFERROR($E66*SUMIF('Daily Log'!$W$18:$W$1017,$B66,'Daily Log'!$X$18:$X$1017),0)","v":0},{"$f":"IFERROR($E66*SUMIF('Daily Log'!$Z$18:$Z$1017,$B66,'Daily Log'!$AA$18:$AA$1017),0)","v":0},{"$f":"IFERROR($E66*SUMIF('Daily Log'!$AC$18:$AC$1017,$B66,'Daily Log'!$AD$18:$AD$1017),0)","v":0},{"$f":"IFERROR($E66*SUMIF('Daily Log'!$AF$18:$AF$1017,$B66,'Daily Log'!$AG$18:$AG$1017),0)","v":0},{"$f":"IFERROR($E66*SUMIF('Daily Log'!$AI$18:$AI$1017,$B66,'Daily Log'!$AJ$18:$AJ$1017),0)","v":0},{"$f":"IFERROR($E66*SUMIF('Daily Log'!$AL$18:$AL$1017,$B66,'Daily Log'!$AM$18:$AM$1017),0)","v":0},{"$f":"IFERROR($E66*SUMIF('Daily Log'!$AO$18:$AO$1017,$B66,'Daily Log'!$AP$18:$AP$1017),0)","v":0},{"$f":"IFERROR($E66*SUMIF('Daily Log'!$AR$18:$AR$1017,$B66,'Daily Log'!$AS$18:$AS$1017),0)","v":0},{"$f":"IFERROR($E66*SUMIF('Daily Log'!$AU$18:$AU$1017,$B66,'Daily Log'!$AV$18:$AV$1017),0)","v":0},{"$f":"IFERROR($E66*SUMIF('Daily Log'!$AX$18:$AX$1017,$B66,'Daily Log'!$AY$18:$AY$1017),0)","v":0},{"$f":"IFERROR($E66*SUMIF('Daily Log'!$BA$18:$BA$1017,$B66,'Daily Log'!$BB$18:$BB$1017),0)","v":0},{"$f":"IFERROR($E66*SUMIF('Daily Log'!$BD$18:$BD$1017,$B66,'Daily Log'!$BE$18:$BE$1017),0)","v":0},{"$f":"IFERROR($E66*SUMIF('Daily Log'!$BG$18:$BG$1017,$B66,'Daily Log'!$BH$18:$BH$1017),0)","v":0},{"$f":"IFERROR($E66*SUMIF('Daily Log'!$BJ$18:$BJ$1017,$B66,'Daily Log'!$BK$18:$BK$1017),0)","v":0},{"$f":"IFERROR($E66*SUMIF('Daily Log'!$BM$18:$BM$1017,$B66,'Daily Log'!$BN$18:$BN$1017),0)","v":0},{"$f":"IFERROR($E66*SUMIF('Daily Log'!$BP$18:$BP$1017,$B66,'Daily Log'!$BQ$18:$BQ$1017),0)","v":0},{"$f":"IFERROR($E66*SUMIF('Daily Log'!$BS$18:$BS$1017,$B66,'Daily Log'!$BT$18:$BT$1017),0)","v":0},{"$f":"IFERROR($E66*SUMIF('Daily Log'!$BV$18:$BV$1017,$B66,'Daily Log'!$BW$18:$BW$1017),0)","v":0},{"$f":"IFERROR($E66*SUMIF('Daily Log'!$BY$18:$BY$1017,$B66,'Daily Log'!$BZ$18:$BZ$1017),0)","v":0},{"$f":"IFERROR($E66*SUMIF('Daily Log'!$CB$18:$CB$1017,$B66,'Daily Log'!$CC$18:$CC$1017),0)","v":0},{"$f":"IFERROR($E66*SUMIF('Daily Log'!$CE$18:$CE$1017,$B66,'Daily Log'!$CF$18:$CF$1017),0)","v":0},{"$f":"IFERROR($E66*SUMIF('Daily Log'!$CH$18:$CH$1017,$B66,'Daily Log'!$CI$18:$CI$1017),0)","v":0},{"$f":"IFERROR($E66*SUMIF('Daily Log'!$CK$18:$CK$1017,$B66,'Daily Log'!$CL$18:$CL$1017),0)","v":0},{"$f":"IFERROR($E66*SUMIF('Daily Log'!$CN$18:$CN$1017,$B66,'Daily Log'!$CO$18:$CO$1017),0)","v":0}]
[null,"AF11 91211:BBQ CHK",null,"KLKD",1,0,{"$f":"IFERROR($E67*SUMIF('Daily Log'!$B$18:$B$1017,$B67,'Daily Log'!$C$18:$C$1017),0)","v":0},{"$f":"IFERROR($E67*SUMIF('Daily Log'!$E$18:$E$1017,$B67,'Daily Log'!$F$18:$F$1017),0)","v":0},{"$f":"IFERROR($E67*SUMIF('Daily Log'!$H$18:$H$1017,$B67,'Daily Log'!$I$18:$I$1017),0)","v":0},{"$f":"IFERROR($E67*SUMIF('Daily Log'!$K$18:$K$1017,$B67,'Daily Log'!$L$18:$L$1017),0)","v":0},{"$f":"IFERROR($E67*SUMIF('Daily Log'!$N$18:$N$1017,$B67,'Daily Log'!$O$18:$O$1017),0)","v":0},{"$f":"IFERROR($E67*SUMIF('Daily Log'!$Q$18:$Q$1017,$B67,'Daily Log'!$R$18:$R$1017),0)","v":0},{"$f":"IFERROR($E67*SUMIF('Daily Log'!$T$18:$T$1017,$B67,'Daily Log'!$U$18:$U$1017),0)","v":0},{"$f":"IFERROR($E67*SUMIF('Daily Log'!$W$18:$W$1017,$B67,'Daily Log'!$X$18:$X$1017),0)","v":0},{"$f":"IFERROR($E67*SUMIF('Daily Log'!$Z$18:$Z$1017,$B67,'Daily Log'!$AA$18:$AA$1017),0)","v":0},{"$f":"IFERROR($E67*SUMIF('Daily Log'!$AC$18:$AC$1017,$B67,'Daily Log'!$AD$18:$AD$1017),0)","v":0},{"$f":"IFERROR($E67*SUMIF('Daily Log'!$AF$18:$AF$1017,$B67,'Daily Log'!$AG$18:$AG$1017),0)","v":0},{"$f":"IFERROR($E67*SUMIF('Daily Log'!$AI$18:$AI$1017,$B67,'Daily Log'!$AJ$18:$AJ$1017),0)","v":0},{"$f":"IFERROR($E67*SUMIF('Daily Log'!$AL$18:$AL$1017,$B67,'Daily Log'!$AM$18:$AM$1017),0)","v":0},{"$f":"IFERROR($E67*SUMIF('Daily Log'!$AO$18:$AO$1017,$B67,'Daily Log'!$AP$18:$AP$1017),0)","v":0},{"$f":"IFERROR($E67*SUMIF('Daily Log'!$AR$18:$AR$1017,$B67,'Daily Log'!$AS$18:$AS$1017),0)","v":0},{"$f":"IFERROR($E67*SUMIF('Daily Log'!$AU$18:$AU$1017,$B67,'Daily Log'!$AV$18:$AV$1017),0)","v":0},{"$f":"IFERROR($E67*SUMIF('Daily Log'!$AX$18:$AX$1017,$B67,'Daily Log'!$AY$18:$AY$1017),0)","v":0},{"$f":"IFERROR($E67*SUMIF('Daily Log'!$BA$18:$BA$1017,$B67,'Daily Log'!$BB$18:$BB$1017),0)","v":0},{"$f":"IFERROR($E67*SUMIF('Daily Log'!$BD$18:$BD$1017,$B67,'Daily Log'!$BE$18:$BE$1017),0)","v":0},{"$f":"IFERROR($E67*SUMIF('Daily Log'!$BG$18:$BG$1017,$B67,'Daily Log'!$BH$18:$BH$1017),0)","v":0},{"$f":"IFERROR($E67*SUMIF('Daily Log'!$BJ$18:$BJ$1017,$B67,'Daily Log'!$BK$18:$BK$1017),0)","v":0},{"$f":"IFERROR($E67*SUMIF('Daily Log'!$BM$18:$BM$1017,$B67,'Daily Log'!$BN$18:$BN$1017),0)","v":0},{"$f":"IFERROR($E67*SUMIF('Daily Log'!$BP$18:$BP$1017,$B67,'Daily Log'!$BQ$18:$BQ$1017),0)","v":0},{"$f":"IFERROR($E67*SUMIF('Daily Log'!$BS$18:$BS$1017,$B67,'Daily Log'!$BT$18:$BT$1017),0)","v":0},{"$f":"IFERROR($E67*SUMIF('Daily Log'!$BV$18:$BV$1017,$B67,'Daily Log'!$BW$18:$BW$1017),0)","v":0},{"$f":"IFERROR($E67*SUMIF('Daily Log'!$BY$18:$BY$1017,$B67,'Daily Log'!$BZ$18:$BZ$1017),0)","v":0},{"$f":"IFERROR($E67*SUMIF('Daily Log'!$CB$18:$CB$1017,$B67,'Daily Log'!$CC$18:$CC$1017),0)","v":0},{"$f":"IFERROR($E67*SUMIF('Daily Log'!$CE$18:$CE$1017,$B67,'Daily Log'!$CF$18:$CF$1017),0)","v":0},{"$f":"IFERROR($E67*SUMIF('Daily Log'!$CH$18:$CH$1017,$B67,'Daily Log'!$CI$18:$CI$1017),0)","v":0},{"$f":"IFERROR($E67*SUMIF('Daily Log'!$CK$18:$CK$1017,$B67,'Daily Log'!$CL$18:$CL$1017),0)","v":0},{"$f":"IFERROR($E67*SUMIF('Daily Log'!$CN$18:$CN$1017,$B67,'Daily Log'!$CO$18:$CO$1017),0)","v":0}]
[null,"AF31 91301:DUMPLING",null,"KLKD",1,0,{"$f":"IFERROR($E68*SUMIF('Daily Log'!$B$18:$B$1017,$B68,'Daily Log'!$C$18:$C$1017),0)","v":0},{"$f":"IFERROR($E68*SUMIF('Daily Log'!$E$18:$E$1017,$B68,'Daily Log'!$F$18:$F$1017),0)","v":0},{"$f":"IFERROR($E68*SUMIF('Daily Log'!$H$18:$H$1017,$B68,'Daily Log'!$I$18:$I$1017),0)","v":0},{"$f":"IFERROR($E68*SUMIF('Daily Log'!$K$18:$K$1017,$B68,'Daily Log'!$L$18:$L$1017),0)","v":0},{"$f":"IFERROR($E68*SUMIF('Daily Log'!$N$18:$N$1017,$B68,'Daily Log'!$O$18:$O$1017),0)","v":0},{"$f":"IFERROR($E68*SUMIF('Daily Log'!$Q$18:$Q$1017,$B68,'Daily Log'!$R$18:$R$1017),0)","v":0},{"$f":"IFERROR($E68*SUMIF('Daily Log'!$T$18:$T$1017,$B68,'Daily Log'!$U$18:$U$1017),0)","v":0},{"$f":"IFERROR($E68*SUMIF('Daily Log'!$W$18:$W$1017,$B68,'Daily Log'!$X$18:$X$1017),0)","v":0},{"$f":"IFERROR($E68*SUMIF('Daily Log'!$Z$18:$Z$1017,$B68,'Daily Log'!$AA$18:$AA$1017),0)","v":0},{"$f":"IFERROR($E68*SUMIF('Daily Log'!$AC$18:$AC$1017,$B68,'Daily Log'!$AD$18:$AD$1017),0)","v":0},{"$f":"IFERROR($E68*SUMIF('Daily Log'!$AF$18:$AF$1017,$B68,'Daily Log'!$AG$18:$AG$1017),0)","v":0},{"$f":"IFERROR($E68*SUMIF('Daily Log'!$AI$18:$AI$1017,$B68,'Daily Log'!$AJ$18:$AJ$1017),0)","v":0},{"$f":"IFERROR($E68*SUMIF('Daily Log'!$AL$18:$AL$1017,$B68,'Daily Log'!$AM$18:$AM$1017),0)","v":0},{"$f":"IFERROR($E68*SUMIF('Daily Log'!$AO$18:$AO$1017,$B68,'Daily Log'!$AP$18:$AP$1017),0)","v":0},{"$f":"IFERROR($E68*SUMIF('Daily Log'!$AR$18:$AR$1017,$B68,'Daily Log'!$AS$18:$AS$1017),0)","v":0},{"$f":"IFERROR($E68*SUMIF('Daily Log'!$AU$18:$AU$1017,$B68,'Daily Log'!$AV$18:$AV$1017),0)","v":0},{"$f":"IFERROR($E68*SUMIF('Daily Log'!$AX$18:$AX$1017,$B68,'Daily Log'!$AY$18:$AY$1017),0)","v":0},{"$f":"IFERROR($E68*SUMIF('Daily Log'!$BA$18:$BA$1017,$B68,'Daily Log'!$BB$18:$BB$1017),0)","v":0},{"$f":"IFERROR($E68*SUMIF('Daily Log'!$BD$18:$BD$1017,$B68,'Daily Log'!$BE$18:$BE$1017),0)","v":0},{"$f":"IFERROR($E68*SUMIF('Daily Log'!$BG$18:$BG$1017,$B68,'Daily Log'!$BH$18:$BH$1017),0)","v":0},{"$f":"IFERROR($E68*SUMIF('Daily Log'!$BJ$18:$BJ$1017,$B68,'Daily Log'!$BK$18:$BK$1017),0)","v":0},{"$f":"IFERROR($E68*SUMIF('Daily Log'!$BM$18:$BM$1017,$B68,'Daily Log'!$BN$18:$BN$1017),0)","v":0},{"$f":"IFERROR($E68*SUMIF('Daily Log'!$BP$18:$BP$1017,$B68,'Daily Log'!$BQ$18:$BQ$1017),0)","v":0},{"$f":"IFERROR($E68*SUMIF('Daily Log'!$BS$18:$BS$1017,$B68,'Daily Log'!$BT$18:$BT$1017),0)","v":0},{"$f":"IFERROR($E68*SUMIF('Daily Log'!$BV$18:$BV$1017,$B68,'Daily Log'!$BW$18:$BW$1017),0)","v":0},{"$f":"IFERROR($E68*SUMIF('Daily Log'!$BY$18:$BY$1017,$B68,'Daily Log'!$BZ$18:$BZ$1017),0)","v":0},{"$f":"IFERROR($E68*SUMIF('Daily Log'!$CB$18:$CB$1017,$B68,'Daily Log'!$CC$18:$CC$1017),0)","v":0},{"$f":"IFERROR($E68*SUMIF('Daily Log'!$CE$18:$CE$1017,$B68,'Daily Log'!$CF$18:$CF$1017),0)","v":0},{"$f":"IFERROR($E68*SUMIF('Daily Log'!$CH$18:$CH$1017,$B68,'Daily Log'!$CI$18:$CI$1017),0)","v":0},{"$f":"IFERROR($E68*SUMIF('Daily Log'!$CK$18:$CK$1017,$B68,'Daily Log'!$CL$18:$CL$1017),0)","v":0},{"$f":"IFERROR($E68*SUMIF('Daily Log'!$CN$18:$CN$1017,$B68,'Daily Log'!$CO$18:$CO$1017),0)","v":0}]
[null,"AF32 91302:NUGGET",null,"KLKD",1,20,{"$f":"IFERROR($E69*SUMIF('Daily Log'!$B$18:$B$1017,$B69,'Daily Log'!$C$18:$C$1017),0)","v":0},{"$f":"IFERROR($E69*SUMIF('Daily Log'!$E$18:$E$1017,$B69,'Daily Log'!$F$18:$F$1017),0)","v":0},{"$f":"IFERROR($E69*SUMIF('Daily Log'!$H$18:$H$1017,$B69,'Daily Log'!$I$18:$I$1017),0)","v":0},{"$f":"IFERROR($E69*SUMIF('Daily Log'!$K$18:$K$1017,$B69,'Daily Log'!$L$18:$L$1017),0)","v":0},{"$f":"IFERROR($E69*SUMIF('Daily Log'!$N$18:$N$1017,$B69,'Daily Log'!$O$18:$O$1017),0)","v":0},{"$f":"IFERROR($E69*SUMIF('Daily Log'!$Q$18:$Q$1017,$B69,'Daily Log'!$R$18:$R$1017),0)","v":0},{"$f":"IFERROR($E69*SUMIF('Daily Log'!$T$18:$T$1017,$B69,'Daily Log'!$U$18:$U$1017),0)","v":0},{"$f":"IFERROR($E69*SUMIF('Daily Log'!$W$18:$W$1017,$B69,'Daily Log'!$X$18:$X$1017),0)","v":0},{"$f":"IFERROR($E69*SUMIF('Daily Log'!$Z$18:$Z$1017,$B69,'Daily Log'!$AA$18:$AA$1017),0)","v":0},{"$f":"IFERROR($E69*SUMIF('Daily Log'!$AC$18:$AC$1017,$B69,'Daily Log'!$AD$18:$AD$1017),0)","v":0},{"$f":"IFERROR($E69*SUMIF('Daily Log'!$AF$18:$AF$1017,$B69,'Daily Log'!$AG$18:$AG$1017),0)","v":0},{"$f":"IFERROR($E69*SUMIF('Daily Log'!$AI$18:$AI$1017,$B69,'Daily Log'!$AJ$18:$AJ$1017),0)","v":0},{"$f":"IFERROR($E69*SUMIF('Daily Log'!$AL$18:$AL$1017,$B69,'Daily Log'!$AM$18:$AM$1017),0)","v":0},{"$f":"IFERROR($E69*SUMIF('Daily Log'!$AO$18:$AO$1017,$B69,'Daily Log'!$AP$18:$AP$1017),0)","v":0},{"$f":"IFERROR($E69*SUMIF('Daily Log'!$AR$18:$AR$1017,$B69,'Daily Log'!$AS$18:$AS$1017),0)","v":0},{"$f":"IFERROR($E69*SUMIF('Daily Log'!$AU$18:$AU$1017,$B69,'Daily Log'!$AV$18:$AV$1017),0)","v":0},{"$f":"IFERROR($E69*SUMIF('Daily Log'!$AX$18:$AX$1017,$B69,'Daily Log'!$AY$18:$AY$1017),0)","v":0},{"$f":"IFERROR($E69*SUMIF('Daily Log'!$BA$18:$BA$1017,$B69,'Daily Log'!$BB$18:$BB$1017),0)","v":0},{"$f":"IFERROR($E69*SUMIF('Daily Log'!$BD$18:$BD$1017,$B69,'Daily Log'!$BE$18:$BE$1017),0)","v":0},{"$f":"IFERROR($E69*SUMIF('Daily Log'!$BG$18:$BG$1017,$B69,'Daily Log'!$BH$18:$BH$1017),0)","v":0},{"$f":"IFERROR($E69*SUMIF('Daily Log'!$BJ$18:$BJ$1017,$B69,'Daily Log'!$BK$18:$BK$1017),0)","v":0},{"$f":"IFERROR($E69*SUMIF('Daily Log'!$BM$18:$BM$1017,$B69,'Daily Log'!$BN$18:$BN$1017),0)","v":0},{"$f":"IFERROR($E69*SUMIF('Daily Log'!$BP$18:$BP$1017,$B69,'Daily Log'!$BQ$18:$BQ$1017),0)","v":0},{"$f":"IFERROR($E69*SUMIF('Daily Log'!$BS$18:$BS$1017,$B69,'Daily Log'!$BT$18:$BT$1017),0)","v":0},{"$f":"IFERROR($E69*SUMIF('Daily Log'!$BV$18:$BV$1017,$B69,'Daily Log'!$BW$18:$BW$1017),0)","v":0},{"$f":"IFERROR($E69*SUMIF('Daily Log'!$BY$18:$BY$1017,$B69,'Daily Log'!$BZ$18:$BZ$1017),0)","v":0},{"$f":"IFERROR($E69*SUMIF('Daily Log'!$CB$18:$CB$1017,$B69,'Daily Log'!$CC$18:$CC$1017),0)","v":0},{"$f":"IFERROR($E69*SUMIF('Daily Log'!$CE$18:$CE$1017,$B69,'Daily Log'!$CF$18:$CF$1017),0)","v":0},{"$f":"IFERROR($E69*SUMIF('Daily Log'!$CH$18:$CH$1017,$B69,'Daily Log'!$CI$18:$CI$1017),0)","v":0},{"$f":"IFERROR($E69*SUMIF('Daily Log'!$CK$18:$CK$1017,$B69,'Daily Log'!$CL$18:$CL$1017),0)","v":0},{"$f":"IFERROR($E69*SUMIF('Daily Log'!$CN$18:$CN$1017,$B69,'Daily Log'!$CO$18:$CO$1017),0)","v":20}]
[null,"AF33 91303:CHK WING",null,"KLKD",1,19,{"$f":"IFERROR($E70*SUMIF('Daily Log'!$B$18:$B$1017,$B70,'Daily Log'!$C$18:$C$1017),0)","v":0},{"$f":"IFERROR($E70*SUMIF('Daily Log'!$E$18:$E$1017,$B70,'Daily Log'!$F$18:$F$1017),0)","v":0},{"$f":"IFERROR($E70*SUMIF('Daily Log'!$H$18:$H$1017,$B70,'Daily Log'!$I$18:$I$1017),0)","v":0},{"$f":"IFERROR($E70*SUMIF('Daily Log'!$K$18:$K$1017,$B70,'Daily Log'!$L$18:$L$1017),0)","v":0},{"$f":"IFERROR($E70*SUMIF('Daily Log'!$N$18:$N$1017,$B70,'Daily Log'!$O$18:$O$1017),0)","v":0},{"$f":"IFERROR($E70*SUMIF('Daily Log'!$Q$18:$Q$1017,$B70,'Daily Log'!$R$18:$R$1017),0)","v":0},{"$f":"IFERROR($E70*SUMIF('Daily Log'!$T$18:$T$1017,$B70,'Daily Log'!$U$18:$U$1017),0)","v":0},{"$f":"IFERROR($E70*SUMIF('Daily Log'!$W$18:$W$1017,$B70,'Daily Log'!$X$18:$X$1017),0)","v":0},{"$f":"IFERROR($E70*SUMIF('Daily Log'!$Z$18:$Z$1017,$B70,'Daily Log'!$AA$18:$AA$1017),0)","v":0},{"$f":"IFERROR($E70*SUMIF('Daily Log'!$AC$18:$AC$1017,$B70,'Daily Log'!$AD$18:$AD$1017),0)","v":0},{"$f":"IFERROR($E70*SUMIF('Daily Log'!$AF$18:$AF$1017,$B70,'Daily Log'!$AG$18:$AG$1017),0)","v":0},{"$f":"IFERROR($E70*SUMIF('Daily Log'!$AI$18:$AI$1017,$B70,'Daily Log'!$AJ$18:$AJ$1017),0)","v":0},{"$f":"IFERROR($E70*SUMIF('Daily Log'!$AL$18:$AL$1017,$B70,'Daily Log'!$AM$18:$AM$1017),0)","v":0},{"$f":"IFERROR($E70*SUMIF('Daily Log'!$AO$18:$AO$1017,$B70,'Daily Log'!$AP$18:$AP$1017),0)","v":0},{"$f":"IFERROR($E70*SUMIF('Daily Log'!$AR$18:$AR$1017,$B70,'Daily Log'!$AS$18:$AS$1017),0)","v":0},{"$f":"IFERROR($E70*SUMIF('Daily Log'!$AU$18:$AU$1017,$B70,'Daily Log'!$AV$18:$AV$1017),0)","v":0},{"$f":"IFERROR($E70*SUMIF('Daily Log'!$AX$18:$AX$1017,$B70,'Daily Log'!$AY$18:$AY$1017),0)","v":0},{"$f":"IFERROR($E70*SUMIF('Daily Log'!$BA$18:$BA$1017,$B70,'Daily Log'!$BB$18:$BB$1017),0)","v":0},{"$f":"IFERROR($E70*SUMIF('Daily Log'!$BD$18:$BD$1017,$B70,'Daily Log'!$BE$18:$BE$1017),0)","v":0},{"$f":"IFERROR($E70*SUMIF('Daily Log'!$BG$18:$BG$1017,$B70,'Daily Log'!$BH$18:$BH$1017),0)","v":0},{"$f":"IFERROR($E70*SUMIF('Daily Log'!$BJ$18:$BJ$1017,$B70,'Daily Log'!$BK$18:$BK$1017),0)","v":0},{"$f":"IFERROR($E70*SUMIF('Daily Log'!$BM$18:$BM$1017,$B70,'Daily Log'!$BN$18:$BN$1017),0)","v":0},{"$f":"IFERROR($E70*SUMIF('Daily Log'!$BP$18:$BP$1017,$B70,'Daily Log'!$BQ$18:$BQ$1017),0)","v":0},{"$f":"IFERROR($E70*SUMIF('Daily Log'!$BS$18:$BS$1017,$B70,'Daily Log'!$BT$18:$BT$1017),0)","v":0},{"$f":"IFERROR($E70*SUMIF('Daily Log'!$BV$18:$BV$1017,$B70,'Daily Log'!$BW$18:$BW$1017),0)","v":0},{"$f":"IFERROR($E70*SUMIF('Daily Log'!$BY$18:$BY$1017,$B70,'Daily Log'!$BZ$18:$BZ$1017),0)","v":0},{"$f":"IFERROR($E70*SUMIF('Daily Log'!$CB$18:$CB$1017,$B70,'Daily Log'!$CC$18:$CC$1017),0)","v":0},{"$f":"IFERROR($E70*SUMIF('Daily Log'!$CE$18:$CE$1017,$B70,'Daily Log'!$CF$18:$CF$1017),0)","v":0},{"$f":"IFERROR($E70*SUMIF('Daily Log'!$CH$18:$CH$1017,$B70,'Daily Log'!$CI$18:$CI$1017),0)","v":0},{"$f":"IFERROR($E70*SUMIF('Daily Log'!$CK$18:$CK$1017,$B70,'Daily Log'!$CL$18:$CL$1017),0)","v":0},{"$f":"IFERROR($E70*SUMIF('Daily Log'!$CN$18:$CN$1017,$B70,'Daily Log'!$CO$18:$CO$1017),0)","v":19}]
[null,"AF34 91304:IKAN BILIS",null,"KLKD",1,1,{"$f":"IFERROR($E71*SUMIF('Daily Log'!$B$18:$B$1017,$B71,'Daily Log'!$C$18:$C$1017),0)","v":0},{"$f":"IFERROR($E71*SUMIF('Daily Log'!$E$18:$E$1017,$B71,'Daily Log'!$F$18:$F$1017),0)","v":0},{"$f":"IFERROR($E71*SUMIF('Daily Log'!$H$18:$H$1017,$B71,'Daily Log'!$I$18:$I$1017),0)","v":0},{"$f":"IFERROR($E71*SUMIF('Daily Log'!$K$18:$K$1017,$B71,'Daily Log'!$L$18:$L$1017),0)","v":0},{"$f":"IFERROR($E71*SUMIF('Daily Log'!$N$18:$N$1017,$B71,'Daily Log'!$O$18:$O$1017),0)","v":0},{"$f":"IFERROR($E71*SUMIF('Daily Log'!$Q$18:$Q$1017,$B71,'Daily Log'!$R$18:$R$1017),0)","v":0},{"$f":"IFERROR($E71*SUMIF('Daily Log'!$T$18:$T$1017,$B71,'Daily Log'!$U$18:$U$1017),0)","v":0},{"$f":"IFERROR($E71*SUMIF('Daily Log'!$W$18:$W$1017,$B71,'Daily Log'!$X$18:$X$1017),0)","v":0},{"$f":"IFERROR($E71*SUMIF('Daily Log'!$Z$18:$Z$1017,$B71,'Daily Log'!$AA$18:$AA$1017),0)","v":0},{"$f":"IFERROR($E71*SUMIF('Daily Log'!$AC$18:$AC$1017,$B71,'Daily Log'!$AD$18:$AD$1017),0)","v":0},{"$f":"IFERROR($E71*SUMIF('Daily Log'!$AF$18:$AF$1017,$B71,'Daily Log'!$AG$18:$AG$1017),0)","v":0},{"$f":"IFERROR($E71*SUMIF('Daily Log'!$AI$18:$AI$1017,$B71,'Daily Log'!$AJ$18:$AJ$1017),0)","v":0},{"$f":"IFERROR($E71*SUMIF('Daily Log'!$AL$18:$AL$1017,$B71,'Daily Log'!$AM$18:$AM$1017),0)","v":0},{"$f":"IFERROR($E71*SUMIF('Daily Log'!$AO$18:$AO$1017,$B71,'Daily Log'!$AP$18:$AP$1017),0)","v":0},{"$f":"IFERROR($E71*SUMIF('Daily Log'!$AR$18:$AR$1017,$B71,'Daily Log'!$AS$18:$AS$1017),0)","v":0},{"$f":"IFERROR($E71*SUMIF('Daily Log'!$AU$18:$AU$1017,$B71,'Daily Log'!$AV$18:$AV$1017),0)","v":0},{"$f":"IFERROR($E71*SUMIF('Daily Log'!$AX$18:$AX$1017,$B71,'Daily Log'!$AY$18:$AY$1017),0)","v":0},{"$f":"IFERROR($E71*SUMIF('Daily Log'!$BA$18:$BA$1017,$B71,'Daily Log'!$BB$18:$BB$1017),0)","v":0},{"$f":"IFERROR($E71*SUMIF('Daily Log'!$BD$18:$BD$1017,$B71,'Daily Log'!$BE$18:$BE$1017),0)","v":0},{"$f":"IFERROR($E71*SUMIF('Daily Log'!$BG$18:$BG$1017,$B71,'Daily Log'!$BH$18:$BH$1017),0)","v":0},{"$f":"IFERROR($E71*SUMIF('Daily Log'!$BJ$18:$BJ$1017,$B71,'Daily Log'!$BK$18:$BK$1017),0)","v":0},{"$f":"IFERROR($E71*SUMIF('Daily Log'!$BM$18:$BM$1017,$B71,'Daily Log'!$BN$18:$BN$1017),0)","v":0},{"$f":"IFERROR($E71*SUMIF('Daily Log'!$BP$18:$BP$1017,$B71,'Daily Log'!$BQ$18:$BQ$1017),0)","v":0},{"$f":"IFERROR($E71*SUMIF('Daily Log'!$BS$18:$BS$1017,$B71,'Daily Log'!$BT$18:$BT$1017),0)","v":0},{"$f":"IFERROR($E71*SUMIF('Daily Log'!$BV$18:$BV$1017,$B71,'Daily Log'!$BW$18:$BW$1017),0)","v":0},{"$f":"IFERROR($E71*SUMIF('Daily Log'!$BY$18:$BY$1017,$B71,'Daily Log'!$BZ$18:$BZ$1017),0)","v":0},{"$f":"IFERROR($E71*SUMIF('Daily Log'!$CB$18:$CB$1017,$B71,'Daily Log'!$CC$18:$CC$1017),0)","v":0},{"$f":"IFERROR($E71*SUMIF('Daily Log'!$CE$18:$CE$1017,$B71,'Daily Log'!$CF$18:$CF$1017),0)","v":0},{"$f":"IFERROR($E71*SUMIF('Daily Log'!$CH$18:$CH$1017,$B71,'Daily Log'!$CI$18:$CI$1017),0)","v":0},{"$f":"IFERROR($E71*SUMIF('Daily Log'!$CK$18:$CK$1017,$B71,'Daily Log'!$CL$18:$CL$1017),0)","v":0},{"$f":"IFERROR($E71*SUMIF('Daily Log'!$CN$18:$CN$1017,$B71,'Daily Log'!$CO$18:$CO$1017),0)","v":1}]
[null,"AF35 91305:THAI RL",null,"KLKD",1,1,{"$f":"IFERROR($E72*SUMIF('Daily Log'!$B$18:$B$1017,$B72,'Daily Log'!$C$18:$C$1017),0)","v":0},{"$f":"IFERROR($E72*SUMIF('Daily Log'!$E$18:$E$1017,$B72,'Daily Log'!$F$18:$F$1017),0)","v":0},{"$f":"IFERROR($E72*SUMIF('Daily Log'!$H$18:$H$1017,$B72,'Daily Log'!$I$18:$I$1017),0)","v":0},{"$f":"IFERROR($E72*SUMIF('Daily Log'!$K$18:$K$1017,$B72,'Daily Log'!$L$18:$L$1017),0)","v":0},{"$f":"IFERROR($E72*SUMIF('Daily Log'!$N$18:$N$1017,$B72,'Daily Log'!$O$18:$O$1017),0)","v":0},{"$f":"IFERROR($E72*SUMIF('Daily Log'!$Q$18:$Q$1017,$B72,'Daily Log'!$R$18:$R$1017),0)","v":0},{"$f":"IFERROR($E72*SUMIF('Daily Log'!$T$18:$T$1017,$B72,'Daily Log'!$U$18:$U$1017),0)","v":0},{"$f":"IFERROR($E72*SUMIF('Daily Log'!$W$18:$W$1017,$B72,'Daily Log'!$X$18:$X$1017),0)","v":0},{"$f":"IFERROR($E72*SUMIF('Daily Log'!$Z$18:$Z$1017,$B72,'Daily Log'!$AA$18:$AA$1017),0)","v":0},{"$f":"IFERROR($E72*SUMIF('Daily Log'!$AC$18:$AC$1017,$B72,'Daily Log'!$AD$18:$AD$1017),0)","v":0},{"$f":"IFERROR($E72*SUMIF('Daily Log'!$AF$18:$AF$1017,$B72,'Daily Log'!$AG$18:$AG$1017),0)","v":0},{"$f":"IFERROR($E72*SUMIF('Daily Log'!$AI$18:$AI$1017,$B72,'Daily Log'!$AJ$18:$AJ$1017),0)","v":0},{"$f":"IFERROR($E72*SUMIF('Daily Log'!$AL$18:$AL$1017,$B72,'Daily Log'!$AM$18:$AM$1017),0)","v":0},{"$f":"IFERROR($E72*SUMIF('Daily Log'!$AO$18:$AO$1017,$B72,'Daily Log'!$AP$18:$AP$1017),0)","v":0},{"$f":"IFERROR($E72*SUMIF('Daily Log'!$AR$18:$AR$1017,$B72,'Daily Log'!$AS$18:$AS$1017),0)","v":0},{"$f":"IFERROR($E72*SUMIF('Daily Log'!$AU$18:$AU$1017,$B72,'Daily Log'!$AV$18:$AV$1017),0)","v":0},{"$f":"IFERROR($E72*SUMIF('Daily Log'!$AX$18:$AX$1017,$B72,'Daily Log'!$AY$18:$AY$1017),0)","v":0},{"$f":"IFERROR($E72*SUMIF('Daily Log'!$BA$18:$BA$1017,$B72,'Daily Log'!$BB$18:$BB$1017),0)","v":0},{"$f":"IFERROR($E72*SUMIF('Daily Log'!$BD$18:$BD$1017,$B72,'Daily Log'!$BE$18:$BE$1017),0)","v":0},{"$f":"IFERROR($E72*SUMIF('Daily Log'!$BG$18:$BG$1017,$B72,'Daily Log'!$BH$18:$BH$1017),0)","v":0},{"$f":"IFERROR($E72*SUMIF('Daily Log'!$BJ$18:$BJ$1017,$B72,'Daily Log'!$BK$18:$BK$1017),0)","v":0},{"$f":"IFERROR($E72*SUMIF('Daily Log'!$BM$18:$BM$1017,$B72,'Daily Log'!$BN$18:$BN$1017),0)","v":0},{"$f":"IFERROR($E72*SUMIF('Daily Log'!$BP$18:$BP$1017,$B72,'Daily Log'!$BQ$18:$BQ$1017),0)","v":0},{"$f":"IFERROR($E72*SUMIF('Daily Log'!$BS$18:$BS$1017,$B72,'Daily Log'!$BT$18:$BT$1017),0)","v":0},{"$f":"IFERROR($E72*SUMIF('Daily Log'!$BV$18:$BV$1017,$B72,'Daily Log'!$BW$18:$BW$1017),0)","v":0},{"$f":"IFERROR($E72*SUMIF('Daily Log'!$BY$18:$BY$1017,$B72,'Daily Log'!$BZ$18:$BZ$1017),0)","v":0},{"$f":"IFERROR($E72*SUMIF('Daily Log'!$CB$18:$CB$1017,$B72,'Daily Log'!$CC$18:$CC$1017),0)","v":0},{"$f":"IFERROR($E72*SUMIF('Daily Log'!$CE$18:$CE$1017,$B72,'Daily Log'!$CF$18:$CF$1017),0)","v":0},{"$f":"IFERROR($E72*SUMIF('Daily Log'!$CH$18:$CH$1017,$B72,'Daily Log'!$CI$18:$CI$1017),0)","v":0},{"$f":"IFERROR($E72*SUMIF('Daily Log'!$CK$18:$CK$1017,$B72,'Daily Log'!$CL$18:$CL$1017),0)","v":0},{"$f":"IFERROR($E72*SUMIF('Daily Log'!$CN$18:$CN$1017,$B72,'Daily Log'!$CO$18:$CO$1017),0)","v":1}]
[null,"AF36 91306:DF WING",null,"KLKD",1,7,{"$f":"IFERROR($E73*SUMIF('Daily Log'!$B$18:$B$1017,$B73,'Daily Log'!$C$18:$C$1017),0)","v":0},{"$f":"IFERROR($E73*SUMIF('Daily Log'!$E$18:$E$1017,$B73,'Daily Log'!$F$18:$F$1017),0)","v":0},{"$f":"IFERROR($E73*SUMIF('Daily Log'!$H$18:$H$1017,$B73,'Daily Log'!$I$18:$I$1017),0)","v":0},{"$f":"IFERROR($E73*SUMIF('Daily Log'!$K$18:$K$1017,$B73,'Daily Log'!$L$18:$L$1017),0)","v":0},{"$f":"IFERROR($E73*SUMIF('Daily Log'!$N$18:$N$1017,$B73,'Daily Log'!$O$18:$O$1017),0)","v":0},{"$f":"IFERROR($E73*SUMIF('Daily Log'!$Q$18:$Q$1017,$B73,'Daily Log'!$R$18:$R$1017),0)","v":0},{"$f":"IFERROR($E73*SUMIF('Daily Log'!$T$18:$T$1017,$B73,'Daily Log'!$U$18:$U$1017),0)","v":0},{"$f":"IFERROR($E73*SUMIF('Daily Log'!$W$18:$W$1017,$B73,'Daily Log'!$X$18:$X$1017),0)","v":0},{"$f":"IFERROR($E73*SUMIF('Daily Log'!$Z$18:$Z$1017,$B73,'Daily Log'!$AA$18:$AA$1017),0)","v":0},{"$f":"IFERROR($E73*SUMIF('Daily Log'!$AC$18:$AC$1017,$B73,'Daily Log'!$AD$18:$AD$1017),0)","v":0},{"$f":"IFERROR($E73*SUMIF('Daily Log'!$AF$18:$AF$1017,$B73,'Daily Log'!$AG$18:$AG$1017),0)","v":0},{"$f":"IFERROR($E73*SUMIF('Daily Log'!$AI$18:$AI$1017,$B73,'Daily Log'!$AJ$18:$AJ$1017),0)","v":0},{"$f":"IFERROR($E73*SUMIF('Daily Log'!$AL$18:$AL$1017,$B73,'Daily Log'!$AM$18:$AM$1017),0)","v":0},{"$f":"IFERROR($E73*SUMIF('Daily Log'!$AO$18:$AO$1017,$B73,'Daily Log'!$AP$18:$AP$1017),0)","v":0},{"$f":"IFERROR($E73*SUMIF('Daily Log'!$AR$18:$AR$1017,$B73,'Daily Log'!$AS$18:$AS$1017),0)","v":0},{"$f":"IFERROR($E73*SUMIF('Daily Log'!$AU$18:$AU$1017,$B73,'Daily Log'!$AV$18:$AV$1017),0)","v":0},{"$f":"IFERROR($E73*SUMIF('Daily Log'!$AX$18:$AX$1017,$B73,'Daily Log'!$AY$18:$AY$1017),0)","v":0},{"$f":"IFERROR($E73*SUMIF('Daily Log'!$BA$18:$BA$1017,$B73,'Daily Log'!$BB$18:$BB$1017),0)","v":0},{"$f":"IFERROR($E73*SUMIF('Daily Log'!$BD$18:$BD$1017,$B73,'Daily Log'!$BE$18:$BE$1017),0)","v":0},{"$f":"IFERROR($E73*SUMIF('Daily Log'!$BG$18:$BG$1017,$B73,'Daily Log'!$BH$18:$BH$1017),0)","v":0},{"$f":"IFERROR($E73*SUMIF('Daily Log'!$BJ$18:$BJ$1017,$B73,'Daily Log'!$BK$18:$BK$1017),0)","v":0},{"$f":"IFERROR($E73*SUMIF('Daily Log'!$BM$18:$BM$1017,$B73,'Daily Log'!$BN$18:$BN$1017),0)","v":0},{"$f":"IFERROR($E73*SUMIF('Daily Log'!$BP$18:$BP$1017,$B73,'Daily Log'!$BQ$18:$BQ$1017),0)","v":0},{"$f":"IFERROR($E73*SUMIF('Daily Log'!$BS$18:$BS$1017,$B73,'Daily Log'!$BT$18:$BT$1017),0)","v":0},{"$f":"IFERROR($E73*SUMIF('Daily Log'!$BV$18:$BV$1017,$B73,'Daily Log'!$BW$18:$BW$1017),0)","v":0},{"$f":"IFERROR($E73*SUMIF('Daily Log'!$BY$18:$BY$1017,$B73,'Daily Log'!$BZ$18:$BZ$1017),0)","v":0},{"$f":"IFERROR($E73*SUMIF('Daily Log'!$CB$18:$CB$1017,$B73,'Daily Log'!$CC$18:$CC$1017),0)","v":0},{"$f":"IFERROR($E73*SUMIF('Daily Log'!$CE$18:$CE$1017,$B73,'Daily Log'!$CF$18:$CF$1017),0)","v":0},{"$f":"IFERROR($E73*SUMIF('Daily Log'!$CH$18:$CH$1017,$B73,'Daily Log'!$CI$18:$CI$1017),0)","v":0},{"$f":"IFERROR($E73*SUMIF('Daily Log'!$CK$18:$CK$1017,$B73,'Daily Log'!$CL$18:$CL$1017),0)","v":0},{"$f":"IFERROR($E73*SUMIF('Daily Log'!$CN$18:$CN$1017,$B73,'Daily Log'!$CO$18:$CO$1017),0)","v":7}]
[null,"AF37 91307:CALAMARI",null,"KLKD",1,6,{"$f":"IFERROR($E74*SUMIF('Daily Log'!$B$18:$B$1017,$B74,'Daily Log'!$C$18:$C$1017),0)","v":0},{"$f":"IFERROR($E74*SUMIF('Daily Log'!$E$18:$E$1017,$B74,'Daily Log'!$F$18:$F$1017),0)","v":0},{"$f":"IFERROR($E74*SUMIF('Daily Log'!$H$18:$H$1017,$B74,'Daily Log'!$I$18:$I$1017),0)","v":0},{"$f":"IFERROR($E74*SUMIF('Daily Log'!$K$18:$K$1017,$B74,'Daily Log'!$L$18:$L$1017),0)","v":0},{"$f":"IFERROR($E74*SUMIF('Daily Log'!$N$18:$N$1017,$B74,'Daily Log'!$O$18:$O$1017),0)","v":0},{"$f":"IFERROR($E74*SUMIF('Daily Log'!$Q$18:$Q$1017,$B74,'Daily Log'!$R$18:$R$1017),0)","v":0},{"$f":"IFERROR($E74*SUMIF('Daily Log'!$T$18:$T$1017,$B74,'Daily Log'!$U$18:$U$1017),0)","v":0},{"$f":"IFERROR($E74*SUMIF('Daily Log'!$W$18:$W$1017,$B74,'Daily Log'!$X$18:$X$1017),0)","v":0},{"$f":"IFERROR($E74*SUMIF('Daily Log'!$Z$18:$Z$1017,$B74,'Daily Log'!$AA$18:$AA$1017),0)","v":0},{"$f":"IFERROR($E74*SUMIF('Daily Log'!$AC$18:$AC$1017,$B74,'Daily Log'!$AD$18:$AD$1017),0)","v":0},{"$f":"IFERROR($E74*SUMIF('Daily Log'!$AF$18:$AF$1017,$B74,'Daily Log'!$AG$18:$AG$1017),0)","v":0},{"$f":"IFERROR($E74*SUMIF('Daily Log'!$AI$18:$AI$1017,$B74,'Daily Log'!$AJ$18:$AJ$1017),0)","v":0},{"$f":"IFERROR($E74*SUMIF('Daily Log'!$AL$18:$AL$1017,$B74,'Daily Log'!$AM$18:$AM$1017),0)","v":0},{"$f":"IFERROR($E74*SUMIF('Daily Log'!$AO$18:$AO$1017,$B74,'Daily Log'!$AP$18:$AP$1017),0)","v":0},{"$f":"IFERROR($E74*SUMIF('Daily Log'!$AR$18:$AR$1017,$B74,'Daily Log'!$AS$18:$AS$1017),0)","v":0},{"$f":"IFERROR($E74*SUMIF('Daily Log'!$AU$18:$AU$1017,$B74,'Daily Log'!$AV$18:$AV$1017),0)","v":0},{"$f":"IFERROR($E74*SUMIF('Daily Log'!$AX$18:$AX$1017,$B74,'Daily Log'!$AY$18:$AY$1017),0)","v":0},{"$f":"IFERROR($E74*SUMIF('Daily Log'!$BA$18:$BA$1017,$B74,'Daily Log'!$BB$18:$BB$1017),0)","v":0},{"$f":"IFERROR($E74*SUMIF('Daily Log'!$BD$18:$BD$1017,$B74,'Daily Log'!$BE$18:$BE$1017),0)","v":0},{"$f":"IFERROR($E74*SUMIF('Daily Log'!$BG$18:$BG$1017,$B74,'Daily Log'!$BH$18:$BH$1017),0)","v":0},{"$f":"IFERROR($E74*SUMIF('Daily Log'!$BJ$18:$BJ$1017,$B74,'Daily Log'!$BK$18:$BK$1017),0)","v":0},{"$f":"IFERROR($E74*SUMIF('Daily Log'!$BM$18:$BM$1017,$B74,'Daily Log'!$BN$18:$BN$1017),0)","v":0},{"$f":"IFERROR($E74*SUMIF('Daily Log'!$BP$18:$BP$1017,$B74,'Daily Log'!$BQ$18:$BQ$1017),0)","v":0},{"$f":"IFERROR($E74*SUMIF('Daily Log'!$BS$18:$BS$1017,$B74,'Daily Log'!$BT$18:$BT$1017),0)","v":0},{"$f":"IFERROR($E74*SUMIF('Daily Log'!$BV$18:$BV$1017,$B74,'Daily Log'!$BW$18:$BW$1017),0)","v":0},{"$f":"IFERROR($E74*SUMIF('Daily Log'!$BY$18:$BY$1017,$B74,'Daily Log'!$BZ$18:$BZ$1017),0)","v":0},{"$f":"IFERROR($E74*SUMIF('Daily Log'!$CB$18:$CB$1017,$B74,'Daily Log'!$CC$18:$CC$1017),0)","v":0},{"$f":"IFERROR($E74*SUMIF('Daily Log'!$CE$18:$CE$1017,$B74,'Daily Log'!$CF$18:$CF$1017),0)","v":0},{"$f":"IFERROR($E74*SUMIF('Daily Log'!$CH$18:$CH$1017,$B74,'Daily Log'!$CI$18:$CI$1017),0)","v":0},{"$f":"IFERROR($E74*SUMIF('Daily Log'!$CK$18:$CK$1017,$B74,'Daily Log'!$CL$18:$CL$1017),0)","v":0},{"$f":"IFERROR($E74*SUMIF('Daily Log'!$CN$18:$CN$1017,$B74,'Daily Log'!$CO$18:$CO$1017),0)","v":6}]
[null,"AF38 91308:MC RING",null,"KLKD",1,6,{"$f":"IFERROR($E75*SUMIF('Daily Log'!$B$18:$B$1017,$B75,'Daily Log'!$C$18:$C$1017),0)","v":0},{"$f":"IFERROR($E75*SUMIF('Daily Log'!$E$18:$E$1017,$B75,'Daily Log'!$F$18:$F$1017),0)","v":0},{"$f":"IFERROR($E75*SUMIF('Daily Log'!$H$18:$H$1017,$B75,'Daily Log'!$I$18:$I$1017),0)","v":0},{"$f":"IFERROR($E75*SUMIF('Daily Log'!$K$18:$K$1017,$B75,'Daily Log'!$L$18:$L$1017),0)","v":0},{"$f":"IFERROR($E75*SUMIF('Daily Log'!$N$18:$N$1017,$B75,'Daily Log'!$O$18:$O$1017),0)","v":0},{"$f":"IFERROR($E75*SUMIF('Daily Log'!$Q$18:$Q$1017,$B75,'Daily Log'!$R$18:$R$1017),0)","v":0},{"$f":"IFERROR($E75*SUMIF('Daily Log'!$T$18:$T$1017,$B75,'Daily Log'!$U$18:$U$1017),0)","v":0},{"$f":"IFERROR($E75*SUMIF('Daily Log'!$W$18:$W$1017,$B75,'Daily Log'!$X$18:$X$1017),0)","v":0},{"$f":"IFERROR($E75*SUMIF('Daily Log'!$Z$18:$Z$1017,$B75,'Daily Log'!$AA$18:$AA$1017),0)","v":0},{"$f":"IFERROR($E75*SUMIF('Daily Log'!$AC$18:$AC$1017,$B75,'Daily Log'!$AD$18:$AD$1017),0)","v":0},{"$f":"IFERROR($E75*SUMIF('Daily Log'!$AF$18:$AF$1017,$B75,'Daily Log'!$AG$18:$AG$1017),0)","v":0},{"$f":"IFERROR($E75*SUMIF('Daily Log'!$AI$18:$AI$1017,$B75,'Daily Log'!$AJ$18:$AJ$1017),0)","v":0},{"$f":"IFERROR($E75*SUMIF('Daily Log'!$AL$18:$AL$1017,$B75,'Daily Log'!$AM$18:$AM$1017),0)","v":0},{"$f":"IFERROR($E75*SUMIF('Daily Log'!$AO$18:$AO$1017,$B75,'Daily Log'!$AP$18:$AP$1017),0)","v":0},{"$f":"IFERROR($E75*SUMIF('Daily Log'!$AR$18:$AR$1017,$B75,'Daily Log'!$AS$18:$AS$1017),0)","v":0},{"$f":"IFERROR($E75*SUMIF('Daily Log'!$AU$18:$AU$1017,$B75,'Daily Log'!$AV$18:$AV$1017),0)","v":0},{"$f":"IFERROR($E75*SUMIF('Daily Log'!$AX$18:$AX$1017,$B75,'Daily Log'!$AY$18:$AY$1017),0)","v":0},{"$f":"IFERROR($E75*SUMIF('Daily Log'!$BA$18:$BA$1017,$B75,'Daily Log'!$BB$18:$BB$1017),0)","v":0},{"$f":"IFERROR($E75*SUMIF('Daily Log'!$BD$18:$BD$1017,$B75,'Daily Log'!$BE$18:$BE$1017),0)","v":0},{"$f":"IFERROR($E75*SUMIF('Daily Log'!$BG$18:$BG$1017,$B75,'Daily Log'!$BH$18:$BH$1017),0)","v":0},{"$f":"IFERROR($E75*SUMIF('Daily Log'!$BJ$18:$BJ$1017,$B75,'Daily Log'!$BK$18:$BK$1017),0)","v":0},{"$f":"IFERROR($E75*SUMIF('Daily Log'!$BM$18:$BM$1017,$B75,'Daily Log'!$BN$18:$BN$1017),0)","v":0},{"$f":"IFERROR($E75*SUMIF('Daily Log'!$BP$18:$BP$1017,$B75,'Daily Log'!$BQ$18:$BQ$1017),0)","v":0},{"$f":"IFERROR($E75*SUMIF('Daily Log'!$BS$18:$BS$1017,$B75,'Daily Log'!$BT$18:$BT$1017),0)","v":0},{"$f":"IFERROR($E75*SUMIF('Daily Log'!$BV$18:$BV$1017,$B75,'Daily Log'!$BW$18:$BW$1017),0)","v":0},{"$f":"IFERROR($E75*SUMIF('Daily Log'!$BY$18:$BY$1017,$B75,'Daily Log'!$BZ$18:$BZ$1017),0)","v":0},{"$f":"IFERROR($E75*SUMIF('Daily Log'!$CB$18:$CB$1017,$B75,'Daily Log'!$CC$18:$CC$1017),0)","v":0},{"$f":"IFERROR($E75*SUMIF('Daily Log'!$CE$18:$CE$1017,$B75,'Daily Log'!$CF$18:$CF$1017),0)","v":0},{"$f":"IFERROR($E75*SUMIF('Daily Log'!$CH$18:$CH$1017,$B75,'Daily Log'!$CI$18:$CI$1017),0)","v":0},{"$f":"IFERROR($E75*SUMIF('Daily Log'!$CK$18:$CK$1017,$B75,'Daily Log'!$CL$18:$CL$1017),0)","v":0},{"$f":"IFERROR($E75*SUMIF('Daily Log'!$CN$18:$CN$1017,$B75,'Daily Log'!$CO$18:$CO$1017),0)","v":6}]
[null,"AF39 91309:MC S.FRIES",null,"KLKD",1,9,{"$f":"IFERROR($E76*SUMIF('Daily Log'!$B$18:$B$1017,$B76,'Daily Log'!$C$18:$C$1017),0)","v":0},{"$f":"IFERROR($E76*SUMIF('Daily Log'!$E$18:$E$1017,$B76,'Daily Log'!$F$18:$F$1017),0)","v":0},{"$f":"IFERROR($E76*SUMIF('Daily Log'!$H$18:$H$1017,$B76,'Daily Log'!$I$18:$I$1017),0)","v":0},{"$f":"IFERROR($E76*SUMIF('Daily Log'!$K$18:$K$1017,$B76,'Daily Log'!$L$18:$L$1017),0)","v":0},{"$f":"IFERROR($E76*SUMIF('Daily Log'!$N$18:$N$1017,$B76,'Daily Log'!$O$18:$O$1017),0)","v":0},{"$f":"IFERROR($E76*SUMIF('Daily Log'!$Q$18:$Q$1017,$B76,'Daily Log'!$R$18:$R$1017),0)","v":0},{"$f":"IFERROR($E76*SUMIF('Daily Log'!$T$18:$T$1017,$B76,'Daily Log'!$U$18:$U$1017),0)","v":0},{"$f":"IFERROR($E76*SUMIF('Daily Log'!$W$18:$W$1017,$B76,'Daily Log'!$X$18:$X$1017),0)","v":0},{"$f":"IFERROR($E76*SUMIF('Daily Log'!$Z$18:$Z$1017,$B76,'Daily Log'!$AA$18:$AA$1017),0)","v":0},{"$f":"IFERROR($E76*SUMIF('Daily Log'!$AC$18:$AC$1017,$B76,'Daily Log'!$AD$18:$AD$1017),0)","v":0},{"$f":"IFERROR($E76*SUMIF('Daily Log'!$AF$18:$AF$1017,$B76,'Daily Log'!$AG$18:$AG$1017),0)","v":0},{"$f":"IFERROR($E76*SUMIF('Daily Log'!$AI$18:$AI$1017,$B76,'Daily Log'!$AJ$18:$AJ$1017),0)","v":0},{"$f":"IFERROR($E76*SUMIF('Daily Log'!$AL$18:$AL$1017,$B76,'Daily Log'!$AM$18:$AM$1017),0)","v":0},{"$f":"IFERROR($E76*SUMIF('Daily Log'!$AO$18:$AO$1017,$B76,'Daily Log'!$AP$18:$AP$1017),0)","v":0},{"$f":"IFERROR($E76*SUMIF('Daily Log'!$AR$18:$AR$1017,$B76,'Daily Log'!$AS$18:$AS$1017),0)","v":0},{"$f":"IFERROR($E76*SUMIF('Daily Log'!$AU$18:$AU$1017,$B76,'Daily Log'!$AV$18:$AV$1017),0)","v":0},{"$f":"IFERROR($E76*SUMIF('Daily Log'!$AX$18:$AX$1017,$B76,'Daily Log'!$AY$18:$AY$1017),0)","v":0},{"$f":"IFERROR($E76*SUMIF('Daily Log'!$BA$18:$BA$1017,$B76,'Daily Log'!$BB$18:$BB$1017),0)","v":0},{"$f":"IFERROR($E76*SUMIF('Daily Log'!$BD$18:$BD$1017,$B76,'Daily Log'!$BE$18:$BE$1017),0)","v":0},{"$f":"IFERROR($E76*SUMIF('Daily Log'!$BG$18:$BG$1017,$B76,'Daily Log'!$BH$18:$BH$1017),0)","v":0},{"$f":"IFERROR($E76*SUMIF('Daily Log'!$BJ$18:$BJ$1017,$B76,'Daily Log'!$BK$18:$BK$1017),0)","v":0},{"$f":"IFERROR($E76*SUMIF('Daily Log'!$BM$18:$BM$1017,$B76,'Daily Log'!$BN$18:$BN$1017),0)","v":0},{"$f":"IFERROR($E76*SUMIF('Daily Log'!$BP$18:$BP$1017,$B76,'Daily Log'!$BQ$18:$BQ$1017),0)","v":0},{"$f":"IFERROR($E76*SUMIF('Daily Log'!$BS$18:$BS$1017,$B76,'Daily Log'!$BT$18:$BT$1017),0)","v":0},{"$f":"IFERROR($E76*SUMIF('Daily Log'!$BV$18:$BV$1017,$B76,'Daily Log'!$BW$18:$BW$1017),0)","v":0},{"$f":"IFERROR($E76*SUMIF('Daily Log'!$BY$18:$BY$1017,$B76,'Daily Log'!$BZ$18:$BZ$1017),0)","v":0},{"$f":"IFERROR($E76*SUMIF('Daily Log'!$CB$18:$CB$1017,$B76,'Daily Log'!$CC$18:$CC$1017),0)","v":0},{"$f":"IFERROR($E76*SUMIF('Daily Log'!$CE$18:$CE$1017,$B76,'Daily Log'!$CF$18:$CF$1017),0)","v":0},{"$f":"IFERROR($E76*SUMIF('Daily Log'!$CH$18:$CH$1017,$B76,'Daily Log'!$CI$18:$CI$1017),0)","v":0},{"$f":"IFERROR($E76*SUMIF('Daily Log'!$CK$18:$CK$1017,$B76,'Daily Log'!$CL$18:$CL$1017),0)","v":0},{"$f":"IFERROR($E76*SUMIF('Daily Log'!$CN$18:$CN$1017,$B76,'Daily Log'!$CO$18:$CO$1017),0)","v":9}]
[null,"AF40 91310:MC HP SMIL",null,"KLKD",1,3,{"$f":"IFERROR($E77*SUMIF('Daily Log'!$B$18:$B$1017,$B77,'Daily Log'!$C$18:$C$1017),0)","v":0},{"$f":"IFERROR($E77*SUMIF('Daily Log'!$E$18:$E$1017,$B77,'Daily Log'!$F$18:$F$1017),0)","v":0},{"$f":"IFERROR($E77*SUMIF('Daily Log'!$H$18:$H$1017,$B77,'Daily Log'!$I$18:$I$1017),0)","v":0},{"$f":"IFERROR($E77*SUMIF('Daily Log'!$K$18:$K$1017,$B77,'Daily Log'!$L$18:$L$1017),0)","v":0},{"$f":"IFERROR($E77*SUMIF('Daily Log'!$N$18:$N$1017,$B77,'Daily Log'!$O$18:$O$1017),0)","v":0},{"$f":"IFERROR($E77*SUMIF('Daily Log'!$Q$18:$Q$1017,$B77,'Daily Log'!$R$18:$R$1017),0)","v":0},{"$f":"IFERROR($E77*SUMIF('Daily Log'!$T$18:$T$1017,$B77,'Daily Log'!$U$18:$U$1017),0)","v":0},{"$f":"IFERROR($E77*SUMIF('Daily Log'!$W$18:$W$1017,$B77,'Daily Log'!$X$18:$X$1017),0)","v":0},{"$f":"IFERROR($E77*SUMIF('Daily Log'!$Z$18:$Z$1017,$B77,'Daily Log'!$AA$18:$AA$1017),0)","v":0},{"$f":"IFERROR($E77*SUMIF('Daily Log'!$AC$18:$AC$1017,$B77,'Daily Log'!$AD$18:$AD$1017),0)","v":0},{"$f":"IFERROR($E77*SUMIF('Daily Log'!$AF$18:$AF$1017,$B77,'Daily Log'!$AG$18:$AG$1017),0)","v":0},{"$f":"IFERROR($E77*SUMIF('Daily Log'!$AI$18:$AI$1017,$B77,'Daily Log'!$AJ$18:$AJ$1017),0)","v":0},{"$f":"IFERROR($E77*SUMIF('Daily Log'!$AL$18:$AL$1017,$B77,'Daily Log'!$AM$18:$AM$1017),0)","v":0},{"$f":"IFERROR($E77*SUMIF('Daily Log'!$AO$18:$AO$1017,$B77,'Daily Log'!$AP$18:$AP$1017),0)","v":0},{"$f":"IFERROR($E77*SUMIF('Daily Log'!$AR$18:$AR$1017,$B77,'Daily Log'!$AS$18:$AS$1017),0)","v":0},{"$f":"IFERROR($E77*SUMIF('Daily Log'!$AU$18:$AU$1017,$B77,'Daily Log'!$AV$18:$AV$1017),0)","v":0},{"$f":"IFERROR($E77*SUMIF('Daily Log'!$AX$18:$AX$1017,$B77,'Daily Log'!$AY$18:$AY$1017),0)","v":0},{"$f":"IFERROR($E77*SUMIF('Daily Log'!$BA$18:$BA$1017,$B77,'Daily Log'!$BB$18:$BB$1017),0)","v":0},{"$f":"IFERROR($E77*SUMIF('Daily Log'!$BD$18:$BD$1017,$B77,'Daily Log'!$BE$18:$BE$1017),0)","v":0},{"$f":"IFERROR($E77*SUMIF('Daily Log'!$BG$18:$BG$1017,$B77,'Daily Log'!$BH$18:$BH$1017),0)","v":0},{"$f":"IFERROR($E77*SUMIF('Daily Log'!$BJ$18:$BJ$1017,$B77,'Daily Log'!$BK$18:$BK$1017),0)","v":0},{"$f":"IFERROR($E77*SUMIF('Daily Log'!$BM$18:$BM$1017,$B77,'Daily Log'!$BN$18:$BN$1017),0)","v":0},{"$f":"IFERROR($E77*SUMIF('Daily Log'!$BP$18:$BP$1017,$B77,'Daily Log'!$BQ$18:$BQ$1017),0)","v":0},{"$f":"IFERROR($E77*SUMIF('Daily Log'!$BS$18:$BS$1017,$B77,'Daily Log'!$BT$18:$BT$1017),0)","v":0},{"$f":"IFERROR($E77*SUMIF('Daily Log'!$BV$18:$BV$1017,$B77,'Daily Log'!$BW$18:$BW$1017),0)","v":0},{"$f":"IFERROR($E77*SUMIF('Daily Log'!$BY$18:$BY$1017,$B77,'Daily Log'!$BZ$18:$BZ$1017),0)","v":0},{"$f":"IFERROR($E77*SUMIF('Daily Log'!$CB$18:$CB$1017,$B77,'Daily Log'!$CC$18:$CC$1017),0)","v":0},{"$f":"IFERROR($E77*SUMIF('Daily Log'!$CE$18:$CE$1017,$B77,'Daily Log'!$CF$18:$CF$1017),0)","v":0},{"$f":"IFERROR($E77*SUMIF('Daily Log'!$CH$18:$CH$1017,$B77,'Daily Log'!$CI$18:$CI$1017),0)","v":0},{"$f":"IFERROR($E77*SUMIF('Daily Log'!$CK$18:$CK$1017,$B77,'Daily Log'!$CL$18:$CL$1017),0)","v":0},{"$f":"IFERROR($E77*SUMIF('Daily Log'!$CN$18:$CN$1017,$B77,'Daily Log'!$CO$18:$CO$1017),0)","v":3}]
[null,"AA01 1201:SFD STICK",null,"SIDE ORDER",1,1,{"$f":"IFERROR($E78*SUMIF('Daily Log'!$B$18:$B$1017,$B78,'Daily Log'!$C$18:$C$1017),0)","v":0},{"$f":"IFERROR($E78*SUMIF('Daily Log'!$E$18:$E$1017,$B78,'Daily Log'!$F$18:$F$1017),0)","v":0},{"$f":"IFERROR($E78*SUMIF('Daily Log'!$H$18:$H$1017,$B78,'Daily Log'!$I$18:$I$1017),0)","v":0},{"$f":"IFERROR($E78*SUMIF('Daily Log'!$K$18:$K$1017,$B78,'Daily Log'!$L$18:$L$1017),0)","v":0},{"$f":"IFERROR($E78*SUMIF('Daily Log'!$N$18:$N$1017,$B78,'Daily Log'!$O$18:$O$1017),0)","v":0},{"$f":"IFERROR($E78*SUMIF('Daily Log'!$Q$18:$Q$1017,$B78,'Daily Log'!$R$18:$R$1017),0)","v":0},{"$f":"IFERROR($E78*SUMIF('Daily Log'!$T$18:$T$1017,$B78,'Daily Log'!$U$18:$U$1017),0)","v":0},{"$f":"IFERROR($E78*SUMIF('Daily Log'!$W$18:$W$1017,$B78,'Daily Log'!$X$18:$X$1017),0)","v":0},{"$f":"IFERROR($E78*SUMIF('Daily Log'!$Z$18:$Z$1017,$B78,'Daily Log'!$AA$18:$AA$1017),0)","v":0},{"$f":"IFERROR($E78*SUMIF('Daily Log'!$AC$18:$AC$1017,$B78,'Daily Log'!$AD$18:$AD$1017),0)","v":0},{"$f":"IFERROR($E78*SUMIF('Daily Log'!$AF$18:$AF$1017,$B78,'Daily Log'!$AG$18:$AG$1017),0)","v":0},{"$f":"IFERROR($E78*SUMIF('Daily Log'!$AI$18:$AI$1017,$B78,'Daily Log'!$AJ$18:$AJ$1017),0)","v":0},{"$f":"IFERROR($E78*SUMIF('Daily Log'!$AL$18:$AL$1017,$B78,'Daily Log'!$AM$18:$AM$1017),0)","v":0},{"$f":"IFERROR($E78*SUMIF('Daily Log'!$AO$18:$AO$1017,$B78,'Daily Log'!$AP$18:$AP$1017),0)","v":0},{"$f":"IFERROR($E78*SUMIF('Daily Log'!$AR$18:$AR$1017,$B78,'Daily Log'!$AS$18:$AS$1017),0)","v":0},{"$f":"IFERROR($E78*SUMIF('Daily Log'!$AU$18:$AU$1017,$B78,'Daily Log'!$AV$18:$AV$1017),0)","v":0},{"$f":"IFERROR($E78*SUMIF('Daily Log'!$AX$18:$AX$1017,$B78,'Daily Log'!$AY$18:$AY$1017),0)","v":0},{"$f":"IFERROR($E78*SUMIF('Daily Log'!$BA$18:$BA$1017,$B78,'Daily Log'!$BB$18:$BB$1017),0)","v":0},{"$f":"IFERROR($E78*SUMIF('Daily Log'!$BD$18:$BD$1017,$B78,'Daily Log'!$BE$18:$BE$1017),0)","v":0},{"$f":"IFERROR($E78*SUMIF('Daily Log'!$BG$18:$BG$1017,$B78,'Daily Log'!$BH$18:$BH$1017),0)","v":0},{"$f":"IFERROR($E78*SUMIF('Daily Log'!$BJ$18:$BJ$1017,$B78,'Daily Log'!$BK$18:$BK$1017),0)","v":0},{"$f":"IFERROR($E78*SUMIF('Daily Log'!$BM$18:$BM$1017,$B78,'Daily Log'!$BN$18:$BN$1017),0)","v":0},{"$f":"IFERROR($E78*SUMIF('Daily Log'!$BP$18:$BP$1017,$B78,'Daily Log'!$BQ$18:$BQ$1017),0)","v":0},{"$f":"IFERROR($E78*SUMIF('Daily Log'!$BS$18:$BS$1017,$B78,'Daily Log'!$BT$18:$BT$1017),0)","v":0},{"$f":"IFERROR($E78*SUMIF('Daily Log'!$BV$18:$BV$1017,$B78,'Daily Log'!$BW$18:$BW$1017),0)","v":0},{"$f":"IFERROR($E78*SUMIF('Daily Log'!$BY$18:$BY$1017,$B78,'Daily Log'!$BZ$18:$BZ$1017),0)","v":0},{"$f":"IFERROR($E78*SUMIF('Daily Log'!$CB$18:$CB$1017,$B78,'Daily Log'!$CC$18:$CC$1017),0)","v":0},{"$f":"IFERROR($E78*SUMIF('Daily Log'!$CE$18:$CE$1017,$B78,'Daily Log'!$CF$18:$CF$1017),0)","v":0},{"$f":"IFERROR($E78*SUMIF('Daily Log'!$CH$18:$CH$1017,$B78,'Daily Log'!$CI$18:$CI$1017),0)","v":0},{"$f":"IFERROR($E78*SUMIF('Daily Log'!$CK$18:$CK$1017,$B78,'Daily Log'!$CL$18:$CL$1017),0)","v":0},{"$f":"IFERROR($E78*SUMIF('Daily Log'!$CN$18:$CN$1017,$B78,'Daily Log'!$CO$18:$CO$1017),0)","v":1}]
[null,"AA02 1202:FREN FRIES",null,"SIDE ORDER",1,64,{"$f":"IFERROR($E79*SUMIF('Daily Log'!$B$18:$B$1017,$B79,'Daily Log'!$C$18:$C$1017),0)","v":0},{"$f":"IFERROR($E79*SUMIF('Daily Log'!$E$18:$E$1017,$B79,'Daily Log'!$F$18:$F$1017),0)","v":0},{"$f":"IFERROR($E79*SUMIF('Daily Log'!$H$18:$H$1017,$B79,'Daily Log'!$I$18:$I$1017),0)","v":0},{"$f":"IFERROR($E79*SUMIF('Daily Log'!$K$18:$K$1017,$B79,'Daily Log'!$L$18:$L$1017),0)","v":0},{"$f":"IFERROR($E79*SUMIF('Daily Log'!$N$18:$N$1017,$B79,'Daily Log'!$O$18:$O$1017),0)","v":0},{"$f":"IFERROR($E79*SUMIF('Daily Log'!$Q$18:$Q$1017,$B79,'Daily Log'!$R$18:$R$1017),0)","v":0},{"$f":"IFERROR($E79*SUMIF('Daily Log'!$T$18:$T$1017,$B79,'Daily Log'!$U$18:$U$1017),0)","v":0},{"$f":"IFERROR($E79*SUMIF('Daily Log'!$W$18:$W$1017,$B79,'Daily Log'!$X$18:$X$1017),0)","v":0},{"$f":"IFERROR($E79*SUMIF('Daily Log'!$Z$18:$Z$1017,$B79,'Daily Log'!$AA$18:$AA$1017),0)","v":0},{"$f":"IFERROR($E79*SUMIF('Daily Log'!$AC$18:$AC$1017,$B79,'Daily Log'!$AD$18:$AD$1017),0)","v":0},{"$f":"IFERROR($E79*SUMIF('Daily Log'!$AF$18:$AF$1017,$B79,'Daily Log'!$AG$18:$AG$1017),0)","v":0},{"$f":"IFERROR($E79*SUMIF('Daily Log'!$AI$18:$AI$1017,$B79,'Daily Log'!$AJ$18:$AJ$1017),0)","v":0},{"$f":"IFERROR($E79*SUMIF('Daily Log'!$AL$18:$AL$1017,$B79,'Daily Log'!$AM$18:$AM$1017),0)","v":0},{"$f":"IFERROR($E79*SUMIF('Daily Log'!$AO$18:$AO$1017,$B79,'Daily Log'!$AP$18:$AP$1017),0)","v":0},{"$f":"IFERROR($E79*SUMIF('Daily Log'!$AR$18:$AR$1017,$B79,'Daily Log'!$AS$18:$AS$1017),0)","v":0},{"$f":"IFERROR($E79*SUMIF('Daily Log'!$AU$18:$AU$1017,$B79,'Daily Log'!$AV$18:$AV$1017),0)","v":0},{"$f":"IFERROR($E79*SUMIF('Daily Log'!$AX$18:$AX$1017,$B79,'Daily Log'!$AY$18:$AY$1017),0)","v":0},{"$f":"IFERROR($E79*SUMIF('Daily Log'!$BA$18:$BA$1017,$B79,'Daily Log'!$BB$18:$BB$1017),0)","v":0},{"$f":"IFERROR($E79*SUMIF('Daily Log'!$BD$18:$BD$1017,$B79,'Daily Log'!$BE$18:$BE$1017),0)","v":0},{"$f":"IFERROR($E79*SUMIF('Daily Log'!$BG$18:$BG$1017,$B79,'Daily Log'!$BH$18:$BH$1017),0)","v":0},{"$f":"IFERROR($E79*SUMIF('Daily Log'!$BJ$18:$BJ$1017,$B79,'Daily Log'!$BK$18:$BK$1017),0)","v":0},{"$f":"IFERROR($E79*SUMIF('Daily Log'!$BM$18:$BM$1017,$B79,'Daily Log'!$BN$18:$BN$1017),0)","v":0},{"$f":"IFERROR($E79*SUMIF('Daily Log'!$BP$18:$BP$1017,$B79,'Daily Log'!$BQ$18:$BQ$1017),0)","v":0},{"$f":"IFERROR($E79*SUMIF('Daily Log'!$BS$18:$BS$1017,$B79,'Daily Log'!$BT$18:$BT$1017),0)","v":0},{"$f":"IFERROR($E79*SUMIF('Daily Log'!$BV$18:$BV$1017,$B79,'Daily Log'!$BW$18:$BW$1017),0)","v":0},{"$f":"IFERROR($E79*SUMIF('Daily Log'!$BY$18:$BY$1017,$B79,'Daily Log'!$BZ$18:$BZ$1017),0)","v":0},{"$f":"IFERROR($E79*SUMIF('Daily Log'!$CB$18:$CB$1017,$B79,'Daily Log'!$CC$18:$CC$1017),0)","v":0},{"$f":"IFERROR($E79*SUMIF('Daily Log'!$CE$18:$CE$1017,$B79,'Daily Log'!$CF$18:$CF$1017),0)","v":0},{"$f":"IFERROR($E79*SUMIF('Daily Log'!$CH$18:$CH$1017,$B79,'Daily Log'!$CI$18:$CI$1017),0)","v":0},{"$f":"IFERROR($E79*SUMIF('Daily Log'!$CK$18:$CK$1017,$B79,'Daily Log'!$CL$18:$CL$1017),0)","v":0},{"$f":"IFERROR($E79*SUMIF('Daily Log'!$CN$18:$CN$1017,$B79,'Daily Log'!$CO$18:$CO$1017),0)","v":64}]
[null,"AA03 1203:GOLD MR",null,"SIDE ORDER",1,9,{"$f":"IFERROR($E80*SUMIF('Daily Log'!$B$18:$B$1017,$B80,'Daily Log'!$C$18:$C$1017),0)","v":0},{"$f":"IFERROR($E80*SUMIF('Daily Log'!$E$18:$E$1017,$B80,'Daily Log'!$F$18:$F$1017),0)","v":0},{"$f":"IFERROR($E80*SUMIF('Daily Log'!$H$18:$H$1017,$B80,'Daily Log'!$I$18:$I$1017),0)","v":0},{"$f":"IFERROR($E80*SUMIF('Daily Log'!$K$18:$K$1017,$B80,'Daily Log'!$L$18:$L$1017),0)","v":0},{"$f":"IFERROR($E80*SUMIF('Daily Log'!$N$18:$N$1017,$B80,'Daily Log'!$O$18:$O$1017),0)","v":0},{"$f":"IFERROR($E80*SUMIF('Daily Log'!$Q$18:$Q$1017,$B80,'Daily Log'!$R$18:$R$1017),0)","v":0},{"$f":"IFERROR($E80*SUMIF('Daily Log'!$T$18:$T$1017,$B80,'Daily Log'!$U$18:$U$1017),0)","v":0},{"$f":"IFERROR($E80*SUMIF('Daily Log'!$W$18:$W$1017,$B80,'Daily Log'!$X$18:$X$1017),0)","v":0},{"$f":"IFERROR($E80*SUMIF('Daily Log'!$Z$18:$Z$1017,$B80,'Daily Log'!$AA$18:$AA$1017),0)","v":0},{"$f":"IFERROR($E80*SUMIF('Daily Log'!$AC$18:$AC$1017,$B80,'Daily Log'!$AD$18:$AD$1017),0)","v":0},{"$f":"IFERROR($E80*SUMIF('Daily Log'!$AF$18:$AF$1017,$B80,'Daily Log'!$AG$18:$AG$1017),0)","v":0},{"$f":"IFERROR($E80*SUMIF('Daily Log'!$AI$18:$AI$1017,$B80,'Daily Log'!$AJ$18:$AJ$1017),0)","v":0},{"$f":"IFERROR($E80*SUMIF('Daily Log'!$AL$18:$AL$1017,$B80,'Daily Log'!$AM$18:$AM$1017),0)","v":0},{"$f":"IFERROR($E80*SUMIF('Daily Log'!$AO$18:$AO$1017,$B80,'Daily Log'!$AP$18:$AP$1017),0)","v":0},{"$f":"IFERROR($E80*SUMIF('Daily Log'!$AR$18:$AR$1017,$B80,'Daily Log'!$AS$18:$AS$1017),0)","v":0},{"$f":"IFERROR($E80*SUMIF('Daily Log'!$AU$18:$AU$1017,$B80,'Daily Log'!$AV$18:$AV$1017),0)","v":0},{"$f":"IFERROR($E80*SUMIF('Daily Log'!$AX$18:$AX$1017,$B80,'Daily Log'!$AY$18:$AY$1017),0)","v":0},{"$f":"IFERROR($E80*SUMIF('Daily Log'!$BA$18:$BA$1017,$B80,'Daily Log'!$BB$18:$BB$1017),0)","v":0},{"$f":"IFERROR($E80*SUMIF('Daily Log'!$BD$18:$BD$1017,$B80,'Daily Log'!$BE$18:$BE$1017),0)","v":0},{"$f":"IFERROR($E80*SUMIF('Daily Log'!$BG$18:$BG$1017,$B80,'Daily Log'!$BH$18:$BH$1017),0)","v":0},{"$f":"IFERROR($E80*SUMIF('Daily Log'!$BJ$18:$BJ$1017,$B80,'Daily Log'!$BK$18:$BK$1017),0)","v":0},{"$f":"IFERROR($E80*SUMIF('Daily Log'!$BM$18:$BM$1017,$B80,'Daily Log'!$BN$18:$BN$1017),0)","v":0},{"$f":"IFERROR($E80*SUMIF('Daily Log'!$BP$18:$BP$1017,$B80,'Daily Log'!$BQ$18:$BQ$1017),0)","v":0},{"$f":"IFERROR($E80*SUMIF('Daily Log'!$BS$18:$BS$1017,$B80,'Daily Log'!$BT$18:$BT$1017),0)","v":0},{"$f":"IFERROR($E80*SUMIF('Daily Log'!$BV$18:$BV$1017,$B80,'Daily Log'!$BW$18:$BW$1017),0)","v":0},{"$f":"IFERROR($E80*SUMIF('Daily Log'!$BY$18:$BY$1017,$B80,'Daily Log'!$BZ$18:$BZ$1017),0)","v":0},{"$f":"IFERROR($E80*SUMIF('Daily Log'!$CB$18:$CB$1017,$B80,'Daily Log'!$CC$18:$CC$1017),0)","v":0},{"$f":"IFERROR($E80*SUMIF('Daily Log'!$CE$18:$CE$1017,$B80,'Daily Log'!$CF$18:$CF$1017),0)","v":0},{"$f":"IFERROR($E80*SUMIF('Daily Log'!$CH$18:$CH$1017,$B80,'Daily Log'!$CI$18:$CI$1017),0)","v":0},{"$f":"IFERROR($E80*SUMIF('Daily Log'!$CK$18:$CK$1017,$B80,'Daily Log'!$CL$18:$CL$1017),0)","v":0},{"$f":"IFERROR($E80*SUMIF('Daily Log'!$CN$18:$CN$1017,$B80,'Daily Log'!$CO$18:$CO$1017),0)","v":9}]
[null,"AA04 1204:FSH BALL",null,"SIDE ORDER",1,4,{"$f":"IFERROR($E81*SUMIF('Daily Log'!$B$18:$B$1017,$B81,'Daily Log'!$C$18:$C$1017),0)","v":0},{"$f":"IFERROR($E81*SUMIF('Daily Log'!$E$18:$E$1017,$B81,'Daily Log'!$F$18:$F$1017),0)","v":0},{"$f":"IFERROR($E81*SUMIF('Daily Log'!$H$18:$H$1017,$B81,'Daily Log'!$I$18:$I$1017),0)","v":0},{"$f":"IFERROR($E81*SUMIF('Daily Log'!$K$18:$K$1017,$B81,'Daily Log'!$L$18:$L$1017),0)","v":0},{"$f":"IFERROR($E81*SUMIF('Daily Log'!$N$18:$N$1017,$B81,'Daily Log'!$O$18:$O$1017),0)","v":0},{"$f":"IFERROR($E81*SUMIF('Daily Log'!$Q$18:$Q$1017,$B81,'Daily Log'!$R$18:$R$1017),0)","v":0},{"$f":"IFERROR($E81*SUMIF('Daily Log'!$T$18:$T$1017,$B81,'Daily Log'!$U$18:$U$1017),0)","v":0},{"$f":"IFERROR($E81*SUMIF('Daily Log'!$W$18:$W$1017,$B81,'Daily Log'!$X$18:$X$1017),0)","v":0},{"$f":"IFERROR($E81*SUMIF('Daily Log'!$Z$18:$Z$1017,$B81,'Daily Log'!$AA$18:$AA$1017),0)","v":0},{"$f":"IFERROR($E81*SUMIF('Daily Log'!$AC$18:$AC$1017,$B81,'Daily Log'!$AD$18:$AD$1017),0)","v":0},{"$f":"IFERROR($E81*SUMIF('Daily Log'!$AF$18:$AF$1017,$B81,'Daily Log'!$AG$18:$AG$1017),0)","v":0},{"$f":"IFERROR($E81*SUMIF('Daily Log'!$AI$18:$AI$1017,$B81,'Daily Log'!$AJ$18:$AJ$1017),0)","v":0},{"$f":"IFERROR($E81*SUMIF('Daily Log'!$AL$18:$AL$1017,$B81,'Daily Log'!$AM$18:$AM$1017),0)","v":0},{"$f":"IFERROR($E81*SUMIF('Daily Log'!$AO$18:$AO$1017,$B81,'Daily Log'!$AP$18:$AP$1017),0)","v":0},{"$f":"IFERROR($E81*SUMIF('Daily Log'!$AR$18:$AR$1017,$B81,'Daily Log'!$AS$18:$AS$1017),0)","v":0},{"$f":"IFERROR($E81*SUMIF('Daily Log'!$AU$18:$AU$1017,$B81,'Daily Log'!$AV$18:$AV$1017),0)","v":0},{"$f":"IFERROR($E81*SUMIF('Daily Log'!$AX$18:$AX$1017,$B81,'Daily Log'!$AY$18:$AY$1017),0)","v":0},{"$f":"IFERROR($E81*SUMIF('Daily Log'!$BA$18:$BA$1017,$B81,'Daily Log'!$BB$18:$BB$1017),0)","v":0},{"$f":"IFERROR($E81*SUMIF('Daily Log'!$BD$18:$BD$1017,$B81,'Daily Log'!$BE$18:$BE$1017),0)","v":0},{"$f":"IFERROR($E81*SUMIF('Daily Log'!$BG$18:$BG$1017,$B81,'Daily Log'!$BH$18:$BH$1017),0)","v":0},{"$f":"IFERROR($E81*SUMIF('Daily Log'!$BJ$18:$BJ$1017,$B81,'Daily Log'!$BK$18:$BK$1017),0)","v":0},{"$f":"IFERROR($E81*SUMIF('Daily Log'!$BM$18:$BM$1017,$B81,'Daily Log'!$BN$18:$BN$1017),0)","v":0},{"$f":"IFERROR($E81*SUMIF('Daily Log'!$BP$18:$BP$1017,$B81,'Daily Log'!$BQ$18:$BQ$1017),0)","v":0},{"$f":"IFERROR($E81*SUMIF('Daily Log'!$BS$18:$BS$1017,$B81,'Daily Log'!$BT$18:$BT$1017),0)","v":0},{"$f":"IFERROR($E81*SUMIF('Daily Log'!$BV$18:$BV$1017,$B81,'Daily Log'!$BW$18:$BW$1017),0)","v":0},{"$f":"IFERROR($E81*SUMIF('Daily Log'!$BY$18:$BY$1017,$B81,'Daily Log'!$BZ$18:$BZ$1017),0)","v":0},{"$f":"IFERROR($E81*SUMIF('Daily Log'!$CB$18:$CB$1017,$B81,'Daily Log'!$CC$18:$CC$1017),0)","v":0},{"$f":"IFERROR($E81*SUMIF('Daily Log'!$CE$18:$CE$1017,$B81,'Daily Log'!$CF$18:$CF$1017),0)","v":0},{"$f":"IFERROR($E81*SUMIF('Daily Log'!$CH$18:$CH$1017,$B81,'Daily Log'!$CI$18:$CI$1017),0)","v":0},{"$f":"IFERROR($E81*SUMIF('Daily Log'!$CK$18:$CK$1017,$B81,'Daily Log'!$CL$18:$CL$1017),0)","v":0},{"$f":"IFERROR($E81*SUMIF('Daily Log'!$CN$18:$CN$1017,$B81,'Daily Log'!$CO$18:$CO$1017),0)","v":4}]
[null,"AA05 1205:RAINBOW RL",null,"SIDE ORDER",1,0,{"$f":"IFERROR($E82*SUMIF('Daily Log'!$B$18:$B$1017,$B82,'Daily Log'!$C$18:$C$1017),0)","v":0},{"$f":"IFERROR($E82*SUMIF('Daily Log'!$E$18:$E$1017,$B82,'Daily Log'!$F$18:$F$1017),0)","v":0},{"$f":"IFERROR($E82*SUMIF('Daily Log'!$H$18:$H$1017,$B82,'Daily Log'!$I$18:$I$1017),0)","v":0},{"$f":"IFERROR($E82*SUMIF('Daily Log'!$K$18:$K$1017,$B82,'Daily Log'!$L$18:$L$1017),0)","v":0},{"$f":"IFERROR($E82*SUMIF('Daily Log'!$N$18:$N$1017,$B82,'Daily Log'!$O$18:$O$1017),0)","v":0},{"$f":"IFERROR($E82*SUMIF('Daily Log'!$Q$18:$Q$1017,$B82,'Daily Log'!$R$18:$R$1017),0)","v":0},{"$f":"IFERROR($E82*SUMIF('Daily Log'!$T$18:$T$1017,$B82,'Daily Log'!$U$18:$U$1017),0)","v":0},{"$f":"IFERROR($E82*SUMIF('Daily Log'!$W$18:$W$1017,$B82,'Daily Log'!$X$18:$X$1017),0)","v":0},{"$f":"IFERROR($E82*SUMIF('Daily Log'!$Z$18:$Z$1017,$B82,'Daily Log'!$AA$18:$AA$1017),0)","v":0},{"$f":"IFERROR($E82*SUMIF('Daily Log'!$AC$18:$AC$1017,$B82,'Daily Log'!$AD$18:$AD$1017),0)","v":0},{"$f":"IFERROR($E82*SUMIF('Daily Log'!$AF$18:$AF$1017,$B82,'Daily Log'!$AG$18:$AG$1017),0)","v":0},{"$f":"IFERROR($E82*SUMIF('Daily Log'!$AI$18:$AI$1017,$B82,'Daily Log'!$AJ$18:$AJ$1017),0)","v":0},{"$f":"IFERROR($E82*SUMIF('Daily Log'!$AL$18:$AL$1017,$B82,'Daily Log'!$AM$18:$AM$1017),0)","v":0},{"$f":"IFERROR($E82*SUMIF('Daily Log'!$AO$18:$AO$1017,$B82,'Daily Log'!$AP$18:$AP$1017),0)","v":0},{"$f":"IFERROR($E82*SUMIF('Daily Log'!$AR$18:$AR$1017,$B82,'Daily Log'!$AS$18:$AS$1017),0)","v":0},{"$f":"IFERROR($E82*SUMIF('Daily Log'!$AU$18:$AU$1017,$B82,'Daily Log'!$AV$18:$AV$1017),0)","v":0},{"$f":"IFERROR($E82*SUMIF('Daily Log'!$AX$18:$AX$1017,$B82,'Daily Log'!$AY$18:$AY$1017),0)","v":0},{"$f":"IFERROR($E82*SUMIF('Daily Log'!$BA$18:$BA$1017,$B82,'Daily Log'!$BB$18:$BB$1017),0)","v":0},{"$f":"IFERROR($E82*SUMIF('Daily Log'!$BD$18:$BD$1017,$B82,'Daily Log'!$BE$18:$BE$1017),0)","v":0},{"$f":"IFERROR($E82*SUMIF('Daily Log'!$BG$18:$BG$1017,$B82,'Daily Log'!$BH$18:$BH$1017),0)","v":0},{"$f":"IFERROR($E82*SUMIF('Daily Log'!$BJ$18:$BJ$1017,$B82,'Daily Log'!$BK$18:$BK$1017),0)","v":0},{"$f":"IFERROR($E82*SUMIF('Daily Log'!$BM$18:$BM$1017,$B82,'Daily Log'!$BN$18:$BN$1017),0)","v":0},{"$f":"IFERROR($E82*SUMIF('Daily Log'!$BP$18:$BP$1017,$B82,'Daily Log'!$BQ$18:$BQ$1017),0)","v":0},{"$f":"IFERROR($E82*SUMIF('Daily Log'!$BS$18:$BS$1017,$B82,'Daily Log'!$BT$18:$BT$1017),0)","v":0},{"$f":"IFERROR($E82*SUMIF('Daily Log'!$BV$18:$BV$1017,$B82,'Daily Log'!$BW$18:$BW$1017),0)","v":0},{"$f":"IFERROR($E82*SUMIF('Daily Log'!$BY$18:$BY$1017,$B82,'Daily Log'!$BZ$18:$BZ$1017),0)","v":0},{"$f":"IFERROR($E82*SUMIF('Daily Log'!$CB$18:$CB$1017,$B82,'Daily Log'!$CC$18:$CC$1017),0)","v":0},{"$f":"IFERROR($E82*SUMIF('Daily Log'!$CE$18:$CE$1017,$B82,'Daily Log'!$CF$18:$CF$1017),0)","v":0},{"$f":"IFERROR($E82*SUMIF('Daily Log'!$CH$18:$CH$1017,$B82,'Daily Log'!$CI$18:$CI$1017),0)","v":0},{"$f":"IFERROR($E82*SUMIF('Daily Log'!$CK$18:$CK$1017,$B82,'Daily Log'!$CL$18:$CL$1017),0)","v":0},{"$f":"IFERROR($E82*SUMIF('Daily Log'!$CN$18:$CN$1017,$B82,'Daily Log'!$CO$18:$CO$1017),0)","v":0}]
[null,"AA06 1206:SPRING RL",null,"SIDE ORDER",1,10,{"$f":"IFERROR($E83*SUMIF('Daily Log'!$B$18:$B$1017,$B83,'Daily Log'!$C$18:$C$1017),0)","v":0},{"$f":"IFERROR($E83*SUMIF('Daily Log'!$E$18:$E$1017,$B83,'Daily Log'!$F$18:$F$1017),0)","v":0},{"$f":"IFERROR($E83*SUMIF('Daily Log'!$H$18:$H$1017,$B83,'Daily Log'!$I$18:$I$1017),0)","v":0},{"$f":"IFERROR($E83*SUMIF('Daily Log'!$K$18:$K$1017,$B83,'Daily Log'!$L$18:$L$1017),0)","v":0},{"$f":"IFERROR($E83*SUMIF('Daily Log'!$N$18:$N$1017,$B83,'Daily Log'!$O$18:$O$1017),0)","v":0},{"$f":"IFERROR($E83*SUMIF('Daily Log'!$Q$18:$Q$1017,$B83,'Daily Log'!$R$18:$R$1017),0)","v":0},{"$f":"IFERROR($E83*SUMIF('Daily Log'!$T$18:$T$1017,$B83,'Daily Log'!$U$18:$U$1017),0)","v":0},{"$f":"IFERROR($E83*SUMIF('Daily Log'!$W$18:$W$1017,$B83,'Daily Log'!$X$18:$X$1017),0)","v":0},{"$f":"IFERROR($E83*SUMIF('Daily Log'!$Z$18:$Z$1017,$B83,'Daily Log'!$AA$18:$AA$1017),0)","v":0},{"$f":"IFERROR($E83*SUMIF('Daily Log'!$AC$18:$AC$1017,$B83,'Daily Log'!$AD$18:$AD$1017),0)","v":0},{"$f":"IFERROR($E83*SUMIF('Daily Log'!$AF$18:$AF$1017,$B83,'Daily Log'!$AG$18:$AG$1017),0)","v":0},{"$f":"IFERROR($E83*SUMIF('Daily Log'!$AI$18:$AI$1017,$B83,'Daily Log'!$AJ$18:$AJ$1017),0)","v":0},{"$f":"IFERROR($E83*SUMIF('Daily Log'!$AL$18:$AL$1017,$B83,'Daily Log'!$AM$18:$AM$1017),0)","v":0},{"$f":"IFERROR($E83*SUMIF('Daily Log'!$AO$18:$AO$1017,$B83,'Daily Log'!$AP$18:$AP$1017),0)","v":0},{"$f":"IFERROR($E83*SUMIF('Daily Log'!$AR$18:$AR$1017,$B83,'Daily Log'!$AS$18:$AS$1017),0)","v":0},{"$f":"IFERROR($E83*SUMIF('Daily Log'!$AU$18:$AU$1017,$B83,'Daily Log'!$AV$18:$AV$1017),0)","v":0},{"$f":"IFERROR($E83*SUMIF('Daily Log'!$AX$18:$AX$1017,$B83,'Daily Log'!$AY$18:$AY$1017),0)","v":0},{"$f":"IFERROR($E83*SUMIF('Daily Log'!$BA$18:$BA$1017,$B83,'Daily Log'!$BB$18:$BB$1017),0)","v":0},{"$f":"IFERROR($E83*SUMIF('Daily Log'!$BD$18:$BD$1017,$B83,'Daily Log'!$BE$18:$BE$1017),0)","v":0},{"$f":"IFERROR($E83*SUMIF('Daily Log'!$BG$18:$BG$1017,$B83,'Daily Log'!$BH$18:$BH$1017),0)","v":0},{"$f":"IFERROR($E83*SUMIF('Daily Log'!$BJ$18:$BJ$1017,$B83,'Daily Log'!$BK$18:$BK$1017),0)","v":0},{"$f":"IFERROR($E83*SUMIF('Daily Log'!$BM$18:$BM$1017,$B83,'Daily Log'!$BN$18:$BN$1017),0)","v":0},{"$f":"IFERROR($E83*SUMIF('Daily Log'!$BP$18:$BP$1017,$B83,'Daily Log'!$BQ$18:$BQ$1017),0)","v":0},{"$f":"IFERROR($E83*SUMIF('Daily Log'!$BS$18:$BS$1017,$B83,'Daily Log'!$BT$18:$BT$1017),0)","v":0},{"$f":"IFERROR($E83*SUMIF('Daily Log'!$BV$18:$BV$1017,$B83,'Daily Log'!$BW$18:$BW$1017),0)","v":0},{"$f":"IFERROR($E83*SUMIF('Daily Log'!$BY$18:$BY$1017,$B83,'Daily Log'!$BZ$18:$BZ$1017),0)","v":0},{"$f":"IFERROR($E83*SUMIF('Daily Log'!$CB$18:$CB$1017,$B83,'Daily Log'!$CC$18:$CC$1017),0)","v":0},{"$f":"IFERROR($E83*SUMIF('Daily Log'!$CE$18:$CE$1017,$B83,'Daily Log'!$CF$18:$CF$1017),0)","v":0},{"$f":"IFERROR($E83*SUMIF('Daily Log'!$CH$18:$CH$1017,$B83,'Daily Log'!$CI$18:$CI$1017),0)","v":0},{"$f":"IFERROR($E83*SUMIF('Daily Log'!$CK$18:$CK$1017,$B83,'Daily Log'!$CL$18:$CL$1017),0)","v":0},{"$f":"IFERROR($E83*SUMIF('Daily Log'!$CN$18:$CN$1017,$B83,'Daily Log'!$CO$18:$CO$1017),0)","v":10}]
[null,"AA07 1207:SAUSG",null,"SIDE ORDER",1,19,{"$f":"IFERROR($E84*SUMIF('Daily Log'!$B$18:$B$1017,$B84,'Daily Log'!$C$18:$C$1017),0)","v":0},{"$f":"IFERROR($E84*SUMIF('Daily Log'!$E$18:$E$1017,$B84,'Daily Log'!$F$18:$F$1017),0)","v":0},{"$f":"IFERROR($E84*SUMIF('Daily Log'!$H$18:$H$1017,$B84,'Daily Log'!$I$18:$I$1017),0)","v":0},{"$f":"IFERROR($E84*SUMIF('Daily Log'!$K$18:$K$1017,$B84,'Daily Log'!$L$18:$L$1017),0)","v":0},{"$f":"IFERROR($E84*SUMIF('Daily Log'!$N$18:$N$1017,$B84,'Daily Log'!$O$18:$O$1017),0)","v":0},{"$f":"IFERROR($E84*SUMIF('Daily Log'!$Q$18:$Q$1017,$B84,'Daily Log'!$R$18:$R$1017),0)","v":0},{"$f":"IFERROR($E84*SUMIF('Daily Log'!$T$18:$T$1017,$B84,'Daily Log'!$U$18:$U$1017),0)","v":0},{"$f":"IFERROR($E84*SUMIF('Daily Log'!$W$18:$W$1017,$B84,'Daily Log'!$X$18:$X$1017),0)","v":0},{"$f":"IFERROR($E84*SUMIF('Daily Log'!$Z$18:$Z$1017,$B84,'Daily Log'!$AA$18:$AA$1017),0)","v":0},{"$f":"IFERROR($E84*SUMIF('Daily Log'!$AC$18:$AC$1017,$B84,'Daily Log'!$AD$18:$AD$1017),0)","v":0},{"$f":"IFERROR($E84*SUMIF('Daily Log'!$AF$18:$AF$1017,$B84,'Daily Log'!$AG$18:$AG$1017),0)","v":0},{"$f":"IFERROR($E84*SUMIF('Daily Log'!$AI$18:$AI$1017,$B84,'Daily Log'!$AJ$18:$AJ$1017),0)","v":0},{"$f":"IFERROR($E84*SUMIF('Daily Log'!$AL$18:$AL$1017,$B84,'Daily Log'!$AM$18:$AM$1017),0)","v":0},{"$f":"IFERROR($E84*SUMIF('Daily Log'!$AO$18:$AO$1017,$B84,'Daily Log'!$AP$18:$AP$1017),0)","v":0},{"$f":"IFERROR($E84*SUMIF('Daily Log'!$AR$18:$AR$1017,$B84,'Daily Log'!$AS$18:$AS$1017),0)","v":0},{"$f":"IFERROR($E84*SUMIF('Daily Log'!$AU$18:$AU$1017,$B84,'Daily Log'!$AV$18:$AV$1017),0)","v":0},{"$f":"IFERROR($E84*SUMIF('Daily Log'!$AX$18:$AX$1017,$B84,'Daily Log'!$AY$18:$AY$1017),0)","v":0},{"$f":"IFERROR($E84*SUMIF('Daily Log'!$BA$18:$BA$1017,$B84,'Daily Log'!$BB$18:$BB$1017),0)","v":0},{"$f":"IFERROR($E84*SUMIF('Daily Log'!$BD$18:$BD$1017,$B84,'Daily Log'!$BE$18:$BE$1017),0)","v":0},{"$f":"IFERROR($E84*SUMIF('Daily Log'!$BG$18:$BG$1017,$B84,'Daily Log'!$BH$18:$BH$1017),0)","v":0},{"$f":"IFERROR($E84*SUMIF('Daily Log'!$BJ$18:$BJ$1017,$B84,'Daily Log'!$BK$18:$BK$1017),0)","v":0},{"$f":"IFERROR($E84*SUMIF('Daily Log'!$BM$18:$BM$1017,$B84,'Daily Log'!$BN$18:$BN$1017),0)","v":0},{"$f":"IFERROR($E84*SUMIF('Daily Log'!$BP$18:$BP$1017,$B84,'Daily Log'!$BQ$18:$BQ$1017),0)","v":0},{"$f":"IFERROR($E84*SUMIF('Daily Log'!$BS$18:$BS$1017,$B84,'Daily Log'!$BT$18:$BT$1017),0)","v":0},{"$f":"IFERROR($E84*SUMIF('Daily Log'!$BV$18:$BV$1017,$B84,'Daily Log'!$BW$18:$BW$1017),0)","v":0},{"$f":"IFERROR($E84*SUMIF('Daily Log'!$BY$18:$BY$1017,$B84,'Daily Log'!$BZ$18:$BZ$1017),0)","v":0},{"$f":"IFERROR($E84*SUMIF('Daily Log'!$CB$18:$CB$1017,$B84,'Daily Log'!$CC$18:$CC$1017),0)","v":0},{"$f":"IFERROR($E84*SUMIF('Daily Log'!$CE$18:$CE$1017,$B84,'Daily Log'!$CF$18:$CF$1017),0)","v":0},{"$f":"IFERROR($E84*SUMIF('Daily Log'!$CH$18:$CH$1017,$B84,'Daily Log'!$CI$18:$CI$1017),0)","v":0},{"$f":"IFERROR($E84*SUMIF('Daily Log'!$CK$18:$CK$1017,$B84,'Daily Log'!$CL$18:$CL$1017),0)","v":0},{"$f":"IFERROR($E84*SUMIF('Daily Log'!$CN$18:$CN$1017,$B84,'Daily Log'!$CO$18:$CO$1017),0)","v":19}]
[null,"AA31 1301:DUMPLING",null,"SIDE ORDER",1,0,{"$f":"IFERROR($E85*SUMIF('Daily Log'!$B$18:$B$1017,$B85,'Daily Log'!$C$18:$C$1017),0)","v":0},{"$f":"IFERROR($E85*SUMIF('Daily Log'!$E$18:$E$1017,$B85,'Daily Log'!$F$18:$F$1017),0)","v":0},{"$f":"IFERROR($E85*SUMIF('Daily Log'!$H$18:$H$1017,$B85,'Daily Log'!$I$18:$I$1017),0)","v":0},{"$f":"IFERROR($E85*SUMIF('Daily Log'!$K$18:$K$1017,$B85,'Daily Log'!$L$18:$L$1017),0)","v":0},{"$f":"IFERROR($E85*SUMIF('Daily Log'!$N$18:$N$1017,$B85,'Daily Log'!$O$18:$O$1017),0)","v":0},{"$f":"IFERROR($E85*SUMIF('Daily Log'!$Q$18:$Q$1017,$B85,'Daily Log'!$R$18:$R$1017),0)","v":0},{"$f":"IFERROR($E85*SUMIF('Daily Log'!$T$18:$T$1017,$B85,'Daily Log'!$U$18:$U$1017),0)","v":0},{"$f":"IFERROR($E85*SUMIF('Daily Log'!$W$18:$W$1017,$B85,'Daily Log'!$X$18:$X$1017),0)","v":0},{"$f":"IFERROR($E85*SUMIF('Daily Log'!$Z$18:$Z$1017,$B85,'Daily Log'!$AA$18:$AA$1017),0)","v":0},{"$f":"IFERROR($E85*SUMIF('Daily Log'!$AC$18:$AC$1017,$B85,'Daily Log'!$AD$18:$AD$1017),0)","v":0},{"$f":"IFERROR($E85*SUMIF('Daily Log'!$AF$18:$AF$1017,$B85,'Daily Log'!$AG$18:$AG$1017),0)","v":0},{"$f":"IFERROR($E85*SUMIF('Daily Log'!$AI$18:$AI$1017,$B85,'Daily Log'!$AJ$18:$AJ$1017),0)","v":0},{"$f":"IFERROR($E85*SUMIF('Daily Log'!$AL$18:$AL$1017,$B85,'Daily Log'!$AM$18:$AM$1017),0)","v":0},{"$f":"IFERROR($E85*SUMIF('Daily Log'!$AO$18:$AO$1017,$B85,'Daily Log'!$AP$18:$AP$1017),0)","v":0},{"$f":"IFERROR($E85*SUMIF('Daily Log'!$AR$18:$AR$1017,$B85,'Daily Log'!$AS$18:$AS$1017),0)","v":0},{"$f":"IFERROR($E85*SUMIF('Daily Log'!$AU$18:$AU$1017,$B85,'Daily Log'!$AV$18:$AV$1017),0)","v":0},{"$f":"IFERROR($E85*SUMIF('Daily Log'!$AX$18:$AX$1017,$B85,'Daily Log'!$AY$18:$AY$1017),0)","v":0},{"$f":"IFERROR($E85*SUMIF('Daily Log'!$BA$18:$BA$1017,$B85,'Daily Log'!$BB$18:$BB$1017),0)","v":0},{"$f":"IFERROR($E85*SUMIF('Daily Log'!$BD$18:$BD$1017,$B85,'Daily Log'!$BE$18:$BE$1017),0)","v":0},{"$f":"IFERROR($E85*SUMIF('Daily Log'!$BG$18:$BG$1017,$B85,'Daily Log'!$BH$18:$BH$1017),0)","v":0},{"$f":"IFERROR($E85*SUMIF('Daily Log'!$BJ$18:$BJ$1017,$B85,'Daily Log'!$BK$18:$BK$1017),0)","v":0},{"$f":"IFERROR($E85*SUMIF('Daily Log'!$BM$18:$BM$1017,$B85,'Daily Log'!$BN$18:$BN$1017),0)","v":0},{"$f":"IFERROR($E85*SUMIF('Daily Log'!$BP$18:$BP$1017,$B85,'Daily Log'!$BQ$18:$BQ$1017),0)","v":0},{"$f":"IFERROR($E85*SUMIF('Daily Log'!$BS$18:$BS$1017,$B85,'Daily Log'!$BT$18:$BT$1017),0)","v":0},{"$f":"IFERROR($E85*SUMIF('Daily Log'!$BV$18:$BV$1017,$B85,'Daily Log'!$BW$18:$BW$1017),0)","v":0},{"$f":"IFERROR($E85*SUMIF('Daily Log'!$BY$18:$BY$1017,$B85,'Daily Log'!$BZ$18:$BZ$1017),0)","v":0},{"$f":"IFERROR($E85*SUMIF('Daily Log'!$CB$18:$CB$1017,$B85,'Daily Log'!$CC$18:$CC$1017),0)","v":0},{"$f":"IFERROR($E85*SUMIF('Daily Log'!$CE$18:$CE$1017,$B85,'Daily Log'!$CF$18:$CF$1017),0)","v":0},{"$f":"IFERROR($E85*SUMIF('Daily Log'!$CH$18:$CH$1017,$B85,'Daily Log'!$CI$18:$CI$1017),0)","v":0},{"$f":"IFERROR($E85*SUMIF('Daily Log'!$CK$18:$CK$1017,$B85,'Daily Log'!$CL$18:$CL$1017),0)","v":0},{"$f":"IFERROR($E85*SUMIF('Daily Log'!$CN$18:$CN$1017,$B85,'Daily Log'!$CO$18:$CO$1017),0)","v":0}]
[null,"AA32 1302:NUGGET",null,"SIDE ORDER",1,31,{"$f":"IFERROR($E86*SUMIF('Daily Log'!$B$18:$B$1017,$B86,'Daily Log'!$C$18:$C$1017),0)","v":0},{"$f":"IFERROR($E86*SUMIF('Daily Log'!$E$18:$E$1017,$B86,'Daily Log'!$F$18:$F$1017),0)","v":0},{"$f":"IFERROR($E86*SUMIF('Daily Log'!$H$18:$H$1017,$B86,'Daily Log'!$I$18:$I$1017),0)","v":0},{"$f":"IFERROR($E86*SUMIF('Daily Log'!$K$18:$K$1017,$B86,'Daily Log'!$L$18:$L$1017),0)","v":0},{"$f":"IFERROR($E86*SUMIF('Daily Log'!$N$18:$N$1017,$B86,'Daily Log'!$O$18:$O$1017),0)","v":0},{"$f":"IFERROR($E86*SUMIF('Daily Log'!$Q$18:$Q$1017,$B86,'Daily Log'!$R$18:$R$1017),0)","v":0},{"$f":"IFERROR($E86*SUMIF('Daily Log'!$T$18:$T$1017,$B86,'Daily Log'!$U$18:$U$1017),0)","v":0},{"$f":"IFERROR($E86*SUMIF('Daily Log'!$W$18:$W$1017,$B86,'Daily Log'!$X$18:$X$1017),0)","v":0},{"$f":"IFERROR($E86*SUMIF('Daily Log'!$Z$18:$Z$1017,$B86,'Daily Log'!$AA$18:$AA$1017),0)","v":0},{"$f":"IFERROR($E86*SUMIF('Daily Log'!$AC$18:$AC$1017,$B86,'Daily Log'!$AD$18:$AD$1017),0)","v":0},{"$f":"IFERROR($E86*SUMIF('Daily Log'!$AF$18:$AF$1017,$B86,'Daily Log'!$AG$18:$AG$1017),0)","v":0},{"$f":"IFERROR($E86*SUMIF('Daily Log'!$AI$18:$AI$1017,$B86,'Daily Log'!$AJ$18:$AJ$1017),0)","v":0},{"$f":"IFERROR($E86*SUMIF('Daily Log'!$AL$18:$AL$1017,$B86,'Daily Log'!$AM$18:$AM$1017),0)","v":0},{"$f":"IFERROR($E86*SUMIF('Daily Log'!$AO$18:$AO$1017,$B86,'Daily Log'!$AP$18:$AP$1017),0)","v":0},{"$f":"IFERROR($E86*SUMIF('Daily Log'!$AR$18:$AR$1017,$B86,'Daily Log'!$AS$18:$AS$1017),0)","v":0},{"$f":"IFERROR($E86*SUMIF('Daily Log'!$AU$18:$AU$1017,$B86,'Daily Log'!$AV$18:$AV$1017),0)","v":0},{"$f":"IFERROR($E86*SUMIF('Daily Log'!$AX$18:$AX$1017,$B86,'Daily Log'!$AY$18:$AY$1017),0)","v":0},{"$f":"IFERROR($E86*SUMIF('Daily Log'!$BA$18:$BA$1017,$B86,'Daily Log'!$BB$18:$BB$1017),0)","v":0},{"$f":"IFERROR($E86*SUMIF('Daily Log'!$BD$18:$BD$1017,$B86,'Daily Log'!$BE$18:$BE$1017),0)","v":0},{"$f":"IFERROR($E86*SUMIF('Daily Log'!$BG$18:$BG$1017,$B86,'Daily Log'!$BH$18:$BH$1017),0)","v":0},{"$f":"IFERROR($E86*SUMIF('Daily Log'!$BJ$18:$BJ$1017,$B86,'Daily Log'!$BK$18:$BK$1017),0)","v":0},{"$f":"IFERROR($E86*SUMIF('Daily Log'!$BM$18:$BM$1017,$B86,'Daily Log'!$BN$18:$BN$1017),0)","v":0},{"$f":"IFERROR($E86*SUMIF('Daily Log'!$BP$18:$BP$1017,$B86,'Daily Log'!$BQ$18:$BQ$1017),0)","v":0},{"$f":"IFERROR($E86*SUMIF('Daily Log'!$BS$18:$BS$1017,$B86,'Daily Log'!$BT$18:$BT$1017),0)","v":0},{"$f":"IFERROR($E86*SUMIF('Daily Log'!$BV$18:$BV$1017,$B86,'Daily Log'!$BW$18:$BW$1017),0)","v":0},{"$f":"IFERROR($E86*SUMIF('Daily Log'!$BY$18:$BY$1017,$B86,'Daily Log'!$BZ$18:$BZ$1017),0)","v":0},{"$f":"IFERROR($E86*SUMIF('Daily Log'!$CB$18:$CB$1017,$B86,'Daily Log'!$CC$18:$CC$1017),0)","v":0},{"$f":"IFERROR($E86*SUMIF('Daily Log'!$CE$18:$CE$1017,$B86,'Daily Log'!$CF$18:$CF$1017),0)","v":0},{"$f":"IFERROR($E86*SUMIF('Daily Log'!$CH$18:$CH$1017,$B86,'Daily Log'!$CI$18:$CI$1017),0)","v":0},{"$f":"IFERROR($E86*SUMIF('Daily Log'!$CK$18:$CK$1017,$B86,'Daily Log'!$CL$18:$CL$1017),0)","v":0},{"$f":"IFERROR($E86*SUMIF('Daily Log'!$CN$18:$CN$1017,$B86,'Daily Log'!$CO$18:$CO$1017),0)","v":31}]
[null,"AA33 1303:CHK WING",null,"SIDE ORDER",1,36,{"$f":"IFERROR($E87*SUMIF('Daily Log'!$B$18:$B$1017,$B87,'Daily Log'!$C$18:$C$1017),0)","v":0},{"$f":"IFERROR($E87*SUMIF('Daily Log'!$E$18:$E$1017,$B87,'Daily Log'!$F$18:$F$1017),0)","v":0},{"$f":"IFERROR($E87*SUMIF('Daily Log'!$H$18:$H$1017,$B87,'Daily Log'!$I$18:$I$1017),0)","v":0},{"$f":"IFERROR($E87*SUMIF('Daily Log'!$K$18:$K$1017,$B87,'Daily Log'!$L$18:$L$1017),0)","v":0},{"$f":"IFERROR($E87*SUMIF('Daily Log'!$N$18:$N$1017,$B87,'Daily Log'!$O$18:$O$1017),0)","v":0},{"$f":"IFERROR($E87*SUMIF('Daily Log'!$Q$18:$Q$1017,$B87,'Daily Log'!$R$18:$R$1017),0)","v":0},{"$f":"IFERROR($E87*SUMIF('Daily Log'!$T$18:$T$1017,$B87,'Daily Log'!$U$18:$U$1017),0)","v":0},{"$f":"IFERROR($E87*SUMIF('Daily Log'!$W$18:$W$1017,$B87,'Daily Log'!$X$18:$X$1017),0)","v":0},{"$f":"IFERROR($E87*SUMIF('Daily Log'!$Z$18:$Z$1017,$B87,'Daily Log'!$AA$18:$AA$1017),0)","v":0},{"$f":"IFERROR($E87*SUMIF('Daily Log'!$AC$18:$AC$1017,$B87,'Daily Log'!$AD$18:$AD$1017),0)","v":0},{"$f":"IFERROR($E87*SUMIF('Daily Log'!$AF$18:$AF$1017,$B87,'Daily Log'!$AG$18:$AG$1017),0)","v":0},{"$f":"IFERROR($E87*SUMIF('Daily Log'!$AI$18:$AI$1017,$B87,'Daily Log'!$AJ$18:$AJ$1017),0)","v":0},{"$f":"IFERROR($E87*SUMIF('Daily Log'!$AL$18:$AL$1017,$B87,'Daily Log'!$AM$18:$AM$1017),0)","v":0},{"$f":"IFERROR($E87*SUMIF('Daily Log'!$AO$18:$AO$1017,$B87,'Daily Log'!$AP$18:$AP$1017),0)","v":0},{"$f":"IFERROR($E87*SUMIF('Daily Log'!$AR$18:$AR$1017,$B87,'Daily Log'!$AS$18:$AS$1017),0)","v":0},{"$f":"IFERROR($E87*SUMIF('Daily Log'!$AU$18:$AU$1017,$B87,'Daily Log'!$AV$18:$AV$1017),0)","v":0},{"$f":"IFERROR($E87*SUMIF('Daily Log'!$AX$18:$AX$1017,$B87,'Daily Log'!$AY$18:$AY$1017),0)","v":0},{"$f":"IFERROR($E87*SUMIF('Daily Log'!$BA$18:$BA$1017,$B87,'Daily Log'!$BB$18:$BB$1017),0)","v":0},{"$f":"IFERROR($E87*SUMIF('Daily Log'!$BD$18:$BD$1017,$B87,'Daily Log'!$BE$18:$BE$1017),0)","v":0},{"$f":"IFERROR($E87*SUMIF('Daily Log'!$BG$18:$BG$1017,$B87,'Daily Log'!$BH$18:$BH$1017),0)","v":0},{"$f":"IFERROR($E87*SUMIF('Daily Log'!$BJ$18:$BJ$1017,$B87,'Daily Log'!$BK$18:$BK$1017),0)","v":0},{"$f":"IFERROR($E87*SUMIF('Daily Log'!$BM$18:$BM$1017,$B87,'Daily Log'!$BN$18:$BN$1017),0)","v":0},{"$f":"IFERROR($E87*SUMIF('Daily Log'!$BP$18:$BP$1017,$B87,'Daily Log'!$BQ$18:$BQ$1017),0)","v":0},{"$f":"IFERROR($E87*SUMIF('Daily Log'!$BS$18:$BS$1017,$B87,'Daily Log'!$BT$18:$BT$1017),0)","v":0},{"$f":"IFERROR($E87*SUMIF('Daily Log'!$BV$18:$BV$1017,$B87,'Daily Log'!$BW$18:$BW$1017),0)","v":0},{"$f":"IFERROR($E87*SUMIF('Daily Log'!$BY$18:$BY$1017,$B87,'Daily Log'!$BZ$18:$BZ$1017),0)","v":0},{"$f":"IFERROR($E87*SUMIF('Daily Log'!$CB$18:$CB$1017,$B87,'Daily Log'!$CC$18:$CC$1017),0)","v":0},{"$f":"IFERROR($E87*SUMIF('Daily Log'!$CE$18:$CE$1017,$B87,'Daily Log'!$CF$18:$CF$1017),0)","v":0},{"$f":"IFERROR($E87*SUMIF('Daily Log'!$CH$18:$CH$1017,$B87,'Daily Log'!$CI$18:$CI$1017),0)","v":0},{"$f":"IFERROR($E87*SUMIF('Daily Log'!$CK$18:$CK$1017,$B87,'Daily Log'!$CL$18:$CL$1017),0)","v":0},{"$f":"IFERROR($E87*SUMIF('Daily Log'!$CN$18:$CN$1017,$B87,'Daily Log'!$CO$18:$CO$1017),0)","v":36}]
[null,"AA34 1304:IKAN BILIS",null,"SIDE ORDER",1,2,{"$f":"IFERROR($E88*SUMIF('Daily Log'!$B$18:$B$1017,$B88,'Daily Log'!$C$18:$C$1017),0)","v":0},{"$f":"IFERROR($E88*SUMIF('Daily Log'!$E$18:$E$1017,$B88,'Daily Log'!$F$18:$F$1017),0)","v":0},{"$f":"IFERROR($E88*SUMIF('Daily Log'!$H$18:$H$1017,$B88,'Daily Log'!$I$18:$I$1017),0)","v":0},{"$f":"IFERROR($E88*SUMIF('Daily Log'!$K$18:$K$1017,$B88,'Daily Log'!$L$18:$L$1017),0)","v":0},{"$f":"IFERROR($E88*SUMIF('Daily Log'!$N$18:$N$1017,$B88,'Daily Log'!$O$18:$O$1017),0)","v":0},{"$f":"IFERROR($E88*SUMIF('Daily Log'!$Q$18:$Q$1017,$B88,'Daily Log'!$R$18:$R$1017),0)","v":0},{"$f":"IFERROR($E88*SUMIF('Daily Log'!$T$18:$T$1017,$B88,'Daily Log'!$U$18:$U$1017),0)","v":0},{"$f":"IFERROR($E88*SUMIF('Daily Log'!$W$18:$W$1017,$B88,'Daily Log'!$X$18:$X$1017),0)","v":0},{"$f":"IFERROR($E88*SUMIF('Daily Log'!$Z$18:$Z$1017,$B88,'Daily Log'!$AA$18:$AA$1017),0)","v":0},{"$f":"IFERROR($E88*SUMIF('Daily Log'!$AC$18:$AC$1017,$B88,'Daily Log'!$AD$18:$AD$1017),0)","v":0},{"$f":"IFERROR($E88*SUMIF('Daily Log'!$AF$18:$AF$1017,$B88,'Daily Log'!$AG$18:$AG$1017),0)","v":0},{"$f":"IFERROR($E88*SUMIF('Daily Log'!$AI$18:$AI$1017,$B88,'Daily Log'!$AJ$18:$AJ$1017),0)","v":0},{"$f":"IFERROR($E88*SUMIF('Daily Log'!$AL$18:$AL$1017,$B88,'Daily Log'!$AM$18:$AM$1017),0)","v":0},{"$f":"IFERROR($E88*SUMIF('Daily Log'!$AO$18:$AO$1017,$B88,'Daily Log'!$AP$18:$AP$1017),0)","v":0},{"$f":"IFERROR($E88*SUMIF('Daily Log'!$AR$18:$AR$1017,$B88,'Daily Log'!$AS$18:$AS$1017),0)","v":0},{"$f":"IFERROR($E88*SUMIF('Daily Log'!$AU$18:$AU$1017,$B88,'Daily Log'!$AV$18:$AV$1017),0)","v":0},{"$f":"IFERROR($E88*SUMIF('Daily Log'!$AX$18:$AX$1017,$B88,'Daily Log'!$AY$18:$AY$1017),0)","v":0},{"$f":"IFERROR($E88*SUMIF('Daily Log'!$BA$18:$BA$1017,$B88,'Daily Log'!$BB$18:$BB$1017),0)","v":0},{"$f":"IFERROR($E88*SUMIF('Daily Log'!$BD$18:$BD$1017,$B88,'Daily Log'!$BE$18:$BE$1017),0)","v":0},{"$f":"IFERROR($E88*SUMIF('Daily Log'!$BG$18:$BG$1017,$B88,'Daily Log'!$BH$18:$BH$1017),0)","v":0},{"$f":"IFERROR($E88*SUMIF('Daily Log'!$BJ$18:$BJ$1017,$B88,'Daily Log'!$BK$18:$BK$1017),0)","v":0},{"$f":"IFERROR($E88*SUMIF('Daily Log'!$BM$18:$BM$1017,$B88,'Daily Log'!$BN$18:$BN$1017),0)","v":0},{"$f":"IFERROR($E88*SUMIF('Daily Log'!$BP$18:$BP$1017,$B88,'Daily Log'!$BQ$18:$BQ$1017),0)","v":0},{"$f":"IFERROR($E88*SUMIF('Daily Log'!$BS$18:$BS$1017,$B88,'Daily Log'!$BT$18:$BT$1017),0)","v":0},{"$f":"IFERROR($E88*SUMIF('Daily Log'!$BV$18:$BV$1017,$B88,'Daily Log'!$BW$18:$BW$1017),0)","v":0},{"$f":"IFERROR($E88*SUMIF('Daily Log'!$BY$18:$BY$1017,$B88,'Daily Log'!$BZ$18:$BZ$1017),0)","v":0},{"$f":"IFERROR($E88*SUMIF('Daily Log'!$CB$18:$CB$1017,$B88,'Daily Log'!$CC$18:$CC$1017),0)","v":0},{"$f":"IFERROR($E88*SUMIF('Daily Log'!$CE$18:$CE$1017,$B88,'Daily Log'!$CF$18:$CF$1017),0)","v":0},{"$f":"IFERROR($E88*SUMIF('Daily Log'!$CH$18:$CH$1017,$B88,'Daily Log'!$CI$18:$CI$1017),0)","v":0},{"$f":"IFERROR($E88*SUMIF('Daily Log'!$CK$18:$CK$1017,$B88,'Daily Log'!$CL$18:$CL$1017),0)","v":0},{"$f":"IFERROR($E88*SUMIF('Daily Log'!$CN$18:$CN$1017,$B88,'Daily Log'!$CO$18:$CO$1017),0)","v":2}]
[null,"AA35 1305:THAI RL",null,"SIDE ORDER",1,4,{"$f":"IFERROR($E89*SUMIF('Daily Log'!$B$18:$B$1017,$B89,'Daily Log'!$C$18:$C$1017),0)","v":0},{"$f":"IFERROR($E89*SUMIF('Daily Log'!$E$18:$E$1017,$B89,'Daily Log'!$F$18:$F$1017),0)","v":0},{"$f":"IFERROR($E89*SUMIF('Daily Log'!$H$18:$H$1017,$B89,'Daily Log'!$I$18:$I$1017),0)","v":0},{"$f":"IFERROR($E89*SUMIF('Daily Log'!$K$18:$K$1017,$B89,'Daily Log'!$L$18:$L$1017),0)","v":0},{"$f":"IFERROR($E89*SUMIF('Daily Log'!$N$18:$N$1017,$B89,'Daily Log'!$O$18:$O$1017),0)","v":0},{"$f":"IFERROR($E89*SUMIF('Daily Log'!$Q$18:$Q$1017,$B89,'Daily Log'!$R$18:$R$1017),0)","v":0},{"$f":"IFERROR($E89*SUMIF('Daily Log'!$T$18:$T$1017,$B89,'Daily Log'!$U$18:$U$1017),0)","v":0},{"$f":"IFERROR($E89*SUMIF('Daily Log'!$W$18:$W$1017,$B89,'Daily Log'!$X$18:$X$1017),0)","v":0},{"$f":"IFERROR($E89*SUMIF('Daily Log'!$Z$18:$Z$1017,$B89,'Daily Log'!$AA$18:$AA$1017),0)","v":0},{"$f":"IFERROR($E89*SUMIF('Daily Log'!$AC$18:$AC$1017,$B89,'Daily Log'!$AD$18:$AD$1017),0)","v":0},{"$f":"IFERROR($E89*SUMIF('Daily Log'!$AF$18:$AF$1017,$B89,'Daily Log'!$AG$18:$AG$1017),0)","v":0},{"$f":"IFERROR($E89*SUMIF('Daily Log'!$AI$18:$AI$1017,$B89,'Daily Log'!$AJ$18:$AJ$1017),0)","v":0},{"$f":"IFERROR($E89*SUMIF('Daily Log'!$AL$18:$AL$1017,$B89,'Daily Log'!$AM$18:$AM$1017),0)","v":0},{"$f":"IFERROR($E89*SUMIF('Daily Log'!$AO$18:$AO$1017,$B89,'Daily Log'!$AP$18:$AP$1017),0)","v":0},{"$f":"IFERROR($E89*SUMIF('Daily Log'!$AR$18:$AR$1017,$B89,'Daily Log'!$AS$18:$AS$1017),0)","v":0},{"$f":"IFERROR($E89*SUMIF('Daily Log'!$AU$18:$AU$1017,$B89,'Daily Log'!$AV$18:$AV$1017),0)","v":0},{"$f":"IFERROR($E89*SUMIF('Daily Log'!$AX$18:$AX$1017,$B89,'Daily Log'!$AY$18:$AY$1017),0)","v":0},{"$f":"IFERROR($E89*SUMIF('Daily Log'!$BA$18:$BA$1017,$B89,'Daily Log'!$BB$18:$BB$1017),0)","v":0},{"$f":"IFERROR($E89*SUMIF('Daily Log'!$BD$18:$BD$1017,$B89,'Daily Log'!$BE$18:$BE$1017),0)","v":0},{"$f":"IFERROR($E89*SUMIF('Daily Log'!$BG$18:$BG$1017,$B89,'Daily Log'!$BH$18:$BH$1017),0)","v":0},{"$f":"IFERROR($E89*SUMIF('Daily Log'!$BJ$18:$BJ$1017,$B89,'Daily Log'!$BK$18:$BK$1017),0)","v":0},{"$f":"IFERROR($E89*SUMIF('Daily Log'!$BM$18:$BM$1017,$B89,'Daily Log'!$BN$18:$BN$1017),0)","v":0},{"$f":"IFERROR($E89*SUMIF('Daily Log'!$BP$18:$BP$1017,$B89,'Daily Log'!$BQ$18:$BQ$1017),0)","v":0},{"$f":"IFERROR($E89*SUMIF('Daily Log'!$BS$18:$BS$1017,$B89,'Daily Log'!$BT$18:$BT$1017),0)","v":0},{"$f":"IFERROR($E89*SUMIF('Daily Log'!$BV$18:$BV$1017,$B89,'Daily Log'!$BW$18:$BW$1017),0)","v":0},{"$f":"IFERROR($E89*SUMIF('Daily Log'!$BY$18:$BY$1017,$B89,'Daily Log'!$BZ$18:$BZ$1017),0)","v":0},{"$f":"IFERROR($E89*SUMIF('Daily Log'!$CB$18:$CB$1017,$B89,'Daily Log'!$CC$18:$CC$1017),0)","v":0},{"$f":"IFERROR($E89*SUMIF('Daily Log'!$CE$18:$CE$1017,$B89,'Daily Log'!$CF$18:$CF$1017),0)","v":0},{"$f":"IFERROR($E89*SUMIF('Daily Log'!$CH$18:$CH$1017,$B89,'Daily Log'!$CI$18:$CI$1017),0)","v":0},{"$f":"IFERROR($E89*SUMIF('Daily Log'!$CK$18:$CK$1017,$B89,'Daily Log'!$CL$18:$CL$1017),0)","v":0},{"$f":"IFERROR($E89*SUMIF('Daily Log'!$CN$18:$CN$1017,$B89,'Daily Log'!$CO$18:$CO$1017),0)","v":4}]
[null,"AA36 1306:DF WING",null,"SIDE ORDER",1,5,{"$f":"IFERROR($E90*SUMIF('Daily Log'!$B$18:$B$1017,$B90,'Daily Log'!$C$18:$C$1017),0)","v":0},{"$f":"IFERROR($E90*SUMIF('Daily Log'!$E$18:$E$1017,$B90,'Daily Log'!$F$18:$F$1017),0)","v":0},{"$f":"IFERROR($E90*SUMIF('Daily Log'!$H$18:$H$1017,$B90,'Daily Log'!$I$18:$I$1017),0)","v":0},{"$f":"IFERROR($E90*SUMIF('Daily Log'!$K$18:$K$1017,$B90,'Daily Log'!$L$18:$L$1017),0)","v":0},{"$f":"IFERROR($E90*SUMIF('Daily Log'!$N$18:$N$1017,$B90,'Daily Log'!$O$18:$O$1017),0)","v":0},{"$f":"IFERROR($E90*SUMIF('Daily Log'!$Q$18:$Q$1017,$B90,'Daily Log'!$R$18:$R$1017),0)","v":0},{"$f":"IFERROR($E90*SUMIF('Daily Log'!$T$18:$T$1017,$B90,'Daily Log'!$U$18:$U$1017),0)","v":0},{"$f":"IFERROR($E90*SUMIF('Daily Log'!$W$18:$W$1017,$B90,'Daily Log'!$X$18:$X$1017),0)","v":0},{"$f":"IFERROR($E90*SUMIF('Daily Log'!$Z$18:$Z$1017,$B90,'Daily Log'!$AA$18:$AA$1017),0)","v":0},{"$f":"IFERROR($E90*SUMIF('Daily Log'!$AC$18:$AC$1017,$B90,'Daily Log'!$AD$18:$AD$1017),0)","v":0},{"$f":"IFERROR($E90*SUMIF('Daily Log'!$AF$18:$AF$1017,$B90,'Daily Log'!$AG$18:$AG$1017),0)","v":0},{"$f":"IFERROR($E90*SUMIF('Daily Log'!$AI$18:$AI$1017,$B90,'Daily Log'!$AJ$18:$AJ$1017),0)","v":0},{"$f":"IFERROR($E90*SUMIF('Daily Log'!$AL$18:$AL$1017,$B90,'Daily Log'!$AM$18:$AM$1017),0)","v":0},{"$f":"IFERROR($E90*SUMIF('Daily Log'!$AO$18:$AO$1017,$B90,'Daily Log'!$AP$18:$AP$1017),0)","v":0},{"$f":"IFERROR($E90*SUMIF('Daily Log'!$AR$18:$AR$1017,$B90,'Daily Log'!$AS$18:$AS$1017),0)","v":0},{"$f":"IFERROR($E90*SUMIF('Daily Log'!$AU$18:$AU$1017,$B90,'Daily Log'!$AV$18:$AV$1017),0)","v":0},{"$f":"IFERROR($E90*SUMIF('Daily Log'!$AX$18:$AX$1017,$B90,'Daily Log'!$AY$18:$AY$1017),0)","v":0},{"$f":"IFERROR($E90*SUMIF('Daily Log'!$BA$18:$BA$1017,$B90,'Daily Log'!$BB$18:$BB$1017),0)","v":0},{"$f":"IFERROR($E90*SUMIF('Daily Log'!$BD$18:$BD$1017,$B90,'Daily Log'!$BE$18:$BE$1017),0)","v":0},{"$f":"IFERROR($E90*SUMIF('Daily Log'!$BG$18:$BG$1017,$B90,'Daily Log'!$BH$18:$BH$1017),0)","v":0},{"$f":"IFERROR($E90*SUMIF('Daily Log'!$BJ$18:$BJ$1017,$B90,'Daily Log'!$BK$18:$BK$1017),0)","v":0},{"$f":"IFERROR($E90*SUMIF('Daily Log'!$BM$18:$BM$1017,$B90,'Daily Log'!$BN$18:$BN$1017),0)","v":0},{"$f":"IFERROR($E90*SUMIF('Daily Log'!$BP$18:$BP$1017,$B90,'Daily Log'!$BQ$18:$BQ$1017),0)","v":0},{"$f":"IFERROR($E90*SUMIF('Daily Log'!$BS$18:$BS$1017,$B90,'Daily Log'!$BT$18:$BT$1017),0)","v":0},{"$f":"IFERROR($E90*SUMIF('Daily Log'!$BV$18:$BV$1017,$B90,'Daily Log'!$BW$18:$BW$1017),0)","v":0},{"$f":"IFERROR($E90*SUMIF('Daily Log'!$BY$18:$BY$1017,$B90,'Daily Log'!$BZ$18:$BZ$1017),0)","v":0},{"$f":"IFERROR($E90*SUMIF('Daily Log'!$CB$18:$CB$1017,$B90,'Daily Log'!$CC$18:$CC$1017),0)","v":0},{"$f":"IFERROR($E90*SUMIF('Daily Log'!$CE$18:$CE$1017,$B90,'Daily Log'!$CF$18:$CF$1017),0)","v":0},{"$f":"IFERROR($E90*SUMIF('Daily Log'!$CH$18:$CH$1017,$B90,'Daily Log'!$CI$18:$CI$1017),0)","v":0},{"$f":"IFERROR($E90*SUMIF('Daily Log'!$CK$18:$CK$1017,$B90,'Daily Log'!$CL$18:$CL$1017),0)","v":0},{"$f":"IFERROR($E90*SUMIF('Daily Log'!$CN$18:$CN$1017,$B90,'Daily Log'!$CO$18:$CO$1017),0)","v":5}]
[null,"AA37 1307:CALAMARI",null,"SIDE ORDER",1,6,{"$f":"IFERROR($E91*SUMIF('Daily Log'!$B$18:$B$1017,$B91,'Daily Log'!$C$18:$C$1017),0)","v":0},{"$f":"IFERROR($E91*SUMIF('Daily Log'!$E$18:$E$1017,$B91,'Daily Log'!$F$18:$F$1017),0)","v":0},{"$f":"IFERROR($E91*SUMIF('Daily Log'!$H$18:$H$1017,$B91,'Daily Log'!$I$18:$I$1017),0)","v":0},{"$f":"IFERROR($E91*SUMIF('Daily Log'!$K$18:$K$1017,$B91,'Daily Log'!$L$18:$L$1017),0)","v":0},{"$f":"IFERROR($E91*SUMIF('Daily Log'!$N$18:$N$1017,$B91,'Daily Log'!$O$18:$O$1017),0)","v":0},{"$f":"IFERROR($E91*SUMIF('Daily Log'!$Q$18:$Q$1017,$B91,'Daily Log'!$R$18:$R$1017),0)","v":0},{"$f":"IFERROR($E91*SUMIF('Daily Log'!$T$18:$T$1017,$B91,'Daily Log'!$U$18:$U$1017),0)","v":0},{"$f":"IFERROR($E91*SUMIF('Daily Log'!$W$18:$W$1017,$B91,'Daily Log'!$X$18:$X$1017),0)","v":0},{"$f":"IFERROR($E91*SUMIF('Daily Log'!$Z$18:$Z$1017,$B91,'Daily Log'!$AA$18:$AA$1017),0)","v":0},{"$f":"IFERROR($E91*SUMIF('Daily Log'!$AC$18:$AC$1017,$B91,'Daily Log'!$AD$18:$AD$1017),0)","v":0},{"$f":"IFERROR($E91*SUMIF('Daily Log'!$AF$18:$AF$1017,$B91,'Daily Log'!$AG$18:$AG$1017),0)","v":0},{"$f":"IFERROR($E91*SUMIF('Daily Log'!$AI$18:$AI$1017,$B91,'Daily Log'!$AJ$18:$AJ$1017),0)","v":0},{"$f":"IFERROR($E91*SUMIF('Daily Log'!$AL$18:$AL$1017,$B91,'Daily Log'!$AM$18:$AM$1017),0)","v":0},{"$f":"IFERROR($E91*SUMIF('Daily Log'!$AO$18:$AO$1017,$B91,'Daily Log'!$AP$18:$AP$1017),0)","v":0},{"$f":"IFERROR($E91*SUMIF('Daily Log'!$AR$18:$AR$1017,$B91,'Daily Log'!$AS$18:$AS$1017),0)","v":0},{"$f":"IFERROR($E91*SUMIF('Daily Log'!$AU$18:$AU$1017,$B91,'Daily Log'!$AV$18:$AV$1017),0)","v":0},{"$f":"IFERROR($E91*SUMIF('Daily Log'!$AX$18:$AX$1017,$B91,'Daily Log'!$AY$18:$AY$1017),0)","v":0},{"$f":"IFERROR($E91*SUMIF('Daily Log'!$BA$18:$BA$1017,$B91,'Daily Log'!$BB$18:$BB$1017),0)","v":0},{"$f":"IFERROR($E91*SUMIF('Daily Log'!$BD$18:$BD$1017,$B91,'Daily Log'!$BE$18:$BE$1017),0)","v":0},{"$f":"IFERROR($E91*SUMIF('Daily Log'!$BG$18:$BG$1017,$B91,'Daily Log'!$BH$18:$BH$1017),0)","v":0},{"$f":"IFERROR($E91*SUMIF('Daily Log'!$BJ$18:$BJ$1017,$B91,'Daily Log'!$BK$18:$BK$1017),0)","v":0},{"$f":"IFERROR($E91*SUMIF('Daily Log'!$BM$18:$BM$1017,$B91,'Daily Log'!$BN$18:$BN$1017),0)","v":0},{"$f":"IFERROR($E91*SUMIF('Daily Log'!$BP$18:$BP$1017,$B91,'Daily Log'!$BQ$18:$BQ$1017),0)","v":0},{"$f":"IFERROR($E91*SUMIF('Daily Log'!$BS$18:$BS$1017,$B91,'Daily Log'!$BT$18:$BT$1017),0)","v":0},{"$f":"IFERROR($E91*SUMIF('Daily Log'!$BV$18:$BV$1017,$B91,'Daily Log'!$BW$18:$BW$1017),0)","v":0},{"$f":"IFERROR($E91*SUMIF('Daily Log'!$BY$18:$BY$1017,$B91,'Daily Log'!$BZ$18:$BZ$1017),0)","v":0},{"$f":"IFERROR($E91*SUMIF('Daily Log'!$CB$18:$CB$1017,$B91,'Daily Log'!$CC$18:$CC$1017),0)","v":0},{"$f":"IFERROR($E91*SUMIF('Daily Log'!$CE$18:$CE$1017,$B91,'Daily Log'!$CF$18:$CF$1017),0)","v":0},{"$f":"IFERROR($E91*SUMIF('Daily Log'!$CH$18:$CH$1017,$B91,'Daily Log'!$CI$18:$CI$1017),0)","v":0},{"$f":"IFERROR($E91*SUMIF('Daily Log'!$CK$18:$CK$1017,$B91,'Daily Log'!$CL$18:$CL$1017),0)","v":0},{"$f":"IFERROR($E91*SUMIF('Daily Log'!$CN$18:$CN$1017,$B91,'Daily Log'!$CO$18:$CO$1017),0)","v":6}]
[null,"AA38 1308:MC RING",null,"SIDE ORDER",1,4,{"$f":"IFERROR($E92*SUMIF('Daily Log'!$B$18:$B$1017,$B92,'Daily Log'!$C$18:$C$1017),0)","v":0},{"$f":"IFERROR($E92*SUMIF('Daily Log'!$E$18:$E$1017,$B92,'Daily Log'!$F$18:$F$1017),0)","v":0},{"$f":"IFERROR($E92*SUMIF('Daily Log'!$H$18:$H$1017,$B92,'Daily Log'!$I$18:$I$1017),0)","v":0},{"$f":"IFERROR($E92*SUMIF('Daily Log'!$K$18:$K$1017,$B92,'Daily Log'!$L$18:$L$1017),0)","v":0},{"$f":"IFERROR($E92*SUMIF('Daily Log'!$N$18:$N$1017,$B92,'Daily Log'!$O$18:$O$1017),0)","v":0},{"$f":"IFERROR($E92*SUMIF('Daily Log'!$Q$18:$Q$1017,$B92,'Daily Log'!$R$18:$R$1017),0)","v":0},{"$f":"IFERROR($E92*SUMIF('Daily Log'!$T$18:$T$1017,$B92,'Daily Log'!$U$18:$U$1017),0)","v":0},{"$f":"IFERROR($E92*SUMIF('Daily Log'!$W$18:$W$1017,$B92,'Daily Log'!$X$18:$X$1017),0)","v":0},{"$f":"IFERROR($E92*SUMIF('Daily Log'!$Z$18:$Z$1017,$B92,'Daily Log'!$AA$18:$AA$1017),0)","v":0},{"$f":"IFERROR($E92*SUMIF('Daily Log'!$AC$18:$AC$1017,$B92,'Daily Log'!$AD$18:$AD$1017),0)","v":0},{"$f":"IFERROR($E92*SUMIF('Daily Log'!$AF$18:$AF$1017,$B92,'Daily Log'!$AG$18:$AG$1017),0)","v":0},{"$f":"IFERROR($E92*SUMIF('Daily Log'!$AI$18:$AI$1017,$B92,'Daily Log'!$AJ$18:$AJ$1017),0)","v":0},{"$f":"IFERROR($E92*SUMIF('Daily Log'!$AL$18:$AL$1017,$B92,'Daily Log'!$AM$18:$AM$1017),0)","v":0},{"$f":"IFERROR($E92*SUMIF('Daily Log'!$AO$18:$AO$1017,$B92,'Daily Log'!$AP$18:$AP$1017),0)","v":0},{"$f":"IFERROR($E92*SUMIF('Daily Log'!$AR$18:$AR$1017,$B92,'Daily Log'!$AS$18:$AS$1017),0)","v":0},{"$f":"IFERROR($E92*SUMIF('Daily Log'!$AU$18:$AU$1017,$B92,'Daily Log'!$AV$18:$AV$1017),0)","v":0},{"$f":"IFERROR($E92*SUMIF('Daily Log'!$AX$18:$AX$1017,$B92,'Daily Log'!$AY$18:$AY$1017),0)","v":0},{"$f":"IFERROR($E92*SUMIF('Daily Log'!$BA$18:$BA$1017,$B92,'Daily Log'!$BB$18:$BB$1017),0)","v":0},{"$f":"IFERROR($E92*SUMIF('Daily Log'!$BD$18:$BD$1017,$B92,'Daily Log'!$BE$18:$BE$1017),0)","v":0},{"$f":"IFERROR($E92*SUMIF('Daily Log'!$BG$18:$BG$1017,$B92,'Daily Log'!$BH$18:$BH$1017),0)","v":0},{"$f":"IFERROR($E92*SUMIF('Daily Log'!$BJ$18:$BJ$1017,$B92,'Daily Log'!$BK$18:$BK$1017),0)","v":0},{"$f":"IFERROR($E92*SUMIF('Daily Log'!$BM$18:$BM$1017,$B92,'Daily Log'!$BN$18:$BN$1017),0)","v":0},{"$f":"IFERROR($E92*SUMIF('Daily Log'!$BP$18:$BP$1017,$B92,'Daily Log'!$BQ$18:$BQ$1017),0)","v":0},{"$f":"IFERROR($E92*SUMIF('Daily Log'!$BS$18:$BS$1017,$B92,'Daily Log'!$BT$18:$BT$1017),0)","v":0},{"$f":"IFERROR($E92*SUMIF('Daily Log'!$BV$18:$BV$1017,$B92,'Daily Log'!$BW$18:$BW$1017),0)","v":0},{"$f":"IFERROR($E92*SUMIF('Daily Log'!$BY$18:$BY$1017,$B92,'Daily Log'!$BZ$18:$BZ$1017),0)","v":0},{"$f":"IFERROR($E92*SUMIF('Daily Log'!$CB$18:$CB$1017,$B92,'Daily Log'!$CC$18:$CC$1017),0)","v":0},{"$f":"IFERROR($E92*SUMIF('Daily Log'!$CE$18:$CE$1017,$B92,'Daily Log'!$CF$18:$CF$1017),0)","v":0},{"$f":"IFERROR($E92*SUMIF('Daily Log'!$CH$18:$CH$1017,$B92,'Daily Log'!$CI$18:$CI$1017),0)","v":0},{"$f":"IFERROR($E92*SUMIF('Daily Log'!$CK$18:$CK$1017,$B92,'Daily Log'!$CL$18:$CL$1017),0)","v":0},{"$f":"IFERROR($E92*SUMIF('Daily Log'!$CN$18:$CN$1017,$B92,'Daily Log'!$CO$18:$CO$1017),0)","v":4}]
[null,"AA39 1309:MC S.FRIES",null,"SIDE ORDER",1,6,{"$f":"IFERROR($E93*SUMIF('Daily Log'!$B$18:$B$1017,$B93,'Daily Log'!$C$18:$C$1017),0)","v":0},{"$f":"IFERROR($E93*SUMIF('Daily Log'!$E$18:$E$1017,$B93,'Daily Log'!$F$18:$F$1017),0)","v":0},{"$f":"IFERROR($E93*SUMIF('Daily Log'!$H$18:$H$1017,$B93,'Daily Log'!$I$18:$I$1017),0)","v":0},{"$f":"IFERROR($E93*SUMIF('Daily Log'!$K$18:$K$1017,$B93,'Daily Log'!$L$18:$L$1017),0)","v":0},{"$f":"IFERROR($E93*SUMIF('Daily Log'!$N$18:$N$1017,$B93,'Daily Log'!$O$18:$O$1017),0)","v":0},{"$f":"IFERROR($E93*SUMIF('Daily Log'!$Q$18:$Q$1017,$B93,'Daily Log'!$R$18:$R$1017),0)","v":0},{"$f":"IFERROR($E93*SUMIF('Daily Log'!$T$18:$T$1017,$B93,'Daily Log'!$U$18:$U$1017),0)","v":0},{"$f":"IFERROR($E93*SUMIF('Daily Log'!$W$18:$W$1017,$B93,'Daily Log'!$X$18:$X$1017),0)","v":0},{"$f":"IFERROR($E93*SUMIF('Daily Log'!$Z$18:$Z$1017,$B93,'Daily Log'!$AA$18:$AA$1017),0)","v":0},{"$f":"IFERROR($E93*SUMIF('Daily Log'!$AC$18:$AC$1017,$B93,'Daily Log'!$AD$18:$AD$1017),0)","v":0},{"$f":"IFERROR($E93*SUMIF('Daily Log'!$AF$18:$AF$1017,$B93,'Daily Log'!$AG$18:$AG$1017),0)","v":0},{"$f":"IFERROR($E93*SUMIF('Daily Log'!$AI$18:$AI$1017,$B93,'Daily Log'!$AJ$18:$AJ$1017),0)","v":0},{"$f":"IFERROR($E93*SUMIF('Daily Log'!$AL$18:$AL$1017,$B93,'Daily Log'!$AM$18:$AM$1017),0)","v":0},{"$f":"IFERROR($E93*SUMIF('Daily Log'!$AO$18:$AO$1017,$B93,'Daily Log'!$AP$18:$AP$1017),0)","v":0},{"$f":"IFERROR($E93*SUMIF('Daily Log'!$AR$18:$AR$1017,$B93,'Daily Log'!$AS$18:$AS$1017),0)","v":0},{"$f":"IFERROR($E93*SUMIF('Daily Log'!$AU$18:$AU$1017,$B93,'Daily Log'!$AV$18:$AV$1017),0)","v":0},{"$f":"IFERROR($E93*SUMIF('Daily Log'!$AX$18:$AX$1017,$B93,'Daily Log'!$AY$18:$AY$1017),0)","v":0},{"$f":"IFERROR($E93*SUMIF('Daily Log'!$BA$18:$BA$1017,$B93,'Daily Log'!$BB$18:$BB$1017),0)","v":0},{"$f":"IFERROR($E93*SUMIF('Daily Log'!$BD$18:$BD$1017,$B93,'Daily Log'!$BE$18:$BE$1017),0)","v":0},{"$f":"IFERROR($E93*SUMIF('Daily Log'!$BG$18:$BG$1017,$B93,'Daily Log'!$BH$18:$BH$1017),0)","v":0},{"$f":"IFERROR($E93*SUMIF('Daily Log'!$BJ$18:$BJ$1017,$B93,'Daily Log'!$BK$18:$BK$1017),0)","v":0},{"$f":"IFERROR($E93*SUMIF('Daily Log'!$BM$18:$BM$1017,$B93,'Daily Log'!$BN$18:$BN$1017),0)","v":0},{"$f":"IFERROR($E93*SUMIF('Daily Log'!$BP$18:$BP$1017,$B93,'Daily Log'!$BQ$18:$BQ$1017),0)","v":0},{"$f":"IFERROR($E93*SUMIF('Daily Log'!$BS$18:$BS$1017,$B93,'Daily Log'!$BT$18:$BT$1017),0)","v":0},{"$f":"IFERROR($E93*SUMIF('Daily Log'!$BV$18:$BV$1017,$B93,'Daily Log'!$BW$18:$BW$1017),0)","v":0},{"$f":"IFERROR($E93*SUMIF('Daily Log'!$BY$18:$BY$1017,$B93,'Daily Log'!$BZ$18:$BZ$1017),0)","v":0},{"$f":"IFERROR($E93*SUMIF('Daily Log'!$CB$18:$CB$1017,$B93,'Daily Log'!$CC$18:$CC$1017),0)","v":0},{"$f":"IFERROR($E93*SUMIF('Daily Log'!$CE$18:$CE$1017,$B93,'Daily Log'!$CF$18:$CF$1017),0)","v":0},{"$f":"IFERROR($E93*SUMIF('Daily Log'!$CH$18:$CH$1017,$B93,'Daily Log'!$CI$18:$CI$1017),0)","v":0},{"$f":"IFERROR($E93*SUMIF('Daily Log'!$CK$18:$CK$1017,$B93,'Daily Log'!$CL$18:$CL$1017),0)","v":0},{"$f":"IFERROR($E93*SUMIF('Daily Log'!$CN$18:$CN$1017,$B93,'Daily Log'!$CO$18:$CO$1017),0)","v":6}]
[null,"AA40 1310:MC HP SMIL",null,"SIDE ORDER",1,{"$f":"SUM($G94:$AK94)","v":0},{"$f":"IFERROR($E94*SUMIF('Daily Log'!$B$18:$B$1017,$B94,'Daily Log'!$C$18:$C$1017),0)","v":0},{"$f":"IFERROR($E94*SUMIF('Daily Log'!$E$18:$E$1017,$B94,'Daily Log'!$F$18:$F$1017),0)","v":0},{"$f":"IFERROR($E94*SUMIF('Daily Log'!$H$18:$H$1017,$B94,'Daily Log'!$I$18:$I$1017),0)","v":0},{"$f":"IFERROR($E94*SUMIF('Daily Log'!$K$18:$K$1017,$B94,'Daily Log'!$L$18:$L$1017),0)","v":0},{"$f":"IFERROR($E94*SUMIF('Daily Log'!$N$18:$N$1017,$B94,'Daily Log'!$O$18:$O$1017),0)","v":0},{"$f":"IFERROR($E94*SUMIF('Daily Log'!$Q$18:$Q$1017,$B94,'Daily Log'!$R$18:$R$1017),0)","v":0},{"$f":"IFERROR($E94*SUMIF('Daily Log'!$T$18:$T$1017,$B94,'Daily Log'!$U$18:$U$1017),0)","v":0},{"$f":"IFERROR($E94*SUMIF('Daily Log'!$W$18:$W$1017,$B94,'Daily Log'!$X$18:$X$1017),0)","v":0},{"$f":"IFERROR($E94*SUMIF('Daily Log'!$Z$18:$Z$1017,$B94,'Daily Log'!$AA$18:$AA$1017),0)","v":0},{"$f":"IFERROR($E94*SUMIF('Daily Log'!$AC$18:$AC$1017,$B94,'Daily Log'!$AD$18:$AD$1017),0)","v":0},{"$f":"IFERROR($E94*SUMIF('Daily Log'!$AF$18:$AF$1017,$B94,'Daily Log'!$AG$18:$AG$1017),0)","v":0},{"$f":"IFERROR($E94*SUMIF('Daily Log'!$AI$18:$AI$1017,$B94,'Daily Log'!$AJ$18:$AJ$1017),0)","v":0},{"$f":"IFERROR($E94*SUMIF('Daily Log'!$AL$18:$AL$1017,$B94,'Daily Log'!$AM$18:$AM$1017),0)","v":0},{"$f":"IFERROR($E94*SUMIF('Daily Log'!$AO$18:$AO$1017,$B94,'Daily Log'!$AP$18:$AP$1017),0)","v":0},{"$f":"IFERROR($E94*SUMIF('Daily Log'!$AR$18:$AR$1017,$B94,'Daily Log'!$AS$18:$AS$1017),0)","v":0},{"$f":"IFERROR($E94*SUMIF('Daily Log'!$AU$18:$AU$1017,$B94,'Daily Log'!$AV$18:$AV$1017),0)","v":0},{"$f":"IFERROR($E94*SUMIF('Daily Log'!$AX$18:$AX$1017,$B94,'Daily Log'!$AY$18:$AY$1017),0)","v":0},{"$f":"IFERROR($E94*SUMIF('Daily Log'!$BA$18:$BA$1017,$B94,'Daily Log'!$BB$18:$BB$1017),0)","v":0},{"$f":"IFERROR($E94*SUMIF('Daily Log'!$BD$18:$BD$1017,$B94,'Daily Log'!$BE$18:$BE$1017),0)","v":0},{"$f":"IFERROR($E94*SUMIF('Daily Log'!$BG$18:$BG$1017,$B94,'Daily Log'!$BH$18:$BH$1017),0)","v":0},{"$f":"IFERROR($E94*SUMIF('Daily Log'!$BJ$18:$BJ$1017,$B94,'Daily Log'!$BK$18:$BK$1017),0)","v":0},{"$f":"IFERROR($E94*SUMIF('Daily Log'!$BM$18:$BM$1017,$B94,'Daily Log'!$BN$18:$BN$1017),0)","v":0},{"$f":"IFERROR($E94*SUMIF('Daily Log'!$BP$18:$BP$1017,$B94,'Daily Log'!$BQ$18:$BQ$1017),0)","v":0},{"$f":"IFERROR($E94*SUMIF('Daily Log'!$BS$18:$BS$1017,$B94,'Daily Log'!$BT$18:$BT$1017),0)","v":0},{"$f":"IFERROR($E94*SUMIF('Daily Log'!$BV$18:$BV$1017,$B94,'Daily Log'!$BW$18:$BW$1017),0)","v":0},{"$f":"IFERROR($E94*SUMIF('Daily Log'!$BY$18:$BY$1017,$B94,'Daily Log'!$BZ$18:$BZ$1017),0)","v":0},{"$f":"IFERROR($E94*SUMIF('Daily Log'!$CB$18:$CB$1017,$B94,'Daily Log'!$CC$18:$CC$1017),0)","v":0},{"$f":"IFERROR($E94*SUMIF('Daily Log'!$CE$18:$CE$1017,$B94,'Daily Log'!$CF$18:$CF$1017),0)","v":0},{"$f":"IFERROR($E94*SUMIF('Daily Log'!$CH$18:$CH$1017,$B94,'Daily Log'!$CI$18:$CI$1017),0)","v":0},{"$f":"IFERROR($E94*SUMIF('Daily Log'!$CK$18:$CK$1017,$B94,'Daily Log'!$CL$18:$CL$1017),0)","v":0},{"$f":"IFERROR($E94*SUMIF('Daily Log'!$CN$18:$CN$1017,$B94,'Daily Log'!$CO$18:$CO$1017),0)","v":0}]
[null,"AA41 1311:MC HSH BRW",null,"SIDE ORDER",1,9,{"$f":"IFERROR($E95*SUMIF('Daily Log'!$B$18:$B$1017,$B95,'Daily Log'!$C$18:$C$1017),0)","v":0},{"$f":"IFERROR($E95*SUMIF('Daily Log'!$E$18:$E$1017,$B95,'Daily Log'!$F$18:$F$1017),0)","v":0},{"$f":"IFERROR($E95*SUMIF('Daily Log'!$H$18:$H$1017,$B95,'Daily Log'!$I$18:$I$1017),0)","v":0},{"$f":"IFERROR($E95*SUMIF('Daily Log'!$K$18:$K$1017,$B95,'Daily Log'!$L$18:$L$1017),0)","v":0},{"$f":"IFERROR($E95*SUMIF('Daily Log'!$N$18:$N$1017,$B95,'Daily Log'!$O$18:$O$1017),0)","v":0},{"$f":"IFERROR($E95*SUMIF('Daily Log'!$Q$18:$Q$1017,$B95,'Daily Log'!$R$18:$R$1017),0)","v":0},{"$f":"IFERROR($E95*SUMIF('Daily Log'!$T$18:$T$1017,$B95,'Daily Log'!$U$18:$U$1017),0)","v":0},{"$f":"IFERROR($E95*SUMIF('Daily Log'!$W$18:$W$1017,$B95,'Daily Log'!$X$18:$X$1017),0)","v":0},{"$f":"IFERROR($E95*SUMIF('Daily Log'!$Z$18:$Z$1017,$B95,'Daily Log'!$AA$18:$AA$1017),0)","v":0},{"$f":"IFERROR($E95*SUMIF('Daily Log'!$AC$18:$AC$1017,$B95,'Daily Log'!$AD$18:$AD$1017),0)","v":0},{"$f":"IFERROR($E95*SUMIF('Daily Log'!$AF$18:$AF$1017,$B95,'Daily Log'!$AG$18:$AG$1017),0)","v":0},{"$f":"IFERROR($E95*SUMIF('Daily Log'!$AI$18:$AI$1017,$B95,'Daily Log'!$AJ$18:$AJ$1017),0)","v":0},{"$f":"IFERROR($E95*SUMIF('Daily Log'!$AL$18:$AL$1017,$B95,'Daily Log'!$AM$18:$AM$1017),0)","v":0},{"$f":"IFERROR($E95*SUMIF('Daily Log'!$AO$18:$AO$1017,$B95,'Daily Log'!$AP$18:$AP$1017),0)","v":0},{"$f":"IFERROR($E95*SUMIF('Daily Log'!$AR$18:$AR$1017,$B95,'Daily Log'!$AS$18:$AS$1017),0)","v":0},{"$f":"IFERROR($E95*SUMIF('Daily Log'!$AU$18:$AU$1017,$B95,'Daily Log'!$AV$18:$AV$1017),0)","v":0},{"$f":"IFERROR($E95*SUMIF('Daily Log'!$AX$18:$AX$1017,$B95,'Daily Log'!$AY$18:$AY$1017),0)","v":0},{"$f":"IFERROR($E95*SUMIF('Daily Log'!$BA$18:$BA$1017,$B95,'Daily Log'!$BB$18:$BB$1017),0)","v":0},{"$f":"IFERROR($E95*SUMIF('Daily Log'!$BD$18:$BD$1017,$B95,'Daily Log'!$BE$18:$BE$1017),0)","v":0},{"$f":"IFERROR($E95*SUMIF('Daily Log'!$BG$18:$BG$1017,$B95,'Daily Log'!$BH$18:$BH$1017),0)","v":0},{"$f":"IFERROR($E95*SUMIF('Daily Log'!$BJ$18:$BJ$1017,$B95,'Daily Log'!$BK$18:$BK$1017),0)","v":0},{"$f":"IFERROR($E95*SUMIF('Daily Log'!$BM$18:$BM$1017,$B95,'Daily Log'!$BN$18:$BN$1017),0)","v":0},{"$f":"IFERROR($E95*SUMIF('Daily Log'!$BP$18:$BP$1017,$B95,'Daily Log'!$BQ$18:$BQ$1017),0)","v":0},{"$f":"IFERROR($E95*SUMIF('Daily Log'!$BS$18:$BS$1017,$B95,'Daily Log'!$BT$18:$BT$1017),0)","v":0},{"$f":"IFERROR($E95*SUMIF('Daily Log'!$BV$18:$BV$1017,$B95,'Daily Log'!$BW$18:$BW$1017),0)","v":0},{"$f":"IFERROR($E95*SUMIF('Daily Log'!$BY$18:$BY$1017,$B95,'Daily Log'!$BZ$18:$BZ$1017),0)","v":0},{"$f":"IFERROR($E95*SUMIF('Daily Log'!$CB$18:$CB$1017,$B95,'Daily Log'!$CC$18:$CC$1017),0)","v":0},{"$f":"IFERROR($E95*SUMIF('Daily Log'!$CE$18:$CE$1017,$B95,'Daily Log'!$CF$18:$CF$1017),0)","v":0},{"$f":"IFERROR($E95*SUMIF('Daily Log'!$CH$18:$CH$1017,$B95,'Daily Log'!$CI$18:$CI$1017),0)","v":0},{"$f":"IFERROR($E95*SUMIF('Daily Log'!$CK$18:$CK$1017,$B95,'Daily Log'!$CL$18:$CL$1017),0)","v":0},{"$f":"IFERROR($E95*SUMIF('Daily Log'!$CN$18:$CN$1017,$B95,'Daily Log'!$CO$18:$CO$1017),0)","v":9}]
[null,"WT01 1001:BP CKN CP",null,"SIDE ORDER",1,165,{"$f":"IFERROR($E96*SUMIF('Daily Log'!$B$18:$B$1017,$B96,'Daily Log'!$C$18:$C$1017),0)","v":0},{"$f":"IFERROR($E96*SUMIF('Daily Log'!$E$18:$E$1017,$B96,'Daily Log'!$F$18:$F$1017),0)","v":0},{"$f":"IFERROR($E96*SUMIF('Daily Log'!$H$18:$H$1017,$B96,'Daily Log'!$I$18:$I$1017),0)","v":0},{"$f":"IFERROR($E96*SUMIF('Daily Log'!$K$18:$K$1017,$B96,'Daily Log'!$L$18:$L$1017),0)","v":0},{"$f":"IFERROR($E96*SUMIF('Daily Log'!$N$18:$N$1017,$B96,'Daily Log'!$O$18:$O$1017),0)","v":0},{"$f":"IFERROR($E96*SUMIF('Daily Log'!$Q$18:$Q$1017,$B96,'Daily Log'!$R$18:$R$1017),0)","v":0},{"$f":"IFERROR($E96*SUMIF('Daily Log'!$T$18:$T$1017,$B96,'Daily Log'!$U$18:$U$1017),0)","v":0},{"$f":"IFERROR($E96*SUMIF('Daily Log'!$W$18:$W$1017,$B96,'Daily Log'!$X$18:$X$1017),0)","v":0},{"$f":"IFERROR($E96*SUMIF('Daily Log'!$Z$18:$Z$1017,$B96,'Daily Log'!$AA$18:$AA$1017),0)","v":0},{"$f":"IFERROR($E96*SUMIF('Daily Log'!$AC$18:$AC$1017,$B96,'Daily Log'!$AD$18:$AD$1017),0)","v":0},{"$f":"IFERROR($E96*SUMIF('Daily Log'!$AF$18:$AF$1017,$B96,'Daily Log'!$AG$18:$AG$1017),0)","v":0},{"$f":"IFERROR($E96*SUMIF('Daily Log'!$AI$18:$AI$1017,$B96,'Daily Log'!$AJ$18:$AJ$1017),0)","v":0},{"$f":"IFERROR($E96*SUMIF('Daily Log'!$AL$18:$AL$1017,$B96,'Daily Log'!$AM$18:$AM$1017),0)","v":0},{"$f":"IFERROR($E96*SUMIF('Daily Log'!$AO$18:$AO$1017,$B96,'Daily Log'!$AP$18:$AP$1017),0)","v":0},{"$f":"IFERROR($E96*SUMIF('Daily Log'!$AR$18:$AR$1017,$B96,'Daily Log'!$AS$18:$AS$1017),0)","v":0},{"$f":"IFERROR($E96*SUMIF('Daily Log'!$AU$18:$AU$1017,$B96,'Daily Log'!$AV$18:$AV$1017),0)","v":0},{"$f":"IFERROR($E96*SUMIF('Daily Log'!$AX$18:$AX$1017,$B96,'Daily Log'!$AY$18:$AY$1017),0)","v":0},{"$f":"IFERROR($E96*SUMIF('Daily Log'!$BA$18:$BA$1017,$B96,'Daily Log'!$BB$18:$BB$1017),0)","v":0},{"$f":"IFERROR($E96*SUMIF('Daily Log'!$BD$18:$BD$1017,$B96,'Daily Log'!$BE$18:$BE$1017),0)","v":0},{"$f":"IFERROR($E96*SUMIF('Daily Log'!$BG$18:$BG$1017,$B96,'Daily Log'!$BH$18:$BH$1017),0)","v":0},{"$f":"IFERROR($E96*SUMIF('Daily Log'!$BJ$18:$BJ$1017,$B96,'Daily Log'!$BK$18:$BK$1017),0)","v":0},{"$f":"IFERROR($E96*SUMIF('Daily Log'!$BM$18:$BM$1017,$B96,'Daily Log'!$BN$18:$BN$1017),0)","v":0},{"$f":"IFERROR($E96*SUMIF('Daily Log'!$BP$18:$BP$1017,$B96,'Daily Log'!$BQ$18:$BQ$1017),0)","v":0},{"$f":"IFERROR($E96*SUMIF('Daily Log'!$BS$18:$BS$1017,$B96,'Daily Log'!$BT$18:$BT$1017),0)","v":0},{"$f":"IFERROR($E96*SUMIF('Daily Log'!$BV$18:$BV$1017,$B96,'Daily Log'!$BW$18:$BW$1017),0)","v":0},{"$f":"IFERROR($E96*SUMIF('Daily Log'!$BY$18:$BY$1017,$B96,'Daily Log'!$BZ$18:$BZ$1017),0)","v":0},{"$f":"IFERROR($E96*SUMIF('Daily Log'!$CB$18:$CB$1017,$B96,'Daily Log'!$CC$18:$CC$1017),0)","v":0},{"$f":"IFERROR($E96*SUMIF('Daily Log'!$CE$18:$CE$1017,$B96,'Daily Log'!$CF$18:$CF$1017),0)","v":0},{"$f":"IFERROR($E96*SUMIF('Daily Log'!$CH$18:$CH$1017,$B96,'Daily Log'!$CI$18:$CI$1017),0)","v":0},{"$f":"IFERROR($E96*SUMIF('Daily Log'!$CK$18:$CK$1017,$B96,'Daily Log'!$CL$18:$CL$1017),0)","v":0},{"$f":"IFERROR($E96*SUMIF('Daily Log'!$CN$18:$CN$1017,$B96,'Daily Log'!$CO$18:$CO$1017),0)","v":165}]
[null,"WT02 1002:GVY CHK CP",null,"SIDE ORDER",1,0,{"$f":"IFERROR($E97*SUMIF('Daily Log'!$B$18:$B$1017,$B97,'Daily Log'!$C$18:$C$1017),0)","v":0},{"$f":"IFERROR($E97*SUMIF('Daily Log'!$E$18:$E$1017,$B97,'Daily Log'!$F$18:$F$1017),0)","v":0},{"$f":"IFERROR($E97*SUMIF('Daily Log'!$H$18:$H$1017,$B97,'Daily Log'!$I$18:$I$1017),0)","v":0},{"$f":"IFERROR($E97*SUMIF('Daily Log'!$K$18:$K$1017,$B97,'Daily Log'!$L$18:$L$1017),0)","v":0},{"$f":"IFERROR($E97*SUMIF('Daily Log'!$N$18:$N$1017,$B97,'Daily Log'!$O$18:$O$1017),0)","v":0},{"$f":"IFERROR($E97*SUMIF('Daily Log'!$Q$18:$Q$1017,$B97,'Daily Log'!$R$18:$R$1017),0)","v":0},{"$f":"IFERROR($E97*SUMIF('Daily Log'!$T$18:$T$1017,$B97,'Daily Log'!$U$18:$U$1017),0)","v":0},{"$f":"IFERROR($E97*SUMIF('Daily Log'!$W$18:$W$1017,$B97,'Daily Log'!$X$18:$X$1017),0)","v":0},{"$f":"IFERROR($E97*SUMIF('Daily Log'!$Z$18:$Z$1017,$B97,'Daily Log'!$AA$18:$AA$1017),0)","v":0},{"$f":"IFERROR($E97*SUMIF('Daily Log'!$AC$18:$AC$1017,$B97,'Daily Log'!$AD$18:$AD$1017),0)","v":0},{"$f":"IFERROR($E97*SUMIF('Daily Log'!$AF$18:$AF$1017,$B97,'Daily Log'!$AG$18:$AG$1017),0)","v":0},{"$f":"IFERROR($E97*SUMIF('Daily Log'!$AI$18:$AI$1017,$B97,'Daily Log'!$AJ$18:$AJ$1017),0)","v":0},{"$f":"IFERROR($E97*SUMIF('Daily Log'!$AL$18:$AL$1017,$B97,'Daily Log'!$AM$18:$AM$1017),0)","v":0},{"$f":"IFERROR($E97*SUMIF('Daily Log'!$AO$18:$AO$1017,$B97,'Daily Log'!$AP$18:$AP$1017),0)","v":0},{"$f":"IFERROR($E97*SUMIF('Daily Log'!$AR$18:$AR$1017,$B97,'Daily Log'!$AS$18:$AS$1017),0)","v":0},{"$f":"IFERROR($E97*SUMIF('Daily Log'!$AU$18:$AU$1017,$B97,'Daily Log'!$AV$18:$AV$1017),0)","v":0},{"$f":"IFERROR($E97*SUMIF('Daily Log'!$AX$18:$AX$1017,$B97,'Daily Log'!$AY$18:$AY$1017),0)","v":0},{"$f":"IFERROR($E97*SUMIF('Daily Log'!$BA$18:$BA$1017,$B97,'Daily Log'!$BB$18:$BB$1017),0)","v":0},{"$f":"IFERROR($E97*SUMIF('Daily Log'!$BD$18:$BD$1017,$B97,'Daily Log'!$BE$18:$BE$1017),0)","v":0},{"$f":"IFERROR($E97*SUMIF('Daily Log'!$BG$18:$BG$1017,$B97,'Daily Log'!$BH$18:$BH$1017),0)","v":0},{"$f":"IFERROR($E97*SUMIF('Daily Log'!$BJ$18:$BJ$1017,$B97,'Daily Log'!$BK$18:$BK$1017),0)","v":0},{"$f":"IFERROR($E97*SUMIF('Daily Log'!$BM$18:$BM$1017,$B97,'Daily Log'!$BN$18:$BN$1017),0)","v":0},{"$f":"IFERROR($E97*SUMIF('Daily Log'!$BP$18:$BP$1017,$B97,'Daily Log'!$BQ$18:$BQ$1017),0)","v":0},{"$f":"IFERROR($E97*SUMIF('Daily Log'!$BS$18:$BS$1017,$B97,'Daily Log'!$BT$18:$BT$1017),0)","v":0},{"$f":"IFERROR($E97*SUMIF('Daily Log'!$BV$18:$BV$1017,$B97,'Daily Log'!$BW$18:$BW$1017),0)","v":0},{"$f":"IFERROR($E97*SUMIF('Daily Log'!$BY$18:$BY$1017,$B97,'Daily Log'!$BZ$18:$BZ$1017),0)","v":0},{"$f":"IFERROR($E97*SUMIF('Daily Log'!$CB$18:$CB$1017,$B97,'Daily Log'!$CC$18:$CC$1017),0)","v":0},{"$f":"IFERROR($E97*SUMIF('Daily Log'!$CE$18:$CE$1017,$B97,'Daily Log'!$CF$18:$CF$1017),0)","v":0},{"$f":"IFERROR($E97*SUMIF('Daily Log'!$CH$18:$CH$1017,$B97,'Daily Log'!$CI$18:$CI$1017),0)","v":0},{"$f":"IFERROR($E97*SUMIF('Daily Log'!$CK$18:$CK$1017,$B97,'Daily Log'!$CL$18:$CL$1017),0)","v":0},{"$f":"IFERROR($E97*SUMIF('Daily Log'!$CN$18:$CN$1017,$B97,'Daily Log'!$CO$18:$CO$1017),0)","v":0}]
[null,"WT03 1003:MR CKN CP",null,"SIDE ORDER",1,252,{"$f":"IFERROR($E98*SUMIF('Daily Log'!$B$18:$B$1017,$B98,'Daily Log'!$C$18:$C$1017),0)","v":0},{"$f":"IFERROR($E98*SUMIF('Daily Log'!$E$18:$E$1017,$B98,'Daily Log'!$F$18:$F$1017),0)","v":0},{"$f":"IFERROR($E98*SUMIF('Daily Log'!$H$18:$H$1017,$B98,'Daily Log'!$I$18:$I$1017),0)","v":0},{"$f":"IFERROR($E98*SUMIF('Daily Log'!$K$18:$K$1017,$B98,'Daily Log'!$L$18:$L$1017),0)","v":0},{"$f":"IFERROR($E98*SUMIF('Daily Log'!$N$18:$N$1017,$B98,'Daily Log'!$O$18:$O$1017),0)","v":0},{"$f":"IFERROR($E98*SUMIF('Daily Log'!$Q$18:$Q$1017,$B98,'Daily Log'!$R$18:$R$1017),0)","v":0},{"$f":"IFERROR($E98*SUMIF('Daily Log'!$T$18:$T$1017,$B98,'Daily Log'!$U$18:$U$1017),0)","v":0},{"$f":"IFERROR($E98*SUMIF('Daily Log'!$W$18:$W$1017,$B98,'Daily Log'!$X$18:$X$1017),0)","v":0},{"$f":"IFERROR($E98*SUMIF('Daily Log'!$Z$18:$Z$1017,$B98,'Daily Log'!$AA$18:$AA$1017),0)","v":0},{"$f":"IFERROR($E98*SUMIF('Daily Log'!$AC$18:$AC$1017,$B98,'Daily Log'!$AD$18:$AD$1017),0)","v":0},{"$f":"IFERROR($E98*SUMIF('Daily Log'!$AF$18:$AF$1017,$B98,'Daily Log'!$AG$18:$AG$1017),0)","v":0},{"$f":"IFERROR($E98*SUMIF('Daily Log'!$AI$18:$AI$1017,$B98,'Daily Log'!$AJ$18:$AJ$1017),0)","v":0},{"$f":"IFERROR($E98*SUMIF('Daily Log'!$AL$18:$AL$1017,$B98,'Daily Log'!$AM$18:$AM$1017),0)","v":0},{"$f":"IFERROR($E98*SUMIF('Daily Log'!$AO$18:$AO$1017,$B98,'Daily Log'!$AP$18:$AP$1017),0)","v":0},{"$f":"IFERROR($E98*SUMIF('Daily Log'!$AR$18:$AR$1017,$B98,'Daily Log'!$AS$18:$AS$1017),0)","v":0},{"$f":"IFERROR($E98*SUMIF('Daily Log'!$AU$18:$AU$1017,$B98,'Daily Log'!$AV$18:$AV$1017),0)","v":0},{"$f":"IFERROR($E98*SUMIF('Daily Log'!$AX$18:$AX$1017,$B98,'Daily Log'!$AY$18:$AY$1017),0)","v":0},{"$f":"IFERROR($E98*SUMIF('Daily Log'!$BA$18:$BA$1017,$B98,'Daily Log'!$BB$18:$BB$1017),0)","v":0},{"$f":"IFERROR($E98*SUMIF('Daily Log'!$BD$18:$BD$1017,$B98,'Daily Log'!$BE$18:$BE$1017),0)","v":0},{"$f":"IFERROR($E98*SUMIF('Daily Log'!$BG$18:$BG$1017,$B98,'Daily Log'!$BH$18:$BH$1017),0)","v":0},{"$f":"IFERROR($E98*SUMIF('Daily Log'!$BJ$18:$BJ$1017,$B98,'Daily Log'!$BK$18:$BK$1017),0)","v":0},{"$f":"IFERROR($E98*SUMIF('Daily Log'!$BM$18:$BM$1017,$B98,'Daily Log'!$BN$18:$BN$1017),0)","v":0},{"$f":"IFERROR($E98*SUMIF('Daily Log'!$BP$18:$BP$1017,$B98,'Daily Log'!$BQ$18:$BQ$1017),0)","v":0},{"$f":"IFERROR($E98*SUMIF('Daily Log'!$BS$18:$BS$1017,$B98,'Daily Log'!$BT$18:$BT$1017),0)","v":0},{"$f":"IFERROR($E98*SUMIF('Daily Log'!$BV$18:$BV$1017,$B98,'Daily Log'!$BW$18:$BW$1017),0)","v":0},{"$f":"IFERROR($E98*SUMIF('Daily Log'!$BY$18:$BY$1017,$B98,'Daily Log'!$BZ$18:$BZ$1017),0)","v":0},{"$f":"IFERROR($E98*SUMIF('Daily Log'!$CB$18:$CB$1017,$B98,'Daily Log'!$CC$18:$CC$1017),0)","v":0},{"$f":"IFERROR($E98*SUMIF('Daily Log'!$CE$18:$CE$1017,$B98,'Daily Log'!$CF$18:$CF$1017),0)","v":0},{"$f":"IFERROR($E98*SUMIF('Daily Log'!$CH$18:$CH$1017,$B98,'Daily Log'!$CI$18:$CI$1017),0)","v":0},{"$f":"IFERROR($E98*SUMIF('Daily Log'!$CK$18:$CK$1017,$B98,'Daily Log'!$CL$18:$CL$1017),0)","v":0},{"$f":"IFERROR($E98*SUMIF('Daily Log'!$CN$18:$CN$1017,$B98,'Daily Log'!$CO$18:$CO$1017),0)","v":252}]
[null,"WT04 1004:CKN MARY",null,"SIDE ORDER",1,50,{"$f":"IFERROR($E99*SUMIF('Daily Log'!$B$18:$B$1017,$B99,'Daily Log'!$C$18:$C$1017),0)","v":0},{"$f":"IFERROR($E99*SUMIF('Daily Log'!$E$18:$E$1017,$B99,'Daily Log'!$F$18:$F$1017),0)","v":0},{"$f":"IFERROR($E99*SUMIF('Daily Log'!$H$18:$H$1017,$B99,'Daily Log'!$I$18:$I$1017),0)","v":0},{"$f":"IFERROR($E99*SUMIF('Daily Log'!$K$18:$K$1017,$B99,'Daily Log'!$L$18:$L$1017),0)","v":0},{"$f":"IFERROR($E99*SUMIF('Daily Log'!$N$18:$N$1017,$B99,'Daily Log'!$O$18:$O$1017),0)","v":0},{"$f":"IFERROR($E99*SUMIF('Daily Log'!$Q$18:$Q$1017,$B99,'Daily Log'!$R$18:$R$1017),0)","v":0},{"$f":"IFERROR($E99*SUMIF('Daily Log'!$T$18:$T$1017,$B99,'Daily Log'!$U$18:$U$1017),0)","v":0},{"$f":"IFERROR($E99*SUMIF('Daily Log'!$W$18:$W$1017,$B99,'Daily Log'!$X$18:$X$1017),0)","v":0},{"$f":"IFERROR($E99*SUMIF('Daily Log'!$Z$18:$Z$1017,$B99,'Daily Log'!$AA$18:$AA$1017),0)","v":0},{"$f":"IFERROR($E99*SUMIF('Daily Log'!$AC$18:$AC$1017,$B99,'Daily Log'!$AD$18:$AD$1017),0)","v":0},{"$f":"IFERROR($E99*SUMIF('Daily Log'!$AF$18:$AF$1017,$B99,'Daily Log'!$AG$18:$AG$1017),0)","v":0},{"$f":"IFERROR($E99*SUMIF('Daily Log'!$AI$18:$AI$1017,$B99,'Daily Log'!$AJ$18:$AJ$1017),0)","v":0},{"$f":"IFERROR($E99*SUMIF('Daily Log'!$AL$18:$AL$1017,$B99,'Daily Log'!$AM$18:$AM$1017),0)","v":0},{"$f":"IFERROR($E99*SUMIF('Daily Log'!$AO$18:$AO$1017,$B99,'Daily Log'!$AP$18:$AP$1017),0)","v":0},{"$f":"IFERROR($E99*SUMIF('Daily Log'!$AR$18:$AR$1017,$B99,'Daily Log'!$AS$18:$AS$1017),0)","v":0},{"$f":"IFERROR($E99*SUMIF('Daily Log'!$AU$18:$AU$1017,$B99,'Daily Log'!$AV$18:$AV$1017),0)","v":0},{"$f":"IFERROR($E99*SUMIF('Daily Log'!$AX$18:$AX$1017,$B99,'Daily Log'!$AY$18:$AY$1017),0)","v":0},{"$f":"IFERROR($E99*SUMIF('Daily Log'!$BA$18:$BA$1017,$B99,'Daily Log'!$BB$18:$BB$1017),0)","v":0},{"$f":"IFERROR($E99*SUMIF('Daily Log'!$BD$18:$BD$1017,$B99,'Daily Log'!$BE$18:$BE$1017),0)","v":0},{"$f":"IFERROR($E99*SUMIF('Daily Log'!$BG$18:$BG$1017,$B99,'Daily Log'!$BH$18:$BH$1017),0)","v":0},{"$f":"IFERROR($E99*SUMIF('Daily Log'!$BJ$18:$BJ$1017,$B99,'Daily Log'!$BK$18:$BK$1017),0)","v":0},{"$f":"IFERROR($E99*SUMIF('Daily Log'!$BM$18:$BM$1017,$B99,'Daily Log'!$BN$18:$BN$1017),0)","v":0},{"$f":"IFERROR($E99*SUMIF('Daily Log'!$BP$18:$BP$1017,$B99,'Daily Log'!$BQ$18:$BQ$1017),0)","v":0},{"$f":"IFERROR($E99*SUMIF('Daily Log'!$BS$18:$BS$1017,$B99,'Daily Log'!$BT$18:$BT$1017),0)","v":0},{"$f":"IFERROR($E99*SUMIF('Daily Log'!$BV$18:$BV$1017,$B99,'Daily Log'!$BW$18:$BW$1017),0)","v":0},{"$f":"IFERROR($E99*SUMIF('Daily Log'!$BY$18:$BY$1017,$B99,'Daily Log'!$BZ$18:$BZ$1017),0)","v":0},{"$f":"IFERROR($E99*SUMIF('Daily Log'!$CB$18:$CB$1017,$B99,'Daily Log'!$CC$18:$CC$1017),0)","v":0},{"$f":"IFERROR($E99*SUMIF('Daily Log'!$CE$18:$CE$1017,$B99,'Daily Log'!$CF$18:$CF$1017),0)","v":0},{"$f":"IFERROR($E99*SUMIF('Daily Log'!$CH$18:$CH$1017,$B99,'Daily Log'!$CI$18:$CI$1017),0)","v":0},{"$f":"IFERROR($E99*SUMIF('Daily Log'!$CK$18:$CK$1017,$B99,'Daily Log'!$CL$18:$CL$1017),0)","v":0},{"$f":"IFERROR($E99*SUMIF('Daily Log'!$CN$18:$CN$1017,$B99,'Daily Log'!$CO$18:$CO$1017),0)","v":50}]
[null,"WT05 1005:FSH&CHIP",null,"SIDE ORDER",1,82,{"$f":"IFERROR($E100*SUMIF('Daily Log'!$B$18:$B$1017,$B100,'Daily Log'!$C$18:$C$1017),0)","v":0},{"$f":"IFERROR($E100*SUMIF('Daily Log'!$E$18:$E$1017,$B100,'Daily Log'!$F$18:$F$1017),0)","v":0},{"$f":"IFERROR($E100*SUMIF('Daily Log'!$H$18:$H$1017,$B100,'Daily Log'!$I$18:$I$1017),0)","v":0},{"$f":"IFERROR($E100*SUMIF('Daily Log'!$K$18:$K$1017,$B100,'Daily Log'!$L$18:$L$1017),0)","v":0},{"$f":"IFERROR($E100*SUMIF('Daily Log'!$N$18:$N$1017,$B100,'Daily Log'!$O$18:$O$1017),0)","v":0},{"$f":"IFERROR($E100*SUMIF('Daily Log'!$Q$18:$Q$1017,$B100,'Daily Log'!$R$18:$R$1017),0)","v":0},{"$f":"IFERROR($E100*SUMIF('Daily Log'!$T$18:$T$1017,$B100,'Daily Log'!$U$18:$U$1017),0)","v":0},{"$f":"IFERROR($E100*SUMIF('Daily Log'!$W$18:$W$1017,$B100,'Daily Log'!$X$18:$X$1017),0)","v":0},{"$f":"IFERROR($E100*SUMIF('Daily Log'!$Z$18:$Z$1017,$B100,'Daily Log'!$AA$18:$AA$1017),0)","v":0},{"$f":"IFERROR($E100*SUMIF('Daily Log'!$AC$18:$AC$1017,$B100,'Daily Log'!$AD$18:$AD$1017),0)","v":0},{"$f":"IFERROR($E100*SUMIF('Daily Log'!$AF$18:$AF$1017,$B100,'Daily Log'!$AG$18:$AG$1017),0)","v":0},{"$f":"IFERROR($E100*SUMIF('Daily Log'!$AI$18:$AI$1017,$B100,'Daily Log'!$AJ$18:$AJ$1017),0)","v":0},{"$f":"IFERROR($E100*SUMIF('Daily Log'!$AL$18:$AL$1017,$B100,'Daily Log'!$AM$18:$AM$1017),0)","v":0},{"$f":"IFERROR($E100*SUMIF('Daily Log'!$AO$18:$AO$1017,$B100,'Daily Log'!$AP$18:$AP$1017),0)","v":0},{"$f":"IFERROR($E100*SUMIF('Daily Log'!$AR$18:$AR$1017,$B100,'Daily Log'!$AS$18:$AS$1017),0)","v":0},{"$f":"IFERROR($E100*SUMIF('Daily Log'!$AU$18:$AU$1017,$B100,'Daily Log'!$AV$18:$AV$1017),0)","v":0},{"$f":"IFERROR($E100*SUMIF('Daily Log'!$AX$18:$AX$1017,$B100,'Daily Log'!$AY$18:$AY$1017),0)","v":0},{"$f":"IFERROR($E100*SUMIF('Daily Log'!$BA$18:$BA$1017,$B100,'Daily Log'!$BB$18:$BB$1017),0)","v":0},{"$f":"IFERROR($E100*SUMIF('Daily Log'!$BD$18:$BD$1017,$B100,'Daily Log'!$BE$18:$BE$1017),0)","v":0},{"$f":"IFERROR($E100*SUMIF('Daily Log'!$BG$18:$BG$1017,$B100,'Daily Log'!$BH$18:$BH$1017),0)","v":0},{"$f":"IFERROR($E100*SUMIF('Daily Log'!$BJ$18:$BJ$1017,$B100,'Daily Log'!$BK$18:$BK$1017),0)","v":0},{"$f":"IFERROR($E100*SUMIF('Daily Log'!$BM$18:$BM$1017,$B100,'Daily Log'!$BN$18:$BN$1017),0)","v":0},{"$f":"IFERROR($E100*SUMIF('Daily Log'!$BP$18:$BP$1017,$B100,'Daily Log'!$BQ$18:$BQ$1017),0)","v":0},{"$f":"IFERROR($E100*SUMIF('Daily Log'!$BS$18:$BS$1017,$B100,'Daily Log'!$BT$18:$BT$1017),0)","v":0},{"$f":"IFERROR($E100*SUMIF('Daily Log'!$BV$18:$BV$1017,$B100,'Daily Log'!$BW$18:$BW$1017),0)","v":0},{"$f":"IFERROR($E100*SUMIF('Daily Log'!$BY$18:$BY$1017,$B100,'Daily Log'!$BZ$18:$BZ$1017),0)","v":0},{"$f":"IFERROR($E100*SUMIF('Daily Log'!$CB$18:$CB$1017,$B100,'Daily Log'!$CC$18:$CC$1017),0)","v":0},{"$f":"IFERROR($E100*SUMIF('Daily Log'!$CE$18:$CE$1017,$B100,'Daily Log'!$CF$18:$CF$1017),0)","v":0},{"$f":"IFERROR($E100*SUMIF('Daily Log'!$CH$18:$CH$1017,$B100,'Daily Log'!$CI$18:$CI$1017),0)","v":0},{"$f":"IFERROR($E100*SUMIF('Daily Log'!$CK$18:$CK$1017,$B100,'Daily Log'!$CL$18:$CL$1017),0)","v":0},{"$f":"IFERROR($E100*SUMIF('Daily Log'!$CN$18:$CN$1017,$B100,'Daily Log'!$CO$18:$CO$1017),0)","v":82}]
[null,"WT06 1006:SPAGHETTI",null,"SIDE ORDER",1,85,{"$f":"IFERROR($E101*SUMIF('Daily Log'!$B$18:$B$1017,$B101,'Daily Log'!$C$18:$C$1017),0)","v":0},{"$f":"IFERROR($E101*SUMIF('Daily Log'!$E$18:$E$1017,$B101,'Daily Log'!$F$18:$F$1017),0)","v":0},{"$f":"IFERROR($E101*SUMIF('Daily Log'!$H$18:$H$1017,$B101,'Daily Log'!$I$18:$I$1017),0)","v":0},{"$f":"IFERROR($E101*SUMIF('Daily Log'!$K$18:$K$1017,$B101,'Daily Log'!$L$18:$L$1017),0)","v":0},{"$f":"IFERROR($E101*SUMIF('Daily Log'!$N$18:$N$1017,$B101,'Daily Log'!$O$18:$O$1017),0)","v":0},{"$f":"IFERROR($E101*SUMIF('Daily Log'!$Q$18:$Q$1017,$B101,'Daily Log'!$R$18:$R$1017),0)","v":0},{"$f":"IFERROR($E101*SUMIF('Daily Log'!$T$18:$T$1017,$B101,'Daily Log'!$U$18:$U$1017),0)","v":0},{"$f":"IFERROR($E101*SUMIF('Daily Log'!$W$18:$W$1017,$B101,'Daily Log'!$X$18:$X$1017),0)","v":0},{"$f":"IFERROR($E101*SUMIF('Daily Log'!$Z$18:$Z$1017,$B101,'Daily Log'!$AA$18:$AA$1017),0)","v":0},{"$f":"IFERROR($E101*SUMIF('Daily Log'!$AC$18:$AC$1017,$B101,'Daily Log'!$AD$18:$AD$1017),0)","v":0},{"$f":"IFERROR($E101*SUMIF('Daily Log'!$AF$18:$AF$1017,$B101,'Daily Log'!$AG$18:$AG$1017),0)","v":0},{"$f":"IFERROR($E101*SUMIF('Daily Log'!$AI$18:$AI$1017,$B101,'Daily Log'!$AJ$18:$AJ$1017),0)","v":0},{"$f":"IFERROR($E101*SUMIF('Daily Log'!$AL$18:$AL$1017,$B101,'Daily Log'!$AM$18:$AM$1017),0)","v":0},{"$f":"IFERROR($E101*SUMIF('Daily Log'!$AO$18:$AO$1017,$B101,'Daily Log'!$AP$18:$AP$1017),0)","v":0},{"$f":"IFERROR($E101*SUMIF('Daily Log'!$AR$18:$AR$1017,$B101,'Daily Log'!$AS$18:$AS$1017),0)","v":0},{"$f":"IFERROR($E101*SUMIF('Daily Log'!$AU$18:$AU$1017,$B101,'Daily Log'!$AV$18:$AV$1017),0)","v":0},{"$f":"IFERROR($E101*SUMIF('Daily Log'!$AX$18:$AX$1017,$B101,'Daily Log'!$AY$18:$AY$1017),0)","v":0},{"$f":"IFERROR($E101*SUMIF('Daily Log'!$BA$18:$BA$1017,$B101,'Daily Log'!$BB$18:$BB$1017),0)","v":0},{"$f":"IFERROR($E101*SUMIF('Daily Log'!$BD$18:$BD$1017,$B101,'Daily Log'!$BE$18:$BE$1017),0)","v":0},{"$f":"IFERROR($E101*SUMIF('Daily Log'!$BG$18:$BG$1017,$B101,'Daily Log'!$BH$18:$BH$1017),0)","v":0},{"$f":"IFERROR($E101*SUMIF('Daily Log'!$BJ$18:$BJ$1017,$B101,'Daily Log'!$BK$18:$BK$1017),0)","v":0},{"$f":"IFERROR($E101*SUMIF('Daily Log'!$BM$18:$BM$1017,$B101,'Daily Log'!$BN$18:$BN$1017),0)","v":0},{"$f":"IFERROR($E101*SUMIF('Daily Log'!$BP$18:$BP$1017,$B101,'Daily Log'!$BQ$18:$BQ$1017),0)","v":0},{"$f":"IFERROR($E101*SUMIF('Daily Log'!$BS$18:$BS$1017,$B101,'Daily Log'!$BT$18:$BT$1017),0)","v":0},{"$f":"IFERROR($E101*SUMIF('Daily Log'!$BV$18:$BV$1017,$B101,'Daily Log'!$BW$18:$BW$1017),0)","v":0},{"$f":"IFERROR($E101*SUMIF('Daily Log'!$BY$18:$BY$1017,$B101,'Daily Log'!$BZ$18:$BZ$1017),0)","v":0},{"$f":"IFERROR($E101*SUMIF('Daily Log'!$CB$18:$CB$1017,$B101,'Daily Log'!$CC$18:$CC$1017),0)","v":0},{"$f":"IFERROR($E101*SUMIF('Daily Log'!$CE$18:$CE$1017,$B101,'Daily Log'!$CF$18:$CF$1017),0)","v":0},{"$f":"IFERROR($E101*SUMIF('Daily Log'!$CH$18:$CH$1017,$B101,'Daily Log'!$CI$18:$CI$1017),0)","v":0},{"$f":"IFERROR($E101*SUMIF('Daily Log'!$CK$18:$CK$1017,$B101,'Daily Log'!$CL$18:$CL$1017),0)","v":0},{"$f":"IFERROR($E101*SUMIF('Daily Log'!$CN$18:$CN$1017,$B101,'Daily Log'!$CO$18:$CO$1017),0)","v":85}]
[null,"WT07 1007:CHK SALAD",null,"SIDE ORDER",1,25,{"$f":"IFERROR($E102*SUMIF('Daily Log'!$B$18:$B$1017,$B102,'Daily Log'!$C$18:$C$1017),0)","v":0},{"$f":"IFERROR($E102*SUMIF('Daily Log'!$E$18:$E$1017,$B102,'Daily Log'!$F$18:$F$1017),0)","v":0},{"$f":"IFERROR($E102*SUMIF('Daily Log'!$H$18:$H$1017,$B102,'Daily Log'!$I$18:$I$1017),0)","v":0},{"$f":"IFERROR($E102*SUMIF('Daily Log'!$K$18:$K$1017,$B102,'Daily Log'!$L$18:$L$1017),0)","v":0},{"$f":"IFERROR($E102*SUMIF('Daily Log'!$N$18:$N$1017,$B102,'Daily Log'!$O$18:$O$1017),0)","v":0},{"$f":"IFERROR($E102*SUMIF('Daily Log'!$Q$18:$Q$1017,$B102,'Daily Log'!$R$18:$R$1017),0)","v":0},{"$f":"IFERROR($E102*SUMIF('Daily Log'!$T$18:$T$1017,$B102,'Daily Log'!$U$18:$U$1017),0)","v":0},{"$f":"IFERROR($E102*SUMIF('Daily Log'!$W$18:$W$1017,$B102,'Daily Log'!$X$18:$X$1017),0)","v":0},{"$f":"IFERROR($E102*SUMIF('Daily Log'!$Z$18:$Z$1017,$B102,'Daily Log'!$AA$18:$AA$1017),0)","v":0},{"$f":"IFERROR($E102*SUMIF('Daily Log'!$AC$18:$AC$1017,$B102,'Daily Log'!$AD$18:$AD$1017),0)","v":0},{"$f":"IFERROR($E102*SUMIF('Daily Log'!$AF$18:$AF$1017,$B102,'Daily Log'!$AG$18:$AG$1017),0)","v":0},{"$f":"IFERROR($E102*SUMIF('Daily Log'!$AI$18:$AI$1017,$B102,'Daily Log'!$AJ$18:$AJ$1017),0)","v":0},{"$f":"IFERROR($E102*SUMIF('Daily Log'!$AL$18:$AL$1017,$B102,'Daily Log'!$AM$18:$AM$1017),0)","v":0},{"$f":"IFERROR($E102*SUMIF('Daily Log'!$AO$18:$AO$1017,$B102,'Daily Log'!$AP$18:$AP$1017),0)","v":0},{"$f":"IFERROR($E102*SUMIF('Daily Log'!$AR$18:$AR$1017,$B102,'Daily Log'!$AS$18:$AS$1017),0)","v":0},{"$f":"IFERROR($E102*SUMIF('Daily Log'!$AU$18:$AU$1017,$B102,'Daily Log'!$AV$18:$AV$1017),0)","v":0},{"$f":"IFERROR($E102*SUMIF('Daily Log'!$AX$18:$AX$1017,$B102,'Daily Log'!$AY$18:$AY$1017),0)","v":0},{"$f":"IFERROR($E102*SUMIF('Daily Log'!$BA$18:$BA$1017,$B102,'Daily Log'!$BB$18:$BB$1017),0)","v":0},{"$f":"IFERROR($E102*SUMIF('Daily Log'!$BD$18:$BD$1017,$B102,'Daily Log'!$BE$18:$BE$1017),0)","v":0},{"$f":"IFERROR($E102*SUMIF('Daily Log'!$BG$18:$BG$1017,$B102,'Daily Log'!$BH$18:$BH$1017),0)","v":0},{"$f":"IFERROR($E102*SUMIF('Daily Log'!$BJ$18:$BJ$1017,$B102,'Daily Log'!$BK$18:$BK$1017),0)","v":0},{"$f":"IFERROR($E102*SUMIF('Daily Log'!$BM$18:$BM$1017,$B102,'Daily Log'!$BN$18:$BN$1017),0)","v":0},{"$f":"IFERROR($E102*SUMIF('Daily Log'!$BP$18:$BP$1017,$B102,'Daily Log'!$BQ$18:$BQ$1017),0)","v":0},{"$f":"IFERROR($E102*SUMIF('Daily Log'!$BS$18:$BS$1017,$B102,'Daily Log'!$BT$18:$BT$1017),0)","v":0},{"$f":"IFERROR($E102*SUMIF('Daily Log'!$BV$18:$BV$1017,$B102,'Daily Log'!$BW$18:$BW$1017),0)","v":0},{"$f":"IFERROR($E102*SUMIF('Daily Log'!$BY$18:$BY$1017,$B102,'Daily Log'!$BZ$18:$BZ$1017),0)","v":0},{"$f":"IFERROR($E102*SUMIF('Daily Log'!$CB$18:$CB$1017,$B102,'Daily Log'!$CC$18:$CC$1017),0)","v":0},{"$f":"IFERROR($E102*SUMIF('Daily Log'!$CE$18:$CE$1017,$B102,'Daily Log'!$CF$18:$CF$1017),0)","v":0},{"$f":"IFERROR($E102*SUMIF('Daily Log'!$CH$18:$CH$1017,$B102,'Daily Log'!$CI$18:$CI$1017),0)","v":0},{"$f":"IFERROR($E102*SUMIF('Daily Log'!$CK$18:$CK$1017,$B102,'Daily Log'!$CL$18:$CL$1017),0)","v":0},{"$f":"IFERROR($E102*SUMIF('Daily Log'!$CN$18:$CN$1017,$B102,'Daily Log'!$CO$18:$CO$1017),0)","v":25}]
[null,"LC01 1101:THAI CHK",null,"SIDE ORDER",1,133,{"$f":"IFERROR($E103*SUMIF('Daily Log'!$B$18:$B$1017,$B103,'Daily Log'!$C$18:$C$1017),0)","v":0},{"$f":"IFERROR($E103*SUMIF('Daily Log'!$E$18:$E$1017,$B103,'Daily Log'!$F$18:$F$1017),0)","v":0},{"$f":"IFERROR($E103*SUMIF('Daily Log'!$H$18:$H$1017,$B103,'Daily Log'!$I$18:$I$1017),0)","v":0},{"$f":"IFERROR($E103*SUMIF('Daily Log'!$K$18:$K$1017,$B103,'Daily Log'!$L$18:$L$1017),0)","v":0},{"$f":"IFERROR($E103*SUMIF('Daily Log'!$N$18:$N$1017,$B103,'Daily Log'!$O$18:$O$1017),0)","v":0},{"$f":"IFERROR($E103*SUMIF('Daily Log'!$Q$18:$Q$1017,$B103,'Daily Log'!$R$18:$R$1017),0)","v":0},{"$f":"IFERROR($E103*SUMIF('Daily Log'!$T$18:$T$1017,$B103,'Daily Log'!$U$18:$U$1017),0)","v":0},{"$f":"IFERROR($E103*SUMIF('Daily Log'!$W$18:$W$1017,$B103,'Daily Log'!$X$18:$X$1017),0)","v":0},{"$f":"IFERROR($E103*SUMIF('Daily Log'!$Z$18:$Z$1017,$B103,'Daily Log'!$AA$18:$AA$1017),0)","v":0},{"$f":"IFERROR($E103*SUMIF('Daily Log'!$AC$18:$AC$1017,$B103,'Daily Log'!$AD$18:$AD$1017),0)","v":0},{"$f":"IFERROR($E103*SUMIF('Daily Log'!$AF$18:$AF$1017,$B103,'Daily Log'!$AG$18:$AG$1017),0)","v":0},{"$f":"IFERROR($E103*SUMIF('Daily Log'!$AI$18:$AI$1017,$B103,'Daily Log'!$AJ$18:$AJ$1017),0)","v":0},{"$f":"IFERROR($E103*SUMIF('Daily Log'!$AL$18:$AL$1017,$B103,'Daily Log'!$AM$18:$AM$1017),0)","v":0},{"$f":"IFERROR($E103*SUMIF('Daily Log'!$AO$18:$AO$1017,$B103,'Daily Log'!$AP$18:$AP$1017),0)","v":0},{"$f":"IFERROR($E103*SUMIF('Daily Log'!$AR$18:$AR$1017,$B103,'Daily Log'!$AS$18:$AS$1017),0)","v":0},{"$f":"IFERROR($E103*SUMIF('Daily Log'!$AU$18:$AU$1017,$B103,'Daily Log'!$AV$18:$AV$1017),0)","v":0},{"$f":"IFERROR($E103*SUMIF('Daily Log'!$AX$18:$AX$1017,$B103,'Daily Log'!$AY$18:$AY$1017),0)","v":0},{"$f":"IFERROR($E103*SUMIF('Daily Log'!$BA$18:$BA$1017,$B103,'Daily Log'!$BB$18:$BB$1017),0)","v":0},{"$f":"IFERROR($E103*SUMIF('Daily Log'!$BD$18:$BD$1017,$B103,'Daily Log'!$BE$18:$BE$1017),0)","v":0},{"$f":"IFERROR($E103*SUMIF('Daily Log'!$BG$18:$BG$1017,$B103,'Daily Log'!$BH$18:$BH$1017),0)","v":0},{"$f":"IFERROR($E103*SUMIF('Daily Log'!$BJ$18:$BJ$1017,$B103,'Daily Log'!$BK$18:$BK$1017),0)","v":0},{"$f":"IFERROR($E103*SUMIF('Daily Log'!$BM$18:$BM$1017,$B103,'Daily Log'!$BN$18:$BN$1017),0)","v":0},{"$f":"IFERROR($E103*SUMIF('Daily Log'!$BP$18:$BP$1017,$B103,'Daily Log'!$BQ$18:$BQ$1017),0)","v":0},{"$f":"IFERROR($E103*SUMIF('Daily Log'!$BS$18:$BS$1017,$B103,'Daily Log'!$BT$18:$BT$1017),0)","v":0},{"$f":"IFERROR($E103*SUMIF('Daily Log'!$BV$18:$BV$1017,$B103,'Daily Log'!$BW$18:$BW$1017),0)","v":0},{"$f":"IFERROR($E103*SUMIF('Daily Log'!$BY$18:$BY$1017,$B103,'Daily Log'!$BZ$18:$BZ$1017),0)","v":0},{"$f":"IFERROR($E103*SUMIF('Daily Log'!$CB$18:$CB$1017,$B103,'Daily Log'!$CC$18:$CC$1017),0)","v":0},{"$f":"IFERROR($E103*SUMIF('Daily Log'!$CE$18:$CE$1017,$B103,'Daily Log'!$CF$18:$CF$1017),0)","v":0},{"$f":"IFERROR($E103*SUMIF('Daily Log'!$CH$18:$CH$1017,$B103,'Daily Log'!$CI$18:$CI$1017),0)","v":0},{"$f":"IFERROR($E103*SUMIF('Daily Log'!$CK$18:$CK$1017,$B103,'Daily Log'!$CL$18:$CL$1017),0)","v":0},{"$f":"IFERROR($E103*SUMIF('Daily Log'!$CN$18:$CN$1017,$B103,'Daily Log'!$CO$18:$CO$1017),0)","v":133}]
[null,"LC02 1102:MAMITE CHK",null,"SIDE ORDER",1,113,{"$f":"IFERROR($E104*SUMIF('Daily Log'!$B$18:$B$1017,$B104,'Daily Log'!$C$18:$C$1017),0)","v":0},{"$f":"IFERROR($E104*SUMIF('Daily Log'!$E$18:$E$1017,$B104,'Daily Log'!$F$18:$F$1017),0)","v":0},{"$f":"IFERROR($E104*SUMIF('Daily Log'!$H$18:$H$1017,$B104,'Daily Log'!$I$18:$I$1017),0)","v":0},{"$f":"IFERROR($E104*SUMIF('Daily Log'!$K$18:$K$1017,$B104,'Daily Log'!$L$18:$L$1017),0)","v":0},{"$f":"IFERROR($E104*SUMIF('Daily Log'!$N$18:$N$1017,$B104,'Daily Log'!$O$18:$O$1017),0)","v":0},{"$f":"IFERROR($E104*SUMIF('Daily Log'!$Q$18:$Q$1017,$B104,'Daily Log'!$R$18:$R$1017),0)","v":0},{"$f":"IFERROR($E104*SUMIF('Daily Log'!$T$18:$T$1017,$B104,'Daily Log'!$U$18:$U$1017),0)","v":0},{"$f":"IFERROR($E104*SUMIF('Daily Log'!$W$18:$W$1017,$B104,'Daily Log'!$X$18:$X$1017),0)","v":0},{"$f":"IFERROR($E104*SUMIF('Daily Log'!$Z$18:$Z$1017,$B104,'Daily Log'!$AA$18:$AA$1017),0)","v":0},{"$f":"IFERROR($E104*SUMIF('Daily Log'!$AC$18:$AC$1017,$B104,'Daily Log'!$AD$18:$AD$1017),0)","v":0},{"$f":"IFERROR($E104*SUMIF('Daily Log'!$AF$18:$AF$1017,$B104,'Daily Log'!$AG$18:$AG$1017),0)","v":0},{"$f":"IFERROR($E104*SUMIF('Daily Log'!$AI$18:$AI$1017,$B104,'Daily Log'!$AJ$18:$AJ$1017),0)","v":0},{"$f":"IFERROR($E104*SUMIF('Daily Log'!$AL$18:$AL$1017,$B104,'Daily Log'!$AM$18:$AM$1017),0)","v":0},{"$f":"IFERROR($E104*SUMIF('Daily Log'!$AO$18:$AO$1017,$B104,'Daily Log'!$AP$18:$AP$1017),0)","v":0},{"$f":"IFERROR($E104*SUMIF('Daily Log'!$AR$18:$AR$1017,$B104,'Daily Log'!$AS$18:$AS$1017),0)","v":0},{"$f":"IFERROR($E104*SUMIF('Daily Log'!$AU$18:$AU$1017,$B104,'Daily Log'!$AV$18:$AV$1017),0)","v":0},{"$f":"IFERROR($E104*SUMIF('Daily Log'!$AX$18:$AX$1017,$B104,'Daily Log'!$AY$18:$AY$1017),0)","v":0},{"$f":"IFERROR($E104*SUMIF('Daily Log'!$BA$18:$BA$1017,$B104,'Daily Log'!$BB$18:$BB$1017),0)","v":0},{"$f":"IFERROR($E104*SUMIF('Daily Log'!$BD$18:$BD$1017,$B104,'Daily Log'!$BE$18:$BE$1017),0)","v":0},{"$f":"IFERROR($E104*SUMIF('Daily Log'!$BG$18:$BG$1017,$B104,'Daily Log'!$BH$18:$BH$1017),0)","v":0},{"$f":"IFERROR($E104*SUMIF('Daily Log'!$BJ$18:$BJ$1017,$B104,'Daily Log'!$BK$18:$BK$1017),0)","v":0},{"$f":"IFERROR($E104*SUMIF('Daily Log'!$BM$18:$BM$1017,$B104,'Daily Log'!$BN$18:$BN$1017),0)","v":0},{"$f":"IFERROR($E104*SUMIF('Daily Log'!$BP$18:$BP$1017,$B104,'Daily Log'!$BQ$18:$BQ$1017),0)","v":0},{"$f":"IFERROR($E104*SUMIF('Daily Log'!$BS$18:$BS$1017,$B104,'Daily Log'!$BT$18:$BT$1017),0)","v":0},{"$f":"IFERROR($E104*SUMIF('Daily Log'!$BV$18:$BV$1017,$B104,'Daily Log'!$BW$18:$BW$1017),0)","v":0},{"$f":"IFERROR($E104*SUMIF('Daily Log'!$BY$18:$BY$1017,$B104,'Daily Log'!$BZ$18:$BZ$1017),0)","v":0},{"$f":"IFERROR($E104*SUMIF('Daily Log'!$CB$18:$CB$1017,$B104,'Daily Log'!$CC$18:$CC$1017),0)","v":0},{"$f":"IFERROR($E104*SUMIF('Daily Log'!$CE$18:$CE$1017,$B104,'Daily Log'!$CF$18:$CF$1017),0)","v":0},{"$f":"IFERROR($E104*SUMIF('Daily Log'!$CH$18:$CH$1017,$B104,'Daily Log'!$CI$18:$CI$1017),0)","v":0},{"$f":"IFERROR($E104*SUMIF('Daily Log'!$CK$18:$CK$1017,$B104,'Daily Log'!$CL$18:$CL$1017),0)","v":0},{"$f":"IFERROR($E104*SUMIF('Daily Log'!$CN$18:$CN$1017,$B104,'Daily Log'!$CO$18:$CO$1017),0)","v":113}]
[null,"LC03 1103:KO PO CHK",null,"SIDE ORDER",1,0,{"$f":"IFERROR($E105*SUMIF('Daily Log'!$B$18:$B$1017,$B105,'Daily Log'!$C$18:$C$1017),0)","v":0},{"$f":"IFERROR($E105*SUMIF('Daily Log'!$E$18:$E$1017,$B105,'Daily Log'!$F$18:$F$1017),0)","v":0},{"$f":"IFERROR($E105*SUMIF('Daily Log'!$H$18:$H$1017,$B105,'Daily Log'!$I$18:$I$1017),0)","v":0},{"$f":"IFERROR($E105*SUMIF('Daily Log'!$K$18:$K$1017,$B105,'Daily Log'!$L$18:$L$1017),0)","v":0},{"$f":"IFERROR($E105*SUMIF('Daily Log'!$N$18:$N$1017,$B105,'Daily Log'!$O$18:$O$1017),0)","v":0},{"$f":"IFERROR($E105*SUMIF('Daily Log'!$Q$18:$Q$1017,$B105,'Daily Log'!$R$18:$R$1017),0)","v":0},{"$f":"IFERROR($E105*SUMIF('Daily Log'!$T$18:$T$1017,$B105,'Daily Log'!$U$18:$U$1017),0)","v":0},{"$f":"IFERROR($E105*SUMIF('Daily Log'!$W$18:$W$1017,$B105,'Daily Log'!$X$18:$X$1017),0)","v":0},{"$f":"IFERROR($E105*SUMIF('Daily Log'!$Z$18:$Z$1017,$B105,'Daily Log'!$AA$18:$AA$1017),0)","v":0},{"$f":"IFERROR($E105*SUMIF('Daily Log'!$AC$18:$AC$1017,$B105,'Daily Log'!$AD$18:$AD$1017),0)","v":0},{"$f":"IFERROR($E105*SUMIF('Daily Log'!$AF$18:$AF$1017,$B105,'Daily Log'!$AG$18:$AG$1017),0)","v":0},{"$f":"IFERROR($E105*SUMIF('Daily Log'!$AI$18:$AI$1017,$B105,'Daily Log'!$AJ$18:$AJ$1017),0)","v":0},{"$f":"IFERROR($E105*SUMIF('Daily Log'!$AL$18:$AL$1017,$B105,'Daily Log'!$AM$18:$AM$1017),0)","v":0},{"$f":"IFERROR($E105*SUMIF('Daily Log'!$AO$18:$AO$1017,$B105,'Daily Log'!$AP$18:$AP$1017),0)","v":0},{"$f":"IFERROR($E105*SUMIF('Daily Log'!$AR$18:$AR$1017,$B105,'Daily Log'!$AS$18:$AS$1017),0)","v":0},{"$f":"IFERROR($E105*SUMIF('Daily Log'!$AU$18:$AU$1017,$B105,'Daily Log'!$AV$18:$AV$1017),0)","v":0},{"$f":"IFERROR($E105*SUMIF('Daily Log'!$AX$18:$AX$1017,$B105,'Daily Log'!$AY$18:$AY$1017),0)","v":0},{"$f":"IFERROR($E105*SUMIF('Daily Log'!$BA$18:$BA$1017,$B105,'Daily Log'!$BB$18:$BB$1017),0)","v":0},{"$f":"IFERROR($E105*SUMIF('Daily Log'!$BD$18:$BD$1017,$B105,'Daily Log'!$BE$18:$BE$1017),0)","v":0},{"$f":"IFERROR($E105*SUMIF('Daily Log'!$BG$18:$BG$1017,$B105,'Daily Log'!$BH$18:$BH$1017),0)","v":0},{"$f":"IFERROR($E105*SUMIF('Daily Log'!$BJ$18:$BJ$1017,$B105,'Daily Log'!$BK$18:$BK$1017),0)","v":0},{"$f":"IFERROR($E105*SUMIF('Daily Log'!$BM$18:$BM$1017,$B105,'Daily Log'!$BN$18:$BN$1017),0)","v":0},{"$f":"IFERROR($E105*SUMIF('Daily Log'!$BP$18:$BP$1017,$B105,'Daily Log'!$BQ$18:$BQ$1017),0)","v":0},{"$f":"IFERROR($E105*SUMIF('Daily Log'!$BS$18:$BS$1017,$B105,'Daily Log'!$BT$18:$BT$1017),0)","v":0},{"$f":"IFERROR($E105*SUMIF('Daily Log'!$BV$18:$BV$1017,$B105,'Daily Log'!$BW$18:$BW$1017),0)","v":0},{"$f":"IFERROR($E105*SUMIF('Daily Log'!$BY$18:$BY$1017,$B105,'Daily Log'!$BZ$18:$BZ$1017),0)","v":0},{"$f":"IFERROR($E105*SUMIF('Daily Log'!$CB$18:$CB$1017,$B105,'Daily Log'!$CC$18:$CC$1017),0)","v":0},{"$f":"IFERROR($E105*SUMIF('Daily Log'!$CE$18:$CE$1017,$B105,'Daily Log'!$CF$18:$CF$1017),0)","v":0},{"$f":"IFERROR($E105*SUMIF('Daily Log'!$CH$18:$CH$1017,$B105,'Daily Log'!$CI$18:$CI$1017),0)","v":0},{"$f":"IFERROR($E105*SUMIF('Daily Log'!$CK$18:$CK$1017,$B105,'Daily Log'!$CL$18:$CL$1017),0)","v":0},{"$f":"IFERROR($E105*SUMIF('Daily Log'!$CN$18:$CN$1017,$B105,'Daily Log'!$CO$18:$CO$1017),0)","v":0}]
[null,"LC04 1104:S&S CHK",null,"SIDE ORDER",1,70,{"$f":"IFERROR($E106*SUMIF('Daily Log'!$B$18:$B$1017,$B106,'Daily Log'!$C$18:$C$1017),0)","v":0},{"$f":"IFERROR($E106*SUMIF('Daily Log'!$E$18:$E$1017,$B106,'Daily Log'!$F$18:$F$1017),0)","v":0},{"$f":"IFERROR($E106*SUMIF('Daily Log'!$H$18:$H$1017,$B106,'Daily Log'!$I$18:$I$1017),0)","v":0},{"$f":"IFERROR($E106*SUMIF('Daily Log'!$K$18:$K$1017,$B106,'Daily Log'!$L$18:$L$1017),0)","v":0},{"$f":"IFERROR($E106*SUMIF('Daily Log'!$N$18:$N$1017,$B106,'Daily Log'!$O$18:$O$1017),0)","v":0},{"$f":"IFERROR($E106*SUMIF('Daily Log'!$Q$18:$Q$1017,$B106,'Daily Log'!$R$18:$R$1017),0)","v":0},{"$f":"IFERROR($E106*SUMIF('Daily Log'!$T$18:$T$1017,$B106,'Daily Log'!$U$18:$U$1017),0)","v":0},{"$f":"IFERROR($E106*SUMIF('Daily Log'!$W$18:$W$1017,$B106,'Daily Log'!$X$18:$X$1017),0)","v":0},{"$f":"IFERROR($E106*SUMIF('Daily Log'!$Z$18:$Z$1017,$B106,'Daily Log'!$AA$18:$AA$1017),0)","v":0},{"$f":"IFERROR($E106*SUMIF('Daily Log'!$AC$18:$AC$1017,$B106,'Daily Log'!$AD$18:$AD$1017),0)","v":0},{"$f":"IFERROR($E106*SUMIF('Daily Log'!$AF$18:$AF$1017,$B106,'Daily Log'!$AG$18:$AG$1017),0)","v":0},{"$f":"IFERROR($E106*SUMIF('Daily Log'!$AI$18:$AI$1017,$B106,'Daily Log'!$AJ$18:$AJ$1017),0)","v":0},{"$f":"IFERROR($E106*SUMIF('Daily Log'!$AL$18:$AL$1017,$B106,'Daily Log'!$AM$18:$AM$1017),0)","v":0},{"$f":"IFERROR($E106*SUMIF('Daily Log'!$AO$18:$AO$1017,$B106,'Daily Log'!$AP$18:$AP$1017),0)","v":0},{"$f":"IFERROR($E106*SUMIF('Daily Log'!$AR$18:$AR$1017,$B106,'Daily Log'!$AS$18:$AS$1017),0)","v":0},{"$f":"IFERROR($E106*SUMIF('Daily Log'!$AU$18:$AU$1017,$B106,'Daily Log'!$AV$18:$AV$1017),0)","v":0},{"$f":"IFERROR($E106*SUMIF('Daily Log'!$AX$18:$AX$1017,$B106,'Daily Log'!$AY$18:$AY$1017),0)","v":0},{"$f":"IFERROR($E106*SUMIF('Daily Log'!$BA$18:$BA$1017,$B106,'Daily Log'!$BB$18:$BB$1017),0)","v":0},{"$f":"IFERROR($E106*SUMIF('Daily Log'!$BD$18:$BD$1017,$B106,'Daily Log'!$BE$18:$BE$1017),0)","v":0},{"$f":"IFERROR($E106*SUMIF('Daily Log'!$BG$18:$BG$1017,$B106,'Daily Log'!$BH$18:$BH$1017),0)","v":0},{"$f":"IFERROR($E106*SUMIF('Daily Log'!$BJ$18:$BJ$1017,$B106,'Daily Log'!$BK$18:$BK$1017),0)","v":0},{"$f":"IFERROR($E106*SUMIF('Daily Log'!$BM$18:$BM$1017,$B106,'Daily Log'!$BN$18:$BN$1017),0)","v":0},{"$f":"IFERROR($E106*SUMIF('Daily Log'!$BP$18:$BP$1017,$B106,'Daily Log'!$BQ$18:$BQ$1017),0)","v":0},{"$f":"IFERROR($E106*SUMIF('Daily Log'!$BS$18:$BS$1017,$B106,'Daily Log'!$BT$18:$BT$1017),0)","v":0},{"$f":"IFERROR($E106*SUMIF('Daily Log'!$BV$18:$BV$1017,$B106,'Daily Log'!$BW$18:$BW$1017),0)","v":0},{"$f":"IFERROR($E106*SUMIF('Daily Log'!$BY$18:$BY$1017,$B106,'Daily Log'!$BZ$18:$BZ$1017),0)","v":0},{"$f":"IFERROR($E106*SUMIF('Daily Log'!$CB$18:$CB$1017,$B106,'Daily Log'!$CC$18:$CC$1017),0)","v":0},{"$f":"IFERROR($E106*SUMIF('Daily Log'!$CE$18:$CE$1017,$B106,'Daily Log'!$CF$18:$CF$1017),0)","v":0},{"$f":"IFERROR($E106*SUMIF('Daily Log'!$CH$18:$CH$1017,$B106,'Daily Log'!$CI$18:$CI$1017),0)","v":0},{"$f":"IFERROR($E106*SUMIF('Daily Log'!$CK$18:$CK$1017,$B106,'Daily Log'!$CL$18:$CL$1017),0)","v":0},{"$f":"IFERROR($E106*SUMIF('Daily Log'!$CN$18:$CN$1017,$B106,'Daily Log'!$CO$18:$CO$1017),0)","v":70}]
[null,"LC05 1105:BUTTER CHK",null,"SIDE ORDER",1,182,{"$f":"IFERROR($E107*SUMIF('Daily Log'!$B$18:$B$1017,$B107,'Daily Log'!$C$18:$C$1017),0)","v":0},{"$f":"IFERROR($E107*SUMIF('Daily Log'!$E$18:$E$1017,$B107,'Daily Log'!$F$18:$F$1017),0)","v":0},{"$f":"IFERROR($E107*SUMIF('Daily Log'!$H$18:$H$1017,$B107,'Daily Log'!$I$18:$I$1017),0)","v":0},{"$f":"IFERROR($E107*SUMIF('Daily Log'!$K$18:$K$1017,$B107,'Daily Log'!$L$18:$L$1017),0)","v":0},{"$f":"IFERROR($E107*SUMIF('Daily Log'!$N$18:$N$1017,$B107,'Daily Log'!$O$18:$O$1017),0)","v":0},{"$f":"IFERROR($E107*SUMIF('Daily Log'!$Q$18:$Q$1017,$B107,'Daily Log'!$R$18:$R$1017),0)","v":0},{"$f":"IFERROR($E107*SUMIF('Daily Log'!$T$18:$T$1017,$B107,'Daily Log'!$U$18:$U$1017),0)","v":0},{"$f":"IFERROR($E107*SUMIF('Daily Log'!$W$18:$W$1017,$B107,'Daily Log'!$X$18:$X$1017),0)","v":0},{"$f":"IFERROR($E107*SUMIF('Daily Log'!$Z$18:$Z$1017,$B107,'Daily Log'!$AA$18:$AA$1017),0)","v":0},{"$f":"IFERROR($E107*SUMIF('Daily Log'!$AC$18:$AC$1017,$B107,'Daily Log'!$AD$18:$AD$1017),0)","v":0},{"$f":"IFERROR($E107*SUMIF('Daily Log'!$AF$18:$AF$1017,$B107,'Daily Log'!$AG$18:$AG$1017),0)","v":0},{"$f":"IFERROR($E107*SUMIF('Daily Log'!$AI$18:$AI$1017,$B107,'Daily Log'!$AJ$18:$AJ$1017),0)","v":0},{"$f":"IFERROR($E107*SUMIF('Daily Log'!$AL$18:$AL$1017,$B107,'Daily Log'!$AM$18:$AM$1017),0)","v":0},{"$f":"IFERROR($E107*SUMIF('Daily Log'!$AO$18:$AO$1017,$B107,'Daily Log'!$AP$18:$AP$1017),0)","v":0},{"$f":"IFERROR($E107*SUMIF('Daily Log'!$AR$18:$AR$1017,$B107,'Daily Log'!$AS$18:$AS$1017),0)","v":0},{"$f":"IFERROR($E107*SUMIF('Daily Log'!$AU$18:$AU$1017,$B107,'Daily Log'!$AV$18:$AV$1017),0)","v":0},{"$f":"IFERROR($E107*SUMIF('Daily Log'!$AX$18:$AX$1017,$B107,'Daily Log'!$AY$18:$AY$1017),0)","v":0},{"$f":"IFERROR($E107*SUMIF('Daily Log'!$BA$18:$BA$1017,$B107,'Daily Log'!$BB$18:$BB$1017),0)","v":0},{"$f":"IFERROR($E107*SUMIF('Daily Log'!$BD$18:$BD$1017,$B107,'Daily Log'!$BE$18:$BE$1017),0)","v":0},{"$f":"IFERROR($E107*SUMIF('Daily Log'!$BG$18:$BG$1017,$B107,'Daily Log'!$BH$18:$BH$1017),0)","v":0},{"$f":"IFERROR($E107*SUMIF('Daily Log'!$BJ$18:$BJ$1017,$B107,'Daily Log'!$BK$18:$BK$1017),0)","v":0},{"$f":"IFERROR($E107*SUMIF('Daily Log'!$BM$18:$BM$1017,$B107,'Daily Log'!$BN$18:$BN$1017),0)","v":0},{"$f":"IFERROR($E107*SUMIF('Daily Log'!$BP$18:$BP$1017,$B107,'Daily Log'!$BQ$18:$BQ$1017),0)","v":0},{"$f":"IFERROR($E107*SUMIF('Daily Log'!$BS$18:$BS$1017,$B107,'Daily Log'!$BT$18:$BT$1017),0)","v":0},{"$f":"IFERROR($E107*SUMIF('Daily Log'!$BV$18:$BV$1017,$B107,'Daily Log'!$BW$18:$BW$1017),0)","v":0},{"$f":"IFERROR($E107*SUMIF('Daily Log'!$BY$18:$BY$1017,$B107,'Daily Log'!$BZ$18:$BZ$1017),0)","v":0},{"$f":"IFERROR($E107*SUMIF('Daily Log'!$CB$18:$CB$1017,$B107,'Daily Log'!$CC$18:$CC$1017),0)","v":0},{"$f":"IFERROR($E107*SUMIF('Daily Log'!$CE$18:$CE$1017,$B107,'Daily Log'!$CF$18:$CF$1017),0)","v":0},{"$f":"IFERROR($E107*SUMIF('Daily Log'!$CH$18:$CH$1017,$B107,'Daily Log'!$CI$18:$CI$1017),0)","v":0},{"$f":"IFERROR($E107*SUMIF('Daily Log'!$CK$18:$CK$1017,$B107,'Daily Log'!$CL$18:$CL$1017),0)","v":0},{"$f":"IFERROR($E107*SUMIF('Daily Log'!$CN$18:$CN$1017,$B107,'Daily Log'!$CO$18:$CO$1017),0)","v":182}]
[null,"LC06 1106:HK F.RICE",null,"SIDE ORDER",1,149,{"$f":"IFERROR($E108*SUMIF('Daily Log'!$B$18:$B$1017,$B108,'Daily Log'!$C$18:$C$1017),0)","v":0},{"$f":"IFERROR($E108*SUMIF('Daily Log'!$E$18:$E$1017,$B108,'Daily Log'!$F$18:$F$1017),0)","v":0},{"$f":"IFERROR($E108*SUMIF('Daily Log'!$H$18:$H$1017,$B108,'Daily Log'!$I$18:$I$1017),0)","v":0},{"$f":"IFERROR($E108*SUMIF('Daily Log'!$K$18:$K$1017,$B108,'Daily Log'!$L$18:$L$1017),0)","v":0},{"$f":"IFERROR($E108*SUMIF('Daily Log'!$N$18:$N$1017,$B108,'Daily Log'!$O$18:$O$1017),0)","v":0},{"$f":"IFERROR($E108*SUMIF('Daily Log'!$Q$18:$Q$1017,$B108,'Daily Log'!$R$18:$R$1017),0)","v":0},{"$f":"IFERROR($E108*SUMIF('Daily Log'!$T$18:$T$1017,$B108,'Daily Log'!$U$18:$U$1017),0)","v":0},{"$f":"IFERROR($E108*SUMIF('Daily Log'!$W$18:$W$1017,$B108,'Daily Log'!$X$18:$X$1017),0)","v":0},{"$f":"IFERROR($E108*SUMIF('Daily Log'!$Z$18:$Z$1017,$B108,'Daily Log'!$AA$18:$AA$1017),0)","v":0},{"$f":"IFERROR($E108*SUMIF('Daily Log'!$AC$18:$AC$1017,$B108,'Daily Log'!$AD$18:$AD$1017),0)","v":0},{"$f":"IFERROR($E108*SUMIF('Daily Log'!$AF$18:$AF$1017,$B108,'Daily Log'!$AG$18:$AG$1017),0)","v":0},{"$f":"IFERROR($E108*SUMIF('Daily Log'!$AI$18:$AI$1017,$B108,'Daily Log'!$AJ$18:$AJ$1017),0)","v":0},{"$f":"IFERROR($E108*SUMIF('Daily Log'!$AL$18:$AL$1017,$B108,'Daily Log'!$AM$18:$AM$1017),0)","v":0},{"$f":"IFERROR($E108*SUMIF('Daily Log'!$AO$18:$AO$1017,$B108,'Daily Log'!$AP$18:$AP$1017),0)","v":0},{"$f":"IFERROR($E108*SUMIF('Daily Log'!$AR$18:$AR$1017,$B108,'Daily Log'!$AS$18:$AS$1017),0)","v":0},{"$f":"IFERROR($E108*SUMIF('Daily Log'!$AU$18:$AU$1017,$B108,'Daily Log'!$AV$18:$AV$1017),0)","v":0},{"$f":"IFERROR($E108*SUMIF('Daily Log'!$AX$18:$AX$1017,$B108,'Daily Log'!$AY$18:$AY$1017),0)","v":0},{"$f":"IFERROR($E108*SUMIF('Daily Log'!$BA$18:$BA$1017,$B108,'Daily Log'!$BB$18:$BB$1017),0)","v":0},{"$f":"IFERROR($E108*SUMIF('Daily Log'!$BD$18:$BD$1017,$B108,'Daily Log'!$BE$18:$BE$1017),0)","v":0},{"$f":"IFERROR($E108*SUMIF('Daily Log'!$BG$18:$BG$1017,$B108,'Daily Log'!$BH$18:$BH$1017),0)","v":0},{"$f":"IFERROR($E108*SUMIF('Daily Log'!$BJ$18:$BJ$1017,$B108,'Daily Log'!$BK$18:$BK$1017),0)","v":0},{"$f":"IFERROR($E108*SUMIF('Daily Log'!$BM$18:$BM$1017,$B108,'Daily Log'!$BN$18:$BN$1017),0)","v":0},{"$f":"IFERROR($E108*SUMIF('Daily Log'!$BP$18:$BP$1017,$B108,'Daily Log'!$BQ$18:$BQ$1017),0)","v":0},{"$f":"IFERROR($E108*SUMIF('Daily Log'!$BS$18:$BS$1017,$B108,'Daily Log'!$BT$18:$BT$1017),0)","v":0},{"$f":"IFERROR($E108*SUMIF('Daily Log'!$BV$18:$BV$1017,$B108,'Daily Log'!$BW$18:$BW$1017),0)","v":0},{"$f":"IFERROR($E108*SUMIF('Daily Log'!$BY$18:$BY$1017,$B108,'Daily Log'!$BZ$18:$BZ$1017),0)","v":0},{"$f":"IFERROR($E108*SUMIF('Daily Log'!$CB$18:$CB$1017,$B108,'Daily Log'!$CC$18:$CC$1017),0)","v":0},{"$f":"IFERROR($E108*SUMIF('Daily Log'!$CE$18:$CE$1017,$B108,'Daily Log'!$CF$18:$CF$1017),0)","v":0},{"$f":"IFERROR($E108*SUMIF('Daily Log'!$CH$18:$CH$1017,$B108,'Daily Log'!$CI$18:$CI$1017),0)","v":0},{"$f":"IFERROR($E108*SUMIF('Daily Log'!$CK$18:$CK$1017,$B108,'Daily Log'!$CL$18:$CL$1017),0)","v":0},{"$f":"IFERROR($E108*SUMIF('Daily Log'!$CN$18:$CN$1017,$B108,'Daily Log'!$CO$18:$CO$1017),0)","v":149}]
[null,"LC07 1107:SBL F.RICE",null,"SIDE ORDER",1,77,{"$f":"IFERROR($E109*SUMIF('Daily Log'!$B$18:$B$1017,$B109,'Daily Log'!$C$18:$C$1017),0)","v":0},{"$f":"IFERROR($E109*SUMIF('Daily Log'!$E$18:$E$1017,$B109,'Daily Log'!$F$18:$F$1017),0)","v":0},{"$f":"IFERROR($E109*SUMIF('Daily Log'!$H$18:$H$1017,$B109,'Daily Log'!$I$18:$I$1017),0)","v":0},{"$f":"IFERROR($E109*SUMIF('Daily Log'!$K$18:$K$1017,$B109,'Daily Log'!$L$18:$L$1017),0)","v":0},{"$f":"IFERROR($E109*SUMIF('Daily Log'!$N$18:$N$1017,$B109,'Daily Log'!$O$18:$O$1017),0)","v":0},{"$f":"IFERROR($E109*SUMIF('Daily Log'!$Q$18:$Q$1017,$B109,'Daily Log'!$R$18:$R$1017),0)","v":0},{"$f":"IFERROR($E109*SUMIF('Daily Log'!$T$18:$T$1017,$B109,'Daily Log'!$U$18:$U$1017),0)","v":0},{"$f":"IFERROR($E109*SUMIF('Daily Log'!$W$18:$W$1017,$B109,'Daily Log'!$X$18:$X$1017),0)","v":0},{"$f":"IFERROR($E109*SUMIF('Daily Log'!$Z$18:$Z$1017,$B109,'Daily Log'!$AA$18:$AA$1017),0)","v":0},{"$f":"IFERROR($E109*SUMIF('Daily Log'!$AC$18:$AC$1017,$B109,'Daily Log'!$AD$18:$AD$1017),0)","v":0},{"$f":"IFERROR($E109*SUMIF('Daily Log'!$AF$18:$AF$1017,$B109,'Daily Log'!$AG$18:$AG$1017),0)","v":0},{"$f":"IFERROR($E109*SUMIF('Daily Log'!$AI$18:$AI$1017,$B109,'Daily Log'!$AJ$18:$AJ$1017),0)","v":0},{"$f":"IFERROR($E109*SUMIF('Daily Log'!$AL$18:$AL$1017,$B109,'Daily Log'!$AM$18:$AM$1017),0)","v":0},{"$f":"IFERROR($E109*SUMIF('Daily Log'!$AO$18:$AO$1017,$B109,'Daily Log'!$AP$18:$AP$1017),0)","v":0},{"$f":"IFERROR($E109*SUMIF('Daily Log'!$AR$18:$AR$1017,$B109,'Daily Log'!$AS$18:$AS$1017),0)","v":0},{"$f":"IFERROR($E109*SUMIF('Daily Log'!$AU$18:$AU$1017,$B109,'Daily Log'!$AV$18:$AV$1017),0)","v":0},{"$f":"IFERROR($E109*SUMIF('Daily Log'!$AX$18:$AX$1017,$B109,'Daily Log'!$AY$18:$AY$1017),0)","v":0},{"$f":"IFERROR($E109*SUMIF('Daily Log'!$BA$18:$BA$1017,$B109,'Daily Log'!$BB$18:$BB$1017),0)","v":0},{"$f":"IFERROR($E109*SUMIF('Daily Log'!$BD$18:$BD$1017,$B109,'Daily Log'!$BE$18:$BE$1017),0)","v":0},{"$f":"IFERROR($E109*SUMIF('Daily Log'!$BG$18:$BG$1017,$B109,'Daily Log'!$BH$18:$BH$1017),0)","v":0},{"$f":"IFERROR($E109*SUMIF('Daily Log'!$BJ$18:$BJ$1017,$B109,'Daily Log'!$BK$18:$BK$1017),0)","v":0},{"$f":"IFERROR($E109*SUMIF('Daily Log'!$BM$18:$BM$1017,$B109,'Daily Log'!$BN$18:$BN$1017),0)","v":0},{"$f":"IFERROR($E109*SUMIF('Daily Log'!$BP$18:$BP$1017,$B109,'Daily Log'!$BQ$18:$BQ$1017),0)","v":0},{"$f":"IFERROR($E109*SUMIF('Daily Log'!$BS$18:$BS$1017,$B109,'Daily Log'!$BT$18:$BT$1017),0)","v":0},{"$f":"IFERROR($E109*SUMIF('Daily Log'!$BV$18:$BV$1017,$B109,'Daily Log'!$BW$18:$BW$1017),0)","v":0},{"$f":"IFERROR($E109*SUMIF('Daily Log'!$BY$18:$BY$1017,$B109,'Daily Log'!$BZ$18:$BZ$1017),0)","v":0},{"$f":"IFERROR($E109*SUMIF('Daily Log'!$CB$18:$CB$1017,$B109,'Daily Log'!$CC$18:$CC$1017),0)","v":0},{"$f":"IFERROR($E109*SUMIF('Daily Log'!$CE$18:$CE$1017,$B109,'Daily Log'!$CF$18:$CF$1017),0)","v":0},{"$f":"IFERROR($E109*SUMIF('Daily Log'!$CH$18:$CH$1017,$B109,'Daily Log'!$CI$18:$CI$1017),0)","v":0},{"$f":"IFERROR($E109*SUMIF('Daily Log'!$CK$18:$CK$1017,$B109,'Daily Log'!$CL$18:$CL$1017),0)","v":0},{"$f":"IFERROR($E109*SUMIF('Daily Log'!$CN$18:$CN$1017,$B109,'Daily Log'!$CO$18:$CO$1017),0)","v":77}]
[null,"LC08 1108:SBL F.MEE",null,"SIDE ORDER",1,24,{"$f":"IFERROR($E110*SUMIF('Daily Log'!$B$18:$B$1017,$B110,'Daily Log'!$C$18:$C$1017),0)","v":0},{"$f":"IFERROR($E110*SUMIF('Daily Log'!$E$18:$E$1017,$B110,'Daily Log'!$F$18:$F$1017),0)","v":0},{"$f":"IFERROR($E110*SUMIF('Daily Log'!$H$18:$H$1017,$B110,'Daily Log'!$I$18:$I$1017),0)","v":0},{"$f":"IFERROR($E110*SUMIF('Daily Log'!$K$18:$K$1017,$B110,'Daily Log'!$L$18:$L$1017),0)","v":0},{"$f":"IFERROR($E110*SUMIF('Daily Log'!$N$18:$N$1017,$B110,'Daily Log'!$O$18:$O$1017),0)","v":0},{"$f":"IFERROR($E110*SUMIF('Daily Log'!$Q$18:$Q$1017,$B110,'Daily Log'!$R$18:$R$1017),0)","v":0},{"$f":"IFERROR($E110*SUMIF('Daily Log'!$T$18:$T$1017,$B110,'Daily Log'!$U$18:$U$1017),0)","v":0},{"$f":"IFERROR($E110*SUMIF('Daily Log'!$W$18:$W$1017,$B110,'Daily Log'!$X$18:$X$1017),0)","v":0},{"$f":"IFERROR($E110*SUMIF('Daily Log'!$Z$18:$Z$1017,$B110,'Daily Log'!$AA$18:$AA$1017),0)","v":0},{"$f":"IFERROR($E110*SUMIF('Daily Log'!$AC$18:$AC$1017,$B110,'Daily Log'!$AD$18:$AD$1017),0)","v":0},{"$f":"IFERROR($E110*SUMIF('Daily Log'!$AF$18:$AF$1017,$B110,'Daily Log'!$AG$18:$AG$1017),0)","v":0},{"$f":"IFERROR($E110*SUMIF('Daily Log'!$AI$18:$AI$1017,$B110,'Daily Log'!$AJ$18:$AJ$1017),0)","v":0},{"$f":"IFERROR($E110*SUMIF('Daily Log'!$AL$18:$AL$1017,$B110,'Daily Log'!$AM$18:$AM$1017),0)","v":0},{"$f":"IFERROR($E110*SUMIF('Daily Log'!$AO$18:$AO$1017,$B110,'Daily Log'!$AP$18:$AP$1017),0)","v":0},{"$f":"IFERROR($E110*SUMIF('Daily Log'!$AR$18:$AR$1017,$B110,'Daily Log'!$AS$18:$AS$1017),0)","v":0},{"$f":"IFERROR($E110*SUMIF('Daily Log'!$AU$18:$AU$1017,$B110,'Daily Log'!$AV$18:$AV$1017),0)","v":0},{"$f":"IFERROR($E110*SUMIF('Daily Log'!$AX$18:$AX$1017,$B110,'Daily Log'!$AY$18:$AY$1017),0)","v":0},{"$f":"IFERROR($E110*SUMIF('Daily Log'!$BA$18:$BA$1017,$B110,'Daily Log'!$BB$18:$BB$1017),0)","v":0},{"$f":"IFERROR($E110*SUMIF('Daily Log'!$BD$18:$BD$1017,$B110,'Daily Log'!$BE$18:$BE$1017),0)","v":0},{"$f":"IFERROR($E110*SUMIF('Daily Log'!$BG$18:$BG$1017,$B110,'Daily Log'!$BH$18:$BH$1017),0)","v":0},{"$f":"IFERROR($E110*SUMIF('Daily Log'!$BJ$18:$BJ$1017,$B110,'Daily Log'!$BK$18:$BK$1017),0)","v":0},{"$f":"IFERROR($E110*SUMIF('Daily Log'!$BM$18:$BM$1017,$B110,'Daily Log'!$BN$18:$BN$1017),0)","v":0},{"$f":"IFERROR($E110*SUMIF('Daily Log'!$BP$18:$BP$1017,$B110,'Daily Log'!$BQ$18:$BQ$1017),0)","v":0},{"$f":"IFERROR($E110*SUMIF('Daily Log'!$BS$18:$BS$1017,$B110,'Daily Log'!$BT$18:$BT$1017),0)","v":0},{"$f":"IFERROR($E110*SUMIF('Daily Log'!$BV$18:$BV$1017,$B110,'Daily Log'!$BW$18:$BW$1017),0)","v":0},{"$f":"IFERROR($E110*SUMIF('Daily Log'!$BY$18:$BY$1017,$B110,'Daily Log'!$BZ$18:$BZ$1017),0)","v":0},{"$f":"IFERROR($E110*SUMIF('Daily Log'!$CB$18:$CB$1017,$B110,'Daily Log'!$CC$18:$CC$1017),0)","v":0},{"$f":"IFERROR($E110*SUMIF('Daily Log'!$CE$18:$CE$1017,$B110,'Daily Log'!$CF$18:$CF$1017),0)","v":0},{"$f":"IFERROR($E110*SUMIF('Daily Log'!$CH$18:$CH$1017,$B110,'Daily Log'!$CI$18:$CI$1017),0)","v":0},{"$f":"IFERROR($E110*SUMIF('Daily Log'!$CK$18:$CK$1017,$B110,'Daily Log'!$CL$18:$CL$1017),0)","v":0},{"$f":"IFERROR($E110*SUMIF('Daily Log'!$CN$18:$CN$1017,$B110,'Daily Log'!$CO$18:$CO$1017),0)","v":24}]
[null,"LC09 1109:BP UDON",null,"SIDE ORDER",1,43,{"$f":"IFERROR($E111*SUMIF('Daily Log'!$B$18:$B$1017,$B111,'Daily Log'!$C$18:$C$1017),0)","v":0},{"$f":"IFERROR($E111*SUMIF('Daily Log'!$E$18:$E$1017,$B111,'Daily Log'!$F$18:$F$1017),0)","v":0},{"$f":"IFERROR($E111*SUMIF('Daily Log'!$H$18:$H$1017,$B111,'Daily Log'!$I$18:$I$1017),0)","v":0},{"$f":"IFERROR($E111*SUMIF('Daily Log'!$K$18:$K$1017,$B111,'Daily Log'!$L$18:$L$1017),0)","v":0},{"$f":"IFERROR($E111*SUMIF('Daily Log'!$N$18:$N$1017,$B111,'Daily Log'!$O$18:$O$1017),0)","v":0},{"$f":"IFERROR($E111*SUMIF('Daily Log'!$Q$18:$Q$1017,$B111,'Daily Log'!$R$18:$R$1017),0)","v":0},{"$f":"IFERROR($E111*SUMIF('Daily Log'!$T$18:$T$1017,$B111,'Daily Log'!$U$18:$U$1017),0)","v":0},{"$f":"IFERROR($E111*SUMIF('Daily Log'!$W$18:$W$1017,$B111,'Daily Log'!$X$18:$X$1017),0)","v":0},{"$f":"IFERROR($E111*SUMIF('Daily Log'!$Z$18:$Z$1017,$B111,'Daily Log'!$AA$18:$AA$1017),0)","v":0},{"$f":"IFERROR($E111*SUMIF('Daily Log'!$AC$18:$AC$1017,$B111,'Daily Log'!$AD$18:$AD$1017),0)","v":0},{"$f":"IFERROR($E111*SUMIF('Daily Log'!$AF$18:$AF$1017,$B111,'Daily Log'!$AG$18:$AG$1017),0)","v":0},{"$f":"IFERROR($E111*SUMIF('Daily Log'!$AI$18:$AI$1017,$B111,'Daily Log'!$AJ$18:$AJ$1017),0)","v":0},{"$f":"IFERROR($E111*SUMIF('Daily Log'!$AL$18:$AL$1017,$B111,'Daily Log'!$AM$18:$AM$1017),0)","v":0},{"$f":"IFERROR($E111*SUMIF('Daily Log'!$AO$18:$AO$1017,$B111,'Daily Log'!$AP$18:$AP$1017),0)","v":0},{"$f":"IFERROR($E111*SUMIF('Daily Log'!$AR$18:$AR$1017,$B111,'Daily Log'!$AS$18:$AS$1017),0)","v":0},{"$f":"IFERROR($E111*SUMIF('Daily Log'!$AU$18:$AU$1017,$B111,'Daily Log'!$AV$18:$AV$1017),0)","v":0},{"$f":"IFERROR($E111*SUMIF('Daily Log'!$AX$18:$AX$1017,$B111,'Daily Log'!$AY$18:$AY$1017),0)","v":0},{"$f":"IFERROR($E111*SUMIF('Daily Log'!$BA$18:$BA$1017,$B111,'Daily Log'!$BB$18:$BB$1017),0)","v":0},{"$f":"IFERROR($E111*SUMIF('Daily Log'!$BD$18:$BD$1017,$B111,'Daily Log'!$BE$18:$BE$1017),0)","v":0},{"$f":"IFERROR($E111*SUMIF('Daily Log'!$BG$18:$BG$1017,$B111,'Daily Log'!$BH$18:$BH$1017),0)","v":0},{"$f":"IFERROR($E111*SUMIF('Daily Log'!$BJ$18:$BJ$1017,$B111,'Daily Log'!$BK$18:$BK$1017),0)","v":0},{"$f":"IFERROR($E111*SUMIF('Daily Log'!$BM$18:$BM$1017,$B111,'Daily Log'!$BN$18:$BN$1017),0)","v":0},{"$f":"IFERROR($E111*SUMIF('Daily Log'!$BP$18:$BP$1017,$B111,'Daily Log'!$BQ$18:$BQ$1017),0)","v":0},{"$f":"IFERROR($E111*SUMIF('Daily Log'!$BS$18:$BS$1017,$B111,'Daily Log'!$BT$18:$BT$1017),0)","v":0},{"$f":"IFERROR($E111*SUMIF('Daily Log'!$BV$18:$BV$1017,$B111,'Daily Log'!$BW$18:$BW$1017),0)","v":0},{"$f":"IFERROR($E111*SUMIF('Daily Log'!$BY$18:$BY$1017,$B111,'Daily Log'!$BZ$18:$BZ$1017),0)","v":0},{"$f":"IFERROR($E111*SUMIF('Daily Log'!$CB$18:$CB$1017,$B111,'Daily Log'!$CC$18:$CC$1017),0)","v":0},{"$f":"IFERROR($E111*SUMIF('Daily Log'!$CE$18:$CE$1017,$B111,'Daily Log'!$CF$18:$CF$1017),0)","v":0},{"$f":"IFERROR($E111*SUMIF('Daily Log'!$CH$18:$CH$1017,$B111,'Daily Log'!$CI$18:$CI$1017),0)","v":0},{"$f":"IFERROR($E111*SUMIF('Daily Log'!$CK$18:$CK$1017,$B111,'Daily Log'!$CL$18:$CL$1017),0)","v":0},{"$f":"IFERROR($E111*SUMIF('Daily Log'!$CN$18:$CN$1017,$B111,'Daily Log'!$CO$18:$CO$1017),0)","v":43}]
[null,"LC10 1110:NISSIN",null,"SIDE ORDER",1,62,{"$f":"IFERROR($E112*SUMIF('Daily Log'!$B$18:$B$1017,$B112,'Daily Log'!$C$18:$C$1017),0)","v":0},{"$f":"IFERROR($E112*SUMIF('Daily Log'!$E$18:$E$1017,$B112,'Daily Log'!$F$18:$F$1017),0)","v":0},{"$f":"IFERROR($E112*SUMIF('Daily Log'!$H$18:$H$1017,$B112,'Daily Log'!$I$18:$I$1017),0)","v":0},{"$f":"IFERROR($E112*SUMIF('Daily Log'!$K$18:$K$1017,$B112,'Daily Log'!$L$18:$L$1017),0)","v":0},{"$f":"IFERROR($E112*SUMIF('Daily Log'!$N$18:$N$1017,$B112,'Daily Log'!$O$18:$O$1017),0)","v":0},{"$f":"IFERROR($E112*SUMIF('Daily Log'!$Q$18:$Q$1017,$B112,'Daily Log'!$R$18:$R$1017),0)","v":0},{"$f":"IFERROR($E112*SUMIF('Daily Log'!$T$18:$T$1017,$B112,'Daily Log'!$U$18:$U$1017),0)","v":0},{"$f":"IFERROR($E112*SUMIF('Daily Log'!$W$18:$W$1017,$B112,'Daily Log'!$X$18:$X$1017),0)","v":0},{"$f":"IFERROR($E112*SUMIF('Daily Log'!$Z$18:$Z$1017,$B112,'Daily Log'!$AA$18:$AA$1017),0)","v":0},{"$f":"IFERROR($E112*SUMIF('Daily Log'!$AC$18:$AC$1017,$B112,'Daily Log'!$AD$18:$AD$1017),0)","v":0},{"$f":"IFERROR($E112*SUMIF('Daily Log'!$AF$18:$AF$1017,$B112,'Daily Log'!$AG$18:$AG$1017),0)","v":0},{"$f":"IFERROR($E112*SUMIF('Daily Log'!$AI$18:$AI$1017,$B112,'Daily Log'!$AJ$18:$AJ$1017),0)","v":0},{"$f":"IFERROR($E112*SUMIF('Daily Log'!$AL$18:$AL$1017,$B112,'Daily Log'!$AM$18:$AM$1017),0)","v":0},{"$f":"IFERROR($E112*SUMIF('Daily Log'!$AO$18:$AO$1017,$B112,'Daily Log'!$AP$18:$AP$1017),0)","v":0},{"$f":"IFERROR($E112*SUMIF('Daily Log'!$AR$18:$AR$1017,$B112,'Daily Log'!$AS$18:$AS$1017),0)","v":0},{"$f":"IFERROR($E112*SUMIF('Daily Log'!$AU$18:$AU$1017,$B112,'Daily Log'!$AV$18:$AV$1017),0)","v":0},{"$f":"IFERROR($E112*SUMIF('Daily Log'!$AX$18:$AX$1017,$B112,'Daily Log'!$AY$18:$AY$1017),0)","v":0},{"$f":"IFERROR($E112*SUMIF('Daily Log'!$BA$18:$BA$1017,$B112,'Daily Log'!$BB$18:$BB$1017),0)","v":0},{"$f":"IFERROR($E112*SUMIF('Daily Log'!$BD$18:$BD$1017,$B112,'Daily Log'!$BE$18:$BE$1017),0)","v":0},{"$f":"IFERROR($E112*SUMIF('Daily Log'!$BG$18:$BG$1017,$B112,'Daily Log'!$BH$18:$BH$1017),0)","v":0},{"$f":"IFERROR($E112*SUMIF('Daily Log'!$BJ$18:$BJ$1017,$B112,'Daily Log'!$BK$18:$BK$1017),0)","v":0},{"$f":"IFERROR($E112*SUMIF('Daily Log'!$BM$18:$BM$1017,$B112,'Daily Log'!$BN$18:$BN$1017),0)","v":0},{"$f":"IFERROR($E112*SUMIF('Daily Log'!$BP$18:$BP$1017,$B112,'Daily Log'!$BQ$18:$BQ$1017),0)","v":0},{"$f":"IFERROR($E112*SUMIF('Daily Log'!$BS$18:$BS$1017,$B112,'Daily Log'!$BT$18:$BT$1017),0)","v":0},{"$f":"IFERROR($E112*SUMIF('Daily Log'!$BV$18:$BV$1017,$B112,'Daily Log'!$BW$18:$BW$1017),0)","v":0},{"$f":"IFERROR($E112*SUMIF('Daily Log'!$BY$18:$BY$1017,$B112,'Daily Log'!$BZ$18:$BZ$1017),0)","v":0},{"$f":"IFERROR($E112*SUMIF('Daily Log'!$CB$18:$CB$1017,$B112,'Daily Log'!$CC$18:$CC$1017),0)","v":0},{"$f":"IFERROR($E112*SUMIF('Daily Log'!$CE$18:$CE$1017,$B112,'Daily Log'!$CF$18:$CF$1017),0)","v":0},{"$f":"IFERROR($E112*SUMIF('Daily Log'!$CH$18:$CH$1017,$B112,'Daily Log'!$CI$18:$CI$1017),0)","v":0},{"$f":"IFERROR($E112*SUMIF('Daily Log'!$CK$18:$CK$1017,$B112,'Daily Log'!$CL$18:$CL$1017),0)","v":0},{"$f":"IFERROR($E112*SUMIF('Daily Log'!$CN$18:$CN$1017,$B112,'Daily Log'!$CO$18:$CO$1017),0)","v":62}]
[null,"LC11 1111:VEG RICE",null,"SIDE ORDER",1,21,{"$f":"IFERROR($E113*SUMIF('Daily Log'!$B$18:$B$1017,$B113,'Daily Log'!$C$18:$C$1017),0)","v":0},{"$f":"IFERROR($E113*SUMIF('Daily Log'!$E$18:$E$1017,$B113,'Daily Log'!$F$18:$F$1017),0)","v":0},{"$f":"IFERROR($E113*SUMIF('Daily Log'!$H$18:$H$1017,$B113,'Daily Log'!$I$18:$I$1017),0)","v":0},{"$f":"IFERROR($E113*SUMIF('Daily Log'!$K$18:$K$1017,$B113,'Daily Log'!$L$18:$L$1017),0)","v":0},{"$f":"IFERROR($E113*SUMIF('Daily Log'!$N$18:$N$1017,$B113,'Daily Log'!$O$18:$O$1017),0)","v":0},{"$f":"IFERROR($E113*SUMIF('Daily Log'!$Q$18:$Q$1017,$B113,'Daily Log'!$R$18:$R$1017),0)","v":0},{"$f":"IFERROR($E113*SUMIF('Daily Log'!$T$18:$T$1017,$B113,'Daily Log'!$U$18:$U$1017),0)","v":0},{"$f":"IFERROR($E113*SUMIF('Daily Log'!$W$18:$W$1017,$B113,'Daily Log'!$X$18:$X$1017),0)","v":0},{"$f":"IFERROR($E113*SUMIF('Daily Log'!$Z$18:$Z$1017,$B113,'Daily Log'!$AA$18:$AA$1017),0)","v":0},{"$f":"IFERROR($E113*SUMIF('Daily Log'!$AC$18:$AC$1017,$B113,'Daily Log'!$AD$18:$AD$1017),0)","v":0},{"$f":"IFERROR($E113*SUMIF('Daily Log'!$AF$18:$AF$1017,$B113,'Daily Log'!$AG$18:$AG$1017),0)","v":0},{"$f":"IFERROR($E113*SUMIF('Daily Log'!$AI$18:$AI$1017,$B113,'Daily Log'!$AJ$18:$AJ$1017),0)","v":0},{"$f":"IFERROR($E113*SUMIF('Daily Log'!$AL$18:$AL$1017,$B113,'Daily Log'!$AM$18:$AM$1017),0)","v":0},{"$f":"IFERROR($E113*SUMIF('Daily Log'!$AO$18:$AO$1017,$B113,'Daily Log'!$AP$18:$AP$1017),0)","v":0},{"$f":"IFERROR($E113*SUMIF('Daily Log'!$AR$18:$AR$1017,$B113,'Daily Log'!$AS$18:$AS$1017),0)","v":0},{"$f":"IFERROR($E113*SUMIF('Daily Log'!$AU$18:$AU$1017,$B113,'Daily Log'!$AV$18:$AV$1017),0)","v":0},{"$f":"IFERROR($E113*SUMIF('Daily Log'!$AX$18:$AX$1017,$B113,'Daily Log'!$AY$18:$AY$1017),0)","v":0},{"$f":"IFERROR($E113*SUMIF('Daily Log'!$BA$18:$BA$1017,$B113,'Daily Log'!$BB$18:$BB$1017),0)","v":0},{"$f":"IFERROR($E113*SUMIF('Daily Log'!$BD$18:$BD$1017,$B113,'Daily Log'!$BE$18:$BE$1017),0)","v":0},{"$f":"IFERROR($E113*SUMIF('Daily Log'!$BG$18:$BG$1017,$B113,'Daily Log'!$BH$18:$BH$1017),0)","v":0},{"$f":"IFERROR($E113*SUMIF('Daily Log'!$BJ$18:$BJ$1017,$B113,'Daily Log'!$BK$18:$BK$1017),0)","v":0},{"$f":"IFERROR($E113*SUMIF('Daily Log'!$BM$18:$BM$1017,$B113,'Daily Log'!$BN$18:$BN$1017),0)","v":0},{"$f":"IFERROR($E113*SUMIF('Daily Log'!$BP$18:$BP$1017,$B113,'Daily Log'!$BQ$18:$BQ$1017),0)","v":0},{"$f":"IFERROR($E113*SUMIF('Daily Log'!$BS$18:$BS$1017,$B113,'Daily Log'!$BT$18:$BT$1017),0)","v":0},{"$f":"IFERROR($E113*SUMIF('Daily Log'!$BV$18:$BV$1017,$B113,'Daily Log'!$BW$18:$BW$1017),0)","v":0},{"$f":"IFERROR($E113*SUMIF('Daily Log'!$BY$18:$BY$1017,$B113,'Daily Log'!$BZ$18:$BZ$1017),0)","v":0},{"$f":"IFERROR($E113*SUMIF('Daily Log'!$CB$18:$CB$1017,$B113,'Daily Log'!$CC$18:$CC$1017),0)","v":0},{"$f":"IFERROR($E113*SUMIF('Daily Log'!$CE$18:$CE$1017,$B113,'Daily Log'!$CF$18:$CF$1017),0)","v":0},{"$f":"IFERROR($E113*SUMIF('Daily Log'!$CH$18:$CH$1017,$B113,'Daily Log'!$CI$18:$CI$1017),0)","v":0},{"$f":"IFERROR($E113*SUMIF('Daily Log'!$CK$18:$CK$1017,$B113,'Daily Log'!$CL$18:$CL$1017),0)","v":0},{"$f":"IFERROR($E113*SUMIF('Daily Log'!$CN$18:$CN$1017,$B113,'Daily Log'!$CO$18:$CO$1017),0)","v":21}]
[null,"LC12 1112:NASI LEMAK",null,"SIDE ORDER",1,0,{"$f":"IFERROR($E114*SUMIF('Daily Log'!$B$18:$B$1017,$B114,'Daily Log'!$C$18:$C$1017),0)","v":0},{"$f":"IFERROR($E114*SUMIF('Daily Log'!$E$18:$E$1017,$B114,'Daily Log'!$F$18:$F$1017),0)","v":0},{"$f":"IFERROR($E114*SUMIF('Daily Log'!$H$18:$H$1017,$B114,'Daily Log'!$I$18:$I$1017),0)","v":0},{"$f":"IFERROR($E114*SUMIF('Daily Log'!$K$18:$K$1017,$B114,'Daily Log'!$L$18:$L$1017),0)","v":0},{"$f":"IFERROR($E114*SUMIF('Daily Log'!$N$18:$N$1017,$B114,'Daily Log'!$O$18:$O$1017),0)","v":0},{"$f":"IFERROR($E114*SUMIF('Daily Log'!$Q$18:$Q$1017,$B114,'Daily Log'!$R$18:$R$1017),0)","v":0},{"$f":"IFERROR($E114*SUMIF('Daily Log'!$T$18:$T$1017,$B114,'Daily Log'!$U$18:$U$1017),0)","v":0},{"$f":"IFERROR($E114*SUMIF('Daily Log'!$W$18:$W$1017,$B114,'Daily Log'!$X$18:$X$1017),0)","v":0},{"$f":"IFERROR($E114*SUMIF('Daily Log'!$Z$18:$Z$1017,$B114,'Daily Log'!$AA$18:$AA$1017),0)","v":0},{"$f":"IFERROR($E114*SUMIF('Daily Log'!$AC$18:$AC$1017,$B114,'Daily Log'!$AD$18:$AD$1017),0)","v":0},{"$f":"IFERROR($E114*SUMIF('Daily Log'!$AF$18:$AF$1017,$B114,'Daily Log'!$AG$18:$AG$1017),0)","v":0},{"$f":"IFERROR($E114*SUMIF('Daily Log'!$AI$18:$AI$1017,$B114,'Daily Log'!$AJ$18:$AJ$1017),0)","v":0},{"$f":"IFERROR($E114*SUMIF('Daily Log'!$AL$18:$AL$1017,$B114,'Daily Log'!$AM$18:$AM$1017),0)","v":0},{"$f":"IFERROR($E114*SUMIF('Daily Log'!$AO$18:$AO$1017,$B114,'Daily Log'!$AP$18:$AP$1017),0)","v":0},{"$f":"IFERROR($E114*SUMIF('Daily Log'!$AR$18:$AR$1017,$B114,'Daily Log'!$AS$18:$AS$1017),0)","v":0},{"$f":"IFERROR($E114*SUMIF('Daily Log'!$AU$18:$AU$1017,$B114,'Daily Log'!$AV$18:$AV$1017),0)","v":0},{"$f":"IFERROR($E114*SUMIF('Daily Log'!$AX$18:$AX$1017,$B114,'Daily Log'!$AY$18:$AY$1017),0)","v":0},{"$f":"IFERROR($E114*SUMIF('Daily Log'!$BA$18:$BA$1017,$B114,'Daily Log'!$BB$18:$BB$1017),0)","v":0},{"$f":"IFERROR($E114*SUMIF('Daily Log'!$BD$18:$BD$1017,$B114,'Daily Log'!$BE$18:$BE$1017),0)","v":0},{"$f":"IFERROR($E114*SUMIF('Daily Log'!$BG$18:$BG$1017,$B114,'Daily Log'!$BH$18:$BH$1017),0)","v":0},{"$f":"IFERROR($E114*SUMIF('Daily Log'!$BJ$18:$BJ$1017,$B114,'Daily Log'!$BK$18:$BK$1017),0)","v":0},{"$f":"IFERROR($E114*SUMIF('Daily Log'!$BM$18:$BM$1017,$B114,'Daily Log'!$BN$18:$BN$1017),0)","v":0},{"$f":"IFERROR($E114*SUMIF('Daily Log'!$BP$18:$BP$1017,$B114,'Daily Log'!$BQ$18:$BQ$1017),0)","v":0},{"$f":"IFERROR($E114*SUMIF('Daily Log'!$BS$18:$BS$1017,$B114,'Daily Log'!$BT$18:$BT$1017),0)","v":0},{"$f":"IFERROR($E114*SUMIF('Daily Log'!$BV$18:$BV$1017,$B114,'Daily Log'!$BW$18:$BW$1017),0)","v":0},{"$f":"IFERROR($E114*SUMIF('Daily Log'!$BY$18:$BY$1017,$B114,'Daily Log'!$BZ$18:$BZ$1017),0)","v":0},{"$f":"IFERROR($E114*SUMIF('Daily Log'!$CB$18:$CB$1017,$B114,'Daily Log'!$CC$18:$CC$1017),0)","v":0},{"$f":"IFERROR($E114*SUMIF('Daily Log'!$CE$18:$CE$1017,$B114,'Daily Log'!$CF$18:$CF$1017),0)","v":0},{"$f":"IFERROR($E114*SUMIF('Daily Log'!$CH$18:$CH$1017,$B114,'Daily Log'!$CI$18:$CI$1017),0)","v":0},{"$f":"IFERROR($E114*SUMIF('Daily Log'!$CK$18:$CK$1017,$B114,'Daily Log'!$CL$18:$CL$1017),0)","v":0},{"$f":"IFERROR($E114*SUMIF('Daily Log'!$CN$18:$CN$1017,$B114,'Daily Log'!$CO$18:$CO$1017),0)","v":0}]
[null,"LC13 1113:KUEY TEOW",null,"SIDE ORDER",1,0,{"$f":"IFERROR($E115*SUMIF('Daily Log'!$B$18:$B$1017,$B115,'Daily Log'!$C$18:$C$1017),0)","v":0},{"$f":"IFERROR($E115*SUMIF('Daily Log'!$E$18:$E$1017,$B115,'Daily Log'!$F$18:$F$1017),0)","v":0},{"$f":"IFERROR($E115*SUMIF('Daily Log'!$H$18:$H$1017,$B115,'Daily Log'!$I$18:$I$1017),0)","v":0},{"$f":"IFERROR($E115*SUMIF('Daily Log'!$K$18:$K$1017,$B115,'Daily Log'!$L$18:$L$1017),0)","v":0},{"$f":"IFERROR($E115*SUMIF('Daily Log'!$N$18:$N$1017,$B115,'Daily Log'!$O$18:$O$1017),0)","v":0},{"$f":"IFERROR($E115*SUMIF('Daily Log'!$Q$18:$Q$1017,$B115,'Daily Log'!$R$18:$R$1017),0)","v":0},{"$f":"IFERROR($E115*SUMIF('Daily Log'!$T$18:$T$1017,$B115,'Daily Log'!$U$18:$U$1017),0)","v":0},{"$f":"IFERROR($E115*SUMIF('Daily Log'!$W$18:$W$1017,$B115,'Daily Log'!$X$18:$X$1017),0)","v":0},{"$f":"IFERROR($E115*SUMIF('Daily Log'!$Z$18:$Z$1017,$B115,'Daily Log'!$AA$18:$AA$1017),0)","v":0},{"$f":"IFERROR($E115*SUMIF('Daily Log'!$AC$18:$AC$1017,$B115,'Daily Log'!$AD$18:$AD$1017),0)","v":0},{"$f":"IFERROR($E115*SUMIF('Daily Log'!$AF$18:$AF$1017,$B115,'Daily Log'!$AG$18:$AG$1017),0)","v":0},{"$f":"IFERROR($E115*SUMIF('Daily Log'!$AI$18:$AI$1017,$B115,'Daily Log'!$AJ$18:$AJ$1017),0)","v":0},{"$f":"IFERROR($E115*SUMIF('Daily Log'!$AL$18:$AL$1017,$B115,'Daily Log'!$AM$18:$AM$1017),0)","v":0},{"$f":"IFERROR($E115*SUMIF('Daily Log'!$AO$18:$AO$1017,$B115,'Daily Log'!$AP$18:$AP$1017),0)","v":0},{"$f":"IFERROR($E115*SUMIF('Daily Log'!$AR$18:$AR$1017,$B115,'Daily Log'!$AS$18:$AS$1017),0)","v":0},{"$f":"IFERROR($E115*SUMIF('Daily Log'!$AU$18:$AU$1017,$B115,'Daily Log'!$AV$18:$AV$1017),0)","v":0},{"$f":"IFERROR($E115*SUMIF('Daily Log'!$AX$18:$AX$1017,$B115,'Daily Log'!$AY$18:$AY$1017),0)","v":0},{"$f":"IFERROR($E115*SUMIF('Daily Log'!$BA$18:$BA$1017,$B115,'Daily Log'!$BB$18:$BB$1017),0)","v":0},{"$f":"IFERROR($E115*SUMIF('Daily Log'!$BD$18:$BD$1017,$B115,'Daily Log'!$BE$18:$BE$1017),0)","v":0},{"$f":"IFERROR($E115*SUMIF('Daily Log'!$BG$18:$BG$1017,$B115,'Daily Log'!$BH$18:$BH$1017),0)","v":0},{"$f":"IFERROR($E115*SUMIF('Daily Log'!$BJ$18:$BJ$1017,$B115,'Daily Log'!$BK$18:$BK$1017),0)","v":0},{"$f":"IFERROR($E115*SUMIF('Daily Log'!$BM$18:$BM$1017,$B115,'Daily Log'!$BN$18:$BN$1017),0)","v":0},{"$f":"IFERROR($E115*SUMIF('Daily Log'!$BP$18:$BP$1017,$B115,'Daily Log'!$BQ$18:$BQ$1017),0)","v":0},{"$f":"IFERROR($E115*SUMIF('Daily Log'!$BS$18:$BS$1017,$B115,'Daily Log'!$BT$18:$BT$1017),0)","v":0},{"$f":"IFERROR($E115*SUMIF('Daily Log'!$BV$18:$BV$1017,$B115,'Daily Log'!$BW$18:$BW$1017),0)","v":0},{"$f":"IFERROR($E115*SUMIF('Daily Log'!$BY$18:$BY$1017,$B115,'Daily Log'!$BZ$18:$BZ$1017),0)","v":0},{"$f":"IFERROR($E115*SUMIF('Daily Log'!$CB$18:$CB$1017,$B115,'Daily Log'!$CC$18:$CC$1017),0)","v":0},{"$f":"IFERROR($E115*SUMIF('Daily Log'!$CE$18:$CE$1017,$B115,'Daily Log'!$CF$18:$CF$1017),0)","v":0},{"$f":"IFERROR($E115*SUMIF('Daily Log'!$CH$18:$CH$1017,$B115,'Daily Log'!$CI$18:$CI$1017),0)","v":0},{"$f":"IFERROR($E115*SUMIF('Daily Log'!$CK$18:$CK$1017,$B115,'Daily Log'!$CL$18:$CL$1017),0)","v":0},{"$f":"IFERROR($E115*SUMIF('Daily Log'!$CN$18:$CN$1017,$B115,'Daily Log'!$CO$18:$CO$1017),0)","v":0}]
[null,"LC14 1114:F.BALL MEE",null,"SIDE ORDER",1,0,{"$f":"IFERROR($E116*SUMIF('Daily Log'!$B$18:$B$1017,$B116,'Daily Log'!$C$18:$C$1017),0)","v":0},{"$f":"IFERROR($E116*SUMIF('Daily Log'!$E$18:$E$1017,$B116,'Daily Log'!$F$18:$F$1017),0)","v":0},{"$f":"IFERROR($E116*SUMIF('Daily Log'!$H$18:$H$1017,$B116,'Daily Log'!$I$18:$I$1017),0)","v":0},{"$f":"IFERROR($E116*SUMIF('Daily Log'!$K$18:$K$1017,$B116,'Daily Log'!$L$18:$L$1017),0)","v":0},{"$f":"IFERROR($E116*SUMIF('Daily Log'!$N$18:$N$1017,$B116,'Daily Log'!$O$18:$O$1017),0)","v":0},{"$f":"IFERROR($E116*SUMIF('Daily Log'!$Q$18:$Q$1017,$B116,'Daily Log'!$R$18:$R$1017),0)","v":0},{"$f":"IFERROR($E116*SUMIF('Daily Log'!$T$18:$T$1017,$B116,'Daily Log'!$U$18:$U$1017),0)","v":0},{"$f":"IFERROR($E116*SUMIF('Daily Log'!$W$18:$W$1017,$B116,'Daily Log'!$X$18:$X$1017),0)","v":0},{"$f":"IFERROR($E116*SUMIF('Daily Log'!$Z$18:$Z$1017,$B116,'Daily Log'!$AA$18:$AA$1017),0)","v":0},{"$f":"IFERROR($E116*SUMIF('Daily Log'!$AC$18:$AC$1017,$B116,'Daily Log'!$AD$18:$AD$1017),0)","v":0},{"$f":"IFERROR($E116*SUMIF('Daily Log'!$AF$18:$AF$1017,$B116,'Daily Log'!$AG$18:$AG$1017),0)","v":0},{"$f":"IFERROR($E116*SUMIF('Daily Log'!$AI$18:$AI$1017,$B116,'Daily Log'!$AJ$18:$AJ$1017),0)","v":0},{"$f":"IFERROR($E116*SUMIF('Daily Log'!$AL$18:$AL$1017,$B116,'Daily Log'!$AM$18:$AM$1017),0)","v":0},{"$f":"IFERROR($E116*SUMIF('Daily Log'!$AO$18:$AO$1017,$B116,'Daily Log'!$AP$18:$AP$1017),0)","v":0},{"$f":"IFERROR($E116*SUMIF('Daily Log'!$AR$18:$AR$1017,$B116,'Daily Log'!$AS$18:$AS$1017),0)","v":0},{"$f":"IFERROR($E116*SUMIF('Daily Log'!$AU$18:$AU$1017,$B116,'Daily Log'!$AV$18:$AV$1017),0)","v":0},{"$f":"IFERROR($E116*SUMIF('Daily Log'!$AX$18:$AX$1017,$B116,'Daily Log'!$AY$18:$AY$1017),0)","v":0},{"$f":"IFERROR($E116*SUMIF('Daily Log'!$BA$18:$BA$1017,$B116,'Daily Log'!$BB$18:$BB$1017),0)","v":0},{"$f":"IFERROR($E116*SUMIF('Daily Log'!$BD$18:$BD$1017,$B116,'Daily Log'!$BE$18:$BE$1017),0)","v":0},{"$f":"IFERROR($E116*SUMIF('Daily Log'!$BG$18:$BG$1017,$B116,'Daily Log'!$BH$18:$BH$1017),0)","v":0},{"$f":"IFERROR($E116*SUMIF('Daily Log'!$BJ$18:$BJ$1017,$B116,'Daily Log'!$BK$18:$BK$1017),0)","v":0},{"$f":"IFERROR($E116*SUMIF('Daily Log'!$BM$18:$BM$1017,$B116,'Daily Log'!$BN$18:$BN$1017),0)","v":0},{"$f":"IFERROR($E116*SUMIF('Daily Log'!$BP$18:$BP$1017,$B116,'Daily Log'!$BQ$18:$BQ$1017),0)","v":0},{"$f":"IFERROR($E116*SUMIF('Daily Log'!$BS$18:$BS$1017,$B116,'Daily Log'!$BT$18:$BT$1017),0)","v":0},{"$f":"IFERROR($E116*SUMIF('Daily Log'!$BV$18:$BV$1017,$B116,'Daily Log'!$BW$18:$BW$1017),0)","v":0},{"$f":"IFERROR($E116*SUMIF('Daily Log'!$BY$18:$BY$1017,$B116,'Daily Log'!$BZ$18:$BZ$1017),0)","v":0},{"$f":"IFERROR($E116*SUMIF('Daily Log'!$CB$18:$CB$1017,$B116,'Daily Log'!$CC$18:$CC$1017),0)","v":0},{"$f":"IFERROR($E116*SUMIF('Daily Log'!$CE$18:$CE$1017,$B116,'Daily Log'!$CF$18:$CF$1017),0)","v":0},{"$f":"IFERROR($E116*SUMIF('Daily Log'!$CH$18:$CH$1017,$B116,'Daily Log'!$CI$18:$CI$1017),0)","v":0},{"$f":"IFERROR($E116*SUMIF('Daily Log'!$CK$18:$CK$1017,$B116,'Daily Log'!$CL$18:$CL$1017),0)","v":0},{"$f":"IFERROR($E116*SUMIF('Daily Log'!$CN$18:$CN$1017,$B116,'Daily Log'!$CO$18:$CO$1017),0)","v":0}]
[null,"LC15 1115:CHK NOODLE",null,"SIDE ORDER",1,0,{"$f":"IFERROR($E117*SUMIF('Daily Log'!$B$18:$B$1017,$B117,'Daily Log'!$C$18:$C$1017),0)","v":0},{"$f":"IFERROR($E117*SUMIF('Daily Log'!$E$18:$E$1017,$B117,'Daily Log'!$F$18:$F$1017),0)","v":0},{"$f":"IFERROR($E117*SUMIF('Daily Log'!$H$18:$H$1017,$B117,'Daily Log'!$I$18:$I$1017),0)","v":0},{"$f":"IFERROR($E117*SUMIF('Daily Log'!$K$18:$K$1017,$B117,'Daily Log'!$L$18:$L$1017),0)","v":0},{"$f":"IFERROR($E117*SUMIF('Daily Log'!$N$18:$N$1017,$B117,'Daily Log'!$O$18:$O$1017),0)","v":0},{"$f":"IFERROR($E117*SUMIF('Daily Log'!$Q$18:$Q$1017,$B117,'Daily Log'!$R$18:$R$1017),0)","v":0},{"$f":"IFERROR($E117*SUMIF('Daily Log'!$T$18:$T$1017,$B117,'Daily Log'!$U$18:$U$1017),0)","v":0},{"$f":"IFERROR($E117*SUMIF('Daily Log'!$W$18:$W$1017,$B117,'Daily Log'!$X$18:$X$1017),0)","v":0},{"$f":"IFERROR($E117*SUMIF('Daily Log'!$Z$18:$Z$1017,$B117,'Daily Log'!$AA$18:$AA$1017),0)","v":0},{"$f":"IFERROR($E117*SUMIF('Daily Log'!$AC$18:$AC$1017,$B117,'Daily Log'!$AD$18:$AD$1017),0)","v":0},{"$f":"IFERROR($E117*SUMIF('Daily Log'!$AF$18:$AF$1017,$B117,'Daily Log'!$AG$18:$AG$1017),0)","v":0},{"$f":"IFERROR($E117*SUMIF('Daily Log'!$AI$18:$AI$1017,$B117,'Daily Log'!$AJ$18:$AJ$1017),0)","v":0},{"$f":"IFERROR($E117*SUMIF('Daily Log'!$AL$18:$AL$1017,$B117,'Daily Log'!$AM$18:$AM$1017),0)","v":0},{"$f":"IFERROR($E117*SUMIF('Daily Log'!$AO$18:$AO$1017,$B117,'Daily Log'!$AP$18:$AP$1017),0)","v":0},{"$f":"IFERROR($E117*SUMIF('Daily Log'!$AR$18:$AR$1017,$B117,'Daily Log'!$AS$18:$AS$1017),0)","v":0},{"$f":"IFERROR($E117*SUMIF('Daily Log'!$AU$18:$AU$1017,$B117,'Daily Log'!$AV$18:$AV$1017),0)","v":0},{"$f":"IFERROR($E117*SUMIF('Daily Log'!$AX$18:$AX$1017,$B117,'Daily Log'!$AY$18:$AY$1017),0)","v":0},{"$f":"IFERROR($E117*SUMIF('Daily Log'!$BA$18:$BA$1017,$B117,'Daily Log'!$BB$18:$BB$1017),0)","v":0},{"$f":"IFERROR($E117*SUMIF('Daily Log'!$BD$18:$BD$1017,$B117,'Daily Log'!$BE$18:$BE$1017),0)","v":0},{"$f":"IFERROR($E117*SUMIF('Daily Log'!$BG$18:$BG$1017,$B117,'Daily Log'!$BH$18:$BH$1017),0)","v":0},{"$f":"IFERROR($E117*SUMIF('Daily Log'!$BJ$18:$BJ$1017,$B117,'Daily Log'!$BK$18:$BK$1017),0)","v":0},{"$f":"IFERROR($E117*SUMIF('Daily Log'!$BM$18:$BM$1017,$B117,'Daily Log'!$BN$18:$BN$1017),0)","v":0},{"$f":"IFERROR($E117*SUMIF('Daily Log'!$BP$18:$BP$1017,$B117,'Daily Log'!$BQ$18:$BQ$1017),0)","v":0},{"$f":"IFERROR($E117*SUMIF('Daily Log'!$BS$18:$BS$1017,$B117,'Daily Log'!$BT$18:$BT$1017),0)","v":0},{"$f":"IFERROR($E117*SUMIF('Daily Log'!$BV$18:$BV$1017,$B117,'Daily Log'!$BW$18:$BW$1017),0)","v":0},{"$f":"IFERROR($E117*SUMIF('Daily Log'!$BY$18:$BY$1017,$B117,'Daily Log'!$BZ$18:$BZ$1017),0)","v":0},{"$f":"IFERROR($E117*SUMIF('Daily Log'!$CB$18:$CB$1017,$B117,'Daily Log'!$CC$18:$CC$1017),0)","v":0},{"$f":"IFERROR($E117*SUMIF('Daily Log'!$CE$18:$CE$1017,$B117,'Daily Log'!$CF$18:$CF$1017),0)","v":0},{"$f":"IFERROR($E117*SUMIF('Daily Log'!$CH$18:$CH$1017,$B117,'Daily Log'!$CI$18:$CI$1017),0)","v":0},{"$f":"IFERROR($E117*SUMIF('Daily Log'!$CK$18:$CK$1017,$B117,'Daily Log'!$CL$18:$CL$1017),0)","v":0},{"$f":"IFERROR($E117*SUMIF('Daily Log'!$CN$18:$CN$1017,$B117,'Daily Log'!$CO$18:$CO$1017),0)","v":0}]
[null,"LC16 1116:MGL CHK",null,"SIDE ORDER",1,0,{"$f":"IFERROR($E118*SUMIF('Daily Log'!$B$18:$B$1017,$B118,'Daily Log'!$C$18:$C$1017),0)","v":0},{"$f":"IFERROR($E118*SUMIF('Daily Log'!$E$18:$E$1017,$B118,'Daily Log'!$F$18:$F$1017),0)","v":0},{"$f":"IFERROR($E118*SUMIF('Daily Log'!$H$18:$H$1017,$B118,'Daily Log'!$I$18:$I$1017),0)","v":0},{"$f":"IFERROR($E118*SUMIF('Daily Log'!$K$18:$K$1017,$B118,'Daily Log'!$L$18:$L$1017),0)","v":0},{"$f":"IFERROR($E118*SUMIF('Daily Log'!$N$18:$N$1017,$B118,'Daily Log'!$O$18:$O$1017),0)","v":0},{"$f":"IFERROR($E118*SUMIF('Daily Log'!$Q$18:$Q$1017,$B118,'Daily Log'!$R$18:$R$1017),0)","v":0},{"$f":"IFERROR($E118*SUMIF('Daily Log'!$T$18:$T$1017,$B118,'Daily Log'!$U$18:$U$1017),0)","v":0},{"$f":"IFERROR($E118*SUMIF('Daily Log'!$W$18:$W$1017,$B118,'Daily Log'!$X$18:$X$1017),0)","v":0},{"$f":"IFERROR($E118*SUMIF('Daily Log'!$Z$18:$Z$1017,$B118,'Daily Log'!$AA$18:$AA$1017),0)","v":0},{"$f":"IFERROR($E118*SUMIF('Daily Log'!$AC$18:$AC$1017,$B118,'Daily Log'!$AD$18:$AD$1017),0)","v":0},{"$f":"IFERROR($E118*SUMIF('Daily Log'!$AF$18:$AF$1017,$B118,'Daily Log'!$AG$18:$AG$1017),0)","v":0},{"$f":"IFERROR($E118*SUMIF('Daily Log'!$AI$18:$AI$1017,$B118,'Daily Log'!$AJ$18:$AJ$1017),0)","v":0},{"$f":"IFERROR($E118*SUMIF('Daily Log'!$AL$18:$AL$1017,$B118,'Daily Log'!$AM$18:$AM$1017),0)","v":0},{"$f":"IFERROR($E118*SUMIF('Daily Log'!$AO$18:$AO$1017,$B118,'Daily Log'!$AP$18:$AP$1017),0)","v":0},{"$f":"IFERROR($E118*SUMIF('Daily Log'!$AR$18:$AR$1017,$B118,'Daily Log'!$AS$18:$AS$1017),0)","v":0},{"$f":"IFERROR($E118*SUMIF('Daily Log'!$AU$18:$AU$1017,$B118,'Daily Log'!$AV$18:$AV$1017),0)","v":0},{"$f":"IFERROR($E118*SUMIF('Daily Log'!$AX$18:$AX$1017,$B118,'Daily Log'!$AY$18:$AY$1017),0)","v":0},{"$f":"IFERROR($E118*SUMIF('Daily Log'!$BA$18:$BA$1017,$B118,'Daily Log'!$BB$18:$BB$1017),0)","v":0},{"$f":"IFERROR($E118*SUMIF('Daily Log'!$BD$18:$BD$1017,$B118,'Daily Log'!$BE$18:$BE$1017),0)","v":0},{"$f":"IFERROR($E118*SUMIF('Daily Log'!$BG$18:$BG$1017,$B118,'Daily Log'!$BH$18:$BH$1017),0)","v":0},{"$f":"IFERROR($E118*SUMIF('Daily Log'!$BJ$18:$BJ$1017,$B118,'Daily Log'!$BK$18:$BK$1017),0)","v":0},{"$f":"IFERROR($E118*SUMIF('Daily Log'!$BM$18:$BM$1017,$B118,'Daily Log'!$BN$18:$BN$1017),0)","v":0},{"$f":"IFERROR($E118*SUMIF('Daily Log'!$BP$18:$BP$1017,$B118,'Daily Log'!$BQ$18:$BQ$1017),0)","v":0},{"$f":"IFERROR($E118*SUMIF('Daily Log'!$BS$18:$BS$1017,$B118,'Daily Log'!$BT$18:$BT$1017),0)","v":0},{"$f":"IFERROR($E118*SUMIF('Daily Log'!$BV$18:$BV$1017,$B118,'Daily Log'!$BW$18:$BW$1017),0)","v":0},{"$f":"IFERROR($E118*SUMIF('Daily Log'!$BY$18:$BY$1017,$B118,'Daily Log'!$BZ$18:$BZ$1017),0)","v":0},{"$f":"IFERROR($E118*SUMIF('Daily Log'!$CB$18:$CB$1017,$B118,'Daily Log'!$CC$18:$CC$1017),0)","v":0},{"$f":"IFERROR($E118*SUMIF('Daily Log'!$CE$18:$CE$1017,$B118,'Daily Log'!$CF$18:$CF$1017),0)","v":0},{"$f":"IFERROR($E118*SUMIF('Daily Log'!$CH$18:$CH$1017,$B118,'Daily Log'!$CI$18:$CI$1017),0)","v":0},{"$f":"IFERROR($E118*SUMIF('Daily Log'!$CK$18:$CK$1017,$B118,'Daily Log'!$CL$18:$CL$1017),0)","v":0},{"$f":"IFERROR($E118*SUMIF('Daily Log'!$CN$18:$CN$1017,$B118,'Daily Log'!$CO$18:$CO$1017),0)","v":0}]
[null,"LC17 1117:THAI FSH",null,"SIDE ORDER",1,0,{"$f":"IFERROR($E119*SUMIF('Daily Log'!$B$18:$B$1017,$B119,'Daily Log'!$C$18:$C$1017),0)","v":0},{"$f":"IFERROR($E119*SUMIF('Daily Log'!$E$18:$E$1017,$B119,'Daily Log'!$F$18:$F$1017),0)","v":0},{"$f":"IFERROR($E119*SUMIF('Daily Log'!$H$18:$H$1017,$B119,'Daily Log'!$I$18:$I$1017),0)","v":0},{"$f":"IFERROR($E119*SUMIF('Daily Log'!$K$18:$K$1017,$B119,'Daily Log'!$L$18:$L$1017),0)","v":0},{"$f":"IFERROR($E119*SUMIF('Daily Log'!$N$18:$N$1017,$B119,'Daily Log'!$O$18:$O$1017),0)","v":0},{"$f":"IFERROR($E119*SUMIF('Daily Log'!$Q$18:$Q$1017,$B119,'Daily Log'!$R$18:$R$1017),0)","v":0},{"$f":"IFERROR($E119*SUMIF('Daily Log'!$T$18:$T$1017,$B119,'Daily Log'!$U$18:$U$1017),0)","v":0},{"$f":"IFERROR($E119*SUMIF('Daily Log'!$W$18:$W$1017,$B119,'Daily Log'!$X$18:$X$1017),0)","v":0},{"$f":"IFERROR($E119*SUMIF('Daily Log'!$Z$18:$Z$1017,$B119,'Daily Log'!$AA$18:$AA$1017),0)","v":0},{"$f":"IFERROR($E119*SUMIF('Daily Log'!$AC$18:$AC$1017,$B119,'Daily Log'!$AD$18:$AD$1017),0)","v":0},{"$f":"IFERROR($E119*SUMIF('Daily Log'!$AF$18:$AF$1017,$B119,'Daily Log'!$AG$18:$AG$1017),0)","v":0},{"$f":"IFERROR($E119*SUMIF('Daily Log'!$AI$18:$AI$1017,$B119,'Daily Log'!$AJ$18:$AJ$1017),0)","v":0},{"$f":"IFERROR($E119*SUMIF('Daily Log'!$AL$18:$AL$1017,$B119,'Daily Log'!$AM$18:$AM$1017),0)","v":0},{"$f":"IFERROR($E119*SUMIF('Daily Log'!$AO$18:$AO$1017,$B119,'Daily Log'!$AP$18:$AP$1017),0)","v":0},{"$f":"IFERROR($E119*SUMIF('Daily Log'!$AR$18:$AR$1017,$B119,'Daily Log'!$AS$18:$AS$1017),0)","v":0},{"$f":"IFERROR($E119*SUMIF('Daily Log'!$AU$18:$AU$1017,$B119,'Daily Log'!$AV$18:$AV$1017),0)","v":0},{"$f":"IFERROR($E119*SUMIF('Daily Log'!$AX$18:$AX$1017,$B119,'Daily Log'!$AY$18:$AY$1017),0)","v":0},{"$f":"IFERROR($E119*SUMIF('Daily Log'!$BA$18:$BA$1017,$B119,'Daily Log'!$BB$18:$BB$1017),0)","v":0},{"$f":"IFERROR($E119*SUMIF('Daily Log'!$BD$18:$BD$1017,$B119,'Daily Log'!$BE$18:$BE$1017),0)","v":0},{"$f":"IFERROR($E119*SUMIF('Daily Log'!$BG$18:$BG$1017,$B119,'Daily Log'!$BH$18:$BH$1017),0)","v":0},{"$f":"IFERROR($E119*SUMIF('Daily Log'!$BJ$18:$BJ$1017,$B119,'Daily Log'!$BK$18:$BK$1017),0)","v":0},{"$f":"IFERROR($E119*SUMIF('Daily Log'!$BM$18:$BM$1017,$B119,'Daily Log'!$BN$18:$BN$1017),0)","v":0},{"$f":"IFERROR($E119*SUMIF('Daily Log'!$BP$18:$BP$1017,$B119,'Daily Log'!$BQ$18:$BQ$1017),0)","v":0},{"$f":"IFERROR($E119*SUMIF('Daily Log'!$BS$18:$BS$1017,$B119,'Daily Log'!$BT$18:$BT$1017),0)","v":0},{"$f":"IFERROR($E119*SUMIF('Daily Log'!$BV$18:$BV$1017,$B119,'Daily Log'!$BW$18:$BW$1017),0)","v":0},{"$f":"IFERROR($E119*SUMIF('Daily Log'!$BY$18:$BY$1017,$B119,'Daily Log'!$BZ$18:$BZ$1017),0)","v":0},{"$f":"IFERROR($E119*SUMIF('Daily Log'!$CB$18:$CB$1017,$B119,'Daily Log'!$CC$18:$CC$1017),0)","v":0},{"$f":"IFERROR($E119*SUMIF('Daily Log'!$CE$18:$CE$1017,$B119,'Daily Log'!$CF$18:$CF$1017),0)","v":0},{"$f":"IFERROR($E119*SUMIF('Daily Log'!$CH$18:$CH$1017,$B119,'Daily Log'!$CI$18:$CI$1017),0)","v":0},{"$f":"IFERROR($E119*SUMIF('Daily Log'!$CK$18:$CK$1017,$B119,'Daily Log'!$CL$18:$CL$1017),0)","v":0},{"$f":"IFERROR($E119*SUMIF('Daily Log'!$CN$18:$CN$1017,$B119,'Daily Log'!$CO$18:$CO$1017),0)","v":0}]
[null,"LC18 1118:MAMITE FSH",null,"SIDE ORDER",1,0,{"$f":"IFERROR($E120*SUMIF('Daily Log'!$B$18:$B$1017,$B120,'Daily Log'!$C$18:$C$1017),0)","v":0},{"$f":"IFERROR($E120*SUMIF('Daily Log'!$E$18:$E$1017,$B120,'Daily Log'!$F$18:$F$1017),0)","v":0},{"$f":"IFERROR($E120*SUMIF('Daily Log'!$H$18:$H$1017,$B120,'Daily Log'!$I$18:$I$1017),0)","v":0},{"$f":"IFERROR($E120*SUMIF('Daily Log'!$K$18:$K$1017,$B120,'Daily Log'!$L$18:$L$1017),0)","v":0},{"$f":"IFERROR($E120*SUMIF('Daily Log'!$N$18:$N$1017,$B120,'Daily Log'!$O$18:$O$1017),0)","v":0},{"$f":"IFERROR($E120*SUMIF('Daily Log'!$Q$18:$Q$1017,$B120,'Daily Log'!$R$18:$R$1017),0)","v":0},{"$f":"IFERROR($E120*SUMIF('Daily Log'!$T$18:$T$1017,$B120,'Daily Log'!$U$18:$U$1017),0)","v":0},{"$f":"IFERROR($E120*SUMIF('Daily Log'!$W$18:$W$1017,$B120,'Daily Log'!$X$18:$X$1017),0)","v":0},{"$f":"IFERROR($E120*SUMIF('Daily Log'!$Z$18:$Z$1017,$B120,'Daily Log'!$AA$18:$AA$1017),0)","v":0},{"$f":"IFERROR($E120*SUMIF('Daily Log'!$AC$18:$AC$1017,$B120,'Daily Log'!$AD$18:$AD$1017),0)","v":0},{"$f":"IFERROR($E120*SUMIF('Daily Log'!$AF$18:$AF$1017,$B120,'Daily Log'!$AG$18:$AG$1017),0)","v":0},{"$f":"IFERROR($E120*SUMIF('Daily Log'!$AI$18:$AI$1017,$B120,'Daily Log'!$AJ$18:$AJ$1017),0)","v":0},{"$f":"IFERROR($E120*SUMIF('Daily Log'!$AL$18:$AL$1017,$B120,'Daily Log'!$AM$18:$AM$1017),0)","v":0},{"$f":"IFERROR($E120*SUMIF('Daily Log'!$AO$18:$AO$1017,$B120,'Daily Log'!$AP$18:$AP$1017),0)","v":0},{"$f":"IFERROR($E120*SUMIF('Daily Log'!$AR$18:$AR$1017,$B120,'Daily Log'!$AS$18:$AS$1017),0)","v":0},{"$f":"IFERROR($E120*SUMIF('Daily Log'!$AU$18:$AU$1017,$B120,'Daily Log'!$AV$18:$AV$1017),0)","v":0},{"$f":"IFERROR($E120*SUMIF('Daily Log'!$AX$18:$AX$1017,$B120,'Daily Log'!$AY$18:$AY$1017),0)","v":0},{"$f":"IFERROR($E120*SUMIF('Daily Log'!$BA$18:$BA$1017,$B120,'Daily Log'!$BB$18:$BB$1017),0)","v":0},{"$f":"IFERROR($E120*SUMIF('Daily Log'!$BD$18:$BD$1017,$B120,'Daily Log'!$BE$18:$BE$1017),0)","v":0},{"$f":"IFERROR($E120*SUMIF('Daily Log'!$BG$18:$BG$1017,$B120,'Daily Log'!$BH$18:$BH$1017),0)","v":0},{"$f":"IFERROR($E120*SUMIF('Daily Log'!$BJ$18:$BJ$1017,$B120,'Daily Log'!$BK$18:$BK$1017),0)","v":0},{"$f":"IFERROR($E120*SUMIF('Daily Log'!$BM$18:$BM$1017,$B120,'Daily Log'!$BN$18:$BN$1017),0)","v":0},{"$f":"IFERROR($E120*SUMIF('Daily Log'!$BP$18:$BP$1017,$B120,'Daily Log'!$BQ$18:$BQ$1017),0)","v":0},{"$f":"IFERROR($E120*SUMIF('Daily Log'!$BS$18:$BS$1017,$B120,'Daily Log'!$BT$18:$BT$1017),0)","v":0},{"$f":"IFERROR($E120*SUMIF('Daily Log'!$BV$18:$BV$1017,$B120,'Daily Log'!$BW$18:$BW$1017),0)","v":0},{"$f":"IFERROR($E120*SUMIF('Daily Log'!$BY$18:$BY$1017,$B120,'Daily Log'!$BZ$18:$BZ$1017),0)","v":0},{"$f":"IFERROR($E120*SUMIF('Daily Log'!$CB$18:$CB$1017,$B120,'Daily Log'!$CC$18:$CC$1017),0)","v":0},{"$f":"IFERROR($E120*SUMIF('Daily Log'!$CE$18:$CE$1017,$B120,'Daily Log'!$CF$18:$CF$1017),0)","v":0},{"$f":"IFERROR($E120*SUMIF('Daily Log'!$CH$18:$CH$1017,$B120,'Daily Log'!$CI$18:$CI$1017),0)","v":0},{"$f":"IFERROR($E120*SUMIF('Daily Log'!$CK$18:$CK$1017,$B120,'Daily Log'!$CL$18:$CL$1017),0)","v":0},{"$f":"IFERROR($E120*SUMIF('Daily Log'!$CN$18:$CN$1017,$B120,'Daily Log'!$CO$18:$CO$1017),0)","v":0}]
[null,"LC19 1119:BUTTER FSH",null,"SIDE ORDER",1,0,{"$f":"IFERROR($E121*SUMIF('Daily Log'!$B$18:$B$1017,$B121,'Daily Log'!$C$18:$C$1017),0)","v":0},{"$f":"IFERROR($E121*SUMIF('Daily Log'!$E$18:$E$1017,$B121,'Daily Log'!$F$18:$F$1017),0)","v":0},{"$f":"IFERROR($E121*SUMIF('Daily Log'!$H$18:$H$1017,$B121,'Daily Log'!$I$18:$I$1017),0)","v":0},{"$f":"IFERROR($E121*SUMIF('Daily Log'!$K$18:$K$1017,$B121,'Daily Log'!$L$18:$L$1017),0)","v":0},{"$f":"IFERROR($E121*SUMIF('Daily Log'!$N$18:$N$1017,$B121,'Daily Log'!$O$18:$O$1017),0)","v":0},{"$f":"IFERROR($E121*SUMIF('Daily Log'!$Q$18:$Q$1017,$B121,'Daily Log'!$R$18:$R$1017),0)","v":0},{"$f":"IFERROR($E121*SUMIF('Daily Log'!$T$18:$T$1017,$B121,'Daily Log'!$U$18:$U$1017),0)","v":0},{"$f":"IFERROR($E121*SUMIF('Daily Log'!$W$18:$W$1017,$B121,'Daily Log'!$X$18:$X$1017),0)","v":0},{"$f":"IFERROR($E121*SUMIF('Daily Log'!$Z$18:$Z$1017,$B121,'Daily Log'!$AA$18:$AA$1017),0)","v":0},{"$f":"IFERROR($E121*SUMIF('Daily Log'!$AC$18:$AC$1017,$B121,'Daily Log'!$AD$18:$AD$1017),0)","v":0},{"$f":"IFERROR($E121*SUMIF('Daily Log'!$AF$18:$AF$1017,$B121,'Daily Log'!$AG$18:$AG$1017),0)","v":0},{"$f":"IFERROR($E121*SUMIF('Daily Log'!$AI$18:$AI$1017,$B121,'Daily Log'!$AJ$18:$AJ$1017),0)","v":0},{"$f":"IFERROR($E121*SUMIF('Daily Log'!$AL$18:$AL$1017,$B121,'Daily Log'!$AM$18:$AM$1017),0)","v":0},{"$f":"IFERROR($E121*SUMIF('Daily Log'!$AO$18:$AO$1017,$B121,'Daily Log'!$AP$18:$AP$1017),0)","v":0},{"$f":"IFERROR($E121*SUMIF('Daily Log'!$AR$18:$AR$1017,$B121,'Daily Log'!$AS$18:$AS$1017),0)","v":0},{"$f":"IFERROR($E121*SUMIF('Daily Log'!$AU$18:$AU$1017,$B121,'Daily Log'!$AV$18:$AV$1017),0)","v":0},{"$f":"IFERROR($E121*SUMIF('Daily Log'!$AX$18:$AX$1017,$B121,'Daily Log'!$AY$18:$AY$1017),0)","v":0},{"$f":"IFERROR($E121*SUMIF('Daily Log'!$BA$18:$BA$1017,$B121,'Daily Log'!$BB$18:$BB$1017),0)","v":0},{"$f":"IFERROR($E121*SUMIF('Daily Log'!$BD$18:$BD$1017,$B121,'Daily Log'!$BE$18:$BE$1017),0)","v":0},{"$f":"IFERROR($E121*SUMIF('Daily Log'!$BG$18:$BG$1017,$B121,'Daily Log'!$BH$18:$BH$1017),0)","v":0},{"$f":"IFERROR($E121*SUMIF('Daily Log'!$BJ$18:$BJ$1017,$B121,'Daily Log'!$BK$18:$BK$1017),0)","v":0},{"$f":"IFERROR($E121*SUMIF('Daily Log'!$BM$18:$BM$1017,$B121,'Daily Log'!$BN$18:$BN$1017),0)","v":0},{"$f":"IFERROR($E121*SUMIF('Daily Log'!$BP$18:$BP$1017,$B121,'Daily Log'!$BQ$18:$BQ$1017),0)","v":0},{"$f":"IFERROR($E121*SUMIF('Daily Log'!$BS$18:$BS$1017,$B121,'Daily Log'!$BT$18:$BT$1017),0)","v":0},{"$f":"IFERROR($E121*SUMIF('Daily Log'!$BV$18:$BV$1017,$B121,'Daily Log'!$BW$18:$BW$1017),0)","v":0},{"$f":"IFERROR($E121*SUMIF('Daily Log'!$BY$18:$BY$1017,$B121,'Daily Log'!$BZ$18:$BZ$1017),0)","v":0},{"$f":"IFERROR($E121*SUMIF('Daily Log'!$CB$18:$CB$1017,$B121,'Daily Log'!$CC$18:$CC$1017),0)","v":0},{"$f":"IFERROR($E121*SUMIF('Daily Log'!$CE$18:$CE$1017,$B121,'Daily Log'!$CF$18:$CF$1017),0)","v":0},{"$f":"IFERROR($E121*SUMIF('Daily Log'!$CH$18:$CH$1017,$B121,'Daily Log'!$CI$18:$CI$1017),0)","v":0},{"$f":"IFERROR($E121*SUMIF('Daily Log'!$CK$18:$CK$1017,$B121,'Daily Log'!$CL$18:$CL$1017),0)","v":0},{"$f":"IFERROR($E121*SUMIF('Daily Log'!$CN$18:$CN$1017,$B121,'Daily Log'!$CO$18:$CO$1017),0)","v":0}]
[null,"LC01 1101:THAI CHK",null,"SIDE ORDER",1,133,{"$f":"IFERROR($E122*SUMIF('Daily Log'!$B$18:$B$1017,$B122,'Daily Log'!$C$18:$C$1017),0)","v":0},{"$f":"IFERROR($E122*SUMIF('Daily Log'!$E$18:$E$1017,$B122,'Daily Log'!$F$18:$F$1017),0)","v":0},{"$f":"IFERROR($E122*SUMIF('Daily Log'!$H$18:$H$1017,$B122,'Daily Log'!$I$18:$I$1017),0)","v":0},{"$f":"IFERROR($E122*SUMIF('Daily Log'!$K$18:$K$1017,$B122,'Daily Log'!$L$18:$L$1017),0)","v":0},{"$f":"IFERROR($E122*SUMIF('Daily Log'!$N$18:$N$1017,$B122,'Daily Log'!$O$18:$O$1017),0)","v":0},{"$f":"IFERROR($E122*SUMIF('Daily Log'!$Q$18:$Q$1017,$B122,'Daily Log'!$R$18:$R$1017),0)","v":0},{"$f":"IFERROR($E122*SUMIF('Daily Log'!$T$18:$T$1017,$B122,'Daily Log'!$U$18:$U$1017),0)","v":0},{"$f":"IFERROR($E122*SUMIF('Daily Log'!$W$18:$W$1017,$B122,'Daily Log'!$X$18:$X$1017),0)","v":0},{"$f":"IFERROR($E122*SUMIF('Daily Log'!$Z$18:$Z$1017,$B122,'Daily Log'!$AA$18:$AA$1017),0)","v":0},{"$f":"IFERROR($E122*SUMIF('Daily Log'!$AC$18:$AC$1017,$B122,'Daily Log'!$AD$18:$AD$1017),0)","v":0},{"$f":"IFERROR($E122*SUMIF('Daily Log'!$AF$18:$AF$1017,$B122,'Daily Log'!$AG$18:$AG$1017),0)","v":0},{"$f":"IFERROR($E122*SUMIF('Daily Log'!$AI$18:$AI$1017,$B122,'Daily Log'!$AJ$18:$AJ$1017),0)","v":0},{"$f":"IFERROR($E122*SUMIF('Daily Log'!$AL$18:$AL$1017,$B122,'Daily Log'!$AM$18:$AM$1017),0)","v":0},{"$f":"IFERROR($E122*SUMIF('Daily Log'!$AO$18:$AO$1017,$B122,'Daily Log'!$AP$18:$AP$1017),0)","v":0},{"$f":"IFERROR($E122*SUMIF('Daily Log'!$AR$18:$AR$1017,$B122,'Daily Log'!$AS$18:$AS$1017),0)","v":0},{"$f":"IFERROR($E122*SUMIF('Daily Log'!$AU$18:$AU$1017,$B122,'Daily Log'!$AV$18:$AV$1017),0)","v":0},{"$f":"IFERROR($E122*SUMIF('Daily Log'!$AX$18:$AX$1017,$B122,'Daily Log'!$AY$18:$AY$1017),0)","v":0},{"$f":"IFERROR($E122*SUMIF('Daily Log'!$BA$18:$BA$1017,$B122,'Daily Log'!$BB$18:$BB$1017),0)","v":0},{"$f":"IFERROR($E122*SUMIF('Daily Log'!$BD$18:$BD$1017,$B122,'Daily Log'!$BE$18:$BE$1017),0)","v":0},{"$f":"IFERROR($E122*SUMIF('Daily Log'!$BG$18:$BG$1017,$B122,'Daily Log'!$BH$18:$BH$1017),0)","v":0},{"$f":"IFERROR($E122*SUMIF('Daily Log'!$BJ$18:$BJ$1017,$B122,'Daily Log'!$BK$18:$BK$1017),0)","v":0},{"$f":"IFERROR($E122*SUMIF('Daily Log'!$BM$18:$BM$1017,$B122,'Daily Log'!$BN$18:$BN$1017),0)","v":0},{"$f":"IFERROR($E122*SUMIF('Daily Log'!$BP$18:$BP$1017,$B122,'Daily Log'!$BQ$18:$BQ$1017),0)","v":0},{"$f":"IFERROR($E122*SUMIF('Daily Log'!$BS$18:$BS$1017,$B122,'Daily Log'!$BT$18:$BT$1017),0)","v":0},{"$f":"IFERROR($E122*SUMIF('Daily Log'!$BV$18:$BV$1017,$B122,'Daily Log'!$BW$18:$BW$1017),0)","v":0},{"$f":"IFERROR($E122*SUMIF('Daily Log'!$BY$18:$BY$1017,$B122,'Daily Log'!$BZ$18:$BZ$1017),0)","v":0},{"$f":"IFERROR($E122*SUMIF('Daily Log'!$CB$18:$CB$1017,$B122,'Daily Log'!$CC$18:$CC$1017),0)","v":0},{"$f":"IFERROR($E122*SUMIF('Daily Log'!$CE$18:$CE$1017,$B122,'Daily Log'!$CF$18:$CF$1017),0)","v":0},{"$f":"IFERROR($E122*SUMIF('Daily Log'!$CH$18:$CH$1017,$B122,'Daily Log'!$CI$18:$CI$1017),0)","v":0},{"$f":"IFERROR($E122*SUMIF('Daily Log'!$CK$18:$CK$1017,$B122,'Daily Log'!$CL$18:$CL$1017),0)","v":0},{"$f":"IFERROR($E122*SUMIF('Daily Log'!$CN$18:$CN$1017,$B122,'Daily Log'!$CO$18:$CO$1017),0)","v":133}]
[null,"LC02 1102:MAMITE CHK",null,"SIDE ORDER",1,113,{"$f":"IFERROR($E123*SUMIF('Daily Log'!$B$18:$B$1017,$B123,'Daily Log'!$C$18:$C$1017),0)","v":0},{"$f":"IFERROR($E123*SUMIF('Daily Log'!$E$18:$E$1017,$B123,'Daily Log'!$F$18:$F$1017),0)","v":0},{"$f":"IFERROR($E123*SUMIF('Daily Log'!$H$18:$H$1017,$B123,'Daily Log'!$I$18:$I$1017),0)","v":0},{"$f":"IFERROR($E123*SUMIF('Daily Log'!$K$18:$K$1017,$B123,'Daily Log'!$L$18:$L$1017),0)","v":0},{"$f":"IFERROR($E123*SUMIF('Daily Log'!$N$18:$N$1017,$B123,'Daily Log'!$O$18:$O$1017),0)","v":0},{"$f":"IFERROR($E123*SUMIF('Daily Log'!$Q$18:$Q$1017,$B123,'Daily Log'!$R$18:$R$1017),0)","v":0},{"$f":"IFERROR($E123*SUMIF('Daily Log'!$T$18:$T$1017,$B123,'Daily Log'!$U$18:$U$1017),0)","v":0},{"$f":"IFERROR($E123*SUMIF('Daily Log'!$W$18:$W$1017,$B123,'Daily Log'!$X$18:$X$1017),0)","v":0},{"$f":"IFERROR($E123*SUMIF('Daily Log'!$Z$18:$Z$1017,$B123,'Daily Log'!$AA$18:$AA$1017),0)","v":0},{"$f":"IFERROR($E123*SUMIF('Daily Log'!$AC$18:$AC$1017,$B123,'Daily Log'!$AD$18:$AD$1017),0)","v":0},{"$f":"IFERROR($E123*SUMIF('Daily Log'!$AF$18:$AF$1017,$B123,'Daily Log'!$AG$18:$AG$1017),0)","v":0},{"$f":"IFERROR($E123*SUMIF('Daily Log'!$AI$18:$AI$1017,$B123,'Daily Log'!$AJ$18:$AJ$1017),0)","v":0},{"$f":"IFERROR($E123*SUMIF('Daily Log'!$AL$18:$AL$1017,$B123,'Daily Log'!$AM$18:$AM$1017),0)","v":0},{"$f":"IFERROR($E123*SUMIF('Daily Log'!$AO$18:$AO$1017,$B123,'Daily Log'!$AP$18:$AP$1017),0)","v":0},{"$f":"IFERROR($E123*SUMIF('Daily Log'!$AR$18:$AR$1017,$B123,'Daily Log'!$AS$18:$AS$1017),0)","v":0},{"$f":"IFERROR($E123*SUMIF('Daily Log'!$AU$18:$AU$1017,$B123,'Daily Log'!$AV$18:$AV$1017),0)","v":0},{"$f":"IFERROR($E123*SUMIF('Daily Log'!$AX$18:$AX$1017,$B123,'Daily Log'!$AY$18:$AY$1017),0)","v":0},{"$f":"IFERROR($E123*SUMIF('Daily Log'!$BA$18:$BA$1017,$B123,'Daily Log'!$BB$18:$BB$1017),0)","v":0},{"$f":"IFERROR($E123*SUMIF('Daily Log'!$BD$18:$BD$1017,$B123,'Daily Log'!$BE$18:$BE$1017),0)","v":0},{"$f":"IFERROR($E123*SUMIF('Daily Log'!$BG$18:$BG$1017,$B123,'Daily Log'!$BH$18:$BH$1017),0)","v":0},{"$f":"IFERROR($E123*SUMIF('Daily Log'!$BJ$18:$BJ$1017,$B123,'Daily Log'!$BK$18:$BK$1017),0)","v":0},{"$f":"IFERROR($E123*SUMIF('Daily Log'!$BM$18:$BM$1017,$B123,'Daily Log'!$BN$18:$BN$1017),0)","v":0},{"$f":"IFERROR($E123*SUMIF('Daily Log'!$BP$18:$BP$1017,$B123,'Daily Log'!$BQ$18:$BQ$1017),0)","v":0},{"$f":"IFERROR($E123*SUMIF('Daily Log'!$BS$18:$BS$1017,$B123,'Daily Log'!$BT$18:$BT$1017),0)","v":0},{"$f":"IFERROR($E123*SUMIF('Daily Log'!$BV$18:$BV$1017,$B123,'Daily Log'!$BW$18:$BW$1017),0)","v":0},{"$f":"IFERROR($E123*SUMIF('Daily Log'!$BY$18:$BY$1017,$B123,'Daily Log'!$BZ$18:$BZ$1017),0)","v":0},{"$f":"IFERROR($E123*SUMIF('Daily Log'!$CB$18:$CB$1017,$B123,'Daily Log'!$CC$18:$CC$1017),0)","v":0},{"$f":"IFERROR($E123*SUMIF('Daily Log'!$CE$18:$CE$1017,$B123,'Daily Log'!$CF$18:$CF$1017),0)","v":0},{"$f":"IFERROR($E123*SUMIF('Daily Log'!$CH$18:$CH$1017,$B123,'Daily Log'!$CI$18:$CI$1017),0)","v":0},{"$f":"IFERROR($E123*SUMIF('Daily Log'!$CK$18:$CK$1017,$B123,'Daily Log'!$CL$18:$CL$1017),0)","v":0},{"$f":"IFERROR($E123*SUMIF('Daily Log'!$CN$18:$CN$1017,$B123,'Daily Log'!$CO$18:$CO$1017),0)","v":113}]
[null,"LC05 1105:BUTTER CHK",null,"SIDE ORDER",1,182,{"$f":"IFERROR($E124*SUMIF('Daily Log'!$B$18:$B$1017,$B124,'Daily Log'!$C$18:$C$1017),0)","v":0},{"$f":"IFERROR($E124*SUMIF('Daily Log'!$E$18:$E$1017,$B124,'Daily Log'!$F$18:$F$1017),0)","v":0},{"$f":"IFERROR($E124*SUMIF('Daily Log'!$H$18:$H$1017,$B124,'Daily Log'!$I$18:$I$1017),0)","v":0},{"$f":"IFERROR($E124*SUMIF('Daily Log'!$K$18:$K$1017,$B124,'Daily Log'!$L$18:$L$1017),0)","v":0},{"$f":"IFERROR($E124*SUMIF('Daily Log'!$N$18:$N$1017,$B124,'Daily Log'!$O$18:$O$1017),0)","v":0},{"$f":"IFERROR($E124*SUMIF('Daily Log'!$Q$18:$Q$1017,$B124,'Daily Log'!$R$18:$R$1017),0)","v":0},{"$f":"IFERROR($E124*SUMIF('Daily Log'!$T$18:$T$1017,$B124,'Daily Log'!$U$18:$U$1017),0)","v":0},{"$f":"IFERROR($E124*SUMIF('Daily Log'!$W$18:$W$1017,$B124,'Daily Log'!$X$18:$X$1017),0)","v":0},{"$f":"IFERROR($E124*SUMIF('Daily Log'!$Z$18:$Z$1017,$B124,'Daily Log'!$AA$18:$AA$1017),0)","v":0},{"$f":"IFERROR($E124*SUMIF('Daily Log'!$AC$18:$AC$1017,$B124,'Daily Log'!$AD$18:$AD$1017),0)","v":0},{"$f":"IFERROR($E124*SUMIF('Daily Log'!$AF$18:$AF$1017,$B124,'Daily Log'!$AG$18:$AG$1017),0)","v":0},{"$f":"IFERROR($E124*SUMIF('Daily Log'!$AI$18:$AI$1017,$B124,'Daily Log'!$AJ$18:$AJ$1017),0)","v":0},{"$f":"IFERROR($E124*SUMIF('Daily Log'!$AL$18:$AL$1017,$B124,'Daily Log'!$AM$18:$AM$1017),0)","v":0},{"$f":"IFERROR($E124*SUMIF('Daily Log'!$AO$18:$AO$1017,$B124,'Daily Log'!$AP$18:$AP$1017),0)","v":0},{"$f":"IFERROR($E124*SUMIF('Daily Log'!$AR$18:$AR$1017,$B124,'Daily Log'!$AS$18:$AS$1017),0)","v":0},{"$f":"IFERROR($E124*SUMIF('Daily Log'!$AU$18:$AU$1017,$B124,'Daily Log'!$AV$18:$AV$1017),0)","v":0},{"$f":"IFERROR($E124*SUMIF('Daily Log'!$AX$18:$AX$1017,$B124,'Daily Log'!$AY$18:$AY$1017),0)","v":0},{"$f":"IFERROR($E124*SUMIF('Daily Log'!$BA$18:$BA$1017,$B124,'Daily Log'!$BB$18:$BB$1017),0)","v":0},{"$f":"IFERROR($E124*SUMIF('Daily Log'!$BD$18:$BD$1017,$B124,'Daily Log'!$BE$18:$BE$1017),0)","v":0},{"$f":"IFERROR($E124*SUMIF('Daily Log'!$BG$18:$BG$1017,$B124,'Daily Log'!$BH$18:$BH$1017),0)","v":0},{"$f":"IFERROR($E124*SUMIF('Daily Log'!$BJ$18:$BJ$1017,$B124,'Daily Log'!$BK$18:$BK$1017),0)","v":0},{"$f":"IFERROR($E124*SUMIF('Daily Log'!$BM$18:$BM$1017,$B124,'Daily Log'!$BN$18:$BN$1017),0)","v":0},{"$f":"IFERROR($E124*SUMIF('Daily Log'!$BP$18:$BP$1017,$B124,'Daily Log'!$BQ$18:$BQ$1017),0)","v":0},{"$f":"IFERROR($E124*SUMIF('Daily Log'!$BS$18:$BS$1017,$B124,'Daily Log'!$BT$18:$BT$1017),0)","v":0},{"$f":"IFERROR($E124*SUMIF('Daily Log'!$BV$18:$BV$1017,$B124,'Daily Log'!$BW$18:$BW$1017),0)","v":0},{"$f":"IFERROR($E124*SUMIF('Daily Log'!$BY$18:$BY$1017,$B124,'Daily Log'!$BZ$18:$BZ$1017),0)","v":0},{"$f":"IFERROR($E124*SUMIF('Daily Log'!$CB$18:$CB$1017,$B124,'Daily Log'!$CC$18:$CC$1017),0)","v":0},{"$f":"IFERROR($E124*SUMIF('Daily Log'!$CE$18:$CE$1017,$B124,'Daily Log'!$CF$18:$CF$1017),0)","v":0},{"$f":"IFERROR($E124*SUMIF('Daily Log'!$CH$18:$CH$1017,$B124,'Daily Log'!$CI$18:$CI$1017),0)","v":0},{"$f":"IFERROR($E124*SUMIF('Daily Log'!$CK$18:$CK$1017,$B124,'Daily Log'!$CL$18:$CL$1017),0)","v":0},{"$f":"IFERROR($E124*SUMIF('Daily Log'!$CN$18:$CN$1017,$B124,'Daily Log'!$CO$18:$CO$1017),0)","v":182}]
[null,"LC17 1117:THAI FSH",null,"SIDE ORDER",1,0,{"$f":"IFERROR($E125*SUMIF('Daily Log'!$B$18:$B$1017,$B125,'Daily Log'!$C$18:$C$1017),0)","v":0},{"$f":"IFERROR($E125*SUMIF('Daily Log'!$E$18:$E$1017,$B125,'Daily Log'!$F$18:$F$1017),0)","v":0},{"$f":"IFERROR($E125*SUMIF('Daily Log'!$H$18:$H$1017,$B125,'Daily Log'!$I$18:$I$1017),0)","v":0},{"$f":"IFERROR($E125*SUMIF('Daily Log'!$K$18:$K$1017,$B125,'Daily Log'!$L$18:$L$1017),0)","v":0},{"$f":"IFERROR($E125*SUMIF('Daily Log'!$N$18:$N$1017,$B125,'Daily Log'!$O$18:$O$1017),0)","v":0},{"$f":"IFERROR($E125*SUMIF('Daily Log'!$Q$18:$Q$1017,$B125,'Daily Log'!$R$18:$R$1017),0)","v":0},{"$f":"IFERROR($E125*SUMIF('Daily Log'!$T$18:$T$1017,$B125,'Daily Log'!$U$18:$U$1017),0)","v":0},{"$f":"IFERROR($E125*SUMIF('Daily Log'!$W$18:$W$1017,$B125,'Daily Log'!$X$18:$X$1017),0)","v":0},{"$f":"IFERROR($E125*SUMIF('Daily Log'!$Z$18:$Z$1017,$B125,'Daily Log'!$AA$18:$AA$1017),0)","v":0},{"$f":"IFERROR($E125*SUMIF('Daily Log'!$AC$18:$AC$1017,$B125,'Daily Log'!$AD$18:$AD$1017),0)","v":0},{"$f":"IFERROR($E125*SUMIF('Daily Log'!$AF$18:$AF$1017,$B125,'Daily Log'!$AG$18:$AG$1017),0)","v":0},{"$f":"IFERROR($E125*SUMIF('Daily Log'!$AI$18:$AI$1017,$B125,'Daily Log'!$AJ$18:$AJ$1017),0)","v":0},{"$f":"IFERROR($E125*SUMIF('Daily Log'!$AL$18:$AL$1017,$B125,'Daily Log'!$AM$18:$AM$1017),0)","v":0},{"$f":"IFERROR($E125*SUMIF('Daily Log'!$AO$18:$AO$1017,$B125,'Daily Log'!$AP$18:$AP$1017),0)","v":0},{"$f":"IFERROR($E125*SUMIF('Daily Log'!$AR$18:$AR$1017,$B125,'Daily Log'!$AS$18:$AS$1017),0)","v":0},{"$f":"IFERROR($E125*SUMIF('Daily Log'!$AU$18:$AU$1017,$B125,'Daily Log'!$AV$18:$AV$1017),0)","v":0},{"$f":"IFERROR($E125*SUMIF('Daily Log'!$AX$18:$AX$1017,$B125,'Daily Log'!$AY$18:$AY$1017),0)","v":0},{"$f":"IFERROR($E125*SUMIF('Daily Log'!$BA$18:$BA$1017,$B125,'Daily Log'!$BB$18:$BB$1017),0)","v":0},{"$f":"IFERROR($E125*SUMIF('Daily Log'!$BD$18:$BD$1017,$B125,'Daily Log'!$BE$18:$BE$1017),0)","v":0},{"$f":"IFERROR($E125*SUMIF('Daily Log'!$BG$18:$BG$1017,$B125,'Daily Log'!$BH$18:$BH$1017),0)","v":0},{"$f":"IFERROR($E125*SUMIF('Daily Log'!$BJ$18:$BJ$1017,$B125,'Daily Log'!$BK$18:$BK$1017),0)","v":0},{"$f":"IFERROR($E125*SUMIF('Daily Log'!$BM$18:$BM$1017,$B125,'Daily Log'!$BN$18:$BN$1017),0)","v":0},{"$f":"IFERROR($E125*SUMIF('Daily Log'!$BP$18:$BP$1017,$B125,'Daily Log'!$BQ$18:$BQ$1017),0)","v":0},{"$f":"IFERROR($E125*SUMIF('Daily Log'!$BS$18:$BS$1017,$B125,'Daily Log'!$BT$18:$BT$1017),0)","v":0},{"$f":"IFERROR($E125*SUMIF('Daily Log'!$BV$18:$BV$1017,$B125,'Daily Log'!$BW$18:$BW$1017),0)","v":0},{"$f":"IFERROR($E125*SUMIF('Daily Log'!$BY$18:$BY$1017,$B125,'Daily Log'!$BZ$18:$BZ$1017),0)","v":0},{"$f":"IFERROR($E125*SUMIF('Daily Log'!$CB$18:$CB$1017,$B125,'Daily Log'!$CC$18:$CC$1017),0)","v":0},{"$f":"IFERROR($E125*SUMIF('Daily Log'!$CE$18:$CE$1017,$B125,'Daily Log'!$CF$18:$CF$1017),0)","v":0},{"$f":"IFERROR($E125*SUMIF('Daily Log'!$CH$18:$CH$1017,$B125,'Daily Log'!$CI$18:$CI$1017),0)","v":0},{"$f":"IFERROR($E125*SUMIF('Daily Log'!$CK$18:$CK$1017,$B125,'Daily Log'!$CL$18:$CL$1017),0)","v":0},{"$f":"IFERROR($E125*SUMIF('Daily Log'!$CN$18:$CN$1017,$B125,'Daily Log'!$CO$18:$CO$1017),0)","v":0}]
[null,"LC18 1118:MAMITE FSH",null,"SIDE ORDER",1,0,{"$f":"IFERROR($E126*SUMIF('Daily Log'!$B$18:$B$1017,$B126,'Daily Log'!$C$18:$C$1017),0)","v":0},{"$f":"IFERROR($E126*SUMIF('Daily Log'!$E$18:$E$1017,$B126,'Daily Log'!$F$18:$F$1017),0)","v":0},{"$f":"IFERROR($E126*SUMIF('Daily Log'!$H$18:$H$1017,$B126,'Daily Log'!$I$18:$I$1017),0)","v":0},{"$f":"IFERROR($E126*SUMIF('Daily Log'!$K$18:$K$1017,$B126,'Daily Log'!$L$18:$L$1017),0)","v":0},{"$f":"IFERROR($E126*SUMIF('Daily Log'!$N$18:$N$1017,$B126,'Daily Log'!$O$18:$O$1017),0)","v":0},{"$f":"IFERROR($E126*SUMIF('Daily Log'!$Q$18:$Q$1017,$B126,'Daily Log'!$R$18:$R$1017),0)","v":0},{"$f":"IFERROR($E126*SUMIF('Daily Log'!$T$18:$T$1017,$B126,'Daily Log'!$U$18:$U$1017),0)","v":0},{"$f":"IFERROR($E126*SUMIF('Daily Log'!$W$18:$W$1017,$B126,'Daily Log'!$X$18:$X$1017),0)","v":0},{"$f":"IFERROR($E126*SUMIF('Daily Log'!$Z$18:$Z$1017,$B126,'Daily Log'!$AA$18:$AA$1017),0)","v":0},{"$f":"IFERROR($E126*SUMIF('Daily Log'!$AC$18:$AC$1017,$B126,'Daily Log'!$AD$18:$AD$1017),0)","v":0},{"$f":"IFERROR($E126*SUMIF('Daily Log'!$AF$18:$AF$1017,$B126,'Daily Log'!$AG$18:$AG$1017),0)","v":0},{"$f":"IFERROR($E126*SUMIF('Daily Log'!$AI$18:$AI$1017,$B126,'Daily Log'!$AJ$18:$AJ$1017),0)","v":0},{"$f":"IFERROR($E126*SUMIF('Daily Log'!$AL$18:$AL$1017,$B126,'Daily Log'!$AM$18:$AM$1017),0)","v":0},{"$f":"IFERROR($E126*SUMIF('Daily Log'!$AO$18:$AO$1017,$B126,'Daily Log'!$AP$18:$AP$1017),0)","v":0},{"$f":"IFERROR($E126*SUMIF('Daily Log'!$AR$18:$AR$1017,$B126,'Daily Log'!$AS$18:$AS$1017),0)","v":0},{"$f":"IFERROR($E126*SUMIF('Daily Log'!$AU$18:$AU$1017,$B126,'Daily Log'!$AV$18:$AV$1017),0)","v":0},{"$f":"IFERROR($E126*SUMIF('Daily Log'!$AX$18:$AX$1017,$B126,'Daily Log'!$AY$18:$AY$1017),0)","v":0},{"$f":"IFERROR($E126*SUMIF('Daily Log'!$BA$18:$BA$1017,$B126,'Daily Log'!$BB$18:$BB$1017),0)","v":0},{"$f":"IFERROR($E126*SUMIF('Daily Log'!$BD$18:$BD$1017,$B126,'Daily Log'!$BE$18:$BE$1017),0)","v":0},{"$f":"IFERROR($E126*SUMIF('Daily Log'!$BG$18:$BG$1017,$B126,'Daily Log'!$BH$18:$BH$1017),0)","v":0},{"$f":"IFERROR($E126*SUMIF('Daily Log'!$BJ$18:$BJ$1017,$B126,'Daily Log'!$BK$18:$BK$1017),0)","v":0},{"$f":"IFERROR($E126*SUMIF('Daily Log'!$BM$18:$BM$1017,$B126,'Daily Log'!$BN$18:$BN$1017),0)","v":0},{"$f":"IFERROR($E126*SUMIF('Daily Log'!$BP$18:$BP$1017,$B126,'Daily Log'!$BQ$18:$BQ$1017),0)","v":0},{"$f":"IFERROR($E126*SUMIF('Daily Log'!$BS$18:$BS$1017,$B126,'Daily Log'!$BT$18:$BT$1017),0)","v":0},{"$f":"IFERROR($E126*SUMIF('Daily Log'!$BV$18:$BV$1017,$B126,'Daily Log'!$BW$18:$BW$1017),0)","v":0},{"$f":"IFERROR($E126*SUMIF('Daily Log'!$BY$18:$BY$1017,$B126,'Daily Log'!$BZ$18:$BZ$1017),0)","v":0},{"$f":"IFERROR($E126*SUMIF('Daily Log'!$CB$18:$CB$1017,$B126,'Daily Log'!$CC$18:$CC$1017),0)","v":0},{"$f":"IFERROR($E126*SUMIF('Daily Log'!$CE$18:$CE$1017,$B126,'Daily Log'!$CF$18:$CF$1017),0)","v":0},{"$f":"IFERROR($E126*SUMIF('Daily Log'!$CH$18:$CH$1017,$B126,'Daily Log'!$CI$18:$CI$1017),0)","v":0},{"$f":"IFERROR($E126*SUMIF('Daily Log'!$CK$18:$CK$1017,$B126,'Daily Log'!$CL$18:$CL$1017),0)","v":0},{"$f":"IFERROR($E126*SUMIF('Daily Log'!$CN$18:$CN$1017,$B126,'Daily Log'!$CO$18:$CO$1017),0)","v":0}]
[null,"LC19 1119:BUTTER FSH",null,"SIDE ORDER",1,0,{"$f":"IFERROR($E127*SUMIF('Daily Log'!$B$18:$B$1017,$B127,'Daily Log'!$C$18:$C$1017),0)","v":0},{"$f":"IFERROR($E127*SUMIF('Daily Log'!$E$18:$E$1017,$B127,'Daily Log'!$F$18:$F$1017),0)","v":0},{"$f":"IFERROR($E127*SUMIF('Daily Log'!$H$18:$H$1017,$B127,'Daily Log'!$I$18:$I$1017),0)","v":0},{"$f":"IFERROR($E127*SUMIF('Daily Log'!$K$18:$K$1017,$B127,'Daily Log'!$L$18:$L$1017),0)","v":0},{"$f":"IFERROR($E127*SUMIF('Daily Log'!$N$18:$N$1017,$B127,'Daily Log'!$O$18:$O$1017),0)","v":0},{"$f":"IFERROR($E127*SUMIF('Daily Log'!$Q$18:$Q$1017,$B127,'Daily Log'!$R$18:$R$1017),0)","v":0},{"$f":"IFERROR($E127*SUMIF('Daily Log'!$T$18:$T$1017,$B127,'Daily Log'!$U$18:$U$1017),0)","v":0},{"$f":"IFERROR($E127*SUMIF('Daily Log'!$W$18:$W$1017,$B127,'Daily Log'!$X$18:$X$1017),0)","v":0},{"$f":"IFERROR($E127*SUMIF('Daily Log'!$Z$18:$Z$1017,$B127,'Daily Log'!$AA$18:$AA$1017),0)","v":0},{"$f":"IFERROR($E127*SUMIF('Daily Log'!$AC$18:$AC$1017,$B127,'Daily Log'!$AD$18:$AD$1017),0)","v":0},{"$f":"IFERROR($E127*SUMIF('Daily Log'!$AF$18:$AF$1017,$B127,'Daily Log'!$AG$18:$AG$1017),0)","v":0},{"$f":"IFERROR($E127*SUMIF('Daily Log'!$AI$18:$AI$1017,$B127,'Daily Log'!$AJ$18:$AJ$1017),0)","v":0},{"$f":"IFERROR($E127*SUMIF('Daily Log'!$AL$18:$AL$1017,$B127,'Daily Log'!$AM$18:$AM$1017),0)","v":0},{"$f":"IFERROR($E127*SUMIF('Daily Log'!$AO$18:$AO$1017,$B127,'Daily Log'!$AP$18:$AP$1017),0)","v":0},{"$f":"IFERROR($E127*SUMIF('Daily Log'!$AR$18:$AR$1017,$B127,'Daily Log'!$AS$18:$AS$1017),0)","v":0},{"$f":"IFERROR($E127*SUMIF('Daily Log'!$AU$18:$AU$1017,$B127,'Daily Log'!$AV$18:$AV$1017),0)","v":0},{"$f":"IFERROR($E127*SUMIF('Daily Log'!$AX$18:$AX$1017,$B127,'Daily Log'!$AY$18:$AY$1017),0)","v":0},{"$f":"IFERROR($E127*SUMIF('Daily Log'!$BA$18:$BA$1017,$B127,'Daily Log'!$BB$18:$BB$1017),0)","v":0},{"$f":"IFERROR($E127*SUMIF('Daily Log'!$BD$18:$BD$1017,$B127,'Daily Log'!$BE$18:$BE$1017),0)","v":0},{"$f":"IFERROR($E127*SUMIF('Daily Log'!$BG$18:$BG$1017,$B127,'Daily Log'!$BH$18:$BH$1017),0)","v":0},{"$f":"IFERROR($E127*SUMIF('Daily Log'!$BJ$18:$BJ$1017,$B127,'Daily Log'!$BK$18:$BK$1017),0)","v":0},{"$f":"IFERROR($E127*SUMIF('Daily Log'!$BM$18:$BM$1017,$B127,'Daily Log'!$BN$18:$BN$1017),0)","v":0},{"$f":"IFERROR($E127*SUMIF('Daily Log'!$BP$18:$BP$1017,$B127,'Daily Log'!$BQ$18:$BQ$1017),0)","v":0},{"$f":"IFERROR($E127*SUMIF('Daily Log'!$BS$18:$BS$1017,$B127,'Daily Log'!$BT$18:$BT$1017),0)","v":0},{"$f":"IFERROR($E127*SUMIF('Daily Log'!$BV$18:$BV$1017,$B127,'Daily Log'!$BW$18:$BW$1017),0)","v":0},{"$f":"IFERROR($E127*SUMIF('Daily Log'!$BY$18:$BY$1017,$B127,'Daily Log'!$BZ$18:$BZ$1017),0)","v":0},{"$f":"IFERROR($E127*SUMIF('Daily Log'!$CB$18:$CB$1017,$B127,'Daily Log'!$CC$18:$CC$1017),0)","v":0},{"$f":"IFERROR($E127*SUMIF('Daily Log'!$CE$18:$CE$1017,$B127,'Daily Log'!$CF$18:$CF$1017),0)","v":0},{"$f":"IFERROR($E127*SUMIF('Daily Log'!$CH$18:$CH$1017,$B127,'Daily Log'!$CI$18:$CI$1017),0)","v":0},{"$f":"IFERROR($E127*SUMIF('Daily Log'!$CK$18:$CK$1017,$B127,'Daily Log'!$CL$18:$CL$1017),0)","v":0},{"$f":"IFERROR($E127*SUMIF('Daily Log'!$CN$18:$CN$1017,$B127,'Daily Log'!$CO$18:$CO$1017),0)","v":0}]
[null,"LC15 1112:CHK NOODLE",null,"SIDE ORDER",1,62,{"$f":"IFERROR($E128*SUMIF('Daily Log'!$B$18:$B$1017,$B128,'Daily Log'!$C$18:$C$1017),0)","v":0},{"$f":"IFERROR($E128*SUMIF('Daily Log'!$E$18:$E$1017,$B128,'Daily Log'!$F$18:$F$1017),0)","v":0},{"$f":"IFERROR($E128*SUMIF('Daily Log'!$H$18:$H$1017,$B128,'Daily Log'!$I$18:$I$1017),0)","v":0},{"$f":"IFERROR($E128*SUMIF('Daily Log'!$K$18:$K$1017,$B128,'Daily Log'!$L$18:$L$1017),0)","v":0},{"$f":"IFERROR($E128*SUMIF('Daily Log'!$N$18:$N$1017,$B128,'Daily Log'!$O$18:$O$1017),0)","v":0},{"$f":"IFERROR($E128*SUMIF('Daily Log'!$Q$18:$Q$1017,$B128,'Daily Log'!$R$18:$R$1017),0)","v":0},{"$f":"IFERROR($E128*SUMIF('Daily Log'!$T$18:$T$1017,$B128,'Daily Log'!$U$18:$U$1017),0)","v":0},{"$f":"IFERROR($E128*SUMIF('Daily Log'!$W$18:$W$1017,$B128,'Daily Log'!$X$18:$X$1017),0)","v":0},{"$f":"IFERROR($E128*SUMIF('Daily Log'!$Z$18:$Z$1017,$B128,'Daily Log'!$AA$18:$AA$1017),0)","v":0},{"$f":"IFERROR($E128*SUMIF('Daily Log'!$AC$18:$AC$1017,$B128,'Daily Log'!$AD$18:$AD$1017),0)","v":0},{"$f":"IFERROR($E128*SUMIF('Daily Log'!$AF$18:$AF$1017,$B128,'Daily Log'!$AG$18:$AG$1017),0)","v":0},{"$f":"IFERROR($E128*SUMIF('Daily Log'!$AI$18:$AI$1017,$B128,'Daily Log'!$AJ$18:$AJ$1017),0)","v":0},{"$f":"IFERROR($E128*SUMIF('Daily Log'!$AL$18:$AL$1017,$B128,'Daily Log'!$AM$18:$AM$1017),0)","v":0},{"$f":"IFERROR($E128*SUMIF('Daily Log'!$AO$18:$AO$1017,$B128,'Daily Log'!$AP$18:$AP$1017),0)","v":0},{"$f":"IFERROR($E128*SUMIF('Daily Log'!$AR$18:$AR$1017,$B128,'Daily Log'!$AS$18:$AS$1017),0)","v":0},{"$f":"IFERROR($E128*SUMIF('Daily Log'!$AU$18:$AU$1017,$B128,'Daily Log'!$AV$18:$AV$1017),0)","v":0},{"$f":"IFERROR($E128*SUMIF('Daily Log'!$AX$18:$AX$1017,$B128,'Daily Log'!$AY$18:$AY$1017),0)","v":0},{"$f":"IFERROR($E128*SUMIF('Daily Log'!$BA$18:$BA$1017,$B128,'Daily Log'!$BB$18:$BB$1017),0)","v":0},{"$f":"IFERROR($E128*SUMIF('Daily Log'!$BD$18:$BD$1017,$B128,'Daily Log'!$BE$18:$BE$1017),0)","v":0},{"$f":"IFERROR($E128*SUMIF('Daily Log'!$BG$18:$BG$1017,$B128,'Daily Log'!$BH$18:$BH$1017),0)","v":0},{"$f":"IFERROR($E128*SUMIF('Daily Log'!$BJ$18:$BJ$1017,$B128,'Daily Log'!$BK$18:$BK$1017),0)","v":0},{"$f":"IFERROR($E128*SUMIF('Daily Log'!$BM$18:$BM$1017,$B128,'Daily Log'!$BN$18:$BN$1017),0)","v":0},{"$f":"IFERROR($E128*SUMIF('Daily Log'!$BP$18:$BP$1017,$B128,'Daily Log'!$BQ$18:$BQ$1017),0)","v":0},{"$f":"IFERROR($E128*SUMIF('Daily Log'!$BS$18:$BS$1017,$B128,'Daily Log'!$BT$18:$BT$1017),0)","v":0},{"$f":"IFERROR($E128*SUMIF('Daily Log'!$BV$18:$BV$1017,$B128,'Daily Log'!$BW$18:$BW$1017),0)","v":0},{"$f":"IFERROR($E128*SUMIF('Daily Log'!$BY$18:$BY$1017,$B128,'Daily Log'!$BZ$18:$BZ$1017),0)","v":0},{"$f":"IFERROR($E128*SUMIF('Daily Log'!$CB$18:$CB$1017,$B128,'Daily Log'!$CC$18:$CC$1017),0)","v":0},{"$f":"IFERROR($E128*SUMIF('Daily Log'!$CE$18:$CE$1017,$B128,'Daily Log'!$CF$18:$CF$1017),0)","v":0},{"$f":"IFERROR($E128*SUMIF('Daily Log'!$CH$18:$CH$1017,$B128,'Daily Log'!$CI$18:$CI$1017),0)","v":0},{"$f":"IFERROR($E128*SUMIF('Daily Log'!$CK$18:$CK$1017,$B128,'Daily Log'!$CL$18:$CL$1017),0)","v":0},{"$f":"IFERROR($E128*SUMIF('Daily Log'!$CN$18:$CN$1017,$B128,'Daily Log'!$CO$18:$CO$1017),0)","v":62}]
[null,"LC16 1103:MGL CHK",null,"SIDE ORDER",1,80,{"$f":"IFERROR($E129*SUMIF('Daily Log'!$B$18:$B$1017,$B129,'Daily Log'!$C$18:$C$1017),0)","v":0},{"$f":"IFERROR($E129*SUMIF('Daily Log'!$E$18:$E$1017,$B129,'Daily Log'!$F$18:$F$1017),0)","v":0},{"$f":"IFERROR($E129*SUMIF('Daily Log'!$H$18:$H$1017,$B129,'Daily Log'!$I$18:$I$1017),0)","v":0},{"$f":"IFERROR($E129*SUMIF('Daily Log'!$K$18:$K$1017,$B129,'Daily Log'!$L$18:$L$1017),0)","v":0},{"$f":"IFERROR($E129*SUMIF('Daily Log'!$N$18:$N$1017,$B129,'Daily Log'!$O$18:$O$1017),0)","v":0},{"$f":"IFERROR($E129*SUMIF('Daily Log'!$Q$18:$Q$1017,$B129,'Daily Log'!$R$18:$R$1017),0)","v":0},{"$f":"IFERROR($E129*SUMIF('Daily Log'!$T$18:$T$1017,$B129,'Daily Log'!$U$18:$U$1017),0)","v":0},{"$f":"IFERROR($E129*SUMIF('Daily Log'!$W$18:$W$1017,$B129,'Daily Log'!$X$18:$X$1017),0)","v":0},{"$f":"IFERROR($E129*SUMIF('Daily Log'!$Z$18:$Z$1017,$B129,'Daily Log'!$AA$18:$AA$1017),0)","v":0},{"$f":"IFERROR($E129*SUMIF('Daily Log'!$AC$18:$AC$1017,$B129,'Daily Log'!$AD$18:$AD$1017),0)","v":0},{"$f":"IFERROR($E129*SUMIF('Daily Log'!$AF$18:$AF$1017,$B129,'Daily Log'!$AG$18:$AG$1017),0)","v":0},{"$f":"IFERROR($E129*SUMIF('Daily Log'!$AI$18:$AI$1017,$B129,'Daily Log'!$AJ$18:$AJ$1017),0)","v":0},{"$f":"IFERROR($E129*SUMIF('Daily Log'!$AL$18:$AL$1017,$B129,'Daily Log'!$AM$18:$AM$1017),0)","v":0},{"$f":"IFERROR($E129*SUMIF('Daily Log'!$AO$18:$AO$1017,$B129,'Daily Log'!$AP$18:$AP$1017),0)","v":0},{"$f":"IFERROR($E129*SUMIF('Daily Log'!$AR$18:$AR$1017,$B129,'Daily Log'!$AS$18:$AS$1017),0)","v":0},{"$f":"IFERROR($E129*SUMIF('Daily Log'!$AU$18:$AU$1017,$B129,'Daily Log'!$AV$18:$AV$1017),0)","v":0},{"$f":"IFERROR($E129*SUMIF('Daily Log'!$AX$18:$AX$1017,$B129,'Daily Log'!$AY$18:$AY$1017),0)","v":0},{"$f":"IFERROR($E129*SUMIF('Daily Log'!$BA$18:$BA$1017,$B129,'Daily Log'!$BB$18:$BB$1017),0)","v":0},{"$f":"IFERROR($E129*SUMIF('Daily Log'!$BD$18:$BD$1017,$B129,'Daily Log'!$BE$18:$BE$1017),0)","v":0},{"$f":"IFERROR($E129*SUMIF('Daily Log'!$BG$18:$BG$1017,$B129,'Daily Log'!$BH$18:$BH$1017),0)","v":0},{"$f":"IFERROR($E129*SUMIF('Daily Log'!$BJ$18:$BJ$1017,$B129,'Daily Log'!$BK$18:$BK$1017),0)","v":0},{"$f":"IFERROR($E129*SUMIF('Daily Log'!$BM$18:$BM$1017,$B129,'Daily Log'!$BN$18:$BN$1017),0)","v":0},{"$f":"IFERROR($E129*SUMIF('Daily Log'!$BP$18:$BP$1017,$B129,'Daily Log'!$BQ$18:$BQ$1017),0)","v":0},{"$f":"IFERROR($E129*SUMIF('Daily Log'!$BS$18:$BS$1017,$B129,'Daily Log'!$BT$18:$BT$1017),0)","v":0},{"$f":"IFERROR($E129*SUMIF('Daily Log'!$BV$18:$BV$1017,$B129,'Daily Log'!$BW$18:$BW$1017),0)","v":0},{"$f":"IFERROR($E129*SUMIF('Daily Log'!$BY$18:$BY$1017,$B129,'Daily Log'!$BZ$18:$BZ$1017),0)","v":0},{"$f":"IFERROR($E129*SUMIF('Daily Log'!$CB$18:$CB$1017,$B129,'Daily Log'!$CC$18:$CC$1017),0)","v":0},{"$f":"IFERROR($E129*SUMIF('Daily Log'!$CE$18:$CE$1017,$B129,'Daily Log'!$CF$18:$CF$1017),0)","v":0},{"$f":"IFERROR($E129*SUMIF('Daily Log'!$CH$18:$CH$1017,$B129,'Daily Log'!$CI$18:$CI$1017),0)","v":0},{"$f":"IFERROR($E129*SUMIF('Daily Log'!$CK$18:$CK$1017,$B129,'Daily Log'!$CL$18:$CL$1017),0)","v":0},{"$f":"IFERROR($E129*SUMIF('Daily Log'!$CN$18:$CN$1017,$B129,'Daily Log'!$CO$18:$CO$1017),0)","v":80}]
[null,"AA37 1307:CALAMARI",null,"SIDE ORDER",1,6,{"$f":"IFERROR($E130*SUMIF('Daily Log'!$B$18:$B$1017,$B130,'Daily Log'!$C$18:$C$1017),0)","v":0},{"$f":"IFERROR($E130*SUMIF('Daily Log'!$E$18:$E$1017,$B130,'Daily Log'!$F$18:$F$1017),0)","v":0},{"$f":"IFERROR($E130*SUMIF('Daily Log'!$H$18:$H$1017,$B130,'Daily Log'!$I$18:$I$1017),0)","v":0},{"$f":"IFERROR($E130*SUMIF('Daily Log'!$K$18:$K$1017,$B130,'Daily Log'!$L$18:$L$1017),0)","v":0},{"$f":"IFERROR($E130*SUMIF('Daily Log'!$N$18:$N$1017,$B130,'Daily Log'!$O$18:$O$1017),0)","v":0},{"$f":"IFERROR($E130*SUMIF('Daily Log'!$Q$18:$Q$1017,$B130,'Daily Log'!$R$18:$R$1017),0)","v":0},{"$f":"IFERROR($E130*SUMIF('Daily Log'!$T$18:$T$1017,$B130,'Daily Log'!$U$18:$U$1017),0)","v":0},{"$f":"IFERROR($E130*SUMIF('Daily Log'!$W$18:$W$1017,$B130,'Daily Log'!$X$18:$X$1017),0)","v":0},{"$f":"IFERROR($E130*SUMIF('Daily Log'!$Z$18:$Z$1017,$B130,'Daily Log'!$AA$18:$AA$1017),0)","v":0},{"$f":"IFERROR($E130*SUMIF('Daily Log'!$AC$18:$AC$1017,$B130,'Daily Log'!$AD$18:$AD$1017),0)","v":0},{"$f":"IFERROR($E130*SUMIF('Daily Log'!$AF$18:$AF$1017,$B130,'Daily Log'!$AG$18:$AG$1017),0)","v":0},{"$f":"IFERROR($E130*SUMIF('Daily Log'!$AI$18:$AI$1017,$B130,'Daily Log'!$AJ$18:$AJ$1017),0)","v":0},{"$f":"IFERROR($E130*SUMIF('Daily Log'!$AL$18:$AL$1017,$B130,'Daily Log'!$AM$18:$AM$1017),0)","v":0},{"$f":"IFERROR($E130*SUMIF('Daily Log'!$AO$18:$AO$1017,$B130,'Daily Log'!$AP$18:$AP$1017),0)","v":0},{"$f":"IFERROR($E130*SUMIF('Daily Log'!$AR$18:$AR$1017,$B130,'Daily Log'!$AS$18:$AS$1017),0)","v":0},{"$f":"IFERROR($E130*SUMIF('Daily Log'!$AU$18:$AU$1017,$B130,'Daily Log'!$AV$18:$AV$1017),0)","v":0},{"$f":"IFERROR($E130*SUMIF('Daily Log'!$AX$18:$AX$1017,$B130,'Daily Log'!$AY$18:$AY$1017),0)","v":0},{"$f":"IFERROR($E130*SUMIF('Daily Log'!$BA$18:$BA$1017,$B130,'Daily Log'!$BB$18:$BB$1017),0)","v":0},{"$f":"IFERROR($E130*SUMIF('Daily Log'!$BD$18:$BD$1017,$B130,'Daily Log'!$BE$18:$BE$1017),0)","v":0},{"$f":"IFERROR($E130*SUMIF('Daily Log'!$BG$18:$BG$1017,$B130,'Daily Log'!$BH$18:$BH$1017),0)","v":0},{"$f":"IFERROR($E130*SUMIF('Daily Log'!$BJ$18:$BJ$1017,$B130,'Daily Log'!$BK$18:$BK$1017),0)","v":0},{"$f":"IFERROR($E130*SUMIF('Daily Log'!$BM$18:$BM$1017,$B130,'Daily Log'!$BN$18:$BN$1017),0)","v":0},{"$f":"IFERROR($E130*SUMIF('Daily Log'!$BP$18:$BP$1017,$B130,'Daily Log'!$BQ$18:$BQ$1017),0)","v":0},{"$f":"IFERROR($E130*SUMIF('Daily Log'!$BS$18:$BS$1017,$B130,'Daily Log'!$BT$18:$BT$1017),0)","v":0},{"$f":"IFERROR($E130*SUMIF('Daily Log'!$BV$18:$BV$1017,$B130,'Daily Log'!$BW$18:$BW$1017),0)","v":0},{"$f":"IFERROR($E130*SUMIF('Daily Log'!$BY$18:$BY$1017,$B130,'Daily Log'!$BZ$18:$BZ$1017),0)","v":0},{"$f":"IFERROR($E130*SUMIF('Daily Log'!$CB$18:$CB$1017,$B130,'Daily Log'!$CC$18:$CC$1017),0)","v":0},{"$f":"IFERROR($E130*SUMIF('Daily Log'!$CE$18:$CE$1017,$B130,'Daily Log'!$CF$18:$CF$1017),0)","v":0},{"$f":"IFERROR($E130*SUMIF('Daily Log'!$CH$18:$CH$1017,$B130,'Daily Log'!$CI$18:$CI$1017),0)","v":0},{"$f":"IFERROR($E130*SUMIF('Daily Log'!$CK$18:$CK$1017,$B130,'Daily Log'!$CL$18:$CL$1017),0)","v":0},{"$f":"IFERROR($E130*SUMIF('Daily Log'!$CN$18:$CN$1017,$B130,'Daily Log'!$CO$18:$CO$1017),0)","v":6}]
[null,"AA38 1308:MC RING",null,"SIDE ORDER",1,4,{"$f":"IFERROR($E131*SUMIF('Daily Log'!$B$18:$B$1017,$B131,'Daily Log'!$C$18:$C$1017),0)","v":0},{"$f":"IFERROR($E131*SUMIF('Daily Log'!$E$18:$E$1017,$B131,'Daily Log'!$F$18:$F$1017),0)","v":0},{"$f":"IFERROR($E131*SUMIF('Daily Log'!$H$18:$H$1017,$B131,'Daily Log'!$I$18:$I$1017),0)","v":0},{"$f":"IFERROR($E131*SUMIF('Daily Log'!$K$18:$K$1017,$B131,'Daily Log'!$L$18:$L$1017),0)","v":0},{"$f":"IFERROR($E131*SUMIF('Daily Log'!$N$18:$N$1017,$B131,'Daily Log'!$O$18:$O$1017),0)","v":0},{"$f":"IFERROR($E131*SUMIF('Daily Log'!$Q$18:$Q$1017,$B131,'Daily Log'!$R$18:$R$1017),0)","v":0},{"$f":"IFERROR($E131*SUMIF('Daily Log'!$T$18:$T$1017,$B131,'Daily Log'!$U$18:$U$1017),0)","v":0},{"$f":"IFERROR($E131*SUMIF('Daily Log'!$W$18:$W$1017,$B131,'Daily Log'!$X$18:$X$1017),0)","v":0},{"$f":"IFERROR($E131*SUMIF('Daily Log'!$Z$18:$Z$1017,$B131,'Daily Log'!$AA$18:$AA$1017),0)","v":0},{"$f":"IFERROR($E131*SUMIF('Daily Log'!$AC$18:$AC$1017,$B131,'Daily Log'!$AD$18:$AD$1017),0)","v":0},{"$f":"IFERROR($E131*SUMIF('Daily Log'!$AF$18:$AF$1017,$B131,'Daily Log'!$AG$18:$AG$1017),0)","v":0},{"$f":"IFERROR($E131*SUMIF('Daily Log'!$AI$18:$AI$1017,$B131,'Daily Log'!$AJ$18:$AJ$1017),0)","v":0},{"$f":"IFERROR($E131*SUMIF('Daily Log'!$AL$18:$AL$1017,$B131,'Daily Log'!$AM$18:$AM$1017),0)","v":0},{"$f":"IFERROR($E131*SUMIF('Daily Log'!$AO$18:$AO$1017,$B131,'Daily Log'!$AP$18:$AP$1017),0)","v":0},{"$f":"IFERROR($E131*SUMIF('Daily Log'!$AR$18:$AR$1017,$B131,'Daily Log'!$AS$18:$AS$1017),0)","v":0},{"$f":"IFERROR($E131*SUMIF('Daily Log'!$AU$18:$AU$1017,$B131,'Daily Log'!$AV$18:$AV$1017),0)","v":0},{"$f":"IFERROR($E131*SUMIF('Daily Log'!$AX$18:$AX$1017,$B131,'Daily Log'!$AY$18:$AY$1017),0)","v":0},{"$f":"IFERROR($E131*SUMIF('Daily Log'!$BA$18:$BA$1017,$B131,'Daily Log'!$BB$18:$BB$1017),0)","v":0},{"$f":"IFERROR($E131*SUMIF('Daily Log'!$BD$18:$BD$1017,$B131,'Daily Log'!$BE$18:$BE$1017),0)","v":0},{"$f":"IFERROR($E131*SUMIF('Daily Log'!$BG$18:$BG$1017,$B131,'Daily Log'!$BH$18:$BH$1017),0)","v":0},{"$f":"IFERROR($E131*SUMIF('Daily Log'!$BJ$18:$BJ$1017,$B131,'Daily Log'!$BK$18:$BK$1017),0)","v":0},{"$f":"IFERROR($E131*SUMIF('Daily Log'!$BM$18:$BM$1017,$B131,'Daily Log'!$BN$18:$BN$1017),0)","v":0},{"$f":"IFERROR($E131*SUMIF('Daily Log'!$BP$18:$BP$1017,$B131,'Daily Log'!$BQ$18:$BQ$1017),0)","v":0},{"$f":"IFERROR($E131*SUMIF('Daily Log'!$BS$18:$BS$1017,$B131,'Daily Log'!$BT$18:$BT$1017),0)","v":0},{"$f":"IFERROR($E131*SUMIF('Daily Log'!$BV$18:$BV$1017,$B131,'Daily Log'!$BW$18:$BW$1017),0)","v":0},{"$f":"IFERROR($E131*SUMIF('Daily Log'!$BY$18:$BY$1017,$B131,'Daily Log'!$BZ$18:$BZ$1017),0)","v":0},{"$f":"IFERROR($E131*SUMIF('Daily Log'!$CB$18:$CB$1017,$B131,'Daily Log'!$CC$18:$CC$1017),0)","v":0},{"$f":"IFERROR($E131*SUMIF('Daily Log'!$CE$18:$CE$1017,$B131,'Daily Log'!$CF$18:$CF$1017),0)","v":0},{"$f":"IFERROR($E131*SUMIF('Daily Log'!$CH$18:$CH$1017,$B131,'Daily Log'!$CI$18:$CI$1017),0)","v":0},{"$f":"IFERROR($E131*SUMIF('Daily Log'!$CK$18:$CK$1017,$B131,'Daily Log'!$CL$18:$CL$1017),0)","v":0},{"$f":"IFERROR($E131*SUMIF('Daily Log'!$CN$18:$CN$1017,$B131,'Daily Log'!$CO$18:$CO$1017),0)","v":4}]
[null,"AA39 1309:MC S.FRIES",null,"SIDE ORDER",1,6,{"$f":"IFERROR($E132*SUMIF('Daily Log'!$B$18:$B$1017,$B132,'Daily Log'!$C$18:$C$1017),0)","v":0},{"$f":"IFERROR($E132*SUMIF('Daily Log'!$E$18:$E$1017,$B132,'Daily Log'!$F$18:$F$1017),0)","v":0},{"$f":"IFERROR($E132*SUMIF('Daily Log'!$H$18:$H$1017,$B132,'Daily Log'!$I$18:$I$1017),0)","v":0},{"$f":"IFERROR($E132*SUMIF('Daily Log'!$K$18:$K$1017,$B132,'Daily Log'!$L$18:$L$1017),0)","v":0},{"$f":"IFERROR($E132*SUMIF('Daily Log'!$N$18:$N$1017,$B132,'Daily Log'!$O$18:$O$1017),0)","v":0},{"$f":"IFERROR($E132*SUMIF('Daily Log'!$Q$18:$Q$1017,$B132,'Daily Log'!$R$18:$R$1017),0)","v":0},{"$f":"IFERROR($E132*SUMIF('Daily Log'!$T$18:$T$1017,$B132,'Daily Log'!$U$18:$U$1017),0)","v":0},{"$f":"IFERROR($E132*SUMIF('Daily Log'!$W$18:$W$1017,$B132,'Daily Log'!$X$18:$X$1017),0)","v":0},{"$f":"IFERROR($E132*SUMIF('Daily Log'!$Z$18:$Z$1017,$B132,'Daily Log'!$AA$18:$AA$1017),0)","v":0},{"$f":"IFERROR($E132*SUMIF('Daily Log'!$AC$18:$AC$1017,$B132,'Daily Log'!$AD$18:$AD$1017),0)","v":0},{"$f":"IFERROR($E132*SUMIF('Daily Log'!$AF$18:$AF$1017,$B132,'Daily Log'!$AG$18:$AG$1017),0)","v":0},{"$f":"IFERROR($E132*SUMIF('Daily Log'!$AI$18:$AI$1017,$B132,'Daily Log'!$AJ$18:$AJ$1017),0)","v":0},{"$f":"IFERROR($E132*SUMIF('Daily Log'!$AL$18:$AL$1017,$B132,'Daily Log'!$AM$18:$AM$1017),0)","v":0},{"$f":"IFERROR($E132*SUMIF('Daily Log'!$AO$18:$AO$1017,$B132,'Daily Log'!$AP$18:$AP$1017),0)","v":0},{"$f":"IFERROR($E132*SUMIF('Daily Log'!$AR$18:$AR$1017,$B132,'Daily Log'!$AS$18:$AS$1017),0)","v":0},{"$f":"IFERROR($E132*SUMIF('Daily Log'!$AU$18:$AU$1017,$B132,'Daily Log'!$AV$18:$AV$1017),0)","v":0},{"$f":"IFERROR($E132*SUMIF('Daily Log'!$AX$18:$AX$1017,$B132,'Daily Log'!$AY$18:$AY$1017),0)","v":0},{"$f":"IFERROR($E132*SUMIF('Daily Log'!$BA$18:$BA$1017,$B132,'Daily Log'!$BB$18:$BB$1017),0)","v":0},{"$f":"IFERROR($E132*SUMIF('Daily Log'!$BD$18:$BD$1017,$B132,'Daily Log'!$BE$18:$BE$1017),0)","v":0},{"$f":"IFERROR($E132*SUMIF('Daily Log'!$BG$18:$BG$1017,$B132,'Daily Log'!$BH$18:$BH$1017),0)","v":0},{"$f":"IFERROR($E132*SUMIF('Daily Log'!$BJ$18:$BJ$1017,$B132,'Daily Log'!$BK$18:$BK$1017),0)","v":0},{"$f":"IFERROR($E132*SUMIF('Daily Log'!$BM$18:$BM$1017,$B132,'Daily Log'!$BN$18:$BN$1017),0)","v":0},{"$f":"IFERROR($E132*SUMIF('Daily Log'!$BP$18:$BP$1017,$B132,'Daily Log'!$BQ$18:$BQ$1017),0)","v":0},{"$f":"IFERROR($E132*SUMIF('Daily Log'!$BS$18:$BS$1017,$B132,'Daily Log'!$BT$18:$BT$1017),0)","v":0},{"$f":"IFERROR($E132*SUMIF('Daily Log'!$BV$18:$BV$1017,$B132,'Daily Log'!$BW$18:$BW$1017),0)","v":0},{"$f":"IFERROR($E132*SUMIF('Daily Log'!$BY$18:$BY$1017,$B132,'Daily Log'!$BZ$18:$BZ$1017),0)","v":0},{"$f":"IFERROR($E132*SUMIF('Daily Log'!$CB$18:$CB$1017,$B132,'Daily Log'!$CC$18:$CC$1017),0)","v":0},{"$f":"IFERROR($E132*SUMIF('Daily Log'!$CE$18:$CE$1017,$B132,'Daily Log'!$CF$18:$CF$1017),0)","v":0},{"$f":"IFERROR($E132*SUMIF('Daily Log'!$CH$18:$CH$1017,$B132,'Daily Log'!$CI$18:$CI$1017),0)","v":0},{"$f":"IFERROR($E132*SUMIF('Daily Log'!$CK$18:$CK$1017,$B132,'Daily Log'!$CL$18:$CL$1017),0)","v":0},{"$f":"IFERROR($E132*SUMIF('Daily Log'!$CN$18:$CN$1017,$B132,'Daily Log'!$CO$18:$CO$1017),0)","v":6}]
[null,"AA40 1310:MC HP SMIL",null,"SIDE ORDER",1,0,{"$f":"IFERROR($E133*SUMIF('Daily Log'!$B$18:$B$1017,$B133,'Daily Log'!$C$18:$C$1017),0)","v":0},{"$f":"IFERROR($E133*SUMIF('Daily Log'!$E$18:$E$1017,$B133,'Daily Log'!$F$18:$F$1017),0)","v":0},{"$f":"IFERROR($E133*SUMIF('Daily Log'!$H$18:$H$1017,$B133,'Daily Log'!$I$18:$I$1017),0)","v":0},{"$f":"IFERROR($E133*SUMIF('Daily Log'!$K$18:$K$1017,$B133,'Daily Log'!$L$18:$L$1017),0)","v":0},{"$f":"IFERROR($E133*SUMIF('Daily Log'!$N$18:$N$1017,$B133,'Daily Log'!$O$18:$O$1017),0)","v":0},{"$f":"IFERROR($E133*SUMIF('Daily Log'!$Q$18:$Q$1017,$B133,'Daily Log'!$R$18:$R$1017),0)","v":0},{"$f":"IFERROR($E133*SUMIF('Daily Log'!$T$18:$T$1017,$B133,'Daily Log'!$U$18:$U$1017),0)","v":0},{"$f":"IFERROR($E133*SUMIF('Daily Log'!$W$18:$W$1017,$B133,'Daily Log'!$X$18:$X$1017),0)","v":0},{"$f":"IFERROR($E133*SUMIF('Daily Log'!$Z$18:$Z$1017,$B133,'Daily Log'!$AA$18:$AA$1017),0)","v":0},{"$f":"IFERROR($E133*SUMIF('Daily Log'!$AC$18:$AC$1017,$B133,'Daily Log'!$AD$18:$AD$1017),0)","v":0},{"$f":"IFERROR($E133*SUMIF('Daily Log'!$AF$18:$AF$1017,$B133,'Daily Log'!$AG$18:$AG$1017),0)","v":0},{"$f":"IFERROR($E133*SUMIF('Daily Log'!$AI$18:$AI$1017,$B133,'Daily Log'!$AJ$18:$AJ$1017),0)","v":0},{"$f":"IFERROR($E133*SUMIF('Daily Log'!$AL$18:$AL$1017,$B133,'Daily Log'!$AM$18:$AM$1017),0)","v":0},{"$f":"IFERROR($E133*SUMIF('Daily Log'!$AO$18:$AO$1017,$B133,'Daily Log'!$AP$18:$AP$1017),0)","v":0},{"$f":"IFERROR($E133*SUMIF('Daily Log'!$AR$18:$AR$1017,$B133,'Daily Log'!$AS$18:$AS$1017),0)","v":0},{"$f":"IFERROR($E133*SUMIF('Daily Log'!$AU$18:$AU$1017,$B133,'Daily Log'!$AV$18:$AV$1017),0)","v":0},{"$f":"IFERROR($E133*SUMIF('Daily Log'!$AX$18:$AX$1017,$B133,'Daily Log'!$AY$18:$AY$1017),0)","v":0},{"$f":"IFERROR($E133*SUMIF('Daily Log'!$BA$18:$BA$1017,$B133,'Daily Log'!$BB$18:$BB$1017),0)","v":0},{"$f":"IFERROR($E133*SUMIF('Daily Log'!$BD$18:$BD$1017,$B133,'Daily Log'!$BE$18:$BE$1017),0)","v":0},{"$f":"IFERROR($E133*SUMIF('Daily Log'!$BG$18:$BG$1017,$B133,'Daily Log'!$BH$18:$BH$1017),0)","v":0},{"$f":"IFERROR($E133*SUMIF('Daily Log'!$BJ$18:$BJ$1017,$B133,'Daily Log'!$BK$18:$BK$1017),0)","v":0},{"$f":"IFERROR($E133*SUMIF('Daily Log'!$BM$18:$BM$1017,$B133,'Daily Log'!$BN$18:$BN$1017),0)","v":0},{"$f":"IFERROR($E133*SUMIF('Daily Log'!$BP$18:$BP$1017,$B133,'Daily Log'!$BQ$18:$BQ$1017),0)","v":0},{"$f":"IFERROR($E133*SUMIF('Daily Log'!$BS$18:$BS$1017,$B133,'Daily Log'!$BT$18:$BT$1017),0)","v":0},{"$f":"IFERROR($E133*SUMIF('Daily Log'!$BV$18:$BV$1017,$B133,'Daily Log'!$BW$18:$BW$1017),0)","v":0},{"$f":"IFERROR($E133*SUMIF('Daily Log'!$BY$18:$BY$1017,$B133,'Daily Log'!$BZ$18:$BZ$1017),0)","v":0},{"$f":"IFERROR($E133*SUMIF('Daily Log'!$CB$18:$CB$1017,$B133,'Daily Log'!$CC$18:$CC$1017),0)","v":0},{"$f":"IFERROR($E133*SUMIF('Daily Log'!$CE$18:$CE$1017,$B133,'Daily Log'!$CF$18:$CF$1017),0)","v":0},{"$f":"IFERROR($E133*SUMIF('Daily Log'!$CH$18:$CH$1017,$B133,'Daily Log'!$CI$18:$CI$1017),0)","v":0},{"$f":"IFERROR($E133*SUMIF('Daily Log'!$CK$18:$CK$1017,$B133,'Daily Log'!$CL$18:$CL$1017),0)","v":0},{"$f":"IFERROR($E133*SUMIF('Daily Log'!$CN$18:$CN$1017,$B133,'Daily Log'!$CO$18:$CO$1017),0)","v":0}]
[null,"AA41 1311:MC HSH BRW",null,"SIDE ORDER",1,9,{"$f":"IFERROR($E134*SUMIF('Daily Log'!$B$18:$B$1017,$B134,'Daily Log'!$C$18:$C$1017),0)","v":0},{"$f":"IFERROR($E134*SUMIF('Daily Log'!$E$18:$E$1017,$B134,'Daily Log'!$F$18:$F$1017),0)","v":0},{"$f":"IFERROR($E134*SUMIF('Daily Log'!$H$18:$H$1017,$B134,'Daily Log'!$I$18:$I$1017),0)","v":0},{"$f":"IFERROR($E134*SUMIF('Daily Log'!$K$18:$K$1017,$B134,'Daily Log'!$L$18:$L$1017),0)","v":0},{"$f":"IFERROR($E134*SUMIF('Daily Log'!$N$18:$N$1017,$B134,'Daily Log'!$O$18:$O$1017),0)","v":0},{"$f":"IFERROR($E134*SUMIF('Daily Log'!$Q$18:$Q$1017,$B134,'Daily Log'!$R$18:$R$1017),0)","v":0},{"$f":"IFERROR($E134*SUMIF('Daily Log'!$T$18:$T$1017,$B134,'Daily Log'!$U$18:$U$1017),0)","v":0},{"$f":"IFERROR($E134*SUMIF('Daily Log'!$W$18:$W$1017,$B134,'Daily Log'!$X$18:$X$1017),0)","v":0},{"$f":"IFERROR($E134*SUMIF('Daily Log'!$Z$18:$Z$1017,$B134,'Daily Log'!$AA$18:$AA$1017),0)","v":0},{"$f":"IFERROR($E134*SUMIF('Daily Log'!$AC$18:$AC$1017,$B134,'Daily Log'!$AD$18:$AD$1017),0)","v":0},{"$f":"IFERROR($E134*SUMIF('Daily Log'!$AF$18:$AF$1017,$B134,'Daily Log'!$AG$18:$AG$1017),0)","v":0},{"$f":"IFERROR($E134*SUMIF('Daily Log'!$AI$18:$AI$1017,$B134,'Daily Log'!$AJ$18:$AJ$1017),0)","v":0},{"$f":"IFERROR($E134*SUMIF('Daily Log'!$AL$18:$AL$1017,$B134,'Daily Log'!$AM$18:$AM$1017),0)","v":0},{"$f":"IFERROR($E134*SUMIF('Daily Log'!$AO$18:$AO$1017,$B134,'Daily Log'!$AP$18:$AP$1017),0)","v":0},{"$f":"IFERROR($E134*SUMIF('Daily Log'!$AR$18:$AR$1017,$B134,'Daily Log'!$AS$18:$AS$1017),0)","v":0},{"$f":"IFERROR($E134*SUMIF('Daily Log'!$AU$18:$AU$1017,$B134,'Daily Log'!$AV$18:$AV$1017),0)","v":0},{"$f":"IFERROR($E134*SUMIF('Daily Log'!$AX$18:$AX$1017,$B134,'Daily Log'!$AY$18:$AY$1017),0)","v":0},{"$f":"IFERROR($E134*SUMIF('Daily Log'!$BA$18:$BA$1017,$B134,'Daily Log'!$BB$18:$BB$1017),0)","v":0},{"$f":"IFERROR($E134*SUMIF('Daily Log'!$BD$18:$BD$1017,$B134,'Daily Log'!$BE$18:$BE$1017),0)","v":0},{"$f":"IFERROR($E134*SUMIF('Daily Log'!$BG$18:$BG$1017,$B134,'Daily Log'!$BH$18:$BH$1017),0)","v":0},{"$f":"IFERROR($E134*SUMIF('Daily Log'!$BJ$18:$BJ$1017,$B134,'Daily Log'!$BK$18:$BK$1017),0)","v":0},{"$f":"IFERROR($E134*SUMIF('Daily Log'!$BM$18:$BM$1017,$B134,'Daily Log'!$BN$18:$BN$1017),0)","v":0},{"$f":"IFERROR($E134*SUMIF('Daily Log'!$BP$18:$BP$1017,$B134,'Daily Log'!$BQ$18:$BQ$1017),0)","v":0},{"$f":"IFERROR($E134*SUMIF('Daily Log'!$BS$18:$BS$1017,$B134,'Daily Log'!$BT$18:$BT$1017),0)","v":0},{"$f":"IFERROR($E134*SUMIF('Daily Log'!$BV$18:$BV$1017,$B134,'Daily Log'!$BW$18:$BW$1017),0)","v":0},{"$f":"IFERROR($E134*SUMIF('Daily Log'!$BY$18:$BY$1017,$B134,'Daily Log'!$BZ$18:$BZ$1017),0)","v":0},{"$f":"IFERROR($E134*SUMIF('Daily Log'!$CB$18:$CB$1017,$B134,'Daily Log'!$CC$18:$CC$1017),0)","v":0},{"$f":"IFERROR($E134*SUMIF('Daily Log'!$CE$18:$CE$1017,$B134,'Daily Log'!$CF$18:$CF$1017),0)","v":0},{"$f":"IFERROR($E134*SUMIF('Daily Log'!$CH$18:$CH$1017,$B134,'Daily Log'!$CI$18:$CI$1017),0)","v":0},{"$f":"IFERROR($E134*SUMIF('Daily Log'!$CK$18:$CK$1017,$B134,'Daily Log'!$CL$18:$CL$1017),0)","v":0},{"$f":"IFERROR($E134*SUMIF('Daily Log'!$CN$18:$CN$1017,$B134,'Daily Log'!$CO$18:$CO$1017),0)","v":9}]
[null,"AA41 1311:MC HSH BRW",null,"SIDE ORDER",1,9,{"$f":"IFERROR($E135*SUMIF('Daily Log'!$B$18:$B$1017,$B135,'Daily Log'!$C$18:$C$1017),0)","v":0},{"$f":"IFERROR($E135*SUMIF('Daily Log'!$E$18:$E$1017,$B135,'Daily Log'!$F$18:$F$1017),0)","v":0},{"$f":"IFERROR($E135*SUMIF('Daily Log'!$H$18:$H$1017,$B135,'Daily Log'!$I$18:$I$1017),0)","v":0},{"$f":"IFERROR($E135*SUMIF('Daily Log'!$K$18:$K$1017,$B135,'Daily Log'!$L$18:$L$1017),0)","v":0},{"$f":"IFERROR($E135*SUMIF('Daily Log'!$N$18:$N$1017,$B135,'Daily Log'!$O$18:$O$1017),0)","v":0},{"$f":"IFERROR($E135*SUMIF('Daily Log'!$Q$18:$Q$1017,$B135,'Daily Log'!$R$18:$R$1017),0)","v":0},{"$f":"IFERROR($E135*SUMIF('Daily Log'!$T$18:$T$1017,$B135,'Daily Log'!$U$18:$U$1017),0)","v":0},{"$f":"IFERROR($E135*SUMIF('Daily Log'!$W$18:$W$1017,$B135,'Daily Log'!$X$18:$X$1017),0)","v":0},{"$f":"IFERROR($E135*SUMIF('Daily Log'!$Z$18:$Z$1017,$B135,'Daily Log'!$AA$18:$AA$1017),0)","v":0},{"$f":"IFERROR($E135*SUMIF('Daily Log'!$AC$18:$AC$1017,$B135,'Daily Log'!$AD$18:$AD$1017),0)","v":0},{"$f":"IFERROR($E135*SUMIF('Daily Log'!$AF$18:$AF$1017,$B135,'Daily Log'!$AG$18:$AG$1017),0)","v":0},{"$f":"IFERROR($E135*SUMIF('Daily Log'!$AI$18:$AI$1017,$B135,'Daily Log'!$AJ$18:$AJ$1017),0)","v":0},{"$f":"IFERROR($E135*SUMIF('Daily Log'!$AL$18:$AL$1017,$B135,'Daily Log'!$AM$18:$AM$1017),0)","v":0},{"$f":"IFERROR($E135*SUMIF('Daily Log'!$AO$18:$AO$1017,$B135,'Daily Log'!$AP$18:$AP$1017),0)","v":0},{"$f":"IFERROR($E135*SUMIF('Daily Log'!$AR$18:$AR$1017,$B135,'Daily Log'!$AS$18:$AS$1017),0)","v":0},{"$f":"IFERROR($E135*SUMIF('Daily Log'!$AU$18:$AU$1017,$B135,'Daily Log'!$AV$18:$AV$1017),0)","v":0},{"$f":"IFERROR($E135*SUMIF('Daily Log'!$AX$18:$AX$1017,$B135,'Daily Log'!$AY$18:$AY$1017),0)","v":0},{"$f":"IFERROR($E135*SUMIF('Daily Log'!$BA$18:$BA$1017,$B135,'Daily Log'!$BB$18:$BB$1017),0)","v":0},{"$f":"IFERROR($E135*SUMIF('Daily Log'!$BD$18:$BD$1017,$B135,'Daily Log'!$BE$18:$BE$1017),0)","v":0},{"$f":"IFERROR($E135*SUMIF('Daily Log'!$BG$18:$BG$1017,$B135,'Daily Log'!$BH$18:$BH$1017),0)","v":0},{"$f":"IFERROR($E135*SUMIF('Daily Log'!$BJ$18:$BJ$1017,$B135,'Daily Log'!$BK$18:$BK$1017),0)","v":0},{"$f":"IFERROR($E135*SUMIF('Daily Log'!$BM$18:$BM$1017,$B135,'Daily Log'!$BN$18:$BN$1017),0)","v":0},{"$f":"IFERROR($E135*SUMIF('Daily Log'!$BP$18:$BP$1017,$B135,'Daily Log'!$BQ$18:$BQ$1017),0)","v":0},{"$f":"IFERROR($E135*SUMIF('Daily Log'!$BS$18:$BS$1017,$B135,'Daily Log'!$BT$18:$BT$1017),0)","v":0},{"$f":"IFERROR($E135*SUMIF('Daily Log'!$BV$18:$BV$1017,$B135,'Daily Log'!$BW$18:$BW$1017),0)","v":0},{"$f":"IFERROR($E135*SUMIF('Daily Log'!$BY$18:$BY$1017,$B135,'Daily Log'!$BZ$18:$BZ$1017),0)","v":0},{"$f":"IFERROR($E135*SUMIF('Daily Log'!$CB$18:$CB$1017,$B135,'Daily Log'!$CC$18:$CC$1017),0)","v":0},{"$f":"IFERROR($E135*SUMIF('Daily Log'!$CE$18:$CE$1017,$B135,'Daily Log'!$CF$18:$CF$1017),0)","v":0},{"$f":"IFERROR($E135*SUMIF('Daily Log'!$CH$18:$CH$1017,$B135,'Daily Log'!$CI$18:$CI$1017),0)","v":0},{"$f":"IFERROR($E135*SUMIF('Daily Log'!$CK$18:$CK$1017,$B135,'Daily Log'!$CL$18:$CL$1017),0)","v":0},{"$f":"IFERROR($E135*SUMIF('Daily Log'!$CN$18:$CN$1017,$B135,'Daily Log'!$CO$18:$CO$1017),0)","v":9}]
[null,"RW01 71001:BP CKN CP",null,"REDEEMED",1,0,{"$f":"IFERROR($E136*SUMIF('Daily Log'!$B$18:$B$1017,$B136,'Daily Log'!$C$18:$C$1017),0)","v":0},{"$f":"IFERROR($E136*SUMIF('Daily Log'!$E$18:$E$1017,$B136,'Daily Log'!$F$18:$F$1017),0)","v":0},{"$f":"IFERROR($E136*SUMIF('Daily Log'!$H$18:$H$1017,$B136,'Daily Log'!$I$18:$I$1017),0)","v":0},{"$f":"IFERROR($E136*SUMIF('Daily Log'!$K$18:$K$1017,$B136,'Daily Log'!$L$18:$L$1017),0)","v":0},{"$f":"IFERROR($E136*SUMIF('Daily Log'!$N$18:$N$1017,$B136,'Daily Log'!$O$18:$O$1017),0)","v":0},{"$f":"IFERROR($E136*SUMIF('Daily Log'!$Q$18:$Q$1017,$B136,'Daily Log'!$R$18:$R$1017),0)","v":0},{"$f":"IFERROR($E136*SUMIF('Daily Log'!$T$18:$T$1017,$B136,'Daily Log'!$U$18:$U$1017),0)","v":0},{"$f":"IFERROR($E136*SUMIF('Daily Log'!$W$18:$W$1017,$B136,'Daily Log'!$X$18:$X$1017),0)","v":0},{"$f":"IFERROR($E136*SUMIF('Daily Log'!$Z$18:$Z$1017,$B136,'Daily Log'!$AA$18:$AA$1017),0)","v":0},{"$f":"IFERROR($E136*SUMIF('Daily Log'!$AC$18:$AC$1017,$B136,'Daily Log'!$AD$18:$AD$1017),0)","v":0},{"$f":"IFERROR($E136*SUMIF('Daily Log'!$AF$18:$AF$1017,$B136,'Daily Log'!$AG$18:$AG$1017),0)","v":0},{"$f":"IFERROR($E136*SUMIF('Daily Log'!$AI$18:$AI$1017,$B136,'Daily Log'!$AJ$18:$AJ$1017),0)","v":0},{"$f":"IFERROR($E136*SUMIF('Daily Log'!$AL$18:$AL$1017,$B136,'Daily Log'!$AM$18:$AM$1017),0)","v":0},{"$f":"IFERROR($E136*SUMIF('Daily Log'!$AO$18:$AO$1017,$B136,'Daily Log'!$AP$18:$AP$1017),0)","v":0},{"$f":"IFERROR($E136*SUMIF('Daily Log'!$AR$18:$AR$1017,$B136,'Daily Log'!$AS$18:$AS$1017),0)","v":0},{"$f":"IFERROR($E136*SUMIF('Daily Log'!$AU$18:$AU$1017,$B136,'Daily Log'!$AV$18:$AV$1017),0)","v":0},{"$f":"IFERROR($E136*SUMIF('Daily Log'!$AX$18:$AX$1017,$B136,'Daily Log'!$AY$18:$AY$1017),0)","v":0},{"$f":"IFERROR($E136*SUMIF('Daily Log'!$BA$18:$BA$1017,$B136,'Daily Log'!$BB$18:$BB$1017),0)","v":0},{"$f":"IFERROR($E136*SUMIF('Daily Log'!$BD$18:$BD$1017,$B136,'Daily Log'!$BE$18:$BE$1017),0)","v":0},{"$f":"IFERROR($E136*SUMIF('Daily Log'!$BG$18:$BG$1017,$B136,'Daily Log'!$BH$18:$BH$1017),0)","v":0},{"$f":"IFERROR($E136*SUMIF('Daily Log'!$BJ$18:$BJ$1017,$B136,'Daily Log'!$BK$18:$BK$1017),0)","v":0},{"$f":"IFERROR($E136*SUMIF('Daily Log'!$BM$18:$BM$1017,$B136,'Daily Log'!$BN$18:$BN$1017),0)","v":0},{"$f":"IFERROR($E136*SUMIF('Daily Log'!$BP$18:$BP$1017,$B136,'Daily Log'!$BQ$18:$BQ$1017),0)","v":0},{"$f":"IFERROR($E136*SUMIF('Daily Log'!$BS$18:$BS$1017,$B136,'Daily Log'!$BT$18:$BT$1017),0)","v":0},{"$f":"IFERROR($E136*SUMIF('Daily Log'!$BV$18:$BV$1017,$B136,'Daily Log'!$BW$18:$BW$1017),0)","v":0},{"$f":"IFERROR($E136*SUMIF('Daily Log'!$BY$18:$BY$1017,$B136,'Daily Log'!$BZ$18:$BZ$1017),0)","v":0},{"$f":"IFERROR($E136*SUMIF('Daily Log'!$CB$18:$CB$1017,$B136,'Daily Log'!$CC$18:$CC$1017),0)","v":0},{"$f":"IFERROR($E136*SUMIF('Daily Log'!$CE$18:$CE$1017,$B136,'Daily Log'!$CF$18:$CF$1017),0)","v":0},{"$f":"IFERROR($E136*SUMIF('Daily Log'!$CH$18:$CH$1017,$B136,'Daily Log'!$CI$18:$CI$1017),0)","v":0},{"$f":"IFERROR($E136*SUMIF('Daily Log'!$CK$18:$CK$1017,$B136,'Daily Log'!$CL$18:$CL$1017),0)","v":0},{"$f":"IFERROR($E136*SUMIF('Daily Log'!$CN$18:$CN$1017,$B136,'Daily Log'!$CO$18:$CO$1017),0)","v":0}]
[null,"RW02 71002:GVY CHK CP",null,"REDEEMED",1,0,{"$f":"IFERROR($E137*SUMIF('Daily Log'!$B$18:$B$1017,$B137,'Daily Log'!$C$18:$C$1017),0)","v":0},{"$f":"IFERROR($E137*SUMIF('Daily Log'!$E$18:$E$1017,$B137,'Daily Log'!$F$18:$F$1017),0)","v":0},{"$f":"IFERROR($E137*SUMIF('Daily Log'!$H$18:$H$1017,$B137,'Daily Log'!$I$18:$I$1017),0)","v":0},{"$f":"IFERROR($E137*SUMIF('Daily Log'!$K$18:$K$1017,$B137,'Daily Log'!$L$18:$L$1017),0)","v":0},{"$f":"IFERROR($E137*SUMIF('Daily Log'!$N$18:$N$1017,$B137,'Daily Log'!$O$18:$O$1017),0)","v":0},{"$f":"IFERROR($E137*SUMIF('Daily Log'!$Q$18:$Q$1017,$B137,'Daily Log'!$R$18:$R$1017),0)","v":0},{"$f":"IFERROR($E137*SUMIF('Daily Log'!$T$18:$T$1017,$B137,'Daily Log'!$U$18:$U$1017),0)","v":0},{"$f":"IFERROR($E137*SUMIF('Daily Log'!$W$18:$W$1017,$B137,'Daily Log'!$X$18:$X$1017),0)","v":0},{"$f":"IFERROR($E137*SUMIF('Daily Log'!$Z$18:$Z$1017,$B137,'Daily Log'!$AA$18:$AA$1017),0)","v":0},{"$f":"IFERROR($E137*SUMIF('Daily Log'!$AC$18:$AC$1017,$B137,'Daily Log'!$AD$18:$AD$1017),0)","v":0},{"$f":"IFERROR($E137*SUMIF('Daily Log'!$AF$18:$AF$1017,$B137,'Daily Log'!$AG$18:$AG$1017),0)","v":0},{"$f":"IFERROR($E137*SUMIF('Daily Log'!$AI$18:$AI$1017,$B137,'Daily Log'!$AJ$18:$AJ$1017),0)","v":0},{"$f":"IFERROR($E137*SUMIF('Daily Log'!$AL$18:$AL$1017,$B137,'Daily Log'!$AM$18:$AM$1017),0)","v":0},{"$f":"IFERROR($E137*SUMIF('Daily Log'!$AO$18:$AO$1017,$B137,'Daily Log'!$AP$18:$AP$1017),0)","v":0},{"$f":"IFERROR($E137*SUMIF('Daily Log'!$AR$18:$AR$1017,$B137,'Daily Log'!$AS$18:$AS$1017),0)","v":0},{"$f":"IFERROR($E137*SUMIF('Daily Log'!$AU$18:$AU$1017,$B137,'Daily Log'!$AV$18:$AV$1017),0)","v":0},{"$f":"IFERROR($E137*SUMIF('Daily Log'!$AX$18:$AX$1017,$B137,'Daily Log'!$AY$18:$AY$1017),0)","v":0},{"$f":"IFERROR($E137*SUMIF('Daily Log'!$BA$18:$BA$1017,$B137,'Daily Log'!$BB$18:$BB$1017),0)","v":0},{"$f":"IFERROR($E137*SUMIF('Daily Log'!$BD$18:$BD$1017,$B137,'Daily Log'!$BE$18:$BE$1017),0)","v":0},{"$f":"IFERROR($E137*SUMIF('Daily Log'!$BG$18:$BG$1017,$B137,'Daily Log'!$BH$18:$BH$1017),0)","v":0},{"$f":"IFERROR($E137*SUMIF('Daily Log'!$BJ$18:$BJ$1017,$B137,'Daily Log'!$BK$18:$BK$1017),0)","v":0},{"$f":"IFERROR($E137*SUMIF('Daily Log'!$BM$18:$BM$1017,$B137,'Daily Log'!$BN$18:$BN$1017),0)","v":0},{"$f":"IFERROR($E137*SUMIF('Daily Log'!$BP$18:$BP$1017,$B137,'Daily Log'!$BQ$18:$BQ$1017),0)","v":0},{"$f":"IFERROR($E137*SUMIF('Daily Log'!$BS$18:$BS$1017,$B137,'Daily Log'!$BT$18:$BT$1017),0)","v":0},{"$f":"IFERROR($E137*SUMIF('Daily Log'!$BV$18:$BV$1017,$B137,'Daily Log'!$BW$18:$BW$1017),0)","v":0},{"$f":"IFERROR($E137*SUMIF('Daily Log'!$BY$18:$BY$1017,$B137,'Daily Log'!$BZ$18:$BZ$1017),0)","v":0},{"$f":"IFERROR($E137*SUMIF('Daily Log'!$CB$18:$CB$1017,$B137,'Daily Log'!$CC$18:$CC$1017),0)","v":0},{"$f":"IFERROR($E137*SUMIF('Daily Log'!$CE$18:$CE$1017,$B137,'Daily Log'!$CF$18:$CF$1017),0)","v":0},{"$f":"IFERROR($E137*SUMIF('Daily Log'!$CH$18:$CH$1017,$B137,'Daily Log'!$CI$18:$CI$1017),0)","v":0},{"$f":"IFERROR($E137*SUMIF('Daily Log'!$CK$18:$CK$1017,$B137,'Daily Log'!$CL$18:$CL$1017),0)","v":0},{"$f":"IFERROR($E137*SUMIF('Daily Log'!$CN$18:$CN$1017,$B137,'Daily Log'!$CO$18:$CO$1017),0)","v":0}]
[null,"RW03 71003:MSR CKN CP",null,"REDEEMED",1,0,{"$f":"IFERROR($E138*SUMIF('Daily Log'!$B$18:$B$1017,$B138,'Daily Log'!$C$18:$C$1017),0)","v":0},{"$f":"IFERROR($E138*SUMIF('Daily Log'!$E$18:$E$1017,$B138,'Daily Log'!$F$18:$F$1017),0)","v":0},{"$f":"IFERROR($E138*SUMIF('Daily Log'!$H$18:$H$1017,$B138,'Daily Log'!$I$18:$I$1017),0)","v":0},{"$f":"IFERROR($E138*SUMIF('Daily Log'!$K$18:$K$1017,$B138,'Daily Log'!$L$18:$L$1017),0)","v":0},{"$f":"IFERROR($E138*SUMIF('Daily Log'!$N$18:$N$1017,$B138,'Daily Log'!$O$18:$O$1017),0)","v":0},{"$f":"IFERROR($E138*SUMIF('Daily Log'!$Q$18:$Q$1017,$B138,'Daily Log'!$R$18:$R$1017),0)","v":0},{"$f":"IFERROR($E138*SUMIF('Daily Log'!$T$18:$T$1017,$B138,'Daily Log'!$U$18:$U$1017),0)","v":0},{"$f":"IFERROR($E138*SUMIF('Daily Log'!$W$18:$W$1017,$B138,'Daily Log'!$X$18:$X$1017),0)","v":0},{"$f":"IFERROR($E138*SUMIF('Daily Log'!$Z$18:$Z$1017,$B138,'Daily Log'!$AA$18:$AA$1017),0)","v":0},{"$f":"IFERROR($E138*SUMIF('Daily Log'!$AC$18:$AC$1017,$B138,'Daily Log'!$AD$18:$AD$1017),0)","v":0},{"$f":"IFERROR($E138*SUMIF('Daily Log'!$AF$18:$AF$1017,$B138,'Daily Log'!$AG$18:$AG$1017),0)","v":0},{"$f":"IFERROR($E138*SUMIF('Daily Log'!$AI$18:$AI$1017,$B138,'Daily Log'!$AJ$18:$AJ$1017),0)","v":0},{"$f":"IFERROR($E138*SUMIF('Daily Log'!$AL$18:$AL$1017,$B138,'Daily Log'!$AM$18:$AM$1017),0)","v":0},{"$f":"IFERROR($E138*SUMIF('Daily Log'!$AO$18:$AO$1017,$B138,'Daily Log'!$AP$18:$AP$1017),0)","v":0},{"$f":"IFERROR($E138*SUMIF('Daily Log'!$AR$18:$AR$1017,$B138,'Daily Log'!$AS$18:$AS$1017),0)","v":0},{"$f":"IFERROR($E138*SUMIF('Daily Log'!$AU$18:$AU$1017,$B138,'Daily Log'!$AV$18:$AV$1017),0)","v":0},{"$f":"IFERROR($E138*SUMIF('Daily Log'!$AX$18:$AX$1017,$B138,'Daily Log'!$AY$18:$AY$1017),0)","v":0},{"$f":"IFERROR($E138*SUMIF('Daily Log'!$BA$18:$BA$1017,$B138,'Daily Log'!$BB$18:$BB$1017),0)","v":0},{"$f":"IFERROR($E138*SUMIF('Daily Log'!$BD$18:$BD$1017,$B138,'Daily Log'!$BE$18:$BE$1017),0)","v":0},{"$f":"IFERROR($E138*SUMIF('Daily Log'!$BG$18:$BG$1017,$B138,'Daily Log'!$BH$18:$BH$1017),0)","v":0},{"$f":"IFERROR($E138*SUMIF('Daily Log'!$BJ$18:$BJ$1017,$B138,'Daily Log'!$BK$18:$BK$1017),0)","v":0},{"$f":"IFERROR($E138*SUMIF('Daily Log'!$BM$18:$BM$1017,$B138,'Daily Log'!$BN$18:$BN$1017),0)","v":0},{"$f":"IFERROR($E138*SUMIF('Daily Log'!$BP$18:$BP$1017,$B138,'Daily Log'!$BQ$18:$BQ$1017),0)","v":0},{"$f":"IFERROR($E138*SUMIF('Daily Log'!$BS$18:$BS$1017,$B138,'Daily Log'!$BT$18:$BT$1017),0)","v":0},{"$f":"IFERROR($E138*SUMIF('Daily Log'!$BV$18:$BV$1017,$B138,'Daily Log'!$BW$18:$BW$1017),0)","v":0},{"$f":"IFERROR($E138*SUMIF('Daily Log'!$BY$18:$BY$1017,$B138,'Daily Log'!$BZ$18:$BZ$1017),0)","v":0},{"$f":"IFERROR($E138*SUMIF('Daily Log'!$CB$18:$CB$1017,$B138,'Daily Log'!$CC$18:$CC$1017),0)","v":0},{"$f":"IFERROR($E138*SUMIF('Daily Log'!$CE$18:$CE$1017,$B138,'Daily Log'!$CF$18:$CF$1017),0)","v":0},{"$f":"IFERROR($E138*SUMIF('Daily Log'!$CH$18:$CH$1017,$B138,'Daily Log'!$CI$18:$CI$1017),0)","v":0},{"$f":"IFERROR($E138*SUMIF('Daily Log'!$CK$18:$CK$1017,$B138,'Daily Log'!$CL$18:$CL$1017),0)","v":0},{"$f":"IFERROR($E138*SUMIF('Daily Log'!$CN$18:$CN$1017,$B138,'Daily Log'!$CO$18:$CO$1017),0)","v":0}]
[null,"RW04 71004:CKN MARY",null,"REDEEMED",1,0,{"$f":"IFERROR($E139*SUMIF('Daily Log'!$B$18:$B$1017,$B139,'Daily Log'!$C$18:$C$1017),0)","v":0},{"$f":"IFERROR($E139*SUMIF('Daily Log'!$E$18:$E$1017,$B139,'Daily Log'!$F$18:$F$1017),0)","v":0},{"$f":"IFERROR($E139*SUMIF('Daily Log'!$H$18:$H$1017,$B139,'Daily Log'!$I$18:$I$1017),0)","v":0},{"$f":"IFERROR($E139*SUMIF('Daily Log'!$K$18:$K$1017,$B139,'Daily Log'!$L$18:$L$1017),0)","v":0},{"$f":"IFERROR($E139*SUMIF('Daily Log'!$N$18:$N$1017,$B139,'Daily Log'!$O$18:$O$1017),0)","v":0},{"$f":"IFERROR($E139*SUMIF('Daily Log'!$Q$18:$Q$1017,$B139,'Daily Log'!$R$18:$R$1017),0)","v":0},{"$f":"IFERROR($E139*SUMIF('Daily Log'!$T$18:$T$1017,$B139,'Daily Log'!$U$18:$U$1017),0)","v":0},{"$f":"IFERROR($E139*SUMIF('Daily Log'!$W$18:$W$1017,$B139,'Daily Log'!$X$18:$X$1017),0)","v":0},{"$f":"IFERROR($E139*SUMIF('Daily Log'!$Z$18:$Z$1017,$B139,'Daily Log'!$AA$18:$AA$1017),0)","v":0},{"$f":"IFERROR($E139*SUMIF('Daily Log'!$AC$18:$AC$1017,$B139,'Daily Log'!$AD$18:$AD$1017),0)","v":0},{"$f":"IFERROR($E139*SUMIF('Daily Log'!$AF$18:$AF$1017,$B139,'Daily Log'!$AG$18:$AG$1017),0)","v":0},{"$f":"IFERROR($E139*SUMIF('Daily Log'!$AI$18:$AI$1017,$B139,'Daily Log'!$AJ$18:$AJ$1017),0)","v":0},{"$f":"IFERROR($E139*SUMIF('Daily Log'!$AL$18:$AL$1017,$B139,'Daily Log'!$AM$18:$AM$1017),0)","v":0},{"$f":"IFERROR($E139*SUMIF('Daily Log'!$AO$18:$AO$1017,$B139,'Daily Log'!$AP$18:$AP$1017),0)","v":0},{"$f":"IFERROR($E139*SUMIF('Daily Log'!$AR$18:$AR$1017,$B139,'Daily Log'!$AS$18:$AS$1017),0)","v":0},{"$f":"IFERROR($E139*SUMIF('Daily Log'!$AU$18:$AU$1017,$B139,'Daily Log'!$AV$18:$AV$1017),0)","v":0},{"$f":"IFERROR($E139*SUMIF('Daily Log'!$AX$18:$AX$1017,$B139,'Daily Log'!$AY$18:$AY$1017),0)","v":0},{"$f":"IFERROR($E139*SUMIF('Daily Log'!$BA$18:$BA$1017,$B139,'Daily Log'!$BB$18:$BB$1017),0)","v":0},{"$f":"IFERROR($E139*SUMIF('Daily Log'!$BD$18:$BD$1017,$B139,'Daily Log'!$BE$18:$BE$1017),0)","v":0},{"$f":"IFERROR($E139*SUMIF('Daily Log'!$BG$18:$BG$1017,$B139,'Daily Log'!$BH$18:$BH$1017),0)","v":0},{"$f":"IFERROR($E139*SUMIF('Daily Log'!$BJ$18:$BJ$1017,$B139,'Daily Log'!$BK$18:$BK$1017),0)","v":0},{"$f":"IFERROR($E139*SUMIF('Daily Log'!$BM$18:$BM$1017,$B139,'Daily Log'!$BN$18:$BN$1017),0)","v":0},{"$f":"IFERROR($E139*SUMIF('Daily Log'!$BP$18:$BP$1017,$B139,'Daily Log'!$BQ$18:$BQ$1017),0)","v":0},{"$f":"IFERROR($E139*SUMIF('Daily Log'!$BS$18:$BS$1017,$B139,'Daily Log'!$BT$18:$BT$1017),0)","v":0},{"$f":"IFERROR($E139*SUMIF('Daily Log'!$BV$18:$BV$1017,$B139,'Daily Log'!$BW$18:$BW$1017),0)","v":0},{"$f":"IFERROR($E139*SUMIF('Daily Log'!$BY$18:$BY$1017,$B139,'Daily Log'!$BZ$18:$BZ$1017),0)","v":0},{"$f":"IFERROR($E139*SUMIF('Daily Log'!$CB$18:$CB$1017,$B139,'Daily Log'!$CC$18:$CC$1017),0)","v":0},{"$f":"IFERROR($E139*SUMIF('Daily Log'!$CE$18:$CE$1017,$B139,'Daily Log'!$CF$18:$CF$1017),0)","v":0},{"$f":"IFERROR($E139*SUMIF('Daily Log'!$CH$18:$CH$1017,$B139,'Daily Log'!$CI$18:$CI$1017),0)","v":0},{"$f":"IFERROR($E139*SUMIF('Daily Log'!$CK$18:$CK$1017,$B139,'Daily Log'!$CL$18:$CL$1017),0)","v":0},{"$f":"IFERROR($E139*SUMIF('Daily Log'!$CN$18:$CN$1017,$B139,'Daily Log'!$CO$18:$CO$1017),0)","v":0}]
[null,"RW05 71005:FSH&CHIP",null,"REDEEMED",1,0,{"$f":"IFERROR($E140*SUMIF('Daily Log'!$B$18:$B$1017,$B140,'Daily Log'!$C$18:$C$1017),0)","v":0},{"$f":"IFERROR($E140*SUMIF('Daily Log'!$E$18:$E$1017,$B140,'Daily Log'!$F$18:$F$1017),0)","v":0},{"$f":"IFERROR($E140*SUMIF('Daily Log'!$H$18:$H$1017,$B140,'Daily Log'!$I$18:$I$1017),0)","v":0},{"$f":"IFERROR($E140*SUMIF('Daily Log'!$K$18:$K$1017,$B140,'Daily Log'!$L$18:$L$1017),0)","v":0},{"$f":"IFERROR($E140*SUMIF('Daily Log'!$N$18:$N$1017,$B140,'Daily Log'!$O$18:$O$1017),0)","v":0},{"$f":"IFERROR($E140*SUMIF('Daily Log'!$Q$18:$Q$1017,$B140,'Daily Log'!$R$18:$R$1017),0)","v":0},{"$f":"IFERROR($E140*SUMIF('Daily Log'!$T$18:$T$1017,$B140,'Daily Log'!$U$18:$U$1017),0)","v":0},{"$f":"IFERROR($E140*SUMIF('Daily Log'!$W$18:$W$1017,$B140,'Daily Log'!$X$18:$X$1017),0)","v":0},{"$f":"IFERROR($E140*SUMIF('Daily Log'!$Z$18:$Z$1017,$B140,'Daily Log'!$AA$18:$AA$1017),0)","v":0},{"$f":"IFERROR($E140*SUMIF('Daily Log'!$AC$18:$AC$1017,$B140,'Daily Log'!$AD$18:$AD$1017),0)","v":0},{"$f":"IFERROR($E140*SUMIF('Daily Log'!$AF$18:$AF$1017,$B140,'Daily Log'!$AG$18:$AG$1017),0)","v":0},{"$f":"IFERROR($E140*SUMIF('Daily Log'!$AI$18:$AI$1017,$B140,'Daily Log'!$AJ$18:$AJ$1017),0)","v":0},{"$f":"IFERROR($E140*SUMIF('Daily Log'!$AL$18:$AL$1017,$B140,'Daily Log'!$AM$18:$AM$1017),0)","v":0},{"$f":"IFERROR($E140*SUMIF('Daily Log'!$AO$18:$AO$1017,$B140,'Daily Log'!$AP$18:$AP$1017),0)","v":0},{"$f":"IFERROR($E140*SUMIF('Daily Log'!$AR$18:$AR$1017,$B140,'Daily Log'!$AS$18:$AS$1017),0)","v":0},{"$f":"IFERROR($E140*SUMIF('Daily Log'!$AU$18:$AU$1017,$B140,'Daily Log'!$AV$18:$AV$1017),0)","v":0},{"$f":"IFERROR($E140*SUMIF('Daily Log'!$AX$18:$AX$1017,$B140,'Daily Log'!$AY$18:$AY$1017),0)","v":0},{"$f":"IFERROR($E140*SUMIF('Daily Log'!$BA$18:$BA$1017,$B140,'Daily Log'!$BB$18:$BB$1017),0)","v":0},{"$f":"IFERROR($E140*SUMIF('Daily Log'!$BD$18:$BD$1017,$B140,'Daily Log'!$BE$18:$BE$1017),0)","v":0},{"$f":"IFERROR($E140*SUMIF('Daily Log'!$BG$18:$BG$1017,$B140,'Daily Log'!$BH$18:$BH$1017),0)","v":0},{"$f":"IFERROR($E140*SUMIF('Daily Log'!$BJ$18:$BJ$1017,$B140,'Daily Log'!$BK$18:$BK$1017),0)","v":0},{"$f":"IFERROR($E140*SUMIF('Daily Log'!$BM$18:$BM$1017,$B140,'Daily Log'!$BN$18:$BN$1017),0)","v":0},{"$f":"IFERROR($E140*SUMIF('Daily Log'!$BP$18:$BP$1017,$B140,'Daily Log'!$BQ$18:$BQ$1017),0)","v":0},{"$f":"IFERROR($E140*SUMIF('Daily Log'!$BS$18:$BS$1017,$B140,'Daily Log'!$BT$18:$BT$1017),0)","v":0},{"$f":"IFERROR($E140*SUMIF('Daily Log'!$BV$18:$BV$1017,$B140,'Daily Log'!$BW$18:$BW$1017),0)","v":0},{"$f":"IFERROR($E140*SUMIF('Daily Log'!$BY$18:$BY$1017,$B140,'Daily Log'!$BZ$18:$BZ$1017),0)","v":0},{"$f":"IFERROR($E140*SUMIF('Daily Log'!$CB$18:$CB$1017,$B140,'Daily Log'!$CC$18:$CC$1017),0)","v":0},{"$f":"IFERROR($E140*SUMIF('Daily Log'!$CE$18:$CE$1017,$B140,'Daily Log'!$CF$18:$CF$1017),0)","v":0},{"$f":"IFERROR($E140*SUMIF('Daily Log'!$CH$18:$CH$1017,$B140,'Daily Log'!$CI$18:$CI$1017),0)","v":0},{"$f":"IFERROR($E140*SUMIF('Daily Log'!$CK$18:$CK$1017,$B140,'Daily Log'!$CL$18:$CL$1017),0)","v":0},{"$f":"IFERROR($E140*SUMIF('Daily Log'!$CN$18:$CN$1017,$B140,'Daily Log'!$CO$18:$CO$1017),0)","v":0}]
[null,"RW06 71006:SPAGHETTI",null,"REDEEMED",1,0,{"$f":"IFERROR($E141*SUMIF('Daily Log'!$B$18:$B$1017,$B141,'Daily Log'!$C$18:$C$1017),0)","v":0},{"$f":"IFERROR($E141*SUMIF('Daily Log'!$E$18:$E$1017,$B141,'Daily Log'!$F$18:$F$1017),0)","v":0},{"$f":"IFERROR($E141*SUMIF('Daily Log'!$H$18:$H$1017,$B141,'Daily Log'!$I$18:$I$1017),0)","v":0},{"$f":"IFERROR($E141*SUMIF('Daily Log'!$K$18:$K$1017,$B141,'Daily Log'!$L$18:$L$1017),0)","v":0},{"$f":"IFERROR($E141*SUMIF('Daily Log'!$N$18:$N$1017,$B141,'Daily Log'!$O$18:$O$1017),0)","v":0},{"$f":"IFERROR($E141*SUMIF('Daily Log'!$Q$18:$Q$1017,$B141,'Daily Log'!$R$18:$R$1017),0)","v":0},{"$f":"IFERROR($E141*SUMIF('Daily Log'!$T$18:$T$1017,$B141,'Daily Log'!$U$18:$U$1017),0)","v":0},{"$f":"IFERROR($E141*SUMIF('Daily Log'!$W$18:$W$1017,$B141,'Daily Log'!$X$18:$X$1017),0)","v":0},{"$f":"IFERROR($E141*SUMIF('Daily Log'!$Z$18:$Z$1017,$B141,'Daily Log'!$AA$18:$AA$1017),0)","v":0},{"$f":"IFERROR($E141*SUMIF('Daily Log'!$AC$18:$AC$1017,$B141,'Daily Log'!$AD$18:$AD$1017),0)","v":0},{"$f":"IFERROR($E141*SUMIF('Daily Log'!$AF$18:$AF$1017,$B141,'Daily Log'!$AG$18:$AG$1017),0)","v":0},{"$f":"IFERROR($E141*SUMIF('Daily Log'!$AI$18:$AI$1017,$B141,'Daily Log'!$AJ$18:$AJ$1017),0)","v":0},{"$f":"IFERROR($E141*SUMIF('Daily Log'!$AL$18:$AL$1017,$B141,'Daily Log'!$AM$18:$AM$1017),0)","v":0},{"$f":"IFERROR($E141*SUMIF('Daily Log'!$AO$18:$AO$1017,$B141,'Daily Log'!$AP$18:$AP$1017),0)","v":0},{"$f":"IFERROR($E141*SUMIF('Daily Log'!$AR$18:$AR$1017,$B141,'Daily Log'!$AS$18:$AS$1017),0)","v":0},{"$f":"IFERROR($E141*SUMIF('Daily Log'!$AU$18:$AU$1017,$B141,'Daily Log'!$AV$18:$AV$1017),0)","v":0},{"$f":"IFERROR($E141*SUMIF('Daily Log'!$AX$18:$AX$1017,$B141,'Daily Log'!$AY$18:$AY$1017),0)","v":0},{"$f":"IFERROR($E141*SUMIF('Daily Log'!$BA$18:$BA$1017,$B141,'Daily Log'!$BB$18:$BB$1017),0)","v":0},{"$f":"IFERROR($E141*SUMIF('Daily Log'!$BD$18:$BD$1017,$B141,'Daily Log'!$BE$18:$BE$1017),0)","v":0},{"$f":"IFERROR($E141*SUMIF('Daily Log'!$BG$18:$BG$1017,$B141,'Daily Log'!$BH$18:$BH$1017),0)","v":0},{"$f":"IFERROR($E141*SUMIF('Daily Log'!$BJ$18:$BJ$1017,$B141,'Daily Log'!$BK$18:$BK$1017),0)","v":0},{"$f":"IFERROR($E141*SUMIF('Daily Log'!$BM$18:$BM$1017,$B141,'Daily Log'!$BN$18:$BN$1017),0)","v":0},{"$f":"IFERROR($E141*SUMIF('Daily Log'!$BP$18:$BP$1017,$B141,'Daily Log'!$BQ$18:$BQ$1017),0)","v":0},{"$f":"IFERROR($E141*SUMIF('Daily Log'!$BS$18:$BS$1017,$B141,'Daily Log'!$BT$18:$BT$1017),0)","v":0},{"$f":"IFERROR($E141*SUMIF('Daily Log'!$BV$18:$BV$1017,$B141,'Daily Log'!$BW$18:$BW$1017),0)","v":0},{"$f":"IFERROR($E141*SUMIF('Daily Log'!$BY$18:$BY$1017,$B141,'Daily Log'!$BZ$18:$BZ$1017),0)","v":0},{"$f":"IFERROR($E141*SUMIF('Daily Log'!$CB$18:$CB$1017,$B141,'Daily Log'!$CC$18:$CC$1017),0)","v":0},{"$f":"IFERROR($E141*SUMIF('Daily Log'!$CE$18:$CE$1017,$B141,'Daily Log'!$CF$18:$CF$1017),0)","v":0},{"$f":"IFERROR($E141*SUMIF('Daily Log'!$CH$18:$CH$1017,$B141,'Daily Log'!$CI$18:$CI$1017),0)","v":0},{"$f":"IFERROR($E141*SUMIF('Daily Log'!$CK$18:$CK$1017,$B141,'Daily Log'!$CL$18:$CL$1017),0)","v":0},{"$f":"IFERROR($E141*SUMIF('Daily Log'!$CN$18:$CN$1017,$B141,'Daily Log'!$CO$18:$CO$1017),0)","v":0}]
[null,"RW07 71007:CHK SALAD",null,"REDEEMED",1,0,{"$f":"IFERROR($E142*SUMIF('Daily Log'!$B$18:$B$1017,$B142,'Daily Log'!$C$18:$C$1017),0)","v":0},{"$f":"IFERROR($E142*SUMIF('Daily Log'!$E$18:$E$1017,$B142,'Daily Log'!$F$18:$F$1017),0)","v":0},{"$f":"IFERROR($E142*SUMIF('Daily Log'!$H$18:$H$1017,$B142,'Daily Log'!$I$18:$I$1017),0)","v":0},{"$f":"IFERROR($E142*SUMIF('Daily Log'!$K$18:$K$1017,$B142,'Daily Log'!$L$18:$L$1017),0)","v":0},{"$f":"IFERROR($E142*SUMIF('Daily Log'!$N$18:$N$1017,$B142,'Daily Log'!$O$18:$O$1017),0)","v":0},{"$f":"IFERROR($E142*SUMIF('Daily Log'!$Q$18:$Q$1017,$B142,'Daily Log'!$R$18:$R$1017),0)","v":0},{"$f":"IFERROR($E142*SUMIF('Daily Log'!$T$18:$T$1017,$B142,'Daily Log'!$U$18:$U$1017),0)","v":0},{"$f":"IFERROR($E142*SUMIF('Daily Log'!$W$18:$W$1017,$B142,'Daily Log'!$X$18:$X$1017),0)","v":0},{"$f":"IFERROR($E142*SUMIF('Daily Log'!$Z$18:$Z$1017,$B142,'Daily Log'!$AA$18:$AA$1017),0)","v":0},{"$f":"IFERROR($E142*SUMIF('Daily Log'!$AC$18:$AC$1017,$B142,'Daily Log'!$AD$18:$AD$1017),0)","v":0},{"$f":"IFERROR($E142*SUMIF('Daily Log'!$AF$18:$AF$1017,$B142,'Daily Log'!$AG$18:$AG$1017),0)","v":0},{"$f":"IFERROR($E142*SUMIF('Daily Log'!$AI$18:$AI$1017,$B142,'Daily Log'!$AJ$18:$AJ$1017),0)","v":0},{"$f":"IFERROR($E142*SUMIF('Daily Log'!$AL$18:$AL$1017,$B142,'Daily Log'!$AM$18:$AM$1017),0)","v":0},{"$f":"IFERROR($E142*SUMIF('Daily Log'!$AO$18:$AO$1017,$B142,'Daily Log'!$AP$18:$AP$1017),0)","v":0},{"$f":"IFERROR($E142*SUMIF('Daily Log'!$AR$18:$AR$1017,$B142,'Daily Log'!$AS$18:$AS$1017),0)","v":0},{"$f":"IFERROR($E142*SUMIF('Daily Log'!$AU$18:$AU$1017,$B142,'Daily Log'!$AV$18:$AV$1017),0)","v":0},{"$f":"IFERROR($E142*SUMIF('Daily Log'!$AX$18:$AX$1017,$B142,'Daily Log'!$AY$18:$AY$1017),0)","v":0},{"$f":"IFERROR($E142*SUMIF('Daily Log'!$BA$18:$BA$1017,$B142,'Daily Log'!$BB$18:$BB$1017),0)","v":0},{"$f":"IFERROR($E142*SUMIF('Daily Log'!$BD$18:$BD$1017,$B142,'Daily Log'!$BE$18:$BE$1017),0)","v":0},{"$f":"IFERROR($E142*SUMIF('Daily Log'!$BG$18:$BG$1017,$B142,'Daily Log'!$BH$18:$BH$1017),0)","v":0},{"$f":"IFERROR($E142*SUMIF('Daily Log'!$BJ$18:$BJ$1017,$B142,'Daily Log'!$BK$18:$BK$1017),0)","v":0},{"$f":"IFERROR($E142*SUMIF('Daily Log'!$BM$18:$BM$1017,$B142,'Daily Log'!$BN$18:$BN$1017),0)","v":0},{"$f":"IFERROR($E142*SUMIF('Daily Log'!$BP$18:$BP$1017,$B142,'Daily Log'!$BQ$18:$BQ$1017),0)","v":0},{"$f":"IFERROR($E142*SUMIF('Daily Log'!$BS$18:$BS$1017,$B142,'Daily Log'!$BT$18:$BT$1017),0)","v":0},{"$f":"IFERROR($E142*SUMIF('Daily Log'!$BV$18:$BV$1017,$B142,'Daily Log'!$BW$18:$BW$1017),0)","v":0},{"$f":"IFERROR($E142*SUMIF('Daily Log'!$BY$18:$BY$1017,$B142,'Daily Log'!$BZ$18:$BZ$1017),0)","v":0},{"$f":"IFERROR($E142*SUMIF('Daily Log'!$CB$18:$CB$1017,$B142,'Daily Log'!$CC$18:$CC$1017),0)","v":0},{"$f":"IFERROR($E142*SUMIF('Daily Log'!$CE$18:$CE$1017,$B142,'Daily Log'!$CF$18:$CF$1017),0)","v":0},{"$f":"IFERROR($E142*SUMIF('Daily Log'!$CH$18:$CH$1017,$B142,'Daily Log'!$CI$18:$CI$1017),0)","v":0},{"$f":"IFERROR($E142*SUMIF('Daily Log'!$CK$18:$CK$1017,$B142,'Daily Log'!$CL$18:$CL$1017),0)","v":0},{"$f":"IFERROR($E142*SUMIF('Daily Log'!$CN$18:$CN$1017,$B142,'Daily Log'!$CO$18:$CO$1017),0)","v":0}]
[null,"RL01 71101:THAI CHK",null,"REDEEMED",1,0,{"$f":"IFERROR($E143*SUMIF('Daily Log'!$B$18:$B$1017,$B143,'Daily Log'!$C$18:$C$1017),0)","v":0},{"$f":"IFERROR($E143*SUMIF('Daily Log'!$E$18:$E$1017,$B143,'Daily Log'!$F$18:$F$1017),0)","v":0},{"$f":"IFERROR($E143*SUMIF('Daily Log'!$H$18:$H$1017,$B143,'Daily Log'!$I$18:$I$1017),0)","v":0},{"$f":"IFERROR($E143*SUMIF('Daily Log'!$K$18:$K$1017,$B143,'Daily Log'!$L$18:$L$1017),0)","v":0},{"$f":"IFERROR($E143*SUMIF('Daily Log'!$N$18:$N$1017,$B143,'Daily Log'!$O$18:$O$1017),0)","v":0},{"$f":"IFERROR($E143*SUMIF('Daily Log'!$Q$18:$Q$1017,$B143,'Daily Log'!$R$18:$R$1017),0)","v":0},{"$f":"IFERROR($E143*SUMIF('Daily Log'!$T$18:$T$1017,$B143,'Daily Log'!$U$18:$U$1017),0)","v":0},{"$f":"IFERROR($E143*SUMIF('Daily Log'!$W$18:$W$1017,$B143,'Daily Log'!$X$18:$X$1017),0)","v":0},{"$f":"IFERROR($E143*SUMIF('Daily Log'!$Z$18:$Z$1017,$B143,'Daily Log'!$AA$18:$AA$1017),0)","v":0},{"$f":"IFERROR($E143*SUMIF('Daily Log'!$AC$18:$AC$1017,$B143,'Daily Log'!$AD$18:$AD$1017),0)","v":0},{"$f":"IFERROR($E143*SUMIF('Daily Log'!$AF$18:$AF$1017,$B143,'Daily Log'!$AG$18:$AG$1017),0)","v":0},{"$f":"IFERROR($E143*SUMIF('Daily Log'!$AI$18:$AI$1017,$B143,'Daily Log'!$AJ$18:$AJ$1017),0)","v":0},{"$f":"IFERROR($E143*SUMIF('Daily Log'!$AL$18:$AL$1017,$B143,'Daily Log'!$AM$18:$AM$1017),0)","v":0},{"$f":"IFERROR($E143*SUMIF('Daily Log'!$AO$18:$AO$1017,$B143,'Daily Log'!$AP$18:$AP$1017),0)","v":0},{"$f":"IFERROR($E143*SUMIF('Daily Log'!$AR$18:$AR$1017,$B143,'Daily Log'!$AS$18:$AS$1017),0)","v":0},{"$f":"IFERROR($E143*SUMIF('Daily Log'!$AU$18:$AU$1017,$B143,'Daily Log'!$AV$18:$AV$1017),0)","v":0},{"$f":"IFERROR($E143*SUMIF('Daily Log'!$AX$18:$AX$1017,$B143,'Daily Log'!$AY$18:$AY$1017),0)","v":0},{"$f":"IFERROR($E143*SUMIF('Daily Log'!$BA$18:$BA$1017,$B143,'Daily Log'!$BB$18:$BB$1017),0)","v":0},{"$f":"IFERROR($E143*SUMIF('Daily Log'!$BD$18:$BD$1017,$B143,'Daily Log'!$BE$18:$BE$1017),0)","v":0},{"$f":"IFERROR($E143*SUMIF('Daily Log'!$BG$18:$BG$1017,$B143,'Daily Log'!$BH$18:$BH$1017),0)","v":0},{"$f":"IFERROR($E143*SUMIF('Daily Log'!$BJ$18:$BJ$1017,$B143,'Daily Log'!$BK$18:$BK$1017),0)","v":0},{"$f":"IFERROR($E143*SUMIF('Daily Log'!$BM$18:$BM$1017,$B143,'Daily Log'!$BN$18:$BN$1017),0)","v":0},{"$f":"IFERROR($E143*SUMIF('Daily Log'!$BP$18:$BP$1017,$B143,'Daily Log'!$BQ$18:$BQ$1017),0)","v":0},{"$f":"IFERROR($E143*SUMIF('Daily Log'!$BS$18:$BS$1017,$B143,'Daily Log'!$BT$18:$BT$1017),0)","v":0},{"$f":"IFERROR($E143*SUMIF('Daily Log'!$BV$18:$BV$1017,$B143,'Daily Log'!$BW$18:$BW$1017),0)","v":0},{"$f":"IFERROR($E143*SUMIF('Daily Log'!$BY$18:$BY$1017,$B143,'Daily Log'!$BZ$18:$BZ$1017),0)","v":0},{"$f":"IFERROR($E143*SUMIF('Daily Log'!$CB$18:$CB$1017,$B143,'Daily Log'!$CC$18:$CC$1017),0)","v":0},{"$f":"IFERROR($E143*SUMIF('Daily Log'!$CE$18:$CE$1017,$B143,'Daily Log'!$CF$18:$CF$1017),0)","v":0},{"$f":"IFERROR($E143*SUMIF('Daily Log'!$CH$18:$CH$1017,$B143,'Daily Log'!$CI$18:$CI$1017),0)","v":0},{"$f":"IFERROR($E143*SUMIF('Daily Log'!$CK$18:$CK$1017,$B143,'Daily Log'!$CL$18:$CL$1017),0)","v":0},{"$f":"IFERROR($E143*SUMIF('Daily Log'!$CN$18:$CN$1017,$B143,'Daily Log'!$CO$18:$CO$1017),0)","v":0}]
[null,"RL02 71102:MAMITE CHK",null,"REDEEMED",1,0,{"$f":"IFERROR($E144*SUMIF('Daily Log'!$B$18:$B$1017,$B144,'Daily Log'!$C$18:$C$1017),0)","v":0},{"$f":"IFERROR($E144*SUMIF('Daily Log'!$E$18:$E$1017,$B144,'Daily Log'!$F$18:$F$1017),0)","v":0},{"$f":"IFERROR($E144*SUMIF('Daily Log'!$H$18:$H$1017,$B144,'Daily Log'!$I$18:$I$1017),0)","v":0},{"$f":"IFERROR($E144*SUMIF('Daily Log'!$K$18:$K$1017,$B144,'Daily Log'!$L$18:$L$1017),0)","v":0},{"$f":"IFERROR($E144*SUMIF('Daily Log'!$N$18:$N$1017,$B144,'Daily Log'!$O$18:$O$1017),0)","v":0},{"$f":"IFERROR($E144*SUMIF('Daily Log'!$Q$18:$Q$1017,$B144,'Daily Log'!$R$18:$R$1017),0)","v":0},{"$f":"IFERROR($E144*SUMIF('Daily Log'!$T$18:$T$1017,$B144,'Daily Log'!$U$18:$U$1017),0)","v":0},{"$f":"IFERROR($E144*SUMIF('Daily Log'!$W$18:$W$1017,$B144,'Daily Log'!$X$18:$X$1017),0)","v":0},{"$f":"IFERROR($E144*SUMIF('Daily Log'!$Z$18:$Z$1017,$B144,'Daily Log'!$AA$18:$AA$1017),0)","v":0},{"$f":"IFERROR($E144*SUMIF('Daily Log'!$AC$18:$AC$1017,$B144,'Daily Log'!$AD$18:$AD$1017),0)","v":0},{"$f":"IFERROR($E144*SUMIF('Daily Log'!$AF$18:$AF$1017,$B144,'Daily Log'!$AG$18:$AG$1017),0)","v":0},{"$f":"IFERROR($E144*SUMIF('Daily Log'!$AI$18:$AI$1017,$B144,'Daily Log'!$AJ$18:$AJ$1017),0)","v":0},{"$f":"IFERROR($E144*SUMIF('Daily Log'!$AL$18:$AL$1017,$B144,'Daily Log'!$AM$18:$AM$1017),0)","v":0},{"$f":"IFERROR($E144*SUMIF('Daily Log'!$AO$18:$AO$1017,$B144,'Daily Log'!$AP$18:$AP$1017),0)","v":0},{"$f":"IFERROR($E144*SUMIF('Daily Log'!$AR$18:$AR$1017,$B144,'Daily Log'!$AS$18:$AS$1017),0)","v":0},{"$f":"IFERROR($E144*SUMIF('Daily Log'!$AU$18:$AU$1017,$B144,'Daily Log'!$AV$18:$AV$1017),0)","v":0},{"$f":"IFERROR($E144*SUMIF('Daily Log'!$AX$18:$AX$1017,$B144,'Daily Log'!$AY$18:$AY$1017),0)","v":0},{"$f":"IFERROR($E144*SUMIF('Daily Log'!$BA$18:$BA$1017,$B144,'Daily Log'!$BB$18:$BB$1017),0)","v":0},{"$f":"IFERROR($E144*SUMIF('Daily Log'!$BD$18:$BD$1017,$B144,'Daily Log'!$BE$18:$BE$1017),0)","v":0},{"$f":"IFERROR($E144*SUMIF('Daily Log'!$BG$18:$BG$1017,$B144,'Daily Log'!$BH$18:$BH$1017),0)","v":0},{"$f":"IFERROR($E144*SUMIF('Daily Log'!$BJ$18:$BJ$1017,$B144,'Daily Log'!$BK$18:$BK$1017),0)","v":0},{"$f":"IFERROR($E144*SUMIF('Daily Log'!$BM$18:$BM$1017,$B144,'Daily Log'!$BN$18:$BN$1017),0)","v":0},{"$f":"IFERROR($E144*SUMIF('Daily Log'!$BP$18:$BP$1017,$B144,'Daily Log'!$BQ$18:$BQ$1017),0)","v":0},{"$f":"IFERROR($E144*SUMIF('Daily Log'!$BS$18:$BS$1017,$B144,'Daily Log'!$BT$18:$BT$1017),0)","v":0},{"$f":"IFERROR($E144*SUMIF('Daily Log'!$BV$18:$BV$1017,$B144,'Daily Log'!$BW$18:$BW$1017),0)","v":0},{"$f":"IFERROR($E144*SUMIF('Daily Log'!$BY$18:$BY$1017,$B144,'Daily Log'!$BZ$18:$BZ$1017),0)","v":0},{"$f":"IFERROR($E144*SUMIF('Daily Log'!$CB$18:$CB$1017,$B144,'Daily Log'!$CC$18:$CC$1017),0)","v":0},{"$f":"IFERROR($E144*SUMIF('Daily Log'!$CE$18:$CE$1017,$B144,'Daily Log'!$CF$18:$CF$1017),0)","v":0},{"$f":"IFERROR($E144*SUMIF('Daily Log'!$CH$18:$CH$1017,$B144,'Daily Log'!$CI$18:$CI$1017),0)","v":0},{"$f":"IFERROR($E144*SUMIF('Daily Log'!$CK$18:$CK$1017,$B144,'Daily Log'!$CL$18:$CL$1017),0)","v":0},{"$f":"IFERROR($E144*SUMIF('Daily Log'!$CN$18:$CN$1017,$B144,'Daily Log'!$CO$18:$CO$1017),0)","v":0}]
[null,"RL03 71103:KO PO CHK",null,"REDEEMED",1,0,{"$f":"IFERROR($E145*SUMIF('Daily Log'!$B$18:$B$1017,$B145,'Daily Log'!$C$18:$C$1017),0)","v":0},{"$f":"IFERROR($E145*SUMIF('Daily Log'!$E$18:$E$1017,$B145,'Daily Log'!$F$18:$F$1017),0)","v":0},{"$f":"IFERROR($E145*SUMIF('Daily Log'!$H$18:$H$1017,$B145,'Daily Log'!$I$18:$I$1017),0)","v":0},{"$f":"IFERROR($E145*SUMIF('Daily Log'!$K$18:$K$1017,$B145,'Daily Log'!$L$18:$L$1017),0)","v":0},{"$f":"IFERROR($E145*SUMIF('Daily Log'!$N$18:$N$1017,$B145,'Daily Log'!$O$18:$O$1017),0)","v":0},{"$f":"IFERROR($E145*SUMIF('Daily Log'!$Q$18:$Q$1017,$B145,'Daily Log'!$R$18:$R$1017),0)","v":0},{"$f":"IFERROR($E145*SUMIF('Daily Log'!$T$18:$T$1017,$B145,'Daily Log'!$U$18:$U$1017),0)","v":0},{"$f":"IFERROR($E145*SUMIF('Daily Log'!$W$18:$W$1017,$B145,'Daily Log'!$X$18:$X$1017),0)","v":0},{"$f":"IFERROR($E145*SUMIF('Daily Log'!$Z$18:$Z$1017,$B145,'Daily Log'!$AA$18:$AA$1017),0)","v":0},{"$f":"IFERROR($E145*SUMIF('Daily Log'!$AC$18:$AC$1017,$B145,'Daily Log'!$AD$18:$AD$1017),0)","v":0},{"$f":"IFERROR($E145*SUMIF('Daily Log'!$AF$18:$AF$1017,$B145,'Daily Log'!$AG$18:$AG$1017),0)","v":0},{"$f":"IFERROR($E145*SUMIF('Daily Log'!$AI$18:$AI$1017,$B145,'Daily Log'!$AJ$18:$AJ$1017),0)","v":0},{"$f":"IFERROR($E145*SUMIF('Daily Log'!$AL$18:$AL$1017,$B145,'Daily Log'!$AM$18:$AM$1017),0)","v":0},{"$f":"IFERROR($E145*SUMIF('Daily Log'!$AO$18:$AO$1017,$B145,'Daily Log'!$AP$18:$AP$1017),0)","v":0},{"$f":"IFERROR($E145*SUMIF('Daily Log'!$AR$18:$AR$1017,$B145,'Daily Log'!$AS$18:$AS$1017),0)","v":0},{"$f":"IFERROR($E145*SUMIF('Daily Log'!$AU$18:$AU$1017,$B145,'Daily Log'!$AV$18:$AV$1017),0)","v":0},{"$f":"IFERROR($E145*SUMIF('Daily Log'!$AX$18:$AX$1017,$B145,'Daily Log'!$AY$18:$AY$1017),0)","v":0},{"$f":"IFERROR($E145*SUMIF('Daily Log'!$BA$18:$BA$1017,$B145,'Daily Log'!$BB$18:$BB$1017),0)","v":0},{"$f":"IFERROR($E145*SUMIF('Daily Log'!$BD$18:$BD$1017,$B145,'Daily Log'!$BE$18:$BE$1017),0)","v":0},{"$f":"IFERROR($E145*SUMIF('Daily Log'!$BG$18:$BG$1017,$B145,'Daily Log'!$BH$18:$BH$1017),0)","v":0},{"$f":"IFERROR($E145*SUMIF('Daily Log'!$BJ$18:$BJ$1017,$B145,'Daily Log'!$BK$18:$BK$1017),0)","v":0},{"$f":"IFERROR($E145*SUMIF('Daily Log'!$BM$18:$BM$1017,$B145,'Daily Log'!$BN$18:$BN$1017),0)","v":0},{"$f":"IFERROR($E145*SUMIF('Daily Log'!$BP$18:$BP$1017,$B145,'Daily Log'!$BQ$18:$BQ$1017),0)","v":0},{"$f":"IFERROR($E145*SUMIF('Daily Log'!$BS$18:$BS$1017,$B145,'Daily Log'!$BT$18:$BT$1017),0)","v":0},{"$f":"IFERROR($E145*SUMIF('Daily Log'!$BV$18:$BV$1017,$B145,'Daily Log'!$BW$18:$BW$1017),0)","v":0},{"$f":"IFERROR($E145*SUMIF('Daily Log'!$BY$18:$BY$1017,$B145,'Daily Log'!$BZ$18:$BZ$1017),0)","v":0},{"$f":"IFERROR($E145*SUMIF('Daily Log'!$CB$18:$CB$1017,$B145,'Daily Log'!$CC$18:$CC$1017),0)","v":0},{"$f":"IFERROR($E145*SUMIF('Daily Log'!$CE$18:$CE$1017,$B145,'Daily Log'!$CF$18:$CF$1017),0)","v":0},{"$f":"IFERROR($E145*SUMIF('Daily Log'!$CH$18:$CH$1017,$B145,'Daily Log'!$CI$18:$CI$1017),0)","v":0},{"$f":"IFERROR($E145*SUMIF('Daily Log'!$CK$18:$CK$1017,$B145,'Daily Log'!$CL$18:$CL$1017),0)","v":0},{"$f":"IFERROR($E145*SUMIF('Daily Log'!$CN$18:$CN$1017,$B145,'Daily Log'!$CO$18:$CO$1017),0)","v":0}]
[null,"RL04 71104:S&S CHK",null,"REDEEMED",1,0,{"$f":"IFERROR($E146*SUMIF('Daily Log'!$B$18:$B$1017,$B146,'Daily Log'!$C$18:$C$1017),0)","v":0},{"$f":"IFERROR($E146*SUMIF('Daily Log'!$E$18:$E$1017,$B146,'Daily Log'!$F$18:$F$1017),0)","v":0},{"$f":"IFERROR($E146*SUMIF('Daily Log'!$H$18:$H$1017,$B146,'Daily Log'!$I$18:$I$1017),0)","v":0},{"$f":"IFERROR($E146*SUMIF('Daily Log'!$K$18:$K$1017,$B146,'Daily Log'!$L$18:$L$1017),0)","v":0},{"$f":"IFERROR($E146*SUMIF('Daily Log'!$N$18:$N$1017,$B146,'Daily Log'!$O$18:$O$1017),0)","v":0},{"$f":"IFERROR($E146*SUMIF('Daily Log'!$Q$18:$Q$1017,$B146,'Daily Log'!$R$18:$R$1017),0)","v":0},{"$f":"IFERROR($E146*SUMIF('Daily Log'!$T$18:$T$1017,$B146,'Daily Log'!$U$18:$U$1017),0)","v":0},{"$f":"IFERROR($E146*SUMIF('Daily Log'!$W$18:$W$1017,$B146,'Daily Log'!$X$18:$X$1017),0)","v":0},{"$f":"IFERROR($E146*SUMIF('Daily Log'!$Z$18:$Z$1017,$B146,'Daily Log'!$AA$18:$AA$1017),0)","v":0},{"$f":"IFERROR($E146*SUMIF('Daily Log'!$AC$18:$AC$1017,$B146,'Daily Log'!$AD$18:$AD$1017),0)","v":0},{"$f":"IFERROR($E146*SUMIF('Daily Log'!$AF$18:$AF$1017,$B146,'Daily Log'!$AG$18:$AG$1017),0)","v":0},{"$f":"IFERROR($E146*SUMIF('Daily Log'!$AI$18:$AI$1017,$B146,'Daily Log'!$AJ$18:$AJ$1017),0)","v":0},{"$f":"IFERROR($E146*SUMIF('Daily Log'!$AL$18:$AL$1017,$B146,'Daily Log'!$AM$18:$AM$1017),0)","v":0},{"$f":"IFERROR($E146*SUMIF('Daily Log'!$AO$18:$AO$1017,$B146,'Daily Log'!$AP$18:$AP$1017),0)","v":0},{"$f":"IFERROR($E146*SUMIF('Daily Log'!$AR$18:$AR$1017,$B146,'Daily Log'!$AS$18:$AS$1017),0)","v":0},{"$f":"IFERROR($E146*SUMIF('Daily Log'!$AU$18:$AU$1017,$B146,'Daily Log'!$AV$18:$AV$1017),0)","v":0},{"$f":"IFERROR($E146*SUMIF('Daily Log'!$AX$18:$AX$1017,$B146,'Daily Log'!$AY$18:$AY$1017),0)","v":0},{"$f":"IFERROR($E146*SUMIF('Daily Log'!$BA$18:$BA$1017,$B146,'Daily Log'!$BB$18:$BB$1017),0)","v":0},{"$f":"IFERROR($E146*SUMIF('Daily Log'!$BD$18:$BD$1017,$B146,'Daily Log'!$BE$18:$BE$1017),0)","v":0},{"$f":"IFERROR($E146*SUMIF('Daily Log'!$BG$18:$BG$1017,$B146,'Daily Log'!$BH$18:$BH$1017),0)","v":0},{"$f":"IFERROR($E146*SUMIF('Daily Log'!$BJ$18:$BJ$1017,$B146,'Daily Log'!$BK$18:$BK$1017),0)","v":0},{"$f":"IFERROR($E146*SUMIF('Daily Log'!$BM$18:$BM$1017,$B146,'Daily Log'!$BN$18:$BN$1017),0)","v":0},{"$f":"IFERROR($E146*SUMIF('Daily Log'!$BP$18:$BP$1017,$B146,'Daily Log'!$BQ$18:$BQ$1017),0)","v":0},{"$f":"IFERROR($E146*SUMIF('Daily Log'!$BS$18:$BS$1017,$B146,'Daily Log'!$BT$18:$BT$1017),0)","v":0},{"$f":"IFERROR($E146*SUMIF('Daily Log'!$BV$18:$BV$1017,$B146,'Daily Log'!$BW$18:$BW$1017),0)","v":0},{"$f":"IFERROR($E146*SUMIF('Daily Log'!$BY$18:$BY$1017,$B146,'Daily Log'!$BZ$18:$BZ$1017),0)","v":0},{"$f":"IFERROR($E146*SUMIF('Daily Log'!$CB$18:$CB$1017,$B146,'Daily Log'!$CC$18:$CC$1017),0)","v":0},{"$f":"IFERROR($E146*SUMIF('Daily Log'!$CE$18:$CE$1017,$B146,'Daily Log'!$CF$18:$CF$1017),0)","v":0},{"$f":"IFERROR($E146*SUMIF('Daily Log'!$CH$18:$CH$1017,$B146,'Daily Log'!$CI$18:$CI$1017),0)","v":0},{"$f":"IFERROR($E146*SUMIF('Daily Log'!$CK$18:$CK$1017,$B146,'Daily Log'!$CL$18:$CL$1017),0)","v":0},{"$f":"IFERROR($E146*SUMIF('Daily Log'!$CN$18:$CN$1017,$B146,'Daily Log'!$CO$18:$CO$1017),0)","v":0}]
[null,"RL05 71105:BUTTER CHK",null,"REDEEMED",1,0,{"$f":"IFERROR($E147*SUMIF('Daily Log'!$B$18:$B$1017,$B147,'Daily Log'!$C$18:$C$1017),0)","v":0},{"$f":"IFERROR($E147*SUMIF('Daily Log'!$E$18:$E$1017,$B147,'Daily Log'!$F$18:$F$1017),0)","v":0},{"$f":"IFERROR($E147*SUMIF('Daily Log'!$H$18:$H$1017,$B147,'Daily Log'!$I$18:$I$1017),0)","v":0},{"$f":"IFERROR($E147*SUMIF('Daily Log'!$K$18:$K$1017,$B147,'Daily Log'!$L$18:$L$1017),0)","v":0},{"$f":"IFERROR($E147*SUMIF('Daily Log'!$N$18:$N$1017,$B147,'Daily Log'!$O$18:$O$1017),0)","v":0},{"$f":"IFERROR($E147*SUMIF('Daily Log'!$Q$18:$Q$1017,$B147,'Daily Log'!$R$18:$R$1017),0)","v":0},{"$f":"IFERROR($E147*SUMIF('Daily Log'!$T$18:$T$1017,$B147,'Daily Log'!$U$18:$U$1017),0)","v":0},{"$f":"IFERROR($E147*SUMIF('Daily Log'!$W$18:$W$1017,$B147,'Daily Log'!$X$18:$X$1017),0)","v":0},{"$f":"IFERROR($E147*SUMIF('Daily Log'!$Z$18:$Z$1017,$B147,'Daily Log'!$AA$18:$AA$1017),0)","v":0},{"$f":"IFERROR($E147*SUMIF('Daily Log'!$AC$18:$AC$1017,$B147,'Daily Log'!$AD$18:$AD$1017),0)","v":0},{"$f":"IFERROR($E147*SUMIF('Daily Log'!$AF$18:$AF$1017,$B147,'Daily Log'!$AG$18:$AG$1017),0)","v":0},{"$f":"IFERROR($E147*SUMIF('Daily Log'!$AI$18:$AI$1017,$B147,'Daily Log'!$AJ$18:$AJ$1017),0)","v":0},{"$f":"IFERROR($E147*SUMIF('Daily Log'!$AL$18:$AL$1017,$B147,'Daily Log'!$AM$18:$AM$1017),0)","v":0},{"$f":"IFERROR($E147*SUMIF('Daily Log'!$AO$18:$AO$1017,$B147,'Daily Log'!$AP$18:$AP$1017),0)","v":0},{"$f":"IFERROR($E147*SUMIF('Daily Log'!$AR$18:$AR$1017,$B147,'Daily Log'!$AS$18:$AS$1017),0)","v":0},{"$f":"IFERROR($E147*SUMIF('Daily Log'!$AU$18:$AU$1017,$B147,'Daily Log'!$AV$18:$AV$1017),0)","v":0},{"$f":"IFERROR($E147*SUMIF('Daily Log'!$AX$18:$AX$1017,$B147,'Daily Log'!$AY$18:$AY$1017),0)","v":0},{"$f":"IFERROR($E147*SUMIF('Daily Log'!$BA$18:$BA$1017,$B147,'Daily Log'!$BB$18:$BB$1017),0)","v":0},{"$f":"IFERROR($E147*SUMIF('Daily Log'!$BD$18:$BD$1017,$B147,'Daily Log'!$BE$18:$BE$1017),0)","v":0},{"$f":"IFERROR($E147*SUMIF('Daily Log'!$BG$18:$BG$1017,$B147,'Daily Log'!$BH$18:$BH$1017),0)","v":0},{"$f":"IFERROR($E147*SUMIF('Daily Log'!$BJ$18:$BJ$1017,$B147,'Daily Log'!$BK$18:$BK$1017),0)","v":0},{"$f":"IFERROR($E147*SUMIF('Daily Log'!$BM$18:$BM$1017,$B147,'Daily Log'!$BN$18:$BN$1017),0)","v":0},{"$f":"IFERROR($E147*SUMIF('Daily Log'!$BP$18:$BP$1017,$B147,'Daily Log'!$BQ$18:$BQ$1017),0)","v":0},{"$f":"IFERROR($E147*SUMIF('Daily Log'!$BS$18:$BS$1017,$B147,'Daily Log'!$BT$18:$BT$1017),0)","v":0},{"$f":"IFERROR($E147*SUMIF('Daily Log'!$BV$18:$BV$1017,$B147,'Daily Log'!$BW$18:$BW$1017),0)","v":0},{"$f":"IFERROR($E147*SUMIF('Daily Log'!$BY$18:$BY$1017,$B147,'Daily Log'!$BZ$18:$BZ$1017),0)","v":0},{"$f":"IFERROR($E147*SUMIF('Daily Log'!$CB$18:$CB$1017,$B147,'Daily Log'!$CC$18:$CC$1017),0)","v":0},{"$f":"IFERROR($E147*SUMIF('Daily Log'!$CE$18:$CE$1017,$B147,'Daily Log'!$CF$18:$CF$1017),0)","v":0},{"$f":"IFERROR($E147*SUMIF('Daily Log'!$CH$18:$CH$1017,$B147,'Daily Log'!$CI$18:$CI$1017),0)","v":0},{"$f":"IFERROR($E147*SUMIF('Daily Log'!$CK$18:$CK$1017,$B147,'Daily Log'!$CL$18:$CL$1017),0)","v":0},{"$f":"IFERROR($E147*SUMIF('Daily Log'!$CN$18:$CN$1017,$B147,'Daily Log'!$CO$18:$CO$1017),0)","v":0}]
[null,"RL06 71106:HK F.RICE",null,"REDEEMED",1,0,{"$f":"IFERROR($E148*SUMIF('Daily Log'!$B$18:$B$1017,$B148,'Daily Log'!$C$18:$C$1017),0)","v":0},{"$f":"IFERROR($E148*SUMIF('Daily Log'!$E$18:$E$1017,$B148,'Daily Log'!$F$18:$F$1017),0)","v":0},{"$f":"IFERROR($E148*SUMIF('Daily Log'!$H$18:$H$1017,$B148,'Daily Log'!$I$18:$I$1017),0)","v":0},{"$f":"IFERROR($E148*SUMIF('Daily Log'!$K$18:$K$1017,$B148,'Daily Log'!$L$18:$L$1017),0)","v":0},{"$f":"IFERROR($E148*SUMIF('Daily Log'!$N$18:$N$1017,$B148,'Daily Log'!$O$18:$O$1017),0)","v":0},{"$f":"IFERROR($E148*SUMIF('Daily Log'!$Q$18:$Q$1017,$B148,'Daily Log'!$R$18:$R$1017),0)","v":0},{"$f":"IFERROR($E148*SUMIF('Daily Log'!$T$18:$T$1017,$B148,'Daily Log'!$U$18:$U$1017),0)","v":0},{"$f":"IFERROR($E148*SUMIF('Daily Log'!$W$18:$W$1017,$B148,'Daily Log'!$X$18:$X$1017),0)","v":0},{"$f":"IFERROR($E148*SUMIF('Daily Log'!$Z$18:$Z$1017,$B148,'Daily Log'!$AA$18:$AA$1017),0)","v":0},{"$f":"IFERROR($E148*SUMIF('Daily Log'!$AC$18:$AC$1017,$B148,'Daily Log'!$AD$18:$AD$1017),0)","v":0},{"$f":"IFERROR($E148*SUMIF('Daily Log'!$AF$18:$AF$1017,$B148,'Daily Log'!$AG$18:$AG$1017),0)","v":0},{"$f":"IFERROR($E148*SUMIF('Daily Log'!$AI$18:$AI$1017,$B148,'Daily Log'!$AJ$18:$AJ$1017),0)","v":0},{"$f":"IFERROR($E148*SUMIF('Daily Log'!$AL$18:$AL$1017,$B148,'Daily Log'!$AM$18:$AM$1017),0)","v":0},{"$f":"IFERROR($E148*SUMIF('Daily Log'!$AO$18:$AO$1017,$B148,'Daily Log'!$AP$18:$AP$1017),0)","v":0},{"$f":"IFERROR($E148*SUMIF('Daily Log'!$AR$18:$AR$1017,$B148,'Daily Log'!$AS$18:$AS$1017),0)","v":0},{"$f":"IFERROR($E148*SUMIF('Daily Log'!$AU$18:$AU$1017,$B148,'Daily Log'!$AV$18:$AV$1017),0)","v":0},{"$f":"IFERROR($E148*SUMIF('Daily Log'!$AX$18:$AX$1017,$B148,'Daily Log'!$AY$18:$AY$1017),0)","v":0},{"$f":"IFERROR($E148*SUMIF('Daily Log'!$BA$18:$BA$1017,$B148,'Daily Log'!$BB$18:$BB$1017),0)","v":0},{"$f":"IFERROR($E148*SUMIF('Daily Log'!$BD$18:$BD$1017,$B148,'Daily Log'!$BE$18:$BE$1017),0)","v":0},{"$f":"IFERROR($E148*SUMIF('Daily Log'!$BG$18:$BG$1017,$B148,'Daily Log'!$BH$18:$BH$1017),0)","v":0},{"$f":"IFERROR($E148*SUMIF('Daily Log'!$BJ$18:$BJ$1017,$B148,'Daily Log'!$BK$18:$BK$1017),0)","v":0},{"$f":"IFERROR($E148*SUMIF('Daily Log'!$BM$18:$BM$1017,$B148,'Daily Log'!$BN$18:$BN$1017),0)","v":0},{"$f":"IFERROR($E148*SUMIF('Daily Log'!$BP$18:$BP$1017,$B148,'Daily Log'!$BQ$18:$BQ$1017),0)","v":0},{"$f":"IFERROR($E148*SUMIF('Daily Log'!$BS$18:$BS$1017,$B148,'Daily Log'!$BT$18:$BT$1017),0)","v":0},{"$f":"IFERROR($E148*SUMIF('Daily Log'!$BV$18:$BV$1017,$B148,'Daily Log'!$BW$18:$BW$1017),0)","v":0},{"$f":"IFERROR($E148*SUMIF('Daily Log'!$BY$18:$BY$1017,$B148,'Daily Log'!$BZ$18:$BZ$1017),0)","v":0},{"$f":"IFERROR($E148*SUMIF('Daily Log'!$CB$18:$CB$1017,$B148,'Daily Log'!$CC$18:$CC$1017),0)","v":0},{"$f":"IFERROR($E148*SUMIF('Daily Log'!$CE$18:$CE$1017,$B148,'Daily Log'!$CF$18:$CF$1017),0)","v":0},{"$f":"IFERROR($E148*SUMIF('Daily Log'!$CH$18:$CH$1017,$B148,'Daily Log'!$CI$18:$CI$1017),0)","v":0},{"$f":"IFERROR($E148*SUMIF('Daily Log'!$CK$18:$CK$1017,$B148,'Daily Log'!$CL$18:$CL$1017),0)","v":0},{"$f":"IFERROR($E148*SUMIF('Daily Log'!$CN$18:$CN$1017,$B148,'Daily Log'!$CO$18:$CO$1017),0)","v":0}]
[null,"RL07 71107:SBL F.RICE",null,"REDEEMED",1,0,{"$f":"IFERROR($E149*SUMIF('Daily Log'!$B$18:$B$1017,$B149,'Daily Log'!$C$18:$C$1017),0)","v":0},{"$f":"IFERROR($E149*SUMIF('Daily Log'!$E$18:$E$1017,$B149,'Daily Log'!$F$18:$F$1017),0)","v":0},{"$f":"IFERROR($E149*SUMIF('Daily Log'!$H$18:$H$1017,$B149,'Daily Log'!$I$18:$I$1017),0)","v":0},{"$f":"IFERROR($E149*SUMIF('Daily Log'!$K$18:$K$1017,$B149,'Daily Log'!$L$18:$L$1017),0)","v":0},{"$f":"IFERROR($E149*SUMIF('Daily Log'!$N$18:$N$1017,$B149,'Daily Log'!$O$18:$O$1017),0)","v":0},{"$f":"IFERROR($E149*SUMIF('Daily Log'!$Q$18:$Q$1017,$B149,'Daily Log'!$R$18:$R$1017),0)","v":0},{"$f":"IFERROR($E149*SUMIF('Daily Log'!$T$18:$T$1017,$B149,'Daily Log'!$U$18:$U$1017),0)","v":0},{"$f":"IFERROR($E149*SUMIF('Daily Log'!$W$18:$W$1017,$B149,'Daily Log'!$X$18:$X$1017),0)","v":0},{"$f":"IFERROR($E149*SUMIF('Daily Log'!$Z$18:$Z$1017,$B149,'Daily Log'!$AA$18:$AA$1017),0)","v":0},{"$f":"IFERROR($E149*SUMIF('Daily Log'!$AC$18:$AC$1017,$B149,'Daily Log'!$AD$18:$AD$1017),0)","v":0},{"$f":"IFERROR($E149*SUMIF('Daily Log'!$AF$18:$AF$1017,$B149,'Daily Log'!$AG$18:$AG$1017),0)","v":0},{"$f":"IFERROR($E149*SUMIF('Daily Log'!$AI$18:$AI$1017,$B149,'Daily Log'!$AJ$18:$AJ$1017),0)","v":0},{"$f":"IFERROR($E149*SUMIF('Daily Log'!$AL$18:$AL$1017,$B149,'Daily Log'!$AM$18:$AM$1017),0)","v":0},{"$f":"IFERROR($E149*SUMIF('Daily Log'!$AO$18:$AO$1017,$B149,'Daily Log'!$AP$18:$AP$1017),0)","v":0},{"$f":"IFERROR($E149*SUMIF('Daily Log'!$AR$18:$AR$1017,$B149,'Daily Log'!$AS$18:$AS$1017),0)","v":0},{"$f":"IFERROR($E149*SUMIF('Daily Log'!$AU$18:$AU$1017,$B149,'Daily Log'!$AV$18:$AV$1017),0)","v":0},{"$f":"IFERROR($E149*SUMIF('Daily Log'!$AX$18:$AX$1017,$B149,'Daily Log'!$AY$18:$AY$1017),0)","v":0},{"$f":"IFERROR($E149*SUMIF('Daily Log'!$BA$18:$BA$1017,$B149,'Daily Log'!$BB$18:$BB$1017),0)","v":0},{"$f":"IFERROR($E149*SUMIF('Daily Log'!$BD$18:$BD$1017,$B149,'Daily Log'!$BE$18:$BE$1017),0)","v":0},{"$f":"IFERROR($E149*SUMIF('Daily Log'!$BG$18:$BG$1017,$B149,'Daily Log'!$BH$18:$BH$1017),0)","v":0},{"$f":"IFERROR($E149*SUMIF('Daily Log'!$BJ$18:$BJ$1017,$B149,'Daily Log'!$BK$18:$BK$1017),0)","v":0},{"$f":"IFERROR($E149*SUMIF('Daily Log'!$BM$18:$BM$1017,$B149,'Daily Log'!$BN$18:$BN$1017),0)","v":0},{"$f":"IFERROR($E149*SUMIF('Daily Log'!$BP$18:$BP$1017,$B149,'Daily Log'!$BQ$18:$BQ$1017),0)","v":0},{"$f":"IFERROR($E149*SUMIF('Daily Log'!$BS$18:$BS$1017,$B149,'Daily Log'!$BT$18:$BT$1017),0)","v":0},{"$f":"IFERROR($E149*SUMIF('Daily Log'!$BV$18:$BV$1017,$B149,'Daily Log'!$BW$18:$BW$1017),0)","v":0},{"$f":"IFERROR($E149*SUMIF('Daily Log'!$BY$18:$BY$1017,$B149,'Daily Log'!$BZ$18:$BZ$1017),0)","v":0},{"$f":"IFERROR($E149*SUMIF('Daily Log'!$CB$18:$CB$1017,$B149,'Daily Log'!$CC$18:$CC$1017),0)","v":0},{"$f":"IFERROR($E149*SUMIF('Daily Log'!$CE$18:$CE$1017,$B149,'Daily Log'!$CF$18:$CF$1017),0)","v":0},{"$f":"IFERROR($E149*SUMIF('Daily Log'!$CH$18:$CH$1017,$B149,'Daily Log'!$CI$18:$CI$1017),0)","v":0},{"$f":"IFERROR($E149*SUMIF('Daily Log'!$CK$18:$CK$1017,$B149,'Daily Log'!$CL$18:$CL$1017),0)","v":0},{"$f":"IFERROR($E149*SUMIF('Daily Log'!$CN$18:$CN$1017,$B149,'Daily Log'!$CO$18:$CO$1017),0)","v":0}]
[null,"RL08 71108:SBL F.MEE",null,"REDEEMED",1,0,{"$f":"IFERROR($E150*SUMIF('Daily Log'!$B$18:$B$1017,$B150,'Daily Log'!$C$18:$C$1017),0)","v":0},{"$f":"IFERROR($E150*SUMIF('Daily Log'!$E$18:$E$1017,$B150,'Daily Log'!$F$18:$F$1017),0)","v":0},{"$f":"IFERROR($E150*SUMIF('Daily Log'!$H$18:$H$1017,$B150,'Daily Log'!$I$18:$I$1017),0)","v":0},{"$f":"IFERROR($E150*SUMIF('Daily Log'!$K$18:$K$1017,$B150,'Daily Log'!$L$18:$L$1017),0)","v":0},{"$f":"IFERROR($E150*SUMIF('Daily Log'!$N$18:$N$1017,$B150,'Daily Log'!$O$18:$O$1017),0)","v":0},{"$f":"IFERROR($E150*SUMIF('Daily Log'!$Q$18:$Q$1017,$B150,'Daily Log'!$R$18:$R$1017),0)","v":0},{"$f":"IFERROR($E150*SUMIF('Daily Log'!$T$18:$T$1017,$B150,'Daily Log'!$U$18:$U$1017),0)","v":0},{"$f":"IFERROR($E150*SUMIF('Daily Log'!$W$18:$W$1017,$B150,'Daily Log'!$X$18:$X$1017),0)","v":0},{"$f":"IFERROR($E150*SUMIF('Daily Log'!$Z$18:$Z$1017,$B150,'Daily Log'!$AA$18:$AA$1017),0)","v":0},{"$f":"IFERROR($E150*SUMIF('Daily Log'!$AC$18:$AC$1017,$B150,'Daily Log'!$AD$18:$AD$1017),0)","v":0},{"$f":"IFERROR($E150*SUMIF('Daily Log'!$AF$18:$AF$1017,$B150,'Daily Log'!$AG$18:$AG$1017),0)","v":0},{"$f":"IFERROR($E150*SUMIF('Daily Log'!$AI$18:$AI$1017,$B150,'Daily Log'!$AJ$18:$AJ$1017),0)","v":0},{"$f":"IFERROR($E150*SUMIF('Daily Log'!$AL$18:$AL$1017,$B150,'Daily Log'!$AM$18:$AM$1017),0)","v":0},{"$f":"IFERROR($E150*SUMIF('Daily Log'!$AO$18:$AO$1017,$B150,'Daily Log'!$AP$18:$AP$1017),0)","v":0},{"$f":"IFERROR($E150*SUMIF('Daily Log'!$AR$18:$AR$1017,$B150,'Daily Log'!$AS$18:$AS$1017),0)","v":0},{"$f":"IFERROR($E150*SUMIF('Daily Log'!$AU$18:$AU$1017,$B150,'Daily Log'!$AV$18:$AV$1017),0)","v":0},{"$f":"IFERROR($E150*SUMIF('Daily Log'!$AX$18:$AX$1017,$B150,'Daily Log'!$AY$18:$AY$1017),0)","v":0},{"$f":"IFERROR($E150*SUMIF('Daily Log'!$BA$18:$BA$1017,$B150,'Daily Log'!$BB$18:$BB$1017),0)","v":0},{"$f":"IFERROR($E150*SUMIF('Daily Log'!$BD$18:$BD$1017,$B150,'Daily Log'!$BE$18:$BE$1017),0)","v":0},{"$f":"IFERROR($E150*SUMIF('Daily Log'!$BG$18:$BG$1017,$B150,'Daily Log'!$BH$18:$BH$1017),0)","v":0},{"$f":"IFERROR($E150*SUMIF('Daily Log'!$BJ$18:$BJ$1017,$B150,'Daily Log'!$BK$18:$BK$1017),0)","v":0},{"$f":"IFERROR($E150*SUMIF('Daily Log'!$BM$18:$BM$1017,$B150,'Daily Log'!$BN$18:$BN$1017),0)","v":0},{"$f":"IFERROR($E150*SUMIF('Daily Log'!$BP$18:$BP$1017,$B150,'Daily Log'!$BQ$18:$BQ$1017),0)","v":0},{"$f":"IFERROR($E150*SUMIF('Daily Log'!$BS$18:$BS$1017,$B150,'Daily Log'!$BT$18:$BT$1017),0)","v":0},{"$f":"IFERROR($E150*SUMIF('Daily Log'!$BV$18:$BV$1017,$B150,'Daily Log'!$BW$18:$BW$1017),0)","v":0},{"$f":"IFERROR($E150*SUMIF('Daily Log'!$BY$18:$BY$1017,$B150,'Daily Log'!$BZ$18:$BZ$1017),0)","v":0},{"$f":"IFERROR($E150*SUMIF('Daily Log'!$CB$18:$CB$1017,$B150,'Daily Log'!$CC$18:$CC$1017),0)","v":0},{"$f":"IFERROR($E150*SUMIF('Daily Log'!$CE$18:$CE$1017,$B150,'Daily Log'!$CF$18:$CF$1017),0)","v":0},{"$f":"IFERROR($E150*SUMIF('Daily Log'!$CH$18:$CH$1017,$B150,'Daily Log'!$CI$18:$CI$1017),0)","v":0},{"$f":"IFERROR($E150*SUMIF('Daily Log'!$CK$18:$CK$1017,$B150,'Daily Log'!$CL$18:$CL$1017),0)","v":0},{"$f":"IFERROR($E150*SUMIF('Daily Log'!$CN$18:$CN$1017,$B150,'Daily Log'!$CO$18:$CO$1017),0)","v":0}]
[null,"RL09 71109:BP UDON",null,"REDEEMED",1,0,{"$f":"IFERROR($E151*SUMIF('Daily Log'!$B$18:$B$1017,$B151,'Daily Log'!$C$18:$C$1017),0)","v":0},{"$f":"IFERROR($E151*SUMIF('Daily Log'!$E$18:$E$1017,$B151,'Daily Log'!$F$18:$F$1017),0)","v":0},{"$f":"IFERROR($E151*SUMIF('Daily Log'!$H$18:$H$1017,$B151,'Daily Log'!$I$18:$I$1017),0)","v":0},{"$f":"IFERROR($E151*SUMIF('Daily Log'!$K$18:$K$1017,$B151,'Daily Log'!$L$18:$L$1017),0)","v":0},{"$f":"IFERROR($E151*SUMIF('Daily Log'!$N$18:$N$1017,$B151,'Daily Log'!$O$18:$O$1017),0)","v":0},{"$f":"IFERROR($E151*SUMIF('Daily Log'!$Q$18:$Q$1017,$B151,'Daily Log'!$R$18:$R$1017),0)","v":0},{"$f":"IFERROR($E151*SUMIF('Daily Log'!$T$18:$T$1017,$B151,'Daily Log'!$U$18:$U$1017),0)","v":0},{"$f":"IFERROR($E151*SUMIF('Daily Log'!$W$18:$W$1017,$B151,'Daily Log'!$X$18:$X$1017),0)","v":0},{"$f":"IFERROR($E151*SUMIF('Daily Log'!$Z$18:$Z$1017,$B151,'Daily Log'!$AA$18:$AA$1017),0)","v":0},{"$f":"IFERROR($E151*SUMIF('Daily Log'!$AC$18:$AC$1017,$B151,'Daily Log'!$AD$18:$AD$1017),0)","v":0},{"$f":"IFERROR($E151*SUMIF('Daily Log'!$AF$18:$AF$1017,$B151,'Daily Log'!$AG$18:$AG$1017),0)","v":0},{"$f":"IFERROR($E151*SUMIF('Daily Log'!$AI$18:$AI$1017,$B151,'Daily Log'!$AJ$18:$AJ$1017),0)","v":0},{"$f":"IFERROR($E151*SUMIF('Daily Log'!$AL$18:$AL$1017,$B151,'Daily Log'!$AM$18:$AM$1017),0)","v":0},{"$f":"IFERROR($E151*SUMIF('Daily Log'!$AO$18:$AO$1017,$B151,'Daily Log'!$AP$18:$AP$1017),0)","v":0},{"$f":"IFERROR($E151*SUMIF('Daily Log'!$AR$18:$AR$1017,$B151,'Daily Log'!$AS$18:$AS$1017),0)","v":0},{"$f":"IFERROR($E151*SUMIF('Daily Log'!$AU$18:$AU$1017,$B151,'Daily Log'!$AV$18:$AV$1017),0)","v":0},{"$f":"IFERROR($E151*SUMIF('Daily Log'!$AX$18:$AX$1017,$B151,'Daily Log'!$AY$18:$AY$1017),0)","v":0},{"$f":"IFERROR($E151*SUMIF('Daily Log'!$BA$18:$BA$1017,$B151,'Daily Log'!$BB$18:$BB$1017),0)","v":0},{"$f":"IFERROR($E151*SUMIF('Daily Log'!$BD$18:$BD$1017,$B151,'Daily Log'!$BE$18:$BE$1017),0)","v":0},{"$f":"IFERROR($E151*SUMIF('Daily Log'!$BG$18:$BG$1017,$B151,'Daily Log'!$BH$18:$BH$1017),0)","v":0},{"$f":"IFERROR($E151*SUMIF('Daily Log'!$BJ$18:$BJ$1017,$B151,'Daily Log'!$BK$18:$BK$1017),0)","v":0},{"$f":"IFERROR($E151*SUMIF('Daily Log'!$BM$18:$BM$1017,$B151,'Daily Log'!$BN$18:$BN$1017),0)","v":0},{"$f":"IFERROR($E151*SUMIF('Daily Log'!$BP$18:$BP$1017,$B151,'Daily Log'!$BQ$18:$BQ$1017),0)","v":0},{"$f":"IFERROR($E151*SUMIF('Daily Log'!$BS$18:$BS$1017,$B151,'Daily Log'!$BT$18:$BT$1017),0)","v":0},{"$f":"IFERROR($E151*SUMIF('Daily Log'!$BV$18:$BV$1017,$B151,'Daily Log'!$BW$18:$BW$1017),0)","v":0},{"$f":"IFERROR($E151*SUMIF('Daily Log'!$BY$18:$BY$1017,$B151,'Daily Log'!$BZ$18:$BZ$1017),0)","v":0},{"$f":"IFERROR($E151*SUMIF('Daily Log'!$CB$18:$CB$1017,$B151,'Daily Log'!$CC$18:$CC$1017),0)","v":0},{"$f":"IFERROR($E151*SUMIF('Daily Log'!$CE$18:$CE$1017,$B151,'Daily Log'!$CF$18:$CF$1017),0)","v":0},{"$f":"IFERROR($E151*SUMIF('Daily Log'!$CH$18:$CH$1017,$B151,'Daily Log'!$CI$18:$CI$1017),0)","v":0},{"$f":"IFERROR($E151*SUMIF('Daily Log'!$CK$18:$CK$1017,$B151,'Daily Log'!$CL$18:$CL$1017),0)","v":0},{"$f":"IFERROR($E151*SUMIF('Daily Log'!$CN$18:$CN$1017,$B151,'Daily Log'!$CO$18:$CO$1017),0)","v":0}]
[null,"RL10 71110:NISSIN",null,"REDEEMED",1,0,{"$f":"IFERROR($E152*SUMIF('Daily Log'!$B$18:$B$1017,$B152,'Daily Log'!$C$18:$C$1017),0)","v":0},{"$f":"IFERROR($E152*SUMIF('Daily Log'!$E$18:$E$1017,$B152,'Daily Log'!$F$18:$F$1017),0)","v":0},{"$f":"IFERROR($E152*SUMIF('Daily Log'!$H$18:$H$1017,$B152,'Daily Log'!$I$18:$I$1017),0)","v":0},{"$f":"IFERROR($E152*SUMIF('Daily Log'!$K$18:$K$1017,$B152,'Daily Log'!$L$18:$L$1017),0)","v":0},{"$f":"IFERROR($E152*SUMIF('Daily Log'!$N$18:$N$1017,$B152,'Daily Log'!$O$18:$O$1017),0)","v":0},{"$f":"IFERROR($E152*SUMIF('Daily Log'!$Q$18:$Q$1017,$B152,'Daily Log'!$R$18:$R$1017),0)","v":0},{"$f":"IFERROR($E152*SUMIF('Daily Log'!$T$18:$T$1017,$B152,'Daily Log'!$U$18:$U$1017),0)","v":0},{"$f":"IFERROR($E152*SUMIF('Daily Log'!$W$18:$W$1017,$B152,'Daily Log'!$X$18:$X$1017),0)","v":0},{"$f":"IFERROR($E152*SUMIF('Daily Log'!$Z$18:$Z$1017,$B152,'Daily Log'!$AA$18:$AA$1017),0)","v":0},{"$f":"IFERROR($E152*SUMIF('Daily Log'!$AC$18:$AC$1017,$B152,'Daily Log'!$AD$18:$AD$1017),0)","v":0},{"$f":"IFERROR($E152*SUMIF('Daily Log'!$AF$18:$AF$1017,$B152,'Daily Log'!$AG$18:$AG$1017),0)","v":0},{"$f":"IFERROR($E152*SUMIF('Daily Log'!$AI$18:$AI$1017,$B152,'Daily Log'!$AJ$18:$AJ$1017),0)","v":0},{"$f":"IFERROR($E152*SUMIF('Daily Log'!$AL$18:$AL$1017,$B152,'Daily Log'!$AM$18:$AM$1017),0)","v":0},{"$f":"IFERROR($E152*SUMIF('Daily Log'!$AO$18:$AO$1017,$B152,'Daily Log'!$AP$18:$AP$1017),0)","v":0},{"$f":"IFERROR($E152*SUMIF('Daily Log'!$AR$18:$AR$1017,$B152,'Daily Log'!$AS$18:$AS$1017),0)","v":0},{"$f":"IFERROR($E152*SUMIF('Daily Log'!$AU$18:$AU$1017,$B152,'Daily Log'!$AV$18:$AV$1017),0)","v":0},{"$f":"IFERROR($E152*SUMIF('Daily Log'!$AX$18:$AX$1017,$B152,'Daily Log'!$AY$18:$AY$1017),0)","v":0},{"$f":"IFERROR($E152*SUMIF('Daily Log'!$BA$18:$BA$1017,$B152,'Daily Log'!$BB$18:$BB$1017),0)","v":0},{"$f":"IFERROR($E152*SUMIF('Daily Log'!$BD$18:$BD$1017,$B152,'Daily Log'!$BE$18:$BE$1017),0)","v":0},{"$f":"IFERROR($E152*SUMIF('Daily Log'!$BG$18:$BG$1017,$B152,'Daily Log'!$BH$18:$BH$1017),0)","v":0},{"$f":"IFERROR($E152*SUMIF('Daily Log'!$BJ$18:$BJ$1017,$B152,'Daily Log'!$BK$18:$BK$1017),0)","v":0},{"$f":"IFERROR($E152*SUMIF('Daily Log'!$BM$18:$BM$1017,$B152,'Daily Log'!$BN$18:$BN$1017),0)","v":0},{"$f":"IFERROR($E152*SUMIF('Daily Log'!$BP$18:$BP$1017,$B152,'Daily Log'!$BQ$18:$BQ$1017),0)","v":0},{"$f":"IFERROR($E152*SUMIF('Daily Log'!$BS$18:$BS$1017,$B152,'Daily Log'!$BT$18:$BT$1017),0)","v":0},{"$f":"IFERROR($E152*SUMIF('Daily Log'!$BV$18:$BV$1017,$B152,'Daily Log'!$BW$18:$BW$1017),0)","v":0},{"$f":"IFERROR($E152*SUMIF('Daily Log'!$BY$18:$BY$1017,$B152,'Daily Log'!$BZ$18:$BZ$1017),0)","v":0},{"$f":"IFERROR($E152*SUMIF('Daily Log'!$CB$18:$CB$1017,$B152,'Daily Log'!$CC$18:$CC$1017),0)","v":0},{"$f":"IFERROR($E152*SUMIF('Daily Log'!$CE$18:$CE$1017,$B152,'Daily Log'!$CF$18:$CF$1017),0)","v":0},{"$f":"IFERROR($E152*SUMIF('Daily Log'!$CH$18:$CH$1017,$B152,'Daily Log'!$CI$18:$CI$1017),0)","v":0},{"$f":"IFERROR($E152*SUMIF('Daily Log'!$CK$18:$CK$1017,$B152,'Daily Log'!$CL$18:$CL$1017),0)","v":0},{"$f":"IFERROR($E152*SUMIF('Daily Log'!$CN$18:$CN$1017,$B152,'Daily Log'!$CO$18:$CO$1017),0)","v":0}]
[null,"RL11 71111:VEG RICE",null,"REDEEMED",1,0,{"$f":"IFERROR($E153*SUMIF('Daily Log'!$B$18:$B$1017,$B153,'Daily Log'!$C$18:$C$1017),0)","v":0},{"$f":"IFERROR($E153*SUMIF('Daily Log'!$E$18:$E$1017,$B153,'Daily Log'!$F$18:$F$1017),0)","v":0},{"$f":"IFERROR($E153*SUMIF('Daily Log'!$H$18:$H$1017,$B153,'Daily Log'!$I$18:$I$1017),0)","v":0},{"$f":"IFERROR($E153*SUMIF('Daily Log'!$K$18:$K$1017,$B153,'Daily Log'!$L$18:$L$1017),0)","v":0},{"$f":"IFERROR($E153*SUMIF('Daily Log'!$N$18:$N$1017,$B153,'Daily Log'!$O$18:$O$1017),0)","v":0},{"$f":"IFERROR($E153*SUMIF('Daily Log'!$Q$18:$Q$1017,$B153,'Daily Log'!$R$18:$R$1017),0)","v":0},{"$f":"IFERROR($E153*SUMIF('Daily Log'!$T$18:$T$1017,$B153,'Daily Log'!$U$18:$U$1017),0)","v":0},{"$f":"IFERROR($E153*SUMIF('Daily Log'!$W$18:$W$1017,$B153,'Daily Log'!$X$18:$X$1017),0)","v":0},{"$f":"IFERROR($E153*SUMIF('Daily Log'!$Z$18:$Z$1017,$B153,'Daily Log'!$AA$18:$AA$1017),0)","v":0},{"$f":"IFERROR($E153*SUMIF('Daily Log'!$AC$18:$AC$1017,$B153,'Daily Log'!$AD$18:$AD$1017),0)","v":0},{"$f":"IFERROR($E153*SUMIF('Daily Log'!$AF$18:$AF$1017,$B153,'Daily Log'!$AG$18:$AG$1017),0)","v":0},{"$f":"IFERROR($E153*SUMIF('Daily Log'!$AI$18:$AI$1017,$B153,'Daily Log'!$AJ$18:$AJ$1017),0)","v":0},{"$f":"IFERROR($E153*SUMIF('Daily Log'!$AL$18:$AL$1017,$B153,'Daily Log'!$AM$18:$AM$1017),0)","v":0},{"$f":"IFERROR($E153*SUMIF('Daily Log'!$AO$18:$AO$1017,$B153,'Daily Log'!$AP$18:$AP$1017),0)","v":0},{"$f":"IFERROR($E153*SUMIF('Daily Log'!$AR$18:$AR$1017,$B153,'Daily Log'!$AS$18:$AS$1017),0)","v":0},{"$f":"IFERROR($E153*SUMIF('Daily Log'!$AU$18:$AU$1017,$B153,'Daily Log'!$AV$18:$AV$1017),0)","v":0},{"$f":"IFERROR($E153*SUMIF('Daily Log'!$AX$18:$AX$1017,$B153,'Daily Log'!$AY$18:$AY$1017),0)","v":0},{"$f":"IFERROR($E153*SUMIF('Daily Log'!$BA$18:$BA$1017,$B153,'Daily Log'!$BB$18:$BB$1017),0)","v":0},{"$f":"IFERROR($E153*SUMIF('Daily Log'!$BD$18:$BD$1017,$B153,'Daily Log'!$BE$18:$BE$1017),0)","v":0},{"$f":"IFERROR($E153*SUMIF('Daily Log'!$BG$18:$BG$1017,$B153,'Daily Log'!$BH$18:$BH$1017),0)","v":0},{"$f":"IFERROR($E153*SUMIF('Daily Log'!$BJ$18:$BJ$1017,$B153,'Daily Log'!$BK$18:$BK$1017),0)","v":0},{"$f":"IFERROR($E153*SUMIF('Daily Log'!$BM$18:$BM$1017,$B153,'Daily Log'!$BN$18:$BN$1017),0)","v":0},{"$f":"IFERROR($E153*SUMIF('Daily Log'!$BP$18:$BP$1017,$B153,'Daily Log'!$BQ$18:$BQ$1017),0)","v":0},{"$f":"IFERROR($E153*SUMIF('Daily Log'!$BS$18:$BS$1017,$B153,'Daily Log'!$BT$18:$BT$1017),0)","v":0},{"$f":"IFERROR($E153*SUMIF('Daily Log'!$BV$18:$BV$1017,$B153,'Daily Log'!$BW$18:$BW$1017),0)","v":0},{"$f":"IFERROR($E153*SUMIF('Daily Log'!$BY$18:$BY$1017,$B153,'Daily Log'!$BZ$18:$BZ$1017),0)","v":0},{"$f":"IFERROR($E153*SUMIF('Daily Log'!$CB$18:$CB$1017,$B153,'Daily Log'!$CC$18:$CC$1017),0)","v":0},{"$f":"IFERROR($E153*SUMIF('Daily Log'!$CE$18:$CE$1017,$B153,'Daily Log'!$CF$18:$CF$1017),0)","v":0},{"$f":"IFERROR($E153*SUMIF('Daily Log'!$CH$18:$CH$1017,$B153,'Daily Log'!$CI$18:$CI$1017),0)","v":0},{"$f":"IFERROR($E153*SUMIF('Daily Log'!$CK$18:$CK$1017,$B153,'Daily Log'!$CL$18:$CL$1017),0)","v":0},{"$f":"IFERROR($E153*SUMIF('Daily Log'!$CN$18:$CN$1017,$B153,'Daily Log'!$CO$18:$CO$1017),0)","v":0}]
[null,"RL12 71112:NASI LEMAK",null,"REDEEMED",1,0,{"$f":"IFERROR($E154*SUMIF('Daily Log'!$B$18:$B$1017,$B154,'Daily Log'!$C$18:$C$1017),0)","v":0},{"$f":"IFERROR($E154*SUMIF('Daily Log'!$E$18:$E$1017,$B154,'Daily Log'!$F$18:$F$1017),0)","v":0},{"$f":"IFERROR($E154*SUMIF('Daily Log'!$H$18:$H$1017,$B154,'Daily Log'!$I$18:$I$1017),0)","v":0},{"$f":"IFERROR($E154*SUMIF('Daily Log'!$K$18:$K$1017,$B154,'Daily Log'!$L$18:$L$1017),0)","v":0},{"$f":"IFERROR($E154*SUMIF('Daily Log'!$N$18:$N$1017,$B154,'Daily Log'!$O$18:$O$1017),0)","v":0},{"$f":"IFERROR($E154*SUMIF('Daily Log'!$Q$18:$Q$1017,$B154,'Daily Log'!$R$18:$R$1017),0)","v":0},{"$f":"IFERROR($E154*SUMIF('Daily Log'!$T$18:$T$1017,$B154,'Daily Log'!$U$18:$U$1017),0)","v":0},{"$f":"IFERROR($E154*SUMIF('Daily Log'!$W$18:$W$1017,$B154,'Daily Log'!$X$18:$X$1017),0)","v":0},{"$f":"IFERROR($E154*SUMIF('Daily Log'!$Z$18:$Z$1017,$B154,'Daily Log'!$AA$18:$AA$1017),0)","v":0},{"$f":"IFERROR($E154*SUMIF('Daily Log'!$AC$18:$AC$1017,$B154,'Daily Log'!$AD$18:$AD$1017),0)","v":0},{"$f":"IFERROR($E154*SUMIF('Daily Log'!$AF$18:$AF$1017,$B154,'Daily Log'!$AG$18:$AG$1017),0)","v":0},{"$f":"IFERROR($E154*SUMIF('Daily Log'!$AI$18:$AI$1017,$B154,'Daily Log'!$AJ$18:$AJ$1017),0)","v":0},{"$f":"IFERROR($E154*SUMIF('Daily Log'!$AL$18:$AL$1017,$B154,'Daily Log'!$AM$18:$AM$1017),0)","v":0},{"$f":"IFERROR($E154*SUMIF('Daily Log'!$AO$18:$AO$1017,$B154,'Daily Log'!$AP$18:$AP$1017),0)","v":0},{"$f":"IFERROR($E154*SUMIF('Daily Log'!$AR$18:$AR$1017,$B154,'Daily Log'!$AS$18:$AS$1017),0)","v":0},{"$f":"IFERROR($E154*SUMIF('Daily Log'!$AU$18:$AU$1017,$B154,'Daily Log'!$AV$18:$AV$1017),0)","v":0},{"$f":"IFERROR($E154*SUMIF('Daily Log'!$AX$18:$AX$1017,$B154,'Daily Log'!$AY$18:$AY$1017),0)","v":0},{"$f":"IFERROR($E154*SUMIF('Daily Log'!$BA$18:$BA$1017,$B154,'Daily Log'!$BB$18:$BB$1017),0)","v":0},{"$f":"IFERROR($E154*SUMIF('Daily Log'!$BD$18:$BD$1017,$B154,'Daily Log'!$BE$18:$BE$1017),0)","v":0},{"$f":"IFERROR($E154*SUMIF('Daily Log'!$BG$18:$BG$1017,$B154,'Daily Log'!$BH$18:$BH$1017),0)","v":0},{"$f":"IFERROR($E154*SUMIF('Daily Log'!$BJ$18:$BJ$1017,$B154,'Daily Log'!$BK$18:$BK$1017),0)","v":0},{"$f":"IFERROR($E154*SUMIF('Daily Log'!$BM$18:$BM$1017,$B154,'Daily Log'!$BN$18:$BN$1017),0)","v":0},{"$f":"IFERROR($E154*SUMIF('Daily Log'!$BP$18:$BP$1017,$B154,'Daily Log'!$BQ$18:$BQ$1017),0)","v":0},{"$f":"IFERROR($E154*SUMIF('Daily Log'!$BS$18:$BS$1017,$B154,'Daily Log'!$BT$18:$BT$1017),0)","v":0},{"$f":"IFERROR($E154*SUMIF('Daily Log'!$BV$18:$BV$1017,$B154,'Daily Log'!$BW$18:$BW$1017),0)","v":0},{"$f":"IFERROR($E154*SUMIF('Daily Log'!$BY$18:$BY$1017,$B154,'Daily Log'!$BZ$18:$BZ$1017),0)","v":0},{"$f":"IFERROR($E154*SUMIF('Daily Log'!$CB$18:$CB$1017,$B154,'Daily Log'!$CC$18:$CC$1017),0)","v":0},{"$f":"IFERROR($E154*SUMIF('Daily Log'!$CE$18:$CE$1017,$B154,'Daily Log'!$CF$18:$CF$1017),0)","v":0},{"$f":"IFERROR($E154*SUMIF('Daily Log'!$CH$18:$CH$1017,$B154,'Daily Log'!$CI$18:$CI$1017),0)","v":0},{"$f":"IFERROR($E154*SUMIF('Daily Log'!$CK$18:$CK$1017,$B154,'Daily Log'!$CL$18:$CL$1017),0)","v":0},{"$f":"IFERROR($E154*SUMIF('Daily Log'!$CN$18:$CN$1017,$B154,'Daily Log'!$CO$18:$CO$1017),0)","v":0}]
[null,"RL13 71113:KUEY TEOW",null,"REDEEMED",1,0,{"$f":"IFERROR($E155*SUMIF('Daily Log'!$B$18:$B$1017,$B155,'Daily Log'!$C$18:$C$1017),0)","v":0},{"$f":"IFERROR($E155*SUMIF('Daily Log'!$E$18:$E$1017,$B155,'Daily Log'!$F$18:$F$1017),0)","v":0},{"$f":"IFERROR($E155*SUMIF('Daily Log'!$H$18:$H$1017,$B155,'Daily Log'!$I$18:$I$1017),0)","v":0},{"$f":"IFERROR($E155*SUMIF('Daily Log'!$K$18:$K$1017,$B155,'Daily Log'!$L$18:$L$1017),0)","v":0},{"$f":"IFERROR($E155*SUMIF('Daily Log'!$N$18:$N$1017,$B155,'Daily Log'!$O$18:$O$1017),0)","v":0},{"$f":"IFERROR($E155*SUMIF('Daily Log'!$Q$18:$Q$1017,$B155,'Daily Log'!$R$18:$R$1017),0)","v":0},{"$f":"IFERROR($E155*SUMIF('Daily Log'!$T$18:$T$1017,$B155,'Daily Log'!$U$18:$U$1017),0)","v":0},{"$f":"IFERROR($E155*SUMIF('Daily Log'!$W$18:$W$1017,$B155,'Daily Log'!$X$18:$X$1017),0)","v":0},{"$f":"IFERROR($E155*SUMIF('Daily Log'!$Z$18:$Z$1017,$B155,'Daily Log'!$AA$18:$AA$1017),0)","v":0},{"$f":"IFERROR($E155*SUMIF('Daily Log'!$AC$18:$AC$1017,$B155,'Daily Log'!$AD$18:$AD$1017),0)","v":0},{"$f":"IFERROR($E155*SUMIF('Daily Log'!$AF$18:$AF$1017,$B155,'Daily Log'!$AG$18:$AG$1017),0)","v":0},{"$f":"IFERROR($E155*SUMIF('Daily Log'!$AI$18:$AI$1017,$B155,'Daily Log'!$AJ$18:$AJ$1017),0)","v":0},{"$f":"IFERROR($E155*SUMIF('Daily Log'!$AL$18:$AL$1017,$B155,'Daily Log'!$AM$18:$AM$1017),0)","v":0},{"$f":"IFERROR($E155*SUMIF('Daily Log'!$AO$18:$AO$1017,$B155,'Daily Log'!$AP$18:$AP$1017),0)","v":0},{"$f":"IFERROR($E155*SUMIF('Daily Log'!$AR$18:$AR$1017,$B155,'Daily Log'!$AS$18:$AS$1017),0)","v":0},{"$f":"IFERROR($E155*SUMIF('Daily Log'!$AU$18:$AU$1017,$B155,'Daily Log'!$AV$18:$AV$1017),0)","v":0},{"$f":"IFERROR($E155*SUMIF('Daily Log'!$AX$18:$AX$1017,$B155,'Daily Log'!$AY$18:$AY$1017),0)","v":0},{"$f":"IFERROR($E155*SUMIF('Daily Log'!$BA$18:$BA$1017,$B155,'Daily Log'!$BB$18:$BB$1017),0)","v":0},{"$f":"IFERROR($E155*SUMIF('Daily Log'!$BD$18:$BD$1017,$B155,'Daily Log'!$BE$18:$BE$1017),0)","v":0},{"$f":"IFERROR($E155*SUMIF('Daily Log'!$BG$18:$BG$1017,$B155,'Daily Log'!$BH$18:$BH$1017),0)","v":0},{"$f":"IFERROR($E155*SUMIF('Daily Log'!$BJ$18:$BJ$1017,$B155,'Daily Log'!$BK$18:$BK$1017),0)","v":0},{"$f":"IFERROR($E155*SUMIF('Daily Log'!$BM$18:$BM$1017,$B155,'Daily Log'!$BN$18:$BN$1017),0)","v":0},{"$f":"IFERROR($E155*SUMIF('Daily Log'!$BP$18:$BP$1017,$B155,'Daily Log'!$BQ$18:$BQ$1017),0)","v":0},{"$f":"IFERROR($E155*SUMIF('Daily Log'!$BS$18:$BS$1017,$B155,'Daily Log'!$BT$18:$BT$1017),0)","v":0},{"$f":"IFERROR($E155*SUMIF('Daily Log'!$BV$18:$BV$1017,$B155,'Daily Log'!$BW$18:$BW$1017),0)","v":0},{"$f":"IFERROR($E155*SUMIF('Daily Log'!$BY$18:$BY$1017,$B155,'Daily Log'!$BZ$18:$BZ$1017),0)","v":0},{"$f":"IFERROR($E155*SUMIF('Daily Log'!$CB$18:$CB$1017,$B155,'Daily Log'!$CC$18:$CC$1017),0)","v":0},{"$f":"IFERROR($E155*SUMIF('Daily Log'!$CE$18:$CE$1017,$B155,'Daily Log'!$CF$18:$CF$1017),0)","v":0},{"$f":"IFERROR($E155*SUMIF('Daily Log'!$CH$18:$CH$1017,$B155,'Daily Log'!$CI$18:$CI$1017),0)","v":0},{"$f":"IFERROR($E155*SUMIF('Daily Log'!$CK$18:$CK$1017,$B155,'Daily Log'!$CL$18:$CL$1017),0)","v":0},{"$f":"IFERROR($E155*SUMIF('Daily Log'!$CN$18:$CN$1017,$B155,'Daily Log'!$CO$18:$CO$1017),0)","v":0}]
[null,"RL14 71114:F.BALL MEE",null,"REDEEMED",1,0,{"$f":"IFERROR($E156*SUMIF('Daily Log'!$B$18:$B$1017,$B156,'Daily Log'!$C$18:$C$1017),0)","v":0},{"$f":"IFERROR($E156*SUMIF('Daily Log'!$E$18:$E$1017,$B156,'Daily Log'!$F$18:$F$1017),0)","v":0},{"$f":"IFERROR($E156*SUMIF('Daily Log'!$H$18:$H$1017,$B156,'Daily Log'!$I$18:$I$1017),0)","v":0},{"$f":"IFERROR($E156*SUMIF('Daily Log'!$K$18:$K$1017,$B156,'Daily Log'!$L$18:$L$1017),0)","v":0},{"$f":"IFERROR($E156*SUMIF('Daily Log'!$N$18:$N$1017,$B156,'Daily Log'!$O$18:$O$1017),0)","v":0},{"$f":"IFERROR($E156*SUMIF('Daily Log'!$Q$18:$Q$1017,$B156,'Daily Log'!$R$18:$R$1017),0)","v":0},{"$f":"IFERROR($E156*SUMIF('Daily Log'!$T$18:$T$1017,$B156,'Daily Log'!$U$18:$U$1017),0)","v":0},{"$f":"IFERROR($E156*SUMIF('Daily Log'!$W$18:$W$1017,$B156,'Daily Log'!$X$18:$X$1017),0)","v":0},{"$f":"IFERROR($E156*SUMIF('Daily Log'!$Z$18:$Z$1017,$B156,'Daily Log'!$AA$18:$AA$1017),0)","v":0},{"$f":"IFERROR($E156*SUMIF('Daily Log'!$AC$18:$AC$1017,$B156,'Daily Log'!$AD$18:$AD$1017),0)","v":0},{"$f":"IFERROR($E156*SUMIF('Daily Log'!$AF$18:$AF$1017,$B156,'Daily Log'!$AG$18:$AG$1017),0)","v":0},{"$f":"IFERROR($E156*SUMIF('Daily Log'!$AI$18:$AI$1017,$B156,'Daily Log'!$AJ$18:$AJ$1017),0)","v":0},{"$f":"IFERROR($E156*SUMIF('Daily Log'!$AL$18:$AL$1017,$B156,'Daily Log'!$AM$18:$AM$1017),0)","v":0},{"$f":"IFERROR($E156*SUMIF('Daily Log'!$AO$18:$AO$1017,$B156,'Daily Log'!$AP$18:$AP$1017),0)","v":0},{"$f":"IFERROR($E156*SUMIF('Daily Log'!$AR$18:$AR$1017,$B156,'Daily Log'!$AS$18:$AS$1017),0)","v":0},{"$f":"IFERROR($E156*SUMIF('Daily Log'!$AU$18:$AU$1017,$B156,'Daily Log'!$AV$18:$AV$1017),0)","v":0},{"$f":"IFERROR($E156*SUMIF('Daily Log'!$AX$18:$AX$1017,$B156,'Daily Log'!$AY$18:$AY$1017),0)","v":0},{"$f":"IFERROR($E156*SUMIF('Daily Log'!$BA$18:$BA$1017,$B156,'Daily Log'!$BB$18:$BB$1017),0)","v":0},{"$f":"IFERROR($E156*SUMIF('Daily Log'!$BD$18:$BD$1017,$B156,'Daily Log'!$BE$18:$BE$1017),0)","v":0},{"$f":"IFERROR($E156*SUMIF('Daily Log'!$BG$18:$BG$1017,$B156,'Daily Log'!$BH$18:$BH$1017),0)","v":0},{"$f":"IFERROR($E156*SUMIF('Daily Log'!$BJ$18:$BJ$1017,$B156,'Daily Log'!$BK$18:$BK$1017),0)","v":0},{"$f":"IFERROR($E156*SUMIF('Daily Log'!$BM$18:$BM$1017,$B156,'Daily Log'!$BN$18:$BN$1017),0)","v":0},{"$f":"IFERROR($E156*SUMIF('Daily Log'!$BP$18:$BP$1017,$B156,'Daily Log'!$BQ$18:$BQ$1017),0)","v":0},{"$f":"IFERROR($E156*SUMIF('Daily Log'!$BS$18:$BS$1017,$B156,'Daily Log'!$BT$18:$BT$1017),0)","v":0},{"$f":"IFERROR($E156*SUMIF('Daily Log'!$BV$18:$BV$1017,$B156,'Daily Log'!$BW$18:$BW$1017),0)","v":0},{"$f":"IFERROR($E156*SUMIF('Daily Log'!$BY$18:$BY$1017,$B156,'Daily Log'!$BZ$18:$BZ$1017),0)","v":0},{"$f":"IFERROR($E156*SUMIF('Daily Log'!$CB$18:$CB$1017,$B156,'Daily Log'!$CC$18:$CC$1017),0)","v":0},{"$f":"IFERROR($E156*SUMIF('Daily Log'!$CE$18:$CE$1017,$B156,'Daily Log'!$CF$18:$CF$1017),0)","v":0},{"$f":"IFERROR($E156*SUMIF('Daily Log'!$CH$18:$CH$1017,$B156,'Daily Log'!$CI$18:$CI$1017),0)","v":0},{"$f":"IFERROR($E156*SUMIF('Daily Log'!$CK$18:$CK$1017,$B156,'Daily Log'!$CL$18:$CL$1017),0)","v":0},{"$f":"IFERROR($E156*SUMIF('Daily Log'!$CN$18:$CN$1017,$B156,'Daily Log'!$CO$18:$CO$1017),0)","v":0}]
[null,"RL15 71115:CHK NOODLE",null,"REDEEMED",1,0,{"$f":"IFERROR($E157*SUMIF('Daily Log'!$B$18:$B$1017,$B157,'Daily Log'!$C$18:$C$1017),0)","v":0},{"$f":"IFERROR($E157*SUMIF('Daily Log'!$E$18:$E$1017,$B157,'Daily Log'!$F$18:$F$1017),0)","v":0},{"$f":"IFERROR($E157*SUMIF('Daily Log'!$H$18:$H$1017,$B157,'Daily Log'!$I$18:$I$1017),0)","v":0},{"$f":"IFERROR($E157*SUMIF('Daily Log'!$K$18:$K$1017,$B157,'Daily Log'!$L$18:$L$1017),0)","v":0},{"$f":"IFERROR($E157*SUMIF('Daily Log'!$N$18:$N$1017,$B157,'Daily Log'!$O$18:$O$1017),0)","v":0},{"$f":"IFERROR($E157*SUMIF('Daily Log'!$Q$18:$Q$1017,$B157,'Daily Log'!$R$18:$R$1017),0)","v":0},{"$f":"IFERROR($E157*SUMIF('Daily Log'!$T$18:$T$1017,$B157,'Daily Log'!$U$18:$U$1017),0)","v":0},{"$f":"IFERROR($E157*SUMIF('Daily Log'!$W$18:$W$1017,$B157,'Daily Log'!$X$18:$X$1017),0)","v":0},{"$f":"IFERROR($E157*SUMIF('Daily Log'!$Z$18:$Z$1017,$B157,'Daily Log'!$AA$18:$AA$1017),0)","v":0},{"$f":"IFERROR($E157*SUMIF('Daily Log'!$AC$18:$AC$1017,$B157,'Daily Log'!$AD$18:$AD$1017),0)","v":0},{"$f":"IFERROR($E157*SUMIF('Daily Log'!$AF$18:$AF$1017,$B157,'Daily Log'!$AG$18:$AG$1017),0)","v":0},{"$f":"IFERROR($E157*SUMIF('Daily Log'!$AI$18:$AI$1017,$B157,'Daily Log'!$AJ$18:$AJ$1017),0)","v":0},{"$f":"IFERROR($E157*SUMIF('Daily Log'!$AL$18:$AL$1017,$B157,'Daily Log'!$AM$18:$AM$1017),0)","v":0},{"$f":"IFERROR($E157*SUMIF('Daily Log'!$AO$18:$AO$1017,$B157,'Daily Log'!$AP$18:$AP$1017),0)","v":0},{"$f":"IFERROR($E157*SUMIF('Daily Log'!$AR$18:$AR$1017,$B157,'Daily Log'!$AS$18:$AS$1017),0)","v":0},{"$f":"IFERROR($E157*SUMIF('Daily Log'!$AU$18:$AU$1017,$B157,'Daily Log'!$AV$18:$AV$1017),0)","v":0},{"$f":"IFERROR($E157*SUMIF('Daily Log'!$AX$18:$AX$1017,$B157,'Daily Log'!$AY$18:$AY$1017),0)","v":0},{"$f":"IFERROR($E157*SUMIF('Daily Log'!$BA$18:$BA$1017,$B157,'Daily Log'!$BB$18:$BB$1017),0)","v":0},{"$f":"IFERROR($E157*SUMIF('Daily Log'!$BD$18:$BD$1017,$B157,'Daily Log'!$BE$18:$BE$1017),0)","v":0},{"$f":"IFERROR($E157*SUMIF('Daily Log'!$BG$18:$BG$1017,$B157,'Daily Log'!$BH$18:$BH$1017),0)","v":0},{"$f":"IFERROR($E157*SUMIF('Daily Log'!$BJ$18:$BJ$1017,$B157,'Daily Log'!$BK$18:$BK$1017),0)","v":0},{"$f":"IFERROR($E157*SUMIF('Daily Log'!$BM$18:$BM$1017,$B157,'Daily Log'!$BN$18:$BN$1017),0)","v":0},{"$f":"IFERROR($E157*SUMIF('Daily Log'!$BP$18:$BP$1017,$B157,'Daily Log'!$BQ$18:$BQ$1017),0)","v":0},{"$f":"IFERROR($E157*SUMIF('Daily Log'!$BS$18:$BS$1017,$B157,'Daily Log'!$BT$18:$BT$1017),0)","v":0},{"$f":"IFERROR($E157*SUMIF('Daily Log'!$BV$18:$BV$1017,$B157,'Daily Log'!$BW$18:$BW$1017),0)","v":0},{"$f":"IFERROR($E157*SUMIF('Daily Log'!$BY$18:$BY$1017,$B157,'Daily Log'!$BZ$18:$BZ$1017),0)","v":0},{"$f":"IFERROR($E157*SUMIF('Daily Log'!$CB$18:$CB$1017,$B157,'Daily Log'!$CC$18:$CC$1017),0)","v":0},{"$f":"IFERROR($E157*SUMIF('Daily Log'!$CE$18:$CE$1017,$B157,'Daily Log'!$CF$18:$CF$1017),0)","v":0},{"$f":"IFERROR($E157*SUMIF('Daily Log'!$CH$18:$CH$1017,$B157,'Daily Log'!$CI$18:$CI$1017),0)","v":0},{"$f":"IFERROR($E157*SUMIF('Daily Log'!$CK$18:$CK$1017,$B157,'Daily Log'!$CL$18:$CL$1017),0)","v":0},{"$f":"IFERROR($E157*SUMIF('Daily Log'!$CN$18:$CN$1017,$B157,'Daily Log'!$CO$18:$CO$1017),0)","v":0}]
[null,"RL16 71116:MGL CHK",null,"REDEEMED",1,{"$f":"SUM($G158:$AK158)","v":0},{"$f":"IFERROR($E158*SUMIF('Daily Log'!$B$18:$B$1017,$B158,'Daily Log'!$C$18:$C$1017),0)","v":0},{"$f":"IFERROR($E158*SUMIF('Daily Log'!$E$18:$E$1017,$B158,'Daily Log'!$F$18:$F$1017),0)","v":0},{"$f":"IFERROR($E158*SUMIF('Daily Log'!$H$18:$H$1017,$B158,'Daily Log'!$I$18:$I$1017),0)","v":0},{"$f":"IFERROR($E158*SUMIF('Daily Log'!$K$18:$K$1017,$B158,'Daily Log'!$L$18:$L$1017),0)","v":0},{"$f":"IFERROR($E158*SUMIF('Daily Log'!$N$18:$N$1017,$B158,'Daily Log'!$O$18:$O$1017),0)","v":0},{"$f":"IFERROR($E158*SUMIF('Daily Log'!$Q$18:$Q$1017,$B158,'Daily Log'!$R$18:$R$1017),0)","v":0},{"$f":"IFERROR($E158*SUMIF('Daily Log'!$T$18:$T$1017,$B158,'Daily Log'!$U$18:$U$1017),0)","v":0},{"$f":"IFERROR($E158*SUMIF('Daily Log'!$W$18:$W$1017,$B158,'Daily Log'!$X$18:$X$1017),0)","v":0},{"$f":"IFERROR($E158*SUMIF('Daily Log'!$Z$18:$Z$1017,$B158,'Daily Log'!$AA$18:$AA$1017),0)","v":0},{"$f":"IFERROR($E158*SUMIF('Daily Log'!$AC$18:$AC$1017,$B158,'Daily Log'!$AD$18:$AD$1017),0)","v":0},{"$f":"IFERROR($E158*SUMIF('Daily Log'!$AF$18:$AF$1017,$B158,'Daily Log'!$AG$18:$AG$1017),0)","v":0},{"$f":"IFERROR($E158*SUMIF('Daily Log'!$AI$18:$AI$1017,$B158,'Daily Log'!$AJ$18:$AJ$1017),0)","v":0},{"$f":"IFERROR($E158*SUMIF('Daily Log'!$AL$18:$AL$1017,$B158,'Daily Log'!$AM$18:$AM$1017),0)","v":0},{"$f":"IFERROR($E158*SUMIF('Daily Log'!$AO$18:$AO$1017,$B158,'Daily Log'!$AP$18:$AP$1017),0)","v":0},{"$f":"IFERROR($E158*SUMIF('Daily Log'!$AR$18:$AR$1017,$B158,'Daily Log'!$AS$18:$AS$1017),0)","v":0},{"$f":"IFERROR($E158*SUMIF('Daily Log'!$AU$18:$AU$1017,$B158,'Daily Log'!$AV$18:$AV$1017),0)","v":0},{"$f":"IFERROR($E158*SUMIF('Daily Log'!$AX$18:$AX$1017,$B158,'Daily Log'!$AY$18:$AY$1017),0)","v":0},{"$f":"IFERROR($E158*SUMIF('Daily Log'!$BA$18:$BA$1017,$B158,'Daily Log'!$BB$18:$BB$1017),0)","v":0},{"$f":"IFERROR($E158*SUMIF('Daily Log'!$BD$18:$BD$1017,$B158,'Daily Log'!$BE$18:$BE$1017),0)","v":0},{"$f":"IFERROR($E158*SUMIF('Daily Log'!$BG$18:$BG$1017,$B158,'Daily Log'!$BH$18:$BH$1017),0)","v":0},{"$f":"IFERROR($E158*SUMIF('Daily Log'!$BJ$18:$BJ$1017,$B158,'Daily Log'!$BK$18:$BK$1017),0)","v":0},{"$f":"IFERROR($E158*SUMIF('Daily Log'!$BM$18:$BM$1017,$B158,'Daily Log'!$BN$18:$BN$1017),0)","v":0},{"$f":"IFERROR($E158*SUMIF('Daily Log'!$BP$18:$BP$1017,$B158,'Daily Log'!$BQ$18:$BQ$1017),0)","v":0},{"$f":"IFERROR($E158*SUMIF('Daily Log'!$BS$18:$BS$1017,$B158,'Daily Log'!$BT$18:$BT$1017),0)","v":0},{"$f":"IFERROR($E158*SUMIF('Daily Log'!$BV$18:$BV$1017,$B158,'Daily Log'!$BW$18:$BW$1017),0)","v":0},{"$f":"IFERROR($E158*SUMIF('Daily Log'!$BY$18:$BY$1017,$B158,'Daily Log'!$BZ$18:$BZ$1017),0)","v":0},{"$f":"IFERROR($E158*SUMIF('Daily Log'!$CB$18:$CB$1017,$B158,'Daily Log'!$CC$18:$CC$1017),0)","v":0},{"$f":"IFERROR($E158*SUMIF('Daily Log'!$CE$18:$CE$1017,$B158,'Daily Log'!$CF$18:$CF$1017),0)","v":0},{"$f":"IFERROR($E158*SUMIF('Daily Log'!$CH$18:$CH$1017,$B158,'Daily Log'!$CI$18:$CI$1017),0)","v":0},{"$f":"IFERROR($E158*SUMIF('Daily Log'!$CK$18:$CK$1017,$B158,'Daily Log'!$CL$18:$CL$1017),0)","v":0},{"$f":"IFERROR($E158*SUMIF('Daily Log'!$CN$18:$CN$1017,$B158,'Daily Log'!$CO$18:$CO$1017),0)","v":0}]
[null,"RL17 71117:THAI FSH",null,"REDEEMED",1,0,{"$f":"IFERROR($E159*SUMIF('Daily Log'!$B$18:$B$1017,$B159,'Daily Log'!$C$18:$C$1017),0)","v":0},{"$f":"IFERROR($E159*SUMIF('Daily Log'!$E$18:$E$1017,$B159,'Daily Log'!$F$18:$F$1017),0)","v":0},{"$f":"IFERROR($E159*SUMIF('Daily Log'!$H$18:$H$1017,$B159,'Daily Log'!$I$18:$I$1017),0)","v":0},{"$f":"IFERROR($E159*SUMIF('Daily Log'!$K$18:$K$1017,$B159,'Daily Log'!$L$18:$L$1017),0)","v":0},{"$f":"IFERROR($E159*SUMIF('Daily Log'!$N$18:$N$1017,$B159,'Daily Log'!$O$18:$O$1017),0)","v":0},{"$f":"IFERROR($E159*SUMIF('Daily Log'!$Q$18:$Q$1017,$B159,'Daily Log'!$R$18:$R$1017),0)","v":0},{"$f":"IFERROR($E159*SUMIF('Daily Log'!$T$18:$T$1017,$B159,'Daily Log'!$U$18:$U$1017),0)","v":0},{"$f":"IFERROR($E159*SUMIF('Daily Log'!$W$18:$W$1017,$B159,'Daily Log'!$X$18:$X$1017),0)","v":0},{"$f":"IFERROR($E159*SUMIF('Daily Log'!$Z$18:$Z$1017,$B159,'Daily Log'!$AA$18:$AA$1017),0)","v":0},{"$f":"IFERROR($E159*SUMIF('Daily Log'!$AC$18:$AC$1017,$B159,'Daily Log'!$AD$18:$AD$1017),0)","v":0},{"$f":"IFERROR($E159*SUMIF('Daily Log'!$AF$18:$AF$1017,$B159,'Daily Log'!$AG$18:$AG$1017),0)","v":0},{"$f":"IFERROR($E159*SUMIF('Daily Log'!$AI$18:$AI$1017,$B159,'Daily Log'!$AJ$18:$AJ$1017),0)","v":0},{"$f":"IFERROR($E159*SUMIF('Daily Log'!$AL$18:$AL$1017,$B159,'Daily Log'!$AM$18:$AM$1017),0)","v":0},{"$f":"IFERROR($E159*SUMIF('Daily Log'!$AO$18:$AO$1017,$B159,'Daily Log'!$AP$18:$AP$1017),0)","v":0},{"$f":"IFERROR($E159*SUMIF('Daily Log'!$AR$18:$AR$1017,$B159,'Daily Log'!$AS$18:$AS$1017),0)","v":0},{"$f":"IFERROR($E159*SUMIF('Daily Log'!$AU$18:$AU$1017,$B159,'Daily Log'!$AV$18:$AV$1017),0)","v":0},{"$f":"IFERROR($E159*SUMIF('Daily Log'!$AX$18:$AX$1017,$B159,'Daily Log'!$AY$18:$AY$1017),0)","v":0},{"$f":"IFERROR($E159*SUMIF('Daily Log'!$BA$18:$BA$1017,$B159,'Daily Log'!$BB$18:$BB$1017),0)","v":0},{"$f":"IFERROR($E159*SUMIF('Daily Log'!$BD$18:$BD$1017,$B159,'Daily Log'!$BE$18:$BE$1017),0)","v":0},{"$f":"IFERROR($E159*SUMIF('Daily Log'!$BG$18:$BG$1017,$B159,'Daily Log'!$BH$18:$BH$1017),0)","v":0},{"$f":"IFERROR($E159*SUMIF('Daily Log'!$BJ$18:$BJ$1017,$B159,'Daily Log'!$BK$18:$BK$1017),0)","v":0},{"$f":"IFERROR($E159*SUMIF('Daily Log'!$BM$18:$BM$1017,$B159,'Daily Log'!$BN$18:$BN$1017),0)","v":0},{"$f":"IFERROR($E159*SUMIF('Daily Log'!$BP$18:$BP$1017,$B159,'Daily Log'!$BQ$18:$BQ$1017),0)","v":0},{"$f":"IFERROR($E159*SUMIF('Daily Log'!$BS$18:$BS$1017,$B159,'Daily Log'!$BT$18:$BT$1017),0)","v":0},{"$f":"IFERROR($E159*SUMIF('Daily Log'!$BV$18:$BV$1017,$B159,'Daily Log'!$BW$18:$BW$1017),0)","v":0},{"$f":"IFERROR($E159*SUMIF('Daily Log'!$BY$18:$BY$1017,$B159,'Daily Log'!$BZ$18:$BZ$1017),0)","v":0},{"$f":"IFERROR($E159*SUMIF('Daily Log'!$CB$18:$CB$1017,$B159,'Daily Log'!$CC$18:$CC$1017),0)","v":0},{"$f":"IFERROR($E159*SUMIF('Daily Log'!$CE$18:$CE$1017,$B159,'Daily Log'!$CF$18:$CF$1017),0)","v":0},{"$f":"IFERROR($E159*SUMIF('Daily Log'!$CH$18:$CH$1017,$B159,'Daily Log'!$CI$18:$CI$1017),0)","v":0},{"$f":"IFERROR($E159*SUMIF('Daily Log'!$CK$18:$CK$1017,$B159,'Daily Log'!$CL$18:$CL$1017),0)","v":0},{"$f":"IFERROR($E159*SUMIF('Daily Log'!$CN$18:$CN$1017,$B159,'Daily Log'!$CO$18:$CO$1017),0)","v":0}]
[null,"RL18 71118:MAMITE FSH",null,"REDEEMED",1,0,{"$f":"IFERROR($E160*SUMIF('Daily Log'!$B$18:$B$1017,$B160,'Daily Log'!$C$18:$C$1017),0)","v":0},{"$f":"IFERROR($E160*SUMIF('Daily Log'!$E$18:$E$1017,$B160,'Daily Log'!$F$18:$F$1017),0)","v":0},{"$f":"IFERROR($E160*SUMIF('Daily Log'!$H$18:$H$1017,$B160,'Daily Log'!$I$18:$I$1017),0)","v":0},{"$f":"IFERROR($E160*SUMIF('Daily Log'!$K$18:$K$1017,$B160,'Daily Log'!$L$18:$L$1017),0)","v":0},{"$f":"IFERROR($E160*SUMIF('Daily Log'!$N$18:$N$1017,$B160,'Daily Log'!$O$18:$O$1017),0)","v":0},{"$f":"IFERROR($E160*SUMIF('Daily Log'!$Q$18:$Q$1017,$B160,'Daily Log'!$R$18:$R$1017),0)","v":0},{"$f":"IFERROR($E160*SUMIF('Daily Log'!$T$18:$T$1017,$B160,'Daily Log'!$U$18:$U$1017),0)","v":0},{"$f":"IFERROR($E160*SUMIF('Daily Log'!$W$18:$W$1017,$B160,'Daily Log'!$X$18:$X$1017),0)","v":0},{"$f":"IFERROR($E160*SUMIF('Daily Log'!$Z$18:$Z$1017,$B160,'Daily Log'!$AA$18:$AA$1017),0)","v":0},{"$f":"IFERROR($E160*SUMIF('Daily Log'!$AC$18:$AC$1017,$B160,'Daily Log'!$AD$18:$AD$1017),0)","v":0},{"$f":"IFERROR($E160*SUMIF('Daily Log'!$AF$18:$AF$1017,$B160,'Daily Log'!$AG$18:$AG$1017),0)","v":0},{"$f":"IFERROR($E160*SUMIF('Daily Log'!$AI$18:$AI$1017,$B160,'Daily Log'!$AJ$18:$AJ$1017),0)","v":0},{"$f":"IFERROR($E160*SUMIF('Daily Log'!$AL$18:$AL$1017,$B160,'Daily Log'!$AM$18:$AM$1017),0)","v":0},{"$f":"IFERROR($E160*SUMIF('Daily Log'!$AO$18:$AO$1017,$B160,'Daily Log'!$AP$18:$AP$1017),0)","v":0},{"$f":"IFERROR($E160*SUMIF('Daily Log'!$AR$18:$AR$1017,$B160,'Daily Log'!$AS$18:$AS$1017),0)","v":0},{"$f":"IFERROR($E160*SUMIF('Daily Log'!$AU$18:$AU$1017,$B160,'Daily Log'!$AV$18:$AV$1017),0)","v":0},{"$f":"IFERROR($E160*SUMIF('Daily Log'!$AX$18:$AX$1017,$B160,'Daily Log'!$AY$18:$AY$1017),0)","v":0},{"$f":"IFERROR($E160*SUMIF('Daily Log'!$BA$18:$BA$1017,$B160,'Daily Log'!$BB$18:$BB$1017),0)","v":0},{"$f":"IFERROR($E160*SUMIF('Daily Log'!$BD$18:$BD$1017,$B160,'Daily Log'!$BE$18:$BE$1017),0)","v":0},{"$f":"IFERROR($E160*SUMIF('Daily Log'!$BG$18:$BG$1017,$B160,'Daily Log'!$BH$18:$BH$1017),0)","v":0},{"$f":"IFERROR($E160*SUMIF('Daily Log'!$BJ$18:$BJ$1017,$B160,'Daily Log'!$BK$18:$BK$1017),0)","v":0},{"$f":"IFERROR($E160*SUMIF('Daily Log'!$BM$18:$BM$1017,$B160,'Daily Log'!$BN$18:$BN$1017),0)","v":0},{"$f":"IFERROR($E160*SUMIF('Daily Log'!$BP$18:$BP$1017,$B160,'Daily Log'!$BQ$18:$BQ$1017),0)","v":0},{"$f":"IFERROR($E160*SUMIF('Daily Log'!$BS$18:$BS$1017,$B160,'Daily Log'!$BT$18:$BT$1017),0)","v":0},{"$f":"IFERROR($E160*SUMIF('Daily Log'!$BV$18:$BV$1017,$B160,'Daily Log'!$BW$18:$BW$1017),0)","v":0},{"$f":"IFERROR($E160*SUMIF('Daily Log'!$BY$18:$BY$1017,$B160,'Daily Log'!$BZ$18:$BZ$1017),0)","v":0},{"$f":"IFERROR($E160*SUMIF('Daily Log'!$CB$18:$CB$1017,$B160,'Daily Log'!$CC$18:$CC$1017),0)","v":0},{"$f":"IFERROR($E160*SUMIF('Daily Log'!$CE$18:$CE$1017,$B160,'Daily Log'!$CF$18:$CF$1017),0)","v":0},{"$f":"IFERROR($E160*SUMIF('Daily Log'!$CH$18:$CH$1017,$B160,'Daily Log'!$CI$18:$CI$1017),0)","v":0},{"$f":"IFERROR($E160*SUMIF('Daily Log'!$CK$18:$CK$1017,$B160,'Daily Log'!$CL$18:$CL$1017),0)","v":0},{"$f":"IFERROR($E160*SUMIF('Daily Log'!$CN$18:$CN$1017,$B160,'Daily Log'!$CO$18:$CO$1017),0)","v":0}]
[null,"RL19 71119:BUTTER FSH",null,"REDEEMED",1,0,{"$f":"IFERROR($E161*SUMIF('Daily Log'!$B$18:$B$1017,$B161,'Daily Log'!$C$18:$C$1017),0)","v":0},{"$f":"IFERROR($E161*SUMIF('Daily Log'!$E$18:$E$1017,$B161,'Daily Log'!$F$18:$F$1017),0)","v":0},{"$f":"IFERROR($E161*SUMIF('Daily Log'!$H$18:$H$1017,$B161,'Daily Log'!$I$18:$I$1017),0)","v":0},{"$f":"IFERROR($E161*SUMIF('Daily Log'!$K$18:$K$1017,$B161,'Daily Log'!$L$18:$L$1017),0)","v":0},{"$f":"IFERROR($E161*SUMIF('Daily Log'!$N$18:$N$1017,$B161,'Daily Log'!$O$18:$O$1017),0)","v":0},{"$f":"IFERROR($E161*SUMIF('Daily Log'!$Q$18:$Q$1017,$B161,'Daily Log'!$R$18:$R$1017),0)","v":0},{"$f":"IFERROR($E161*SUMIF('Daily Log'!$T$18:$T$1017,$B161,'Daily Log'!$U$18:$U$1017),0)","v":0},{"$f":"IFERROR($E161*SUMIF('Daily Log'!$W$18:$W$1017,$B161,'Daily Log'!$X$18:$X$1017),0)","v":0},{"$f":"IFERROR($E161*SUMIF('Daily Log'!$Z$18:$Z$1017,$B161,'Daily Log'!$AA$18:$AA$1017),0)","v":0},{"$f":"IFERROR($E161*SUMIF('Daily Log'!$AC$18:$AC$1017,$B161,'Daily Log'!$AD$18:$AD$1017),0)","v":0},{"$f":"IFERROR($E161*SUMIF('Daily Log'!$AF$18:$AF$1017,$B161,'Daily Log'!$AG$18:$AG$1017),0)","v":0},{"$f":"IFERROR($E161*SUMIF('Daily Log'!$AI$18:$AI$1017,$B161,'Daily Log'!$AJ$18:$AJ$1017),0)","v":0},{"$f":"IFERROR($E161*SUMIF('Daily Log'!$AL$18:$AL$1017,$B161,'Daily Log'!$AM$18:$AM$1017),0)","v":0},{"$f":"IFERROR($E161*SUMIF('Daily Log'!$AO$18:$AO$1017,$B161,'Daily Log'!$AP$18:$AP$1017),0)","v":0},{"$f":"IFERROR($E161*SUMIF('Daily Log'!$AR$18:$AR$1017,$B161,'Daily Log'!$AS$18:$AS$1017),0)","v":0},{"$f":"IFERROR($E161*SUMIF('Daily Log'!$AU$18:$AU$1017,$B161,'Daily Log'!$AV$18:$AV$1017),0)","v":0},{"$f":"IFERROR($E161*SUMIF('Daily Log'!$AX$18:$AX$1017,$B161,'Daily Log'!$AY$18:$AY$1017),0)","v":0},{"$f":"IFERROR($E161*SUMIF('Daily Log'!$BA$18:$BA$1017,$B161,'Daily Log'!$BB$18:$BB$1017),0)","v":0},{"$f":"IFERROR($E161*SUMIF('Daily Log'!$BD$18:$BD$1017,$B161,'Daily Log'!$BE$18:$BE$1017),0)","v":0},{"$f":"IFERROR($E161*SUMIF('Daily Log'!$BG$18:$BG$1017,$B161,'Daily Log'!$BH$18:$BH$1017),0)","v":0},{"$f":"IFERROR($E161*SUMIF('Daily Log'!$BJ$18:$BJ$1017,$B161,'Daily Log'!$BK$18:$BK$1017),0)","v":0},{"$f":"IFERROR($E161*SUMIF('Daily Log'!$BM$18:$BM$1017,$B161,'Daily Log'!$BN$18:$BN$1017),0)","v":0},{"$f":"IFERROR($E161*SUMIF('Daily Log'!$BP$18:$BP$1017,$B161,'Daily Log'!$BQ$18:$BQ$1017),0)","v":0},{"$f":"IFERROR($E161*SUMIF('Daily Log'!$BS$18:$BS$1017,$B161,'Daily Log'!$BT$18:$BT$1017),0)","v":0},{"$f":"IFERROR($E161*SUMIF('Daily Log'!$BV$18:$BV$1017,$B161,'Daily Log'!$BW$18:$BW$1017),0)","v":0},{"$f":"IFERROR($E161*SUMIF('Daily Log'!$BY$18:$BY$1017,$B161,'Daily Log'!$BZ$18:$BZ$1017),0)","v":0},{"$f":"IFERROR($E161*SUMIF('Daily Log'!$CB$18:$CB$1017,$B161,'Daily Log'!$CC$18:$CC$1017),0)","v":0},{"$f":"IFERROR($E161*SUMIF('Daily Log'!$CE$18:$CE$1017,$B161,'Daily Log'!$CF$18:$CF$1017),0)","v":0},{"$f":"IFERROR($E161*SUMIF('Daily Log'!$CH$18:$CH$1017,$B161,'Daily Log'!$CI$18:$CI$1017),0)","v":0},{"$f":"IFERROR($E161*SUMIF('Daily Log'!$CK$18:$CK$1017,$B161,'Daily Log'!$CL$18:$CL$1017),0)","v":0},{"$f":"IFERROR($E161*SUMIF('Daily Log'!$CN$18:$CN$1017,$B161,'Daily Log'!$CO$18:$CO$1017),0)","v":0}]
[null,"RS01 71201:SFD STICK",null,"REDEEMED",1,0,{"$f":"IFERROR($E162*SUMIF('Daily Log'!$B$18:$B$1017,$B162,'Daily Log'!$C$18:$C$1017),0)","v":0},{"$f":"IFERROR($E162*SUMIF('Daily Log'!$E$18:$E$1017,$B162,'Daily Log'!$F$18:$F$1017),0)","v":0},{"$f":"IFERROR($E162*SUMIF('Daily Log'!$H$18:$H$1017,$B162,'Daily Log'!$I$18:$I$1017),0)","v":0},{"$f":"IFERROR($E162*SUMIF('Daily Log'!$K$18:$K$1017,$B162,'Daily Log'!$L$18:$L$1017),0)","v":0},{"$f":"IFERROR($E162*SUMIF('Daily Log'!$N$18:$N$1017,$B162,'Daily Log'!$O$18:$O$1017),0)","v":0},{"$f":"IFERROR($E162*SUMIF('Daily Log'!$Q$18:$Q$1017,$B162,'Daily Log'!$R$18:$R$1017),0)","v":0},{"$f":"IFERROR($E162*SUMIF('Daily Log'!$T$18:$T$1017,$B162,'Daily Log'!$U$18:$U$1017),0)","v":0},{"$f":"IFERROR($E162*SUMIF('Daily Log'!$W$18:$W$1017,$B162,'Daily Log'!$X$18:$X$1017),0)","v":0},{"$f":"IFERROR($E162*SUMIF('Daily Log'!$Z$18:$Z$1017,$B162,'Daily Log'!$AA$18:$AA$1017),0)","v":0},{"$f":"IFERROR($E162*SUMIF('Daily Log'!$AC$18:$AC$1017,$B162,'Daily Log'!$AD$18:$AD$1017),0)","v":0},{"$f":"IFERROR($E162*SUMIF('Daily Log'!$AF$18:$AF$1017,$B162,'Daily Log'!$AG$18:$AG$1017),0)","v":0},{"$f":"IFERROR($E162*SUMIF('Daily Log'!$AI$18:$AI$1017,$B162,'Daily Log'!$AJ$18:$AJ$1017),0)","v":0},{"$f":"IFERROR($E162*SUMIF('Daily Log'!$AL$18:$AL$1017,$B162,'Daily Log'!$AM$18:$AM$1017),0)","v":0},{"$f":"IFERROR($E162*SUMIF('Daily Log'!$AO$18:$AO$1017,$B162,'Daily Log'!$AP$18:$AP$1017),0)","v":0},{"$f":"IFERROR($E162*SUMIF('Daily Log'!$AR$18:$AR$1017,$B162,'Daily Log'!$AS$18:$AS$1017),0)","v":0},{"$f":"IFERROR($E162*SUMIF('Daily Log'!$AU$18:$AU$1017,$B162,'Daily Log'!$AV$18:$AV$1017),0)","v":0},{"$f":"IFERROR($E162*SUMIF('Daily Log'!$AX$18:$AX$1017,$B162,'Daily Log'!$AY$18:$AY$1017),0)","v":0},{"$f":"IFERROR($E162*SUMIF('Daily Log'!$BA$18:$BA$1017,$B162,'Daily Log'!$BB$18:$BB$1017),0)","v":0},{"$f":"IFERROR($E162*SUMIF('Daily Log'!$BD$18:$BD$1017,$B162,'Daily Log'!$BE$18:$BE$1017),0)","v":0},{"$f":"IFERROR($E162*SUMIF('Daily Log'!$BG$18:$BG$1017,$B162,'Daily Log'!$BH$18:$BH$1017),0)","v":0},{"$f":"IFERROR($E162*SUMIF('Daily Log'!$BJ$18:$BJ$1017,$B162,'Daily Log'!$BK$18:$BK$1017),0)","v":0},{"$f":"IFERROR($E162*SUMIF('Daily Log'!$BM$18:$BM$1017,$B162,'Daily Log'!$BN$18:$BN$1017),0)","v":0},{"$f":"IFERROR($E162*SUMIF('Daily Log'!$BP$18:$BP$1017,$B162,'Daily Log'!$BQ$18:$BQ$1017),0)","v":0},{"$f":"IFERROR($E162*SUMIF('Daily Log'!$BS$18:$BS$1017,$B162,'Daily Log'!$BT$18:$BT$1017),0)","v":0},{"$f":"IFERROR($E162*SUMIF('Daily Log'!$BV$18:$BV$1017,$B162,'Daily Log'!$BW$18:$BW$1017),0)","v":0},{"$f":"IFERROR($E162*SUMIF('Daily Log'!$BY$18:$BY$1017,$B162,'Daily Log'!$BZ$18:$BZ$1017),0)","v":0},{"$f":"IFERROR($E162*SUMIF('Daily Log'!$CB$18:$CB$1017,$B162,'Daily Log'!$CC$18:$CC$1017),0)","v":0},{"$f":"IFERROR($E162*SUMIF('Daily Log'!$CE$18:$CE$1017,$B162,'Daily Log'!$CF$18:$CF$1017),0)","v":0},{"$f":"IFERROR($E162*SUMIF('Daily Log'!$CH$18:$CH$1017,$B162,'Daily Log'!$CI$18:$CI$1017),0)","v":0},{"$f":"IFERROR($E162*SUMIF('Daily Log'!$CK$18:$CK$1017,$B162,'Daily Log'!$CL$18:$CL$1017),0)","v":0},{"$f":"IFERROR($E162*SUMIF('Daily Log'!$CN$18:$CN$1017,$B162,'Daily Log'!$CO$18:$CO$1017),0)","v":0}]
[null,"RS02 71202:FREN FRIES",null,"REDEEMED",1,0,{"$f":"IFERROR($E163*SUMIF('Daily Log'!$B$18:$B$1017,$B163,'Daily Log'!$C$18:$C$1017),0)","v":0},{"$f":"IFERROR($E163*SUMIF('Daily Log'!$E$18:$E$1017,$B163,'Daily Log'!$F$18:$F$1017),0)","v":0},{"$f":"IFERROR($E163*SUMIF('Daily Log'!$H$18:$H$1017,$B163,'Daily Log'!$I$18:$I$1017),0)","v":0},{"$f":"IFERROR($E163*SUMIF('Daily Log'!$K$18:$K$1017,$B163,'Daily Log'!$L$18:$L$1017),0)","v":0},{"$f":"IFERROR($E163*SUMIF('Daily Log'!$N$18:$N$1017,$B163,'Daily Log'!$O$18:$O$1017),0)","v":0},{"$f":"IFERROR($E163*SUMIF('Daily Log'!$Q$18:$Q$1017,$B163,'Daily Log'!$R$18:$R$1017),0)","v":0},{"$f":"IFERROR($E163*SUMIF('Daily Log'!$T$18:$T$1017,$B163,'Daily Log'!$U$18:$U$1017),0)","v":0},{"$f":"IFERROR($E163*SUMIF('Daily Log'!$W$18:$W$1017,$B163,'Daily Log'!$X$18:$X$1017),0)","v":0},{"$f":"IFERROR($E163*SUMIF('Daily Log'!$Z$18:$Z$1017,$B163,'Daily Log'!$AA$18:$AA$1017),0)","v":0},{"$f":"IFERROR($E163*SUMIF('Daily Log'!$AC$18:$AC$1017,$B163,'Daily Log'!$AD$18:$AD$1017),0)","v":0},{"$f":"IFERROR($E163*SUMIF('Daily Log'!$AF$18:$AF$1017,$B163,'Daily Log'!$AG$18:$AG$1017),0)","v":0},{"$f":"IFERROR($E163*SUMIF('Daily Log'!$AI$18:$AI$1017,$B163,'Daily Log'!$AJ$18:$AJ$1017),0)","v":0},{"$f":"IFERROR($E163*SUMIF('Daily Log'!$AL$18:$AL$1017,$B163,'Daily Log'!$AM$18:$AM$1017),0)","v":0},{"$f":"IFERROR($E163*SUMIF('Daily Log'!$AO$18:$AO$1017,$B163,'Daily Log'!$AP$18:$AP$1017),0)","v":0},{"$f":"IFERROR($E163*SUMIF('Daily Log'!$AR$18:$AR$1017,$B163,'Daily Log'!$AS$18:$AS$1017),0)","v":0},{"$f":"IFERROR($E163*SUMIF('Daily Log'!$AU$18:$AU$1017,$B163,'Daily Log'!$AV$18:$AV$1017),0)","v":0},{"$f":"IFERROR($E163*SUMIF('Daily Log'!$AX$18:$AX$1017,$B163,'Daily Log'!$AY$18:$AY$1017),0)","v":0},{"$f":"IFERROR($E163*SUMIF('Daily Log'!$BA$18:$BA$1017,$B163,'Daily Log'!$BB$18:$BB$1017),0)","v":0},{"$f":"IFERROR($E163*SUMIF('Daily Log'!$BD$18:$BD$1017,$B163,'Daily Log'!$BE$18:$BE$1017),0)","v":0},{"$f":"IFERROR($E163*SUMIF('Daily Log'!$BG$18:$BG$1017,$B163,'Daily Log'!$BH$18:$BH$1017),0)","v":0},{"$f":"IFERROR($E163*SUMIF('Daily Log'!$BJ$18:$BJ$1017,$B163,'Daily Log'!$BK$18:$BK$1017),0)","v":0},{"$f":"IFERROR($E163*SUMIF('Daily Log'!$BM$18:$BM$1017,$B163,'Daily Log'!$BN$18:$BN$1017),0)","v":0},{"$f":"IFERROR($E163*SUMIF('Daily Log'!$BP$18:$BP$1017,$B163,'Daily Log'!$BQ$18:$BQ$1017),0)","v":0},{"$f":"IFERROR($E163*SUMIF('Daily Log'!$BS$18:$BS$1017,$B163,'Daily Log'!$BT$18:$BT$1017),0)","v":0},{"$f":"IFERROR($E163*SUMIF('Daily Log'!$BV$18:$BV$1017,$B163,'Daily Log'!$BW$18:$BW$1017),0)","v":0},{"$f":"IFERROR($E163*SUMIF('Daily Log'!$BY$18:$BY$1017,$B163,'Daily Log'!$BZ$18:$BZ$1017),0)","v":0},{"$f":"IFERROR($E163*SUMIF('Daily Log'!$CB$18:$CB$1017,$B163,'Daily Log'!$CC$18:$CC$1017),0)","v":0},{"$f":"IFERROR($E163*SUMIF('Daily Log'!$CE$18:$CE$1017,$B163,'Daily Log'!$CF$18:$CF$1017),0)","v":0},{"$f":"IFERROR($E163*SUMIF('Daily Log'!$CH$18:$CH$1017,$B163,'Daily Log'!$CI$18:$CI$1017),0)","v":0},{"$f":"IFERROR($E163*SUMIF('Daily Log'!$CK$18:$CK$1017,$B163,'Daily Log'!$CL$18:$CL$1017),0)","v":0},{"$f":"IFERROR($E163*SUMIF('Daily Log'!$CN$18:$CN$1017,$B163,'Daily Log'!$CO$18:$CO$1017),0)","v":0}]
[null,"RS03 71203:GOLD MR",null,"REDEEMED",1,0,{"$f":"IFERROR($E164*SUMIF('Daily Log'!$B$18:$B$1017,$B164,'Daily Log'!$C$18:$C$1017),0)","v":0},{"$f":"IFERROR($E164*SUMIF('Daily Log'!$E$18:$E$1017,$B164,'Daily Log'!$F$18:$F$1017),0)","v":0},{"$f":"IFERROR($E164*SUMIF('Daily Log'!$H$18:$H$1017,$B164,'Daily Log'!$I$18:$I$1017),0)","v":0},{"$f":"IFERROR($E164*SUMIF('Daily Log'!$K$18:$K$1017,$B164,'Daily Log'!$L$18:$L$1017),0)","v":0},{"$f":"IFERROR($E164*SUMIF('Daily Log'!$N$18:$N$1017,$B164,'Daily Log'!$O$18:$O$1017),0)","v":0},{"$f":"IFERROR($E164*SUMIF('Daily Log'!$Q$18:$Q$1017,$B164,'Daily Log'!$R$18:$R$1017),0)","v":0},{"$f":"IFERROR($E164*SUMIF('Daily Log'!$T$18:$T$1017,$B164,'Daily Log'!$U$18:$U$1017),0)","v":0},{"$f":"IFERROR($E164*SUMIF('Daily Log'!$W$18:$W$1017,$B164,'Daily Log'!$X$18:$X$1017),0)","v":0},{"$f":"IFERROR($E164*SUMIF('Daily Log'!$Z$18:$Z$1017,$B164,'Daily Log'!$AA$18:$AA$1017),0)","v":0},{"$f":"IFERROR($E164*SUMIF('Daily Log'!$AC$18:$AC$1017,$B164,'Daily Log'!$AD$18:$AD$1017),0)","v":0},{"$f":"IFERROR($E164*SUMIF('Daily Log'!$AF$18:$AF$1017,$B164,'Daily Log'!$AG$18:$AG$1017),0)","v":0},{"$f":"IFERROR($E164*SUMIF('Daily Log'!$AI$18:$AI$1017,$B164,'Daily Log'!$AJ$18:$AJ$1017),0)","v":0},{"$f":"IFERROR($E164*SUMIF('Daily Log'!$AL$18:$AL$1017,$B164,'Daily Log'!$AM$18:$AM$1017),0)","v":0},{"$f":"IFERROR($E164*SUMIF('Daily Log'!$AO$18:$AO$1017,$B164,'Daily Log'!$AP$18:$AP$1017),0)","v":0},{"$f":"IFERROR($E164*SUMIF('Daily Log'!$AR$18:$AR$1017,$B164,'Daily Log'!$AS$18:$AS$1017),0)","v":0},{"$f":"IFERROR($E164*SUMIF('Daily Log'!$AU$18:$AU$1017,$B164,'Daily Log'!$AV$18:$AV$1017),0)","v":0},{"$f":"IFERROR($E164*SUMIF('Daily Log'!$AX$18:$AX$1017,$B164,'Daily Log'!$AY$18:$AY$1017),0)","v":0},{"$f":"IFERROR($E164*SUMIF('Daily Log'!$BA$18:$BA$1017,$B164,'Daily Log'!$BB$18:$BB$1017),0)","v":0},{"$f":"IFERROR($E164*SUMIF('Daily Log'!$BD$18:$BD$1017,$B164,'Daily Log'!$BE$18:$BE$1017),0)","v":0},{"$f":"IFERROR($E164*SUMIF('Daily Log'!$BG$18:$BG$1017,$B164,'Daily Log'!$BH$18:$BH$1017),0)","v":0},{"$f":"IFERROR($E164*SUMIF('Daily Log'!$BJ$18:$BJ$1017,$B164,'Daily Log'!$BK$18:$BK$1017),0)","v":0},{"$f":"IFERROR($E164*SUMIF('Daily Log'!$BM$18:$BM$1017,$B164,'Daily Log'!$BN$18:$BN$1017),0)","v":0},{"$f":"IFERROR($E164*SUMIF('Daily Log'!$BP$18:$BP$1017,$B164,'Daily Log'!$BQ$18:$BQ$1017),0)","v":0},{"$f":"IFERROR($E164*SUMIF('Daily Log'!$BS$18:$BS$1017,$B164,'Daily Log'!$BT$18:$BT$1017),0)","v":0},{"$f":"IFERROR($E164*SUMIF('Daily Log'!$BV$18:$BV$1017,$B164,'Daily Log'!$BW$18:$BW$1017),0)","v":0},{"$f":"IFERROR($E164*SUMIF('Daily Log'!$BY$18:$BY$1017,$B164,'Daily Log'!$BZ$18:$BZ$1017),0)","v":0},{"$f":"IFERROR($E164*SUMIF('Daily Log'!$CB$18:$CB$1017,$B164,'Daily Log'!$CC$18:$CC$1017),0)","v":0},{"$f":"IFERROR($E164*SUMIF('Daily Log'!$CE$18:$CE$1017,$B164,'Daily Log'!$CF$18:$CF$1017),0)","v":0},{"$f":"IFERROR($E164*SUMIF('Daily Log'!$CH$18:$CH$1017,$B164,'Daily Log'!$CI$18:$CI$1017),0)","v":0},{"$f":"IFERROR($E164*SUMIF('Daily Log'!$CK$18:$CK$1017,$B164,'Daily Log'!$CL$18:$CL$1017),0)","v":0},{"$f":"IFERROR($E164*SUMIF('Daily Log'!$CN$18:$CN$1017,$B164,'Daily Log'!$CO$18:$CO$1017),0)","v":0}]
[null,"RS04 71204:FSH BALL",null,"REDEEMED",1,0,{"$f":"IFERROR($E165*SUMIF('Daily Log'!$B$18:$B$1017,$B165,'Daily Log'!$C$18:$C$1017),0)","v":0},{"$f":"IFERROR($E165*SUMIF('Daily Log'!$E$18:$E$1017,$B165,'Daily Log'!$F$18:$F$1017),0)","v":0},{"$f":"IFERROR($E165*SUMIF('Daily Log'!$H$18:$H$1017,$B165,'Daily Log'!$I$18:$I$1017),0)","v":0},{"$f":"IFERROR($E165*SUMIF('Daily Log'!$K$18:$K$1017,$B165,'Daily Log'!$L$18:$L$1017),0)","v":0},{"$f":"IFERROR($E165*SUMIF('Daily Log'!$N$18:$N$1017,$B165,'Daily Log'!$O$18:$O$1017),0)","v":0},{"$f":"IFERROR($E165*SUMIF('Daily Log'!$Q$18:$Q$1017,$B165,'Daily Log'!$R$18:$R$1017),0)","v":0},{"$f":"IFERROR($E165*SUMIF('Daily Log'!$T$18:$T$1017,$B165,'Daily Log'!$U$18:$U$1017),0)","v":0},{"$f":"IFERROR($E165*SUMIF('Daily Log'!$W$18:$W$1017,$B165,'Daily Log'!$X$18:$X$1017),0)","v":0},{"$f":"IFERROR($E165*SUMIF('Daily Log'!$Z$18:$Z$1017,$B165,'Daily Log'!$AA$18:$AA$1017),0)","v":0},{"$f":"IFERROR($E165*SUMIF('Daily Log'!$AC$18:$AC$1017,$B165,'Daily Log'!$AD$18:$AD$1017),0)","v":0},{"$f":"IFERROR($E165*SUMIF('Daily Log'!$AF$18:$AF$1017,$B165,'Daily Log'!$AG$18:$AG$1017),0)","v":0},{"$f":"IFERROR($E165*SUMIF('Daily Log'!$AI$18:$AI$1017,$B165,'Daily Log'!$AJ$18:$AJ$1017),0)","v":0},{"$f":"IFERROR($E165*SUMIF('Daily Log'!$AL$18:$AL$1017,$B165,'Daily Log'!$AM$18:$AM$1017),0)","v":0},{"$f":"IFERROR($E165*SUMIF('Daily Log'!$AO$18:$AO$1017,$B165,'Daily Log'!$AP$18:$AP$1017),0)","v":0},{"$f":"IFERROR($E165*SUMIF('Daily Log'!$AR$18:$AR$1017,$B165,'Daily Log'!$AS$18:$AS$1017),0)","v":0},{"$f":"IFERROR($E165*SUMIF('Daily Log'!$AU$18:$AU$1017,$B165,'Daily Log'!$AV$18:$AV$1017),0)","v":0},{"$f":"IFERROR($E165*SUMIF('Daily Log'!$AX$18:$AX$1017,$B165,'Daily Log'!$AY$18:$AY$1017),0)","v":0},{"$f":"IFERROR($E165*SUMIF('Daily Log'!$BA$18:$BA$1017,$B165,'Daily Log'!$BB$18:$BB$1017),0)","v":0},{"$f":"IFERROR($E165*SUMIF('Daily Log'!$BD$18:$BD$1017,$B165,'Daily Log'!$BE$18:$BE$1017),0)","v":0},{"$f":"IFERROR($E165*SUMIF('Daily Log'!$BG$18:$BG$1017,$B165,'Daily Log'!$BH$18:$BH$1017),0)","v":0},{"$f":"IFERROR($E165*SUMIF('Daily Log'!$BJ$18:$BJ$1017,$B165,'Daily Log'!$BK$18:$BK$1017),0)","v":0},{"$f":"IFERROR($E165*SUMIF('Daily Log'!$BM$18:$BM$1017,$B165,'Daily Log'!$BN$18:$BN$1017),0)","v":0},{"$f":"IFERROR($E165*SUMIF('Daily Log'!$BP$18:$BP$1017,$B165,'Daily Log'!$BQ$18:$BQ$1017),0)","v":0},{"$f":"IFERROR($E165*SUMIF('Daily Log'!$BS$18:$BS$1017,$B165,'Daily Log'!$BT$18:$BT$1017),0)","v":0},{"$f":"IFERROR($E165*SUMIF('Daily Log'!$BV$18:$BV$1017,$B165,'Daily Log'!$BW$18:$BW$1017),0)","v":0},{"$f":"IFERROR($E165*SUMIF('Daily Log'!$BY$18:$BY$1017,$B165,'Daily Log'!$BZ$18:$BZ$1017),0)","v":0},{"$f":"IFERROR($E165*SUMIF('Daily Log'!$CB$18:$CB$1017,$B165,'Daily Log'!$CC$18:$CC$1017),0)","v":0},{"$f":"IFERROR($E165*SUMIF('Daily Log'!$CE$18:$CE$1017,$B165,'Daily Log'!$CF$18:$CF$1017),0)","v":0},{"$f":"IFERROR($E165*SUMIF('Daily Log'!$CH$18:$CH$1017,$B165,'Daily Log'!$CI$18:$CI$1017),0)","v":0},{"$f":"IFERROR($E165*SUMIF('Daily Log'!$CK$18:$CK$1017,$B165,'Daily Log'!$CL$18:$CL$1017),0)","v":0},{"$f":"IFERROR($E165*SUMIF('Daily Log'!$CN$18:$CN$1017,$B165,'Daily Log'!$CO$18:$CO$1017),0)","v":0}]
[null,"RS05 71205:RAINBOW RL",null,"REDEEMED",1,0,{"$f":"IFERROR($E166*SUMIF('Daily Log'!$B$18:$B$1017,$B166,'Daily Log'!$C$18:$C$1017),0)","v":0},{"$f":"IFERROR($E166*SUMIF('Daily Log'!$E$18:$E$1017,$B166,'Daily Log'!$F$18:$F$1017),0)","v":0},{"$f":"IFERROR($E166*SUMIF('Daily Log'!$H$18:$H$1017,$B166,'Daily Log'!$I$18:$I$1017),0)","v":0},{"$f":"IFERROR($E166*SUMIF('Daily Log'!$K$18:$K$1017,$B166,'Daily Log'!$L$18:$L$1017),0)","v":0},{"$f":"IFERROR($E166*SUMIF('Daily Log'!$N$18:$N$1017,$B166,'Daily Log'!$O$18:$O$1017),0)","v":0},{"$f":"IFERROR($E166*SUMIF('Daily Log'!$Q$18:$Q$1017,$B166,'Daily Log'!$R$18:$R$1017),0)","v":0},{"$f":"IFERROR($E166*SUMIF('Daily Log'!$T$18:$T$1017,$B166,'Daily Log'!$U$18:$U$1017),0)","v":0},{"$f":"IFERROR($E166*SUMIF('Daily Log'!$W$18:$W$1017,$B166,'Daily Log'!$X$18:$X$1017),0)","v":0},{"$f":"IFERROR($E166*SUMIF('Daily Log'!$Z$18:$Z$1017,$B166,'Daily Log'!$AA$18:$AA$1017),0)","v":0},{"$f":"IFERROR($E166*SUMIF('Daily Log'!$AC$18:$AC$1017,$B166,'Daily Log'!$AD$18:$AD$1017),0)","v":0},{"$f":"IFERROR($E166*SUMIF('Daily Log'!$AF$18:$AF$1017,$B166,'Daily Log'!$AG$18:$AG$1017),0)","v":0},{"$f":"IFERROR($E166*SUMIF('Daily Log'!$AI$18:$AI$1017,$B166,'Daily Log'!$AJ$18:$AJ$1017),0)","v":0},{"$f":"IFERROR($E166*SUMIF('Daily Log'!$AL$18:$AL$1017,$B166,'Daily Log'!$AM$18:$AM$1017),0)","v":0},{"$f":"IFERROR($E166*SUMIF('Daily Log'!$AO$18:$AO$1017,$B166,'Daily Log'!$AP$18:$AP$1017),0)","v":0},{"$f":"IFERROR($E166*SUMIF('Daily Log'!$AR$18:$AR$1017,$B166,'Daily Log'!$AS$18:$AS$1017),0)","v":0},{"$f":"IFERROR($E166*SUMIF('Daily Log'!$AU$18:$AU$1017,$B166,'Daily Log'!$AV$18:$AV$1017),0)","v":0},{"$f":"IFERROR($E166*SUMIF('Daily Log'!$AX$18:$AX$1017,$B166,'Daily Log'!$AY$18:$AY$1017),0)","v":0},{"$f":"IFERROR($E166*SUMIF('Daily Log'!$BA$18:$BA$1017,$B166,'Daily Log'!$BB$18:$BB$1017),0)","v":0},{"$f":"IFERROR($E166*SUMIF('Daily Log'!$BD$18:$BD$1017,$B166,'Daily Log'!$BE$18:$BE$1017),0)","v":0},{"$f":"IFERROR($E166*SUMIF('Daily Log'!$BG$18:$BG$1017,$B166,'Daily Log'!$BH$18:$BH$1017),0)","v":0},{"$f":"IFERROR($E166*SUMIF('Daily Log'!$BJ$18:$BJ$1017,$B166,'Daily Log'!$BK$18:$BK$1017),0)","v":0},{"$f":"IFERROR($E166*SUMIF('Daily Log'!$BM$18:$BM$1017,$B166,'Daily Log'!$BN$18:$BN$1017),0)","v":0},{"$f":"IFERROR($E166*SUMIF('Daily Log'!$BP$18:$BP$1017,$B166,'Daily Log'!$BQ$18:$BQ$1017),0)","v":0},{"$f":"IFERROR($E166*SUMIF('Daily Log'!$BS$18:$BS$1017,$B166,'Daily Log'!$BT$18:$BT$1017),0)","v":0},{"$f":"IFERROR($E166*SUMIF('Daily Log'!$BV$18:$BV$1017,$B166,'Daily Log'!$BW$18:$BW$1017),0)","v":0},{"$f":"IFERROR($E166*SUMIF('Daily Log'!$BY$18:$BY$1017,$B166,'Daily Log'!$BZ$18:$BZ$1017),0)","v":0},{"$f":"IFERROR($E166*SUMIF('Daily Log'!$CB$18:$CB$1017,$B166,'Daily Log'!$CC$18:$CC$1017),0)","v":0},{"$f":"IFERROR($E166*SUMIF('Daily Log'!$CE$18:$CE$1017,$B166,'Daily Log'!$CF$18:$CF$1017),0)","v":0},{"$f":"IFERROR($E166*SUMIF('Daily Log'!$CH$18:$CH$1017,$B166,'Daily Log'!$CI$18:$CI$1017),0)","v":0},{"$f":"IFERROR($E166*SUMIF('Daily Log'!$CK$18:$CK$1017,$B166,'Daily Log'!$CL$18:$CL$1017),0)","v":0},{"$f":"IFERROR($E166*SUMIF('Daily Log'!$CN$18:$CN$1017,$B166,'Daily Log'!$CO$18:$CO$1017),0)","v":0}]
[null,"RS06 71206:SPRING RL",null,"REDEEMED",1,0,{"$f":"IFERROR($E167*SUMIF('Daily Log'!$B$18:$B$1017,$B167,'Daily Log'!$C$18:$C$1017),0)","v":0},{"$f":"IFERROR($E167*SUMIF('Daily Log'!$E$18:$E$1017,$B167,'Daily Log'!$F$18:$F$1017),0)","v":0},{"$f":"IFERROR($E167*SUMIF('Daily Log'!$H$18:$H$1017,$B167,'Daily Log'!$I$18:$I$1017),0)","v":0},{"$f":"IFERROR($E167*SUMIF('Daily Log'!$K$18:$K$1017,$B167,'Daily Log'!$L$18:$L$1017),0)","v":0},{"$f":"IFERROR($E167*SUMIF('Daily Log'!$N$18:$N$1017,$B167,'Daily Log'!$O$18:$O$1017),0)","v":0},{"$f":"IFERROR($E167*SUMIF('Daily Log'!$Q$18:$Q$1017,$B167,'Daily Log'!$R$18:$R$1017),0)","v":0},{"$f":"IFERROR($E167*SUMIF('Daily Log'!$T$18:$T$1017,$B167,'Daily Log'!$U$18:$U$1017),0)","v":0},{"$f":"IFERROR($E167*SUMIF('Daily Log'!$W$18:$W$1017,$B167,'Daily Log'!$X$18:$X$1017),0)","v":0},{"$f":"IFERROR($E167*SUMIF('Daily Log'!$Z$18:$Z$1017,$B167,'Daily Log'!$AA$18:$AA$1017),0)","v":0},{"$f":"IFERROR($E167*SUMIF('Daily Log'!$AC$18:$AC$1017,$B167,'Daily Log'!$AD$18:$AD$1017),0)","v":0},{"$f":"IFERROR($E167*SUMIF('Daily Log'!$AF$18:$AF$1017,$B167,'Daily Log'!$AG$18:$AG$1017),0)","v":0},{"$f":"IFERROR($E167*SUMIF('Daily Log'!$AI$18:$AI$1017,$B167,'Daily Log'!$AJ$18:$AJ$1017),0)","v":0},{"$f":"IFERROR($E167*SUMIF('Daily Log'!$AL$18:$AL$1017,$B167,'Daily Log'!$AM$18:$AM$1017),0)","v":0},{"$f":"IFERROR($E167*SUMIF('Daily Log'!$AO$18:$AO$1017,$B167,'Daily Log'!$AP$18:$AP$1017),0)","v":0},{"$f":"IFERROR($E167*SUMIF('Daily Log'!$AR$18:$AR$1017,$B167,'Daily Log'!$AS$18:$AS$1017),0)","v":0},{"$f":"IFERROR($E167*SUMIF('Daily Log'!$AU$18:$AU$1017,$B167,'Daily Log'!$AV$18:$AV$1017),0)","v":0},{"$f":"IFERROR($E167*SUMIF('Daily Log'!$AX$18:$AX$1017,$B167,'Daily Log'!$AY$18:$AY$1017),0)","v":0},{"$f":"IFERROR($E167*SUMIF('Daily Log'!$BA$18:$BA$1017,$B167,'Daily Log'!$BB$18:$BB$1017),0)","v":0},{"$f":"IFERROR($E167*SUMIF('Daily Log'!$BD$18:$BD$1017,$B167,'Daily Log'!$BE$18:$BE$1017),0)","v":0},{"$f":"IFERROR($E167*SUMIF('Daily Log'!$BG$18:$BG$1017,$B167,'Daily Log'!$BH$18:$BH$1017),0)","v":0},{"$f":"IFERROR($E167*SUMIF('Daily Log'!$BJ$18:$BJ$1017,$B167,'Daily Log'!$BK$18:$BK$1017),0)","v":0},{"$f":"IFERROR($E167*SUMIF('Daily Log'!$BM$18:$BM$1017,$B167,'Daily Log'!$BN$18:$BN$1017),0)","v":0},{"$f":"IFERROR($E167*SUMIF('Daily Log'!$BP$18:$BP$1017,$B167,'Daily Log'!$BQ$18:$BQ$1017),0)","v":0},{"$f":"IFERROR($E167*SUMIF('Daily Log'!$BS$18:$BS$1017,$B167,'Daily Log'!$BT$18:$BT$1017),0)","v":0},{"$f":"IFERROR($E167*SUMIF('Daily Log'!$BV$18:$BV$1017,$B167,'Daily Log'!$BW$18:$BW$1017),0)","v":0},{"$f":"IFERROR($E167*SUMIF('Daily Log'!$BY$18:$BY$1017,$B167,'Daily Log'!$BZ$18:$BZ$1017),0)","v":0},{"$f":"IFERROR($E167*SUMIF('Daily Log'!$CB$18:$CB$1017,$B167,'Daily Log'!$CC$18:$CC$1017),0)","v":0},{"$f":"IFERROR($E167*SUMIF('Daily Log'!$CE$18:$CE$1017,$B167,'Daily Log'!$CF$18:$CF$1017),0)","v":0},{"$f":"IFERROR($E167*SUMIF('Daily Log'!$CH$18:$CH$1017,$B167,'Daily Log'!$CI$18:$CI$1017),0)","v":0},{"$f":"IFERROR($E167*SUMIF('Daily Log'!$CK$18:$CK$1017,$B167,'Daily Log'!$CL$18:$CL$1017),0)","v":0},{"$f":"IFERROR($E167*SUMIF('Daily Log'!$CN$18:$CN$1017,$B167,'Daily Log'!$CO$18:$CO$1017),0)","v":0}]
[null,"RS07 71207:SAUSG",null,"REDEEMED",1,0,{"$f":"IFERROR($E168*SUMIF('Daily Log'!$B$18:$B$1017,$B168,'Daily Log'!$C$18:$C$1017),0)","v":0},{"$f":"IFERROR($E168*SUMIF('Daily Log'!$E$18:$E$1017,$B168,'Daily Log'!$F$18:$F$1017),0)","v":0},{"$f":"IFERROR($E168*SUMIF('Daily Log'!$H$18:$H$1017,$B168,'Daily Log'!$I$18:$I$1017),0)","v":0},{"$f":"IFERROR($E168*SUMIF('Daily Log'!$K$18:$K$1017,$B168,'Daily Log'!$L$18:$L$1017),0)","v":0},{"$f":"IFERROR($E168*SUMIF('Daily Log'!$N$18:$N$1017,$B168,'Daily Log'!$O$18:$O$1017),0)","v":0},{"$f":"IFERROR($E168*SUMIF('Daily Log'!$Q$18:$Q$1017,$B168,'Daily Log'!$R$18:$R$1017),0)","v":0},{"$f":"IFERROR($E168*SUMIF('Daily Log'!$T$18:$T$1017,$B168,'Daily Log'!$U$18:$U$1017),0)","v":0},{"$f":"IFERROR($E168*SUMIF('Daily Log'!$W$18:$W$1017,$B168,'Daily Log'!$X$18:$X$1017),0)","v":0},{"$f":"IFERROR($E168*SUMIF('Daily Log'!$Z$18:$Z$1017,$B168,'Daily Log'!$AA$18:$AA$1017),0)","v":0},{"$f":"IFERROR($E168*SUMIF('Daily Log'!$AC$18:$AC$1017,$B168,'Daily Log'!$AD$18:$AD$1017),0)","v":0},{"$f":"IFERROR($E168*SUMIF('Daily Log'!$AF$18:$AF$1017,$B168,'Daily Log'!$AG$18:$AG$1017),0)","v":0},{"$f":"IFERROR($E168*SUMIF('Daily Log'!$AI$18:$AI$1017,$B168,'Daily Log'!$AJ$18:$AJ$1017),0)","v":0},{"$f":"IFERROR($E168*SUMIF('Daily Log'!$AL$18:$AL$1017,$B168,'Daily Log'!$AM$18:$AM$1017),0)","v":0},{"$f":"IFERROR($E168*SUMIF('Daily Log'!$AO$18:$AO$1017,$B168,'Daily Log'!$AP$18:$AP$1017),0)","v":0},{"$f":"IFERROR($E168*SUMIF('Daily Log'!$AR$18:$AR$1017,$B168,'Daily Log'!$AS$18:$AS$1017),0)","v":0},{"$f":"IFERROR($E168*SUMIF('Daily Log'!$AU$18:$AU$1017,$B168,'Daily Log'!$AV$18:$AV$1017),0)","v":0},{"$f":"IFERROR($E168*SUMIF('Daily Log'!$AX$18:$AX$1017,$B168,'Daily Log'!$AY$18:$AY$1017),0)","v":0},{"$f":"IFERROR($E168*SUMIF('Daily Log'!$BA$18:$BA$1017,$B168,'Daily Log'!$BB$18:$BB$1017),0)","v":0},{"$f":"IFERROR($E168*SUMIF('Daily Log'!$BD$18:$BD$1017,$B168,'Daily Log'!$BE$18:$BE$1017),0)","v":0},{"$f":"IFERROR($E168*SUMIF('Daily Log'!$BG$18:$BG$1017,$B168,'Daily Log'!$BH$18:$BH$1017),0)","v":0},{"$f":"IFERROR($E168*SUMIF('Daily Log'!$BJ$18:$BJ$1017,$B168,'Daily Log'!$BK$18:$BK$1017),0)","v":0},{"$f":"IFERROR($E168*SUMIF('Daily Log'!$BM$18:$BM$1017,$B168,'Daily Log'!$BN$18:$BN$1017),0)","v":0},{"$f":"IFERROR($E168*SUMIF('Daily Log'!$BP$18:$BP$1017,$B168,'Daily Log'!$BQ$18:$BQ$1017),0)","v":0},{"$f":"IFERROR($E168*SUMIF('Daily Log'!$BS$18:$BS$1017,$B168,'Daily Log'!$BT$18:$BT$1017),0)","v":0},{"$f":"IFERROR($E168*SUMIF('Daily Log'!$BV$18:$BV$1017,$B168,'Daily Log'!$BW$18:$BW$1017),0)","v":0},{"$f":"IFERROR($E168*SUMIF('Daily Log'!$BY$18:$BY$1017,$B168,'Daily Log'!$BZ$18:$BZ$1017),0)","v":0},{"$f":"IFERROR($E168*SUMIF('Daily Log'!$CB$18:$CB$1017,$B168,'Daily Log'!$CC$18:$CC$1017),0)","v":0},{"$f":"IFERROR($E168*SUMIF('Daily Log'!$CE$18:$CE$1017,$B168,'Daily Log'!$CF$18:$CF$1017),0)","v":0},{"$f":"IFERROR($E168*SUMIF('Daily Log'!$CH$18:$CH$1017,$B168,'Daily Log'!$CI$18:$CI$1017),0)","v":0},{"$f":"IFERROR($E168*SUMIF('Daily Log'!$CK$18:$CK$1017,$B168,'Daily Log'!$CL$18:$CL$1017),0)","v":0},{"$f":"IFERROR($E168*SUMIF('Daily Log'!$CN$18:$CN$1017,$B168,'Daily Log'!$CO$18:$CO$1017),0)","v":0}]
[null,"RS08 71208:HOTDOG BUN",null,"REDEEMED",1,0,{"$f":"IFERROR($E169*SUMIF('Daily Log'!$B$18:$B$1017,$B169,'Daily Log'!$C$18:$C$1017),0)","v":0},{"$f":"IFERROR($E169*SUMIF('Daily Log'!$E$18:$E$1017,$B169,'Daily Log'!$F$18:$F$1017),0)","v":0},{"$f":"IFERROR($E169*SUMIF('Daily Log'!$H$18:$H$1017,$B169,'Daily Log'!$I$18:$I$1017),0)","v":0},{"$f":"IFERROR($E169*SUMIF('Daily Log'!$K$18:$K$1017,$B169,'Daily Log'!$L$18:$L$1017),0)","v":0},{"$f":"IFERROR($E169*SUMIF('Daily Log'!$N$18:$N$1017,$B169,'Daily Log'!$O$18:$O$1017),0)","v":0},{"$f":"IFERROR($E169*SUMIF('Daily Log'!$Q$18:$Q$1017,$B169,'Daily Log'!$R$18:$R$1017),0)","v":0},{"$f":"IFERROR($E169*SUMIF('Daily Log'!$T$18:$T$1017,$B169,'Daily Log'!$U$18:$U$1017),0)","v":0},{"$f":"IFERROR($E169*SUMIF('Daily Log'!$W$18:$W$1017,$B169,'Daily Log'!$X$18:$X$1017),0)","v":0},{"$f":"IFERROR($E169*SUMIF('Daily Log'!$Z$18:$Z$1017,$B169,'Daily Log'!$AA$18:$AA$1017),0)","v":0},{"$f":"IFERROR($E169*SUMIF('Daily Log'!$AC$18:$AC$1017,$B169,'Daily Log'!$AD$18:$AD$1017),0)","v":0},{"$f":"IFERROR($E169*SUMIF('Daily Log'!$AF$18:$AF$1017,$B169,'Daily Log'!$AG$18:$AG$1017),0)","v":0},{"$f":"IFERROR($E169*SUMIF('Daily Log'!$AI$18:$AI$1017,$B169,'Daily Log'!$AJ$18:$AJ$1017),0)","v":0},{"$f":"IFERROR($E169*SUMIF('Daily Log'!$AL$18:$AL$1017,$B169,'Daily Log'!$AM$18:$AM$1017),0)","v":0},{"$f":"IFERROR($E169*SUMIF('Daily Log'!$AO$18:$AO$1017,$B169,'Daily Log'!$AP$18:$AP$1017),0)","v":0},{"$f":"IFERROR($E169*SUMIF('Daily Log'!$AR$18:$AR$1017,$B169,'Daily Log'!$AS$18:$AS$1017),0)","v":0},{"$f":"IFERROR($E169*SUMIF('Daily Log'!$AU$18:$AU$1017,$B169,'Daily Log'!$AV$18:$AV$1017),0)","v":0},{"$f":"IFERROR($E169*SUMIF('Daily Log'!$AX$18:$AX$1017,$B169,'Daily Log'!$AY$18:$AY$1017),0)","v":0},{"$f":"IFERROR($E169*SUMIF('Daily Log'!$BA$18:$BA$1017,$B169,'Daily Log'!$BB$18:$BB$1017),0)","v":0},{"$f":"IFERROR($E169*SUMIF('Daily Log'!$BD$18:$BD$1017,$B169,'Daily Log'!$BE$18:$BE$1017),0)","v":0},{"$f":"IFERROR($E169*SUMIF('Daily Log'!$BG$18:$BG$1017,$B169,'Daily Log'!$BH$18:$BH$1017),0)","v":0},{"$f":"IFERROR($E169*SUMIF('Daily Log'!$BJ$18:$BJ$1017,$B169,'Daily Log'!$BK$18:$BK$1017),0)","v":0},{"$f":"IFERROR($E169*SUMIF('Daily Log'!$BM$18:$BM$1017,$B169,'Daily Log'!$BN$18:$BN$1017),0)","v":0},{"$f":"IFERROR($E169*SUMIF('Daily Log'!$BP$18:$BP$1017,$B169,'Daily Log'!$BQ$18:$BQ$1017),0)","v":0},{"$f":"IFERROR($E169*SUMIF('Daily Log'!$BS$18:$BS$1017,$B169,'Daily Log'!$BT$18:$BT$1017),0)","v":0},{"$f":"IFERROR($E169*SUMIF('Daily Log'!$BV$18:$BV$1017,$B169,'Daily Log'!$BW$18:$BW$1017),0)","v":0},{"$f":"IFERROR($E169*SUMIF('Daily Log'!$BY$18:$BY$1017,$B169,'Daily Log'!$BZ$18:$BZ$1017),0)","v":0},{"$f":"IFERROR($E169*SUMIF('Daily Log'!$CB$18:$CB$1017,$B169,'Daily Log'!$CC$18:$CC$1017),0)","v":0},{"$f":"IFERROR($E169*SUMIF('Daily Log'!$CE$18:$CE$1017,$B169,'Daily Log'!$CF$18:$CF$1017),0)","v":0},{"$f":"IFERROR($E169*SUMIF('Daily Log'!$CH$18:$CH$1017,$B169,'Daily Log'!$CI$18:$CI$1017),0)","v":0},{"$f":"IFERROR($E169*SUMIF('Daily Log'!$CK$18:$CK$1017,$B169,'Daily Log'!$CL$18:$CL$1017),0)","v":0},{"$f":"IFERROR($E169*SUMIF('Daily Log'!$CN$18:$CN$1017,$B169,'Daily Log'!$CO$18:$CO$1017),0)","v":0}]
[null,"RS09 71209:SF TF",null,"REDEEMED",1,0,{"$f":"IFERROR($E170*SUMIF('Daily Log'!$B$18:$B$1017,$B170,'Daily Log'!$C$18:$C$1017),0)","v":0},{"$f":"IFERROR($E170*SUMIF('Daily Log'!$E$18:$E$1017,$B170,'Daily Log'!$F$18:$F$1017),0)","v":0},{"$f":"IFERROR($E170*SUMIF('Daily Log'!$H$18:$H$1017,$B170,'Daily Log'!$I$18:$I$1017),0)","v":0},{"$f":"IFERROR($E170*SUMIF('Daily Log'!$K$18:$K$1017,$B170,'Daily Log'!$L$18:$L$1017),0)","v":0},{"$f":"IFERROR($E170*SUMIF('Daily Log'!$N$18:$N$1017,$B170,'Daily Log'!$O$18:$O$1017),0)","v":0},{"$f":"IFERROR($E170*SUMIF('Daily Log'!$Q$18:$Q$1017,$B170,'Daily Log'!$R$18:$R$1017),0)","v":0},{"$f":"IFERROR($E170*SUMIF('Daily Log'!$T$18:$T$1017,$B170,'Daily Log'!$U$18:$U$1017),0)","v":0},{"$f":"IFERROR($E170*SUMIF('Daily Log'!$W$18:$W$1017,$B170,'Daily Log'!$X$18:$X$1017),0)","v":0},{"$f":"IFERROR($E170*SUMIF('Daily Log'!$Z$18:$Z$1017,$B170,'Daily Log'!$AA$18:$AA$1017),0)","v":0},{"$f":"IFERROR($E170*SUMIF('Daily Log'!$AC$18:$AC$1017,$B170,'Daily Log'!$AD$18:$AD$1017),0)","v":0},{"$f":"IFERROR($E170*SUMIF('Daily Log'!$AF$18:$AF$1017,$B170,'Daily Log'!$AG$18:$AG$1017),0)","v":0},{"$f":"IFERROR($E170*SUMIF('Daily Log'!$AI$18:$AI$1017,$B170,'Daily Log'!$AJ$18:$AJ$1017),0)","v":0},{"$f":"IFERROR($E170*SUMIF('Daily Log'!$AL$18:$AL$1017,$B170,'Daily Log'!$AM$18:$AM$1017),0)","v":0},{"$f":"IFERROR($E170*SUMIF('Daily Log'!$AO$18:$AO$1017,$B170,'Daily Log'!$AP$18:$AP$1017),0)","v":0},{"$f":"IFERROR($E170*SUMIF('Daily Log'!$AR$18:$AR$1017,$B170,'Daily Log'!$AS$18:$AS$1017),0)","v":0},{"$f":"IFERROR($E170*SUMIF('Daily Log'!$AU$18:$AU$1017,$B170,'Daily Log'!$AV$18:$AV$1017),0)","v":0},{"$f":"IFERROR($E170*SUMIF('Daily Log'!$AX$18:$AX$1017,$B170,'Daily Log'!$AY$18:$AY$1017),0)","v":0},{"$f":"IFERROR($E170*SUMIF('Daily Log'!$BA$18:$BA$1017,$B170,'Daily Log'!$BB$18:$BB$1017),0)","v":0},{"$f":"IFERROR($E170*SUMIF('Daily Log'!$BD$18:$BD$1017,$B170,'Daily Log'!$BE$18:$BE$1017),0)","v":0},{"$f":"IFERROR($E170*SUMIF('Daily Log'!$BG$18:$BG$1017,$B170,'Daily Log'!$BH$18:$BH$1017),0)","v":0},{"$f":"IFERROR($E170*SUMIF('Daily Log'!$BJ$18:$BJ$1017,$B170,'Daily Log'!$BK$18:$BK$1017),0)","v":0},{"$f":"IFERROR($E170*SUMIF('Daily Log'!$BM$18:$BM$1017,$B170,'Daily Log'!$BN$18:$BN$1017),0)","v":0},{"$f":"IFERROR($E170*SUMIF('Daily Log'!$BP$18:$BP$1017,$B170,'Daily Log'!$BQ$18:$BQ$1017),0)","v":0},{"$f":"IFERROR($E170*SUMIF('Daily Log'!$BS$18:$BS$1017,$B170,'Daily Log'!$BT$18:$BT$1017),0)","v":0},{"$f":"IFERROR($E170*SUMIF('Daily Log'!$BV$18:$BV$1017,$B170,'Daily Log'!$BW$18:$BW$1017),0)","v":0},{"$f":"IFERROR($E170*SUMIF('Daily Log'!$BY$18:$BY$1017,$B170,'Daily Log'!$BZ$18:$BZ$1017),0)","v":0},{"$f":"IFERROR($E170*SUMIF('Daily Log'!$CB$18:$CB$1017,$B170,'Daily Log'!$CC$18:$CC$1017),0)","v":0},{"$f":"IFERROR($E170*SUMIF('Daily Log'!$CE$18:$CE$1017,$B170,'Daily Log'!$CF$18:$CF$1017),0)","v":0},{"$f":"IFERROR($E170*SUMIF('Daily Log'!$CH$18:$CH$1017,$B170,'Daily Log'!$CI$18:$CI$1017),0)","v":0},{"$f":"IFERROR($E170*SUMIF('Daily Log'!$CK$18:$CK$1017,$B170,'Daily Log'!$CL$18:$CL$1017),0)","v":0},{"$f":"IFERROR($E170*SUMIF('Daily Log'!$CN$18:$CN$1017,$B170,'Daily Log'!$CO$18:$CO$1017),0)","v":0}]
[null,"RS10 71210:SALAD RL",null,"REDEEMED",1,0,{"$f":"IFERROR($E171*SUMIF('Daily Log'!$B$18:$B$1017,$B171,'Daily Log'!$C$18:$C$1017),0)","v":0},{"$f":"IFERROR($E171*SUMIF('Daily Log'!$E$18:$E$1017,$B171,'Daily Log'!$F$18:$F$1017),0)","v":0},{"$f":"IFERROR($E171*SUMIF('Daily Log'!$H$18:$H$1017,$B171,'Daily Log'!$I$18:$I$1017),0)","v":0},{"$f":"IFERROR($E171*SUMIF('Daily Log'!$K$18:$K$1017,$B171,'Daily Log'!$L$18:$L$1017),0)","v":0},{"$f":"IFERROR($E171*SUMIF('Daily Log'!$N$18:$N$1017,$B171,'Daily Log'!$O$18:$O$1017),0)","v":0},{"$f":"IFERROR($E171*SUMIF('Daily Log'!$Q$18:$Q$1017,$B171,'Daily Log'!$R$18:$R$1017),0)","v":0},{"$f":"IFERROR($E171*SUMIF('Daily Log'!$T$18:$T$1017,$B171,'Daily Log'!$U$18:$U$1017),0)","v":0},{"$f":"IFERROR($E171*SUMIF('Daily Log'!$W$18:$W$1017,$B171,'Daily Log'!$X$18:$X$1017),0)","v":0},{"$f":"IFERROR($E171*SUMIF('Daily Log'!$Z$18:$Z$1017,$B171,'Daily Log'!$AA$18:$AA$1017),0)","v":0},{"$f":"IFERROR($E171*SUMIF('Daily Log'!$AC$18:$AC$1017,$B171,'Daily Log'!$AD$18:$AD$1017),0)","v":0},{"$f":"IFERROR($E171*SUMIF('Daily Log'!$AF$18:$AF$1017,$B171,'Daily Log'!$AG$18:$AG$1017),0)","v":0},{"$f":"IFERROR($E171*SUMIF('Daily Log'!$AI$18:$AI$1017,$B171,'Daily Log'!$AJ$18:$AJ$1017),0)","v":0},{"$f":"IFERROR($E171*SUMIF('Daily Log'!$AL$18:$AL$1017,$B171,'Daily Log'!$AM$18:$AM$1017),0)","v":0},{"$f":"IFERROR($E171*SUMIF('Daily Log'!$AO$18:$AO$1017,$B171,'Daily Log'!$AP$18:$AP$1017),0)","v":0},{"$f":"IFERROR($E171*SUMIF('Daily Log'!$AR$18:$AR$1017,$B171,'Daily Log'!$AS$18:$AS$1017),0)","v":0},{"$f":"IFERROR($E171*SUMIF('Daily Log'!$AU$18:$AU$1017,$B171,'Daily Log'!$AV$18:$AV$1017),0)","v":0},{"$f":"IFERROR($E171*SUMIF('Daily Log'!$AX$18:$AX$1017,$B171,'Daily Log'!$AY$18:$AY$1017),0)","v":0},{"$f":"IFERROR($E171*SUMIF('Daily Log'!$BA$18:$BA$1017,$B171,'Daily Log'!$BB$18:$BB$1017),0)","v":0},{"$f":"IFERROR($E171*SUMIF('Daily Log'!$BD$18:$BD$1017,$B171,'Daily Log'!$BE$18:$BE$1017),0)","v":0},{"$f":"IFERROR($E171*SUMIF('Daily Log'!$BG$18:$BG$1017,$B171,'Daily Log'!$BH$18:$BH$1017),0)","v":0},{"$f":"IFERROR($E171*SUMIF('Daily Log'!$BJ$18:$BJ$1017,$B171,'Daily Log'!$BK$18:$BK$1017),0)","v":0},{"$f":"IFERROR($E171*SUMIF('Daily Log'!$BM$18:$BM$1017,$B171,'Daily Log'!$BN$18:$BN$1017),0)","v":0},{"$f":"IFERROR($E171*SUMIF('Daily Log'!$BP$18:$BP$1017,$B171,'Daily Log'!$BQ$18:$BQ$1017),0)","v":0},{"$f":"IFERROR($E171*SUMIF('Daily Log'!$BS$18:$BS$1017,$B171,'Daily Log'!$BT$18:$BT$1017),0)","v":0},{"$f":"IFERROR($E171*SUMIF('Daily Log'!$BV$18:$BV$1017,$B171,'Daily Log'!$BW$18:$BW$1017),0)","v":0},{"$f":"IFERROR($E171*SUMIF('Daily Log'!$BY$18:$BY$1017,$B171,'Daily Log'!$BZ$18:$BZ$1017),0)","v":0},{"$f":"IFERROR($E171*SUMIF('Daily Log'!$CB$18:$CB$1017,$B171,'Daily Log'!$CC$18:$CC$1017),0)","v":0},{"$f":"IFERROR($E171*SUMIF('Daily Log'!$CE$18:$CE$1017,$B171,'Daily Log'!$CF$18:$CF$1017),0)","v":0},{"$f":"IFERROR($E171*SUMIF('Daily Log'!$CH$18:$CH$1017,$B171,'Daily Log'!$CI$18:$CI$1017),0)","v":0},{"$f":"IFERROR($E171*SUMIF('Daily Log'!$CK$18:$CK$1017,$B171,'Daily Log'!$CL$18:$CL$1017),0)","v":0},{"$f":"IFERROR($E171*SUMIF('Daily Log'!$CN$18:$CN$1017,$B171,'Daily Log'!$CO$18:$CO$1017),0)","v":0}]
[null,"RS11 71211:BBQ CHK",null,"REDEEMED",1,0,{"$f":"IFERROR($E172*SUMIF('Daily Log'!$B$18:$B$1017,$B172,'Daily Log'!$C$18:$C$1017),0)","v":0},{"$f":"IFERROR($E172*SUMIF('Daily Log'!$E$18:$E$1017,$B172,'Daily Log'!$F$18:$F$1017),0)","v":0},{"$f":"IFERROR($E172*SUMIF('Daily Log'!$H$18:$H$1017,$B172,'Daily Log'!$I$18:$I$1017),0)","v":0},{"$f":"IFERROR($E172*SUMIF('Daily Log'!$K$18:$K$1017,$B172,'Daily Log'!$L$18:$L$1017),0)","v":0},{"$f":"IFERROR($E172*SUMIF('Daily Log'!$N$18:$N$1017,$B172,'Daily Log'!$O$18:$O$1017),0)","v":0},{"$f":"IFERROR($E172*SUMIF('Daily Log'!$Q$18:$Q$1017,$B172,'Daily Log'!$R$18:$R$1017),0)","v":0},{"$f":"IFERROR($E172*SUMIF('Daily Log'!$T$18:$T$1017,$B172,'Daily Log'!$U$18:$U$1017),0)","v":0},{"$f":"IFERROR($E172*SUMIF('Daily Log'!$W$18:$W$1017,$B172,'Daily Log'!$X$18:$X$1017),0)","v":0},{"$f":"IFERROR($E172*SUMIF('Daily Log'!$Z$18:$Z$1017,$B172,'Daily Log'!$AA$18:$AA$1017),0)","v":0},{"$f":"IFERROR($E172*SUMIF('Daily Log'!$AC$18:$AC$1017,$B172,'Daily Log'!$AD$18:$AD$1017),0)","v":0},{"$f":"IFERROR($E172*SUMIF('Daily Log'!$AF$18:$AF$1017,$B172,'Daily Log'!$AG$18:$AG$1017),0)","v":0},{"$f":"IFERROR($E172*SUMIF('Daily Log'!$AI$18:$AI$1017,$B172,'Daily Log'!$AJ$18:$AJ$1017),0)","v":0},{"$f":"IFERROR($E172*SUMIF('Daily Log'!$AL$18:$AL$1017,$B172,'Daily Log'!$AM$18:$AM$1017),0)","v":0},{"$f":"IFERROR($E172*SUMIF('Daily Log'!$AO$18:$AO$1017,$B172,'Daily Log'!$AP$18:$AP$1017),0)","v":0},{"$f":"IFERROR($E172*SUMIF('Daily Log'!$AR$18:$AR$1017,$B172,'Daily Log'!$AS$18:$AS$1017),0)","v":0},{"$f":"IFERROR($E172*SUMIF('Daily Log'!$AU$18:$AU$1017,$B172,'Daily Log'!$AV$18:$AV$1017),0)","v":0},{"$f":"IFERROR($E172*SUMIF('Daily Log'!$AX$18:$AX$1017,$B172,'Daily Log'!$AY$18:$AY$1017),0)","v":0},{"$f":"IFERROR($E172*SUMIF('Daily Log'!$BA$18:$BA$1017,$B172,'Daily Log'!$BB$18:$BB$1017),0)","v":0},{"$f":"IFERROR($E172*SUMIF('Daily Log'!$BD$18:$BD$1017,$B172,'Daily Log'!$BE$18:$BE$1017),0)","v":0},{"$f":"IFERROR($E172*SUMIF('Daily Log'!$BG$18:$BG$1017,$B172,'Daily Log'!$BH$18:$BH$1017),0)","v":0},{"$f":"IFERROR($E172*SUMIF('Daily Log'!$BJ$18:$BJ$1017,$B172,'Daily Log'!$BK$18:$BK$1017),0)","v":0},{"$f":"IFERROR($E172*SUMIF('Daily Log'!$BM$18:$BM$1017,$B172,'Daily Log'!$BN$18:$BN$1017),0)","v":0},{"$f":"IFERROR($E172*SUMIF('Daily Log'!$BP$18:$BP$1017,$B172,'Daily Log'!$BQ$18:$BQ$1017),0)","v":0},{"$f":"IFERROR($E172*SUMIF('Daily Log'!$BS$18:$BS$1017,$B172,'Daily Log'!$BT$18:$BT$1017),0)","v":0},{"$f":"IFERROR($E172*SUMIF('Daily Log'!$BV$18:$BV$1017,$B172,'Daily Log'!$BW$18:$BW$1017),0)","v":0},{"$f":"IFERROR($E172*SUMIF('Daily Log'!$BY$18:$BY$1017,$B172,'Daily Log'!$BZ$18:$BZ$1017),0)","v":0},{"$f":"IFERROR($E172*SUMIF('Daily Log'!$CB$18:$CB$1017,$B172,'Daily Log'!$CC$18:$CC$1017),0)","v":0},{"$f":"IFERROR($E172*SUMIF('Daily Log'!$CE$18:$CE$1017,$B172,'Daily Log'!$CF$18:$CF$1017),0)","v":0},{"$f":"IFERROR($E172*SUMIF('Daily Log'!$CH$18:$CH$1017,$B172,'Daily Log'!$CI$18:$CI$1017),0)","v":0},{"$f":"IFERROR($E172*SUMIF('Daily Log'!$CK$18:$CK$1017,$B172,'Daily Log'!$CL$18:$CL$1017),0)","v":0},{"$f":"IFERROR($E172*SUMIF('Daily Log'!$CN$18:$CN$1017,$B172,'Daily Log'!$CO$18:$CO$1017),0)","v":0}]
[null,"RS31 71301:DUMPLING",null,"REDEEMED",1,0,{"$f":"IFERROR($E173*SUMIF('Daily Log'!$B$18:$B$1017,$B173,'Daily Log'!$C$18:$C$1017),0)","v":0},{"$f":"IFERROR($E173*SUMIF('Daily Log'!$E$18:$E$1017,$B173,'Daily Log'!$F$18:$F$1017),0)","v":0},{"$f":"IFERROR($E173*SUMIF('Daily Log'!$H$18:$H$1017,$B173,'Daily Log'!$I$18:$I$1017),0)","v":0},{"$f":"IFERROR($E173*SUMIF('Daily Log'!$K$18:$K$1017,$B173,'Daily Log'!$L$18:$L$1017),0)","v":0},{"$f":"IFERROR($E173*SUMIF('Daily Log'!$N$18:$N$1017,$B173,'Daily Log'!$O$18:$O$1017),0)","v":0},{"$f":"IFERROR($E173*SUMIF('Daily Log'!$Q$18:$Q$1017,$B173,'Daily Log'!$R$18:$R$1017),0)","v":0},{"$f":"IFERROR($E173*SUMIF('Daily Log'!$T$18:$T$1017,$B173,'Daily Log'!$U$18:$U$1017),0)","v":0},{"$f":"IFERROR($E173*SUMIF('Daily Log'!$W$18:$W$1017,$B173,'Daily Log'!$X$18:$X$1017),0)","v":0},{"$f":"IFERROR($E173*SUMIF('Daily Log'!$Z$18:$Z$1017,$B173,'Daily Log'!$AA$18:$AA$1017),0)","v":0},{"$f":"IFERROR($E173*SUMIF('Daily Log'!$AC$18:$AC$1017,$B173,'Daily Log'!$AD$18:$AD$1017),0)","v":0},{"$f":"IFERROR($E173*SUMIF('Daily Log'!$AF$18:$AF$1017,$B173,'Daily Log'!$AG$18:$AG$1017),0)","v":0},{"$f":"IFERROR($E173*SUMIF('Daily Log'!$AI$18:$AI$1017,$B173,'Daily Log'!$AJ$18:$AJ$1017),0)","v":0},{"$f":"IFERROR($E173*SUMIF('Daily Log'!$AL$18:$AL$1017,$B173,'Daily Log'!$AM$18:$AM$1017),0)","v":0},{"$f":"IFERROR($E173*SUMIF('Daily Log'!$AO$18:$AO$1017,$B173,'Daily Log'!$AP$18:$AP$1017),0)","v":0},{"$f":"IFERROR($E173*SUMIF('Daily Log'!$AR$18:$AR$1017,$B173,'Daily Log'!$AS$18:$AS$1017),0)","v":0},{"$f":"IFERROR($E173*SUMIF('Daily Log'!$AU$18:$AU$1017,$B173,'Daily Log'!$AV$18:$AV$1017),0)","v":0},{"$f":"IFERROR($E173*SUMIF('Daily Log'!$AX$18:$AX$1017,$B173,'Daily Log'!$AY$18:$AY$1017),0)","v":0},{"$f":"IFERROR($E173*SUMIF('Daily Log'!$BA$18:$BA$1017,$B173,'Daily Log'!$BB$18:$BB$1017),0)","v":0},{"$f":"IFERROR($E173*SUMIF('Daily Log'!$BD$18:$BD$1017,$B173,'Daily Log'!$BE$18:$BE$1017),0)","v":0},{"$f":"IFERROR($E173*SUMIF('Daily Log'!$BG$18:$BG$1017,$B173,'Daily Log'!$BH$18:$BH$1017),0)","v":0},{"$f":"IFERROR($E173*SUMIF('Daily Log'!$BJ$18:$BJ$1017,$B173,'Daily Log'!$BK$18:$BK$1017),0)","v":0},{"$f":"IFERROR($E173*SUMIF('Daily Log'!$BM$18:$BM$1017,$B173,'Daily Log'!$BN$18:$BN$1017),0)","v":0},{"$f":"IFERROR($E173*SUMIF('Daily Log'!$BP$18:$BP$1017,$B173,'Daily Log'!$BQ$18:$BQ$1017),0)","v":0},{"$f":"IFERROR($E173*SUMIF('Daily Log'!$BS$18:$BS$1017,$B173,'Daily Log'!$BT$18:$BT$1017),0)","v":0},{"$f":"IFERROR($E173*SUMIF('Daily Log'!$BV$18:$BV$1017,$B173,'Daily Log'!$BW$18:$BW$1017),0)","v":0},{"$f":"IFERROR($E173*SUMIF('Daily Log'!$BY$18:$BY$1017,$B173,'Daily Log'!$BZ$18:$BZ$1017),0)","v":0},{"$f":"IFERROR($E173*SUMIF('Daily Log'!$CB$18:$CB$1017,$B173,'Daily Log'!$CC$18:$CC$1017),0)","v":0},{"$f":"IFERROR($E173*SUMIF('Daily Log'!$CE$18:$CE$1017,$B173,'Daily Log'!$CF$18:$CF$1017),0)","v":0},{"$f":"IFERROR($E173*SUMIF('Daily Log'!$CH$18:$CH$1017,$B173,'Daily Log'!$CI$18:$CI$1017),0)","v":0},{"$f":"IFERROR($E173*SUMIF('Daily Log'!$CK$18:$CK$1017,$B173,'Daily Log'!$CL$18:$CL$1017),0)","v":0},{"$f":"IFERROR($E173*SUMIF('Daily Log'!$CN$18:$CN$1017,$B173,'Daily Log'!$CO$18:$CO$1017),0)","v":0}]
[null,"RS32 71302:NUGGET",null,"REDEEMED",1,0,{"$f":"IFERROR($E174*SUMIF('Daily Log'!$B$18:$B$1017,$B174,'Daily Log'!$C$18:$C$1017),0)","v":0},{"$f":"IFERROR($E174*SUMIF('Daily Log'!$E$18:$E$1017,$B174,'Daily Log'!$F$18:$F$1017),0)","v":0},{"$f":"IFERROR($E174*SUMIF('Daily Log'!$H$18:$H$1017,$B174,'Daily Log'!$I$18:$I$1017),0)","v":0},{"$f":"IFERROR($E174*SUMIF('Daily Log'!$K$18:$K$1017,$B174,'Daily Log'!$L$18:$L$1017),0)","v":0},{"$f":"IFERROR($E174*SUMIF('Daily Log'!$N$18:$N$1017,$B174,'Daily Log'!$O$18:$O$1017),0)","v":0},{"$f":"IFERROR($E174*SUMIF('Daily Log'!$Q$18:$Q$1017,$B174,'Daily Log'!$R$18:$R$1017),0)","v":0},{"$f":"IFERROR($E174*SUMIF('Daily Log'!$T$18:$T$1017,$B174,'Daily Log'!$U$18:$U$1017),0)","v":0},{"$f":"IFERROR($E174*SUMIF('Daily Log'!$W$18:$W$1017,$B174,'Daily Log'!$X$18:$X$1017),0)","v":0},{"$f":"IFERROR($E174*SUMIF('Daily Log'!$Z$18:$Z$1017,$B174,'Daily Log'!$AA$18:$AA$1017),0)","v":0},{"$f":"IFERROR($E174*SUMIF('Daily Log'!$AC$18:$AC$1017,$B174,'Daily Log'!$AD$18:$AD$1017),0)","v":0},{"$f":"IFERROR($E174*SUMIF('Daily Log'!$AF$18:$AF$1017,$B174,'Daily Log'!$AG$18:$AG$1017),0)","v":0},{"$f":"IFERROR($E174*SUMIF('Daily Log'!$AI$18:$AI$1017,$B174,'Daily Log'!$AJ$18:$AJ$1017),0)","v":0},{"$f":"IFERROR($E174*SUMIF('Daily Log'!$AL$18:$AL$1017,$B174,'Daily Log'!$AM$18:$AM$1017),0)","v":0},{"$f":"IFERROR($E174*SUMIF('Daily Log'!$AO$18:$AO$1017,$B174,'Daily Log'!$AP$18:$AP$1017),0)","v":0},{"$f":"IFERROR($E174*SUMIF('Daily Log'!$AR$18:$AR$1017,$B174,'Daily Log'!$AS$18:$AS$1017),0)","v":0},{"$f":"IFERROR($E174*SUMIF('Daily Log'!$AU$18:$AU$1017,$B174,'Daily Log'!$AV$18:$AV$1017),0)","v":0},{"$f":"IFERROR($E174*SUMIF('Daily Log'!$AX$18:$AX$1017,$B174,'Daily Log'!$AY$18:$AY$1017),0)","v":0},{"$f":"IFERROR($E174*SUMIF('Daily Log'!$BA$18:$BA$1017,$B174,'Daily Log'!$BB$18:$BB$1017),0)","v":0},{"$f":"IFERROR($E174*SUMIF('Daily Log'!$BD$18:$BD$1017,$B174,'Daily Log'!$BE$18:$BE$1017),0)","v":0},{"$f":"IFERROR($E174*SUMIF('Daily Log'!$BG$18:$BG$1017,$B174,'Daily Log'!$BH$18:$BH$1017),0)","v":0},{"$f":"IFERROR($E174*SUMIF('Daily Log'!$BJ$18:$BJ$1017,$B174,'Daily Log'!$BK$18:$BK$1017),0)","v":0},{"$f":"IFERROR($E174*SUMIF('Daily Log'!$BM$18:$BM$1017,$B174,'Daily Log'!$BN$18:$BN$1017),0)","v":0},{"$f":"IFERROR($E174*SUMIF('Daily Log'!$BP$18:$BP$1017,$B174,'Daily Log'!$BQ$18:$BQ$1017),0)","v":0},{"$f":"IFERROR($E174*SUMIF('Daily Log'!$BS$18:$BS$1017,$B174,'Daily Log'!$BT$18:$BT$1017),0)","v":0},{"$f":"IFERROR($E174*SUMIF('Daily Log'!$BV$18:$BV$1017,$B174,'Daily Log'!$BW$18:$BW$1017),0)","v":0},{"$f":"IFERROR($E174*SUMIF('Daily Log'!$BY$18:$BY$1017,$B174,'Daily Log'!$BZ$18:$BZ$1017),0)","v":0},{"$f":"IFERROR($E174*SUMIF('Daily Log'!$CB$18:$CB$1017,$B174,'Daily Log'!$CC$18:$CC$1017),0)","v":0},{"$f":"IFERROR($E174*SUMIF('Daily Log'!$CE$18:$CE$1017,$B174,'Daily Log'!$CF$18:$CF$1017),0)","v":0},{"$f":"IFERROR($E174*SUMIF('Daily Log'!$CH$18:$CH$1017,$B174,'Daily Log'!$CI$18:$CI$1017),0)","v":0},{"$f":"IFERROR($E174*SUMIF('Daily Log'!$CK$18:$CK$1017,$B174,'Daily Log'!$CL$18:$CL$1017),0)","v":0},{"$f":"IFERROR($E174*SUMIF('Daily Log'!$CN$18:$CN$1017,$B174,'Daily Log'!$CO$18:$CO$1017),0)","v":0}]
[null,"RS33 71303:CHK WING",null,"REDEEMED",1,0,{"$f":"IFERROR($E175*SUMIF('Daily Log'!$B$18:$B$1017,$B175,'Daily Log'!$C$18:$C$1017),0)","v":0},{"$f":"IFERROR($E175*SUMIF('Daily Log'!$E$18:$E$1017,$B175,'Daily Log'!$F$18:$F$1017),0)","v":0},{"$f":"IFERROR($E175*SUMIF('Daily Log'!$H$18:$H$1017,$B175,'Daily Log'!$I$18:$I$1017),0)","v":0},{"$f":"IFERROR($E175*SUMIF('Daily Log'!$K$18:$K$1017,$B175,'Daily Log'!$L$18:$L$1017),0)","v":0},{"$f":"IFERROR($E175*SUMIF('Daily Log'!$N$18:$N$1017,$B175,'Daily Log'!$O$18:$O$1017),0)","v":0},{"$f":"IFERROR($E175*SUMIF('Daily Log'!$Q$18:$Q$1017,$B175,'Daily Log'!$R$18:$R$1017),0)","v":0},{"$f":"IFERROR($E175*SUMIF('Daily Log'!$T$18:$T$1017,$B175,'Daily Log'!$U$18:$U$1017),0)","v":0},{"$f":"IFERROR($E175*SUMIF('Daily Log'!$W$18:$W$1017,$B175,'Daily Log'!$X$18:$X$1017),0)","v":0},{"$f":"IFERROR($E175*SUMIF('Daily Log'!$Z$18:$Z$1017,$B175,'Daily Log'!$AA$18:$AA$1017),0)","v":0},{"$f":"IFERROR($E175*SUMIF('Daily Log'!$AC$18:$AC$1017,$B175,'Daily Log'!$AD$18:$AD$1017),0)","v":0},{"$f":"IFERROR($E175*SUMIF('Daily Log'!$AF$18:$AF$1017,$B175,'Daily Log'!$AG$18:$AG$1017),0)","v":0},{"$f":"IFERROR($E175*SUMIF('Daily Log'!$AI$18:$AI$1017,$B175,'Daily Log'!$AJ$18:$AJ$1017),0)","v":0},{"$f":"IFERROR($E175*SUMIF('Daily Log'!$AL$18:$AL$1017,$B175,'Daily Log'!$AM$18:$AM$1017),0)","v":0},{"$f":"IFERROR($E175*SUMIF('Daily Log'!$AO$18:$AO$1017,$B175,'Daily Log'!$AP$18:$AP$1017),0)","v":0},{"$f":"IFERROR($E175*SUMIF('Daily Log'!$AR$18:$AR$1017,$B175,'Daily Log'!$AS$18:$AS$1017),0)","v":0},{"$f":"IFERROR($E175*SUMIF('Daily Log'!$AU$18:$AU$1017,$B175,'Daily Log'!$AV$18:$AV$1017),0)","v":0},{"$f":"IFERROR($E175*SUMIF('Daily Log'!$AX$18:$AX$1017,$B175,'Daily Log'!$AY$18:$AY$1017),0)","v":0},{"$f":"IFERROR($E175*SUMIF('Daily Log'!$BA$18:$BA$1017,$B175,'Daily Log'!$BB$18:$BB$1017),0)","v":0},{"$f":"IFERROR($E175*SUMIF('Daily Log'!$BD$18:$BD$1017,$B175,'Daily Log'!$BE$18:$BE$1017),0)","v":0},{"$f":"IFERROR($E175*SUMIF('Daily Log'!$BG$18:$BG$1017,$B175,'Daily Log'!$BH$18:$BH$1017),0)","v":0},{"$f":"IFERROR($E175*SUMIF('Daily Log'!$BJ$18:$BJ$1017,$B175,'Daily Log'!$BK$18:$BK$1017),0)","v":0},{"$f":"IFERROR($E175*SUMIF('Daily Log'!$BM$18:$BM$1017,$B175,'Daily Log'!$BN$18:$BN$1017),0)","v":0},{"$f":"IFERROR($E175*SUMIF('Daily Log'!$BP$18:$BP$1017,$B175,'Daily Log'!$BQ$18:$BQ$1017),0)","v":0},{"$f":"IFERROR($E175*SUMIF('Daily Log'!$BS$18:$BS$1017,$B175,'Daily Log'!$BT$18:$BT$1017),0)","v":0},{"$f":"IFERROR($E175*SUMIF('Daily Log'!$BV$18:$BV$1017,$B175,'Daily Log'!$BW$18:$BW$1017),0)","v":0},{"$f":"IFERROR($E175*SUMIF('Daily Log'!$BY$18:$BY$1017,$B175,'Daily Log'!$BZ$18:$BZ$1017),0)","v":0},{"$f":"IFERROR($E175*SUMIF('Daily Log'!$CB$18:$CB$1017,$B175,'Daily Log'!$CC$18:$CC$1017),0)","v":0},{"$f":"IFERROR($E175*SUMIF('Daily Log'!$CE$18:$CE$1017,$B175,'Daily Log'!$CF$18:$CF$1017),0)","v":0},{"$f":"IFERROR($E175*SUMIF('Daily Log'!$CH$18:$CH$1017,$B175,'Daily Log'!$CI$18:$CI$1017),0)","v":0},{"$f":"IFERROR($E175*SUMIF('Daily Log'!$CK$18:$CK$1017,$B175,'Daily Log'!$CL$18:$CL$1017),0)","v":0},{"$f":"IFERROR($E175*SUMIF('Daily Log'!$CN$18:$CN$1017,$B175,'Daily Log'!$CO$18:$CO$1017),0)","v":0}]
[null,"RS34 71304:IKAN BILIS",null,"REDEEMED",1,0,{"$f":"IFERROR($E176*SUMIF('Daily Log'!$B$18:$B$1017,$B176,'Daily Log'!$C$18:$C$1017),0)","v":0},{"$f":"IFERROR($E176*SUMIF('Daily Log'!$E$18:$E$1017,$B176,'Daily Log'!$F$18:$F$1017),0)","v":0},{"$f":"IFERROR($E176*SUMIF('Daily Log'!$H$18:$H$1017,$B176,'Daily Log'!$I$18:$I$1017),0)","v":0},{"$f":"IFERROR($E176*SUMIF('Daily Log'!$K$18:$K$1017,$B176,'Daily Log'!$L$18:$L$1017),0)","v":0},{"$f":"IFERROR($E176*SUMIF('Daily Log'!$N$18:$N$1017,$B176,'Daily Log'!$O$18:$O$1017),0)","v":0},{"$f":"IFERROR($E176*SUMIF('Daily Log'!$Q$18:$Q$1017,$B176,'Daily Log'!$R$18:$R$1017),0)","v":0},{"$f":"IFERROR($E176*SUMIF('Daily Log'!$T$18:$T$1017,$B176,'Daily Log'!$U$18:$U$1017),0)","v":0},{"$f":"IFERROR($E176*SUMIF('Daily Log'!$W$18:$W$1017,$B176,'Daily Log'!$X$18:$X$1017),0)","v":0},{"$f":"IFERROR($E176*SUMIF('Daily Log'!$Z$18:$Z$1017,$B176,'Daily Log'!$AA$18:$AA$1017),0)","v":0},{"$f":"IFERROR($E176*SUMIF('Daily Log'!$AC$18:$AC$1017,$B176,'Daily Log'!$AD$18:$AD$1017),0)","v":0},{"$f":"IFERROR($E176*SUMIF('Daily Log'!$AF$18:$AF$1017,$B176,'Daily Log'!$AG$18:$AG$1017),0)","v":0},{"$f":"IFERROR($E176*SUMIF('Daily Log'!$AI$18:$AI$1017,$B176,'Daily Log'!$AJ$18:$AJ$1017),0)","v":0},{"$f":"IFERROR($E176*SUMIF('Daily Log'!$AL$18:$AL$1017,$B176,'Daily Log'!$AM$18:$AM$1017),0)","v":0},{"$f":"IFERROR($E176*SUMIF('Daily Log'!$AO$18:$AO$1017,$B176,'Daily Log'!$AP$18:$AP$1017),0)","v":0},{"$f":"IFERROR($E176*SUMIF('Daily Log'!$AR$18:$AR$1017,$B176,'Daily Log'!$AS$18:$AS$1017),0)","v":0},{"$f":"IFERROR($E176*SUMIF('Daily Log'!$AU$18:$AU$1017,$B176,'Daily Log'!$AV$18:$AV$1017),0)","v":0},{"$f":"IFERROR($E176*SUMIF('Daily Log'!$AX$18:$AX$1017,$B176,'Daily Log'!$AY$18:$AY$1017),0)","v":0},{"$f":"IFERROR($E176*SUMIF('Daily Log'!$BA$18:$BA$1017,$B176,'Daily Log'!$BB$18:$BB$1017),0)","v":0},{"$f":"IFERROR($E176*SUMIF('Daily Log'!$BD$18:$BD$1017,$B176,'Daily Log'!$BE$18:$BE$1017),0)","v":0},{"$f":"IFERROR($E176*SUMIF('Daily Log'!$BG$18:$BG$1017,$B176,'Daily Log'!$BH$18:$BH$1017),0)","v":0},{"$f":"IFERROR($E176*SUMIF('Daily Log'!$BJ$18:$BJ$1017,$B176,'Daily Log'!$BK$18:$BK$1017),0)","v":0},{"$f":"IFERROR($E176*SUMIF('Daily Log'!$BM$18:$BM$1017,$B176,'Daily Log'!$BN$18:$BN$1017),0)","v":0},{"$f":"IFERROR($E176*SUMIF('Daily Log'!$BP$18:$BP$1017,$B176,'Daily Log'!$BQ$18:$BQ$1017),0)","v":0},{"$f":"IFERROR($E176*SUMIF('Daily Log'!$BS$18:$BS$1017,$B176,'Daily Log'!$BT$18:$BT$1017),0)","v":0},{"$f":"IFERROR($E176*SUMIF('Daily Log'!$BV$18:$BV$1017,$B176,'Daily Log'!$BW$18:$BW$1017),0)","v":0},{"$f":"IFERROR($E176*SUMIF('Daily Log'!$BY$18:$BY$1017,$B176,'Daily Log'!$BZ$18:$BZ$1017),0)","v":0},{"$f":"IFERROR($E176*SUMIF('Daily Log'!$CB$18:$CB$1017,$B176,'Daily Log'!$CC$18:$CC$1017),0)","v":0},{"$f":"IFERROR($E176*SUMIF('Daily Log'!$CE$18:$CE$1017,$B176,'Daily Log'!$CF$18:$CF$1017),0)","v":0},{"$f":"IFERROR($E176*SUMIF('Daily Log'!$CH$18:$CH$1017,$B176,'Daily Log'!$CI$18:$CI$1017),0)","v":0},{"$f":"IFERROR($E176*SUMIF('Daily Log'!$CK$18:$CK$1017,$B176,'Daily Log'!$CL$18:$CL$1017),0)","v":0},{"$f":"IFERROR($E176*SUMIF('Daily Log'!$CN$18:$CN$1017,$B176,'Daily Log'!$CO$18:$CO$1017),0)","v":0}]
[null,"RS35 71305:THAI RL",null,"REDEEMED",1,0,{"$f":"IFERROR($E177*SUMIF('Daily Log'!$B$18:$B$1017,$B177,'Daily Log'!$C$18:$C$1017),0)","v":0},{"$f":"IFERROR($E177*SUMIF('Daily Log'!$E$18:$E$1017,$B177,'Daily Log'!$F$18:$F$1017),0)","v":0},{"$f":"IFERROR($E177*SUMIF('Daily Log'!$H$18:$H$1017,$B177,'Daily Log'!$I$18:$I$1017),0)","v":0},{"$f":"IFERROR($E177*SUMIF('Daily Log'!$K$18:$K$1017,$B177,'Daily Log'!$L$18:$L$1017),0)","v":0},{"$f":"IFERROR($E177*SUMIF('Daily Log'!$N$18:$N$1017,$B177,'Daily Log'!$O$18:$O$1017),0)","v":0},{"$f":"IFERROR($E177*SUMIF('Daily Log'!$Q$18:$Q$1017,$B177,'Daily Log'!$R$18:$R$1017),0)","v":0},{"$f":"IFERROR($E177*SUMIF('Daily Log'!$T$18:$T$1017,$B177,'Daily Log'!$U$18:$U$1017),0)","v":0},{"$f":"IFERROR($E177*SUMIF('Daily Log'!$W$18:$W$1017,$B177,'Daily Log'!$X$18:$X$1017),0)","v":0},{"$f":"IFERROR($E177*SUMIF('Daily Log'!$Z$18:$Z$1017,$B177,'Daily Log'!$AA$18:$AA$1017),0)","v":0},{"$f":"IFERROR($E177*SUMIF('Daily Log'!$AC$18:$AC$1017,$B177,'Daily Log'!$AD$18:$AD$1017),0)","v":0},{"$f":"IFERROR($E177*SUMIF('Daily Log'!$AF$18:$AF$1017,$B177,'Daily Log'!$AG$18:$AG$1017),0)","v":0},{"$f":"IFERROR($E177*SUMIF('Daily Log'!$AI$18:$AI$1017,$B177,'Daily Log'!$AJ$18:$AJ$1017),0)","v":0},{"$f":"IFERROR($E177*SUMIF('Daily Log'!$AL$18:$AL$1017,$B177,'Daily Log'!$AM$18:$AM$1017),0)","v":0},{"$f":"IFERROR($E177*SUMIF('Daily Log'!$AO$18:$AO$1017,$B177,'Daily Log'!$AP$18:$AP$1017),0)","v":0},{"$f":"IFERROR($E177*SUMIF('Daily Log'!$AR$18:$AR$1017,$B177,'Daily Log'!$AS$18:$AS$1017),0)","v":0},{"$f":"IFERROR($E177*SUMIF('Daily Log'!$AU$18:$AU$1017,$B177,'Daily Log'!$AV$18:$AV$1017),0)","v":0},{"$f":"IFERROR($E177*SUMIF('Daily Log'!$AX$18:$AX$1017,$B177,'Daily Log'!$AY$18:$AY$1017),0)","v":0},{"$f":"IFERROR($E177*SUMIF('Daily Log'!$BA$18:$BA$1017,$B177,'Daily Log'!$BB$18:$BB$1017),0)","v":0},{"$f":"IFERROR($E177*SUMIF('Daily Log'!$BD$18:$BD$1017,$B177,'Daily Log'!$BE$18:$BE$1017),0)","v":0},{"$f":"IFERROR($E177*SUMIF('Daily Log'!$BG$18:$BG$1017,$B177,'Daily Log'!$BH$18:$BH$1017),0)","v":0},{"$f":"IFERROR($E177*SUMIF('Daily Log'!$BJ$18:$BJ$1017,$B177,'Daily Log'!$BK$18:$BK$1017),0)","v":0},{"$f":"IFERROR($E177*SUMIF('Daily Log'!$BM$18:$BM$1017,$B177,'Daily Log'!$BN$18:$BN$1017),0)","v":0},{"$f":"IFERROR($E177*SUMIF('Daily Log'!$BP$18:$BP$1017,$B177,'Daily Log'!$BQ$18:$BQ$1017),0)","v":0},{"$f":"IFERROR($E177*SUMIF('Daily Log'!$BS$18:$BS$1017,$B177,'Daily Log'!$BT$18:$BT$1017),0)","v":0},{"$f":"IFERROR($E177*SUMIF('Daily Log'!$BV$18:$BV$1017,$B177,'Daily Log'!$BW$18:$BW$1017),0)","v":0},{"$f":"IFERROR($E177*SUMIF('Daily Log'!$BY$18:$BY$1017,$B177,'Daily Log'!$BZ$18:$BZ$1017),0)","v":0},{"$f":"IFERROR($E177*SUMIF('Daily Log'!$CB$18:$CB$1017,$B177,'Daily Log'!$CC$18:$CC$1017),0)","v":0},{"$f":"IFERROR($E177*SUMIF('Daily Log'!$CE$18:$CE$1017,$B177,'Daily Log'!$CF$18:$CF$1017),0)","v":0},{"$f":"IFERROR($E177*SUMIF('Daily Log'!$CH$18:$CH$1017,$B177,'Daily Log'!$CI$18:$CI$1017),0)","v":0},{"$f":"IFERROR($E177*SUMIF('Daily Log'!$CK$18:$CK$1017,$B177,'Daily Log'!$CL$18:$CL$1017),0)","v":0},{"$f":"IFERROR($E177*SUMIF('Daily Log'!$CN$18:$CN$1017,$B177,'Daily Log'!$CO$18:$CO$1017),0)","v":0}]
[null,"RS36 71306:DF WING",null,"REDEEMED",1,0,{"$f":"IFERROR($E178*SUMIF('Daily Log'!$B$18:$B$1017,$B178,'Daily Log'!$C$18:$C$1017),0)","v":0},{"$f":"IFERROR($E178*SUMIF('Daily Log'!$E$18:$E$1017,$B178,'Daily Log'!$F$18:$F$1017),0)","v":0},{"$f":"IFERROR($E178*SUMIF('Daily Log'!$H$18:$H$1017,$B178,'Daily Log'!$I$18:$I$1017),0)","v":0},{"$f":"IFERROR($E178*SUMIF('Daily Log'!$K$18:$K$1017,$B178,'Daily Log'!$L$18:$L$1017),0)","v":0},{"$f":"IFERROR($E178*SUMIF('Daily Log'!$N$18:$N$1017,$B178,'Daily Log'!$O$18:$O$1017),0)","v":0},{"$f":"IFERROR($E178*SUMIF('Daily Log'!$Q$18:$Q$1017,$B178,'Daily Log'!$R$18:$R$1017),0)","v":0},{"$f":"IFERROR($E178*SUMIF('Daily Log'!$T$18:$T$1017,$B178,'Daily Log'!$U$18:$U$1017),0)","v":0},{"$f":"IFERROR($E178*SUMIF('Daily Log'!$W$18:$W$1017,$B178,'Daily Log'!$X$18:$X$1017),0)","v":0},{"$f":"IFERROR($E178*SUMIF('Daily Log'!$Z$18:$Z$1017,$B178,'Daily Log'!$AA$18:$AA$1017),0)","v":0},{"$f":"IFERROR($E178*SUMIF('Daily Log'!$AC$18:$AC$1017,$B178,'Daily Log'!$AD$18:$AD$1017),0)","v":0},{"$f":"IFERROR($E178*SUMIF('Daily Log'!$AF$18:$AF$1017,$B178,'Daily Log'!$AG$18:$AG$1017),0)","v":0},{"$f":"IFERROR($E178*SUMIF('Daily Log'!$AI$18:$AI$1017,$B178,'Daily Log'!$AJ$18:$AJ$1017),0)","v":0},{"$f":"IFERROR($E178*SUMIF('Daily Log'!$AL$18:$AL$1017,$B178,'Daily Log'!$AM$18:$AM$1017),0)","v":0},{"$f":"IFERROR($E178*SUMIF('Daily Log'!$AO$18:$AO$1017,$B178,'Daily Log'!$AP$18:$AP$1017),0)","v":0},{"$f":"IFERROR($E178*SUMIF('Daily Log'!$AR$18:$AR$1017,$B178,'Daily Log'!$AS$18:$AS$1017),0)","v":0},{"$f":"IFERROR($E178*SUMIF('Daily Log'!$AU$18:$AU$1017,$B178,'Daily Log'!$AV$18:$AV$1017),0)","v":0},{"$f":"IFERROR($E178*SUMIF('Daily Log'!$AX$18:$AX$1017,$B178,'Daily Log'!$AY$18:$AY$1017),0)","v":0},{"$f":"IFERROR($E178*SUMIF('Daily Log'!$BA$18:$BA$1017,$B178,'Daily Log'!$BB$18:$BB$1017),0)","v":0},{"$f":"IFERROR($E178*SUMIF('Daily Log'!$BD$18:$BD$1017,$B178,'Daily Log'!$BE$18:$BE$1017),0)","v":0},{"$f":"IFERROR($E178*SUMIF('Daily Log'!$BG$18:$BG$1017,$B178,'Daily Log'!$BH$18:$BH$1017),0)","v":0},{"$f":"IFERROR($E178*SUMIF('Daily Log'!$BJ$18:$BJ$1017,$B178,'Daily Log'!$BK$18:$BK$1017),0)","v":0},{"$f":"IFERROR($E178*SUMIF('Daily Log'!$BM$18:$BM$1017,$B178,'Daily Log'!$BN$18:$BN$1017),0)","v":0},{"$f":"IFERROR($E178*SUMIF('Daily Log'!$BP$18:$BP$1017,$B178,'Daily Log'!$BQ$18:$BQ$1017),0)","v":0},{"$f":"IFERROR($E178*SUMIF('Daily Log'!$BS$18:$BS$1017,$B178,'Daily Log'!$BT$18:$BT$1017),0)","v":0},{"$f":"IFERROR($E178*SUMIF('Daily Log'!$BV$18:$BV$1017,$B178,'Daily Log'!$BW$18:$BW$1017),0)","v":0},{"$f":"IFERROR($E178*SUMIF('Daily Log'!$BY$18:$BY$1017,$B178,'Daily Log'!$BZ$18:$BZ$1017),0)","v":0},{"$f":"IFERROR($E178*SUMIF('Daily Log'!$CB$18:$CB$1017,$B178,'Daily Log'!$CC$18:$CC$1017),0)","v":0},{"$f":"IFERROR($E178*SUMIF('Daily Log'!$CE$18:$CE$1017,$B178,'Daily Log'!$CF$18:$CF$1017),0)","v":0},{"$f":"IFERROR($E178*SUMIF('Daily Log'!$CH$18:$CH$1017,$B178,'Daily Log'!$CI$18:$CI$1017),0)","v":0},{"$f":"IFERROR($E178*SUMIF('Daily Log'!$CK$18:$CK$1017,$B178,'Daily Log'!$CL$18:$CL$1017),0)","v":0},{"$f":"IFERROR($E178*SUMIF('Daily Log'!$CN$18:$CN$1017,$B178,'Daily Log'!$CO$18:$CO$1017),0)","v":0}]
[null,"RS37 71307:CALAMARI",null,"REDEEMED",1,0,{"$f":"IFERROR($E179*SUMIF('Daily Log'!$B$18:$B$1017,$B179,'Daily Log'!$C$18:$C$1017),0)","v":0},{"$f":"IFERROR($E179*SUMIF('Daily Log'!$E$18:$E$1017,$B179,'Daily Log'!$F$18:$F$1017),0)","v":0},{"$f":"IFERROR($E179*SUMIF('Daily Log'!$H$18:$H$1017,$B179,'Daily Log'!$I$18:$I$1017),0)","v":0},{"$f":"IFERROR($E179*SUMIF('Daily Log'!$K$18:$K$1017,$B179,'Daily Log'!$L$18:$L$1017),0)","v":0},{"$f":"IFERROR($E179*SUMIF('Daily Log'!$N$18:$N$1017,$B179,'Daily Log'!$O$18:$O$1017),0)","v":0},{"$f":"IFERROR($E179*SUMIF('Daily Log'!$Q$18:$Q$1017,$B179,'Daily Log'!$R$18:$R$1017),0)","v":0},{"$f":"IFERROR($E179*SUMIF('Daily Log'!$T$18:$T$1017,$B179,'Daily Log'!$U$18:$U$1017),0)","v":0},{"$f":"IFERROR($E179*SUMIF('Daily Log'!$W$18:$W$1017,$B179,'Daily Log'!$X$18:$X$1017),0)","v":0},{"$f":"IFERROR($E179*SUMIF('Daily Log'!$Z$18:$Z$1017,$B179,'Daily Log'!$AA$18:$AA$1017),0)","v":0},{"$f":"IFERROR($E179*SUMIF('Daily Log'!$AC$18:$AC$1017,$B179,'Daily Log'!$AD$18:$AD$1017),0)","v":0},{"$f":"IFERROR($E179*SUMIF('Daily Log'!$AF$18:$AF$1017,$B179,'Daily Log'!$AG$18:$AG$1017),0)","v":0},{"$f":"IFERROR($E179*SUMIF('Daily Log'!$AI$18:$AI$1017,$B179,'Daily Log'!$AJ$18:$AJ$1017),0)","v":0},{"$f":"IFERROR($E179*SUMIF('Daily Log'!$AL$18:$AL$1017,$B179,'Daily Log'!$AM$18:$AM$1017),0)","v":0},{"$f":"IFERROR($E179*SUMIF('Daily Log'!$AO$18:$AO$1017,$B179,'Daily Log'!$AP$18:$AP$1017),0)","v":0},{"$f":"IFERROR($E179*SUMIF('Daily Log'!$AR$18:$AR$1017,$B179,'Daily Log'!$AS$18:$AS$1017),0)","v":0},{"$f":"IFERROR($E179*SUMIF('Daily Log'!$AU$18:$AU$1017,$B179,'Daily Log'!$AV$18:$AV$1017),0)","v":0},{"$f":"IFERROR($E179*SUMIF('Daily Log'!$AX$18:$AX$1017,$B179,'Daily Log'!$AY$18:$AY$1017),0)","v":0},{"$f":"IFERROR($E179*SUMIF('Daily Log'!$BA$18:$BA$1017,$B179,'Daily Log'!$BB$18:$BB$1017),0)","v":0},{"$f":"IFERROR($E179*SUMIF('Daily Log'!$BD$18:$BD$1017,$B179,'Daily Log'!$BE$18:$BE$1017),0)","v":0},{"$f":"IFERROR($E179*SUMIF('Daily Log'!$BG$18:$BG$1017,$B179,'Daily Log'!$BH$18:$BH$1017),0)","v":0},{"$f":"IFERROR($E179*SUMIF('Daily Log'!$BJ$18:$BJ$1017,$B179,'Daily Log'!$BK$18:$BK$1017),0)","v":0},{"$f":"IFERROR($E179*SUMIF('Daily Log'!$BM$18:$BM$1017,$B179,'Daily Log'!$BN$18:$BN$1017),0)","v":0},{"$f":"IFERROR($E179*SUMIF('Daily Log'!$BP$18:$BP$1017,$B179,'Daily Log'!$BQ$18:$BQ$1017),0)","v":0},{"$f":"IFERROR($E179*SUMIF('Daily Log'!$BS$18:$BS$1017,$B179,'Daily Log'!$BT$18:$BT$1017),0)","v":0},{"$f":"IFERROR($E179*SUMIF('Daily Log'!$BV$18:$BV$1017,$B179,'Daily Log'!$BW$18:$BW$1017),0)","v":0},{"$f":"IFERROR($E179*SUMIF('Daily Log'!$BY$18:$BY$1017,$B179,'Daily Log'!$BZ$18:$BZ$1017),0)","v":0},{"$f":"IFERROR($E179*SUMIF('Daily Log'!$CB$18:$CB$1017,$B179,'Daily Log'!$CC$18:$CC$1017),0)","v":0},{"$f":"IFERROR($E179*SUMIF('Daily Log'!$CE$18:$CE$1017,$B179,'Daily Log'!$CF$18:$CF$1017),0)","v":0},{"$f":"IFERROR($E179*SUMIF('Daily Log'!$CH$18:$CH$1017,$B179,'Daily Log'!$CI$18:$CI$1017),0)","v":0},{"$f":"IFERROR($E179*SUMIF('Daily Log'!$CK$18:$CK$1017,$B179,'Daily Log'!$CL$18:$CL$1017),0)","v":0},{"$f":"IFERROR($E179*SUMIF('Daily Log'!$CN$18:$CN$1017,$B179,'Daily Log'!$CO$18:$CO$1017),0)","v":0}]
[null,"RS38 71308:MC RING",null,"REDEEMED",1,0,{"$f":"IFERROR($E180*SUMIF('Daily Log'!$B$18:$B$1017,$B180,'Daily Log'!$C$18:$C$1017),0)","v":0},{"$f":"IFERROR($E180*SUMIF('Daily Log'!$E$18:$E$1017,$B180,'Daily Log'!$F$18:$F$1017),0)","v":0},{"$f":"IFERROR($E180*SUMIF('Daily Log'!$H$18:$H$1017,$B180,'Daily Log'!$I$18:$I$1017),0)","v":0},{"$f":"IFERROR($E180*SUMIF('Daily Log'!$K$18:$K$1017,$B180,'Daily Log'!$L$18:$L$1017),0)","v":0},{"$f":"IFERROR($E180*SUMIF('Daily Log'!$N$18:$N$1017,$B180,'Daily Log'!$O$18:$O$1017),0)","v":0},{"$f":"IFERROR($E180*SUMIF('Daily Log'!$Q$18:$Q$1017,$B180,'Daily Log'!$R$18:$R$1017),0)","v":0},{"$f":"IFERROR($E180*SUMIF('Daily Log'!$T$18:$T$1017,$B180,'Daily Log'!$U$18:$U$1017),0)","v":0},{"$f":"IFERROR($E180*SUMIF('Daily Log'!$W$18:$W$1017,$B180,'Daily Log'!$X$18:$X$1017),0)","v":0},{"$f":"IFERROR($E180*SUMIF('Daily Log'!$Z$18:$Z$1017,$B180,'Daily Log'!$AA$18:$AA$1017),0)","v":0},{"$f":"IFERROR($E180*SUMIF('Daily Log'!$AC$18:$AC$1017,$B180,'Daily Log'!$AD$18:$AD$1017),0)","v":0},{"$f":"IFERROR($E180*SUMIF('Daily Log'!$AF$18:$AF$1017,$B180,'Daily Log'!$AG$18:$AG$1017),0)","v":0},{"$f":"IFERROR($E180*SUMIF('Daily Log'!$AI$18:$AI$1017,$B180,'Daily Log'!$AJ$18:$AJ$1017),0)","v":0},{"$f":"IFERROR($E180*SUMIF('Daily Log'!$AL$18:$AL$1017,$B180,'Daily Log'!$AM$18:$AM$1017),0)","v":0},{"$f":"IFERROR($E180*SUMIF('Daily Log'!$AO$18:$AO$1017,$B180,'Daily Log'!$AP$18:$AP$1017),0)","v":0},{"$f":"IFERROR($E180*SUMIF('Daily Log'!$AR$18:$AR$1017,$B180,'Daily Log'!$AS$18:$AS$1017),0)","v":0},{"$f":"IFERROR($E180*SUMIF('Daily Log'!$AU$18:$AU$1017,$B180,'Daily Log'!$AV$18:$AV$1017),0)","v":0},{"$f":"IFERROR($E180*SUMIF('Daily Log'!$AX$18:$AX$1017,$B180,'Daily Log'!$AY$18:$AY$1017),0)","v":0},{"$f":"IFERROR($E180*SUMIF('Daily Log'!$BA$18:$BA$1017,$B180,'Daily Log'!$BB$18:$BB$1017),0)","v":0},{"$f":"IFERROR($E180*SUMIF('Daily Log'!$BD$18:$BD$1017,$B180,'Daily Log'!$BE$18:$BE$1017),0)","v":0},{"$f":"IFERROR($E180*SUMIF('Daily Log'!$BG$18:$BG$1017,$B180,'Daily Log'!$BH$18:$BH$1017),0)","v":0},{"$f":"IFERROR($E180*SUMIF('Daily Log'!$BJ$18:$BJ$1017,$B180,'Daily Log'!$BK$18:$BK$1017),0)","v":0},{"$f":"IFERROR($E180*SUMIF('Daily Log'!$BM$18:$BM$1017,$B180,'Daily Log'!$BN$18:$BN$1017),0)","v":0},{"$f":"IFERROR($E180*SUMIF('Daily Log'!$BP$18:$BP$1017,$B180,'Daily Log'!$BQ$18:$BQ$1017),0)","v":0},{"$f":"IFERROR($E180*SUMIF('Daily Log'!$BS$18:$BS$1017,$B180,'Daily Log'!$BT$18:$BT$1017),0)","v":0},{"$f":"IFERROR($E180*SUMIF('Daily Log'!$BV$18:$BV$1017,$B180,'Daily Log'!$BW$18:$BW$1017),0)","v":0},{"$f":"IFERROR($E180*SUMIF('Daily Log'!$BY$18:$BY$1017,$B180,'Daily Log'!$BZ$18:$BZ$1017),0)","v":0},{"$f":"IFERROR($E180*SUMIF('Daily Log'!$CB$18:$CB$1017,$B180,'Daily Log'!$CC$18:$CC$1017),0)","v":0},{"$f":"IFERROR($E180*SUMIF('Daily Log'!$CE$18:$CE$1017,$B180,'Daily Log'!$CF$18:$CF$1017),0)","v":0},{"$f":"IFERROR($E180*SUMIF('Daily Log'!$CH$18:$CH$1017,$B180,'Daily Log'!$CI$18:$CI$1017),0)","v":0},{"$f":"IFERROR($E180*SUMIF('Daily Log'!$CK$18:$CK$1017,$B180,'Daily Log'!$CL$18:$CL$1017),0)","v":0},{"$f":"IFERROR($E180*SUMIF('Daily Log'!$CN$18:$CN$1017,$B180,'Daily Log'!$CO$18:$CO$1017),0)","v":0}]
[null,"RS39 71309:MC S.FRIES",null,"REDEEMED",1,0,{"$f":"IFERROR($E181*SUMIF('Daily Log'!$B$18:$B$1017,$B181,'Daily Log'!$C$18:$C$1017),0)","v":0},{"$f":"IFERROR($E181*SUMIF('Daily Log'!$E$18:$E$1017,$B181,'Daily Log'!$F$18:$F$1017),0)","v":0},{"$f":"IFERROR($E181*SUMIF('Daily Log'!$H$18:$H$1017,$B181,'Daily Log'!$I$18:$I$1017),0)","v":0},{"$f":"IFERROR($E181*SUMIF('Daily Log'!$K$18:$K$1017,$B181,'Daily Log'!$L$18:$L$1017),0)","v":0},{"$f":"IFERROR($E181*SUMIF('Daily Log'!$N$18:$N$1017,$B181,'Daily Log'!$O$18:$O$1017),0)","v":0},{"$f":"IFERROR($E181*SUMIF('Daily Log'!$Q$18:$Q$1017,$B181,'Daily Log'!$R$18:$R$1017),0)","v":0},{"$f":"IFERROR($E181*SUMIF('Daily Log'!$T$18:$T$1017,$B181,'Daily Log'!$U$18:$U$1017),0)","v":0},{"$f":"IFERROR($E181*SUMIF('Daily Log'!$W$18:$W$1017,$B181,'Daily Log'!$X$18:$X$1017),0)","v":0},{"$f":"IFERROR($E181*SUMIF('Daily Log'!$Z$18:$Z$1017,$B181,'Daily Log'!$AA$18:$AA$1017),0)","v":0},{"$f":"IFERROR($E181*SUMIF('Daily Log'!$AC$18:$AC$1017,$B181,'Daily Log'!$AD$18:$AD$1017),0)","v":0},{"$f":"IFERROR($E181*SUMIF('Daily Log'!$AF$18:$AF$1017,$B181,'Daily Log'!$AG$18:$AG$1017),0)","v":0},{"$f":"IFERROR($E181*SUMIF('Daily Log'!$AI$18:$AI$1017,$B181,'Daily Log'!$AJ$18:$AJ$1017),0)","v":0},{"$f":"IFERROR($E181*SUMIF('Daily Log'!$AL$18:$AL$1017,$B181,'Daily Log'!$AM$18:$AM$1017),0)","v":0},{"$f":"IFERROR($E181*SUMIF('Daily Log'!$AO$18:$AO$1017,$B181,'Daily Log'!$AP$18:$AP$1017),0)","v":0},{"$f":"IFERROR($E181*SUMIF('Daily Log'!$AR$18:$AR$1017,$B181,'Daily Log'!$AS$18:$AS$1017),0)","v":0},{"$f":"IFERROR($E181*SUMIF('Daily Log'!$AU$18:$AU$1017,$B181,'Daily Log'!$AV$18:$AV$1017),0)","v":0},{"$f":"IFERROR($E181*SUMIF('Daily Log'!$AX$18:$AX$1017,$B181,'Daily Log'!$AY$18:$AY$1017),0)","v":0},{"$f":"IFERROR($E181*SUMIF('Daily Log'!$BA$18:$BA$1017,$B181,'Daily Log'!$BB$18:$BB$1017),0)","v":0},{"$f":"IFERROR($E181*SUMIF('Daily Log'!$BD$18:$BD$1017,$B181,'Daily Log'!$BE$18:$BE$1017),0)","v":0},{"$f":"IFERROR($E181*SUMIF('Daily Log'!$BG$18:$BG$1017,$B181,'Daily Log'!$BH$18:$BH$1017),0)","v":0},{"$f":"IFERROR($E181*SUMIF('Daily Log'!$BJ$18:$BJ$1017,$B181,'Daily Log'!$BK$18:$BK$1017),0)","v":0},{"$f":"IFERROR($E181*SUMIF('Daily Log'!$BM$18:$BM$1017,$B181,'Daily Log'!$BN$18:$BN$1017),0)","v":0},{"$f":"IFERROR($E181*SUMIF('Daily Log'!$BP$18:$BP$1017,$B181,'Daily Log'!$BQ$18:$BQ$1017),0)","v":0},{"$f":"IFERROR($E181*SUMIF('Daily Log'!$BS$18:$BS$1017,$B181,'Daily Log'!$BT$18:$BT$1017),0)","v":0},{"$f":"IFERROR($E181*SUMIF('Daily Log'!$BV$18:$BV$1017,$B181,'Daily Log'!$BW$18:$BW$1017),0)","v":0},{"$f":"IFERROR($E181*SUMIF('Daily Log'!$BY$18:$BY$1017,$B181,'Daily Log'!$BZ$18:$BZ$1017),0)","v":0},{"$f":"IFERROR($E181*SUMIF('Daily Log'!$CB$18:$CB$1017,$B181,'Daily Log'!$CC$18:$CC$1017),0)","v":0},{"$f":"IFERROR($E181*SUMIF('Daily Log'!$CE$18:$CE$1017,$B181,'Daily Log'!$CF$18:$CF$1017),0)","v":0},{"$f":"IFERROR($E181*SUMIF('Daily Log'!$CH$18:$CH$1017,$B181,'Daily Log'!$CI$18:$CI$1017),0)","v":0},{"$f":"IFERROR($E181*SUMIF('Daily Log'!$CK$18:$CK$1017,$B181,'Daily Log'!$CL$18:$CL$1017),0)","v":0},{"$f":"IFERROR($E181*SUMIF('Daily Log'!$CN$18:$CN$1017,$B181,'Daily Log'!$CO$18:$CO$1017),0)","v":0}]
[null,"RS40 71310:MC HP SMIL",null,"REDEEMED",1,0,{"$f":"IFERROR($E182*SUMIF('Daily Log'!$B$18:$B$1017,$B182,'Daily Log'!$C$18:$C$1017),0)","v":0},{"$f":"IFERROR($E182*SUMIF('Daily Log'!$E$18:$E$1017,$B182,'Daily Log'!$F$18:$F$1017),0)","v":0},{"$f":"IFERROR($E182*SUMIF('Daily Log'!$H$18:$H$1017,$B182,'Daily Log'!$I$18:$I$1017),0)","v":0},{"$f":"IFERROR($E182*SUMIF('Daily Log'!$K$18:$K$1017,$B182,'Daily Log'!$L$18:$L$1017),0)","v":0},{"$f":"IFERROR($E182*SUMIF('Daily Log'!$N$18:$N$1017,$B182,'Daily Log'!$O$18:$O$1017),0)","v":0},{"$f":"IFERROR($E182*SUMIF('Daily Log'!$Q$18:$Q$1017,$B182,'Daily Log'!$R$18:$R$1017),0)","v":0},{"$f":"IFERROR($E182*SUMIF('Daily Log'!$T$18:$T$1017,$B182,'Daily Log'!$U$18:$U$1017),0)","v":0},{"$f":"IFERROR($E182*SUMIF('Daily Log'!$W$18:$W$1017,$B182,'Daily Log'!$X$18:$X$1017),0)","v":0},{"$f":"IFERROR($E182*SUMIF('Daily Log'!$Z$18:$Z$1017,$B182,'Daily Log'!$AA$18:$AA$1017),0)","v":0},{"$f":"IFERROR($E182*SUMIF('Daily Log'!$AC$18:$AC$1017,$B182,'Daily Log'!$AD$18:$AD$1017),0)","v":0},{"$f":"IFERROR($E182*SUMIF('Daily Log'!$AF$18:$AF$1017,$B182,'Daily Log'!$AG$18:$AG$1017),0)","v":0},{"$f":"IFERROR($E182*SUMIF('Daily Log'!$AI$18:$AI$1017,$B182,'Daily Log'!$AJ$18:$AJ$1017),0)","v":0},{"$f":"IFERROR($E182*SUMIF('Daily Log'!$AL$18:$AL$1017,$B182,'Daily Log'!$AM$18:$AM$1017),0)","v":0},{"$f":"IFERROR($E182*SUMIF('Daily Log'!$AO$18:$AO$1017,$B182,'Daily Log'!$AP$18:$AP$1017),0)","v":0},{"$f":"IFERROR($E182*SUMIF('Daily Log'!$AR$18:$AR$1017,$B182,'Daily Log'!$AS$18:$AS$1017),0)","v":0},{"$f":"IFERROR($E182*SUMIF('Daily Log'!$AU$18:$AU$1017,$B182,'Daily Log'!$AV$18:$AV$1017),0)","v":0},{"$f":"IFERROR($E182*SUMIF('Daily Log'!$AX$18:$AX$1017,$B182,'Daily Log'!$AY$18:$AY$1017),0)","v":0},{"$f":"IFERROR($E182*SUMIF('Daily Log'!$BA$18:$BA$1017,$B182,'Daily Log'!$BB$18:$BB$1017),0)","v":0},{"$f":"IFERROR($E182*SUMIF('Daily Log'!$BD$18:$BD$1017,$B182,'Daily Log'!$BE$18:$BE$1017),0)","v":0},{"$f":"IFERROR($E182*SUMIF('Daily Log'!$BG$18:$BG$1017,$B182,'Daily Log'!$BH$18:$BH$1017),0)","v":0},{"$f":"IFERROR($E182*SUMIF('Daily Log'!$BJ$18:$BJ$1017,$B182,'Daily Log'!$BK$18:$BK$1017),0)","v":0},{"$f":"IFERROR($E182*SUMIF('Daily Log'!$BM$18:$BM$1017,$B182,'Daily Log'!$BN$18:$BN$1017),0)","v":0},{"$f":"IFERROR($E182*SUMIF('Daily Log'!$BP$18:$BP$1017,$B182,'Daily Log'!$BQ$18:$BQ$1017),0)","v":0},{"$f":"IFERROR($E182*SUMIF('Daily Log'!$BS$18:$BS$1017,$B182,'Daily Log'!$BT$18:$BT$1017),0)","v":0},{"$f":"IFERROR($E182*SUMIF('Daily Log'!$BV$18:$BV$1017,$B182,'Daily Log'!$BW$18:$BW$1017),0)","v":0},{"$f":"IFERROR($E182*SUMIF('Daily Log'!$BY$18:$BY$1017,$B182,'Daily Log'!$BZ$18:$BZ$1017),0)","v":0},{"$f":"IFERROR($E182*SUMIF('Daily Log'!$CB$18:$CB$1017,$B182,'Daily Log'!$CC$18:$CC$1017),0)","v":0},{"$f":"IFERROR($E182*SUMIF('Daily Log'!$CE$18:$CE$1017,$B182,'Daily Log'!$CF$18:$CF$1017),0)","v":0},{"$f":"IFERROR($E182*SUMIF('Daily Log'!$CH$18:$CH$1017,$B182,'Daily Log'!$CI$18:$CI$1017),0)","v":0},{"$f":"IFERROR($E182*SUMIF('Daily Log'!$CK$18:$CK$1017,$B182,'Daily Log'!$CL$18:$CL$1017),0)","v":0},{"$f":"IFERROR($E182*SUMIF('Daily Log'!$CN$18:$CN$1017,$B182,'Daily Log'!$CO$18:$CO$1017),0)","v":0}]
[null,"RS41 71311:MC HSH BRW",null,"REDEEMED",1,0,{"$f":"IFERROR($E183*SUMIF('Daily Log'!$B$18:$B$1017,$B183,'Daily Log'!$C$18:$C$1017),0)","v":0},{"$f":"IFERROR($E183*SUMIF('Daily Log'!$E$18:$E$1017,$B183,'Daily Log'!$F$18:$F$1017),0)","v":0},{"$f":"IFERROR($E183*SUMIF('Daily Log'!$H$18:$H$1017,$B183,'Daily Log'!$I$18:$I$1017),0)","v":0},{"$f":"IFERROR($E183*SUMIF('Daily Log'!$K$18:$K$1017,$B183,'Daily Log'!$L$18:$L$1017),0)","v":0},{"$f":"IFERROR($E183*SUMIF('Daily Log'!$N$18:$N$1017,$B183,'Daily Log'!$O$18:$O$1017),0)","v":0},{"$f":"IFERROR($E183*SUMIF('Daily Log'!$Q$18:$Q$1017,$B183,'Daily Log'!$R$18:$R$1017),0)","v":0},{"$f":"IFERROR($E183*SUMIF('Daily Log'!$T$18:$T$1017,$B183,'Daily Log'!$U$18:$U$1017),0)","v":0},{"$f":"IFERROR($E183*SUMIF('Daily Log'!$W$18:$W$1017,$B183,'Daily Log'!$X$18:$X$1017),0)","v":0},{"$f":"IFERROR($E183*SUMIF('Daily Log'!$Z$18:$Z$1017,$B183,'Daily Log'!$AA$18:$AA$1017),0)","v":0},{"$f":"IFERROR($E183*SUMIF('Daily Log'!$AC$18:$AC$1017,$B183,'Daily Log'!$AD$18:$AD$1017),0)","v":0},{"$f":"IFERROR($E183*SUMIF('Daily Log'!$AF$18:$AF$1017,$B183,'Daily Log'!$AG$18:$AG$1017),0)","v":0},{"$f":"IFERROR($E183*SUMIF('Daily Log'!$AI$18:$AI$1017,$B183,'Daily Log'!$AJ$18:$AJ$1017),0)","v":0},{"$f":"IFERROR($E183*SUMIF('Daily Log'!$AL$18:$AL$1017,$B183,'Daily Log'!$AM$18:$AM$1017),0)","v":0},{"$f":"IFERROR($E183*SUMIF('Daily Log'!$AO$18:$AO$1017,$B183,'Daily Log'!$AP$18:$AP$1017),0)","v":0},{"$f":"IFERROR($E183*SUMIF('Daily Log'!$AR$18:$AR$1017,$B183,'Daily Log'!$AS$18:$AS$1017),0)","v":0},{"$f":"IFERROR($E183*SUMIF('Daily Log'!$AU$18:$AU$1017,$B183,'Daily Log'!$AV$18:$AV$1017),0)","v":0},{"$f":"IFERROR($E183*SUMIF('Daily Log'!$AX$18:$AX$1017,$B183,'Daily Log'!$AY$18:$AY$1017),0)","v":0},{"$f":"IFERROR($E183*SUMIF('Daily Log'!$BA$18:$BA$1017,$B183,'Daily Log'!$BB$18:$BB$1017),0)","v":0},{"$f":"IFERROR($E183*SUMIF('Daily Log'!$BD$18:$BD$1017,$B183,'Daily Log'!$BE$18:$BE$1017),0)","v":0},{"$f":"IFERROR($E183*SUMIF('Daily Log'!$BG$18:$BG$1017,$B183,'Daily Log'!$BH$18:$BH$1017),0)","v":0},{"$f":"IFERROR($E183*SUMIF('Daily Log'!$BJ$18:$BJ$1017,$B183,'Daily Log'!$BK$18:$BK$1017),0)","v":0},{"$f":"IFERROR($E183*SUMIF('Daily Log'!$BM$18:$BM$1017,$B183,'Daily Log'!$BN$18:$BN$1017),0)","v":0},{"$f":"IFERROR($E183*SUMIF('Daily Log'!$BP$18:$BP$1017,$B183,'Daily Log'!$BQ$18:$BQ$1017),0)","v":0},{"$f":"IFERROR($E183*SUMIF('Daily Log'!$BS$18:$BS$1017,$B183,'Daily Log'!$BT$18:$BT$1017),0)","v":0},{"$f":"IFERROR($E183*SUMIF('Daily Log'!$BV$18:$BV$1017,$B183,'Daily Log'!$BW$18:$BW$1017),0)","v":0},{"$f":"IFERROR($E183*SUMIF('Daily Log'!$BY$18:$BY$1017,$B183,'Daily Log'!$BZ$18:$BZ$1017),0)","v":0},{"$f":"IFERROR($E183*SUMIF('Daily Log'!$CB$18:$CB$1017,$B183,'Daily Log'!$CC$18:$CC$1017),0)","v":0},{"$f":"IFERROR($E183*SUMIF('Daily Log'!$CE$18:$CE$1017,$B183,'Daily Log'!$CF$18:$CF$1017),0)","v":0},{"$f":"IFERROR($E183*SUMIF('Daily Log'!$CH$18:$CH$1017,$B183,'Daily Log'!$CI$18:$CI$1017),0)","v":0},{"$f":"IFERROR($E183*SUMIF('Daily Log'!$CK$18:$CK$1017,$B183,'Daily Log'!$CL$18:$CL$1017),0)","v":0},{"$f":"IFERROR($E183*SUMIF('Daily Log'!$CN$18:$CN$1017,$B183,'Daily Log'!$CO$18:$CO$1017),0)","v":0}]
[null,"AS01 1401:SET 990",null,null,1,244,{"$f":"IFERROR($E184*SUMIF('Daily Log'!$B$18:$B$1017,$B184,'Daily Log'!$C$18:$C$1017),0)","v":0},{"$f":"IFERROR($E184*SUMIF('Daily Log'!$E$18:$E$1017,$B184,'Daily Log'!$F$18:$F$1017),0)","v":0},{"$f":"IFERROR($E184*SUMIF('Daily Log'!$H$18:$H$1017,$B184,'Daily Log'!$I$18:$I$1017),0)","v":0},{"$f":"IFERROR($E184*SUMIF('Daily Log'!$K$18:$K$1017,$B184,'Daily Log'!$L$18:$L$1017),0)","v":0},{"$f":"IFERROR($E184*SUMIF('Daily Log'!$N$18:$N$1017,$B184,'Daily Log'!$O$18:$O$1017),0)","v":0},{"$f":"IFERROR($E184*SUMIF('Daily Log'!$Q$18:$Q$1017,$B184,'Daily Log'!$R$18:$R$1017),0)","v":0},{"$f":"IFERROR($E184*SUMIF('Daily Log'!$T$18:$T$1017,$B184,'Daily Log'!$U$18:$U$1017),0)","v":0},{"$f":"IFERROR($E184*SUMIF('Daily Log'!$W$18:$W$1017,$B184,'Daily Log'!$X$18:$X$1017),0)","v":0},{"$f":"IFERROR($E184*SUMIF('Daily Log'!$Z$18:$Z$1017,$B184,'Daily Log'!$AA$18:$AA$1017),0)","v":0},{"$f":"IFERROR($E184*SUMIF('Daily Log'!$AC$18:$AC$1017,$B184,'Daily Log'!$AD$18:$AD$1017),0)","v":0},{"$f":"IFERROR($E184*SUMIF('Daily Log'!$AF$18:$AF$1017,$B184,'Daily Log'!$AG$18:$AG$1017),0)","v":0},{"$f":"IFERROR($E184*SUMIF('Daily Log'!$AI$18:$AI$1017,$B184,'Daily Log'!$AJ$18:$AJ$1017),0)","v":0},{"$f":"IFERROR($E184*SUMIF('Daily Log'!$AL$18:$AL$1017,$B184,'Daily Log'!$AM$18:$AM$1017),0)","v":0},{"$f":"IFERROR($E184*SUMIF('Daily Log'!$AO$18:$AO$1017,$B184,'Daily Log'!$AP$18:$AP$1017),0)","v":0},{"$f":"IFERROR($E184*SUMIF('Daily Log'!$AR$18:$AR$1017,$B184,'Daily Log'!$AS$18:$AS$1017),0)","v":0},{"$f":"IFERROR($E184*SUMIF('Daily Log'!$AU$18:$AU$1017,$B184,'Daily Log'!$AV$18:$AV$1017),0)","v":0},{"$f":"IFERROR($E184*SUMIF('Daily Log'!$AX$18:$AX$1017,$B184,'Daily Log'!$AY$18:$AY$1017),0)","v":0},{"$f":"IFERROR($E184*SUMIF('Daily Log'!$BA$18:$BA$1017,$B184,'Daily Log'!$BB$18:$BB$1017),0)","v":0},{"$f":"IFERROR($E184*SUMIF('Daily Log'!$BD$18:$BD$1017,$B184,'Daily Log'!$BE$18:$BE$1017),0)","v":0},{"$f":"IFERROR($E184*SUMIF('Daily Log'!$BG$18:$BG$1017,$B184,'Daily Log'!$BH$18:$BH$1017),0)","v":0},{"$f":"IFERROR($E184*SUMIF('Daily Log'!$BJ$18:$BJ$1017,$B184,'Daily Log'!$BK$18:$BK$1017),0)","v":0},{"$f":"IFERROR($E184*SUMIF('Daily Log'!$BM$18:$BM$1017,$B184,'Daily Log'!$BN$18:$BN$1017),0)","v":0},{"$f":"IFERROR($E184*SUMIF('Daily Log'!$BP$18:$BP$1017,$B184,'Daily Log'!$BQ$18:$BQ$1017),0)","v":0},{"$f":"IFERROR($E184*SUMIF('Daily Log'!$BS$18:$BS$1017,$B184,'Daily Log'!$BT$18:$BT$1017),0)","v":0},{"$f":"IFERROR($E184*SUMIF('Daily Log'!$BV$18:$BV$1017,$B184,'Daily Log'!$BW$18:$BW$1017),0)","v":0},{"$f":"IFERROR($E184*SUMIF('Daily Log'!$BY$18:$BY$1017,$B184,'Daily Log'!$BZ$18:$BZ$1017),0)","v":0},{"$f":"IFERROR($E184*SUMIF('Daily Log'!$CB$18:$CB$1017,$B184,'Daily Log'!$CC$18:$CC$1017),0)","v":0},{"$f":"IFERROR($E184*SUMIF('Daily Log'!$CE$18:$CE$1017,$B184,'Daily Log'!$CF$18:$CF$1017),0)","v":0},{"$f":"IFERROR($E184*SUMIF('Daily Log'!$CH$18:$CH$1017,$B184,'Daily Log'!$CI$18:$CI$1017),0)","v":0},{"$f":"IFERROR($E184*SUMIF('Daily Log'!$CK$18:$CK$1017,$B184,'Daily Log'!$CL$18:$CL$1017),0)","v":0},{"$f":"IFERROR($E184*SUMIF('Daily Log'!$CN$18:$CN$1017,$B184,'Daily Log'!$CO$18:$CO$1017),0)","v":244}]
[null,"AS02 1402:SET 1390",null,null,1,238,{"$f":"IFERROR($E185*SUMIF('Daily Log'!$B$18:$B$1017,$B185,'Daily Log'!$C$18:$C$1017),0)","v":0},{"$f":"IFERROR($E185*SUMIF('Daily Log'!$E$18:$E$1017,$B185,'Daily Log'!$F$18:$F$1017),0)","v":0},{"$f":"IFERROR($E185*SUMIF('Daily Log'!$H$18:$H$1017,$B185,'Daily Log'!$I$18:$I$1017),0)","v":0},{"$f":"IFERROR($E185*SUMIF('Daily Log'!$K$18:$K$1017,$B185,'Daily Log'!$L$18:$L$1017),0)","v":0},{"$f":"IFERROR($E185*SUMIF('Daily Log'!$N$18:$N$1017,$B185,'Daily Log'!$O$18:$O$1017),0)","v":0},{"$f":"IFERROR($E185*SUMIF('Daily Log'!$Q$18:$Q$1017,$B185,'Daily Log'!$R$18:$R$1017),0)","v":0},{"$f":"IFERROR($E185*SUMIF('Daily Log'!$T$18:$T$1017,$B185,'Daily Log'!$U$18:$U$1017),0)","v":0},{"$f":"IFERROR($E185*SUMIF('Daily Log'!$W$18:$W$1017,$B185,'Daily Log'!$X$18:$X$1017),0)","v":0},{"$f":"IFERROR($E185*SUMIF('Daily Log'!$Z$18:$Z$1017,$B185,'Daily Log'!$AA$18:$AA$1017),0)","v":0},{"$f":"IFERROR($E185*SUMIF('Daily Log'!$AC$18:$AC$1017,$B185,'Daily Log'!$AD$18:$AD$1017),0)","v":0},{"$f":"IFERROR($E185*SUMIF('Daily Log'!$AF$18:$AF$1017,$B185,'Daily Log'!$AG$18:$AG$1017),0)","v":0},{"$f":"IFERROR($E185*SUMIF('Daily Log'!$AI$18:$AI$1017,$B185,'Daily Log'!$AJ$18:$AJ$1017),0)","v":0},{"$f":"IFERROR($E185*SUMIF('Daily Log'!$AL$18:$AL$1017,$B185,'Daily Log'!$AM$18:$AM$1017),0)","v":0},{"$f":"IFERROR($E185*SUMIF('Daily Log'!$AO$18:$AO$1017,$B185,'Daily Log'!$AP$18:$AP$1017),0)","v":0},{"$f":"IFERROR($E185*SUMIF('Daily Log'!$AR$18:$AR$1017,$B185,'Daily Log'!$AS$18:$AS$1017),0)","v":0},{"$f":"IFERROR($E185*SUMIF('Daily Log'!$AU$18:$AU$1017,$B185,'Daily Log'!$AV$18:$AV$1017),0)","v":0},{"$f":"IFERROR($E185*SUMIF('Daily Log'!$AX$18:$AX$1017,$B185,'Daily Log'!$AY$18:$AY$1017),0)","v":0},{"$f":"IFERROR($E185*SUMIF('Daily Log'!$BA$18:$BA$1017,$B185,'Daily Log'!$BB$18:$BB$1017),0)","v":0},{"$f":"IFERROR($E185*SUMIF('Daily Log'!$BD$18:$BD$1017,$B185,'Daily Log'!$BE$18:$BE$1017),0)","v":0},{"$f":"IFERROR($E185*SUMIF('Daily Log'!$BG$18:$BG$1017,$B185,'Daily Log'!$BH$18:$BH$1017),0)","v":0},{"$f":"IFERROR($E185*SUMIF('Daily Log'!$BJ$18:$BJ$1017,$B185,'Daily Log'!$BK$18:$BK$1017),0)","v":0},{"$f":"IFERROR($E185*SUMIF('Daily Log'!$BM$18:$BM$1017,$B185,'Daily Log'!$BN$18:$BN$1017),0)","v":0},{"$f":"IFERROR($E185*SUMIF('Daily Log'!$BP$18:$BP$1017,$B185,'Daily Log'!$BQ$18:$BQ$1017),0)","v":0},{"$f":"IFERROR($E185*SUMIF('Daily Log'!$BS$18:$BS$1017,$B185,'Daily Log'!$BT$18:$BT$1017),0)","v":0},{"$f":"IFERROR($E185*SUMIF('Daily Log'!$BV$18:$BV$1017,$B185,'Daily Log'!$BW$18:$BW$1017),0)","v":0},{"$f":"IFERROR($E185*SUMIF('Daily Log'!$BY$18:$BY$1017,$B185,'Daily Log'!$BZ$18:$BZ$1017),0)","v":0},{"$f":"IFERROR($E185*SUMIF('Daily Log'!$CB$18:$CB$1017,$B185,'Daily Log'!$CC$18:$CC$1017),0)","v":0},{"$f":"IFERROR($E185*SUMIF('Daily Log'!$CE$18:$CE$1017,$B185,'Daily Log'!$CF$18:$CF$1017),0)","v":0},{"$f":"IFERROR($E185*SUMIF('Daily Log'!$CH$18:$CH$1017,$B185,'Daily Log'!$CI$18:$CI$1017),0)","v":0},{"$f":"IFERROR($E185*SUMIF('Daily Log'!$CK$18:$CK$1017,$B185,'Daily Log'!$CL$18:$CL$1017),0)","v":0},{"$f":"IFERROR($E185*SUMIF('Daily Log'!$CN$18:$CN$1017,$B185,'Daily Log'!$CO$18:$CO$1017),0)","v":238}]
[null,"AP01 1411:MC ALACARTE",null,"PACKAGE",1,38,{"$f":"IFERROR($E186*SUMIF('Daily Log'!$B$18:$B$1017,$B186,'Daily Log'!$C$18:$C$1017),0)","v":0},{"$f":"IFERROR($E186*SUMIF('Daily Log'!$E$18:$E$1017,$B186,'Daily Log'!$F$18:$F$1017),0)","v":0},{"$f":"IFERROR($E186*SUMIF('Daily Log'!$H$18:$H$1017,$B186,'Daily Log'!$I$18:$I$1017),0)","v":0},{"$f":"IFERROR($E186*SUMIF('Daily Log'!$K$18:$K$1017,$B186,'Daily Log'!$L$18:$L$1017),0)","v":0},{"$f":"IFERROR($E186*SUMIF('Daily Log'!$N$18:$N$1017,$B186,'Daily Log'!$O$18:$O$1017),0)","v":0},{"$f":"IFERROR($E186*SUMIF('Daily Log'!$Q$18:$Q$1017,$B186,'Daily Log'!$R$18:$R$1017),0)","v":0},{"$f":"IFERROR($E186*SUMIF('Daily Log'!$T$18:$T$1017,$B186,'Daily Log'!$U$18:$U$1017),0)","v":0},{"$f":"IFERROR($E186*SUMIF('Daily Log'!$W$18:$W$1017,$B186,'Daily Log'!$X$18:$X$1017),0)","v":0},{"$f":"IFERROR($E186*SUMIF('Daily Log'!$Z$18:$Z$1017,$B186,'Daily Log'!$AA$18:$AA$1017),0)","v":0},{"$f":"IFERROR($E186*SUMIF('Daily Log'!$AC$18:$AC$1017,$B186,'Daily Log'!$AD$18:$AD$1017),0)","v":0},{"$f":"IFERROR($E186*SUMIF('Daily Log'!$AF$18:$AF$1017,$B186,'Daily Log'!$AG$18:$AG$1017),0)","v":0},{"$f":"IFERROR($E186*SUMIF('Daily Log'!$AI$18:$AI$1017,$B186,'Daily Log'!$AJ$18:$AJ$1017),0)","v":0},{"$f":"IFERROR($E186*SUMIF('Daily Log'!$AL$18:$AL$1017,$B186,'Daily Log'!$AM$18:$AM$1017),0)","v":0},{"$f":"IFERROR($E186*SUMIF('Daily Log'!$AO$18:$AO$1017,$B186,'Daily Log'!$AP$18:$AP$1017),0)","v":0},{"$f":"IFERROR($E186*SUMIF('Daily Log'!$AR$18:$AR$1017,$B186,'Daily Log'!$AS$18:$AS$1017),0)","v":0},{"$f":"IFERROR($E186*SUMIF('Daily Log'!$AU$18:$AU$1017,$B186,'Daily Log'!$AV$18:$AV$1017),0)","v":0},{"$f":"IFERROR($E186*SUMIF('Daily Log'!$AX$18:$AX$1017,$B186,'Daily Log'!$AY$18:$AY$1017),0)","v":0},{"$f":"IFERROR($E186*SUMIF('Daily Log'!$BA$18:$BA$1017,$B186,'Daily Log'!$BB$18:$BB$1017),0)","v":0},{"$f":"IFERROR($E186*SUMIF('Daily Log'!$BD$18:$BD$1017,$B186,'Daily Log'!$BE$18:$BE$1017),0)","v":0},{"$f":"IFERROR($E186*SUMIF('Daily Log'!$BG$18:$BG$1017,$B186,'Daily Log'!$BH$18:$BH$1017),0)","v":0},{"$f":"IFERROR($E186*SUMIF('Daily Log'!$BJ$18:$BJ$1017,$B186,'Daily Log'!$BK$18:$BK$1017),0)","v":0},{"$f":"IFERROR($E186*SUMIF('Daily Log'!$BM$18:$BM$1017,$B186,'Daily Log'!$BN$18:$BN$1017),0)","v":0},{"$f":"IFERROR($E186*SUMIF('Daily Log'!$BP$18:$BP$1017,$B186,'Daily Log'!$BQ$18:$BQ$1017),0)","v":0},{"$f":"IFERROR($E186*SUMIF('Daily Log'!$BS$18:$BS$1017,$B186,'Daily Log'!$BT$18:$BT$1017),0)","v":0},{"$f":"IFERROR($E186*SUMIF('Daily Log'!$BV$18:$BV$1017,$B186,'Daily Log'!$BW$18:$BW$1017),0)","v":0},{"$f":"IFERROR($E186*SUMIF('Daily Log'!$BY$18:$BY$1017,$B186,'Daily Log'!$BZ$18:$BZ$1017),0)","v":0},{"$f":"IFERROR($E186*SUMIF('Daily Log'!$CB$18:$CB$1017,$B186,'Daily Log'!$CC$18:$CC$1017),0)","v":0},{"$f":"IFERROR($E186*SUMIF('Daily Log'!$CE$18:$CE$1017,$B186,'Daily Log'!$CF$18:$CF$1017),0)","v":0},{"$f":"IFERROR($E186*SUMIF('Daily Log'!$CH$18:$CH$1017,$B186,'Daily Log'!$CI$18:$CI$1017),0)","v":0},{"$f":"IFERROR($E186*SUMIF('Daily Log'!$CK$18:$CK$1017,$B186,'Daily Log'!$CL$18:$CL$1017),0)","v":0},{"$f":"IFERROR($E186*SUMIF('Daily Log'!$CN$18:$CN$1017,$B186,'Daily Log'!$CO$18:$CO$1017),0)","v":38}]
[null,"AP02 1412:MC BEER",null,"PACKAGE",1,41,{"$f":"IFERROR($E187*SUMIF('Daily Log'!$B$18:$B$1017,$B187,'Daily Log'!$C$18:$C$1017),0)","v":0},{"$f":"IFERROR($E187*SUMIF('Daily Log'!$E$18:$E$1017,$B187,'Daily Log'!$F$18:$F$1017),0)","v":0},{"$f":"IFERROR($E187*SUMIF('Daily Log'!$H$18:$H$1017,$B187,'Daily Log'!$I$18:$I$1017),0)","v":0},{"$f":"IFERROR($E187*SUMIF('Daily Log'!$K$18:$K$1017,$B187,'Daily Log'!$L$18:$L$1017),0)","v":0},{"$f":"IFERROR($E187*SUMIF('Daily Log'!$N$18:$N$1017,$B187,'Daily Log'!$O$18:$O$1017),0)","v":0},{"$f":"IFERROR($E187*SUMIF('Daily Log'!$Q$18:$Q$1017,$B187,'Daily Log'!$R$18:$R$1017),0)","v":0},{"$f":"IFERROR($E187*SUMIF('Daily Log'!$T$18:$T$1017,$B187,'Daily Log'!$U$18:$U$1017),0)","v":0},{"$f":"IFERROR($E187*SUMIF('Daily Log'!$W$18:$W$1017,$B187,'Daily Log'!$X$18:$X$1017),0)","v":0},{"$f":"IFERROR($E187*SUMIF('Daily Log'!$Z$18:$Z$1017,$B187,'Daily Log'!$AA$18:$AA$1017),0)","v":0},{"$f":"IFERROR($E187*SUMIF('Daily Log'!$AC$18:$AC$1017,$B187,'Daily Log'!$AD$18:$AD$1017),0)","v":0},{"$f":"IFERROR($E187*SUMIF('Daily Log'!$AF$18:$AF$1017,$B187,'Daily Log'!$AG$18:$AG$1017),0)","v":0},{"$f":"IFERROR($E187*SUMIF('Daily Log'!$AI$18:$AI$1017,$B187,'Daily Log'!$AJ$18:$AJ$1017),0)","v":0},{"$f":"IFERROR($E187*SUMIF('Daily Log'!$AL$18:$AL$1017,$B187,'Daily Log'!$AM$18:$AM$1017),0)","v":0},{"$f":"IFERROR($E187*SUMIF('Daily Log'!$AO$18:$AO$1017,$B187,'Daily Log'!$AP$18:$AP$1017),0)","v":0},{"$f":"IFERROR($E187*SUMIF('Daily Log'!$AR$18:$AR$1017,$B187,'Daily Log'!$AS$18:$AS$1017),0)","v":0},{"$f":"IFERROR($E187*SUMIF('Daily Log'!$AU$18:$AU$1017,$B187,'Daily Log'!$AV$18:$AV$1017),0)","v":0},{"$f":"IFERROR($E187*SUMIF('Daily Log'!$AX$18:$AX$1017,$B187,'Daily Log'!$AY$18:$AY$1017),0)","v":0},{"$f":"IFERROR($E187*SUMIF('Daily Log'!$BA$18:$BA$1017,$B187,'Daily Log'!$BB$18:$BB$1017),0)","v":0},{"$f":"IFERROR($E187*SUMIF('Daily Log'!$BD$18:$BD$1017,$B187,'Daily Log'!$BE$18:$BE$1017),0)","v":0},{"$f":"IFERROR($E187*SUMIF('Daily Log'!$BG$18:$BG$1017,$B187,'Daily Log'!$BH$18:$BH$1017),0)","v":0},{"$f":"IFERROR($E187*SUMIF('Daily Log'!$BJ$18:$BJ$1017,$B187,'Daily Log'!$BK$18:$BK$1017),0)","v":0},{"$f":"IFERROR($E187*SUMIF('Daily Log'!$BM$18:$BM$1017,$B187,'Daily Log'!$BN$18:$BN$1017),0)","v":0},{"$f":"IFERROR($E187*SUMIF('Daily Log'!$BP$18:$BP$1017,$B187,'Daily Log'!$BQ$18:$BQ$1017),0)","v":0},{"$f":"IFERROR($E187*SUMIF('Daily Log'!$BS$18:$BS$1017,$B187,'Daily Log'!$BT$18:$BT$1017),0)","v":0},{"$f":"IFERROR($E187*SUMIF('Daily Log'!$BV$18:$BV$1017,$B187,'Daily Log'!$BW$18:$BW$1017),0)","v":0},{"$f":"IFERROR($E187*SUMIF('Daily Log'!$BY$18:$BY$1017,$B187,'Daily Log'!$BZ$18:$BZ$1017),0)","v":0},{"$f":"IFERROR($E187*SUMIF('Daily Log'!$CB$18:$CB$1017,$B187,'Daily Log'!$CC$18:$CC$1017),0)","v":0},{"$f":"IFERROR($E187*SUMIF('Daily Log'!$CE$18:$CE$1017,$B187,'Daily Log'!$CF$18:$CF$1017),0)","v":0},{"$f":"IFERROR($E187*SUMIF('Daily Log'!$CH$18:$CH$1017,$B187,'Daily Log'!$CI$18:$CI$1017),0)","v":0},{"$f":"IFERROR($E187*SUMIF('Daily Log'!$CK$18:$CK$1017,$B187,'Daily Log'!$CL$18:$CL$1017),0)","v":0},{"$f":"IFERROR($E187*SUMIF('Daily Log'!$CN$18:$CN$1017,$B187,'Daily Log'!$CO$18:$CO$1017),0)","v":41}]
[null,"RQ01 1601:ADD RICE",null,"REQUEST",1,11,{"$f":"IFERROR($E188*SUMIF('Daily Log'!$B$18:$B$1017,$B188,'Daily Log'!$C$18:$C$1017),0)","v":0},{"$f":"IFERROR($E188*SUMIF('Daily Log'!$E$18:$E$1017,$B188,'Daily Log'!$F$18:$F$1017),0)","v":0},{"$f":"IFERROR($E188*SUMIF('Daily Log'!$H$18:$H$1017,$B188,'Daily Log'!$I$18:$I$1017),0)","v":0},{"$f":"IFERROR($E188*SUMIF('Daily Log'!$K$18:$K$1017,$B188,'Daily Log'!$L$18:$L$1017),0)","v":0},{"$f":"IFERROR($E188*SUMIF('Daily Log'!$N$18:$N$1017,$B188,'Daily Log'!$O$18:$O$1017),0)","v":0},{"$f":"IFERROR($E188*SUMIF('Daily Log'!$Q$18:$Q$1017,$B188,'Daily Log'!$R$18:$R$1017),0)","v":0},{"$f":"IFERROR($E188*SUMIF('Daily Log'!$T$18:$T$1017,$B188,'Daily Log'!$U$18:$U$1017),0)","v":0},{"$f":"IFERROR($E188*SUMIF('Daily Log'!$W$18:$W$1017,$B188,'Daily Log'!$X$18:$X$1017),0)","v":0},{"$f":"IFERROR($E188*SUMIF('Daily Log'!$Z$18:$Z$1017,$B188,'Daily Log'!$AA$18:$AA$1017),0)","v":0},{"$f":"IFERROR($E188*SUMIF('Daily Log'!$AC$18:$AC$1017,$B188,'Daily Log'!$AD$18:$AD$1017),0)","v":0},{"$f":"IFERROR($E188*SUMIF('Daily Log'!$AF$18:$AF$1017,$B188,'Daily Log'!$AG$18:$AG$1017),0)","v":0},{"$f":"IFERROR($E188*SUMIF('Daily Log'!$AI$18:$AI$1017,$B188,'Daily Log'!$AJ$18:$AJ$1017),0)","v":0},{"$f":"IFERROR($E188*SUMIF('Daily Log'!$AL$18:$AL$1017,$B188,'Daily Log'!$AM$18:$AM$1017),0)","v":0},{"$f":"IFERROR($E188*SUMIF('Daily Log'!$AO$18:$AO$1017,$B188,'Daily Log'!$AP$18:$AP$1017),0)","v":0},{"$f":"IFERROR($E188*SUMIF('Daily Log'!$AR$18:$AR$1017,$B188,'Daily Log'!$AS$18:$AS$1017),0)","v":0},{"$f":"IFERROR($E188*SUMIF('Daily Log'!$AU$18:$AU$1017,$B188,'Daily Log'!$AV$18:$AV$1017),0)","v":0},{"$f":"IFERROR($E188*SUMIF('Daily Log'!$AX$18:$AX$1017,$B188,'Daily Log'!$AY$18:$AY$1017),0)","v":0},{"$f":"IFERROR($E188*SUMIF('Daily Log'!$BA$18:$BA$1017,$B188,'Daily Log'!$BB$18:$BB$1017),0)","v":0},{"$f":"IFERROR($E188*SUMIF('Daily Log'!$BD$18:$BD$1017,$B188,'Daily Log'!$BE$18:$BE$1017),0)","v":0},{"$f":"IFERROR($E188*SUMIF('Daily Log'!$BG$18:$BG$1017,$B188,'Daily Log'!$BH$18:$BH$1017),0)","v":0},{"$f":"IFERROR($E188*SUMIF('Daily Log'!$BJ$18:$BJ$1017,$B188,'Daily Log'!$BK$18:$BK$1017),0)","v":0},{"$f":"IFERROR($E188*SUMIF('Daily Log'!$BM$18:$BM$1017,$B188,'Daily Log'!$BN$18:$BN$1017),0)","v":0},{"$f":"IFERROR($E188*SUMIF('Daily Log'!$BP$18:$BP$1017,$B188,'Daily Log'!$BQ$18:$BQ$1017),0)","v":0},{"$f":"IFERROR($E188*SUMIF('Daily Log'!$BS$18:$BS$1017,$B188,'Daily Log'!$BT$18:$BT$1017),0)","v":0},{"$f":"IFERROR($E188*SUMIF('Daily Log'!$BV$18:$BV$1017,$B188,'Daily Log'!$BW$18:$BW$1017),0)","v":0},{"$f":"IFERROR($E188*SUMIF('Daily Log'!$BY$18:$BY$1017,$B188,'Daily Log'!$BZ$18:$BZ$1017),0)","v":0},{"$f":"IFERROR($E188*SUMIF('Daily Log'!$CB$18:$CB$1017,$B188,'Daily Log'!$CC$18:$CC$1017),0)","v":0},{"$f":"IFERROR($E188*SUMIF('Daily Log'!$CE$18:$CE$1017,$B188,'Daily Log'!$CF$18:$CF$1017),0)","v":0},{"$f":"IFERROR($E188*SUMIF('Daily Log'!$CH$18:$CH$1017,$B188,'Daily Log'!$CI$18:$CI$1017),0)","v":0},{"$f":"IFERROR($E188*SUMIF('Daily Log'!$CK$18:$CK$1017,$B188,'Daily Log'!$CL$18:$CL$1017),0)","v":0},{"$f":"IFERROR($E188*SUMIF('Daily Log'!$CN$18:$CN$1017,$B188,'Daily Log'!$CO$18:$CO$1017),0)","v":11}]
[null,"RQ02 1602:ADD F.EGG",null,"REQUEST",1,6,{"$f":"IFERROR($E189*SUMIF('Daily Log'!$B$18:$B$1017,$B189,'Daily Log'!$C$18:$C$1017),0)","v":0},{"$f":"IFERROR($E189*SUMIF('Daily Log'!$E$18:$E$1017,$B189,'Daily Log'!$F$18:$F$1017),0)","v":0},{"$f":"IFERROR($E189*SUMIF('Daily Log'!$H$18:$H$1017,$B189,'Daily Log'!$I$18:$I$1017),0)","v":0},{"$f":"IFERROR($E189*SUMIF('Daily Log'!$K$18:$K$1017,$B189,'Daily Log'!$L$18:$L$1017),0)","v":0},{"$f":"IFERROR($E189*SUMIF('Daily Log'!$N$18:$N$1017,$B189,'Daily Log'!$O$18:$O$1017),0)","v":0},{"$f":"IFERROR($E189*SUMIF('Daily Log'!$Q$18:$Q$1017,$B189,'Daily Log'!$R$18:$R$1017),0)","v":0},{"$f":"IFERROR($E189*SUMIF('Daily Log'!$T$18:$T$1017,$B189,'Daily Log'!$U$18:$U$1017),0)","v":0},{"$f":"IFERROR($E189*SUMIF('Daily Log'!$W$18:$W$1017,$B189,'Daily Log'!$X$18:$X$1017),0)","v":0},{"$f":"IFERROR($E189*SUMIF('Daily Log'!$Z$18:$Z$1017,$B189,'Daily Log'!$AA$18:$AA$1017),0)","v":0},{"$f":"IFERROR($E189*SUMIF('Daily Log'!$AC$18:$AC$1017,$B189,'Daily Log'!$AD$18:$AD$1017),0)","v":0},{"$f":"IFERROR($E189*SUMIF('Daily Log'!$AF$18:$AF$1017,$B189,'Daily Log'!$AG$18:$AG$1017),0)","v":0},{"$f":"IFERROR($E189*SUMIF('Daily Log'!$AI$18:$AI$1017,$B189,'Daily Log'!$AJ$18:$AJ$1017),0)","v":0},{"$f":"IFERROR($E189*SUMIF('Daily Log'!$AL$18:$AL$1017,$B189,'Daily Log'!$AM$18:$AM$1017),0)","v":0},{"$f":"IFERROR($E189*SUMIF('Daily Log'!$AO$18:$AO$1017,$B189,'Daily Log'!$AP$18:$AP$1017),0)","v":0},{"$f":"IFERROR($E189*SUMIF('Daily Log'!$AR$18:$AR$1017,$B189,'Daily Log'!$AS$18:$AS$1017),0)","v":0},{"$f":"IFERROR($E189*SUMIF('Daily Log'!$AU$18:$AU$1017,$B189,'Daily Log'!$AV$18:$AV$1017),0)","v":0},{"$f":"IFERROR($E189*SUMIF('Daily Log'!$AX$18:$AX$1017,$B189,'Daily Log'!$AY$18:$AY$1017),0)","v":0},{"$f":"IFERROR($E189*SUMIF('Daily Log'!$BA$18:$BA$1017,$B189,'Daily Log'!$BB$18:$BB$1017),0)","v":0},{"$f":"IFERROR($E189*SUMIF('Daily Log'!$BD$18:$BD$1017,$B189,'Daily Log'!$BE$18:$BE$1017),0)","v":0},{"$f":"IFERROR($E189*SUMIF('Daily Log'!$BG$18:$BG$1017,$B189,'Daily Log'!$BH$18:$BH$1017),0)","v":0},{"$f":"IFERROR($E189*SUMIF('Daily Log'!$BJ$18:$BJ$1017,$B189,'Daily Log'!$BK$18:$BK$1017),0)","v":0},{"$f":"IFERROR($E189*SUMIF('Daily Log'!$BM$18:$BM$1017,$B189,'Daily Log'!$BN$18:$BN$1017),0)","v":0},{"$f":"IFERROR($E189*SUMIF('Daily Log'!$BP$18:$BP$1017,$B189,'Daily Log'!$BQ$18:$BQ$1017),0)","v":0},{"$f":"IFERROR($E189*SUMIF('Daily Log'!$BS$18:$BS$1017,$B189,'Daily Log'!$BT$18:$BT$1017),0)","v":0},{"$f":"IFERROR($E189*SUMIF('Daily Log'!$BV$18:$BV$1017,$B189,'Daily Log'!$BW$18:$BW$1017),0)","v":0},{"$f":"IFERROR($E189*SUMIF('Daily Log'!$BY$18:$BY$1017,$B189,'Daily Log'!$BZ$18:$BZ$1017),0)","v":0},{"$f":"IFERROR($E189*SUMIF('Daily Log'!$CB$18:$CB$1017,$B189,'Daily Log'!$CC$18:$CC$1017),0)","v":0},{"$f":"IFERROR($E189*SUMIF('Daily Log'!$CE$18:$CE$1017,$B189,'Daily Log'!$CF$18:$CF$1017),0)","v":0},{"$f":"IFERROR($E189*SUMIF('Daily Log'!$CH$18:$CH$1017,$B189,'Daily Log'!$CI$18:$CI$1017),0)","v":0},{"$f":"IFERROR($E189*SUMIF('Daily Log'!$CK$18:$CK$1017,$B189,'Daily Log'!$CL$18:$CL$1017),0)","v":0},{"$f":"IFERROR($E189*SUMIF('Daily Log'!$CN$18:$CN$1017,$B189,'Daily Log'!$CO$18:$CO$1017),0)","v":6}]
[null,"RQ03 ADD SAUCE 1000",null,"REQUEST",1,5,{"$f":"IFERROR($E190*SUMIF('Daily Log'!$B$18:$B$1017,$B190,'Daily Log'!$C$18:$C$1017),0)","v":0},{"$f":"IFERROR($E190*SUMIF('Daily Log'!$E$18:$E$1017,$B190,'Daily Log'!$F$18:$F$1017),0)","v":0},{"$f":"IFERROR($E190*SUMIF('Daily Log'!$H$18:$H$1017,$B190,'Daily Log'!$I$18:$I$1017),0)","v":0},{"$f":"IFERROR($E190*SUMIF('Daily Log'!$K$18:$K$1017,$B190,'Daily Log'!$L$18:$L$1017),0)","v":0},{"$f":"IFERROR($E190*SUMIF('Daily Log'!$N$18:$N$1017,$B190,'Daily Log'!$O$18:$O$1017),0)","v":0},{"$f":"IFERROR($E190*SUMIF('Daily Log'!$Q$18:$Q$1017,$B190,'Daily Log'!$R$18:$R$1017),0)","v":0},{"$f":"IFERROR($E190*SUMIF('Daily Log'!$T$18:$T$1017,$B190,'Daily Log'!$U$18:$U$1017),0)","v":0},{"$f":"IFERROR($E190*SUMIF('Daily Log'!$W$18:$W$1017,$B190,'Daily Log'!$X$18:$X$1017),0)","v":0},{"$f":"IFERROR($E190*SUMIF('Daily Log'!$Z$18:$Z$1017,$B190,'Daily Log'!$AA$18:$AA$1017),0)","v":0},{"$f":"IFERROR($E190*SUMIF('Daily Log'!$AC$18:$AC$1017,$B190,'Daily Log'!$AD$18:$AD$1017),0)","v":0},{"$f":"IFERROR($E190*SUMIF('Daily Log'!$AF$18:$AF$1017,$B190,'Daily Log'!$AG$18:$AG$1017),0)","v":0},{"$f":"IFERROR($E190*SUMIF('Daily Log'!$AI$18:$AI$1017,$B190,'Daily Log'!$AJ$18:$AJ$1017),0)","v":0},{"$f":"IFERROR($E190*SUMIF('Daily Log'!$AL$18:$AL$1017,$B190,'Daily Log'!$AM$18:$AM$1017),0)","v":0},{"$f":"IFERROR($E190*SUMIF('Daily Log'!$AO$18:$AO$1017,$B190,'Daily Log'!$AP$18:$AP$1017),0)","v":0},{"$f":"IFERROR($E190*SUMIF('Daily Log'!$AR$18:$AR$1017,$B190,'Daily Log'!$AS$18:$AS$1017),0)","v":0},{"$f":"IFERROR($E190*SUMIF('Daily Log'!$AU$18:$AU$1017,$B190,'Daily Log'!$AV$18:$AV$1017),0)","v":0},{"$f":"IFERROR($E190*SUMIF('Daily Log'!$AX$18:$AX$1017,$B190,'Daily Log'!$AY$18:$AY$1017),0)","v":0},{"$f":"IFERROR($E190*SUMIF('Daily Log'!$BA$18:$BA$1017,$B190,'Daily Log'!$BB$18:$BB$1017),0)","v":0},{"$f":"IFERROR($E190*SUMIF('Daily Log'!$BD$18:$BD$1017,$B190,'Daily Log'!$BE$18:$BE$1017),0)","v":0},{"$f":"IFERROR($E190*SUMIF('Daily Log'!$BG$18:$BG$1017,$B190,'Daily Log'!$BH$18:$BH$1017),0)","v":0},{"$f":"IFERROR($E190*SUMIF('Daily Log'!$BJ$18:$BJ$1017,$B190,'Daily Log'!$BK$18:$BK$1017),0)","v":0},{"$f":"IFERROR($E190*SUMIF('Daily Log'!$BM$18:$BM$1017,$B190,'Daily Log'!$BN$18:$BN$1017),0)","v":0},{"$f":"IFERROR($E190*SUMIF('Daily Log'!$BP$18:$BP$1017,$B190,'Daily Log'!$BQ$18:$BQ$1017),0)","v":0},{"$f":"IFERROR($E190*SUMIF('Daily Log'!$BS$18:$BS$1017,$B190,'Daily Log'!$BT$18:$BT$1017),0)","v":0},{"$f":"IFERROR($E190*SUMIF('Daily Log'!$BV$18:$BV$1017,$B190,'Daily Log'!$BW$18:$BW$1017),0)","v":0},{"$f":"IFERROR($E190*SUMIF('Daily Log'!$BY$18:$BY$1017,$B190,'Daily Log'!$BZ$18:$BZ$1017),0)","v":0},{"$f":"IFERROR($E190*SUMIF('Daily Log'!$CB$18:$CB$1017,$B190,'Daily Log'!$CC$18:$CC$1017),0)","v":0},{"$f":"IFERROR($E190*SUMIF('Daily Log'!$CE$18:$CE$1017,$B190,'Daily Log'!$CF$18:$CF$1017),0)","v":0},{"$f":"IFERROR($E190*SUMIF('Daily Log'!$CH$18:$CH$1017,$B190,'Daily Log'!$CI$18:$CI$1017),0)","v":0},{"$f":"IFERROR($E190*SUMIF('Daily Log'!$CK$18:$CK$1017,$B190,'Daily Log'!$CL$18:$CL$1017),0)","v":0},{"$f":"IFERROR($E190*SUMIF('Daily Log'!$CN$18:$CN$1017,$B190,'Daily Log'!$CO$18:$CO$1017),0)","v":5}]
[null,"RQ04 ADD SAUCE BOLO",null,"REQUEST",1,0,{"$f":"IFERROR($E191*SUMIF('Daily Log'!$B$18:$B$1017,$B191,'Daily Log'!$C$18:$C$1017),0)","v":0},{"$f":"IFERROR($E191*SUMIF('Daily Log'!$E$18:$E$1017,$B191,'Daily Log'!$F$18:$F$1017),0)","v":0},{"$f":"IFERROR($E191*SUMIF('Daily Log'!$H$18:$H$1017,$B191,'Daily Log'!$I$18:$I$1017),0)","v":0},{"$f":"IFERROR($E191*SUMIF('Daily Log'!$K$18:$K$1017,$B191,'Daily Log'!$L$18:$L$1017),0)","v":0},{"$f":"IFERROR($E191*SUMIF('Daily Log'!$N$18:$N$1017,$B191,'Daily Log'!$O$18:$O$1017),0)","v":0},{"$f":"IFERROR($E191*SUMIF('Daily Log'!$Q$18:$Q$1017,$B191,'Daily Log'!$R$18:$R$1017),0)","v":0},{"$f":"IFERROR($E191*SUMIF('Daily Log'!$T$18:$T$1017,$B191,'Daily Log'!$U$18:$U$1017),0)","v":0},{"$f":"IFERROR($E191*SUMIF('Daily Log'!$W$18:$W$1017,$B191,'Daily Log'!$X$18:$X$1017),0)","v":0},{"$f":"IFERROR($E191*SUMIF('Daily Log'!$Z$18:$Z$1017,$B191,'Daily Log'!$AA$18:$AA$1017),0)","v":0},{"$f":"IFERROR($E191*SUMIF('Daily Log'!$AC$18:$AC$1017,$B191,'Daily Log'!$AD$18:$AD$1017),0)","v":0},{"$f":"IFERROR($E191*SUMIF('Daily Log'!$AF$18:$AF$1017,$B191,'Daily Log'!$AG$18:$AG$1017),0)","v":0},{"$f":"IFERROR($E191*SUMIF('Daily Log'!$AI$18:$AI$1017,$B191,'Daily Log'!$AJ$18:$AJ$1017),0)","v":0},{"$f":"IFERROR($E191*SUMIF('Daily Log'!$AL$18:$AL$1017,$B191,'Daily Log'!$AM$18:$AM$1017),0)","v":0},{"$f":"IFERROR($E191*SUMIF('Daily Log'!$AO$18:$AO$1017,$B191,'Daily Log'!$AP$18:$AP$1017),0)","v":0},{"$f":"IFERROR($E191*SUMIF('Daily Log'!$AR$18:$AR$1017,$B191,'Daily Log'!$AS$18:$AS$1017),0)","v":0},{"$f":"IFERROR($E191*SUMIF('Daily Log'!$AU$18:$AU$1017,$B191,'Daily Log'!$AV$18:$AV$1017),0)","v":0},{"$f":"IFERROR($E191*SUMIF('Daily Log'!$AX$18:$AX$1017,$B191,'Daily Log'!$AY$18:$AY$1017),0)","v":0},{"$f":"IFERROR($E191*SUMIF('Daily Log'!$BA$18:$BA$1017,$B191,'Daily Log'!$BB$18:$BB$1017),0)","v":0},{"$f":"IFERROR($E191*SUMIF('Daily Log'!$BD$18:$BD$1017,$B191,'Daily Log'!$BE$18:$BE$1017),0)","v":0},{"$f":"IFERROR($E191*SUMIF('Daily Log'!$BG$18:$BG$1017,$B191,'Daily Log'!$BH$18:$BH$1017),0)","v":0},{"$f":"IFERROR($E191*SUMIF('Daily Log'!$BJ$18:$BJ$1017,$B191,'Daily Log'!$BK$18:$BK$1017),0)","v":0},{"$f":"IFERROR($E191*SUMIF('Daily Log'!$BM$18:$BM$1017,$B191,'Daily Log'!$BN$18:$BN$1017),0)","v":0},{"$f":"IFERROR($E191*SUMIF('Daily Log'!$BP$18:$BP$1017,$B191,'Daily Log'!$BQ$18:$BQ$1017),0)","v":0},{"$f":"IFERROR($E191*SUMIF('Daily Log'!$BS$18:$BS$1017,$B191,'Daily Log'!$BT$18:$BT$1017),0)","v":0},{"$f":"IFERROR($E191*SUMIF('Daily Log'!$BV$18:$BV$1017,$B191,'Daily Log'!$BW$18:$BW$1017),0)","v":0},{"$f":"IFERROR($E191*SUMIF('Daily Log'!$BY$18:$BY$1017,$B191,'Daily Log'!$BZ$18:$BZ$1017),0)","v":0},{"$f":"IFERROR($E191*SUMIF('Daily Log'!$CB$18:$CB$1017,$B191,'Daily Log'!$CC$18:$CC$1017),0)","v":0},{"$f":"IFERROR($E191*SUMIF('Daily Log'!$CE$18:$CE$1017,$B191,'Daily Log'!$CF$18:$CF$1017),0)","v":0},{"$f":"IFERROR($E191*SUMIF('Daily Log'!$CH$18:$CH$1017,$B191,'Daily Log'!$CI$18:$CI$1017),0)","v":0},{"$f":"IFERROR($E191*SUMIF('Daily Log'!$CK$18:$CK$1017,$B191,'Daily Log'!$CL$18:$CL$1017),0)","v":0},{"$f":"IFERROR($E191*SUMIF('Daily Log'!$CN$18:$CN$1017,$B191,'Daily Log'!$CO$18:$CO$1017),0)","v":0}]
[null,"RQ05 ADD SAUCE BP",null,"REQUEST",1,2,{"$f":"IFERROR($E192*SUMIF('Daily Log'!$B$18:$B$1017,$B192,'Daily Log'!$C$18:$C$1017),0)","v":0},{"$f":"IFERROR($E192*SUMIF('Daily Log'!$E$18:$E$1017,$B192,'Daily Log'!$F$18:$F$1017),0)","v":0},{"$f":"IFERROR($E192*SUMIF('Daily Log'!$H$18:$H$1017,$B192,'Daily Log'!$I$18:$I$1017),0)","v":0},{"$f":"IFERROR($E192*SUMIF('Daily Log'!$K$18:$K$1017,$B192,'Daily Log'!$L$18:$L$1017),0)","v":0},{"$f":"IFERROR($E192*SUMIF('Daily Log'!$N$18:$N$1017,$B192,'Daily Log'!$O$18:$O$1017),0)","v":0},{"$f":"IFERROR($E192*SUMIF('Daily Log'!$Q$18:$Q$1017,$B192,'Daily Log'!$R$18:$R$1017),0)","v":0},{"$f":"IFERROR($E192*SUMIF('Daily Log'!$T$18:$T$1017,$B192,'Daily Log'!$U$18:$U$1017),0)","v":0},{"$f":"IFERROR($E192*SUMIF('Daily Log'!$W$18:$W$1017,$B192,'Daily Log'!$X$18:$X$1017),0)","v":0},{"$f":"IFERROR($E192*SUMIF('Daily Log'!$Z$18:$Z$1017,$B192,'Daily Log'!$AA$18:$AA$1017),0)","v":0},{"$f":"IFERROR($E192*SUMIF('Daily Log'!$AC$18:$AC$1017,$B192,'Daily Log'!$AD$18:$AD$1017),0)","v":0},{"$f":"IFERROR($E192*SUMIF('Daily Log'!$AF$18:$AF$1017,$B192,'Daily Log'!$AG$18:$AG$1017),0)","v":0},{"$f":"IFERROR($E192*SUMIF('Daily Log'!$AI$18:$AI$1017,$B192,'Daily Log'!$AJ$18:$AJ$1017),0)","v":0},{"$f":"IFERROR($E192*SUMIF('Daily Log'!$AL$18:$AL$1017,$B192,'Daily Log'!$AM$18:$AM$1017),0)","v":0},{"$f":"IFERROR($E192*SUMIF('Daily Log'!$AO$18:$AO$1017,$B192,'Daily Log'!$AP$18:$AP$1017),0)","v":0},{"$f":"IFERROR($E192*SUMIF('Daily Log'!$AR$18:$AR$1017,$B192,'Daily Log'!$AS$18:$AS$1017),0)","v":0},{"$f":"IFERROR($E192*SUMIF('Daily Log'!$AU$18:$AU$1017,$B192,'Daily Log'!$AV$18:$AV$1017),0)","v":0},{"$f":"IFERROR($E192*SUMIF('Daily Log'!$AX$18:$AX$1017,$B192,'Daily Log'!$AY$18:$AY$1017),0)","v":0},{"$f":"IFERROR($E192*SUMIF('Daily Log'!$BA$18:$BA$1017,$B192,'Daily Log'!$BB$18:$BB$1017),0)","v":0},{"$f":"IFERROR($E192*SUMIF('Daily Log'!$BD$18:$BD$1017,$B192,'Daily Log'!$BE$18:$BE$1017),0)","v":0},{"$f":"IFERROR($E192*SUMIF('Daily Log'!$BG$18:$BG$1017,$B192,'Daily Log'!$BH$18:$BH$1017),0)","v":0},{"$f":"IFERROR($E192*SUMIF('Daily Log'!$BJ$18:$BJ$1017,$B192,'Daily Log'!$BK$18:$BK$1017),0)","v":0},{"$f":"IFERROR($E192*SUMIF('Daily Log'!$BM$18:$BM$1017,$B192,'Daily Log'!$BN$18:$BN$1017),0)","v":0},{"$f":"IFERROR($E192*SUMIF('Daily Log'!$BP$18:$BP$1017,$B192,'Daily Log'!$BQ$18:$BQ$1017),0)","v":0},{"$f":"IFERROR($E192*SUMIF('Daily Log'!$BS$18:$BS$1017,$B192,'Daily Log'!$BT$18:$BT$1017),0)","v":0},{"$f":"IFERROR($E192*SUMIF('Daily Log'!$BV$18:$BV$1017,$B192,'Daily Log'!$BW$18:$BW$1017),0)","v":0},{"$f":"IFERROR($E192*SUMIF('Daily Log'!$BY$18:$BY$1017,$B192,'Daily Log'!$BZ$18:$BZ$1017),0)","v":0},{"$f":"IFERROR($E192*SUMIF('Daily Log'!$CB$18:$CB$1017,$B192,'Daily Log'!$CC$18:$CC$1017),0)","v":0},{"$f":"IFERROR($E192*SUMIF('Daily Log'!$CE$18:$CE$1017,$B192,'Daily Log'!$CF$18:$CF$1017),0)","v":0},{"$f":"IFERROR($E192*SUMIF('Daily Log'!$CH$18:$CH$1017,$B192,'Daily Log'!$CI$18:$CI$1017),0)","v":0},{"$f":"IFERROR($E192*SUMIF('Daily Log'!$CK$18:$CK$1017,$B192,'Daily Log'!$CL$18:$CL$1017),0)","v":0},{"$f":"IFERROR($E192*SUMIF('Daily Log'!$CN$18:$CN$1017,$B192,'Daily Log'!$CO$18:$CO$1017),0)","v":2}]
[null,"RQ06 ADD SAUCE BUTTER",null,"REQUEST",1,4,{"$f":"IFERROR($E193*SUMIF('Daily Log'!$B$18:$B$1017,$B193,'Daily Log'!$C$18:$C$1017),0)","v":0},{"$f":"IFERROR($E193*SUMIF('Daily Log'!$E$18:$E$1017,$B193,'Daily Log'!$F$18:$F$1017),0)","v":0},{"$f":"IFERROR($E193*SUMIF('Daily Log'!$H$18:$H$1017,$B193,'Daily Log'!$I$18:$I$1017),0)","v":0},{"$f":"IFERROR($E193*SUMIF('Daily Log'!$K$18:$K$1017,$B193,'Daily Log'!$L$18:$L$1017),0)","v":0},{"$f":"IFERROR($E193*SUMIF('Daily Log'!$N$18:$N$1017,$B193,'Daily Log'!$O$18:$O$1017),0)","v":0},{"$f":"IFERROR($E193*SUMIF('Daily Log'!$Q$18:$Q$1017,$B193,'Daily Log'!$R$18:$R$1017),0)","v":0},{"$f":"IFERROR($E193*SUMIF('Daily Log'!$T$18:$T$1017,$B193,'Daily Log'!$U$18:$U$1017),0)","v":0},{"$f":"IFERROR($E193*SUMIF('Daily Log'!$W$18:$W$1017,$B193,'Daily Log'!$X$18:$X$1017),0)","v":0},{"$f":"IFERROR($E193*SUMIF('Daily Log'!$Z$18:$Z$1017,$B193,'Daily Log'!$AA$18:$AA$1017),0)","v":0},{"$f":"IFERROR($E193*SUMIF('Daily Log'!$AC$18:$AC$1017,$B193,'Daily Log'!$AD$18:$AD$1017),0)","v":0},{"$f":"IFERROR($E193*SUMIF('Daily Log'!$AF$18:$AF$1017,$B193,'Daily Log'!$AG$18:$AG$1017),0)","v":0},{"$f":"IFERROR($E193*SUMIF('Daily Log'!$AI$18:$AI$1017,$B193,'Daily Log'!$AJ$18:$AJ$1017),0)","v":0},{"$f":"IFERROR($E193*SUMIF('Daily Log'!$AL$18:$AL$1017,$B193,'Daily Log'!$AM$18:$AM$1017),0)","v":0},{"$f":"IFERROR($E193*SUMIF('Daily Log'!$AO$18:$AO$1017,$B193,'Daily Log'!$AP$18:$AP$1017),0)","v":0},{"$f":"IFERROR($E193*SUMIF('Daily Log'!$AR$18:$AR$1017,$B193,'Daily Log'!$AS$18:$AS$1017),0)","v":0},{"$f":"IFERROR($E193*SUMIF('Daily Log'!$AU$18:$AU$1017,$B193,'Daily Log'!$AV$18:$AV$1017),0)","v":0},{"$f":"IFERROR($E193*SUMIF('Daily Log'!$AX$18:$AX$1017,$B193,'Daily Log'!$AY$18:$AY$1017),0)","v":0},{"$f":"IFERROR($E193*SUMIF('Daily Log'!$BA$18:$BA$1017,$B193,'Daily Log'!$BB$18:$BB$1017),0)","v":0},{"$f":"IFERROR($E193*SUMIF('Daily Log'!$BD$18:$BD$1017,$B193,'Daily Log'!$BE$18:$BE$1017),0)","v":0},{"$f":"IFERROR($E193*SUMIF('Daily Log'!$BG$18:$BG$1017,$B193,'Daily Log'!$BH$18:$BH$1017),0)","v":0},{"$f":"IFERROR($E193*SUMIF('Daily Log'!$BJ$18:$BJ$1017,$B193,'Daily Log'!$BK$18:$BK$1017),0)","v":0},{"$f":"IFERROR($E193*SUMIF('Daily Log'!$BM$18:$BM$1017,$B193,'Daily Log'!$BN$18:$BN$1017),0)","v":0},{"$f":"IFERROR($E193*SUMIF('Daily Log'!$BP$18:$BP$1017,$B193,'Daily Log'!$BQ$18:$BQ$1017),0)","v":0},{"$f":"IFERROR($E193*SUMIF('Daily Log'!$BS$18:$BS$1017,$B193,'Daily Log'!$BT$18:$BT$1017),0)","v":0},{"$f":"IFERROR($E193*SUMIF('Daily Log'!$BV$18:$BV$1017,$B193,'Daily Log'!$BW$18:$BW$1017),0)","v":0},{"$f":"IFERROR($E193*SUMIF('Daily Log'!$BY$18:$BY$1017,$B193,'Daily Log'!$BZ$18:$BZ$1017),0)","v":0},{"$f":"IFERROR($E193*SUMIF('Daily Log'!$CB$18:$CB$1017,$B193,'Daily Log'!$CC$18:$CC$1017),0)","v":0},{"$f":"IFERROR($E193*SUMIF('Daily Log'!$CE$18:$CE$1017,$B193,'Daily Log'!$CF$18:$CF$1017),0)","v":0},{"$f":"IFERROR($E193*SUMIF('Daily Log'!$CH$18:$CH$1017,$B193,'Daily Log'!$CI$18:$CI$1017),0)","v":0},{"$f":"IFERROR($E193*SUMIF('Daily Log'!$CK$18:$CK$1017,$B193,'Daily Log'!$CL$18:$CL$1017),0)","v":0},{"$f":"IFERROR($E193*SUMIF('Daily Log'!$CN$18:$CN$1017,$B193,'Daily Log'!$CO$18:$CO$1017),0)","v":4}]
[null,"RQ07 ADD SAUCE C.PADI",null,"REQUEST",1,21,{"$f":"IFERROR($E194*SUMIF('Daily Log'!$B$18:$B$1017,$B194,'Daily Log'!$C$18:$C$1017),0)","v":0},{"$f":"IFERROR($E194*SUMIF('Daily Log'!$E$18:$E$1017,$B194,'Daily Log'!$F$18:$F$1017),0)","v":0},{"$f":"IFERROR($E194*SUMIF('Daily Log'!$H$18:$H$1017,$B194,'Daily Log'!$I$18:$I$1017),0)","v":0},{"$f":"IFERROR($E194*SUMIF('Daily Log'!$K$18:$K$1017,$B194,'Daily Log'!$L$18:$L$1017),0)","v":0},{"$f":"IFERROR($E194*SUMIF('Daily Log'!$N$18:$N$1017,$B194,'Daily Log'!$O$18:$O$1017),0)","v":0},{"$f":"IFERROR($E194*SUMIF('Daily Log'!$Q$18:$Q$1017,$B194,'Daily Log'!$R$18:$R$1017),0)","v":0},{"$f":"IFERROR($E194*SUMIF('Daily Log'!$T$18:$T$1017,$B194,'Daily Log'!$U$18:$U$1017),0)","v":0},{"$f":"IFERROR($E194*SUMIF('Daily Log'!$W$18:$W$1017,$B194,'Daily Log'!$X$18:$X$1017),0)","v":0},{"$f":"IFERROR($E194*SUMIF('Daily Log'!$Z$18:$Z$1017,$B194,'Daily Log'!$AA$18:$AA$1017),0)","v":0},{"$f":"IFERROR($E194*SUMIF('Daily Log'!$AC$18:$AC$1017,$B194,'Daily Log'!$AD$18:$AD$1017),0)","v":0},{"$f":"IFERROR($E194*SUMIF('Daily Log'!$AF$18:$AF$1017,$B194,'Daily Log'!$AG$18:$AG$1017),0)","v":0},{"$f":"IFERROR($E194*SUMIF('Daily Log'!$AI$18:$AI$1017,$B194,'Daily Log'!$AJ$18:$AJ$1017),0)","v":0},{"$f":"IFERROR($E194*SUMIF('Daily Log'!$AL$18:$AL$1017,$B194,'Daily Log'!$AM$18:$AM$1017),0)","v":0},{"$f":"IFERROR($E194*SUMIF('Daily Log'!$AO$18:$AO$1017,$B194,'Daily Log'!$AP$18:$AP$1017),0)","v":0},{"$f":"IFERROR($E194*SUMIF('Daily Log'!$AR$18:$AR$1017,$B194,'Daily Log'!$AS$18:$AS$1017),0)","v":0},{"$f":"IFERROR($E194*SUMIF('Daily Log'!$AU$18:$AU$1017,$B194,'Daily Log'!$AV$18:$AV$1017),0)","v":0},{"$f":"IFERROR($E194*SUMIF('Daily Log'!$AX$18:$AX$1017,$B194,'Daily Log'!$AY$18:$AY$1017),0)","v":0},{"$f":"IFERROR($E194*SUMIF('Daily Log'!$BA$18:$BA$1017,$B194,'Daily Log'!$BB$18:$BB$1017),0)","v":0},{"$f":"IFERROR($E194*SUMIF('Daily Log'!$BD$18:$BD$1017,$B194,'Daily Log'!$BE$18:$BE$1017),0)","v":0},{"$f":"IFERROR($E194*SUMIF('Daily Log'!$BG$18:$BG$1017,$B194,'Daily Log'!$BH$18:$BH$1017),0)","v":0},{"$f":"IFERROR($E194*SUMIF('Daily Log'!$BJ$18:$BJ$1017,$B194,'Daily Log'!$BK$18:$BK$1017),0)","v":0},{"$f":"IFERROR($E194*SUMIF('Daily Log'!$BM$18:$BM$1017,$B194,'Daily Log'!$BN$18:$BN$1017),0)","v":0},{"$f":"IFERROR($E194*SUMIF('Daily Log'!$BP$18:$BP$1017,$B194,'Daily Log'!$BQ$18:$BQ$1017),0)","v":0},{"$f":"IFERROR($E194*SUMIF('Daily Log'!$BS$18:$BS$1017,$B194,'Daily Log'!$BT$18:$BT$1017),0)","v":0},{"$f":"IFERROR($E194*SUMIF('Daily Log'!$BV$18:$BV$1017,$B194,'Daily Log'!$BW$18:$BW$1017),0)","v":0},{"$f":"IFERROR($E194*SUMIF('Daily Log'!$BY$18:$BY$1017,$B194,'Daily Log'!$BZ$18:$BZ$1017),0)","v":0},{"$f":"IFERROR($E194*SUMIF('Daily Log'!$CB$18:$CB$1017,$B194,'Daily Log'!$CC$18:$CC$1017),0)","v":0},{"$f":"IFERROR($E194*SUMIF('Daily Log'!$CE$18:$CE$1017,$B194,'Daily Log'!$CF$18:$CF$1017),0)","v":0},{"$f":"IFERROR($E194*SUMIF('Daily Log'!$CH$18:$CH$1017,$B194,'Daily Log'!$CI$18:$CI$1017),0)","v":0},{"$f":"IFERROR($E194*SUMIF('Daily Log'!$CK$18:$CK$1017,$B194,'Daily Log'!$CL$18:$CL$1017),0)","v":0},{"$f":"IFERROR($E194*SUMIF('Daily Log'!$CN$18:$CN$1017,$B194,'Daily Log'!$CO$18:$CO$1017),0)","v":21}]
[null,"RQ08 ADD SAUCE CHEESE",null,"REQUEST",1,24,{"$f":"IFERROR($E195*SUMIF('Daily Log'!$B$18:$B$1017,$B195,'Daily Log'!$C$18:$C$1017),0)","v":0},{"$f":"IFERROR($E195*SUMIF('Daily Log'!$E$18:$E$1017,$B195,'Daily Log'!$F$18:$F$1017),0)","v":0},{"$f":"IFERROR($E195*SUMIF('Daily Log'!$H$18:$H$1017,$B195,'Daily Log'!$I$18:$I$1017),0)","v":0},{"$f":"IFERROR($E195*SUMIF('Daily Log'!$K$18:$K$1017,$B195,'Daily Log'!$L$18:$L$1017),0)","v":0},{"$f":"IFERROR($E195*SUMIF('Daily Log'!$N$18:$N$1017,$B195,'Daily Log'!$O$18:$O$1017),0)","v":0},{"$f":"IFERROR($E195*SUMIF('Daily Log'!$Q$18:$Q$1017,$B195,'Daily Log'!$R$18:$R$1017),0)","v":0},{"$f":"IFERROR($E195*SUMIF('Daily Log'!$T$18:$T$1017,$B195,'Daily Log'!$U$18:$U$1017),0)","v":0},{"$f":"IFERROR($E195*SUMIF('Daily Log'!$W$18:$W$1017,$B195,'Daily Log'!$X$18:$X$1017),0)","v":0},{"$f":"IFERROR($E195*SUMIF('Daily Log'!$Z$18:$Z$1017,$B195,'Daily Log'!$AA$18:$AA$1017),0)","v":0},{"$f":"IFERROR($E195*SUMIF('Daily Log'!$AC$18:$AC$1017,$B195,'Daily Log'!$AD$18:$AD$1017),0)","v":0},{"$f":"IFERROR($E195*SUMIF('Daily Log'!$AF$18:$AF$1017,$B195,'Daily Log'!$AG$18:$AG$1017),0)","v":0},{"$f":"IFERROR($E195*SUMIF('Daily Log'!$AI$18:$AI$1017,$B195,'Daily Log'!$AJ$18:$AJ$1017),0)","v":0},{"$f":"IFERROR($E195*SUMIF('Daily Log'!$AL$18:$AL$1017,$B195,'Daily Log'!$AM$18:$AM$1017),0)","v":0},{"$f":"IFERROR($E195*SUMIF('Daily Log'!$AO$18:$AO$1017,$B195,'Daily Log'!$AP$18:$AP$1017),0)","v":0},{"$f":"IFERROR($E195*SUMIF('Daily Log'!$AR$18:$AR$1017,$B195,'Daily Log'!$AS$18:$AS$1017),0)","v":0},{"$f":"IFERROR($E195*SUMIF('Daily Log'!$AU$18:$AU$1017,$B195,'Daily Log'!$AV$18:$AV$1017),0)","v":0},{"$f":"IFERROR($E195*SUMIF('Daily Log'!$AX$18:$AX$1017,$B195,'Daily Log'!$AY$18:$AY$1017),0)","v":0},{"$f":"IFERROR($E195*SUMIF('Daily Log'!$BA$18:$BA$1017,$B195,'Daily Log'!$BB$18:$BB$1017),0)","v":0},{"$f":"IFERROR($E195*SUMIF('Daily Log'!$BD$18:$BD$1017,$B195,'Daily Log'!$BE$18:$BE$1017),0)","v":0},{"$f":"IFERROR($E195*SUMIF('Daily Log'!$BG$18:$BG$1017,$B195,'Daily Log'!$BH$18:$BH$1017),0)","v":0},{"$f":"IFERROR($E195*SUMIF('Daily Log'!$BJ$18:$BJ$1017,$B195,'Daily Log'!$BK$18:$BK$1017),0)","v":0},{"$f":"IFERROR($E195*SUMIF('Daily Log'!$BM$18:$BM$1017,$B195,'Daily Log'!$BN$18:$BN$1017),0)","v":0},{"$f":"IFERROR($E195*SUMIF('Daily Log'!$BP$18:$BP$1017,$B195,'Daily Log'!$BQ$18:$BQ$1017),0)","v":0},{"$f":"IFERROR($E195*SUMIF('Daily Log'!$BS$18:$BS$1017,$B195,'Daily Log'!$BT$18:$BT$1017),0)","v":0},{"$f":"IFERROR($E195*SUMIF('Daily Log'!$BV$18:$BV$1017,$B195,'Daily Log'!$BW$18:$BW$1017),0)","v":0},{"$f":"IFERROR($E195*SUMIF('Daily Log'!$BY$18:$BY$1017,$B195,'Daily Log'!$BZ$18:$BZ$1017),0)","v":0},{"$f":"IFERROR($E195*SUMIF('Daily Log'!$CB$18:$CB$1017,$B195,'Daily Log'!$CC$18:$CC$1017),0)","v":0},{"$f":"IFERROR($E195*SUMIF('Daily Log'!$CE$18:$CE$1017,$B195,'Daily Log'!$CF$18:$CF$1017),0)","v":0},{"$f":"IFERROR($E195*SUMIF('Daily Log'!$CH$18:$CH$1017,$B195,'Daily Log'!$CI$18:$CI$1017),0)","v":0},{"$f":"IFERROR($E195*SUMIF('Daily Log'!$CK$18:$CK$1017,$B195,'Daily Log'!$CL$18:$CL$1017),0)","v":0},{"$f":"IFERROR($E195*SUMIF('Daily Log'!$CN$18:$CN$1017,$B195,'Daily Log'!$CO$18:$CO$1017),0)","v":24}]
[null,"RQ09 ADD SAUCE GS",null,"REQUEST",null,0,{"$f":"IFERROR($E196*SUMIF('Daily Log'!$B$18:$B$1017,$B196,'Daily Log'!$C$18:$C$1017),0)","v":0},{"$f":"IFERROR($E196*SUMIF('Daily Log'!$E$18:$E$1017,$B196,'Daily Log'!$F$18:$F$1017),0)","v":0},{"$f":"IFERROR($E196*SUMIF('Daily Log'!$H$18:$H$1017,$B196,'Daily Log'!$I$18:$I$1017),0)","v":0},{"$f":"IFERROR($E196*SUMIF('Daily Log'!$K$18:$K$1017,$B196,'Daily Log'!$L$18:$L$1017),0)","v":0},{"$f":"IFERROR($E196*SUMIF('Daily Log'!$N$18:$N$1017,$B196,'Daily Log'!$O$18:$O$1017),0)","v":0},{"$f":"IFERROR($E196*SUMIF('Daily Log'!$Q$18:$Q$1017,$B196,'Daily Log'!$R$18:$R$1017),0)","v":0},{"$f":"IFERROR($E196*SUMIF('Daily Log'!$T$18:$T$1017,$B196,'Daily Log'!$U$18:$U$1017),0)","v":0},{"$f":"IFERROR($E196*SUMIF('Daily Log'!$W$18:$W$1017,$B196,'Daily Log'!$X$18:$X$1017),0)","v":0},{"$f":"IFERROR($E196*SUMIF('Daily Log'!$Z$18:$Z$1017,$B196,'Daily Log'!$AA$18:$AA$1017),0)","v":0},{"$f":"IFERROR($E196*SUMIF('Daily Log'!$AC$18:$AC$1017,$B196,'Daily Log'!$AD$18:$AD$1017),0)","v":0},{"$f":"IFERROR($E196*SUMIF('Daily Log'!$AF$18:$AF$1017,$B196,'Daily Log'!$AG$18:$AG$1017),0)","v":0},{"$f":"IFERROR($E196*SUMIF('Daily Log'!$AI$18:$AI$1017,$B196,'Daily Log'!$AJ$18:$AJ$1017),0)","v":0},{"$f":"IFERROR($E196*SUMIF('Daily Log'!$AL$18:$AL$1017,$B196,'Daily Log'!$AM$18:$AM$1017),0)","v":0},{"$f":"IFERROR($E196*SUMIF('Daily Log'!$AO$18:$AO$1017,$B196,'Daily Log'!$AP$18:$AP$1017),0)","v":0},{"$f":"IFERROR($E196*SUMIF('Daily Log'!$AR$18:$AR$1017,$B196,'Daily Log'!$AS$18:$AS$1017),0)","v":0},{"$f":"IFERROR($E196*SUMIF('Daily Log'!$AU$18:$AU$1017,$B196,'Daily Log'!$AV$18:$AV$1017),0)","v":0},{"$f":"IFERROR($E196*SUMIF('Daily Log'!$AX$18:$AX$1017,$B196,'Daily Log'!$AY$18:$AY$1017),0)","v":0},{"$f":"IFERROR($E196*SUMIF('Daily Log'!$BA$18:$BA$1017,$B196,'Daily Log'!$BB$18:$BB$1017),0)","v":0},{"$f":"IFERROR($E196*SUMIF('Daily Log'!$BD$18:$BD$1017,$B196,'Daily Log'!$BE$18:$BE$1017),0)","v":0},{"$f":"IFERROR($E196*SUMIF('Daily Log'!$BG$18:$BG$1017,$B196,'Daily Log'!$BH$18:$BH$1017),0)","v":0},{"$f":"IFERROR($E196*SUMIF('Daily Log'!$BJ$18:$BJ$1017,$B196,'Daily Log'!$BK$18:$BK$1017),0)","v":0},{"$f":"IFERROR($E196*SUMIF('Daily Log'!$BM$18:$BM$1017,$B196,'Daily Log'!$BN$18:$BN$1017),0)","v":0},{"$f":"IFERROR($E196*SUMIF('Daily Log'!$BP$18:$BP$1017,$B196,'Daily Log'!$BQ$18:$BQ$1017),0)","v":0},{"$f":"IFERROR($E196*SUMIF('Daily Log'!$BS$18:$BS$1017,$B196,'Daily Log'!$BT$18:$BT$1017),0)","v":0},{"$f":"IFERROR($E196*SUMIF('Daily Log'!$BV$18:$BV$1017,$B196,'Daily Log'!$BW$18:$BW$1017),0)","v":0},{"$f":"IFERROR($E196*SUMIF('Daily Log'!$BY$18:$BY$1017,$B196,'Daily Log'!$BZ$18:$BZ$1017),0)","v":0},{"$f":"IFERROR($E196*SUMIF('Daily Log'!$CB$18:$CB$1017,$B196,'Daily Log'!$CC$18:$CC$1017),0)","v":0},{"$f":"IFERROR($E196*SUMIF('Daily Log'!$CE$18:$CE$1017,$B196,'Daily Log'!$CF$18:$CF$1017),0)","v":0},{"$f":"IFERROR($E196*SUMIF('Daily Log'!$CH$18:$CH$1017,$B196,'Daily Log'!$CI$18:$CI$1017),0)","v":0},{"$f":"IFERROR($E196*SUMIF('Daily Log'!$CK$18:$CK$1017,$B196,'Daily Log'!$CL$18:$CL$1017),0)","v":0},{"$f":"IFERROR($E196*SUMIF('Daily Log'!$CN$18:$CN$1017,$B196,'Daily Log'!$CO$18:$CO$1017),0)","v":0}]
[null,"RQ10 ADD SAUCE MAYO",null,"REQUEST",1,42,{"$f":"IFERROR($E197*SUMIF('Daily Log'!$B$18:$B$1017,$B197,'Daily Log'!$C$18:$C$1017),0)","v":0},{"$f":"IFERROR($E197*SUMIF('Daily Log'!$E$18:$E$1017,$B197,'Daily Log'!$F$18:$F$1017),0)","v":0},{"$f":"IFERROR($E197*SUMIF('Daily Log'!$H$18:$H$1017,$B197,'Daily Log'!$I$18:$I$1017),0)","v":0},{"$f":"IFERROR($E197*SUMIF('Daily Log'!$K$18:$K$1017,$B197,'Daily Log'!$L$18:$L$1017),0)","v":0},{"$f":"IFERROR($E197*SUMIF('Daily Log'!$N$18:$N$1017,$B197,'Daily Log'!$O$18:$O$1017),0)","v":0},{"$f":"IFERROR($E197*SUMIF('Daily Log'!$Q$18:$Q$1017,$B197,'Daily Log'!$R$18:$R$1017),0)","v":0},{"$f":"IFERROR($E197*SUMIF('Daily Log'!$T$18:$T$1017,$B197,'Daily Log'!$U$18:$U$1017),0)","v":0},{"$f":"IFERROR($E197*SUMIF('Daily Log'!$W$18:$W$1017,$B197,'Daily Log'!$X$18:$X$1017),0)","v":0},{"$f":"IFERROR($E197*SUMIF('Daily Log'!$Z$18:$Z$1017,$B197,'Daily Log'!$AA$18:$AA$1017),0)","v":0},{"$f":"IFERROR($E197*SUMIF('Daily Log'!$AC$18:$AC$1017,$B197,'Daily Log'!$AD$18:$AD$1017),0)","v":0},{"$f":"IFERROR($E197*SUMIF('Daily Log'!$AF$18:$AF$1017,$B197,'Daily Log'!$AG$18:$AG$1017),0)","v":0},{"$f":"IFERROR($E197*SUMIF('Daily Log'!$AI$18:$AI$1017,$B197,'Daily Log'!$AJ$18:$AJ$1017),0)","v":0},{"$f":"IFERROR($E197*SUMIF('Daily Log'!$AL$18:$AL$1017,$B197,'Daily Log'!$AM$18:$AM$1017),0)","v":0},{"$f":"IFERROR($E197*SUMIF('Daily Log'!$AO$18:$AO$1017,$B197,'Daily Log'!$AP$18:$AP$1017),0)","v":0},{"$f":"IFERROR($E197*SUMIF('Daily Log'!$AR$18:$AR$1017,$B197,'Daily Log'!$AS$18:$AS$1017),0)","v":0},{"$f":"IFERROR($E197*SUMIF('Daily Log'!$AU$18:$AU$1017,$B197,'Daily Log'!$AV$18:$AV$1017),0)","v":0},{"$f":"IFERROR($E197*SUMIF('Daily Log'!$AX$18:$AX$1017,$B197,'Daily Log'!$AY$18:$AY$1017),0)","v":0},{"$f":"IFERROR($E197*SUMIF('Daily Log'!$BA$18:$BA$1017,$B197,'Daily Log'!$BB$18:$BB$1017),0)","v":0},{"$f":"IFERROR($E197*SUMIF('Daily Log'!$BD$18:$BD$1017,$B197,'Daily Log'!$BE$18:$BE$1017),0)","v":0},{"$f":"IFERROR($E197*SUMIF('Daily Log'!$BG$18:$BG$1017,$B197,'Daily Log'!$BH$18:$BH$1017),0)","v":0},{"$f":"IFERROR($E197*SUMIF('Daily Log'!$BJ$18:$BJ$1017,$B197,'Daily Log'!$BK$18:$BK$1017),0)","v":0},{"$f":"IFERROR($E197*SUMIF('Daily Log'!$BM$18:$BM$1017,$B197,'Daily Log'!$BN$18:$BN$1017),0)","v":0},{"$f":"IFERROR($E197*SUMIF('Daily Log'!$BP$18:$BP$1017,$B197,'Daily Log'!$BQ$18:$BQ$1017),0)","v":0},{"$f":"IFERROR($E197*SUMIF('Daily Log'!$BS$18:$BS$1017,$B197,'Daily Log'!$BT$18:$BT$1017),0)","v":0},{"$f":"IFERROR($E197*SUMIF('Daily Log'!$BV$18:$BV$1017,$B197,'Daily Log'!$BW$18:$BW$1017),0)","v":0},{"$f":"IFERROR($E197*SUMIF('Daily Log'!$BY$18:$BY$1017,$B197,'Daily Log'!$BZ$18:$BZ$1017),0)","v":0},{"$f":"IFERROR($E197*SUMIF('Daily Log'!$CB$18:$CB$1017,$B197,'Daily Log'!$CC$18:$CC$1017),0)","v":0},{"$f":"IFERROR($E197*SUMIF('Daily Log'!$CE$18:$CE$1017,$B197,'Daily Log'!$CF$18:$CF$1017),0)","v":0},{"$f":"IFERROR($E197*SUMIF('Daily Log'!$CH$18:$CH$1017,$B197,'Daily Log'!$CI$18:$CI$1017),0)","v":0},{"$f":"IFERROR($E197*SUMIF('Daily Log'!$CK$18:$CK$1017,$B197,'Daily Log'!$CL$18:$CL$1017),0)","v":0},{"$f":"IFERROR($E197*SUMIF('Daily Log'!$CN$18:$CN$1017,$B197,'Daily Log'!$CO$18:$CO$1017),0)","v":42}]
[null,"RQ11 ADD SAUCE MAMITE",null,"REQUEST",1,3,{"$f":"IFERROR($E198*SUMIF('Daily Log'!$B$18:$B$1017,$B198,'Daily Log'!$C$18:$C$1017),0)","v":0},{"$f":"IFERROR($E198*SUMIF('Daily Log'!$E$18:$E$1017,$B198,'Daily Log'!$F$18:$F$1017),0)","v":0},{"$f":"IFERROR($E198*SUMIF('Daily Log'!$H$18:$H$1017,$B198,'Daily Log'!$I$18:$I$1017),0)","v":0},{"$f":"IFERROR($E198*SUMIF('Daily Log'!$K$18:$K$1017,$B198,'Daily Log'!$L$18:$L$1017),0)","v":0},{"$f":"IFERROR($E198*SUMIF('Daily Log'!$N$18:$N$1017,$B198,'Daily Log'!$O$18:$O$1017),0)","v":0},{"$f":"IFERROR($E198*SUMIF('Daily Log'!$Q$18:$Q$1017,$B198,'Daily Log'!$R$18:$R$1017),0)","v":0},{"$f":"IFERROR($E198*SUMIF('Daily Log'!$T$18:$T$1017,$B198,'Daily Log'!$U$18:$U$1017),0)","v":0},{"$f":"IFERROR($E198*SUMIF('Daily Log'!$W$18:$W$1017,$B198,'Daily Log'!$X$18:$X$1017),0)","v":0},{"$f":"IFERROR($E198*SUMIF('Daily Log'!$Z$18:$Z$1017,$B198,'Daily Log'!$AA$18:$AA$1017),0)","v":0},{"$f":"IFERROR($E198*SUMIF('Daily Log'!$AC$18:$AC$1017,$B198,'Daily Log'!$AD$18:$AD$1017),0)","v":0},{"$f":"IFERROR($E198*SUMIF('Daily Log'!$AF$18:$AF$1017,$B198,'Daily Log'!$AG$18:$AG$1017),0)","v":0},{"$f":"IFERROR($E198*SUMIF('Daily Log'!$AI$18:$AI$1017,$B198,'Daily Log'!$AJ$18:$AJ$1017),0)","v":0},{"$f":"IFERROR($E198*SUMIF('Daily Log'!$AL$18:$AL$1017,$B198,'Daily Log'!$AM$18:$AM$1017),0)","v":0},{"$f":"IFERROR($E198*SUMIF('Daily Log'!$AO$18:$AO$1017,$B198,'Daily Log'!$AP$18:$AP$1017),0)","v":0},{"$f":"IFERROR($E198*SUMIF('Daily Log'!$AR$18:$AR$1017,$B198,'Daily Log'!$AS$18:$AS$1017),0)","v":0},{"$f":"IFERROR($E198*SUMIF('Daily Log'!$AU$18:$AU$1017,$B198,'Daily Log'!$AV$18:$AV$1017),0)","v":0},{"$f":"IFERROR($E198*SUMIF('Daily Log'!$AX$18:$AX$1017,$B198,'Daily Log'!$AY$18:$AY$1017),0)","v":0},{"$f":"IFERROR($E198*SUMIF('Daily Log'!$BA$18:$BA$1017,$B198,'Daily Log'!$BB$18:$BB$1017),0)","v":0},{"$f":"IFERROR($E198*SUMIF('Daily Log'!$BD$18:$BD$1017,$B198,'Daily Log'!$BE$18:$BE$1017),0)","v":0},{"$f":"IFERROR($E198*SUMIF('Daily Log'!$BG$18:$BG$1017,$B198,'Daily Log'!$BH$18:$BH$1017),0)","v":0},{"$f":"IFERROR($E198*SUMIF('Daily Log'!$BJ$18:$BJ$1017,$B198,'Daily Log'!$BK$18:$BK$1017),0)","v":0},{"$f":"IFERROR($E198*SUMIF('Daily Log'!$BM$18:$BM$1017,$B198,'Daily Log'!$BN$18:$BN$1017),0)","v":0},{"$f":"IFERROR($E198*SUMIF('Daily Log'!$BP$18:$BP$1017,$B198,'Daily Log'!$BQ$18:$BQ$1017),0)","v":0},{"$f":"IFERROR($E198*SUMIF('Daily Log'!$BS$18:$BS$1017,$B198,'Daily Log'!$BT$18:$BT$1017),0)","v":0},{"$f":"IFERROR($E198*SUMIF('Daily Log'!$BV$18:$BV$1017,$B198,'Daily Log'!$BW$18:$BW$1017),0)","v":0},{"$f":"IFERROR($E198*SUMIF('Daily Log'!$BY$18:$BY$1017,$B198,'Daily Log'!$BZ$18:$BZ$1017),0)","v":0},{"$f":"IFERROR($E198*SUMIF('Daily Log'!$CB$18:$CB$1017,$B198,'Daily Log'!$CC$18:$CC$1017),0)","v":0},{"$f":"IFERROR($E198*SUMIF('Daily Log'!$CE$18:$CE$1017,$B198,'Daily Log'!$CF$18:$CF$1017),0)","v":0},{"$f":"IFERROR($E198*SUMIF('Daily Log'!$CH$18:$CH$1017,$B198,'Daily Log'!$CI$18:$CI$1017),0)","v":0},{"$f":"IFERROR($E198*SUMIF('Daily Log'!$CK$18:$CK$1017,$B198,'Daily Log'!$CL$18:$CL$1017),0)","v":0},{"$f":"IFERROR($E198*SUMIF('Daily Log'!$CN$18:$CN$1017,$B198,'Daily Log'!$CO$18:$CO$1017),0)","v":3}]
[null,"RQ12 ADD SAUCE MR",null,"REQUEST",1,7,{"$f":"IFERROR($E199*SUMIF('Daily Log'!$B$18:$B$1017,$B199,'Daily Log'!$C$18:$C$1017),0)","v":0},{"$f":"IFERROR($E199*SUMIF('Daily Log'!$E$18:$E$1017,$B199,'Daily Log'!$F$18:$F$1017),0)","v":0},{"$f":"IFERROR($E199*SUMIF('Daily Log'!$H$18:$H$1017,$B199,'Daily Log'!$I$18:$I$1017),0)","v":0},{"$f":"IFERROR($E199*SUMIF('Daily Log'!$K$18:$K$1017,$B199,'Daily Log'!$L$18:$L$1017),0)","v":0},{"$f":"IFERROR($E199*SUMIF('Daily Log'!$N$18:$N$1017,$B199,'Daily Log'!$O$18:$O$1017),0)","v":0},{"$f":"IFERROR($E199*SUMIF('Daily Log'!$Q$18:$Q$1017,$B199,'Daily Log'!$R$18:$R$1017),0)","v":0},{"$f":"IFERROR($E199*SUMIF('Daily Log'!$T$18:$T$1017,$B199,'Daily Log'!$U$18:$U$1017),0)","v":0},{"$f":"IFERROR($E199*SUMIF('Daily Log'!$W$18:$W$1017,$B199,'Daily Log'!$X$18:$X$1017),0)","v":0},{"$f":"IFERROR($E199*SUMIF('Daily Log'!$Z$18:$Z$1017,$B199,'Daily Log'!$AA$18:$AA$1017),0)","v":0},{"$f":"IFERROR($E199*SUMIF('Daily Log'!$AC$18:$AC$1017,$B199,'Daily Log'!$AD$18:$AD$1017),0)","v":0},{"$f":"IFERROR($E199*SUMIF('Daily Log'!$AF$18:$AF$1017,$B199,'Daily Log'!$AG$18:$AG$1017),0)","v":0},{"$f":"IFERROR($E199*SUMIF('Daily Log'!$AI$18:$AI$1017,$B199,'Daily Log'!$AJ$18:$AJ$1017),0)","v":0},{"$f":"IFERROR($E199*SUMIF('Daily Log'!$AL$18:$AL$1017,$B199,'Daily Log'!$AM$18:$AM$1017),0)","v":0},{"$f":"IFERROR($E199*SUMIF('Daily Log'!$AO$18:$AO$1017,$B199,'Daily Log'!$AP$18:$AP$1017),0)","v":0},{"$f":"IFERROR($E199*SUMIF('Daily Log'!$AR$18:$AR$1017,$B199,'Daily Log'!$AS$18:$AS$1017),0)","v":0},{"$f":"IFERROR($E199*SUMIF('Daily Log'!$AU$18:$AU$1017,$B199,'Daily Log'!$AV$18:$AV$1017),0)","v":0},{"$f":"IFERROR($E199*SUMIF('Daily Log'!$AX$18:$AX$1017,$B199,'Daily Log'!$AY$18:$AY$1017),0)","v":0},{"$f":"IFERROR($E199*SUMIF('Daily Log'!$BA$18:$BA$1017,$B199,'Daily Log'!$BB$18:$BB$1017),0)","v":0},{"$f":"IFERROR($E199*SUMIF('Daily Log'!$BD$18:$BD$1017,$B199,'Daily Log'!$BE$18:$BE$1017),0)","v":0},{"$f":"IFERROR($E199*SUMIF('Daily Log'!$BG$18:$BG$1017,$B199,'Daily Log'!$BH$18:$BH$1017),0)","v":0},{"$f":"IFERROR($E199*SUMIF('Daily Log'!$BJ$18:$BJ$1017,$B199,'Daily Log'!$BK$18:$BK$1017),0)","v":0},{"$f":"IFERROR($E199*SUMIF('Daily Log'!$BM$18:$BM$1017,$B199,'Daily Log'!$BN$18:$BN$1017),0)","v":0},{"$f":"IFERROR($E199*SUMIF('Daily Log'!$BP$18:$BP$1017,$B199,'Daily Log'!$BQ$18:$BQ$1017),0)","v":0},{"$f":"IFERROR($E199*SUMIF('Daily Log'!$BS$18:$BS$1017,$B199,'Daily Log'!$BT$18:$BT$1017),0)","v":0},{"$f":"IFERROR($E199*SUMIF('Daily Log'!$BV$18:$BV$1017,$B199,'Daily Log'!$BW$18:$BW$1017),0)","v":0},{"$f":"IFERROR($E199*SUMIF('Daily Log'!$BY$18:$BY$1017,$B199,'Daily Log'!$BZ$18:$BZ$1017),0)","v":0},{"$f":"IFERROR($E199*SUMIF('Daily Log'!$CB$18:$CB$1017,$B199,'Daily Log'!$CC$18:$CC$1017),0)","v":0},{"$f":"IFERROR($E199*SUMIF('Daily Log'!$CE$18:$CE$1017,$B199,'Daily Log'!$CF$18:$CF$1017),0)","v":0},{"$f":"IFERROR($E199*SUMIF('Daily Log'!$CH$18:$CH$1017,$B199,'Daily Log'!$CI$18:$CI$1017),0)","v":0},{"$f":"IFERROR($E199*SUMIF('Daily Log'!$CK$18:$CK$1017,$B199,'Daily Log'!$CL$18:$CL$1017),0)","v":0},{"$f":"IFERROR($E199*SUMIF('Daily Log'!$CN$18:$CN$1017,$B199,'Daily Log'!$CO$18:$CO$1017),0)","v":7}]
[null,"RQ13 ADD SAUCE SAMBAL",null,"REQUEST",null,0,{"$f":"IFERROR($E200*SUMIF('Daily Log'!$B$18:$B$1017,$B200,'Daily Log'!$C$18:$C$1017),0)","v":0},{"$f":"IFERROR($E200*SUMIF('Daily Log'!$E$18:$E$1017,$B200,'Daily Log'!$F$18:$F$1017),0)","v":0},{"$f":"IFERROR($E200*SUMIF('Daily Log'!$H$18:$H$1017,$B200,'Daily Log'!$I$18:$I$1017),0)","v":0},{"$f":"IFERROR($E200*SUMIF('Daily Log'!$K$18:$K$1017,$B200,'Daily Log'!$L$18:$L$1017),0)","v":0},{"$f":"IFERROR($E200*SUMIF('Daily Log'!$N$18:$N$1017,$B200,'Daily Log'!$O$18:$O$1017),0)","v":0},{"$f":"IFERROR($E200*SUMIF('Daily Log'!$Q$18:$Q$1017,$B200,'Daily Log'!$R$18:$R$1017),0)","v":0},{"$f":"IFERROR($E200*SUMIF('Daily Log'!$T$18:$T$1017,$B200,'Daily Log'!$U$18:$U$1017),0)","v":0},{"$f":"IFERROR($E200*SUMIF('Daily Log'!$W$18:$W$1017,$B200,'Daily Log'!$X$18:$X$1017),0)","v":0},{"$f":"IFERROR($E200*SUMIF('Daily Log'!$Z$18:$Z$1017,$B200,'Daily Log'!$AA$18:$AA$1017),0)","v":0},{"$f":"IFERROR($E200*SUMIF('Daily Log'!$AC$18:$AC$1017,$B200,'Daily Log'!$AD$18:$AD$1017),0)","v":0},{"$f":"IFERROR($E200*SUMIF('Daily Log'!$AF$18:$AF$1017,$B200,'Daily Log'!$AG$18:$AG$1017),0)","v":0},{"$f":"IFERROR($E200*SUMIF('Daily Log'!$AI$18:$AI$1017,$B200,'Daily Log'!$AJ$18:$AJ$1017),0)","v":0},{"$f":"IFERROR($E200*SUMIF('Daily Log'!$AL$18:$AL$1017,$B200,'Daily Log'!$AM$18:$AM$1017),0)","v":0},{"$f":"IFERROR($E200*SUMIF('Daily Log'!$AO$18:$AO$1017,$B200,'Daily Log'!$AP$18:$AP$1017),0)","v":0},{"$f":"IFERROR($E200*SUMIF('Daily Log'!$AR$18:$AR$1017,$B200,'Daily Log'!$AS$18:$AS$1017),0)","v":0},{"$f":"IFERROR($E200*SUMIF('Daily Log'!$AU$18:$AU$1017,$B200,'Daily Log'!$AV$18:$AV$1017),0)","v":0},{"$f":"IFERROR($E200*SUMIF('Daily Log'!$AX$18:$AX$1017,$B200,'Daily Log'!$AY$18:$AY$1017),0)","v":0},{"$f":"IFERROR($E200*SUMIF('Daily Log'!$BA$18:$BA$1017,$B200,'Daily Log'!$BB$18:$BB$1017),0)","v":0},{"$f":"IFERROR($E200*SUMIF('Daily Log'!$BD$18:$BD$1017,$B200,'Daily Log'!$BE$18:$BE$1017),0)","v":0},{"$f":"IFERROR($E200*SUMIF('Daily Log'!$BG$18:$BG$1017,$B200,'Daily Log'!$BH$18:$BH$1017),0)","v":0},{"$f":"IFERROR($E200*SUMIF('Daily Log'!$BJ$18:$BJ$1017,$B200,'Daily Log'!$BK$18:$BK$1017),0)","v":0},{"$f":"IFERROR($E200*SUMIF('Daily Log'!$BM$18:$BM$1017,$B200,'Daily Log'!$BN$18:$BN$1017),0)","v":0},{"$f":"IFERROR($E200*SUMIF('Daily Log'!$BP$18:$BP$1017,$B200,'Daily Log'!$BQ$18:$BQ$1017),0)","v":0},{"$f":"IFERROR($E200*SUMIF('Daily Log'!$BS$18:$BS$1017,$B200,'Daily Log'!$BT$18:$BT$1017),0)","v":0},{"$f":"IFERROR($E200*SUMIF('Daily Log'!$BV$18:$BV$1017,$B200,'Daily Log'!$BW$18:$BW$1017),0)","v":0},{"$f":"IFERROR($E200*SUMIF('Daily Log'!$BY$18:$BY$1017,$B200,'Daily Log'!$BZ$18:$BZ$1017),0)","v":0},{"$f":"IFERROR($E200*SUMIF('Daily Log'!$CB$18:$CB$1017,$B200,'Daily Log'!$CC$18:$CC$1017),0)","v":0},{"$f":"IFERROR($E200*SUMIF('Daily Log'!$CE$18:$CE$1017,$B200,'Daily Log'!$CF$18:$CF$1017),0)","v":0},{"$f":"IFERROR($E200*SUMIF('Daily Log'!$CH$18:$CH$1017,$B200,'Daily Log'!$CI$18:$CI$1017),0)","v":0},{"$f":"IFERROR($E200*SUMIF('Daily Log'!$CK$18:$CK$1017,$B200,'Daily Log'!$CL$18:$CL$1017),0)","v":0},{"$f":"IFERROR($E200*SUMIF('Daily Log'!$CN$18:$CN$1017,$B200,'Daily Log'!$CO$18:$CO$1017),0)","v":0}]
[null,"RQ14 ADD SAUCE TARTAR",null,"REQUEST",1,4,{"$f":"IFERROR($E201*SUMIF('Daily Log'!$B$18:$B$1017,$B201,'Daily Log'!$C$18:$C$1017),0)","v":0},{"$f":"IFERROR($E201*SUMIF('Daily Log'!$E$18:$E$1017,$B201,'Daily Log'!$F$18:$F$1017),0)","v":0},{"$f":"IFERROR($E201*SUMIF('Daily Log'!$H$18:$H$1017,$B201,'Daily Log'!$I$18:$I$1017),0)","v":0},{"$f":"IFERROR($E201*SUMIF('Daily Log'!$K$18:$K$1017,$B201,'Daily Log'!$L$18:$L$1017),0)","v":0},{"$f":"IFERROR($E201*SUMIF('Daily Log'!$N$18:$N$1017,$B201,'Daily Log'!$O$18:$O$1017),0)","v":0},{"$f":"IFERROR($E201*SUMIF('Daily Log'!$Q$18:$Q$1017,$B201,'Daily Log'!$R$18:$R$1017),0)","v":0},{"$f":"IFERROR($E201*SUMIF('Daily Log'!$T$18:$T$1017,$B201,'Daily Log'!$U$18:$U$1017),0)","v":0},{"$f":"IFERROR($E201*SUMIF('Daily Log'!$W$18:$W$1017,$B201,'Daily Log'!$X$18:$X$1017),0)","v":0},{"$f":"IFERROR($E201*SUMIF('Daily Log'!$Z$18:$Z$1017,$B201,'Daily Log'!$AA$18:$AA$1017),0)","v":0},{"$f":"IFERROR($E201*SUMIF('Daily Log'!$AC$18:$AC$1017,$B201,'Daily Log'!$AD$18:$AD$1017),0)","v":0},{"$f":"IFERROR($E201*SUMIF('Daily Log'!$AF$18:$AF$1017,$B201,'Daily Log'!$AG$18:$AG$1017),0)","v":0},{"$f":"IFERROR($E201*SUMIF('Daily Log'!$AI$18:$AI$1017,$B201,'Daily Log'!$AJ$18:$AJ$1017),0)","v":0},{"$f":"IFERROR($E201*SUMIF('Daily Log'!$AL$18:$AL$1017,$B201,'Daily Log'!$AM$18:$AM$1017),0)","v":0},{"$f":"IFERROR($E201*SUMIF('Daily Log'!$AO$18:$AO$1017,$B201,'Daily Log'!$AP$18:$AP$1017),0)","v":0},{"$f":"IFERROR($E201*SUMIF('Daily Log'!$AR$18:$AR$1017,$B201,'Daily Log'!$AS$18:$AS$1017),0)","v":0},{"$f":"IFERROR($E201*SUMIF('Daily Log'!$AU$18:$AU$1017,$B201,'Daily Log'!$AV$18:$AV$1017),0)","v":0},{"$f":"IFERROR($E201*SUMIF('Daily Log'!$AX$18:$AX$1017,$B201,'Daily Log'!$AY$18:$AY$1017),0)","v":0},{"$f":"IFERROR($E201*SUMIF('Daily Log'!$BA$18:$BA$1017,$B201,'Daily Log'!$BB$18:$BB$1017),0)","v":0},{"$f":"IFERROR($E201*SUMIF('Daily Log'!$BD$18:$BD$1017,$B201,'Daily Log'!$BE$18:$BE$1017),0)","v":0},{"$f":"IFERROR($E201*SUMIF('Daily Log'!$BG$18:$BG$1017,$B201,'Daily Log'!$BH$18:$BH$1017),0)","v":0},{"$f":"IFERROR($E201*SUMIF('Daily Log'!$BJ$18:$BJ$1017,$B201,'Daily Log'!$BK$18:$BK$1017),0)","v":0},{"$f":"IFERROR($E201*SUMIF('Daily Log'!$BM$18:$BM$1017,$B201,'Daily Log'!$BN$18:$BN$1017),0)","v":0},{"$f":"IFERROR($E201*SUMIF('Daily Log'!$BP$18:$BP$1017,$B201,'Daily Log'!$BQ$18:$BQ$1017),0)","v":0},{"$f":"IFERROR($E201*SUMIF('Daily Log'!$BS$18:$BS$1017,$B201,'Daily Log'!$BT$18:$BT$1017),0)","v":0},{"$f":"IFERROR($E201*SUMIF('Daily Log'!$BV$18:$BV$1017,$B201,'Daily Log'!$BW$18:$BW$1017),0)","v":0},{"$f":"IFERROR($E201*SUMIF('Daily Log'!$BY$18:$BY$1017,$B201,'Daily Log'!$BZ$18:$BZ$1017),0)","v":0},{"$f":"IFERROR($E201*SUMIF('Daily Log'!$CB$18:$CB$1017,$B201,'Daily Log'!$CC$18:$CC$1017),0)","v":0},{"$f":"IFERROR($E201*SUMIF('Daily Log'!$CE$18:$CE$1017,$B201,'Daily Log'!$CF$18:$CF$1017),0)","v":0},{"$f":"IFERROR($E201*SUMIF('Daily Log'!$CH$18:$CH$1017,$B201,'Daily Log'!$CI$18:$CI$1017),0)","v":0},{"$f":"IFERROR($E201*SUMIF('Daily Log'!$CK$18:$CK$1017,$B201,'Daily Log'!$CL$18:$CL$1017),0)","v":0},{"$f":"IFERROR($E201*SUMIF('Daily Log'!$CN$18:$CN$1017,$B201,'Daily Log'!$CO$18:$CO$1017),0)","v":4}]
[null,"RQ15 ADD SAUCE THAI",null,"REQUEST",1,0,{"$f":"IFERROR($E202*SUMIF('Daily Log'!$B$18:$B$1017,$B202,'Daily Log'!$C$18:$C$1017),0)","v":0},{"$f":"IFERROR($E202*SUMIF('Daily Log'!$E$18:$E$1017,$B202,'Daily Log'!$F$18:$F$1017),0)","v":0},{"$f":"IFERROR($E202*SUMIF('Daily Log'!$H$18:$H$1017,$B202,'Daily Log'!$I$18:$I$1017),0)","v":0},{"$f":"IFERROR($E202*SUMIF('Daily Log'!$K$18:$K$1017,$B202,'Daily Log'!$L$18:$L$1017),0)","v":0},{"$f":"IFERROR($E202*SUMIF('Daily Log'!$N$18:$N$1017,$B202,'Daily Log'!$O$18:$O$1017),0)","v":0},{"$f":"IFERROR($E202*SUMIF('Daily Log'!$Q$18:$Q$1017,$B202,'Daily Log'!$R$18:$R$1017),0)","v":0},{"$f":"IFERROR($E202*SUMIF('Daily Log'!$T$18:$T$1017,$B202,'Daily Log'!$U$18:$U$1017),0)","v":0},{"$f":"IFERROR($E202*SUMIF('Daily Log'!$W$18:$W$1017,$B202,'Daily Log'!$X$18:$X$1017),0)","v":0},{"$f":"IFERROR($E202*SUMIF('Daily Log'!$Z$18:$Z$1017,$B202,'Daily Log'!$AA$18:$AA$1017),0)","v":0},{"$f":"IFERROR($E202*SUMIF('Daily Log'!$AC$18:$AC$1017,$B202,'Daily Log'!$AD$18:$AD$1017),0)","v":0},{"$f":"IFERROR($E202*SUMIF('Daily Log'!$AF$18:$AF$1017,$B202,'Daily Log'!$AG$18:$AG$1017),0)","v":0},{"$f":"IFERROR($E202*SUMIF('Daily Log'!$AI$18:$AI$1017,$B202,'Daily Log'!$AJ$18:$AJ$1017),0)","v":0},{"$f":"IFERROR($E202*SUMIF('Daily Log'!$AL$18:$AL$1017,$B202,'Daily Log'!$AM$18:$AM$1017),0)","v":0},{"$f":"IFERROR($E202*SUMIF('Daily Log'!$AO$18:$AO$1017,$B202,'Daily Log'!$AP$18:$AP$1017),0)","v":0},{"$f":"IFERROR($E202*SUMIF('Daily Log'!$AR$18:$AR$1017,$B202,'Daily Log'!$AS$18:$AS$1017),0)","v":0},{"$f":"IFERROR($E202*SUMIF('Daily Log'!$AU$18:$AU$1017,$B202,'Daily Log'!$AV$18:$AV$1017),0)","v":0},{"$f":"IFERROR($E202*SUMIF('Daily Log'!$AX$18:$AX$1017,$B202,'Daily Log'!$AY$18:$AY$1017),0)","v":0},{"$f":"IFERROR($E202*SUMIF('Daily Log'!$BA$18:$BA$1017,$B202,'Daily Log'!$BB$18:$BB$1017),0)","v":0},{"$f":"IFERROR($E202*SUMIF('Daily Log'!$BD$18:$BD$1017,$B202,'Daily Log'!$BE$18:$BE$1017),0)","v":0},{"$f":"IFERROR($E202*SUMIF('Daily Log'!$BG$18:$BG$1017,$B202,'Daily Log'!$BH$18:$BH$1017),0)","v":0},{"$f":"IFERROR($E202*SUMIF('Daily Log'!$BJ$18:$BJ$1017,$B202,'Daily Log'!$BK$18:$BK$1017),0)","v":0},{"$f":"IFERROR($E202*SUMIF('Daily Log'!$BM$18:$BM$1017,$B202,'Daily Log'!$BN$18:$BN$1017),0)","v":0},{"$f":"IFERROR($E202*SUMIF('Daily Log'!$BP$18:$BP$1017,$B202,'Daily Log'!$BQ$18:$BQ$1017),0)","v":0},{"$f":"IFERROR($E202*SUMIF('Daily Log'!$BS$18:$BS$1017,$B202,'Daily Log'!$BT$18:$BT$1017),0)","v":0},{"$f":"IFERROR($E202*SUMIF('Daily Log'!$BV$18:$BV$1017,$B202,'Daily Log'!$BW$18:$BW$1017),0)","v":0},{"$f":"IFERROR($E202*SUMIF('Daily Log'!$BY$18:$BY$1017,$B202,'Daily Log'!$BZ$18:$BZ$1017),0)","v":0},{"$f":"IFERROR($E202*SUMIF('Daily Log'!$CB$18:$CB$1017,$B202,'Daily Log'!$CC$18:$CC$1017),0)","v":0},{"$f":"IFERROR($E202*SUMIF('Daily Log'!$CE$18:$CE$1017,$B202,'Daily Log'!$CF$18:$CF$1017),0)","v":0},{"$f":"IFERROR($E202*SUMIF('Daily Log'!$CH$18:$CH$1017,$B202,'Daily Log'!$CI$18:$CI$1017),0)","v":0},{"$f":"IFERROR($E202*SUMIF('Daily Log'!$CK$18:$CK$1017,$B202,'Daily Log'!$CL$18:$CL$1017),0)","v":0},{"$f":"IFERROR($E202*SUMIF('Daily Log'!$CN$18:$CN$1017,$B202,'Daily Log'!$CO$18:$CO$1017),0)","v":0}]
[null,"RQ16 ADD SAUCE TOMATO",null,"REQUEST",1,14,{"$f":"IFERROR($E203*SUMIF('Daily Log'!$B$18:$B$1017,$B203,'Daily Log'!$C$18:$C$1017),0)","v":0},{"$f":"IFERROR($E203*SUMIF('Daily Log'!$E$18:$E$1017,$B203,'Daily Log'!$F$18:$F$1017),0)","v":0},{"$f":"IFERROR($E203*SUMIF('Daily Log'!$H$18:$H$1017,$B203,'Daily Log'!$I$18:$I$1017),0)","v":0},{"$f":"IFERROR($E203*SUMIF('Daily Log'!$K$18:$K$1017,$B203,'Daily Log'!$L$18:$L$1017),0)","v":0},{"$f":"IFERROR($E203*SUMIF('Daily Log'!$N$18:$N$1017,$B203,'Daily Log'!$O$18:$O$1017),0)","v":0},{"$f":"IFERROR($E203*SUMIF('Daily Log'!$Q$18:$Q$1017,$B203,'Daily Log'!$R$18:$R$1017),0)","v":0},{"$f":"IFERROR($E203*SUMIF('Daily Log'!$T$18:$T$1017,$B203,'Daily Log'!$U$18:$U$1017),0)","v":0},{"$f":"IFERROR($E203*SUMIF('Daily Log'!$W$18:$W$1017,$B203,'Daily Log'!$X$18:$X$1017),0)","v":0},{"$f":"IFERROR($E203*SUMIF('Daily Log'!$Z$18:$Z$1017,$B203,'Daily Log'!$AA$18:$AA$1017),0)","v":0},{"$f":"IFERROR($E203*SUMIF('Daily Log'!$AC$18:$AC$1017,$B203,'Daily Log'!$AD$18:$AD$1017),0)","v":0},{"$f":"IFERROR($E203*SUMIF('Daily Log'!$AF$18:$AF$1017,$B203,'Daily Log'!$AG$18:$AG$1017),0)","v":0},{"$f":"IFERROR($E203*SUMIF('Daily Log'!$AI$18:$AI$1017,$B203,'Daily Log'!$AJ$18:$AJ$1017),0)","v":0},{"$f":"IFERROR($E203*SUMIF('Daily Log'!$AL$18:$AL$1017,$B203,'Daily Log'!$AM$18:$AM$1017),0)","v":0},{"$f":"IFERROR($E203*SUMIF('Daily Log'!$AO$18:$AO$1017,$B203,'Daily Log'!$AP$18:$AP$1017),0)","v":0},{"$f":"IFERROR($E203*SUMIF('Daily Log'!$AR$18:$AR$1017,$B203,'Daily Log'!$AS$18:$AS$1017),0)","v":0},{"$f":"IFERROR($E203*SUMIF('Daily Log'!$AU$18:$AU$1017,$B203,'Daily Log'!$AV$18:$AV$1017),0)","v":0},{"$f":"IFERROR($E203*SUMIF('Daily Log'!$AX$18:$AX$1017,$B203,'Daily Log'!$AY$18:$AY$1017),0)","v":0},{"$f":"IFERROR($E203*SUMIF('Daily Log'!$BA$18:$BA$1017,$B203,'Daily Log'!$BB$18:$BB$1017),0)","v":0},{"$f":"IFERROR($E203*SUMIF('Daily Log'!$BD$18:$BD$1017,$B203,'Daily Log'!$BE$18:$BE$1017),0)","v":0},{"$f":"IFERROR($E203*SUMIF('Daily Log'!$BG$18:$BG$1017,$B203,'Daily Log'!$BH$18:$BH$1017),0)","v":0},{"$f":"IFERROR($E203*SUMIF('Daily Log'!$BJ$18:$BJ$1017,$B203,'Daily Log'!$BK$18:$BK$1017),0)","v":0},{"$f":"IFERROR($E203*SUMIF('Daily Log'!$BM$18:$BM$1017,$B203,'Daily Log'!$BN$18:$BN$1017),0)","v":0},{"$f":"IFERROR($E203*SUMIF('Daily Log'!$BP$18:$BP$1017,$B203,'Daily Log'!$BQ$18:$BQ$1017),0)","v":0},{"$f":"IFERROR($E203*SUMIF('Daily Log'!$BS$18:$BS$1017,$B203,'Daily Log'!$BT$18:$BT$1017),0)","v":0},{"$f":"IFERROR($E203*SUMIF('Daily Log'!$BV$18:$BV$1017,$B203,'Daily Log'!$BW$18:$BW$1017),0)","v":0},{"$f":"IFERROR($E203*SUMIF('Daily Log'!$BY$18:$BY$1017,$B203,'Daily Log'!$BZ$18:$BZ$1017),0)","v":0},{"$f":"IFERROR($E203*SUMIF('Daily Log'!$CB$18:$CB$1017,$B203,'Daily Log'!$CC$18:$CC$1017),0)","v":0},{"$f":"IFERROR($E203*SUMIF('Daily Log'!$CE$18:$CE$1017,$B203,'Daily Log'!$CF$18:$CF$1017),0)","v":0},{"$f":"IFERROR($E203*SUMIF('Daily Log'!$CH$18:$CH$1017,$B203,'Daily Log'!$CI$18:$CI$1017),0)","v":0},{"$f":"IFERROR($E203*SUMIF('Daily Log'!$CK$18:$CK$1017,$B203,'Daily Log'!$CL$18:$CL$1017),0)","v":0},{"$f":"IFERROR($E203*SUMIF('Daily Log'!$CN$18:$CN$1017,$B203,'Daily Log'!$CO$18:$CO$1017),0)","v":14}]
[null,"RL01 71101:THAI CHK",null,"REDEEMED",1,0,{"$f":"IFERROR($E204*SUMIF('Daily Log'!$B$18:$B$1017,$B204,'Daily Log'!$C$18:$C$1017),0)","v":0},{"$f":"IFERROR($E204*SUMIF('Daily Log'!$E$18:$E$1017,$B204,'Daily Log'!$F$18:$F$1017),0)","v":0},{"$f":"IFERROR($E204*SUMIF('Daily Log'!$H$18:$H$1017,$B204,'Daily Log'!$I$18:$I$1017),0)","v":0},{"$f":"IFERROR($E204*SUMIF('Daily Log'!$K$18:$K$1017,$B204,'Daily Log'!$L$18:$L$1017),0)","v":0},{"$f":"IFERROR($E204*SUMIF('Daily Log'!$N$18:$N$1017,$B204,'Daily Log'!$O$18:$O$1017),0)","v":0},{"$f":"IFERROR($E204*SUMIF('Daily Log'!$Q$18:$Q$1017,$B204,'Daily Log'!$R$18:$R$1017),0)","v":0},{"$f":"IFERROR($E204*SUMIF('Daily Log'!$T$18:$T$1017,$B204,'Daily Log'!$U$18:$U$1017),0)","v":0},{"$f":"IFERROR($E204*SUMIF('Daily Log'!$W$18:$W$1017,$B204,'Daily Log'!$X$18:$X$1017),0)","v":0},{"$f":"IFERROR($E204*SUMIF('Daily Log'!$Z$18:$Z$1017,$B204,'Daily Log'!$AA$18:$AA$1017),0)","v":0},{"$f":"IFERROR($E204*SUMIF('Daily Log'!$AC$18:$AC$1017,$B204,'Daily Log'!$AD$18:$AD$1017),0)","v":0},{"$f":"IFERROR($E204*SUMIF('Daily Log'!$AF$18:$AF$1017,$B204,'Daily Log'!$AG$18:$AG$1017),0)","v":0},{"$f":"IFERROR($E204*SUMIF('Daily Log'!$AI$18:$AI$1017,$B204,'Daily Log'!$AJ$18:$AJ$1017),0)","v":0},{"$f":"IFERROR($E204*SUMIF('Daily Log'!$AL$18:$AL$1017,$B204,'Daily Log'!$AM$18:$AM$1017),0)","v":0},{"$f":"IFERROR($E204*SUMIF('Daily Log'!$AO$18:$AO$1017,$B204,'Daily Log'!$AP$18:$AP$1017),0)","v":0},{"$f":"IFERROR($E204*SUMIF('Daily Log'!$AR$18:$AR$1017,$B204,'Daily Log'!$AS$18:$AS$1017),0)","v":0},{"$f":"IFERROR($E204*SUMIF('Daily Log'!$AU$18:$AU$1017,$B204,'Daily Log'!$AV$18:$AV$1017),0)","v":0},{"$f":"IFERROR($E204*SUMIF('Daily Log'!$AX$18:$AX$1017,$B204,'Daily Log'!$AY$18:$AY$1017),0)","v":0},{"$f":"IFERROR($E204*SUMIF('Daily Log'!$BA$18:$BA$1017,$B204,'Daily Log'!$BB$18:$BB$1017),0)","v":0},{"$f":"IFERROR($E204*SUMIF('Daily Log'!$BD$18:$BD$1017,$B204,'Daily Log'!$BE$18:$BE$1017),0)","v":0},{"$f":"IFERROR($E204*SUMIF('Daily Log'!$BG$18:$BG$1017,$B204,'Daily Log'!$BH$18:$BH$1017),0)","v":0},{"$f":"IFERROR($E204*SUMIF('Daily Log'!$BJ$18:$BJ$1017,$B204,'Daily Log'!$BK$18:$BK$1017),0)","v":0},{"$f":"IFERROR($E204*SUMIF('Daily Log'!$BM$18:$BM$1017,$B204,'Daily Log'!$BN$18:$BN$1017),0)","v":0},{"$f":"IFERROR($E204*SUMIF('Daily Log'!$BP$18:$BP$1017,$B204,'Daily Log'!$BQ$18:$BQ$1017),0)","v":0},{"$f":"IFERROR($E204*SUMIF('Daily Log'!$BS$18:$BS$1017,$B204,'Daily Log'!$BT$18:$BT$1017),0)","v":0},{"$f":"IFERROR($E204*SUMIF('Daily Log'!$BV$18:$BV$1017,$B204,'Daily Log'!$BW$18:$BW$1017),0)","v":0},{"$f":"IFERROR($E204*SUMIF('Daily Log'!$BY$18:$BY$1017,$B204,'Daily Log'!$BZ$18:$BZ$1017),0)","v":0},{"$f":"IFERROR($E204*SUMIF('Daily Log'!$CB$18:$CB$1017,$B204,'Daily Log'!$CC$18:$CC$1017),0)","v":0},{"$f":"IFERROR($E204*SUMIF('Daily Log'!$CE$18:$CE$1017,$B204,'Daily Log'!$CF$18:$CF$1017),0)","v":0},{"$f":"IFERROR($E204*SUMIF('Daily Log'!$CH$18:$CH$1017,$B204,'Daily Log'!$CI$18:$CI$1017),0)","v":0},{"$f":"IFERROR($E204*SUMIF('Daily Log'!$CK$18:$CK$1017,$B204,'Daily Log'!$CL$18:$CL$1017),0)","v":0},{"$f":"IFERROR($E204*SUMIF('Daily Log'!$CN$18:$CN$1017,$B204,'Daily Log'!$CO$18:$CO$1017),0)","v":0}]
[null,"RL02 71102:MAMITE CHK",null,"REDEEMED",1,0,{"$f":"IFERROR($E205*SUMIF('Daily Log'!$B$18:$B$1017,$B205,'Daily Log'!$C$18:$C$1017),0)","v":0},{"$f":"IFERROR($E205*SUMIF('Daily Log'!$E$18:$E$1017,$B205,'Daily Log'!$F$18:$F$1017),0)","v":0},{"$f":"IFERROR($E205*SUMIF('Daily Log'!$H$18:$H$1017,$B205,'Daily Log'!$I$18:$I$1017),0)","v":0},{"$f":"IFERROR($E205*SUMIF('Daily Log'!$K$18:$K$1017,$B205,'Daily Log'!$L$18:$L$1017),0)","v":0},{"$f":"IFERROR($E205*SUMIF('Daily Log'!$N$18:$N$1017,$B205,'Daily Log'!$O$18:$O$1017),0)","v":0},{"$f":"IFERROR($E205*SUMIF('Daily Log'!$Q$18:$Q$1017,$B205,'Daily Log'!$R$18:$R$1017),0)","v":0},{"$f":"IFERROR($E205*SUMIF('Daily Log'!$T$18:$T$1017,$B205,'Daily Log'!$U$18:$U$1017),0)","v":0},{"$f":"IFERROR($E205*SUMIF('Daily Log'!$W$18:$W$1017,$B205,'Daily Log'!$X$18:$X$1017),0)","v":0},{"$f":"IFERROR($E205*SUMIF('Daily Log'!$Z$18:$Z$1017,$B205,'Daily Log'!$AA$18:$AA$1017),0)","v":0},{"$f":"IFERROR($E205*SUMIF('Daily Log'!$AC$18:$AC$1017,$B205,'Daily Log'!$AD$18:$AD$1017),0)","v":0},{"$f":"IFERROR($E205*SUMIF('Daily Log'!$AF$18:$AF$1017,$B205,'Daily Log'!$AG$18:$AG$1017),0)","v":0},{"$f":"IFERROR($E205*SUMIF('Daily Log'!$AI$18:$AI$1017,$B205,'Daily Log'!$AJ$18:$AJ$1017),0)","v":0},{"$f":"IFERROR($E205*SUMIF('Daily Log'!$AL$18:$AL$1017,$B205,'Daily Log'!$AM$18:$AM$1017),0)","v":0},{"$f":"IFERROR($E205*SUMIF('Daily Log'!$AO$18:$AO$1017,$B205,'Daily Log'!$AP$18:$AP$1017),0)","v":0},{"$f":"IFERROR($E205*SUMIF('Daily Log'!$AR$18:$AR$1017,$B205,'Daily Log'!$AS$18:$AS$1017),0)","v":0},{"$f":"IFERROR($E205*SUMIF('Daily Log'!$AU$18:$AU$1017,$B205,'Daily Log'!$AV$18:$AV$1017),0)","v":0},{"$f":"IFERROR($E205*SUMIF('Daily Log'!$AX$18:$AX$1017,$B205,'Daily Log'!$AY$18:$AY$1017),0)","v":0},{"$f":"IFERROR($E205*SUMIF('Daily Log'!$BA$18:$BA$1017,$B205,'Daily Log'!$BB$18:$BB$1017),0)","v":0},{"$f":"IFERROR($E205*SUMIF('Daily Log'!$BD$18:$BD$1017,$B205,'Daily Log'!$BE$18:$BE$1017),0)","v":0},{"$f":"IFERROR($E205*SUMIF('Daily Log'!$BG$18:$BG$1017,$B205,'Daily Log'!$BH$18:$BH$1017),0)","v":0},{"$f":"IFERROR($E205*SUMIF('Daily Log'!$BJ$18:$BJ$1017,$B205,'Daily Log'!$BK$18:$BK$1017),0)","v":0},{"$f":"IFERROR($E205*SUMIF('Daily Log'!$BM$18:$BM$1017,$B205,'Daily Log'!$BN$18:$BN$1017),0)","v":0},{"$f":"IFERROR($E205*SUMIF('Daily Log'!$BP$18:$BP$1017,$B205,'Daily Log'!$BQ$18:$BQ$1017),0)","v":0},{"$f":"IFERROR($E205*SUMIF('Daily Log'!$BS$18:$BS$1017,$B205,'Daily Log'!$BT$18:$BT$1017),0)","v":0},{"$f":"IFERROR($E205*SUMIF('Daily Log'!$BV$18:$BV$1017,$B205,'Daily Log'!$BW$18:$BW$1017),0)","v":0},{"$f":"IFERROR($E205*SUMIF('Daily Log'!$BY$18:$BY$1017,$B205,'Daily Log'!$BZ$18:$BZ$1017),0)","v":0},{"$f":"IFERROR($E205*SUMIF('Daily Log'!$CB$18:$CB$1017,$B205,'Daily Log'!$CC$18:$CC$1017),0)","v":0},{"$f":"IFERROR($E205*SUMIF('Daily Log'!$CE$18:$CE$1017,$B205,'Daily Log'!$CF$18:$CF$1017),0)","v":0},{"$f":"IFERROR($E205*SUMIF('Daily Log'!$CH$18:$CH$1017,$B205,'Daily Log'!$CI$18:$CI$1017),0)","v":0},{"$f":"IFERROR($E205*SUMIF('Daily Log'!$CK$18:$CK$1017,$B205,'Daily Log'!$CL$18:$CL$1017),0)","v":0},{"$f":"IFERROR($E205*SUMIF('Daily Log'!$CN$18:$CN$1017,$B205,'Daily Log'!$CO$18:$CO$1017),0)","v":0}]
[null,"RL05 71105:BUTTER CHK",null,"REDEEMED",1,0,{"$f":"IFERROR($E206*SUMIF('Daily Log'!$B$18:$B$1017,$B206,'Daily Log'!$C$18:$C$1017),0)","v":0},{"$f":"IFERROR($E206*SUMIF('Daily Log'!$E$18:$E$1017,$B206,'Daily Log'!$F$18:$F$1017),0)","v":0},{"$f":"IFERROR($E206*SUMIF('Daily Log'!$H$18:$H$1017,$B206,'Daily Log'!$I$18:$I$1017),0)","v":0},{"$f":"IFERROR($E206*SUMIF('Daily Log'!$K$18:$K$1017,$B206,'Daily Log'!$L$18:$L$1017),0)","v":0},{"$f":"IFERROR($E206*SUMIF('Daily Log'!$N$18:$N$1017,$B206,'Daily Log'!$O$18:$O$1017),0)","v":0},{"$f":"IFERROR($E206*SUMIF('Daily Log'!$Q$18:$Q$1017,$B206,'Daily Log'!$R$18:$R$1017),0)","v":0},{"$f":"IFERROR($E206*SUMIF('Daily Log'!$T$18:$T$1017,$B206,'Daily Log'!$U$18:$U$1017),0)","v":0},{"$f":"IFERROR($E206*SUMIF('Daily Log'!$W$18:$W$1017,$B206,'Daily Log'!$X$18:$X$1017),0)","v":0},{"$f":"IFERROR($E206*SUMIF('Daily Log'!$Z$18:$Z$1017,$B206,'Daily Log'!$AA$18:$AA$1017),0)","v":0},{"$f":"IFERROR($E206*SUMIF('Daily Log'!$AC$18:$AC$1017,$B206,'Daily Log'!$AD$18:$AD$1017),0)","v":0},{"$f":"IFERROR($E206*SUMIF('Daily Log'!$AF$18:$AF$1017,$B206,'Daily Log'!$AG$18:$AG$1017),0)","v":0},{"$f":"IFERROR($E206*SUMIF('Daily Log'!$AI$18:$AI$1017,$B206,'Daily Log'!$AJ$18:$AJ$1017),0)","v":0},{"$f":"IFERROR($E206*SUMIF('Daily Log'!$AL$18:$AL$1017,$B206,'Daily Log'!$AM$18:$AM$1017),0)","v":0},{"$f":"IFERROR($E206*SUMIF('Daily Log'!$AO$18:$AO$1017,$B206,'Daily Log'!$AP$18:$AP$1017),0)","v":0},{"$f":"IFERROR($E206*SUMIF('Daily Log'!$AR$18:$AR$1017,$B206,'Daily Log'!$AS$18:$AS$1017),0)","v":0},{"$f":"IFERROR($E206*SUMIF('Daily Log'!$AU$18:$AU$1017,$B206,'Daily Log'!$AV$18:$AV$1017),0)","v":0},{"$f":"IFERROR($E206*SUMIF('Daily Log'!$AX$18:$AX$1017,$B206,'Daily Log'!$AY$18:$AY$1017),0)","v":0},{"$f":"IFERROR($E206*SUMIF('Daily Log'!$BA$18:$BA$1017,$B206,'Daily Log'!$BB$18:$BB$1017),0)","v":0},{"$f":"IFERROR($E206*SUMIF('Daily Log'!$BD$18:$BD$1017,$B206,'Daily Log'!$BE$18:$BE$1017),0)","v":0},{"$f":"IFERROR($E206*SUMIF('Daily Log'!$BG$18:$BG$1017,$B206,'Daily Log'!$BH$18:$BH$1017),0)","v":0},{"$f":"IFERROR($E206*SUMIF('Daily Log'!$BJ$18:$BJ$1017,$B206,'Daily Log'!$BK$18:$BK$1017),0)","v":0},{"$f":"IFERROR($E206*SUMIF('Daily Log'!$BM$18:$BM$1017,$B206,'Daily Log'!$BN$18:$BN$1017),0)","v":0},{"$f":"IFERROR($E206*SUMIF('Daily Log'!$BP$18:$BP$1017,$B206,'Daily Log'!$BQ$18:$BQ$1017),0)","v":0},{"$f":"IFERROR($E206*SUMIF('Daily Log'!$BS$18:$BS$1017,$B206,'Daily Log'!$BT$18:$BT$1017),0)","v":0},{"$f":"IFERROR($E206*SUMIF('Daily Log'!$BV$18:$BV$1017,$B206,'Daily Log'!$BW$18:$BW$1017),0)","v":0},{"$f":"IFERROR($E206*SUMIF('Daily Log'!$BY$18:$BY$1017,$B206,'Daily Log'!$BZ$18:$BZ$1017),0)","v":0},{"$f":"IFERROR($E206*SUMIF('Daily Log'!$CB$18:$CB$1017,$B206,'Daily Log'!$CC$18:$CC$1017),0)","v":0},{"$f":"IFERROR($E206*SUMIF('Daily Log'!$CE$18:$CE$1017,$B206,'Daily Log'!$CF$18:$CF$1017),0)","v":0},{"$f":"IFERROR($E206*SUMIF('Daily Log'!$CH$18:$CH$1017,$B206,'Daily Log'!$CI$18:$CI$1017),0)","v":0},{"$f":"IFERROR($E206*SUMIF('Daily Log'!$CK$18:$CK$1017,$B206,'Daily Log'!$CL$18:$CL$1017),0)","v":0},{"$f":"IFERROR($E206*SUMIF('Daily Log'!$CN$18:$CN$1017,$B206,'Daily Log'!$CO$18:$CO$1017),0)","v":0}]
[null,"RL17 71117:THAI FSH",null,"REDEEMED",1,0,{"$f":"IFERROR($E207*SUMIF('Daily Log'!$B$18:$B$1017,$B207,'Daily Log'!$C$18:$C$1017),0)","v":0},{"$f":"IFERROR($E207*SUMIF('Daily Log'!$E$18:$E$1017,$B207,'Daily Log'!$F$18:$F$1017),0)","v":0},{"$f":"IFERROR($E207*SUMIF('Daily Log'!$H$18:$H$1017,$B207,'Daily Log'!$I$18:$I$1017),0)","v":0},{"$f":"IFERROR($E207*SUMIF('Daily Log'!$K$18:$K$1017,$B207,'Daily Log'!$L$18:$L$1017),0)","v":0},{"$f":"IFERROR($E207*SUMIF('Daily Log'!$N$18:$N$1017,$B207,'Daily Log'!$O$18:$O$1017),0)","v":0},{"$f":"IFERROR($E207*SUMIF('Daily Log'!$Q$18:$Q$1017,$B207,'Daily Log'!$R$18:$R$1017),0)","v":0},{"$f":"IFERROR($E207*SUMIF('Daily Log'!$T$18:$T$1017,$B207,'Daily Log'!$U$18:$U$1017),0)","v":0},{"$f":"IFERROR($E207*SUMIF('Daily Log'!$W$18:$W$1017,$B207,'Daily Log'!$X$18:$X$1017),0)","v":0},{"$f":"IFERROR($E207*SUMIF('Daily Log'!$Z$18:$Z$1017,$B207,'Daily Log'!$AA$18:$AA$1017),0)","v":0},{"$f":"IFERROR($E207*SUMIF('Daily Log'!$AC$18:$AC$1017,$B207,'Daily Log'!$AD$18:$AD$1017),0)","v":0},{"$f":"IFERROR($E207*SUMIF('Daily Log'!$AF$18:$AF$1017,$B207,'Daily Log'!$AG$18:$AG$1017),0)","v":0},{"$f":"IFERROR($E207*SUMIF('Daily Log'!$AI$18:$AI$1017,$B207,'Daily Log'!$AJ$18:$AJ$1017),0)","v":0},{"$f":"IFERROR($E207*SUMIF('Daily Log'!$AL$18:$AL$1017,$B207,'Daily Log'!$AM$18:$AM$1017),0)","v":0},{"$f":"IFERROR($E207*SUMIF('Daily Log'!$AO$18:$AO$1017,$B207,'Daily Log'!$AP$18:$AP$1017),0)","v":0},{"$f":"IFERROR($E207*SUMIF('Daily Log'!$AR$18:$AR$1017,$B207,'Daily Log'!$AS$18:$AS$1017),0)","v":0},{"$f":"IFERROR($E207*SUMIF('Daily Log'!$AU$18:$AU$1017,$B207,'Daily Log'!$AV$18:$AV$1017),0)","v":0},{"$f":"IFERROR($E207*SUMIF('Daily Log'!$AX$18:$AX$1017,$B207,'Daily Log'!$AY$18:$AY$1017),0)","v":0},{"$f":"IFERROR($E207*SUMIF('Daily Log'!$BA$18:$BA$1017,$B207,'Daily Log'!$BB$18:$BB$1017),0)","v":0},{"$f":"IFERROR($E207*SUMIF('Daily Log'!$BD$18:$BD$1017,$B207,'Daily Log'!$BE$18:$BE$1017),0)","v":0},{"$f":"IFERROR($E207*SUMIF('Daily Log'!$BG$18:$BG$1017,$B207,'Daily Log'!$BH$18:$BH$1017),0)","v":0},{"$f":"IFERROR($E207*SUMIF('Daily Log'!$BJ$18:$BJ$1017,$B207,'Daily Log'!$BK$18:$BK$1017),0)","v":0},{"$f":"IFERROR($E207*SUMIF('Daily Log'!$BM$18:$BM$1017,$B207,'Daily Log'!$BN$18:$BN$1017),0)","v":0},{"$f":"IFERROR($E207*SUMIF('Daily Log'!$BP$18:$BP$1017,$B207,'Daily Log'!$BQ$18:$BQ$1017),0)","v":0},{"$f":"IFERROR($E207*SUMIF('Daily Log'!$BS$18:$BS$1017,$B207,'Daily Log'!$BT$18:$BT$1017),0)","v":0},{"$f":"IFERROR($E207*SUMIF('Daily Log'!$BV$18:$BV$1017,$B207,'Daily Log'!$BW$18:$BW$1017),0)","v":0},{"$f":"IFERROR($E207*SUMIF('Daily Log'!$BY$18:$BY$1017,$B207,'Daily Log'!$BZ$18:$BZ$1017),0)","v":0},{"$f":"IFERROR($E207*SUMIF('Daily Log'!$CB$18:$CB$1017,$B207,'Daily Log'!$CC$18:$CC$1017),0)","v":0},{"$f":"IFERROR($E207*SUMIF('Daily Log'!$CE$18:$CE$1017,$B207,'Daily Log'!$CF$18:$CF$1017),0)","v":0},{"$f":"IFERROR($E207*SUMIF('Daily Log'!$CH$18:$CH$1017,$B207,'Daily Log'!$CI$18:$CI$1017),0)","v":0},{"$f":"IFERROR($E207*SUMIF('Daily Log'!$CK$18:$CK$1017,$B207,'Daily Log'!$CL$18:$CL$1017),0)","v":0},{"$f":"IFERROR($E207*SUMIF('Daily Log'!$CN$18:$CN$1017,$B207,'Daily Log'!$CO$18:$CO$1017),0)","v":0}]
[null,"RL18 71118:MAMITE FSH",null,"REDEEMED",1,0,{"$f":"IFERROR($E208*SUMIF('Daily Log'!$B$18:$B$1017,$B208,'Daily Log'!$C$18:$C$1017),0)","v":0},{"$f":"IFERROR($E208*SUMIF('Daily Log'!$E$18:$E$1017,$B208,'Daily Log'!$F$18:$F$1017),0)","v":0},{"$f":"IFERROR($E208*SUMIF('Daily Log'!$H$18:$H$1017,$B208,'Daily Log'!$I$18:$I$1017),0)","v":0},{"$f":"IFERROR($E208*SUMIF('Daily Log'!$K$18:$K$1017,$B208,'Daily Log'!$L$18:$L$1017),0)","v":0},{"$f":"IFERROR($E208*SUMIF('Daily Log'!$N$18:$N$1017,$B208,'Daily Log'!$O$18:$O$1017),0)","v":0},{"$f":"IFERROR($E208*SUMIF('Daily Log'!$Q$18:$Q$1017,$B208,'Daily Log'!$R$18:$R$1017),0)","v":0},{"$f":"IFERROR($E208*SUMIF('Daily Log'!$T$18:$T$1017,$B208,'Daily Log'!$U$18:$U$1017),0)","v":0},{"$f":"IFERROR($E208*SUMIF('Daily Log'!$W$18:$W$1017,$B208,'Daily Log'!$X$18:$X$1017),0)","v":0},{"$f":"IFERROR($E208*SUMIF('Daily Log'!$Z$18:$Z$1017,$B208,'Daily Log'!$AA$18:$AA$1017),0)","v":0},{"$f":"IFERROR($E208*SUMIF('Daily Log'!$AC$18:$AC$1017,$B208,'Daily Log'!$AD$18:$AD$1017),0)","v":0},{"$f":"IFERROR($E208*SUMIF('Daily Log'!$AF$18:$AF$1017,$B208,'Daily Log'!$AG$18:$AG$1017),0)","v":0},{"$f":"IFERROR($E208*SUMIF('Daily Log'!$AI$18:$AI$1017,$B208,'Daily Log'!$AJ$18:$AJ$1017),0)","v":0},{"$f":"IFERROR($E208*SUMIF('Daily Log'!$AL$18:$AL$1017,$B208,'Daily Log'!$AM$18:$AM$1017),0)","v":0},{"$f":"IFERROR($E208*SUMIF('Daily Log'!$AO$18:$AO$1017,$B208,'Daily Log'!$AP$18:$AP$1017),0)","v":0},{"$f":"IFERROR($E208*SUMIF('Daily Log'!$AR$18:$AR$1017,$B208,'Daily Log'!$AS$18:$AS$1017),0)","v":0},{"$f":"IFERROR($E208*SUMIF('Daily Log'!$AU$18:$AU$1017,$B208,'Daily Log'!$AV$18:$AV$1017),0)","v":0},{"$f":"IFERROR($E208*SUMIF('Daily Log'!$AX$18:$AX$1017,$B208,'Daily Log'!$AY$18:$AY$1017),0)","v":0},{"$f":"IFERROR($E208*SUMIF('Daily Log'!$BA$18:$BA$1017,$B208,'Daily Log'!$BB$18:$BB$1017),0)","v":0},{"$f":"IFERROR($E208*SUMIF('Daily Log'!$BD$18:$BD$1017,$B208,'Daily Log'!$BE$18:$BE$1017),0)","v":0},{"$f":"IFERROR($E208*SUMIF('Daily Log'!$BG$18:$BG$1017,$B208,'Daily Log'!$BH$18:$BH$1017),0)","v":0},{"$f":"IFERROR($E208*SUMIF('Daily Log'!$BJ$18:$BJ$1017,$B208,'Daily Log'!$BK$18:$BK$1017),0)","v":0},{"$f":"IFERROR($E208*SUMIF('Daily Log'!$BM$18:$BM$1017,$B208,'Daily Log'!$BN$18:$BN$1017),0)","v":0},{"$f":"IFERROR($E208*SUMIF('Daily Log'!$BP$18:$BP$1017,$B208,'Daily Log'!$BQ$18:$BQ$1017),0)","v":0},{"$f":"IFERROR($E208*SUMIF('Daily Log'!$BS$18:$BS$1017,$B208,'Daily Log'!$BT$18:$BT$1017),0)","v":0},{"$f":"IFERROR($E208*SUMIF('Daily Log'!$BV$18:$BV$1017,$B208,'Daily Log'!$BW$18:$BW$1017),0)","v":0},{"$f":"IFERROR($E208*SUMIF('Daily Log'!$BY$18:$BY$1017,$B208,'Daily Log'!$BZ$18:$BZ$1017),0)","v":0},{"$f":"IFERROR($E208*SUMIF('Daily Log'!$CB$18:$CB$1017,$B208,'Daily Log'!$CC$18:$CC$1017),0)","v":0},{"$f":"IFERROR($E208*SUMIF('Daily Log'!$CE$18:$CE$1017,$B208,'Daily Log'!$CF$18:$CF$1017),0)","v":0},{"$f":"IFERROR($E208*SUMIF('Daily Log'!$CH$18:$CH$1017,$B208,'Daily Log'!$CI$18:$CI$1017),0)","v":0},{"$f":"IFERROR($E208*SUMIF('Daily Log'!$CK$18:$CK$1017,$B208,'Daily Log'!$CL$18:$CL$1017),0)","v":0},{"$f":"IFERROR($E208*SUMIF('Daily Log'!$CN$18:$CN$1017,$B208,'Daily Log'!$CO$18:$CO$1017),0)","v":0}]
[null,"RL19 71119:BUTTER FSH",null,"REDEEMED",1,0,{"$f":"IFERROR($E209*SUMIF('Daily Log'!$B$18:$B$1017,$B209,'Daily Log'!$C$18:$C$1017),0)","v":0},{"$f":"IFERROR($E209*SUMIF('Daily Log'!$E$18:$E$1017,$B209,'Daily Log'!$F$18:$F$1017),0)","v":0},{"$f":"IFERROR($E209*SUMIF('Daily Log'!$H$18:$H$1017,$B209,'Daily Log'!$I$18:$I$1017),0)","v":0},{"$f":"IFERROR($E209*SUMIF('Daily Log'!$K$18:$K$1017,$B209,'Daily Log'!$L$18:$L$1017),0)","v":0},{"$f":"IFERROR($E209*SUMIF('Daily Log'!$N$18:$N$1017,$B209,'Daily Log'!$O$18:$O$1017),0)","v":0},{"$f":"IFERROR($E209*SUMIF('Daily Log'!$Q$18:$Q$1017,$B209,'Daily Log'!$R$18:$R$1017),0)","v":0},{"$f":"IFERROR($E209*SUMIF('Daily Log'!$T$18:$T$1017,$B209,'Daily Log'!$U$18:$U$1017),0)","v":0},{"$f":"IFERROR($E209*SUMIF('Daily Log'!$W$18:$W$1017,$B209,'Daily Log'!$X$18:$X$1017),0)","v":0},{"$f":"IFERROR($E209*SUMIF('Daily Log'!$Z$18:$Z$1017,$B209,'Daily Log'!$AA$18:$AA$1017),0)","v":0},{"$f":"IFERROR($E209*SUMIF('Daily Log'!$AC$18:$AC$1017,$B209,'Daily Log'!$AD$18:$AD$1017),0)","v":0},{"$f":"IFERROR($E209*SUMIF('Daily Log'!$AF$18:$AF$1017,$B209,'Daily Log'!$AG$18:$AG$1017),0)","v":0},{"$f":"IFERROR($E209*SUMIF('Daily Log'!$AI$18:$AI$1017,$B209,'Daily Log'!$AJ$18:$AJ$1017),0)","v":0},{"$f":"IFERROR($E209*SUMIF('Daily Log'!$AL$18:$AL$1017,$B209,'Daily Log'!$AM$18:$AM$1017),0)","v":0},{"$f":"IFERROR($E209*SUMIF('Daily Log'!$AO$18:$AO$1017,$B209,'Daily Log'!$AP$18:$AP$1017),0)","v":0},{"$f":"IFERROR($E209*SUMIF('Daily Log'!$AR$18:$AR$1017,$B209,'Daily Log'!$AS$18:$AS$1017),0)","v":0},{"$f":"IFERROR($E209*SUMIF('Daily Log'!$AU$18:$AU$1017,$B209,'Daily Log'!$AV$18:$AV$1017),0)","v":0},{"$f":"IFERROR($E209*SUMIF('Daily Log'!$AX$18:$AX$1017,$B209,'Daily Log'!$AY$18:$AY$1017),0)","v":0},{"$f":"IFERROR($E209*SUMIF('Daily Log'!$BA$18:$BA$1017,$B209,'Daily Log'!$BB$18:$BB$1017),0)","v":0},{"$f":"IFERROR($E209*SUMIF('Daily Log'!$BD$18:$BD$1017,$B209,'Daily Log'!$BE$18:$BE$1017),0)","v":0},{"$f":"IFERROR($E209*SUMIF('Daily Log'!$BG$18:$BG$1017,$B209,'Daily Log'!$BH$18:$BH$1017),0)","v":0},{"$f":"IFERROR($E209*SUMIF('Daily Log'!$BJ$18:$BJ$1017,$B209,'Daily Log'!$BK$18:$BK$1017),0)","v":0},{"$f":"IFERROR($E209*SUMIF('Daily Log'!$BM$18:$BM$1017,$B209,'Daily Log'!$BN$18:$BN$1017),0)","v":0},{"$f":"IFERROR($E209*SUMIF('Daily Log'!$BP$18:$BP$1017,$B209,'Daily Log'!$BQ$18:$BQ$1017),0)","v":0},{"$f":"IFERROR($E209*SUMIF('Daily Log'!$BS$18:$BS$1017,$B209,'Daily Log'!$BT$18:$BT$1017),0)","v":0},{"$f":"IFERROR($E209*SUMIF('Daily Log'!$BV$18:$BV$1017,$B209,'Daily Log'!$BW$18:$BW$1017),0)","v":0},{"$f":"IFERROR($E209*SUMIF('Daily Log'!$BY$18:$BY$1017,$B209,'Daily Log'!$BZ$18:$BZ$1017),0)","v":0},{"$f":"IFERROR($E209*SUMIF('Daily Log'!$CB$18:$CB$1017,$B209,'Daily Log'!$CC$18:$CC$1017),0)","v":0},{"$f":"IFERROR($E209*SUMIF('Daily Log'!$CE$18:$CE$1017,$B209,'Daily Log'!$CF$18:$CF$1017),0)","v":0},{"$f":"IFERROR($E209*SUMIF('Daily Log'!$CH$18:$CH$1017,$B209,'Daily Log'!$CI$18:$CI$1017),0)","v":0},{"$f":"IFERROR($E209*SUMIF('Daily Log'!$CK$18:$CK$1017,$B209,'Daily Log'!$CL$18:$CL$1017),0)","v":0},{"$f":"IFERROR($E209*SUMIF('Daily Log'!$CN$18:$CN$1017,$B209,'Daily Log'!$CO$18:$CO$1017),0)","v":0}]
[null,"RS07 71207:SAUSG",null,"REDEEMED",1,0,{"$f":"IFERROR($E210*SUMIF('Daily Log'!$B$18:$B$1017,$B210,'Daily Log'!$C$18:$C$1017),0)","v":0},{"$f":"IFERROR($E210*SUMIF('Daily Log'!$E$18:$E$1017,$B210,'Daily Log'!$F$18:$F$1017),0)","v":0},{"$f":"IFERROR($E210*SUMIF('Daily Log'!$H$18:$H$1017,$B210,'Daily Log'!$I$18:$I$1017),0)","v":0},{"$f":"IFERROR($E210*SUMIF('Daily Log'!$K$18:$K$1017,$B210,'Daily Log'!$L$18:$L$1017),0)","v":0},{"$f":"IFERROR($E210*SUMIF('Daily Log'!$N$18:$N$1017,$B210,'Daily Log'!$O$18:$O$1017),0)","v":0},{"$f":"IFERROR($E210*SUMIF('Daily Log'!$Q$18:$Q$1017,$B210,'Daily Log'!$R$18:$R$1017),0)","v":0},{"$f":"IFERROR($E210*SUMIF('Daily Log'!$T$18:$T$1017,$B210,'Daily Log'!$U$18:$U$1017),0)","v":0},{"$f":"IFERROR($E210*SUMIF('Daily Log'!$W$18:$W$1017,$B210,'Daily Log'!$X$18:$X$1017),0)","v":0},{"$f":"IFERROR($E210*SUMIF('Daily Log'!$Z$18:$Z$1017,$B210,'Daily Log'!$AA$18:$AA$1017),0)","v":0},{"$f":"IFERROR($E210*SUMIF('Daily Log'!$AC$18:$AC$1017,$B210,'Daily Log'!$AD$18:$AD$1017),0)","v":0},{"$f":"IFERROR($E210*SUMIF('Daily Log'!$AF$18:$AF$1017,$B210,'Daily Log'!$AG$18:$AG$1017),0)","v":0},{"$f":"IFERROR($E210*SUMIF('Daily Log'!$AI$18:$AI$1017,$B210,'Daily Log'!$AJ$18:$AJ$1017),0)","v":0},{"$f":"IFERROR($E210*SUMIF('Daily Log'!$AL$18:$AL$1017,$B210,'Daily Log'!$AM$18:$AM$1017),0)","v":0},{"$f":"IFERROR($E210*SUMIF('Daily Log'!$AO$18:$AO$1017,$B210,'Daily Log'!$AP$18:$AP$1017),0)","v":0},{"$f":"IFERROR($E210*SUMIF('Daily Log'!$AR$18:$AR$1017,$B210,'Daily Log'!$AS$18:$AS$1017),0)","v":0},{"$f":"IFERROR($E210*SUMIF('Daily Log'!$AU$18:$AU$1017,$B210,'Daily Log'!$AV$18:$AV$1017),0)","v":0},{"$f":"IFERROR($E210*SUMIF('Daily Log'!$AX$18:$AX$1017,$B210,'Daily Log'!$AY$18:$AY$1017),0)","v":0},{"$f":"IFERROR($E210*SUMIF('Daily Log'!$BA$18:$BA$1017,$B210,'Daily Log'!$BB$18:$BB$1017),0)","v":0},{"$f":"IFERROR($E210*SUMIF('Daily Log'!$BD$18:$BD$1017,$B210,'Daily Log'!$BE$18:$BE$1017),0)","v":0},{"$f":"IFERROR($E210*SUMIF('Daily Log'!$BG$18:$BG$1017,$B210,'Daily Log'!$BH$18:$BH$1017),0)","v":0},{"$f":"IFERROR($E210*SUMIF('Daily Log'!$BJ$18:$BJ$1017,$B210,'Daily Log'!$BK$18:$BK$1017),0)","v":0},{"$f":"IFERROR($E210*SUMIF('Daily Log'!$BM$18:$BM$1017,$B210,'Daily Log'!$BN$18:$BN$1017),0)","v":0},{"$f":"IFERROR($E210*SUMIF('Daily Log'!$BP$18:$BP$1017,$B210,'Daily Log'!$BQ$18:$BQ$1017),0)","v":0},{"$f":"IFERROR($E210*SUMIF('Daily Log'!$BS$18:$BS$1017,$B210,'Daily Log'!$BT$18:$BT$1017),0)","v":0},{"$f":"IFERROR($E210*SUMIF('Daily Log'!$BV$18:$BV$1017,$B210,'Daily Log'!$BW$18:$BW$1017),0)","v":0},{"$f":"IFERROR($E210*SUMIF('Daily Log'!$BY$18:$BY$1017,$B210,'Daily Log'!$BZ$18:$BZ$1017),0)","v":0},{"$f":"IFERROR($E210*SUMIF('Daily Log'!$CB$18:$CB$1017,$B210,'Daily Log'!$CC$18:$CC$1017),0)","v":0},{"$f":"IFERROR($E210*SUMIF('Daily Log'!$CE$18:$CE$1017,$B210,'Daily Log'!$CF$18:$CF$1017),0)","v":0},{"$f":"IFERROR($E210*SUMIF('Daily Log'!$CH$18:$CH$1017,$B210,'Daily Log'!$CI$18:$CI$1017),0)","v":0},{"$f":"IFERROR($E210*SUMIF('Daily Log'!$CK$18:$CK$1017,$B210,'Daily Log'!$CL$18:$CL$1017),0)","v":0},{"$f":"IFERROR($E210*SUMIF('Daily Log'!$CN$18:$CN$1017,$B210,'Daily Log'!$CO$18:$CO$1017),0)","v":0}]
[null,"RS32 71302:NUGGET",null,"REDEEMED",1,0,{"$f":"IFERROR($E211*SUMIF('Daily Log'!$B$18:$B$1017,$B211,'Daily Log'!$C$18:$C$1017),0)","v":0},{"$f":"IFERROR($E211*SUMIF('Daily Log'!$E$18:$E$1017,$B211,'Daily Log'!$F$18:$F$1017),0)","v":0},{"$f":"IFERROR($E211*SUMIF('Daily Log'!$H$18:$H$1017,$B211,'Daily Log'!$I$18:$I$1017),0)","v":0},{"$f":"IFERROR($E211*SUMIF('Daily Log'!$K$18:$K$1017,$B211,'Daily Log'!$L$18:$L$1017),0)","v":0},{"$f":"IFERROR($E211*SUMIF('Daily Log'!$N$18:$N$1017,$B211,'Daily Log'!$O$18:$O$1017),0)","v":0},{"$f":"IFERROR($E211*SUMIF('Daily Log'!$Q$18:$Q$1017,$B211,'Daily Log'!$R$18:$R$1017),0)","v":0},{"$f":"IFERROR($E211*SUMIF('Daily Log'!$T$18:$T$1017,$B211,'Daily Log'!$U$18:$U$1017),0)","v":0},{"$f":"IFERROR($E211*SUMIF('Daily Log'!$W$18:$W$1017,$B211,'Daily Log'!$X$18:$X$1017),0)","v":0},{"$f":"IFERROR($E211*SUMIF('Daily Log'!$Z$18:$Z$1017,$B211,'Daily Log'!$AA$18:$AA$1017),0)","v":0},{"$f":"IFERROR($E211*SUMIF('Daily Log'!$AC$18:$AC$1017,$B211,'Daily Log'!$AD$18:$AD$1017),0)","v":0},{"$f":"IFERROR($E211*SUMIF('Daily Log'!$AF$18:$AF$1017,$B211,'Daily Log'!$AG$18:$AG$1017),0)","v":0},{"$f":"IFERROR($E211*SUMIF('Daily Log'!$AI$18:$AI$1017,$B211,'Daily Log'!$AJ$18:$AJ$1017),0)","v":0},{"$f":"IFERROR($E211*SUMIF('Daily Log'!$AL$18:$AL$1017,$B211,'Daily Log'!$AM$18:$AM$1017),0)","v":0},{"$f":"IFERROR($E211*SUMIF('Daily Log'!$AO$18:$AO$1017,$B211,'Daily Log'!$AP$18:$AP$1017),0)","v":0},{"$f":"IFERROR($E211*SUMIF('Daily Log'!$AR$18:$AR$1017,$B211,'Daily Log'!$AS$18:$AS$1017),0)","v":0},{"$f":"IFERROR($E211*SUMIF('Daily Log'!$AU$18:$AU$1017,$B211,'Daily Log'!$AV$18:$AV$1017),0)","v":0},{"$f":"IFERROR($E211*SUMIF('Daily Log'!$AX$18:$AX$1017,$B211,'Daily Log'!$AY$18:$AY$1017),0)","v":0},{"$f":"IFERROR($E211*SUMIF('Daily Log'!$BA$18:$BA$1017,$B211,'Daily Log'!$BB$18:$BB$1017),0)","v":0},{"$f":"IFERROR($E211*SUMIF('Daily Log'!$BD$18:$BD$1017,$B211,'Daily Log'!$BE$18:$BE$1017),0)","v":0},{"$f":"IFERROR($E211*SUMIF('Daily Log'!$BG$18:$BG$1017,$B211,'Daily Log'!$BH$18:$BH$1017),0)","v":0},{"$f":"IFERROR($E211*SUMIF('Daily Log'!$BJ$18:$BJ$1017,$B211,'Daily Log'!$BK$18:$BK$1017),0)","v":0},{"$f":"IFERROR($E211*SUMIF('Daily Log'!$BM$18:$BM$1017,$B211,'Daily Log'!$BN$18:$BN$1017),0)","v":0},{"$f":"IFERROR($E211*SUMIF('Daily Log'!$BP$18:$BP$1017,$B211,'Daily Log'!$BQ$18:$BQ$1017),0)","v":0},{"$f":"IFERROR($E211*SUMIF('Daily Log'!$BS$18:$BS$1017,$B211,'Daily Log'!$BT$18:$BT$1017),0)","v":0},{"$f":"IFERROR($E211*SUMIF('Daily Log'!$BV$18:$BV$1017,$B211,'Daily Log'!$BW$18:$BW$1017),0)","v":0},{"$f":"IFERROR($E211*SUMIF('Daily Log'!$BY$18:$BY$1017,$B211,'Daily Log'!$BZ$18:$BZ$1017),0)","v":0},{"$f":"IFERROR($E211*SUMIF('Daily Log'!$CB$18:$CB$1017,$B211,'Daily Log'!$CC$18:$CC$1017),0)","v":0},{"$f":"IFERROR($E211*SUMIF('Daily Log'!$CE$18:$CE$1017,$B211,'Daily Log'!$CF$18:$CF$1017),0)","v":0},{"$f":"IFERROR($E211*SUMIF('Daily Log'!$CH$18:$CH$1017,$B211,'Daily Log'!$CI$18:$CI$1017),0)","v":0},{"$f":"IFERROR($E211*SUMIF('Daily Log'!$CK$18:$CK$1017,$B211,'Daily Log'!$CL$18:$CL$1017),0)","v":0},{"$f":"IFERROR($E211*SUMIF('Daily Log'!$CN$18:$CN$1017,$B211,'Daily Log'!$CO$18:$CO$1017),0)","v":0}]
[null,"RS33 71303:CHK WING",null,"REDEEMED",1,0,{"$f":"IFERROR($E212*SUMIF('Daily Log'!$B$18:$B$1017,$B212,'Daily Log'!$C$18:$C$1017),0)","v":0},{"$f":"IFERROR($E212*SUMIF('Daily Log'!$E$18:$E$1017,$B212,'Daily Log'!$F$18:$F$1017),0)","v":0},{"$f":"IFERROR($E212*SUMIF('Daily Log'!$H$18:$H$1017,$B212,'Daily Log'!$I$18:$I$1017),0)","v":0},{"$f":"IFERROR($E212*SUMIF('Daily Log'!$K$18:$K$1017,$B212,'Daily Log'!$L$18:$L$1017),0)","v":0},{"$f":"IFERROR($E212*SUMIF('Daily Log'!$N$18:$N$1017,$B212,'Daily Log'!$O$18:$O$1017),0)","v":0},{"$f":"IFERROR($E212*SUMIF('Daily Log'!$Q$18:$Q$1017,$B212,'Daily Log'!$R$18:$R$1017),0)","v":0},{"$f":"IFERROR($E212*SUMIF('Daily Log'!$T$18:$T$1017,$B212,'Daily Log'!$U$18:$U$1017),0)","v":0},{"$f":"IFERROR($E212*SUMIF('Daily Log'!$W$18:$W$1017,$B212,'Daily Log'!$X$18:$X$1017),0)","v":0},{"$f":"IFERROR($E212*SUMIF('Daily Log'!$Z$18:$Z$1017,$B212,'Daily Log'!$AA$18:$AA$1017),0)","v":0},{"$f":"IFERROR($E212*SUMIF('Daily Log'!$AC$18:$AC$1017,$B212,'Daily Log'!$AD$18:$AD$1017),0)","v":0},{"$f":"IFERROR($E212*SUMIF('Daily Log'!$AF$18:$AF$1017,$B212,'Daily Log'!$AG$18:$AG$1017),0)","v":0},{"$f":"IFERROR($E212*SUMIF('Daily Log'!$AI$18:$AI$1017,$B212,'Daily Log'!$AJ$18:$AJ$1017),0)","v":0},{"$f":"IFERROR($E212*SUMIF('Daily Log'!$AL$18:$AL$1017,$B212,'Daily Log'!$AM$18:$AM$1017),0)","v":0},{"$f":"IFERROR($E212*SUMIF('Daily Log'!$AO$18:$AO$1017,$B212,'Daily Log'!$AP$18:$AP$1017),0)","v":0},{"$f":"IFERROR($E212*SUMIF('Daily Log'!$AR$18:$AR$1017,$B212,'Daily Log'!$AS$18:$AS$1017),0)","v":0},{"$f":"IFERROR($E212*SUMIF('Daily Log'!$AU$18:$AU$1017,$B212,'Daily Log'!$AV$18:$AV$1017),0)","v":0},{"$f":"IFERROR($E212*SUMIF('Daily Log'!$AX$18:$AX$1017,$B212,'Daily Log'!$AY$18:$AY$1017),0)","v":0},{"$f":"IFERROR($E212*SUMIF('Daily Log'!$BA$18:$BA$1017,$B212,'Daily Log'!$BB$18:$BB$1017),0)","v":0},{"$f":"IFERROR($E212*SUMIF('Daily Log'!$BD$18:$BD$1017,$B212,'Daily Log'!$BE$18:$BE$1017),0)","v":0},{"$f":"IFERROR($E212*SUMIF('Daily Log'!$BG$18:$BG$1017,$B212,'Daily Log'!$BH$18:$BH$1017),0)","v":0},{"$f":"IFERROR($E212*SUMIF('Daily Log'!$BJ$18:$BJ$1017,$B212,'Daily Log'!$BK$18:$BK$1017),0)","v":0},{"$f":"IFERROR($E212*SUMIF('Daily Log'!$BM$18:$BM$1017,$B212,'Daily Log'!$BN$18:$BN$1017),0)","v":0},{"$f":"IFERROR($E212*SUMIF('Daily Log'!$BP$18:$BP$1017,$B212,'Daily Log'!$BQ$18:$BQ$1017),0)","v":0},{"$f":"IFERROR($E212*SUMIF('Daily Log'!$BS$18:$BS$1017,$B212,'Daily Log'!$BT$18:$BT$1017),0)","v":0},{"$f":"IFERROR($E212*SUMIF('Daily Log'!$BV$18:$BV$1017,$B212,'Daily Log'!$BW$18:$BW$1017),0)","v":0},{"$f":"IFERROR($E212*SUMIF('Daily Log'!$BY$18:$BY$1017,$B212,'Daily Log'!$BZ$18:$BZ$1017),0)","v":0},{"$f":"IFERROR($E212*SUMIF('Daily Log'!$CB$18:$CB$1017,$B212,'Daily Log'!$CC$18:$CC$1017),0)","v":0},{"$f":"IFERROR($E212*SUMIF('Daily Log'!$CE$18:$CE$1017,$B212,'Daily Log'!$CF$18:$CF$1017),0)","v":0},{"$f":"IFERROR($E212*SUMIF('Daily Log'!$CH$18:$CH$1017,$B212,'Daily Log'!$CI$18:$CI$1017),0)","v":0},{"$f":"IFERROR($E212*SUMIF('Daily Log'!$CK$18:$CK$1017,$B212,'Daily Log'!$CL$18:$CL$1017),0)","v":0},{"$f":"IFERROR($E212*SUMIF('Daily Log'!$CN$18:$CN$1017,$B212,'Daily Log'!$CO$18:$CO$1017),0)","v":0}]
[null,"RS38 71308:MC RING",null,"REDEEMED",1,0,{"$f":"IFERROR($E213*SUMIF('Daily Log'!$B$18:$B$1017,$B213,'Daily Log'!$C$18:$C$1017),0)","v":0},{"$f":"IFERROR($E213*SUMIF('Daily Log'!$E$18:$E$1017,$B213,'Daily Log'!$F$18:$F$1017),0)","v":0},{"$f":"IFERROR($E213*SUMIF('Daily Log'!$H$18:$H$1017,$B213,'Daily Log'!$I$18:$I$1017),0)","v":0},{"$f":"IFERROR($E213*SUMIF('Daily Log'!$K$18:$K$1017,$B213,'Daily Log'!$L$18:$L$1017),0)","v":0},{"$f":"IFERROR($E213*SUMIF('Daily Log'!$N$18:$N$1017,$B213,'Daily Log'!$O$18:$O$1017),0)","v":0},{"$f":"IFERROR($E213*SUMIF('Daily Log'!$Q$18:$Q$1017,$B213,'Daily Log'!$R$18:$R$1017),0)","v":0},{"$f":"IFERROR($E213*SUMIF('Daily Log'!$T$18:$T$1017,$B213,'Daily Log'!$U$18:$U$1017),0)","v":0},{"$f":"IFERROR($E213*SUMIF('Daily Log'!$W$18:$W$1017,$B213,'Daily Log'!$X$18:$X$1017),0)","v":0},{"$f":"IFERROR($E213*SUMIF('Daily Log'!$Z$18:$Z$1017,$B213,'Daily Log'!$AA$18:$AA$1017),0)","v":0},{"$f":"IFERROR($E213*SUMIF('Daily Log'!$AC$18:$AC$1017,$B213,'Daily Log'!$AD$18:$AD$1017),0)","v":0},{"$f":"IFERROR($E213*SUMIF('Daily Log'!$AF$18:$AF$1017,$B213,'Daily Log'!$AG$18:$AG$1017),0)","v":0},{"$f":"IFERROR($E213*SUMIF('Daily Log'!$AI$18:$AI$1017,$B213,'Daily Log'!$AJ$18:$AJ$1017),0)","v":0},{"$f":"IFERROR($E213*SUMIF('Daily Log'!$AL$18:$AL$1017,$B213,'Daily Log'!$AM$18:$AM$1017),0)","v":0},{"$f":"IFERROR($E213*SUMIF('Daily Log'!$AO$18:$AO$1017,$B213,'Daily Log'!$AP$18:$AP$1017),0)","v":0},{"$f":"IFERROR($E213*SUMIF('Daily Log'!$AR$18:$AR$1017,$B213,'Daily Log'!$AS$18:$AS$1017),0)","v":0},{"$f":"IFERROR($E213*SUMIF('Daily Log'!$AU$18:$AU$1017,$B213,'Daily Log'!$AV$18:$AV$1017),0)","v":0},{"$f":"IFERROR($E213*SUMIF('Daily Log'!$AX$18:$AX$1017,$B213,'Daily Log'!$AY$18:$AY$1017),0)","v":0},{"$f":"IFERROR($E213*SUMIF('Daily Log'!$BA$18:$BA$1017,$B213,'Daily Log'!$BB$18:$BB$1017),0)","v":0},{"$f":"IFERROR($E213*SUMIF('Daily Log'!$BD$18:$BD$1017,$B213,'Daily Log'!$BE$18:$BE$1017),0)","v":0},{"$f":"IFERROR($E213*SUMIF('Daily Log'!$BG$18:$BG$1017,$B213,'Daily Log'!$BH$18:$BH$1017),0)","v":0},{"$f":"IFERROR($E213*SUMIF('Daily Log'!$BJ$18:$BJ$1017,$B213,'Daily Log'!$BK$18:$BK$1017),0)","v":0},{"$f":"IFERROR($E213*SUMIF('Daily Log'!$BM$18:$BM$1017,$B213,'Daily Log'!$BN$18:$BN$1017),0)","v":0},{"$f":"IFERROR($E213*SUMIF('Daily Log'!$BP$18:$BP$1017,$B213,'Daily Log'!$BQ$18:$BQ$1017),0)","v":0},{"$f":"IFERROR($E213*SUMIF('Daily Log'!$BS$18:$BS$1017,$B213,'Daily Log'!$BT$18:$BT$1017),0)","v":0},{"$f":"IFERROR($E213*SUMIF('Daily Log'!$BV$18:$BV$1017,$B213,'Daily Log'!$BW$18:$BW$1017),0)","v":0},{"$f":"IFERROR($E213*SUMIF('Daily Log'!$BY$18:$BY$1017,$B213,'Daily Log'!$BZ$18:$BZ$1017),0)","v":0},{"$f":"IFERROR($E213*SUMIF('Daily Log'!$CB$18:$CB$1017,$B213,'Daily Log'!$CC$18:$CC$1017),0)","v":0},{"$f":"IFERROR($E213*SUMIF('Daily Log'!$CE$18:$CE$1017,$B213,'Daily Log'!$CF$18:$CF$1017),0)","v":0},{"$f":"IFERROR($E213*SUMIF('Daily Log'!$CH$18:$CH$1017,$B213,'Daily Log'!$CI$18:$CI$1017),0)","v":0},{"$f":"IFERROR($E213*SUMIF('Daily Log'!$CK$18:$CK$1017,$B213,'Daily Log'!$CL$18:$CL$1017),0)","v":0},{"$f":"IFERROR($E213*SUMIF('Daily Log'!$CN$18:$CN$1017,$B213,'Daily Log'!$CO$18:$CO$1017),0)","v":0}]
[null,"RS39 71309:MC S.FRIES",null,"REDEEMED",1,0,{"$f":"IFERROR($E214*SUMIF('Daily Log'!$B$18:$B$1017,$B214,'Daily Log'!$C$18:$C$1017),0)","v":0},{"$f":"IFERROR($E214*SUMIF('Daily Log'!$E$18:$E$1017,$B214,'Daily Log'!$F$18:$F$1017),0)","v":0},{"$f":"IFERROR($E214*SUMIF('Daily Log'!$H$18:$H$1017,$B214,'Daily Log'!$I$18:$I$1017),0)","v":0},{"$f":"IFERROR($E214*SUMIF('Daily Log'!$K$18:$K$1017,$B214,'Daily Log'!$L$18:$L$1017),0)","v":0},{"$f":"IFERROR($E214*SUMIF('Daily Log'!$N$18:$N$1017,$B214,'Daily Log'!$O$18:$O$1017),0)","v":0},{"$f":"IFERROR($E214*SUMIF('Daily Log'!$Q$18:$Q$1017,$B214,'Daily Log'!$R$18:$R$1017),0)","v":0},{"$f":"IFERROR($E214*SUMIF('Daily Log'!$T$18:$T$1017,$B214,'Daily Log'!$U$18:$U$1017),0)","v":0},{"$f":"IFERROR($E214*SUMIF('Daily Log'!$W$18:$W$1017,$B214,'Daily Log'!$X$18:$X$1017),0)","v":0},{"$f":"IFERROR($E214*SUMIF('Daily Log'!$Z$18:$Z$1017,$B214,'Daily Log'!$AA$18:$AA$1017),0)","v":0},{"$f":"IFERROR($E214*SUMIF('Daily Log'!$AC$18:$AC$1017,$B214,'Daily Log'!$AD$18:$AD$1017),0)","v":0},{"$f":"IFERROR($E214*SUMIF('Daily Log'!$AF$18:$AF$1017,$B214,'Daily Log'!$AG$18:$AG$1017),0)","v":0},{"$f":"IFERROR($E214*SUMIF('Daily Log'!$AI$18:$AI$1017,$B214,'Daily Log'!$AJ$18:$AJ$1017),0)","v":0},{"$f":"IFERROR($E214*SUMIF('Daily Log'!$AL$18:$AL$1017,$B214,'Daily Log'!$AM$18:$AM$1017),0)","v":0},{"$f":"IFERROR($E214*SUMIF('Daily Log'!$AO$18:$AO$1017,$B214,'Daily Log'!$AP$18:$AP$1017),0)","v":0},{"$f":"IFERROR($E214*SUMIF('Daily Log'!$AR$18:$AR$1017,$B214,'Daily Log'!$AS$18:$AS$1017),0)","v":0},{"$f":"IFERROR($E214*SUMIF('Daily Log'!$AU$18:$AU$1017,$B214,'Daily Log'!$AV$18:$AV$1017),0)","v":0},{"$f":"IFERROR($E214*SUMIF('Daily Log'!$AX$18:$AX$1017,$B214,'Daily Log'!$AY$18:$AY$1017),0)","v":0},{"$f":"IFERROR($E214*SUMIF('Daily Log'!$BA$18:$BA$1017,$B214,'Daily Log'!$BB$18:$BB$1017),0)","v":0},{"$f":"IFERROR($E214*SUMIF('Daily Log'!$BD$18:$BD$1017,$B214,'Daily Log'!$BE$18:$BE$1017),0)","v":0},{"$f":"IFERROR($E214*SUMIF('Daily Log'!$BG$18:$BG$1017,$B214,'Daily Log'!$BH$18:$BH$1017),0)","v":0},{"$f":"IFERROR($E214*SUMIF('Daily Log'!$BJ$18:$BJ$1017,$B214,'Daily Log'!$BK$18:$BK$1017),0)","v":0},{"$f":"IFERROR($E214*SUMIF('Daily Log'!$BM$18:$BM$1017,$B214,'Daily Log'!$BN$18:$BN$1017),0)","v":0},{"$f":"IFERROR($E214*SUMIF('Daily Log'!$BP$18:$BP$1017,$B214,'Daily Log'!$BQ$18:$BQ$1017),0)","v":0},{"$f":"IFERROR($E214*SUMIF('Daily Log'!$BS$18:$BS$1017,$B214,'Daily Log'!$BT$18:$BT$1017),0)","v":0},{"$f":"IFERROR($E214*SUMIF('Daily Log'!$BV$18:$BV$1017,$B214,'Daily Log'!$BW$18:$BW$1017),0)","v":0},{"$f":"IFERROR($E214*SUMIF('Daily Log'!$BY$18:$BY$1017,$B214,'Daily Log'!$BZ$18:$BZ$1017),0)","v":0},{"$f":"IFERROR($E214*SUMIF('Daily Log'!$CB$18:$CB$1017,$B214,'Daily Log'!$CC$18:$CC$1017),0)","v":0},{"$f":"IFERROR($E214*SUMIF('Daily Log'!$CE$18:$CE$1017,$B214,'Daily Log'!$CF$18:$CF$1017),0)","v":0},{"$f":"IFERROR($E214*SUMIF('Daily Log'!$CH$18:$CH$1017,$B214,'Daily Log'!$CI$18:$CI$1017),0)","v":0},{"$f":"IFERROR($E214*SUMIF('Daily Log'!$CK$18:$CK$1017,$B214,'Daily Log'!$CL$18:$CL$1017),0)","v":0},{"$f":"IFERROR($E214*SUMIF('Daily Log'!$CN$18:$CN$1017,$B214,'Daily Log'!$CO$18:$CO$1017),0)","v":0}]
[null,"RS41 71311:MC HSH BRW",null,"REDEEMED",1,0,{"$f":"IFERROR($E215*SUMIF('Daily Log'!$B$18:$B$1017,$B215,'Daily Log'!$C$18:$C$1017),0)","v":0},{"$f":"IFERROR($E215*SUMIF('Daily Log'!$E$18:$E$1017,$B215,'Daily Log'!$F$18:$F$1017),0)","v":0},{"$f":"IFERROR($E215*SUMIF('Daily Log'!$H$18:$H$1017,$B215,'Daily Log'!$I$18:$I$1017),0)","v":0},{"$f":"IFERROR($E215*SUMIF('Daily Log'!$K$18:$K$1017,$B215,'Daily Log'!$L$18:$L$1017),0)","v":0},{"$f":"IFERROR($E215*SUMIF('Daily Log'!$N$18:$N$1017,$B215,'Daily Log'!$O$18:$O$1017),0)","v":0},{"$f":"IFERROR($E215*SUMIF('Daily Log'!$Q$18:$Q$1017,$B215,'Daily Log'!$R$18:$R$1017),0)","v":0},{"$f":"IFERROR($E215*SUMIF('Daily Log'!$T$18:$T$1017,$B215,'Daily Log'!$U$18:$U$1017),0)","v":0},{"$f":"IFERROR($E215*SUMIF('Daily Log'!$W$18:$W$1017,$B215,'Daily Log'!$X$18:$X$1017),0)","v":0},{"$f":"IFERROR($E215*SUMIF('Daily Log'!$Z$18:$Z$1017,$B215,'Daily Log'!$AA$18:$AA$1017),0)","v":0},{"$f":"IFERROR($E215*SUMIF('Daily Log'!$AC$18:$AC$1017,$B215,'Daily Log'!$AD$18:$AD$1017),0)","v":0},{"$f":"IFERROR($E215*SUMIF('Daily Log'!$AF$18:$AF$1017,$B215,'Daily Log'!$AG$18:$AG$1017),0)","v":0},{"$f":"IFERROR($E215*SUMIF('Daily Log'!$AI$18:$AI$1017,$B215,'Daily Log'!$AJ$18:$AJ$1017),0)","v":0},{"$f":"IFERROR($E215*SUMIF('Daily Log'!$AL$18:$AL$1017,$B215,'Daily Log'!$AM$18:$AM$1017),0)","v":0},{"$f":"IFERROR($E215*SUMIF('Daily Log'!$AO$18:$AO$1017,$B215,'Daily Log'!$AP$18:$AP$1017),0)","v":0},{"$f":"IFERROR($E215*SUMIF('Daily Log'!$AR$18:$AR$1017,$B215,'Daily Log'!$AS$18:$AS$1017),0)","v":0},{"$f":"IFERROR($E215*SUMIF('Daily Log'!$AU$18:$AU$1017,$B215,'Daily Log'!$AV$18:$AV$1017),0)","v":0},{"$f":"IFERROR($E215*SUMIF('Daily Log'!$AX$18:$AX$1017,$B215,'Daily Log'!$AY$18:$AY$1017),0)","v":0},{"$f":"IFERROR($E215*SUMIF('Daily Log'!$BA$18:$BA$1017,$B215,'Daily Log'!$BB$18:$BB$1017),0)","v":0},{"$f":"IFERROR($E215*SUMIF('Daily Log'!$BD$18:$BD$1017,$B215,'Daily Log'!$BE$18:$BE$1017),0)","v":0},{"$f":"IFERROR($E215*SUMIF('Daily Log'!$BG$18:$BG$1017,$B215,'Daily Log'!$BH$18:$BH$1017),0)","v":0},{"$f":"IFERROR($E215*SUMIF('Daily Log'!$BJ$18:$BJ$1017,$B215,'Daily Log'!$BK$18:$BK$1017),0)","v":0},{"$f":"IFERROR($E215*SUMIF('Daily Log'!$BM$18:$BM$1017,$B215,'Daily Log'!$BN$18:$BN$1017),0)","v":0},{"$f":"IFERROR($E215*SUMIF('Daily Log'!$BP$18:$BP$1017,$B215,'Daily Log'!$BQ$18:$BQ$1017),0)","v":0},{"$f":"IFERROR($E215*SUMIF('Daily Log'!$BS$18:$BS$1017,$B215,'Daily Log'!$BT$18:$BT$1017),0)","v":0},{"$f":"IFERROR($E215*SUMIF('Daily Log'!$BV$18:$BV$1017,$B215,'Daily Log'!$BW$18:$BW$1017),0)","v":0},{"$f":"IFERROR($E215*SUMIF('Daily Log'!$BY$18:$BY$1017,$B215,'Daily Log'!$BZ$18:$BZ$1017),0)","v":0},{"$f":"IFERROR($E215*SUMIF('Daily Log'!$CB$18:$CB$1017,$B215,'Daily Log'!$CC$18:$CC$1017),0)","v":0},{"$f":"IFERROR($E215*SUMIF('Daily Log'!$CE$18:$CE$1017,$B215,'Daily Log'!$CF$18:$CF$1017),0)","v":0},{"$f":"IFERROR($E215*SUMIF('Daily Log'!$CH$18:$CH$1017,$B215,'Daily Log'!$CI$18:$CI$1017),0)","v":0},{"$f":"IFERROR($E215*SUMIF('Daily Log'!$CK$18:$CK$1017,$B215,'Daily Log'!$CL$18:$CL$1017),0)","v":0},{"$f":"IFERROR($E215*SUMIF('Daily Log'!$CN$18:$CN$1017,$B215,'Daily Log'!$CO$18:$CO$1017),0)","v":0}]
[null,"RS40 71310:MC HP SMIL",null,"REDEEMED",1,0,{"$f":"IFERROR($E216*SUMIF('Daily Log'!$B$18:$B$1017,$B216,'Daily Log'!$C$18:$C$1017),0)","v":0},{"$f":"IFERROR($E216*SUMIF('Daily Log'!$E$18:$E$1017,$B216,'Daily Log'!$F$18:$F$1017),0)","v":0},{"$f":"IFERROR($E216*SUMIF('Daily Log'!$H$18:$H$1017,$B216,'Daily Log'!$I$18:$I$1017),0)","v":0},{"$f":"IFERROR($E216*SUMIF('Daily Log'!$K$18:$K$1017,$B216,'Daily Log'!$L$18:$L$1017),0)","v":0},{"$f":"IFERROR($E216*SUMIF('Daily Log'!$N$18:$N$1017,$B216,'Daily Log'!$O$18:$O$1017),0)","v":0},{"$f":"IFERROR($E216*SUMIF('Daily Log'!$Q$18:$Q$1017,$B216,'Daily Log'!$R$18:$R$1017),0)","v":0},{"$f":"IFERROR($E216*SUMIF('Daily Log'!$T$18:$T$1017,$B216,'Daily Log'!$U$18:$U$1017),0)","v":0},{"$f":"IFERROR($E216*SUMIF('Daily Log'!$W$18:$W$1017,$B216,'Daily Log'!$X$18:$X$1017),0)","v":0},{"$f":"IFERROR($E216*SUMIF('Daily Log'!$Z$18:$Z$1017,$B216,'Daily Log'!$AA$18:$AA$1017),0)","v":0},{"$f":"IFERROR($E216*SUMIF('Daily Log'!$AC$18:$AC$1017,$B216,'Daily Log'!$AD$18:$AD$1017),0)","v":0},{"$f":"IFERROR($E216*SUMIF('Daily Log'!$AF$18:$AF$1017,$B216,'Daily Log'!$AG$18:$AG$1017),0)","v":0},{"$f":"IFERROR($E216*SUMIF('Daily Log'!$AI$18:$AI$1017,$B216,'Daily Log'!$AJ$18:$AJ$1017),0)","v":0},{"$f":"IFERROR($E216*SUMIF('Daily Log'!$AL$18:$AL$1017,$B216,'Daily Log'!$AM$18:$AM$1017),0)","v":0},{"$f":"IFERROR($E216*SUMIF('Daily Log'!$AO$18:$AO$1017,$B216,'Daily Log'!$AP$18:$AP$1017),0)","v":0},{"$f":"IFERROR($E216*SUMIF('Daily Log'!$AR$18:$AR$1017,$B216,'Daily Log'!$AS$18:$AS$1017),0)","v":0},{"$f":"IFERROR($E216*SUMIF('Daily Log'!$AU$18:$AU$1017,$B216,'Daily Log'!$AV$18:$AV$1017),0)","v":0},{"$f":"IFERROR($E216*SUMIF('Daily Log'!$AX$18:$AX$1017,$B216,'Daily Log'!$AY$18:$AY$1017),0)","v":0},{"$f":"IFERROR($E216*SUMIF('Daily Log'!$BA$18:$BA$1017,$B216,'Daily Log'!$BB$18:$BB$1017),0)","v":0},{"$f":"IFERROR($E216*SUMIF('Daily Log'!$BD$18:$BD$1017,$B216,'Daily Log'!$BE$18:$BE$1017),0)","v":0},{"$f":"IFERROR($E216*SUMIF('Daily Log'!$BG$18:$BG$1017,$B216,'Daily Log'!$BH$18:$BH$1017),0)","v":0},{"$f":"IFERROR($E216*SUMIF('Daily Log'!$BJ$18:$BJ$1017,$B216,'Daily Log'!$BK$18:$BK$1017),0)","v":0},{"$f":"IFERROR($E216*SUMIF('Daily Log'!$BM$18:$BM$1017,$B216,'Daily Log'!$BN$18:$BN$1017),0)","v":0},{"$f":"IFERROR($E216*SUMIF('Daily Log'!$BP$18:$BP$1017,$B216,'Daily Log'!$BQ$18:$BQ$1017),0)","v":0},{"$f":"IFERROR($E216*SUMIF('Daily Log'!$BS$18:$BS$1017,$B216,'Daily Log'!$BT$18:$BT$1017),0)","v":0},{"$f":"IFERROR($E216*SUMIF('Daily Log'!$BV$18:$BV$1017,$B216,'Daily Log'!$BW$18:$BW$1017),0)","v":0},{"$f":"IFERROR($E216*SUMIF('Daily Log'!$BY$18:$BY$1017,$B216,'Daily Log'!$BZ$18:$BZ$1017),0)","v":0},{"$f":"IFERROR($E216*SUMIF('Daily Log'!$CB$18:$CB$1017,$B216,'Daily Log'!$CC$18:$CC$1017),0)","v":0},{"$f":"IFERROR($E216*SUMIF('Daily Log'!$CE$18:$CE$1017,$B216,'Daily Log'!$CF$18:$CF$1017),0)","v":0},{"$f":"IFERROR($E216*SUMIF('Daily Log'!$CH$18:$CH$1017,$B216,'Daily Log'!$CI$18:$CI$1017),0)","v":0},{"$f":"IFERROR($E216*SUMIF('Daily Log'!$CK$18:$CK$1017,$B216,'Daily Log'!$CL$18:$CL$1017),0)","v":0},{"$f":"IFERROR($E216*SUMIF('Daily Log'!$CN$18:$CN$1017,$B216,'Daily Log'!$CO$18:$CO$1017),0)","v":0}]
[null,"RW03 71003:MR CKN CP",null,"REDEEMED",1,0,{"$f":"IFERROR($E217*SUMIF('Daily Log'!$B$18:$B$1017,$B217,'Daily Log'!$C$18:$C$1017),0)","v":0},{"$f":"IFERROR($E217*SUMIF('Daily Log'!$E$18:$E$1017,$B217,'Daily Log'!$F$18:$F$1017),0)","v":0},{"$f":"IFERROR($E217*SUMIF('Daily Log'!$H$18:$H$1017,$B217,'Daily Log'!$I$18:$I$1017),0)","v":0},{"$f":"IFERROR($E217*SUMIF('Daily Log'!$K$18:$K$1017,$B217,'Daily Log'!$L$18:$L$1017),0)","v":0},{"$f":"IFERROR($E217*SUMIF('Daily Log'!$N$18:$N$1017,$B217,'Daily Log'!$O$18:$O$1017),0)","v":0},{"$f":"IFERROR($E217*SUMIF('Daily Log'!$Q$18:$Q$1017,$B217,'Daily Log'!$R$18:$R$1017),0)","v":0},{"$f":"IFERROR($E217*SUMIF('Daily Log'!$T$18:$T$1017,$B217,'Daily Log'!$U$18:$U$1017),0)","v":0},{"$f":"IFERROR($E217*SUMIF('Daily Log'!$W$18:$W$1017,$B217,'Daily Log'!$X$18:$X$1017),0)","v":0},{"$f":"IFERROR($E217*SUMIF('Daily Log'!$Z$18:$Z$1017,$B217,'Daily Log'!$AA$18:$AA$1017),0)","v":0},{"$f":"IFERROR($E217*SUMIF('Daily Log'!$AC$18:$AC$1017,$B217,'Daily Log'!$AD$18:$AD$1017),0)","v":0},{"$f":"IFERROR($E217*SUMIF('Daily Log'!$AF$18:$AF$1017,$B217,'Daily Log'!$AG$18:$AG$1017),0)","v":0},{"$f":"IFERROR($E217*SUMIF('Daily Log'!$AI$18:$AI$1017,$B217,'Daily Log'!$AJ$18:$AJ$1017),0)","v":0},{"$f":"IFERROR($E217*SUMIF('Daily Log'!$AL$18:$AL$1017,$B217,'Daily Log'!$AM$18:$AM$1017),0)","v":0},{"$f":"IFERROR($E217*SUMIF('Daily Log'!$AO$18:$AO$1017,$B217,'Daily Log'!$AP$18:$AP$1017),0)","v":0},{"$f":"IFERROR($E217*SUMIF('Daily Log'!$AR$18:$AR$1017,$B217,'Daily Log'!$AS$18:$AS$1017),0)","v":0},{"$f":"IFERROR($E217*SUMIF('Daily Log'!$AU$18:$AU$1017,$B217,'Daily Log'!$AV$18:$AV$1017),0)","v":0},{"$f":"IFERROR($E217*SUMIF('Daily Log'!$AX$18:$AX$1017,$B217,'Daily Log'!$AY$18:$AY$1017),0)","v":0},{"$f":"IFERROR($E217*SUMIF('Daily Log'!$BA$18:$BA$1017,$B217,'Daily Log'!$BB$18:$BB$1017),0)","v":0},{"$f":"IFERROR($E217*SUMIF('Daily Log'!$BD$18:$BD$1017,$B217,'Daily Log'!$BE$18:$BE$1017),0)","v":0},{"$f":"IFERROR($E217*SUMIF('Daily Log'!$BG$18:$BG$1017,$B217,'Daily Log'!$BH$18:$BH$1017),0)","v":0},{"$f":"IFERROR($E217*SUMIF('Daily Log'!$BJ$18:$BJ$1017,$B217,'Daily Log'!$BK$18:$BK$1017),0)","v":0},{"$f":"IFERROR($E217*SUMIF('Daily Log'!$BM$18:$BM$1017,$B217,'Daily Log'!$BN$18:$BN$1017),0)","v":0},{"$f":"IFERROR($E217*SUMIF('Daily Log'!$BP$18:$BP$1017,$B217,'Daily Log'!$BQ$18:$BQ$1017),0)","v":0},{"$f":"IFERROR($E217*SUMIF('Daily Log'!$BS$18:$BS$1017,$B217,'Daily Log'!$BT$18:$BT$1017),0)","v":0},{"$f":"IFERROR($E217*SUMIF('Daily Log'!$BV$18:$BV$1017,$B217,'Daily Log'!$BW$18:$BW$1017),0)","v":0},{"$f":"IFERROR($E217*SUMIF('Daily Log'!$BY$18:$BY$1017,$B217,'Daily Log'!$BZ$18:$BZ$1017),0)","v":0},{"$f":"IFERROR($E217*SUMIF('Daily Log'!$CB$18:$CB$1017,$B217,'Daily Log'!$CC$18:$CC$1017),0)","v":0},{"$f":"IFERROR($E217*SUMIF('Daily Log'!$CE$18:$CE$1017,$B217,'Daily Log'!$CF$18:$CF$1017),0)","v":0},{"$f":"IFERROR($E217*SUMIF('Daily Log'!$CH$18:$CH$1017,$B217,'Daily Log'!$CI$18:$CI$1017),0)","v":0},{"$f":"IFERROR($E217*SUMIF('Daily Log'!$CK$18:$CK$1017,$B217,'Daily Log'!$CL$18:$CL$1017),0)","v":0},{"$f":"IFERROR($E217*SUMIF('Daily Log'!$CN$18:$CN$1017,$B217,'Daily Log'!$CO$18:$CO$1017),0)","v":0}]
[null,"RL15 71112:CHK NOODLE",null,"REDEEMED",1,0,{"$f":"IFERROR($E218*SUMIF('Daily Log'!$B$18:$B$1017,$B218,'Daily Log'!$C$18:$C$1017),0)","v":0},{"$f":"IFERROR($E218*SUMIF('Daily Log'!$E$18:$E$1017,$B218,'Daily Log'!$F$18:$F$1017),0)","v":0},{"$f":"IFERROR($E218*SUMIF('Daily Log'!$H$18:$H$1017,$B218,'Daily Log'!$I$18:$I$1017),0)","v":0},{"$f":"IFERROR($E218*SUMIF('Daily Log'!$K$18:$K$1017,$B218,'Daily Log'!$L$18:$L$1017),0)","v":0},{"$f":"IFERROR($E218*SUMIF('Daily Log'!$N$18:$N$1017,$B218,'Daily Log'!$O$18:$O$1017),0)","v":0},{"$f":"IFERROR($E218*SUMIF('Daily Log'!$Q$18:$Q$1017,$B218,'Daily Log'!$R$18:$R$1017),0)","v":0},{"$f":"IFERROR($E218*SUMIF('Daily Log'!$T$18:$T$1017,$B218,'Daily Log'!$U$18:$U$1017),0)","v":0},{"$f":"IFERROR($E218*SUMIF('Daily Log'!$W$18:$W$1017,$B218,'Daily Log'!$X$18:$X$1017),0)","v":0},{"$f":"IFERROR($E218*SUMIF('Daily Log'!$Z$18:$Z$1017,$B218,'Daily Log'!$AA$18:$AA$1017),0)","v":0},{"$f":"IFERROR($E218*SUMIF('Daily Log'!$AC$18:$AC$1017,$B218,'Daily Log'!$AD$18:$AD$1017),0)","v":0},{"$f":"IFERROR($E218*SUMIF('Daily Log'!$AF$18:$AF$1017,$B218,'Daily Log'!$AG$18:$AG$1017),0)","v":0},{"$f":"IFERROR($E218*SUMIF('Daily Log'!$AI$18:$AI$1017,$B218,'Daily Log'!$AJ$18:$AJ$1017),0)","v":0},{"$f":"IFERROR($E218*SUMIF('Daily Log'!$AL$18:$AL$1017,$B218,'Daily Log'!$AM$18:$AM$1017),0)","v":0},{"$f":"IFERROR($E218*SUMIF('Daily Log'!$AO$18:$AO$1017,$B218,'Daily Log'!$AP$18:$AP$1017),0)","v":0},{"$f":"IFERROR($E218*SUMIF('Daily Log'!$AR$18:$AR$1017,$B218,'Daily Log'!$AS$18:$AS$1017),0)","v":0},{"$f":"IFERROR($E218*SUMIF('Daily Log'!$AU$18:$AU$1017,$B218,'Daily Log'!$AV$18:$AV$1017),0)","v":0},{"$f":"IFERROR($E218*SUMIF('Daily Log'!$AX$18:$AX$1017,$B218,'Daily Log'!$AY$18:$AY$1017),0)","v":0},{"$f":"IFERROR($E218*SUMIF('Daily Log'!$BA$18:$BA$1017,$B218,'Daily Log'!$BB$18:$BB$1017),0)","v":0},{"$f":"IFERROR($E218*SUMIF('Daily Log'!$BD$18:$BD$1017,$B218,'Daily Log'!$BE$18:$BE$1017),0)","v":0},{"$f":"IFERROR($E218*SUMIF('Daily Log'!$BG$18:$BG$1017,$B218,'Daily Log'!$BH$18:$BH$1017),0)","v":0},{"$f":"IFERROR($E218*SUMIF('Daily Log'!$BJ$18:$BJ$1017,$B218,'Daily Log'!$BK$18:$BK$1017),0)","v":0},{"$f":"IFERROR($E218*SUMIF('Daily Log'!$BM$18:$BM$1017,$B218,'Daily Log'!$BN$18:$BN$1017),0)","v":0},{"$f":"IFERROR($E218*SUMIF('Daily Log'!$BP$18:$BP$1017,$B218,'Daily Log'!$BQ$18:$BQ$1017),0)","v":0},{"$f":"IFERROR($E218*SUMIF('Daily Log'!$BS$18:$BS$1017,$B218,'Daily Log'!$BT$18:$BT$1017),0)","v":0},{"$f":"IFERROR($E218*SUMIF('Daily Log'!$BV$18:$BV$1017,$B218,'Daily Log'!$BW$18:$BW$1017),0)","v":0},{"$f":"IFERROR($E218*SUMIF('Daily Log'!$BY$18:$BY$1017,$B218,'Daily Log'!$BZ$18:$BZ$1017),0)","v":0},{"$f":"IFERROR($E218*SUMIF('Daily Log'!$CB$18:$CB$1017,$B218,'Daily Log'!$CC$18:$CC$1017),0)","v":0},{"$f":"IFERROR($E218*SUMIF('Daily Log'!$CE$18:$CE$1017,$B218,'Daily Log'!$CF$18:$CF$1017),0)","v":0},{"$f":"IFERROR($E218*SUMIF('Daily Log'!$CH$18:$CH$1017,$B218,'Daily Log'!$CI$18:$CI$1017),0)","v":0},{"$f":"IFERROR($E218*SUMIF('Daily Log'!$CK$18:$CK$1017,$B218,'Daily Log'!$CL$18:$CL$1017),0)","v":0},{"$f":"IFERROR($E218*SUMIF('Daily Log'!$CN$18:$CN$1017,$B218,'Daily Log'!$CO$18:$CO$1017),0)","v":0}]
[null,"RL16 71103:MGL CHK",null,"REDEEMED",1,0,{"$f":"IFERROR($E219*SUMIF('Daily Log'!$B$18:$B$1017,$B219,'Daily Log'!$C$18:$C$1017),0)","v":0},{"$f":"IFERROR($E219*SUMIF('Daily Log'!$E$18:$E$1017,$B219,'Daily Log'!$F$18:$F$1017),0)","v":0},{"$f":"IFERROR($E219*SUMIF('Daily Log'!$H$18:$H$1017,$B219,'Daily Log'!$I$18:$I$1017),0)","v":0},{"$f":"IFERROR($E219*SUMIF('Daily Log'!$K$18:$K$1017,$B219,'Daily Log'!$L$18:$L$1017),0)","v":0},{"$f":"IFERROR($E219*SUMIF('Daily Log'!$N$18:$N$1017,$B219,'Daily Log'!$O$18:$O$1017),0)","v":0},{"$f":"IFERROR($E219*SUMIF('Daily Log'!$Q$18:$Q$1017,$B219,'Daily Log'!$R$18:$R$1017),0)","v":0},{"$f":"IFERROR($E219*SUMIF('Daily Log'!$T$18:$T$1017,$B219,'Daily Log'!$U$18:$U$1017),0)","v":0},{"$f":"IFERROR($E219*SUMIF('Daily Log'!$W$18:$W$1017,$B219,'Daily Log'!$X$18:$X$1017),0)","v":0},{"$f":"IFERROR($E219*SUMIF('Daily Log'!$Z$18:$Z$1017,$B219,'Daily Log'!$AA$18:$AA$1017),0)","v":0},{"$f":"IFERROR($E219*SUMIF('Daily Log'!$AC$18:$AC$1017,$B219,'Daily Log'!$AD$18:$AD$1017),0)","v":0},{"$f":"IFERROR($E219*SUMIF('Daily Log'!$AF$18:$AF$1017,$B219,'Daily Log'!$AG$18:$AG$1017),0)","v":0},{"$f":"IFERROR($E219*SUMIF('Daily Log'!$AI$18:$AI$1017,$B219,'Daily Log'!$AJ$18:$AJ$1017),0)","v":0},{"$f":"IFERROR($E219*SUMIF('Daily Log'!$AL$18:$AL$1017,$B219,'Daily Log'!$AM$18:$AM$1017),0)","v":0},{"$f":"IFERROR($E219*SUMIF('Daily Log'!$AO$18:$AO$1017,$B219,'Daily Log'!$AP$18:$AP$1017),0)","v":0},{"$f":"IFERROR($E219*SUMIF('Daily Log'!$AR$18:$AR$1017,$B219,'Daily Log'!$AS$18:$AS$1017),0)","v":0},{"$f":"IFERROR($E219*SUMIF('Daily Log'!$AU$18:$AU$1017,$B219,'Daily Log'!$AV$18:$AV$1017),0)","v":0},{"$f":"IFERROR($E219*SUMIF('Daily Log'!$AX$18:$AX$1017,$B219,'Daily Log'!$AY$18:$AY$1017),0)","v":0},{"$f":"IFERROR($E219*SUMIF('Daily Log'!$BA$18:$BA$1017,$B219,'Daily Log'!$BB$18:$BB$1017),0)","v":0},{"$f":"IFERROR($E219*SUMIF('Daily Log'!$BD$18:$BD$1017,$B219,'Daily Log'!$BE$18:$BE$1017),0)","v":0},{"$f":"IFERROR($E219*SUMIF('Daily Log'!$BG$18:$BG$1017,$B219,'Daily Log'!$BH$18:$BH$1017),0)","v":0},{"$f":"IFERROR($E219*SUMIF('Daily Log'!$BJ$18:$BJ$1017,$B219,'Daily Log'!$BK$18:$BK$1017),0)","v":0},{"$f":"IFERROR($E219*SUMIF('Daily Log'!$BM$18:$BM$1017,$B219,'Daily Log'!$BN$18:$BN$1017),0)","v":0},{"$f":"IFERROR($E219*SUMIF('Daily Log'!$BP$18:$BP$1017,$B219,'Daily Log'!$BQ$18:$BQ$1017),0)","v":0},{"$f":"IFERROR($E219*SUMIF('Daily Log'!$BS$18:$BS$1017,$B219,'Daily Log'!$BT$18:$BT$1017),0)","v":0},{"$f":"IFERROR($E219*SUMIF('Daily Log'!$BV$18:$BV$1017,$B219,'Daily Log'!$BW$18:$BW$1017),0)","v":0},{"$f":"IFERROR($E219*SUMIF('Daily Log'!$BY$18:$BY$1017,$B219,'Daily Log'!$BZ$18:$BZ$1017),0)","v":0},{"$f":"IFERROR($E219*SUMIF('Daily Log'!$CB$18:$CB$1017,$B219,'Daily Log'!$CC$18:$CC$1017),0)","v":0},{"$f":"IFERROR($E219*SUMIF('Daily Log'!$CE$18:$CE$1017,$B219,'Daily Log'!$CF$18:$CF$1017),0)","v":0},{"$f":"IFERROR($E219*SUMIF('Daily Log'!$CH$18:$CH$1017,$B219,'Daily Log'!$CI$18:$CI$1017),0)","v":0},{"$f":"IFERROR($E219*SUMIF('Daily Log'!$CK$18:$CK$1017,$B219,'Daily Log'!$CL$18:$CL$1017),0)","v":0},{"$f":"IFERROR($E219*SUMIF('Daily Log'!$CN$18:$CN$1017,$B219,'Daily Log'!$CO$18:$CO$1017),0)","v":0}]
[null,"ZAA01 1201:SFD STICK",null,"PACKAGE-SIDE ORDER",1,15,{"$f":"IFERROR($E220*SUMIF('Daily Log'!$B$18:$B$1017,$B220,'Daily Log'!$C$18:$C$1017),0)","v":0},{"$f":"IFERROR($E220*SUMIF('Daily Log'!$E$18:$E$1017,$B220,'Daily Log'!$F$18:$F$1017),0)","v":0},{"$f":"IFERROR($E220*SUMIF('Daily Log'!$H$18:$H$1017,$B220,'Daily Log'!$I$18:$I$1017),0)","v":0},{"$f":"IFERROR($E220*SUMIF('Daily Log'!$K$18:$K$1017,$B220,'Daily Log'!$L$18:$L$1017),0)","v":0},{"$f":"IFERROR($E220*SUMIF('Daily Log'!$N$18:$N$1017,$B220,'Daily Log'!$O$18:$O$1017),0)","v":0},{"$f":"IFERROR($E220*SUMIF('Daily Log'!$Q$18:$Q$1017,$B220,'Daily Log'!$R$18:$R$1017),0)","v":0},{"$f":"IFERROR($E220*SUMIF('Daily Log'!$T$18:$T$1017,$B220,'Daily Log'!$U$18:$U$1017),0)","v":0},{"$f":"IFERROR($E220*SUMIF('Daily Log'!$W$18:$W$1017,$B220,'Daily Log'!$X$18:$X$1017),0)","v":0},{"$f":"IFERROR($E220*SUMIF('Daily Log'!$Z$18:$Z$1017,$B220,'Daily Log'!$AA$18:$AA$1017),0)","v":0},{"$f":"IFERROR($E220*SUMIF('Daily Log'!$AC$18:$AC$1017,$B220,'Daily Log'!$AD$18:$AD$1017),0)","v":0},{"$f":"IFERROR($E220*SUMIF('Daily Log'!$AF$18:$AF$1017,$B220,'Daily Log'!$AG$18:$AG$1017),0)","v":0},{"$f":"IFERROR($E220*SUMIF('Daily Log'!$AI$18:$AI$1017,$B220,'Daily Log'!$AJ$18:$AJ$1017),0)","v":0},{"$f":"IFERROR($E220*SUMIF('Daily Log'!$AL$18:$AL$1017,$B220,'Daily Log'!$AM$18:$AM$1017),0)","v":0},{"$f":"IFERROR($E220*SUMIF('Daily Log'!$AO$18:$AO$1017,$B220,'Daily Log'!$AP$18:$AP$1017),0)","v":0},{"$f":"IFERROR($E220*SUMIF('Daily Log'!$AR$18:$AR$1017,$B220,'Daily Log'!$AS$18:$AS$1017),0)","v":0},{"$f":"IFERROR($E220*SUMIF('Daily Log'!$AU$18:$AU$1017,$B220,'Daily Log'!$AV$18:$AV$1017),0)","v":0},{"$f":"IFERROR($E220*SUMIF('Daily Log'!$AX$18:$AX$1017,$B220,'Daily Log'!$AY$18:$AY$1017),0)","v":0},{"$f":"IFERROR($E220*SUMIF('Daily Log'!$BA$18:$BA$1017,$B220,'Daily Log'!$BB$18:$BB$1017),0)","v":0},{"$f":"IFERROR($E220*SUMIF('Daily Log'!$BD$18:$BD$1017,$B220,'Daily Log'!$BE$18:$BE$1017),0)","v":0},{"$f":"IFERROR($E220*SUMIF('Daily Log'!$BG$18:$BG$1017,$B220,'Daily Log'!$BH$18:$BH$1017),0)","v":0},{"$f":"IFERROR($E220*SUMIF('Daily Log'!$BJ$18:$BJ$1017,$B220,'Daily Log'!$BK$18:$BK$1017),0)","v":0},{"$f":"IFERROR($E220*SUMIF('Daily Log'!$BM$18:$BM$1017,$B220,'Daily Log'!$BN$18:$BN$1017),0)","v":0},{"$f":"IFERROR($E220*SUMIF('Daily Log'!$BP$18:$BP$1017,$B220,'Daily Log'!$BQ$18:$BQ$1017),0)","v":0},{"$f":"IFERROR($E220*SUMIF('Daily Log'!$BS$18:$BS$1017,$B220,'Daily Log'!$BT$18:$BT$1017),0)","v":0},{"$f":"IFERROR($E220*SUMIF('Daily Log'!$BV$18:$BV$1017,$B220,'Daily Log'!$BW$18:$BW$1017),0)","v":0},{"$f":"IFERROR($E220*SUMIF('Daily Log'!$BY$18:$BY$1017,$B220,'Daily Log'!$BZ$18:$BZ$1017),0)","v":0},{"$f":"IFERROR($E220*SUMIF('Daily Log'!$CB$18:$CB$1017,$B220,'Daily Log'!$CC$18:$CC$1017),0)","v":0},{"$f":"IFERROR($E220*SUMIF('Daily Log'!$CE$18:$CE$1017,$B220,'Daily Log'!$CF$18:$CF$1017),0)","v":0},{"$f":"IFERROR($E220*SUMIF('Daily Log'!$CH$18:$CH$1017,$B220,'Daily Log'!$CI$18:$CI$1017),0)","v":0},{"$f":"IFERROR($E220*SUMIF('Daily Log'!$CK$18:$CK$1017,$B220,'Daily Log'!$CL$18:$CL$1017),0)","v":0},{"$f":"IFERROR($E220*SUMIF('Daily Log'!$CN$18:$CN$1017,$B220,'Daily Log'!$CO$18:$CO$1017),0)","v":15}]
[null,"ZAA02 1202:FREN FRIES",null,"PACKAGE-SIDE ORDER",1,184,{"$f":"IFERROR($E221*SUMIF('Daily Log'!$B$18:$B$1017,$B221,'Daily Log'!$C$18:$C$1017),0)","v":0},{"$f":"IFERROR($E221*SUMIF('Daily Log'!$E$18:$E$1017,$B221,'Daily Log'!$F$18:$F$1017),0)","v":0},{"$f":"IFERROR($E221*SUMIF('Daily Log'!$H$18:$H$1017,$B221,'Daily Log'!$I$18:$I$1017),0)","v":0},{"$f":"IFERROR($E221*SUMIF('Daily Log'!$K$18:$K$1017,$B221,'Daily Log'!$L$18:$L$1017),0)","v":0},{"$f":"IFERROR($E221*SUMIF('Daily Log'!$N$18:$N$1017,$B221,'Daily Log'!$O$18:$O$1017),0)","v":0},{"$f":"IFERROR($E221*SUMIF('Daily Log'!$Q$18:$Q$1017,$B221,'Daily Log'!$R$18:$R$1017),0)","v":0},{"$f":"IFERROR($E221*SUMIF('Daily Log'!$T$18:$T$1017,$B221,'Daily Log'!$U$18:$U$1017),0)","v":0},{"$f":"IFERROR($E221*SUMIF('Daily Log'!$W$18:$W$1017,$B221,'Daily Log'!$X$18:$X$1017),0)","v":0},{"$f":"IFERROR($E221*SUMIF('Daily Log'!$Z$18:$Z$1017,$B221,'Daily Log'!$AA$18:$AA$1017),0)","v":0},{"$f":"IFERROR($E221*SUMIF('Daily Log'!$AC$18:$AC$1017,$B221,'Daily Log'!$AD$18:$AD$1017),0)","v":0},{"$f":"IFERROR($E221*SUMIF('Daily Log'!$AF$18:$AF$1017,$B221,'Daily Log'!$AG$18:$AG$1017),0)","v":0},{"$f":"IFERROR($E221*SUMIF('Daily Log'!$AI$18:$AI$1017,$B221,'Daily Log'!$AJ$18:$AJ$1017),0)","v":0},{"$f":"IFERROR($E221*SUMIF('Daily Log'!$AL$18:$AL$1017,$B221,'Daily Log'!$AM$18:$AM$1017),0)","v":0},{"$f":"IFERROR($E221*SUMIF('Daily Log'!$AO$18:$AO$1017,$B221,'Daily Log'!$AP$18:$AP$1017),0)","v":0},{"$f":"IFERROR($E221*SUMIF('Daily Log'!$AR$18:$AR$1017,$B221,'Daily Log'!$AS$18:$AS$1017),0)","v":0},{"$f":"IFERROR($E221*SUMIF('Daily Log'!$AU$18:$AU$1017,$B221,'Daily Log'!$AV$18:$AV$1017),0)","v":0},{"$f":"IFERROR($E221*SUMIF('Daily Log'!$AX$18:$AX$1017,$B221,'Daily Log'!$AY$18:$AY$1017),0)","v":0},{"$f":"IFERROR($E221*SUMIF('Daily Log'!$BA$18:$BA$1017,$B221,'Daily Log'!$BB$18:$BB$1017),0)","v":0},{"$f":"IFERROR($E221*SUMIF('Daily Log'!$BD$18:$BD$1017,$B221,'Daily Log'!$BE$18:$BE$1017),0)","v":0},{"$f":"IFERROR($E221*SUMIF('Daily Log'!$BG$18:$BG$1017,$B221,'Daily Log'!$BH$18:$BH$1017),0)","v":0},{"$f":"IFERROR($E221*SUMIF('Daily Log'!$BJ$18:$BJ$1017,$B221,'Daily Log'!$BK$18:$BK$1017),0)","v":0},{"$f":"IFERROR($E221*SUMIF('Daily Log'!$BM$18:$BM$1017,$B221,'Daily Log'!$BN$18:$BN$1017),0)","v":0},{"$f":"IFERROR($E221*SUMIF('Daily Log'!$BP$18:$BP$1017,$B221,'Daily Log'!$BQ$18:$BQ$1017),0)","v":0},{"$f":"IFERROR($E221*SUMIF('Daily Log'!$BS$18:$BS$1017,$B221,'Daily Log'!$BT$18:$BT$1017),0)","v":0},{"$f":"IFERROR($E221*SUMIF('Daily Log'!$BV$18:$BV$1017,$B221,'Daily Log'!$BW$18:$BW$1017),0)","v":0},{"$f":"IFERROR($E221*SUMIF('Daily Log'!$BY$18:$BY$1017,$B221,'Daily Log'!$BZ$18:$BZ$1017),0)","v":0},{"$f":"IFERROR($E221*SUMIF('Daily Log'!$CB$18:$CB$1017,$B221,'Daily Log'!$CC$18:$CC$1017),0)","v":0},{"$f":"IFERROR($E221*SUMIF('Daily Log'!$CE$18:$CE$1017,$B221,'Daily Log'!$CF$18:$CF$1017),0)","v":0},{"$f":"IFERROR($E221*SUMIF('Daily Log'!$CH$18:$CH$1017,$B221,'Daily Log'!$CI$18:$CI$1017),0)","v":0},{"$f":"IFERROR($E221*SUMIF('Daily Log'!$CK$18:$CK$1017,$B221,'Daily Log'!$CL$18:$CL$1017),0)","v":0},{"$f":"IFERROR($E221*SUMIF('Daily Log'!$CN$18:$CN$1017,$B221,'Daily Log'!$CO$18:$CO$1017),0)","v":184}]
[null,"ZAA03 1203:GOLD MR",null,"PACKAGE-SIDE ORDER",1,{"$f":"SUM($G222:$AK222)","v":56},{"$f":"IFERROR($E222*SUMIF('Daily Log'!$B$18:$B$1017,$B222,'Daily Log'!$C$18:$C$1017),0)","v":0},{"$f":"IFERROR($E222*SUMIF('Daily Log'!$E$18:$E$1017,$B222,'Daily Log'!$F$18:$F$1017),0)","v":0},{"$f":"IFERROR($E222*SUMIF('Daily Log'!$H$18:$H$1017,$B222,'Daily Log'!$I$18:$I$1017),0)","v":0},{"$f":"IFERROR($E222*SUMIF('Daily Log'!$K$18:$K$1017,$B222,'Daily Log'!$L$18:$L$1017),0)","v":0},{"$f":"IFERROR($E222*SUMIF('Daily Log'!$N$18:$N$1017,$B222,'Daily Log'!$O$18:$O$1017),0)","v":0},{"$f":"IFERROR($E222*SUMIF('Daily Log'!$Q$18:$Q$1017,$B222,'Daily Log'!$R$18:$R$1017),0)","v":0},{"$f":"IFERROR($E222*SUMIF('Daily Log'!$T$18:$T$1017,$B222,'Daily Log'!$U$18:$U$1017),0)","v":0},{"$f":"IFERROR($E222*SUMIF('Daily Log'!$W$18:$W$1017,$B222,'Daily Log'!$X$18:$X$1017),0)","v":0},{"$f":"IFERROR($E222*SUMIF('Daily Log'!$Z$18:$Z$1017,$B222,'Daily Log'!$AA$18:$AA$1017),0)","v":0},{"$f":"IFERROR($E222*SUMIF('Daily Log'!$AC$18:$AC$1017,$B222,'Daily Log'!$AD$18:$AD$1017),0)","v":0},{"$f":"IFERROR($E222*SUMIF('Daily Log'!$AF$18:$AF$1017,$B222,'Daily Log'!$AG$18:$AG$1017),0)","v":0},{"$f":"IFERROR($E222*SUMIF('Daily Log'!$AI$18:$AI$1017,$B222,'Daily Log'!$AJ$18:$AJ$1017),0)","v":0},{"$f":"IFERROR($E222*SUMIF('Daily Log'!$AL$18:$AL$1017,$B222,'Daily Log'!$AM$18:$AM$1017),0)","v":0},{"$f":"IFERROR($E222*SUMIF('Daily Log'!$AO$18:$AO$1017,$B222,'Daily Log'!$AP$18:$AP$1017),0)","v":0},{"$f":"IFERROR($E222*SUMIF('Daily Log'!$AR$18:$AR$1017,$B222,'Daily Log'!$AS$18:$AS$1017),0)","v":0},{"$f":"IFERROR($E222*SUMIF('Daily Log'!$AU$18:$AU$1017,$B222,'Daily Log'!$AV$18:$AV$1017),0)","v":0},{"$f":"IFERROR($E222*SUMIF('Daily Log'!$AX$18:$AX$1017,$B222,'Daily Log'!$AY$18:$AY$1017),0)","v":0},{"$f":"IFERROR($E222*SUMIF('Daily Log'!$BA$18:$BA$1017,$B222,'Daily Log'!$BB$18:$BB$1017),0)","v":0},{"$f":"IFERROR($E222*SUMIF('Daily Log'!$BD$18:$BD$1017,$B222,'Daily Log'!$BE$18:$BE$1017),0)","v":0},{"$f":"IFERROR($E222*SUMIF('Daily Log'!$BG$18:$BG$1017,$B222,'Daily Log'!$BH$18:$BH$1017),0)","v":0},{"$f":"IFERROR($E222*SUMIF('Daily Log'!$BJ$18:$BJ$1017,$B222,'Daily Log'!$BK$18:$BK$1017),0)","v":0},{"$f":"IFERROR($E222*SUMIF('Daily Log'!$BM$18:$BM$1017,$B222,'Daily Log'!$BN$18:$BN$1017),0)","v":0},{"$f":"IFERROR($E222*SUMIF('Daily Log'!$BP$18:$BP$1017,$B222,'Daily Log'!$BQ$18:$BQ$1017),0)","v":0},{"$f":"IFERROR($E222*SUMIF('Daily Log'!$BS$18:$BS$1017,$B222,'Daily Log'!$BT$18:$BT$1017),0)","v":0},{"$f":"IFERROR($E222*SUMIF('Daily Log'!$BV$18:$BV$1017,$B222,'Daily Log'!$BW$18:$BW$1017),0)","v":0},{"$f":"IFERROR($E222*SUMIF('Daily Log'!$BY$18:$BY$1017,$B222,'Daily Log'!$BZ$18:$BZ$1017),0)","v":0},{"$f":"IFERROR($E222*SUMIF('Daily Log'!$CB$18:$CB$1017,$B222,'Daily Log'!$CC$18:$CC$1017),0)","v":0},{"$f":"IFERROR($E222*SUMIF('Daily Log'!$CE$18:$CE$1017,$B222,'Daily Log'!$CF$18:$CF$1017),0)","v":0},{"$f":"IFERROR($E222*SUMIF('Daily Log'!$CH$18:$CH$1017,$B222,'Daily Log'!$CI$18:$CI$1017),0)","v":0},{"$f":"IFERROR($E222*SUMIF('Daily Log'!$CK$18:$CK$1017,$B222,'Daily Log'!$CL$18:$CL$1017),0)","v":0},{"$f":"IFERROR($E222*SUMIF('Daily Log'!$CN$18:$CN$1017,$B222,'Daily Log'!$CO$18:$CO$1017),0)","v":56}]
[null,"ZAA04 1204:FSHBALL",null,"PACKAGE-SIDE ORDER",1,54,{"$f":"IFERROR($E223*SUMIF('Daily Log'!$B$18:$B$1017,$B223,'Daily Log'!$C$18:$C$1017),0)","v":0},{"$f":"IFERROR($E223*SUMIF('Daily Log'!$E$18:$E$1017,$B223,'Daily Log'!$F$18:$F$1017),0)","v":0},{"$f":"IFERROR($E223*SUMIF('Daily Log'!$H$18:$H$1017,$B223,'Daily Log'!$I$18:$I$1017),0)","v":0},{"$f":"IFERROR($E223*SUMIF('Daily Log'!$K$18:$K$1017,$B223,'Daily Log'!$L$18:$L$1017),0)","v":0},{"$f":"IFERROR($E223*SUMIF('Daily Log'!$N$18:$N$1017,$B223,'Daily Log'!$O$18:$O$1017),0)","v":0},{"$f":"IFERROR($E223*SUMIF('Daily Log'!$Q$18:$Q$1017,$B223,'Daily Log'!$R$18:$R$1017),0)","v":0},{"$f":"IFERROR($E223*SUMIF('Daily Log'!$T$18:$T$1017,$B223,'Daily Log'!$U$18:$U$1017),0)","v":0},{"$f":"IFERROR($E223*SUMIF('Daily Log'!$W$18:$W$1017,$B223,'Daily Log'!$X$18:$X$1017),0)","v":0},{"$f":"IFERROR($E223*SUMIF('Daily Log'!$Z$18:$Z$1017,$B223,'Daily Log'!$AA$18:$AA$1017),0)","v":0},{"$f":"IFERROR($E223*SUMIF('Daily Log'!$AC$18:$AC$1017,$B223,'Daily Log'!$AD$18:$AD$1017),0)","v":0},{"$f":"IFERROR($E223*SUMIF('Daily Log'!$AF$18:$AF$1017,$B223,'Daily Log'!$AG$18:$AG$1017),0)","v":0},{"$f":"IFERROR($E223*SUMIF('Daily Log'!$AI$18:$AI$1017,$B223,'Daily Log'!$AJ$18:$AJ$1017),0)","v":0},{"$f":"IFERROR($E223*SUMIF('Daily Log'!$AL$18:$AL$1017,$B223,'Daily Log'!$AM$18:$AM$1017),0)","v":0},{"$f":"IFERROR($E223*SUMIF('Daily Log'!$AO$18:$AO$1017,$B223,'Daily Log'!$AP$18:$AP$1017),0)","v":0},{"$f":"IFERROR($E223*SUMIF('Daily Log'!$AR$18:$AR$1017,$B223,'Daily Log'!$AS$18:$AS$1017),0)","v":0},{"$f":"IFERROR($E223*SUMIF('Daily Log'!$AU$18:$AU$1017,$B223,'Daily Log'!$AV$18:$AV$1017),0)","v":0},{"$f":"IFERROR($E223*SUMIF('Daily Log'!$AX$18:$AX$1017,$B223,'Daily Log'!$AY$18:$AY$1017),0)","v":0},{"$f":"IFERROR($E223*SUMIF('Daily Log'!$BA$18:$BA$1017,$B223,'Daily Log'!$BB$18:$BB$1017),0)","v":0},{"$f":"IFERROR($E223*SUMIF('Daily Log'!$BD$18:$BD$1017,$B223,'Daily Log'!$BE$18:$BE$1017),0)","v":0},{"$f":"IFERROR($E223*SUMIF('Daily Log'!$BG$18:$BG$1017,$B223,'Daily Log'!$BH$18:$BH$1017),0)","v":0},{"$f":"IFERROR($E223*SUMIF('Daily Log'!$BJ$18:$BJ$1017,$B223,'Daily Log'!$BK$18:$BK$1017),0)","v":0},{"$f":"IFERROR($E223*SUMIF('Daily Log'!$BM$18:$BM$1017,$B223,'Daily Log'!$BN$18:$BN$1017),0)","v":0},{"$f":"IFERROR($E223*SUMIF('Daily Log'!$BP$18:$BP$1017,$B223,'Daily Log'!$BQ$18:$BQ$1017),0)","v":0},{"$f":"IFERROR($E223*SUMIF('Daily Log'!$BS$18:$BS$1017,$B223,'Daily Log'!$BT$18:$BT$1017),0)","v":0},{"$f":"IFERROR($E223*SUMIF('Daily Log'!$BV$18:$BV$1017,$B223,'Daily Log'!$BW$18:$BW$1017),0)","v":0},{"$f":"IFERROR($E223*SUMIF('Daily Log'!$BY$18:$BY$1017,$B223,'Daily Log'!$BZ$18:$BZ$1017),0)","v":0},{"$f":"IFERROR($E223*SUMIF('Daily Log'!$CB$18:$CB$1017,$B223,'Daily Log'!$CC$18:$CC$1017),0)","v":0},{"$f":"IFERROR($E223*SUMIF('Daily Log'!$CE$18:$CE$1017,$B223,'Daily Log'!$CF$18:$CF$1017),0)","v":0},{"$f":"IFERROR($E223*SUMIF('Daily Log'!$CH$18:$CH$1017,$B223,'Daily Log'!$CI$18:$CI$1017),0)","v":0},{"$f":"IFERROR($E223*SUMIF('Daily Log'!$CK$18:$CK$1017,$B223,'Daily Log'!$CL$18:$CL$1017),0)","v":0},{"$f":"IFERROR($E223*SUMIF('Daily Log'!$CN$18:$CN$1017,$B223,'Daily Log'!$CO$18:$CO$1017),0)","v":54}]
[null,"ZAA06 1206:SPRING RL",null,"PACKAGE-SIDE ORDER",1,74,{"$f":"IFERROR($E224*SUMIF('Daily Log'!$B$18:$B$1017,$B224,'Daily Log'!$C$18:$C$1017),0)","v":0},{"$f":"IFERROR($E224*SUMIF('Daily Log'!$E$18:$E$1017,$B224,'Daily Log'!$F$18:$F$1017),0)","v":0},{"$f":"IFERROR($E224*SUMIF('Daily Log'!$H$18:$H$1017,$B224,'Daily Log'!$I$18:$I$1017),0)","v":0},{"$f":"IFERROR($E224*SUMIF('Daily Log'!$K$18:$K$1017,$B224,'Daily Log'!$L$18:$L$1017),0)","v":0},{"$f":"IFERROR($E224*SUMIF('Daily Log'!$N$18:$N$1017,$B224,'Daily Log'!$O$18:$O$1017),0)","v":0},{"$f":"IFERROR($E224*SUMIF('Daily Log'!$Q$18:$Q$1017,$B224,'Daily Log'!$R$18:$R$1017),0)","v":0},{"$f":"IFERROR($E224*SUMIF('Daily Log'!$T$18:$T$1017,$B224,'Daily Log'!$U$18:$U$1017),0)","v":0},{"$f":"IFERROR($E224*SUMIF('Daily Log'!$W$18:$W$1017,$B224,'Daily Log'!$X$18:$X$1017),0)","v":0},{"$f":"IFERROR($E224*SUMIF('Daily Log'!$Z$18:$Z$1017,$B224,'Daily Log'!$AA$18:$AA$1017),0)","v":0},{"$f":"IFERROR($E224*SUMIF('Daily Log'!$AC$18:$AC$1017,$B224,'Daily Log'!$AD$18:$AD$1017),0)","v":0},{"$f":"IFERROR($E224*SUMIF('Daily Log'!$AF$18:$AF$1017,$B224,'Daily Log'!$AG$18:$AG$1017),0)","v":0},{"$f":"IFERROR($E224*SUMIF('Daily Log'!$AI$18:$AI$1017,$B224,'Daily Log'!$AJ$18:$AJ$1017),0)","v":0},{"$f":"IFERROR($E224*SUMIF('Daily Log'!$AL$18:$AL$1017,$B224,'Daily Log'!$AM$18:$AM$1017),0)","v":0},{"$f":"IFERROR($E224*SUMIF('Daily Log'!$AO$18:$AO$1017,$B224,'Daily Log'!$AP$18:$AP$1017),0)","v":0},{"$f":"IFERROR($E224*SUMIF('Daily Log'!$AR$18:$AR$1017,$B224,'Daily Log'!$AS$18:$AS$1017),0)","v":0},{"$f":"IFERROR($E224*SUMIF('Daily Log'!$AU$18:$AU$1017,$B224,'Daily Log'!$AV$18:$AV$1017),0)","v":0},{"$f":"IFERROR($E224*SUMIF('Daily Log'!$AX$18:$AX$1017,$B224,'Daily Log'!$AY$18:$AY$1017),0)","v":0},{"$f":"IFERROR($E224*SUMIF('Daily Log'!$BA$18:$BA$1017,$B224,'Daily Log'!$BB$18:$BB$1017),0)","v":0},{"$f":"IFERROR($E224*SUMIF('Daily Log'!$BD$18:$BD$1017,$B224,'Daily Log'!$BE$18:$BE$1017),0)","v":0},{"$f":"IFERROR($E224*SUMIF('Daily Log'!$BG$18:$BG$1017,$B224,'Daily Log'!$BH$18:$BH$1017),0)","v":0},{"$f":"IFERROR($E224*SUMIF('Daily Log'!$BJ$18:$BJ$1017,$B224,'Daily Log'!$BK$18:$BK$1017),0)","v":0},{"$f":"IFERROR($E224*SUMIF('Daily Log'!$BM$18:$BM$1017,$B224,'Daily Log'!$BN$18:$BN$1017),0)","v":0},{"$f":"IFERROR($E224*SUMIF('Daily Log'!$BP$18:$BP$1017,$B224,'Daily Log'!$BQ$18:$BQ$1017),0)","v":0},{"$f":"IFERROR($E224*SUMIF('Daily Log'!$BS$18:$BS$1017,$B224,'Daily Log'!$BT$18:$BT$1017),0)","v":0},{"$f":"IFERROR($E224*SUMIF('Daily Log'!$BV$18:$BV$1017,$B224,'Daily Log'!$BW$18:$BW$1017),0)","v":0},{"$f":"IFERROR($E224*SUMIF('Daily Log'!$BY$18:$BY$1017,$B224,'Daily Log'!$BZ$18:$BZ$1017),0)","v":0},{"$f":"IFERROR($E224*SUMIF('Daily Log'!$CB$18:$CB$1017,$B224,'Daily Log'!$CC$18:$CC$1017),0)","v":0},{"$f":"IFERROR($E224*SUMIF('Daily Log'!$CE$18:$CE$1017,$B224,'Daily Log'!$CF$18:$CF$1017),0)","v":0},{"$f":"IFERROR($E224*SUMIF('Daily Log'!$CH$18:$CH$1017,$B224,'Daily Log'!$CI$18:$CI$1017),0)","v":0},{"$f":"IFERROR($E224*SUMIF('Daily Log'!$CK$18:$CK$1017,$B224,'Daily Log'!$CL$18:$CL$1017),0)","v":0},{"$f":"IFERROR($E224*SUMIF('Daily Log'!$CN$18:$CN$1017,$B224,'Daily Log'!$CO$18:$CO$1017),0)","v":74}]
[null,"ZAA07 1207:SAUSG",null,"PACKAGE-SIDE ORDER",1,105,{"$f":"IFERROR($E225*SUMIF('Daily Log'!$B$18:$B$1017,$B225,'Daily Log'!$C$18:$C$1017),0)","v":0},{"$f":"IFERROR($E225*SUMIF('Daily Log'!$E$18:$E$1017,$B225,'Daily Log'!$F$18:$F$1017),0)","v":0},{"$f":"IFERROR($E225*SUMIF('Daily Log'!$H$18:$H$1017,$B225,'Daily Log'!$I$18:$I$1017),0)","v":0},{"$f":"IFERROR($E225*SUMIF('Daily Log'!$K$18:$K$1017,$B225,'Daily Log'!$L$18:$L$1017),0)","v":0},{"$f":"IFERROR($E225*SUMIF('Daily Log'!$N$18:$N$1017,$B225,'Daily Log'!$O$18:$O$1017),0)","v":0},{"$f":"IFERROR($E225*SUMIF('Daily Log'!$Q$18:$Q$1017,$B225,'Daily Log'!$R$18:$R$1017),0)","v":0},{"$f":"IFERROR($E225*SUMIF('Daily Log'!$T$18:$T$1017,$B225,'Daily Log'!$U$18:$U$1017),0)","v":0},{"$f":"IFERROR($E225*SUMIF('Daily Log'!$W$18:$W$1017,$B225,'Daily Log'!$X$18:$X$1017),0)","v":0},{"$f":"IFERROR($E225*SUMIF('Daily Log'!$Z$18:$Z$1017,$B225,'Daily Log'!$AA$18:$AA$1017),0)","v":0},{"$f":"IFERROR($E225*SUMIF('Daily Log'!$AC$18:$AC$1017,$B225,'Daily Log'!$AD$18:$AD$1017),0)","v":0},{"$f":"IFERROR($E225*SUMIF('Daily Log'!$AF$18:$AF$1017,$B225,'Daily Log'!$AG$18:$AG$1017),0)","v":0},{"$f":"IFERROR($E225*SUMIF('Daily Log'!$AI$18:$AI$1017,$B225,'Daily Log'!$AJ$18:$AJ$1017),0)","v":0},{"$f":"IFERROR($E225*SUMIF('Daily Log'!$AL$18:$AL$1017,$B225,'Daily Log'!$AM$18:$AM$1017),0)","v":0},{"$f":"IFERROR($E225*SUMIF('Daily Log'!$AO$18:$AO$1017,$B225,'Daily Log'!$AP$18:$AP$1017),0)","v":0},{"$f":"IFERROR($E225*SUMIF('Daily Log'!$AR$18:$AR$1017,$B225,'Daily Log'!$AS$18:$AS$1017),0)","v":0},{"$f":"IFERROR($E225*SUMIF('Daily Log'!$AU$18:$AU$1017,$B225,'Daily Log'!$AV$18:$AV$1017),0)","v":0},{"$f":"IFERROR($E225*SUMIF('Daily Log'!$AX$18:$AX$1017,$B225,'Daily Log'!$AY$18:$AY$1017),0)","v":0},{"$f":"IFERROR($E225*SUMIF('Daily Log'!$BA$18:$BA$1017,$B225,'Daily Log'!$BB$18:$BB$1017),0)","v":0},{"$f":"IFERROR($E225*SUMIF('Daily Log'!$BD$18:$BD$1017,$B225,'Daily Log'!$BE$18:$BE$1017),0)","v":0},{"$f":"IFERROR($E225*SUMIF('Daily Log'!$BG$18:$BG$1017,$B225,'Daily Log'!$BH$18:$BH$1017),0)","v":0},{"$f":"IFERROR($E225*SUMIF('Daily Log'!$BJ$18:$BJ$1017,$B225,'Daily Log'!$BK$18:$BK$1017),0)","v":0},{"$f":"IFERROR($E225*SUMIF('Daily Log'!$BM$18:$BM$1017,$B225,'Daily Log'!$BN$18:$BN$1017),0)","v":0},{"$f":"IFERROR($E225*SUMIF('Daily Log'!$BP$18:$BP$1017,$B225,'Daily Log'!$BQ$18:$BQ$1017),0)","v":0},{"$f":"IFERROR($E225*SUMIF('Daily Log'!$BS$18:$BS$1017,$B225,'Daily Log'!$BT$18:$BT$1017),0)","v":0},{"$f":"IFERROR($E225*SUMIF('Daily Log'!$BV$18:$BV$1017,$B225,'Daily Log'!$BW$18:$BW$1017),0)","v":0},{"$f":"IFERROR($E225*SUMIF('Daily Log'!$BY$18:$BY$1017,$B225,'Daily Log'!$BZ$18:$BZ$1017),0)","v":0},{"$f":"IFERROR($E225*SUMIF('Daily Log'!$CB$18:$CB$1017,$B225,'Daily Log'!$CC$18:$CC$1017),0)","v":0},{"$f":"IFERROR($E225*SUMIF('Daily Log'!$CE$18:$CE$1017,$B225,'Daily Log'!$CF$18:$CF$1017),0)","v":0},{"$f":"IFERROR($E225*SUMIF('Daily Log'!$CH$18:$CH$1017,$B225,'Daily Log'!$CI$18:$CI$1017),0)","v":0},{"$f":"IFERROR($E225*SUMIF('Daily Log'!$CK$18:$CK$1017,$B225,'Daily Log'!$CL$18:$CL$1017),0)","v":0},{"$f":"IFERROR($E225*SUMIF('Daily Log'!$CN$18:$CN$1017,$B225,'Daily Log'!$CO$18:$CO$1017),0)","v":105}]
[null,"ZAB01 1301:DUMPLING",null,"PACKAGE-SIDE ORDER",1,0,{"$f":"IFERROR($E226*SUMIF('Daily Log'!$B$18:$B$1017,$B226,'Daily Log'!$C$18:$C$1017),0)","v":0},{"$f":"IFERROR($E226*SUMIF('Daily Log'!$E$18:$E$1017,$B226,'Daily Log'!$F$18:$F$1017),0)","v":0},{"$f":"IFERROR($E226*SUMIF('Daily Log'!$H$18:$H$1017,$B226,'Daily Log'!$I$18:$I$1017),0)","v":0},{"$f":"IFERROR($E226*SUMIF('Daily Log'!$K$18:$K$1017,$B226,'Daily Log'!$L$18:$L$1017),0)","v":0},{"$f":"IFERROR($E226*SUMIF('Daily Log'!$N$18:$N$1017,$B226,'Daily Log'!$O$18:$O$1017),0)","v":0},{"$f":"IFERROR($E226*SUMIF('Daily Log'!$Q$18:$Q$1017,$B226,'Daily Log'!$R$18:$R$1017),0)","v":0},{"$f":"IFERROR($E226*SUMIF('Daily Log'!$T$18:$T$1017,$B226,'Daily Log'!$U$18:$U$1017),0)","v":0},{"$f":"IFERROR($E226*SUMIF('Daily Log'!$W$18:$W$1017,$B226,'Daily Log'!$X$18:$X$1017),0)","v":0},{"$f":"IFERROR($E226*SUMIF('Daily Log'!$Z$18:$Z$1017,$B226,'Daily Log'!$AA$18:$AA$1017),0)","v":0},{"$f":"IFERROR($E226*SUMIF('Daily Log'!$AC$18:$AC$1017,$B226,'Daily Log'!$AD$18:$AD$1017),0)","v":0},{"$f":"IFERROR($E226*SUMIF('Daily Log'!$AF$18:$AF$1017,$B226,'Daily Log'!$AG$18:$AG$1017),0)","v":0},{"$f":"IFERROR($E226*SUMIF('Daily Log'!$AI$18:$AI$1017,$B226,'Daily Log'!$AJ$18:$AJ$1017),0)","v":0},{"$f":"IFERROR($E226*SUMIF('Daily Log'!$AL$18:$AL$1017,$B226,'Daily Log'!$AM$18:$AM$1017),0)","v":0},{"$f":"IFERROR($E226*SUMIF('Daily Log'!$AO$18:$AO$1017,$B226,'Daily Log'!$AP$18:$AP$1017),0)","v":0},{"$f":"IFERROR($E226*SUMIF('Daily Log'!$AR$18:$AR$1017,$B226,'Daily Log'!$AS$18:$AS$1017),0)","v":0},{"$f":"IFERROR($E226*SUMIF('Daily Log'!$AU$18:$AU$1017,$B226,'Daily Log'!$AV$18:$AV$1017),0)","v":0},{"$f":"IFERROR($E226*SUMIF('Daily Log'!$AX$18:$AX$1017,$B226,'Daily Log'!$AY$18:$AY$1017),0)","v":0},{"$f":"IFERROR($E226*SUMIF('Daily Log'!$BA$18:$BA$1017,$B226,'Daily Log'!$BB$18:$BB$1017),0)","v":0},{"$f":"IFERROR($E226*SUMIF('Daily Log'!$BD$18:$BD$1017,$B226,'Daily Log'!$BE$18:$BE$1017),0)","v":0},{"$f":"IFERROR($E226*SUMIF('Daily Log'!$BG$18:$BG$1017,$B226,'Daily Log'!$BH$18:$BH$1017),0)","v":0},{"$f":"IFERROR($E226*SUMIF('Daily Log'!$BJ$18:$BJ$1017,$B226,'Daily Log'!$BK$18:$BK$1017),0)","v":0},{"$f":"IFERROR($E226*SUMIF('Daily Log'!$BM$18:$BM$1017,$B226,'Daily Log'!$BN$18:$BN$1017),0)","v":0},{"$f":"IFERROR($E226*SUMIF('Daily Log'!$BP$18:$BP$1017,$B226,'Daily Log'!$BQ$18:$BQ$1017),0)","v":0},{"$f":"IFERROR($E226*SUMIF('Daily Log'!$BS$18:$BS$1017,$B226,'Daily Log'!$BT$18:$BT$1017),0)","v":0},{"$f":"IFERROR($E226*SUMIF('Daily Log'!$BV$18:$BV$1017,$B226,'Daily Log'!$BW$18:$BW$1017),0)","v":0},{"$f":"IFERROR($E226*SUMIF('Daily Log'!$BY$18:$BY$1017,$B226,'Daily Log'!$BZ$18:$BZ$1017),0)","v":0},{"$f":"IFERROR($E226*SUMIF('Daily Log'!$CB$18:$CB$1017,$B226,'Daily Log'!$CC$18:$CC$1017),0)","v":0},{"$f":"IFERROR($E226*SUMIF('Daily Log'!$CE$18:$CE$1017,$B226,'Daily Log'!$CF$18:$CF$1017),0)","v":0},{"$f":"IFERROR($E226*SUMIF('Daily Log'!$CH$18:$CH$1017,$B226,'Daily Log'!$CI$18:$CI$1017),0)","v":0},{"$f":"IFERROR($E226*SUMIF('Daily Log'!$CK$18:$CK$1017,$B226,'Daily Log'!$CL$18:$CL$1017),0)","v":0},{"$f":"IFERROR($E226*SUMIF('Daily Log'!$CN$18:$CN$1017,$B226,'Daily Log'!$CO$18:$CO$1017),0)","v":0}]
[null,"ZAB02 1302:NUGGET",null,"PACKAGE-SIDE ORDER",1,96,{"$f":"IFERROR($E227*SUMIF('Daily Log'!$B$18:$B$1017,$B227,'Daily Log'!$C$18:$C$1017),0)","v":0},{"$f":"IFERROR($E227*SUMIF('Daily Log'!$E$18:$E$1017,$B227,'Daily Log'!$F$18:$F$1017),0)","v":0},{"$f":"IFERROR($E227*SUMIF('Daily Log'!$H$18:$H$1017,$B227,'Daily Log'!$I$18:$I$1017),0)","v":0},{"$f":"IFERROR($E227*SUMIF('Daily Log'!$K$18:$K$1017,$B227,'Daily Log'!$L$18:$L$1017),0)","v":0},{"$f":"IFERROR($E227*SUMIF('Daily Log'!$N$18:$N$1017,$B227,'Daily Log'!$O$18:$O$1017),0)","v":0},{"$f":"IFERROR($E227*SUMIF('Daily Log'!$Q$18:$Q$1017,$B227,'Daily Log'!$R$18:$R$1017),0)","v":0},{"$f":"IFERROR($E227*SUMIF('Daily Log'!$T$18:$T$1017,$B227,'Daily Log'!$U$18:$U$1017),0)","v":0},{"$f":"IFERROR($E227*SUMIF('Daily Log'!$W$18:$W$1017,$B227,'Daily Log'!$X$18:$X$1017),0)","v":0},{"$f":"IFERROR($E227*SUMIF('Daily Log'!$Z$18:$Z$1017,$B227,'Daily Log'!$AA$18:$AA$1017),0)","v":0},{"$f":"IFERROR($E227*SUMIF('Daily Log'!$AC$18:$AC$1017,$B227,'Daily Log'!$AD$18:$AD$1017),0)","v":0},{"$f":"IFERROR($E227*SUMIF('Daily Log'!$AF$18:$AF$1017,$B227,'Daily Log'!$AG$18:$AG$1017),0)","v":0},{"$f":"IFERROR($E227*SUMIF('Daily Log'!$AI$18:$AI$1017,$B227,'Daily Log'!$AJ$18:$AJ$1017),0)","v":0},{"$f":"IFERROR($E227*SUMIF('Daily Log'!$AL$18:$AL$1017,$B227,'Daily Log'!$AM$18:$AM$1017),0)","v":0},{"$f":"IFERROR($E227*SUMIF('Daily Log'!$AO$18:$AO$1017,$B227,'Daily Log'!$AP$18:$AP$1017),0)","v":0},{"$f":"IFERROR($E227*SUMIF('Daily Log'!$AR$18:$AR$1017,$B227,'Daily Log'!$AS$18:$AS$1017),0)","v":0},{"$f":"IFERROR($E227*SUMIF('Daily Log'!$AU$18:$AU$1017,$B227,'Daily Log'!$AV$18:$AV$1017),0)","v":0},{"$f":"IFERROR($E227*SUMIF('Daily Log'!$AX$18:$AX$1017,$B227,'Daily Log'!$AY$18:$AY$1017),0)","v":0},{"$f":"IFERROR($E227*SUMIF('Daily Log'!$BA$18:$BA$1017,$B227,'Daily Log'!$BB$18:$BB$1017),0)","v":0},{"$f":"IFERROR($E227*SUMIF('Daily Log'!$BD$18:$BD$1017,$B227,'Daily Log'!$BE$18:$BE$1017),0)","v":0},{"$f":"IFERROR($E227*SUMIF('Daily Log'!$BG$18:$BG$1017,$B227,'Daily Log'!$BH$18:$BH$1017),0)","v":0},{"$f":"IFERROR($E227*SUMIF('Daily Log'!$BJ$18:$BJ$1017,$B227,'Daily Log'!$BK$18:$BK$1017),0)","v":0},{"$f":"IFERROR($E227*SUMIF('Daily Log'!$BM$18:$BM$1017,$B227,'Daily Log'!$BN$18:$BN$1017),0)","v":0},{"$f":"IFERROR($E227*SUMIF('Daily Log'!$BP$18:$BP$1017,$B227,'Daily Log'!$BQ$18:$BQ$1017),0)","v":0},{"$f":"IFERROR($E227*SUMIF('Daily Log'!$BS$18:$BS$1017,$B227,'Daily Log'!$BT$18:$BT$1017),0)","v":0},{"$f":"IFERROR($E227*SUMIF('Daily Log'!$BV$18:$BV$1017,$B227,'Daily Log'!$BW$18:$BW$1017),0)","v":0},{"$f":"IFERROR($E227*SUMIF('Daily Log'!$BY$18:$BY$1017,$B227,'Daily Log'!$BZ$18:$BZ$1017),0)","v":0},{"$f":"IFERROR($E227*SUMIF('Daily Log'!$CB$18:$CB$1017,$B227,'Daily Log'!$CC$18:$CC$1017),0)","v":0},{"$f":"IFERROR($E227*SUMIF('Daily Log'!$CE$18:$CE$1017,$B227,'Daily Log'!$CF$18:$CF$1017),0)","v":0},{"$f":"IFERROR($E227*SUMIF('Daily Log'!$CH$18:$CH$1017,$B227,'Daily Log'!$CI$18:$CI$1017),0)","v":0},{"$f":"IFERROR($E227*SUMIF('Daily Log'!$CK$18:$CK$1017,$B227,'Daily Log'!$CL$18:$CL$1017),0)","v":0},{"$f":"IFERROR($E227*SUMIF('Daily Log'!$CN$18:$CN$1017,$B227,'Daily Log'!$CO$18:$CO$1017),0)","v":96}]
[null,"ZAB03 1303:CHK WING",null,"PACKAGE-SIDE ORDER",1,138,{"$f":"IFERROR($E228*SUMIF('Daily Log'!$B$18:$B$1017,$B228,'Daily Log'!$C$18:$C$1017),0)","v":0},{"$f":"IFERROR($E228*SUMIF('Daily Log'!$E$18:$E$1017,$B228,'Daily Log'!$F$18:$F$1017),0)","v":0},{"$f":"IFERROR($E228*SUMIF('Daily Log'!$H$18:$H$1017,$B228,'Daily Log'!$I$18:$I$1017),0)","v":0},{"$f":"IFERROR($E228*SUMIF('Daily Log'!$K$18:$K$1017,$B228,'Daily Log'!$L$18:$L$1017),0)","v":0},{"$f":"IFERROR($E228*SUMIF('Daily Log'!$N$18:$N$1017,$B228,'Daily Log'!$O$18:$O$1017),0)","v":0},{"$f":"IFERROR($E228*SUMIF('Daily Log'!$Q$18:$Q$1017,$B228,'Daily Log'!$R$18:$R$1017),0)","v":0},{"$f":"IFERROR($E228*SUMIF('Daily Log'!$T$18:$T$1017,$B228,'Daily Log'!$U$18:$U$1017),0)","v":0},{"$f":"IFERROR($E228*SUMIF('Daily Log'!$W$18:$W$1017,$B228,'Daily Log'!$X$18:$X$1017),0)","v":0},{"$f":"IFERROR($E228*SUMIF('Daily Log'!$Z$18:$Z$1017,$B228,'Daily Log'!$AA$18:$AA$1017),0)","v":0},{"$f":"IFERROR($E228*SUMIF('Daily Log'!$AC$18:$AC$1017,$B228,'Daily Log'!$AD$18:$AD$1017),0)","v":0},{"$f":"IFERROR($E228*SUMIF('Daily Log'!$AF$18:$AF$1017,$B228,'Daily Log'!$AG$18:$AG$1017),0)","v":0},{"$f":"IFERROR($E228*SUMIF('Daily Log'!$AI$18:$AI$1017,$B228,'Daily Log'!$AJ$18:$AJ$1017),0)","v":0},{"$f":"IFERROR($E228*SUMIF('Daily Log'!$AL$18:$AL$1017,$B228,'Daily Log'!$AM$18:$AM$1017),0)","v":0},{"$f":"IFERROR($E228*SUMIF('Daily Log'!$AO$18:$AO$1017,$B228,'Daily Log'!$AP$18:$AP$1017),0)","v":0},{"$f":"IFERROR($E228*SUMIF('Daily Log'!$AR$18:$AR$1017,$B228,'Daily Log'!$AS$18:$AS$1017),0)","v":0},{"$f":"IFERROR($E228*SUMIF('Daily Log'!$AU$18:$AU$1017,$B228,'Daily Log'!$AV$18:$AV$1017),0)","v":0},{"$f":"IFERROR($E228*SUMIF('Daily Log'!$AX$18:$AX$1017,$B228,'Daily Log'!$AY$18:$AY$1017),0)","v":0},{"$f":"IFERROR($E228*SUMIF('Daily Log'!$BA$18:$BA$1017,$B228,'Daily Log'!$BB$18:$BB$1017),0)","v":0},{"$f":"IFERROR($E228*SUMIF('Daily Log'!$BD$18:$BD$1017,$B228,'Daily Log'!$BE$18:$BE$1017),0)","v":0},{"$f":"IFERROR($E228*SUMIF('Daily Log'!$BG$18:$BG$1017,$B228,'Daily Log'!$BH$18:$BH$1017),0)","v":0},{"$f":"IFERROR($E228*SUMIF('Daily Log'!$BJ$18:$BJ$1017,$B228,'Daily Log'!$BK$18:$BK$1017),0)","v":0},{"$f":"IFERROR($E228*SUMIF('Daily Log'!$BM$18:$BM$1017,$B228,'Daily Log'!$BN$18:$BN$1017),0)","v":0},{"$f":"IFERROR($E228*SUMIF('Daily Log'!$BP$18:$BP$1017,$B228,'Daily Log'!$BQ$18:$BQ$1017),0)","v":0},{"$f":"IFERROR($E228*SUMIF('Daily Log'!$BS$18:$BS$1017,$B228,'Daily Log'!$BT$18:$BT$1017),0)","v":0},{"$f":"IFERROR($E228*SUMIF('Daily Log'!$BV$18:$BV$1017,$B228,'Daily Log'!$BW$18:$BW$1017),0)","v":0},{"$f":"IFERROR($E228*SUMIF('Daily Log'!$BY$18:$BY$1017,$B228,'Daily Log'!$BZ$18:$BZ$1017),0)","v":0},{"$f":"IFERROR($E228*SUMIF('Daily Log'!$CB$18:$CB$1017,$B228,'Daily Log'!$CC$18:$CC$1017),0)","v":0},{"$f":"IFERROR($E228*SUMIF('Daily Log'!$CE$18:$CE$1017,$B228,'Daily Log'!$CF$18:$CF$1017),0)","v":0},{"$f":"IFERROR($E228*SUMIF('Daily Log'!$CH$18:$CH$1017,$B228,'Daily Log'!$CI$18:$CI$1017),0)","v":0},{"$f":"IFERROR($E228*SUMIF('Daily Log'!$CK$18:$CK$1017,$B228,'Daily Log'!$CL$18:$CL$1017),0)","v":0},{"$f":"IFERROR($E228*SUMIF('Daily Log'!$CN$18:$CN$1017,$B228,'Daily Log'!$CO$18:$CO$1017),0)","v":138}]
[null,"ZAB04 1304:IKAN BILIS",null,"PACKAGE-SIDE ORDER",1,12,{"$f":"IFERROR($E229*SUMIF('Daily Log'!$B$18:$B$1017,$B229,'Daily Log'!$C$18:$C$1017),0)","v":0},{"$f":"IFERROR($E229*SUMIF('Daily Log'!$E$18:$E$1017,$B229,'Daily Log'!$F$18:$F$1017),0)","v":0},{"$f":"IFERROR($E229*SUMIF('Daily Log'!$H$18:$H$1017,$B229,'Daily Log'!$I$18:$I$1017),0)","v":0},{"$f":"IFERROR($E229*SUMIF('Daily Log'!$K$18:$K$1017,$B229,'Daily Log'!$L$18:$L$1017),0)","v":0},{"$f":"IFERROR($E229*SUMIF('Daily Log'!$N$18:$N$1017,$B229,'Daily Log'!$O$18:$O$1017),0)","v":0},{"$f":"IFERROR($E229*SUMIF('Daily Log'!$Q$18:$Q$1017,$B229,'Daily Log'!$R$18:$R$1017),0)","v":0},{"$f":"IFERROR($E229*SUMIF('Daily Log'!$T$18:$T$1017,$B229,'Daily Log'!$U$18:$U$1017),0)","v":0},{"$f":"IFERROR($E229*SUMIF('Daily Log'!$W$18:$W$1017,$B229,'Daily Log'!$X$18:$X$1017),0)","v":0},{"$f":"IFERROR($E229*SUMIF('Daily Log'!$Z$18:$Z$1017,$B229,'Daily Log'!$AA$18:$AA$1017),0)","v":0},{"$f":"IFERROR($E229*SUMIF('Daily Log'!$AC$18:$AC$1017,$B229,'Daily Log'!$AD$18:$AD$1017),0)","v":0},{"$f":"IFERROR($E229*SUMIF('Daily Log'!$AF$18:$AF$1017,$B229,'Daily Log'!$AG$18:$AG$1017),0)","v":0},{"$f":"IFERROR($E229*SUMIF('Daily Log'!$AI$18:$AI$1017,$B229,'Daily Log'!$AJ$18:$AJ$1017),0)","v":0},{"$f":"IFERROR($E229*SUMIF('Daily Log'!$AL$18:$AL$1017,$B229,'Daily Log'!$AM$18:$AM$1017),0)","v":0},{"$f":"IFERROR($E229*SUMIF('Daily Log'!$AO$18:$AO$1017,$B229,'Daily Log'!$AP$18:$AP$1017),0)","v":0},{"$f":"IFERROR($E229*SUMIF('Daily Log'!$AR$18:$AR$1017,$B229,'Daily Log'!$AS$18:$AS$1017),0)","v":0},{"$f":"IFERROR($E229*SUMIF('Daily Log'!$AU$18:$AU$1017,$B229,'Daily Log'!$AV$18:$AV$1017),0)","v":0},{"$f":"IFERROR($E229*SUMIF('Daily Log'!$AX$18:$AX$1017,$B229,'Daily Log'!$AY$18:$AY$1017),0)","v":0},{"$f":"IFERROR($E229*SUMIF('Daily Log'!$BA$18:$BA$1017,$B229,'Daily Log'!$BB$18:$BB$1017),0)","v":0},{"$f":"IFERROR($E229*SUMIF('Daily Log'!$BD$18:$BD$1017,$B229,'Daily Log'!$BE$18:$BE$1017),0)","v":0},{"$f":"IFERROR($E229*SUMIF('Daily Log'!$BG$18:$BG$1017,$B229,'Daily Log'!$BH$18:$BH$1017),0)","v":0},{"$f":"IFERROR($E229*SUMIF('Daily Log'!$BJ$18:$BJ$1017,$B229,'Daily Log'!$BK$18:$BK$1017),0)","v":0},{"$f":"IFERROR($E229*SUMIF('Daily Log'!$BM$18:$BM$1017,$B229,'Daily Log'!$BN$18:$BN$1017),0)","v":0},{"$f":"IFERROR($E229*SUMIF('Daily Log'!$BP$18:$BP$1017,$B229,'Daily Log'!$BQ$18:$BQ$1017),0)","v":0},{"$f":"IFERROR($E229*SUMIF('Daily Log'!$BS$18:$BS$1017,$B229,'Daily Log'!$BT$18:$BT$1017),0)","v":0},{"$f":"IFERROR($E229*SUMIF('Daily Log'!$BV$18:$BV$1017,$B229,'Daily Log'!$BW$18:$BW$1017),0)","v":0},{"$f":"IFERROR($E229*SUMIF('Daily Log'!$BY$18:$BY$1017,$B229,'Daily Log'!$BZ$18:$BZ$1017),0)","v":0},{"$f":"IFERROR($E229*SUMIF('Daily Log'!$CB$18:$CB$1017,$B229,'Daily Log'!$CC$18:$CC$1017),0)","v":0},{"$f":"IFERROR($E229*SUMIF('Daily Log'!$CE$18:$CE$1017,$B229,'Daily Log'!$CF$18:$CF$1017),0)","v":0},{"$f":"IFERROR($E229*SUMIF('Daily Log'!$CH$18:$CH$1017,$B229,'Daily Log'!$CI$18:$CI$1017),0)","v":0},{"$f":"IFERROR($E229*SUMIF('Daily Log'!$CK$18:$CK$1017,$B229,'Daily Log'!$CL$18:$CL$1017),0)","v":0},{"$f":"IFERROR($E229*SUMIF('Daily Log'!$CN$18:$CN$1017,$B229,'Daily Log'!$CO$18:$CO$1017),0)","v":12}]
[null,"ZAB05 1305:THAI RL",null,"PACKAGE-SIDE ORDER",1,17,{"$f":"IFERROR($E230*SUMIF('Daily Log'!$B$18:$B$1017,$B230,'Daily Log'!$C$18:$C$1017),0)","v":0},{"$f":"IFERROR($E230*SUMIF('Daily Log'!$E$18:$E$1017,$B230,'Daily Log'!$F$18:$F$1017),0)","v":0},{"$f":"IFERROR($E230*SUMIF('Daily Log'!$H$18:$H$1017,$B230,'Daily Log'!$I$18:$I$1017),0)","v":0},{"$f":"IFERROR($E230*SUMIF('Daily Log'!$K$18:$K$1017,$B230,'Daily Log'!$L$18:$L$1017),0)","v":0},{"$f":"IFERROR($E230*SUMIF('Daily Log'!$N$18:$N$1017,$B230,'Daily Log'!$O$18:$O$1017),0)","v":0},{"$f":"IFERROR($E230*SUMIF('Daily Log'!$Q$18:$Q$1017,$B230,'Daily Log'!$R$18:$R$1017),0)","v":0},{"$f":"IFERROR($E230*SUMIF('Daily Log'!$T$18:$T$1017,$B230,'Daily Log'!$U$18:$U$1017),0)","v":0},{"$f":"IFERROR($E230*SUMIF('Daily Log'!$W$18:$W$1017,$B230,'Daily Log'!$X$18:$X$1017),0)","v":0},{"$f":"IFERROR($E230*SUMIF('Daily Log'!$Z$18:$Z$1017,$B230,'Daily Log'!$AA$18:$AA$1017),0)","v":0},{"$f":"IFERROR($E230*SUMIF('Daily Log'!$AC$18:$AC$1017,$B230,'Daily Log'!$AD$18:$AD$1017),0)","v":0},{"$f":"IFERROR($E230*SUMIF('Daily Log'!$AF$18:$AF$1017,$B230,'Daily Log'!$AG$18:$AG$1017),0)","v":0},{"$f":"IFERROR($E230*SUMIF('Daily Log'!$AI$18:$AI$1017,$B230,'Daily Log'!$AJ$18:$AJ$1017),0)","v":0},{"$f":"IFERROR($E230*SUMIF('Daily Log'!$AL$18:$AL$1017,$B230,'Daily Log'!$AM$18:$AM$1017),0)","v":0},{"$f":"IFERROR($E230*SUMIF('Daily Log'!$AO$18:$AO$1017,$B230,'Daily Log'!$AP$18:$AP$1017),0)","v":0},{"$f":"IFERROR($E230*SUMIF('Daily Log'!$AR$18:$AR$1017,$B230,'Daily Log'!$AS$18:$AS$1017),0)","v":0},{"$f":"IFERROR($E230*SUMIF('Daily Log'!$AU$18:$AU$1017,$B230,'Daily Log'!$AV$18:$AV$1017),0)","v":0},{"$f":"IFERROR($E230*SUMIF('Daily Log'!$AX$18:$AX$1017,$B230,'Daily Log'!$AY$18:$AY$1017),0)","v":0},{"$f":"IFERROR($E230*SUMIF('Daily Log'!$BA$18:$BA$1017,$B230,'Daily Log'!$BB$18:$BB$1017),0)","v":0},{"$f":"IFERROR($E230*SUMIF('Daily Log'!$BD$18:$BD$1017,$B230,'Daily Log'!$BE$18:$BE$1017),0)","v":0},{"$f":"IFERROR($E230*SUMIF('Daily Log'!$BG$18:$BG$1017,$B230,'Daily Log'!$BH$18:$BH$1017),0)","v":0},{"$f":"IFERROR($E230*SUMIF('Daily Log'!$BJ$18:$BJ$1017,$B230,'Daily Log'!$BK$18:$BK$1017),0)","v":0},{"$f":"IFERROR($E230*SUMIF('Daily Log'!$BM$18:$BM$1017,$B230,'Daily Log'!$BN$18:$BN$1017),0)","v":0},{"$f":"IFERROR($E230*SUMIF('Daily Log'!$BP$18:$BP$1017,$B230,'Daily Log'!$BQ$18:$BQ$1017),0)","v":0},{"$f":"IFERROR($E230*SUMIF('Daily Log'!$BS$18:$BS$1017,$B230,'Daily Log'!$BT$18:$BT$1017),0)","v":0},{"$f":"IFERROR($E230*SUMIF('Daily Log'!$BV$18:$BV$1017,$B230,'Daily Log'!$BW$18:$BW$1017),0)","v":0},{"$f":"IFERROR($E230*SUMIF('Daily Log'!$BY$18:$BY$1017,$B230,'Daily Log'!$BZ$18:$BZ$1017),0)","v":0},{"$f":"IFERROR($E230*SUMIF('Daily Log'!$CB$18:$CB$1017,$B230,'Daily Log'!$CC$18:$CC$1017),0)","v":0},{"$f":"IFERROR($E230*SUMIF('Daily Log'!$CE$18:$CE$1017,$B230,'Daily Log'!$CF$18:$CF$1017),0)","v":0},{"$f":"IFERROR($E230*SUMIF('Daily Log'!$CH$18:$CH$1017,$B230,'Daily Log'!$CI$18:$CI$1017),0)","v":0},{"$f":"IFERROR($E230*SUMIF('Daily Log'!$CK$18:$CK$1017,$B230,'Daily Log'!$CL$18:$CL$1017),0)","v":0},{"$f":"IFERROR($E230*SUMIF('Daily Log'!$CN$18:$CN$1017,$B230,'Daily Log'!$CO$18:$CO$1017),0)","v":17}]
[null,"ZAC06 1306:SLVR FISH",null,"PACKAGE-SIDE ORDER",1,0,{"$f":"IFERROR($E231*SUMIF('Daily Log'!$B$18:$B$1017,$B231,'Daily Log'!$C$18:$C$1017),0)","v":0},{"$f":"IFERROR($E231*SUMIF('Daily Log'!$E$18:$E$1017,$B231,'Daily Log'!$F$18:$F$1017),0)","v":0},{"$f":"IFERROR($E231*SUMIF('Daily Log'!$H$18:$H$1017,$B231,'Daily Log'!$I$18:$I$1017),0)","v":0},{"$f":"IFERROR($E231*SUMIF('Daily Log'!$K$18:$K$1017,$B231,'Daily Log'!$L$18:$L$1017),0)","v":0},{"$f":"IFERROR($E231*SUMIF('Daily Log'!$N$18:$N$1017,$B231,'Daily Log'!$O$18:$O$1017),0)","v":0},{"$f":"IFERROR($E231*SUMIF('Daily Log'!$Q$18:$Q$1017,$B231,'Daily Log'!$R$18:$R$1017),0)","v":0},{"$f":"IFERROR($E231*SUMIF('Daily Log'!$T$18:$T$1017,$B231,'Daily Log'!$U$18:$U$1017),0)","v":0},{"$f":"IFERROR($E231*SUMIF('Daily Log'!$W$18:$W$1017,$B231,'Daily Log'!$X$18:$X$1017),0)","v":0},{"$f":"IFERROR($E231*SUMIF('Daily Log'!$Z$18:$Z$1017,$B231,'Daily Log'!$AA$18:$AA$1017),0)","v":0},{"$f":"IFERROR($E231*SUMIF('Daily Log'!$AC$18:$AC$1017,$B231,'Daily Log'!$AD$18:$AD$1017),0)","v":0},{"$f":"IFERROR($E231*SUMIF('Daily Log'!$AF$18:$AF$1017,$B231,'Daily Log'!$AG$18:$AG$1017),0)","v":0},{"$f":"IFERROR($E231*SUMIF('Daily Log'!$AI$18:$AI$1017,$B231,'Daily Log'!$AJ$18:$AJ$1017),0)","v":0},{"$f":"IFERROR($E231*SUMIF('Daily Log'!$AL$18:$AL$1017,$B231,'Daily Log'!$AM$18:$AM$1017),0)","v":0},{"$f":"IFERROR($E231*SUMIF('Daily Log'!$AO$18:$AO$1017,$B231,'Daily Log'!$AP$18:$AP$1017),0)","v":0},{"$f":"IFERROR($E231*SUMIF('Daily Log'!$AR$18:$AR$1017,$B231,'Daily Log'!$AS$18:$AS$1017),0)","v":0},{"$f":"IFERROR($E231*SUMIF('Daily Log'!$AU$18:$AU$1017,$B231,'Daily Log'!$AV$18:$AV$1017),0)","v":0},{"$f":"IFERROR($E231*SUMIF('Daily Log'!$AX$18:$AX$1017,$B231,'Daily Log'!$AY$18:$AY$1017),0)","v":0},{"$f":"IFERROR($E231*SUMIF('Daily Log'!$BA$18:$BA$1017,$B231,'Daily Log'!$BB$18:$BB$1017),0)","v":0},{"$f":"IFERROR($E231*SUMIF('Daily Log'!$BD$18:$BD$1017,$B231,'Daily Log'!$BE$18:$BE$1017),0)","v":0},{"$f":"IFERROR($E231*SUMIF('Daily Log'!$BG$18:$BG$1017,$B231,'Daily Log'!$BH$18:$BH$1017),0)","v":0},{"$f":"IFERROR($E231*SUMIF('Daily Log'!$BJ$18:$BJ$1017,$B231,'Daily Log'!$BK$18:$BK$1017),0)","v":0},{"$f":"IFERROR($E231*SUMIF('Daily Log'!$BM$18:$BM$1017,$B231,'Daily Log'!$BN$18:$BN$1017),0)","v":0},{"$f":"IFERROR($E231*SUMIF('Daily Log'!$BP$18:$BP$1017,$B231,'Daily Log'!$BQ$18:$BQ$1017),0)","v":0},{"$f":"IFERROR($E231*SUMIF('Daily Log'!$BS$18:$BS$1017,$B231,'Daily Log'!$BT$18:$BT$1017),0)","v":0},{"$f":"IFERROR($E231*SUMIF('Daily Log'!$BV$18:$BV$1017,$B231,'Daily Log'!$BW$18:$BW$1017),0)","v":0},{"$f":"IFERROR($E231*SUMIF('Daily Log'!$BY$18:$BY$1017,$B231,'Daily Log'!$BZ$18:$BZ$1017),0)","v":0},{"$f":"IFERROR($E231*SUMIF('Daily Log'!$CB$18:$CB$1017,$B231,'Daily Log'!$CC$18:$CC$1017),0)","v":0},{"$f":"IFERROR($E231*SUMIF('Daily Log'!$CE$18:$CE$1017,$B231,'Daily Log'!$CF$18:$CF$1017),0)","v":0},{"$f":"IFERROR($E231*SUMIF('Daily Log'!$CH$18:$CH$1017,$B231,'Daily Log'!$CI$18:$CI$1017),0)","v":0},{"$f":"IFERROR($E231*SUMIF('Daily Log'!$CK$18:$CK$1017,$B231,'Daily Log'!$CL$18:$CL$1017),0)","v":0},{"$f":"IFERROR($E231*SUMIF('Daily Log'!$CN$18:$CN$1017,$B231,'Daily Log'!$CO$18:$CO$1017),0)","v":0}]
[null,"AB07 1307: CALAMARI",null,"SIDE ORDER",1,0,{"$f":"IFERROR($E232*SUMIF('Daily Log'!$B$18:$B$1017,$B232,'Daily Log'!$C$18:$C$1017),0)","v":0},{"$f":"IFERROR($E232*SUMIF('Daily Log'!$E$18:$E$1017,$B232,'Daily Log'!$F$18:$F$1017),0)","v":0},{"$f":"IFERROR($E232*SUMIF('Daily Log'!$H$18:$H$1017,$B232,'Daily Log'!$I$18:$I$1017),0)","v":0},{"$f":"IFERROR($E232*SUMIF('Daily Log'!$K$18:$K$1017,$B232,'Daily Log'!$L$18:$L$1017),0)","v":0},{"$f":"IFERROR($E232*SUMIF('Daily Log'!$N$18:$N$1017,$B232,'Daily Log'!$O$18:$O$1017),0)","v":0},{"$f":"IFERROR($E232*SUMIF('Daily Log'!$Q$18:$Q$1017,$B232,'Daily Log'!$R$18:$R$1017),0)","v":0},{"$f":"IFERROR($E232*SUMIF('Daily Log'!$T$18:$T$1017,$B232,'Daily Log'!$U$18:$U$1017),0)","v":0},{"$f":"IFERROR($E232*SUMIF('Daily Log'!$W$18:$W$1017,$B232,'Daily Log'!$X$18:$X$1017),0)","v":0},{"$f":"IFERROR($E232*SUMIF('Daily Log'!$Z$18:$Z$1017,$B232,'Daily Log'!$AA$18:$AA$1017),0)","v":0},{"$f":"IFERROR($E232*SUMIF('Daily Log'!$AC$18:$AC$1017,$B232,'Daily Log'!$AD$18:$AD$1017),0)","v":0},{"$f":"IFERROR($E232*SUMIF('Daily Log'!$AF$18:$AF$1017,$B232,'Daily Log'!$AG$18:$AG$1017),0)","v":0},{"$f":"IFERROR($E232*SUMIF('Daily Log'!$AI$18:$AI$1017,$B232,'Daily Log'!$AJ$18:$AJ$1017),0)","v":0},{"$f":"IFERROR($E232*SUMIF('Daily Log'!$AL$18:$AL$1017,$B232,'Daily Log'!$AM$18:$AM$1017),0)","v":0},{"$f":"IFERROR($E232*SUMIF('Daily Log'!$AO$18:$AO$1017,$B232,'Daily Log'!$AP$18:$AP$1017),0)","v":0},{"$f":"IFERROR($E232*SUMIF('Daily Log'!$AR$18:$AR$1017,$B232,'Daily Log'!$AS$18:$AS$1017),0)","v":0},{"$f":"IFERROR($E232*SUMIF('Daily Log'!$AU$18:$AU$1017,$B232,'Daily Log'!$AV$18:$AV$1017),0)","v":0},{"$f":"IFERROR($E232*SUMIF('Daily Log'!$AX$18:$AX$1017,$B232,'Daily Log'!$AY$18:$AY$1017),0)","v":0},{"$f":"IFERROR($E232*SUMIF('Daily Log'!$BA$18:$BA$1017,$B232,'Daily Log'!$BB$18:$BB$1017),0)","v":0},{"$f":"IFERROR($E232*SUMIF('Daily Log'!$BD$18:$BD$1017,$B232,'Daily Log'!$BE$18:$BE$1017),0)","v":0},{"$f":"IFERROR($E232*SUMIF('Daily Log'!$BG$18:$BG$1017,$B232,'Daily Log'!$BH$18:$BH$1017),0)","v":0},{"$f":"IFERROR($E232*SUMIF('Daily Log'!$BJ$18:$BJ$1017,$B232,'Daily Log'!$BK$18:$BK$1017),0)","v":0},{"$f":"IFERROR($E232*SUMIF('Daily Log'!$BM$18:$BM$1017,$B232,'Daily Log'!$BN$18:$BN$1017),0)","v":0},{"$f":"IFERROR($E232*SUMIF('Daily Log'!$BP$18:$BP$1017,$B232,'Daily Log'!$BQ$18:$BQ$1017),0)","v":0},{"$f":"IFERROR($E232*SUMIF('Daily Log'!$BS$18:$BS$1017,$B232,'Daily Log'!$BT$18:$BT$1017),0)","v":0},{"$f":"IFERROR($E232*SUMIF('Daily Log'!$BV$18:$BV$1017,$B232,'Daily Log'!$BW$18:$BW$1017),0)","v":0},{"$f":"IFERROR($E232*SUMIF('Daily Log'!$BY$18:$BY$1017,$B232,'Daily Log'!$BZ$18:$BZ$1017),0)","v":0},{"$f":"IFERROR($E232*SUMIF('Daily Log'!$CB$18:$CB$1017,$B232,'Daily Log'!$CC$18:$CC$1017),0)","v":0},{"$f":"IFERROR($E232*SUMIF('Daily Log'!$CE$18:$CE$1017,$B232,'Daily Log'!$CF$18:$CF$1017),0)","v":0},{"$f":"IFERROR($E232*SUMIF('Daily Log'!$CH$18:$CH$1017,$B232,'Daily Log'!$CI$18:$CI$1017),0)","v":0},{"$f":"IFERROR($E232*SUMIF('Daily Log'!$CK$18:$CK$1017,$B232,'Daily Log'!$CL$18:$CL$1017),0)","v":0},{"$f":"IFERROR($E232*SUMIF('Daily Log'!$CN$18:$CN$1017,$B232,'Daily Log'!$CO$18:$CO$1017),0)","v":0}]
[null,"ZAB08 1308:MC RING",null,"PACKAGE-SIDE ORDER",1,0,{"$f":"IFERROR($E233*SUMIF('Daily Log'!$B$18:$B$1017,$B233,'Daily Log'!$C$18:$C$1017),0)","v":0},{"$f":"IFERROR($E233*SUMIF('Daily Log'!$E$18:$E$1017,$B233,'Daily Log'!$F$18:$F$1017),0)","v":0},{"$f":"IFERROR($E233*SUMIF('Daily Log'!$H$18:$H$1017,$B233,'Daily Log'!$I$18:$I$1017),0)","v":0},{"$f":"IFERROR($E233*SUMIF('Daily Log'!$K$18:$K$1017,$B233,'Daily Log'!$L$18:$L$1017),0)","v":0},{"$f":"IFERROR($E233*SUMIF('Daily Log'!$N$18:$N$1017,$B233,'Daily Log'!$O$18:$O$1017),0)","v":0},{"$f":"IFERROR($E233*SUMIF('Daily Log'!$Q$18:$Q$1017,$B233,'Daily Log'!$R$18:$R$1017),0)","v":0},{"$f":"IFERROR($E233*SUMIF('Daily Log'!$T$18:$T$1017,$B233,'Daily Log'!$U$18:$U$1017),0)","v":0},{"$f":"IFERROR($E233*SUMIF('Daily Log'!$W$18:$W$1017,$B233,'Daily Log'!$X$18:$X$1017),0)","v":0},{"$f":"IFERROR($E233*SUMIF('Daily Log'!$Z$18:$Z$1017,$B233,'Daily Log'!$AA$18:$AA$1017),0)","v":0},{"$f":"IFERROR($E233*SUMIF('Daily Log'!$AC$18:$AC$1017,$B233,'Daily Log'!$AD$18:$AD$1017),0)","v":0},{"$f":"IFERROR($E233*SUMIF('Daily Log'!$AF$18:$AF$1017,$B233,'Daily Log'!$AG$18:$AG$1017),0)","v":0},{"$f":"IFERROR($E233*SUMIF('Daily Log'!$AI$18:$AI$1017,$B233,'Daily Log'!$AJ$18:$AJ$1017),0)","v":0},{"$f":"IFERROR($E233*SUMIF('Daily Log'!$AL$18:$AL$1017,$B233,'Daily Log'!$AM$18:$AM$1017),0)","v":0},{"$f":"IFERROR($E233*SUMIF('Daily Log'!$AO$18:$AO$1017,$B233,'Daily Log'!$AP$18:$AP$1017),0)","v":0},{"$f":"IFERROR($E233*SUMIF('Daily Log'!$AR$18:$AR$1017,$B233,'Daily Log'!$AS$18:$AS$1017),0)","v":0},{"$f":"IFERROR($E233*SUMIF('Daily Log'!$AU$18:$AU$1017,$B233,'Daily Log'!$AV$18:$AV$1017),0)","v":0},{"$f":"IFERROR($E233*SUMIF('Daily Log'!$AX$18:$AX$1017,$B233,'Daily Log'!$AY$18:$AY$1017),0)","v":0},{"$f":"IFERROR($E233*SUMIF('Daily Log'!$BA$18:$BA$1017,$B233,'Daily Log'!$BB$18:$BB$1017),0)","v":0},{"$f":"IFERROR($E233*SUMIF('Daily Log'!$BD$18:$BD$1017,$B233,'Daily Log'!$BE$18:$BE$1017),0)","v":0},{"$f":"IFERROR($E233*SUMIF('Daily Log'!$BG$18:$BG$1017,$B233,'Daily Log'!$BH$18:$BH$1017),0)","v":0},{"$f":"IFERROR($E233*SUMIF('Daily Log'!$BJ$18:$BJ$1017,$B233,'Daily Log'!$BK$18:$BK$1017),0)","v":0},{"$f":"IFERROR($E233*SUMIF('Daily Log'!$BM$18:$BM$1017,$B233,'Daily Log'!$BN$18:$BN$1017),0)","v":0},{"$f":"IFERROR($E233*SUMIF('Daily Log'!$BP$18:$BP$1017,$B233,'Daily Log'!$BQ$18:$BQ$1017),0)","v":0},{"$f":"IFERROR($E233*SUMIF('Daily Log'!$BS$18:$BS$1017,$B233,'Daily Log'!$BT$18:$BT$1017),0)","v":0},{"$f":"IFERROR($E233*SUMIF('Daily Log'!$BV$18:$BV$1017,$B233,'Daily Log'!$BW$18:$BW$1017),0)","v":0},{"$f":"IFERROR($E233*SUMIF('Daily Log'!$BY$18:$BY$1017,$B233,'Daily Log'!$BZ$18:$BZ$1017),0)","v":0},{"$f":"IFERROR($E233*SUMIF('Daily Log'!$CB$18:$CB$1017,$B233,'Daily Log'!$CC$18:$CC$1017),0)","v":0},{"$f":"IFERROR($E233*SUMIF('Daily Log'!$CE$18:$CE$1017,$B233,'Daily Log'!$CF$18:$CF$1017),0)","v":0},{"$f":"IFERROR($E233*SUMIF('Daily Log'!$CH$18:$CH$1017,$B233,'Daily Log'!$CI$18:$CI$1017),0)","v":0},{"$f":"IFERROR($E233*SUMIF('Daily Log'!$CK$18:$CK$1017,$B233,'Daily Log'!$CL$18:$CL$1017),0)","v":0},{"$f":"IFERROR($E233*SUMIF('Daily Log'!$CN$18:$CN$1017,$B233,'Daily Log'!$CO$18:$CO$1017),0)","v":0}]
[null,"ZAB09 1309:MC SPIRAL F",null,"PACKAGE-SIDE ORDER",1,41,{"$f":"IFERROR($E234*SUMIF('Daily Log'!$B$18:$B$1017,$B234,'Daily Log'!$C$18:$C$1017),0)","v":0},{"$f":"IFERROR($E234*SUMIF('Daily Log'!$E$18:$E$1017,$B234,'Daily Log'!$F$18:$F$1017),0)","v":0},{"$f":"IFERROR($E234*SUMIF('Daily Log'!$H$18:$H$1017,$B234,'Daily Log'!$I$18:$I$1017),0)","v":0},{"$f":"IFERROR($E234*SUMIF('Daily Log'!$K$18:$K$1017,$B234,'Daily Log'!$L$18:$L$1017),0)","v":0},{"$f":"IFERROR($E234*SUMIF('Daily Log'!$N$18:$N$1017,$B234,'Daily Log'!$O$18:$O$1017),0)","v":0},{"$f":"IFERROR($E234*SUMIF('Daily Log'!$Q$18:$Q$1017,$B234,'Daily Log'!$R$18:$R$1017),0)","v":0},{"$f":"IFERROR($E234*SUMIF('Daily Log'!$T$18:$T$1017,$B234,'Daily Log'!$U$18:$U$1017),0)","v":0},{"$f":"IFERROR($E234*SUMIF('Daily Log'!$W$18:$W$1017,$B234,'Daily Log'!$X$18:$X$1017),0)","v":0},{"$f":"IFERROR($E234*SUMIF('Daily Log'!$Z$18:$Z$1017,$B234,'Daily Log'!$AA$18:$AA$1017),0)","v":0},{"$f":"IFERROR($E234*SUMIF('Daily Log'!$AC$18:$AC$1017,$B234,'Daily Log'!$AD$18:$AD$1017),0)","v":0},{"$f":"IFERROR($E234*SUMIF('Daily Log'!$AF$18:$AF$1017,$B234,'Daily Log'!$AG$18:$AG$1017),0)","v":0},{"$f":"IFERROR($E234*SUMIF('Daily Log'!$AI$18:$AI$1017,$B234,'Daily Log'!$AJ$18:$AJ$1017),0)","v":0},{"$f":"IFERROR($E234*SUMIF('Daily Log'!$AL$18:$AL$1017,$B234,'Daily Log'!$AM$18:$AM$1017),0)","v":0},{"$f":"IFERROR($E234*SUMIF('Daily Log'!$AO$18:$AO$1017,$B234,'Daily Log'!$AP$18:$AP$1017),0)","v":0},{"$f":"IFERROR($E234*SUMIF('Daily Log'!$AR$18:$AR$1017,$B234,'Daily Log'!$AS$18:$AS$1017),0)","v":0},{"$f":"IFERROR($E234*SUMIF('Daily Log'!$AU$18:$AU$1017,$B234,'Daily Log'!$AV$18:$AV$1017),0)","v":0},{"$f":"IFERROR($E234*SUMIF('Daily Log'!$AX$18:$AX$1017,$B234,'Daily Log'!$AY$18:$AY$1017),0)","v":0},{"$f":"IFERROR($E234*SUMIF('Daily Log'!$BA$18:$BA$1017,$B234,'Daily Log'!$BB$18:$BB$1017),0)","v":0},{"$f":"IFERROR($E234*SUMIF('Daily Log'!$BD$18:$BD$1017,$B234,'Daily Log'!$BE$18:$BE$1017),0)","v":0},{"$f":"IFERROR($E234*SUMIF('Daily Log'!$BG$18:$BG$1017,$B234,'Daily Log'!$BH$18:$BH$1017),0)","v":0},{"$f":"IFERROR($E234*SUMIF('Daily Log'!$BJ$18:$BJ$1017,$B234,'Daily Log'!$BK$18:$BK$1017),0)","v":0},{"$f":"IFERROR($E234*SUMIF('Daily Log'!$BM$18:$BM$1017,$B234,'Daily Log'!$BN$18:$BN$1017),0)","v":0},{"$f":"IFERROR($E234*SUMIF('Daily Log'!$BP$18:$BP$1017,$B234,'Daily Log'!$BQ$18:$BQ$1017),0)","v":0},{"$f":"IFERROR($E234*SUMIF('Daily Log'!$BS$18:$BS$1017,$B234,'Daily Log'!$BT$18:$BT$1017),0)","v":0},{"$f":"IFERROR($E234*SUMIF('Daily Log'!$BV$18:$BV$1017,$B234,'Daily Log'!$BW$18:$BW$1017),0)","v":0},{"$f":"IFERROR($E234*SUMIF('Daily Log'!$BY$18:$BY$1017,$B234,'Daily Log'!$BZ$18:$BZ$1017),0)","v":0},{"$f":"IFERROR($E234*SUMIF('Daily Log'!$CB$18:$CB$1017,$B234,'Daily Log'!$CC$18:$CC$1017),0)","v":0},{"$f":"IFERROR($E234*SUMIF('Daily Log'!$CE$18:$CE$1017,$B234,'Daily Log'!$CF$18:$CF$1017),0)","v":0},{"$f":"IFERROR($E234*SUMIF('Daily Log'!$CH$18:$CH$1017,$B234,'Daily Log'!$CI$18:$CI$1017),0)","v":0},{"$f":"IFERROR($E234*SUMIF('Daily Log'!$CK$18:$CK$1017,$B234,'Daily Log'!$CL$18:$CL$1017),0)","v":0},{"$f":"IFERROR($E234*SUMIF('Daily Log'!$CN$18:$CN$1017,$B234,'Daily Log'!$CO$18:$CO$1017),0)","v":41}]
[null,"ZAB10 1310:MC HP SMILE",null,"PACKAGE-SIDE ORDER",1,11,{"$f":"IFERROR($E235*SUMIF('Daily Log'!$B$18:$B$1017,$B235,'Daily Log'!$C$18:$C$1017),0)","v":0},{"$f":"IFERROR($E235*SUMIF('Daily Log'!$E$18:$E$1017,$B235,'Daily Log'!$F$18:$F$1017),0)","v":0},{"$f":"IFERROR($E235*SUMIF('Daily Log'!$H$18:$H$1017,$B235,'Daily Log'!$I$18:$I$1017),0)","v":0},{"$f":"IFERROR($E235*SUMIF('Daily Log'!$K$18:$K$1017,$B235,'Daily Log'!$L$18:$L$1017),0)","v":0},{"$f":"IFERROR($E235*SUMIF('Daily Log'!$N$18:$N$1017,$B235,'Daily Log'!$O$18:$O$1017),0)","v":0},{"$f":"IFERROR($E235*SUMIF('Daily Log'!$Q$18:$Q$1017,$B235,'Daily Log'!$R$18:$R$1017),0)","v":0},{"$f":"IFERROR($E235*SUMIF('Daily Log'!$T$18:$T$1017,$B235,'Daily Log'!$U$18:$U$1017),0)","v":0},{"$f":"IFERROR($E235*SUMIF('Daily Log'!$W$18:$W$1017,$B235,'Daily Log'!$X$18:$X$1017),0)","v":0},{"$f":"IFERROR($E235*SUMIF('Daily Log'!$Z$18:$Z$1017,$B235,'Daily Log'!$AA$18:$AA$1017),0)","v":0},{"$f":"IFERROR($E235*SUMIF('Daily Log'!$AC$18:$AC$1017,$B235,'Daily Log'!$AD$18:$AD$1017),0)","v":0},{"$f":"IFERROR($E235*SUMIF('Daily Log'!$AF$18:$AF$1017,$B235,'Daily Log'!$AG$18:$AG$1017),0)","v":0},{"$f":"IFERROR($E235*SUMIF('Daily Log'!$AI$18:$AI$1017,$B235,'Daily Log'!$AJ$18:$AJ$1017),0)","v":0},{"$f":"IFERROR($E235*SUMIF('Daily Log'!$AL$18:$AL$1017,$B235,'Daily Log'!$AM$18:$AM$1017),0)","v":0},{"$f":"IFERROR($E235*SUMIF('Daily Log'!$AO$18:$AO$1017,$B235,'Daily Log'!$AP$18:$AP$1017),0)","v":0},{"$f":"IFERROR($E235*SUMIF('Daily Log'!$AR$18:$AR$1017,$B235,'Daily Log'!$AS$18:$AS$1017),0)","v":0},{"$f":"IFERROR($E235*SUMIF('Daily Log'!$AU$18:$AU$1017,$B235,'Daily Log'!$AV$18:$AV$1017),0)","v":0},{"$f":"IFERROR($E235*SUMIF('Daily Log'!$AX$18:$AX$1017,$B235,'Daily Log'!$AY$18:$AY$1017),0)","v":0},{"$f":"IFERROR($E235*SUMIF('Daily Log'!$BA$18:$BA$1017,$B235,'Daily Log'!$BB$18:$BB$1017),0)","v":0},{"$f":"IFERROR($E235*SUMIF('Daily Log'!$BD$18:$BD$1017,$B235,'Daily Log'!$BE$18:$BE$1017),0)","v":0},{"$f":"IFERROR($E235*SUMIF('Daily Log'!$BG$18:$BG$1017,$B235,'Daily Log'!$BH$18:$BH$1017),0)","v":0},{"$f":"IFERROR($E235*SUMIF('Daily Log'!$BJ$18:$BJ$1017,$B235,'Daily Log'!$BK$18:$BK$1017),0)","v":0},{"$f":"IFERROR($E235*SUMIF('Daily Log'!$BM$18:$BM$1017,$B235,'Daily Log'!$BN$18:$BN$1017),0)","v":0},{"$f":"IFERROR($E235*SUMIF('Daily Log'!$BP$18:$BP$1017,$B235,'Daily Log'!$BQ$18:$BQ$1017),0)","v":0},{"$f":"IFERROR($E235*SUMIF('Daily Log'!$BS$18:$BS$1017,$B235,'Daily Log'!$BT$18:$BT$1017),0)","v":0},{"$f":"IFERROR($E235*SUMIF('Daily Log'!$BV$18:$BV$1017,$B235,'Daily Log'!$BW$18:$BW$1017),0)","v":0},{"$f":"IFERROR($E235*SUMIF('Daily Log'!$BY$18:$BY$1017,$B235,'Daily Log'!$BZ$18:$BZ$1017),0)","v":0},{"$f":"IFERROR($E235*SUMIF('Daily Log'!$CB$18:$CB$1017,$B235,'Daily Log'!$CC$18:$CC$1017),0)","v":0},{"$f":"IFERROR($E235*SUMIF('Daily Log'!$CE$18:$CE$1017,$B235,'Daily Log'!$CF$18:$CF$1017),0)","v":0},{"$f":"IFERROR($E235*SUMIF('Daily Log'!$CH$18:$CH$1017,$B235,'Daily Log'!$CI$18:$CI$1017),0)","v":0},{"$f":"IFERROR($E235*SUMIF('Daily Log'!$CK$18:$CK$1017,$B235,'Daily Log'!$CL$18:$CL$1017),0)","v":0},{"$f":"IFERROR($E235*SUMIF('Daily Log'!$CN$18:$CN$1017,$B235,'Daily Log'!$CO$18:$CO$1017),0)","v":11}]
[null,"ZAB11 1311:MC HASH BRW",null,"PACKAGE-SIDE ORDER",1,24,{"$f":"IFERROR($E236*SUMIF('Daily Log'!$B$18:$B$1017,$B236,'Daily Log'!$C$18:$C$1017),0)","v":0},{"$f":"IFERROR($E236*SUMIF('Daily Log'!$E$18:$E$1017,$B236,'Daily Log'!$F$18:$F$1017),0)","v":0},{"$f":"IFERROR($E236*SUMIF('Daily Log'!$H$18:$H$1017,$B236,'Daily Log'!$I$18:$I$1017),0)","v":0},{"$f":"IFERROR($E236*SUMIF('Daily Log'!$K$18:$K$1017,$B236,'Daily Log'!$L$18:$L$1017),0)","v":0},{"$f":"IFERROR($E236*SUMIF('Daily Log'!$N$18:$N$1017,$B236,'Daily Log'!$O$18:$O$1017),0)","v":0},{"$f":"IFERROR($E236*SUMIF('Daily Log'!$Q$18:$Q$1017,$B236,'Daily Log'!$R$18:$R$1017),0)","v":0},{"$f":"IFERROR($E236*SUMIF('Daily Log'!$T$18:$T$1017,$B236,'Daily Log'!$U$18:$U$1017),0)","v":0},{"$f":"IFERROR($E236*SUMIF('Daily Log'!$W$18:$W$1017,$B236,'Daily Log'!$X$18:$X$1017),0)","v":0},{"$f":"IFERROR($E236*SUMIF('Daily Log'!$Z$18:$Z$1017,$B236,'Daily Log'!$AA$18:$AA$1017),0)","v":0},{"$f":"IFERROR($E236*SUMIF('Daily Log'!$AC$18:$AC$1017,$B236,'Daily Log'!$AD$18:$AD$1017),0)","v":0},{"$f":"IFERROR($E236*SUMIF('Daily Log'!$AF$18:$AF$1017,$B236,'Daily Log'!$AG$18:$AG$1017),0)","v":0},{"$f":"IFERROR($E236*SUMIF('Daily Log'!$AI$18:$AI$1017,$B236,'Daily Log'!$AJ$18:$AJ$1017),0)","v":0},{"$f":"IFERROR($E236*SUMIF('Daily Log'!$AL$18:$AL$1017,$B236,'Daily Log'!$AM$18:$AM$1017),0)","v":0},{"$f":"IFERROR($E236*SUMIF('Daily Log'!$AO$18:$AO$1017,$B236,'Daily Log'!$AP$18:$AP$1017),0)","v":0},{"$f":"IFERROR($E236*SUMIF('Daily Log'!$AR$18:$AR$1017,$B236,'Daily Log'!$AS$18:$AS$1017),0)","v":0},{"$f":"IFERROR($E236*SUMIF('Daily Log'!$AU$18:$AU$1017,$B236,'Daily Log'!$AV$18:$AV$1017),0)","v":0},{"$f":"IFERROR($E236*SUMIF('Daily Log'!$AX$18:$AX$1017,$B236,'Daily Log'!$AY$18:$AY$1017),0)","v":0},{"$f":"IFERROR($E236*SUMIF('Daily Log'!$BA$18:$BA$1017,$B236,'Daily Log'!$BB$18:$BB$1017),0)","v":0},{"$f":"IFERROR($E236*SUMIF('Daily Log'!$BD$18:$BD$1017,$B236,'Daily Log'!$BE$18:$BE$1017),0)","v":0},{"$f":"IFERROR($E236*SUMIF('Daily Log'!$BG$18:$BG$1017,$B236,'Daily Log'!$BH$18:$BH$1017),0)","v":0},{"$f":"IFERROR($E236*SUMIF('Daily Log'!$BJ$18:$BJ$1017,$B236,'Daily Log'!$BK$18:$BK$1017),0)","v":0},{"$f":"IFERROR($E236*SUMIF('Daily Log'!$BM$18:$BM$1017,$B236,'Daily Log'!$BN$18:$BN$1017),0)","v":0},{"$f":"IFERROR($E236*SUMIF('Daily Log'!$BP$18:$BP$1017,$B236,'Daily Log'!$BQ$18:$BQ$1017),0)","v":0},{"$f":"IFERROR($E236*SUMIF('Daily Log'!$BS$18:$BS$1017,$B236,'Daily Log'!$BT$18:$BT$1017),0)","v":0},{"$f":"IFERROR($E236*SUMIF('Daily Log'!$BV$18:$BV$1017,$B236,'Daily Log'!$BW$18:$BW$1017),0)","v":0},{"$f":"IFERROR($E236*SUMIF('Daily Log'!$BY$18:$BY$1017,$B236,'Daily Log'!$BZ$18:$BZ$1017),0)","v":0},{"$f":"IFERROR($E236*SUMIF('Daily Log'!$CB$18:$CB$1017,$B236,'Daily Log'!$CC$18:$CC$1017),0)","v":0},{"$f":"IFERROR($E236*SUMIF('Daily Log'!$CE$18:$CE$1017,$B236,'Daily Log'!$CF$18:$CF$1017),0)","v":0},{"$f":"IFERROR($E236*SUMIF('Daily Log'!$CH$18:$CH$1017,$B236,'Daily Log'!$CI$18:$CI$1017),0)","v":0},{"$f":"IFERROR($E236*SUMIF('Daily Log'!$CK$18:$CK$1017,$B236,'Daily Log'!$CL$18:$CL$1017),0)","v":0},{"$f":"IFERROR($E236*SUMIF('Daily Log'!$CN$18:$CN$1017,$B236,'Daily Log'!$CO$18:$CO$1017),0)","v":24}]
[null,"ZAA09 1209:SF TF",null,"PACKAGE-SIDE ORDER",1,0,{"$f":"IFERROR($E237*SUMIF('Daily Log'!$B$18:$B$1017,$B237,'Daily Log'!$C$18:$C$1017),0)","v":0},{"$f":"IFERROR($E237*SUMIF('Daily Log'!$E$18:$E$1017,$B237,'Daily Log'!$F$18:$F$1017),0)","v":0},{"$f":"IFERROR($E237*SUMIF('Daily Log'!$H$18:$H$1017,$B237,'Daily Log'!$I$18:$I$1017),0)","v":0},{"$f":"IFERROR($E237*SUMIF('Daily Log'!$K$18:$K$1017,$B237,'Daily Log'!$L$18:$L$1017),0)","v":0},{"$f":"IFERROR($E237*SUMIF('Daily Log'!$N$18:$N$1017,$B237,'Daily Log'!$O$18:$O$1017),0)","v":0},{"$f":"IFERROR($E237*SUMIF('Daily Log'!$Q$18:$Q$1017,$B237,'Daily Log'!$R$18:$R$1017),0)","v":0},{"$f":"IFERROR($E237*SUMIF('Daily Log'!$T$18:$T$1017,$B237,'Daily Log'!$U$18:$U$1017),0)","v":0},{"$f":"IFERROR($E237*SUMIF('Daily Log'!$W$18:$W$1017,$B237,'Daily Log'!$X$18:$X$1017),0)","v":0},{"$f":"IFERROR($E237*SUMIF('Daily Log'!$Z$18:$Z$1017,$B237,'Daily Log'!$AA$18:$AA$1017),0)","v":0},{"$f":"IFERROR($E237*SUMIF('Daily Log'!$AC$18:$AC$1017,$B237,'Daily Log'!$AD$18:$AD$1017),0)","v":0},{"$f":"IFERROR($E237*SUMIF('Daily Log'!$AF$18:$AF$1017,$B237,'Daily Log'!$AG$18:$AG$1017),0)","v":0},{"$f":"IFERROR($E237*SUMIF('Daily Log'!$AI$18:$AI$1017,$B237,'Daily Log'!$AJ$18:$AJ$1017),0)","v":0},{"$f":"IFERROR($E237*SUMIF('Daily Log'!$AL$18:$AL$1017,$B237,'Daily Log'!$AM$18:$AM$1017),0)","v":0},{"$f":"IFERROR($E237*SUMIF('Daily Log'!$AO$18:$AO$1017,$B237,'Daily Log'!$AP$18:$AP$1017),0)","v":0},{"$f":"IFERROR($E237*SUMIF('Daily Log'!$AR$18:$AR$1017,$B237,'Daily Log'!$AS$18:$AS$1017),0)","v":0},{"$f":"IFERROR($E237*SUMIF('Daily Log'!$AU$18:$AU$1017,$B237,'Daily Log'!$AV$18:$AV$1017),0)","v":0},{"$f":"IFERROR($E237*SUMIF('Daily Log'!$AX$18:$AX$1017,$B237,'Daily Log'!$AY$18:$AY$1017),0)","v":0},{"$f":"IFERROR($E237*SUMIF('Daily Log'!$BA$18:$BA$1017,$B237,'Daily Log'!$BB$18:$BB$1017),0)","v":0},{"$f":"IFERROR($E237*SUMIF('Daily Log'!$BD$18:$BD$1017,$B237,'Daily Log'!$BE$18:$BE$1017),0)","v":0},{"$f":"IFERROR($E237*SUMIF('Daily Log'!$BG$18:$BG$1017,$B237,'Daily Log'!$BH$18:$BH$1017),0)","v":0},{"$f":"IFERROR($E237*SUMIF('Daily Log'!$BJ$18:$BJ$1017,$B237,'Daily Log'!$BK$18:$BK$1017),0)","v":0},{"$f":"IFERROR($E237*SUMIF('Daily Log'!$BM$18:$BM$1017,$B237,'Daily Log'!$BN$18:$BN$1017),0)","v":0},{"$f":"IFERROR($E237*SUMIF('Daily Log'!$BP$18:$BP$1017,$B237,'Daily Log'!$BQ$18:$BQ$1017),0)","v":0},{"$f":"IFERROR($E237*SUMIF('Daily Log'!$BS$18:$BS$1017,$B237,'Daily Log'!$BT$18:$BT$1017),0)","v":0},{"$f":"IFERROR($E237*SUMIF('Daily Log'!$BV$18:$BV$1017,$B237,'Daily Log'!$BW$18:$BW$1017),0)","v":0},{"$f":"IFERROR($E237*SUMIF('Daily Log'!$BY$18:$BY$1017,$B237,'Daily Log'!$BZ$18:$BZ$1017),0)","v":0},{"$f":"IFERROR($E237*SUMIF('Daily Log'!$CB$18:$CB$1017,$B237,'Daily Log'!$CC$18:$CC$1017),0)","v":0},{"$f":"IFERROR($E237*SUMIF('Daily Log'!$CE$18:$CE$1017,$B237,'Daily Log'!$CF$18:$CF$1017),0)","v":0},{"$f":"IFERROR($E237*SUMIF('Daily Log'!$CH$18:$CH$1017,$B237,'Daily Log'!$CI$18:$CI$1017),0)","v":0},{"$f":"IFERROR($E237*SUMIF('Daily Log'!$CK$18:$CK$1017,$B237,'Daily Log'!$CL$18:$CL$1017),0)","v":0},{"$f":"IFERROR($E237*SUMIF('Daily Log'!$CN$18:$CN$1017,$B237,'Daily Log'!$CO$18:$CO$1017),0)","v":0}]
[null,"ZAA10 1210:SALAD RL",null,"PACKAGE-SIDE ORDER",1,0,{"$f":"IFERROR($E238*SUMIF('Daily Log'!$B$18:$B$1017,$B238,'Daily Log'!$C$18:$C$1017),0)","v":0},{"$f":"IFERROR($E238*SUMIF('Daily Log'!$E$18:$E$1017,$B238,'Daily Log'!$F$18:$F$1017),0)","v":0},{"$f":"IFERROR($E238*SUMIF('Daily Log'!$H$18:$H$1017,$B238,'Daily Log'!$I$18:$I$1017),0)","v":0},{"$f":"IFERROR($E238*SUMIF('Daily Log'!$K$18:$K$1017,$B238,'Daily Log'!$L$18:$L$1017),0)","v":0},{"$f":"IFERROR($E238*SUMIF('Daily Log'!$N$18:$N$1017,$B238,'Daily Log'!$O$18:$O$1017),0)","v":0},{"$f":"IFERROR($E238*SUMIF('Daily Log'!$Q$18:$Q$1017,$B238,'Daily Log'!$R$18:$R$1017),0)","v":0},{"$f":"IFERROR($E238*SUMIF('Daily Log'!$T$18:$T$1017,$B238,'Daily Log'!$U$18:$U$1017),0)","v":0},{"$f":"IFERROR($E238*SUMIF('Daily Log'!$W$18:$W$1017,$B238,'Daily Log'!$X$18:$X$1017),0)","v":0},{"$f":"IFERROR($E238*SUMIF('Daily Log'!$Z$18:$Z$1017,$B238,'Daily Log'!$AA$18:$AA$1017),0)","v":0},{"$f":"IFERROR($E238*SUMIF('Daily Log'!$AC$18:$AC$1017,$B238,'Daily Log'!$AD$18:$AD$1017),0)","v":0},{"$f":"IFERROR($E238*SUMIF('Daily Log'!$AF$18:$AF$1017,$B238,'Daily Log'!$AG$18:$AG$1017),0)","v":0},{"$f":"IFERROR($E238*SUMIF('Daily Log'!$AI$18:$AI$1017,$B238,'Daily Log'!$AJ$18:$AJ$1017),0)","v":0},{"$f":"IFERROR($E238*SUMIF('Daily Log'!$AL$18:$AL$1017,$B238,'Daily Log'!$AM$18:$AM$1017),0)","v":0},{"$f":"IFERROR($E238*SUMIF('Daily Log'!$AO$18:$AO$1017,$B238,'Daily Log'!$AP$18:$AP$1017),0)","v":0},{"$f":"IFERROR($E238*SUMIF('Daily Log'!$AR$18:$AR$1017,$B238,'Daily Log'!$AS$18:$AS$1017),0)","v":0},{"$f":"IFERROR($E238*SUMIF('Daily Log'!$AU$18:$AU$1017,$B238,'Daily Log'!$AV$18:$AV$1017),0)","v":0},{"$f":"IFERROR($E238*SUMIF('Daily Log'!$AX$18:$AX$1017,$B238,'Daily Log'!$AY$18:$AY$1017),0)","v":0},{"$f":"IFERROR($E238*SUMIF('Daily Log'!$BA$18:$BA$1017,$B238,'Daily Log'!$BB$18:$BB$1017),0)","v":0},{"$f":"IFERROR($E238*SUMIF('Daily Log'!$BD$18:$BD$1017,$B238,'Daily Log'!$BE$18:$BE$1017),0)","v":0},{"$f":"IFERROR($E238*SUMIF('Daily Log'!$BG$18:$BG$1017,$B238,'Daily Log'!$BH$18:$BH$1017),0)","v":0},{"$f":"IFERROR($E238*SUMIF('Daily Log'!$BJ$18:$BJ$1017,$B238,'Daily Log'!$BK$18:$BK$1017),0)","v":0},{"$f":"IFERROR($E238*SUMIF('Daily Log'!$BM$18:$BM$1017,$B238,'Daily Log'!$BN$18:$BN$1017),0)","v":0},{"$f":"IFERROR($E238*SUMIF('Daily Log'!$BP$18:$BP$1017,$B238,'Daily Log'!$BQ$18:$BQ$1017),0)","v":0},{"$f":"IFERROR($E238*SUMIF('Daily Log'!$BS$18:$BS$1017,$B238,'Daily Log'!$BT$18:$BT$1017),0)","v":0},{"$f":"IFERROR($E238*SUMIF('Daily Log'!$BV$18:$BV$1017,$B238,'Daily Log'!$BW$18:$BW$1017),0)","v":0},{"$f":"IFERROR($E238*SUMIF('Daily Log'!$BY$18:$BY$1017,$B238,'Daily Log'!$BZ$18:$BZ$1017),0)","v":0},{"$f":"IFERROR($E238*SUMIF('Daily Log'!$CB$18:$CB$1017,$B238,'Daily Log'!$CC$18:$CC$1017),0)","v":0},{"$f":"IFERROR($E238*SUMIF('Daily Log'!$CE$18:$CE$1017,$B238,'Daily Log'!$CF$18:$CF$1017),0)","v":0},{"$f":"IFERROR($E238*SUMIF('Daily Log'!$CH$18:$CH$1017,$B238,'Daily Log'!$CI$18:$CI$1017),0)","v":0},{"$f":"IFERROR($E238*SUMIF('Daily Log'!$CK$18:$CK$1017,$B238,'Daily Log'!$CL$18:$CL$1017),0)","v":0},{"$f":"IFERROR($E238*SUMIF('Daily Log'!$CN$18:$CN$1017,$B238,'Daily Log'!$CO$18:$CO$1017),0)","v":0}]
[null,"ZAA11 1211:BBQ CHK",null,"PACKAGE-SIDE ORDER",1,0,{"$f":"IFERROR($E239*SUMIF('Daily Log'!$B$18:$B$1017,$B239,'Daily Log'!$C$18:$C$1017),0)","v":0},{"$f":"IFERROR($E239*SUMIF('Daily Log'!$E$18:$E$1017,$B239,'Daily Log'!$F$18:$F$1017),0)","v":0},{"$f":"IFERROR($E239*SUMIF('Daily Log'!$H$18:$H$1017,$B239,'Daily Log'!$I$18:$I$1017),0)","v":0},{"$f":"IFERROR($E239*SUMIF('Daily Log'!$K$18:$K$1017,$B239,'Daily Log'!$L$18:$L$1017),0)","v":0},{"$f":"IFERROR($E239*SUMIF('Daily Log'!$N$18:$N$1017,$B239,'Daily Log'!$O$18:$O$1017),0)","v":0},{"$f":"IFERROR($E239*SUMIF('Daily Log'!$Q$18:$Q$1017,$B239,'Daily Log'!$R$18:$R$1017),0)","v":0},{"$f":"IFERROR($E239*SUMIF('Daily Log'!$T$18:$T$1017,$B239,'Daily Log'!$U$18:$U$1017),0)","v":0},{"$f":"IFERROR($E239*SUMIF('Daily Log'!$W$18:$W$1017,$B239,'Daily Log'!$X$18:$X$1017),0)","v":0},{"$f":"IFERROR($E239*SUMIF('Daily Log'!$Z$18:$Z$1017,$B239,'Daily Log'!$AA$18:$AA$1017),0)","v":0},{"$f":"IFERROR($E239*SUMIF('Daily Log'!$AC$18:$AC$1017,$B239,'Daily Log'!$AD$18:$AD$1017),0)","v":0},{"$f":"IFERROR($E239*SUMIF('Daily Log'!$AF$18:$AF$1017,$B239,'Daily Log'!$AG$18:$AG$1017),0)","v":0},{"$f":"IFERROR($E239*SUMIF('Daily Log'!$AI$18:$AI$1017,$B239,'Daily Log'!$AJ$18:$AJ$1017),0)","v":0},{"$f":"IFERROR($E239*SUMIF('Daily Log'!$AL$18:$AL$1017,$B239,'Daily Log'!$AM$18:$AM$1017),0)","v":0},{"$f":"IFERROR($E239*SUMIF('Daily Log'!$AO$18:$AO$1017,$B239,'Daily Log'!$AP$18:$AP$1017),0)","v":0},{"$f":"IFERROR($E239*SUMIF('Daily Log'!$AR$18:$AR$1017,$B239,'Daily Log'!$AS$18:$AS$1017),0)","v":0},{"$f":"IFERROR($E239*SUMIF('Daily Log'!$AU$18:$AU$1017,$B239,'Daily Log'!$AV$18:$AV$1017),0)","v":0},{"$f":"IFERROR($E239*SUMIF('Daily Log'!$AX$18:$AX$1017,$B239,'Daily Log'!$AY$18:$AY$1017),0)","v":0},{"$f":"IFERROR($E239*SUMIF('Daily Log'!$BA$18:$BA$1017,$B239,'Daily Log'!$BB$18:$BB$1017),0)","v":0},{"$f":"IFERROR($E239*SUMIF('Daily Log'!$BD$18:$BD$1017,$B239,'Daily Log'!$BE$18:$BE$1017),0)","v":0},{"$f":"IFERROR($E239*SUMIF('Daily Log'!$BG$18:$BG$1017,$B239,'Daily Log'!$BH$18:$BH$1017),0)","v":0},{"$f":"IFERROR($E239*SUMIF('Daily Log'!$BJ$18:$BJ$1017,$B239,'Daily Log'!$BK$18:$BK$1017),0)","v":0},{"$f":"IFERROR($E239*SUMIF('Daily Log'!$BM$18:$BM$1017,$B239,'Daily Log'!$BN$18:$BN$1017),0)","v":0},{"$f":"IFERROR($E239*SUMIF('Daily Log'!$BP$18:$BP$1017,$B239,'Daily Log'!$BQ$18:$BQ$1017),0)","v":0},{"$f":"IFERROR($E239*SUMIF('Daily Log'!$BS$18:$BS$1017,$B239,'Daily Log'!$BT$18:$BT$1017),0)","v":0},{"$f":"IFERROR($E239*SUMIF('Daily Log'!$BV$18:$BV$1017,$B239,'Daily Log'!$BW$18:$BW$1017),0)","v":0},{"$f":"IFERROR($E239*SUMIF('Daily Log'!$BY$18:$BY$1017,$B239,'Daily Log'!$BZ$18:$BZ$1017),0)","v":0},{"$f":"IFERROR($E239*SUMIF('Daily Log'!$CB$18:$CB$1017,$B239,'Daily Log'!$CC$18:$CC$1017),0)","v":0},{"$f":"IFERROR($E239*SUMIF('Daily Log'!$CE$18:$CE$1017,$B239,'Daily Log'!$CF$18:$CF$1017),0)","v":0},{"$f":"IFERROR($E239*SUMIF('Daily Log'!$CH$18:$CH$1017,$B239,'Daily Log'!$CI$18:$CI$1017),0)","v":0},{"$f":"IFERROR($E239*SUMIF('Daily Log'!$CK$18:$CK$1017,$B239,'Daily Log'!$CL$18:$CL$1017),0)","v":0},{"$f":"IFERROR($E239*SUMIF('Daily Log'!$CN$18:$CN$1017,$B239,'Daily Log'!$CO$18:$CO$1017),0)","v":0}]
[null,"ZAB07 1307:CALAMARI",null,"PACKAGE-SIDE ORDER",1,0,{"$f":"IFERROR($E240*SUMIF('Daily Log'!$B$18:$B$1017,$B240,'Daily Log'!$C$18:$C$1017),0)","v":0},{"$f":"IFERROR($E240*SUMIF('Daily Log'!$E$18:$E$1017,$B240,'Daily Log'!$F$18:$F$1017),0)","v":0},{"$f":"IFERROR($E240*SUMIF('Daily Log'!$H$18:$H$1017,$B240,'Daily Log'!$I$18:$I$1017),0)","v":0},{"$f":"IFERROR($E240*SUMIF('Daily Log'!$K$18:$K$1017,$B240,'Daily Log'!$L$18:$L$1017),0)","v":0},{"$f":"IFERROR($E240*SUMIF('Daily Log'!$N$18:$N$1017,$B240,'Daily Log'!$O$18:$O$1017),0)","v":0},{"$f":"IFERROR($E240*SUMIF('Daily Log'!$Q$18:$Q$1017,$B240,'Daily Log'!$R$18:$R$1017),0)","v":0},{"$f":"IFERROR($E240*SUMIF('Daily Log'!$T$18:$T$1017,$B240,'Daily Log'!$U$18:$U$1017),0)","v":0},{"$f":"IFERROR($E240*SUMIF('Daily Log'!$W$18:$W$1017,$B240,'Daily Log'!$X$18:$X$1017),0)","v":0},{"$f":"IFERROR($E240*SUMIF('Daily Log'!$Z$18:$Z$1017,$B240,'Daily Log'!$AA$18:$AA$1017),0)","v":0},{"$f":"IFERROR($E240*SUMIF('Daily Log'!$AC$18:$AC$1017,$B240,'Daily Log'!$AD$18:$AD$1017),0)","v":0},{"$f":"IFERROR($E240*SUMIF('Daily Log'!$AF$18:$AF$1017,$B240,'Daily Log'!$AG$18:$AG$1017),0)","v":0},{"$f":"IFERROR($E240*SUMIF('Daily Log'!$AI$18:$AI$1017,$B240,'Daily Log'!$AJ$18:$AJ$1017),0)","v":0},{"$f":"IFERROR($E240*SUMIF('Daily Log'!$AL$18:$AL$1017,$B240,'Daily Log'!$AM$18:$AM$1017),0)","v":0},{"$f":"IFERROR($E240*SUMIF('Daily Log'!$AO$18:$AO$1017,$B240,'Daily Log'!$AP$18:$AP$1017),0)","v":0},{"$f":"IFERROR($E240*SUMIF('Daily Log'!$AR$18:$AR$1017,$B240,'Daily Log'!$AS$18:$AS$1017),0)","v":0},{"$f":"IFERROR($E240*SUMIF('Daily Log'!$AU$18:$AU$1017,$B240,'Daily Log'!$AV$18:$AV$1017),0)","v":0},{"$f":"IFERROR($E240*SUMIF('Daily Log'!$AX$18:$AX$1017,$B240,'Daily Log'!$AY$18:$AY$1017),0)","v":0},{"$f":"IFERROR($E240*SUMIF('Daily Log'!$BA$18:$BA$1017,$B240,'Daily Log'!$BB$18:$BB$1017),0)","v":0},{"$f":"IFERROR($E240*SUMIF('Daily Log'!$BD$18:$BD$1017,$B240,'Daily Log'!$BE$18:$BE$1017),0)","v":0},{"$f":"IFERROR($E240*SUMIF('Daily Log'!$BG$18:$BG$1017,$B240,'Daily Log'!$BH$18:$BH$1017),0)","v":0},{"$f":"IFERROR($E240*SUMIF('Daily Log'!$BJ$18:$BJ$1017,$B240,'Daily Log'!$BK$18:$BK$1017),0)","v":0},{"$f":"IFERROR($E240*SUMIF('Daily Log'!$BM$18:$BM$1017,$B240,'Daily Log'!$BN$18:$BN$1017),0)","v":0},{"$f":"IFERROR($E240*SUMIF('Daily Log'!$BP$18:$BP$1017,$B240,'Daily Log'!$BQ$18:$BQ$1017),0)","v":0},{"$f":"IFERROR($E240*SUMIF('Daily Log'!$BS$18:$BS$1017,$B240,'Daily Log'!$BT$18:$BT$1017),0)","v":0},{"$f":"IFERROR($E240*SUMIF('Daily Log'!$BV$18:$BV$1017,$B240,'Daily Log'!$BW$18:$BW$1017),0)","v":0},{"$f":"IFERROR($E240*SUMIF('Daily Log'!$BY$18:$BY$1017,$B240,'Daily Log'!$BZ$18:$BZ$1017),0)","v":0},{"$f":"IFERROR($E240*SUMIF('Daily Log'!$CB$18:$CB$1017,$B240,'Daily Log'!$CC$18:$CC$1017),0)","v":0},{"$f":"IFERROR($E240*SUMIF('Daily Log'!$CE$18:$CE$1017,$B240,'Daily Log'!$CF$18:$CF$1017),0)","v":0},{"$f":"IFERROR($E240*SUMIF('Daily Log'!$CH$18:$CH$1017,$B240,'Daily Log'!$CI$18:$CI$1017),0)","v":0},{"$f":"IFERROR($E240*SUMIF('Daily Log'!$CK$18:$CK$1017,$B240,'Daily Log'!$CL$18:$CL$1017),0)","v":0},{"$f":"IFERROR($E240*SUMIF('Daily Log'!$CN$18:$CN$1017,$B240,'Daily Log'!$CO$18:$CO$1017),0)","v":0}]
[null,"ZAB08 1308:MC RING",null,"PACKAGE-SIDE ORDER",1,0,{"$f":"IFERROR($E241*SUMIF('Daily Log'!$B$18:$B$1017,$B241,'Daily Log'!$C$18:$C$1017),0)","v":0},{"$f":"IFERROR($E241*SUMIF('Daily Log'!$E$18:$E$1017,$B241,'Daily Log'!$F$18:$F$1017),0)","v":0},{"$f":"IFERROR($E241*SUMIF('Daily Log'!$H$18:$H$1017,$B241,'Daily Log'!$I$18:$I$1017),0)","v":0},{"$f":"IFERROR($E241*SUMIF('Daily Log'!$K$18:$K$1017,$B241,'Daily Log'!$L$18:$L$1017),0)","v":0},{"$f":"IFERROR($E241*SUMIF('Daily Log'!$N$18:$N$1017,$B241,'Daily Log'!$O$18:$O$1017),0)","v":0},{"$f":"IFERROR($E241*SUMIF('Daily Log'!$Q$18:$Q$1017,$B241,'Daily Log'!$R$18:$R$1017),0)","v":0},{"$f":"IFERROR($E241*SUMIF('Daily Log'!$T$18:$T$1017,$B241,'Daily Log'!$U$18:$U$1017),0)","v":0},{"$f":"IFERROR($E241*SUMIF('Daily Log'!$W$18:$W$1017,$B241,'Daily Log'!$X$18:$X$1017),0)","v":0},{"$f":"IFERROR($E241*SUMIF('Daily Log'!$Z$18:$Z$1017,$B241,'Daily Log'!$AA$18:$AA$1017),0)","v":0},{"$f":"IFERROR($E241*SUMIF('Daily Log'!$AC$18:$AC$1017,$B241,'Daily Log'!$AD$18:$AD$1017),0)","v":0},{"$f":"IFERROR($E241*SUMIF('Daily Log'!$AF$18:$AF$1017,$B241,'Daily Log'!$AG$18:$AG$1017),0)","v":0},{"$f":"IFERROR($E241*SUMIF('Daily Log'!$AI$18:$AI$1017,$B241,'Daily Log'!$AJ$18:$AJ$1017),0)","v":0},{"$f":"IFERROR($E241*SUMIF('Daily Log'!$AL$18:$AL$1017,$B241,'Daily Log'!$AM$18:$AM$1017),0)","v":0},{"$f":"IFERROR($E241*SUMIF('Daily Log'!$AO$18:$AO$1017,$B241,'Daily Log'!$AP$18:$AP$1017),0)","v":0},{"$f":"IFERROR($E241*SUMIF('Daily Log'!$AR$18:$AR$1017,$B241,'Daily Log'!$AS$18:$AS$1017),0)","v":0},{"$f":"IFERROR($E241*SUMIF('Daily Log'!$AU$18:$AU$1017,$B241,'Daily Log'!$AV$18:$AV$1017),0)","v":0},{"$f":"IFERROR($E241*SUMIF('Daily Log'!$AX$18:$AX$1017,$B241,'Daily Log'!$AY$18:$AY$1017),0)","v":0},{"$f":"IFERROR($E241*SUMIF('Daily Log'!$BA$18:$BA$1017,$B241,'Daily Log'!$BB$18:$BB$1017),0)","v":0},{"$f":"IFERROR($E241*SUMIF('Daily Log'!$BD$18:$BD$1017,$B241,'Daily Log'!$BE$18:$BE$1017),0)","v":0},{"$f":"IFERROR($E241*SUMIF('Daily Log'!$BG$18:$BG$1017,$B241,'Daily Log'!$BH$18:$BH$1017),0)","v":0},{"$f":"IFERROR($E241*SUMIF('Daily Log'!$BJ$18:$BJ$1017,$B241,'Daily Log'!$BK$18:$BK$1017),0)","v":0},{"$f":"IFERROR($E241*SUMIF('Daily Log'!$BM$18:$BM$1017,$B241,'Daily Log'!$BN$18:$BN$1017),0)","v":0},{"$f":"IFERROR($E241*SUMIF('Daily Log'!$BP$18:$BP$1017,$B241,'Daily Log'!$BQ$18:$BQ$1017),0)","v":0},{"$f":"IFERROR($E241*SUMIF('Daily Log'!$BS$18:$BS$1017,$B241,'Daily Log'!$BT$18:$BT$1017),0)","v":0},{"$f":"IFERROR($E241*SUMIF('Daily Log'!$BV$18:$BV$1017,$B241,'Daily Log'!$BW$18:$BW$1017),0)","v":0},{"$f":"IFERROR($E241*SUMIF('Daily Log'!$BY$18:$BY$1017,$B241,'Daily Log'!$BZ$18:$BZ$1017),0)","v":0},{"$f":"IFERROR($E241*SUMIF('Daily Log'!$CB$18:$CB$1017,$B241,'Daily Log'!$CC$18:$CC$1017),0)","v":0},{"$f":"IFERROR($E241*SUMIF('Daily Log'!$CE$18:$CE$1017,$B241,'Daily Log'!$CF$18:$CF$1017),0)","v":0},{"$f":"IFERROR($E241*SUMIF('Daily Log'!$CH$18:$CH$1017,$B241,'Daily Log'!$CI$18:$CI$1017),0)","v":0},{"$f":"IFERROR($E241*SUMIF('Daily Log'!$CK$18:$CK$1017,$B241,'Daily Log'!$CL$18:$CL$1017),0)","v":0},{"$f":"IFERROR($E241*SUMIF('Daily Log'!$CN$18:$CN$1017,$B241,'Daily Log'!$CO$18:$CO$1017),0)","v":0}]
[null,"ZAB09 1309:MC S.FRIES",null,"PACKAGE-SIDE ORDER",1,0,{"$f":"IFERROR($E242*SUMIF('Daily Log'!$B$18:$B$1017,$B242,'Daily Log'!$C$18:$C$1017),0)","v":0},{"$f":"IFERROR($E242*SUMIF('Daily Log'!$E$18:$E$1017,$B242,'Daily Log'!$F$18:$F$1017),0)","v":0},{"$f":"IFERROR($E242*SUMIF('Daily Log'!$H$18:$H$1017,$B242,'Daily Log'!$I$18:$I$1017),0)","v":0},{"$f":"IFERROR($E242*SUMIF('Daily Log'!$K$18:$K$1017,$B242,'Daily Log'!$L$18:$L$1017),0)","v":0},{"$f":"IFERROR($E242*SUMIF('Daily Log'!$N$18:$N$1017,$B242,'Daily Log'!$O$18:$O$1017),0)","v":0},{"$f":"IFERROR($E242*SUMIF('Daily Log'!$Q$18:$Q$1017,$B242,'Daily Log'!$R$18:$R$1017),0)","v":0},{"$f":"IFERROR($E242*SUMIF('Daily Log'!$T$18:$T$1017,$B242,'Daily Log'!$U$18:$U$1017),0)","v":0},{"$f":"IFERROR($E242*SUMIF('Daily Log'!$W$18:$W$1017,$B242,'Daily Log'!$X$18:$X$1017),0)","v":0},{"$f":"IFERROR($E242*SUMIF('Daily Log'!$Z$18:$Z$1017,$B242,'Daily Log'!$AA$18:$AA$1017),0)","v":0},{"$f":"IFERROR($E242*SUMIF('Daily Log'!$AC$18:$AC$1017,$B242,'Daily Log'!$AD$18:$AD$1017),0)","v":0},{"$f":"IFERROR($E242*SUMIF('Daily Log'!$AF$18:$AF$1017,$B242,'Daily Log'!$AG$18:$AG$1017),0)","v":0},{"$f":"IFERROR($E242*SUMIF('Daily Log'!$AI$18:$AI$1017,$B242,'Daily Log'!$AJ$18:$AJ$1017),0)","v":0},{"$f":"IFERROR($E242*SUMIF('Daily Log'!$AL$18:$AL$1017,$B242,'Daily Log'!$AM$18:$AM$1017),0)","v":0},{"$f":"IFERROR($E242*SUMIF('Daily Log'!$AO$18:$AO$1017,$B242,'Daily Log'!$AP$18:$AP$1017),0)","v":0},{"$f":"IFERROR($E242*SUMIF('Daily Log'!$AR$18:$AR$1017,$B242,'Daily Log'!$AS$18:$AS$1017),0)","v":0},{"$f":"IFERROR($E242*SUMIF('Daily Log'!$AU$18:$AU$1017,$B242,'Daily Log'!$AV$18:$AV$1017),0)","v":0},{"$f":"IFERROR($E242*SUMIF('Daily Log'!$AX$18:$AX$1017,$B242,'Daily Log'!$AY$18:$AY$1017),0)","v":0},{"$f":"IFERROR($E242*SUMIF('Daily Log'!$BA$18:$BA$1017,$B242,'Daily Log'!$BB$18:$BB$1017),0)","v":0},{"$f":"IFERROR($E242*SUMIF('Daily Log'!$BD$18:$BD$1017,$B242,'Daily Log'!$BE$18:$BE$1017),0)","v":0},{"$f":"IFERROR($E242*SUMIF('Daily Log'!$BG$18:$BG$1017,$B242,'Daily Log'!$BH$18:$BH$1017),0)","v":0},{"$f":"IFERROR($E242*SUMIF('Daily Log'!$BJ$18:$BJ$1017,$B242,'Daily Log'!$BK$18:$BK$1017),0)","v":0},{"$f":"IFERROR($E242*SUMIF('Daily Log'!$BM$18:$BM$1017,$B242,'Daily Log'!$BN$18:$BN$1017),0)","v":0},{"$f":"IFERROR($E242*SUMIF('Daily Log'!$BP$18:$BP$1017,$B242,'Daily Log'!$BQ$18:$BQ$1017),0)","v":0},{"$f":"IFERROR($E242*SUMIF('Daily Log'!$BS$18:$BS$1017,$B242,'Daily Log'!$BT$18:$BT$1017),0)","v":0},{"$f":"IFERROR($E242*SUMIF('Daily Log'!$BV$18:$BV$1017,$B242,'Daily Log'!$BW$18:$BW$1017),0)","v":0},{"$f":"IFERROR($E242*SUMIF('Daily Log'!$BY$18:$BY$1017,$B242,'Daily Log'!$BZ$18:$BZ$1017),0)","v":0},{"$f":"IFERROR($E242*SUMIF('Daily Log'!$CB$18:$CB$1017,$B242,'Daily Log'!$CC$18:$CC$1017),0)","v":0},{"$f":"IFERROR($E242*SUMIF('Daily Log'!$CE$18:$CE$1017,$B242,'Daily Log'!$CF$18:$CF$1017),0)","v":0},{"$f":"IFERROR($E242*SUMIF('Daily Log'!$CH$18:$CH$1017,$B242,'Daily Log'!$CI$18:$CI$1017),0)","v":0},{"$f":"IFERROR($E242*SUMIF('Daily Log'!$CK$18:$CK$1017,$B242,'Daily Log'!$CL$18:$CL$1017),0)","v":0},{"$f":"IFERROR($E242*SUMIF('Daily Log'!$CN$18:$CN$1017,$B242,'Daily Log'!$CO$18:$CO$1017),0)","v":0}]
[null,"ZAB11 1311:MC HSH BRW",null,"PACKAGE-SIDE ORDER",1,0,{"$f":"IFERROR($E243*SUMIF('Daily Log'!$B$18:$B$1017,$B243,'Daily Log'!$C$18:$C$1017),0)","v":0},{"$f":"IFERROR($E243*SUMIF('Daily Log'!$E$18:$E$1017,$B243,'Daily Log'!$F$18:$F$1017),0)","v":0},{"$f":"IFERROR($E243*SUMIF('Daily Log'!$H$18:$H$1017,$B243,'Daily Log'!$I$18:$I$1017),0)","v":0},{"$f":"IFERROR($E243*SUMIF('Daily Log'!$K$18:$K$1017,$B243,'Daily Log'!$L$18:$L$1017),0)","v":0},{"$f":"IFERROR($E243*SUMIF('Daily Log'!$N$18:$N$1017,$B243,'Daily Log'!$O$18:$O$1017),0)","v":0},{"$f":"IFERROR($E243*SUMIF('Daily Log'!$Q$18:$Q$1017,$B243,'Daily Log'!$R$18:$R$1017),0)","v":0},{"$f":"IFERROR($E243*SUMIF('Daily Log'!$T$18:$T$1017,$B243,'Daily Log'!$U$18:$U$1017),0)","v":0},{"$f":"IFERROR($E243*SUMIF('Daily Log'!$W$18:$W$1017,$B243,'Daily Log'!$X$18:$X$1017),0)","v":0},{"$f":"IFERROR($E243*SUMIF('Daily Log'!$Z$18:$Z$1017,$B243,'Daily Log'!$AA$18:$AA$1017),0)","v":0},{"$f":"IFERROR($E243*SUMIF('Daily Log'!$AC$18:$AC$1017,$B243,'Daily Log'!$AD$18:$AD$1017),0)","v":0},{"$f":"IFERROR($E243*SUMIF('Daily Log'!$AF$18:$AF$1017,$B243,'Daily Log'!$AG$18:$AG$1017),0)","v":0},{"$f":"IFERROR($E243*SUMIF('Daily Log'!$AI$18:$AI$1017,$B243,'Daily Log'!$AJ$18:$AJ$1017),0)","v":0},{"$f":"IFERROR($E243*SUMIF('Daily Log'!$AL$18:$AL$1017,$B243,'Daily Log'!$AM$18:$AM$1017),0)","v":0},{"$f":"IFERROR($E243*SUMIF('Daily Log'!$AO$18:$AO$1017,$B243,'Daily Log'!$AP$18:$AP$1017),0)","v":0},{"$f":"IFERROR($E243*SUMIF('Daily Log'!$AR$18:$AR$1017,$B243,'Daily Log'!$AS$18:$AS$1017),0)","v":0},{"$f":"IFERROR($E243*SUMIF('Daily Log'!$AU$18:$AU$1017,$B243,'Daily Log'!$AV$18:$AV$1017),0)","v":0},{"$f":"IFERROR($E243*SUMIF('Daily Log'!$AX$18:$AX$1017,$B243,'Daily Log'!$AY$18:$AY$1017),0)","v":0},{"$f":"IFERROR($E243*SUMIF('Daily Log'!$BA$18:$BA$1017,$B243,'Daily Log'!$BB$18:$BB$1017),0)","v":0},{"$f":"IFERROR($E243*SUMIF('Daily Log'!$BD$18:$BD$1017,$B243,'Daily Log'!$BE$18:$BE$1017),0)","v":0},{"$f":"IFERROR($E243*SUMIF('Daily Log'!$BG$18:$BG$1017,$B243,'Daily Log'!$BH$18:$BH$1017),0)","v":0},{"$f":"IFERROR($E243*SUMIF('Daily Log'!$BJ$18:$BJ$1017,$B243,'Daily Log'!$BK$18:$BK$1017),0)","v":0},{"$f":"IFERROR($E243*SUMIF('Daily Log'!$BM$18:$BM$1017,$B243,'Daily Log'!$BN$18:$BN$1017),0)","v":0},{"$f":"IFERROR($E243*SUMIF('Daily Log'!$BP$18:$BP$1017,$B243,'Daily Log'!$BQ$18:$BQ$1017),0)","v":0},{"$f":"IFERROR($E243*SUMIF('Daily Log'!$BS$18:$BS$1017,$B243,'Daily Log'!$BT$18:$BT$1017),0)","v":0},{"$f":"IFERROR($E243*SUMIF('Daily Log'!$BV$18:$BV$1017,$B243,'Daily Log'!$BW$18:$BW$1017),0)","v":0},{"$f":"IFERROR($E243*SUMIF('Daily Log'!$BY$18:$BY$1017,$B243,'Daily Log'!$BZ$18:$BZ$1017),0)","v":0},{"$f":"IFERROR($E243*SUMIF('Daily Log'!$CB$18:$CB$1017,$B243,'Daily Log'!$CC$18:$CC$1017),0)","v":0},{"$f":"IFERROR($E243*SUMIF('Daily Log'!$CE$18:$CE$1017,$B243,'Daily Log'!$CF$18:$CF$1017),0)","v":0},{"$f":"IFERROR($E243*SUMIF('Daily Log'!$CH$18:$CH$1017,$B243,'Daily Log'!$CI$18:$CI$1017),0)","v":0},{"$f":"IFERROR($E243*SUMIF('Daily Log'!$CK$18:$CK$1017,$B243,'Daily Log'!$CL$18:$CL$1017),0)","v":0},{"$f":"IFERROR($E243*SUMIF('Daily Log'!$CN$18:$CN$1017,$B243,'Daily Log'!$CO$18:$CO$1017),0)","v":0}]
[null,"ZAB06 1306:DF WING",null,"PACKAGE-SIDE ORDER",1,42,{"$f":"IFERROR($E244*SUMIF('Daily Log'!$B$18:$B$1017,$B244,'Daily Log'!$C$18:$C$1017),0)","v":0},{"$f":"IFERROR($E244*SUMIF('Daily Log'!$E$18:$E$1017,$B244,'Daily Log'!$F$18:$F$1017),0)","v":0},{"$f":"IFERROR($E244*SUMIF('Daily Log'!$H$18:$H$1017,$B244,'Daily Log'!$I$18:$I$1017),0)","v":0},{"$f":"IFERROR($E244*SUMIF('Daily Log'!$K$18:$K$1017,$B244,'Daily Log'!$L$18:$L$1017),0)","v":0},{"$f":"IFERROR($E244*SUMIF('Daily Log'!$N$18:$N$1017,$B244,'Daily Log'!$O$18:$O$1017),0)","v":0},{"$f":"IFERROR($E244*SUMIF('Daily Log'!$Q$18:$Q$1017,$B244,'Daily Log'!$R$18:$R$1017),0)","v":0},{"$f":"IFERROR($E244*SUMIF('Daily Log'!$T$18:$T$1017,$B244,'Daily Log'!$U$18:$U$1017),0)","v":0},{"$f":"IFERROR($E244*SUMIF('Daily Log'!$W$18:$W$1017,$B244,'Daily Log'!$X$18:$X$1017),0)","v":0},{"$f":"IFERROR($E244*SUMIF('Daily Log'!$Z$18:$Z$1017,$B244,'Daily Log'!$AA$18:$AA$1017),0)","v":0},{"$f":"IFERROR($E244*SUMIF('Daily Log'!$AC$18:$AC$1017,$B244,'Daily Log'!$AD$18:$AD$1017),0)","v":0},{"$f":"IFERROR($E244*SUMIF('Daily Log'!$AF$18:$AF$1017,$B244,'Daily Log'!$AG$18:$AG$1017),0)","v":0},{"$f":"IFERROR($E244*SUMIF('Daily Log'!$AI$18:$AI$1017,$B244,'Daily Log'!$AJ$18:$AJ$1017),0)","v":0},{"$f":"IFERROR($E244*SUMIF('Daily Log'!$AL$18:$AL$1017,$B244,'Daily Log'!$AM$18:$AM$1017),0)","v":0},{"$f":"IFERROR($E244*SUMIF('Daily Log'!$AO$18:$AO$1017,$B244,'Daily Log'!$AP$18:$AP$1017),0)","v":0},{"$f":"IFERROR($E244*SUMIF('Daily Log'!$AR$18:$AR$1017,$B244,'Daily Log'!$AS$18:$AS$1017),0)","v":0},{"$f":"IFERROR($E244*SUMIF('Daily Log'!$AU$18:$AU$1017,$B244,'Daily Log'!$AV$18:$AV$1017),0)","v":0},{"$f":"IFERROR($E244*SUMIF('Daily Log'!$AX$18:$AX$1017,$B244,'Daily Log'!$AY$18:$AY$1017),0)","v":0},{"$f":"IFERROR($E244*SUMIF('Daily Log'!$BA$18:$BA$1017,$B244,'Daily Log'!$BB$18:$BB$1017),0)","v":0},{"$f":"IFERROR($E244*SUMIF('Daily Log'!$BD$18:$BD$1017,$B244,'Daily Log'!$BE$18:$BE$1017),0)","v":0},{"$f":"IFERROR($E244*SUMIF('Daily Log'!$BG$18:$BG$1017,$B244,'Daily Log'!$BH$18:$BH$1017),0)","v":0},{"$f":"IFERROR($E244*SUMIF('Daily Log'!$BJ$18:$BJ$1017,$B244,'Daily Log'!$BK$18:$BK$1017),0)","v":0},{"$f":"IFERROR($E244*SUMIF('Daily Log'!$BM$18:$BM$1017,$B244,'Daily Log'!$BN$18:$BN$1017),0)","v":0},{"$f":"IFERROR($E244*SUMIF('Daily Log'!$BP$18:$BP$1017,$B244,'Daily Log'!$BQ$18:$BQ$1017),0)","v":0},{"$f":"IFERROR($E244*SUMIF('Daily Log'!$BS$18:$BS$1017,$B244,'Daily Log'!$BT$18:$BT$1017),0)","v":0},{"$f":"IFERROR($E244*SUMIF('Daily Log'!$BV$18:$BV$1017,$B244,'Daily Log'!$BW$18:$BW$1017),0)","v":0},{"$f":"IFERROR($E244*SUMIF('Daily Log'!$BY$18:$BY$1017,$B244,'Daily Log'!$BZ$18:$BZ$1017),0)","v":0},{"$f":"IFERROR($E244*SUMIF('Daily Log'!$CB$18:$CB$1017,$B244,'Daily Log'!$CC$18:$CC$1017),0)","v":0},{"$f":"IFERROR($E244*SUMIF('Daily Log'!$CE$18:$CE$1017,$B244,'Daily Log'!$CF$18:$CF$1017),0)","v":0},{"$f":"IFERROR($E244*SUMIF('Daily Log'!$CH$18:$CH$1017,$B244,'Daily Log'!$CI$18:$CI$1017),0)","v":0},{"$f":"IFERROR($E244*SUMIF('Daily Log'!$CK$18:$CK$1017,$B244,'Daily Log'!$CL$18:$CL$1017),0)","v":0},{"$f":"IFERROR($E244*SUMIF('Daily Log'!$CN$18:$CN$1017,$B244,'Daily Log'!$CO$18:$CO$1017),0)","v":42}]
[null,"ZAB10 1310:MC HP SMILE",null,"PACKAGE-SIDE ORDER",1,11,{"$f":"IFERROR($E245*SUMIF('Daily Log'!$B$18:$B$1017,$B245,'Daily Log'!$C$18:$C$1017),0)","v":0},{"$f":"IFERROR($E245*SUMIF('Daily Log'!$E$18:$E$1017,$B245,'Daily Log'!$F$18:$F$1017),0)","v":0},{"$f":"IFERROR($E245*SUMIF('Daily Log'!$H$18:$H$1017,$B245,'Daily Log'!$I$18:$I$1017),0)","v":0},{"$f":"IFERROR($E245*SUMIF('Daily Log'!$K$18:$K$1017,$B245,'Daily Log'!$L$18:$L$1017),0)","v":0},{"$f":"IFERROR($E245*SUMIF('Daily Log'!$N$18:$N$1017,$B245,'Daily Log'!$O$18:$O$1017),0)","v":0},{"$f":"IFERROR($E245*SUMIF('Daily Log'!$Q$18:$Q$1017,$B245,'Daily Log'!$R$18:$R$1017),0)","v":0},{"$f":"IFERROR($E245*SUMIF('Daily Log'!$T$18:$T$1017,$B245,'Daily Log'!$U$18:$U$1017),0)","v":0},{"$f":"IFERROR($E245*SUMIF('Daily Log'!$W$18:$W$1017,$B245,'Daily Log'!$X$18:$X$1017),0)","v":0},{"$f":"IFERROR($E245*SUMIF('Daily Log'!$Z$18:$Z$1017,$B245,'Daily Log'!$AA$18:$AA$1017),0)","v":0},{"$f":"IFERROR($E245*SUMIF('Daily Log'!$AC$18:$AC$1017,$B245,'Daily Log'!$AD$18:$AD$1017),0)","v":0},{"$f":"IFERROR($E245*SUMIF('Daily Log'!$AF$18:$AF$1017,$B245,'Daily Log'!$AG$18:$AG$1017),0)","v":0},{"$f":"IFERROR($E245*SUMIF('Daily Log'!$AI$18:$AI$1017,$B245,'Daily Log'!$AJ$18:$AJ$1017),0)","v":0},{"$f":"IFERROR($E245*SUMIF('Daily Log'!$AL$18:$AL$1017,$B245,'Daily Log'!$AM$18:$AM$1017),0)","v":0},{"$f":"IFERROR($E245*SUMIF('Daily Log'!$AO$18:$AO$1017,$B245,'Daily Log'!$AP$18:$AP$1017),0)","v":0},{"$f":"IFERROR($E245*SUMIF('Daily Log'!$AR$18:$AR$1017,$B245,'Daily Log'!$AS$18:$AS$1017),0)","v":0},{"$f":"IFERROR($E245*SUMIF('Daily Log'!$AU$18:$AU$1017,$B245,'Daily Log'!$AV$18:$AV$1017),0)","v":0},{"$f":"IFERROR($E245*SUMIF('Daily Log'!$AX$18:$AX$1017,$B245,'Daily Log'!$AY$18:$AY$1017),0)","v":0},{"$f":"IFERROR($E245*SUMIF('Daily Log'!$BA$18:$BA$1017,$B245,'Daily Log'!$BB$18:$BB$1017),0)","v":0},{"$f":"IFERROR($E245*SUMIF('Daily Log'!$BD$18:$BD$1017,$B245,'Daily Log'!$BE$18:$BE$1017),0)","v":0},{"$f":"IFERROR($E245*SUMIF('Daily Log'!$BG$18:$BG$1017,$B245,'Daily Log'!$BH$18:$BH$1017),0)","v":0},{"$f":"IFERROR($E245*SUMIF('Daily Log'!$BJ$18:$BJ$1017,$B245,'Daily Log'!$BK$18:$BK$1017),0)","v":0},{"$f":"IFERROR($E245*SUMIF('Daily Log'!$BM$18:$BM$1017,$B245,'Daily Log'!$BN$18:$BN$1017),0)","v":0},{"$f":"IFERROR($E245*SUMIF('Daily Log'!$BP$18:$BP$1017,$B245,'Daily Log'!$BQ$18:$BQ$1017),0)","v":0},{"$f":"IFERROR($E245*SUMIF('Daily Log'!$BS$18:$BS$1017,$B245,'Daily Log'!$BT$18:$BT$1017),0)","v":0},{"$f":"IFERROR($E245*SUMIF('Daily Log'!$BV$18:$BV$1017,$B245,'Daily Log'!$BW$18:$BW$1017),0)","v":0},{"$f":"IFERROR($E245*SUMIF('Daily Log'!$BY$18:$BY$1017,$B245,'Daily Log'!$BZ$18:$BZ$1017),0)","v":0},{"$f":"IFERROR($E245*SUMIF('Daily Log'!$CB$18:$CB$1017,$B245,'Daily Log'!$CC$18:$CC$1017),0)","v":0},{"$f":"IFERROR($E245*SUMIF('Daily Log'!$CE$18:$CE$1017,$B245,'Daily Log'!$CF$18:$CF$1017),0)","v":0},{"$f":"IFERROR($E245*SUMIF('Daily Log'!$CH$18:$CH$1017,$B245,'Daily Log'!$CI$18:$CI$1017),0)","v":0},{"$f":"IFERROR($E245*SUMIF('Daily Log'!$CK$18:$CK$1017,$B245,'Daily Log'!$CL$18:$CL$1017),0)","v":0},{"$f":"IFERROR($E245*SUMIF('Daily Log'!$CN$18:$CN$1017,$B245,'Daily Log'!$CO$18:$CO$1017),0)","v":11}]
[null,"ZAA05 1205:RAINBOW RL",null,"PACKAGE-SIDE ORDER",1,0,{"$f":"IFERROR($E246*SUMIF('Daily Log'!$B$18:$B$1017,$B246,'Daily Log'!$C$18:$C$1017),0)","v":0},{"$f":"IFERROR($E246*SUMIF('Daily Log'!$E$18:$E$1017,$B246,'Daily Log'!$F$18:$F$1017),0)","v":0},{"$f":"IFERROR($E246*SUMIF('Daily Log'!$H$18:$H$1017,$B246,'Daily Log'!$I$18:$I$1017),0)","v":0},{"$f":"IFERROR($E246*SUMIF('Daily Log'!$K$18:$K$1017,$B246,'Daily Log'!$L$18:$L$1017),0)","v":0},{"$f":"IFERROR($E246*SUMIF('Daily Log'!$N$18:$N$1017,$B246,'Daily Log'!$O$18:$O$1017),0)","v":0},{"$f":"IFERROR($E246*SUMIF('Daily Log'!$Q$18:$Q$1017,$B246,'Daily Log'!$R$18:$R$1017),0)","v":0},{"$f":"IFERROR($E246*SUMIF('Daily Log'!$T$18:$T$1017,$B246,'Daily Log'!$U$18:$U$1017),0)","v":0},{"$f":"IFERROR($E246*SUMIF('Daily Log'!$W$18:$W$1017,$B246,'Daily Log'!$X$18:$X$1017),0)","v":0},{"$f":"IFERROR($E246*SUMIF('Daily Log'!$Z$18:$Z$1017,$B246,'Daily Log'!$AA$18:$AA$1017),0)","v":0},{"$f":"IFERROR($E246*SUMIF('Daily Log'!$AC$18:$AC$1017,$B246,'Daily Log'!$AD$18:$AD$1017),0)","v":0},{"$f":"IFERROR($E246*SUMIF('Daily Log'!$AF$18:$AF$1017,$B246,'Daily Log'!$AG$18:$AG$1017),0)","v":0},{"$f":"IFERROR($E246*SUMIF('Daily Log'!$AI$18:$AI$1017,$B246,'Daily Log'!$AJ$18:$AJ$1017),0)","v":0},{"$f":"IFERROR($E246*SUMIF('Daily Log'!$AL$18:$AL$1017,$B246,'Daily Log'!$AM$18:$AM$1017),0)","v":0},{"$f":"IFERROR($E246*SUMIF('Daily Log'!$AO$18:$AO$1017,$B246,'Daily Log'!$AP$18:$AP$1017),0)","v":0},{"$f":"IFERROR($E246*SUMIF('Daily Log'!$AR$18:$AR$1017,$B246,'Daily Log'!$AS$18:$AS$1017),0)","v":0},{"$f":"IFERROR($E246*SUMIF('Daily Log'!$AU$18:$AU$1017,$B246,'Daily Log'!$AV$18:$AV$1017),0)","v":0},{"$f":"IFERROR($E246*SUMIF('Daily Log'!$AX$18:$AX$1017,$B246,'Daily Log'!$AY$18:$AY$1017),0)","v":0},{"$f":"IFERROR($E246*SUMIF('Daily Log'!$BA$18:$BA$1017,$B246,'Daily Log'!$BB$18:$BB$1017),0)","v":0},{"$f":"IFERROR($E246*SUMIF('Daily Log'!$BD$18:$BD$1017,$B246,'Daily Log'!$BE$18:$BE$1017),0)","v":0},{"$f":"IFERROR($E246*SUMIF('Daily Log'!$BG$18:$BG$1017,$B246,'Daily Log'!$BH$18:$BH$1017),0)","v":0},{"$f":"IFERROR($E246*SUMIF('Daily Log'!$BJ$18:$BJ$1017,$B246,'Daily Log'!$BK$18:$BK$1017),0)","v":0},{"$f":"IFERROR($E246*SUMIF('Daily Log'!$BM$18:$BM$1017,$B246,'Daily Log'!$BN$18:$BN$1017),0)","v":0},{"$f":"IFERROR($E246*SUMIF('Daily Log'!$BP$18:$BP$1017,$B246,'Daily Log'!$BQ$18:$BQ$1017),0)","v":0},{"$f":"IFERROR($E246*SUMIF('Daily Log'!$BS$18:$BS$1017,$B246,'Daily Log'!$BT$18:$BT$1017),0)","v":0},{"$f":"IFERROR($E246*SUMIF('Daily Log'!$BV$18:$BV$1017,$B246,'Daily Log'!$BW$18:$BW$1017),0)","v":0},{"$f":"IFERROR($E246*SUMIF('Daily Log'!$BY$18:$BY$1017,$B246,'Daily Log'!$BZ$18:$BZ$1017),0)","v":0},{"$f":"IFERROR($E246*SUMIF('Daily Log'!$CB$18:$CB$1017,$B246,'Daily Log'!$CC$18:$CC$1017),0)","v":0},{"$f":"IFERROR($E246*SUMIF('Daily Log'!$CE$18:$CE$1017,$B246,'Daily Log'!$CF$18:$CF$1017),0)","v":0},{"$f":"IFERROR($E246*SUMIF('Daily Log'!$CH$18:$CH$1017,$B246,'Daily Log'!$CI$18:$CI$1017),0)","v":0},{"$f":"IFERROR($E246*SUMIF('Daily Log'!$CK$18:$CK$1017,$B246,'Daily Log'!$CL$18:$CL$1017),0)","v":0},{"$f":"IFERROR($E246*SUMIF('Daily Log'!$CN$18:$CN$1017,$B246,'Daily Log'!$CO$18:$CO$1017),0)","v":0}]
[null,"ZAA08 1208:HOTDOG BUN",null,"PACKAGE-SIDE ORDER",1,0,{"$f":"IFERROR($E247*SUMIF('Daily Log'!$B$18:$B$1017,$B247,'Daily Log'!$C$18:$C$1017),0)","v":0},{"$f":"IFERROR($E247*SUMIF('Daily Log'!$E$18:$E$1017,$B247,'Daily Log'!$F$18:$F$1017),0)","v":0},{"$f":"IFERROR($E247*SUMIF('Daily Log'!$H$18:$H$1017,$B247,'Daily Log'!$I$18:$I$1017),0)","v":0},{"$f":"IFERROR($E247*SUMIF('Daily Log'!$K$18:$K$1017,$B247,'Daily Log'!$L$18:$L$1017),0)","v":0},{"$f":"IFERROR($E247*SUMIF('Daily Log'!$N$18:$N$1017,$B247,'Daily Log'!$O$18:$O$1017),0)","v":0},{"$f":"IFERROR($E247*SUMIF('Daily Log'!$Q$18:$Q$1017,$B247,'Daily Log'!$R$18:$R$1017),0)","v":0},{"$f":"IFERROR($E247*SUMIF('Daily Log'!$T$18:$T$1017,$B247,'Daily Log'!$U$18:$U$1017),0)","v":0},{"$f":"IFERROR($E247*SUMIF('Daily Log'!$W$18:$W$1017,$B247,'Daily Log'!$X$18:$X$1017),0)","v":0},{"$f":"IFERROR($E247*SUMIF('Daily Log'!$Z$18:$Z$1017,$B247,'Daily Log'!$AA$18:$AA$1017),0)","v":0},{"$f":"IFERROR($E247*SUMIF('Daily Log'!$AC$18:$AC$1017,$B247,'Daily Log'!$AD$18:$AD$1017),0)","v":0},{"$f":"IFERROR($E247*SUMIF('Daily Log'!$AF$18:$AF$1017,$B247,'Daily Log'!$AG$18:$AG$1017),0)","v":0},{"$f":"IFERROR($E247*SUMIF('Daily Log'!$AI$18:$AI$1017,$B247,'Daily Log'!$AJ$18:$AJ$1017),0)","v":0},{"$f":"IFERROR($E247*SUMIF('Daily Log'!$AL$18:$AL$1017,$B247,'Daily Log'!$AM$18:$AM$1017),0)","v":0},{"$f":"IFERROR($E247*SUMIF('Daily Log'!$AO$18:$AO$1017,$B247,'Daily Log'!$AP$18:$AP$1017),0)","v":0},{"$f":"IFERROR($E247*SUMIF('Daily Log'!$AR$18:$AR$1017,$B247,'Daily Log'!$AS$18:$AS$1017),0)","v":0},{"$f":"IFERROR($E247*SUMIF('Daily Log'!$AU$18:$AU$1017,$B247,'Daily Log'!$AV$18:$AV$1017),0)","v":0},{"$f":"IFERROR($E247*SUMIF('Daily Log'!$AX$18:$AX$1017,$B247,'Daily Log'!$AY$18:$AY$1017),0)","v":0},{"$f":"IFERROR($E247*SUMIF('Daily Log'!$BA$18:$BA$1017,$B247,'Daily Log'!$BB$18:$BB$1017),0)","v":0},{"$f":"IFERROR($E247*SUMIF('Daily Log'!$BD$18:$BD$1017,$B247,'Daily Log'!$BE$18:$BE$1017),0)","v":0},{"$f":"IFERROR($E247*SUMIF('Daily Log'!$BG$18:$BG$1017,$B247,'Daily Log'!$BH$18:$BH$1017),0)","v":0},{"$f":"IFERROR($E247*SUMIF('Daily Log'!$BJ$18:$BJ$1017,$B247,'Daily Log'!$BK$18:$BK$1017),0)","v":0},{"$f":"IFERROR($E247*SUMIF('Daily Log'!$BM$18:$BM$1017,$B247,'Daily Log'!$BN$18:$BN$1017),0)","v":0},{"$f":"IFERROR($E247*SUMIF('Daily Log'!$BP$18:$BP$1017,$B247,'Daily Log'!$BQ$18:$BQ$1017),0)","v":0},{"$f":"IFERROR($E247*SUMIF('Daily Log'!$BS$18:$BS$1017,$B247,'Daily Log'!$BT$18:$BT$1017),0)","v":0},{"$f":"IFERROR($E247*SUMIF('Daily Log'!$BV$18:$BV$1017,$B247,'Daily Log'!$BW$18:$BW$1017),0)","v":0},{"$f":"IFERROR($E247*SUMIF('Daily Log'!$BY$18:$BY$1017,$B247,'Daily Log'!$BZ$18:$BZ$1017),0)","v":0},{"$f":"IFERROR($E247*SUMIF('Daily Log'!$CB$18:$CB$1017,$B247,'Daily Log'!$CC$18:$CC$1017),0)","v":0},{"$f":"IFERROR($E247*SUMIF('Daily Log'!$CE$18:$CE$1017,$B247,'Daily Log'!$CF$18:$CF$1017),0)","v":0},{"$f":"IFERROR($E247*SUMIF('Daily Log'!$CH$18:$CH$1017,$B247,'Daily Log'!$CI$18:$CI$1017),0)","v":0},{"$f":"IFERROR($E247*SUMIF('Daily Log'!$CK$18:$CK$1017,$B247,'Daily Log'!$CL$18:$CL$1017),0)","v":0},{"$f":"IFERROR($E247*SUMIF('Daily Log'!$CN$18:$CN$1017,$B247,'Daily Log'!$CO$18:$CO$1017),0)","v":0}]
[null,"AF41 91311:MC HSH BRW",null,"PACKAGE-SIDE ORDER",1,11,{"$f":"IFERROR($E248*SUMIF('Daily Log'!$B$18:$B$1017,$B248,'Daily Log'!$C$18:$C$1017),0)","v":0},{"$f":"IFERROR($E248*SUMIF('Daily Log'!$E$18:$E$1017,$B248,'Daily Log'!$F$18:$F$1017),0)","v":0},{"$f":"IFERROR($E248*SUMIF('Daily Log'!$H$18:$H$1017,$B248,'Daily Log'!$I$18:$I$1017),0)","v":0},{"$f":"IFERROR($E248*SUMIF('Daily Log'!$K$18:$K$1017,$B248,'Daily Log'!$L$18:$L$1017),0)","v":0},{"$f":"IFERROR($E248*SUMIF('Daily Log'!$N$18:$N$1017,$B248,'Daily Log'!$O$18:$O$1017),0)","v":0},{"$f":"IFERROR($E248*SUMIF('Daily Log'!$Q$18:$Q$1017,$B248,'Daily Log'!$R$18:$R$1017),0)","v":0},{"$f":"IFERROR($E248*SUMIF('Daily Log'!$T$18:$T$1017,$B248,'Daily Log'!$U$18:$U$1017),0)","v":0},{"$f":"IFERROR($E248*SUMIF('Daily Log'!$W$18:$W$1017,$B248,'Daily Log'!$X$18:$X$1017),0)","v":0},{"$f":"IFERROR($E248*SUMIF('Daily Log'!$Z$18:$Z$1017,$B248,'Daily Log'!$AA$18:$AA$1017),0)","v":0},{"$f":"IFERROR($E248*SUMIF('Daily Log'!$AC$18:$AC$1017,$B248,'Daily Log'!$AD$18:$AD$1017),0)","v":0},{"$f":"IFERROR($E248*SUMIF('Daily Log'!$AF$18:$AF$1017,$B248,'Daily Log'!$AG$18:$AG$1017),0)","v":0},{"$f":"IFERROR($E248*SUMIF('Daily Log'!$AI$18:$AI$1017,$B248,'Daily Log'!$AJ$18:$AJ$1017),0)","v":0},{"$f":"IFERROR($E248*SUMIF('Daily Log'!$AL$18:$AL$1017,$B248,'Daily Log'!$AM$18:$AM$1017),0)","v":0},{"$f":"IFERROR($E248*SUMIF('Daily Log'!$AO$18:$AO$1017,$B248,'Daily Log'!$AP$18:$AP$1017),0)","v":0},{"$f":"IFERROR($E248*SUMIF('Daily Log'!$AR$18:$AR$1017,$B248,'Daily Log'!$AS$18:$AS$1017),0)","v":0},{"$f":"IFERROR($E248*SUMIF('Daily Log'!$AU$18:$AU$1017,$B248,'Daily Log'!$AV$18:$AV$1017),0)","v":0},{"$f":"IFERROR($E248*SUMIF('Daily Log'!$AX$18:$AX$1017,$B248,'Daily Log'!$AY$18:$AY$1017),0)","v":0},{"$f":"IFERROR($E248*SUMIF('Daily Log'!$BA$18:$BA$1017,$B248,'Daily Log'!$BB$18:$BB$1017),0)","v":0},{"$f":"IFERROR($E248*SUMIF('Daily Log'!$BD$18:$BD$1017,$B248,'Daily Log'!$BE$18:$BE$1017),0)","v":0},{"$f":"IFERROR($E248*SUMIF('Daily Log'!$BG$18:$BG$1017,$B248,'Daily Log'!$BH$18:$BH$1017),0)","v":0},{"$f":"IFERROR($E248*SUMIF('Daily Log'!$BJ$18:$BJ$1017,$B248,'Daily Log'!$BK$18:$BK$1017),0)","v":0},{"$f":"IFERROR($E248*SUMIF('Daily Log'!$BM$18:$BM$1017,$B248,'Daily Log'!$BN$18:$BN$1017),0)","v":0},{"$f":"IFERROR($E248*SUMIF('Daily Log'!$BP$18:$BP$1017,$B248,'Daily Log'!$BQ$18:$BQ$1017),0)","v":0},{"$f":"IFERROR($E248*SUMIF('Daily Log'!$BS$18:$BS$1017,$B248,'Daily Log'!$BT$18:$BT$1017),0)","v":0},{"$f":"IFERROR($E248*SUMIF('Daily Log'!$BV$18:$BV$1017,$B248,'Daily Log'!$BW$18:$BW$1017),0)","v":0},{"$f":"IFERROR($E248*SUMIF('Daily Log'!$BY$18:$BY$1017,$B248,'Daily Log'!$BZ$18:$BZ$1017),0)","v":0},{"$f":"IFERROR($E248*SUMIF('Daily Log'!$CB$18:$CB$1017,$B248,'Daily Log'!$CC$18:$CC$1017),0)","v":0},{"$f":"IFERROR($E248*SUMIF('Daily Log'!$CE$18:$CE$1017,$B248,'Daily Log'!$CF$18:$CF$1017),0)","v":0},{"$f":"IFERROR($E248*SUMIF('Daily Log'!$CH$18:$CH$1017,$B248,'Daily Log'!$CI$18:$CI$1017),0)","v":0},{"$f":"IFERROR($E248*SUMIF('Daily Log'!$CK$18:$CK$1017,$B248,'Daily Log'!$CL$18:$CL$1017),0)","v":0},{"$f":"IFERROR($E248*SUMIF('Daily Log'!$CN$18:$CN$1017,$B248,'Daily Log'!$CO$18:$CO$1017),0)","v":11}]
[null,"ZAB07 1307: CALAMARI",null,"PACKAGE-SIDE ORDER",1,59,{"$f":"IFERROR($E249*SUMIF('Daily Log'!$B$18:$B$1017,$B249,'Daily Log'!$C$18:$C$1017),0)","v":0},{"$f":"IFERROR($E249*SUMIF('Daily Log'!$E$18:$E$1017,$B249,'Daily Log'!$F$18:$F$1017),0)","v":0},{"$f":"IFERROR($E249*SUMIF('Daily Log'!$H$18:$H$1017,$B249,'Daily Log'!$I$18:$I$1017),0)","v":0},{"$f":"IFERROR($E249*SUMIF('Daily Log'!$K$18:$K$1017,$B249,'Daily Log'!$L$18:$L$1017),0)","v":0},{"$f":"IFERROR($E249*SUMIF('Daily Log'!$N$18:$N$1017,$B249,'Daily Log'!$O$18:$O$1017),0)","v":0},{"$f":"IFERROR($E249*SUMIF('Daily Log'!$Q$18:$Q$1017,$B249,'Daily Log'!$R$18:$R$1017),0)","v":0},{"$f":"IFERROR($E249*SUMIF('Daily Log'!$T$18:$T$1017,$B249,'Daily Log'!$U$18:$U$1017),0)","v":0},{"$f":"IFERROR($E249*SUMIF('Daily Log'!$W$18:$W$1017,$B249,'Daily Log'!$X$18:$X$1017),0)","v":0},{"$f":"IFERROR($E249*SUMIF('Daily Log'!$Z$18:$Z$1017,$B249,'Daily Log'!$AA$18:$AA$1017),0)","v":0},{"$f":"IFERROR($E249*SUMIF('Daily Log'!$AC$18:$AC$1017,$B249,'Daily Log'!$AD$18:$AD$1017),0)","v":0},{"$f":"IFERROR($E249*SUMIF('Daily Log'!$AF$18:$AF$1017,$B249,'Daily Log'!$AG$18:$AG$1017),0)","v":0},{"$f":"IFERROR($E249*SUMIF('Daily Log'!$AI$18:$AI$1017,$B249,'Daily Log'!$AJ$18:$AJ$1017),0)","v":0},{"$f":"IFERROR($E249*SUMIF('Daily Log'!$AL$18:$AL$1017,$B249,'Daily Log'!$AM$18:$AM$1017),0)","v":0},{"$f":"IFERROR($E249*SUMIF('Daily Log'!$AO$18:$AO$1017,$B249,'Daily Log'!$AP$18:$AP$1017),0)","v":0},{"$f":"IFERROR($E249*SUMIF('Daily Log'!$AR$18:$AR$1017,$B249,'Daily Log'!$AS$18:$AS$1017),0)","v":0},{"$f":"IFERROR($E249*SUMIF('Daily Log'!$AU$18:$AU$1017,$B249,'Daily Log'!$AV$18:$AV$1017),0)","v":0},{"$f":"IFERROR($E249*SUMIF('Daily Log'!$AX$18:$AX$1017,$B249,'Daily Log'!$AY$18:$AY$1017),0)","v":0},{"$f":"IFERROR($E249*SUMIF('Daily Log'!$BA$18:$BA$1017,$B249,'Daily Log'!$BB$18:$BB$1017),0)","v":0},{"$f":"IFERROR($E249*SUMIF('Daily Log'!$BD$18:$BD$1017,$B249,'Daily Log'!$BE$18:$BE$1017),0)","v":0},{"$f":"IFERROR($E249*SUMIF('Daily Log'!$BG$18:$BG$1017,$B249,'Daily Log'!$BH$18:$BH$1017),0)","v":0},{"$f":"IFERROR($E249*SUMIF('Daily Log'!$BJ$18:$BJ$1017,$B249,'Daily Log'!$BK$18:$BK$1017),0)","v":0},{"$f":"IFERROR($E249*SUMIF('Daily Log'!$BM$18:$BM$1017,$B249,'Daily Log'!$BN$18:$BN$1017),0)","v":0},{"$f":"IFERROR($E249*SUMIF('Daily Log'!$BP$18:$BP$1017,$B249,'Daily Log'!$BQ$18:$BQ$1017),0)","v":0},{"$f":"IFERROR($E249*SUMIF('Daily Log'!$BS$18:$BS$1017,$B249,'Daily Log'!$BT$18:$BT$1017),0)","v":0},{"$f":"IFERROR($E249*SUMIF('Daily Log'!$BV$18:$BV$1017,$B249,'Daily Log'!$BW$18:$BW$1017),0)","v":0},{"$f":"IFERROR($E249*SUMIF('Daily Log'!$BY$18:$BY$1017,$B249,'Daily Log'!$BZ$18:$BZ$1017),0)","v":0},{"$f":"IFERROR($E249*SUMIF('Daily Log'!$CB$18:$CB$1017,$B249,'Daily Log'!$CC$18:$CC$1017),0)","v":0},{"$f":"IFERROR($E249*SUMIF('Daily Log'!$CE$18:$CE$1017,$B249,'Daily Log'!$CF$18:$CF$1017),0)","v":0},{"$f":"IFERROR($E249*SUMIF('Daily Log'!$CH$18:$CH$1017,$B249,'Daily Log'!$CI$18:$CI$1017),0)","v":0},{"$f":"IFERROR($E249*SUMIF('Daily Log'!$CK$18:$CK$1017,$B249,'Daily Log'!$CL$18:$CL$1017),0)","v":0},{"$f":"IFERROR($E249*SUMIF('Daily Log'!$CN$18:$CN$1017,$B249,'Daily Log'!$CO$18:$CO$1017),0)","v":59}]
[null,"ZAB08 1308 MC RING",null,"PACKAGE-SIDE ORDER",1,36,{"$f":"IFERROR($E250*SUMIF('Daily Log'!$B$18:$B$1017,$B250,'Daily Log'!$C$18:$C$1017),0)","v":0},{"$f":"IFERROR($E250*SUMIF('Daily Log'!$E$18:$E$1017,$B250,'Daily Log'!$F$18:$F$1017),0)","v":0},{"$f":"IFERROR($E250*SUMIF('Daily Log'!$H$18:$H$1017,$B250,'Daily Log'!$I$18:$I$1017),0)","v":0},{"$f":"IFERROR($E250*SUMIF('Daily Log'!$K$18:$K$1017,$B250,'Daily Log'!$L$18:$L$1017),0)","v":0},{"$f":"IFERROR($E250*SUMIF('Daily Log'!$N$18:$N$1017,$B250,'Daily Log'!$O$18:$O$1017),0)","v":0},{"$f":"IFERROR($E250*SUMIF('Daily Log'!$Q$18:$Q$1017,$B250,'Daily Log'!$R$18:$R$1017),0)","v":0},{"$f":"IFERROR($E250*SUMIF('Daily Log'!$T$18:$T$1017,$B250,'Daily Log'!$U$18:$U$1017),0)","v":0},{"$f":"IFERROR($E250*SUMIF('Daily Log'!$W$18:$W$1017,$B250,'Daily Log'!$X$18:$X$1017),0)","v":0},{"$f":"IFERROR($E250*SUMIF('Daily Log'!$Z$18:$Z$1017,$B250,'Daily Log'!$AA$18:$AA$1017),0)","v":0},{"$f":"IFERROR($E250*SUMIF('Daily Log'!$AC$18:$AC$1017,$B250,'Daily Log'!$AD$18:$AD$1017),0)","v":0},{"$f":"IFERROR($E250*SUMIF('Daily Log'!$AF$18:$AF$1017,$B250,'Daily Log'!$AG$18:$AG$1017),0)","v":0},{"$f":"IFERROR($E250*SUMIF('Daily Log'!$AI$18:$AI$1017,$B250,'Daily Log'!$AJ$18:$AJ$1017),0)","v":0},{"$f":"IFERROR($E250*SUMIF('Daily Log'!$AL$18:$AL$1017,$B250,'Daily Log'!$AM$18:$AM$1017),0)","v":0},{"$f":"IFERROR($E250*SUMIF('Daily Log'!$AO$18:$AO$1017,$B250,'Daily Log'!$AP$18:$AP$1017),0)","v":0},{"$f":"IFERROR($E250*SUMIF('Daily Log'!$AR$18:$AR$1017,$B250,'Daily Log'!$AS$18:$AS$1017),0)","v":0},{"$f":"IFERROR($E250*SUMIF('Daily Log'!$AU$18:$AU$1017,$B250,'Daily Log'!$AV$18:$AV$1017),0)","v":0},{"$f":"IFERROR($E250*SUMIF('Daily Log'!$AX$18:$AX$1017,$B250,'Daily Log'!$AY$18:$AY$1017),0)","v":0},{"$f":"IFERROR($E250*SUMIF('Daily Log'!$BA$18:$BA$1017,$B250,'Daily Log'!$BB$18:$BB$1017),0)","v":0},{"$f":"IFERROR($E250*SUMIF('Daily Log'!$BD$18:$BD$1017,$B250,'Daily Log'!$BE$18:$BE$1017),0)","v":0},{"$f":"IFERROR($E250*SUMIF('Daily Log'!$BG$18:$BG$1017,$B250,'Daily Log'!$BH$18:$BH$1017),0)","v":0},{"$f":"IFERROR($E250*SUMIF('Daily Log'!$BJ$18:$BJ$1017,$B250,'Daily Log'!$BK$18:$BK$1017),0)","v":0},{"$f":"IFERROR($E250*SUMIF('Daily Log'!$BM$18:$BM$1017,$B250,'Daily Log'!$BN$18:$BN$1017),0)","v":0},{"$f":"IFERROR($E250*SUMIF('Daily Log'!$BP$18:$BP$1017,$B250,'Daily Log'!$BQ$18:$BQ$1017),0)","v":0},{"$f":"IFERROR($E250*SUMIF('Daily Log'!$BS$18:$BS$1017,$B250,'Daily Log'!$BT$18:$BT$1017),0)","v":0},{"$f":"IFERROR($E250*SUMIF('Daily Log'!$BV$18:$BV$1017,$B250,'Daily Log'!$BW$18:$BW$1017),0)","v":0},{"$f":"IFERROR($E250*SUMIF('Daily Log'!$BY$18:$BY$1017,$B250,'Daily Log'!$BZ$18:$BZ$1017),0)","v":0},{"$f":"IFERROR($E250*SUMIF('Daily Log'!$CB$18:$CB$1017,$B250,'Daily Log'!$CC$18:$CC$1017),0)","v":0},{"$f":"IFERROR($E250*SUMIF('Daily Log'!$CE$18:$CE$1017,$B250,'Daily Log'!$CF$18:$CF$1017),0)","v":0},{"$f":"IFERROR($E250*SUMIF('Daily Log'!$CH$18:$CH$1017,$B250,'Daily Log'!$CI$18:$CI$1017),0)","v":0},{"$f":"IFERROR($E250*SUMIF('Daily Log'!$CK$18:$CK$1017,$B250,'Daily Log'!$CL$18:$CL$1017),0)","v":0},{"$f":"IFERROR($E250*SUMIF('Daily Log'!$CN$18:$CN$1017,$B250,'Daily Log'!$CO$18:$CO$1017),0)","v":36}]
[null,"ZE01 1011:PC CKN CP",null,"SPECIAL MEAL",1,0,{"$f":"IFERROR($E251*SUMIF('Daily Log'!$B$18:$B$1017,$B251,'Daily Log'!$C$18:$C$1017),0)","v":0},{"$f":"IFERROR($E251*SUMIF('Daily Log'!$E$18:$E$1017,$B251,'Daily Log'!$F$18:$F$1017),0)","v":0},{"$f":"IFERROR($E251*SUMIF('Daily Log'!$H$18:$H$1017,$B251,'Daily Log'!$I$18:$I$1017),0)","v":0},{"$f":"IFERROR($E251*SUMIF('Daily Log'!$K$18:$K$1017,$B251,'Daily Log'!$L$18:$L$1017),0)","v":0},{"$f":"IFERROR($E251*SUMIF('Daily Log'!$N$18:$N$1017,$B251,'Daily Log'!$O$18:$O$1017),0)","v":0},{"$f":"IFERROR($E251*SUMIF('Daily Log'!$Q$18:$Q$1017,$B251,'Daily Log'!$R$18:$R$1017),0)","v":0},{"$f":"IFERROR($E251*SUMIF('Daily Log'!$T$18:$T$1017,$B251,'Daily Log'!$U$18:$U$1017),0)","v":0},{"$f":"IFERROR($E251*SUMIF('Daily Log'!$W$18:$W$1017,$B251,'Daily Log'!$X$18:$X$1017),0)","v":0},{"$f":"IFERROR($E251*SUMIF('Daily Log'!$Z$18:$Z$1017,$B251,'Daily Log'!$AA$18:$AA$1017),0)","v":0},{"$f":"IFERROR($E251*SUMIF('Daily Log'!$AC$18:$AC$1017,$B251,'Daily Log'!$AD$18:$AD$1017),0)","v":0},{"$f":"IFERROR($E251*SUMIF('Daily Log'!$AF$18:$AF$1017,$B251,'Daily Log'!$AG$18:$AG$1017),0)","v":0},{"$f":"IFERROR($E251*SUMIF('Daily Log'!$AI$18:$AI$1017,$B251,'Daily Log'!$AJ$18:$AJ$1017),0)","v":0},{"$f":"IFERROR($E251*SUMIF('Daily Log'!$AL$18:$AL$1017,$B251,'Daily Log'!$AM$18:$AM$1017),0)","v":0},{"$f":"IFERROR($E251*SUMIF('Daily Log'!$AO$18:$AO$1017,$B251,'Daily Log'!$AP$18:$AP$1017),0)","v":0},{"$f":"IFERROR($E251*SUMIF('Daily Log'!$AR$18:$AR$1017,$B251,'Daily Log'!$AS$18:$AS$1017),0)","v":0},{"$f":"IFERROR($E251*SUMIF('Daily Log'!$AU$18:$AU$1017,$B251,'Daily Log'!$AV$18:$AV$1017),0)","v":0},{"$f":"IFERROR($E251*SUMIF('Daily Log'!$AX$18:$AX$1017,$B251,'Daily Log'!$AY$18:$AY$1017),0)","v":0},{"$f":"IFERROR($E251*SUMIF('Daily Log'!$BA$18:$BA$1017,$B251,'Daily Log'!$BB$18:$BB$1017),0)","v":0},{"$f":"IFERROR($E251*SUMIF('Daily Log'!$BD$18:$BD$1017,$B251,'Daily Log'!$BE$18:$BE$1017),0)","v":0},{"$f":"IFERROR($E251*SUMIF('Daily Log'!$BG$18:$BG$1017,$B251,'Daily Log'!$BH$18:$BH$1017),0)","v":0},{"$f":"IFERROR($E251*SUMIF('Daily Log'!$BJ$18:$BJ$1017,$B251,'Daily Log'!$BK$18:$BK$1017),0)","v":0},{"$f":"IFERROR($E251*SUMIF('Daily Log'!$BM$18:$BM$1017,$B251,'Daily Log'!$BN$18:$BN$1017),0)","v":0},{"$f":"IFERROR($E251*SUMIF('Daily Log'!$BP$18:$BP$1017,$B251,'Daily Log'!$BQ$18:$BQ$1017),0)","v":0},{"$f":"IFERROR($E251*SUMIF('Daily Log'!$BS$18:$BS$1017,$B251,'Daily Log'!$BT$18:$BT$1017),0)","v":0},{"$f":"IFERROR($E251*SUMIF('Daily Log'!$BV$18:$BV$1017,$B251,'Daily Log'!$BW$18:$BW$1017),0)","v":0},{"$f":"IFERROR($E251*SUMIF('Daily Log'!$BY$18:$BY$1017,$B251,'Daily Log'!$BZ$18:$BZ$1017),0)","v":0},{"$f":"IFERROR($E251*SUMIF('Daily Log'!$CB$18:$CB$1017,$B251,'Daily Log'!$CC$18:$CC$1017),0)","v":0},{"$f":"IFERROR($E251*SUMIF('Daily Log'!$CE$18:$CE$1017,$B251,'Daily Log'!$CF$18:$CF$1017),0)","v":0},{"$f":"IFERROR($E251*SUMIF('Daily Log'!$CH$18:$CH$1017,$B251,'Daily Log'!$CI$18:$CI$1017),0)","v":0},{"$f":"IFERROR($E251*SUMIF('Daily Log'!$CK$18:$CK$1017,$B251,'Daily Log'!$CL$18:$CL$1017),0)","v":0},{"$f":"IFERROR($E251*SUMIF('Daily Log'!$CN$18:$CN$1017,$B251,'Daily Log'!$CO$18:$CO$1017),0)","v":0}]
[null,"ZE02 1012:RC CPY FSH",null,"SPECIAL MEAL",1,0,{"$f":"IFERROR($E252*SUMIF('Daily Log'!$B$18:$B$1017,$B252,'Daily Log'!$C$18:$C$1017),0)","v":0},{"$f":"IFERROR($E252*SUMIF('Daily Log'!$E$18:$E$1017,$B252,'Daily Log'!$F$18:$F$1017),0)","v":0},{"$f":"IFERROR($E252*SUMIF('Daily Log'!$H$18:$H$1017,$B252,'Daily Log'!$I$18:$I$1017),0)","v":0},{"$f":"IFERROR($E252*SUMIF('Daily Log'!$K$18:$K$1017,$B252,'Daily Log'!$L$18:$L$1017),0)","v":0},{"$f":"IFERROR($E252*SUMIF('Daily Log'!$N$18:$N$1017,$B252,'Daily Log'!$O$18:$O$1017),0)","v":0},{"$f":"IFERROR($E252*SUMIF('Daily Log'!$Q$18:$Q$1017,$B252,'Daily Log'!$R$18:$R$1017),0)","v":0},{"$f":"IFERROR($E252*SUMIF('Daily Log'!$T$18:$T$1017,$B252,'Daily Log'!$U$18:$U$1017),0)","v":0},{"$f":"IFERROR($E252*SUMIF('Daily Log'!$W$18:$W$1017,$B252,'Daily Log'!$X$18:$X$1017),0)","v":0},{"$f":"IFERROR($E252*SUMIF('Daily Log'!$Z$18:$Z$1017,$B252,'Daily Log'!$AA$18:$AA$1017),0)","v":0},{"$f":"IFERROR($E252*SUMIF('Daily Log'!$AC$18:$AC$1017,$B252,'Daily Log'!$AD$18:$AD$1017),0)","v":0},{"$f":"IFERROR($E252*SUMIF('Daily Log'!$AF$18:$AF$1017,$B252,'Daily Log'!$AG$18:$AG$1017),0)","v":0},{"$f":"IFERROR($E252*SUMIF('Daily Log'!$AI$18:$AI$1017,$B252,'Daily Log'!$AJ$18:$AJ$1017),0)","v":0},{"$f":"IFERROR($E252*SUMIF('Daily Log'!$AL$18:$AL$1017,$B252,'Daily Log'!$AM$18:$AM$1017),0)","v":0},{"$f":"IFERROR($E252*SUMIF('Daily Log'!$AO$18:$AO$1017,$B252,'Daily Log'!$AP$18:$AP$1017),0)","v":0},{"$f":"IFERROR($E252*SUMIF('Daily Log'!$AR$18:$AR$1017,$B252,'Daily Log'!$AS$18:$AS$1017),0)","v":0},{"$f":"IFERROR($E252*SUMIF('Daily Log'!$AU$18:$AU$1017,$B252,'Daily Log'!$AV$18:$AV$1017),0)","v":0},{"$f":"IFERROR($E252*SUMIF('Daily Log'!$AX$18:$AX$1017,$B252,'Daily Log'!$AY$18:$AY$1017),0)","v":0},{"$f":"IFERROR($E252*SUMIF('Daily Log'!$BA$18:$BA$1017,$B252,'Daily Log'!$BB$18:$BB$1017),0)","v":0},{"$f":"IFERROR($E252*SUMIF('Daily Log'!$BD$18:$BD$1017,$B252,'Daily Log'!$BE$18:$BE$1017),0)","v":0},{"$f":"IFERROR($E252*SUMIF('Daily Log'!$BG$18:$BG$1017,$B252,'Daily Log'!$BH$18:$BH$1017),0)","v":0},{"$f":"IFERROR($E252*SUMIF('Daily Log'!$BJ$18:$BJ$1017,$B252,'Daily Log'!$BK$18:$BK$1017),0)","v":0},{"$f":"IFERROR($E252*SUMIF('Daily Log'!$BM$18:$BM$1017,$B252,'Daily Log'!$BN$18:$BN$1017),0)","v":0},{"$f":"IFERROR($E252*SUMIF('Daily Log'!$BP$18:$BP$1017,$B252,'Daily Log'!$BQ$18:$BQ$1017),0)","v":0},{"$f":"IFERROR($E252*SUMIF('Daily Log'!$BS$18:$BS$1017,$B252,'Daily Log'!$BT$18:$BT$1017),0)","v":0},{"$f":"IFERROR($E252*SUMIF('Daily Log'!$BV$18:$BV$1017,$B252,'Daily Log'!$BW$18:$BW$1017),0)","v":0},{"$f":"IFERROR($E252*SUMIF('Daily Log'!$BY$18:$BY$1017,$B252,'Daily Log'!$BZ$18:$BZ$1017),0)","v":0},{"$f":"IFERROR($E252*SUMIF('Daily Log'!$CB$18:$CB$1017,$B252,'Daily Log'!$CC$18:$CC$1017),0)","v":0},{"$f":"IFERROR($E252*SUMIF('Daily Log'!$CE$18:$CE$1017,$B252,'Daily Log'!$CF$18:$CF$1017),0)","v":0},{"$f":"IFERROR($E252*SUMIF('Daily Log'!$CH$18:$CH$1017,$B252,'Daily Log'!$CI$18:$CI$1017),0)","v":0},{"$f":"IFERROR($E252*SUMIF('Daily Log'!$CK$18:$CK$1017,$B252,'Daily Log'!$CL$18:$CL$1017),0)","v":0},{"$f":"IFERROR($E252*SUMIF('Daily Log'!$CN$18:$CN$1017,$B252,'Daily Log'!$CO$18:$CO$1017),0)","v":0}]
[null,"ZE03 1013:SPRING CHK",null,"SPECIAL MEAL",1,0,{"$f":"IFERROR($E253*SUMIF('Daily Log'!$B$18:$B$1017,$B253,'Daily Log'!$C$18:$C$1017),0)","v":0},{"$f":"IFERROR($E253*SUMIF('Daily Log'!$E$18:$E$1017,$B253,'Daily Log'!$F$18:$F$1017),0)","v":0},{"$f":"IFERROR($E253*SUMIF('Daily Log'!$H$18:$H$1017,$B253,'Daily Log'!$I$18:$I$1017),0)","v":0},{"$f":"IFERROR($E253*SUMIF('Daily Log'!$K$18:$K$1017,$B253,'Daily Log'!$L$18:$L$1017),0)","v":0},{"$f":"IFERROR($E253*SUMIF('Daily Log'!$N$18:$N$1017,$B253,'Daily Log'!$O$18:$O$1017),0)","v":0},{"$f":"IFERROR($E253*SUMIF('Daily Log'!$Q$18:$Q$1017,$B253,'Daily Log'!$R$18:$R$1017),0)","v":0},{"$f":"IFERROR($E253*SUMIF('Daily Log'!$T$18:$T$1017,$B253,'Daily Log'!$U$18:$U$1017),0)","v":0},{"$f":"IFERROR($E253*SUMIF('Daily Log'!$W$18:$W$1017,$B253,'Daily Log'!$X$18:$X$1017),0)","v":0},{"$f":"IFERROR($E253*SUMIF('Daily Log'!$Z$18:$Z$1017,$B253,'Daily Log'!$AA$18:$AA$1017),0)","v":0},{"$f":"IFERROR($E253*SUMIF('Daily Log'!$AC$18:$AC$1017,$B253,'Daily Log'!$AD$18:$AD$1017),0)","v":0},{"$f":"IFERROR($E253*SUMIF('Daily Log'!$AF$18:$AF$1017,$B253,'Daily Log'!$AG$18:$AG$1017),0)","v":0},{"$f":"IFERROR($E253*SUMIF('Daily Log'!$AI$18:$AI$1017,$B253,'Daily Log'!$AJ$18:$AJ$1017),0)","v":0},{"$f":"IFERROR($E253*SUMIF('Daily Log'!$AL$18:$AL$1017,$B253,'Daily Log'!$AM$18:$AM$1017),0)","v":0},{"$f":"IFERROR($E253*SUMIF('Daily Log'!$AO$18:$AO$1017,$B253,'Daily Log'!$AP$18:$AP$1017),0)","v":0},{"$f":"IFERROR($E253*SUMIF('Daily Log'!$AR$18:$AR$1017,$B253,'Daily Log'!$AS$18:$AS$1017),0)","v":0},{"$f":"IFERROR($E253*SUMIF('Daily Log'!$AU$18:$AU$1017,$B253,'Daily Log'!$AV$18:$AV$1017),0)","v":0},{"$f":"IFERROR($E253*SUMIF('Daily Log'!$AX$18:$AX$1017,$B253,'Daily Log'!$AY$18:$AY$1017),0)","v":0},{"$f":"IFERROR($E253*SUMIF('Daily Log'!$BA$18:$BA$1017,$B253,'Daily Log'!$BB$18:$BB$1017),0)","v":0},{"$f":"IFERROR($E253*SUMIF('Daily Log'!$BD$18:$BD$1017,$B253,'Daily Log'!$BE$18:$BE$1017),0)","v":0},{"$f":"IFERROR($E253*SUMIF('Daily Log'!$BG$18:$BG$1017,$B253,'Daily Log'!$BH$18:$BH$1017),0)","v":0},{"$f":"IFERROR($E253*SUMIF('Daily Log'!$BJ$18:$BJ$1017,$B253,'Daily Log'!$BK$18:$BK$1017),0)","v":0},{"$f":"IFERROR($E253*SUMIF('Daily Log'!$BM$18:$BM$1017,$B253,'Daily Log'!$BN$18:$BN$1017),0)","v":0},{"$f":"IFERROR($E253*SUMIF('Daily Log'!$BP$18:$BP$1017,$B253,'Daily Log'!$BQ$18:$BQ$1017),0)","v":0},{"$f":"IFERROR($E253*SUMIF('Daily Log'!$BS$18:$BS$1017,$B253,'Daily Log'!$BT$18:$BT$1017),0)","v":0},{"$f":"IFERROR($E253*SUMIF('Daily Log'!$BV$18:$BV$1017,$B253,'Daily Log'!$BW$18:$BW$1017),0)","v":0},{"$f":"IFERROR($E253*SUMIF('Daily Log'!$BY$18:$BY$1017,$B253,'Daily Log'!$BZ$18:$BZ$1017),0)","v":0},{"$f":"IFERROR($E253*SUMIF('Daily Log'!$CB$18:$CB$1017,$B253,'Daily Log'!$CC$18:$CC$1017),0)","v":0},{"$f":"IFERROR($E253*SUMIF('Daily Log'!$CE$18:$CE$1017,$B253,'Daily Log'!$CF$18:$CF$1017),0)","v":0},{"$f":"IFERROR($E253*SUMIF('Daily Log'!$CH$18:$CH$1017,$B253,'Daily Log'!$CI$18:$CI$1017),0)","v":0},{"$f":"IFERROR($E253*SUMIF('Daily Log'!$CK$18:$CK$1017,$B253,'Daily Log'!$CL$18:$CL$1017),0)","v":0},{"$f":"IFERROR($E253*SUMIF('Daily Log'!$CN$18:$CN$1017,$B253,'Daily Log'!$CO$18:$CO$1017),0)","v":0}]
[null,"ZE04 1014:OCT SALAD",null,"SPECIAL MEAL",1,0,{"$f":"IFERROR($E254*SUMIF('Daily Log'!$B$18:$B$1017,$B254,'Daily Log'!$C$18:$C$1017),0)","v":0},{"$f":"IFERROR($E254*SUMIF('Daily Log'!$E$18:$E$1017,$B254,'Daily Log'!$F$18:$F$1017),0)","v":0},{"$f":"IFERROR($E254*SUMIF('Daily Log'!$H$18:$H$1017,$B254,'Daily Log'!$I$18:$I$1017),0)","v":0},{"$f":"IFERROR($E254*SUMIF('Daily Log'!$K$18:$K$1017,$B254,'Daily Log'!$L$18:$L$1017),0)","v":0},{"$f":"IFERROR($E254*SUMIF('Daily Log'!$N$18:$N$1017,$B254,'Daily Log'!$O$18:$O$1017),0)","v":0},{"$f":"IFERROR($E254*SUMIF('Daily Log'!$Q$18:$Q$1017,$B254,'Daily Log'!$R$18:$R$1017),0)","v":0},{"$f":"IFERROR($E254*SUMIF('Daily Log'!$T$18:$T$1017,$B254,'Daily Log'!$U$18:$U$1017),0)","v":0},{"$f":"IFERROR($E254*SUMIF('Daily Log'!$W$18:$W$1017,$B254,'Daily Log'!$X$18:$X$1017),0)","v":0},{"$f":"IFERROR($E254*SUMIF('Daily Log'!$Z$18:$Z$1017,$B254,'Daily Log'!$AA$18:$AA$1017),0)","v":0},{"$f":"IFERROR($E254*SUMIF('Daily Log'!$AC$18:$AC$1017,$B254,'Daily Log'!$AD$18:$AD$1017),0)","v":0},{"$f":"IFERROR($E254*SUMIF('Daily Log'!$AF$18:$AF$1017,$B254,'Daily Log'!$AG$18:$AG$1017),0)","v":0},{"$f":"IFERROR($E254*SUMIF('Daily Log'!$AI$18:$AI$1017,$B254,'Daily Log'!$AJ$18:$AJ$1017),0)","v":0},{"$f":"IFERROR($E254*SUMIF('Daily Log'!$AL$18:$AL$1017,$B254,'Daily Log'!$AM$18:$AM$1017),0)","v":0},{"$f":"IFERROR($E254*SUMIF('Daily Log'!$AO$18:$AO$1017,$B254,'Daily Log'!$AP$18:$AP$1017),0)","v":0},{"$f":"IFERROR($E254*SUMIF('Daily Log'!$AR$18:$AR$1017,$B254,'Daily Log'!$AS$18:$AS$1017),0)","v":0},{"$f":"IFERROR($E254*SUMIF('Daily Log'!$AU$18:$AU$1017,$B254,'Daily Log'!$AV$18:$AV$1017),0)","v":0},{"$f":"IFERROR($E254*SUMIF('Daily Log'!$AX$18:$AX$1017,$B254,'Daily Log'!$AY$18:$AY$1017),0)","v":0},{"$f":"IFERROR($E254*SUMIF('Daily Log'!$BA$18:$BA$1017,$B254,'Daily Log'!$BB$18:$BB$1017),0)","v":0},{"$f":"IFERROR($E254*SUMIF('Daily Log'!$BD$18:$BD$1017,$B254,'Daily Log'!$BE$18:$BE$1017),0)","v":0},{"$f":"IFERROR($E254*SUMIF('Daily Log'!$BG$18:$BG$1017,$B254,'Daily Log'!$BH$18:$BH$1017),0)","v":0},{"$f":"IFERROR($E254*SUMIF('Daily Log'!$BJ$18:$BJ$1017,$B254,'Daily Log'!$BK$18:$BK$1017),0)","v":0},{"$f":"IFERROR($E254*SUMIF('Daily Log'!$BM$18:$BM$1017,$B254,'Daily Log'!$BN$18:$BN$1017),0)","v":0},{"$f":"IFERROR($E254*SUMIF('Daily Log'!$BP$18:$BP$1017,$B254,'Daily Log'!$BQ$18:$BQ$1017),0)","v":0},{"$f":"IFERROR($E254*SUMIF('Daily Log'!$BS$18:$BS$1017,$B254,'Daily Log'!$BT$18:$BT$1017),0)","v":0},{"$f":"IFERROR($E254*SUMIF('Daily Log'!$BV$18:$BV$1017,$B254,'Daily Log'!$BW$18:$BW$1017),0)","v":0},{"$f":"IFERROR($E254*SUMIF('Daily Log'!$BY$18:$BY$1017,$B254,'Daily Log'!$BZ$18:$BZ$1017),0)","v":0},{"$f":"IFERROR($E254*SUMIF('Daily Log'!$CB$18:$CB$1017,$B254,'Daily Log'!$CC$18:$CC$1017),0)","v":0},{"$f":"IFERROR($E254*SUMIF('Daily Log'!$CE$18:$CE$1017,$B254,'Daily Log'!$CF$18:$CF$1017),0)","v":0},{"$f":"IFERROR($E254*SUMIF('Daily Log'!$CH$18:$CH$1017,$B254,'Daily Log'!$CI$18:$CI$1017),0)","v":0},{"$f":"IFERROR($E254*SUMIF('Daily Log'!$CK$18:$CK$1017,$B254,'Daily Log'!$CL$18:$CL$1017),0)","v":0},{"$f":"IFERROR($E254*SUMIF('Daily Log'!$CN$18:$CN$1017,$B254,'Daily Log'!$CO$18:$CO$1017),0)","v":0}]
[null,"ZE05 1015:X PLATTER",null,"SPECIAL MEAL",1,0,{"$f":"IFERROR($E255*SUMIF('Daily Log'!$B$18:$B$1017,$B255,'Daily Log'!$C$18:$C$1017),0)","v":0},{"$f":"IFERROR($E255*SUMIF('Daily Log'!$E$18:$E$1017,$B255,'Daily Log'!$F$18:$F$1017),0)","v":0},{"$f":"IFERROR($E255*SUMIF('Daily Log'!$H$18:$H$1017,$B255,'Daily Log'!$I$18:$I$1017),0)","v":0},{"$f":"IFERROR($E255*SUMIF('Daily Log'!$K$18:$K$1017,$B255,'Daily Log'!$L$18:$L$1017),0)","v":0},{"$f":"IFERROR($E255*SUMIF('Daily Log'!$N$18:$N$1017,$B255,'Daily Log'!$O$18:$O$1017),0)","v":0},{"$f":"IFERROR($E255*SUMIF('Daily Log'!$Q$18:$Q$1017,$B255,'Daily Log'!$R$18:$R$1017),0)","v":0},{"$f":"IFERROR($E255*SUMIF('Daily Log'!$T$18:$T$1017,$B255,'Daily Log'!$U$18:$U$1017),0)","v":0},{"$f":"IFERROR($E255*SUMIF('Daily Log'!$W$18:$W$1017,$B255,'Daily Log'!$X$18:$X$1017),0)","v":0},{"$f":"IFERROR($E255*SUMIF('Daily Log'!$Z$18:$Z$1017,$B255,'Daily Log'!$AA$18:$AA$1017),0)","v":0},{"$f":"IFERROR($E255*SUMIF('Daily Log'!$AC$18:$AC$1017,$B255,'Daily Log'!$AD$18:$AD$1017),0)","v":0},{"$f":"IFERROR($E255*SUMIF('Daily Log'!$AF$18:$AF$1017,$B255,'Daily Log'!$AG$18:$AG$1017),0)","v":0},{"$f":"IFERROR($E255*SUMIF('Daily Log'!$AI$18:$AI$1017,$B255,'Daily Log'!$AJ$18:$AJ$1017),0)","v":0},{"$f":"IFERROR($E255*SUMIF('Daily Log'!$AL$18:$AL$1017,$B255,'Daily Log'!$AM$18:$AM$1017),0)","v":0},{"$f":"IFERROR($E255*SUMIF('Daily Log'!$AO$18:$AO$1017,$B255,'Daily Log'!$AP$18:$AP$1017),0)","v":0},{"$f":"IFERROR($E255*SUMIF('Daily Log'!$AR$18:$AR$1017,$B255,'Daily Log'!$AS$18:$AS$1017),0)","v":0},{"$f":"IFERROR($E255*SUMIF('Daily Log'!$AU$18:$AU$1017,$B255,'Daily Log'!$AV$18:$AV$1017),0)","v":0},{"$f":"IFERROR($E255*SUMIF('Daily Log'!$AX$18:$AX$1017,$B255,'Daily Log'!$AY$18:$AY$1017),0)","v":0},{"$f":"IFERROR($E255*SUMIF('Daily Log'!$BA$18:$BA$1017,$B255,'Daily Log'!$BB$18:$BB$1017),0)","v":0},{"$f":"IFERROR($E255*SUMIF('Daily Log'!$BD$18:$BD$1017,$B255,'Daily Log'!$BE$18:$BE$1017),0)","v":0},{"$f":"IFERROR($E255*SUMIF('Daily Log'!$BG$18:$BG$1017,$B255,'Daily Log'!$BH$18:$BH$1017),0)","v":0},{"$f":"IFERROR($E255*SUMIF('Daily Log'!$BJ$18:$BJ$1017,$B255,'Daily Log'!$BK$18:$BK$1017),0)","v":0},{"$f":"IFERROR($E255*SUMIF('Daily Log'!$BM$18:$BM$1017,$B255,'Daily Log'!$BN$18:$BN$1017),0)","v":0},{"$f":"IFERROR($E255*SUMIF('Daily Log'!$BP$18:$BP$1017,$B255,'Daily Log'!$BQ$18:$BQ$1017),0)","v":0},{"$f":"IFERROR($E255*SUMIF('Daily Log'!$BS$18:$BS$1017,$B255,'Daily Log'!$BT$18:$BT$1017),0)","v":0},{"$f":"IFERROR($E255*SUMIF('Daily Log'!$BV$18:$BV$1017,$B255,'Daily Log'!$BW$18:$BW$1017),0)","v":0},{"$f":"IFERROR($E255*SUMIF('Daily Log'!$BY$18:$BY$1017,$B255,'Daily Log'!$BZ$18:$BZ$1017),0)","v":0},{"$f":"IFERROR($E255*SUMIF('Daily Log'!$CB$18:$CB$1017,$B255,'Daily Log'!$CC$18:$CC$1017),0)","v":0},{"$f":"IFERROR($E255*SUMIF('Daily Log'!$CE$18:$CE$1017,$B255,'Daily Log'!$CF$18:$CF$1017),0)","v":0},{"$f":"IFERROR($E255*SUMIF('Daily Log'!$CH$18:$CH$1017,$B255,'Daily Log'!$CI$18:$CI$1017),0)","v":0},{"$f":"IFERROR($E255*SUMIF('Daily Log'!$CK$18:$CK$1017,$B255,'Daily Log'!$CL$18:$CL$1017),0)","v":0},{"$f":"IFERROR($E255*SUMIF('Daily Log'!$CN$18:$CN$1017,$B255,'Daily Log'!$CO$18:$CO$1017),0)","v":0}]
[null,"ZE11 91011:PC CKN CP",null,"SPECIAL MEAL",1,3,{"$f":"IFERROR($E256*SUMIF('Daily Log'!$B$18:$B$1017,$B256,'Daily Log'!$C$18:$C$1017),0)","v":0},{"$f":"IFERROR($E256*SUMIF('Daily Log'!$E$18:$E$1017,$B256,'Daily Log'!$F$18:$F$1017),0)","v":0},{"$f":"IFERROR($E256*SUMIF('Daily Log'!$H$18:$H$1017,$B256,'Daily Log'!$I$18:$I$1017),0)","v":0},{"$f":"IFERROR($E256*SUMIF('Daily Log'!$K$18:$K$1017,$B256,'Daily Log'!$L$18:$L$1017),0)","v":0},{"$f":"IFERROR($E256*SUMIF('Daily Log'!$N$18:$N$1017,$B256,'Daily Log'!$O$18:$O$1017),0)","v":0},{"$f":"IFERROR($E256*SUMIF('Daily Log'!$Q$18:$Q$1017,$B256,'Daily Log'!$R$18:$R$1017),0)","v":0},{"$f":"IFERROR($E256*SUMIF('Daily Log'!$T$18:$T$1017,$B256,'Daily Log'!$U$18:$U$1017),0)","v":0},{"$f":"IFERROR($E256*SUMIF('Daily Log'!$W$18:$W$1017,$B256,'Daily Log'!$X$18:$X$1017),0)","v":0},{"$f":"IFERROR($E256*SUMIF('Daily Log'!$Z$18:$Z$1017,$B256,'Daily Log'!$AA$18:$AA$1017),0)","v":0},{"$f":"IFERROR($E256*SUMIF('Daily Log'!$AC$18:$AC$1017,$B256,'Daily Log'!$AD$18:$AD$1017),0)","v":0},{"$f":"IFERROR($E256*SUMIF('Daily Log'!$AF$18:$AF$1017,$B256,'Daily Log'!$AG$18:$AG$1017),0)","v":0},{"$f":"IFERROR($E256*SUMIF('Daily Log'!$AI$18:$AI$1017,$B256,'Daily Log'!$AJ$18:$AJ$1017),0)","v":0},{"$f":"IFERROR($E256*SUMIF('Daily Log'!$AL$18:$AL$1017,$B256,'Daily Log'!$AM$18:$AM$1017),0)","v":0},{"$f":"IFERROR($E256*SUMIF('Daily Log'!$AO$18:$AO$1017,$B256,'Daily Log'!$AP$18:$AP$1017),0)","v":0},{"$f":"IFERROR($E256*SUMIF('Daily Log'!$AR$18:$AR$1017,$B256,'Daily Log'!$AS$18:$AS$1017),0)","v":0},{"$f":"IFERROR($E256*SUMIF('Daily Log'!$AU$18:$AU$1017,$B256,'Daily Log'!$AV$18:$AV$1017),0)","v":0},{"$f":"IFERROR($E256*SUMIF('Daily Log'!$AX$18:$AX$1017,$B256,'Daily Log'!$AY$18:$AY$1017),0)","v":0},{"$f":"IFERROR($E256*SUMIF('Daily Log'!$BA$18:$BA$1017,$B256,'Daily Log'!$BB$18:$BB$1017),0)","v":0},{"$f":"IFERROR($E256*SUMIF('Daily Log'!$BD$18:$BD$1017,$B256,'Daily Log'!$BE$18:$BE$1017),0)","v":0},{"$f":"IFERROR($E256*SUMIF('Daily Log'!$BG$18:$BG$1017,$B256,'Daily Log'!$BH$18:$BH$1017),0)","v":0},{"$f":"IFERROR($E256*SUMIF('Daily Log'!$BJ$18:$BJ$1017,$B256,'Daily Log'!$BK$18:$BK$1017),0)","v":0},{"$f":"IFERROR($E256*SUMIF('Daily Log'!$BM$18:$BM$1017,$B256,'Daily Log'!$BN$18:$BN$1017),0)","v":0},{"$f":"IFERROR($E256*SUMIF('Daily Log'!$BP$18:$BP$1017,$B256,'Daily Log'!$BQ$18:$BQ$1017),0)","v":0},{"$f":"IFERROR($E256*SUMIF('Daily Log'!$BS$18:$BS$1017,$B256,'Daily Log'!$BT$18:$BT$1017),0)","v":0},{"$f":"IFERROR($E256*SUMIF('Daily Log'!$BV$18:$BV$1017,$B256,'Daily Log'!$BW$18:$BW$1017),0)","v":0},{"$f":"IFERROR($E256*SUMIF('Daily Log'!$BY$18:$BY$1017,$B256,'Daily Log'!$BZ$18:$BZ$1017),0)","v":0},{"$f":"IFERROR($E256*SUMIF('Daily Log'!$CB$18:$CB$1017,$B256,'Daily Log'!$CC$18:$CC$1017),0)","v":0},{"$f":"IFERROR($E256*SUMIF('Daily Log'!$CE$18:$CE$1017,$B256,'Daily Log'!$CF$18:$CF$1017),0)","v":0},{"$f":"IFERROR($E256*SUMIF('Daily Log'!$CH$18:$CH$1017,$B256,'Daily Log'!$CI$18:$CI$1017),0)","v":0},{"$f":"IFERROR($E256*SUMIF('Daily Log'!$CK$18:$CK$1017,$B256,'Daily Log'!$CL$18:$CL$1017),0)","v":0},{"$f":"IFERROR($E256*SUMIF('Daily Log'!$CN$18:$CN$1017,$B256,'Daily Log'!$CO$18:$CO$1017),0)","v":3}]
[null,"ZE12 91012:RC CPY FSH",null,"SPECIAL MEAL",1,0,{"$f":"IFERROR($E257*SUMIF('Daily Log'!$B$18:$B$1017,$B257,'Daily Log'!$C$18:$C$1017),0)","v":0},{"$f":"IFERROR($E257*SUMIF('Daily Log'!$E$18:$E$1017,$B257,'Daily Log'!$F$18:$F$1017),0)","v":0},{"$f":"IFERROR($E257*SUMIF('Daily Log'!$H$18:$H$1017,$B257,'Daily Log'!$I$18:$I$1017),0)","v":0},{"$f":"IFERROR($E257*SUMIF('Daily Log'!$K$18:$K$1017,$B257,'Daily Log'!$L$18:$L$1017),0)","v":0},{"$f":"IFERROR($E257*SUMIF('Daily Log'!$N$18:$N$1017,$B257,'Daily Log'!$O$18:$O$1017),0)","v":0},{"$f":"IFERROR($E257*SUMIF('Daily Log'!$Q$18:$Q$1017,$B257,'Daily Log'!$R$18:$R$1017),0)","v":0},{"$f":"IFERROR($E257*SUMIF('Daily Log'!$T$18:$T$1017,$B257,'Daily Log'!$U$18:$U$1017),0)","v":0},{"$f":"IFERROR($E257*SUMIF('Daily Log'!$W$18:$W$1017,$B257,'Daily Log'!$X$18:$X$1017),0)","v":0},{"$f":"IFERROR($E257*SUMIF('Daily Log'!$Z$18:$Z$1017,$B257,'Daily Log'!$AA$18:$AA$1017),0)","v":0},{"$f":"IFERROR($E257*SUMIF('Daily Log'!$AC$18:$AC$1017,$B257,'Daily Log'!$AD$18:$AD$1017),0)","v":0},{"$f":"IFERROR($E257*SUMIF('Daily Log'!$AF$18:$AF$1017,$B257,'Daily Log'!$AG$18:$AG$1017),0)","v":0},{"$f":"IFERROR($E257*SUMIF('Daily Log'!$AI$18:$AI$1017,$B257,'Daily Log'!$AJ$18:$AJ$1017),0)","v":0},{"$f":"IFERROR($E257*SUMIF('Daily Log'!$AL$18:$AL$1017,$B257,'Daily Log'!$AM$18:$AM$1017),0)","v":0},{"$f":"IFERROR($E257*SUMIF('Daily Log'!$AO$18:$AO$1017,$B257,'Daily Log'!$AP$18:$AP$1017),0)","v":0},{"$f":"IFERROR($E257*SUMIF('Daily Log'!$AR$18:$AR$1017,$B257,'Daily Log'!$AS$18:$AS$1017),0)","v":0},{"$f":"IFERROR($E257*SUMIF('Daily Log'!$AU$18:$AU$1017,$B257,'Daily Log'!$AV$18:$AV$1017),0)","v":0},{"$f":"IFERROR($E257*SUMIF('Daily Log'!$AX$18:$AX$1017,$B257,'Daily Log'!$AY$18:$AY$1017),0)","v":0},{"$f":"IFERROR($E257*SUMIF('Daily Log'!$BA$18:$BA$1017,$B257,'Daily Log'!$BB$18:$BB$1017),0)","v":0},{"$f":"IFERROR($E257*SUMIF('Daily Log'!$BD$18:$BD$1017,$B257,'Daily Log'!$BE$18:$BE$1017),0)","v":0},{"$f":"IFERROR($E257*SUMIF('Daily Log'!$BG$18:$BG$1017,$B257,'Daily Log'!$BH$18:$BH$1017),0)","v":0},{"$f":"IFERROR($E257*SUMIF('Daily Log'!$BJ$18:$BJ$1017,$B257,'Daily Log'!$BK$18:$BK$1017),0)","v":0},{"$f":"IFERROR($E257*SUMIF('Daily Log'!$BM$18:$BM$1017,$B257,'Daily Log'!$BN$18:$BN$1017),0)","v":0},{"$f":"IFERROR($E257*SUMIF('Daily Log'!$BP$18:$BP$1017,$B257,'Daily Log'!$BQ$18:$BQ$1017),0)","v":0},{"$f":"IFERROR($E257*SUMIF('Daily Log'!$BS$18:$BS$1017,$B257,'Daily Log'!$BT$18:$BT$1017),0)","v":0},{"$f":"IFERROR($E257*SUMIF('Daily Log'!$BV$18:$BV$1017,$B257,'Daily Log'!$BW$18:$BW$1017),0)","v":0},{"$f":"IFERROR($E257*SUMIF('Daily Log'!$BY$18:$BY$1017,$B257,'Daily Log'!$BZ$18:$BZ$1017),0)","v":0},{"$f":"IFERROR($E257*SUMIF('Daily Log'!$CB$18:$CB$1017,$B257,'Daily Log'!$CC$18:$CC$1017),0)","v":0},{"$f":"IFERROR($E257*SUMIF('Daily Log'!$CE$18:$CE$1017,$B257,'Daily Log'!$CF$18:$CF$1017),0)","v":0},{"$f":"IFERROR($E257*SUMIF('Daily Log'!$CH$18:$CH$1017,$B257,'Daily Log'!$CI$18:$CI$1017),0)","v":0},{"$f":"IFERROR($E257*SUMIF('Daily Log'!$CK$18:$CK$1017,$B257,'Daily Log'!$CL$18:$CL$1017),0)","v":0},{"$f":"IFERROR($E257*SUMIF('Daily Log'!$CN$18:$CN$1017,$B257,'Daily Log'!$CO$18:$CO$1017),0)","v":0}]
[null,"ZE13 91013:SPRING CHK",null,"SPECIAL MEAL",1,0,{"$f":"IFERROR($E258*SUMIF('Daily Log'!$B$18:$B$1017,$B258,'Daily Log'!$C$18:$C$1017),0)","v":0},{"$f":"IFERROR($E258*SUMIF('Daily Log'!$E$18:$E$1017,$B258,'Daily Log'!$F$18:$F$1017),0)","v":0},{"$f":"IFERROR($E258*SUMIF('Daily Log'!$H$18:$H$1017,$B258,'Daily Log'!$I$18:$I$1017),0)","v":0},{"$f":"IFERROR($E258*SUMIF('Daily Log'!$K$18:$K$1017,$B258,'Daily Log'!$L$18:$L$1017),0)","v":0},{"$f":"IFERROR($E258*SUMIF('Daily Log'!$N$18:$N$1017,$B258,'Daily Log'!$O$18:$O$1017),0)","v":0},{"$f":"IFERROR($E258*SUMIF('Daily Log'!$Q$18:$Q$1017,$B258,'Daily Log'!$R$18:$R$1017),0)","v":0},{"$f":"IFERROR($E258*SUMIF('Daily Log'!$T$18:$T$1017,$B258,'Daily Log'!$U$18:$U$1017),0)","v":0},{"$f":"IFERROR($E258*SUMIF('Daily Log'!$W$18:$W$1017,$B258,'Daily Log'!$X$18:$X$1017),0)","v":0},{"$f":"IFERROR($E258*SUMIF('Daily Log'!$Z$18:$Z$1017,$B258,'Daily Log'!$AA$18:$AA$1017),0)","v":0},{"$f":"IFERROR($E258*SUMIF('Daily Log'!$AC$18:$AC$1017,$B258,'Daily Log'!$AD$18:$AD$1017),0)","v":0},{"$f":"IFERROR($E258*SUMIF('Daily Log'!$AF$18:$AF$1017,$B258,'Daily Log'!$AG$18:$AG$1017),0)","v":0},{"$f":"IFERROR($E258*SUMIF('Daily Log'!$AI$18:$AI$1017,$B258,'Daily Log'!$AJ$18:$AJ$1017),0)","v":0},{"$f":"IFERROR($E258*SUMIF('Daily Log'!$AL$18:$AL$1017,$B258,'Daily Log'!$AM$18:$AM$1017),0)","v":0},{"$f":"IFERROR($E258*SUMIF('Daily Log'!$AO$18:$AO$1017,$B258,'Daily Log'!$AP$18:$AP$1017),0)","v":0},{"$f":"IFERROR($E258*SUMIF('Daily Log'!$AR$18:$AR$1017,$B258,'Daily Log'!$AS$18:$AS$1017),0)","v":0},{"$f":"IFERROR($E258*SUMIF('Daily Log'!$AU$18:$AU$1017,$B258,'Daily Log'!$AV$18:$AV$1017),0)","v":0},{"$f":"IFERROR($E258*SUMIF('Daily Log'!$AX$18:$AX$1017,$B258,'Daily Log'!$AY$18:$AY$1017),0)","v":0},{"$f":"IFERROR($E258*SUMIF('Daily Log'!$BA$18:$BA$1017,$B258,'Daily Log'!$BB$18:$BB$1017),0)","v":0},{"$f":"IFERROR($E258*SUMIF('Daily Log'!$BD$18:$BD$1017,$B258,'Daily Log'!$BE$18:$BE$1017),0)","v":0},{"$f":"IFERROR($E258*SUMIF('Daily Log'!$BG$18:$BG$1017,$B258,'Daily Log'!$BH$18:$BH$1017),0)","v":0},{"$f":"IFERROR($E258*SUMIF('Daily Log'!$BJ$18:$BJ$1017,$B258,'Daily Log'!$BK$18:$BK$1017),0)","v":0},{"$f":"IFERROR($E258*SUMIF('Daily Log'!$BM$18:$BM$1017,$B258,'Daily Log'!$BN$18:$BN$1017),0)","v":0},{"$f":"IFERROR($E258*SUMIF('Daily Log'!$BP$18:$BP$1017,$B258,'Daily Log'!$BQ$18:$BQ$1017),0)","v":0},{"$f":"IFERROR($E258*SUMIF('Daily Log'!$BS$18:$BS$1017,$B258,'Daily Log'!$BT$18:$BT$1017),0)","v":0},{"$f":"IFERROR($E258*SUMIF('Daily Log'!$BV$18:$BV$1017,$B258,'Daily Log'!$BW$18:$BW$1017),0)","v":0},{"$f":"IFERROR($E258*SUMIF('Daily Log'!$BY$18:$BY$1017,$B258,'Daily Log'!$BZ$18:$BZ$1017),0)","v":0},{"$f":"IFERROR($E258*SUMIF('Daily Log'!$CB$18:$CB$1017,$B258,'Daily Log'!$CC$18:$CC$1017),0)","v":0},{"$f":"IFERROR($E258*SUMIF('Daily Log'!$CE$18:$CE$1017,$B258,'Daily Log'!$CF$18:$CF$1017),0)","v":0},{"$f":"IFERROR($E258*SUMIF('Daily Log'!$CH$18:$CH$1017,$B258,'Daily Log'!$CI$18:$CI$1017),0)","v":0},{"$f":"IFERROR($E258*SUMIF('Daily Log'!$CK$18:$CK$1017,$B258,'Daily Log'!$CL$18:$CL$1017),0)","v":0},{"$f":"IFERROR($E258*SUMIF('Daily Log'!$CN$18:$CN$1017,$B258,'Daily Log'!$CO$18:$CO$1017),0)","v":0}]
[null,"ZE14 91014:OCT SALAD",null,"SPECIAL MEAL",1,1,{"$f":"IFERROR($E259*SUMIF('Daily Log'!$B$18:$B$1017,$B259,'Daily Log'!$C$18:$C$1017),0)","v":0},{"$f":"IFERROR($E259*SUMIF('Daily Log'!$E$18:$E$1017,$B259,'Daily Log'!$F$18:$F$1017),0)","v":0},{"$f":"IFERROR($E259*SUMIF('Daily Log'!$H$18:$H$1017,$B259,'Daily Log'!$I$18:$I$1017),0)","v":0},{"$f":"IFERROR($E259*SUMIF('Daily Log'!$K$18:$K$1017,$B259,'Daily Log'!$L$18:$L$1017),0)","v":0},{"$f":"IFERROR($E259*SUMIF('Daily Log'!$N$18:$N$1017,$B259,'Daily Log'!$O$18:$O$1017),0)","v":0},{"$f":"IFERROR($E259*SUMIF('Daily Log'!$Q$18:$Q$1017,$B259,'Daily Log'!$R$18:$R$1017),0)","v":0},{"$f":"IFERROR($E259*SUMIF('Daily Log'!$T$18:$T$1017,$B259,'Daily Log'!$U$18:$U$1017),0)","v":0},{"$f":"IFERROR($E259*SUMIF('Daily Log'!$W$18:$W$1017,$B259,'Daily Log'!$X$18:$X$1017),0)","v":0},{"$f":"IFERROR($E259*SUMIF('Daily Log'!$Z$18:$Z$1017,$B259,'Daily Log'!$AA$18:$AA$1017),0)","v":0},{"$f":"IFERROR($E259*SUMIF('Daily Log'!$AC$18:$AC$1017,$B259,'Daily Log'!$AD$18:$AD$1017),0)","v":0},{"$f":"IFERROR($E259*SUMIF('Daily Log'!$AF$18:$AF$1017,$B259,'Daily Log'!$AG$18:$AG$1017),0)","v":0},{"$f":"IFERROR($E259*SUMIF('Daily Log'!$AI$18:$AI$1017,$B259,'Daily Log'!$AJ$18:$AJ$1017),0)","v":0},{"$f":"IFERROR($E259*SUMIF('Daily Log'!$AL$18:$AL$1017,$B259,'Daily Log'!$AM$18:$AM$1017),0)","v":0},{"$f":"IFERROR($E259*SUMIF('Daily Log'!$AO$18:$AO$1017,$B259,'Daily Log'!$AP$18:$AP$1017),0)","v":0},{"$f":"IFERROR($E259*SUMIF('Daily Log'!$AR$18:$AR$1017,$B259,'Daily Log'!$AS$18:$AS$1017),0)","v":0},{"$f":"IFERROR($E259*SUMIF('Daily Log'!$AU$18:$AU$1017,$B259,'Daily Log'!$AV$18:$AV$1017),0)","v":0},{"$f":"IFERROR($E259*SUMIF('Daily Log'!$AX$18:$AX$1017,$B259,'Daily Log'!$AY$18:$AY$1017),0)","v":0},{"$f":"IFERROR($E259*SUMIF('Daily Log'!$BA$18:$BA$1017,$B259,'Daily Log'!$BB$18:$BB$1017),0)","v":0},{"$f":"IFERROR($E259*SUMIF('Daily Log'!$BD$18:$BD$1017,$B259,'Daily Log'!$BE$18:$BE$1017),0)","v":0},{"$f":"IFERROR($E259*SUMIF('Daily Log'!$BG$18:$BG$1017,$B259,'Daily Log'!$BH$18:$BH$1017),0)","v":0},{"$f":"IFERROR($E259*SUMIF('Daily Log'!$BJ$18:$BJ$1017,$B259,'Daily Log'!$BK$18:$BK$1017),0)","v":0},{"$f":"IFERROR($E259*SUMIF('Daily Log'!$BM$18:$BM$1017,$B259,'Daily Log'!$BN$18:$BN$1017),0)","v":0},{"$f":"IFERROR($E259*SUMIF('Daily Log'!$BP$18:$BP$1017,$B259,'Daily Log'!$BQ$18:$BQ$1017),0)","v":0},{"$f":"IFERROR($E259*SUMIF('Daily Log'!$BS$18:$BS$1017,$B259,'Daily Log'!$BT$18:$BT$1017),0)","v":0},{"$f":"IFERROR($E259*SUMIF('Daily Log'!$BV$18:$BV$1017,$B259,'Daily Log'!$BW$18:$BW$1017),0)","v":0},{"$f":"IFERROR($E259*SUMIF('Daily Log'!$BY$18:$BY$1017,$B259,'Daily Log'!$BZ$18:$BZ$1017),0)","v":0},{"$f":"IFERROR($E259*SUMIF('Daily Log'!$CB$18:$CB$1017,$B259,'Daily Log'!$CC$18:$CC$1017),0)","v":0},{"$f":"IFERROR($E259*SUMIF('Daily Log'!$CE$18:$CE$1017,$B259,'Daily Log'!$CF$18:$CF$1017),0)","v":0},{"$f":"IFERROR($E259*SUMIF('Daily Log'!$CH$18:$CH$1017,$B259,'Daily Log'!$CI$18:$CI$1017),0)","v":0},{"$f":"IFERROR($E259*SUMIF('Daily Log'!$CK$18:$CK$1017,$B259,'Daily Log'!$CL$18:$CL$1017),0)","v":0},{"$f":"IFERROR($E259*SUMIF('Daily Log'!$CN$18:$CN$1017,$B259,'Daily Log'!$CO$18:$CO$1017),0)","v":1}]
[null,"PA01 80001:COC SAUSG",null,"LOK LOK",1,16,{"$f":"IFERROR($E260*SUMIF('Daily Log'!$B$18:$B$1017,$B260,'Daily Log'!$C$18:$C$1017),0)","v":0},{"$f":"IFERROR($E260*SUMIF('Daily Log'!$E$18:$E$1017,$B260,'Daily Log'!$F$18:$F$1017),0)","v":0},{"$f":"IFERROR($E260*SUMIF('Daily Log'!$H$18:$H$1017,$B260,'Daily Log'!$I$18:$I$1017),0)","v":0},{"$f":"IFERROR($E260*SUMIF('Daily Log'!$K$18:$K$1017,$B260,'Daily Log'!$L$18:$L$1017),0)","v":0},{"$f":"IFERROR($E260*SUMIF('Daily Log'!$N$18:$N$1017,$B260,'Daily Log'!$O$18:$O$1017),0)","v":0},{"$f":"IFERROR($E260*SUMIF('Daily Log'!$Q$18:$Q$1017,$B260,'Daily Log'!$R$18:$R$1017),0)","v":0},{"$f":"IFERROR($E260*SUMIF('Daily Log'!$T$18:$T$1017,$B260,'Daily Log'!$U$18:$U$1017),0)","v":0},{"$f":"IFERROR($E260*SUMIF('Daily Log'!$W$18:$W$1017,$B260,'Daily Log'!$X$18:$X$1017),0)","v":0},{"$f":"IFERROR($E260*SUMIF('Daily Log'!$Z$18:$Z$1017,$B260,'Daily Log'!$AA$18:$AA$1017),0)","v":0},{"$f":"IFERROR($E260*SUMIF('Daily Log'!$AC$18:$AC$1017,$B260,'Daily Log'!$AD$18:$AD$1017),0)","v":0},{"$f":"IFERROR($E260*SUMIF('Daily Log'!$AF$18:$AF$1017,$B260,'Daily Log'!$AG$18:$AG$1017),0)","v":0},{"$f":"IFERROR($E260*SUMIF('Daily Log'!$AI$18:$AI$1017,$B260,'Daily Log'!$AJ$18:$AJ$1017),0)","v":0},{"$f":"IFERROR($E260*SUMIF('Daily Log'!$AL$18:$AL$1017,$B260,'Daily Log'!$AM$18:$AM$1017),0)","v":0},{"$f":"IFERROR($E260*SUMIF('Daily Log'!$AO$18:$AO$1017,$B260,'Daily Log'!$AP$18:$AP$1017),0)","v":0},{"$f":"IFERROR($E260*SUMIF('Daily Log'!$AR$18:$AR$1017,$B260,'Daily Log'!$AS$18:$AS$1017),0)","v":0},{"$f":"IFERROR($E260*SUMIF('Daily Log'!$AU$18:$AU$1017,$B260,'Daily Log'!$AV$18:$AV$1017),0)","v":0},{"$f":"IFERROR($E260*SUMIF('Daily Log'!$AX$18:$AX$1017,$B260,'Daily Log'!$AY$18:$AY$1017),0)","v":0},{"$f":"IFERROR($E260*SUMIF('Daily Log'!$BA$18:$BA$1017,$B260,'Daily Log'!$BB$18:$BB$1017),0)","v":0},{"$f":"IFERROR($E260*SUMIF('Daily Log'!$BD$18:$BD$1017,$B260,'Daily Log'!$BE$18:$BE$1017),0)","v":0},{"$f":"IFERROR($E260*SUMIF('Daily Log'!$BG$18:$BG$1017,$B260,'Daily Log'!$BH$18:$BH$1017),0)","v":0},{"$f":"IFERROR($E260*SUMIF('Daily Log'!$BJ$18:$BJ$1017,$B260,'Daily Log'!$BK$18:$BK$1017),0)","v":0},{"$f":"IFERROR($E260*SUMIF('Daily Log'!$BM$18:$BM$1017,$B260,'Daily Log'!$BN$18:$BN$1017),0)","v":0},{"$f":"IFERROR($E260*SUMIF('Daily Log'!$BP$18:$BP$1017,$B260,'Daily Log'!$BQ$18:$BQ$1017),0)","v":0},{"$f":"IFERROR($E260*SUMIF('Daily Log'!$BS$18:$BS$1017,$B260,'Daily Log'!$BT$18:$BT$1017),0)","v":0},{"$f":"IFERROR($E260*SUMIF('Daily Log'!$BV$18:$BV$1017,$B260,'Daily Log'!$BW$18:$BW$1017),0)","v":0},{"$f":"IFERROR($E260*SUMIF('Daily Log'!$BY$18:$BY$1017,$B260,'Daily Log'!$BZ$18:$BZ$1017),0)","v":0},{"$f":"IFERROR($E260*SUMIF('Daily Log'!$CB$18:$CB$1017,$B260,'Daily Log'!$CC$18:$CC$1017),0)","v":0},{"$f":"IFERROR($E260*SUMIF('Daily Log'!$CE$18:$CE$1017,$B260,'Daily Log'!$CF$18:$CF$1017),0)","v":0},{"$f":"IFERROR($E260*SUMIF('Daily Log'!$CH$18:$CH$1017,$B260,'Daily Log'!$CI$18:$CI$1017),0)","v":0},{"$f":"IFERROR($E260*SUMIF('Daily Log'!$CK$18:$CK$1017,$B260,'Daily Log'!$CL$18:$CL$1017),0)","v":0},{"$f":"IFERROR($E260*SUMIF('Daily Log'!$CN$18:$CN$1017,$B260,'Daily Log'!$CO$18:$CO$1017),0)","v":16}]
[null,"PA02 80002:BEEF BAL",null,"LOK LOK",1,36,{"$f":"IFERROR($E261*SUMIF('Daily Log'!$B$18:$B$1017,$B261,'Daily Log'!$C$18:$C$1017),0)","v":0},{"$f":"IFERROR($E261*SUMIF('Daily Log'!$E$18:$E$1017,$B261,'Daily Log'!$F$18:$F$1017),0)","v":0},{"$f":"IFERROR($E261*SUMIF('Daily Log'!$H$18:$H$1017,$B261,'Daily Log'!$I$18:$I$1017),0)","v":0},{"$f":"IFERROR($E261*SUMIF('Daily Log'!$K$18:$K$1017,$B261,'Daily Log'!$L$18:$L$1017),0)","v":0},{"$f":"IFERROR($E261*SUMIF('Daily Log'!$N$18:$N$1017,$B261,'Daily Log'!$O$18:$O$1017),0)","v":0},{"$f":"IFERROR($E261*SUMIF('Daily Log'!$Q$18:$Q$1017,$B261,'Daily Log'!$R$18:$R$1017),0)","v":0},{"$f":"IFERROR($E261*SUMIF('Daily Log'!$T$18:$T$1017,$B261,'Daily Log'!$U$18:$U$1017),0)","v":0},{"$f":"IFERROR($E261*SUMIF('Daily Log'!$W$18:$W$1017,$B261,'Daily Log'!$X$18:$X$1017),0)","v":0},{"$f":"IFERROR($E261*SUMIF('Daily Log'!$Z$18:$Z$1017,$B261,'Daily Log'!$AA$18:$AA$1017),0)","v":0},{"$f":"IFERROR($E261*SUMIF('Daily Log'!$AC$18:$AC$1017,$B261,'Daily Log'!$AD$18:$AD$1017),0)","v":0},{"$f":"IFERROR($E261*SUMIF('Daily Log'!$AF$18:$AF$1017,$B261,'Daily Log'!$AG$18:$AG$1017),0)","v":0},{"$f":"IFERROR($E261*SUMIF('Daily Log'!$AI$18:$AI$1017,$B261,'Daily Log'!$AJ$18:$AJ$1017),0)","v":0},{"$f":"IFERROR($E261*SUMIF('Daily Log'!$AL$18:$AL$1017,$B261,'Daily Log'!$AM$18:$AM$1017),0)","v":0},{"$f":"IFERROR($E261*SUMIF('Daily Log'!$AO$18:$AO$1017,$B261,'Daily Log'!$AP$18:$AP$1017),0)","v":0},{"$f":"IFERROR($E261*SUMIF('Daily Log'!$AR$18:$AR$1017,$B261,'Daily Log'!$AS$18:$AS$1017),0)","v":0},{"$f":"IFERROR($E261*SUMIF('Daily Log'!$AU$18:$AU$1017,$B261,'Daily Log'!$AV$18:$AV$1017),0)","v":0},{"$f":"IFERROR($E261*SUMIF('Daily Log'!$AX$18:$AX$1017,$B261,'Daily Log'!$AY$18:$AY$1017),0)","v":0},{"$f":"IFERROR($E261*SUMIF('Daily Log'!$BA$18:$BA$1017,$B261,'Daily Log'!$BB$18:$BB$1017),0)","v":0},{"$f":"IFERROR($E261*SUMIF('Daily Log'!$BD$18:$BD$1017,$B261,'Daily Log'!$BE$18:$BE$1017),0)","v":0},{"$f":"IFERROR($E261*SUMIF('Daily Log'!$BG$18:$BG$1017,$B261,'Daily Log'!$BH$18:$BH$1017),0)","v":0},{"$f":"IFERROR($E261*SUMIF('Daily Log'!$BJ$18:$BJ$1017,$B261,'Daily Log'!$BK$18:$BK$1017),0)","v":0},{"$f":"IFERROR($E261*SUMIF('Daily Log'!$BM$18:$BM$1017,$B261,'Daily Log'!$BN$18:$BN$1017),0)","v":0},{"$f":"IFERROR($E261*SUMIF('Daily Log'!$BP$18:$BP$1017,$B261,'Daily Log'!$BQ$18:$BQ$1017),0)","v":0},{"$f":"IFERROR($E261*SUMIF('Daily Log'!$BS$18:$BS$1017,$B261,'Daily Log'!$BT$18:$BT$1017),0)","v":0},{"$f":"IFERROR($E261*SUMIF('Daily Log'!$BV$18:$BV$1017,$B261,'Daily Log'!$BW$18:$BW$1017),0)","v":0},{"$f":"IFERROR($E261*SUMIF('Daily Log'!$BY$18:$BY$1017,$B261,'Daily Log'!$BZ$18:$BZ$1017),0)","v":0},{"$f":"IFERROR($E261*SUMIF('Daily Log'!$CB$18:$CB$1017,$B261,'Daily Log'!$CC$18:$CC$1017),0)","v":0},{"$f":"IFERROR($E261*SUMIF('Daily Log'!$CE$18:$CE$1017,$B261,'Daily Log'!$CF$18:$CF$1017),0)","v":0},{"$f":"IFERROR($E261*SUMIF('Daily Log'!$CH$18:$CH$1017,$B261,'Daily Log'!$CI$18:$CI$1017),0)","v":0},{"$f":"IFERROR($E261*SUMIF('Daily Log'!$CK$18:$CK$1017,$B261,'Daily Log'!$CL$18:$CL$1017),0)","v":0},{"$f":"IFERROR($E261*SUMIF('Daily Log'!$CN$18:$CN$1017,$B261,'Daily Log'!$CO$18:$CO$1017),0)","v":36}]
[null,"PA03 80003:CHK KIDNEY",null,"LOK LOK",1,26,{"$f":"IFERROR($E262*SUMIF('Daily Log'!$B$18:$B$1017,$B262,'Daily Log'!$C$18:$C$1017),0)","v":0},{"$f":"IFERROR($E262*SUMIF('Daily Log'!$E$18:$E$1017,$B262,'Daily Log'!$F$18:$F$1017),0)","v":0},{"$f":"IFERROR($E262*SUMIF('Daily Log'!$H$18:$H$1017,$B262,'Daily Log'!$I$18:$I$1017),0)","v":0},{"$f":"IFERROR($E262*SUMIF('Daily Log'!$K$18:$K$1017,$B262,'Daily Log'!$L$18:$L$1017),0)","v":0},{"$f":"IFERROR($E262*SUMIF('Daily Log'!$N$18:$N$1017,$B262,'Daily Log'!$O$18:$O$1017),0)","v":0},{"$f":"IFERROR($E262*SUMIF('Daily Log'!$Q$18:$Q$1017,$B262,'Daily Log'!$R$18:$R$1017),0)","v":0},{"$f":"IFERROR($E262*SUMIF('Daily Log'!$T$18:$T$1017,$B262,'Daily Log'!$U$18:$U$1017),0)","v":0},{"$f":"IFERROR($E262*SUMIF('Daily Log'!$W$18:$W$1017,$B262,'Daily Log'!$X$18:$X$1017),0)","v":0},{"$f":"IFERROR($E262*SUMIF('Daily Log'!$Z$18:$Z$1017,$B262,'Daily Log'!$AA$18:$AA$1017),0)","v":0},{"$f":"IFERROR($E262*SUMIF('Daily Log'!$AC$18:$AC$1017,$B262,'Daily Log'!$AD$18:$AD$1017),0)","v":0},{"$f":"IFERROR($E262*SUMIF('Daily Log'!$AF$18:$AF$1017,$B262,'Daily Log'!$AG$18:$AG$1017),0)","v":0},{"$f":"IFERROR($E262*SUMIF('Daily Log'!$AI$18:$AI$1017,$B262,'Daily Log'!$AJ$18:$AJ$1017),0)","v":0},{"$f":"IFERROR($E262*SUMIF('Daily Log'!$AL$18:$AL$1017,$B262,'Daily Log'!$AM$18:$AM$1017),0)","v":0},{"$f":"IFERROR($E262*SUMIF('Daily Log'!$AO$18:$AO$1017,$B262,'Daily Log'!$AP$18:$AP$1017),0)","v":0},{"$f":"IFERROR($E262*SUMIF('Daily Log'!$AR$18:$AR$1017,$B262,'Daily Log'!$AS$18:$AS$1017),0)","v":0},{"$f":"IFERROR($E262*SUMIF('Daily Log'!$AU$18:$AU$1017,$B262,'Daily Log'!$AV$18:$AV$1017),0)","v":0},{"$f":"IFERROR($E262*SUMIF('Daily Log'!$AX$18:$AX$1017,$B262,'Daily Log'!$AY$18:$AY$1017),0)","v":0},{"$f":"IFERROR($E262*SUMIF('Daily Log'!$BA$18:$BA$1017,$B262,'Daily Log'!$BB$18:$BB$1017),0)","v":0},{"$f":"IFERROR($E262*SUMIF('Daily Log'!$BD$18:$BD$1017,$B262,'Daily Log'!$BE$18:$BE$1017),0)","v":0},{"$f":"IFERROR($E262*SUMIF('Daily Log'!$BG$18:$BG$1017,$B262,'Daily Log'!$BH$18:$BH$1017),0)","v":0},{"$f":"IFERROR($E262*SUMIF('Daily Log'!$BJ$18:$BJ$1017,$B262,'Daily Log'!$BK$18:$BK$1017),0)","v":0},{"$f":"IFERROR($E262*SUMIF('Daily Log'!$BM$18:$BM$1017,$B262,'Daily Log'!$BN$18:$BN$1017),0)","v":0},{"$f":"IFERROR($E262*SUMIF('Daily Log'!$BP$18:$BP$1017,$B262,'Daily Log'!$BQ$18:$BQ$1017),0)","v":0},{"$f":"IFERROR($E262*SUMIF('Daily Log'!$BS$18:$BS$1017,$B262,'Daily Log'!$BT$18:$BT$1017),0)","v":0},{"$f":"IFERROR($E262*SUMIF('Daily Log'!$BV$18:$BV$1017,$B262,'Daily Log'!$BW$18:$BW$1017),0)","v":0},{"$f":"IFERROR($E262*SUMIF('Daily Log'!$BY$18:$BY$1017,$B262,'Daily Log'!$BZ$18:$BZ$1017),0)","v":0},{"$f":"IFERROR($E262*SUMIF('Daily Log'!$CB$18:$CB$1017,$B262,'Daily Log'!$CC$18:$CC$1017),0)","v":0},{"$f":"IFERROR($E262*SUMIF('Daily Log'!$CE$18:$CE$1017,$B262,'Daily Log'!$CF$18:$CF$1017),0)","v":0},{"$f":"IFERROR($E262*SUMIF('Daily Log'!$CH$18:$CH$1017,$B262,'Daily Log'!$CI$18:$CI$1017),0)","v":0},{"$f":"IFERROR($E262*SUMIF('Daily Log'!$CK$18:$CK$1017,$B262,'Daily Log'!$CL$18:$CL$1017),0)","v":0},{"$f":"IFERROR($E262*SUMIF('Daily Log'!$CN$18:$CN$1017,$B262,'Daily Log'!$CO$18:$CO$1017),0)","v":26}]
[null,"PA04 80004:CHK LIVER",null,"LOK LOK",1,9,{"$f":"IFERROR($E263*SUMIF('Daily Log'!$B$18:$B$1017,$B263,'Daily Log'!$C$18:$C$1017),0)","v":0},{"$f":"IFERROR($E263*SUMIF('Daily Log'!$E$18:$E$1017,$B263,'Daily Log'!$F$18:$F$1017),0)","v":0},{"$f":"IFERROR($E263*SUMIF('Daily Log'!$H$18:$H$1017,$B263,'Daily Log'!$I$18:$I$1017),0)","v":0},{"$f":"IFERROR($E263*SUMIF('Daily Log'!$K$18:$K$1017,$B263,'Daily Log'!$L$18:$L$1017),0)","v":0},{"$f":"IFERROR($E263*SUMIF('Daily Log'!$N$18:$N$1017,$B263,'Daily Log'!$O$18:$O$1017),0)","v":0},{"$f":"IFERROR($E263*SUMIF('Daily Log'!$Q$18:$Q$1017,$B263,'Daily Log'!$R$18:$R$1017),0)","v":0},{"$f":"IFERROR($E263*SUMIF('Daily Log'!$T$18:$T$1017,$B263,'Daily Log'!$U$18:$U$1017),0)","v":0},{"$f":"IFERROR($E263*SUMIF('Daily Log'!$W$18:$W$1017,$B263,'Daily Log'!$X$18:$X$1017),0)","v":0},{"$f":"IFERROR($E263*SUMIF('Daily Log'!$Z$18:$Z$1017,$B263,'Daily Log'!$AA$18:$AA$1017),0)","v":0},{"$f":"IFERROR($E263*SUMIF('Daily Log'!$AC$18:$AC$1017,$B263,'Daily Log'!$AD$18:$AD$1017),0)","v":0},{"$f":"IFERROR($E263*SUMIF('Daily Log'!$AF$18:$AF$1017,$B263,'Daily Log'!$AG$18:$AG$1017),0)","v":0},{"$f":"IFERROR($E263*SUMIF('Daily Log'!$AI$18:$AI$1017,$B263,'Daily Log'!$AJ$18:$AJ$1017),0)","v":0},{"$f":"IFERROR($E263*SUMIF('Daily Log'!$AL$18:$AL$1017,$B263,'Daily Log'!$AM$18:$AM$1017),0)","v":0},{"$f":"IFERROR($E263*SUMIF('Daily Log'!$AO$18:$AO$1017,$B263,'Daily Log'!$AP$18:$AP$1017),0)","v":0},{"$f":"IFERROR($E263*SUMIF('Daily Log'!$AR$18:$AR$1017,$B263,'Daily Log'!$AS$18:$AS$1017),0)","v":0},{"$f":"IFERROR($E263*SUMIF('Daily Log'!$AU$18:$AU$1017,$B263,'Daily Log'!$AV$18:$AV$1017),0)","v":0},{"$f":"IFERROR($E263*SUMIF('Daily Log'!$AX$18:$AX$1017,$B263,'Daily Log'!$AY$18:$AY$1017),0)","v":0},{"$f":"IFERROR($E263*SUMIF('Daily Log'!$BA$18:$BA$1017,$B263,'Daily Log'!$BB$18:$BB$1017),0)","v":0},{"$f":"IFERROR($E263*SUMIF('Daily Log'!$BD$18:$BD$1017,$B263,'Daily Log'!$BE$18:$BE$1017),0)","v":0},{"$f":"IFERROR($E263*SUMIF('Daily Log'!$BG$18:$BG$1017,$B263,'Daily Log'!$BH$18:$BH$1017),0)","v":0},{"$f":"IFERROR($E263*SUMIF('Daily Log'!$BJ$18:$BJ$1017,$B263,'Daily Log'!$BK$18:$BK$1017),0)","v":0},{"$f":"IFERROR($E263*SUMIF('Daily Log'!$BM$18:$BM$1017,$B263,'Daily Log'!$BN$18:$BN$1017),0)","v":0},{"$f":"IFERROR($E263*SUMIF('Daily Log'!$BP$18:$BP$1017,$B263,'Daily Log'!$BQ$18:$BQ$1017),0)","v":0},{"$f":"IFERROR($E263*SUMIF('Daily Log'!$BS$18:$BS$1017,$B263,'Daily Log'!$BT$18:$BT$1017),0)","v":0},{"$f":"IFERROR($E263*SUMIF('Daily Log'!$BV$18:$BV$1017,$B263,'Daily Log'!$BW$18:$BW$1017),0)","v":0},{"$f":"IFERROR($E263*SUMIF('Daily Log'!$BY$18:$BY$1017,$B263,'Daily Log'!$BZ$18:$BZ$1017),0)","v":0},{"$f":"IFERROR($E263*SUMIF('Daily Log'!$CB$18:$CB$1017,$B263,'Daily Log'!$CC$18:$CC$1017),0)","v":0},{"$f":"IFERROR($E263*SUMIF('Daily Log'!$CE$18:$CE$1017,$B263,'Daily Log'!$CF$18:$CF$1017),0)","v":0},{"$f":"IFERROR($E263*SUMIF('Daily Log'!$CH$18:$CH$1017,$B263,'Daily Log'!$CI$18:$CI$1017),0)","v":0},{"$f":"IFERROR($E263*SUMIF('Daily Log'!$CK$18:$CK$1017,$B263,'Daily Log'!$CL$18:$CL$1017),0)","v":0},{"$f":"IFERROR($E263*SUMIF('Daily Log'!$CN$18:$CN$1017,$B263,'Daily Log'!$CO$18:$CO$1017),0)","v":9}]
[null,"PA05 80005:CHEE SAUSG",null,"LOK LOK",1,59,{"$f":"IFERROR($E264*SUMIF('Daily Log'!$B$18:$B$1017,$B264,'Daily Log'!$C$18:$C$1017),0)","v":0},{"$f":"IFERROR($E264*SUMIF('Daily Log'!$E$18:$E$1017,$B264,'Daily Log'!$F$18:$F$1017),0)","v":0},{"$f":"IFERROR($E264*SUMIF('Daily Log'!$H$18:$H$1017,$B264,'Daily Log'!$I$18:$I$1017),0)","v":0},{"$f":"IFERROR($E264*SUMIF('Daily Log'!$K$18:$K$1017,$B264,'Daily Log'!$L$18:$L$1017),0)","v":0},{"$f":"IFERROR($E264*SUMIF('Daily Log'!$N$18:$N$1017,$B264,'Daily Log'!$O$18:$O$1017),0)","v":0},{"$f":"IFERROR($E264*SUMIF('Daily Log'!$Q$18:$Q$1017,$B264,'Daily Log'!$R$18:$R$1017),0)","v":0},{"$f":"IFERROR($E264*SUMIF('Daily Log'!$T$18:$T$1017,$B264,'Daily Log'!$U$18:$U$1017),0)","v":0},{"$f":"IFERROR($E264*SUMIF('Daily Log'!$W$18:$W$1017,$B264,'Daily Log'!$X$18:$X$1017),0)","v":0},{"$f":"IFERROR($E264*SUMIF('Daily Log'!$Z$18:$Z$1017,$B264,'Daily Log'!$AA$18:$AA$1017),0)","v":0},{"$f":"IFERROR($E264*SUMIF('Daily Log'!$AC$18:$AC$1017,$B264,'Daily Log'!$AD$18:$AD$1017),0)","v":0},{"$f":"IFERROR($E264*SUMIF('Daily Log'!$AF$18:$AF$1017,$B264,'Daily Log'!$AG$18:$AG$1017),0)","v":0},{"$f":"IFERROR($E264*SUMIF('Daily Log'!$AI$18:$AI$1017,$B264,'Daily Log'!$AJ$18:$AJ$1017),0)","v":0},{"$f":"IFERROR($E264*SUMIF('Daily Log'!$AL$18:$AL$1017,$B264,'Daily Log'!$AM$18:$AM$1017),0)","v":0},{"$f":"IFERROR($E264*SUMIF('Daily Log'!$AO$18:$AO$1017,$B264,'Daily Log'!$AP$18:$AP$1017),0)","v":0},{"$f":"IFERROR($E264*SUMIF('Daily Log'!$AR$18:$AR$1017,$B264,'Daily Log'!$AS$18:$AS$1017),0)","v":0},{"$f":"IFERROR($E264*SUMIF('Daily Log'!$AU$18:$AU$1017,$B264,'Daily Log'!$AV$18:$AV$1017),0)","v":0},{"$f":"IFERROR($E264*SUMIF('Daily Log'!$AX$18:$AX$1017,$B264,'Daily Log'!$AY$18:$AY$1017),0)","v":0},{"$f":"IFERROR($E264*SUMIF('Daily Log'!$BA$18:$BA$1017,$B264,'Daily Log'!$BB$18:$BB$1017),0)","v":0},{"$f":"IFERROR($E264*SUMIF('Daily Log'!$BD$18:$BD$1017,$B264,'Daily Log'!$BE$18:$BE$1017),0)","v":0},{"$f":"IFERROR($E264*SUMIF('Daily Log'!$BG$18:$BG$1017,$B264,'Daily Log'!$BH$18:$BH$1017),0)","v":0},{"$f":"IFERROR($E264*SUMIF('Daily Log'!$BJ$18:$BJ$1017,$B264,'Daily Log'!$BK$18:$BK$1017),0)","v":0},{"$f":"IFERROR($E264*SUMIF('Daily Log'!$BM$18:$BM$1017,$B264,'Daily Log'!$BN$18:$BN$1017),0)","v":0},{"$f":"IFERROR($E264*SUMIF('Daily Log'!$BP$18:$BP$1017,$B264,'Daily Log'!$BQ$18:$BQ$1017),0)","v":0},{"$f":"IFERROR($E264*SUMIF('Daily Log'!$BS$18:$BS$1017,$B264,'Daily Log'!$BT$18:$BT$1017),0)","v":0},{"$f":"IFERROR($E264*SUMIF('Daily Log'!$BV$18:$BV$1017,$B264,'Daily Log'!$BW$18:$BW$1017),0)","v":0},{"$f":"IFERROR($E264*SUMIF('Daily Log'!$BY$18:$BY$1017,$B264,'Daily Log'!$BZ$18:$BZ$1017),0)","v":0},{"$f":"IFERROR($E264*SUMIF('Daily Log'!$CB$18:$CB$1017,$B264,'Daily Log'!$CC$18:$CC$1017),0)","v":0},{"$f":"IFERROR($E264*SUMIF('Daily Log'!$CE$18:$CE$1017,$B264,'Daily Log'!$CF$18:$CF$1017),0)","v":0},{"$f":"IFERROR($E264*SUMIF('Daily Log'!$CH$18:$CH$1017,$B264,'Daily Log'!$CI$18:$CI$1017),0)","v":0},{"$f":"IFERROR($E264*SUMIF('Daily Log'!$CK$18:$CK$1017,$B264,'Daily Log'!$CL$18:$CL$1017),0)","v":0},{"$f":"IFERROR($E264*SUMIF('Daily Log'!$CN$18:$CN$1017,$B264,'Daily Log'!$CO$18:$CO$1017),0)","v":59}]
[null,"PA06 80006:BP SAUSG",null,"LOK LOK",1,36,{"$f":"IFERROR($E265*SUMIF('Daily Log'!$B$18:$B$1017,$B265,'Daily Log'!$C$18:$C$1017),0)","v":0},{"$f":"IFERROR($E265*SUMIF('Daily Log'!$E$18:$E$1017,$B265,'Daily Log'!$F$18:$F$1017),0)","v":0},{"$f":"IFERROR($E265*SUMIF('Daily Log'!$H$18:$H$1017,$B265,'Daily Log'!$I$18:$I$1017),0)","v":0},{"$f":"IFERROR($E265*SUMIF('Daily Log'!$K$18:$K$1017,$B265,'Daily Log'!$L$18:$L$1017),0)","v":0},{"$f":"IFERROR($E265*SUMIF('Daily Log'!$N$18:$N$1017,$B265,'Daily Log'!$O$18:$O$1017),0)","v":0},{"$f":"IFERROR($E265*SUMIF('Daily Log'!$Q$18:$Q$1017,$B265,'Daily Log'!$R$18:$R$1017),0)","v":0},{"$f":"IFERROR($E265*SUMIF('Daily Log'!$T$18:$T$1017,$B265,'Daily Log'!$U$18:$U$1017),0)","v":0},{"$f":"IFERROR($E265*SUMIF('Daily Log'!$W$18:$W$1017,$B265,'Daily Log'!$X$18:$X$1017),0)","v":0},{"$f":"IFERROR($E265*SUMIF('Daily Log'!$Z$18:$Z$1017,$B265,'Daily Log'!$AA$18:$AA$1017),0)","v":0},{"$f":"IFERROR($E265*SUMIF('Daily Log'!$AC$18:$AC$1017,$B265,'Daily Log'!$AD$18:$AD$1017),0)","v":0},{"$f":"IFERROR($E265*SUMIF('Daily Log'!$AF$18:$AF$1017,$B265,'Daily Log'!$AG$18:$AG$1017),0)","v":0},{"$f":"IFERROR($E265*SUMIF('Daily Log'!$AI$18:$AI$1017,$B265,'Daily Log'!$AJ$18:$AJ$1017),0)","v":0},{"$f":"IFERROR($E265*SUMIF('Daily Log'!$AL$18:$AL$1017,$B265,'Daily Log'!$AM$18:$AM$1017),0)","v":0},{"$f":"IFERROR($E265*SUMIF('Daily Log'!$AO$18:$AO$1017,$B265,'Daily Log'!$AP$18:$AP$1017),0)","v":0},{"$f":"IFERROR($E265*SUMIF('Daily Log'!$AR$18:$AR$1017,$B265,'Daily Log'!$AS$18:$AS$1017),0)","v":0},{"$f":"IFERROR($E265*SUMIF('Daily Log'!$AU$18:$AU$1017,$B265,'Daily Log'!$AV$18:$AV$1017),0)","v":0},{"$f":"IFERROR($E265*SUMIF('Daily Log'!$AX$18:$AX$1017,$B265,'Daily Log'!$AY$18:$AY$1017),0)","v":0},{"$f":"IFERROR($E265*SUMIF('Daily Log'!$BA$18:$BA$1017,$B265,'Daily Log'!$BB$18:$BB$1017),0)","v":0},{"$f":"IFERROR($E265*SUMIF('Daily Log'!$BD$18:$BD$1017,$B265,'Daily Log'!$BE$18:$BE$1017),0)","v":0},{"$f":"IFERROR($E265*SUMIF('Daily Log'!$BG$18:$BG$1017,$B265,'Daily Log'!$BH$18:$BH$1017),0)","v":0},{"$f":"IFERROR($E265*SUMIF('Daily Log'!$BJ$18:$BJ$1017,$B265,'Daily Log'!$BK$18:$BK$1017),0)","v":0},{"$f":"IFERROR($E265*SUMIF('Daily Log'!$BM$18:$BM$1017,$B265,'Daily Log'!$BN$18:$BN$1017),0)","v":0},{"$f":"IFERROR($E265*SUMIF('Daily Log'!$BP$18:$BP$1017,$B265,'Daily Log'!$BQ$18:$BQ$1017),0)","v":0},{"$f":"IFERROR($E265*SUMIF('Daily Log'!$BS$18:$BS$1017,$B265,'Daily Log'!$BT$18:$BT$1017),0)","v":0},{"$f":"IFERROR($E265*SUMIF('Daily Log'!$BV$18:$BV$1017,$B265,'Daily Log'!$BW$18:$BW$1017),0)","v":0},{"$f":"IFERROR($E265*SUMIF('Daily Log'!$BY$18:$BY$1017,$B265,'Daily Log'!$BZ$18:$BZ$1017),0)","v":0},{"$f":"IFERROR($E265*SUMIF('Daily Log'!$CB$18:$CB$1017,$B265,'Daily Log'!$CC$18:$CC$1017),0)","v":0},{"$f":"IFERROR($E265*SUMIF('Daily Log'!$CE$18:$CE$1017,$B265,'Daily Log'!$CF$18:$CF$1017),0)","v":0},{"$f":"IFERROR($E265*SUMIF('Daily Log'!$CH$18:$CH$1017,$B265,'Daily Log'!$CI$18:$CI$1017),0)","v":0},{"$f":"IFERROR($E265*SUMIF('Daily Log'!$CK$18:$CK$1017,$B265,'Daily Log'!$CL$18:$CL$1017),0)","v":0},{"$f":"IFERROR($E265*SUMIF('Daily Log'!$CN$18:$CN$1017,$B265,'Daily Log'!$CO$18:$CO$1017),0)","v":36}]
[null,"PA07 80007:PANDAN CHK",null,"LOK LOK",1,25,{"$f":"IFERROR($E266*SUMIF('Daily Log'!$B$18:$B$1017,$B266,'Daily Log'!$C$18:$C$1017),0)","v":0},{"$f":"IFERROR($E266*SUMIF('Daily Log'!$E$18:$E$1017,$B266,'Daily Log'!$F$18:$F$1017),0)","v":0},{"$f":"IFERROR($E266*SUMIF('Daily Log'!$H$18:$H$1017,$B266,'Daily Log'!$I$18:$I$1017),0)","v":0},{"$f":"IFERROR($E266*SUMIF('Daily Log'!$K$18:$K$1017,$B266,'Daily Log'!$L$18:$L$1017),0)","v":0},{"$f":"IFERROR($E266*SUMIF('Daily Log'!$N$18:$N$1017,$B266,'Daily Log'!$O$18:$O$1017),0)","v":0},{"$f":"IFERROR($E266*SUMIF('Daily Log'!$Q$18:$Q$1017,$B266,'Daily Log'!$R$18:$R$1017),0)","v":0},{"$f":"IFERROR($E266*SUMIF('Daily Log'!$T$18:$T$1017,$B266,'Daily Log'!$U$18:$U$1017),0)","v":0},{"$f":"IFERROR($E266*SUMIF('Daily Log'!$W$18:$W$1017,$B266,'Daily Log'!$X$18:$X$1017),0)","v":0},{"$f":"IFERROR($E266*SUMIF('Daily Log'!$Z$18:$Z$1017,$B266,'Daily Log'!$AA$18:$AA$1017),0)","v":0},{"$f":"IFERROR($E266*SUMIF('Daily Log'!$AC$18:$AC$1017,$B266,'Daily Log'!$AD$18:$AD$1017),0)","v":0},{"$f":"IFERROR($E266*SUMIF('Daily Log'!$AF$18:$AF$1017,$B266,'Daily Log'!$AG$18:$AG$1017),0)","v":0},{"$f":"IFERROR($E266*SUMIF('Daily Log'!$AI$18:$AI$1017,$B266,'Daily Log'!$AJ$18:$AJ$1017),0)","v":0},{"$f":"IFERROR($E266*SUMIF('Daily Log'!$AL$18:$AL$1017,$B266,'Daily Log'!$AM$18:$AM$1017),0)","v":0},{"$f":"IFERROR($E266*SUMIF('Daily Log'!$AO$18:$AO$1017,$B266,'Daily Log'!$AP$18:$AP$1017),0)","v":0},{"$f":"IFERROR($E266*SUMIF('Daily Log'!$AR$18:$AR$1017,$B266,'Daily Log'!$AS$18:$AS$1017),0)","v":0},{"$f":"IFERROR($E266*SUMIF('Daily Log'!$AU$18:$AU$1017,$B266,'Daily Log'!$AV$18:$AV$1017),0)","v":0},{"$f":"IFERROR($E266*SUMIF('Daily Log'!$AX$18:$AX$1017,$B266,'Daily Log'!$AY$18:$AY$1017),0)","v":0},{"$f":"IFERROR($E266*SUMIF('Daily Log'!$BA$18:$BA$1017,$B266,'Daily Log'!$BB$18:$BB$1017),0)","v":0},{"$f":"IFERROR($E266*SUMIF('Daily Log'!$BD$18:$BD$1017,$B266,'Daily Log'!$BE$18:$BE$1017),0)","v":0},{"$f":"IFERROR($E266*SUMIF('Daily Log'!$BG$18:$BG$1017,$B266,'Daily Log'!$BH$18:$BH$1017),0)","v":0},{"$f":"IFERROR($E266*SUMIF('Daily Log'!$BJ$18:$BJ$1017,$B266,'Daily Log'!$BK$18:$BK$1017),0)","v":0},{"$f":"IFERROR($E266*SUMIF('Daily Log'!$BM$18:$BM$1017,$B266,'Daily Log'!$BN$18:$BN$1017),0)","v":0},{"$f":"IFERROR($E266*SUMIF('Daily Log'!$BP$18:$BP$1017,$B266,'Daily Log'!$BQ$18:$BQ$1017),0)","v":0},{"$f":"IFERROR($E266*SUMIF('Daily Log'!$BS$18:$BS$1017,$B266,'Daily Log'!$BT$18:$BT$1017),0)","v":0},{"$f":"IFERROR($E266*SUMIF('Daily Log'!$BV$18:$BV$1017,$B266,'Daily Log'!$BW$18:$BW$1017),0)","v":0},{"$f":"IFERROR($E266*SUMIF('Daily Log'!$BY$18:$BY$1017,$B266,'Daily Log'!$BZ$18:$BZ$1017),0)","v":0},{"$f":"IFERROR($E266*SUMIF('Daily Log'!$CB$18:$CB$1017,$B266,'Daily Log'!$CC$18:$CC$1017),0)","v":0},{"$f":"IFERROR($E266*SUMIF('Daily Log'!$CE$18:$CE$1017,$B266,'Daily Log'!$CF$18:$CF$1017),0)","v":0},{"$f":"IFERROR($E266*SUMIF('Daily Log'!$CH$18:$CH$1017,$B266,'Daily Log'!$CI$18:$CI$1017),0)","v":0},{"$f":"IFERROR($E266*SUMIF('Daily Log'!$CK$18:$CK$1017,$B266,'Daily Log'!$CL$18:$CL$1017),0)","v":0},{"$f":"IFERROR($E266*SUMIF('Daily Log'!$CN$18:$CN$1017,$B266,'Daily Log'!$CO$18:$CO$1017),0)","v":25}]
[null,"PA08 80008:DCK BREAST",null,"LOK LOK",1,11,{"$f":"IFERROR($E267*SUMIF('Daily Log'!$B$18:$B$1017,$B267,'Daily Log'!$C$18:$C$1017),0)","v":0},{"$f":"IFERROR($E267*SUMIF('Daily Log'!$E$18:$E$1017,$B267,'Daily Log'!$F$18:$F$1017),0)","v":0},{"$f":"IFERROR($E267*SUMIF('Daily Log'!$H$18:$H$1017,$B267,'Daily Log'!$I$18:$I$1017),0)","v":0},{"$f":"IFERROR($E267*SUMIF('Daily Log'!$K$18:$K$1017,$B267,'Daily Log'!$L$18:$L$1017),0)","v":0},{"$f":"IFERROR($E267*SUMIF('Daily Log'!$N$18:$N$1017,$B267,'Daily Log'!$O$18:$O$1017),0)","v":0},{"$f":"IFERROR($E267*SUMIF('Daily Log'!$Q$18:$Q$1017,$B267,'Daily Log'!$R$18:$R$1017),0)","v":0},{"$f":"IFERROR($E267*SUMIF('Daily Log'!$T$18:$T$1017,$B267,'Daily Log'!$U$18:$U$1017),0)","v":0},{"$f":"IFERROR($E267*SUMIF('Daily Log'!$W$18:$W$1017,$B267,'Daily Log'!$X$18:$X$1017),0)","v":0},{"$f":"IFERROR($E267*SUMIF('Daily Log'!$Z$18:$Z$1017,$B267,'Daily Log'!$AA$18:$AA$1017),0)","v":0},{"$f":"IFERROR($E267*SUMIF('Daily Log'!$AC$18:$AC$1017,$B267,'Daily Log'!$AD$18:$AD$1017),0)","v":0},{"$f":"IFERROR($E267*SUMIF('Daily Log'!$AF$18:$AF$1017,$B267,'Daily Log'!$AG$18:$AG$1017),0)","v":0},{"$f":"IFERROR($E267*SUMIF('Daily Log'!$AI$18:$AI$1017,$B267,'Daily Log'!$AJ$18:$AJ$1017),0)","v":0},{"$f":"IFERROR($E267*SUMIF('Daily Log'!$AL$18:$AL$1017,$B267,'Daily Log'!$AM$18:$AM$1017),0)","v":0},{"$f":"IFERROR($E267*SUMIF('Daily Log'!$AO$18:$AO$1017,$B267,'Daily Log'!$AP$18:$AP$1017),0)","v":0},{"$f":"IFERROR($E267*SUMIF('Daily Log'!$AR$18:$AR$1017,$B267,'Daily Log'!$AS$18:$AS$1017),0)","v":0},{"$f":"IFERROR($E267*SUMIF('Daily Log'!$AU$18:$AU$1017,$B267,'Daily Log'!$AV$18:$AV$1017),0)","v":0},{"$f":"IFERROR($E267*SUMIF('Daily Log'!$AX$18:$AX$1017,$B267,'Daily Log'!$AY$18:$AY$1017),0)","v":0},{"$f":"IFERROR($E267*SUMIF('Daily Log'!$BA$18:$BA$1017,$B267,'Daily Log'!$BB$18:$BB$1017),0)","v":0},{"$f":"IFERROR($E267*SUMIF('Daily Log'!$BD$18:$BD$1017,$B267,'Daily Log'!$BE$18:$BE$1017),0)","v":0},{"$f":"IFERROR($E267*SUMIF('Daily Log'!$BG$18:$BG$1017,$B267,'Daily Log'!$BH$18:$BH$1017),0)","v":0},{"$f":"IFERROR($E267*SUMIF('Daily Log'!$BJ$18:$BJ$1017,$B267,'Daily Log'!$BK$18:$BK$1017),0)","v":0},{"$f":"IFERROR($E267*SUMIF('Daily Log'!$BM$18:$BM$1017,$B267,'Daily Log'!$BN$18:$BN$1017),0)","v":0},{"$f":"IFERROR($E267*SUMIF('Daily Log'!$BP$18:$BP$1017,$B267,'Daily Log'!$BQ$18:$BQ$1017),0)","v":0},{"$f":"IFERROR($E267*SUMIF('Daily Log'!$BS$18:$BS$1017,$B267,'Daily Log'!$BT$18:$BT$1017),0)","v":0},{"$f":"IFERROR($E267*SUMIF('Daily Log'!$BV$18:$BV$1017,$B267,'Daily Log'!$BW$18:$BW$1017),0)","v":0},{"$f":"IFERROR($E267*SUMIF('Daily Log'!$BY$18:$BY$1017,$B267,'Daily Log'!$BZ$18:$BZ$1017),0)","v":0},{"$f":"IFERROR($E267*SUMIF('Daily Log'!$CB$18:$CB$1017,$B267,'Daily Log'!$CC$18:$CC$1017),0)","v":0},{"$f":"IFERROR($E267*SUMIF('Daily Log'!$CE$18:$CE$1017,$B267,'Daily Log'!$CF$18:$CF$1017),0)","v":0},{"$f":"IFERROR($E267*SUMIF('Daily Log'!$CH$18:$CH$1017,$B267,'Daily Log'!$CI$18:$CI$1017),0)","v":0},{"$f":"IFERROR($E267*SUMIF('Daily Log'!$CK$18:$CK$1017,$B267,'Daily Log'!$CL$18:$CL$1017),0)","v":0},{"$f":"IFERROR($E267*SUMIF('Daily Log'!$CN$18:$CN$1017,$B267,'Daily Log'!$CO$18:$CO$1017),0)","v":11}]
[null,"PA09 80009:CHK WING",null,"LOK LOK",1,55,{"$f":"IFERROR($E268*SUMIF('Daily Log'!$B$18:$B$1017,$B268,'Daily Log'!$C$18:$C$1017),0)","v":0},{"$f":"IFERROR($E268*SUMIF('Daily Log'!$E$18:$E$1017,$B268,'Daily Log'!$F$18:$F$1017),0)","v":0},{"$f":"IFERROR($E268*SUMIF('Daily Log'!$H$18:$H$1017,$B268,'Daily Log'!$I$18:$I$1017),0)","v":0},{"$f":"IFERROR($E268*SUMIF('Daily Log'!$K$18:$K$1017,$B268,'Daily Log'!$L$18:$L$1017),0)","v":0},{"$f":"IFERROR($E268*SUMIF('Daily Log'!$N$18:$N$1017,$B268,'Daily Log'!$O$18:$O$1017),0)","v":0},{"$f":"IFERROR($E268*SUMIF('Daily Log'!$Q$18:$Q$1017,$B268,'Daily Log'!$R$18:$R$1017),0)","v":0},{"$f":"IFERROR($E268*SUMIF('Daily Log'!$T$18:$T$1017,$B268,'Daily Log'!$U$18:$U$1017),0)","v":0},{"$f":"IFERROR($E268*SUMIF('Daily Log'!$W$18:$W$1017,$B268,'Daily Log'!$X$18:$X$1017),0)","v":0},{"$f":"IFERROR($E268*SUMIF('Daily Log'!$Z$18:$Z$1017,$B268,'Daily Log'!$AA$18:$AA$1017),0)","v":0},{"$f":"IFERROR($E268*SUMIF('Daily Log'!$AC$18:$AC$1017,$B268,'Daily Log'!$AD$18:$AD$1017),0)","v":0},{"$f":"IFERROR($E268*SUMIF('Daily Log'!$AF$18:$AF$1017,$B268,'Daily Log'!$AG$18:$AG$1017),0)","v":0},{"$f":"IFERROR($E268*SUMIF('Daily Log'!$AI$18:$AI$1017,$B268,'Daily Log'!$AJ$18:$AJ$1017),0)","v":0},{"$f":"IFERROR($E268*SUMIF('Daily Log'!$AL$18:$AL$1017,$B268,'Daily Log'!$AM$18:$AM$1017),0)","v":0},{"$f":"IFERROR($E268*SUMIF('Daily Log'!$AO$18:$AO$1017,$B268,'Daily Log'!$AP$18:$AP$1017),0)","v":0},{"$f":"IFERROR($E268*SUMIF('Daily Log'!$AR$18:$AR$1017,$B268,'Daily Log'!$AS$18:$AS$1017),0)","v":0},{"$f":"IFERROR($E268*SUMIF('Daily Log'!$AU$18:$AU$1017,$B268,'Daily Log'!$AV$18:$AV$1017),0)","v":0},{"$f":"IFERROR($E268*SUMIF('Daily Log'!$AX$18:$AX$1017,$B268,'Daily Log'!$AY$18:$AY$1017),0)","v":0},{"$f":"IFERROR($E268*SUMIF('Daily Log'!$BA$18:$BA$1017,$B268,'Daily Log'!$BB$18:$BB$1017),0)","v":0},{"$f":"IFERROR($E268*SUMIF('Daily Log'!$BD$18:$BD$1017,$B268,'Daily Log'!$BE$18:$BE$1017),0)","v":0},{"$f":"IFERROR($E268*SUMIF('Daily Log'!$BG$18:$BG$1017,$B268,'Daily Log'!$BH$18:$BH$1017),0)","v":0},{"$f":"IFERROR($E268*SUMIF('Daily Log'!$BJ$18:$BJ$1017,$B268,'Daily Log'!$BK$18:$BK$1017),0)","v":0},{"$f":"IFERROR($E268*SUMIF('Daily Log'!$BM$18:$BM$1017,$B268,'Daily Log'!$BN$18:$BN$1017),0)","v":0},{"$f":"IFERROR($E268*SUMIF('Daily Log'!$BP$18:$BP$1017,$B268,'Daily Log'!$BQ$18:$BQ$1017),0)","v":0},{"$f":"IFERROR($E268*SUMIF('Daily Log'!$BS$18:$BS$1017,$B268,'Daily Log'!$BT$18:$BT$1017),0)","v":0},{"$f":"IFERROR($E268*SUMIF('Daily Log'!$BV$18:$BV$1017,$B268,'Daily Log'!$BW$18:$BW$1017),0)","v":0},{"$f":"IFERROR($E268*SUMIF('Daily Log'!$BY$18:$BY$1017,$B268,'Daily Log'!$BZ$18:$BZ$1017),0)","v":0},{"$f":"IFERROR($E268*SUMIF('Daily Log'!$CB$18:$CB$1017,$B268,'Daily Log'!$CC$18:$CC$1017),0)","v":0},{"$f":"IFERROR($E268*SUMIF('Daily Log'!$CE$18:$CE$1017,$B268,'Daily Log'!$CF$18:$CF$1017),0)","v":0},{"$f":"IFERROR($E268*SUMIF('Daily Log'!$CH$18:$CH$1017,$B268,'Daily Log'!$CI$18:$CI$1017),0)","v":0},{"$f":"IFERROR($E268*SUMIF('Daily Log'!$CK$18:$CK$1017,$B268,'Daily Log'!$CL$18:$CL$1017),0)","v":0},{"$f":"IFERROR($E268*SUMIF('Daily Log'!$CN$18:$CN$1017,$B268,'Daily Log'!$CO$18:$CO$1017),0)","v":55}]
[null,"PC01 80016:FSH MI CAK",null,"LOK LOK",1,13,{"$f":"IFERROR($E269*SUMIF('Daily Log'!$B$18:$B$1017,$B269,'Daily Log'!$C$18:$C$1017),0)","v":0},{"$f":"IFERROR($E269*SUMIF('Daily Log'!$E$18:$E$1017,$B269,'Daily Log'!$F$18:$F$1017),0)","v":0},{"$f":"IFERROR($E269*SUMIF('Daily Log'!$H$18:$H$1017,$B269,'Daily Log'!$I$18:$I$1017),0)","v":0},{"$f":"IFERROR($E269*SUMIF('Daily Log'!$K$18:$K$1017,$B269,'Daily Log'!$L$18:$L$1017),0)","v":0},{"$f":"IFERROR($E269*SUMIF('Daily Log'!$N$18:$N$1017,$B269,'Daily Log'!$O$18:$O$1017),0)","v":0},{"$f":"IFERROR($E269*SUMIF('Daily Log'!$Q$18:$Q$1017,$B269,'Daily Log'!$R$18:$R$1017),0)","v":0},{"$f":"IFERROR($E269*SUMIF('Daily Log'!$T$18:$T$1017,$B269,'Daily Log'!$U$18:$U$1017),0)","v":0},{"$f":"IFERROR($E269*SUMIF('Daily Log'!$W$18:$W$1017,$B269,'Daily Log'!$X$18:$X$1017),0)","v":0},{"$f":"IFERROR($E269*SUMIF('Daily Log'!$Z$18:$Z$1017,$B269,'Daily Log'!$AA$18:$AA$1017),0)","v":0},{"$f":"IFERROR($E269*SUMIF('Daily Log'!$AC$18:$AC$1017,$B269,'Daily Log'!$AD$18:$AD$1017),0)","v":0},{"$f":"IFERROR($E269*SUMIF('Daily Log'!$AF$18:$AF$1017,$B269,'Daily Log'!$AG$18:$AG$1017),0)","v":0},{"$f":"IFERROR($E269*SUMIF('Daily Log'!$AI$18:$AI$1017,$B269,'Daily Log'!$AJ$18:$AJ$1017),0)","v":0},{"$f":"IFERROR($E269*SUMIF('Daily Log'!$AL$18:$AL$1017,$B269,'Daily Log'!$AM$18:$AM$1017),0)","v":0},{"$f":"IFERROR($E269*SUMIF('Daily Log'!$AO$18:$AO$1017,$B269,'Daily Log'!$AP$18:$AP$1017),0)","v":0},{"$f":"IFERROR($E269*SUMIF('Daily Log'!$AR$18:$AR$1017,$B269,'Daily Log'!$AS$18:$AS$1017),0)","v":0},{"$f":"IFERROR($E269*SUMIF('Daily Log'!$AU$18:$AU$1017,$B269,'Daily Log'!$AV$18:$AV$1017),0)","v":0},{"$f":"IFERROR($E269*SUMIF('Daily Log'!$AX$18:$AX$1017,$B269,'Daily Log'!$AY$18:$AY$1017),0)","v":0},{"$f":"IFERROR($E269*SUMIF('Daily Log'!$BA$18:$BA$1017,$B269,'Daily Log'!$BB$18:$BB$1017),0)","v":0},{"$f":"IFERROR($E269*SUMIF('Daily Log'!$BD$18:$BD$1017,$B269,'Daily Log'!$BE$18:$BE$1017),0)","v":0},{"$f":"IFERROR($E269*SUMIF('Daily Log'!$BG$18:$BG$1017,$B269,'Daily Log'!$BH$18:$BH$1017),0)","v":0},{"$f":"IFERROR($E269*SUMIF('Daily Log'!$BJ$18:$BJ$1017,$B269,'Daily Log'!$BK$18:$BK$1017),0)","v":0},{"$f":"IFERROR($E269*SUMIF('Daily Log'!$BM$18:$BM$1017,$B269,'Daily Log'!$BN$18:$BN$1017),0)","v":0},{"$f":"IFERROR($E269*SUMIF('Daily Log'!$BP$18:$BP$1017,$B269,'Daily Log'!$BQ$18:$BQ$1017),0)","v":0},{"$f":"IFERROR($E269*SUMIF('Daily Log'!$BS$18:$BS$1017,$B269,'Daily Log'!$BT$18:$BT$1017),0)","v":0},{"$f":"IFERROR($E269*SUMIF('Daily Log'!$BV$18:$BV$1017,$B269,'Daily Log'!$BW$18:$BW$1017),0)","v":0},{"$f":"IFERROR($E269*SUMIF('Daily Log'!$BY$18:$BY$1017,$B269,'Daily Log'!$BZ$18:$BZ$1017),0)","v":0},{"$f":"IFERROR($E269*SUMIF('Daily Log'!$CB$18:$CB$1017,$B269,'Daily Log'!$CC$18:$CC$1017),0)","v":0},{"$f":"IFERROR($E269*SUMIF('Daily Log'!$CE$18:$CE$1017,$B269,'Daily Log'!$CF$18:$CF$1017),0)","v":0},{"$f":"IFERROR($E269*SUMIF('Daily Log'!$CH$18:$CH$1017,$B269,'Daily Log'!$CI$18:$CI$1017),0)","v":0},{"$f":"IFERROR($E269*SUMIF('Daily Log'!$CK$18:$CK$1017,$B269,'Daily Log'!$CL$18:$CL$1017),0)","v":0},{"$f":"IFERROR($E269*SUMIF('Daily Log'!$CN$18:$CN$1017,$B269,'Daily Log'!$CO$18:$CO$1017),0)","v":13}]
[null,"PC02 80017:SP FSH CAK",null,"LOK LOK",1,5,{"$f":"IFERROR($E270*SUMIF('Daily Log'!$B$18:$B$1017,$B270,'Daily Log'!$C$18:$C$1017),0)","v":0},{"$f":"IFERROR($E270*SUMIF('Daily Log'!$E$18:$E$1017,$B270,'Daily Log'!$F$18:$F$1017),0)","v":0},{"$f":"IFERROR($E270*SUMIF('Daily Log'!$H$18:$H$1017,$B270,'Daily Log'!$I$18:$I$1017),0)","v":0},{"$f":"IFERROR($E270*SUMIF('Daily Log'!$K$18:$K$1017,$B270,'Daily Log'!$L$18:$L$1017),0)","v":0},{"$f":"IFERROR($E270*SUMIF('Daily Log'!$N$18:$N$1017,$B270,'Daily Log'!$O$18:$O$1017),0)","v":0},{"$f":"IFERROR($E270*SUMIF('Daily Log'!$Q$18:$Q$1017,$B270,'Daily Log'!$R$18:$R$1017),0)","v":0},{"$f":"IFERROR($E270*SUMIF('Daily Log'!$T$18:$T$1017,$B270,'Daily Log'!$U$18:$U$1017),0)","v":0},{"$f":"IFERROR($E270*SUMIF('Daily Log'!$W$18:$W$1017,$B270,'Daily Log'!$X$18:$X$1017),0)","v":0},{"$f":"IFERROR($E270*SUMIF('Daily Log'!$Z$18:$Z$1017,$B270,'Daily Log'!$AA$18:$AA$1017),0)","v":0},{"$f":"IFERROR($E270*SUMIF('Daily Log'!$AC$18:$AC$1017,$B270,'Daily Log'!$AD$18:$AD$1017),0)","v":0},{"$f":"IFERROR($E270*SUMIF('Daily Log'!$AF$18:$AF$1017,$B270,'Daily Log'!$AG$18:$AG$1017),0)","v":0},{"$f":"IFERROR($E270*SUMIF('Daily Log'!$AI$18:$AI$1017,$B270,'Daily Log'!$AJ$18:$AJ$1017),0)","v":0},{"$f":"IFERROR($E270*SUMIF('Daily Log'!$AL$18:$AL$1017,$B270,'Daily Log'!$AM$18:$AM$1017),0)","v":0},{"$f":"IFERROR($E270*SUMIF('Daily Log'!$AO$18:$AO$1017,$B270,'Daily Log'!$AP$18:$AP$1017),0)","v":0},{"$f":"IFERROR($E270*SUMIF('Daily Log'!$AR$18:$AR$1017,$B270,'Daily Log'!$AS$18:$AS$1017),0)","v":0},{"$f":"IFERROR($E270*SUMIF('Daily Log'!$AU$18:$AU$1017,$B270,'Daily Log'!$AV$18:$AV$1017),0)","v":0},{"$f":"IFERROR($E270*SUMIF('Daily Log'!$AX$18:$AX$1017,$B270,'Daily Log'!$AY$18:$AY$1017),0)","v":0},{"$f":"IFERROR($E270*SUMIF('Daily Log'!$BA$18:$BA$1017,$B270,'Daily Log'!$BB$18:$BB$1017),0)","v":0},{"$f":"IFERROR($E270*SUMIF('Daily Log'!$BD$18:$BD$1017,$B270,'Daily Log'!$BE$18:$BE$1017),0)","v":0},{"$f":"IFERROR($E270*SUMIF('Daily Log'!$BG$18:$BG$1017,$B270,'Daily Log'!$BH$18:$BH$1017),0)","v":0},{"$f":"IFERROR($E270*SUMIF('Daily Log'!$BJ$18:$BJ$1017,$B270,'Daily Log'!$BK$18:$BK$1017),0)","v":0},{"$f":"IFERROR($E270*SUMIF('Daily Log'!$BM$18:$BM$1017,$B270,'Daily Log'!$BN$18:$BN$1017),0)","v":0},{"$f":"IFERROR($E270*SUMIF('Daily Log'!$BP$18:$BP$1017,$B270,'Daily Log'!$BQ$18:$BQ$1017),0)","v":0},{"$f":"IFERROR($E270*SUMIF('Daily Log'!$BS$18:$BS$1017,$B270,'Daily Log'!$BT$18:$BT$1017),0)","v":0},{"$f":"IFERROR($E270*SUMIF('Daily Log'!$BV$18:$BV$1017,$B270,'Daily Log'!$BW$18:$BW$1017),0)","v":0},{"$f":"IFERROR($E270*SUMIF('Daily Log'!$BY$18:$BY$1017,$B270,'Daily Log'!$BZ$18:$BZ$1017),0)","v":0},{"$f":"IFERROR($E270*SUMIF('Daily Log'!$CB$18:$CB$1017,$B270,'Daily Log'!$CC$18:$CC$1017),0)","v":0},{"$f":"IFERROR($E270*SUMIF('Daily Log'!$CE$18:$CE$1017,$B270,'Daily Log'!$CF$18:$CF$1017),0)","v":0},{"$f":"IFERROR($E270*SUMIF('Daily Log'!$CH$18:$CH$1017,$B270,'Daily Log'!$CI$18:$CI$1017),0)","v":0},{"$f":"IFERROR($E270*SUMIF('Daily Log'!$CK$18:$CK$1017,$B270,'Daily Log'!$CL$18:$CL$1017),0)","v":0},{"$f":"IFERROR($E270*SUMIF('Daily Log'!$CN$18:$CN$1017,$B270,'Daily Log'!$CO$18:$CO$1017),0)","v":5}]
[null,"PC03 80018:CLAM",null,"LOK LOK",1,19,{"$f":"IFERROR($E271*SUMIF('Daily Log'!$B$18:$B$1017,$B271,'Daily Log'!$C$18:$C$1017),0)","v":0},{"$f":"IFERROR($E271*SUMIF('Daily Log'!$E$18:$E$1017,$B271,'Daily Log'!$F$18:$F$1017),0)","v":0},{"$f":"IFERROR($E271*SUMIF('Daily Log'!$H$18:$H$1017,$B271,'Daily Log'!$I$18:$I$1017),0)","v":0},{"$f":"IFERROR($E271*SUMIF('Daily Log'!$K$18:$K$1017,$B271,'Daily Log'!$L$18:$L$1017),0)","v":0},{"$f":"IFERROR($E271*SUMIF('Daily Log'!$N$18:$N$1017,$B271,'Daily Log'!$O$18:$O$1017),0)","v":0},{"$f":"IFERROR($E271*SUMIF('Daily Log'!$Q$18:$Q$1017,$B271,'Daily Log'!$R$18:$R$1017),0)","v":0},{"$f":"IFERROR($E271*SUMIF('Daily Log'!$T$18:$T$1017,$B271,'Daily Log'!$U$18:$U$1017),0)","v":0},{"$f":"IFERROR($E271*SUMIF('Daily Log'!$W$18:$W$1017,$B271,'Daily Log'!$X$18:$X$1017),0)","v":0},{"$f":"IFERROR($E271*SUMIF('Daily Log'!$Z$18:$Z$1017,$B271,'Daily Log'!$AA$18:$AA$1017),0)","v":0},{"$f":"IFERROR($E271*SUMIF('Daily Log'!$AC$18:$AC$1017,$B271,'Daily Log'!$AD$18:$AD$1017),0)","v":0},{"$f":"IFERROR($E271*SUMIF('Daily Log'!$AF$18:$AF$1017,$B271,'Daily Log'!$AG$18:$AG$1017),0)","v":0},{"$f":"IFERROR($E271*SUMIF('Daily Log'!$AI$18:$AI$1017,$B271,'Daily Log'!$AJ$18:$AJ$1017),0)","v":0},{"$f":"IFERROR($E271*SUMIF('Daily Log'!$AL$18:$AL$1017,$B271,'Daily Log'!$AM$18:$AM$1017),0)","v":0},{"$f":"IFERROR($E271*SUMIF('Daily Log'!$AO$18:$AO$1017,$B271,'Daily Log'!$AP$18:$AP$1017),0)","v":0},{"$f":"IFERROR($E271*SUMIF('Daily Log'!$AR$18:$AR$1017,$B271,'Daily Log'!$AS$18:$AS$1017),0)","v":0},{"$f":"IFERROR($E271*SUMIF('Daily Log'!$AU$18:$AU$1017,$B271,'Daily Log'!$AV$18:$AV$1017),0)","v":0},{"$f":"IFERROR($E271*SUMIF('Daily Log'!$AX$18:$AX$1017,$B271,'Daily Log'!$AY$18:$AY$1017),0)","v":0},{"$f":"IFERROR($E271*SUMIF('Daily Log'!$BA$18:$BA$1017,$B271,'Daily Log'!$BB$18:$BB$1017),0)","v":0},{"$f":"IFERROR($E271*SUMIF('Daily Log'!$BD$18:$BD$1017,$B271,'Daily Log'!$BE$18:$BE$1017),0)","v":0},{"$f":"IFERROR($E271*SUMIF('Daily Log'!$BG$18:$BG$1017,$B271,'Daily Log'!$BH$18:$BH$1017),0)","v":0},{"$f":"IFERROR($E271*SUMIF('Daily Log'!$BJ$18:$BJ$1017,$B271,'Daily Log'!$BK$18:$BK$1017),0)","v":0},{"$f":"IFERROR($E271*SUMIF('Daily Log'!$BM$18:$BM$1017,$B271,'Daily Log'!$BN$18:$BN$1017),0)","v":0},{"$f":"IFERROR($E271*SUMIF('Daily Log'!$BP$18:$BP$1017,$B271,'Daily Log'!$BQ$18:$BQ$1017),0)","v":0},{"$f":"IFERROR($E271*SUMIF('Daily Log'!$BS$18:$BS$1017,$B271,'Daily Log'!$BT$18:$BT$1017),0)","v":0},{"$f":"IFERROR($E271*SUMIF('Daily Log'!$BV$18:$BV$1017,$B271,'Daily Log'!$BW$18:$BW$1017),0)","v":0},{"$f":"IFERROR($E271*SUMIF('Daily Log'!$BY$18:$BY$1017,$B271,'Daily Log'!$BZ$18:$BZ$1017),0)","v":0},{"$f":"IFERROR($E271*SUMIF('Daily Log'!$CB$18:$CB$1017,$B271,'Daily Log'!$CC$18:$CC$1017),0)","v":0},{"$f":"IFERROR($E271*SUMIF('Daily Log'!$CE$18:$CE$1017,$B271,'Daily Log'!$CF$18:$CF$1017),0)","v":0},{"$f":"IFERROR($E271*SUMIF('Daily Log'!$CH$18:$CH$1017,$B271,'Daily Log'!$CI$18:$CI$1017),0)","v":0},{"$f":"IFERROR($E271*SUMIF('Daily Log'!$CK$18:$CK$1017,$B271,'Daily Log'!$CL$18:$CL$1017),0)","v":0},{"$f":"IFERROR($E271*SUMIF('Daily Log'!$CN$18:$CN$1017,$B271,'Daily Log'!$CO$18:$CO$1017),0)","v":19}]
[null,"PC04 80019:FV FSH BAL",null,"LOK LOK",1,14,{"$f":"IFERROR($E272*SUMIF('Daily Log'!$B$18:$B$1017,$B272,'Daily Log'!$C$18:$C$1017),0)","v":0},{"$f":"IFERROR($E272*SUMIF('Daily Log'!$E$18:$E$1017,$B272,'Daily Log'!$F$18:$F$1017),0)","v":0},{"$f":"IFERROR($E272*SUMIF('Daily Log'!$H$18:$H$1017,$B272,'Daily Log'!$I$18:$I$1017),0)","v":0},{"$f":"IFERROR($E272*SUMIF('Daily Log'!$K$18:$K$1017,$B272,'Daily Log'!$L$18:$L$1017),0)","v":0},{"$f":"IFERROR($E272*SUMIF('Daily Log'!$N$18:$N$1017,$B272,'Daily Log'!$O$18:$O$1017),0)","v":0},{"$f":"IFERROR($E272*SUMIF('Daily Log'!$Q$18:$Q$1017,$B272,'Daily Log'!$R$18:$R$1017),0)","v":0},{"$f":"IFERROR($E272*SUMIF('Daily Log'!$T$18:$T$1017,$B272,'Daily Log'!$U$18:$U$1017),0)","v":0},{"$f":"IFERROR($E272*SUMIF('Daily Log'!$W$18:$W$1017,$B272,'Daily Log'!$X$18:$X$1017),0)","v":0},{"$f":"IFERROR($E272*SUMIF('Daily Log'!$Z$18:$Z$1017,$B272,'Daily Log'!$AA$18:$AA$1017),0)","v":0},{"$f":"IFERROR($E272*SUMIF('Daily Log'!$AC$18:$AC$1017,$B272,'Daily Log'!$AD$18:$AD$1017),0)","v":0},{"$f":"IFERROR($E272*SUMIF('Daily Log'!$AF$18:$AF$1017,$B272,'Daily Log'!$AG$18:$AG$1017),0)","v":0},{"$f":"IFERROR($E272*SUMIF('Daily Log'!$AI$18:$AI$1017,$B272,'Daily Log'!$AJ$18:$AJ$1017),0)","v":0},{"$f":"IFERROR($E272*SUMIF('Daily Log'!$AL$18:$AL$1017,$B272,'Daily Log'!$AM$18:$AM$1017),0)","v":0},{"$f":"IFERROR($E272*SUMIF('Daily Log'!$AO$18:$AO$1017,$B272,'Daily Log'!$AP$18:$AP$1017),0)","v":0},{"$f":"IFERROR($E272*SUMIF('Daily Log'!$AR$18:$AR$1017,$B272,'Daily Log'!$AS$18:$AS$1017),0)","v":0},{"$f":"IFERROR($E272*SUMIF('Daily Log'!$AU$18:$AU$1017,$B272,'Daily Log'!$AV$18:$AV$1017),0)","v":0},{"$f":"IFERROR($E272*SUMIF('Daily Log'!$AX$18:$AX$1017,$B272,'Daily Log'!$AY$18:$AY$1017),0)","v":0},{"$f":"IFERROR($E272*SUMIF('Daily Log'!$BA$18:$BA$1017,$B272,'Daily Log'!$BB$18:$BB$1017),0)","v":0},{"$f":"IFERROR($E272*SUMIF('Daily Log'!$BD$18:$BD$1017,$B272,'Daily Log'!$BE$18:$BE$1017),0)","v":0},{"$f":"IFERROR($E272*SUMIF('Daily Log'!$BG$18:$BG$1017,$B272,'Daily Log'!$BH$18:$BH$1017),0)","v":0},{"$f":"IFERROR($E272*SUMIF('Daily Log'!$BJ$18:$BJ$1017,$B272,'Daily Log'!$BK$18:$BK$1017),0)","v":0},{"$f":"IFERROR($E272*SUMIF('Daily Log'!$BM$18:$BM$1017,$B272,'Daily Log'!$BN$18:$BN$1017),0)","v":0},{"$f":"IFERROR($E272*SUMIF('Daily Log'!$BP$18:$BP$1017,$B272,'Daily Log'!$BQ$18:$BQ$1017),0)","v":0},{"$f":"IFERROR($E272*SUMIF('Daily Log'!$BS$18:$BS$1017,$B272,'Daily Log'!$BT$18:$BT$1017),0)","v":0},{"$f":"IFERROR($E272*SUMIF('Daily Log'!$BV$18:$BV$1017,$B272,'Daily Log'!$BW$18:$BW$1017),0)","v":0},{"$f":"IFERROR($E272*SUMIF('Daily Log'!$BY$18:$BY$1017,$B272,'Daily Log'!$BZ$18:$BZ$1017),0)","v":0},{"$f":"IFERROR($E272*SUMIF('Daily Log'!$CB$18:$CB$1017,$B272,'Daily Log'!$CC$18:$CC$1017),0)","v":0},{"$f":"IFERROR($E272*SUMIF('Daily Log'!$CE$18:$CE$1017,$B272,'Daily Log'!$CF$18:$CF$1017),0)","v":0},{"$f":"IFERROR($E272*SUMIF('Daily Log'!$CH$18:$CH$1017,$B272,'Daily Log'!$CI$18:$CI$1017),0)","v":0},{"$f":"IFERROR($E272*SUMIF('Daily Log'!$CK$18:$CK$1017,$B272,'Daily Log'!$CL$18:$CL$1017),0)","v":0},{"$f":"IFERROR($E272*SUMIF('Daily Log'!$CN$18:$CN$1017,$B272,'Daily Log'!$CO$18:$CO$1017),0)","v":14}]
[null,"PC05 80020:FSH BAL S",null,"LOK LOK",1,25,{"$f":"IFERROR($E273*SUMIF('Daily Log'!$B$18:$B$1017,$B273,'Daily Log'!$C$18:$C$1017),0)","v":0},{"$f":"IFERROR($E273*SUMIF('Daily Log'!$E$18:$E$1017,$B273,'Daily Log'!$F$18:$F$1017),0)","v":0},{"$f":"IFERROR($E273*SUMIF('Daily Log'!$H$18:$H$1017,$B273,'Daily Log'!$I$18:$I$1017),0)","v":0},{"$f":"IFERROR($E273*SUMIF('Daily Log'!$K$18:$K$1017,$B273,'Daily Log'!$L$18:$L$1017),0)","v":0},{"$f":"IFERROR($E273*SUMIF('Daily Log'!$N$18:$N$1017,$B273,'Daily Log'!$O$18:$O$1017),0)","v":0},{"$f":"IFERROR($E273*SUMIF('Daily Log'!$Q$18:$Q$1017,$B273,'Daily Log'!$R$18:$R$1017),0)","v":0},{"$f":"IFERROR($E273*SUMIF('Daily Log'!$T$18:$T$1017,$B273,'Daily Log'!$U$18:$U$1017),0)","v":0},{"$f":"IFERROR($E273*SUMIF('Daily Log'!$W$18:$W$1017,$B273,'Daily Log'!$X$18:$X$1017),0)","v":0},{"$f":"IFERROR($E273*SUMIF('Daily Log'!$Z$18:$Z$1017,$B273,'Daily Log'!$AA$18:$AA$1017),0)","v":0},{"$f":"IFERROR($E273*SUMIF('Daily Log'!$AC$18:$AC$1017,$B273,'Daily Log'!$AD$18:$AD$1017),0)","v":0},{"$f":"IFERROR($E273*SUMIF('Daily Log'!$AF$18:$AF$1017,$B273,'Daily Log'!$AG$18:$AG$1017),0)","v":0},{"$f":"IFERROR($E273*SUMIF('Daily Log'!$AI$18:$AI$1017,$B273,'Daily Log'!$AJ$18:$AJ$1017),0)","v":0},{"$f":"IFERROR($E273*SUMIF('Daily Log'!$AL$18:$AL$1017,$B273,'Daily Log'!$AM$18:$AM$1017),0)","v":0},{"$f":"IFERROR($E273*SUMIF('Daily Log'!$AO$18:$AO$1017,$B273,'Daily Log'!$AP$18:$AP$1017),0)","v":0},{"$f":"IFERROR($E273*SUMIF('Daily Log'!$AR$18:$AR$1017,$B273,'Daily Log'!$AS$18:$AS$1017),0)","v":0},{"$f":"IFERROR($E273*SUMIF('Daily Log'!$AU$18:$AU$1017,$B273,'Daily Log'!$AV$18:$AV$1017),0)","v":0},{"$f":"IFERROR($E273*SUMIF('Daily Log'!$AX$18:$AX$1017,$B273,'Daily Log'!$AY$18:$AY$1017),0)","v":0},{"$f":"IFERROR($E273*SUMIF('Daily Log'!$BA$18:$BA$1017,$B273,'Daily Log'!$BB$18:$BB$1017),0)","v":0},{"$f":"IFERROR($E273*SUMIF('Daily Log'!$BD$18:$BD$1017,$B273,'Daily Log'!$BE$18:$BE$1017),0)","v":0},{"$f":"IFERROR($E273*SUMIF('Daily Log'!$BG$18:$BG$1017,$B273,'Daily Log'!$BH$18:$BH$1017),0)","v":0},{"$f":"IFERROR($E273*SUMIF('Daily Log'!$BJ$18:$BJ$1017,$B273,'Daily Log'!$BK$18:$BK$1017),0)","v":0},{"$f":"IFERROR($E273*SUMIF('Daily Log'!$BM$18:$BM$1017,$B273,'Daily Log'!$BN$18:$BN$1017),0)","v":0},{"$f":"IFERROR($E273*SUMIF('Daily Log'!$BP$18:$BP$1017,$B273,'Daily Log'!$BQ$18:$BQ$1017),0)","v":0},{"$f":"IFERROR($E273*SUMIF('Daily Log'!$BS$18:$BS$1017,$B273,'Daily Log'!$BT$18:$BT$1017),0)","v":0},{"$f":"IFERROR($E273*SUMIF('Daily Log'!$BV$18:$BV$1017,$B273,'Daily Log'!$BW$18:$BW$1017),0)","v":0},{"$f":"IFERROR($E273*SUMIF('Daily Log'!$BY$18:$BY$1017,$B273,'Daily Log'!$BZ$18:$BZ$1017),0)","v":0},{"$f":"IFERROR($E273*SUMIF('Daily Log'!$CB$18:$CB$1017,$B273,'Daily Log'!$CC$18:$CC$1017),0)","v":0},{"$f":"IFERROR($E273*SUMIF('Daily Log'!$CE$18:$CE$1017,$B273,'Daily Log'!$CF$18:$CF$1017),0)","v":0},{"$f":"IFERROR($E273*SUMIF('Daily Log'!$CH$18:$CH$1017,$B273,'Daily Log'!$CI$18:$CI$1017),0)","v":0},{"$f":"IFERROR($E273*SUMIF('Daily Log'!$CK$18:$CK$1017,$B273,'Daily Log'!$CL$18:$CL$1017),0)","v":0},{"$f":"IFERROR($E273*SUMIF('Daily Log'!$CN$18:$CN$1017,$B273,'Daily Log'!$CO$18:$CO$1017),0)","v":25}]
[null,"PC06 80021:PRW BAL",null,"LOK LOK",1,7,{"$f":"IFERROR($E274*SUMIF('Daily Log'!$B$18:$B$1017,$B274,'Daily Log'!$C$18:$C$1017),0)","v":0},{"$f":"IFERROR($E274*SUMIF('Daily Log'!$E$18:$E$1017,$B274,'Daily Log'!$F$18:$F$1017),0)","v":0},{"$f":"IFERROR($E274*SUMIF('Daily Log'!$H$18:$H$1017,$B274,'Daily Log'!$I$18:$I$1017),0)","v":0},{"$f":"IFERROR($E274*SUMIF('Daily Log'!$K$18:$K$1017,$B274,'Daily Log'!$L$18:$L$1017),0)","v":0},{"$f":"IFERROR($E274*SUMIF('Daily Log'!$N$18:$N$1017,$B274,'Daily Log'!$O$18:$O$1017),0)","v":0},{"$f":"IFERROR($E274*SUMIF('Daily Log'!$Q$18:$Q$1017,$B274,'Daily Log'!$R$18:$R$1017),0)","v":0},{"$f":"IFERROR($E274*SUMIF('Daily Log'!$T$18:$T$1017,$B274,'Daily Log'!$U$18:$U$1017),0)","v":0},{"$f":"IFERROR($E274*SUMIF('Daily Log'!$W$18:$W$1017,$B274,'Daily Log'!$X$18:$X$1017),0)","v":0},{"$f":"IFERROR($E274*SUMIF('Daily Log'!$Z$18:$Z$1017,$B274,'Daily Log'!$AA$18:$AA$1017),0)","v":0},{"$f":"IFERROR($E274*SUMIF('Daily Log'!$AC$18:$AC$1017,$B274,'Daily Log'!$AD$18:$AD$1017),0)","v":0},{"$f":"IFERROR($E274*SUMIF('Daily Log'!$AF$18:$AF$1017,$B274,'Daily Log'!$AG$18:$AG$1017),0)","v":0},{"$f":"IFERROR($E274*SUMIF('Daily Log'!$AI$18:$AI$1017,$B274,'Daily Log'!$AJ$18:$AJ$1017),0)","v":0},{"$f":"IFERROR($E274*SUMIF('Daily Log'!$AL$18:$AL$1017,$B274,'Daily Log'!$AM$18:$AM$1017),0)","v":0},{"$f":"IFERROR($E274*SUMIF('Daily Log'!$AO$18:$AO$1017,$B274,'Daily Log'!$AP$18:$AP$1017),0)","v":0},{"$f":"IFERROR($E274*SUMIF('Daily Log'!$AR$18:$AR$1017,$B274,'Daily Log'!$AS$18:$AS$1017),0)","v":0},{"$f":"IFERROR($E274*SUMIF('Daily Log'!$AU$18:$AU$1017,$B274,'Daily Log'!$AV$18:$AV$1017),0)","v":0},{"$f":"IFERROR($E274*SUMIF('Daily Log'!$AX$18:$AX$1017,$B274,'Daily Log'!$AY$18:$AY$1017),0)","v":0},{"$f":"IFERROR($E274*SUMIF('Daily Log'!$BA$18:$BA$1017,$B274,'Daily Log'!$BB$18:$BB$1017),0)","v":0},{"$f":"IFERROR($E274*SUMIF('Daily Log'!$BD$18:$BD$1017,$B274,'Daily Log'!$BE$18:$BE$1017),0)","v":0},{"$f":"IFERROR($E274*SUMIF('Daily Log'!$BG$18:$BG$1017,$B274,'Daily Log'!$BH$18:$BH$1017),0)","v":0},{"$f":"IFERROR($E274*SUMIF('Daily Log'!$BJ$18:$BJ$1017,$B274,'Daily Log'!$BK$18:$BK$1017),0)","v":0},{"$f":"IFERROR($E274*SUMIF('Daily Log'!$BM$18:$BM$1017,$B274,'Daily Log'!$BN$18:$BN$1017),0)","v":0},{"$f":"IFERROR($E274*SUMIF('Daily Log'!$BP$18:$BP$1017,$B274,'Daily Log'!$BQ$18:$BQ$1017),0)","v":0},{"$f":"IFERROR($E274*SUMIF('Daily Log'!$BS$18:$BS$1017,$B274,'Daily Log'!$BT$18:$BT$1017),0)","v":0},{"$f":"IFERROR($E274*SUMIF('Daily Log'!$BV$18:$BV$1017,$B274,'Daily Log'!$BW$18:$BW$1017),0)","v":0},{"$f":"IFERROR($E274*SUMIF('Daily Log'!$BY$18:$BY$1017,$B274,'Daily Log'!$BZ$18:$BZ$1017),0)","v":0},{"$f":"IFERROR($E274*SUMIF('Daily Log'!$CB$18:$CB$1017,$B274,'Daily Log'!$CC$18:$CC$1017),0)","v":0},{"$f":"IFERROR($E274*SUMIF('Daily Log'!$CE$18:$CE$1017,$B274,'Daily Log'!$CF$18:$CF$1017),0)","v":0},{"$f":"IFERROR($E274*SUMIF('Daily Log'!$CH$18:$CH$1017,$B274,'Daily Log'!$CI$18:$CI$1017),0)","v":0},{"$f":"IFERROR($E274*SUMIF('Daily Log'!$CK$18:$CK$1017,$B274,'Daily Log'!$CL$18:$CL$1017),0)","v":0},{"$f":"IFERROR($E274*SUMIF('Daily Log'!$CN$18:$CN$1017,$B274,'Daily Log'!$CO$18:$CO$1017),0)","v":7}]
[null,"PC07 80022:ABALO SLC",null,"LOK LOK",1,9,{"$f":"IFERROR($E275*SUMIF('Daily Log'!$B$18:$B$1017,$B275,'Daily Log'!$C$18:$C$1017),0)","v":0},{"$f":"IFERROR($E275*SUMIF('Daily Log'!$E$18:$E$1017,$B275,'Daily Log'!$F$18:$F$1017),0)","v":0},{"$f":"IFERROR($E275*SUMIF('Daily Log'!$H$18:$H$1017,$B275,'Daily Log'!$I$18:$I$1017),0)","v":0},{"$f":"IFERROR($E275*SUMIF('Daily Log'!$K$18:$K$1017,$B275,'Daily Log'!$L$18:$L$1017),0)","v":0},{"$f":"IFERROR($E275*SUMIF('Daily Log'!$N$18:$N$1017,$B275,'Daily Log'!$O$18:$O$1017),0)","v":0},{"$f":"IFERROR($E275*SUMIF('Daily Log'!$Q$18:$Q$1017,$B275,'Daily Log'!$R$18:$R$1017),0)","v":0},{"$f":"IFERROR($E275*SUMIF('Daily Log'!$T$18:$T$1017,$B275,'Daily Log'!$U$18:$U$1017),0)","v":0},{"$f":"IFERROR($E275*SUMIF('Daily Log'!$W$18:$W$1017,$B275,'Daily Log'!$X$18:$X$1017),0)","v":0},{"$f":"IFERROR($E275*SUMIF('Daily Log'!$Z$18:$Z$1017,$B275,'Daily Log'!$AA$18:$AA$1017),0)","v":0},{"$f":"IFERROR($E275*SUMIF('Daily Log'!$AC$18:$AC$1017,$B275,'Daily Log'!$AD$18:$AD$1017),0)","v":0},{"$f":"IFERROR($E275*SUMIF('Daily Log'!$AF$18:$AF$1017,$B275,'Daily Log'!$AG$18:$AG$1017),0)","v":0},{"$f":"IFERROR($E275*SUMIF('Daily Log'!$AI$18:$AI$1017,$B275,'Daily Log'!$AJ$18:$AJ$1017),0)","v":0},{"$f":"IFERROR($E275*SUMIF('Daily Log'!$AL$18:$AL$1017,$B275,'Daily Log'!$AM$18:$AM$1017),0)","v":0},{"$f":"IFERROR($E275*SUMIF('Daily Log'!$AO$18:$AO$1017,$B275,'Daily Log'!$AP$18:$AP$1017),0)","v":0},{"$f":"IFERROR($E275*SUMIF('Daily Log'!$AR$18:$AR$1017,$B275,'Daily Log'!$AS$18:$AS$1017),0)","v":0},{"$f":"IFERROR($E275*SUMIF('Daily Log'!$AU$18:$AU$1017,$B275,'Daily Log'!$AV$18:$AV$1017),0)","v":0},{"$f":"IFERROR($E275*SUMIF('Daily Log'!$AX$18:$AX$1017,$B275,'Daily Log'!$AY$18:$AY$1017),0)","v":0},{"$f":"IFERROR($E275*SUMIF('Daily Log'!$BA$18:$BA$1017,$B275,'Daily Log'!$BB$18:$BB$1017),0)","v":0},{"$f":"IFERROR($E275*SUMIF('Daily Log'!$BD$18:$BD$1017,$B275,'Daily Log'!$BE$18:$BE$1017),0)","v":0},{"$f":"IFERROR($E275*SUMIF('Daily Log'!$BG$18:$BG$1017,$B275,'Daily Log'!$BH$18:$BH$1017),0)","v":0},{"$f":"IFERROR($E275*SUMIF('Daily Log'!$BJ$18:$BJ$1017,$B275,'Daily Log'!$BK$18:$BK$1017),0)","v":0},{"$f":"IFERROR($E275*SUMIF('Daily Log'!$BM$18:$BM$1017,$B275,'Daily Log'!$BN$18:$BN$1017),0)","v":0},{"$f":"IFERROR($E275*SUMIF('Daily Log'!$BP$18:$BP$1017,$B275,'Daily Log'!$BQ$18:$BQ$1017),0)","v":0},{"$f":"IFERROR($E275*SUMIF('Daily Log'!$BS$18:$BS$1017,$B275,'Daily Log'!$BT$18:$BT$1017),0)","v":0},{"$f":"IFERROR($E275*SUMIF('Daily Log'!$BV$18:$BV$1017,$B275,'Daily Log'!$BW$18:$BW$1017),0)","v":0},{"$f":"IFERROR($E275*SUMIF('Daily Log'!$BY$18:$BY$1017,$B275,'Daily Log'!$BZ$18:$BZ$1017),0)","v":0},{"$f":"IFERROR($E275*SUMIF('Daily Log'!$CB$18:$CB$1017,$B275,'Daily Log'!$CC$18:$CC$1017),0)","v":0},{"$f":"IFERROR($E275*SUMIF('Daily Log'!$CE$18:$CE$1017,$B275,'Daily Log'!$CF$18:$CF$1017),0)","v":0},{"$f":"IFERROR($E275*SUMIF('Daily Log'!$CH$18:$CH$1017,$B275,'Daily Log'!$CI$18:$CI$1017),0)","v":0},{"$f":"IFERROR($E275*SUMIF('Daily Log'!$CK$18:$CK$1017,$B275,'Daily Log'!$CL$18:$CL$1017),0)","v":0},{"$f":"IFERROR($E275*SUMIF('Daily Log'!$CN$18:$CN$1017,$B275,'Daily Log'!$CO$18:$CO$1017),0)","v":9}]
[null,"PC08 80023:FSH BAL B",null,"LOK LOK",1,16,{"$f":"IFERROR($E276*SUMIF('Daily Log'!$B$18:$B$1017,$B276,'Daily Log'!$C$18:$C$1017),0)","v":0},{"$f":"IFERROR($E276*SUMIF('Daily Log'!$E$18:$E$1017,$B276,'Daily Log'!$F$18:$F$1017),0)","v":0},{"$f":"IFERROR($E276*SUMIF('Daily Log'!$H$18:$H$1017,$B276,'Daily Log'!$I$18:$I$1017),0)","v":0},{"$f":"IFERROR($E276*SUMIF('Daily Log'!$K$18:$K$1017,$B276,'Daily Log'!$L$18:$L$1017),0)","v":0},{"$f":"IFERROR($E276*SUMIF('Daily Log'!$N$18:$N$1017,$B276,'Daily Log'!$O$18:$O$1017),0)","v":0},{"$f":"IFERROR($E276*SUMIF('Daily Log'!$Q$18:$Q$1017,$B276,'Daily Log'!$R$18:$R$1017),0)","v":0},{"$f":"IFERROR($E276*SUMIF('Daily Log'!$T$18:$T$1017,$B276,'Daily Log'!$U$18:$U$1017),0)","v":0},{"$f":"IFERROR($E276*SUMIF('Daily Log'!$W$18:$W$1017,$B276,'Daily Log'!$X$18:$X$1017),0)","v":0},{"$f":"IFERROR($E276*SUMIF('Daily Log'!$Z$18:$Z$1017,$B276,'Daily Log'!$AA$18:$AA$1017),0)","v":0},{"$f":"IFERROR($E276*SUMIF('Daily Log'!$AC$18:$AC$1017,$B276,'Daily Log'!$AD$18:$AD$1017),0)","v":0},{"$f":"IFERROR($E276*SUMIF('Daily Log'!$AF$18:$AF$1017,$B276,'Daily Log'!$AG$18:$AG$1017),0)","v":0},{"$f":"IFERROR($E276*SUMIF('Daily Log'!$AI$18:$AI$1017,$B276,'Daily Log'!$AJ$18:$AJ$1017),0)","v":0},{"$f":"IFERROR($E276*SUMIF('Daily Log'!$AL$18:$AL$1017,$B276,'Daily Log'!$AM$18:$AM$1017),0)","v":0},{"$f":"IFERROR($E276*SUMIF('Daily Log'!$AO$18:$AO$1017,$B276,'Daily Log'!$AP$18:$AP$1017),0)","v":0},{"$f":"IFERROR($E276*SUMIF('Daily Log'!$AR$18:$AR$1017,$B276,'Daily Log'!$AS$18:$AS$1017),0)","v":0},{"$f":"IFERROR($E276*SUMIF('Daily Log'!$AU$18:$AU$1017,$B276,'Daily Log'!$AV$18:$AV$1017),0)","v":0},{"$f":"IFERROR($E276*SUMIF('Daily Log'!$AX$18:$AX$1017,$B276,'Daily Log'!$AY$18:$AY$1017),0)","v":0},{"$f":"IFERROR($E276*SUMIF('Daily Log'!$BA$18:$BA$1017,$B276,'Daily Log'!$BB$18:$BB$1017),0)","v":0},{"$f":"IFERROR($E276*SUMIF('Daily Log'!$BD$18:$BD$1017,$B276,'Daily Log'!$BE$18:$BE$1017),0)","v":0},{"$f":"IFERROR($E276*SUMIF('Daily Log'!$BG$18:$BG$1017,$B276,'Daily Log'!$BH$18:$BH$1017),0)","v":0},{"$f":"IFERROR($E276*SUMIF('Daily Log'!$BJ$18:$BJ$1017,$B276,'Daily Log'!$BK$18:$BK$1017),0)","v":0},{"$f":"IFERROR($E276*SUMIF('Daily Log'!$BM$18:$BM$1017,$B276,'Daily Log'!$BN$18:$BN$1017),0)","v":0},{"$f":"IFERROR($E276*SUMIF('Daily Log'!$BP$18:$BP$1017,$B276,'Daily Log'!$BQ$18:$BQ$1017),0)","v":0},{"$f":"IFERROR($E276*SUMIF('Daily Log'!$BS$18:$BS$1017,$B276,'Daily Log'!$BT$18:$BT$1017),0)","v":0},{"$f":"IFERROR($E276*SUMIF('Daily Log'!$BV$18:$BV$1017,$B276,'Daily Log'!$BW$18:$BW$1017),0)","v":0},{"$f":"IFERROR($E276*SUMIF('Daily Log'!$BY$18:$BY$1017,$B276,'Daily Log'!$BZ$18:$BZ$1017),0)","v":0},{"$f":"IFERROR($E276*SUMIF('Daily Log'!$CB$18:$CB$1017,$B276,'Daily Log'!$CC$18:$CC$1017),0)","v":0},{"$f":"IFERROR($E276*SUMIF('Daily Log'!$CE$18:$CE$1017,$B276,'Daily Log'!$CF$18:$CF$1017),0)","v":0},{"$f":"IFERROR($E276*SUMIF('Daily Log'!$CH$18:$CH$1017,$B276,'Daily Log'!$CI$18:$CI$1017),0)","v":0},{"$f":"IFERROR($E276*SUMIF('Daily Log'!$CK$18:$CK$1017,$B276,'Daily Log'!$CL$18:$CL$1017),0)","v":0},{"$f":"IFERROR($E276*SUMIF('Daily Log'!$CN$18:$CN$1017,$B276,'Daily Log'!$CO$18:$CO$1017),0)","v":16}]
[null,"PC09 80024:TPURA PRW",null,"LOK LOK",1,20,{"$f":"IFERROR($E277*SUMIF('Daily Log'!$B$18:$B$1017,$B277,'Daily Log'!$C$18:$C$1017),0)","v":0},{"$f":"IFERROR($E277*SUMIF('Daily Log'!$E$18:$E$1017,$B277,'Daily Log'!$F$18:$F$1017),0)","v":0},{"$f":"IFERROR($E277*SUMIF('Daily Log'!$H$18:$H$1017,$B277,'Daily Log'!$I$18:$I$1017),0)","v":0},{"$f":"IFERROR($E277*SUMIF('Daily Log'!$K$18:$K$1017,$B277,'Daily Log'!$L$18:$L$1017),0)","v":0},{"$f":"IFERROR($E277*SUMIF('Daily Log'!$N$18:$N$1017,$B277,'Daily Log'!$O$18:$O$1017),0)","v":0},{"$f":"IFERROR($E277*SUMIF('Daily Log'!$Q$18:$Q$1017,$B277,'Daily Log'!$R$18:$R$1017),0)","v":0},{"$f":"IFERROR($E277*SUMIF('Daily Log'!$T$18:$T$1017,$B277,'Daily Log'!$U$18:$U$1017),0)","v":0},{"$f":"IFERROR($E277*SUMIF('Daily Log'!$W$18:$W$1017,$B277,'Daily Log'!$X$18:$X$1017),0)","v":0},{"$f":"IFERROR($E277*SUMIF('Daily Log'!$Z$18:$Z$1017,$B277,'Daily Log'!$AA$18:$AA$1017),0)","v":0},{"$f":"IFERROR($E277*SUMIF('Daily Log'!$AC$18:$AC$1017,$B277,'Daily Log'!$AD$18:$AD$1017),0)","v":0},{"$f":"IFERROR($E277*SUMIF('Daily Log'!$AF$18:$AF$1017,$B277,'Daily Log'!$AG$18:$AG$1017),0)","v":0},{"$f":"IFERROR($E277*SUMIF('Daily Log'!$AI$18:$AI$1017,$B277,'Daily Log'!$AJ$18:$AJ$1017),0)","v":0},{"$f":"IFERROR($E277*SUMIF('Daily Log'!$AL$18:$AL$1017,$B277,'Daily Log'!$AM$18:$AM$1017),0)","v":0},{"$f":"IFERROR($E277*SUMIF('Daily Log'!$AO$18:$AO$1017,$B277,'Daily Log'!$AP$18:$AP$1017),0)","v":0},{"$f":"IFERROR($E277*SUMIF('Daily Log'!$AR$18:$AR$1017,$B277,'Daily Log'!$AS$18:$AS$1017),0)","v":0},{"$f":"IFERROR($E277*SUMIF('Daily Log'!$AU$18:$AU$1017,$B277,'Daily Log'!$AV$18:$AV$1017),0)","v":0},{"$f":"IFERROR($E277*SUMIF('Daily Log'!$AX$18:$AX$1017,$B277,'Daily Log'!$AY$18:$AY$1017),0)","v":0},{"$f":"IFERROR($E277*SUMIF('Daily Log'!$BA$18:$BA$1017,$B277,'Daily Log'!$BB$18:$BB$1017),0)","v":0},{"$f":"IFERROR($E277*SUMIF('Daily Log'!$BD$18:$BD$1017,$B277,'Daily Log'!$BE$18:$BE$1017),0)","v":0},{"$f":"IFERROR($E277*SUMIF('Daily Log'!$BG$18:$BG$1017,$B277,'Daily Log'!$BH$18:$BH$1017),0)","v":0},{"$f":"IFERROR($E277*SUMIF('Daily Log'!$BJ$18:$BJ$1017,$B277,'Daily Log'!$BK$18:$BK$1017),0)","v":0},{"$f":"IFERROR($E277*SUMIF('Daily Log'!$BM$18:$BM$1017,$B277,'Daily Log'!$BN$18:$BN$1017),0)","v":0},{"$f":"IFERROR($E277*SUMIF('Daily Log'!$BP$18:$BP$1017,$B277,'Daily Log'!$BQ$18:$BQ$1017),0)","v":0},{"$f":"IFERROR($E277*SUMIF('Daily Log'!$BS$18:$BS$1017,$B277,'Daily Log'!$BT$18:$BT$1017),0)","v":0},{"$f":"IFERROR($E277*SUMIF('Daily Log'!$BV$18:$BV$1017,$B277,'Daily Log'!$BW$18:$BW$1017),0)","v":0},{"$f":"IFERROR($E277*SUMIF('Daily Log'!$BY$18:$BY$1017,$B277,'Daily Log'!$BZ$18:$BZ$1017),0)","v":0},{"$f":"IFERROR($E277*SUMIF('Daily Log'!$CB$18:$CB$1017,$B277,'Daily Log'!$CC$18:$CC$1017),0)","v":0},{"$f":"IFERROR($E277*SUMIF('Daily Log'!$CE$18:$CE$1017,$B277,'Daily Log'!$CF$18:$CF$1017),0)","v":0},{"$f":"IFERROR($E277*SUMIF('Daily Log'!$CH$18:$CH$1017,$B277,'Daily Log'!$CI$18:$CI$1017),0)","v":0},{"$f":"IFERROR($E277*SUMIF('Daily Log'!$CK$18:$CK$1017,$B277,'Daily Log'!$CL$18:$CL$1017),0)","v":0},{"$f":"IFERROR($E277*SUMIF('Daily Log'!$CN$18:$CN$1017,$B277,'Daily Log'!$CO$18:$CO$1017),0)","v":20}]
[null,"PC10 80025:CRB CLAW",null,"LOK LOK",1,5,{"$f":"IFERROR($E278*SUMIF('Daily Log'!$B$18:$B$1017,$B278,'Daily Log'!$C$18:$C$1017),0)","v":0},{"$f":"IFERROR($E278*SUMIF('Daily Log'!$E$18:$E$1017,$B278,'Daily Log'!$F$18:$F$1017),0)","v":0},{"$f":"IFERROR($E278*SUMIF('Daily Log'!$H$18:$H$1017,$B278,'Daily Log'!$I$18:$I$1017),0)","v":0},{"$f":"IFERROR($E278*SUMIF('Daily Log'!$K$18:$K$1017,$B278,'Daily Log'!$L$18:$L$1017),0)","v":0},{"$f":"IFERROR($E278*SUMIF('Daily Log'!$N$18:$N$1017,$B278,'Daily Log'!$O$18:$O$1017),0)","v":0},{"$f":"IFERROR($E278*SUMIF('Daily Log'!$Q$18:$Q$1017,$B278,'Daily Log'!$R$18:$R$1017),0)","v":0},{"$f":"IFERROR($E278*SUMIF('Daily Log'!$T$18:$T$1017,$B278,'Daily Log'!$U$18:$U$1017),0)","v":0},{"$f":"IFERROR($E278*SUMIF('Daily Log'!$W$18:$W$1017,$B278,'Daily Log'!$X$18:$X$1017),0)","v":0},{"$f":"IFERROR($E278*SUMIF('Daily Log'!$Z$18:$Z$1017,$B278,'Daily Log'!$AA$18:$AA$1017),0)","v":0},{"$f":"IFERROR($E278*SUMIF('Daily Log'!$AC$18:$AC$1017,$B278,'Daily Log'!$AD$18:$AD$1017),0)","v":0},{"$f":"IFERROR($E278*SUMIF('Daily Log'!$AF$18:$AF$1017,$B278,'Daily Log'!$AG$18:$AG$1017),0)","v":0},{"$f":"IFERROR($E278*SUMIF('Daily Log'!$AI$18:$AI$1017,$B278,'Daily Log'!$AJ$18:$AJ$1017),0)","v":0},{"$f":"IFERROR($E278*SUMIF('Daily Log'!$AL$18:$AL$1017,$B278,'Daily Log'!$AM$18:$AM$1017),0)","v":0},{"$f":"IFERROR($E278*SUMIF('Daily Log'!$AO$18:$AO$1017,$B278,'Daily Log'!$AP$18:$AP$1017),0)","v":0},{"$f":"IFERROR($E278*SUMIF('Daily Log'!$AR$18:$AR$1017,$B278,'Daily Log'!$AS$18:$AS$1017),0)","v":0},{"$f":"IFERROR($E278*SUMIF('Daily Log'!$AU$18:$AU$1017,$B278,'Daily Log'!$AV$18:$AV$1017),0)","v":0},{"$f":"IFERROR($E278*SUMIF('Daily Log'!$AX$18:$AX$1017,$B278,'Daily Log'!$AY$18:$AY$1017),0)","v":0},{"$f":"IFERROR($E278*SUMIF('Daily Log'!$BA$18:$BA$1017,$B278,'Daily Log'!$BB$18:$BB$1017),0)","v":0},{"$f":"IFERROR($E278*SUMIF('Daily Log'!$BD$18:$BD$1017,$B278,'Daily Log'!$BE$18:$BE$1017),0)","v":0},{"$f":"IFERROR($E278*SUMIF('Daily Log'!$BG$18:$BG$1017,$B278,'Daily Log'!$BH$18:$BH$1017),0)","v":0},{"$f":"IFERROR($E278*SUMIF('Daily Log'!$BJ$18:$BJ$1017,$B278,'Daily Log'!$BK$18:$BK$1017),0)","v":0},{"$f":"IFERROR($E278*SUMIF('Daily Log'!$BM$18:$BM$1017,$B278,'Daily Log'!$BN$18:$BN$1017),0)","v":0},{"$f":"IFERROR($E278*SUMIF('Daily Log'!$BP$18:$BP$1017,$B278,'Daily Log'!$BQ$18:$BQ$1017),0)","v":0},{"$f":"IFERROR($E278*SUMIF('Daily Log'!$BS$18:$BS$1017,$B278,'Daily Log'!$BT$18:$BT$1017),0)","v":0},{"$f":"IFERROR($E278*SUMIF('Daily Log'!$BV$18:$BV$1017,$B278,'Daily Log'!$BW$18:$BW$1017),0)","v":0},{"$f":"IFERROR($E278*SUMIF('Daily Log'!$BY$18:$BY$1017,$B278,'Daily Log'!$BZ$18:$BZ$1017),0)","v":0},{"$f":"IFERROR($E278*SUMIF('Daily Log'!$CB$18:$CB$1017,$B278,'Daily Log'!$CC$18:$CC$1017),0)","v":0},{"$f":"IFERROR($E278*SUMIF('Daily Log'!$CE$18:$CE$1017,$B278,'Daily Log'!$CF$18:$CF$1017),0)","v":0},{"$f":"IFERROR($E278*SUMIF('Daily Log'!$CH$18:$CH$1017,$B278,'Daily Log'!$CI$18:$CI$1017),0)","v":0},{"$f":"IFERROR($E278*SUMIF('Daily Log'!$CK$18:$CK$1017,$B278,'Daily Log'!$CL$18:$CL$1017),0)","v":0},{"$f":"IFERROR($E278*SUMIF('Daily Log'!$CN$18:$CN$1017,$B278,'Daily Log'!$CO$18:$CO$1017),0)","v":5}]
[null,"PC11 80026:SALMON BAL",null,"LOK LOK",1,27,{"$f":"IFERROR($E279*SUMIF('Daily Log'!$B$18:$B$1017,$B279,'Daily Log'!$C$18:$C$1017),0)","v":0},{"$f":"IFERROR($E279*SUMIF('Daily Log'!$E$18:$E$1017,$B279,'Daily Log'!$F$18:$F$1017),0)","v":0},{"$f":"IFERROR($E279*SUMIF('Daily Log'!$H$18:$H$1017,$B279,'Daily Log'!$I$18:$I$1017),0)","v":0},{"$f":"IFERROR($E279*SUMIF('Daily Log'!$K$18:$K$1017,$B279,'Daily Log'!$L$18:$L$1017),0)","v":0},{"$f":"IFERROR($E279*SUMIF('Daily Log'!$N$18:$N$1017,$B279,'Daily Log'!$O$18:$O$1017),0)","v":0},{"$f":"IFERROR($E279*SUMIF('Daily Log'!$Q$18:$Q$1017,$B279,'Daily Log'!$R$18:$R$1017),0)","v":0},{"$f":"IFERROR($E279*SUMIF('Daily Log'!$T$18:$T$1017,$B279,'Daily Log'!$U$18:$U$1017),0)","v":0},{"$f":"IFERROR($E279*SUMIF('Daily Log'!$W$18:$W$1017,$B279,'Daily Log'!$X$18:$X$1017),0)","v":0},{"$f":"IFERROR($E279*SUMIF('Daily Log'!$Z$18:$Z$1017,$B279,'Daily Log'!$AA$18:$AA$1017),0)","v":0},{"$f":"IFERROR($E279*SUMIF('Daily Log'!$AC$18:$AC$1017,$B279,'Daily Log'!$AD$18:$AD$1017),0)","v":0},{"$f":"IFERROR($E279*SUMIF('Daily Log'!$AF$18:$AF$1017,$B279,'Daily Log'!$AG$18:$AG$1017),0)","v":0},{"$f":"IFERROR($E279*SUMIF('Daily Log'!$AI$18:$AI$1017,$B279,'Daily Log'!$AJ$18:$AJ$1017),0)","v":0},{"$f":"IFERROR($E279*SUMIF('Daily Log'!$AL$18:$AL$1017,$B279,'Daily Log'!$AM$18:$AM$1017),0)","v":0},{"$f":"IFERROR($E279*SUMIF('Daily Log'!$AO$18:$AO$1017,$B279,'Daily Log'!$AP$18:$AP$1017),0)","v":0},{"$f":"IFERROR($E279*SUMIF('Daily Log'!$AR$18:$AR$1017,$B279,'Daily Log'!$AS$18:$AS$1017),0)","v":0},{"$f":"IFERROR($E279*SUMIF('Daily Log'!$AU$18:$AU$1017,$B279,'Daily Log'!$AV$18:$AV$1017),0)","v":0},{"$f":"IFERROR($E279*SUMIF('Daily Log'!$AX$18:$AX$1017,$B279,'Daily Log'!$AY$18:$AY$1017),0)","v":0},{"$f":"IFERROR($E279*SUMIF('Daily Log'!$BA$18:$BA$1017,$B279,'Daily Log'!$BB$18:$BB$1017),0)","v":0},{"$f":"IFERROR($E279*SUMIF('Daily Log'!$BD$18:$BD$1017,$B279,'Daily Log'!$BE$18:$BE$1017),0)","v":0},{"$f":"IFERROR($E279*SUMIF('Daily Log'!$BG$18:$BG$1017,$B279,'Daily Log'!$BH$18:$BH$1017),0)","v":0},{"$f":"IFERROR($E279*SUMIF('Daily Log'!$BJ$18:$BJ$1017,$B279,'Daily Log'!$BK$18:$BK$1017),0)","v":0},{"$f":"IFERROR($E279*SUMIF('Daily Log'!$BM$18:$BM$1017,$B279,'Daily Log'!$BN$18:$BN$1017),0)","v":0},{"$f":"IFERROR($E279*SUMIF('Daily Log'!$BP$18:$BP$1017,$B279,'Daily Log'!$BQ$18:$BQ$1017),0)","v":0},{"$f":"IFERROR($E279*SUMIF('Daily Log'!$BS$18:$BS$1017,$B279,'Daily Log'!$BT$18:$BT$1017),0)","v":0},{"$f":"IFERROR($E279*SUMIF('Daily Log'!$BV$18:$BV$1017,$B279,'Daily Log'!$BW$18:$BW$1017),0)","v":0},{"$f":"IFERROR($E279*SUMIF('Daily Log'!$BY$18:$BY$1017,$B279,'Daily Log'!$BZ$18:$BZ$1017),0)","v":0},{"$f":"IFERROR($E279*SUMIF('Daily Log'!$CB$18:$CB$1017,$B279,'Daily Log'!$CC$18:$CC$1017),0)","v":0},{"$f":"IFERROR($E279*SUMIF('Daily Log'!$CE$18:$CE$1017,$B279,'Daily Log'!$CF$18:$CF$1017),0)","v":0},{"$f":"IFERROR($E279*SUMIF('Daily Log'!$CH$18:$CH$1017,$B279,'Daily Log'!$CI$18:$CI$1017),0)","v":0},{"$f":"IFERROR($E279*SUMIF('Daily Log'!$CK$18:$CK$1017,$B279,'Daily Log'!$CL$18:$CL$1017),0)","v":0},{"$f":"IFERROR($E279*SUMIF('Daily Log'!$CN$18:$CN$1017,$B279,'Daily Log'!$CO$18:$CO$1017),0)","v":27}]
[null,"PC12 80027:FZ FSH BAL",null,"LOK LOK",1,9,{"$f":"IFERROR($E280*SUMIF('Daily Log'!$B$18:$B$1017,$B280,'Daily Log'!$C$18:$C$1017),0)","v":0},{"$f":"IFERROR($E280*SUMIF('Daily Log'!$E$18:$E$1017,$B280,'Daily Log'!$F$18:$F$1017),0)","v":0},{"$f":"IFERROR($E280*SUMIF('Daily Log'!$H$18:$H$1017,$B280,'Daily Log'!$I$18:$I$1017),0)","v":0},{"$f":"IFERROR($E280*SUMIF('Daily Log'!$K$18:$K$1017,$B280,'Daily Log'!$L$18:$L$1017),0)","v":0},{"$f":"IFERROR($E280*SUMIF('Daily Log'!$N$18:$N$1017,$B280,'Daily Log'!$O$18:$O$1017),0)","v":0},{"$f":"IFERROR($E280*SUMIF('Daily Log'!$Q$18:$Q$1017,$B280,'Daily Log'!$R$18:$R$1017),0)","v":0},{"$f":"IFERROR($E280*SUMIF('Daily Log'!$T$18:$T$1017,$B280,'Daily Log'!$U$18:$U$1017),0)","v":0},{"$f":"IFERROR($E280*SUMIF('Daily Log'!$W$18:$W$1017,$B280,'Daily Log'!$X$18:$X$1017),0)","v":0},{"$f":"IFERROR($E280*SUMIF('Daily Log'!$Z$18:$Z$1017,$B280,'Daily Log'!$AA$18:$AA$1017),0)","v":0},{"$f":"IFERROR($E280*SUMIF('Daily Log'!$AC$18:$AC$1017,$B280,'Daily Log'!$AD$18:$AD$1017),0)","v":0},{"$f":"IFERROR($E280*SUMIF('Daily Log'!$AF$18:$AF$1017,$B280,'Daily Log'!$AG$18:$AG$1017),0)","v":0},{"$f":"IFERROR($E280*SUMIF('Daily Log'!$AI$18:$AI$1017,$B280,'Daily Log'!$AJ$18:$AJ$1017),0)","v":0},{"$f":"IFERROR($E280*SUMIF('Daily Log'!$AL$18:$AL$1017,$B280,'Daily Log'!$AM$18:$AM$1017),0)","v":0},{"$f":"IFERROR($E280*SUMIF('Daily Log'!$AO$18:$AO$1017,$B280,'Daily Log'!$AP$18:$AP$1017),0)","v":0},{"$f":"IFERROR($E280*SUMIF('Daily Log'!$AR$18:$AR$1017,$B280,'Daily Log'!$AS$18:$AS$1017),0)","v":0},{"$f":"IFERROR($E280*SUMIF('Daily Log'!$AU$18:$AU$1017,$B280,'Daily Log'!$AV$18:$AV$1017),0)","v":0},{"$f":"IFERROR($E280*SUMIF('Daily Log'!$AX$18:$AX$1017,$B280,'Daily Log'!$AY$18:$AY$1017),0)","v":0},{"$f":"IFERROR($E280*SUMIF('Daily Log'!$BA$18:$BA$1017,$B280,'Daily Log'!$BB$18:$BB$1017),0)","v":0},{"$f":"IFERROR($E280*SUMIF('Daily Log'!$BD$18:$BD$1017,$B280,'Daily Log'!$BE$18:$BE$1017),0)","v":0},{"$f":"IFERROR($E280*SUMIF('Daily Log'!$BG$18:$BG$1017,$B280,'Daily Log'!$BH$18:$BH$1017),0)","v":0},{"$f":"IFERROR($E280*SUMIF('Daily Log'!$BJ$18:$BJ$1017,$B280,'Daily Log'!$BK$18:$BK$1017),0)","v":0},{"$f":"IFERROR($E280*SUMIF('Daily Log'!$BM$18:$BM$1017,$B280,'Daily Log'!$BN$18:$BN$1017),0)","v":0},{"$f":"IFERROR($E280*SUMIF('Daily Log'!$BP$18:$BP$1017,$B280,'Daily Log'!$BQ$18:$BQ$1017),0)","v":0},{"$f":"IFERROR($E280*SUMIF('Daily Log'!$BS$18:$BS$1017,$B280,'Daily Log'!$BT$18:$BT$1017),0)","v":0},{"$f":"IFERROR($E280*SUMIF('Daily Log'!$BV$18:$BV$1017,$B280,'Daily Log'!$BW$18:$BW$1017),0)","v":0},{"$f":"IFERROR($E280*SUMIF('Daily Log'!$BY$18:$BY$1017,$B280,'Daily Log'!$BZ$18:$BZ$1017),0)","v":0},{"$f":"IFERROR($E280*SUMIF('Daily Log'!$CB$18:$CB$1017,$B280,'Daily Log'!$CC$18:$CC$1017),0)","v":0},{"$f":"IFERROR($E280*SUMIF('Daily Log'!$CE$18:$CE$1017,$B280,'Daily Log'!$CF$18:$CF$1017),0)","v":0},{"$f":"IFERROR($E280*SUMIF('Daily Log'!$CH$18:$CH$1017,$B280,'Daily Log'!$CI$18:$CI$1017),0)","v":0},{"$f":"IFERROR($E280*SUMIF('Daily Log'!$CK$18:$CK$1017,$B280,'Daily Log'!$CL$18:$CL$1017),0)","v":0},{"$f":"IFERROR($E280*SUMIF('Daily Log'!$CN$18:$CN$1017,$B280,'Daily Log'!$CO$18:$CO$1017),0)","v":9}]
[null,"PC13 80028:SCLOP BAL",null,"LOK LOK",1,11,{"$f":"IFERROR($E281*SUMIF('Daily Log'!$B$18:$B$1017,$B281,'Daily Log'!$C$18:$C$1017),0)","v":0},{"$f":"IFERROR($E281*SUMIF('Daily Log'!$E$18:$E$1017,$B281,'Daily Log'!$F$18:$F$1017),0)","v":0},{"$f":"IFERROR($E281*SUMIF('Daily Log'!$H$18:$H$1017,$B281,'Daily Log'!$I$18:$I$1017),0)","v":0},{"$f":"IFERROR($E281*SUMIF('Daily Log'!$K$18:$K$1017,$B281,'Daily Log'!$L$18:$L$1017),0)","v":0},{"$f":"IFERROR($E281*SUMIF('Daily Log'!$N$18:$N$1017,$B281,'Daily Log'!$O$18:$O$1017),0)","v":0},{"$f":"IFERROR($E281*SUMIF('Daily Log'!$Q$18:$Q$1017,$B281,'Daily Log'!$R$18:$R$1017),0)","v":0},{"$f":"IFERROR($E281*SUMIF('Daily Log'!$T$18:$T$1017,$B281,'Daily Log'!$U$18:$U$1017),0)","v":0},{"$f":"IFERROR($E281*SUMIF('Daily Log'!$W$18:$W$1017,$B281,'Daily Log'!$X$18:$X$1017),0)","v":0},{"$f":"IFERROR($E281*SUMIF('Daily Log'!$Z$18:$Z$1017,$B281,'Daily Log'!$AA$18:$AA$1017),0)","v":0},{"$f":"IFERROR($E281*SUMIF('Daily Log'!$AC$18:$AC$1017,$B281,'Daily Log'!$AD$18:$AD$1017),0)","v":0},{"$f":"IFERROR($E281*SUMIF('Daily Log'!$AF$18:$AF$1017,$B281,'Daily Log'!$AG$18:$AG$1017),0)","v":0},{"$f":"IFERROR($E281*SUMIF('Daily Log'!$AI$18:$AI$1017,$B281,'Daily Log'!$AJ$18:$AJ$1017),0)","v":0},{"$f":"IFERROR($E281*SUMIF('Daily Log'!$AL$18:$AL$1017,$B281,'Daily Log'!$AM$18:$AM$1017),0)","v":0},{"$f":"IFERROR($E281*SUMIF('Daily Log'!$AO$18:$AO$1017,$B281,'Daily Log'!$AP$18:$AP$1017),0)","v":0},{"$f":"IFERROR($E281*SUMIF('Daily Log'!$AR$18:$AR$1017,$B281,'Daily Log'!$AS$18:$AS$1017),0)","v":0},{"$f":"IFERROR($E281*SUMIF('Daily Log'!$AU$18:$AU$1017,$B281,'Daily Log'!$AV$18:$AV$1017),0)","v":0},{"$f":"IFERROR($E281*SUMIF('Daily Log'!$AX$18:$AX$1017,$B281,'Daily Log'!$AY$18:$AY$1017),0)","v":0},{"$f":"IFERROR($E281*SUMIF('Daily Log'!$BA$18:$BA$1017,$B281,'Daily Log'!$BB$18:$BB$1017),0)","v":0},{"$f":"IFERROR($E281*SUMIF('Daily Log'!$BD$18:$BD$1017,$B281,'Daily Log'!$BE$18:$BE$1017),0)","v":0},{"$f":"IFERROR($E281*SUMIF('Daily Log'!$BG$18:$BG$1017,$B281,'Daily Log'!$BH$18:$BH$1017),0)","v":0},{"$f":"IFERROR($E281*SUMIF('Daily Log'!$BJ$18:$BJ$1017,$B281,'Daily Log'!$BK$18:$BK$1017),0)","v":0},{"$f":"IFERROR($E281*SUMIF('Daily Log'!$BM$18:$BM$1017,$B281,'Daily Log'!$BN$18:$BN$1017),0)","v":0},{"$f":"IFERROR($E281*SUMIF('Daily Log'!$BP$18:$BP$1017,$B281,'Daily Log'!$BQ$18:$BQ$1017),0)","v":0},{"$f":"IFERROR($E281*SUMIF('Daily Log'!$BS$18:$BS$1017,$B281,'Daily Log'!$BT$18:$BT$1017),0)","v":0},{"$f":"IFERROR($E281*SUMIF('Daily Log'!$BV$18:$BV$1017,$B281,'Daily Log'!$BW$18:$BW$1017),0)","v":0},{"$f":"IFERROR($E281*SUMIF('Daily Log'!$BY$18:$BY$1017,$B281,'Daily Log'!$BZ$18:$BZ$1017),0)","v":0},{"$f":"IFERROR($E281*SUMIF('Daily Log'!$CB$18:$CB$1017,$B281,'Daily Log'!$CC$18:$CC$1017),0)","v":0},{"$f":"IFERROR($E281*SUMIF('Daily Log'!$CE$18:$CE$1017,$B281,'Daily Log'!$CF$18:$CF$1017),0)","v":0},{"$f":"IFERROR($E281*SUMIF('Daily Log'!$CH$18:$CH$1017,$B281,'Daily Log'!$CI$18:$CI$1017),0)","v":0},{"$f":"IFERROR($E281*SUMIF('Daily Log'!$CK$18:$CK$1017,$B281,'Daily Log'!$CL$18:$CL$1017),0)","v":0},{"$f":"IFERROR($E281*SUMIF('Daily Log'!$CN$18:$CN$1017,$B281,'Daily Log'!$CO$18:$CO$1017),0)","v":11}]
[null,"PC14 80029:CFSH BAL",null,"LOK LOK",1,17,{"$f":"IFERROR($E282*SUMIF('Daily Log'!$B$18:$B$1017,$B282,'Daily Log'!$C$18:$C$1017),0)","v":0},{"$f":"IFERROR($E282*SUMIF('Daily Log'!$E$18:$E$1017,$B282,'Daily Log'!$F$18:$F$1017),0)","v":0},{"$f":"IFERROR($E282*SUMIF('Daily Log'!$H$18:$H$1017,$B282,'Daily Log'!$I$18:$I$1017),0)","v":0},{"$f":"IFERROR($E282*SUMIF('Daily Log'!$K$18:$K$1017,$B282,'Daily Log'!$L$18:$L$1017),0)","v":0},{"$f":"IFERROR($E282*SUMIF('Daily Log'!$N$18:$N$1017,$B282,'Daily Log'!$O$18:$O$1017),0)","v":0},{"$f":"IFERROR($E282*SUMIF('Daily Log'!$Q$18:$Q$1017,$B282,'Daily Log'!$R$18:$R$1017),0)","v":0},{"$f":"IFERROR($E282*SUMIF('Daily Log'!$T$18:$T$1017,$B282,'Daily Log'!$U$18:$U$1017),0)","v":0},{"$f":"IFERROR($E282*SUMIF('Daily Log'!$W$18:$W$1017,$B282,'Daily Log'!$X$18:$X$1017),0)","v":0},{"$f":"IFERROR($E282*SUMIF('Daily Log'!$Z$18:$Z$1017,$B282,'Daily Log'!$AA$18:$AA$1017),0)","v":0},{"$f":"IFERROR($E282*SUMIF('Daily Log'!$AC$18:$AC$1017,$B282,'Daily Log'!$AD$18:$AD$1017),0)","v":0},{"$f":"IFERROR($E282*SUMIF('Daily Log'!$AF$18:$AF$1017,$B282,'Daily Log'!$AG$18:$AG$1017),0)","v":0},{"$f":"IFERROR($E282*SUMIF('Daily Log'!$AI$18:$AI$1017,$B282,'Daily Log'!$AJ$18:$AJ$1017),0)","v":0},{"$f":"IFERROR($E282*SUMIF('Daily Log'!$AL$18:$AL$1017,$B282,'Daily Log'!$AM$18:$AM$1017),0)","v":0},{"$f":"IFERROR($E282*SUMIF('Daily Log'!$AO$18:$AO$1017,$B282,'Daily Log'!$AP$18:$AP$1017),0)","v":0},{"$f":"IFERROR($E282*SUMIF('Daily Log'!$AR$18:$AR$1017,$B282,'Daily Log'!$AS$18:$AS$1017),0)","v":0},{"$f":"IFERROR($E282*SUMIF('Daily Log'!$AU$18:$AU$1017,$B282,'Daily Log'!$AV$18:$AV$1017),0)","v":0},{"$f":"IFERROR($E282*SUMIF('Daily Log'!$AX$18:$AX$1017,$B282,'Daily Log'!$AY$18:$AY$1017),0)","v":0},{"$f":"IFERROR($E282*SUMIF('Daily Log'!$BA$18:$BA$1017,$B282,'Daily Log'!$BB$18:$BB$1017),0)","v":0},{"$f":"IFERROR($E282*SUMIF('Daily Log'!$BD$18:$BD$1017,$B282,'Daily Log'!$BE$18:$BE$1017),0)","v":0},{"$f":"IFERROR($E282*SUMIF('Daily Log'!$BG$18:$BG$1017,$B282,'Daily Log'!$BH$18:$BH$1017),0)","v":0},{"$f":"IFERROR($E282*SUMIF('Daily Log'!$BJ$18:$BJ$1017,$B282,'Daily Log'!$BK$18:$BK$1017),0)","v":0},{"$f":"IFERROR($E282*SUMIF('Daily Log'!$BM$18:$BM$1017,$B282,'Daily Log'!$BN$18:$BN$1017),0)","v":0},{"$f":"IFERROR($E282*SUMIF('Daily Log'!$BP$18:$BP$1017,$B282,'Daily Log'!$BQ$18:$BQ$1017),0)","v":0},{"$f":"IFERROR($E282*SUMIF('Daily Log'!$BS$18:$BS$1017,$B282,'Daily Log'!$BT$18:$BT$1017),0)","v":0},{"$f":"IFERROR($E282*SUMIF('Daily Log'!$BV$18:$BV$1017,$B282,'Daily Log'!$BW$18:$BW$1017),0)","v":0},{"$f":"IFERROR($E282*SUMIF('Daily Log'!$BY$18:$BY$1017,$B282,'Daily Log'!$BZ$18:$BZ$1017),0)","v":0},{"$f":"IFERROR($E282*SUMIF('Daily Log'!$CB$18:$CB$1017,$B282,'Daily Log'!$CC$18:$CC$1017),0)","v":0},{"$f":"IFERROR($E282*SUMIF('Daily Log'!$CE$18:$CE$1017,$B282,'Daily Log'!$CF$18:$CF$1017),0)","v":0},{"$f":"IFERROR($E282*SUMIF('Daily Log'!$CH$18:$CH$1017,$B282,'Daily Log'!$CI$18:$CI$1017),0)","v":0},{"$f":"IFERROR($E282*SUMIF('Daily Log'!$CK$18:$CK$1017,$B282,'Daily Log'!$CL$18:$CL$1017),0)","v":0},{"$f":"IFERROR($E282*SUMIF('Daily Log'!$CN$18:$CN$1017,$B282,'Daily Log'!$CO$18:$CO$1017),0)","v":17}]
[null,"PC15 80030:SF BAL",null,"LOK LOK",1,5,{"$f":"IFERROR($E283*SUMIF('Daily Log'!$B$18:$B$1017,$B283,'Daily Log'!$C$18:$C$1017),0)","v":0},{"$f":"IFERROR($E283*SUMIF('Daily Log'!$E$18:$E$1017,$B283,'Daily Log'!$F$18:$F$1017),0)","v":0},{"$f":"IFERROR($E283*SUMIF('Daily Log'!$H$18:$H$1017,$B283,'Daily Log'!$I$18:$I$1017),0)","v":0},{"$f":"IFERROR($E283*SUMIF('Daily Log'!$K$18:$K$1017,$B283,'Daily Log'!$L$18:$L$1017),0)","v":0},{"$f":"IFERROR($E283*SUMIF('Daily Log'!$N$18:$N$1017,$B283,'Daily Log'!$O$18:$O$1017),0)","v":0},{"$f":"IFERROR($E283*SUMIF('Daily Log'!$Q$18:$Q$1017,$B283,'Daily Log'!$R$18:$R$1017),0)","v":0},{"$f":"IFERROR($E283*SUMIF('Daily Log'!$T$18:$T$1017,$B283,'Daily Log'!$U$18:$U$1017),0)","v":0},{"$f":"IFERROR($E283*SUMIF('Daily Log'!$W$18:$W$1017,$B283,'Daily Log'!$X$18:$X$1017),0)","v":0},{"$f":"IFERROR($E283*SUMIF('Daily Log'!$Z$18:$Z$1017,$B283,'Daily Log'!$AA$18:$AA$1017),0)","v":0},{"$f":"IFERROR($E283*SUMIF('Daily Log'!$AC$18:$AC$1017,$B283,'Daily Log'!$AD$18:$AD$1017),0)","v":0},{"$f":"IFERROR($E283*SUMIF('Daily Log'!$AF$18:$AF$1017,$B283,'Daily Log'!$AG$18:$AG$1017),0)","v":0},{"$f":"IFERROR($E283*SUMIF('Daily Log'!$AI$18:$AI$1017,$B283,'Daily Log'!$AJ$18:$AJ$1017),0)","v":0},{"$f":"IFERROR($E283*SUMIF('Daily Log'!$AL$18:$AL$1017,$B283,'Daily Log'!$AM$18:$AM$1017),0)","v":0},{"$f":"IFERROR($E283*SUMIF('Daily Log'!$AO$18:$AO$1017,$B283,'Daily Log'!$AP$18:$AP$1017),0)","v":0},{"$f":"IFERROR($E283*SUMIF('Daily Log'!$AR$18:$AR$1017,$B283,'Daily Log'!$AS$18:$AS$1017),0)","v":0},{"$f":"IFERROR($E283*SUMIF('Daily Log'!$AU$18:$AU$1017,$B283,'Daily Log'!$AV$18:$AV$1017),0)","v":0},{"$f":"IFERROR($E283*SUMIF('Daily Log'!$AX$18:$AX$1017,$B283,'Daily Log'!$AY$18:$AY$1017),0)","v":0},{"$f":"IFERROR($E283*SUMIF('Daily Log'!$BA$18:$BA$1017,$B283,'Daily Log'!$BB$18:$BB$1017),0)","v":0},{"$f":"IFERROR($E283*SUMIF('Daily Log'!$BD$18:$BD$1017,$B283,'Daily Log'!$BE$18:$BE$1017),0)","v":0},{"$f":"IFERROR($E283*SUMIF('Daily Log'!$BG$18:$BG$1017,$B283,'Daily Log'!$BH$18:$BH$1017),0)","v":0},{"$f":"IFERROR($E283*SUMIF('Daily Log'!$BJ$18:$BJ$1017,$B283,'Daily Log'!$BK$18:$BK$1017),0)","v":0},{"$f":"IFERROR($E283*SUMIF('Daily Log'!$BM$18:$BM$1017,$B283,'Daily Log'!$BN$18:$BN$1017),0)","v":0},{"$f":"IFERROR($E283*SUMIF('Daily Log'!$BP$18:$BP$1017,$B283,'Daily Log'!$BQ$18:$BQ$1017),0)","v":0},{"$f":"IFERROR($E283*SUMIF('Daily Log'!$BS$18:$BS$1017,$B283,'Daily Log'!$BT$18:$BT$1017),0)","v":0},{"$f":"IFERROR($E283*SUMIF('Daily Log'!$BV$18:$BV$1017,$B283,'Daily Log'!$BW$18:$BW$1017),0)","v":0},{"$f":"IFERROR($E283*SUMIF('Daily Log'!$BY$18:$BY$1017,$B283,'Daily Log'!$BZ$18:$BZ$1017),0)","v":0},{"$f":"IFERROR($E283*SUMIF('Daily Log'!$CB$18:$CB$1017,$B283,'Daily Log'!$CC$18:$CC$1017),0)","v":0},{"$f":"IFERROR($E283*SUMIF('Daily Log'!$CE$18:$CE$1017,$B283,'Daily Log'!$CF$18:$CF$1017),0)","v":0},{"$f":"IFERROR($E283*SUMIF('Daily Log'!$CH$18:$CH$1017,$B283,'Daily Log'!$CI$18:$CI$1017),0)","v":0},{"$f":"IFERROR($E283*SUMIF('Daily Log'!$CK$18:$CK$1017,$B283,'Daily Log'!$CL$18:$CL$1017),0)","v":0},{"$f":"IFERROR($E283*SUMIF('Daily Log'!$CN$18:$CN$1017,$B283,'Daily Log'!$CO$18:$CO$1017),0)","v":5}]
[null,"PC16 80031:CTL FSH",null,"LOK LOK",1,7,{"$f":"IFERROR($E284*SUMIF('Daily Log'!$B$18:$B$1017,$B284,'Daily Log'!$C$18:$C$1017),0)","v":0},{"$f":"IFERROR($E284*SUMIF('Daily Log'!$E$18:$E$1017,$B284,'Daily Log'!$F$18:$F$1017),0)","v":0},{"$f":"IFERROR($E284*SUMIF('Daily Log'!$H$18:$H$1017,$B284,'Daily Log'!$I$18:$I$1017),0)","v":0},{"$f":"IFERROR($E284*SUMIF('Daily Log'!$K$18:$K$1017,$B284,'Daily Log'!$L$18:$L$1017),0)","v":0},{"$f":"IFERROR($E284*SUMIF('Daily Log'!$N$18:$N$1017,$B284,'Daily Log'!$O$18:$O$1017),0)","v":0},{"$f":"IFERROR($E284*SUMIF('Daily Log'!$Q$18:$Q$1017,$B284,'Daily Log'!$R$18:$R$1017),0)","v":0},{"$f":"IFERROR($E284*SUMIF('Daily Log'!$T$18:$T$1017,$B284,'Daily Log'!$U$18:$U$1017),0)","v":0},{"$f":"IFERROR($E284*SUMIF('Daily Log'!$W$18:$W$1017,$B284,'Daily Log'!$X$18:$X$1017),0)","v":0},{"$f":"IFERROR($E284*SUMIF('Daily Log'!$Z$18:$Z$1017,$B284,'Daily Log'!$AA$18:$AA$1017),0)","v":0},{"$f":"IFERROR($E284*SUMIF('Daily Log'!$AC$18:$AC$1017,$B284,'Daily Log'!$AD$18:$AD$1017),0)","v":0},{"$f":"IFERROR($E284*SUMIF('Daily Log'!$AF$18:$AF$1017,$B284,'Daily Log'!$AG$18:$AG$1017),0)","v":0},{"$f":"IFERROR($E284*SUMIF('Daily Log'!$AI$18:$AI$1017,$B284,'Daily Log'!$AJ$18:$AJ$1017),0)","v":0},{"$f":"IFERROR($E284*SUMIF('Daily Log'!$AL$18:$AL$1017,$B284,'Daily Log'!$AM$18:$AM$1017),0)","v":0},{"$f":"IFERROR($E284*SUMIF('Daily Log'!$AO$18:$AO$1017,$B284,'Daily Log'!$AP$18:$AP$1017),0)","v":0},{"$f":"IFERROR($E284*SUMIF('Daily Log'!$AR$18:$AR$1017,$B284,'Daily Log'!$AS$18:$AS$1017),0)","v":0},{"$f":"IFERROR($E284*SUMIF('Daily Log'!$AU$18:$AU$1017,$B284,'Daily Log'!$AV$18:$AV$1017),0)","v":0},{"$f":"IFERROR($E284*SUMIF('Daily Log'!$AX$18:$AX$1017,$B284,'Daily Log'!$AY$18:$AY$1017),0)","v":0},{"$f":"IFERROR($E284*SUMIF('Daily Log'!$BA$18:$BA$1017,$B284,'Daily Log'!$BB$18:$BB$1017),0)","v":0},{"$f":"IFERROR($E284*SUMIF('Daily Log'!$BD$18:$BD$1017,$B284,'Daily Log'!$BE$18:$BE$1017),0)","v":0},{"$f":"IFERROR($E284*SUMIF('Daily Log'!$BG$18:$BG$1017,$B284,'Daily Log'!$BH$18:$BH$1017),0)","v":0},{"$f":"IFERROR($E284*SUMIF('Daily Log'!$BJ$18:$BJ$1017,$B284,'Daily Log'!$BK$18:$BK$1017),0)","v":0},{"$f":"IFERROR($E284*SUMIF('Daily Log'!$BM$18:$BM$1017,$B284,'Daily Log'!$BN$18:$BN$1017),0)","v":0},{"$f":"IFERROR($E284*SUMIF('Daily Log'!$BP$18:$BP$1017,$B284,'Daily Log'!$BQ$18:$BQ$1017),0)","v":0},{"$f":"IFERROR($E284*SUMIF('Daily Log'!$BS$18:$BS$1017,$B284,'Daily Log'!$BT$18:$BT$1017),0)","v":0},{"$f":"IFERROR($E284*SUMIF('Daily Log'!$BV$18:$BV$1017,$B284,'Daily Log'!$BW$18:$BW$1017),0)","v":0},{"$f":"IFERROR($E284*SUMIF('Daily Log'!$BY$18:$BY$1017,$B284,'Daily Log'!$BZ$18:$BZ$1017),0)","v":0},{"$f":"IFERROR($E284*SUMIF('Daily Log'!$CB$18:$CB$1017,$B284,'Daily Log'!$CC$18:$CC$1017),0)","v":0},{"$f":"IFERROR($E284*SUMIF('Daily Log'!$CE$18:$CE$1017,$B284,'Daily Log'!$CF$18:$CF$1017),0)","v":0},{"$f":"IFERROR($E284*SUMIF('Daily Log'!$CH$18:$CH$1017,$B284,'Daily Log'!$CI$18:$CI$1017),0)","v":0},{"$f":"IFERROR($E284*SUMIF('Daily Log'!$CK$18:$CK$1017,$B284,'Daily Log'!$CL$18:$CL$1017),0)","v":0},{"$f":"IFERROR($E284*SUMIF('Daily Log'!$CN$18:$CN$1017,$B284,'Daily Log'!$CO$18:$CO$1017),0)","v":7}]
[null,"PB01 80010:BOTTON MR",null,"LOK LOK",1,20,{"$f":"IFERROR($E285*SUMIF('Daily Log'!$B$18:$B$1017,$B285,'Daily Log'!$C$18:$C$1017),0)","v":0},{"$f":"IFERROR($E285*SUMIF('Daily Log'!$E$18:$E$1017,$B285,'Daily Log'!$F$18:$F$1017),0)","v":0},{"$f":"IFERROR($E285*SUMIF('Daily Log'!$H$18:$H$1017,$B285,'Daily Log'!$I$18:$I$1017),0)","v":0},{"$f":"IFERROR($E285*SUMIF('Daily Log'!$K$18:$K$1017,$B285,'Daily Log'!$L$18:$L$1017),0)","v":0},{"$f":"IFERROR($E285*SUMIF('Daily Log'!$N$18:$N$1017,$B285,'Daily Log'!$O$18:$O$1017),0)","v":0},{"$f":"IFERROR($E285*SUMIF('Daily Log'!$Q$18:$Q$1017,$B285,'Daily Log'!$R$18:$R$1017),0)","v":0},{"$f":"IFERROR($E285*SUMIF('Daily Log'!$T$18:$T$1017,$B285,'Daily Log'!$U$18:$U$1017),0)","v":0},{"$f":"IFERROR($E285*SUMIF('Daily Log'!$W$18:$W$1017,$B285,'Daily Log'!$X$18:$X$1017),0)","v":0},{"$f":"IFERROR($E285*SUMIF('Daily Log'!$Z$18:$Z$1017,$B285,'Daily Log'!$AA$18:$AA$1017),0)","v":0},{"$f":"IFERROR($E285*SUMIF('Daily Log'!$AC$18:$AC$1017,$B285,'Daily Log'!$AD$18:$AD$1017),0)","v":0},{"$f":"IFERROR($E285*SUMIF('Daily Log'!$AF$18:$AF$1017,$B285,'Daily Log'!$AG$18:$AG$1017),0)","v":0},{"$f":"IFERROR($E285*SUMIF('Daily Log'!$AI$18:$AI$1017,$B285,'Daily Log'!$AJ$18:$AJ$1017),0)","v":0},{"$f":"IFERROR($E285*SUMIF('Daily Log'!$AL$18:$AL$1017,$B285,'Daily Log'!$AM$18:$AM$1017),0)","v":0},{"$f":"IFERROR($E285*SUMIF('Daily Log'!$AO$18:$AO$1017,$B285,'Daily Log'!$AP$18:$AP$1017),0)","v":0},{"$f":"IFERROR($E285*SUMIF('Daily Log'!$AR$18:$AR$1017,$B285,'Daily Log'!$AS$18:$AS$1017),0)","v":0},{"$f":"IFERROR($E285*SUMIF('Daily Log'!$AU$18:$AU$1017,$B285,'Daily Log'!$AV$18:$AV$1017),0)","v":0},{"$f":"IFERROR($E285*SUMIF('Daily Log'!$AX$18:$AX$1017,$B285,'Daily Log'!$AY$18:$AY$1017),0)","v":0},{"$f":"IFERROR($E285*SUMIF('Daily Log'!$BA$18:$BA$1017,$B285,'Daily Log'!$BB$18:$BB$1017),0)","v":0},{"$f":"IFERROR($E285*SUMIF('Daily Log'!$BD$18:$BD$1017,$B285,'Daily Log'!$BE$18:$BE$1017),0)","v":0},{"$f":"IFERROR($E285*SUMIF('Daily Log'!$BG$18:$BG$1017,$B285,'Daily Log'!$BH$18:$BH$1017),0)","v":0},{"$f":"IFERROR($E285*SUMIF('Daily Log'!$BJ$18:$BJ$1017,$B285,'Daily Log'!$BK$18:$BK$1017),0)","v":0},{"$f":"IFERROR($E285*SUMIF('Daily Log'!$BM$18:$BM$1017,$B285,'Daily Log'!$BN$18:$BN$1017),0)","v":0},{"$f":"IFERROR($E285*SUMIF('Daily Log'!$BP$18:$BP$1017,$B285,'Daily Log'!$BQ$18:$BQ$1017),0)","v":0},{"$f":"IFERROR($E285*SUMIF('Daily Log'!$BS$18:$BS$1017,$B285,'Daily Log'!$BT$18:$BT$1017),0)","v":0},{"$f":"IFERROR($E285*SUMIF('Daily Log'!$BV$18:$BV$1017,$B285,'Daily Log'!$BW$18:$BW$1017),0)","v":0},{"$f":"IFERROR($E285*SUMIF('Daily Log'!$BY$18:$BY$1017,$B285,'Daily Log'!$BZ$18:$BZ$1017),0)","v":0},{"$f":"IFERROR($E285*SUMIF('Daily Log'!$CB$18:$CB$1017,$B285,'Daily Log'!$CC$18:$CC$1017),0)","v":0},{"$f":"IFERROR($E285*SUMIF('Daily Log'!$CE$18:$CE$1017,$B285,'Daily Log'!$CF$18:$CF$1017),0)","v":0},{"$f":"IFERROR($E285*SUMIF('Daily Log'!$CH$18:$CH$1017,$B285,'Daily Log'!$CI$18:$CI$1017),0)","v":0},{"$f":"IFERROR($E285*SUMIF('Daily Log'!$CK$18:$CK$1017,$B285,'Daily Log'!$CL$18:$CL$1017),0)","v":0},{"$f":"IFERROR($E285*SUMIF('Daily Log'!$CN$18:$CN$1017,$B285,'Daily Log'!$CO$18:$CO$1017),0)","v":20}]
[null,"PB02 80011:KANG KONG",null,"LOK LOK",1,{"$f":"SUM($G286:$AK286)","v":22},{"$f":"IFERROR($E286*SUMIF('Daily Log'!$B$18:$B$1017,$B286,'Daily Log'!$C$18:$C$1017),0)","v":0},{"$f":"IFERROR($E286*SUMIF('Daily Log'!$E$18:$E$1017,$B286,'Daily Log'!$F$18:$F$1017),0)","v":0},{"$f":"IFERROR($E286*SUMIF('Daily Log'!$H$18:$H$1017,$B286,'Daily Log'!$I$18:$I$1017),0)","v":0},{"$f":"IFERROR($E286*SUMIF('Daily Log'!$K$18:$K$1017,$B286,'Daily Log'!$L$18:$L$1017),0)","v":0},{"$f":"IFERROR($E286*SUMIF('Daily Log'!$N$18:$N$1017,$B286,'Daily Log'!$O$18:$O$1017),0)","v":0},{"$f":"IFERROR($E286*SUMIF('Daily Log'!$Q$18:$Q$1017,$B286,'Daily Log'!$R$18:$R$1017),0)","v":0},{"$f":"IFERROR($E286*SUMIF('Daily Log'!$T$18:$T$1017,$B286,'Daily Log'!$U$18:$U$1017),0)","v":0},{"$f":"IFERROR($E286*SUMIF('Daily Log'!$W$18:$W$1017,$B286,'Daily Log'!$X$18:$X$1017),0)","v":0},{"$f":"IFERROR($E286*SUMIF('Daily Log'!$Z$18:$Z$1017,$B286,'Daily Log'!$AA$18:$AA$1017),0)","v":0},{"$f":"IFERROR($E286*SUMIF('Daily Log'!$AC$18:$AC$1017,$B286,'Daily Log'!$AD$18:$AD$1017),0)","v":0},{"$f":"IFERROR($E286*SUMIF('Daily Log'!$AF$18:$AF$1017,$B286,'Daily Log'!$AG$18:$AG$1017),0)","v":0},{"$f":"IFERROR($E286*SUMIF('Daily Log'!$AI$18:$AI$1017,$B286,'Daily Log'!$AJ$18:$AJ$1017),0)","v":0},{"$f":"IFERROR($E286*SUMIF('Daily Log'!$AL$18:$AL$1017,$B286,'Daily Log'!$AM$18:$AM$1017),0)","v":0},{"$f":"IFERROR($E286*SUMIF('Daily Log'!$AO$18:$AO$1017,$B286,'Daily Log'!$AP$18:$AP$1017),0)","v":0},{"$f":"IFERROR($E286*SUMIF('Daily Log'!$AR$18:$AR$1017,$B286,'Daily Log'!$AS$18:$AS$1017),0)","v":0},{"$f":"IFERROR($E286*SUMIF('Daily Log'!$AU$18:$AU$1017,$B286,'Daily Log'!$AV$18:$AV$1017),0)","v":0},{"$f":"IFERROR($E286*SUMIF('Daily Log'!$AX$18:$AX$1017,$B286,'Daily Log'!$AY$18:$AY$1017),0)","v":0},{"$f":"IFERROR($E286*SUMIF('Daily Log'!$BA$18:$BA$1017,$B286,'Daily Log'!$BB$18:$BB$1017),0)","v":0},{"$f":"IFERROR($E286*SUMIF('Daily Log'!$BD$18:$BD$1017,$B286,'Daily Log'!$BE$18:$BE$1017),0)","v":0},{"$f":"IFERROR($E286*SUMIF('Daily Log'!$BG$18:$BG$1017,$B286,'Daily Log'!$BH$18:$BH$1017),0)","v":0},{"$f":"IFERROR($E286*SUMIF('Daily Log'!$BJ$18:$BJ$1017,$B286,'Daily Log'!$BK$18:$BK$1017),0)","v":0},{"$f":"IFERROR($E286*SUMIF('Daily Log'!$BM$18:$BM$1017,$B286,'Daily Log'!$BN$18:$BN$1017),0)","v":0},{"$f":"IFERROR($E286*SUMIF('Daily Log'!$BP$18:$BP$1017,$B286,'Daily Log'!$BQ$18:$BQ$1017),0)","v":0},{"$f":"IFERROR($E286*SUMIF('Daily Log'!$BS$18:$BS$1017,$B286,'Daily Log'!$BT$18:$BT$1017),0)","v":0},{"$f":"IFERROR($E286*SUMIF('Daily Log'!$BV$18:$BV$1017,$B286,'Daily Log'!$BW$18:$BW$1017),0)","v":0},{"$f":"IFERROR($E286*SUMIF('Daily Log'!$BY$18:$BY$1017,$B286,'Daily Log'!$BZ$18:$BZ$1017),0)","v":0},{"$f":"IFERROR($E286*SUMIF('Daily Log'!$CB$18:$CB$1017,$B286,'Daily Log'!$CC$18:$CC$1017),0)","v":0},{"$f":"IFERROR($E286*SUMIF('Daily Log'!$CE$18:$CE$1017,$B286,'Daily Log'!$CF$18:$CF$1017),0)","v":0},{"$f":"IFERROR($E286*SUMIF('Daily Log'!$CH$18:$CH$1017,$B286,'Daily Log'!$CI$18:$CI$1017),0)","v":0},{"$f":"IFERROR($E286*SUMIF('Daily Log'!$CK$18:$CK$1017,$B286,'Daily Log'!$CL$18:$CL$1017),0)","v":0},{"$f":"IFERROR($E286*SUMIF('Daily Log'!$CN$18:$CN$1017,$B286,'Daily Log'!$CO$18:$CO$1017),0)","v":22}]
[null,"PB03 80012:BROCCOLI",null,"LOK LOK",1,37,{"$f":"IFERROR($E287*SUMIF('Daily Log'!$B$18:$B$1017,$B287,'Daily Log'!$C$18:$C$1017),0)","v":0},{"$f":"IFERROR($E287*SUMIF('Daily Log'!$E$18:$E$1017,$B287,'Daily Log'!$F$18:$F$1017),0)","v":0},{"$f":"IFERROR($E287*SUMIF('Daily Log'!$H$18:$H$1017,$B287,'Daily Log'!$I$18:$I$1017),0)","v":0},{"$f":"IFERROR($E287*SUMIF('Daily Log'!$K$18:$K$1017,$B287,'Daily Log'!$L$18:$L$1017),0)","v":0},{"$f":"IFERROR($E287*SUMIF('Daily Log'!$N$18:$N$1017,$B287,'Daily Log'!$O$18:$O$1017),0)","v":0},{"$f":"IFERROR($E287*SUMIF('Daily Log'!$Q$18:$Q$1017,$B287,'Daily Log'!$R$18:$R$1017),0)","v":0},{"$f":"IFERROR($E287*SUMIF('Daily Log'!$T$18:$T$1017,$B287,'Daily Log'!$U$18:$U$1017),0)","v":0},{"$f":"IFERROR($E287*SUMIF('Daily Log'!$W$18:$W$1017,$B287,'Daily Log'!$X$18:$X$1017),0)","v":0},{"$f":"IFERROR($E287*SUMIF('Daily Log'!$Z$18:$Z$1017,$B287,'Daily Log'!$AA$18:$AA$1017),0)","v":0},{"$f":"IFERROR($E287*SUMIF('Daily Log'!$AC$18:$AC$1017,$B287,'Daily Log'!$AD$18:$AD$1017),0)","v":0},{"$f":"IFERROR($E287*SUMIF('Daily Log'!$AF$18:$AF$1017,$B287,'Daily Log'!$AG$18:$AG$1017),0)","v":0},{"$f":"IFERROR($E287*SUMIF('Daily Log'!$AI$18:$AI$1017,$B287,'Daily Log'!$AJ$18:$AJ$1017),0)","v":0},{"$f":"IFERROR($E287*SUMIF('Daily Log'!$AL$18:$AL$1017,$B287,'Daily Log'!$AM$18:$AM$1017),0)","v":0},{"$f":"IFERROR($E287*SUMIF('Daily Log'!$AO$18:$AO$1017,$B287,'Daily Log'!$AP$18:$AP$1017),0)","v":0},{"$f":"IFERROR($E287*SUMIF('Daily Log'!$AR$18:$AR$1017,$B287,'Daily Log'!$AS$18:$AS$1017),0)","v":0},{"$f":"IFERROR($E287*SUMIF('Daily Log'!$AU$18:$AU$1017,$B287,'Daily Log'!$AV$18:$AV$1017),0)","v":0},{"$f":"IFERROR($E287*SUMIF('Daily Log'!$AX$18:$AX$1017,$B287,'Daily Log'!$AY$18:$AY$1017),0)","v":0},{"$f":"IFERROR($E287*SUMIF('Daily Log'!$BA$18:$BA$1017,$B287,'Daily Log'!$BB$18:$BB$1017),0)","v":0},{"$f":"IFERROR($E287*SUMIF('Daily Log'!$BD$18:$BD$1017,$B287,'Daily Log'!$BE$18:$BE$1017),0)","v":0},{"$f":"IFERROR($E287*SUMIF('Daily Log'!$BG$18:$BG$1017,$B287,'Daily Log'!$BH$18:$BH$1017),0)","v":0},{"$f":"IFERROR($E287*SUMIF('Daily Log'!$BJ$18:$BJ$1017,$B287,'Daily Log'!$BK$18:$BK$1017),0)","v":0},{"$f":"IFERROR($E287*SUMIF('Daily Log'!$BM$18:$BM$1017,$B287,'Daily Log'!$BN$18:$BN$1017),0)","v":0},{"$f":"IFERROR($E287*SUMIF('Daily Log'!$BP$18:$BP$1017,$B287,'Daily Log'!$BQ$18:$BQ$1017),0)","v":0},{"$f":"IFERROR($E287*SUMIF('Daily Log'!$BS$18:$BS$1017,$B287,'Daily Log'!$BT$18:$BT$1017),0)","v":0},{"$f":"IFERROR($E287*SUMIF('Daily Log'!$BV$18:$BV$1017,$B287,'Daily Log'!$BW$18:$BW$1017),0)","v":0},{"$f":"IFERROR($E287*SUMIF('Daily Log'!$BY$18:$BY$1017,$B287,'Daily Log'!$BZ$18:$BZ$1017),0)","v":0},{"$f":"IFERROR($E287*SUMIF('Daily Log'!$CB$18:$CB$1017,$B287,'Daily Log'!$CC$18:$CC$1017),0)","v":0},{"$f":"IFERROR($E287*SUMIF('Daily Log'!$CE$18:$CE$1017,$B287,'Daily Log'!$CF$18:$CF$1017),0)","v":0},{"$f":"IFERROR($E287*SUMIF('Daily Log'!$CH$18:$CH$1017,$B287,'Daily Log'!$CI$18:$CI$1017),0)","v":0},{"$f":"IFERROR($E287*SUMIF('Daily Log'!$CK$18:$CK$1017,$B287,'Daily Log'!$CL$18:$CL$1017),0)","v":0},{"$f":"IFERROR($E287*SUMIF('Daily Log'!$CN$18:$CN$1017,$B287,'Daily Log'!$CO$18:$CO$1017),0)","v":37}]
[null,"PB04 80013:LONG BEAN",null,"LOK LOK",1,9,{"$f":"IFERROR($E288*SUMIF('Daily Log'!$B$18:$B$1017,$B288,'Daily Log'!$C$18:$C$1017),0)","v":0},{"$f":"IFERROR($E288*SUMIF('Daily Log'!$E$18:$E$1017,$B288,'Daily Log'!$F$18:$F$1017),0)","v":0},{"$f":"IFERROR($E288*SUMIF('Daily Log'!$H$18:$H$1017,$B288,'Daily Log'!$I$18:$I$1017),0)","v":0},{"$f":"IFERROR($E288*SUMIF('Daily Log'!$K$18:$K$1017,$B288,'Daily Log'!$L$18:$L$1017),0)","v":0},{"$f":"IFERROR($E288*SUMIF('Daily Log'!$N$18:$N$1017,$B288,'Daily Log'!$O$18:$O$1017),0)","v":0},{"$f":"IFERROR($E288*SUMIF('Daily Log'!$Q$18:$Q$1017,$B288,'Daily Log'!$R$18:$R$1017),0)","v":0},{"$f":"IFERROR($E288*SUMIF('Daily Log'!$T$18:$T$1017,$B288,'Daily Log'!$U$18:$U$1017),0)","v":0},{"$f":"IFERROR($E288*SUMIF('Daily Log'!$W$18:$W$1017,$B288,'Daily Log'!$X$18:$X$1017),0)","v":0},{"$f":"IFERROR($E288*SUMIF('Daily Log'!$Z$18:$Z$1017,$B288,'Daily Log'!$AA$18:$AA$1017),0)","v":0},{"$f":"IFERROR($E288*SUMIF('Daily Log'!$AC$18:$AC$1017,$B288,'Daily Log'!$AD$18:$AD$1017),0)","v":0},{"$f":"IFERROR($E288*SUMIF('Daily Log'!$AF$18:$AF$1017,$B288,'Daily Log'!$AG$18:$AG$1017),0)","v":0},{"$f":"IFERROR($E288*SUMIF('Daily Log'!$AI$18:$AI$1017,$B288,'Daily Log'!$AJ$18:$AJ$1017),0)","v":0},{"$f":"IFERROR($E288*SUMIF('Daily Log'!$AL$18:$AL$1017,$B288,'Daily Log'!$AM$18:$AM$1017),0)","v":0},{"$f":"IFERROR($E288*SUMIF('Daily Log'!$AO$18:$AO$1017,$B288,'Daily Log'!$AP$18:$AP$1017),0)","v":0},{"$f":"IFERROR($E288*SUMIF('Daily Log'!$AR$18:$AR$1017,$B288,'Daily Log'!$AS$18:$AS$1017),0)","v":0},{"$f":"IFERROR($E288*SUMIF('Daily Log'!$AU$18:$AU$1017,$B288,'Daily Log'!$AV$18:$AV$1017),0)","v":0},{"$f":"IFERROR($E288*SUMIF('Daily Log'!$AX$18:$AX$1017,$B288,'Daily Log'!$AY$18:$AY$1017),0)","v":0},{"$f":"IFERROR($E288*SUMIF('Daily Log'!$BA$18:$BA$1017,$B288,'Daily Log'!$BB$18:$BB$1017),0)","v":0},{"$f":"IFERROR($E288*SUMIF('Daily Log'!$BD$18:$BD$1017,$B288,'Daily Log'!$BE$18:$BE$1017),0)","v":0},{"$f":"IFERROR($E288*SUMIF('Daily Log'!$BG$18:$BG$1017,$B288,'Daily Log'!$BH$18:$BH$1017),0)","v":0},{"$f":"IFERROR($E288*SUMIF('Daily Log'!$BJ$18:$BJ$1017,$B288,'Daily Log'!$BK$18:$BK$1017),0)","v":0},{"$f":"IFERROR($E288*SUMIF('Daily Log'!$BM$18:$BM$1017,$B288,'Daily Log'!$BN$18:$BN$1017),0)","v":0},{"$f":"IFERROR($E288*SUMIF('Daily Log'!$BP$18:$BP$1017,$B288,'Daily Log'!$BQ$18:$BQ$1017),0)","v":0},{"$f":"IFERROR($E288*SUMIF('Daily Log'!$BS$18:$BS$1017,$B288,'Daily Log'!$BT$18:$BT$1017),0)","v":0},{"$f":"IFERROR($E288*SUMIF('Daily Log'!$BV$18:$BV$1017,$B288,'Daily Log'!$BW$18:$BW$1017),0)","v":0},{"$f":"IFERROR($E288*SUMIF('Daily Log'!$BY$18:$BY$1017,$B288,'Daily Log'!$BZ$18:$BZ$1017),0)","v":0},{"$f":"IFERROR($E288*SUMIF('Daily Log'!$CB$18:$CB$1017,$B288,'Daily Log'!$CC$18:$CC$1017),0)","v":0},{"$f":"IFERROR($E288*SUMIF('Daily Log'!$CE$18:$CE$1017,$B288,'Daily Log'!$CF$18:$CF$1017),0)","v":0},{"$f":"IFERROR($E288*SUMIF('Daily Log'!$CH$18:$CH$1017,$B288,'Daily Log'!$CI$18:$CI$1017),0)","v":0},{"$f":"IFERROR($E288*SUMIF('Daily Log'!$CK$18:$CK$1017,$B288,'Daily Log'!$CL$18:$CL$1017),0)","v":0},{"$f":"IFERROR($E288*SUMIF('Daily Log'!$CN$18:$CN$1017,$B288,'Daily Log'!$CO$18:$CO$1017),0)","v":9}]
[null,"PB05 80014:ABALO MR",null,"LOK LOK",1,55,{"$f":"IFERROR($E289*SUMIF('Daily Log'!$B$18:$B$1017,$B289,'Daily Log'!$C$18:$C$1017),0)","v":0},{"$f":"IFERROR($E289*SUMIF('Daily Log'!$E$18:$E$1017,$B289,'Daily Log'!$F$18:$F$1017),0)","v":0},{"$f":"IFERROR($E289*SUMIF('Daily Log'!$H$18:$H$1017,$B289,'Daily Log'!$I$18:$I$1017),0)","v":0},{"$f":"IFERROR($E289*SUMIF('Daily Log'!$K$18:$K$1017,$B289,'Daily Log'!$L$18:$L$1017),0)","v":0},{"$f":"IFERROR($E289*SUMIF('Daily Log'!$N$18:$N$1017,$B289,'Daily Log'!$O$18:$O$1017),0)","v":0},{"$f":"IFERROR($E289*SUMIF('Daily Log'!$Q$18:$Q$1017,$B289,'Daily Log'!$R$18:$R$1017),0)","v":0},{"$f":"IFERROR($E289*SUMIF('Daily Log'!$T$18:$T$1017,$B289,'Daily Log'!$U$18:$U$1017),0)","v":0},{"$f":"IFERROR($E289*SUMIF('Daily Log'!$W$18:$W$1017,$B289,'Daily Log'!$X$18:$X$1017),0)","v":0},{"$f":"IFERROR($E289*SUMIF('Daily Log'!$Z$18:$Z$1017,$B289,'Daily Log'!$AA$18:$AA$1017),0)","v":0},{"$f":"IFERROR($E289*SUMIF('Daily Log'!$AC$18:$AC$1017,$B289,'Daily Log'!$AD$18:$AD$1017),0)","v":0},{"$f":"IFERROR($E289*SUMIF('Daily Log'!$AF$18:$AF$1017,$B289,'Daily Log'!$AG$18:$AG$1017),0)","v":0},{"$f":"IFERROR($E289*SUMIF('Daily Log'!$AI$18:$AI$1017,$B289,'Daily Log'!$AJ$18:$AJ$1017),0)","v":0},{"$f":"IFERROR($E289*SUMIF('Daily Log'!$AL$18:$AL$1017,$B289,'Daily Log'!$AM$18:$AM$1017),0)","v":0},{"$f":"IFERROR($E289*SUMIF('Daily Log'!$AO$18:$AO$1017,$B289,'Daily Log'!$AP$18:$AP$1017),0)","v":0},{"$f":"IFERROR($E289*SUMIF('Daily Log'!$AR$18:$AR$1017,$B289,'Daily Log'!$AS$18:$AS$1017),0)","v":0},{"$f":"IFERROR($E289*SUMIF('Daily Log'!$AU$18:$AU$1017,$B289,'Daily Log'!$AV$18:$AV$1017),0)","v":0},{"$f":"IFERROR($E289*SUMIF('Daily Log'!$AX$18:$AX$1017,$B289,'Daily Log'!$AY$18:$AY$1017),0)","v":0},{"$f":"IFERROR($E289*SUMIF('Daily Log'!$BA$18:$BA$1017,$B289,'Daily Log'!$BB$18:$BB$1017),0)","v":0},{"$f":"IFERROR($E289*SUMIF('Daily Log'!$BD$18:$BD$1017,$B289,'Daily Log'!$BE$18:$BE$1017),0)","v":0},{"$f":"IFERROR($E289*SUMIF('Daily Log'!$BG$18:$BG$1017,$B289,'Daily Log'!$BH$18:$BH$1017),0)","v":0},{"$f":"IFERROR($E289*SUMIF('Daily Log'!$BJ$18:$BJ$1017,$B289,'Daily Log'!$BK$18:$BK$1017),0)","v":0},{"$f":"IFERROR($E289*SUMIF('Daily Log'!$BM$18:$BM$1017,$B289,'Daily Log'!$BN$18:$BN$1017),0)","v":0},{"$f":"IFERROR($E289*SUMIF('Daily Log'!$BP$18:$BP$1017,$B289,'Daily Log'!$BQ$18:$BQ$1017),0)","v":0},{"$f":"IFERROR($E289*SUMIF('Daily Log'!$BS$18:$BS$1017,$B289,'Daily Log'!$BT$18:$BT$1017),0)","v":0},{"$f":"IFERROR($E289*SUMIF('Daily Log'!$BV$18:$BV$1017,$B289,'Daily Log'!$BW$18:$BW$1017),0)","v":0},{"$f":"IFERROR($E289*SUMIF('Daily Log'!$BY$18:$BY$1017,$B289,'Daily Log'!$BZ$18:$BZ$1017),0)","v":0},{"$f":"IFERROR($E289*SUMIF('Daily Log'!$CB$18:$CB$1017,$B289,'Daily Log'!$CC$18:$CC$1017),0)","v":0},{"$f":"IFERROR($E289*SUMIF('Daily Log'!$CE$18:$CE$1017,$B289,'Daily Log'!$CF$18:$CF$1017),0)","v":0},{"$f":"IFERROR($E289*SUMIF('Daily Log'!$CH$18:$CH$1017,$B289,'Daily Log'!$CI$18:$CI$1017),0)","v":0},{"$f":"IFERROR($E289*SUMIF('Daily Log'!$CK$18:$CK$1017,$B289,'Daily Log'!$CL$18:$CL$1017),0)","v":0},{"$f":"IFERROR($E289*SUMIF('Daily Log'!$CN$18:$CN$1017,$B289,'Daily Log'!$CO$18:$CO$1017),0)","v":55}]
[null,"PB06 80015:STAKE MR",null,"LOK LOK",1,18,{"$f":"IFERROR($E290*SUMIF('Daily Log'!$B$18:$B$1017,$B290,'Daily Log'!$C$18:$C$1017),0)","v":0},{"$f":"IFERROR($E290*SUMIF('Daily Log'!$E$18:$E$1017,$B290,'Daily Log'!$F$18:$F$1017),0)","v":0},{"$f":"IFERROR($E290*SUMIF('Daily Log'!$H$18:$H$1017,$B290,'Daily Log'!$I$18:$I$1017),0)","v":0},{"$f":"IFERROR($E290*SUMIF('Daily Log'!$K$18:$K$1017,$B290,'Daily Log'!$L$18:$L$1017),0)","v":0},{"$f":"IFERROR($E290*SUMIF('Daily Log'!$N$18:$N$1017,$B290,'Daily Log'!$O$18:$O$1017),0)","v":0},{"$f":"IFERROR($E290*SUMIF('Daily Log'!$Q$18:$Q$1017,$B290,'Daily Log'!$R$18:$R$1017),0)","v":0},{"$f":"IFERROR($E290*SUMIF('Daily Log'!$T$18:$T$1017,$B290,'Daily Log'!$U$18:$U$1017),0)","v":0},{"$f":"IFERROR($E290*SUMIF('Daily Log'!$W$18:$W$1017,$B290,'Daily Log'!$X$18:$X$1017),0)","v":0},{"$f":"IFERROR($E290*SUMIF('Daily Log'!$Z$18:$Z$1017,$B290,'Daily Log'!$AA$18:$AA$1017),0)","v":0},{"$f":"IFERROR($E290*SUMIF('Daily Log'!$AC$18:$AC$1017,$B290,'Daily Log'!$AD$18:$AD$1017),0)","v":0},{"$f":"IFERROR($E290*SUMIF('Daily Log'!$AF$18:$AF$1017,$B290,'Daily Log'!$AG$18:$AG$1017),0)","v":0},{"$f":"IFERROR($E290*SUMIF('Daily Log'!$AI$18:$AI$1017,$B290,'Daily Log'!$AJ$18:$AJ$1017),0)","v":0},{"$f":"IFERROR($E290*SUMIF('Daily Log'!$AL$18:$AL$1017,$B290,'Daily Log'!$AM$18:$AM$1017),0)","v":0},{"$f":"IFERROR($E290*SUMIF('Daily Log'!$AO$18:$AO$1017,$B290,'Daily Log'!$AP$18:$AP$1017),0)","v":0},{"$f":"IFERROR($E290*SUMIF('Daily Log'!$AR$18:$AR$1017,$B290,'Daily Log'!$AS$18:$AS$1017),0)","v":0},{"$f":"IFERROR($E290*SUMIF('Daily Log'!$AU$18:$AU$1017,$B290,'Daily Log'!$AV$18:$AV$1017),0)","v":0},{"$f":"IFERROR($E290*SUMIF('Daily Log'!$AX$18:$AX$1017,$B290,'Daily Log'!$AY$18:$AY$1017),0)","v":0},{"$f":"IFERROR($E290*SUMIF('Daily Log'!$BA$18:$BA$1017,$B290,'Daily Log'!$BB$18:$BB$1017),0)","v":0},{"$f":"IFERROR($E290*SUMIF('Daily Log'!$BD$18:$BD$1017,$B290,'Daily Log'!$BE$18:$BE$1017),0)","v":0},{"$f":"IFERROR($E290*SUMIF('Daily Log'!$BG$18:$BG$1017,$B290,'Daily Log'!$BH$18:$BH$1017),0)","v":0},{"$f":"IFERROR($E290*SUMIF('Daily Log'!$BJ$18:$BJ$1017,$B290,'Daily Log'!$BK$18:$BK$1017),0)","v":0},{"$f":"IFERROR($E290*SUMIF('Daily Log'!$BM$18:$BM$1017,$B290,'Daily Log'!$BN$18:$BN$1017),0)","v":0},{"$f":"IFERROR($E290*SUMIF('Daily Log'!$BP$18:$BP$1017,$B290,'Daily Log'!$BQ$18:$BQ$1017),0)","v":0},{"$f":"IFERROR($E290*SUMIF('Daily Log'!$BS$18:$BS$1017,$B290,'Daily Log'!$BT$18:$BT$1017),0)","v":0},{"$f":"IFERROR($E290*SUMIF('Daily Log'!$BV$18:$BV$1017,$B290,'Daily Log'!$BW$18:$BW$1017),0)","v":0},{"$f":"IFERROR($E290*SUMIF('Daily Log'!$BY$18:$BY$1017,$B290,'Daily Log'!$BZ$18:$BZ$1017),0)","v":0},{"$f":"IFERROR($E290*SUMIF('Daily Log'!$CB$18:$CB$1017,$B290,'Daily Log'!$CC$18:$CC$1017),0)","v":0},{"$f":"IFERROR($E290*SUMIF('Daily Log'!$CE$18:$CE$1017,$B290,'Daily Log'!$CF$18:$CF$1017),0)","v":0},{"$f":"IFERROR($E290*SUMIF('Daily Log'!$CH$18:$CH$1017,$B290,'Daily Log'!$CI$18:$CI$1017),0)","v":0},{"$f":"IFERROR($E290*SUMIF('Daily Log'!$CK$18:$CK$1017,$B290,'Daily Log'!$CL$18:$CL$1017),0)","v":0},{"$f":"IFERROR($E290*SUMIF('Daily Log'!$CN$18:$CN$1017,$B290,'Daily Log'!$CO$18:$CO$1017),0)","v":18}]
[null,"PD01 80032:FSHP EGGPL",null,"LOK LOK",1,11,{"$f":"IFERROR($E291*SUMIF('Daily Log'!$B$18:$B$1017,$B291,'Daily Log'!$C$18:$C$1017),0)","v":0},{"$f":"IFERROR($E291*SUMIF('Daily Log'!$E$18:$E$1017,$B291,'Daily Log'!$F$18:$F$1017),0)","v":0},{"$f":"IFERROR($E291*SUMIF('Daily Log'!$H$18:$H$1017,$B291,'Daily Log'!$I$18:$I$1017),0)","v":0},{"$f":"IFERROR($E291*SUMIF('Daily Log'!$K$18:$K$1017,$B291,'Daily Log'!$L$18:$L$1017),0)","v":0},{"$f":"IFERROR($E291*SUMIF('Daily Log'!$N$18:$N$1017,$B291,'Daily Log'!$O$18:$O$1017),0)","v":0},{"$f":"IFERROR($E291*SUMIF('Daily Log'!$Q$18:$Q$1017,$B291,'Daily Log'!$R$18:$R$1017),0)","v":0},{"$f":"IFERROR($E291*SUMIF('Daily Log'!$T$18:$T$1017,$B291,'Daily Log'!$U$18:$U$1017),0)","v":0},{"$f":"IFERROR($E291*SUMIF('Daily Log'!$W$18:$W$1017,$B291,'Daily Log'!$X$18:$X$1017),0)","v":0},{"$f":"IFERROR($E291*SUMIF('Daily Log'!$Z$18:$Z$1017,$B291,'Daily Log'!$AA$18:$AA$1017),0)","v":0},{"$f":"IFERROR($E291*SUMIF('Daily Log'!$AC$18:$AC$1017,$B291,'Daily Log'!$AD$18:$AD$1017),0)","v":0},{"$f":"IFERROR($E291*SUMIF('Daily Log'!$AF$18:$AF$1017,$B291,'Daily Log'!$AG$18:$AG$1017),0)","v":0},{"$f":"IFERROR($E291*SUMIF('Daily Log'!$AI$18:$AI$1017,$B291,'Daily Log'!$AJ$18:$AJ$1017),0)","v":0},{"$f":"IFERROR($E291*SUMIF('Daily Log'!$AL$18:$AL$1017,$B291,'Daily Log'!$AM$18:$AM$1017),0)","v":0},{"$f":"IFERROR($E291*SUMIF('Daily Log'!$AO$18:$AO$1017,$B291,'Daily Log'!$AP$18:$AP$1017),0)","v":0},{"$f":"IFERROR($E291*SUMIF('Daily Log'!$AR$18:$AR$1017,$B291,'Daily Log'!$AS$18:$AS$1017),0)","v":0},{"$f":"IFERROR($E291*SUMIF('Daily Log'!$AU$18:$AU$1017,$B291,'Daily Log'!$AV$18:$AV$1017),0)","v":0},{"$f":"IFERROR($E291*SUMIF('Daily Log'!$AX$18:$AX$1017,$B291,'Daily Log'!$AY$18:$AY$1017),0)","v":0},{"$f":"IFERROR($E291*SUMIF('Daily Log'!$BA$18:$BA$1017,$B291,'Daily Log'!$BB$18:$BB$1017),0)","v":0},{"$f":"IFERROR($E291*SUMIF('Daily Log'!$BD$18:$BD$1017,$B291,'Daily Log'!$BE$18:$BE$1017),0)","v":0},{"$f":"IFERROR($E291*SUMIF('Daily Log'!$BG$18:$BG$1017,$B291,'Daily Log'!$BH$18:$BH$1017),0)","v":0},{"$f":"IFERROR($E291*SUMIF('Daily Log'!$BJ$18:$BJ$1017,$B291,'Daily Log'!$BK$18:$BK$1017),0)","v":0},{"$f":"IFERROR($E291*SUMIF('Daily Log'!$BM$18:$BM$1017,$B291,'Daily Log'!$BN$18:$BN$1017),0)","v":0},{"$f":"IFERROR($E291*SUMIF('Daily Log'!$BP$18:$BP$1017,$B291,'Daily Log'!$BQ$18:$BQ$1017),0)","v":0},{"$f":"IFERROR($E291*SUMIF('Daily Log'!$BS$18:$BS$1017,$B291,'Daily Log'!$BT$18:$BT$1017),0)","v":0},{"$f":"IFERROR($E291*SUMIF('Daily Log'!$BV$18:$BV$1017,$B291,'Daily Log'!$BW$18:$BW$1017),0)","v":0},{"$f":"IFERROR($E291*SUMIF('Daily Log'!$BY$18:$BY$1017,$B291,'Daily Log'!$BZ$18:$BZ$1017),0)","v":0},{"$f":"IFERROR($E291*SUMIF('Daily Log'!$CB$18:$CB$1017,$B291,'Daily Log'!$CC$18:$CC$1017),0)","v":0},{"$f":"IFERROR($E291*SUMIF('Daily Log'!$CE$18:$CE$1017,$B291,'Daily Log'!$CF$18:$CF$1017),0)","v":0},{"$f":"IFERROR($E291*SUMIF('Daily Log'!$CH$18:$CH$1017,$B291,'Daily Log'!$CI$18:$CI$1017),0)","v":0},{"$f":"IFERROR($E291*SUMIF('Daily Log'!$CK$18:$CK$1017,$B291,'Daily Log'!$CL$18:$CL$1017),0)","v":0},{"$f":"IFERROR($E291*SUMIF('Daily Log'!$CN$18:$CN$1017,$B291,'Daily Log'!$CO$18:$CO$1017),0)","v":11}]
[null,"PD02 80033:FSHP CL",null,"LOK LOK",1,5,{"$f":"IFERROR($E292*SUMIF('Daily Log'!$B$18:$B$1017,$B292,'Daily Log'!$C$18:$C$1017),0)","v":0},{"$f":"IFERROR($E292*SUMIF('Daily Log'!$E$18:$E$1017,$B292,'Daily Log'!$F$18:$F$1017),0)","v":0},{"$f":"IFERROR($E292*SUMIF('Daily Log'!$H$18:$H$1017,$B292,'Daily Log'!$I$18:$I$1017),0)","v":0},{"$f":"IFERROR($E292*SUMIF('Daily Log'!$K$18:$K$1017,$B292,'Daily Log'!$L$18:$L$1017),0)","v":0},{"$f":"IFERROR($E292*SUMIF('Daily Log'!$N$18:$N$1017,$B292,'Daily Log'!$O$18:$O$1017),0)","v":0},{"$f":"IFERROR($E292*SUMIF('Daily Log'!$Q$18:$Q$1017,$B292,'Daily Log'!$R$18:$R$1017),0)","v":0},{"$f":"IFERROR($E292*SUMIF('Daily Log'!$T$18:$T$1017,$B292,'Daily Log'!$U$18:$U$1017),0)","v":0},{"$f":"IFERROR($E292*SUMIF('Daily Log'!$W$18:$W$1017,$B292,'Daily Log'!$X$18:$X$1017),0)","v":0},{"$f":"IFERROR($E292*SUMIF('Daily Log'!$Z$18:$Z$1017,$B292,'Daily Log'!$AA$18:$AA$1017),0)","v":0},{"$f":"IFERROR($E292*SUMIF('Daily Log'!$AC$18:$AC$1017,$B292,'Daily Log'!$AD$18:$AD$1017),0)","v":0},{"$f":"IFERROR($E292*SUMIF('Daily Log'!$AF$18:$AF$1017,$B292,'Daily Log'!$AG$18:$AG$1017),0)","v":0},{"$f":"IFERROR($E292*SUMIF('Daily Log'!$AI$18:$AI$1017,$B292,'Daily Log'!$AJ$18:$AJ$1017),0)","v":0},{"$f":"IFERROR($E292*SUMIF('Daily Log'!$AL$18:$AL$1017,$B292,'Daily Log'!$AM$18:$AM$1017),0)","v":0},{"$f":"IFERROR($E292*SUMIF('Daily Log'!$AO$18:$AO$1017,$B292,'Daily Log'!$AP$18:$AP$1017),0)","v":0},{"$f":"IFERROR($E292*SUMIF('Daily Log'!$AR$18:$AR$1017,$B292,'Daily Log'!$AS$18:$AS$1017),0)","v":0},{"$f":"IFERROR($E292*SUMIF('Daily Log'!$AU$18:$AU$1017,$B292,'Daily Log'!$AV$18:$AV$1017),0)","v":0},{"$f":"IFERROR($E292*SUMIF('Daily Log'!$AX$18:$AX$1017,$B292,'Daily Log'!$AY$18:$AY$1017),0)","v":0},{"$f":"IFERROR($E292*SUMIF('Daily Log'!$BA$18:$BA$1017,$B292,'Daily Log'!$BB$18:$BB$1017),0)","v":0},{"$f":"IFERROR($E292*SUMIF('Daily Log'!$BD$18:$BD$1017,$B292,'Daily Log'!$BE$18:$BE$1017),0)","v":0},{"$f":"IFERROR($E292*SUMIF('Daily Log'!$BG$18:$BG$1017,$B292,'Daily Log'!$BH$18:$BH$1017),0)","v":0},{"$f":"IFERROR($E292*SUMIF('Daily Log'!$BJ$18:$BJ$1017,$B292,'Daily Log'!$BK$18:$BK$1017),0)","v":0},{"$f":"IFERROR($E292*SUMIF('Daily Log'!$BM$18:$BM$1017,$B292,'Daily Log'!$BN$18:$BN$1017),0)","v":0},{"$f":"IFERROR($E292*SUMIF('Daily Log'!$BP$18:$BP$1017,$B292,'Daily Log'!$BQ$18:$BQ$1017),0)","v":0},{"$f":"IFERROR($E292*SUMIF('Daily Log'!$BS$18:$BS$1017,$B292,'Daily Log'!$BT$18:$BT$1017),0)","v":0},{"$f":"IFERROR($E292*SUMIF('Daily Log'!$BV$18:$BV$1017,$B292,'Daily Log'!$BW$18:$BW$1017),0)","v":0},{"$f":"IFERROR($E292*SUMIF('Daily Log'!$BY$18:$BY$1017,$B292,'Daily Log'!$BZ$18:$BZ$1017),0)","v":0},{"$f":"IFERROR($E292*SUMIF('Daily Log'!$CB$18:$CB$1017,$B292,'Daily Log'!$CC$18:$CC$1017),0)","v":0},{"$f":"IFERROR($E292*SUMIF('Daily Log'!$CE$18:$CE$1017,$B292,'Daily Log'!$CF$18:$CF$1017),0)","v":0},{"$f":"IFERROR($E292*SUMIF('Daily Log'!$CH$18:$CH$1017,$B292,'Daily Log'!$CI$18:$CI$1017),0)","v":0},{"$f":"IFERROR($E292*SUMIF('Daily Log'!$CK$18:$CK$1017,$B292,'Daily Log'!$CL$18:$CL$1017),0)","v":0},{"$f":"IFERROR($E292*SUMIF('Daily Log'!$CN$18:$CN$1017,$B292,'Daily Log'!$CO$18:$CO$1017),0)","v":5}]
[null,"PD03 80034:FSHP LF",null,"LOK LOK",1,14,{"$f":"IFERROR($E293*SUMIF('Daily Log'!$B$18:$B$1017,$B293,'Daily Log'!$C$18:$C$1017),0)","v":0},{"$f":"IFERROR($E293*SUMIF('Daily Log'!$E$18:$E$1017,$B293,'Daily Log'!$F$18:$F$1017),0)","v":0},{"$f":"IFERROR($E293*SUMIF('Daily Log'!$H$18:$H$1017,$B293,'Daily Log'!$I$18:$I$1017),0)","v":0},{"$f":"IFERROR($E293*SUMIF('Daily Log'!$K$18:$K$1017,$B293,'Daily Log'!$L$18:$L$1017),0)","v":0},{"$f":"IFERROR($E293*SUMIF('Daily Log'!$N$18:$N$1017,$B293,'Daily Log'!$O$18:$O$1017),0)","v":0},{"$f":"IFERROR($E293*SUMIF('Daily Log'!$Q$18:$Q$1017,$B293,'Daily Log'!$R$18:$R$1017),0)","v":0},{"$f":"IFERROR($E293*SUMIF('Daily Log'!$T$18:$T$1017,$B293,'Daily Log'!$U$18:$U$1017),0)","v":0},{"$f":"IFERROR($E293*SUMIF('Daily Log'!$W$18:$W$1017,$B293,'Daily Log'!$X$18:$X$1017),0)","v":0},{"$f":"IFERROR($E293*SUMIF('Daily Log'!$Z$18:$Z$1017,$B293,'Daily Log'!$AA$18:$AA$1017),0)","v":0},{"$f":"IFERROR($E293*SUMIF('Daily Log'!$AC$18:$AC$1017,$B293,'Daily Log'!$AD$18:$AD$1017),0)","v":0},{"$f":"IFERROR($E293*SUMIF('Daily Log'!$AF$18:$AF$1017,$B293,'Daily Log'!$AG$18:$AG$1017),0)","v":0},{"$f":"IFERROR($E293*SUMIF('Daily Log'!$AI$18:$AI$1017,$B293,'Daily Log'!$AJ$18:$AJ$1017),0)","v":0},{"$f":"IFERROR($E293*SUMIF('Daily Log'!$AL$18:$AL$1017,$B293,'Daily Log'!$AM$18:$AM$1017),0)","v":0},{"$f":"IFERROR($E293*SUMIF('Daily Log'!$AO$18:$AO$1017,$B293,'Daily Log'!$AP$18:$AP$1017),0)","v":0},{"$f":"IFERROR($E293*SUMIF('Daily Log'!$AR$18:$AR$1017,$B293,'Daily Log'!$AS$18:$AS$1017),0)","v":0},{"$f":"IFERROR($E293*SUMIF('Daily Log'!$AU$18:$AU$1017,$B293,'Daily Log'!$AV$18:$AV$1017),0)","v":0},{"$f":"IFERROR($E293*SUMIF('Daily Log'!$AX$18:$AX$1017,$B293,'Daily Log'!$AY$18:$AY$1017),0)","v":0},{"$f":"IFERROR($E293*SUMIF('Daily Log'!$BA$18:$BA$1017,$B293,'Daily Log'!$BB$18:$BB$1017),0)","v":0},{"$f":"IFERROR($E293*SUMIF('Daily Log'!$BD$18:$BD$1017,$B293,'Daily Log'!$BE$18:$BE$1017),0)","v":0},{"$f":"IFERROR($E293*SUMIF('Daily Log'!$BG$18:$BG$1017,$B293,'Daily Log'!$BH$18:$BH$1017),0)","v":0},{"$f":"IFERROR($E293*SUMIF('Daily Log'!$BJ$18:$BJ$1017,$B293,'Daily Log'!$BK$18:$BK$1017),0)","v":0},{"$f":"IFERROR($E293*SUMIF('Daily Log'!$BM$18:$BM$1017,$B293,'Daily Log'!$BN$18:$BN$1017),0)","v":0},{"$f":"IFERROR($E293*SUMIF('Daily Log'!$BP$18:$BP$1017,$B293,'Daily Log'!$BQ$18:$BQ$1017),0)","v":0},{"$f":"IFERROR($E293*SUMIF('Daily Log'!$BS$18:$BS$1017,$B293,'Daily Log'!$BT$18:$BT$1017),0)","v":0},{"$f":"IFERROR($E293*SUMIF('Daily Log'!$BV$18:$BV$1017,$B293,'Daily Log'!$BW$18:$BW$1017),0)","v":0},{"$f":"IFERROR($E293*SUMIF('Daily Log'!$BY$18:$BY$1017,$B293,'Daily Log'!$BZ$18:$BZ$1017),0)","v":0},{"$f":"IFERROR($E293*SUMIF('Daily Log'!$CB$18:$CB$1017,$B293,'Daily Log'!$CC$18:$CC$1017),0)","v":0},{"$f":"IFERROR($E293*SUMIF('Daily Log'!$CE$18:$CE$1017,$B293,'Daily Log'!$CF$18:$CF$1017),0)","v":0},{"$f":"IFERROR($E293*SUMIF('Daily Log'!$CH$18:$CH$1017,$B293,'Daily Log'!$CI$18:$CI$1017),0)","v":0},{"$f":"IFERROR($E293*SUMIF('Daily Log'!$CK$18:$CK$1017,$B293,'Daily Log'!$CL$18:$CL$1017),0)","v":0},{"$f":"IFERROR($E293*SUMIF('Daily Log'!$CN$18:$CN$1017,$B293,'Daily Log'!$CO$18:$CO$1017),0)","v":14}]
[null,"PD04 80035:CRS BCURD",null,"LOK LOK",1,36,{"$f":"IFERROR($E294*SUMIF('Daily Log'!$B$18:$B$1017,$B294,'Daily Log'!$C$18:$C$1017),0)","v":0},{"$f":"IFERROR($E294*SUMIF('Daily Log'!$E$18:$E$1017,$B294,'Daily Log'!$F$18:$F$1017),0)","v":0},{"$f":"IFERROR($E294*SUMIF('Daily Log'!$H$18:$H$1017,$B294,'Daily Log'!$I$18:$I$1017),0)","v":0},{"$f":"IFERROR($E294*SUMIF('Daily Log'!$K$18:$K$1017,$B294,'Daily Log'!$L$18:$L$1017),0)","v":0},{"$f":"IFERROR($E294*SUMIF('Daily Log'!$N$18:$N$1017,$B294,'Daily Log'!$O$18:$O$1017),0)","v":0},{"$f":"IFERROR($E294*SUMIF('Daily Log'!$Q$18:$Q$1017,$B294,'Daily Log'!$R$18:$R$1017),0)","v":0},{"$f":"IFERROR($E294*SUMIF('Daily Log'!$T$18:$T$1017,$B294,'Daily Log'!$U$18:$U$1017),0)","v":0},{"$f":"IFERROR($E294*SUMIF('Daily Log'!$W$18:$W$1017,$B294,'Daily Log'!$X$18:$X$1017),0)","v":0},{"$f":"IFERROR($E294*SUMIF('Daily Log'!$Z$18:$Z$1017,$B294,'Daily Log'!$AA$18:$AA$1017),0)","v":0},{"$f":"IFERROR($E294*SUMIF('Daily Log'!$AC$18:$AC$1017,$B294,'Daily Log'!$AD$18:$AD$1017),0)","v":0},{"$f":"IFERROR($E294*SUMIF('Daily Log'!$AF$18:$AF$1017,$B294,'Daily Log'!$AG$18:$AG$1017),0)","v":0},{"$f":"IFERROR($E294*SUMIF('Daily Log'!$AI$18:$AI$1017,$B294,'Daily Log'!$AJ$18:$AJ$1017),0)","v":0},{"$f":"IFERROR($E294*SUMIF('Daily Log'!$AL$18:$AL$1017,$B294,'Daily Log'!$AM$18:$AM$1017),0)","v":0},{"$f":"IFERROR($E294*SUMIF('Daily Log'!$AO$18:$AO$1017,$B294,'Daily Log'!$AP$18:$AP$1017),0)","v":0},{"$f":"IFERROR($E294*SUMIF('Daily Log'!$AR$18:$AR$1017,$B294,'Daily Log'!$AS$18:$AS$1017),0)","v":0},{"$f":"IFERROR($E294*SUMIF('Daily Log'!$AU$18:$AU$1017,$B294,'Daily Log'!$AV$18:$AV$1017),0)","v":0},{"$f":"IFERROR($E294*SUMIF('Daily Log'!$AX$18:$AX$1017,$B294,'Daily Log'!$AY$18:$AY$1017),0)","v":0},{"$f":"IFERROR($E294*SUMIF('Daily Log'!$BA$18:$BA$1017,$B294,'Daily Log'!$BB$18:$BB$1017),0)","v":0},{"$f":"IFERROR($E294*SUMIF('Daily Log'!$BD$18:$BD$1017,$B294,'Daily Log'!$BE$18:$BE$1017),0)","v":0},{"$f":"IFERROR($E294*SUMIF('Daily Log'!$BG$18:$BG$1017,$B294,'Daily Log'!$BH$18:$BH$1017),0)","v":0},{"$f":"IFERROR($E294*SUMIF('Daily Log'!$BJ$18:$BJ$1017,$B294,'Daily Log'!$BK$18:$BK$1017),0)","v":0},{"$f":"IFERROR($E294*SUMIF('Daily Log'!$BM$18:$BM$1017,$B294,'Daily Log'!$BN$18:$BN$1017),0)","v":0},{"$f":"IFERROR($E294*SUMIF('Daily Log'!$BP$18:$BP$1017,$B294,'Daily Log'!$BQ$18:$BQ$1017),0)","v":0},{"$f":"IFERROR($E294*SUMIF('Daily Log'!$BS$18:$BS$1017,$B294,'Daily Log'!$BT$18:$BT$1017),0)","v":0},{"$f":"IFERROR($E294*SUMIF('Daily Log'!$BV$18:$BV$1017,$B294,'Daily Log'!$BW$18:$BW$1017),0)","v":0},{"$f":"IFERROR($E294*SUMIF('Daily Log'!$BY$18:$BY$1017,$B294,'Daily Log'!$BZ$18:$BZ$1017),0)","v":0},{"$f":"IFERROR($E294*SUMIF('Daily Log'!$CB$18:$CB$1017,$B294,'Daily Log'!$CC$18:$CC$1017),0)","v":0},{"$f":"IFERROR($E294*SUMIF('Daily Log'!$CE$18:$CE$1017,$B294,'Daily Log'!$CF$18:$CF$1017),0)","v":0},{"$f":"IFERROR($E294*SUMIF('Daily Log'!$CH$18:$CH$1017,$B294,'Daily Log'!$CI$18:$CI$1017),0)","v":0},{"$f":"IFERROR($E294*SUMIF('Daily Log'!$CK$18:$CK$1017,$B294,'Daily Log'!$CL$18:$CL$1017),0)","v":0},{"$f":"IFERROR($E294*SUMIF('Daily Log'!$CN$18:$CN$1017,$B294,'Daily Log'!$CO$18:$CO$1017),0)","v":36}]
[null,"PD05 80036:QUAIL EGGS",null,"LOK LOK",1,32,{"$f":"IFERROR($E295*SUMIF('Daily Log'!$B$18:$B$1017,$B295,'Daily Log'!$C$18:$C$1017),0)","v":0},{"$f":"IFERROR($E295*SUMIF('Daily Log'!$E$18:$E$1017,$B295,'Daily Log'!$F$18:$F$1017),0)","v":0},{"$f":"IFERROR($E295*SUMIF('Daily Log'!$H$18:$H$1017,$B295,'Daily Log'!$I$18:$I$1017),0)","v":0},{"$f":"IFERROR($E295*SUMIF('Daily Log'!$K$18:$K$1017,$B295,'Daily Log'!$L$18:$L$1017),0)","v":0},{"$f":"IFERROR($E295*SUMIF('Daily Log'!$N$18:$N$1017,$B295,'Daily Log'!$O$18:$O$1017),0)","v":0},{"$f":"IFERROR($E295*SUMIF('Daily Log'!$Q$18:$Q$1017,$B295,'Daily Log'!$R$18:$R$1017),0)","v":0},{"$f":"IFERROR($E295*SUMIF('Daily Log'!$T$18:$T$1017,$B295,'Daily Log'!$U$18:$U$1017),0)","v":0},{"$f":"IFERROR($E295*SUMIF('Daily Log'!$W$18:$W$1017,$B295,'Daily Log'!$X$18:$X$1017),0)","v":0},{"$f":"IFERROR($E295*SUMIF('Daily Log'!$Z$18:$Z$1017,$B295,'Daily Log'!$AA$18:$AA$1017),0)","v":0},{"$f":"IFERROR($E295*SUMIF('Daily Log'!$AC$18:$AC$1017,$B295,'Daily Log'!$AD$18:$AD$1017),0)","v":0},{"$f":"IFERROR($E295*SUMIF('Daily Log'!$AF$18:$AF$1017,$B295,'Daily Log'!$AG$18:$AG$1017),0)","v":0},{"$f":"IFERROR($E295*SUMIF('Daily Log'!$AI$18:$AI$1017,$B295,'Daily Log'!$AJ$18:$AJ$1017),0)","v":0},{"$f":"IFERROR($E295*SUMIF('Daily Log'!$AL$18:$AL$1017,$B295,'Daily Log'!$AM$18:$AM$1017),0)","v":0},{"$f":"IFERROR($E295*SUMIF('Daily Log'!$AO$18:$AO$1017,$B295,'Daily Log'!$AP$18:$AP$1017),0)","v":0},{"$f":"IFERROR($E295*SUMIF('Daily Log'!$AR$18:$AR$1017,$B295,'Daily Log'!$AS$18:$AS$1017),0)","v":0},{"$f":"IFERROR($E295*SUMIF('Daily Log'!$AU$18:$AU$1017,$B295,'Daily Log'!$AV$18:$AV$1017),0)","v":0},{"$f":"IFERROR($E295*SUMIF('Daily Log'!$AX$18:$AX$1017,$B295,'Daily Log'!$AY$18:$AY$1017),0)","v":0},{"$f":"IFERROR($E295*SUMIF('Daily Log'!$BA$18:$BA$1017,$B295,'Daily Log'!$BB$18:$BB$1017),0)","v":0},{"$f":"IFERROR($E295*SUMIF('Daily Log'!$BD$18:$BD$1017,$B295,'Daily Log'!$BE$18:$BE$1017),0)","v":0},{"$f":"IFERROR($E295*SUMIF('Daily Log'!$BG$18:$BG$1017,$B295,'Daily Log'!$BH$18:$BH$1017),0)","v":0},{"$f":"IFERROR($E295*SUMIF('Daily Log'!$BJ$18:$BJ$1017,$B295,'Daily Log'!$BK$18:$BK$1017),0)","v":0},{"$f":"IFERROR($E295*SUMIF('Daily Log'!$BM$18:$BM$1017,$B295,'Daily Log'!$BN$18:$BN$1017),0)","v":0},{"$f":"IFERROR($E295*SUMIF('Daily Log'!$BP$18:$BP$1017,$B295,'Daily Log'!$BQ$18:$BQ$1017),0)","v":0},{"$f":"IFERROR($E295*SUMIF('Daily Log'!$BS$18:$BS$1017,$B295,'Daily Log'!$BT$18:$BT$1017),0)","v":0},{"$f":"IFERROR($E295*SUMIF('Daily Log'!$BV$18:$BV$1017,$B295,'Daily Log'!$BW$18:$BW$1017),0)","v":0},{"$f":"IFERROR($E295*SUMIF('Daily Log'!$BY$18:$BY$1017,$B295,'Daily Log'!$BZ$18:$BZ$1017),0)","v":0},{"$f":"IFERROR($E295*SUMIF('Daily Log'!$CB$18:$CB$1017,$B295,'Daily Log'!$CC$18:$CC$1017),0)","v":0},{"$f":"IFERROR($E295*SUMIF('Daily Log'!$CE$18:$CE$1017,$B295,'Daily Log'!$CF$18:$CF$1017),0)","v":0},{"$f":"IFERROR($E295*SUMIF('Daily Log'!$CH$18:$CH$1017,$B295,'Daily Log'!$CI$18:$CI$1017),0)","v":0},{"$f":"IFERROR($E295*SUMIF('Daily Log'!$CK$18:$CK$1017,$B295,'Daily Log'!$CL$18:$CL$1017),0)","v":0},{"$f":"IFERROR($E295*SUMIF('Daily Log'!$CN$18:$CN$1017,$B295,'Daily Log'!$CO$18:$CO$1017),0)","v":32}]
[null,"PD06 80037:F WANTON",null,"LOK LOK",1,26,{"$f":"IFERROR($E296*SUMIF('Daily Log'!$B$18:$B$1017,$B296,'Daily Log'!$C$18:$C$1017),0)","v":0},{"$f":"IFERROR($E296*SUMIF('Daily Log'!$E$18:$E$1017,$B296,'Daily Log'!$F$18:$F$1017),0)","v":0},{"$f":"IFERROR($E296*SUMIF('Daily Log'!$H$18:$H$1017,$B296,'Daily Log'!$I$18:$I$1017),0)","v":0},{"$f":"IFERROR($E296*SUMIF('Daily Log'!$K$18:$K$1017,$B296,'Daily Log'!$L$18:$L$1017),0)","v":0},{"$f":"IFERROR($E296*SUMIF('Daily Log'!$N$18:$N$1017,$B296,'Daily Log'!$O$18:$O$1017),0)","v":0},{"$f":"IFERROR($E296*SUMIF('Daily Log'!$Q$18:$Q$1017,$B296,'Daily Log'!$R$18:$R$1017),0)","v":0},{"$f":"IFERROR($E296*SUMIF('Daily Log'!$T$18:$T$1017,$B296,'Daily Log'!$U$18:$U$1017),0)","v":0},{"$f":"IFERROR($E296*SUMIF('Daily Log'!$W$18:$W$1017,$B296,'Daily Log'!$X$18:$X$1017),0)","v":0},{"$f":"IFERROR($E296*SUMIF('Daily Log'!$Z$18:$Z$1017,$B296,'Daily Log'!$AA$18:$AA$1017),0)","v":0},{"$f":"IFERROR($E296*SUMIF('Daily Log'!$AC$18:$AC$1017,$B296,'Daily Log'!$AD$18:$AD$1017),0)","v":0},{"$f":"IFERROR($E296*SUMIF('Daily Log'!$AF$18:$AF$1017,$B296,'Daily Log'!$AG$18:$AG$1017),0)","v":0},{"$f":"IFERROR($E296*SUMIF('Daily Log'!$AI$18:$AI$1017,$B296,'Daily Log'!$AJ$18:$AJ$1017),0)","v":0},{"$f":"IFERROR($E296*SUMIF('Daily Log'!$AL$18:$AL$1017,$B296,'Daily Log'!$AM$18:$AM$1017),0)","v":0},{"$f":"IFERROR($E296*SUMIF('Daily Log'!$AO$18:$AO$1017,$B296,'Daily Log'!$AP$18:$AP$1017),0)","v":0},{"$f":"IFERROR($E296*SUMIF('Daily Log'!$AR$18:$AR$1017,$B296,'Daily Log'!$AS$18:$AS$1017),0)","v":0},{"$f":"IFERROR($E296*SUMIF('Daily Log'!$AU$18:$AU$1017,$B296,'Daily Log'!$AV$18:$AV$1017),0)","v":0},{"$f":"IFERROR($E296*SUMIF('Daily Log'!$AX$18:$AX$1017,$B296,'Daily Log'!$AY$18:$AY$1017),0)","v":0},{"$f":"IFERROR($E296*SUMIF('Daily Log'!$BA$18:$BA$1017,$B296,'Daily Log'!$BB$18:$BB$1017),0)","v":0},{"$f":"IFERROR($E296*SUMIF('Daily Log'!$BD$18:$BD$1017,$B296,'Daily Log'!$BE$18:$BE$1017),0)","v":0},{"$f":"IFERROR($E296*SUMIF('Daily Log'!$BG$18:$BG$1017,$B296,'Daily Log'!$BH$18:$BH$1017),0)","v":0},{"$f":"IFERROR($E296*SUMIF('Daily Log'!$BJ$18:$BJ$1017,$B296,'Daily Log'!$BK$18:$BK$1017),0)","v":0},{"$f":"IFERROR($E296*SUMIF('Daily Log'!$BM$18:$BM$1017,$B296,'Daily Log'!$BN$18:$BN$1017),0)","v":0},{"$f":"IFERROR($E296*SUMIF('Daily Log'!$BP$18:$BP$1017,$B296,'Daily Log'!$BQ$18:$BQ$1017),0)","v":0},{"$f":"IFERROR($E296*SUMIF('Daily Log'!$BS$18:$BS$1017,$B296,'Daily Log'!$BT$18:$BT$1017),0)","v":0},{"$f":"IFERROR($E296*SUMIF('Daily Log'!$BV$18:$BV$1017,$B296,'Daily Log'!$BW$18:$BW$1017),0)","v":0},{"$f":"IFERROR($E296*SUMIF('Daily Log'!$BY$18:$BY$1017,$B296,'Daily Log'!$BZ$18:$BZ$1017),0)","v":0},{"$f":"IFERROR($E296*SUMIF('Daily Log'!$CB$18:$CB$1017,$B296,'Daily Log'!$CC$18:$CC$1017),0)","v":0},{"$f":"IFERROR($E296*SUMIF('Daily Log'!$CE$18:$CE$1017,$B296,'Daily Log'!$CF$18:$CF$1017),0)","v":0},{"$f":"IFERROR($E296*SUMIF('Daily Log'!$CH$18:$CH$1017,$B296,'Daily Log'!$CI$18:$CI$1017),0)","v":0},{"$f":"IFERROR($E296*SUMIF('Daily Log'!$CK$18:$CK$1017,$B296,'Daily Log'!$CL$18:$CL$1017),0)","v":0},{"$f":"IFERROR($E296*SUMIF('Daily Log'!$CN$18:$CN$1017,$B296,'Daily Log'!$CO$18:$CO$1017),0)","v":26}]
[null,"PD07 80038:LGP SAMOSA",null,"LOK LOK",1,2,{"$f":"IFERROR($E297*SUMIF('Daily Log'!$B$18:$B$1017,$B297,'Daily Log'!$C$18:$C$1017),0)","v":0},{"$f":"IFERROR($E297*SUMIF('Daily Log'!$E$18:$E$1017,$B297,'Daily Log'!$F$18:$F$1017),0)","v":0},{"$f":"IFERROR($E297*SUMIF('Daily Log'!$H$18:$H$1017,$B297,'Daily Log'!$I$18:$I$1017),0)","v":0},{"$f":"IFERROR($E297*SUMIF('Daily Log'!$K$18:$K$1017,$B297,'Daily Log'!$L$18:$L$1017),0)","v":0},{"$f":"IFERROR($E297*SUMIF('Daily Log'!$N$18:$N$1017,$B297,'Daily Log'!$O$18:$O$1017),0)","v":0},{"$f":"IFERROR($E297*SUMIF('Daily Log'!$Q$18:$Q$1017,$B297,'Daily Log'!$R$18:$R$1017),0)","v":0},{"$f":"IFERROR($E297*SUMIF('Daily Log'!$T$18:$T$1017,$B297,'Daily Log'!$U$18:$U$1017),0)","v":0},{"$f":"IFERROR($E297*SUMIF('Daily Log'!$W$18:$W$1017,$B297,'Daily Log'!$X$18:$X$1017),0)","v":0},{"$f":"IFERROR($E297*SUMIF('Daily Log'!$Z$18:$Z$1017,$B297,'Daily Log'!$AA$18:$AA$1017),0)","v":0},{"$f":"IFERROR($E297*SUMIF('Daily Log'!$AC$18:$AC$1017,$B297,'Daily Log'!$AD$18:$AD$1017),0)","v":0},{"$f":"IFERROR($E297*SUMIF('Daily Log'!$AF$18:$AF$1017,$B297,'Daily Log'!$AG$18:$AG$1017),0)","v":0},{"$f":"IFERROR($E297*SUMIF('Daily Log'!$AI$18:$AI$1017,$B297,'Daily Log'!$AJ$18:$AJ$1017),0)","v":0},{"$f":"IFERROR($E297*SUMIF('Daily Log'!$AL$18:$AL$1017,$B297,'Daily Log'!$AM$18:$AM$1017),0)","v":0},{"$f":"IFERROR($E297*SUMIF('Daily Log'!$AO$18:$AO$1017,$B297,'Daily Log'!$AP$18:$AP$1017),0)","v":0},{"$f":"IFERROR($E297*SUMIF('Daily Log'!$AR$18:$AR$1017,$B297,'Daily Log'!$AS$18:$AS$1017),0)","v":0},{"$f":"IFERROR($E297*SUMIF('Daily Log'!$AU$18:$AU$1017,$B297,'Daily Log'!$AV$18:$AV$1017),0)","v":0},{"$f":"IFERROR($E297*SUMIF('Daily Log'!$AX$18:$AX$1017,$B297,'Daily Log'!$AY$18:$AY$1017),0)","v":0},{"$f":"IFERROR($E297*SUMIF('Daily Log'!$BA$18:$BA$1017,$B297,'Daily Log'!$BB$18:$BB$1017),0)","v":0},{"$f":"IFERROR($E297*SUMIF('Daily Log'!$BD$18:$BD$1017,$B297,'Daily Log'!$BE$18:$BE$1017),0)","v":0},{"$f":"IFERROR($E297*SUMIF('Daily Log'!$BG$18:$BG$1017,$B297,'Daily Log'!$BH$18:$BH$1017),0)","v":0},{"$f":"IFERROR($E297*SUMIF('Daily Log'!$BJ$18:$BJ$1017,$B297,'Daily Log'!$BK$18:$BK$1017),0)","v":0},{"$f":"IFERROR($E297*SUMIF('Daily Log'!$BM$18:$BM$1017,$B297,'Daily Log'!$BN$18:$BN$1017),0)","v":0},{"$f":"IFERROR($E297*SUMIF('Daily Log'!$BP$18:$BP$1017,$B297,'Daily Log'!$BQ$18:$BQ$1017),0)","v":0},{"$f":"IFERROR($E297*SUMIF('Daily Log'!$BS$18:$BS$1017,$B297,'Daily Log'!$BT$18:$BT$1017),0)","v":0},{"$f":"IFERROR($E297*SUMIF('Daily Log'!$BV$18:$BV$1017,$B297,'Daily Log'!$BW$18:$BW$1017),0)","v":0},{"$f":"IFERROR($E297*SUMIF('Daily Log'!$BY$18:$BY$1017,$B297,'Daily Log'!$BZ$18:$BZ$1017),0)","v":0},{"$f":"IFERROR($E297*SUMIF('Daily Log'!$CB$18:$CB$1017,$B297,'Daily Log'!$CC$18:$CC$1017),0)","v":0},{"$f":"IFERROR($E297*SUMIF('Daily Log'!$CE$18:$CE$1017,$B297,'Daily Log'!$CF$18:$CF$1017),0)","v":0},{"$f":"IFERROR($E297*SUMIF('Daily Log'!$CH$18:$CH$1017,$B297,'Daily Log'!$CI$18:$CI$1017),0)","v":0},{"$f":"IFERROR($E297*SUMIF('Daily Log'!$CK$18:$CK$1017,$B297,'Daily Log'!$CL$18:$CL$1017),0)","v":0},{"$f":"IFERROR($E297*SUMIF('Daily Log'!$CN$18:$CN$1017,$B297,'Daily Log'!$CO$18:$CO$1017),0)","v":2}]
[null,"PD08 80039:VEGE BAL",null,"LOK LOK",1,26,{"$f":"IFERROR($E298*SUMIF('Daily Log'!$B$18:$B$1017,$B298,'Daily Log'!$C$18:$C$1017),0)","v":0},{"$f":"IFERROR($E298*SUMIF('Daily Log'!$E$18:$E$1017,$B298,'Daily Log'!$F$18:$F$1017),0)","v":0},{"$f":"IFERROR($E298*SUMIF('Daily Log'!$H$18:$H$1017,$B298,'Daily Log'!$I$18:$I$1017),0)","v":0},{"$f":"IFERROR($E298*SUMIF('Daily Log'!$K$18:$K$1017,$B298,'Daily Log'!$L$18:$L$1017),0)","v":0},{"$f":"IFERROR($E298*SUMIF('Daily Log'!$N$18:$N$1017,$B298,'Daily Log'!$O$18:$O$1017),0)","v":0},{"$f":"IFERROR($E298*SUMIF('Daily Log'!$Q$18:$Q$1017,$B298,'Daily Log'!$R$18:$R$1017),0)","v":0},{"$f":"IFERROR($E298*SUMIF('Daily Log'!$T$18:$T$1017,$B298,'Daily Log'!$U$18:$U$1017),0)","v":0},{"$f":"IFERROR($E298*SUMIF('Daily Log'!$W$18:$W$1017,$B298,'Daily Log'!$X$18:$X$1017),0)","v":0},{"$f":"IFERROR($E298*SUMIF('Daily Log'!$Z$18:$Z$1017,$B298,'Daily Log'!$AA$18:$AA$1017),0)","v":0},{"$f":"IFERROR($E298*SUMIF('Daily Log'!$AC$18:$AC$1017,$B298,'Daily Log'!$AD$18:$AD$1017),0)","v":0},{"$f":"IFERROR($E298*SUMIF('Daily Log'!$AF$18:$AF$1017,$B298,'Daily Log'!$AG$18:$AG$1017),0)","v":0},{"$f":"IFERROR($E298*SUMIF('Daily Log'!$AI$18:$AI$1017,$B298,'Daily Log'!$AJ$18:$AJ$1017),0)","v":0},{"$f":"IFERROR($E298*SUMIF('Daily Log'!$AL$18:$AL$1017,$B298,'Daily Log'!$AM$18:$AM$1017),0)","v":0},{"$f":"IFERROR($E298*SUMIF('Daily Log'!$AO$18:$AO$1017,$B298,'Daily Log'!$AP$18:$AP$1017),0)","v":0},{"$f":"IFERROR($E298*SUMIF('Daily Log'!$AR$18:$AR$1017,$B298,'Daily Log'!$AS$18:$AS$1017),0)","v":0},{"$f":"IFERROR($E298*SUMIF('Daily Log'!$AU$18:$AU$1017,$B298,'Daily Log'!$AV$18:$AV$1017),0)","v":0},{"$f":"IFERROR($E298*SUMIF('Daily Log'!$AX$18:$AX$1017,$B298,'Daily Log'!$AY$18:$AY$1017),0)","v":0},{"$f":"IFERROR($E298*SUMIF('Daily Log'!$BA$18:$BA$1017,$B298,'Daily Log'!$BB$18:$BB$1017),0)","v":0},{"$f":"IFERROR($E298*SUMIF('Daily Log'!$BD$18:$BD$1017,$B298,'Daily Log'!$BE$18:$BE$1017),0)","v":0},{"$f":"IFERROR($E298*SUMIF('Daily Log'!$BG$18:$BG$1017,$B298,'Daily Log'!$BH$18:$BH$1017),0)","v":0},{"$f":"IFERROR($E298*SUMIF('Daily Log'!$BJ$18:$BJ$1017,$B298,'Daily Log'!$BK$18:$BK$1017),0)","v":0},{"$f":"IFERROR($E298*SUMIF('Daily Log'!$BM$18:$BM$1017,$B298,'Daily Log'!$BN$18:$BN$1017),0)","v":0},{"$f":"IFERROR($E298*SUMIF('Daily Log'!$BP$18:$BP$1017,$B298,'Daily Log'!$BQ$18:$BQ$1017),0)","v":0},{"$f":"IFERROR($E298*SUMIF('Daily Log'!$BS$18:$BS$1017,$B298,'Daily Log'!$BT$18:$BT$1017),0)","v":0},{"$f":"IFERROR($E298*SUMIF('Daily Log'!$BV$18:$BV$1017,$B298,'Daily Log'!$BW$18:$BW$1017),0)","v":0},{"$f":"IFERROR($E298*SUMIF('Daily Log'!$BY$18:$BY$1017,$B298,'Daily Log'!$BZ$18:$BZ$1017),0)","v":0},{"$f":"IFERROR($E298*SUMIF('Daily Log'!$CB$18:$CB$1017,$B298,'Daily Log'!$CC$18:$CC$1017),0)","v":0},{"$f":"IFERROR($E298*SUMIF('Daily Log'!$CE$18:$CE$1017,$B298,'Daily Log'!$CF$18:$CF$1017),0)","v":0},{"$f":"IFERROR($E298*SUMIF('Daily Log'!$CH$18:$CH$1017,$B298,'Daily Log'!$CI$18:$CI$1017),0)","v":0},{"$f":"IFERROR($E298*SUMIF('Daily Log'!$CK$18:$CK$1017,$B298,'Daily Log'!$CL$18:$CL$1017),0)","v":0},{"$f":"IFERROR($E298*SUMIF('Daily Log'!$CN$18:$CN$1017,$B298,'Daily Log'!$CO$18:$CO$1017),0)","v":26}]
[null,"PD09 80040:SF TF",null,"LOK LOK",1,38,{"$f":"IFERROR($E299*SUMIF('Daily Log'!$B$18:$B$1017,$B299,'Daily Log'!$C$18:$C$1017),0)","v":0},{"$f":"IFERROR($E299*SUMIF('Daily Log'!$E$18:$E$1017,$B299,'Daily Log'!$F$18:$F$1017),0)","v":0},{"$f":"IFERROR($E299*SUMIF('Daily Log'!$H$18:$H$1017,$B299,'Daily Log'!$I$18:$I$1017),0)","v":0},{"$f":"IFERROR($E299*SUMIF('Daily Log'!$K$18:$K$1017,$B299,'Daily Log'!$L$18:$L$1017),0)","v":0},{"$f":"IFERROR($E299*SUMIF('Daily Log'!$N$18:$N$1017,$B299,'Daily Log'!$O$18:$O$1017),0)","v":0},{"$f":"IFERROR($E299*SUMIF('Daily Log'!$Q$18:$Q$1017,$B299,'Daily Log'!$R$18:$R$1017),0)","v":0},{"$f":"IFERROR($E299*SUMIF('Daily Log'!$T$18:$T$1017,$B299,'Daily Log'!$U$18:$U$1017),0)","v":0},{"$f":"IFERROR($E299*SUMIF('Daily Log'!$W$18:$W$1017,$B299,'Daily Log'!$X$18:$X$1017),0)","v":0},{"$f":"IFERROR($E299*SUMIF('Daily Log'!$Z$18:$Z$1017,$B299,'Daily Log'!$AA$18:$AA$1017),0)","v":0},{"$f":"IFERROR($E299*SUMIF('Daily Log'!$AC$18:$AC$1017,$B299,'Daily Log'!$AD$18:$AD$1017),0)","v":0},{"$f":"IFERROR($E299*SUMIF('Daily Log'!$AF$18:$AF$1017,$B299,'Daily Log'!$AG$18:$AG$1017),0)","v":0},{"$f":"IFERROR($E299*SUMIF('Daily Log'!$AI$18:$AI$1017,$B299,'Daily Log'!$AJ$18:$AJ$1017),0)","v":0},{"$f":"IFERROR($E299*SUMIF('Daily Log'!$AL$18:$AL$1017,$B299,'Daily Log'!$AM$18:$AM$1017),0)","v":0},{"$f":"IFERROR($E299*SUMIF('Daily Log'!$AO$18:$AO$1017,$B299,'Daily Log'!$AP$18:$AP$1017),0)","v":0},{"$f":"IFERROR($E299*SUMIF('Daily Log'!$AR$18:$AR$1017,$B299,'Daily Log'!$AS$18:$AS$1017),0)","v":0},{"$f":"IFERROR($E299*SUMIF('Daily Log'!$AU$18:$AU$1017,$B299,'Daily Log'!$AV$18:$AV$1017),0)","v":0},{"$f":"IFERROR($E299*SUMIF('Daily Log'!$AX$18:$AX$1017,$B299,'Daily Log'!$AY$18:$AY$1017),0)","v":0},{"$f":"IFERROR($E299*SUMIF('Daily Log'!$BA$18:$BA$1017,$B299,'Daily Log'!$BB$18:$BB$1017),0)","v":0},{"$f":"IFERROR($E299*SUMIF('Daily Log'!$BD$18:$BD$1017,$B299,'Daily Log'!$BE$18:$BE$1017),0)","v":0},{"$f":"IFERROR($E299*SUMIF('Daily Log'!$BG$18:$BG$1017,$B299,'Daily Log'!$BH$18:$BH$1017),0)","v":0},{"$f":"IFERROR($E299*SUMIF('Daily Log'!$BJ$18:$BJ$1017,$B299,'Daily Log'!$BK$18:$BK$1017),0)","v":0},{"$f":"IFERROR($E299*SUMIF('Daily Log'!$BM$18:$BM$1017,$B299,'Daily Log'!$BN$18:$BN$1017),0)","v":0},{"$f":"IFERROR($E299*SUMIF('Daily Log'!$BP$18:$BP$1017,$B299,'Daily Log'!$BQ$18:$BQ$1017),0)","v":0},{"$f":"IFERROR($E299*SUMIF('Daily Log'!$BS$18:$BS$1017,$B299,'Daily Log'!$BT$18:$BT$1017),0)","v":0},{"$f":"IFERROR($E299*SUMIF('Daily Log'!$BV$18:$BV$1017,$B299,'Daily Log'!$BW$18:$BW$1017),0)","v":0},{"$f":"IFERROR($E299*SUMIF('Daily Log'!$BY$18:$BY$1017,$B299,'Daily Log'!$BZ$18:$BZ$1017),0)","v":0},{"$f":"IFERROR($E299*SUMIF('Daily Log'!$CB$18:$CB$1017,$B299,'Daily Log'!$CC$18:$CC$1017),0)","v":0},{"$f":"IFERROR($E299*SUMIF('Daily Log'!$CE$18:$CE$1017,$B299,'Daily Log'!$CF$18:$CF$1017),0)","v":0},{"$f":"IFERROR($E299*SUMIF('Daily Log'!$CH$18:$CH$1017,$B299,'Daily Log'!$CI$18:$CI$1017),0)","v":0},{"$f":"IFERROR($E299*SUMIF('Daily Log'!$CK$18:$CK$1017,$B299,'Daily Log'!$CL$18:$CL$1017),0)","v":0},{"$f":"IFERROR($E299*SUMIF('Daily Log'!$CN$18:$CN$1017,$B299,'Daily Log'!$CO$18:$CO$1017),0)","v":38}]
[null,"PD10 80041:SPRING RL",null,"LOK LOK",1,20,{"$f":"IFERROR($E300*SUMIF('Daily Log'!$B$18:$B$1017,$B300,'Daily Log'!$C$18:$C$1017),0)","v":0},{"$f":"IFERROR($E300*SUMIF('Daily Log'!$E$18:$E$1017,$B300,'Daily Log'!$F$18:$F$1017),0)","v":0},{"$f":"IFERROR($E300*SUMIF('Daily Log'!$H$18:$H$1017,$B300,'Daily Log'!$I$18:$I$1017),0)","v":0},{"$f":"IFERROR($E300*SUMIF('Daily Log'!$K$18:$K$1017,$B300,'Daily Log'!$L$18:$L$1017),0)","v":0},{"$f":"IFERROR($E300*SUMIF('Daily Log'!$N$18:$N$1017,$B300,'Daily Log'!$O$18:$O$1017),0)","v":0},{"$f":"IFERROR($E300*SUMIF('Daily Log'!$Q$18:$Q$1017,$B300,'Daily Log'!$R$18:$R$1017),0)","v":0},{"$f":"IFERROR($E300*SUMIF('Daily Log'!$T$18:$T$1017,$B300,'Daily Log'!$U$18:$U$1017),0)","v":0},{"$f":"IFERROR($E300*SUMIF('Daily Log'!$W$18:$W$1017,$B300,'Daily Log'!$X$18:$X$1017),0)","v":0},{"$f":"IFERROR($E300*SUMIF('Daily Log'!$Z$18:$Z$1017,$B300,'Daily Log'!$AA$18:$AA$1017),0)","v":0},{"$f":"IFERROR($E300*SUMIF('Daily Log'!$AC$18:$AC$1017,$B300,'Daily Log'!$AD$18:$AD$1017),0)","v":0},{"$f":"IFERROR($E300*SUMIF('Daily Log'!$AF$18:$AF$1017,$B300,'Daily Log'!$AG$18:$AG$1017),0)","v":0},{"$f":"IFERROR($E300*SUMIF('Daily Log'!$AI$18:$AI$1017,$B300,'Daily Log'!$AJ$18:$AJ$1017),0)","v":0},{"$f":"IFERROR($E300*SUMIF('Daily Log'!$AL$18:$AL$1017,$B300,'Daily Log'!$AM$18:$AM$1017),0)","v":0},{"$f":"IFERROR($E300*SUMIF('Daily Log'!$AO$18:$AO$1017,$B300,'Daily Log'!$AP$18:$AP$1017),0)","v":0},{"$f":"IFERROR($E300*SUMIF('Daily Log'!$AR$18:$AR$1017,$B300,'Daily Log'!$AS$18:$AS$1017),0)","v":0},{"$f":"IFERROR($E300*SUMIF('Daily Log'!$AU$18:$AU$1017,$B300,'Daily Log'!$AV$18:$AV$1017),0)","v":0},{"$f":"IFERROR($E300*SUMIF('Daily Log'!$AX$18:$AX$1017,$B300,'Daily Log'!$AY$18:$AY$1017),0)","v":0},{"$f":"IFERROR($E300*SUMIF('Daily Log'!$BA$18:$BA$1017,$B300,'Daily Log'!$BB$18:$BB$1017),0)","v":0},{"$f":"IFERROR($E300*SUMIF('Daily Log'!$BD$18:$BD$1017,$B300,'Daily Log'!$BE$18:$BE$1017),0)","v":0},{"$f":"IFERROR($E300*SUMIF('Daily Log'!$BG$18:$BG$1017,$B300,'Daily Log'!$BH$18:$BH$1017),0)","v":0},{"$f":"IFERROR($E300*SUMIF('Daily Log'!$BJ$18:$BJ$1017,$B300,'Daily Log'!$BK$18:$BK$1017),0)","v":0},{"$f":"IFERROR($E300*SUMIF('Daily Log'!$BM$18:$BM$1017,$B300,'Daily Log'!$BN$18:$BN$1017),0)","v":0},{"$f":"IFERROR($E300*SUMIF('Daily Log'!$BP$18:$BP$1017,$B300,'Daily Log'!$BQ$18:$BQ$1017),0)","v":0},{"$f":"IFERROR($E300*SUMIF('Daily Log'!$BS$18:$BS$1017,$B300,'Daily Log'!$BT$18:$BT$1017),0)","v":0},{"$f":"IFERROR($E300*SUMIF('Daily Log'!$BV$18:$BV$1017,$B300,'Daily Log'!$BW$18:$BW$1017),0)","v":0},{"$f":"IFERROR($E300*SUMIF('Daily Log'!$BY$18:$BY$1017,$B300,'Daily Log'!$BZ$18:$BZ$1017),0)","v":0},{"$f":"IFERROR($E300*SUMIF('Daily Log'!$CB$18:$CB$1017,$B300,'Daily Log'!$CC$18:$CC$1017),0)","v":0},{"$f":"IFERROR($E300*SUMIF('Daily Log'!$CE$18:$CE$1017,$B300,'Daily Log'!$CF$18:$CF$1017),0)","v":0},{"$f":"IFERROR($E300*SUMIF('Daily Log'!$CH$18:$CH$1017,$B300,'Daily Log'!$CI$18:$CI$1017),0)","v":0},{"$f":"IFERROR($E300*SUMIF('Daily Log'!$CK$18:$CK$1017,$B300,'Daily Log'!$CL$18:$CL$1017),0)","v":0},{"$f":"IFERROR($E300*SUMIF('Daily Log'!$CN$18:$CN$1017,$B300,'Daily Log'!$CO$18:$CO$1017),0)","v":20}]
[null,"PD11 80042:QC EGGS",null,"LOK LOK",1,20,{"$f":"IFERROR($E301*SUMIF('Daily Log'!$B$18:$B$1017,$B301,'Daily Log'!$C$18:$C$1017),0)","v":0},{"$f":"IFERROR($E301*SUMIF('Daily Log'!$E$18:$E$1017,$B301,'Daily Log'!$F$18:$F$1017),0)","v":0},{"$f":"IFERROR($E301*SUMIF('Daily Log'!$H$18:$H$1017,$B301,'Daily Log'!$I$18:$I$1017),0)","v":0},{"$f":"IFERROR($E301*SUMIF('Daily Log'!$K$18:$K$1017,$B301,'Daily Log'!$L$18:$L$1017),0)","v":0},{"$f":"IFERROR($E301*SUMIF('Daily Log'!$N$18:$N$1017,$B301,'Daily Log'!$O$18:$O$1017),0)","v":0},{"$f":"IFERROR($E301*SUMIF('Daily Log'!$Q$18:$Q$1017,$B301,'Daily Log'!$R$18:$R$1017),0)","v":0},{"$f":"IFERROR($E301*SUMIF('Daily Log'!$T$18:$T$1017,$B301,'Daily Log'!$U$18:$U$1017),0)","v":0},{"$f":"IFERROR($E301*SUMIF('Daily Log'!$W$18:$W$1017,$B301,'Daily Log'!$X$18:$X$1017),0)","v":0},{"$f":"IFERROR($E301*SUMIF('Daily Log'!$Z$18:$Z$1017,$B301,'Daily Log'!$AA$18:$AA$1017),0)","v":0},{"$f":"IFERROR($E301*SUMIF('Daily Log'!$AC$18:$AC$1017,$B301,'Daily Log'!$AD$18:$AD$1017),0)","v":0},{"$f":"IFERROR($E301*SUMIF('Daily Log'!$AF$18:$AF$1017,$B301,'Daily Log'!$AG$18:$AG$1017),0)","v":0},{"$f":"IFERROR($E301*SUMIF('Daily Log'!$AI$18:$AI$1017,$B301,'Daily Log'!$AJ$18:$AJ$1017),0)","v":0},{"$f":"IFERROR($E301*SUMIF('Daily Log'!$AL$18:$AL$1017,$B301,'Daily Log'!$AM$18:$AM$1017),0)","v":0},{"$f":"IFERROR($E301*SUMIF('Daily Log'!$AO$18:$AO$1017,$B301,'Daily Log'!$AP$18:$AP$1017),0)","v":0},{"$f":"IFERROR($E301*SUMIF('Daily Log'!$AR$18:$AR$1017,$B301,'Daily Log'!$AS$18:$AS$1017),0)","v":0},{"$f":"IFERROR($E301*SUMIF('Daily Log'!$AU$18:$AU$1017,$B301,'Daily Log'!$AV$18:$AV$1017),0)","v":0},{"$f":"IFERROR($E301*SUMIF('Daily Log'!$AX$18:$AX$1017,$B301,'Daily Log'!$AY$18:$AY$1017),0)","v":0},{"$f":"IFERROR($E301*SUMIF('Daily Log'!$BA$18:$BA$1017,$B301,'Daily Log'!$BB$18:$BB$1017),0)","v":0},{"$f":"IFERROR($E301*SUMIF('Daily Log'!$BD$18:$BD$1017,$B301,'Daily Log'!$BE$18:$BE$1017),0)","v":0},{"$f":"IFERROR($E301*SUMIF('Daily Log'!$BG$18:$BG$1017,$B301,'Daily Log'!$BH$18:$BH$1017),0)","v":0},{"$f":"IFERROR($E301*SUMIF('Daily Log'!$BJ$18:$BJ$1017,$B301,'Daily Log'!$BK$18:$BK$1017),0)","v":0},{"$f":"IFERROR($E301*SUMIF('Daily Log'!$BM$18:$BM$1017,$B301,'Daily Log'!$BN$18:$BN$1017),0)","v":0},{"$f":"IFERROR($E301*SUMIF('Daily Log'!$BP$18:$BP$1017,$B301,'Daily Log'!$BQ$18:$BQ$1017),0)","v":0},{"$f":"IFERROR($E301*SUMIF('Daily Log'!$BS$18:$BS$1017,$B301,'Daily Log'!$BT$18:$BT$1017),0)","v":0},{"$f":"IFERROR($E301*SUMIF('Daily Log'!$BV$18:$BV$1017,$B301,'Daily Log'!$BW$18:$BW$1017),0)","v":0},{"$f":"IFERROR($E301*SUMIF('Daily Log'!$BY$18:$BY$1017,$B301,'Daily Log'!$BZ$18:$BZ$1017),0)","v":0},{"$f":"IFERROR($E301*SUMIF('Daily Log'!$CB$18:$CB$1017,$B301,'Daily Log'!$CC$18:$CC$1017),0)","v":0},{"$f":"IFERROR($E301*SUMIF('Daily Log'!$CE$18:$CE$1017,$B301,'Daily Log'!$CF$18:$CF$1017),0)","v":0},{"$f":"IFERROR($E301*SUMIF('Daily Log'!$CH$18:$CH$1017,$B301,'Daily Log'!$CI$18:$CI$1017),0)","v":0},{"$f":"IFERROR($E301*SUMIF('Daily Log'!$CK$18:$CK$1017,$B301,'Daily Log'!$CL$18:$CL$1017),0)","v":0},{"$f":"IFERROR($E301*SUMIF('Daily Log'!$CN$18:$CN$1017,$B301,'Daily Log'!$CO$18:$CO$1017),0)","v":20}]
[null,"PD12 80043:THAI RL",null,"LOK LOK",1,8,{"$f":"IFERROR($E302*SUMIF('Daily Log'!$B$18:$B$1017,$B302,'Daily Log'!$C$18:$C$1017),0)","v":0},{"$f":"IFERROR($E302*SUMIF('Daily Log'!$E$18:$E$1017,$B302,'Daily Log'!$F$18:$F$1017),0)","v":0},{"$f":"IFERROR($E302*SUMIF('Daily Log'!$H$18:$H$1017,$B302,'Daily Log'!$I$18:$I$1017),0)","v":0},{"$f":"IFERROR($E302*SUMIF('Daily Log'!$K$18:$K$1017,$B302,'Daily Log'!$L$18:$L$1017),0)","v":0},{"$f":"IFERROR($E302*SUMIF('Daily Log'!$N$18:$N$1017,$B302,'Daily Log'!$O$18:$O$1017),0)","v":0},{"$f":"IFERROR($E302*SUMIF('Daily Log'!$Q$18:$Q$1017,$B302,'Daily Log'!$R$18:$R$1017),0)","v":0},{"$f":"IFERROR($E302*SUMIF('Daily Log'!$T$18:$T$1017,$B302,'Daily Log'!$U$18:$U$1017),0)","v":0},{"$f":"IFERROR($E302*SUMIF('Daily Log'!$W$18:$W$1017,$B302,'Daily Log'!$X$18:$X$1017),0)","v":0},{"$f":"IFERROR($E302*SUMIF('Daily Log'!$Z$18:$Z$1017,$B302,'Daily Log'!$AA$18:$AA$1017),0)","v":0},{"$f":"IFERROR($E302*SUMIF('Daily Log'!$AC$18:$AC$1017,$B302,'Daily Log'!$AD$18:$AD$1017),0)","v":0},{"$f":"IFERROR($E302*SUMIF('Daily Log'!$AF$18:$AF$1017,$B302,'Daily Log'!$AG$18:$AG$1017),0)","v":0},{"$f":"IFERROR($E302*SUMIF('Daily Log'!$AI$18:$AI$1017,$B302,'Daily Log'!$AJ$18:$AJ$1017),0)","v":0},{"$f":"IFERROR($E302*SUMIF('Daily Log'!$AL$18:$AL$1017,$B302,'Daily Log'!$AM$18:$AM$1017),0)","v":0},{"$f":"IFERROR($E302*SUMIF('Daily Log'!$AO$18:$AO$1017,$B302,'Daily Log'!$AP$18:$AP$1017),0)","v":0},{"$f":"IFERROR($E302*SUMIF('Daily Log'!$AR$18:$AR$1017,$B302,'Daily Log'!$AS$18:$AS$1017),0)","v":0},{"$f":"IFERROR($E302*SUMIF('Daily Log'!$AU$18:$AU$1017,$B302,'Daily Log'!$AV$18:$AV$1017),0)","v":0},{"$f":"IFERROR($E302*SUMIF('Daily Log'!$AX$18:$AX$1017,$B302,'Daily Log'!$AY$18:$AY$1017),0)","v":0},{"$f":"IFERROR($E302*SUMIF('Daily Log'!$BA$18:$BA$1017,$B302,'Daily Log'!$BB$18:$BB$1017),0)","v":0},{"$f":"IFERROR($E302*SUMIF('Daily Log'!$BD$18:$BD$1017,$B302,'Daily Log'!$BE$18:$BE$1017),0)","v":0},{"$f":"IFERROR($E302*SUMIF('Daily Log'!$BG$18:$BG$1017,$B302,'Daily Log'!$BH$18:$BH$1017),0)","v":0},{"$f":"IFERROR($E302*SUMIF('Daily Log'!$BJ$18:$BJ$1017,$B302,'Daily Log'!$BK$18:$BK$1017),0)","v":0},{"$f":"IFERROR($E302*SUMIF('Daily Log'!$BM$18:$BM$1017,$B302,'Daily Log'!$BN$18:$BN$1017),0)","v":0},{"$f":"IFERROR($E302*SUMIF('Daily Log'!$BP$18:$BP$1017,$B302,'Daily Log'!$BQ$18:$BQ$1017),0)","v":0},{"$f":"IFERROR($E302*SUMIF('Daily Log'!$BS$18:$BS$1017,$B302,'Daily Log'!$BT$18:$BT$1017),0)","v":0},{"$f":"IFERROR($E302*SUMIF('Daily Log'!$BV$18:$BV$1017,$B302,'Daily Log'!$BW$18:$BW$1017),0)","v":0},{"$f":"IFERROR($E302*SUMIF('Daily Log'!$BY$18:$BY$1017,$B302,'Daily Log'!$BZ$18:$BZ$1017),0)","v":0},{"$f":"IFERROR($E302*SUMIF('Daily Log'!$CB$18:$CB$1017,$B302,'Daily Log'!$CC$18:$CC$1017),0)","v":0},{"$f":"IFERROR($E302*SUMIF('Daily Log'!$CE$18:$CE$1017,$B302,'Daily Log'!$CF$18:$CF$1017),0)","v":0},{"$f":"IFERROR($E302*SUMIF('Daily Log'!$CH$18:$CH$1017,$B302,'Daily Log'!$CI$18:$CI$1017),0)","v":0},{"$f":"IFERROR($E302*SUMIF('Daily Log'!$CK$18:$CK$1017,$B302,'Daily Log'!$CL$18:$CL$1017),0)","v":0},{"$f":"IFERROR($E302*SUMIF('Daily Log'!$CN$18:$CN$1017,$B302,'Daily Log'!$CO$18:$CO$1017),0)","v":8}]
[null,"PD13 80044:CHEE SF TF",null,"LOK LOK",1,28,{"$f":"IFERROR($E303*SUMIF('Daily Log'!$B$18:$B$1017,$B303,'Daily Log'!$C$18:$C$1017),0)","v":0},{"$f":"IFERROR($E303*SUMIF('Daily Log'!$E$18:$E$1017,$B303,'Daily Log'!$F$18:$F$1017),0)","v":0},{"$f":"IFERROR($E303*SUMIF('Daily Log'!$H$18:$H$1017,$B303,'Daily Log'!$I$18:$I$1017),0)","v":0},{"$f":"IFERROR($E303*SUMIF('Daily Log'!$K$18:$K$1017,$B303,'Daily Log'!$L$18:$L$1017),0)","v":0},{"$f":"IFERROR($E303*SUMIF('Daily Log'!$N$18:$N$1017,$B303,'Daily Log'!$O$18:$O$1017),0)","v":0},{"$f":"IFERROR($E303*SUMIF('Daily Log'!$Q$18:$Q$1017,$B303,'Daily Log'!$R$18:$R$1017),0)","v":0},{"$f":"IFERROR($E303*SUMIF('Daily Log'!$T$18:$T$1017,$B303,'Daily Log'!$U$18:$U$1017),0)","v":0},{"$f":"IFERROR($E303*SUMIF('Daily Log'!$W$18:$W$1017,$B303,'Daily Log'!$X$18:$X$1017),0)","v":0},{"$f":"IFERROR($E303*SUMIF('Daily Log'!$Z$18:$Z$1017,$B303,'Daily Log'!$AA$18:$AA$1017),0)","v":0},{"$f":"IFERROR($E303*SUMIF('Daily Log'!$AC$18:$AC$1017,$B303,'Daily Log'!$AD$18:$AD$1017),0)","v":0},{"$f":"IFERROR($E303*SUMIF('Daily Log'!$AF$18:$AF$1017,$B303,'Daily Log'!$AG$18:$AG$1017),0)","v":0},{"$f":"IFERROR($E303*SUMIF('Daily Log'!$AI$18:$AI$1017,$B303,'Daily Log'!$AJ$18:$AJ$1017),0)","v":0},{"$f":"IFERROR($E303*SUMIF('Daily Log'!$AL$18:$AL$1017,$B303,'Daily Log'!$AM$18:$AM$1017),0)","v":0},{"$f":"IFERROR($E303*SUMIF('Daily Log'!$AO$18:$AO$1017,$B303,'Daily Log'!$AP$18:$AP$1017),0)","v":0},{"$f":"IFERROR($E303*SUMIF('Daily Log'!$AR$18:$AR$1017,$B303,'Daily Log'!$AS$18:$AS$1017),0)","v":0},{"$f":"IFERROR($E303*SUMIF('Daily Log'!$AU$18:$AU$1017,$B303,'Daily Log'!$AV$18:$AV$1017),0)","v":0},{"$f":"IFERROR($E303*SUMIF('Daily Log'!$AX$18:$AX$1017,$B303,'Daily Log'!$AY$18:$AY$1017),0)","v":0},{"$f":"IFERROR($E303*SUMIF('Daily Log'!$BA$18:$BA$1017,$B303,'Daily Log'!$BB$18:$BB$1017),0)","v":0},{"$f":"IFERROR($E303*SUMIF('Daily Log'!$BD$18:$BD$1017,$B303,'Daily Log'!$BE$18:$BE$1017),0)","v":0},{"$f":"IFERROR($E303*SUMIF('Daily Log'!$BG$18:$BG$1017,$B303,'Daily Log'!$BH$18:$BH$1017),0)","v":0},{"$f":"IFERROR($E303*SUMIF('Daily Log'!$BJ$18:$BJ$1017,$B303,'Daily Log'!$BK$18:$BK$1017),0)","v":0},{"$f":"IFERROR($E303*SUMIF('Daily Log'!$BM$18:$BM$1017,$B303,'Daily Log'!$BN$18:$BN$1017),0)","v":0},{"$f":"IFERROR($E303*SUMIF('Daily Log'!$BP$18:$BP$1017,$B303,'Daily Log'!$BQ$18:$BQ$1017),0)","v":0},{"$f":"IFERROR($E303*SUMIF('Daily Log'!$BS$18:$BS$1017,$B303,'Daily Log'!$BT$18:$BT$1017),0)","v":0},{"$f":"IFERROR($E303*SUMIF('Daily Log'!$BV$18:$BV$1017,$B303,'Daily Log'!$BW$18:$BW$1017),0)","v":0},{"$f":"IFERROR($E303*SUMIF('Daily Log'!$BY$18:$BY$1017,$B303,'Daily Log'!$BZ$18:$BZ$1017),0)","v":0},{"$f":"IFERROR($E303*SUMIF('Daily Log'!$CB$18:$CB$1017,$B303,'Daily Log'!$CC$18:$CC$1017),0)","v":0},{"$f":"IFERROR($E303*SUMIF('Daily Log'!$CE$18:$CE$1017,$B303,'Daily Log'!$CF$18:$CF$1017),0)","v":0},{"$f":"IFERROR($E303*SUMIF('Daily Log'!$CH$18:$CH$1017,$B303,'Daily Log'!$CI$18:$CI$1017),0)","v":0},{"$f":"IFERROR($E303*SUMIF('Daily Log'!$CK$18:$CK$1017,$B303,'Daily Log'!$CL$18:$CL$1017),0)","v":0},{"$f":"IFERROR($E303*SUMIF('Daily Log'!$CN$18:$CN$1017,$B303,'Daily Log'!$CO$18:$CO$1017),0)","v":28}]
[null,"PD14 80045:R SKIN RL",null,"LOK LOK",1,0,{"$f":"IFERROR($E304*SUMIF('Daily Log'!$B$18:$B$1017,$B304,'Daily Log'!$C$18:$C$1017),0)","v":0},{"$f":"IFERROR($E304*SUMIF('Daily Log'!$E$18:$E$1017,$B304,'Daily Log'!$F$18:$F$1017),0)","v":0},{"$f":"IFERROR($E304*SUMIF('Daily Log'!$H$18:$H$1017,$B304,'Daily Log'!$I$18:$I$1017),0)","v":0},{"$f":"IFERROR($E304*SUMIF('Daily Log'!$K$18:$K$1017,$B304,'Daily Log'!$L$18:$L$1017),0)","v":0},{"$f":"IFERROR($E304*SUMIF('Daily Log'!$N$18:$N$1017,$B304,'Daily Log'!$O$18:$O$1017),0)","v":0},{"$f":"IFERROR($E304*SUMIF('Daily Log'!$Q$18:$Q$1017,$B304,'Daily Log'!$R$18:$R$1017),0)","v":0},{"$f":"IFERROR($E304*SUMIF('Daily Log'!$T$18:$T$1017,$B304,'Daily Log'!$U$18:$U$1017),0)","v":0},{"$f":"IFERROR($E304*SUMIF('Daily Log'!$W$18:$W$1017,$B304,'Daily Log'!$X$18:$X$1017),0)","v":0},{"$f":"IFERROR($E304*SUMIF('Daily Log'!$Z$18:$Z$1017,$B304,'Daily Log'!$AA$18:$AA$1017),0)","v":0},{"$f":"IFERROR($E304*SUMIF('Daily Log'!$AC$18:$AC$1017,$B304,'Daily Log'!$AD$18:$AD$1017),0)","v":0},{"$f":"IFERROR($E304*SUMIF('Daily Log'!$AF$18:$AF$1017,$B304,'Daily Log'!$AG$18:$AG$1017),0)","v":0},{"$f":"IFERROR($E304*SUMIF('Daily Log'!$AI$18:$AI$1017,$B304,'Daily Log'!$AJ$18:$AJ$1017),0)","v":0},{"$f":"IFERROR($E304*SUMIF('Daily Log'!$AL$18:$AL$1017,$B304,'Daily Log'!$AM$18:$AM$1017),0)","v":0},{"$f":"IFERROR($E304*SUMIF('Daily Log'!$AO$18:$AO$1017,$B304,'Daily Log'!$AP$18:$AP$1017),0)","v":0},{"$f":"IFERROR($E304*SUMIF('Daily Log'!$AR$18:$AR$1017,$B304,'Daily Log'!$AS$18:$AS$1017),0)","v":0},{"$f":"IFERROR($E304*SUMIF('Daily Log'!$AU$18:$AU$1017,$B304,'Daily Log'!$AV$18:$AV$1017),0)","v":0},{"$f":"IFERROR($E304*SUMIF('Daily Log'!$AX$18:$AX$1017,$B304,'Daily Log'!$AY$18:$AY$1017),0)","v":0},{"$f":"IFERROR($E304*SUMIF('Daily Log'!$BA$18:$BA$1017,$B304,'Daily Log'!$BB$18:$BB$1017),0)","v":0},{"$f":"IFERROR($E304*SUMIF('Daily Log'!$BD$18:$BD$1017,$B304,'Daily Log'!$BE$18:$BE$1017),0)","v":0},{"$f":"IFERROR($E304*SUMIF('Daily Log'!$BG$18:$BG$1017,$B304,'Daily Log'!$BH$18:$BH$1017),0)","v":0},{"$f":"IFERROR($E304*SUMIF('Daily Log'!$BJ$18:$BJ$1017,$B304,'Daily Log'!$BK$18:$BK$1017),0)","v":0},{"$f":"IFERROR($E304*SUMIF('Daily Log'!$BM$18:$BM$1017,$B304,'Daily Log'!$BN$18:$BN$1017),0)","v":0},{"$f":"IFERROR($E304*SUMIF('Daily Log'!$BP$18:$BP$1017,$B304,'Daily Log'!$BQ$18:$BQ$1017),0)","v":0},{"$f":"IFERROR($E304*SUMIF('Daily Log'!$BS$18:$BS$1017,$B304,'Daily Log'!$BT$18:$BT$1017),0)","v":0},{"$f":"IFERROR($E304*SUMIF('Daily Log'!$BV$18:$BV$1017,$B304,'Daily Log'!$BW$18:$BW$1017),0)","v":0},{"$f":"IFERROR($E304*SUMIF('Daily Log'!$BY$18:$BY$1017,$B304,'Daily Log'!$BZ$18:$BZ$1017),0)","v":0},{"$f":"IFERROR($E304*SUMIF('Daily Log'!$CB$18:$CB$1017,$B304,'Daily Log'!$CC$18:$CC$1017),0)","v":0},{"$f":"IFERROR($E304*SUMIF('Daily Log'!$CE$18:$CE$1017,$B304,'Daily Log'!$CF$18:$CF$1017),0)","v":0},{"$f":"IFERROR($E304*SUMIF('Daily Log'!$CH$18:$CH$1017,$B304,'Daily Log'!$CI$18:$CI$1017),0)","v":0},{"$f":"IFERROR($E304*SUMIF('Daily Log'!$CK$18:$CK$1017,$B304,'Daily Log'!$CL$18:$CL$1017),0)","v":0},{"$f":"IFERROR($E304*SUMIF('Daily Log'!$CN$18:$CN$1017,$B304,'Daily Log'!$CO$18:$CO$1017),0)","v":0}]
[null,"PE01 LOK PACKAGE A",null,"LOK LOK PACKAGE",1,7,{"$f":"IFERROR($E305*SUMIF('Daily Log'!$B$18:$B$1017,$B305,'Daily Log'!$C$18:$C$1017),0)","v":0},{"$f":"IFERROR($E305*SUMIF('Daily Log'!$E$18:$E$1017,$B305,'Daily Log'!$F$18:$F$1017),0)","v":0},{"$f":"IFERROR($E305*SUMIF('Daily Log'!$H$18:$H$1017,$B305,'Daily Log'!$I$18:$I$1017),0)","v":0},{"$f":"IFERROR($E305*SUMIF('Daily Log'!$K$18:$K$1017,$B305,'Daily Log'!$L$18:$L$1017),0)","v":0},{"$f":"IFERROR($E305*SUMIF('Daily Log'!$N$18:$N$1017,$B305,'Daily Log'!$O$18:$O$1017),0)","v":0},{"$f":"IFERROR($E305*SUMIF('Daily Log'!$Q$18:$Q$1017,$B305,'Daily Log'!$R$18:$R$1017),0)","v":0},{"$f":"IFERROR($E305*SUMIF('Daily Log'!$T$18:$T$1017,$B305,'Daily Log'!$U$18:$U$1017),0)","v":0},{"$f":"IFERROR($E305*SUMIF('Daily Log'!$W$18:$W$1017,$B305,'Daily Log'!$X$18:$X$1017),0)","v":0},{"$f":"IFERROR($E305*SUMIF('Daily Log'!$Z$18:$Z$1017,$B305,'Daily Log'!$AA$18:$AA$1017),0)","v":0},{"$f":"IFERROR($E305*SUMIF('Daily Log'!$AC$18:$AC$1017,$B305,'Daily Log'!$AD$18:$AD$1017),0)","v":0},{"$f":"IFERROR($E305*SUMIF('Daily Log'!$AF$18:$AF$1017,$B305,'Daily Log'!$AG$18:$AG$1017),0)","v":0},{"$f":"IFERROR($E305*SUMIF('Daily Log'!$AI$18:$AI$1017,$B305,'Daily Log'!$AJ$18:$AJ$1017),0)","v":0},{"$f":"IFERROR($E305*SUMIF('Daily Log'!$AL$18:$AL$1017,$B305,'Daily Log'!$AM$18:$AM$1017),0)","v":0},{"$f":"IFERROR($E305*SUMIF('Daily Log'!$AO$18:$AO$1017,$B305,'Daily Log'!$AP$18:$AP$1017),0)","v":0},{"$f":"IFERROR($E305*SUMIF('Daily Log'!$AR$18:$AR$1017,$B305,'Daily Log'!$AS$18:$AS$1017),0)","v":0},{"$f":"IFERROR($E305*SUMIF('Daily Log'!$AU$18:$AU$1017,$B305,'Daily Log'!$AV$18:$AV$1017),0)","v":0},{"$f":"IFERROR($E305*SUMIF('Daily Log'!$AX$18:$AX$1017,$B305,'Daily Log'!$AY$18:$AY$1017),0)","v":0},{"$f":"IFERROR($E305*SUMIF('Daily Log'!$BA$18:$BA$1017,$B305,'Daily Log'!$BB$18:$BB$1017),0)","v":0},{"$f":"IFERROR($E305*SUMIF('Daily Log'!$BD$18:$BD$1017,$B305,'Daily Log'!$BE$18:$BE$1017),0)","v":0},{"$f":"IFERROR($E305*SUMIF('Daily Log'!$BG$18:$BG$1017,$B305,'Daily Log'!$BH$18:$BH$1017),0)","v":0},{"$f":"IFERROR($E305*SUMIF('Daily Log'!$BJ$18:$BJ$1017,$B305,'Daily Log'!$BK$18:$BK$1017),0)","v":0},{"$f":"IFERROR($E305*SUMIF('Daily Log'!$BM$18:$BM$1017,$B305,'Daily Log'!$BN$18:$BN$1017),0)","v":0},{"$f":"IFERROR($E305*SUMIF('Daily Log'!$BP$18:$BP$1017,$B305,'Daily Log'!$BQ$18:$BQ$1017),0)","v":0},{"$f":"IFERROR($E305*SUMIF('Daily Log'!$BS$18:$BS$1017,$B305,'Daily Log'!$BT$18:$BT$1017),0)","v":0},{"$f":"IFERROR($E305*SUMIF('Daily Log'!$BV$18:$BV$1017,$B305,'Daily Log'!$BW$18:$BW$1017),0)","v":0},{"$f":"IFERROR($E305*SUMIF('Daily Log'!$BY$18:$BY$1017,$B305,'Daily Log'!$BZ$18:$BZ$1017),0)","v":0},{"$f":"IFERROR($E305*SUMIF('Daily Log'!$CB$18:$CB$1017,$B305,'Daily Log'!$CC$18:$CC$1017),0)","v":0},{"$f":"IFERROR($E305*SUMIF('Daily Log'!$CE$18:$CE$1017,$B305,'Daily Log'!$CF$18:$CF$1017),0)","v":0},{"$f":"IFERROR($E305*SUMIF('Daily Log'!$CH$18:$CH$1017,$B305,'Daily Log'!$CI$18:$CI$1017),0)","v":0},{"$f":"IFERROR($E305*SUMIF('Daily Log'!$CK$18:$CK$1017,$B305,'Daily Log'!$CL$18:$CL$1017),0)","v":0},{"$f":"IFERROR($E305*SUMIF('Daily Log'!$CN$18:$CN$1017,$B305,'Daily Log'!$CO$18:$CO$1017),0)","v":7}]
[null,"PE02 LOK PACKAGE B",null,"LOK LOK PACKAGE",1,12,{"$f":"IFERROR($E306*SUMIF('Daily Log'!$B$18:$B$1017,$B306,'Daily Log'!$C$18:$C$1017),0)","v":0},{"$f":"IFERROR($E306*SUMIF('Daily Log'!$E$18:$E$1017,$B306,'Daily Log'!$F$18:$F$1017),0)","v":0},{"$f":"IFERROR($E306*SUMIF('Daily Log'!$H$18:$H$1017,$B306,'Daily Log'!$I$18:$I$1017),0)","v":0},{"$f":"IFERROR($E306*SUMIF('Daily Log'!$K$18:$K$1017,$B306,'Daily Log'!$L$18:$L$1017),0)","v":0},{"$f":"IFERROR($E306*SUMIF('Daily Log'!$N$18:$N$1017,$B306,'Daily Log'!$O$18:$O$1017),0)","v":0},{"$f":"IFERROR($E306*SUMIF('Daily Log'!$Q$18:$Q$1017,$B306,'Daily Log'!$R$18:$R$1017),0)","v":0},{"$f":"IFERROR($E306*SUMIF('Daily Log'!$T$18:$T$1017,$B306,'Daily Log'!$U$18:$U$1017),0)","v":0},{"$f":"IFERROR($E306*SUMIF('Daily Log'!$W$18:$W$1017,$B306,'Daily Log'!$X$18:$X$1017),0)","v":0},{"$f":"IFERROR($E306*SUMIF('Daily Log'!$Z$18:$Z$1017,$B306,'Daily Log'!$AA$18:$AA$1017),0)","v":0},{"$f":"IFERROR($E306*SUMIF('Daily Log'!$AC$18:$AC$1017,$B306,'Daily Log'!$AD$18:$AD$1017),0)","v":0},{"$f":"IFERROR($E306*SUMIF('Daily Log'!$AF$18:$AF$1017,$B306,'Daily Log'!$AG$18:$AG$1017),0)","v":0},{"$f":"IFERROR($E306*SUMIF('Daily Log'!$AI$18:$AI$1017,$B306,'Daily Log'!$AJ$18:$AJ$1017),0)","v":0},{"$f":"IFERROR($E306*SUMIF('Daily Log'!$AL$18:$AL$1017,$B306,'Daily Log'!$AM$18:$AM$1017),0)","v":0},{"$f":"IFERROR($E306*SUMIF('Daily Log'!$AO$18:$AO$1017,$B306,'Daily Log'!$AP$18:$AP$1017),0)","v":0},{"$f":"IFERROR($E306*SUMIF('Daily Log'!$AR$18:$AR$1017,$B306,'Daily Log'!$AS$18:$AS$1017),0)","v":0},{"$f":"IFERROR($E306*SUMIF('Daily Log'!$AU$18:$AU$1017,$B306,'Daily Log'!$AV$18:$AV$1017),0)","v":0},{"$f":"IFERROR($E306*SUMIF('Daily Log'!$AX$18:$AX$1017,$B306,'Daily Log'!$AY$18:$AY$1017),0)","v":0},{"$f":"IFERROR($E306*SUMIF('Daily Log'!$BA$18:$BA$1017,$B306,'Daily Log'!$BB$18:$BB$1017),0)","v":0},{"$f":"IFERROR($E306*SUMIF('Daily Log'!$BD$18:$BD$1017,$B306,'Daily Log'!$BE$18:$BE$1017),0)","v":0},{"$f":"IFERROR($E306*SUMIF('Daily Log'!$BG$18:$BG$1017,$B306,'Daily Log'!$BH$18:$BH$1017),0)","v":0},{"$f":"IFERROR($E306*SUMIF('Daily Log'!$BJ$18:$BJ$1017,$B306,'Daily Log'!$BK$18:$BK$1017),0)","v":0},{"$f":"IFERROR($E306*SUMIF('Daily Log'!$BM$18:$BM$1017,$B306,'Daily Log'!$BN$18:$BN$1017),0)","v":0},{"$f":"IFERROR($E306*SUMIF('Daily Log'!$BP$18:$BP$1017,$B306,'Daily Log'!$BQ$18:$BQ$1017),0)","v":0},{"$f":"IFERROR($E306*SUMIF('Daily Log'!$BS$18:$BS$1017,$B306,'Daily Log'!$BT$18:$BT$1017),0)","v":0},{"$f":"IFERROR($E306*SUMIF('Daily Log'!$BV$18:$BV$1017,$B306,'Daily Log'!$BW$18:$BW$1017),0)","v":0},{"$f":"IFERROR($E306*SUMIF('Daily Log'!$BY$18:$BY$1017,$B306,'Daily Log'!$BZ$18:$BZ$1017),0)","v":0},{"$f":"IFERROR($E306*SUMIF('Daily Log'!$CB$18:$CB$1017,$B306,'Daily Log'!$CC$18:$CC$1017),0)","v":0},{"$f":"IFERROR($E306*SUMIF('Daily Log'!$CE$18:$CE$1017,$B306,'Daily Log'!$CF$18:$CF$1017),0)","v":0},{"$f":"IFERROR($E306*SUMIF('Daily Log'!$CH$18:$CH$1017,$B306,'Daily Log'!$CI$18:$CI$1017),0)","v":0},{"$f":"IFERROR($E306*SUMIF('Daily Log'!$CK$18:$CK$1017,$B306,'Daily Log'!$CL$18:$CL$1017),0)","v":0},{"$f":"IFERROR($E306*SUMIF('Daily Log'!$CN$18:$CN$1017,$B306,'Daily Log'!$CO$18:$CO$1017),0)","v":12}]
[null,"ZL11 91021:PA CKN CP",null,"NY MEAL",1,8,{"$f":"IFERROR($E307*SUMIF('Daily Log'!$B$18:$B$1017,$B307,'Daily Log'!$C$18:$C$1017),0)","v":0},{"$f":"IFERROR($E307*SUMIF('Daily Log'!$E$18:$E$1017,$B307,'Daily Log'!$F$18:$F$1017),0)","v":0},{"$f":"IFERROR($E307*SUMIF('Daily Log'!$H$18:$H$1017,$B307,'Daily Log'!$I$18:$I$1017),0)","v":0},{"$f":"IFERROR($E307*SUMIF('Daily Log'!$K$18:$K$1017,$B307,'Daily Log'!$L$18:$L$1017),0)","v":0},{"$f":"IFERROR($E307*SUMIF('Daily Log'!$N$18:$N$1017,$B307,'Daily Log'!$O$18:$O$1017),0)","v":0},{"$f":"IFERROR($E307*SUMIF('Daily Log'!$Q$18:$Q$1017,$B307,'Daily Log'!$R$18:$R$1017),0)","v":0},{"$f":"IFERROR($E307*SUMIF('Daily Log'!$T$18:$T$1017,$B307,'Daily Log'!$U$18:$U$1017),0)","v":0},{"$f":"IFERROR($E307*SUMIF('Daily Log'!$W$18:$W$1017,$B307,'Daily Log'!$X$18:$X$1017),0)","v":0},{"$f":"IFERROR($E307*SUMIF('Daily Log'!$Z$18:$Z$1017,$B307,'Daily Log'!$AA$18:$AA$1017),0)","v":0},{"$f":"IFERROR($E307*SUMIF('Daily Log'!$AC$18:$AC$1017,$B307,'Daily Log'!$AD$18:$AD$1017),0)","v":0},{"$f":"IFERROR($E307*SUMIF('Daily Log'!$AF$18:$AF$1017,$B307,'Daily Log'!$AG$18:$AG$1017),0)","v":0},{"$f":"IFERROR($E307*SUMIF('Daily Log'!$AI$18:$AI$1017,$B307,'Daily Log'!$AJ$18:$AJ$1017),0)","v":0},{"$f":"IFERROR($E307*SUMIF('Daily Log'!$AL$18:$AL$1017,$B307,'Daily Log'!$AM$18:$AM$1017),0)","v":0},{"$f":"IFERROR($E307*SUMIF('Daily Log'!$AO$18:$AO$1017,$B307,'Daily Log'!$AP$18:$AP$1017),0)","v":0},{"$f":"IFERROR($E307*SUMIF('Daily Log'!$AR$18:$AR$1017,$B307,'Daily Log'!$AS$18:$AS$1017),0)","v":0},{"$f":"IFERROR($E307*SUMIF('Daily Log'!$AU$18:$AU$1017,$B307,'Daily Log'!$AV$18:$AV$1017),0)","v":0},{"$f":"IFERROR($E307*SUMIF('Daily Log'!$AX$18:$AX$1017,$B307,'Daily Log'!$AY$18:$AY$1017),0)","v":0},{"$f":"IFERROR($E307*SUMIF('Daily Log'!$BA$18:$BA$1017,$B307,'Daily Log'!$BB$18:$BB$1017),0)","v":0},{"$f":"IFERROR($E307*SUMIF('Daily Log'!$BD$18:$BD$1017,$B307,'Daily Log'!$BE$18:$BE$1017),0)","v":0},{"$f":"IFERROR($E307*SUMIF('Daily Log'!$BG$18:$BG$1017,$B307,'Daily Log'!$BH$18:$BH$1017),0)","v":0},{"$f":"IFERROR($E307*SUMIF('Daily Log'!$BJ$18:$BJ$1017,$B307,'Daily Log'!$BK$18:$BK$1017),0)","v":0},{"$f":"IFERROR($E307*SUMIF('Daily Log'!$BM$18:$BM$1017,$B307,'Daily Log'!$BN$18:$BN$1017),0)","v":0},{"$f":"IFERROR($E307*SUMIF('Daily Log'!$BP$18:$BP$1017,$B307,'Daily Log'!$BQ$18:$BQ$1017),0)","v":0},{"$f":"IFERROR($E307*SUMIF('Daily Log'!$BS$18:$BS$1017,$B307,'Daily Log'!$BT$18:$BT$1017),0)","v":0},{"$f":"IFERROR($E307*SUMIF('Daily Log'!$BV$18:$BV$1017,$B307,'Daily Log'!$BW$18:$BW$1017),0)","v":0},{"$f":"IFERROR($E307*SUMIF('Daily Log'!$BY$18:$BY$1017,$B307,'Daily Log'!$BZ$18:$BZ$1017),0)","v":0},{"$f":"IFERROR($E307*SUMIF('Daily Log'!$CB$18:$CB$1017,$B307,'Daily Log'!$CC$18:$CC$1017),0)","v":0},{"$f":"IFERROR($E307*SUMIF('Daily Log'!$CE$18:$CE$1017,$B307,'Daily Log'!$CF$18:$CF$1017),0)","v":0},{"$f":"IFERROR($E307*SUMIF('Daily Log'!$CH$18:$CH$1017,$B307,'Daily Log'!$CI$18:$CI$1017),0)","v":0},{"$f":"IFERROR($E307*SUMIF('Daily Log'!$CK$18:$CK$1017,$B307,'Daily Log'!$CL$18:$CL$1017),0)","v":0},{"$f":"IFERROR($E307*SUMIF('Daily Log'!$CN$18:$CN$1017,$B307,'Daily Log'!$CO$18:$CO$1017),0)","v":8}]
[null,"ZL12 91022:TPR FSH CH",null,"NY MEAL",1,5,{"$f":"IFERROR($E308*SUMIF('Daily Log'!$B$18:$B$1017,$B308,'Daily Log'!$C$18:$C$1017),0)","v":0},{"$f":"IFERROR($E308*SUMIF('Daily Log'!$E$18:$E$1017,$B308,'Daily Log'!$F$18:$F$1017),0)","v":0},{"$f":"IFERROR($E308*SUMIF('Daily Log'!$H$18:$H$1017,$B308,'Daily Log'!$I$18:$I$1017),0)","v":0},{"$f":"IFERROR($E308*SUMIF('Daily Log'!$K$18:$K$1017,$B308,'Daily Log'!$L$18:$L$1017),0)","v":0},{"$f":"IFERROR($E308*SUMIF('Daily Log'!$N$18:$N$1017,$B308,'Daily Log'!$O$18:$O$1017),0)","v":0},{"$f":"IFERROR($E308*SUMIF('Daily Log'!$Q$18:$Q$1017,$B308,'Daily Log'!$R$18:$R$1017),0)","v":0},{"$f":"IFERROR($E308*SUMIF('Daily Log'!$T$18:$T$1017,$B308,'Daily Log'!$U$18:$U$1017),0)","v":0},{"$f":"IFERROR($E308*SUMIF('Daily Log'!$W$18:$W$1017,$B308,'Daily Log'!$X$18:$X$1017),0)","v":0},{"$f":"IFERROR($E308*SUMIF('Daily Log'!$Z$18:$Z$1017,$B308,'Daily Log'!$AA$18:$AA$1017),0)","v":0},{"$f":"IFERROR($E308*SUMIF('Daily Log'!$AC$18:$AC$1017,$B308,'Daily Log'!$AD$18:$AD$1017),0)","v":0},{"$f":"IFERROR($E308*SUMIF('Daily Log'!$AF$18:$AF$1017,$B308,'Daily Log'!$AG$18:$AG$1017),0)","v":0},{"$f":"IFERROR($E308*SUMIF('Daily Log'!$AI$18:$AI$1017,$B308,'Daily Log'!$AJ$18:$AJ$1017),0)","v":0},{"$f":"IFERROR($E308*SUMIF('Daily Log'!$AL$18:$AL$1017,$B308,'Daily Log'!$AM$18:$AM$1017),0)","v":0},{"$f":"IFERROR($E308*SUMIF('Daily Log'!$AO$18:$AO$1017,$B308,'Daily Log'!$AP$18:$AP$1017),0)","v":0},{"$f":"IFERROR($E308*SUMIF('Daily Log'!$AR$18:$AR$1017,$B308,'Daily Log'!$AS$18:$AS$1017),0)","v":0},{"$f":"IFERROR($E308*SUMIF('Daily Log'!$AU$18:$AU$1017,$B308,'Daily Log'!$AV$18:$AV$1017),0)","v":0},{"$f":"IFERROR($E308*SUMIF('Daily Log'!$AX$18:$AX$1017,$B308,'Daily Log'!$AY$18:$AY$1017),0)","v":0},{"$f":"IFERROR($E308*SUMIF('Daily Log'!$BA$18:$BA$1017,$B308,'Daily Log'!$BB$18:$BB$1017),0)","v":0},{"$f":"IFERROR($E308*SUMIF('Daily Log'!$BD$18:$BD$1017,$B308,'Daily Log'!$BE$18:$BE$1017),0)","v":0},{"$f":"IFERROR($E308*SUMIF('Daily Log'!$BG$18:$BG$1017,$B308,'Daily Log'!$BH$18:$BH$1017),0)","v":0},{"$f":"IFERROR($E308*SUMIF('Daily Log'!$BJ$18:$BJ$1017,$B308,'Daily Log'!$BK$18:$BK$1017),0)","v":0},{"$f":"IFERROR($E308*SUMIF('Daily Log'!$BM$18:$BM$1017,$B308,'Daily Log'!$BN$18:$BN$1017),0)","v":0},{"$f":"IFERROR($E308*SUMIF('Daily Log'!$BP$18:$BP$1017,$B308,'Daily Log'!$BQ$18:$BQ$1017),0)","v":0},{"$f":"IFERROR($E308*SUMIF('Daily Log'!$BS$18:$BS$1017,$B308,'Daily Log'!$BT$18:$BT$1017),0)","v":0},{"$f":"IFERROR($E308*SUMIF('Daily Log'!$BV$18:$BV$1017,$B308,'Daily Log'!$BW$18:$BW$1017),0)","v":0},{"$f":"IFERROR($E308*SUMIF('Daily Log'!$BY$18:$BY$1017,$B308,'Daily Log'!$BZ$18:$BZ$1017),0)","v":0},{"$f":"IFERROR($E308*SUMIF('Daily Log'!$CB$18:$CB$1017,$B308,'Daily Log'!$CC$18:$CC$1017),0)","v":0},{"$f":"IFERROR($E308*SUMIF('Daily Log'!$CE$18:$CE$1017,$B308,'Daily Log'!$CF$18:$CF$1017),0)","v":0},{"$f":"IFERROR($E308*SUMIF('Daily Log'!$CH$18:$CH$1017,$B308,'Daily Log'!$CI$18:$CI$1017),0)","v":0},{"$f":"IFERROR($E308*SUMIF('Daily Log'!$CK$18:$CK$1017,$B308,'Daily Log'!$CL$18:$CL$1017),0)","v":0},{"$f":"IFERROR($E308*SUMIF('Daily Log'!$CN$18:$CN$1017,$B308,'Daily Log'!$CO$18:$CO$1017),0)","v":5}]
[null,"ZL13 91023:LMN FSH FL",null,"NY MEAL",1,6,{"$f":"IFERROR($E309*SUMIF('Daily Log'!$B$18:$B$1017,$B309,'Daily Log'!$C$18:$C$1017),0)","v":0},{"$f":"IFERROR($E309*SUMIF('Daily Log'!$E$18:$E$1017,$B309,'Daily Log'!$F$18:$F$1017),0)","v":0},{"$f":"IFERROR($E309*SUMIF('Daily Log'!$H$18:$H$1017,$B309,'Daily Log'!$I$18:$I$1017),0)","v":0},{"$f":"IFERROR($E309*SUMIF('Daily Log'!$K$18:$K$1017,$B309,'Daily Log'!$L$18:$L$1017),0)","v":0},{"$f":"IFERROR($E309*SUMIF('Daily Log'!$N$18:$N$1017,$B309,'Daily Log'!$O$18:$O$1017),0)","v":0},{"$f":"IFERROR($E309*SUMIF('Daily Log'!$Q$18:$Q$1017,$B309,'Daily Log'!$R$18:$R$1017),0)","v":0},{"$f":"IFERROR($E309*SUMIF('Daily Log'!$T$18:$T$1017,$B309,'Daily Log'!$U$18:$U$1017),0)","v":0},{"$f":"IFERROR($E309*SUMIF('Daily Log'!$W$18:$W$1017,$B309,'Daily Log'!$X$18:$X$1017),0)","v":0},{"$f":"IFERROR($E309*SUMIF('Daily Log'!$Z$18:$Z$1017,$B309,'Daily Log'!$AA$18:$AA$1017),0)","v":0},{"$f":"IFERROR($E309*SUMIF('Daily Log'!$AC$18:$AC$1017,$B309,'Daily Log'!$AD$18:$AD$1017),0)","v":0},{"$f":"IFERROR($E309*SUMIF('Daily Log'!$AF$18:$AF$1017,$B309,'Daily Log'!$AG$18:$AG$1017),0)","v":0},{"$f":"IFERROR($E309*SUMIF('Daily Log'!$AI$18:$AI$1017,$B309,'Daily Log'!$AJ$18:$AJ$1017),0)","v":0},{"$f":"IFERROR($E309*SUMIF('Daily Log'!$AL$18:$AL$1017,$B309,'Daily Log'!$AM$18:$AM$1017),0)","v":0},{"$f":"IFERROR($E309*SUMIF('Daily Log'!$AO$18:$AO$1017,$B309,'Daily Log'!$AP$18:$AP$1017),0)","v":0},{"$f":"IFERROR($E309*SUMIF('Daily Log'!$AR$18:$AR$1017,$B309,'Daily Log'!$AS$18:$AS$1017),0)","v":0},{"$f":"IFERROR($E309*SUMIF('Daily Log'!$AU$18:$AU$1017,$B309,'Daily Log'!$AV$18:$AV$1017),0)","v":0},{"$f":"IFERROR($E309*SUMIF('Daily Log'!$AX$18:$AX$1017,$B309,'Daily Log'!$AY$18:$AY$1017),0)","v":0},{"$f":"IFERROR($E309*SUMIF('Daily Log'!$BA$18:$BA$1017,$B309,'Daily Log'!$BB$18:$BB$1017),0)","v":0},{"$f":"IFERROR($E309*SUMIF('Daily Log'!$BD$18:$BD$1017,$B309,'Daily Log'!$BE$18:$BE$1017),0)","v":0},{"$f":"IFERROR($E309*SUMIF('Daily Log'!$BG$18:$BG$1017,$B309,'Daily Log'!$BH$18:$BH$1017),0)","v":0},{"$f":"IFERROR($E309*SUMIF('Daily Log'!$BJ$18:$BJ$1017,$B309,'Daily Log'!$BK$18:$BK$1017),0)","v":0},{"$f":"IFERROR($E309*SUMIF('Daily Log'!$BM$18:$BM$1017,$B309,'Daily Log'!$BN$18:$BN$1017),0)","v":0},{"$f":"IFERROR($E309*SUMIF('Daily Log'!$BP$18:$BP$1017,$B309,'Daily Log'!$BQ$18:$BQ$1017),0)","v":0},{"$f":"IFERROR($E309*SUMIF('Daily Log'!$BS$18:$BS$1017,$B309,'Daily Log'!$BT$18:$BT$1017),0)","v":0},{"$f":"IFERROR($E309*SUMIF('Daily Log'!$BV$18:$BV$1017,$B309,'Daily Log'!$BW$18:$BW$1017),0)","v":0},{"$f":"IFERROR($E309*SUMIF('Daily Log'!$BY$18:$BY$1017,$B309,'Daily Log'!$BZ$18:$BZ$1017),0)","v":0},{"$f":"IFERROR($E309*SUMIF('Daily Log'!$CB$18:$CB$1017,$B309,'Daily Log'!$CC$18:$CC$1017),0)","v":0},{"$f":"IFERROR($E309*SUMIF('Daily Log'!$CE$18:$CE$1017,$B309,'Daily Log'!$CF$18:$CF$1017),0)","v":0},{"$f":"IFERROR($E309*SUMIF('Daily Log'!$CH$18:$CH$1017,$B309,'Daily Log'!$CI$18:$CI$1017),0)","v":0},{"$f":"IFERROR($E309*SUMIF('Daily Log'!$CK$18:$CK$1017,$B309,'Daily Log'!$CL$18:$CL$1017),0)","v":0},{"$f":"IFERROR($E309*SUMIF('Daily Log'!$CN$18:$CN$1017,$B309,'Daily Log'!$CO$18:$CO$1017),0)","v":6}]
[null,"ZL14 91024:SF RICE",null,"NY MEAL",1,9,{"$f":"IFERROR($E310*SUMIF('Daily Log'!$B$18:$B$1017,$B310,'Daily Log'!$C$18:$C$1017),0)","v":0},{"$f":"IFERROR($E310*SUMIF('Daily Log'!$E$18:$E$1017,$B310,'Daily Log'!$F$18:$F$1017),0)","v":0},{"$f":"IFERROR($E310*SUMIF('Daily Log'!$H$18:$H$1017,$B310,'Daily Log'!$I$18:$I$1017),0)","v":0},{"$f":"IFERROR($E310*SUMIF('Daily Log'!$K$18:$K$1017,$B310,'Daily Log'!$L$18:$L$1017),0)","v":0},{"$f":"IFERROR($E310*SUMIF('Daily Log'!$N$18:$N$1017,$B310,'Daily Log'!$O$18:$O$1017),0)","v":0},{"$f":"IFERROR($E310*SUMIF('Daily Log'!$Q$18:$Q$1017,$B310,'Daily Log'!$R$18:$R$1017),0)","v":0},{"$f":"IFERROR($E310*SUMIF('Daily Log'!$T$18:$T$1017,$B310,'Daily Log'!$U$18:$U$1017),0)","v":0},{"$f":"IFERROR($E310*SUMIF('Daily Log'!$W$18:$W$1017,$B310,'Daily Log'!$X$18:$X$1017),0)","v":0},{"$f":"IFERROR($E310*SUMIF('Daily Log'!$Z$18:$Z$1017,$B310,'Daily Log'!$AA$18:$AA$1017),0)","v":0},{"$f":"IFERROR($E310*SUMIF('Daily Log'!$AC$18:$AC$1017,$B310,'Daily Log'!$AD$18:$AD$1017),0)","v":0},{"$f":"IFERROR($E310*SUMIF('Daily Log'!$AF$18:$AF$1017,$B310,'Daily Log'!$AG$18:$AG$1017),0)","v":0},{"$f":"IFERROR($E310*SUMIF('Daily Log'!$AI$18:$AI$1017,$B310,'Daily Log'!$AJ$18:$AJ$1017),0)","v":0},{"$f":"IFERROR($E310*SUMIF('Daily Log'!$AL$18:$AL$1017,$B310,'Daily Log'!$AM$18:$AM$1017),0)","v":0},{"$f":"IFERROR($E310*SUMIF('Daily Log'!$AO$18:$AO$1017,$B310,'Daily Log'!$AP$18:$AP$1017),0)","v":0},{"$f":"IFERROR($E310*SUMIF('Daily Log'!$AR$18:$AR$1017,$B310,'Daily Log'!$AS$18:$AS$1017),0)","v":0},{"$f":"IFERROR($E310*SUMIF('Daily Log'!$AU$18:$AU$1017,$B310,'Daily Log'!$AV$18:$AV$1017),0)","v":0},{"$f":"IFERROR($E310*SUMIF('Daily Log'!$AX$18:$AX$1017,$B310,'Daily Log'!$AY$18:$AY$1017),0)","v":0},{"$f":"IFERROR($E310*SUMIF('Daily Log'!$BA$18:$BA$1017,$B310,'Daily Log'!$BB$18:$BB$1017),0)","v":0},{"$f":"IFERROR($E310*SUMIF('Daily Log'!$BD$18:$BD$1017,$B310,'Daily Log'!$BE$18:$BE$1017),0)","v":0},{"$f":"IFERROR($E310*SUMIF('Daily Log'!$BG$18:$BG$1017,$B310,'Daily Log'!$BH$18:$BH$1017),0)","v":0},{"$f":"IFERROR($E310*SUMIF('Daily Log'!$BJ$18:$BJ$1017,$B310,'Daily Log'!$BK$18:$BK$1017),0)","v":0},{"$f":"IFERROR($E310*SUMIF('Daily Log'!$BM$18:$BM$1017,$B310,'Daily Log'!$BN$18:$BN$1017),0)","v":0},{"$f":"IFERROR($E310*SUMIF('Daily Log'!$BP$18:$BP$1017,$B310,'Daily Log'!$BQ$18:$BQ$1017),0)","v":0},{"$f":"IFERROR($E310*SUMIF('Daily Log'!$BS$18:$BS$1017,$B310,'Daily Log'!$BT$18:$BT$1017),0)","v":0},{"$f":"IFERROR($E310*SUMIF('Daily Log'!$BV$18:$BV$1017,$B310,'Daily Log'!$BW$18:$BW$1017),0)","v":0},{"$f":"IFERROR($E310*SUMIF('Daily Log'!$BY$18:$BY$1017,$B310,'Daily Log'!$BZ$18:$BZ$1017),0)","v":0},{"$f":"IFERROR($E310*SUMIF('Daily Log'!$CB$18:$CB$1017,$B310,'Daily Log'!$CC$18:$CC$1017),0)","v":0},{"$f":"IFERROR($E310*SUMIF('Daily Log'!$CE$18:$CE$1017,$B310,'Daily Log'!$CF$18:$CF$1017),0)","v":0},{"$f":"IFERROR($E310*SUMIF('Daily Log'!$CH$18:$CH$1017,$B310,'Daily Log'!$CI$18:$CI$1017),0)","v":0},{"$f":"IFERROR($E310*SUMIF('Daily Log'!$CK$18:$CK$1017,$B310,'Daily Log'!$CL$18:$CL$1017),0)","v":0},{"$f":"IFERROR($E310*SUMIF('Daily Log'!$CN$18:$CN$1017,$B310,'Daily Log'!$CO$18:$CO$1017),0)","v":9}]
[null,"ZL02 1022:TPR FSH CH",null,null,1,1,{"$f":"IFERROR($E311*SUMIF('Daily Log'!$B$18:$B$1017,$B311,'Daily Log'!$C$18:$C$1017),0)","v":0},{"$f":"IFERROR($E311*SUMIF('Daily Log'!$E$18:$E$1017,$B311,'Daily Log'!$F$18:$F$1017),0)","v":0},{"$f":"IFERROR($E311*SUMIF('Daily Log'!$H$18:$H$1017,$B311,'Daily Log'!$I$18:$I$1017),0)","v":0},{"$f":"IFERROR($E311*SUMIF('Daily Log'!$K$18:$K$1017,$B311,'Daily Log'!$L$18:$L$1017),0)","v":0},{"$f":"IFERROR($E311*SUMIF('Daily Log'!$N$18:$N$1017,$B311,'Daily Log'!$O$18:$O$1017),0)","v":0},{"$f":"IFERROR($E311*SUMIF('Daily Log'!$Q$18:$Q$1017,$B311,'Daily Log'!$R$18:$R$1017),0)","v":0},{"$f":"IFERROR($E311*SUMIF('Daily Log'!$T$18:$T$1017,$B311,'Daily Log'!$U$18:$U$1017),0)","v":0},{"$f":"IFERROR($E311*SUMIF('Daily Log'!$W$18:$W$1017,$B311,'Daily Log'!$X$18:$X$1017),0)","v":0},{"$f":"IFERROR($E311*SUMIF('Daily Log'!$Z$18:$Z$1017,$B311,'Daily Log'!$AA$18:$AA$1017),0)","v":0},{"$f":"IFERROR($E311*SUMIF('Daily Log'!$AC$18:$AC$1017,$B311,'Daily Log'!$AD$18:$AD$1017),0)","v":0},{"$f":"IFERROR($E311*SUMIF('Daily Log'!$AF$18:$AF$1017,$B311,'Daily Log'!$AG$18:$AG$1017),0)","v":0},{"$f":"IFERROR($E311*SUMIF('Daily Log'!$AI$18:$AI$1017,$B311,'Daily Log'!$AJ$18:$AJ$1017),0)","v":0},{"$f":"IFERROR($E311*SUMIF('Daily Log'!$AL$18:$AL$1017,$B311,'Daily Log'!$AM$18:$AM$1017),0)","v":0},{"$f":"IFERROR($E311*SUMIF('Daily Log'!$AO$18:$AO$1017,$B311,'Daily Log'!$AP$18:$AP$1017),0)","v":0},{"$f":"IFERROR($E311*SUMIF('Daily Log'!$AR$18:$AR$1017,$B311,'Daily Log'!$AS$18:$AS$1017),0)","v":0},{"$f":"IFERROR($E311*SUMIF('Daily Log'!$AU$18:$AU$1017,$B311,'Daily Log'!$AV$18:$AV$1017),0)","v":0},{"$f":"IFERROR($E311*SUMIF('Daily Log'!$AX$18:$AX$1017,$B311,'Daily Log'!$AY$18:$AY$1017),0)","v":0},{"$f":"IFERROR($E311*SUMIF('Daily Log'!$BA$18:$BA$1017,$B311,'Daily Log'!$BB$18:$BB$1017),0)","v":0},{"$f":"IFERROR($E311*SUMIF('Daily Log'!$BD$18:$BD$1017,$B311,'Daily Log'!$BE$18:$BE$1017),0)","v":0},{"$f":"IFERROR($E311*SUMIF('Daily Log'!$BG$18:$BG$1017,$B311,'Daily Log'!$BH$18:$BH$1017),0)","v":0},{"$f":"IFERROR($E311*SUMIF('Daily Log'!$BJ$18:$BJ$1017,$B311,'Daily Log'!$BK$18:$BK$1017),0)","v":0},{"$f":"IFERROR($E311*SUMIF('Daily Log'!$BM$18:$BM$1017,$B311,'Daily Log'!$BN$18:$BN$1017),0)","v":0},{"$f":"IFERROR($E311*SUMIF('Daily Log'!$BP$18:$BP$1017,$B311,'Daily Log'!$BQ$18:$BQ$1017),0)","v":0},{"$f":"IFERROR($E311*SUMIF('Daily Log'!$BS$18:$BS$1017,$B311,'Daily Log'!$BT$18:$BT$1017),0)","v":0},{"$f":"IFERROR($E311*SUMIF('Daily Log'!$BV$18:$BV$1017,$B311,'Daily Log'!$BW$18:$BW$1017),0)","v":0},{"$f":"IFERROR($E311*SUMIF('Daily Log'!$BY$18:$BY$1017,$B311,'Daily Log'!$BZ$18:$BZ$1017),0)","v":0},{"$f":"IFERROR($E311*SUMIF('Daily Log'!$CB$18:$CB$1017,$B311,'Daily Log'!$CC$18:$CC$1017),0)","v":0},{"$f":"IFERROR($E311*SUMIF('Daily Log'!$CE$18:$CE$1017,$B311,'Daily Log'!$CF$18:$CF$1017),0)","v":0},{"$f":"IFERROR($E311*SUMIF('Daily Log'!$CH$18:$CH$1017,$B311,'Daily Log'!$CI$18:$CI$1017),0)","v":0},{"$f":"IFERROR($E311*SUMIF('Daily Log'!$CK$18:$CK$1017,$B311,'Daily Log'!$CL$18:$CL$1017),0)","v":0},{"$f":"IFERROR($E311*SUMIF('Daily Log'!$CN$18:$CN$1017,$B311,'Daily Log'!$CO$18:$CO$1017),0)","v":1}]
[null,"ZL05 1025:CNY PLATTER",null,null,1,11,{"$f":"IFERROR($E312*SUMIF('Daily Log'!$B$18:$B$1017,$B312,'Daily Log'!$C$18:$C$1017),0)","v":0},{"$f":"IFERROR($E312*SUMIF('Daily Log'!$E$18:$E$1017,$B312,'Daily Log'!$F$18:$F$1017),0)","v":0},{"$f":"IFERROR($E312*SUMIF('Daily Log'!$H$18:$H$1017,$B312,'Daily Log'!$I$18:$I$1017),0)","v":0},{"$f":"IFERROR($E312*SUMIF('Daily Log'!$K$18:$K$1017,$B312,'Daily Log'!$L$18:$L$1017),0)","v":0},{"$f":"IFERROR($E312*SUMIF('Daily Log'!$N$18:$N$1017,$B312,'Daily Log'!$O$18:$O$1017),0)","v":0},{"$f":"IFERROR($E312*SUMIF('Daily Log'!$Q$18:$Q$1017,$B312,'Daily Log'!$R$18:$R$1017),0)","v":0},{"$f":"IFERROR($E312*SUMIF('Daily Log'!$T$18:$T$1017,$B312,'Daily Log'!$U$18:$U$1017),0)","v":0},{"$f":"IFERROR($E312*SUMIF('Daily Log'!$W$18:$W$1017,$B312,'Daily Log'!$X$18:$X$1017),0)","v":0},{"$f":"IFERROR($E312*SUMIF('Daily Log'!$Z$18:$Z$1017,$B312,'Daily Log'!$AA$18:$AA$1017),0)","v":0},{"$f":"IFERROR($E312*SUMIF('Daily Log'!$AC$18:$AC$1017,$B312,'Daily Log'!$AD$18:$AD$1017),0)","v":0},{"$f":"IFERROR($E312*SUMIF('Daily Log'!$AF$18:$AF$1017,$B312,'Daily Log'!$AG$18:$AG$1017),0)","v":0},{"$f":"IFERROR($E312*SUMIF('Daily Log'!$AI$18:$AI$1017,$B312,'Daily Log'!$AJ$18:$AJ$1017),0)","v":0},{"$f":"IFERROR($E312*SUMIF('Daily Log'!$AL$18:$AL$1017,$B312,'Daily Log'!$AM$18:$AM$1017),0)","v":0},{"$f":"IFERROR($E312*SUMIF('Daily Log'!$AO$18:$AO$1017,$B312,'Daily Log'!$AP$18:$AP$1017),0)","v":0},{"$f":"IFERROR($E312*SUMIF('Daily Log'!$AR$18:$AR$1017,$B312,'Daily Log'!$AS$18:$AS$1017),0)","v":0},{"$f":"IFERROR($E312*SUMIF('Daily Log'!$AU$18:$AU$1017,$B312,'Daily Log'!$AV$18:$AV$1017),0)","v":0},{"$f":"IFERROR($E312*SUMIF('Daily Log'!$AX$18:$AX$1017,$B312,'Daily Log'!$AY$18:$AY$1017),0)","v":0},{"$f":"IFERROR($E312*SUMIF('Daily Log'!$BA$18:$BA$1017,$B312,'Daily Log'!$BB$18:$BB$1017),0)","v":0},{"$f":"IFERROR($E312*SUMIF('Daily Log'!$BD$18:$BD$1017,$B312,'Daily Log'!$BE$18:$BE$1017),0)","v":0},{"$f":"IFERROR($E312*SUMIF('Daily Log'!$BG$18:$BG$1017,$B312,'Daily Log'!$BH$18:$BH$1017),0)","v":0},{"$f":"IFERROR($E312*SUMIF('Daily Log'!$BJ$18:$BJ$1017,$B312,'Daily Log'!$BK$18:$BK$1017),0)","v":0},{"$f":"IFERROR($E312*SUMIF('Daily Log'!$BM$18:$BM$1017,$B312,'Daily Log'!$BN$18:$BN$1017),0)","v":0},{"$f":"IFERROR($E312*SUMIF('Daily Log'!$BP$18:$BP$1017,$B312,'Daily Log'!$BQ$18:$BQ$1017),0)","v":0},{"$f":"IFERROR($E312*SUMIF('Daily Log'!$BS$18:$BS$1017,$B312,'Daily Log'!$BT$18:$BT$1017),0)","v":0},{"$f":"IFERROR($E312*SUMIF('Daily Log'!$BV$18:$BV$1017,$B312,'Daily Log'!$BW$18:$BW$1017),0)","v":0},{"$f":"IFERROR($E312*SUMIF('Daily Log'!$BY$18:$BY$1017,$B312,'Daily Log'!$BZ$18:$BZ$1017),0)","v":0},{"$f":"IFERROR($E312*SUMIF('Daily Log'!$CB$18:$CB$1017,$B312,'Daily Log'!$CC$18:$CC$1017),0)","v":0},{"$f":"IFERROR($E312*SUMIF('Daily Log'!$CE$18:$CE$1017,$B312,'Daily Log'!$CF$18:$CF$1017),0)","v":0},{"$f":"IFERROR($E312*SUMIF('Daily Log'!$CH$18:$CH$1017,$B312,'Daily Log'!$CI$18:$CI$1017),0)","v":0},{"$f":"IFERROR($E312*SUMIF('Daily Log'!$CK$18:$CK$1017,$B312,'Daily Log'!$CL$18:$CL$1017),0)","v":0},{"$f":"IFERROR($E312*SUMIF('Daily Log'!$CN$18:$CN$1017,$B312,'Daily Log'!$CO$18:$CO$1017),0)","v":11}]
[null,"WT02 1002:GVY CKN CP",null,null,1,52,{"$f":"IFERROR($E313*SUMIF('Daily Log'!$B$18:$B$1017,$B313,'Daily Log'!$C$18:$C$1017),0)","v":0},{"$f":"IFERROR($E313*SUMIF('Daily Log'!$E$18:$E$1017,$B313,'Daily Log'!$F$18:$F$1017),0)","v":0},{"$f":"IFERROR($E313*SUMIF('Daily Log'!$H$18:$H$1017,$B313,'Daily Log'!$I$18:$I$1017),0)","v":0},{"$f":"IFERROR($E313*SUMIF('Daily Log'!$K$18:$K$1017,$B313,'Daily Log'!$L$18:$L$1017),0)","v":0},{"$f":"IFERROR($E313*SUMIF('Daily Log'!$N$18:$N$1017,$B313,'Daily Log'!$O$18:$O$1017),0)","v":0},{"$f":"IFERROR($E313*SUMIF('Daily Log'!$Q$18:$Q$1017,$B313,'Daily Log'!$R$18:$R$1017),0)","v":0},{"$f":"IFERROR($E313*SUMIF('Daily Log'!$T$18:$T$1017,$B313,'Daily Log'!$U$18:$U$1017),0)","v":0},{"$f":"IFERROR($E313*SUMIF('Daily Log'!$W$18:$W$1017,$B313,'Daily Log'!$X$18:$X$1017),0)","v":0},{"$f":"IFERROR($E313*SUMIF('Daily Log'!$Z$18:$Z$1017,$B313,'Daily Log'!$AA$18:$AA$1017),0)","v":0},{"$f":"IFERROR($E313*SUMIF('Daily Log'!$AC$18:$AC$1017,$B313,'Daily Log'!$AD$18:$AD$1017),0)","v":0},{"$f":"IFERROR($E313*SUMIF('Daily Log'!$AF$18:$AF$1017,$B313,'Daily Log'!$AG$18:$AG$1017),0)","v":0},{"$f":"IFERROR($E313*SUMIF('Daily Log'!$AI$18:$AI$1017,$B313,'Daily Log'!$AJ$18:$AJ$1017),0)","v":0},{"$f":"IFERROR($E313*SUMIF('Daily Log'!$AL$18:$AL$1017,$B313,'Daily Log'!$AM$18:$AM$1017),0)","v":0},{"$f":"IFERROR($E313*SUMIF('Daily Log'!$AO$18:$AO$1017,$B313,'Daily Log'!$AP$18:$AP$1017),0)","v":0},{"$f":"IFERROR($E313*SUMIF('Daily Log'!$AR$18:$AR$1017,$B313,'Daily Log'!$AS$18:$AS$1017),0)","v":0},{"$f":"IFERROR($E313*SUMIF('Daily Log'!$AU$18:$AU$1017,$B313,'Daily Log'!$AV$18:$AV$1017),0)","v":0},{"$f":"IFERROR($E313*SUMIF('Daily Log'!$AX$18:$AX$1017,$B313,'Daily Log'!$AY$18:$AY$1017),0)","v":0},{"$f":"IFERROR($E313*SUMIF('Daily Log'!$BA$18:$BA$1017,$B313,'Daily Log'!$BB$18:$BB$1017),0)","v":0},{"$f":"IFERROR($E313*SUMIF('Daily Log'!$BD$18:$BD$1017,$B313,'Daily Log'!$BE$18:$BE$1017),0)","v":0},{"$f":"IFERROR($E313*SUMIF('Daily Log'!$BG$18:$BG$1017,$B313,'Daily Log'!$BH$18:$BH$1017),0)","v":0},{"$f":"IFERROR($E313*SUMIF('Daily Log'!$BJ$18:$BJ$1017,$B313,'Daily Log'!$BK$18:$BK$1017),0)","v":0},{"$f":"IFERROR($E313*SUMIF('Daily Log'!$BM$18:$BM$1017,$B313,'Daily Log'!$BN$18:$BN$1017),0)","v":0},{"$f":"IFERROR($E313*SUMIF('Daily Log'!$BP$18:$BP$1017,$B313,'Daily Log'!$BQ$18:$BQ$1017),0)","v":0},{"$f":"IFERROR($E313*SUMIF('Daily Log'!$BS$18:$BS$1017,$B313,'Daily Log'!$BT$18:$BT$1017),0)","v":0},{"$f":"IFERROR($E313*SUMIF('Daily Log'!$BV$18:$BV$1017,$B313,'Daily Log'!$BW$18:$BW$1017),0)","v":0},{"$f":"IFERROR($E313*SUMIF('Daily Log'!$BY$18:$BY$1017,$B313,'Daily Log'!$BZ$18:$BZ$1017),0)","v":0},{"$f":"IFERROR($E313*SUMIF('Daily Log'!$CB$18:$CB$1017,$B313,'Daily Log'!$CC$18:$CC$1017),0)","v":0},{"$f":"IFERROR($E313*SUMIF('Daily Log'!$CE$18:$CE$1017,$B313,'Daily Log'!$CF$18:$CF$1017),0)","v":0},{"$f":"IFERROR($E313*SUMIF('Daily Log'!$CH$18:$CH$1017,$B313,'Daily Log'!$CI$18:$CI$1017),0)","v":0},{"$f":"IFERROR($E313*SUMIF('Daily Log'!$CK$18:$CK$1017,$B313,'Daily Log'!$CL$18:$CL$1017),0)","v":0},{"$f":"IFERROR($E313*SUMIF('Daily Log'!$CN$18:$CN$1017,$B313,'Daily Log'!$CO$18:$CO$1017),0)","v":52}]
[null,"ZAB11 1311:MC HASH BRW",null,null,1,24,{"$f":"IFERROR($E314*SUMIF('Daily Log'!$B$18:$B$1017,$B314,'Daily Log'!$C$18:$C$1017),0)","v":0},{"$f":"IFERROR($E314*SUMIF('Daily Log'!$E$18:$E$1017,$B314,'Daily Log'!$F$18:$F$1017),0)","v":0},{"$f":"IFERROR($E314*SUMIF('Daily Log'!$H$18:$H$1017,$B314,'Daily Log'!$I$18:$I$1017),0)","v":0},{"$f":"IFERROR($E314*SUMIF('Daily Log'!$K$18:$K$1017,$B314,'Daily Log'!$L$18:$L$1017),0)","v":0},{"$f":"IFERROR($E314*SUMIF('Daily Log'!$N$18:$N$1017,$B314,'Daily Log'!$O$18:$O$1017),0)","v":0},{"$f":"IFERROR($E314*SUMIF('Daily Log'!$Q$18:$Q$1017,$B314,'Daily Log'!$R$18:$R$1017),0)","v":0},{"$f":"IFERROR($E314*SUMIF('Daily Log'!$T$18:$T$1017,$B314,'Daily Log'!$U$18:$U$1017),0)","v":0},{"$f":"IFERROR($E314*SUMIF('Daily Log'!$W$18:$W$1017,$B314,'Daily Log'!$X$18:$X$1017),0)","v":0},{"$f":"IFERROR($E314*SUMIF('Daily Log'!$Z$18:$Z$1017,$B314,'Daily Log'!$AA$18:$AA$1017),0)","v":0},{"$f":"IFERROR($E314*SUMIF('Daily Log'!$AC$18:$AC$1017,$B314,'Daily Log'!$AD$18:$AD$1017),0)","v":0},{"$f":"IFERROR($E314*SUMIF('Daily Log'!$AF$18:$AF$1017,$B314,'Daily Log'!$AG$18:$AG$1017),0)","v":0},{"$f":"IFERROR($E314*SUMIF('Daily Log'!$AI$18:$AI$1017,$B314,'Daily Log'!$AJ$18:$AJ$1017),0)","v":0},{"$f":"IFERROR($E314*SUMIF('Daily Log'!$AL$18:$AL$1017,$B314,'Daily Log'!$AM$18:$AM$1017),0)","v":0},{"$f":"IFERROR($E314*SUMIF('Daily Log'!$AO$18:$AO$1017,$B314,'Daily Log'!$AP$18:$AP$1017),0)","v":0},{"$f":"IFERROR($E314*SUMIF('Daily Log'!$AR$18:$AR$1017,$B314,'Daily Log'!$AS$18:$AS$1017),0)","v":0},{"$f":"IFERROR($E314*SUMIF('Daily Log'!$AU$18:$AU$1017,$B314,'Daily Log'!$AV$18:$AV$1017),0)","v":0},{"$f":"IFERROR($E314*SUMIF('Daily Log'!$AX$18:$AX$1017,$B314,'Daily Log'!$AY$18:$AY$1017),0)","v":0},{"$f":"IFERROR($E314*SUMIF('Daily Log'!$BA$18:$BA$1017,$B314,'Daily Log'!$BB$18:$BB$1017),0)","v":0},{"$f":"IFERROR($E314*SUMIF('Daily Log'!$BD$18:$BD$1017,$B314,'Daily Log'!$BE$18:$BE$1017),0)","v":0},{"$f":"IFERROR($E314*SUMIF('Daily Log'!$BG$18:$BG$1017,$B314,'Daily Log'!$BH$18:$BH$1017),0)","v":0},{"$f":"IFERROR($E314*SUMIF('Daily Log'!$BJ$18:$BJ$1017,$B314,'Daily Log'!$BK$18:$BK$1017),0)","v":0},{"$f":"IFERROR($E314*SUMIF('Daily Log'!$BM$18:$BM$1017,$B314,'Daily Log'!$BN$18:$BN$1017),0)","v":0},{"$f":"IFERROR($E314*SUMIF('Daily Log'!$BP$18:$BP$1017,$B314,'Daily Log'!$BQ$18:$BQ$1017),0)","v":0},{"$f":"IFERROR($E314*SUMIF('Daily Log'!$BS$18:$BS$1017,$B314,'Daily Log'!$BT$18:$BT$1017),0)","v":0},{"$f":"IFERROR($E314*SUMIF('Daily Log'!$BV$18:$BV$1017,$B314,'Daily Log'!$BW$18:$BW$1017),0)","v":0},{"$f":"IFERROR($E314*SUMIF('Daily Log'!$BY$18:$BY$1017,$B314,'Daily Log'!$BZ$18:$BZ$1017),0)","v":0},{"$f":"IFERROR($E314*SUMIF('Daily Log'!$CB$18:$CB$1017,$B314,'Daily Log'!$CC$18:$CC$1017),0)","v":0},{"$f":"IFERROR($E314*SUMIF('Daily Log'!$CE$18:$CE$1017,$B314,'Daily Log'!$CF$18:$CF$1017),0)","v":0},{"$f":"IFERROR($E314*SUMIF('Daily Log'!$CH$18:$CH$1017,$B314,'Daily Log'!$CI$18:$CI$1017),0)","v":0},{"$f":"IFERROR($E314*SUMIF('Daily Log'!$CK$18:$CK$1017,$B314,'Daily Log'!$CL$18:$CL$1017),0)","v":0},{"$f":"IFERROR($E314*SUMIF('Daily Log'!$CN$18:$CN$1017,$B314,'Daily Log'!$CO$18:$CO$1017),0)","v":24}]
[null,"WT08 RD:BP CKN CP",null,null,1,7,{"$f":"IFERROR($E315*SUMIF('Daily Log'!$B$18:$B$1017,$B315,'Daily Log'!$C$18:$C$1017),0)","v":0},{"$f":"IFERROR($E315*SUMIF('Daily Log'!$E$18:$E$1017,$B315,'Daily Log'!$F$18:$F$1017),0)","v":0},{"$f":"IFERROR($E315*SUMIF('Daily Log'!$H$18:$H$1017,$B315,'Daily Log'!$I$18:$I$1017),0)","v":0},{"$f":"IFERROR($E315*SUMIF('Daily Log'!$K$18:$K$1017,$B315,'Daily Log'!$L$18:$L$1017),0)","v":0},{"$f":"IFERROR($E315*SUMIF('Daily Log'!$N$18:$N$1017,$B315,'Daily Log'!$O$18:$O$1017),0)","v":0},{"$f":"IFERROR($E315*SUMIF('Daily Log'!$Q$18:$Q$1017,$B315,'Daily Log'!$R$18:$R$1017),0)","v":0},{"$f":"IFERROR($E315*SUMIF('Daily Log'!$T$18:$T$1017,$B315,'Daily Log'!$U$18:$U$1017),0)","v":0},{"$f":"IFERROR($E315*SUMIF('Daily Log'!$W$18:$W$1017,$B315,'Daily Log'!$X$18:$X$1017),0)","v":0},{"$f":"IFERROR($E315*SUMIF('Daily Log'!$Z$18:$Z$1017,$B315,'Daily Log'!$AA$18:$AA$1017),0)","v":0},{"$f":"IFERROR($E315*SUMIF('Daily Log'!$AC$18:$AC$1017,$B315,'Daily Log'!$AD$18:$AD$1017),0)","v":0},{"$f":"IFERROR($E315*SUMIF('Daily Log'!$AF$18:$AF$1017,$B315,'Daily Log'!$AG$18:$AG$1017),0)","v":0},{"$f":"IFERROR($E315*SUMIF('Daily Log'!$AI$18:$AI$1017,$B315,'Daily Log'!$AJ$18:$AJ$1017),0)","v":0},{"$f":"IFERROR($E315*SUMIF('Daily Log'!$AL$18:$AL$1017,$B315,'Daily Log'!$AM$18:$AM$1017),0)","v":0},{"$f":"IFERROR($E315*SUMIF('Daily Log'!$AO$18:$AO$1017,$B315,'Daily Log'!$AP$18:$AP$1017),0)","v":0},{"$f":"IFERROR($E315*SUMIF('Daily Log'!$AR$18:$AR$1017,$B315,'Daily Log'!$AS$18:$AS$1017),0)","v":0},{"$f":"IFERROR($E315*SUMIF('Daily Log'!$AU$18:$AU$1017,$B315,'Daily Log'!$AV$18:$AV$1017),0)","v":0},{"$f":"IFERROR($E315*SUMIF('Daily Log'!$AX$18:$AX$1017,$B315,'Daily Log'!$AY$18:$AY$1017),0)","v":0},{"$f":"IFERROR($E315*SUMIF('Daily Log'!$BA$18:$BA$1017,$B315,'Daily Log'!$BB$18:$BB$1017),0)","v":0},{"$f":"IFERROR($E315*SUMIF('Daily Log'!$BD$18:$BD$1017,$B315,'Daily Log'!$BE$18:$BE$1017),0)","v":0},{"$f":"IFERROR($E315*SUMIF('Daily Log'!$BG$18:$BG$1017,$B315,'Daily Log'!$BH$18:$BH$1017),0)","v":0},{"$f":"IFERROR($E315*SUMIF('Daily Log'!$BJ$18:$BJ$1017,$B315,'Daily Log'!$BK$18:$BK$1017),0)","v":0},{"$f":"IFERROR($E315*SUMIF('Daily Log'!$BM$18:$BM$1017,$B315,'Daily Log'!$BN$18:$BN$1017),0)","v":0},{"$f":"IFERROR($E315*SUMIF('Daily Log'!$BP$18:$BP$1017,$B315,'Daily Log'!$BQ$18:$BQ$1017),0)","v":0},{"$f":"IFERROR($E315*SUMIF('Daily Log'!$BS$18:$BS$1017,$B315,'Daily Log'!$BT$18:$BT$1017),0)","v":0},{"$f":"IFERROR($E315*SUMIF('Daily Log'!$BV$18:$BV$1017,$B315,'Daily Log'!$BW$18:$BW$1017),0)","v":0},{"$f":"IFERROR($E315*SUMIF('Daily Log'!$BY$18:$BY$1017,$B315,'Daily Log'!$BZ$18:$BZ$1017),0)","v":0},{"$f":"IFERROR($E315*SUMIF('Daily Log'!$CB$18:$CB$1017,$B315,'Daily Log'!$CC$18:$CC$1017),0)","v":0},{"$f":"IFERROR($E315*SUMIF('Daily Log'!$CE$18:$CE$1017,$B315,'Daily Log'!$CF$18:$CF$1017),0)","v":0},{"$f":"IFERROR($E315*SUMIF('Daily Log'!$CH$18:$CH$1017,$B315,'Daily Log'!$CI$18:$CI$1017),0)","v":0},{"$f":"IFERROR($E315*SUMIF('Daily Log'!$CK$18:$CK$1017,$B315,'Daily Log'!$CL$18:$CL$1017),0)","v":0},{"$f":"IFERROR($E315*SUMIF('Daily Log'!$CN$18:$CN$1017,$B315,'Daily Log'!$CO$18:$CO$1017),0)","v":7}]
[null,"WT09 RD:GVY CKN CP",null,null,1,1,{"$f":"IFERROR($E316*SUMIF('Daily Log'!$B$18:$B$1017,$B316,'Daily Log'!$C$18:$C$1017),0)","v":0},{"$f":"IFERROR($E316*SUMIF('Daily Log'!$E$18:$E$1017,$B316,'Daily Log'!$F$18:$F$1017),0)","v":0},{"$f":"IFERROR($E316*SUMIF('Daily Log'!$H$18:$H$1017,$B316,'Daily Log'!$I$18:$I$1017),0)","v":0},{"$f":"IFERROR($E316*SUMIF('Daily Log'!$K$18:$K$1017,$B316,'Daily Log'!$L$18:$L$1017),0)","v":0},{"$f":"IFERROR($E316*SUMIF('Daily Log'!$N$18:$N$1017,$B316,'Daily Log'!$O$18:$O$1017),0)","v":0},{"$f":"IFERROR($E316*SUMIF('Daily Log'!$Q$18:$Q$1017,$B316,'Daily Log'!$R$18:$R$1017),0)","v":0},{"$f":"IFERROR($E316*SUMIF('Daily Log'!$T$18:$T$1017,$B316,'Daily Log'!$U$18:$U$1017),0)","v":0},{"$f":"IFERROR($E316*SUMIF('Daily Log'!$W$18:$W$1017,$B316,'Daily Log'!$X$18:$X$1017),0)","v":0},{"$f":"IFERROR($E316*SUMIF('Daily Log'!$Z$18:$Z$1017,$B316,'Daily Log'!$AA$18:$AA$1017),0)","v":0},{"$f":"IFERROR($E316*SUMIF('Daily Log'!$AC$18:$AC$1017,$B316,'Daily Log'!$AD$18:$AD$1017),0)","v":0},{"$f":"IFERROR($E316*SUMIF('Daily Log'!$AF$18:$AF$1017,$B316,'Daily Log'!$AG$18:$AG$1017),0)","v":0},{"$f":"IFERROR($E316*SUMIF('Daily Log'!$AI$18:$AI$1017,$B316,'Daily Log'!$AJ$18:$AJ$1017),0)","v":0},{"$f":"IFERROR($E316*SUMIF('Daily Log'!$AL$18:$AL$1017,$B316,'Daily Log'!$AM$18:$AM$1017),0)","v":0},{"$f":"IFERROR($E316*SUMIF('Daily Log'!$AO$18:$AO$1017,$B316,'Daily Log'!$AP$18:$AP$1017),0)","v":0},{"$f":"IFERROR($E316*SUMIF('Daily Log'!$AR$18:$AR$1017,$B316,'Daily Log'!$AS$18:$AS$1017),0)","v":0},{"$f":"IFERROR($E316*SUMIF('Daily Log'!$AU$18:$AU$1017,$B316,'Daily Log'!$AV$18:$AV$1017),0)","v":0},{"$f":"IFERROR($E316*SUMIF('Daily Log'!$AX$18:$AX$1017,$B316,'Daily Log'!$AY$18:$AY$1017),0)","v":0},{"$f":"IFERROR($E316*SUMIF('Daily Log'!$BA$18:$BA$1017,$B316,'Daily Log'!$BB$18:$BB$1017),0)","v":0},{"$f":"IFERROR($E316*SUMIF('Daily Log'!$BD$18:$BD$1017,$B316,'Daily Log'!$BE$18:$BE$1017),0)","v":0},{"$f":"IFERROR($E316*SUMIF('Daily Log'!$BG$18:$BG$1017,$B316,'Daily Log'!$BH$18:$BH$1017),0)","v":0},{"$f":"IFERROR($E316*SUMIF('Daily Log'!$BJ$18:$BJ$1017,$B316,'Daily Log'!$BK$18:$BK$1017),0)","v":0},{"$f":"IFERROR($E316*SUMIF('Daily Log'!$BM$18:$BM$1017,$B316,'Daily Log'!$BN$18:$BN$1017),0)","v":0},{"$f":"IFERROR($E316*SUMIF('Daily Log'!$BP$18:$BP$1017,$B316,'Daily Log'!$BQ$18:$BQ$1017),0)","v":0},{"$f":"IFERROR($E316*SUMIF('Daily Log'!$BS$18:$BS$1017,$B316,'Daily Log'!$BT$18:$BT$1017),0)","v":0},{"$f":"IFERROR($E316*SUMIF('Daily Log'!$BV$18:$BV$1017,$B316,'Daily Log'!$BW$18:$BW$1017),0)","v":0},{"$f":"IFERROR($E316*SUMIF('Daily Log'!$BY$18:$BY$1017,$B316,'Daily Log'!$BZ$18:$BZ$1017),0)","v":0},{"$f":"IFERROR($E316*SUMIF('Daily Log'!$CB$18:$CB$1017,$B316,'Daily Log'!$CC$18:$CC$1017),0)","v":0},{"$f":"IFERROR($E316*SUMIF('Daily Log'!$CE$18:$CE$1017,$B316,'Daily Log'!$CF$18:$CF$1017),0)","v":0},{"$f":"IFERROR($E316*SUMIF('Daily Log'!$CH$18:$CH$1017,$B316,'Daily Log'!$CI$18:$CI$1017),0)","v":0},{"$f":"IFERROR($E316*SUMIF('Daily Log'!$CK$18:$CK$1017,$B316,'Daily Log'!$CL$18:$CL$1017),0)","v":0},{"$f":"IFERROR($E316*SUMIF('Daily Log'!$CN$18:$CN$1017,$B316,'Daily Log'!$CO$18:$CO$1017),0)","v":1}]
[null,"WT10 RD:MR CHN CP",null,null,1,9,{"$f":"IFERROR($E317*SUMIF('Daily Log'!$B$18:$B$1017,$B317,'Daily Log'!$C$18:$C$1017),0)","v":0},{"$f":"IFERROR($E317*SUMIF('Daily Log'!$E$18:$E$1017,$B317,'Daily Log'!$F$18:$F$1017),0)","v":0},{"$f":"IFERROR($E317*SUMIF('Daily Log'!$H$18:$H$1017,$B317,'Daily Log'!$I$18:$I$1017),0)","v":0},{"$f":"IFERROR($E317*SUMIF('Daily Log'!$K$18:$K$1017,$B317,'Daily Log'!$L$18:$L$1017),0)","v":0},{"$f":"IFERROR($E317*SUMIF('Daily Log'!$N$18:$N$1017,$B317,'Daily Log'!$O$18:$O$1017),0)","v":0},{"$f":"IFERROR($E317*SUMIF('Daily Log'!$Q$18:$Q$1017,$B317,'Daily Log'!$R$18:$R$1017),0)","v":0},{"$f":"IFERROR($E317*SUMIF('Daily Log'!$T$18:$T$1017,$B317,'Daily Log'!$U$18:$U$1017),0)","v":0},{"$f":"IFERROR($E317*SUMIF('Daily Log'!$W$18:$W$1017,$B317,'Daily Log'!$X$18:$X$1017),0)","v":0},{"$f":"IFERROR($E317*SUMIF('Daily Log'!$Z$18:$Z$1017,$B317,'Daily Log'!$AA$18:$AA$1017),0)","v":0},{"$f":"IFERROR($E317*SUMIF('Daily Log'!$AC$18:$AC$1017,$B317,'Daily Log'!$AD$18:$AD$1017),0)","v":0},{"$f":"IFERROR($E317*SUMIF('Daily Log'!$AF$18:$AF$1017,$B317,'Daily Log'!$AG$18:$AG$1017),0)","v":0},{"$f":"IFERROR($E317*SUMIF('Daily Log'!$AI$18:$AI$1017,$B317,'Daily Log'!$AJ$18:$AJ$1017),0)","v":0},{"$f":"IFERROR($E317*SUMIF('Daily Log'!$AL$18:$AL$1017,$B317,'Daily Log'!$AM$18:$AM$1017),0)","v":0},{"$f":"IFERROR($E317*SUMIF('Daily Log'!$AO$18:$AO$1017,$B317,'Daily Log'!$AP$18:$AP$1017),0)","v":0},{"$f":"IFERROR($E317*SUMIF('Daily Log'!$AR$18:$AR$1017,$B317,'Daily Log'!$AS$18:$AS$1017),0)","v":0},{"$f":"IFERROR($E317*SUMIF('Daily Log'!$AU$18:$AU$1017,$B317,'Daily Log'!$AV$18:$AV$1017),0)","v":0},{"$f":"IFERROR($E317*SUMIF('Daily Log'!$AX$18:$AX$1017,$B317,'Daily Log'!$AY$18:$AY$1017),0)","v":0},{"$f":"IFERROR($E317*SUMIF('Daily Log'!$BA$18:$BA$1017,$B317,'Daily Log'!$BB$18:$BB$1017),0)","v":0},{"$f":"IFERROR($E317*SUMIF('Daily Log'!$BD$18:$BD$1017,$B317,'Daily Log'!$BE$18:$BE$1017),0)","v":0},{"$f":"IFERROR($E317*SUMIF('Daily Log'!$BG$18:$BG$1017,$B317,'Daily Log'!$BH$18:$BH$1017),0)","v":0},{"$f":"IFERROR($E317*SUMIF('Daily Log'!$BJ$18:$BJ$1017,$B317,'Daily Log'!$BK$18:$BK$1017),0)","v":0},{"$f":"IFERROR($E317*SUMIF('Daily Log'!$BM$18:$BM$1017,$B317,'Daily Log'!$BN$18:$BN$1017),0)","v":0},{"$f":"IFERROR($E317*SUMIF('Daily Log'!$BP$18:$BP$1017,$B317,'Daily Log'!$BQ$18:$BQ$1017),0)","v":0},{"$f":"IFERROR($E317*SUMIF('Daily Log'!$BS$18:$BS$1017,$B317,'Daily Log'!$BT$18:$BT$1017),0)","v":0},{"$f":"IFERROR($E317*SUMIF('Daily Log'!$BV$18:$BV$1017,$B317,'Daily Log'!$BW$18:$BW$1017),0)","v":0},{"$f":"IFERROR($E317*SUMIF('Daily Log'!$BY$18:$BY$1017,$B317,'Daily Log'!$BZ$18:$BZ$1017),0)","v":0},{"$f":"IFERROR($E317*SUMIF('Daily Log'!$CB$18:$CB$1017,$B317,'Daily Log'!$CC$18:$CC$1017),0)","v":0},{"$f":"IFERROR($E317*SUMIF('Daily Log'!$CE$18:$CE$1017,$B317,'Daily Log'!$CF$18:$CF$1017),0)","v":0},{"$f":"IFERROR($E317*SUMIF('Daily Log'!$CH$18:$CH$1017,$B317,'Daily Log'!$CI$18:$CI$1017),0)","v":0},{"$f":"IFERROR($E317*SUMIF('Daily Log'!$CK$18:$CK$1017,$B317,'Daily Log'!$CL$18:$CL$1017),0)","v":0},{"$f":"IFERROR($E317*SUMIF('Daily Log'!$CN$18:$CN$1017,$B317,'Daily Log'!$CO$18:$CO$1017),0)","v":9}]
[null,null,null,null,1,0,{"$f":"IFERROR($E318*SUMIF('Daily Log'!$B$18:$B$1017,$B318,'Daily Log'!$C$18:$C$1017),0)","v":0},{"$f":"IFERROR($E318*SUMIF('Daily Log'!$E$18:$E$1017,$B318,'Daily Log'!$F$18:$F$1017),0)","v":0},{"$f":"IFERROR($E318*SUMIF('Daily Log'!$H$18:$H$1017,$B318,'Daily Log'!$I$18:$I$1017),0)","v":0},{"$f":"IFERROR($E318*SUMIF('Daily Log'!$K$18:$K$1017,$B318,'Daily Log'!$L$18:$L$1017),0)","v":0},{"$f":"IFERROR($E318*SUMIF('Daily Log'!$N$18:$N$1017,$B318,'Daily Log'!$O$18:$O$1017),0)","v":0},{"$f":"IFERROR($E318*SUMIF('Daily Log'!$Q$18:$Q$1017,$B318,'Daily Log'!$R$18:$R$1017),0)","v":0},{"$f":"IFERROR($E318*SUMIF('Daily Log'!$T$18:$T$1017,$B318,'Daily Log'!$U$18:$U$1017),0)","v":0},{"$f":"IFERROR($E318*SUMIF('Daily Log'!$W$18:$W$1017,$B318,'Daily Log'!$X$18:$X$1017),0)","v":0},{"$f":"IFERROR($E318*SUMIF('Daily Log'!$Z$18:$Z$1017,$B318,'Daily Log'!$AA$18:$AA$1017),0)","v":0},{"$f":"IFERROR($E318*SUMIF('Daily Log'!$AC$18:$AC$1017,$B318,'Daily Log'!$AD$18:$AD$1017),0)","v":0},{"$f":"IFERROR($E318*SUMIF('Daily Log'!$AF$18:$AF$1017,$B318,'Daily Log'!$AG$18:$AG$1017),0)","v":0},{"$f":"IFERROR($E318*SUMIF('Daily Log'!$AI$18:$AI$1017,$B318,'Daily Log'!$AJ$18:$AJ$1017),0)","v":0},{"$f":"IFERROR($E318*SUMIF('Daily Log'!$AL$18:$AL$1017,$B318,'Daily Log'!$AM$18:$AM$1017),0)","v":0},{"$f":"IFERROR($E318*SUMIF('Daily Log'!$AO$18:$AO$1017,$B318,'Daily Log'!$AP$18:$AP$1017),0)","v":0},{"$f":"IFERROR($E318*SUMIF('Daily Log'!$AR$18:$AR$1017,$B318,'Daily Log'!$AS$18:$AS$1017),0)","v":0},{"$f":"IFERROR($E318*SUMIF('Daily Log'!$AU$18:$AU$1017,$B318,'Daily Log'!$AV$18:$AV$1017),0)","v":0},{"$f":"IFERROR($E318*SUMIF('Daily Log'!$AX$18:$AX$1017,$B318,'Daily Log'!$AY$18:$AY$1017),0)","v":0},{"$f":"IFERROR($E318*SUMIF('Daily Log'!$BA$18:$BA$1017,$B318,'Daily Log'!$BB$18:$BB$1017),0)","v":0},{"$f":"IFERROR($E318*SUMIF('Daily Log'!$BD$18:$BD$1017,$B318,'Daily Log'!$BE$18:$BE$1017),0)","v":0},{"$f":"IFERROR($E318*SUMIF('Daily Log'!$BG$18:$BG$1017,$B318,'Daily Log'!$BH$18:$BH$1017),0)","v":0},{"$f":"IFERROR($E318*SUMIF('Daily Log'!$BJ$18:$BJ$1017,$B318,'Daily Log'!$BK$18:$BK$1017),0)","v":0},{"$f":"IFERROR($E318*SUMIF('Daily Log'!$BM$18:$BM$1017,$B318,'Daily Log'!$BN$18:$BN$1017),0)","v":0},{"$f":"IFERROR($E318*SUMIF('Daily Log'!$BP$18:$BP$1017,$B318,'Daily Log'!$BQ$18:$BQ$1017),0)","v":0},{"$f":"IFERROR($E318*SUMIF('Daily Log'!$BS$18:$BS$1017,$B318,'Daily Log'!$BT$18:$BT$1017),0)","v":0},{"$f":"IFERROR($E318*SUMIF('Daily Log'!$BV$18:$BV$1017,$B318,'Daily Log'!$BW$18:$BW$1017),0)","v":0},{"$f":"IFERROR($E318*SUMIF('Daily Log'!$BY$18:$BY$1017,$B318,'Daily Log'!$BZ$18:$BZ$1017),0)","v":0},{"$f":"IFERROR($E318*SUMIF('Daily Log'!$CB$18:$CB$1017,$B318,'Daily Log'!$CC$18:$CC$1017),0)","v":0},{"$f":"IFERROR($E318*SUMIF('Daily Log'!$CE$18:$CE$1017,$B318,'Daily Log'!$CF$18:$CF$1017),0)","v":0},{"$f":"IFERROR($E318*SUMIF('Daily Log'!$CH$18:$CH$1017,$B318,'Daily Log'!$CI$18:$CI$1017),0)","v":0},{"$f":"IFERROR($E318*SUMIF('Daily Log'!$CK$18:$CK$1017,$B318,'Daily Log'!$CL$18:$CL$1017),0)","v":0},{"$f":"IFERROR($E318*SUMIF('Daily Log'!$CN$18:$CN$1017,$B318,'Daily Log'!$CO$18:$CO$1017),0)","v":0}]
[null,null,null,null,1,{"$f":"SUM($G319:$AK319)","v":0},{"$f":"IFERROR($E319*SUMIF('Daily Log'!$B$18:$B$1017,$B319,'Daily Log'!$C$18:$C$1017),0)","v":0},{"$f":"IFERROR($E319*SUMIF('Daily Log'!$E$18:$E$1017,$B319,'Daily Log'!$F$18:$F$1017),0)","v":0},{"$f":"IFERROR($E319*SUMIF('Daily Log'!$H$18:$H$1017,$B319,'Daily Log'!$I$18:$I$1017),0)","v":0},{"$f":"IFERROR($E319*SUMIF('Daily Log'!$K$18:$K$1017,$B319,'Daily Log'!$L$18:$L$1017),0)","v":0},{"$f":"IFERROR($E319*SUMIF('Daily Log'!$N$18:$N$1017,$B319,'Daily Log'!$O$18:$O$1017),0)","v":0},{"$f":"IFERROR($E319*SUMIF('Daily Log'!$Q$18:$Q$1017,$B319,'Daily Log'!$R$18:$R$1017),0)","v":0},{"$f":"IFERROR($E319*SUMIF('Daily Log'!$T$18:$T$1017,$B319,'Daily Log'!$U$18:$U$1017),0)","v":0},{"$f":"IFERROR($E319*SUMIF('Daily Log'!$W$18:$W$1017,$B319,'Daily Log'!$X$18:$X$1017),0)","v":0},{"$f":"IFERROR($E319*SUMIF('Daily Log'!$Z$18:$Z$1017,$B319,'Daily Log'!$AA$18:$AA$1017),0)","v":0},{"$f":"IFERROR($E319*SUMIF('Daily Log'!$AC$18:$AC$1017,$B319,'Daily Log'!$AD$18:$AD$1017),0)","v":0},{"$f":"IFERROR($E319*SUMIF('Daily Log'!$AF$18:$AF$1017,$B319,'Daily Log'!$AG$18:$AG$1017),0)","v":0},{"$f":"IFERROR($E319*SUMIF('Daily Log'!$AI$18:$AI$1017,$B319,'Daily Log'!$AJ$18:$AJ$1017),0)","v":0},{"$f":"IFERROR($E319*SUMIF('Daily Log'!$AL$18:$AL$1017,$B319,'Daily Log'!$AM$18:$AM$1017),0)","v":0},{"$f":"IFERROR($E319*SUMIF('Daily Log'!$AO$18:$AO$1017,$B319,'Daily Log'!$AP$18:$AP$1017),0)","v":0},{"$f":"IFERROR($E319*SUMIF('Daily Log'!$AR$18:$AR$1017,$B319,'Daily Log'!$AS$18:$AS$1017),0)","v":0},{"$f":"IFERROR($E319*SUMIF('Daily Log'!$AU$18:$AU$1017,$B319,'Daily Log'!$AV$18:$AV$1017),0)","v":0},{"$f":"IFERROR($E319*SUMIF('Daily Log'!$AX$18:$AX$1017,$B319,'Daily Log'!$AY$18:$AY$1017),0)","v":0},{"$f":"IFERROR($E319*SUMIF('Daily Log'!$BA$18:$BA$1017,$B319,'Daily Log'!$BB$18:$BB$1017),0)","v":0},{"$f":"IFERROR($E319*SUMIF('Daily Log'!$BD$18:$BD$1017,$B319,'Daily Log'!$BE$18:$BE$1017),0)","v":0},{"$f":"IFERROR($E319*SUMIF('Daily Log'!$BG$18:$BG$1017,$B319,'Daily Log'!$BH$18:$BH$1017),0)","v":0},{"$f":"IFERROR($E319*SUMIF('Daily Log'!$BJ$18:$BJ$1017,$B319,'Daily Log'!$BK$18:$BK$1017),0)","v":0},{"$f":"IFERROR($E319*SUMIF('Daily Log'!$BM$18:$BM$1017,$B319,'Daily Log'!$BN$18:$BN$1017),0)","v":0},{"$f":"IFERROR($E319*SUMIF('Daily Log'!$BP$18:$BP$1017,$B319,'Daily Log'!$BQ$18:$BQ$1017),0)","v":0},{"$f":"IFERROR($E319*SUMIF('Daily Log'!$BS$18:$BS$1017,$B319,'Daily Log'!$BT$18:$BT$1017),0)","v":0},{"$f":"IFERROR($E319*SUMIF('Daily Log'!$BV$18:$BV$1017,$B319,'Daily Log'!$BW$18:$BW$1017),0)","v":0},{"$f":"IFERROR($E319*SUMIF('Daily Log'!$BY$18:$BY$1017,$B319,'Daily Log'!$BZ$18:$BZ$1017),0)","v":0},{"$f":"IFERROR($E319*SUMIF('Daily Log'!$CB$18:$CB$1017,$B319,'Daily Log'!$CC$18:$CC$1017),0)","v":0},{"$f":"IFERROR($E319*SUMIF('Daily Log'!$CE$18:$CE$1017,$B319,'Daily Log'!$CF$18:$CF$1017),0)","v":0},{"$f":"IFERROR($E319*SUMIF('Daily Log'!$CH$18:$CH$1017,$B319,'Daily Log'!$CI$18:$CI$1017),0)","v":0},{"$f":"IFERROR($E319*SUMIF('Daily Log'!$CK$18:$CK$1017,$B319,'Daily Log'!$CL$18:$CL$1017),0)","v":0},{"$f":"IFERROR($E319*SUMIF('Daily Log'!$CN$18:$CN$1017,$B319,'Daily Log'!$CO$18:$CO$1017),0)","v":0}]
[null,null,null,null,1,0,{"$f":"IFERROR($E320*SUMIF('Daily Log'!$B$18:$B$1017,$B320,'Daily Log'!$C$18:$C$1017),0)","v":0},{"$f":"IFERROR($E320*SUMIF('Daily Log'!$E$18:$E$1017,$B320,'Daily Log'!$F$18:$F$1017),0)","v":0},{"$f":"IFERROR($E320*SUMIF('Daily Log'!$H$18:$H$1017,$B320,'Daily Log'!$I$18:$I$1017),0)","v":0},{"$f":"IFERROR($E320*SUMIF('Daily Log'!$K$18:$K$1017,$B320,'Daily Log'!$L$18:$L$1017),0)","v":0},{"$f":"IFERROR($E320*SUMIF('Daily Log'!$N$18:$N$1017,$B320,'Daily Log'!$O$18:$O$1017),0)","v":0},{"$f":"IFERROR($E320*SUMIF('Daily Log'!$Q$18:$Q$1017,$B320,'Daily Log'!$R$18:$R$1017),0)","v":0},{"$f":"IFERROR($E320*SUMIF('Daily Log'!$T$18:$T$1017,$B320,'Daily Log'!$U$18:$U$1017),0)","v":0},{"$f":"IFERROR($E320*SUMIF('Daily Log'!$W$18:$W$1017,$B320,'Daily Log'!$X$18:$X$1017),0)","v":0},{"$f":"IFERROR($E320*SUMIF('Daily Log'!$Z$18:$Z$1017,$B320,'Daily Log'!$AA$18:$AA$1017),0)","v":0},{"$f":"IFERROR($E320*SUMIF('Daily Log'!$AC$18:$AC$1017,$B320,'Daily Log'!$AD$18:$AD$1017),0)","v":0},{"$f":"IFERROR($E320*SUMIF('Daily Log'!$AF$18:$AF$1017,$B320,'Daily Log'!$AG$18:$AG$1017),0)","v":0},{"$f":"IFERROR($E320*SUMIF('Daily Log'!$AI$18:$AI$1017,$B320,'Daily Log'!$AJ$18:$AJ$1017),0)","v":0},{"$f":"IFERROR($E320*SUMIF('Daily Log'!$AL$18:$AL$1017,$B320,'Daily Log'!$AM$18:$AM$1017),0)","v":0},{"$f":"IFERROR($E320*SUMIF('Daily Log'!$AO$18:$AO$1017,$B320,'Daily Log'!$AP$18:$AP$1017),0)","v":0},{"$f":"IFERROR($E320*SUMIF('Daily Log'!$AR$18:$AR$1017,$B320,'Daily Log'!$AS$18:$AS$1017),0)","v":0},{"$f":"IFERROR($E320*SUMIF('Daily Log'!$AU$18:$AU$1017,$B320,'Daily Log'!$AV$18:$AV$1017),0)","v":0},{"$f":"IFERROR($E320*SUMIF('Daily Log'!$AX$18:$AX$1017,$B320,'Daily Log'!$AY$18:$AY$1017),0)","v":0},{"$f":"IFERROR($E320*SUMIF('Daily Log'!$BA$18:$BA$1017,$B320,'Daily Log'!$BB$18:$BB$1017),0)","v":0},{"$f":"IFERROR($E320*SUMIF('Daily Log'!$BD$18:$BD$1017,$B320,'Daily Log'!$BE$18:$BE$1017),0)","v":0},{"$f":"IFERROR($E320*SUMIF('Daily Log'!$BG$18:$BG$1017,$B320,'Daily Log'!$BH$18:$BH$1017),0)","v":0},{"$f":"IFERROR($E320*SUMIF('Daily Log'!$BJ$18:$BJ$1017,$B320,'Daily Log'!$BK$18:$BK$1017),0)","v":0},{"$f":"IFERROR($E320*SUMIF('Daily Log'!$BM$18:$BM$1017,$B320,'Daily Log'!$BN$18:$BN$1017),0)","v":0},{"$f":"IFERROR($E320*SUMIF('Daily Log'!$BP$18:$BP$1017,$B320,'Daily Log'!$BQ$18:$BQ$1017),0)","v":0},{"$f":"IFERROR($E320*SUMIF('Daily Log'!$BS$18:$BS$1017,$B320,'Daily Log'!$BT$18:$BT$1017),0)","v":0},{"$f":"IFERROR($E320*SUMIF('Daily Log'!$BV$18:$BV$1017,$B320,'Daily Log'!$BW$18:$BW$1017),0)","v":0},{"$f":"IFERROR($E320*SUMIF('Daily Log'!$BY$18:$BY$1017,$B320,'Daily Log'!$BZ$18:$BZ$1017),0)","v":0},{"$f":"IFERROR($E320*SUMIF('Daily Log'!$CB$18:$CB$1017,$B320,'Daily Log'!$CC$18:$CC$1017),0)","v":0},{"$f":"IFERROR($E320*SUMIF('Daily Log'!$CE$18:$CE$1017,$B320,'Daily Log'!$CF$18:$CF$1017),0)","v":0},{"$f":"IFERROR($E320*SUMIF('Daily Log'!$CH$18:$CH$1017,$B320,'Daily Log'!$CI$18:$CI$1017),0)","v":0},{"$f":"IFERROR($E320*SUMIF('Daily Log'!$CK$18:$CK$1017,$B320,'Daily Log'!$CL$18:$CL$1017),0)","v":0},{"$f":"IFERROR($E320*SUMIF('Daily Log'!$CN$18:$CN$1017,$B320,'Daily Log'!$CO$18:$CO$1017),0)","v":0}]
[null,null,null,null,1,0,{"$f":"IFERROR($E321*SUMIF('Daily Log'!$B$18:$B$1017,$B321,'Daily Log'!$C$18:$C$1017),0)","v":0},{"$f":"IFERROR($E321*SUMIF('Daily Log'!$E$18:$E$1017,$B321,'Daily Log'!$F$18:$F$1017),0)","v":0},{"$f":"IFERROR($E321*SUMIF('Daily Log'!$H$18:$H$1017,$B321,'Daily Log'!$I$18:$I$1017),0)","v":0},{"$f":"IFERROR($E321*SUMIF('Daily Log'!$K$18:$K$1017,$B321,'Daily Log'!$L$18:$L$1017),0)","v":0},{"$f":"IFERROR($E321*SUMIF('Daily Log'!$N$18:$N$1017,$B321,'Daily Log'!$O$18:$O$1017),0)","v":0},{"$f":"IFERROR($E321*SUMIF('Daily Log'!$Q$18:$Q$1017,$B321,'Daily Log'!$R$18:$R$1017),0)","v":0},{"$f":"IFERROR($E321*SUMIF('Daily Log'!$T$18:$T$1017,$B321,'Daily Log'!$U$18:$U$1017),0)","v":0},{"$f":"IFERROR($E321*SUMIF('Daily Log'!$W$18:$W$1017,$B321,'Daily Log'!$X$18:$X$1017),0)","v":0},{"$f":"IFERROR($E321*SUMIF('Daily Log'!$Z$18:$Z$1017,$B321,'Daily Log'!$AA$18:$AA$1017),0)","v":0},{"$f":"IFERROR($E321*SUMIF('Daily Log'!$AC$18:$AC$1017,$B321,'Daily Log'!$AD$18:$AD$1017),0)","v":0},{"$f":"IFERROR($E321*SUMIF('Daily Log'!$AF$18:$AF$1017,$B321,'Daily Log'!$AG$18:$AG$1017),0)","v":0},{"$f":"IFERROR($E321*SUMIF('Daily Log'!$AI$18:$AI$1017,$B321,'Daily Log'!$AJ$18:$AJ$1017),0)","v":0},{"$f":"IFERROR($E321*SUMIF('Daily Log'!$AL$18:$AL$1017,$B321,'Daily Log'!$AM$18:$AM$1017),0)","v":0},{"$f":"IFERROR($E321*SUMIF('Daily Log'!$AO$18:$AO$1017,$B321,'Daily Log'!$AP$18:$AP$1017),0)","v":0},{"$f":"IFERROR($E321*SUMIF('Daily Log'!$AR$18:$AR$1017,$B321,'Daily Log'!$AS$18:$AS$1017),0)","v":0},{"$f":"IFERROR($E321*SUMIF('Daily Log'!$AU$18:$AU$1017,$B321,'Daily Log'!$AV$18:$AV$1017),0)","v":0},{"$f":"IFERROR($E321*SUMIF('Daily Log'!$AX$18:$AX$1017,$B321,'Daily Log'!$AY$18:$AY$1017),0)","v":0},{"$f":"IFERROR($E321*SUMIF('Daily Log'!$BA$18:$BA$1017,$B321,'Daily Log'!$BB$18:$BB$1017),0)","v":0},{"$f":"IFERROR($E321*SUMIF('Daily Log'!$BD$18:$BD$1017,$B321,'Daily Log'!$BE$18:$BE$1017),0)","v":0},{"$f":"IFERROR($E321*SUMIF('Daily Log'!$BG$18:$BG$1017,$B321,'Daily Log'!$BH$18:$BH$1017),0)","v":0},{"$f":"IFERROR($E321*SUMIF('Daily Log'!$BJ$18:$BJ$1017,$B321,'Daily Log'!$BK$18:$BK$1017),0)","v":0},{"$f":"IFERROR($E321*SUMIF('Daily Log'!$BM$18:$BM$1017,$B321,'Daily Log'!$BN$18:$BN$1017),0)","v":0},{"$f":"IFERROR($E321*SUMIF('Daily Log'!$BP$18:$BP$1017,$B321,'Daily Log'!$BQ$18:$BQ$1017),0)","v":0},{"$f":"IFERROR($E321*SUMIF('Daily Log'!$BS$18:$BS$1017,$B321,'Daily Log'!$BT$18:$BT$1017),0)","v":0},{"$f":"IFERROR($E321*SUMIF('Daily Log'!$BV$18:$BV$1017,$B321,'Daily Log'!$BW$18:$BW$1017),0)","v":0},{"$f":"IFERROR($E321*SUMIF('Daily Log'!$BY$18:$BY$1017,$B321,'Daily Log'!$BZ$18:$BZ$1017),0)","v":0},{"$f":"IFERROR($E321*SUMIF('Daily Log'!$CB$18:$CB$1017,$B321,'Daily Log'!$CC$18:$CC$1017),0)","v":0},{"$f":"IFERROR($E321*SUMIF('Daily Log'!$CE$18:$CE$1017,$B321,'Daily Log'!$CF$18:$CF$1017),0)","v":0},{"$f":"IFERROR($E321*SUMIF('Daily Log'!$CH$18:$CH$1017,$B321,'Daily Log'!$CI$18:$CI$1017),0)","v":0},{"$f":"IFERROR($E321*SUMIF('Daily Log'!$CK$18:$CK$1017,$B321,'Daily Log'!$CL$18:$CL$1017),0)","v":0},{"$f":"IFERROR($E321*SUMIF('Daily Log'!$CN$18:$CN$1017,$B321,'Daily Log'!$CO$18:$CO$1017),0)","v":0}]
[null,null,null,null,1,0,{"$f":"IFERROR($E322*SUMIF('Daily Log'!$B$18:$B$1017,$B322,'Daily Log'!$C$18:$C$1017),0)","v":0},{"$f":"IFERROR($E322*SUMIF('Daily Log'!$E$18:$E$1017,$B322,'Daily Log'!$F$18:$F$1017),0)","v":0},{"$f":"IFERROR($E322*SUMIF('Daily Log'!$H$18:$H$1017,$B322,'Daily Log'!$I$18:$I$1017),0)","v":0},{"$f":"IFERROR($E322*SUMIF('Daily Log'!$K$18:$K$1017,$B322,'Daily Log'!$L$18:$L$1017),0)","v":0},{"$f":"IFERROR($E322*SUMIF('Daily Log'!$N$18:$N$1017,$B322,'Daily Log'!$O$18:$O$1017),0)","v":0},{"$f":"IFERROR($E322*SUMIF('Daily Log'!$Q$18:$Q$1017,$B322,'Daily Log'!$R$18:$R$1017),0)","v":0},{"$f":"IFERROR($E322*SUMIF('Daily Log'!$T$18:$T$1017,$B322,'Daily Log'!$U$18:$U$1017),0)","v":0},{"$f":"IFERROR($E322*SUMIF('Daily Log'!$W$18:$W$1017,$B322,'Daily Log'!$X$18:$X$1017),0)","v":0},{"$f":"IFERROR($E322*SUMIF('Daily Log'!$Z$18:$Z$1017,$B322,'Daily Log'!$AA$18:$AA$1017),0)","v":0},{"$f":"IFERROR($E322*SUMIF('Daily Log'!$AC$18:$AC$1017,$B322,'Daily Log'!$AD$18:$AD$1017),0)","v":0},{"$f":"IFERROR($E322*SUMIF('Daily Log'!$AF$18:$AF$1017,$B322,'Daily Log'!$AG$18:$AG$1017),0)","v":0},{"$f":"IFERROR($E322*SUMIF('Daily Log'!$AI$18:$AI$1017,$B322,'Daily Log'!$AJ$18:$AJ$1017),0)","v":0},{"$f":"IFERROR($E322*SUMIF('Daily Log'!$AL$18:$AL$1017,$B322,'Daily Log'!$AM$18:$AM$1017),0)","v":0},{"$f":"IFERROR($E322*SUMIF('Daily Log'!$AO$18:$AO$1017,$B322,'Daily Log'!$AP$18:$AP$1017),0)","v":0},{"$f":"IFERROR($E322*SUMIF('Daily Log'!$AR$18:$AR$1017,$B322,'Daily Log'!$AS$18:$AS$1017),0)","v":0},{"$f":"IFERROR($E322*SUMIF('Daily Log'!$AU$18:$AU$1017,$B322,'Daily Log'!$AV$18:$AV$1017),0)","v":0},{"$f":"IFERROR($E322*SUMIF('Daily Log'!$AX$18:$AX$1017,$B322,'Daily Log'!$AY$18:$AY$1017),0)","v":0},{"$f":"IFERROR($E322*SUMIF('Daily Log'!$BA$18:$BA$1017,$B322,'Daily Log'!$BB$18:$BB$1017),0)","v":0},{"$f":"IFERROR($E322*SUMIF('Daily Log'!$BD$18:$BD$1017,$B322,'Daily Log'!$BE$18:$BE$1017),0)","v":0},{"$f":"IFERROR($E322*SUMIF('Daily Log'!$BG$18:$BG$1017,$B322,'Daily Log'!$BH$18:$BH$1017),0)","v":0},{"$f":"IFERROR($E322*SUMIF('Daily Log'!$BJ$18:$BJ$1017,$B322,'Daily Log'!$BK$18:$BK$1017),0)","v":0},{"$f":"IFERROR($E322*SUMIF('Daily Log'!$BM$18:$BM$1017,$B322,'Daily Log'!$BN$18:$BN$1017),0)","v":0},{"$f":"IFERROR($E322*SUMIF('Daily Log'!$BP$18:$BP$1017,$B322,'Daily Log'!$BQ$18:$BQ$1017),0)","v":0},{"$f":"IFERROR($E322*SUMIF('Daily Log'!$BS$18:$BS$1017,$B322,'Daily Log'!$BT$18:$BT$1017),0)","v":0},{"$f":"IFERROR($E322*SUMIF('Daily Log'!$BV$18:$BV$1017,$B322,'Daily Log'!$BW$18:$BW$1017),0)","v":0},{"$f":"IFERROR($E322*SUMIF('Daily Log'!$BY$18:$BY$1017,$B322,'Daily Log'!$BZ$18:$BZ$1017),0)","v":0},{"$f":"IFERROR($E322*SUMIF('Daily Log'!$CB$18:$CB$1017,$B322,'Daily Log'!$CC$18:$CC$1017),0)","v":0},{"$f":"IFERROR($E322*SUMIF('Daily Log'!$CE$18:$CE$1017,$B322,'Daily Log'!$CF$18:$CF$1017),0)","v":0},{"$f":"IFERROR($E322*SUMIF('Daily Log'!$CH$18:$CH$1017,$B322,'Daily Log'!$CI$18:$CI$1017),0)","v":0},{"$f":"IFERROR($E322*SUMIF('Daily Log'!$CK$18:$CK$1017,$B322,'Daily Log'!$CL$18:$CL$1017),0)","v":0},{"$f":"IFERROR($E322*SUMIF('Daily Log'!$CN$18:$CN$1017,$B322,'Daily Log'!$CO$18:$CO$1017),0)","v":0}]
[null,null,null,null,1,0,{"$f":"IFERROR($E323*SUMIF('Daily Log'!$B$18:$B$1017,$B323,'Daily Log'!$C$18:$C$1017),0)","v":0},{"$f":"IFERROR($E323*SUMIF('Daily Log'!$E$18:$E$1017,$B323,'Daily Log'!$F$18:$F$1017),0)","v":0},{"$f":"IFERROR($E323*SUMIF('Daily Log'!$H$18:$H$1017,$B323,'Daily Log'!$I$18:$I$1017),0)","v":0},{"$f":"IFERROR($E323*SUMIF('Daily Log'!$K$18:$K$1017,$B323,'Daily Log'!$L$18:$L$1017),0)","v":0},{"$f":"IFERROR($E323*SUMIF('Daily Log'!$N$18:$N$1017,$B323,'Daily Log'!$O$18:$O$1017),0)","v":0},{"$f":"IFERROR($E323*SUMIF('Daily Log'!$Q$18:$Q$1017,$B323,'Daily Log'!$R$18:$R$1017),0)","v":0},{"$f":"IFERROR($E323*SUMIF('Daily Log'!$T$18:$T$1017,$B323,'Daily Log'!$U$18:$U$1017),0)","v":0},{"$f":"IFERROR($E323*SUMIF('Daily Log'!$W$18:$W$1017,$B323,'Daily Log'!$X$18:$X$1017),0)","v":0},{"$f":"IFERROR($E323*SUMIF('Daily Log'!$Z$18:$Z$1017,$B323,'Daily Log'!$AA$18:$AA$1017),0)","v":0},{"$f":"IFERROR($E323*SUMIF('Daily Log'!$AC$18:$AC$1017,$B323,'Daily Log'!$AD$18:$AD$1017),0)","v":0},{"$f":"IFERROR($E323*SUMIF('Daily Log'!$AF$18:$AF$1017,$B323,'Daily Log'!$AG$18:$AG$1017),0)","v":0},{"$f":"IFERROR($E323*SUMIF('Daily Log'!$AI$18:$AI$1017,$B323,'Daily Log'!$AJ$18:$AJ$1017),0)","v":0},{"$f":"IFERROR($E323*SUMIF('Daily Log'!$AL$18:$AL$1017,$B323,'Daily Log'!$AM$18:$AM$1017),0)","v":0},{"$f":"IFERROR($E323*SUMIF('Daily Log'!$AO$18:$AO$1017,$B323,'Daily Log'!$AP$18:$AP$1017),0)","v":0},{"$f":"IFERROR($E323*SUMIF('Daily Log'!$AR$18:$AR$1017,$B323,'Daily Log'!$AS$18:$AS$1017),0)","v":0},{"$f":"IFERROR($E323*SUMIF('Daily Log'!$AU$18:$AU$1017,$B323,'Daily Log'!$AV$18:$AV$1017),0)","v":0},{"$f":"IFERROR($E323*SUMIF('Daily Log'!$AX$18:$AX$1017,$B323,'Daily Log'!$AY$18:$AY$1017),0)","v":0},{"$f":"IFERROR($E323*SUMIF('Daily Log'!$BA$18:$BA$1017,$B323,'Daily Log'!$BB$18:$BB$1017),0)","v":0},{"$f":"IFERROR($E323*SUMIF('Daily Log'!$BD$18:$BD$1017,$B323,'Daily Log'!$BE$18:$BE$1017),0)","v":0},{"$f":"IFERROR($E323*SUMIF('Daily Log'!$BG$18:$BG$1017,$B323,'Daily Log'!$BH$18:$BH$1017),0)","v":0},{"$f":"IFERROR($E323*SUMIF('Daily Log'!$BJ$18:$BJ$1017,$B323,'Daily Log'!$BK$18:$BK$1017),0)","v":0},{"$f":"IFERROR($E323*SUMIF('Daily Log'!$BM$18:$BM$1017,$B323,'Daily Log'!$BN$18:$BN$1017),0)","v":0},{"$f":"IFERROR($E323*SUMIF('Daily Log'!$BP$18:$BP$1017,$B323,'Daily Log'!$BQ$18:$BQ$1017),0)","v":0},{"$f":"IFERROR($E323*SUMIF('Daily Log'!$BS$18:$BS$1017,$B323,'Daily Log'!$BT$18:$BT$1017),0)","v":0},{"$f":"IFERROR($E323*SUMIF('Daily Log'!$BV$18:$BV$1017,$B323,'Daily Log'!$BW$18:$BW$1017),0)","v":0},{"$f":"IFERROR($E323*SUMIF('Daily Log'!$BY$18:$BY$1017,$B323,'Daily Log'!$BZ$18:$BZ$1017),0)","v":0},{"$f":"IFERROR($E323*SUMIF('Daily Log'!$CB$18:$CB$1017,$B323,'Daily Log'!$CC$18:$CC$1017),0)","v":0},{"$f":"IFERROR($E323*SUMIF('Daily Log'!$CE$18:$CE$1017,$B323,'Daily Log'!$CF$18:$CF$1017),0)","v":0},{"$f":"IFERROR($E323*SUMIF('Daily Log'!$CH$18:$CH$1017,$B323,'Daily Log'!$CI$18:$CI$1017),0)","v":0},{"$f":"IFERROR($E323*SUMIF('Daily Log'!$CK$18:$CK$1017,$B323,'Daily Log'!$CL$18:$CL$1017),0)","v":0},{"$f":"IFERROR($E323*SUMIF('Daily Log'!$CN$18:$CN$1017,$B323,'Daily Log'!$CO$18:$CO$1017),0)","v":0}]
[]
[null,"Copyright © 2013 by Oracle Symphony Sdn Bhd"]

{"sheet":"STOCK ANALYSIS","index":2,"n_rows":100,"n_cols":18,"rows_kept":100,"cut":false,"hidden":false,"merged":[[85,1,85,5],[87,1,87,17],[95,1,95,17],[99,1,99,2],[6,3,6,4],[9,3,9,4],[21,1,21,17],[45,1,45,2],[47,1,47,17],[63,1,63,4],[65,1,65,4],[26,1,26,2],[62,1,62,2],[36,1,36,17],[28,1,28,17]]}
[]
[]
[null,null,"MONTHLY KITCHEN STOCK SUMMARY "]
[null,null,"每月厨房货物总结表"]
[]
[]
[null,null,"OUTLET KITCHEN ","STP"]
[null,null,"分行厨房"]
[]
[null,null,"YEAR / MONTH","JAN 2014"]
[null,null,"年/月"]
[]
[]
[]
[null,"ITEM","PRODUCT DESCRIPTION","PRICE","UOM","FOR TSU KITCHEN "]
[null,"项目","食材产品","价格","单位","A","B","C","D","E","F","G","H","I","J","K","L","M"]
[null,null,null,null,null,null,null,null,null,null,null,null,"=C+D+E+F+G","=A+B-H",null,"=J-I","=K / I","=UP*K"]
[null,null,null,null,null,"OPENING","PURCHASE","USAGE ","USAGE ","DISPOSED","USAGE ","USAGE ","TOTAL","BOOKING","STOCK ","DIFF.","DIFF.","LOSS/GAIN"]
[null,null,null,null,null,"STOCK","购买数量","IN K LUNCH ","IN SIDE ORDER","STOCK","CUSTOMER REQ","IN OTHER ","USAGE ","INVENTORY","TAKE "]
[null,null,null,null,null,"上月存货",null,"K LUNCH 用量","附加菜 用量","本月抛弃","顾客请求","其他用途","总用量","账面存货","本月点货","差异","%差异","盈亏 (RM)"]
[]
[null,"MAIN SAUCE 主要酱料"]
[null,{"$f":"[1]Database!$B23","v":"S01"},"BLACK PEPPER SAUCE",1.8,"KG 公斤",null,null,{"$f":"SUMIF('SAUCE USAGE'!$F$11:$F$12,C23,'SAUCE USAGE'!$H$11:$H$12)/1000","v":{"$error":"#N/A"}},{"$f":"SUMIF('SAUCE USAGE'!$F$43:$F$50,C23,'SAUCE USAGE'!$H$43:$H$50)/1000","v":0},null,{"$f":"SUMIF('SAUCE USAGE'!$F$15:$F$27,C23,'SAUCE USAGE'!$H$15:$H$27)/1000","v":{"$error":"#N/A"}},null,{"$f":"SUM(H23:L23)","v":{"$error":"#N/A"}},{"$f":"+F23+G23-M23","v":{"$error":"#N/A"}},{"$f":"SUMIF('CLOSING STOCK'!$B$70:$B$72,'STOCK ANALYSIS'!C23,'CLOSING STOCK'!$L$70:$L$73)","v":0},{"$f":"+O23-N23","v":{"$error":"#N/A"}},{"$f":"IF(N23=0,\"\",P23/N23)","v":{"$error":"#N/A"}},{"$f":"+P23*D23","v":{"$error":"#N/A"}}]
[null,{"$f":"[1]Database!$B24","v":"S02"},"BUTTER SAUCE ",4.4000000000000004,"KG 公斤",null,null,{"$f":"SUMIF('SAUCE USAGE'!$F$30:$F$33,C24,'SAUCE USAGE'!$H$30:$H$33)/1000","v":{"$error":"#N/A"}},{"$f":"SUMIF('SAUCE USAGE'!$F$43:$F$50,C24,'SAUCE USAGE'!$H$43:$H$50)/1000","v":{"$error":"#N/A"}},null,{"$f":"SUMIF('SAUCE USAGE'!$F$15:$F$27,C24,'SAUCE USAGE'!$H$15:$H$27)/1000","v":{"$error":"#N/A"}},null,{"$f":"SUM(H24:L24)","v":{"$error":"#N/A"}},{"$f":"+F24+G24-M24","v":{"$error":"#N/A"}},{"$f":"SUMIF('CLOSING STOCK'!$B$70:$B$72,'STOCK ANALYSIS'!C24,'CLOSING STOCK'!$L$70:$L$73)","v":0},{"$f":"+O24-N24","v":{"$error":"#N/A"}},{"$f":"IF(N24=0,\"\",P24/N24)","v":{"$error":"#N/A"}},{"$f":"+P24*D24","v":{"$error":"#N/A"}}]
[null,{"$f":"[1]Database!$B25","v":"S03"},"MUSHROOM SAUCE",2.2999999999999998,"KG 公斤",null,null,{"$f":"SUMIF('SAUCE USAGE'!$F$11:$F$12,C25,'SAUCE USAGE'!$H$11:$H$12)/1000","v":{"$error":"#N/A"}},{"$f":"SUMIF('SAUCE USAGE'!$F$43:$F$50,C25,'SAUCE USAGE'!$H$43:$H$50)/1000","v":0},null,{"$f":"SUMIF('SAUCE USAGE'!$F$15:$F$27,C25,'SAUCE USAGE'!$H$15:$H$27)/1000","v":{"$error":"#N/A"}},null,{"$f":"SUM(H25:L25)","v":{"$error":"#N/A"}},{"$f":"+F25+G25-M25","v":{"$error":"#N/A"}},{"$f":"SUMIF('CLOSING STOCK'!$B$70:$B$72,'STOCK ANALYSIS'!C25,'CLOSING STOCK'!$L$70:$L$73)","v":0},{"$f":"+O25-N25","v":{"$error":"#N/A"}},{"$f":"IF(N25=0,\"\",P25/N25)","v":{"$error":"#N/A"}},{"$f":"+P25*D25","v":{"$error":"#N/A"}}]
[]
[null,"GRAND TOTAL ",null,null,null,null,null,null,null,null,null,null,null,null,null,null,null,{"$f":"SUM(R22:R26)","v":{"$error":"#N/A"}}]
[]
[null,{"$f":"+O29*D29","v":0}]
[null,"ITEM","PRODUCT DESCRIPTION","PRICE","UOM","FOR STP KITCHEN "]
[null,"项目","食材产品","价格","单位","A","B","C","D","E","F","G","H","I","J","K","L","M"]
[null,null,null,null,null,null,null,null,null,null,null,null,"=C+D+E+F+G","=A+B-H",null,"=J-I","=K / I","=UP*K"]
[null,null,null,null,null,"OPENING","PURCHASE","USAGE ","USAGE ","DISPOSED","USAGE ","USAGE ","TOTAL","BOOKING","STOCK ","DIFF.","DIFF.","LOSS/GAIN"]
[null,null,null,null,null,"STOCK","购买数量","IN K LUNCH ","IN SIDE ORDER","STOCK","IN STAFF FOOD","IN OTHER ","USAGE ","INVENTORY","TAKE "]
[null,null,null,null,null,"上月存货",null,"K LUNCH 用量","附加菜 用量","本月抛弃","员工餐用量","其他用途","总用量","账面存货","本月点货","差异","%差异","盈亏 (RM)"]
[]
[null,"MAIN COURSE 主餐食材"]
[null,1,"CHICKEN CHOP (MARINATED)",3.34,"PCS",126,1909,{"$f":"SUMIF('K LUNCH & K DINNER'!$Q$5:$Q$207,'STOCK ANALYSIS'!C38,'K LUNCH & K DINNER'!$S$5:$S$207)","v":885.26},{"$f":"SUMIF('SIDE ORDER & FOC'!$R$4:$R$210,'STOCK ANALYSIS'!C38,'SIDE ORDER & FOC'!$T$4:$T$210)","v":1002.1800000000001},17,null,{"$f":"200+9","v":209},{"$f":"SUM(H38:L38)","v":2113.44},{"$f":"+F38+G38-M38","v":-78.440000000000055},{"$f":"+'CLOSING STOCK'!L12","v":1284},{"$f":"+O38-N38","v":1362.44},{"$f":"IF(N38=0,\"\",P38/N38)","v":-17.369199388067301},{"$f":"+P38*D38","v":4550.5496000000003}]
[]
[null,{"$f":"+B38+1","v":2},"CHICKEN WINGS (MARINATED)",1.17,"PCS",72,658,{"$f":"SUMIF('K LUNCH & K DINNER'!$Q$5:$Q$207,'STOCK ANALYSIS'!C40,'K LUNCH & K DINNER'!$S$5:$S$207)","v":78},{"$f":"SUMIF('SIDE ORDER & FOC'!$R$4:$R$210,'STOCK ANALYSIS'!C40,'SIDE ORDER & FOC'!$T$4:$T$210)","v":663},null,null,null,{"$f":"SUM(H40:L40)","v":741},{"$f":"+F40+G40-M40","v":-11},{"$f":"+'CLOSING STOCK'!L15","v":203},{"$f":"+O40-N40","v":214},-19.454545454545453,{"$f":"+P40*D40","v":250.38}]
[null,3,"CHICKEN WINGS (NON-MARINATED)",1.17,"PCS",21,148,{"$f":"SUMIF('K LUNCH & K DINNER'!$Q$5:$Q$207,'STOCK ANALYSIS'!C41,'K LUNCH & K DINNER'!$S$5:$S$207)","v":0},{"$f":"SUMIF('SIDE ORDER & FOC'!$R$4:$R$210,'STOCK ANALYSIS'!C41,'SIDE ORDER & FOC'!$T$4:$T$210)","v":0},null,15,null,{"$f":"SUM(H41:L41)","v":15},{"$f":"+F41+G41-M41","v":154},{"$f":"+'CLOSING STOCK'!L16","v":119},{"$f":"+O41-N41","v":-35},{"$f":"IF(N41=0,\"\",P41/N41)","v":-0.22727272727272727},{"$f":"+P41*D41","v":-40.949999999999996}]
[null,null,"CHICKEN WINGS -TOTAL",1.17,"PCS",{"$f":"SUM(F40:F41)","v":93},806,78,663,0,15,{"$f":"SUM(L40:L41)","v":0},756,143,322,179,-19.68181818181818,{"$f":"+P42*D42","v":209.42999999999998}]
[]
[null,4,"FISH & CHIP ",2.4900000000000002,"PCS",102,277,{"$f":"SUMIF('K LUNCH & K DINNER'!$Q$5:$Q$105,'STOCK ANALYSIS'!C44,'K LUNCH & K DINNER'!$S$5:$S$105)","v":159},{"$f":"SUMIF('SIDE ORDER & FOC'!$R$4:$R$210,'STOCK ANALYSIS'!C44,'SIDE ORDER & FOC'!$T$4:$T$210)","v":82},null,24,{"$f":"18+18+2+1+6+15+30","v":90},{"$f":"SUM(H44:L44)","v":355},{"$f":"+F44+G44-M44","v":24},{"$f":"+'CLOSING STOCK'!L23","v":211},{"$f":"+O44-N44","v":187},7.791666666666667,{"$f":"+P44*D44","v":465.63000000000005}]
[]
[null,"GRAND TOTAL ",null,null,null,null,null,null,null,null,null,null,null,null,null,null,null,{"$f":"SUM(R37:R45)","v":5435.039600000001}]
[]
[null,"SNACKS MATERIAL   小吃食材"]
[null,5,"MCCAIN ONION RING",0.17,"PCS",726,960,{"$f":"SUMIF('K LUNCH & K DINNER'!$Q$10:$Q$99,'STOCK ANALYSIS'!C49,'K LUNCH & K DINNER'!$S$10:$S$99)","v":48},{"$f":"SUMIF('SIDE ORDER & FOC'!R14:R101,'STOCK ANALYSIS'!C49,'SIDE ORDER & FOC'!T14:T102)","v":952},null,null,null,{"$f":"SUM(H49:L49)","v":1000},{"$f":"+F49+G49-M49","v":686},{"$f":"SUMIF('CLOSING STOCK'!$B$5:$B$52,'STOCK ANALYSIS'!C49,'CLOSING STOCK'!$L$5:$L$52)","v":408},{"$f":"+O49-N49","v":-278},-0.40524781341107874,{"$f":"+P49*D49","v":-47.260000000000005}]
[null,6,"MCCAIN SMILES",0.12,"PCS",466,630,{"$f":"SUMIF('K LUNCH & K DINNER'!$Q$10:$Q$99,'STOCK ANALYSIS'!C50,'K LUNCH & K DINNER'!$S$10:$S$99)","v":24},{"$f":"SUMIF('SIDE ORDER & FOC'!R15:R102,'STOCK ANALYSIS'!C50,'SIDE ORDER & FOC'!T15:T103)","v":562},null,null,null,586,{"$f":"+F50+G50-M50","v":510},{"$f":"SUMIF('CLOSING STOCK'!$B$5:$B$52,'STOCK ANALYSIS'!C50,'CLOSING STOCK'!$L$5:$L$52)","v":444},{"$f":"+O50-N50","v":-66},-0.12941176470588237,-7.92]
[null,7,"MCCAIN VERSITOT",0.06,"PCS",1014,1320,{"$f":"SUMIF('K LUNCH & K DINNER'!$Q$10:$Q$99,'STOCK ANALYSIS'!C51,'K LUNCH & K DINNER'!$S$10:$S$99)","v":165},{"$f":"SUMIF('SIDE ORDER & FOC'!R16:R103,'STOCK ANALYSIS'!C51,'SIDE ORDER & FOC'!T16:T104)","v":1127},null,null,null,1292,1042,{"$f":"SUMIF('CLOSING STOCK'!$B$5:$B$52,'STOCK ANALYSIS'!C51,'CLOSING STOCK'!$L$5:$L$52)","v":937},{"$f":"+O51-N51","v":-105},-0.10076775431861804,-6.3]
[null,8,"MCCAIN SPIRAL FRIES",7.87,"KG",21.6,21.6,{"$f":"SUMIF('K LUNCH & K DINNER'!$Q$10:$Q$99,'STOCK ANALYSIS'!C52,'K LUNCH & K DINNER'!$S$10:$S$99)","v":1.98},{"$f":"SUMIF('SIDE ORDER & FOC'!R17:R104,'STOCK ANALYSIS'!C52,'SIDE ORDER & FOC'!T17:T105)","v":19.82},null,null,null,21.8,21.400000000000002,{"$f":"+'CLOSING STOCK'!L31","v":16.599999999999998},{"$f":"+O52-N52","v":-4.8000000000000043},-0.22429906542056091,-37.776000000000032]
[null,9,"CHICKEN NUGGET",0.26,"PCS",408,1296,{"$f":"SUMIF('K LUNCH & K DINNER'!$Q$10:$Q$99,'STOCK ANALYSIS'!C53,'K LUNCH & K DINNER'!$S$10:$S$99)","v":160},{"$f":"SUMIF('SIDE ORDER & FOC'!R18:R105,'STOCK ANALYSIS'!C53,'SIDE ORDER & FOC'!T18:T106)","v":1016},null,null,null,{"$f":"SUM(H53:L53)","v":1176},528,{"$f":"SUMIF('CLOSING STOCK'!$B$5:$B$52,'STOCK ANALYSIS'!C53,'CLOSING STOCK'!$L$5:$L$52)","v":288},{"$f":"+O53-N53","v":-240},{"$f":"IF(N53=0,\"\",P53/N53)","v":-0.45454545454545453},-62.400000000000006]
[null,10,"CHICKEN SAUSAGE ",0.23,"PCS",154.5,660,{"$f":"SUMIF('K LUNCH & K DINNER'!$Q$10:$Q$99,'STOCK ANALYSIS'!C54,'K LUNCH & K DINNER'!$S$10:$S$99)","v":51},{"$f":"SUMIF('SIDE ORDER & FOC'!R19:R106,'STOCK ANALYSIS'!C54,'SIDE ORDER & FOC'!T19:T107)","v":589},null,null,null,640,174.5,{"$f":"SUMIF('CLOSING STOCK'!$B$5:$B$52,'STOCK ANALYSIS'!C54,'CLOSING STOCK'!$L$5:$L$52)","v":30},-144.5,-0.82808022922636104,-33.234999999999999]
[null,10,"FISH BALL (BIG)",0.24,"PCS",328,160,{"$f":"SUMIF('K LUNCH & K DINNER'!$Q$10:$Q$99,'STOCK ANALYSIS'!C55,'K LUNCH & K DINNER'!$S$10:$S$99)","v":18},{"$f":"SUMIF('SIDE ORDER & FOC'!R21:R108,'STOCK ANALYSIS'!C55,'SIDE ORDER & FOC'!T21:T109)","v":348},null,null,null,366,122,{"$f":"SUMIF('CLOSING STOCK'!$B$5:$B$52,'STOCK ANALYSIS'!C55,'CLOSING STOCK'!$L$5:$L$52)","v":30},-92,-0.75409836065573765,-22.08]
[null,10,"FISH BALL (SMALL)",0.1,"PCS",140,200,{"$f":"SUMIF('K LUNCH & K DINNER'!$Q$10:$Q$99,'STOCK ANALYSIS'!C56,'K LUNCH & K DINNER'!$S$10:$S$99)","v":0},{"$f":"SUMIF('SIDE ORDER & FOC'!R22:R109,'STOCK ANALYSIS'!C56,'SIDE ORDER & FOC'!T22:T110)","v":0},null,null,null,0,340,{"$f":"SUMIF('CLOSING STOCK'!$B$5:$B$52,'STOCK ANALYSIS'!C56,'CLOSING STOCK'!$L$5:$L$52)","v":300},-40,-0.11764705882352941,-4]
[null,10,"SALMON BALL",0.27,"PCS",98,0,{"$f":"SUMIF('K LUNCH & K DINNER'!$Q$10:$Q$99,'STOCK ANALYSIS'!C57,'K LUNCH & K DINNER'!$S$10:$S$99)","v":8},{"$f":"SUMIF('SIDE ORDER & FOC'!R24:R111,'STOCK ANALYSIS'!C57,'SIDE ORDER & FOC'!T24:T112)","v":32},null,null,null,40,58,{"$f":"SUMIF('CLOSING STOCK'!$B$5:$B$52,'STOCK ANALYSIS'!C57,'CLOSING STOCK'!$L$5:$L$52)","v":90},32,0.55172413793103448,8.64]
[null,10,"SEAFOOD TOFU",0.33,"PCS",244,66,{"$f":"SUMIF('K LUNCH & K DINNER'!$Q$10:$Q$99,'STOCK ANALYSIS'!C58,'K LUNCH & K DINNER'!$S$10:$S$99)","v":8},{"$f":"SUMIF('SIDE ORDER & FOC'!R25:R112,'STOCK ANALYSIS'!C58,'SIDE ORDER & FOC'!T25:T113)","v":32},null,null,null,40,270,231,-39,-0.14444444444444443,-12.870000000000001]
[null,10,"SOTONG BALL",0.17,"PCS",122,100,{"$f":"SUMIF('K LUNCH & K DINNER'!$Q$10:$Q$99,'STOCK ANALYSIS'!C59,'K LUNCH & K DINNER'!$S$10:$S$99)","v":8},{"$f":"SUMIF('SIDE ORDER & FOC'!R26:R113,'STOCK ANALYSIS'!C59,'SIDE ORDER & FOC'!T26:T114)","v":32},null,null,null,{"$f":"SUM(H59:L59)","v":40},182,{"$f":"SUMIF('CLOSING STOCK'!$B$5:$B$52,'STOCK ANALYSIS'!C59,'CLOSING STOCK'!$L$5:$L$52)","v":150},{"$f":"+O59-N59","v":-32},{"$f":"IF(N59=0,\"\",P59/N59)","v":-0.17582417582417584},-5.44]
[null,10,"SPRING ROLL",0.27,"PCS",240,1220,{"$f":"SUMIF('K LUNCH & K DINNER'!$Q$10:$Q$99,'STOCK ANALYSIS'!C60,'K LUNCH & K DINNER'!$S$10:$S$99)","v":48},{"$f":"SUMIF('SIDE ORDER & FOC'!R27:R114,'STOCK ANALYSIS'!C60,'SIDE ORDER & FOC'!T27:T114)","v":672},null,null,80,{"$f":"SUM(H60:L60)","v":800},660,{"$f":"SUMIF('CLOSING STOCK'!$B$5:$B$52,'STOCK ANALYSIS'!C60,'CLOSING STOCK'!$L$5:$L$52)","v":420},{"$f":"+O60-N60","v":-240},{"$f":"IF(N60=0,\"\",P60/N60)","v":-0.36363636363636365},-64.800000000000011]
[null,10,"THAI ROLL ",0.45,"PCS",323,90,{"$f":"SUMIF('K LUNCH & K DINNER'!$Q$10:$Q$99,'STOCK ANALYSIS'!C61,'K LUNCH & K DINNER'!$S$10:$S$99)","v":7},{"$f":"SUMIF('SIDE ORDER & FOC'!R28:R114,'STOCK ANALYSIS'!C61,'SIDE ORDER & FOC'!T28:T114)","v":147},null,null,null,154,259,{"$f":"SUMIF('CLOSING STOCK'!$B$5:$B$52,'STOCK ANALYSIS'!C61,'CLOSING STOCK'!$L$5:$L$52)","v":135},-124,-0.47876447876447875,-55.800000000000004]
[]
[null,"GRAND TOTAL ",null,null,null,null,null,null,null,null,null,null,null,null,null,null,null,{"$f":"SUM(R47:R62)","v":-351.24100000000004}]
[null,"**exclude the usage for lok lok bar "]
[]
[null,"COMPARISON OF TOTAL LOSSES",null,null,null,null,null,null,null,null,"COMPARISON OF ACTUAL USAGE "]
[null,"NO","CATEGORIES",null,null,"DEC","JAN","DIFF",null,null,"NO",null,null,null,null,"DEC","JAN","DIFF"]
[null,null,null,null,null,"RM ","RM ","%",null,null,null,null,null,null,null,"PCS","PCS","%"]
[null,null,null,null,null,null,null,null,null,null,1,"CHICKEN CHOP (MARINATED)",null,null,null,1305.6999999999998,{"$f":"+M38","v":2113.44},{"$f":"(+Q69-P69)/P69","v":0.61862602435475256}]
[null,1,"MAIN COURSE MATERIAL 主餐食材",null,null,-349.39200000000062,{"$f":"+R46","v":5435.039600000001},{"$f":"(+G70-F70)/F70","v":-16.555707056830126},null,null,2,"CHICKEN WINGS (MARINATED)",null,null,null,318,{"$f":"+M40","v":741},{"$f":"(+Q70-P70)/P70","v":1.3301886792452831}]
[null,2,"SNACKS MATERIAL   小吃食材",null,null,-32.9876,{"$f":"+R63","v":-351.24100000000004},9.647667608434686,null,null,3,"FISH & CHIP ",null,null,null,147,{"$f":"+M44","v":355},1.4149659863945578]
[null,null,null,null,null,null,null,null,null,null,{"$f":"+K71+1","v":4},"MCCAIN ONION RING",null,null,null,312,{"$f":"SUMIF($C$49:$C$62,L72,$M$49:$M$62)","v":1000},2.2051282051282053]
[null,null,null,null,null,null,null,null,null,null,{"$f":"+K72+1","v":5},"MCCAIN SMILES",null,null,null,212,{"$f":"SUMIF($C$49:$C$62,L73,$M$49:$M$62)","v":586},1.7641509433962264]
[null,null,null,null,null,null,null,null,null,null,6,"MCCAIN VERSITOT",null,null,null,356,1292,2.6292134831460676]
[null,null,null,null,null,null,null,null,null,null,7,"MCCAIN SPIRAL FRIES",null,null,null,9.32,21.8,1.3390557939914163]
[null,null,null,null,null,null,null,null,null,null,8,"CHICKEN NUGGET",null,null,null,482,1176,1.4398340248962656]
[null,null,null,null,null,null,null,null,null,null,9,"CHICKEN SAUSAGE ",null,null,null,132,640,3.8484848484848486]
[null,null,null,null,null,null,null,null,null,null,10,"DUMPLING ",null,null,null,0,0,{"$error":"#DIV/0!"}]
[null,null,null,null,null,null,null,null,null,null,11,"FISH BALL (BIG)",null,null,null,180,366,1.0333333333333334]
[null,null,null,null,null,null,null,null,null,null,12,"SALMON BALL",null,null,null,34,40,0.17647058823529413]
[null,null,null,null,null,null,null,null,null,null,13,"SEAFOOD TOFU",null,null,null,34,40,0.17647058823529413]
[null,null,null,null,null,null,null,null,null,null,14,"SOTONG BALL",null,null,null,34,40,0.17647058823529413]
[null,null,null,null,null,null,null,null,null,null,15,"SPRING ROLL",null,null,null,244,800,2.278688524590164]
[null,null,null,null,null,null,null,null,null,null,16,"THAI ROLL ",null,null,null,70,154,1.2]
[]
[null,"STOCK SUMMARY FOR SPECIAL MEAL"]
[]
[null,{"$f":"+O88*D88","v":0}]
[null,"ITEM","PRODUCT DESCRIPTION","PRICE","UOM","FOR STP KITCHEN "]
[null,"项目","食材产品","价格","单位","A","B","C","D","E","F","G","H","I","J","K","L","M"]
[null,null,null,null,null,null,null,null,null,null,null,null,"=C+D+E+F+G","=A+B-H",null,"=J-I","=K / I","=UP*K"]
[null,null,null,null,null,"OPENING","PURCHASE","USAGE ","USAGE ","DISPOSED","USAGE ","USAGE ","TOTAL","BOOKING","STOCK ","DIFF.","DIFF.","LOSS/GAIN"]
[null,null,null,null,null,"STOCK","购买数量","IN K LUNCH ","IN SIDE ORDER","STOCK","IN STAFF FOOD","IN OTHER ","USAGE ","INVENTORY","TAKE "]
[null,null,null,null,null,"上月存货",null,"K LUNCH 用量","附加菜 用量","本月抛弃","员工餐用量","其他用途","总用量","账面存货","本月点货","差异","%差异","盈亏 (RM)"]
[]
[null,"MAIN COURSE 主餐食材"]
[null,1,"TEMPURA FISH",2.85,"PCS",null,90,{"$f":"SUMIF('K LUNCH & K DINNER'!$Q$5:$Q$207,'STOCK ANALYSIS'!C97,'K LUNCH & K DINNER'!$S$5:$S$207)","v":5},{"$f":"SUMIF('SIDE ORDER & FOC'!$R$4:$R$210,'STOCK ANALYSIS'!C97,'SIDE ORDER & FOC'!$T$4:$T$210)","v":1},null,null,null,{"$f":"SUM(H97:L97)","v":6},{"$f":"+F97+G97-M97","v":84},{"$f":"+'CLOSING STOCK'!L48","v":84},{"$f":"+O97-N97","v":0},{"$f":"IF(N97=0,\"\",P97/N97)","v":0},{"$f":"+P97*D97","v":0}]
[null,2,"LEMON FISH FILLET",2.2000000000000002,"PCS",null,120,{"$f":"SUMIF('K LUNCH & K DINNER'!$Q$5:$Q$207,'STOCK ANALYSIS'!C98,'K LUNCH & K DINNER'!$S$5:$S$207)","v":6},{"$f":"SUMIF('SIDE ORDER & FOC'!$R$4:$R$210,'STOCK ANALYSIS'!C98,'SIDE ORDER & FOC'!$T$4:$T$210)","v":0},null,null,null,{"$f":"SUM(H98:L98)","v":6},{"$f":"+F98+G98-M98","v":114},{"$f":"+'CLOSING STOCK'!L49","v":114},{"$f":"+O98-N98","v":0},0,{"$f":"+P98*D98","v":0}]
[]
[null,"GRAND TOTAL ",null,null,null,null,null,null,null,null,null,null,null,null,null,null,null,{"$f":"SUM(R96:R99)","v":0}]

{"sheet":"Daily Log","index":3,"n_rows":1019,"n_cols":96,"rows_kept":1019,"cut":false,"hidden":false,"merged":[[5,2,5,4],[7,2,7,4]]}
[]
[]
[null,null,"DAILY LOG OF PRODUCT SALES"]
[]
[]
[null,"OUTLET",{"$f":"Summary!C6","v":"STP"}]
[]
[null,"YEAR",{"$f":"Summary!C8","v":"2014"}]
[]
[null,"MONTH",{"$f":"Summary!C10","v":"JANUARY"}]
[]
[]
[]
[{"$f":"IFERROR(INDEX($CR$18:$CR$48,MAX($B$17:$CO$17),1),\"\")","v":""},{"$f":"\"DATE  \"&TEXT(Summary!G27,\"DD / MM / YYYY\")","v":"DATE  01 / 01 / 2014"},null,null,{"$f":"\"DATE  \"&TEXT(Summary!H27,\"DD / MM / YYYY\")","v":"DATE  02 / 01 / 2014"},null,null,{"$f":"\"DATE  \"&TEXT(Summary!I27,\"DD / MM / YYYY\")","v":"DATE  03 / 01 / 2014"},null,null,{"$f":"\"DATE  \"&TEXT(Summary!J27,\"DD / MM / YYYY\")","v":"DATE  04 / 01 / 2014"},null,null,{"$f":"\"DATE  \"&TEXT(Summary!K27,\"DD / MM / YYYY\")","v":"DATE  05 / 01 / 2014"},null,null,{"$f":"\"DATE  \"&TEXT(Summary!L27,\"DD / MM / YYYY\")","v":"DATE  06 / 01 / 2014"},null,null,{"$f":"\"DATE  \"&TEXT(Summary!M27,\"DD / MM / YYYY\")","v":"DATE  07 / 01 / 2014"},null,null,{"$f":"\"DATE  \"&TEXT(Summary!N27,\"DD / MM / YYYY\")","v":"DATE  08 / 01 / 2014"},null,null,{"$f":"\"DATE  \"&TEXT(Summary!O27,\"DD / MM / YYYY\")","v":"DATE  09 / 01 / 2014"},null,null,{"$f":"\"DATE  \"&TEXT(Summary!P27,\"DD / MM / YYYY\")","v":"DATE  10 / 01 / 2014"},null,null,{"$f":"\"DATE  \"&TEXT(Summary!Q27,\"DD / MM / YYYY\")","v":"DATE  11 / 01 / 2014"},null,null,{"$f":"\"DATE  \"&TEXT(Summary!R27,\"DD / MM / YYYY\")","v":"DATE  12 / 01 / 2014"},null,null,{"$f":"\"DATE  \"&TEXT(Summary!S27,\"DD / MM / YYYY\")","v":"DATE  13 / 01 / 2014"},null,null,{"$f":"\"DATE  \"&TEXT(Summary!T27,\"DD / MM / YYYY\")","v":"DATE  14 / 01 / 2014"},null,null,{"$f":"\"DATE  \"&TEXT(Summary!U27,\"DD / MM / YYYY\")","v":"DATE  15 / 01 / 2014"},null,null,{"$f":"\"DATE  \"&TEXT(Summary!V27,\"DD / MM / YYYY\")","v":"DATE  16 / 01 / 2014"},null,null,{"$f":"\"DATE  \"&TEXT(Summary!W27,\"DD / MM / YYYY\")","v":"DATE  17 / 01 / 2014"},null,null,{"$f":"\"DATE  \"&TEXT(Summary!X27,\"DD / MM / YYYY\")","v":"DATE  18 / 01 / 2014"},null,null,{"$f":"\"DATE  \"&TEXT(Summary!Y27,\"DD / MM / YYYY\")","v":"DATE  19 / 01 / 2014"},null,null,{"$f":"\"DATE  \"&TEXT(Summary!Z27,\"DD / MM / YYYY\")","v":"DATE  20 / 01 / 2014"},null,null,{"$f":"\"DATE  \"&TEXT(Summary!AA27,\"DD / MM / YYYY\")","v":"DATE  21 / 01 / 2014"},null,null,{"$f":"\"DATE  \"&TEXT(Summary!AB27,\"DD / MM / YYYY\")","v":"DATE  22 / 01 / 2014"},null,null,{"$f":"\"DATE  \"&TEXT(Summary!AC27,\"DD / MM / YYYY\")","v":"DATE  23 / 01 / 2014"},null,null,{"$f":"\"DATE  \"&TEXT(Summary!AD27,\"DD / MM / YYYY\")","v":"DATE  24 / 01 / 2014"},null,null,{"$f":"\"DATE  \"&TEXT(Summary!AE27,\"DD / MM / YYYY\")","v":"DATE  25 / 01 / 2014"},null,null,{"$f":"\"DATE  \"&TEXT(Summary!AF27,\"DD / MM / YYYY\")","v":"DATE  26 / 01 / 2014"},null,null,{"$f":"\"DATE  \"&TEXT(Summary!AG27,\"DD / MM / YYYY\")","v":"DATE  27 / 01 / 2014"},null,null,{"$f":"\"DATE  \"&TEXT(Summary!AH27,\"DD / MM / YYYY\")","v":"DATE  28 / 01 / 2014"},null,null,{"$f":"\"DATE  \"&TEXT(Summary!AI27,\"DD / MM / YYYY\")","v":"DATE  29 / 01 / 2014"},null,null,{"$f":"\"DATE  \"&TEXT(Summary!AJ27,\"DD / MM / YYYY\")","v":"DATE  30 / 01 / 2014"},null,null,{"$f":"\"DATE  \"&TEXT(Summary!AK27,\"DD / MM / YYYY\")","v":"DATE  31 / 01 / 2014"},null,null,"COLUMN"]
[]
[null,"PRODUCT","QUANTITY",null,"PRODUCT","QUANTITY",null,"PRODUCT","QUANTITY",null,"PRODUCT","QUANTITY",null,"PRODUCT","QUANTITY",null,"PRODUCT","QUANTITY",null,"PRODUCT","QUANTITY",null,"PRODUCT","QUANTITY",null,"PRODUCT","QUANTITY",null,"PRODUCT","QUANTITY",null,"PRODUCT","QUANTITY",null,"PRODUCT","QUANTITY",null,"PRODUCT","QUANTITY",null,"PRODUCT","QUANTITY",null,"PRODUCT","QUANTITY",null,"PRODUCT","QUANTITY",null,"PRODUCT","QUANTITY",null,"PRODUCT","QUANTITY",null,"PRODUCT","QUANTITY",null,"PRODUCT","QUANTITY",null,"PRODUCT","QUANTITY",null,"PRODUCT","QUANTITY",null,"PRODUCT","QUANTITY",null,"PRODUCT","QUANTITY",null,"PRODUCT","QUANTITY",null,"PRODUCT","QUANTITY",null,"PRODUCT","QUANTITY",null,"PRODUCT","QUANTITY",null,"PRODUCT","QUANTITY",null,"PRODUCT","QUANTITY",null,"PRODUCT","QUANTITY",null,"MONTH","COLUMN"]
[null,{"$f":"IF(B18<>\"\",1,0)","v":0},null,null,{"$f":"IF(E18<>\"\",2,0)","v":0},null,null,{"$f":"IF(H18<>\"\",3,0)","v":0},null,null,{"$f":"IF(K18<>\"\",4,0)","v":0},null,null,{"$f":"IF(N18<>\"\",5,0)","v":0},null,null,{"$f":"IF(Q18<>\"\",6,0)","v":0},null,null,{"$f":"IF(T18<>\"\",7,0)","v":0},null,null,{"$f":"IF(W18<>\"\",8,0)","v":0},null,null,{"$f":"IF(Z18<>\"\",9,0)","v":0},null,null,{"$f":"IF(AC18<>\"\",10,0)","v":0},null,null,{"$f":"IF(AF18<>\"\",11,0)","v":0},null,null,{"$f":"IF(AI18<>\"\",12,0)","v":0},null,null,{"$f":"IF(AL18<>\"\",13,0)","v":0},null,null,{"$f":"IF(AO18<>\"\",14,0)","v":0},null,null,{"$f":"IF(AR18<>\"\",15,0)","v":0},null,null,{"$f":"IF(AU18<>\"\",16,0)","v":0},null,null,{"$f":"IF(AX18<>\"\",17,0)","v":0},null,null,{"$f":"IF(BA18<>\"\",18,0)","v":0},null,null,{"$f":"IF(BD18<>\"\",19,0)","v":0},null,null,{"$f":"IF(BG18<>\"\",20,0)","v":0},null,null,{"$f":"IF(BJ18<>\"\",21,0)","v":0},null,null,{"$f":"IF(BM18<>\"\",22,0)","v":0},null,null,{"$f":"IF(BP18<>\"\",23,0)","v":0},null,null,{"$f":"IF(BS18<>\"\",24,0)","v":0},null,null,{"$f":"IF(BV18<>\"\",25,0)","v":0},null,null,{"$f":"IF(BY18<>\"\",26,0)","v":0},null,null,{"$f":"IF(CB18<>\"\",27,0)","v":0},null,null,{"$f":"IF(CE18<>\"\",28,0)","v":0},null,null,{"$f":"IF(CH18<>\"\",29,0)","v":0},null,null,{"$f":"IF(#REF!<>\"\",30,0)","v":{"$error":"#REF!"}},null,null,{"$f":"IF(CN18<>\"\",31,0)","v":31}]
[null,null,null,null,null,null,null,null,null,null,null,null,null,null,null,null,null,null,null,null,null,null,null,null,null,null,null,null,null,null,null,null,null,null,null,null,null,null,null,null,null,null,null,null,null,null,null,null,null,null,null,null,null,null,null,null,null,null,null,null,null,null,null,null,null,null,null,null,null,null,null,null,null,null,null,null,null,null,null,null,null,null,null,null,null,null,null,null,null,null,null,"AA01 1201:SFD STICK",1]
[null,null,null,null,null,null,null,null,null,null,null,null,null,null,null,null,null,null,null,null,null,null,null,null,null,null,null,null,null,null,null,null,null,null,null,null,null,null,null,null,null,null,null,null,null,null,null,null,null,null,null,null,null,null,null,null,null,null,null,null,null,null,null,null,null,null,null,null,null,null,null,null,null,null,null,null,null,null,null,null,null,null,null,null,null,null,null,null,null,null,null,"AA02 1202:FREN FRIES",64]
[null,null,null,null,null,null,null,null,null,null,null,null,null,null,null,null,null,null,null,null,null,null,null,null,null,null,null,null,null,null,null,null,null,null,null,null,null,null,null,null,null,null,null,null,null,null,null,null,null,null,null,null,null,null,null,null,null,null,null,null,null,null,null,null,null,null,null,null,null,null,null,null,null,null,null,null,null,null,null,null,null,null,null,null,null,null,null,null,null,null,null,"AA03 1203:GOLD MR",9]
[null,null,null,null,null,null,null,null,null,null,null,null,null,null,null,null,null,null,null,null,null,null,null,null,null,null,null,null,null,null,null,null,null,null,null,null,null,null,null,null,null,null,null,null,null,null,null,null,null,null,null,null,null,null,null,null,null,null,null,null,null,null,null,null,null,null,null,null,null,null,null,null,null,null,null,null,null,null,null,null,null,null,null,null,null,null,null,null,null,null,null,"AA04 1204:FSH BALL",4]
[null,null,null,null,null,null,null,null,null,null,null,null,null,null,null,null,null,null,null,null,null,null,null,null,null,null,null,null,null,null,null,null,null,null,null,null,null,null,null,null,null,null,null,null,null,null,null,null,null,null,null,null,null,null,null,null,null,null,null,null,null,null,null,null,null,null,null,null,null,null,null,null,null,null,null,null,null,null,null,null,null,null,null,null,null,null,null,null,null,null,null,"AA06 1206:SPRING RL",10]
[null,null,null,null,null,null,null,null,null,null,null,null,null,null,null,null,null,null,null,null,null,null,null,null,null,null,null,null,null,null,null,null,null,null,null,null,null,null,null,null,null,null,null,null,null,null,null,null,null,null,null,null,null,null,null,null,null,null,null,null,null,null,null,null,null,null,null,null,null,null,null,null,null,null,null,null,null,null,null,null,null,null,null,null,null,null,null,null,null,null,null,"AA07 1207:SAUSG",19]
[null,null,null,null,null,null,null,null,null,null,null,null,null,null,null,null,null,null,null,null,null,null,null,null,null,null,null,null,null,null,null,null,null,null,null,null,null,null,null,null,null,null,null,null,null,null,null,null,null,null,null,null,null,null,null,null,null,null,null,null,null,null,null,null,null,null,null,null,null,null,null,null,null,null,null,null,null,null,null,null,null,null,null,null,null,null,null,null,null,null,null,"AA32 1302:NUGGET",31]
[null,null,null,null,null,null,null,null,null,null,null,null,null,null,null,null,null,null,null,null,null,null,null,null,null,null,null,null,null,null,null,null,null,null,null,null,null,null,null,null,null,null,null,null,null,null,null,null,null,null,null,null,null,null,null,null,null,null,null,null,null,null,null,null,null,null,null,null,null,null,null,null,null,null,null,null,null,null,null,null,null,null,null,null,null,null,null,null,null,null,null,"AA33 1303:CHK WING",36]
[null,null,null,null,null,null,null,null,null,null,null,null,null,null,null,null,null,null,null,null,null,null,null,null,null,null,null,null,null,null,null,null,null,null,null,null,null,null,null,null,null,null,null,null,null,null,null,null,null,null,null,null,null,null,null,null,null,null,null,null,null,null,null,null,null,null,null,null,null,null,null,null,null,null,null,null,null,null,null,null,null,null,null,null,null,null,null,null,null,null,null,"AA34 1304:IKAN BILIS",2]
[null,null,null,null,null,null,null,null,null,null,null,null,null,null,null,null,null,null,null,null,null,null,null,null,null,null,null,null,null,null,null,null,null,null,null,null,null,null,null,null,null,null,null,null,null,null,null,null,null,null,null,null,null,null,null,null,null,null,null,null,null,null,null,null,null,null,null,null,null,null,null,null,null,null,null,null,null,null,null,null,null,null,null,null,null,null,null,null,null,null,null,"AA35 1305:THAI RL",4]
[null,null,null,null,null,null,null,null,null,null,null,null,null,null,null,null,null,null,null,null,null,null,null,null,null,null,null,null,null,null,null,null,null,null,null,null,null,null,null,null,null,null,null,null,null,null,null,null,null,null,null,null,null,null,null,null,null,null,null,null,null,null,null,null,null,null,null,null,null,null,null,null,null,null,null,null,null,null,null,null,null,null,null,null,null,null,null,null,null,null,null,"AA36 1306:DF WING",5]
[null,null,null,null,null,null,null,null,null,null,null,null,null,null,null,null,null,null,null,null,null,null,null,null,null,null,null,null,null,null,null,null,null,null,null,null,null,null,null,null,null,null,null,null,null,null,null,null,null,null,null,null,null,null,null,null,null,null,null,null,null,null,null,null,null,null,null,null,null,null,null,null,null,null,null,null,null,null,null,null,null,null,null,null,null,null,null,null,null,null,null,"AA37 1307:CALAMARI",6]
[null,null,null,null,null,null,null,null,null,null,null,null,null,null,null,null,null,null,null,null,null,null,null,null,null,null,null,null,null,null,null,null,null,null,null,null,null,null,null,null,null,null,null,null,null,null,null,null,null,null,null,null,null,null,null,null,null,null,null,null,null,null,null,null,null,null,null,null,null,null,null,null,null,null,null,null,null,null,null,null,null,null,null,null,null,null,null,null,null,null,null,"AA38 1308:MC RING",4]
[null,null,null,null,null,null,null,null,null,null,null,null,null,null,null,null,null,null,null,null,null,null,null,null,null,null,null,null,null,null,null,null,null,null,null,null,null,null,null,null,null,null,null,null,null,null,null,null,null,null,null,null,null,null,null,null,null,null,null,null,null,null,null,null,null,null,null,null,null,null,null,null,null,null,null,null,null,null,null,null,null,null,null,null,null,null,null,null,null,null,null,"AA39 1309:MC S.FRIES",6]
[null,null,null,null,null,null,null,null,null,null,null,null,null,null,null,null,null,null,null,null,null,null,null,null,null,null,null,null,null,null,null,null,null,null,null,null,null,null,null,null,null,null,null,null,null,null,null,null,null,null,null,null,null,null,null,null,null,null,null,null,null,null,null,null,null,null,null,null,null,null,null,null,null,null,null,null,null,null,null,null,null,null,null,null,null,null,null,null,null,null,null,"AA41 1311:MC HSH BRW",9]
[null,null,null,null,null,null,null,null,null,null,null,null,null,null,null,null,null,null,null,null,null,null,null,null,null,null,null,null,null,null,null,null,null,null,null,null,null,null,null,null,null,null,null,null,null,null,null,null,null,null,null,null,null,null,null,null,null,null,null,null,null,null,null,null,null,null,null,null,null,null,null,null,null,null,null,null,null,null,null,null,null,null,null,null,null,null,null,null,null,null,null,"AF01 91201:SFD STICK",4]
[null,null,null,null,null,null,null,null,null,null,null,null,null,null,null,null,null,null,null,null,null,null,null,null,null,null,null,null,null,null,null,null,null,null,null,null,null,null,null,null,null,null,null,null,null,null,null,null,null,null,null,null,null,null,null,null,null,null,null,null,null,null,null,null,null,null,null,null,null,null,null,null,null,null,null,null,null,null,null,null,null,null,null,null,null,null,null,null,null,null,null,"AF02 91202:FREN FRIES",16]
[null,null,null,null,null,null,null,null,null,null,null,null,null,null,null,null,null,null,null,null,null,null,null,null,null,null,null,null,null,null,null,null,null,null,null,null,null,null,null,null,null,null,null,null,null,null,null,null,null,null,null,null,null,null,null,null,null,null,null,null,null,null,null,null,null,null,null,null,null,null,null,null,null,null,null,null,null,null,null,null,null,null,null,null,null,null,null,null,null,null,null,"AF03 91203:GOLD MR",3]
[null,null,null,null,null,null,null,null,null,null,null,null,null,null,null,null,null,null,null,null,null,null,null,null,null,null,null,null,null,null,null,null,null,null,null,null,null,null,null,null,null,null,null,null,null,null,null,null,null,null,null,null,null,null,null,null,null,null,null,null,null,null,null,null,null,null,null,null,null,null,null,null,null,null,null,null,null,null,null,null,null,null,null,null,null,null,null,null,null,null,null,"AF04 91204:FSH BALL",3]
[null,null,null,null,null,null,null,null,null,null,null,null,null,null,null,null,null,null,null,null,null,null,null,null,null,null,null,null,null,null,null,null,null,null,null,null,null,null,null,null,null,null,null,null,null,null,null,null,null,null,null,null,null,null,null,null,null,null,null,null,null,null,null,null,null,null,null,null,null,null,null,null,null,null,null,null,null,null,null,null,null,null,null,null,null,null,null,null,null,null,null,"AF06 91206:SPRING RL",6]
[null,null,null,null,null,null,null,null,null,null,null,null,null,null,null,null,null,null,null,null,null,null,null,null,null,null,null,null,null,null,null,null,null,null,null,null,null,null,null,null,null,null,null,null,null,null,null,null,null,null,null,null,null,null,null,null,null,null,null,null,null,null,null,null,null,null,null,null,null,null,null,null,null,null,null,null,null,null,null,null,null,null,null,null,null,null,null,null,null,null,null,"AF07 91207:SAUSG",6]
[null,null,null,null,null,null,null,null,null,null,null,null,null,null,null,null,null,null,null,null,null,null,null,null,null,null,null,null,null,null,null,null,null,null,null,null,null,null,null,null,null,null,null,null,null,null,null,null,null,null,null,null,null,null,null,null,null,null,null,null,null,null,null,null,null,null,null,null,null,null,null,null,null,null,null,null,null,null,null,null,null,null,null,null,null,null,null,null,null,null,null,"AF32 91302:NUGGET",20]
[null,null,null,null,null,null,null,null,null,null,null,null,null,null,null,null,null,null,null,null,null,null,null,null,null,null,null,null,null,null,null,null,null,null,null,null,null,null,null,null,null,null,null,null,null,null,null,null,null,null,null,null,null,null,null,null,null,null,null,null,null,null,null,null,null,null,null,null,null,null,null,null,null,null,null,null,null,null,null,null,null,null,null,null,null,null,null,null,null,null,null,"AF33 91303:CHK WING",19]
[null,null,null,null,null,null,null,null,null,null,null,null,null,null,null,null,null,null,null,null,null,null,null,null,null,null,null,null,null,null,null,null,null,null,null,null,null,null,null,null,null,null,null,null,null,null,null,null,null,null,null,null,null,null,null,null,null,null,null,null,null,null,null,null,null,null,null,null,null,null,null,null,null,null,null,null,null,null,null,null,null,null,null,null,null,null,null,null,null,null,null,"AF34 91304:IKAN BILIS",1]
[null,null,null,null,null,null,null,null,null,null,null,null,null,null,null,null,null,null,null,null,null,null,null,null,null,null,null,null,null,null,null,null,null,null,null,null,null,null,null,null,null,null,null,null,null,null,null,null,null,null,null,null,null,null,null,null,null,null,null,null,null,null,null,null,null,null,null,null,null,null,null,null,null,null,null,null,null,null,null,null,null,null,null,null,null,null,null,null,null,null,null,"AF35 91305:THAI RL",1]
[null,null,null,null,null,null,null,null,null,null,null,null,null,null,null,null,null,null,null,null,null,null,null,null,null,null,null,null,null,null,null,null,null,null,null,null,null,null,null,null,null,null,null,null,null,null,null,null,null,null,null,null,null,null,null,null,null,null,null,null,null,null,null,null,null,null,null,null,null,null,null,null,null,null,null,null,null,null,null,null,null,null,null,null,null,null,null,null,null,null,null,"AF36 91306:DF WING",7]
[null,null,null,null,null,null,null,null,null,null,null,null,null,null,null,null,null,null,null,null,null,null,null,null,null,null,null,null,null,null,null,null,null,null,null,null,null,null,null,null,null,null,null,null,null,null,null,null,null,null,null,null,null,null,null,null,null,null,null,null,null,null,null,null,null,null,null,null,null,null,null,null,null,null,null,null,null,null,null,null,null,null,null,null,null,null,null,null,null,null,null,"AF37 91307:CALAMARI",6]
[null,null,null,null,null,null,null,null,null,null,null,null,null,null,null,null,null,null,null,null,null,null,null,null,null,null,null,null,null,null,null,null,null,null,null,null,null,null,null,null,null,null,null,null,null,null,null,null,null,null,null,null,null,null,null,null,null,null,null,null,null,null,null,null,null,null,null,null,null,null,null,null,null,null,null,null,null,null,null,null,null,null,null,null,null,null,null,null,null,null,null,"AF38 91308:MC RING",6]
[null,null,null,null,null,null,null,null,null,null,null,null,null,null,null,null,null,null,null,null,null,null,null,null,null,null,null,null,null,null,null,null,null,null,null,null,null,null,null,null,null,null,null,null,null,null,null,null,null,null,null,null,null,null,null,null,null,null,null,null,null,null,null,null,null,null,null,null,null,null,null,null,null,null,null,null,null,null,null,null,null,null,null,null,null,null,null,null,null,null,null,"AF39 91309:MC S.FRIES",9]
[null,null,null,null,null,null,null,null,null,null,null,null,null,null,null,null,null,null,null,null,null,null,null,null,null,null,null,null,null,null,null,null,null,null,null,null,null,null,null,null,null,null,null,null,null,null,null,null,null,null,null,null,null,null,null,null,null,null,null,null,null,null,null,null,null,null,null,null,null,null,null,null,null,null,null,null,null,null,null,null,null,null,null,null,null,null,null,null,null,null,null,"AF40 91310:MC HP SMIL",3]
[null,null,null,null,null,null,null,null,null,null,null,null,null,null,null,null,null,null,null,null,null,null,null,null,null,null,null,null,null,null,null,null,null,null,null,null,null,null,null,null,null,null,null,null,null,null,null,null,null,null,null,null,null,null,null,null,null,null,null,null,null,null,null,null,null,null,null,null,null,null,null,null,null,null,null,null,null,null,null,null,null,null,null,null,null,null,null,null,null,null,null,"AF41 91311:MC HSH BRW",11]
[null,null,null,null,null,null,null,null,null,null,null,null,null,null,null,null,null,null,null,null,null,null,null,null,null,null,null,null,null,null,null,null,null,null,null,null,null,null,null,null,null,null,null,null,null,null,null,null,null,null,null,null,null,null,null,null,null,null,null,null,null,null,null,null,null,null,null,null,null,null,null,null,null,null,null,null,null,null,null,null,null,null,null,null,null,null,null,null,null,null,null,"AP01 1411:MC ALACARTE",38]
[null,null,null,null,null,null,null,null,null,null,null,null,null,null,null,null,null,null,null,null,null,null,null,null,null,null,null,null,null,null,null,null,null,null,null,null,null,null,null,null,null,null,null,null,null,null,null,null,null,null,null,null,null,null,null,null,null,null,null,null,null,null,null,null,null,null,null,null,null,null,null,null,null,null,null,null,null,null,null,null,null,null,null,null,null,null,null,null,null,null,null,"AP02 1412:MC BEER",41]
[null,null,null,null,null,null,null,null,null,null,null,null,null,null,null,null,null,null,null,null,null,null,null,null,null,null,null,null,null,null,null,null,null,null,null,null,null,null,null,null,null,null,null,null,null,null,null,null,null,null,null,null,null,null,null,null,null,null,null,null,null,null,null,null,null,null,null,null,null,null,null,null,null,null,null,null,null,null,null,null,null,null,null,null,null,null,null,null,null,null,null,"AS01 1401:SET 990",244]
[null,null,null,null,null,null,null,null,null,null,null,null,null,null,null,null,null,null,null,null,null,null,null,null,null,null,null,null,null,null,null,null,null,null,null,null,null,null,null,null,null,null,null,null,null,null,null,null,null,null,null,null,null,null,null,null,null,null,null,null,null,null,null,null,null,null,null,null,null,null,null,null,null,null,null,null,null,null,null,null,null,null,null,null,null,null,null,null,null,null,null,"AS02 1402:SET 1390",238]
[null,null,null,null,null,null,null,null,null,null,null,null,null,null,null,null,null,null,null,null,null,null,null,null,null,null,null,null,null,null,null,null,null,null,null,null,null,null,null,null,null,null,null,null,null,null,null,null,null,null,null,null,null,null,null,null,null,null,null,null,null,null,null,null,null,null,null,null,null,null,null,null,null,null,null,null,null,null,null,null,null,null,null,null,null,null,null,null,null,null,null,"BG01 6001:GUI BTL",7]
[null,null,null,null,null,null,null,null,null,null,null,null,null,null,null,null,null,null,null,null,null,null,null,null,null,null,null,null,null,null,null,null,null,null,null,null,null,null,null,null,null,null,null,null,null,null,null,null,null,null,null,null,null,null,null,null,null,null,null,null,null,null,null,null,null,null,null,null,null,null,null,null,null,null,null,null,null,null,null,null,null,null,null,null,null,null,null,null,null,null,null,"BG02 6002:GUI BKT",10]
[null,null,null,null,null,null,null,null,null,null,null,null,null,null,null,null,null,null,null,null,null,null,null,null,null,null,null,null,null,null,null,null,null,null,null,null,null,null,null,null,null,null,null,null,null,null,null,null,null,null,null,null,null,null,null,null,null,null,null,null,null,null,null,null,null,null,null,null,null,null,null,null,null,null,null,null,null,null,null,null,null,null,null,null,null,null,null,null,null,null,null,"BG03 6003:GUI RND",1]
[null,null,null,null,null,null,null,null,null,null,null,null,null,null,null,null,null,null,null,null,null,null,null,null,null,null,null,null,null,null,null,null,null,null,null,null,null,null,null,null,null,null,null,null,null,null,null,null,null,null,null,null,null,null,null,null,null,null,null,null,null,null,null,null,null,null,null,null,null,null,null,null,null,null,null,null,null,null,null,null,null,null,null,null,null,null,null,null,null,null,null,"BH01 5001:HEI BTL",12]
[null,null,null,null,null,null,null,null,null,null,null,null,null,null,null,null,null,null,null,null,null,null,null,null,null,null,null,null,null,null,null,null,null,null,null,null,null,null,null,null,null,null,null,null,null,null,null,null,null,null,null,null,null,null,null,null,null,null,null,null,null,null,null,null,null,null,null,null,null,null,null,null,null,null,null,null,null,null,null,null,null,null,null,null,null,null,null,null,null,null,null,"BH02 5002:HEI BKT",32]
[null,null,null,null,null,null,null,null,null,null,null,null,null,null,null,null,null,null,null,null,null,null,null,null,null,null,null,null,null,null,null,null,null,null,null,null,null,null,null,null,null,null,null,null,null,null,null,null,null,null,null,null,null,null,null,null,null,null,null,null,null,null,null,null,null,null,null,null,null,null,null,null,null,null,null,null,null,null,null,null,null,null,null,null,null,null,null,null,null,null,null,"BH03 5003:HEI RND",10]
[null,null,null,null,null,null,null,null,null,null,null,null,null,null,null,null,null,null,null,null,null,null,null,null,null,null,null,null,null,null,null,null,null,null,null,null,null,null,null,null,null,null,null,null,null,null,null,null,null,null,null,null,null,null,null,null,null,null,null,null,null,null,null,null,null,null,null,null,null,null,null,null,null,null,null,null,null,null,null,null,null,null,null,null,null,null,null,null,null,null,null,"BH04 5004:HEI 3+1",4]
[null,null,null,null,null,null,null,null,null,null,null,null,null,null,null,null,null,null,null,null,null,null,null,null,null,null,null,null,null,null,null,null,null,null,null,null,null,null,null,null,null,null,null,null,null,null,null,null,null,null,null,null,null,null,null,null,null,null,null,null,null,null,null,null,null,null,null,null,null,null,null,null,null,null,null,null,null,null,null,null,null,null,null,null,null,null,null,null,null,null,null,"BN01 8201:HOE BTL",19]
[null,null,null,null,null,null,null,null,null,null,null,null,null,null,null,null,null,null,null,null,null,null,null,null,null,null,null,null,null,null,null,null,null,null,null,null,null,null,null,null,null,null,null,null,null,null,null,null,null,null,null,null,null,null,null,null,null,null,null,null,null,null,null,null,null,null,null,null,null,null,null,null,null,null,null,null,null,null,null,null,null,null,null,null,null,null,null,null,null,null,null,"BN02 8202:HOE BKT",14]
[null,null,null,null,null,null,null,null,null,null,null,null,null,null,null,null,null,null,null,null,null,null,null,null,null,null,null,null,null,null,null,null,null,null,null,null,null,null,null,null,null,null,null,null,null,null,null,null,null,null,null,null,null,null,null,null,null,null,null,null,null,null,null,null,null,null,null,null,null,null,null,null,null,null,null,null,null,null,null,null,null,null,null,null,null,null,null,null,null,null,null,"BR01 8301:PAUL BTL",3]
[null,null,null,null,null,null,null,null,null,null,null,null,null,null,null,null,null,null,null,null,null,null,null,null,null,null,null,null,null,null,null,null,null,null,null,null,null,null,null,null,null,null,null,null,null,null,null,null,null,null,null,null,null,null,null,null,null,null,null,null,null,null,null,null,null,null,null,null,null,null,null,null,null,null,null,null,null,null,null,null,null,null,null,null,null,null,null,null,null,null,null,"BR02 8302:PAUL BKT",1]
[null,null,null,null,null,null,null,null,null,null,null,null,null,null,null,null,null,null,null,null,null,null,null,null,null,null,null,null,null,null,null,null,null,null,null,null,null,null,null,null,null,null,null,null,null,null,null,null,null,null,null,null,null,null,null,null,null,null,null,null,null,null,null,null,null,null,null,null,null,null,null,null,null,null,null,null,null,null,null,null,null,null,null,null,null,null,null,null,null,null,null,"BT01 7001:TIG BTL",30]
[null,null,null,null,null,null,null,null,null,null,null,null,null,null,null,null,null,null,null,null,null,null,null,null,null,null,null,null,null,null,null,null,null,null,null,null,null,null,null,null,null,null,null,null,null,null,null,null,null,null,null,null,null,null,null,null,null,null,null,null,null,null,null,null,null,null,null,null,null,null,null,null,null,null,null,null,null,null,null,null,null,null,null,null,null,null,null,null,null,null,null,"BT02 7002:TIG BKT",554]
[null,null,null,null,null,null,null,null,null,null,null,null,null,null,null,null,null,null,null,null,null,null,null,null,null,null,null,null,null,null,null,null,null,null,null,null,null,null,null,null,null,null,null,null,null,null,null,null,null,null,null,null,null,null,null,null,null,null,null,null,null,null,null,null,null,null,null,null,null,null,null,null,null,null,null,null,null,null,null,null,null,null,null,null,null,null,null,null,null,null,null,"BT03 7003:TIG RND",44]
[null,null,null,null,null,null,null,null,null,null,null,null,null,null,null,null,null,null,null,null,null,null,null,null,null,null,null,null,null,null,null,null,null,null,null,null,null,null,null,null,null,null,null,null,null,null,null,null,null,null,null,null,null,null,null,null,null,null,null,null,null,null,null,null,null,null,null,null,null,null,null,null,null,null,null,null,null,null,null,null,null,null,null,null,null,null,null,null,null,null,null,"BT04 7004:TIG 2+1",13]
[null,null,null,null,null,null,null,null,null,null,null,null,null,null,null,null,null,null,null,null,null,null,null,null,null,null,null,null,null,null,null,null,null,null,null,null,null,null,null,null,null,null,null,null,null,null,null,null,null,null,null,null,null,null,null,null,null,null,null,null,null,null,null,null,null,null,null,null,null,null,null,null,null,null,null,null,null,null,null,null,null,null,null,null,null,null,null,null,null,null,null,"Setia Walk Puchong"]
[null,null,null,null,null,null,null,null,null,null,null,null,null,null,null,null,null,null,null,null,null,null,null,null,null,null,null,null,null,null,null,null,null,null,null,null,null,null,null,null,null,null,null,null,null,null,null,null,null,null,null,null,null,null,null,null,null,null,null,null,null,null,null,null,null,null,null,null,null,null,null,null,null,null,null,null,null,null,null,null,null,null,null,null,null,null,null,null,null,null,null,"Sales Mix Report #2"]
[null,null,null,null,null,null,null,null,null,null,null,null,null,null,null,null,null,null,null,null,null,null,null,null,null,null,null,null,null,null,null,null,null,null,null,null,null,null,null,null,null,null,null,null,null,null,null,null,null,null,null,null,null,null,null,null,null,null,null,null,null,null,null,null,null,null,null,null,null,null,null,null,null,null,null,null,null,null,null,null,null,null,null,null,null,null,null,null,null,null,null,""]
[null,null,null,null,null,null,null,null,null,null,null,null,null,null,null,null,null,null,null,null,null,null,null,null,null,null,null,null,null,null,null,null,null,null,null,null,null,null,null,null,null,null,null,null,null,null,null,null,null,null,null,null,null,null,null,null,null,null,null,null,null,null,null,null,null,null,null,null,null,null,null,null,null,null,null,null,null,null,null,null,null,null,null,null,null,null,null,null,null,null,null,"Date: From 2014/01/01 (Wed) to 2014/01/31 (Fri)"]
[null,null,null,null,null,null,null,null,null,null,null,null,null,null,null,null,null,null,null,null,null,null,null,null,null,null,null,null,null,null,null,null,null,null,null,null,null,null,null,null,null,null,null,null,null,null,null,null,null,null,null,null,null,null,null,null,null,null,null,null,null,null,null,null,null,null,null,null,null,null,null,null,null,null,null,null,null,null,null,null,null,null,null,null,null,null,null,null,null,null,null,"Item Description","Dine In"]
[null,null,null,null,null,null,null,null,null,null,null,null,null,null,null,null,null,null,null,null,null,null,null,null,null,null,null,null,null,null,null,null,null,null,null,null,null,null,null,null,null,null,null,null,null,null,null,null,null,null,null,null,null,null,null,null,null,null,null,null,null,null,null,null,null,null,null,null,null,null,null,null,null,null,null,null,null,null,null,null,null,null,null,null,null,null,null,null,null,null,null,"BT07 7007:2 BKT PRO",232]
[null,null,null,null,null,null,null,null,null,null,null,null,null,null,null,null,null,null,null,null,null,null,null,null,null,null,null,null,null,null,null,null,null,null,null,null,null,null,null,null,null,null,null,null,null,null,null,null,null,null,null,null,null,null,null,null,null,null,null,null,null,null,null,null,null,null,null,null,null,null,null,null,null,null,null,null,null,null,null,null,null,null,null,null,null,null,null,null,null,null,null,"BT08 7008:TIG RD BTL",21]
[null,null,null,null,null,null,null,null,null,null,null,null,null,null,null,null,null,null,null,null,null,null,null,null,null,null,null,null,null,null,null,null,null,null,null,null,null,null,null,null,null,null,null,null,null,null,null,null,null,null,null,null,null,null,null,null,null,null,null,null,null,null,null,null,null,null,null,null,null,null,null,null,null,null,null,null,null,null,null,null,null,null,null,null,null,null,null,null,null,null,null,"BW01 8101:STRONG BTL",1]
[null,null,null,null,null,null,null,null,null,null,null,null,null,null,null,null,null,null,null,null,null,null,null,null,null,null,null,null,null,null,null,null,null,null,null,null,null,null,null,null,null,null,null,null,null,null,null,null,null,null,null,null,null,null,null,null,null,null,null,null,null,null,null,null,null,null,null,null,null,null,null,null,null,null,null,null,null,null,null,null,null,null,null,null,null,null,null,null,null,null,null,"BW02 8102:STRONG BKT",3]
[null,null,null,null,null,null,null,null,null,null,null,null,null,null,null,null,null,null,null,null,null,null,null,null,null,null,null,null,null,null,null,null,null,null,null,null,null,null,null,null,null,null,null,null,null,null,null,null,null,null,null,null,null,null,null,null,null,null,null,null,null,null,null,null,null,null,null,null,null,null,null,null,null,null,null,null,null,null,null,null,null,null,null,null,null,null,null,null,null,null,null,"BY01 8001:SOME BTL",9]
[null,null,null,null,null,null,null,null,null,null,null,null,null,null,null,null,null,null,null,null,null,null,null,null,null,null,null,null,null,null,null,null,null,null,null,null,null,null,null,null,null,null,null,null,null,null,null,null,null,null,null,null,null,null,null,null,null,null,null,null,null,null,null,null,null,null,null,null,null,null,null,null,null,null,null,null,null,null,null,null,null,null,null,null,null,null,null,null,null,null,null,"BY02 8002:SOME BKT",10]
[null,null,null,null,null,null,null,null,null,null,null,null,null,null,null,null,null,null,null,null,null,null,null,null,null,null,null,null,null,null,null,null,null,null,null,null,null,null,null,null,null,null,null,null,null,null,null,null,null,null,null,null,null,null,null,null,null,null,null,null,null,null,null,null,null,null,null,null,null,null,null,null,null,null,null,null,null,null,null,null,null,null,null,null,null,null,null,null,null,null,null,"CA03 2025:PEPSI",1]
[null,null,null,null,null,null,null,null,null,null,null,null,null,null,null,null,null,null,null,null,null,null,null,null,null,null,null,null,null,null,null,null,null,null,null,null,null,null,null,null,null,null,null,null,null,null,null,null,null,null,null,null,null,null,null,null,null,null,null,null,null,null,null,null,null,null,null,null,null,null,null,null,null,null,null,null,null,null,null,null,null,null,null,null,null,null,null,null,null,null,null,"CB01 2001:MILO(C)",3]
[null,null,null,null,null,null,null,null,null,null,null,null,null,null,null,null,null,null,null,null,null,null,null,null,null,null,null,null,null,null,null,null,null,null,null,null,null,null,null,null,null,null,null,null,null,null,null,null,null,null,null,null,null,null,null,null,null,null,null,null,null,null,null,null,null,null,null,null,null,null,null,null,null,null,null,null,null,null,null,null,null,null,null,null,null,null,null,null,null,null,null,"CB02 2003:NESCAFE(C)",2]
[null,null,null,null,null,null,null,null,null,null,null,null,null,null,null,null,null,null,null,null,null,null,null,null,null,null,null,null,null,null,null,null,null,null,null,null,null,null,null,null,null,null,null,null,null,null,null,null,null,null,null,null,null,null,null,null,null,null,null,null,null,null,null,null,null,null,null,null,null,null,null,null,null,null,null,null,null,null,null,null,null,null,null,null,null,null,null,null,null,null,null,"CB04 2007:LMN TEA(C)",2]
[null,null,null,null,null,null,null,null,null,null,null,null,null,null,null,null,null,null,null,null,null,null,null,null,null,null,null,null,null,null,null,null,null,null,null,null,null,null,null,null,null,null,null,null,null,null,null,null,null,null,null,null,null,null,null,null,null,null,null,null,null,null,null,null,null,null,null,null,null,null,null,null,null,null,null,null,null,null,null,null,null,null,null,null,null,null,null,null,null,null,null,"CB06 2011:HNY GT(C)",2]
[null,null,null,null,null,null,null,null,null,null,null,null,null,null,null,null,null,null,null,null,null,null,null,null,null,null,null,null,null,null,null,null,null,null,null,null,null,null,null,null,null,null,null,null,null,null,null,null,null,null,null,null,null,null,null,null,null,null,null,null,null,null,null,null,null,null,null,null,null,null,null,null,null,null,null,null,null,null,null,null,null,null,null,null,null,null,null,null,null,null,null,"CB08 2015:HNY LMN(C)",1]
[null,null,null,null,null,null,null,null,null,null,null,null,null,null,null,null,null,null,null,null,null,null,null,null,null,null,null,null,null,null,null,null,null,null,null,null,null,null,null,null,null,null,null,null,null,null,null,null,null,null,null,null,null,null,null,null,null,null,null,null,null,null,null,null,null,null,null,null,null,null,null,null,null,null,null,null,null,null,null,null,null,null,null,null,null,null,null,null,null,null,null,"CF01 92001:MILO(C)",1051]
[null,null,null,null,null,null,null,null,null,null,null,null,null,null,null,null,null,null,null,null,null,null,null,null,null,null,null,null,null,null,null,null,null,null,null,null,null,null,null,null,null,null,null,null,null,null,null,null,null,null,null,null,null,null,null,null,null,null,null,null,null,null,null,null,null,null,null,null,null,null,null,null,null,null,null,null,null,null,null,null,null,null,null,null,null,null,null,null,null,null,null,"CF02 92003:NESCAFE(C)",298]
[null,null,null,null,null,null,null,null,null,null,null,null,null,null,null,null,null,null,null,null,null,null,null,null,null,null,null,null,null,null,null,null,null,null,null,null,null,null,null,null,null,null,null,null,null,null,null,null,null,null,null,null,null,null,null,null,null,null,null,null,null,null,null,null,null,null,null,null,null,null,null,null,null,null,null,null,null,null,null,null,null,null,null,null,null,null,null,null,null,null,null,"CF03 92005:TEA(C)",82]
[null,null,null,null,null,null,null,null,null,null,null,null,null,null,null,null,null,null,null,null,null,null,null,null,null,null,null,null,null,null,null,null,null,null,null,null,null,null,null,null,null,null,null,null,null,null,null,null,null,null,null,null,null,null,null,null,null,null,null,null,null,null,null,null,null,null,null,null,null,null,null,null,null,null,null,null,null,null,null,null,null,null,null,null,null,null,null,null,null,null,null,"CF04 92007:LMN TEA(C)",1332]
[null,null,null,null,null,null,null,null,null,null,null,null,null,null,null,null,null,null,null,null,null,null,null,null,null,null,null,null,null,null,null,null,null,null,null,null,null,null,null,null,null,null,null,null,null,null,null,null,null,null,null,null,null,null,null,null,null,null,null,null,null,null,null,null,null,null,null,null,null,null,null,null,null,null,null,null,null,null,null,null,null,null,null,null,null,null,null,null,null,null,null,"CF05 92009:GRN TEA(C)",1298]
[null,null,null,null,null,null,null,null,null,null,null,null,null,null,null,null,null,null,null,null,null,null,null,null,null,null,null,null,null,null,null,null,null,null,null,null,null,null,null,null,null,null,null,null,null,null,null,null,null,null,null,null,null,null,null,null,null,null,null,null,null,null,null,null,null,null,null,null,null,null,null,null,null,null,null,null,null,null,null,null,null,null,null,null,null,null,null,null,null,null,null,"CF06 92011:HNY GT(C)",1469]
[null,null,null,null,null,null,null,null,null,null,null,null,null,null,null,null,null,null,null,null,null,null,null,null,null,null,null,null,null,null,null,null,null,null,null,null,null,null,null,null,null,null,null,null,null,null,null,null,null,null,null,null,null,null,null,null,null,null,null,null,null,null,null,null,null,null,null,null,null,null,null,null,null,null,null,null,null,null,null,null,null,null,null,null,null,null,null,null,null,null,null,"CF07 92013:HONEY(C)",446]
[null,null,null,null,null,null,null,null,null,null,null,null,null,null,null,null,null,null,null,null,null,null,null,null,null,null,null,null,null,null,null,null,null,null,null,null,null,null,null,null,null,null,null,null,null,null,null,null,null,null,null,null,null,null,null,null,null,null,null,null,null,null,null,null,null,null,null,null,null,null,null,null,null,null,null,null,null,null,null,null,null,null,null,null,null,null,null,null,null,null,null,"CF08 92015:HNY LMN(C)",3398]
[null,null,null,null,null,null,null,null,null,null,null,null,null,null,null,null,null,null,null,null,null,null,null,null,null,null,null,null,null,null,null,null,null,null,null,null,null,null,null,null,null,null,null,null,null,null,null,null,null,null,null,null,null,null,null,null,null,null,null,null,null,null,null,null,null,null,null,null,null,null,null,null,null,null,null,null,null,null,null,null,null,null,null,null,null,null,null,null,null,null,null,"CG01 92023:7 UP",497]
[null,null,null,null,null,null,null,null,null,null,null,null,null,null,null,null,null,null,null,null,null,null,null,null,null,null,null,null,null,null,null,null,null,null,null,null,null,null,null,null,null,null,null,null,null,null,null,null,null,null,null,null,null,null,null,null,null,null,null,null,null,null,null,null,null,null,null,null,null,null,null,null,null,null,null,null,null,null,null,null,null,null,null,null,null,null,null,null,null,null,null,"CG02 92024:7UP REVIVE",127]
[null,null,null,null,null,null,null,null,null,null,null,null,null,null,null,null,null,null,null,null,null,null,null,null,null,null,null,null,null,null,null,null,null,null,null,null,null,null,null,null,null,null,null,null,null,null,null,null,null,null,null,null,null,null,null,null,null,null,null,null,null,null,null,null,null,null,null,null,null,null,null,null,null,null,null,null,null,null,null,null,null,null,null,null,null,null,null,null,null,null,null,"CG03 92025:PEPSI",801]
[null,null,null,null,null,null,null,null,null,null,null,null,null,null,null,null,null,null,null,null,null,null,null,null,null,null,null,null,null,null,null,null,null,null,null,null,null,null,null,null,null,null,null,null,null,null,null,null,null,null,null,null,null,null,null,null,null,null,null,null,null,null,null,null,null,null,null,null,null,null,null,null,null,null,null,null,null,null,null,null,null,null,null,null,null,null,null,null,null,null,null,"DH01 DUNHILL",42]
[null,null,null,null,null,null,null,null,null,null,null,null,null,null,null,null,null,null,null,null,null,null,null,null,null,null,null,null,null,null,null,null,null,null,null,null,null,null,null,null,null,null,null,null,null,null,null,null,null,null,null,null,null,null,null,null,null,null,null,null,null,null,null,null,null,null,null,null,null,null,null,null,null,null,null,null,null,null,null,null,null,null,null,null,null,null,null,null,null,null,null,"DH02 DUNHILL LITE",21]
[null,null,null,null,null,null,null,null,null,null,null,null,null,null,null,null,null,null,null,null,null,null,null,null,null,null,null,null,null,null,null,null,null,null,null,null,null,null,null,null,null,null,null,null,null,null,null,null,null,null,null,null,null,null,null,null,null,null,null,null,null,null,null,null,null,null,null,null,null,null,null,null,null,null,null,null,null,null,null,null,null,null,null,null,null,null,null,null,null,null,null,"DH03 DUNHILL MT",21]
[null,null,null,null,null,null,null,null,null,null,null,null,null,null,null,null,null,null,null,null,null,null,null,null,null,null,null,null,null,null,null,null,null,null,null,null,null,null,null,null,null,null,null,null,null,null,null,null,null,null,null,null,null,null,null,null,null,null,null,null,null,null,null,null,null,null,null,null,null,null,null,null,null,null,null,null,null,null,null,null,null,null,null,null,null,null,null,null,null,null,null,"DH07 DUNHILL ICE",34]
[null,null,null,null,null,null,null,null,null,null,null,null,null,null,null,null,null,null,null,null,null,null,null,null,null,null,null,null,null,null,null,null,null,null,null,null,null,null,null,null,null,null,null,null,null,null,null,null,null,null,null,null,null,null,null,null,null,null,null,null,null,null,null,null,null,null,null,null,null,null,null,null,null,null,null,null,null,null,null,null,null,null,null,null,null,null,null,null,null,null,null,"DR11 TIDBITS",252]
[null,null,null,null,null,null,null,null,null,null,null,null,null,null,null,null,null,null,null,null,null,null,null,null,null,null,null,null,null,null,null,null,null,null,null,null,null,null,null,null,null,null,null,null,null,null,null,null,null,null,null,null,null,null,null,null,null,null,null,null,null,null,null,null,null,null,null,null,null,null,null,null,null,null,null,null,null,null,null,null,null,null,null,null,null,null,null,null,null,null,null,"HB02 2004:NESCAFE(H)",1]
[null,null,null,null,null,null,null,null,null,null,null,null,null,null,null,null,null,null,null,null,null,null,null,null,null,null,null,null,null,null,null,null,null,null,null,null,null,null,null,null,null,null,null,null,null,null,null,null,null,null,null,null,null,null,null,null,null,null,null,null,null,null,null,null,null,null,null,null,null,null,null,null,null,null,null,null,null,null,null,null,null,null,null,null,null,null,null,null,null,null,null,"HB07 2014:HONEY(H)"]
[null,null,null,null,null,null,null,null,null,null,null,null,null,null,null,null,null,null,null,null,null,null,null,null,null,null,null,null,null,null,null,null,null,null,null,null,null,null,null,null,null,null,null,null,null,null,null,null,null,null,null,null,null,null,null,null,null,null,null,null,null,null,null,null,null,null,null,null,null,null,null,null,null,null,null,null,null,null,null,null,null,null,null,null,null,null,null,null,null,null,null,"HB08 2016:HNY LMN(H)",3]
[null,null,null,null,null,null,null,null,null,null,null,null,null,null,null,null,null,null,null,null,null,null,null,null,null,null,null,null,null,null,null,null,null,null,null,null,null,null,null,null,null,null,null,null,null,null,null,null,null,null,null,null,null,null,null,null,null,null,null,null,null,null,null,null,null,null,null,null,null,null,null,null,null,null,null,null,null,null,null,null,null,null,null,null,null,null,null,null,null,null,null,"HB12 2020:CAPPU(H)",4]
[null,null,null,null,null,null,null,null,null,null,null,null,null,null,null,null,null,null,null,null,null,null,null,null,null,null,null,null,null,null,null,null,null,null,null,null,null,null,null,null,null,null,null,null,null,null,null,null,null,null,null,null,null,null,null,null,null,null,null,null,null,null,null,null,null,null,null,null,null,null,null,null,null,null,null,null,null,null,null,null,null,null,null,null,null,null,null,null,null,null,null,"HB14 2022:MOCHA(H)",2]
[null,null,null,null,null,null,null,null,null,null,null,null,null,null,null,null,null,null,null,null,null,null,null,null,null,null,null,null,null,null,null,null,null,null,null,null,null,null,null,null,null,null,null,null,null,null,null,null,null,null,null,null,null,null,null,null,null,null,null,null,null,null,null,null,null,null,null,null,null,null,null,null,null,null,null,null,null,null,null,null,null,null,null,null,null,null,null,null,null,null,null,"HF01 92002:MILO(H)",1174]
[null,null,null,null,null,null,null,null,null,null,null,null,null,null,null,null,null,null,null,null,null,null,null,null,null,null,null,null,null,null,null,null,null,null,null,null,null,null,null,null,null,null,null,null,null,null,null,null,null,null,null,null,null,null,null,null,null,null,null,null,null,null,null,null,null,null,null,null,null,null,null,null,null,null,null,null,null,null,null,null,null,null,null,null,null,null,null,null,null,null,null,"HF02 92004:NESCAFE(H)",259]
[null,null,null,null,null,null,null,null,null,null,null,null,null,null,null,null,null,null,null,null,null,null,null,null,null,null,null,null,null,null,null,null,null,null,null,null,null,null,null,null,null,null,null,null,null,null,null,null,null,null,null,null,null,null,null,null,null,null,null,null,null,null,null,null,null,null,null,null,null,null,null,null,null,null,null,null,null,null,null,null,null,null,null,null,null,null,null,null,null,null,null,"HF03 92006:TEA(H)",92]
[null,null,null,null,null,null,null,null,null,null,null,null,null,null,null,null,null,null,null,null,null,null,null,null,null,null,null,null,null,null,null,null,null,null,null,null,null,null,null,null,null,null,null,null,null,null,null,null,null,null,null,null,null,null,null,null,null,null,null,null,null,null,null,null,null,null,null,null,null,null,null,null,null,null,null,null,null,null,null,null,null,null,null,null,null,null,null,null,null,null,null,"HF04 92008:LMN TEA(H)",309]
[null,null,null,null,null,null,null,null,null,null,null,null,null,null,null,null,null,null,null,null,null,null,null,null,null,null,null,null,null,null,null,null,null,null,null,null,null,null,null,null,null,null,null,null,null,null,null,null,null,null,null,null,null,null,null,null,null,null,null,null,null,null,null,null,null,null,null,null,null,null,null,null,null,null,null,null,null,null,null,null,null,null,null,null,null,null,null,null,null,null,null,"HF05 92010:GRN TEA(H)",767]
[null,null,null,null,null,null,null,null,null,null,null,null,null,null,null,null,null,null,null,null,null,null,null,null,null,null,null,null,null,null,null,null,null,null,null,null,null,null,null,null,null,null,null,null,null,null,null,null,null,null,null,null,null,null,null,null,null,null,null,null,null,null,null,null,null,null,null,null,null,null,null,null,null,null,null,null,null,null,null,null,null,null,null,null,null,null,null,null,null,null,null,"HF06 92012:HNY GT(H)",1036]
[null,null,null,null,null,null,null,null,null,null,null,null,null,null,null,null,null,null,null,null,null,null,null,null,null,null,null,null,null,null,null,null,null,null,null,null,null,null,null,null,null,null,null,null,null,null,null,null,null,null,null,null,null,null,null,null,null,null,null,null,null,null,null,null,null,null,null,null,null,null,null,null,null,null,null,null,null,null,null,null,null,null,null,null,null,null,null,null,null,null,null,"HF07 92014:HONEY(H)",757]
[null,null,null,null,null,null,null,null,null,null,null,null,null,null,null,null,null,null,null,null,null,null,null,null,null,null,null,null,null,null,null,null,null,null,null,null,null,null,null,null,null,null,null,null,null,null,null,null,null,null,null,null,null,null,null,null,null,null,null,null,null,null,null,null,null,null,null,null,null,null,null,null,null,null,null,null,null,null,null,null,null,null,null,null,null,null,null,null,null,null,null,"HF08 92016:HNY LMN(H)",3355]
[null,null,null,null,null,null,null,null,null,null,null,null,null,null,null,null,null,null,null,null,null,null,null,null,null,null,null,null,null,null,null,null,null,null,null,null,null,null,null,null,null,null,null,null,null,null,null,null,null,null,null,null,null,null,null,null,null,null,null,null,null,null,null,null,null,null,null,null,null,null,null,null,null,null,null,null,null,null,null,null,null,null,null,null,null,null,null,null,null,null,null,"HF09 92017:CHAMOMILE",238]
[null,null,null,null,null,null,null,null,null,null,null,null,null,null,null,null,null,null,null,null,null,null,null,null,null,null,null,null,null,null,null,null,null,null,null,null,null,null,null,null,null,null,null,null,null,null,null,null,null,null,null,null,null,null,null,null,null,null,null,null,null,null,null,null,null,null,null,null,null,null,null,null,null,null,null,null,null,null,null,null,null,null,null,null,null,null,null,null,null,null,null,"HF10 92018:DARJEELING",33]
[null,null,null,null,null,null,null,null,null,null,null,null,null,null,null,null,null,null,null,null,null,null,null,null,null,null,null,null,null,null,null,null,null,null,null,null,null,null,null,null,null,null,null,null,null,null,null,null,null,null,null,null,null,null,null,null,null,null,null,null,null,null,null,null,null,null,null,null,null,null,null,null,null,null,null,null,null,null,null,null,null,null,null,null,null,null,null,null,null,null,null,"HF11 92019:EARL GREY",172]
[null,null,null,null,null,null,null,null,null,null,null,null,null,null,null,null,null,null,null,null,null,null,null,null,null,null,null,null,null,null,null,null,null,null,null,null,null,null,null,null,null,null,null,null,null,null,null,null,null,null,null,null,null,null,null,null,null,null,null,null,null,null,null,null,null,null,null,null,null,null,null,null,null,null,null,null,null,null,null,null,null,null,null,null,null,null,null,null,null,null,null,"HP01 H:REGULAR",741]
[null,null,null,null,null,null,null,null,null,null,null,null,null,null,null,null,null,null,null,null,null,null,null,null,null,null,null,null,null,null,null,null,null,null,null,null,null,null,null,null,null,null,null,null,null,null,null,null,null,null,null,null,null,null,null,null,null,null,null,null,null,null,null,null,null,null,null,null,null,null,null,null,null,null,null,null,null,null,null,null,null,null,null,null,null,null,null,null,null,null,null,"HP02 H:MEMBER",81]
[null,null,null,null,null,null,null,null,null,null,null,null,null,null,null,null,null,null,null,null,null,null,null,null,null,null,null,null,null,null,null,null,null,null,null,null,null,null,null,null,null,null,null,null,null,null,null,null,null,null,null,null,null,null,null,null,null,null,null,null,null,null,null,null,null,null,null,null,null,null,null,null,null,null,null,null,null,null,null,null,null,null,null,null,null,null,null,null,null,null,null,"HP03 H:MEMBER B'DAY",6]
[null,null,null,null,null,null,null,null,null,null,null,null,null,null,null,null,null,null,null,null,null,null,null,null,null,null,null,null,null,null,null,null,null,null,null,null,null,null,null,null,null,null,null,null,null,null,null,null,null,null,null,null,null,null,null,null,null,null,null,null,null,null,null,null,null,null,null,null,null,null,null,null,null,null,null,null,null,null,null,null,null,null,null,null,null,null,null,null,null,null,null,"HP04 H:CHILDREN",27]
[null,null,null,null,null,null,null,null,null,null,null,null,null,null,null,null,null,null,null,null,null,null,null,null,null,null,null,null,null,null,null,null,null,null,null,null,null,null,null,null,null,null,null,null,null,null,null,null,null,null,null,null,null,null,null,null,null,null,null,null,null,null,null,null,null,null,null,null,null,null,null,null,null,null,null,null,null,null,null,null,null,null,null,null,null,null,null,null,null,null,null,"HP05 H:PROMOTION",55]
[null,null,null,null,null,null,null,null,null,null,null,null,null,null,null,null,null,null,null,null,null,null,null,null,null,null,null,null,null,null,null,null,null,null,null,null,null,null,null,null,null,null,null,null,null,null,null,null,null,null,null,null,null,null,null,null,null,null,null,null,null,null,null,null,null,null,null,null,null,null,null,null,null,null,null,null,null,null,null,null,null,null,null,null,null,null,null,null,null,null,null,"HP08 H:XTD S ROOM",3]
[null,null,null,null,null,null,null,null,null,null,null,null,null,null,null,null,null,null,null,null,null,null,null,null,null,null,null,null,null,null,null,null,null,null,null,null,null,null,null,null,null,null,null,null,null,null,null,null,null,null,null,null,null,null,null,null,null,null,null,null,null,null,null,null,null,null,null,null,null,null,null,null,null,null,null,null,null,null,null,null,null,null,null,null,null,null,null,null,null,null,null,"Setia Walk Puchong"]
[null,null,null,null,null,null,null,null,null,null,null,null,null,null,null,null,null,null,null,null,null,null,null,null,null,null,null,null,null,null,null,null,null,null,null,null,null,null,null,null,null,null,null,null,null,null,null,null,null,null,null,null,null,null,null,null,null,null,null,null,null,null,null,null,null,null,null,null,null,null,null,null,null,null,null,null,null,null,null,null,null,null,null,null,null,null,null,null,null,null,null,"Sales Mix Report #2"]
[null,null,null,null,null,null,null,null,null,null,null,null,null,null,null,null,null,null,null,null,null,null,null,null,null,null,null,null,null,null,null,null,null,null,null,null,null,null,null,null,null,null,null,null,null,null,null,null,null,null,null,null,null,null,null,null,null,null,null,null,null,null,null,null,null,null,null,null,null,null,null,null,null,null,null,null,null,null,null,null,null,null,null,null,null,null,null,null,null,null,null,""]
[null,null,null,null,null,null,null,null,null,null,null,null,null,null,null,null,null,null,null,null,null,null,null,null,null,null,null,null,null,null,null,null,null,null,null,null,null,null,null,null,null,null,null,null,null,null,null,null,null,null,null,null,null,null,null,null,null,null,null,null,null,null,null,null,null,null,null,null,null,null,null,null,null,null,null,null,null,null,null,null,null,null,null,null,null,null,null,null,null,null,null,"Date: From 2014/01/01 (Wed) to 2014/01/31 (Fri)"]
[null,null,null,null,null,null,null,null,null,null,null,null,null,null,null,null,null,null,null,null,null,null,null,null,null,null,null,null,null,null,null,null,null,null,null,null,null,null,null,null,null,null,null,null,null,null,null,null,null,null,null,null,null,null,null,null,null,null,null,null,null,null,null,null,null,null,null,null,null,null,null,null,null,null,null,null,null,null,null,null,null,null,null,null,null,null,null,null,null,null,null,"Item Description","Dine In"]
[null,null,null,null,null,null,null,null,null,null,null,null,null,null,null,null,null,null,null,null,null,null,null,null,null,null,null,null,null,null,null,null,null,null,null,null,null,null,null,null,null,null,null,null,null,null,null,null,null,null,null,null,null,null,null,null,null,null,null,null,null,null,null,null,null,null,null,null,null,null,null,null,null,null,null,null,null,null,null,null,null,null,null,null,null,null,null,null,null,null,null,"HP09 H:XTD M ROOM",3]
[null,null,null,null,null,null,null,null,null,null,null,null,null,null,null,null,null,null,null,null,null,null,null,null,null,null,null,null,null,null,null,null,null,null,null,null,null,null,null,null,null,null,null,null,null,null,null,null,null,null,null,null,null,null,null,null,null,null,null,null,null,null,null,null,null,null,null,null,null,null,null,null,null,null,null,null,null,null,null,null,null,null,null,null,null,null,null,null,null,null,null,"HP15 H:ST MEMBER",1]
[null,null,null,null,null,null,null,null,null,null,null,null,null,null,null,null,null,null,null,null,null,null,null,null,null,null,null,null,null,null,null,null,null,null,null,null,null,null,null,null,null,null,null,null,null,null,null,null,null,null,null,null,null,null,null,null,null,null,null,null,null,null,null,null,null,null,null,null,null,null,null,null,null,null,null,null,null,null,null,null,null,null,null,null,null,null,null,null,null,null,null,"HP16 H:ST MEM B'DAY",1]
[null,null,null,null,null,null,null,null,null,null,null,null,null,null,null,null,null,null,null,null,null,null,null,null,null,null,null,null,null,null,null,null,null,null,null,null,null,null,null,null,null,null,null,null,null,null,null,null,null,null,null,null,null,null,null,null,null,null,null,null,null,null,null,null,null,null,null,null,null,null,null,null,null,null,null,null,null,null,null,null,null,null,null,null,null,null,null,null,null,null,null,"HP17 H:FREEHEAD",1]
[null,null,null,null,null,null,null,null,null,null,null,null,null,null,null,null,null,null,null,null,null,null,null,null,null,null,null,null,null,null,null,null,null,null,null,null,null,null,null,null,null,null,null,null,null,null,null,null,null,null,null,null,null,null,null,null,null,null,null,null,null,null,null,null,null,null,null,null,null,null,null,null,null,null,null,null,null,null,null,null,null,null,null,null,null,null,null,null,null,null,null,"HP18 H:4BP",6]
[null,null,null,null,null,null,null,null,null,null,null,null,null,null,null,null,null,null,null,null,null,null,null,null,null,null,null,null,null,null,null,null,null,null,null,null,null,null,null,null,null,null,null,null,null,null,null,null,null,null,null,null,null,null,null,null,null,null,null,null,null,null,null,null,null,null,null,null,null,null,null,null,null,null,null,null,null,null,null,null,null,null,null,null,null,null,null,null,null,null,null,"HP20 H:MEMBER 30%",295]
[null,null,null,null,null,null,null,null,null,null,null,null,null,null,null,null,null,null,null,null,null,null,null,null,null,null,null,null,null,null,null,null,null,null,null,null,null,null,null,null,null,null,null,null,null,null,null,null,null,null,null,null,null,null,null,null,null,null,null,null,null,null,null,null,null,null,null,null,null,null,null,null,null,null,null,null,null,null,null,null,null,null,null,null,null,null,null,null,null,null,null,"HP21 H:STUDENT",316]
[null,null,null,null,null,null,null,null,null,null,null,null,null,null,null,null,null,null,null,null,null,null,null,null,null,null,null,null,null,null,null,null,null,null,null,null,null,null,null,null,null,null,null,null,null,null,null,null,null,null,null,null,null,null,null,null,null,null,null,null,null,null,null,null,null,null,null,null,null,null,null,null,null,null,null,null,null,null,null,null,null,null,null,null,null,null,null,null,null,null,null,"HP22 H:ST PHE",34]
[null,null,null,null,null,null,null,null,null,null,null,null,null,null,null,null,null,null,null,null,null,null,null,null,null,null,null,null,null,null,null,null,null,null,null,null,null,null,null,null,null,null,null,null,null,null,null,null,null,null,null,null,null,null,null,null,null,null,null,null,null,null,null,null,null,null,null,null,null,null,null,null,null,null,null,null,null,null,null,null,null,null,null,null,null,null,null,null,null,null,null,"HP33 H:MEMBER 30%",168]
[null,null,null,null,null,null,null,null,null,null,null,null,null,null,null,null,null,null,null,null,null,null,null,null,null,null,null,null,null,null,null,null,null,null,null,null,null,null,null,null,null,null,null,null,null,null,null,null,null,null,null,null,null,null,null,null,null,null,null,null,null,null,null,null,null,null,null,null,null,null,null,null,null,null,null,null,null,null,null,null,null,null,null,null,null,null,null,null,null,null,null,"HP36 H:PROMO 30%",132]
[null,null,null,null,null,null,null,null,null,null,null,null,null,null,null,null,null,null,null,null,null,null,null,null,null,null,null,null,null,null,null,null,null,null,null,null,null,null,null,null,null,null,null,null,null,null,null,null,null,null,null,null,null,null,null,null,null,null,null,null,null,null,null,null,null,null,null,null,null,null,null,null,null,null,null,null,null,null,null,null,null,null,null,null,null,null,null,null,null,null,null,"JD05 2905:RIBENA JUG",5]
[null,null,null,null,null,null,null,null,null,null,null,null,null,null,null,null,null,null,null,null,null,null,null,null,null,null,null,null,null,null,null,null,null,null,null,null,null,null,null,null,null,null,null,null,null,null,null,null,null,null,null,null,null,null,null,null,null,null,null,null,null,null,null,null,null,null,null,null,null,null,null,null,null,null,null,null,null,null,null,null,null,null,null,null,null,null,null,null,null,null,null,"JF01 92501:GRAPE J",548]
[null,null,null,null,null,null,null,null,null,null,null,null,null,null,null,null,null,null,null,null,null,null,null,null,null,null,null,null,null,null,null,null,null,null,null,null,null,null,null,null,null,null,null,null,null,null,null,null,null,null,null,null,null,null,null,null,null,null,null,null,null,null,null,null,null,null,null,null,null,null,null,null,null,null,null,null,null,null,null,null,null,null,null,null,null,null,null,null,null,null,null,"JF02 92502:APPLE J",623]
[null,null,null,null,null,null,null,null,null,null,null,null,null,null,null,null,null,null,null,null,null,null,null,null,null,null,null,null,null,null,null,null,null,null,null,null,null,null,null,null,null,null,null,null,null,null,null,null,null,null,null,null,null,null,null,null,null,null,null,null,null,null,null,null,null,null,null,null,null,null,null,null,null,null,null,null,null,null,null,null,null,null,null,null,null,null,null,null,null,null,null,"JF03 92503:MANGO J",662]
[null,null,null,null,null,null,null,null,null,null,null,null,null,null,null,null,null,null,null,null,null,null,null,null,null,null,null,null,null,null,null,null,null,null,null,null,null,null,null,null,null,null,null,null,null,null,null,null,null,null,null,null,null,null,null,null,null,null,null,null,null,null,null,null,null,null,null,null,null,null,null,null,null,null,null,null,null,null,null,null,null,null,null,null,null,null,null,null,null,null,null,"JF04 92504:PASSION J",885]
[null,null,null,null,null,null,null,null,null,null,null,null,null,null,null,null,null,null,null,null,null,null,null,null,null,null,null,null,null,null,null,null,null,null,null,null,null,null,null,null,null,null,null,null,null,null,null,null,null,null,null,null,null,null,null,null,null,null,null,null,null,null,null,null,null,null,null,null,null,null,null,null,null,null,null,null,null,null,null,null,null,null,null,null,null,null,null,null,null,null,null,"JF05 92505:RIBENA J",874]
[null,null,null,null,null,null,null,null,null,null,null,null,null,null,null,null,null,null,null,null,null,null,null,null,null,null,null,null,null,null,null,null,null,null,null,null,null,null,null,null,null,null,null,null,null,null,null,null,null,null,null,null,null,null,null,null,null,null,null,null,null,null,null,null,null,null,null,null,null,null,null,null,null,null,null,null,null,null,null,null,null,null,null,null,null,null,null,null,null,null,null,"JU01 2501:GRAPE J",1]
[null,null,null,null,null,null,null,null,null,null,null,null,null,null,null,null,null,null,null,null,null,null,null,null,null,null,null,null,null,null,null,null,null,null,null,null,null,null,null,null,null,null,null,null,null,null,null,null,null,null,null,null,null,null,null,null,null,null,null,null,null,null,null,null,null,null,null,null,null,null,null,null,null,null,null,null,null,null,null,null,null,null,null,null,null,null,null,null,null,null,null,"JU04 2504:PASSION J",1]
[null,null,null,null,null,null,null,null,null,null,null,null,null,null,null,null,null,null,null,null,null,null,null,null,null,null,null,null,null,null,null,null,null,null,null,null,null,null,null,null,null,null,null,null,null,null,null,null,null,null,null,null,null,null,null,null,null,null,null,null,null,null,null,null,null,null,null,null,null,null,null,null,null,null,null,null,null,null,null,null,null,null,null,null,null,null,null,null,null,null,null,"KP01 K:REGULAR",45]
[null,null,null,null,null,null,null,null,null,null,null,null,null,null,null,null,null,null,null,null,null,null,null,null,null,null,null,null,null,null,null,null,null,null,null,null,null,null,null,null,null,null,null,null,null,null,null,null,null,null,null,null,null,null,null,null,null,null,null,null,null,null,null,null,null,null,null,null,null,null,null,null,null,null,null,null,null,null,null,null,null,null,null,null,null,null,null,null,null,null,null,"KP02 K:MEMBER",11]
[null,null,null,null,null,null,null,null,null,null,null,null,null,null,null,null,null,null,null,null,null,null,null,null,null,null,null,null,null,null,null,null,null,null,null,null,null,null,null,null,null,null,null,null,null,null,null,null,null,null,null,null,null,null,null,null,null,null,null,null,null,null,null,null,null,null,null,null,null,null,null,null,null,null,null,null,null,null,null,null,null,null,null,null,null,null,null,null,null,null,null,"KP04 K:CHILDREN",32]
[null,null,null,null,null,null,null,null,null,null,null,null,null,null,null,null,null,null,null,null,null,null,null,null,null,null,null,null,null,null,null,null,null,null,null,null,null,null,null,null,null,null,null,null,null,null,null,null,null,null,null,null,null,null,null,null,null,null,null,null,null,null,null,null,null,null,null,null,null,null,null,null,null,null,null,null,null,null,null,null,null,null,null,null,null,null,null,null,null,null,null,"KP05 K:PROMOTION",6]
[null,null,null,null,null,null,null,null,null,null,null,null,null,null,null,null,null,null,null,null,null,null,null,null,null,null,null,null,null,null,null,null,null,null,null,null,null,null,null,null,null,null,null,null,null,null,null,null,null,null,null,null,null,null,null,null,null,null,null,null,null,null,null,null,null,null,null,null,null,null,null,null,null,null,null,null,null,null,null,null,null,null,null,null,null,null,null,null,null,null,null,"KP08 K:XTD S ROOM"]
[null,null,null,null,null,null,null,null,null,null,null,null,null,null,null,null,null,null,null,null,null,null,null,null,null,null,null,null,null,null,null,null,null,null,null,null,null,null,null,null,null,null,null,null,null,null,null,null,null,null,null,null,null,null,null,null,null,null,null,null,null,null,null,null,null,null,null,null,null,null,null,null,null,null,null,null,null,null,null,null,null,null,null,null,null,null,null,null,null,null,null,"KP25 K:LUNCH",863]
[null,null,null,null,null,null,null,null,null,null,null,null,null,null,null,null,null,null,null,null,null,null,null,null,null,null,null,null,null,null,null,null,null,null,null,null,null,null,null,null,null,null,null,null,null,null,null,null,null,null,null,null,null,null,null,null,null,null,null,null,null,null,null,null,null,null,null,null,null,null,null,null,null,null,null,null,null,null,null,null,null,null,null,null,null,null,null,null,null,null,null,"LC01 1101:THAI CHK",133]
[null,null,null,null,null,null,null,null,null,null,null,null,null,null,null,null,null,null,null,null,null,null,null,null,null,null,null,null,null,null,null,null,null,null,null,null,null,null,null,null,null,null,null,null,null,null,null,null,null,null,null,null,null,null,null,null,null,null,null,null,null,null,null,null,null,null,null,null,null,null,null,null,null,null,null,null,null,null,null,null,null,null,null,null,null,null,null,null,null,null,null,"LC02 1102:MAMITE CHK",113]
[null,null,null,null,null,null,null,null,null,null,null,null,null,null,null,null,null,null,null,null,null,null,null,null,null,null,null,null,null,null,null,null,null,null,null,null,null,null,null,null,null,null,null,null,null,null,null,null,null,null,null,null,null,null,null,null,null,null,null,null,null,null,null,null,null,null,null,null,null,null,null,null,null,null,null,null,null,null,null,null,null,null,null,null,null,null,null,null,null,null,null,"LC04 1104:S&S CHK",70]
[null,null,null,null,null,null,null,null,null,null,null,null,null,null,null,null,null,null,null,null,null,null,null,null,null,null,null,null,null,null,null,null,null,null,null,null,null,null,null,null,null,null,null,null,null,null,null,null,null,null,null,null,null,null,null,null,null,null,null,null,null,null,null,null,null,null,null,null,null,null,null,null,null,null,null,null,null,null,null,null,null,null,null,null,null,null,null,null,null,null,null,"LC05 1105:BUTTER CHK",182]
[null,null,null,null,null,null,null,null,null,null,null,null,null,null,null,null,null,null,null,null,null,null,null,null,null,null,null,null,null,null,null,null,null,null,null,null,null,null,null,null,null,null,null,null,null,null,null,null,null,null,null,null,null,null,null,null,null,null,null,null,null,null,null,null,null,null,null,null,null,null,null,null,null,null,null,null,null,null,null,null,null,null,null,null,null,null,null,null,null,null,null,"LC06 1106:HK F.RICE",149]
[null,null,null,null,null,null,null,null,null,null,null,null,null,null,null,null,null,null,null,null,null,null,null,null,null,null,null,null,null,null,null,null,null,null,null,null,null,null,null,null,null,null,null,null,null,null,null,null,null,null,null,null,null,null,null,null,null,null,null,null,null,null,null,null,null,null,null,null,null,null,null,null,null,null,null,null,null,null,null,null,null,null,null,null,null,null,null,null,null,null,null,"LC07 1107:SBL F.RICE",77]
[null,null,null,null,null,null,null,null,null,null,null,null,null,null,null,null,null,null,null,null,null,null,null,null,null,null,null,null,null,null,null,null,null,null,null,null,null,null,null,null,null,null,null,null,null,null,null,null,null,null,null,null,null,null,null,null,null,null,null,null,null,null,null,null,null,null,null,null,null,null,null,null,null,null,null,null,null,null,null,null,null,null,null,null,null,null,null,null,null,null,null,"LC08 1108:SBL F.MEE",24]
[null,null,null,null,null,null,null,null,null,null,null,null,null,null,null,null,null,null,null,null,null,null,null,null,null,null,null,null,null,null,null,null,null,null,null,null,null,null,null,null,null,null,null,null,null,null,null,null,null,null,null,null,null,null,null,null,null,null,null,null,null,null,null,null,null,null,null,null,null,null,null,null,null,null,null,null,null,null,null,null,null,null,null,null,null,null,null,null,null,null,null,"LC09 1109:BP UDON",43]
[null,null,null,null,null,null,null,null,null,null,null,null,null,null,null,null,null,null,null,null,null,null,null,null,null,null,null,null,null,null,null,null,null,null,null,null,null,null,null,null,null,null,null,null,null,null,null,null,null,null,null,null,null,null,null,null,null,null,null,null,null,null,null,null,null,null,null,null,null,null,null,null,null,null,null,null,null,null,null,null,null,null,null,null,null,null,null,null,null,null,null,"LC10 1110:NISSIN",62]
[null,null,null,null,null,null,null,null,null,null,null,null,null,null,null,null,null,null,null,null,null,null,null,null,null,null,null,null,null,null,null,null,null,null,null,null,null,null,null,null,null,null,null,null,null,null,null,null,null,null,null,null,null,null,null,null,null,null,null,null,null,null,null,null,null,null,null,null,null,null,null,null,null,null,null,null,null,null,null,null,null,null,null,null,null,null,null,null,null,null,null,"LC11 1111:VEG RICE",21]
[null,null,null,null,null,null,null,null,null,null,null,null,null,null,null,null,null,null,null,null,null,null,null,null,null,null,null,null,null,null,null,null,null,null,null,null,null,null,null,null,null,null,null,null,null,null,null,null,null,null,null,null,null,null,null,null,null,null,null,null,null,null,null,null,null,null,null,null,null,null,null,null,null,null,null,null,null,null,null,null,null,null,null,null,null,null,null,null,null,null,null,"LC15 1112:CHK NOODLE",62]
[null,null,null,null,null,null,null,null,null,null,null,null,null,null,null,null,null,null,null,null,null,null,null,null,null,null,null,null,null,null,null,null,null,null,null,null,null,null,null,null,null,null,null,null,null,null,null,null,null,null,null,null,null,null,null,null,null,null,null,null,null,null,null,null,null,null,null,null,null,null,null,null,null,null,null,null,null,null,null,null,null,null,null,null,null,null,null,null,null,null,null,"LC16 1103:MGL CHK",80]
[null,null,null,null,null,null,null,null,null,null,null,null,null,null,null,null,null,null,null,null,null,null,null,null,null,null,null,null,null,null,null,null,null,null,null,null,null,null,null,null,null,null,null,null,null,null,null,null,null,null,null,null,null,null,null,null,null,null,null,null,null,null,null,null,null,null,null,null,null,null,null,null,null,null,null,null,null,null,null,null,null,null,null,null,null,null,null,null,null,null,null,"LF01 91101:THAI CHK",46]
[null,null,null,null,null,null,null,null,null,null,null,null,null,null,null,null,null,null,null,null,null,null,null,null,null,null,null,null,null,null,null,null,null,null,null,null,null,null,null,null,null,null,null,null,null,null,null,null,null,null,null,null,null,null,null,null,null,null,null,null,null,null,null,null,null,null,null,null,null,null,null,null,null,null,null,null,null,null,null,null,null,null,null,null,null,null,null,null,null,null,null,"LF02 91102:MAMITE CHK",43]
[null,null,null,null,null,null,null,null,null,null,null,null,null,null,null,null,null,null,null,null,null,null,null,null,null,null,null,null,null,null,null,null,null,null,null,null,null,null,null,null,null,null,null,null,null,null,null,null,null,null,null,null,null,null,null,null,null,null,null,null,null,null,null,null,null,null,null,null,null,null,null,null,null,null,null,null,null,null,null,null,null,null,null,null,null,null,null,null,null,null,null,"LF04 91104:S&S CHK",23]
[null,null,null,null,null,null,null,null,null,null,null,null,null,null,null,null,null,null,null,null,null,null,null,null,null,null,null,null,null,null,null,null,null,null,null,null,null,null,null,null,null,null,null,null,null,null,null,null,null,null,null,null,null,null,null,null,null,null,null,null,null,null,null,null,null,null,null,null,null,null,null,null,null,null,null,null,null,null,null,null,null,null,null,null,null,null,null,null,null,null,null,"LF05 91105:BUTTER CHK",66]
[null,null,null,null,null,null,null,null,null,null,null,null,null,null,null,null,null,null,null,null,null,null,null,null,null,null,null,null,null,null,null,null,null,null,null,null,null,null,null,null,null,null,null,null,null,null,null,null,null,null,null,null,null,null,null,null,null,null,null,null,null,null,null,null,null,null,null,null,null,null,null,null,null,null,null,null,null,null,null,null,null,null,null,null,null,null,null,null,null,null,null,"LF06 91106:HK F.RICE",41]
[null,null,null,null,null,null,null,null,null,null,null,null,null,null,null,null,null,null,null,null,null,null,null,null,null,null,null,null,null,null,null,null,null,null,null,null,null,null,null,null,null,null,null,null,null,null,null,null,null,null,null,null,null,null,null,null,null,null,null,null,null,null,null,null,null,null,null,null,null,null,null,null,null,null,null,null,null,null,null,null,null,null,null,null,null,null,null,null,null,null,null,"LF07 91107:SBL F.RICE",28]
[null,null,null,null,null,null,null,null,null,null,null,null,null,null,null,null,null,null,null,null,null,null,null,null,null,null,null,null,null,null,null,null,null,null,null,null,null,null,null,null,null,null,null,null,null,null,null,null,null,null,null,null,null,null,null,null,null,null,null,null,null,null,null,null,null,null,null,null,null,null,null,null,null,null,null,null,null,null,null,null,null,null,null,null,null,null,null,null,null,null,null,"LF08 91108:SBL F.MEE",3]
[null,null,null,null,null,null,null,null,null,null,null,null,null,null,null,null,null,null,null,null,null,null,null,null,null,null,null,null,null,null,null,null,null,null,null,null,null,null,null,null,null,null,null,null,null,null,null,null,null,null,null,null,null,null,null,null,null,null,null,null,null,null,null,null,null,null,null,null,null,null,null,null,null,null,null,null,null,null,null,null,null,null,null,null,null,null,null,null,null,null,null,"LF09 91109:BP UDON",15]
[null,null,null,null,null,null,null,null,null,null,null,null,null,null,null,null,null,null,null,null,null,null,null,null,null,null,null,null,null,null,null,null,null,null,null,null,null,null,null,null,null,null,null,null,null,null,null,null,null,null,null,null,null,null,null,null,null,null,null,null,null,null,null,null,null,null,null,null,null,null,null,null,null,null,null,null,null,null,null,null,null,null,null,null,null,null,null,null,null,null,null,"LF10 91110:NISSIN",34]
[null,null,null,null,null,null,null,null,null,null,null,null,null,null,null,null,null,null,null,null,null,null,null,null,null,null,null,null,null,null,null,null,null,null,null,null,null,null,null,null,null,null,null,null,null,null,null,null,null,null,null,null,null,null,null,null,null,null,null,null,null,null,null,null,null,null,null,null,null,null,null,null,null,null,null,null,null,null,null,null,null,null,null,null,null,null,null,null,null,null,null,"LF11 91111:VEG RICE",15]
[null,null,null,null,null,null,null,null,null,null,null,null,null,null,null,null,null,null,null,null,null,null,null,null,null,null,null,null,null,null,null,null,null,null,null,null,null,null,null,null,null,null,null,null,null,null,null,null,null,null,null,null,null,null,null,null,null,null,null,null,null,null,null,null,null,null,null,null,null,null,null,null,null,null,null,null,null,null,null,null,null,null,null,null,null,null,null,null,null,null,null,"LF15 91112:CHK NOODLE",17]
[null,null,null,null,null,null,null,null,null,null,null,null,null,null,null,null,null,null,null,null,null,null,null,null,null,null,null,null,null,null,null,null,null,null,null,null,null,null,null,null,null,null,null,null,null,null,null,null,null,null,null,null,null,null,null,null,null,null,null,null,null,null,null,null,null,null,null,null,null,null,null,null,null,null,null,null,null,null,null,null,null,null,null,null,null,null,null,null,null,null,null,"LF16 91103:MGL CHK",33]
[null,null,null,null,null,null,null,null,null,null,null,null,null,null,null,null,null,null,null,null,null,null,null,null,null,null,null,null,null,null,null,null,null,null,null,null,null,null,null,null,null,null,null,null,null,null,null,null,null,null,null,null,null,null,null,null,null,null,null,null,null,null,null,null,null,null,null,null,null,null,null,null,null,null,null,null,null,null,null,null,null,null,null,null,null,null,null,null,null,null,null,"MC01 MIC COVER X 1",2]
[null,null,null,null,null,null,null,null,null,null,null,null,null,null,null,null,null,null,null,null,null,null,null,null,null,null,null,null,null,null,null,null,null,null,null,null,null,null,null,null,null,null,null,null,null,null,null,null,null,null,null,null,null,null,null,null,null,null,null,null,null,null,null,null,null,null,null,null,null,null,null,null,null,null,null,null,null,null,null,null,null,null,null,null,null,null,null,null,null,null,null,"MC02 MIC COVER X 3",30]
[null,null,null,null,null,null,null,null,null,null,null,null,null,null,null,null,null,null,null,null,null,null,null,null,null,null,null,null,null,null,null,null,null,null,null,null,null,null,null,null,null,null,null,null,null,null,null,null,null,null,null,null,null,null,null,null,null,null,null,null,null,null,null,null,null,null,null,null,null,null,null,null,null,null,null,null,null,null,null,null,null,null,null,null,null,null,null,null,null,null,null,"Setia Walk Puchong"]
[null,null,null,null,null,null,null,null,null,null,null,null,null,null,null,null,null,null,null,null,null,null,null,null,null,null,null,null,null,null,null,null,null,null,null,null,null,null,null,null,null,null,null,null,null,null,null,null,null,null,null,null,null,null,null,null,null,null,null,null,null,null,null,null,null,null,null,null,null,null,null,null,null,null,null,null,null,null,null,null,null,null,null,null,null,null,null,null,null,null,null,"Sales Mix Report #2"]
[null,null,null,null,null,null,null,null,null,null,null,null,null,null,null,null,null,null,null,null,null,null,null,null,null,null,null,null,null,null,null,null,null,null,null,null,null,null,null,null,null,null,null,null,null,null,null,null,null,null,null,null,null,null,null,null,null,null,null,null,null,null,null,null,null,null,null,null,null,null,null,null,null,null,null,null,null,null,null,null,null,null,null,null,null,null,null,null,null,null,null,""]
[null,null,null,null,null,null,null,null,null,null,null,null,null,null,null,null,null,null,null,null,null,null,null,null,null,null,null,null,null,null,null,null,null,null,null,null,null,null,null,null,null,null,null,null,null,null,null,null,null,null,null,null,null,null,null,null,null,null,null,null,null,null,null,null,null,null,null,null,null,null,null,null,null,null,null,null,null,null,null,null,null,null,null,null,null,null,null,null,null,null,null,"Date: From 2014/01/01 (Wed) to 2014/01/31 (Fri)"]
[null,null,null,null,null,null,null,null,null,null,null,null,null,null,null,null,null,null,null,null,null,null,null,null,null,null,null,null,null,null,null,null,null,null,null,null,null,null,null,null,null,null,null,null,null,null,null,null,null,null,null,null,null,null,null,null,null,null,null,null,null,null,null,null,null,null,null,null,null,null,null,null,null,null,null,null,null,null,null,null,null,null,null,null,null,null,null,null,null,null,null,"Item Description","Dine In"]
[null,null,null,null,null,null,null,null,null,null,null,null,null,null,null,null,null,null,null,null,null,null,null,null,null,null,null,null,null,null,null,null,null,null,null,null,null,null,null,null,null,null,null,null,null,null,null,null,null,null,null,null,null,null,null,null,null,null,null,null,null,null,null,null,null,null,null,null,null,null,null,null,null,null,null,null,null,null,null,null,null,null,null,null,null,null,null,null,null,null,null,"MP01 M:REGULAR",447]
[null,null,null,null,null,null,null,null,null,null,null,null,null,null,null,null,null,null,null,null,null,null,null,null,null,null,null,null,null,null,null,null,null,null,null,null,null,null,null,null,null,null,null,null,null,null,null,null,null,null,null,null,null,null,null,null,null,null,null,null,null,null,null,null,null,null,null,null,null,null,null,null,null,null,null,null,null,null,null,null,null,null,null,null,null,null,null,null,null,null,null,"MP02 M:MEMBER",18]
[null,null,null,null,null,null,null,null,null,null,null,null,null,null,null,null,null,null,null,null,null,null,null,null,null,null,null,null,null,null,null,null,null,null,null,null,null,null,null,null,null,null,null,null,null,null,null,null,null,null,null,null,null,null,null,null,null,null,null,null,null,null,null,null,null,null,null,null,null,null,null,null,null,null,null,null,null,null,null,null,null,null,null,null,null,null,null,null,null,null,null,"MP03 M:MEMBER B'DAY",4]
[null,null,null,null,null,null,null,null,null,null,null,null,null,null,null,null,null,null,null,null,null,null,null,null,null,null,null,null,null,null,null,null,null,null,null,null,null,null,null,null,null,null,null,null,null,null,null,null,null,null,null,null,null,null,null,null,null,null,null,null,null,null,null,null,null,null,null,null,null,null,null,null,null,null,null,null,null,null,null,null,null,null,null,null,null,null,null,null,null,null,null,"MP04 M:CHILDREN",1]
[null,null,null,null,null,null,null,null,null,null,null,null,null,null,null,null,null,null,null,null,null,null,null,null,null,null,null,null,null,null,null,null,null,null,null,null,null,null,null,null,null,null,null,null,null,null,null,null,null,null,null,null,null,null,null,null,null,null,null,null,null,null,null,null,null,null,null,null,null,null,null,null,null,null,null,null,null,null,null,null,null,null,null,null,null,null,null,null,null,null,null,"MP05 M:PROMOTION",8]
[null,null,null,null,null,null,null,null,null,null,null,null,null,null,null,null,null,null,null,null,null,null,null,null,null,null,null,null,null,null,null,null,null,null,null,null,null,null,null,null,null,null,null,null,null,null,null,null,null,null,null,null,null,null,null,null,null,null,null,null,null,null,null,null,null,null,null,null,null,null,null,null,null,null,null,null,null,null,null,null,null,null,null,null,null,null,null,null,null,null,null,"MP08 M:XTD S ROOM",1]
[null,null,null,null,null,null,null,null,null,null,null,null,null,null,null,null,null,null,null,null,null,null,null,null,null,null,null,null,null,null,null,null,null,null,null,null,null,null,null,null,null,null,null,null,null,null,null,null,null,null,null,null,null,null,null,null,null,null,null,null,null,null,null,null,null,null,null,null,null,null,null,null,null,null,null,null,null,null,null,null,null,null,null,null,null,null,null,null,null,null,null,"MP09 M:XTD M ROOM",10]
[null,null,null,null,null,null,null,null,null,null,null,null,null,null,null,null,null,null,null,null,null,null,null,null,null,null,null,null,null,null,null,null,null,null,null,null,null,null,null,null,null,null,null,null,null,null,null,null,null,null,null,null,null,null,null,null,null,null,null,null,null,null,null,null,null,null,null,null,null,null,null,null,null,null,null,null,null,null,null,null,null,null,null,null,null,null,null,null,null,null,null,"MP11 M:XTD VIP ROOM",2]
[null,null,null,null,null,null,null,null,null,null,null,null,null,null,null,null,null,null,null,null,null,null,null,null,null,null,null,null,null,null,null,null,null,null,null,null,null,null,null,null,null,null,null,null,null,null,null,null,null,null,null,null,null,null,null,null,null,null,null,null,null,null,null,null,null,null,null,null,null,null,null,null,null,null,null,null,null,null,null,null,null,null,null,null,null,null,null,null,null,null,null,"MP17 M:FREEHEAD",7]
[null,null,null,null,null,null,null,null,null,null,null,null,null,null,null,null,null,null,null,null,null,null,null,null,null,null,null,null,null,null,null,null,null,null,null,null,null,null,null,null,null,null,null,null,null,null,null,null,null,null,null,null,null,null,null,null,null,null,null,null,null,null,null,null,null,null,null,null,null,null,null,null,null,null,null,null,null,null,null,null,null,null,null,null,null,null,null,null,null,null,null,"MP18 M:4BP",9]
[null,null,null,null,null,null,null,null,null,null,null,null,null,null,null,null,null,null,null,null,null,null,null,null,null,null,null,null,null,null,null,null,null,null,null,null,null,null,null,null,null,null,null,null,null,null,null,null,null,null,null,null,null,null,null,null,null,null,null,null,null,null,null,null,null,null,null,null,null,null,null,null,null,null,null,null,null,null,null,null,null,null,null,null,null,null,null,null,null,null,null,"MP19 M:MEMBER 4BP",1]
[null,null,null,null,null,null,null,null,null,null,null,null,null,null,null,null,null,null,null,null,null,null,null,null,null,null,null,null,null,null,null,null,null,null,null,null,null,null,null,null,null,null,null,null,null,null,null,null,null,null,null,null,null,null,null,null,null,null,null,null,null,null,null,null,null,null,null,null,null,null,null,null,null,null,null,null,null,null,null,null,null,null,null,null,null,null,null,null,null,null,null,"MP20 M:MEMBER 30%",142]
[null,null,null,null,null,null,null,null,null,null,null,null,null,null,null,null,null,null,null,null,null,null,null,null,null,null,null,null,null,null,null,null,null,null,null,null,null,null,null,null,null,null,null,null,null,null,null,null,null,null,null,null,null,null,null,null,null,null,null,null,null,null,null,null,null,null,null,null,null,null,null,null,null,null,null,null,null,null,null,null,null,null,null,null,null,null,null,null,null,null,null,"MP24 M:LADIES",219]
[null,null,null,null,null,null,null,null,null,null,null,null,null,null,null,null,null,null,null,null,null,null,null,null,null,null,null,null,null,null,null,null,null,null,null,null,null,null,null,null,null,null,null,null,null,null,null,null,null,null,null,null,null,null,null,null,null,null,null,null,null,null,null,null,null,null,null,null,null,null,null,null,null,null,null,null,null,null,null,null,null,null,null,null,null,null,null,null,null,null,null,"MP33 M:MEMBER 30%",74]
[null,null,null,null,null,null,null,null,null,null,null,null,null,null,null,null,null,null,null,null,null,null,null,null,null,null,null,null,null,null,null,null,null,null,null,null,null,null,null,null,null,null,null,null,null,null,null,null,null,null,null,null,null,null,null,null,null,null,null,null,null,null,null,null,null,null,null,null,null,null,null,null,null,null,null,null,null,null,null,null,null,null,null,null,null,null,null,null,null,null,null,"MP36 M:PROMO 30%",34]
[null,null,null,null,null,null,null,null,null,null,null,null,null,null,null,null,null,null,null,null,null,null,null,null,null,null,null,null,null,null,null,null,null,null,null,null,null,null,null,null,null,null,null,null,null,null,null,null,null,null,null,null,null,null,null,null,null,null,null,null,null,null,null,null,null,null,null,null,null,null,null,null,null,null,null,null,null,null,null,null,null,null,null,null,null,null,null,null,null,null,null,"NP01 N:REGULAR",1839]
[null,null,null,null,null,null,null,null,null,null,null,null,null,null,null,null,null,null,null,null,null,null,null,null,null,null,null,null,null,null,null,null,null,null,null,null,null,null,null,null,null,null,null,null,null,null,null,null,null,null,null,null,null,null,null,null,null,null,null,null,null,null,null,null,null,null,null,null,null,null,null,null,null,null,null,null,null,null,null,null,null,null,null,null,null,null,null,null,null,null,null,"NP02 N:MEMBER",87]
[null,null,null,null,null,null,null,null,null,null,null,null,null,null,null,null,null,null,null,null,null,null,null,null,null,null,null,null,null,null,null,null,null,null,null,null,null,null,null,null,null,null,null,null,null,null,null,null,null,null,null,null,null,null,null,null,null,null,null,null,null,null,null,null,null,null,null,null,null,null,null,null,null,null,null,null,null,null,null,null,null,null,null,null,null,null,null,null,null,null,null,"NP03 N:MEMBER B'DAY",11]
[null,null,null,null,null,null,null,null,null,null,null,null,null,null,null,null,null,null,null,null,null,null,null,null,null,null,null,null,null,null,null,null,null,null,null,null,null,null,null,null,null,null,null,null,null,null,null,null,null,null,null,null,null,null,null,null,null,null,null,null,null,null,null,null,null,null,null,null,null,null,null,null,null,null,null,null,null,null,null,null,null,null,null,null,null,null,null,null,null,null,null,"NP04 N:CHILDREN",74]
[null,null,null,null,null,null,null,null,null,null,null,null,null,null,null,null,null,null,null,null,null,null,null,null,null,null,null,null,null,null,null,null,null,null,null,null,null,null,null,null,null,null,null,null,null,null,null,null,null,null,null,null,null,null,null,null,null,null,null,null,null,null,null,null,null,null,null,null,null,null,null,null,null,null,null,null,null,null,null,null,null,null,null,null,null,null,null,null,null,null,null,"NP05 N:PROMOTION",76]
[null,null,null,null,null,null,null,null,null,null,null,null,null,null,null,null,null,null,null,null,null,null,null,null,null,null,null,null,null,null,null,null,null,null,null,null,null,null,null,null,null,null,null,null,null,null,null,null,null,null,null,null,null,null,null,null,null,null,null,null,null,null,null,null,null,null,null,null,null,null,null,null,null,null,null,null,null,null,null,null,null,null,null,null,null,null,null,null,null,null,null,"NP06 N:STAFF B'DAY",1]
[null,null,null,null,null,null,null,null,null,null,null,null,null,null,null,null,null,null,null,null,null,null,null,null,null,null,null,null,null,null,null,null,null,null,null,null,null,null,null,null,null,null,null,null,null,null,null,null,null,null,null,null,null,null,null,null,null,null,null,null,null,null,null,null,null,null,null,null,null,null,null,null,null,null,null,null,null,null,null,null,null,null,null,null,null,null,null,null,null,null,null,"NP08 N:XTD S ROOM",10]
[null,null,null,null,null,null,null,null,null,null,null,null,null,null,null,null,null,null,null,null,null,null,null,null,null,null,null,null,null,null,null,null,null,null,null,null,null,null,null,null,null,null,null,null,null,null,null,null,null,null,null,null,null,null,null,null,null,null,null,null,null,null,null,null,null,null,null,null,null,null,null,null,null,null,null,null,null,null,null,null,null,null,null,null,null,null,null,null,null,null,null,"NP09 N:XTD M ROOM",25]
[null,null,null,null,null,null,null,null,null,null,null,null,null,null,null,null,null,null,null,null,null,null,null,null,null,null,null,null,null,null,null,null,null,null,null,null,null,null,null,null,null,null,null,null,null,null,null,null,null,null,null,null,null,null,null,null,null,null,null,null,null,null,null,null,null,null,null,null,null,null,null,null,null,null,null,null,null,null,null,null,null,null,null,null,null,null,null,null,null,null,null,"NP10 N:XTD B ROOM",12]
[null,null,null,null,null,null,null,null,null,null,null,null,null,null,null,null,null,null,null,null,null,null,null,null,null,null,null,null,null,null,null,null,null,null,null,null,null,null,null,null,null,null,null,null,null,null,null,null,null,null,null,null,null,null,null,null,null,null,null,null,null,null,null,null,null,null,null,null,null,null,null,null,null,null,null,null,null,null,null,null,null,null,null,null,null,null,null,null,null,null,null,"NP11 N:XTD VIP ROOM",3]
[null,null,null,null,null,null,null,null,null,null,null,null,null,null,null,null,null,null,null,null,null,null,null,null,null,null,null,null,null,null,null,null,null,null,null,null,null,null,null,null,null,null,null,null,null,null,null,null,null,null,null,null,null,null,null,null,null,null,null,null,null,null,null,null,null,null,null,null,null,null,null,null,null,null,null,null,null,null,null,null,null,null,null,null,null,null,null,null,null,null,null,"NP14 N:EVENT PAX",20]
[null,null,null,null,null,null,null,null,null,null,null,null,null,null,null,null,null,null,null,null,null,null,null,null,null,null,null,null,null,null,null,null,null,null,null,null,null,null,null,null,null,null,null,null,null,null,null,null,null,null,null,null,null,null,null,null,null,null,null,null,null,null,null,null,null,null,null,null,null,null,null,null,null,null,null,null,null,null,null,null,null,null,null,null,null,null,null,null,null,null,null,"NP16 N:ST MEM B'DAY",2]
[null,null,null,null,null,null,null,null,null,null,null,null,null,null,null,null,null,null,null,null,null,null,null,null,null,null,null,null,null,null,null,null,null,null,null,null,null,null,null,null,null,null,null,null,null,null,null,null,null,null,null,null,null,null,null,null,null,null,null,null,null,null,null,null,null,null,null,null,null,null,null,null,null,null,null,null,null,null,null,null,null,null,null,null,null,null,null,null,null,null,null,"NP17 N:FREEHEAD",21]
[null,null,null,null,null,null,null,null,null,null,null,null,null,null,null,null,null,null,null,null,null,null,null,null,null,null,null,null,null,null,null,null,null,null,null,null,null,null,null,null,null,null,null,null,null,null,null,null,null,null,null,null,null,null,null,null,null,null,null,null,null,null,null,null,null,null,null,null,null,null,null,null,null,null,null,null,null,null,null,null,null,null,null,null,null,null,null,null,null,null,null,"NP18 N:4BP",86]
[null,null,null,null,null,null,null,null,null,null,null,null,null,null,null,null,null,null,null,null,null,null,null,null,null,null,null,null,null,null,null,null,null,null,null,null,null,null,null,null,null,null,null,null,null,null,null,null,null,null,null,null,null,null,null,null,null,null,null,null,null,null,null,null,null,null,null,null,null,null,null,null,null,null,null,null,null,null,null,null,null,null,null,null,null,null,null,null,null,null,null,"NP19 N:MEMBER 4BP",2]
[null,null,null,null,null,null,null,null,null,null,null,null,null,null,null,null,null,null,null,null,null,null,null,null,null,null,null,null,null,null,null,null,null,null,null,null,null,null,null,null,null,null,null,null,null,null,null,null,null,null,null,null,null,null,null,null,null,null,null,null,null,null,null,null,null,null,null,null,null,null,null,null,null,null,null,null,null,null,null,null,null,null,null,null,null,null,null,null,null,null,null,"NP20 N:MEMBER 30%",694]
[null,null,null,null,null,null,null,null,null,null,null,null,null,null,null,null,null,null,null,null,null,null,null,null,null,null,null,null,null,null,null,null,null,null,null,null,null,null,null,null,null,null,null,null,null,null,null,null,null,null,null,null,null,null,null,null,null,null,null,null,null,null,null,null,null,null,null,null,null,null,null,null,null,null,null,null,null,null,null,null,null,null,null,null,null,null,null,null,null,null,null,"NP25 N:K DINNER",346]
[{"$f":"IFERROR(IF(INDIRECT($A$14&ROW())<>\"\",COUNTIF([2]Summary!$B$30:$B$1029,INDIRECT($A$14&ROW())),\"\"),\"\")","v":""},null,null,null,null,null,null,null,null,null,null,null,null,null,null,null,null,null,null,null,null,null,null,null,null,null,null,null,null,null,null,null,null,null,null,null,null,null,null,null,null,null,null,null,null,null,null,null,null,null,null,null,null,null,null,null,null,null,null,null,null,null,null,null,null,null,null,null,null,null,null,null,null,null,null,null,null,null,null,null,null,null,null,null,null,null,null,null,null,null,null,"NP33 N:MEMBER 30%",243]
[{"$f":"IFERROR(IF(INDIRECT($A$14&ROW())<>\"\",COUNTIF([2]Summary!$B$30:$B$1029,INDIRECT($A$14&ROW())),\"\"),\"\")","v":""},null,null,null,null,null,null,null,null,null,null,null,null,null,null,null,null,null,null,null,null,null,null,null,null,null,null,null,null,null,null,null,null,null,null,null,null,null,null,null,null,null,null,null,null,null,null,null,null,null,null,null,null,null,null,null,null,null,null,null,null,null,null,null,null,null,null,null,null,null,null,null,null,null,null,null,null,null,null,null,null,null,null,null,null,null,null,null,null,null,null,"NP36 N:PROMO 30%",3564]
[{"$f":"IFERROR(IF(INDIRECT($A$14&ROW())<>\"\",COUNTIF([2]Summary!$B$30:$B$1029,INDIRECT($A$14&ROW())),\"\"),\"\")","v":""},null,null,null,null,null,null,null,null,null,null,null,null,null,null,null,null,null,null,null,null,null,null,null,null,null,null,null,null,null,null,null,null,null,null,null,null,null,null,null,null,null,null,null,null,null,null,null,null,null,null,null,null,null,null,null,null,null,null,null,null,null,null,null,null,null,null,null,null,null,null,null,null,null,null,null,null,null,null,null,null,null,null,null,null,null,null,null,null,null,null,"NP37 N:PROMO RM1",684]
[{"$f":"IFERROR(IF(INDIRECT($A$14&ROW())<>\"\",COUNTIF([2]Summary!$B$30:$B$1029,INDIRECT($A$14&ROW())),\"\"),\"\")","v":""},null,null,null,null,null,null,null,null,null,null,null,null,null,null,null,null,null,null,null,null,null,null,null,null,null,null,null,null,null,null,null,null,null,null,null,null,null,null,null,null,null,null,null,null,null,null,null,null,null,null,null,null,null,null,null,null,null,null,null,null,null,null,null,null,null,null,null,null,null,null,null,null,null,null,null,null,null,null,null,null,null,null,null,null,null,null,null,null,null,null,"OH01 XTD S ROOM",3]
[{"$f":"IFERROR(IF(INDIRECT($A$14&ROW())<>\"\",COUNTIF([2]Summary!$B$30:$B$1029,INDIRECT($A$14&ROW())),\"\"),\"\")","v":""},null,null,null,null,null,null,null,null,null,null,null,null,null,null,null,null,null,null,null,null,null,null,null,null,null,null,null,null,null,null,null,null,null,null,null,null,null,null,null,null,null,null,null,null,null,null,null,null,null,null,null,null,null,null,null,null,null,null,null,null,null,null,null,null,null,null,null,null,null,null,null,null,null,null,null,null,null,null,null,null,null,null,null,null,null,null,null,null,null,null,"OH02 XTD M ROOM",2]
[{"$f":"IFERROR(IF(INDIRECT($A$14&ROW())<>\"\",COUNTIF([2]Summary!$B$30:$B$1029,INDIRECT($A$14&ROW())),\"\"),\"\")","v":""},null,null,null,null,null,null,null,null,null,null,null,null,null,null,null,null,null,null,null,null,null,null,null,null,null,null,null,null,null,null,null,null,null,null,null,null,null,null,null,null,null,null,null,null,null,null,null,null,null,null,null,null,null,null,null,null,null,null,null,null,null,null,null,null,null,null,null,null,null,null,null,null,null,null,null,null,null,null,null,null,null,null,null,null,null,null,null,null,null,null,"OH03 XTD B ROOM",1]
[{"$f":"IFERROR(IF(INDIRECT($A$14&ROW())<>\"\",COUNTIF([2]Summary!$B$30:$B$1029,INDIRECT($A$14&ROW())),\"\"),\"\")","v":""},null,null,null,null,null,null,null,null,null,null,null,null,null,null,null,null,null,null,null,null,null,null,null,null,null,null,null,null,null,null,null,null,null,null,null,null,null,null,null,null,null,null,null,null,null,null,null,null,null,null,null,null,null,null,null,null,null,null,null,null,null,null,null,null,null,null,null,null,null,null,null,null,null,null,null,null,null,null,null,null,null,null,null,null,null,null,null,null,null,null,"OH04 XTD VIP ROOM",1]
[{"$f":"IFERROR(IF(INDIRECT($A$14&ROW())<>\"\",COUNTIF([2]Summary!$B$30:$B$1029,INDIRECT($A$14&ROW())),\"\"),\"\")","v":""},null,null,null,null,null,null,null,null,null,null,null,null,null,null,null,null,null,null,null,null,null,null,null,null,null,null,null,null,null,null,null,null,null,null,null,null,null,null,null,null,null,null,null,null,null,null,null,null,null,null,null,null,null,null,null,null,null,null,null,null,null,null,null,null,null,null,null,null,null,null,null,null,null,null,null,null,null,null,null,null,null,null,null,null,null,null,null,null,null,null,"OS01 FH VOUCHER(R)",13]
[{"$f":"IFERROR(IF(INDIRECT($A$14&ROW())<>\"\",COUNTIF([2]Summary!$B$30:$B$1029,INDIRECT($A$14&ROW())),\"\"),\"\")","v":""},null,null,null,null,null,null,null,null,null,null,null,null,null,null,null,null,null,null,null,null,null,null,null,null,null,null,null,null,null,null,null,null,null,null,null,null,null,null,null,null,null,null,null,null,null,null,null,null,null,null,null,null,null,null,null,null,null,null,null,null,null,null,null,null,null,null,null,null,null,null,null,null,null,null,null,null,null,null,null,null,null,null,null,null,null,null,null,null,null,null,"OS11 RM2 VOUCHER(RB)",4]
[{"$f":"IFERROR(IF(INDIRECT($A$14&ROW())<>\"\",COUNTIF([2]Summary!$B$30:$B$1029,INDIRECT($A$14&ROW())),\"\"),\"\")","v":""},null,null,null,null,null,null,null,null,null,null,null,null,null,null,null,null,null,null,null,null,null,null,null,null,null,null,null,null,null,null,null,null,null,null,null,null,null,null,null,null,null,null,null,null,null,null,null,null,null,null,null,null,null,null,null,null,null,null,null,null,null,null,null,null,null,null,null,null,null,null,null,null,null,null,null,null,null,null,null,null,null,null,null,null,null,null,null,null,null,null,"OS12 RM10 VOUCHER(RB)",39]
[{"$f":"IFERROR(IF(INDIRECT($A$14&ROW())<>\"\",COUNTIF([2]Summary!$B$30:$B$1029,INDIRECT($A$14&ROW())),\"\"),\"\")","v":""},null,null,null,null,null,null,null,null,null,null,null,null,null,null,null,null,null,null,null,null,null,null,null,null,null,null,null,null,null,null,null,null,null,null,null,null,null,null,null,null,null,null,null,null,null,null,null,null,null,null,null,null,null,null,null,null,null,null,null,null,null,null,null,null,null,null,null,null,null,null,null,null,null,null,null,null,null,null,null,null,null,null,null,null,null,null,null,null,null,null,"OU02 LIGHTER",14]
[{"$f":"IFERROR(IF(INDIRECT($A$14&ROW())<>\"\",COUNTIF([2]Summary!$B$30:$B$1029,INDIRECT($A$14&ROW())),\"\"),\"\")","v":""},null,null,null,null,null,null,null,null,null,null,null,null,null,null,null,null,null,null,null,null,null,null,null,null,null,null,null,null,null,null,null,null,null,null,null,null,null,null,null,null,null,null,null,null,null,null,null,null,null,null,null,null,null,null,null,null,null,null,null,null,null,null,null,null,null,null,null,null,null,null,null,null,null,null,null,null,null,null,null,null,null,null,null,null,null,null,null,null,null,null,"OU03 MISC FEE",1]
[{"$f":"IFERROR(IF(INDIRECT($A$14&ROW())<>\"\",COUNTIF([2]Summary!$B$30:$B$1029,INDIRECT($A$14&ROW())),\"\"),\"\")","v":""},null,null,null,null,null,null,null,null,null,null,null,null,null,null,null,null,null,null,null,null,null,null,null,null,null,null,null,null,null,null,null,null,null,null,null,null,null,null,null,null,null,null,null,null,null,null,null,null,null,null,null,null,null,null,null,null,null,null,null,null,null,null,null,null,null,null,null,null,null,null,null,null,null,null,null,null,null,null,null,null,null,null,null,null,null,null,null,null,null,null,"OW04 PENALTY",4]
[{"$f":"IFERROR(IF(INDIRECT($A$14&ROW())<>\"\",COUNTIF([2]Summary!$B$30:$B$1029,INDIRECT($A$14&ROW())),\"\"),\"\")","v":""},null,null,null,null,null,null,null,null,null,null,null,null,null,null,null,null,null,null,null,null,null,null,null,null,null,null,null,null,null,null,null,null,null,null,null,null,null,null,null,null,null,null,null,null,null,null,null,null,null,null,null,null,null,null,null,null,null,null,null,null,null,null,null,null,null,null,null,null,null,null,null,null,null,null,null,null,null,null,null,null,null,null,null,null,null,null,null,null,null,null,"OW06 EVENT",1]
[{"$f":"IFERROR(IF(INDIRECT($A$14&ROW())<>\"\",COUNTIF([2]Summary!$B$30:$B$1029,INDIRECT($A$14&ROW())),\"\"),\"\")","v":""},null,null,null,null,null,null,null,null,null,null,null,null,null,null,null,null,null,null,null,null,null,null,null,null,null,null,null,null,null,null,null,null,null,null,null,null,null,null,null,null,null,null,null,null,null,null,null,null,null,null,null,null,null,null,null,null,null,null,null,null,null,null,null,null,null,null,null,null,null,null,null,null,null,null,null,null,null,null,null,null,null,null,null,null,null,null,null,null,null,null,"OX01 REGULAR MEM CARD",13]
[{"$f":"IFERROR(IF(INDIRECT($A$14&ROW())<>\"\",COUNTIF([2]Summary!$B$30:$B$1029,INDIRECT($A$14&ROW())),\"\"),\"\")","v":""},null,null,null,null,null,null,null,null,null,null,null,null,null,null,null,null,null,null,null,null,null,null,null,null,null,null,null,null,null,null,null,null,null,null,null,null,null,null,null,null,null,null,null,null,null,null,null,null,null,null,null,null,null,null,null,null,null,null,null,null,null,null,null,null,null,null,null,null,null,null,null,null,null,null,null,null,null,null,null,null,null,null,null,null,null,null,null,null,null,null,"OX03 FOC MEM CARD",1117]
[{"$f":"IFERROR(IF(INDIRECT($A$14&ROW())<>\"\",COUNTIF([2]Summary!$B$30:$B$1029,INDIRECT($A$14&ROW())),\"\"),\"\")","v":""},null,null,null,null,null,null,null,null,null,null,null,null,null,null,null,null,null,null,null,null,null,null,null,null,null,null,null,null,null,null,null,null,null,null,null,null,null,null,null,null,null,null,null,null,null,null,null,null,null,null,null,null,null,null,null,null,null,null,null,null,null,null,null,null,null,null,null,null,null,null,null,null,null,null,null,null,null,null,null,null,null,null,null,null,null,null,null,null,null,null,"PA01 80001:COC SAUSG",16]
[{"$f":"IFERROR(IF(INDIRECT($A$14&ROW())<>\"\",COUNTIF([2]Summary!$B$30:$B$1029,INDIRECT($A$14&ROW())),\"\"),\"\")","v":""},null,null,null,null,null,null,null,null,null,null,null,null,null,null,null,null,null,null,null,null,null,null,null,null,null,null,null,null,null,null,null,null,null,null,null,null,null,null,null,null,null,null,null,null,null,null,null,null,null,null,null,null,null,null,null,null,null,null,null,null,null,null,null,null,null,null,null,null,null,null,null,null,null,null,null,null,null,null,null,null,null,null,null,null,null,null,null,null,null,null,"PA02 80002:BEEF BAL",36]
[{"$f":"IFERROR(IF(INDIRECT($A$14&ROW())<>\"\",COUNTIF([2]Summary!$B$30:$B$1029,INDIRECT($A$14&ROW())),\"\"),\"\")","v":""},null,null,null,null,null,null,null,null,null,null,null,null,null,null,null,null,null,null,null,null,null,null,null,null,null,null,null,null,null,null,null,null,null,null,null,null,null,null,null,null,null,null,null,null,null,null,null,null,null,null,null,null,null,null,null,null,null,null,null,null,null,null,null,null,null,null,null,null,null,null,null,null,null,null,null,null,null,null,null,null,null,null,null,null,null,null,null,null,null,null,"Setia Walk Puchong"]
[{"$f":"IFERROR(IF(INDIRECT($A$14&ROW())<>\"\",COUNTIF([2]Summary!$B$30:$B$1029,INDIRECT($A$14&ROW())),\"\"),\"\")","v":""},null,null,null,null,null,null,null,null,null,null,null,null,null,null,null,null,null,null,null,null,null,null,null,null,null,null,null,null,null,null,null,null,null,null,null,null,null,null,null,null,null,null,null,null,null,null,null,null,null,null,null,null,null,null,null,null,null,null,null,null,null,null,null,null,null,null,null,null,null,null,null,null,null,null,null,null,null,null,null,null,null,null,null,null,null,null,null,null,null,null,"Sales Mix Report #2"]
[{"$f":"IFERROR(IF(INDIRECT($A$14&ROW())<>\"\",COUNTIF([2]Summary!$B$30:$B$1029,INDIRECT($A$14&ROW())),\"\"),\"\")","v":""},null,null,null,null,null,null,null,null,null,null,null,null,null,null,null,null,null,null,null,null,null,null,null,null,null,null,null,null,null,null,null,null,null,null,null,null,null,null,null,null,null,null,null,null,null,null,null,null,null,null,null,null,null,null,null,null,null,null,null,null,null,null,null,null,null,null,null,null,null,null,null,null,null,null,null,null,null,null,null,null,null,null,null,null,null,null,null,null,null,null,""]
[{"$f":"IFERROR(IF(INDIRECT($A$14&ROW())<>\"\",COUNTIF([2]Summary!$B$30:$B$1029,INDIRECT($A$14&ROW())),\"\"),\"\")","v":""},null,null,null,null,null,null,null,null,null,null,null,null,null,null,null,null,null,null,null,null,null,null,null,null,null,null,null,null,null,null,null,null,null,null,null,null,null,null,null,null,null,null,null,null,null,null,null,null,null,null,null,null,null,null,null,null,null,null,null,null,null,null,null,null,null,null,null,null,null,null,null,null,null,null,null,null,null,null,null,null,null,null,null,null,null,null,null,null,null,null,"Date: From 2014/01/01 (Wed) to 2014/01/31 (Fri)"]
[{"$f":"IFERROR(IF(INDIRECT($A$14&ROW())<>\"\",COUNTIF([2]Summary!$B$30:$B$1029,INDIRECT($A$14&ROW())),\"\"),\"\")","v":""},null,null,null,null,null,null,null,null,null,null,null,null,null,null,null,null,null,null,null,null,null,null,null,null,null,null,null,null,null,null,null,null,null,null,null,null,null,null,null,null,null,null,null,null,null,null,null,null,null,null,null,null,null,null,null,null,null,null,null,null,null,null,null,null,null,null,null,null,null,null,null,null,null,null,null,null,null,null,null,null,null,null,null,null,null,null,null,null,null,null,"Item Description","Dine In"]
[{"$f":"IFERROR(IF(INDIRECT($A$14&ROW())<>\"\",COUNTIF([2]Summary!$B$30:$B$1029,INDIRECT($A$14&ROW())),\"\"),\"\")","v":""},null,null,null,null,null,null,null,null,null,null,null,null,null,null,null,null,null,null,null,null,null,null,null,null,null,null,null,null,null,null,null,null,null,null,null,null,null,null,null,null,null,null,null,null,null,null,null,null,null,null,null,null,null,null,null,null,null,null,null,null,null,null,null,null,null,null,null,null,null,null,null,null,null,null,null,null,null,null,null,null,null,null,null,null,null,null,null,null,null,null,"PA03 80003:CHK KIDNEY",26]
[{"$f":"IFERROR(IF(INDIRECT($A$14&ROW())<>\"\",COUNTIF([2]Summary!$B$30:$B$1029,INDIRECT($A$14&ROW())),\"\"),\"\")","v":""},null,null,null,null,null,null,null,null,null,null,null,null,null,null,null,null,null,null,null,null,null,null,null,null,null,null,null,null,null,null,null,null,null,null,null,null,null,null,null,null,null,null,null,null,null,null,null,null,null,null,null,null,null,null,null,null,null,null,null,null,null,null,null,null,null,null,null,null,null,null,null,null,null,null,null,null,null,null,null,null,null,null,null,null,null,null,null,null,null,null,"PA04 80004:CHK LIVER",9]
[{"$f":"IFERROR(IF(INDIRECT($A$14&ROW())<>\"\",COUNTIF([2]Summary!$B$30:$B$1029,INDIRECT($A$14&ROW())),\"\"),\"\")","v":""},null,null,null,null,null,null,null,null,null,null,null,null,null,null,null,null,null,null,null,null,null,null,null,null,null,null,null,null,null,null,null,null,null,null,null,null,null,null,null,null,null,null,null,null,null,null,null,null,null,null,null,null,null,null,null,null,null,null,null,null,null,null,null,null,null,null,null,null,null,null,null,null,null,null,null,null,null,null,null,null,null,null,null,null,null,null,null,null,null,null,"PA05 80005:CHEE SAUSG",59]
[{"$f":"IFERROR(IF(INDIRECT($A$14&ROW())<>\"\",COUNTIF([2]Summary!$B$30:$B$1029,INDIRECT($A$14&ROW())),\"\"),\"\")","v":""},null,null,null,null,null,null,null,null,null,null,null,null,null,null,null,null,null,null,null,null,null,null,null,null,null,null,null,null,null,null,null,null,null,null,null,null,null,null,null,null,null,null,null,null,null,null,null,null,null,null,null,null,null,null,null,null,null,null,null,null,null,null,null,null,null,null,null,null,null,null,null,null,null,null,null,null,null,null,null,null,null,null,null,null,null,null,null,null,null,null,"PA06 80006:BP SAUSG",36]
[{"$f":"IFERROR(IF(INDIRECT($A$14&ROW())<>\"\",COUNTIF([2]Summary!$B$30:$B$1029,INDIRECT($A$14&ROW())),\"\"),\"\")","v":""},null,null,null,null,null,null,null,null,null,null,null,null,null,null,null,null,null,null,null,null,null,null,null,null,null,null,null,null,null,null,null,null,null,null,null,null,null,null,null,null,null,null,null,null,null,null,null,null,null,null,null,null,null,null,null,null,null,null,null,null,null,null,null,null,null,null,null,null,null,null,null,null,null,null,null,null,null,null,null,null,null,null,null,null,null,null,null,null,null,null,"PA07 80007:PANDAN CHK",25]
[{"$f":"IFERROR(IF(INDIRECT($A$14&ROW())<>\"\",COUNTIF([2]Summary!$B$30:$B$1029,INDIRECT($A$14&ROW())),\"\"),\"\")","v":""},null,null,null,null,null,null,null,null,null,null,null,null,null,null,null,null,null,null,null,null,null,null,null,null,null,null,null,null,null,null,null,null,null,null,null,null,null,null,null,null,null,null,null,null,null,null,null,null,null,null,null,null,null,null,null,null,null,null,null,null,null,null,null,null,null,null,null,null,null,null,null,null,null,null,null,null,null,null,null,null,null,null,null,null,null,null,null,null,null,null,"PA08 80008:DCK BREAST",11]
[{"$f":"IFERROR(IF(INDIRECT($A$14&ROW())<>\"\",COUNTIF([2]Summary!$B$30:$B$1029,INDIRECT($A$14&ROW())),\"\"),\"\")","v":""},null,null,null,null,null,null,null,null,null,null,null,null,null,null,null,null,null,null,null,null,null,null,null,null,null,null,null,null,null,null,null,null,null,null,null,null,null,null,null,null,null,null,null,null,null,null,null,null,null,null,null,null,null,null,null,null,null,null,null,null,null,null,null,null,null,null,null,null,null,null,null,null,null,null,null,null,null,null,null,null,null,null,null,null,null,null,null,null,null,null,"PA09 80009:CHK WING",55]
[{"$f":"IFERROR(IF(INDIRECT($A$14&ROW())<>\"\",COUNTIF([2]Summary!$B$30:$B$1029,INDIRECT($A$14&ROW())),\"\"),\"\")","v":""},null,null,null,null,null,null,null,null,null,null,null,null,null,null,null,null,null,null,null,null,null,null,null,null,null,null,null,null,null,null,null,null,null,null,null,null,null,null,null,null,null,null,null,null,null,null,null,null,null,null,null,null,null,null,null,null,null,null,null,null,null,null,null,null,null,null,null,null,null,null,null,null,null,null,null,null,null,null,null,null,null,null,null,null,null,null,null,null,null,null,"PB01 80010:BOTTON MR",20]
[{"$f":"IFERROR(IF(INDIRECT($A$14&ROW())<>\"\",COUNTIF([2]Summary!$B$30:$B$1029,INDIRECT($A$14&ROW())),\"\"),\"\")","v":""},null,null,null,null,null,null,null,null,null,null,null,null,null,null,null,null,null,null,null,null,null,null,null,null,null,null,null,null,null,null,null,null,null,null,null,null,null,null,null,null,null,null,null,null,null,null,null,null,null,null,null,null,null,null,null,null,null,null,null,null,null,null,null,null,null,null,null,null,null,null,null,null,null,null,null,null,null,null,null,null,null,null,null,null,null,null,null,null,null,null,"PB02 80011:KANG KONG",22]
[{"$f":"IFERROR(IF(INDIRECT($A$14&ROW())<>\"\",COUNTIF([2]Summary!$B$30:$B$1029,INDIRECT($A$14&ROW())),\"\"),\"\")","v":""},null,null,null,null,null,null,null,null,null,null,null,null,null,null,null,null,null,null,null,null,null,null,null,null,null,null,null,null,null,null,null,null,null,null,null,null,null,null,null,null,null,null,null,null,null,null,null,null,null,null,null,null,null,null,null,null,null,null,null,null,null,null,null,null,null,null,null,null,null,null,null,null,null,null,null,null,null,null,null,null,null,null,null,null,null,null,null,null,null,null,"PB03 80012:BROCCOLI",37]
[{"$f":"IFERROR(IF(INDIRECT($A$14&ROW())<>\"\",COUNTIF([2]Summary!$B$30:$B$1029,INDIRECT($A$14&ROW())),\"\"),\"\")","v":""},null,null,null,null,null,null,null,null,null,null,null,null,null,null,null,null,null,null,null,null,null,null,null,null,null,null,null,null,null,null,null,null,null,null,null,null,null,null,null,null,null,null,null,null,null,null,null,null,null,null,null,null,null,null,null,null,null,null,null,null,null,null,null,null,null,null,null,null,null,null,null,null,null,null,null,null,null,null,null,null,null,null,null,null,null,null,null,null,null,null,"PB04 80013:LONG BEAN",9]
[{"$f":"IFERROR(IF(INDIRECT($A$14&ROW())<>\"\",COUNTIF([2]Summary!$B$30:$B$1029,INDIRECT($A$14&ROW())),\"\"),\"\")","v":""},null,null,null,null,null,null,null,null,null,null,null,null,null,null,null,null,null,null,null,null,null,null,null,null,null,null,null,null,null,null,null,null,null,null,null,null,null,null,null,null,null,null,null,null,null,null,null,null,null,null,null,null,null,null,null,null,null,null,null,null,null,null,null,null,null,null,null,null,null,null,null,null,null,null,null,null,null,null,null,null,null,null,null,null,null,null,null,null,null,null,"PB05 80014:ABALO MR",55]
[{"$f":"IFERROR(IF(INDIRECT($A$14&ROW())<>\"\",COUNTIF([2]Summary!$B$30:$B$1029,INDIRECT($A$14&ROW())),\"\"),\"\")","v":""},null,null,null,null,null,null,null,null,null,null,null,null,null,null,null,null,null,null,null,null,null,null,null,null,null,null,null,null,null,null,null,null,null,null,null,null,null,null,null,null,null,null,null,null,null,null,null,null,null,null,null,null,null,null,null,null,null,null,null,null,null,null,null,null,null,null,null,null,null,null,null,null,null,null,null,null,null,null,null,null,null,null,null,null,null,null,null,null,null,null,"PB06 80015:STAKE MR",18]
[{"$f":"IFERROR(IF(INDIRECT($A$14&ROW())<>\"\",COUNTIF([2]Summary!$B$30:$B$1029,INDIRECT($A$14&ROW())),\"\"),\"\")","v":""},null,null,null,null,null,null,null,null,null,null,null,null,null,null,null,null,null,null,null,null,null,null,null,null,null,null,null,null,null,null,null,null,null,null,null,null,null,null,null,null,null,null,null,null,null,null,null,null,null,null,null,null,null,null,null,null,null,null,null,null,null,null,null,null,null,null,null,null,null,null,null,null,null,null,null,null,null,null,null,null,null,null,null,null,null,null,null,null,null,null,"PC01 80016:FSH MI CAK",13]
[{"$f":"IFERROR(IF(INDIRECT($A$14&ROW())<>\"\",COUNTIF([2]Summary!$B$30:$B$1029,INDIRECT($A$14&ROW())),\"\"),\"\")","v":""},null,null,null,null,null,null,null,null,null,null,null,null,null,null,null,null,null,null,null,null,null,null,null,null,null,null,null,null,null,null,null,null,null,null,null,null,null,null,null,null,null,null,null,null,null,null,null,null,null,null,null,null,null,null,null,null,null,null,null,null,null,null,null,null,null,null,null,null,null,null,null,null,null,null,null,null,null,null,null,null,null,null,null,null,null,null,null,null,null,null,"PC02 80017:SP FSH CAK",5]
[{"$f":"IFERROR(IF(INDIRECT($A$14&ROW())<>\"\",COUNTIF([2]Summary!$B$30:$B$1029,INDIRECT($A$14&ROW())),\"\"),\"\")","v":""},null,null,null,null,null,null,null,null,null,null,null,null,null,null,null,null,null,null,null,null,null,null,null,null,null,null,null,null,null,null,null,null,null,null,null,null,null,null,null,null,null,null,null,null,null,null,null,null,null,null,null,null,null,null,null,null,null,null,null,null,null,null,null,null,null,null,null,null,null,null,null,null,null,null,null,null,null,null,null,null,null,null,null,null,null,null,null,null,null,null,"PC03 80018:CLAM",19]
[{"$f":"IFERROR(IF(INDIRECT($A$14&ROW())<>\"\",COUNTIF([2]Summary!$B$30:$B$1029,INDIRECT($A$14&ROW())),\"\"),\"\")","v":""},null,null,null,null,null,null,null,null,null,null,null,null,null,null,null,null,null,null,null,null,null,null,null,null,null,null,null,null,null,null,null,null,null,null,null,null,null,null,null,null,null,null,null,null,null,null,null,null,null,null,null,null,null,null,null,null,null,null,null,null,null,null,null,null,null,null,null,null,null,null,null,null,null,null,null,null,null,null,null,null,null,null,null,null,null,null,null,null,null,null,"PC04 80019:FV FSH BAL",14]
[{"$f":"IFERROR(IF(INDIRECT($A$14&ROW())<>\"\",COUNTIF([2]Summary!$B$30:$B$1029,INDIRECT($A$14&ROW())),\"\"),\"\")","v":""},null,null,null,null,null,null,null,null,null,null,null,null,null,null,null,null,null,null,null,null,null,null,null,null,null,null,null,null,null,null,null,null,null,null,null,null,null,null,null,null,null,null,null,null,null,null,null,null,null,null,null,null,null,null,null,null,null,null,null,null,null,null,null,null,null,null,null,null,null,null,null,null,null,null,null,null,null,null,null,null,null,null,null,null,null,null,null,null,null,null,"PC05 80020:FSH BAL S",25]
[{"$f":"IFERROR(IF(INDIRECT($A$14&ROW())<>\"\",COUNTIF([2]Summary!$B$30:$B$1029,INDIRECT($A$14&ROW())),\"\"),\"\")","v":""},null,null,null,null,null,null,null,null,null,null,null,null,null,null,null,null,null,null,null,null,null,null,null,null,null,null,null,null,null,null,null,null,null,null,null,null,null,null,null,null,null,null,null,null,null,null,null,null,null,null,null,null,null,null,null,null,null,null,null,null,null,null,null,null,null,null,null,null,null,null,null,null,null,null,null,null,null,null,null,null,null,null,null,null,null,null,null,null,null,null,"PC06 80021:PRW BAL",7]
[{"$f":"IFERROR(IF(INDIRECT($A$14&ROW())<>\"\",COUNTIF([2]Summary!$B$30:$B$1029,INDIRECT($A$14&ROW())),\"\"),\"\")","v":""},null,null,null,null,null,null,null,null,null,null,null,null,null,null,null,null,null,null,null,null,null,null,null,null,null,null,null,null,null,null,null,null,null,null,null,null,null,null,null,null,null,null,null,null,null,null,null,null,null,null,null,null,null,null,null,null,null,null,null,null,null,null,null,null,null,null,null,null,null,null,null,null,null,null,null,null,null,null,null,null,null,null,null,null,null,null,null,null,null,null,"PC07 80022:ABALO SLC",9]
[{"$f":"IFERROR(IF(INDIRECT($A$14&ROW())<>\"\",COUNTIF([2]Summary!$B$30:$B$1029,INDIRECT($A$14&ROW())),\"\"),\"\")","v":""},null,null,null,null,null,null,null,null,null,null,null,null,null,null,null,null,null,null,null,null,null,null,null,null,null,null,null,null,null,null,null,null,null,null,null,null,null,null,null,null,null,null,null,null,null,null,null,null,null,null,null,null,null,null,null,null,null,null,null,null,null,null,null,null,null,null,null,null,null,null,null,null,null,null,null,null,null,null,null,null,null,null,null,null,null,null,null,null,null,null,"PC08 80023:FSH BAL B",16]
[{"$f":"IFERROR(IF(INDIRECT($A$14&ROW())<>\"\",COUNTIF([2]Summary!$B$30:$B$1029,INDIRECT($A$14&ROW())),\"\"),\"\")","v":""},null,null,null,null,null,null,null,null,null,null,null,null,null,null,null,null,null,null,null,null,null,null,null,null,null,null,null,null,null,null,null,null,null,null,null,null,null,null,null,null,null,null,null,null,null,null,null,null,null,null,null,null,null,null,null,null,null,null,null,null,null,null,null,null,null,null,null,null,null,null,null,null,null,null,null,null,null,null,null,null,null,null,null,null,null,null,null,null,null,null,"PC09 80024:TPURA PRW",20]
[{"$f":"IFERROR(IF(INDIRECT($A$14&ROW())<>\"\",COUNTIF([2]Summary!$B$30:$B$1029,INDIRECT($A$14&ROW())),\"\"),\"\")","v":""},null,null,null,null,null,null,null,null,null,null,null,null,null,null,null,null,null,null,null,null,null,null,null,null,null,null,null,null,null,null,null,null,null,null,null,null,null,null,null,null,null,null,null,null,null,null,null,null,null,null,null,null,null,null,null,null,null,null,null,null,null,null,null,null,null,null,null,null,null,null,null,null,null,null,null,null,null,null,null,null,null,null,null,null,null,null,null,null,null,null,"PC10 80025:CRB CLAW",5]
[{"$f":"IFERROR(IF(INDIRECT($A$14&ROW())<>\"\",COUNTIF([2]Summary!$B$30:$B$1029,INDIRECT($A$14&ROW())),\"\"),\"\")","v":""},null,null,null,null,null,null,null,null,null,null,null,null,null,null,null,null,null,null,null,null,null,null,null,null,null,null,null,null,null,null,null,null,null,null,null,null,null,null,null,null,null,null,null,null,null,null,null,null,null,null,null,null,null,null,null,null,null,null,null,null,null,null,null,null,null,null,null,null,null,null,null,null,null,null,null,null,null,null,null,null,null,null,null,null,null,null,null,null,null,null,"PC11 80026:SALMON BAL",27]
[{"$f":"IFERROR(IF(INDIRECT($A$14&ROW())<>\"\",COUNTIF([2]Summary!$B$30:$B$1029,INDIRECT($A$14&ROW())),\"\"),\"\")","v":""},null,null,null,null,null,null,null,null,null,null,null,null,null,null,null,null,null,null,null,null,null,null,null,null,null,null,null,null,null,null,null,null,null,null,null,null,null,null,null,null,null,null,null,null,null,null,null,null,null,null,null,null,null,null,null,null,null,null,null,null,null,null,null,null,null,null,null,null,null,null,null,null,null,null,null,null,null,null,null,null,null,null,null,null,null,null,null,null,null,null,"PC12 80027:FZ FSH BAL",9]
[{"$f":"IFERROR(IF(INDIRECT($A$14&ROW())<>\"\",COUNTIF([2]Summary!$B$30:$B$1029,INDIRECT($A$14&ROW())),\"\"),\"\")","v":""},null,null,null,null,null,null,null,null,null,null,null,null,null,null,null,null,null,null,null,null,null,null,null,null,null,null,null,null,null,null,null,null,null,null,null,null,null,null,null,null,null,null,null,null,null,null,null,null,null,null,null,null,null,null,null,null,null,null,null,null,null,null,null,null,null,null,null,null,null,null,null,null,null,null,null,null,null,null,null,null,null,null,null,null,null,null,null,null,null,null,"PC13 80028:SCLOP BAL",11]
[{"$f":"IFERROR(IF(INDIRECT($A$14&ROW())<>\"\",COUNTIF([2]Summary!$B$30:$B$1029,INDIRECT($A$14&ROW())),\"\"),\"\")","v":""},null,null,null,null,null,null,null,null,null,null,null,null,null,null,null,null,null,null,null,null,null,null,null,null,null,null,null,null,null,null,null,null,null,null,null,null,null,null,null,null,null,null,null,null,null,null,null,null,null,null,null,null,null,null,null,null,null,null,null,null,null,null,null,null,null,null,null,null,null,null,null,null,null,null,null,null,null,null,null,null,null,null,null,null,null,null,null,null,null,null,"PC14 80029:CFSH BAL",17]
[{"$f":"IFERROR(IF(INDIRECT($A$14&ROW())<>\"\",COUNTIF([2]Summary!$B$30:$B$1029,INDIRECT($A$14&ROW())),\"\"),\"\")","v":""},null,null,null,null,null,null,null,null,null,null,null,null,null,null,null,null,null,null,null,null,null,null,null,null,null,null,null,null,null,null,null,null,null,null,null,null,null,null,null,null,null,null,null,null,null,null,null,null,null,null,null,null,null,null,null,null,null,null,null,null,null,null,null,null,null,null,null,null,null,null,null,null,null,null,null,null,null,null,null,null,null,null,null,null,null,null,null,null,null,null,"PC15 80030:SF BAL",5]
[{"$f":"IFERROR(IF(INDIRECT($A$14&ROW())<>\"\",COUNTIF([2]Summary!$B$30:$B$1029,INDIRECT($A$14&ROW())),\"\"),\"\")","v":""},null,null,null,null,null,null,null,null,null,null,null,null,null,null,null,null,null,null,null,null,null,null,null,null,null,null,null,null,null,null,null,null,null,null,null,null,null,null,null,null,null,null,null,null,null,null,null,null,null,null,null,null,null,null,null,null,null,null,null,null,null,null,null,null,null,null,null,null,null,null,null,null,null,null,null,null,null,null,null,null,null,null,null,null,null,null,null,null,null,null,"PC16 80031:CTL FSH",7]
[{"$f":"IFERROR(IF(INDIRECT($A$14&ROW())<>\"\",COUNTIF([2]Summary!$B$30:$B$1029,INDIRECT($A$14&ROW())),\"\"),\"\")","v":""},null,null,null,null,null,null,null,null,null,null,null,null,null,null,null,null,null,null,null,null,null,null,null,null,null,null,null,null,null,null,null,null,null,null,null,null,null,null,null,null,null,null,null,null,null,null,null,null,null,null,null,null,null,null,null,null,null,null,null,null,null,null,null,null,null,null,null,null,null,null,null,null,null,null,null,null,null,null,null,null,null,null,null,null,null,null,null,null,null,null,"PD01 80032:FSHP EGGPL",11]
[{"$f":"IFERROR(IF(INDIRECT($A$14&ROW())<>\"\",COUNTIF([2]Summary!$B$30:$B$1029,INDIRECT($A$14&ROW())),\"\"),\"\")","v":""},null,null,null,null,null,null,null,null,null,null,null,null,null,null,null,null,null,null,null,null,null,null,null,null,null,null,null,null,null,null,null,null,null,null,null,null,null,null,null,null,null,null,null,null,null,null,null,null,null,null,null,null,null,null,null,null,null,null,null,null,null,null,null,null,null,null,null,null,null,null,null,null,null,null,null,null,null,null,null,null,null,null,null,null,null,null,null,null,null,null,"PD02 80033:FSHP CL",5]
[{"$f":"IFERROR(IF(INDIRECT($A$14&ROW())<>\"\",COUNTIF([2]Summary!$B$30:$B$1029,INDIRECT($A$14&ROW())),\"\"),\"\")","v":""},null,null,null,null,null,null,null,null,null,null,null,null,null,null,null,null,null,null,null,null,null,null,null,null,null,null,null,null,null,null,null,null,null,null,null,null,null,null,null,null,null,null,null,null,null,null,null,null,null,null,null,null,null,null,null,null,null,null,null,null,null,null,null,null,null,null,null,null,null,null,null,null,null,null,null,null,null,null,null,null,null,null,null,null,null,null,null,null,null,null,"PD03 80034:FSHP LF",14]
[{"$f":"IFERROR(IF(INDIRECT($A$14&ROW())<>\"\",COUNTIF([2]Summary!$B$30:$B$1029,INDIRECT($A$14&ROW())),\"\"),\"\")","v":""},null,null,null,null,null,null,null,null,null,null,null,null,null,null,null,null,null,null,null,null,null,null,null,null,null,null,null,null,null,null,null,null,null,null,null,null,null,null,null,null,null,null,null,null,null,null,null,null,null,null,null,null,null,null,null,null,null,null,null,null,null,null,null,null,null,null,null,null,null,null,null,null,null,null,null,null,null,null,null,null,null,null,null,null,null,null,null,null,null,null,"PD04 80035:CRS BCURD",36]
[{"$f":"IFERROR(IF(INDIRECT($A$14&ROW())<>\"\",COUNTIF([2]Summary!$B$30:$B$1029,INDIRECT($A$14&ROW())),\"\"),\"\")","v":""},null,null,null,null,null,null,null,null,null,null,null,null,null,null,null,null,null,null,null,null,null,null,null,null,null,null,null,null,null,null,null,null,null,null,null,null,null,null,null,null,null,null,null,null,null,null,null,null,null,null,null,null,null,null,null,null,null,null,null,null,null,null,null,null,null,null,null,null,null,null,null,null,null,null,null,null,null,null,null,null,null,null,null,null,null,null,null,null,null,null,"PD05 80036:QUAIL EGGS",32]
[{"$f":"IFERROR(IF(INDIRECT($A$14&ROW())<>\"\",COUNTIF([2]Summary!$B$30:$B$1029,INDIRECT($A$14&ROW())),\"\"),\"\")","v":""},null,null,null,null,null,null,null,null,null,null,null,null,null,null,null,null,null,null,null,null,null,null,null,null,null,null,null,null,null,null,null,null,null,null,null,null,null,null,null,null,null,null,null,null,null,null,null,null,null,null,null,null,null,null,null,null,null,null,null,null,null,null,null,null,null,null,null,null,null,null,null,null,null,null,null,null,null,null,null,null,null,null,null,null,null,null,null,null,null,null,"PD06 80037:F WANTON",26]
[{"$f":"IFERROR(IF(INDIRECT($A$14&ROW())<>\"\",COUNTIF([2]Summary!$B$30:$B$1029,INDIRECT($A$14&ROW())),\"\"),\"\")","v":""},null,null,null,null,null,null,null,null,null,null,null,null,null,null,null,null,null,null,null,null,null,null,null,null,null,null,null,null,null,null,null,null,null,null,null,null,null,null,null,null,null,null,null,null,null,null,null,null,null,null,null,null,null,null,null,null,null,null,null,null,null,null,null,null,null,null,null,null,null,null,null,null,null,null,null,null,null,null,null,null,null,null,null,null,null,null,null,null,null,null,"PD07 80038:LGP SAMOSA",2]
[{"$f":"IFERROR(IF(INDIRECT($A$14&ROW())<>\"\",COUNTIF([2]Summary!$B$30:$B$1029,INDIRECT($A$14&ROW())),\"\"),\"\")","v":""},null,null,null,null,null,null,null,null,null,null,null,null,null,null,null,null,null,null,null,null,null,null,null,null,null,null,null,null,null,null,null,null,null,null,null,null,null,null,null,null,null,null,null,null,null,null,null,null,null,null,null,null,null,null,null,null,null,null,null,null,null,null,null,null,null,null,null,null,null,null,null,null,null,null,null,null,null,null,null,null,null,null,null,null,null,null,null,null,null,null,"PD08 80039:VEGE BAL",26]
[{"$f":"IFERROR(IF(INDIRECT($A$14&ROW())<>\"\",COUNTIF([2]Summary!$B$30:$B$1029,INDIRECT($A$14&ROW())),\"\"),\"\")","v":""},null,null,null,null,null,null,null,null,null,null,null,null,null,null,null,null,null,null,null,null,null,null,null,null,null,null,null,null,null,null,null,null,null,null,null,null,null,null,null,null,null,null,null,null,null,null,null,null,null,null,null,null,null,null,null,null,null,null,null,null,null,null,null,null,null,null,null,null,null,null,null,null,null,null,null,null,null,null,null,null,null,null,null,null,null,null,null,null,null,null,"PD09 80040:SF TF",38]
[{"$f":"IFERROR(IF(INDIRECT($A$14&ROW())<>\"\",COUNTIF([2]Summary!$B$30:$B$1029,INDIRECT($A$14&ROW())),\"\"),\"\")","v":""},null,null,null,null,null,null,null,null,null,null,null,null,null,null,null,null,null,null,null,null,null,null,null,null,null,null,null,null,null,null,null,null,null,null,null,null,null,null,null,null,null,null,null,null,null,null,null,null,null,null,null,null,null,null,null,null,null,null,null,null,null,null,null,null,null,null,null,null,null,null,null,null,null,null,null,null,null,null,null,null,null,null,null,null,null,null,null,null,null,null,"PD10 80041:SPRING RL",20]
[{"$f":"IFERROR(IF(INDIRECT($A$14&ROW())<>\"\",COUNTIF([2]Summary!$B$30:$B$1029,INDIRECT($A$14&ROW())),\"\"),\"\")","v":""},null,null,null,null,null,null,null,null,null,null,null,null,null,null,null,null,null,null,null,null,null,null,null,null,null,null,null,null,null,null,null,null,null,null,null,null,null,null,null,null,null,null,null,null,null,null,null,null,null,null,null,null,null,null,null,null,null,null,null,null,null,null,null,null,null,null,null,null,null,null,null,null,null,null,null,null,null,null,null,null,null,null,null,null,null,null,null,null,null,null,"PD11 80042:QC EGGS",20]
[{"$f":"IFERROR(IF(INDIRECT($A$14&ROW())<>\"\",COUNTIF([2]Summary!$B$30:$B$1029,INDIRECT($A$14&ROW())),\"\"),\"\")","v":""},null,null,null,null,null,null,null,null,null,null,null,null,null,null,null,null,null,null,null,null,null,null,null,null,null,null,null,null,null,null,null,null,null,null,null,null,null,null,null,null,null,null,null,null,null,null,null,null,null,null,null,null,null,null,null,null,null,null,null,null,null,null,null,null,null,null,null,null,null,null,null,null,null,null,null,null,null,null,null,null,null,null,null,null,null,null,null,null,null,null,"PD12 80043:THAI RL",8]
[{"$f":"IFERROR(IF(INDIRECT($A$14&ROW())<>\"\",COUNTIF([2]Summary!$B$30:$B$1029,INDIRECT($A$14&ROW())),\"\"),\"\")","v":""},null,null,null,null,null,null,null,null,null,null,null,null,null,null,null,null,null,null,null,null,null,null,null,null,null,null,null,null,null,null,null,null,null,null,null,null,null,null,null,null,null,null,null,null,null,null,null,null,null,null,null,null,null,null,null,null,null,null,null,null,null,null,null,null,null,null,null,null,null,null,null,null,null,null,null,null,null,null,null,null,null,null,null,null,null,null,null,null,null,null,"PD13 80044:CHEE SF TF",28]
[{"$f":"IFERROR(IF(INDIRECT($A$14&ROW())<>\"\",COUNTIF([2]Summary!$B$30:$B$1029,INDIRECT($A$14&ROW())),\"\"),\"\")","v":""},null,null,null,null,null,null,null,null,null,null,null,null,null,null,null,null,null,null,null,null,null,null,null,null,null,null,null,null,null,null,null,null,null,null,null,null,null,null,null,null,null,null,null,null,null,null,null,null,null,null,null,null,null,null,null,null,null,null,null,null,null,null,null,null,null,null,null,null,null,null,null,null,null,null,null,null,null,null,null,null,null,null,null,null,null,null,null,null,null,null,"PE01 LOK PACKAGE A",7]
[{"$f":"IFERROR(IF(INDIRECT($A$14&ROW())<>\"\",COUNTIF([2]Summary!$B$30:$B$1029,INDIRECT($A$14&ROW())),\"\"),\"\")","v":""},null,null,null,null,null,null,null,null,null,null,null,null,null,null,null,null,null,null,null,null,null,null,null,null,null,null,null,null,null,null,null,null,null,null,null,null,null,null,null,null,null,null,null,null,null,null,null,null,null,null,null,null,null,null,null,null,null,null,null,null,null,null,null,null,null,null,null,null,null,null,null,null,null,null,null,null,null,null,null,null,null,null,null,null,null,null,null,null,null,null,"PE02 LOK PACKAGE B",12]
[{"$f":"IFERROR(IF(INDIRECT($A$14&ROW())<>\"\",COUNTIF([2]Summary!$B$30:$B$1029,INDIRECT($A$14&ROW())),\"\"),\"\")","v":""},null,null,null,null,null,null,null,null,null,null,null,null,null,null,null,null,null,null,null,null,null,null,null,null,null,null,null,null,null,null,null,null,null,null,null,null,null,null,null,null,null,null,null,null,null,null,null,null,null,null,null,null,null,null,null,null,null,null,null,null,null,null,null,null,null,null,null,null,null,null,null,null,null,null,null,null,null,null,null,null,null,null,null,null,null,null,null,null,null,null,"RQ01 1601:ADD RICE",11]
[{"$f":"IFERROR(IF(INDIRECT($A$14&ROW())<>\"\",COUNTIF([2]Summary!$B$30:$B$1029,INDIRECT($A$14&ROW())),\"\"),\"\")","v":""},null,null,null,null,null,null,null,null,null,null,null,null,null,null,null,null,null,null,null,null,null,null,null,null,null,null,null,null,null,null,null,null,null,null,null,null,null,null,null,null,null,null,null,null,null,null,null,null,null,null,null,null,null,null,null,null,null,null,null,null,null,null,null,null,null,null,null,null,null,null,null,null,null,null,null,null,null,null,null,null,null,null,null,null,null,null,null,null,null,null,"RQ02 1602:ADD F.EGG",6]
[{"$f":"IFERROR(IF(INDIRECT($A$14&ROW())<>\"\",COUNTIF([2]Summary!$B$30:$B$1029,INDIRECT($A$14&ROW())),\"\"),\"\")","v":""},null,null,null,null,null,null,null,null,null,null,null,null,null,null,null,null,null,null,null,null,null,null,null,null,null,null,null,null,null,null,null,null,null,null,null,null,null,null,null,null,null,null,null,null,null,null,null,null,null,null,null,null,null,null,null,null,null,null,null,null,null,null,null,null,null,null,null,null,null,null,null,null,null,null,null,null,null,null,null,null,null,null,null,null,null,null,null,null,null,null,"RQ03 ADD SAUCE 1000",5]
[{"$f":"IFERROR(IF(INDIRECT($A$14&ROW())<>\"\",COUNTIF([2]Summary!$B$30:$B$1029,INDIRECT($A$14&ROW())),\"\"),\"\")","v":""},null,null,null,null,null,null,null,null,null,null,null,null,null,null,null,null,null,null,null,null,null,null,null,null,null,null,null,null,null,null,null,null,null,null,null,null,null,null,null,null,null,null,null,null,null,null,null,null,null,null,null,null,null,null,null,null,null,null,null,null,null,null,null,null,null,null,null,null,null,null,null,null,null,null,null,null,null,null,null,null,null,null,null,null,null,null,null,null,null,null,"RQ05 ADD SAUCE BP",2]
[{"$f":"IFERROR(IF(INDIRECT($A$14&ROW())<>\"\",COUNTIF([2]Summary!$B$30:$B$1029,INDIRECT($A$14&ROW())),\"\"),\"\")","v":""},null,null,null,null,null,null,null,null,null,null,null,null,null,null,null,null,null,null,null,null,null,null,null,null,null,null,null,null,null,null,null,null,null,null,null,null,null,null,null,null,null,null,null,null,null,null,null,null,null,null,null,null,null,null,null,null,null,null,null,null,null,null,null,null,null,null,null,null,null,null,null,null,null,null,null,null,null,null,null,null,null,null,null,null,null,null,null,null,null,null,"RQ06 ADD SAUCE BUTTER",4]
[{"$f":"IFERROR(IF(INDIRECT($A$14&ROW())<>\"\",COUNTIF([2]Summary!$B$30:$B$1029,INDIRECT($A$14&ROW())),\"\"),\"\")","v":""},null,null,null,null,null,null,null,null,null,null,null,null,null,null,null,null,null,null,null,null,null,null,null,null,null,null,null,null,null,null,null,null,null,null,null,null,null,null,null,null,null,null,null,null,null,null,null,null,null,null,null,null,null,null,null,null,null,null,null,null,null,null,null,null,null,null,null,null,null,null,null,null,null,null,null,null,null,null,null,null,null,null,null,null,null,null,null,null,null,null,"RQ07 ADD SAUCE C.PADI",21]
[{"$f":"IFERROR(IF(INDIRECT($A$14&ROW())<>\"\",COUNTIF([2]Summary!$B$30:$B$1029,INDIRECT($A$14&ROW())),\"\"),\"\")","v":""},null,null,null,null,null,null,null,null,null,null,null,null,null,null,null,null,null,null,null,null,null,null,null,null,null,null,null,null,null,null,null,null,null,null,null,null,null,null,null,null,null,null,null,null,null,null,null,null,null,null,null,null,null,null,null,null,null,null,null,null,null,null,null,null,null,null,null,null,null,null,null,null,null,null,null,null,null,null,null,null,null,null,null,null,null,null,null,null,null,null,"Setia Walk Puchong"]
[{"$f":"IFERROR(IF(INDIRECT($A$14&ROW())<>\"\",COUNTIF([2]Summary!$B$30:$B$1029,INDIRECT($A$14&ROW())),\"\"),\"\")","v":""},null,null,null,null,null,null,null,null,null,null,null,null,null,null,null,null,null,null,null,null,null,null,null,null,null,null,null,null,null,null,null,null,null,null,null,null,null,null,null,null,null,null,null,null,null,null,null,null,null,null,null,null,null,null,null,null,null,null,null,null,null,null,null,null,null,null,null,null,null,null,null,null,null,null,null,null,null,null,null,null,null,null,null,null,null,null,null,null,null,null,"Sales Mix Report #2"]
[{"$f":"IFERROR(IF(INDIRECT($A$14&ROW())<>\"\",COUNTIF([2]Summary!$B$30:$B$1029,INDIRECT($A$14&ROW())),\"\"),\"\")","v":""},null,null,null,null,null,null,null,null,null,null,null,null,null,null,null,null,null,null,null,null,null,null,null,null,null,null,null,null,null,null,null,null,null,null,null,null,null,null,null,null,null,null,null,null,null,null,null,null,null,null,null,null,null,null,null,null,null,null,null,null,null,null,null,null,null,null,null,null,null,null,null,null,null,null,null,null,null,null,null,null,null,null,null,null,null,null,null,null,null,null,""]
[{"$f":"IFERROR(IF(INDIRECT($A$14&ROW())<>\"\",COUNTIF([2]Summary!$B$30:$B$1029,INDIRECT($A$14&ROW())),\"\"),\"\")","v":""},null,null,null,null,null,null,null,null,null,null,null,null,null,null,null,null,null,null,null,null,null,null,null,null,null,null,null,null,null,null,null,null,null,null,null,null,null,null,null,null,null,null,null,null,null,null,null,null,null,null,null,null,null,null,null,null,null,null,null,null,null,null,null,null,null,null,null,null,null,null,null,null,null,null,null,null,null,null,null,null,null,null,null,null,null,null,null,null,null,null,"Date: From 2014/01/01 (Wed) to 2014/01/31 (Fri)"]
[{"$f":"IFERROR(IF(INDIRECT($A$14&ROW())<>\"\",COUNTIF([2]Summary!$B$30:$B$1029,INDIRECT($A$14&ROW())),\"\"),\"\")","v":""},null,null,null,null,null,null,null,null,null,null,null,null,null,null,null,null,null,null,null,null,null,null,null,null,null,null,null,null,null,null,null,null,null,null,null,null,null,null,null,null,null,null,null,null,null,null,null,null,null,null,null,null,null,null,null,null,null,null,null,null,null,null,null,null,null,null,null,null,null,null,null,null,null,null,null,null,null,null,null,null,null,null,null,null,null,null,null,null,null,null,"Item Description","Dine In"]
[{"$f":"IFERROR(IF(INDIRECT($A$14&ROW())<>\"\",COUNTIF([2]Summary!$B$30:$B$1029,INDIRECT($A$14&ROW())),\"\"),\"\")","v":""},null,null,null,null,null,null,null,null,null,null,null,null,null,null,null,null,null,null,null,null,null,null,null,null,null,null,null,null,null,null,null,null,null,null,null,null,null,null,null,null,null,null,null,null,null,null,null,null,null,null,null,null,null,null,null,null,null,null,null,null,null,null,null,null,null,null,null,null,null,null,null,null,null,null,null,null,null,null,null,null,null,null,null,null,null,null,null,null,null,null,"RQ08 ADD SAUCE CHEESE",24]
[{"$f":"IFERROR(IF(INDIRECT($A$14&ROW())<>\"\",COUNTIF([2]Summary!$B$30:$B$1029,INDIRECT($A$14&ROW())),\"\"),\"\")","v":""},null,null,null,null,null,null,null,null,null,null,null,null,null,null,null,null,null,null,null,null,null,null,null,null,null,null,null,null,null,null,null,null,null,null,null,null,null,null,null,null,null,null,null,null,null,null,null,null,null,null,null,null,null,null,null,null,null,null,null,null,null,null,null,null,null,null,null,null,null,null,null,null,null,null,null,null,null,null,null,null,null,null,null,null,null,null,null,null,null,null,"RQ09 ADD SAUCE GS",4]
[{"$f":"IFERROR(IF(INDIRECT($A$14&ROW())<>\"\",COUNTIF([2]Summary!$B$30:$B$1029,INDIRECT($A$14&ROW())),\"\"),\"\")","v":""},null,null,null,null,null,null,null,null,null,null,null,null,null,null,null,null,null,null,null,null,null,null,null,null,null,null,null,null,null,null,null,null,null,null,null,null,null,null,null,null,null,null,null,null,null,null,null,null,null,null,null,null,null,null,null,null,null,null,null,null,null,null,null,null,null,null,null,null,null,null,null,null,null,null,null,null,null,null,null,null,null,null,null,null,null,null,null,null,null,null,"RQ10 ADD SAUCE MAYO",42]
[{"$f":"IFERROR(IF(INDIRECT($A$14&ROW())<>\"\",COUNTIF([2]Summary!$B$30:$B$1029,INDIRECT($A$14&ROW())),\"\"),\"\")","v":""},null,null,null,null,null,null,null,null,null,null,null,null,null,null,null,null,null,null,null,null,null,null,null,null,null,null,null,null,null,null,null,null,null,null,null,null,null,null,null,null,null,null,null,null,null,null,null,null,null,null,null,null,null,null,null,null,null,null,null,null,null,null,null,null,null,null,null,null,null,null,null,null,null,null,null,null,null,null,null,null,null,null,null,null,null,null,null,null,null,null,"RQ11 ADD SAUCE MAMITE",3]
[{"$f":"IFERROR(IF(INDIRECT($A$14&ROW())<>\"\",COUNTIF([2]Summary!$B$30:$B$1029,INDIRECT($A$14&ROW())),\"\"),\"\")","v":""},null,null,null,null,null,null,null,null,null,null,null,null,null,null,null,null,null,null,null,null,null,null,null,null,null,null,null,null,null,null,null,null,null,null,null,null,null,null,null,null,null,null,null,null,null,null,null,null,null,null,null,null,null,null,null,null,null,null,null,null,null,null,null,null,null,null,null,null,null,null,null,null,null,null,null,null,null,null,null,null,null,null,null,null,null,null,null,null,null,null,"RQ12 ADD SAUCE MR",7]
[{"$f":"IFERROR(IF(INDIRECT($A$14&ROW())<>\"\",COUNTIF([2]Summary!$B$30:$B$1029,INDIRECT($A$14&ROW())),\"\"),\"\")","v":""},null,null,null,null,null,null,null,null,null,null,null,null,null,null,null,null,null,null,null,null,null,null,null,null,null,null,null,null,null,null,null,null,null,null,null,null,null,null,null,null,null,null,null,null,null,null,null,null,null,null,null,null,null,null,null,null,null,null,null,null,null,null,null,null,null,null,null,null,null,null,null,null,null,null,null,null,null,null,null,null,null,null,null,null,null,null,null,null,null,null,"RQ13 ADD SAUCE SAMBAL",2]
[{"$f":"IFERROR(IF(INDIRECT($A$14&ROW())<>\"\",COUNTIF([2]Summary!$B$30:$B$1029,INDIRECT($A$14&ROW())),\"\"),\"\")","v":""},null,null,null,null,null,null,null,null,null,null,null,null,null,null,null,null,null,null,null,null,null,null,null,null,null,null,null,null,null,null,null,null,null,null,null,null,null,null,null,null,null,null,null,null,null,null,null,null,null,null,null,null,null,null,null,null,null,null,null,null,null,null,null,null,null,null,null,null,null,null,null,null,null,null,null,null,null,null,null,null,null,null,null,null,null,null,null,null,null,null,"RQ14 ADD SAUCE TARTAR",4]
[{"$f":"IFERROR(IF(INDIRECT($A$14&ROW())<>\"\",COUNTIF([2]Summary!$B$30:$B$1029,INDIRECT($A$14&ROW())),\"\"),\"\")","v":""},null,null,null,null,null,null,null,null,null,null,null,null,null,null,null,null,null,null,null,null,null,null,null,null,null,null,null,null,null,null,null,null,null,null,null,null,null,null,null,null,null,null,null,null,null,null,null,null,null,null,null,null,null,null,null,null,null,null,null,null,null,null,null,null,null,null,null,null,null,null,null,null,null,null,null,null,null,null,null,null,null,null,null,null,null,null,null,null,null,null,"RQ16 ADD SAUCE TOMATO",14]
[{"$f":"IFERROR(IF(INDIRECT($A$14&ROW())<>\"\",COUNTIF([2]Summary!$B$30:$B$1029,INDIRECT($A$14&ROW())),\"\"),\"\")","v":""},null,null,null,null,null,null,null,null,null,null,null,null,null,null,null,null,null,null,null,null,null,null,null,null,null,null,null,null,null,null,null,null,null,null,null,null,null,null,null,null,null,null,null,null,null,null,null,null,null,null,null,null,null,null,null,null,null,null,null,null,null,null,null,null,null,null,null,null,null,null,null,null,null,null,null,null,null,null,null,null,null,null,null,null,null,null,null,null,null,null,"SF01 92601:GRAPE SO",81]
[{"$f":"IFERROR(IF(INDIRECT($A$14&ROW())<>\"\",COUNTIF([2]Summary!$B$30:$B$1029,INDIRECT($A$14&ROW())),\"\"),\"\")","v":""},null,null,null,null,null,null,null,null,null,null,null,null,null,null,null,null,null,null,null,null,null,null,null,null,null,null,null,null,null,null,null,null,null,null,null,null,null,null,null,null,null,null,null,null,null,null,null,null,null,null,null,null,null,null,null,null,null,null,null,null,null,null,null,null,null,null,null,null,null,null,null,null,null,null,null,null,null,null,null,null,null,null,null,null,null,null,null,null,null,null,"SF02 92602:APPLE SO",47]
[{"$f":"IFERROR(IF(INDIRECT($A$14&ROW())<>\"\",COUNTIF([2]Summary!$B$30:$B$1029,INDIRECT($A$14&ROW())),\"\"),\"\")","v":""},null,null,null,null,null,null,null,null,null,null,null,null,null,null,null,null,null,null,null,null,null,null,null,null,null,null,null,null,null,null,null,null,null,null,null,null,null,null,null,null,null,null,null,null,null,null,null,null,null,null,null,null,null,null,null,null,null,null,null,null,null,null,null,null,null,null,null,null,null,null,null,null,null,null,null,null,null,null,null,null,null,null,null,null,null,null,null,null,null,null,"SF03 92603:MANGO SO",41]
[{"$f":"IFERROR(IF(INDIRECT($A$14&ROW())<>\"\",COUNTIF([2]Summary!$B$30:$B$1029,INDIRECT($A$14&ROW())),\"\"),\"\")","v":""},null,null,null,null,null,null,null,null,null,null,null,null,null,null,null,null,null,null,null,null,null,null,null,null,null,null,null,null,null,null,null,null,null,null,null,null,null,null,null,null,null,null,null,null,null,null,null,null,null,null,null,null,null,null,null,null,null,null,null,null,null,null,null,null,null,null,null,null,null,null,null,null,null,null,null,null,null,null,null,null,null,null,null,null,null,null,null,null,null,null,"SF04 92604:PASSION SO",82]
[{"$f":"IFERROR(IF(INDIRECT($A$14&ROW())<>\"\",COUNTIF([2]Summary!$B$30:$B$1029,INDIRECT($A$14&ROW())),\"\"),\"\")","v":""},null,null,null,null,null,null,null,null,null,null,null,null,null,null,null,null,null,null,null,null,null,null,null,null,null,null,null,null,null,null,null,null,null,null,null,null,null,null,null,null,null,null,null,null,null,null,null,null,null,null,null,null,null,null,null,null,null,null,null,null,null,null,null,null,null,null,null,null,null,null,null,null,null,null,null,null,null,null,null,null,null,null,null,null,null,null,null,null,null,null,"SF05 92605:RIBENA SO",95]
[{"$f":"IFERROR(IF(INDIRECT($A$14&ROW())<>\"\",COUNTIF([2]Summary!$B$30:$B$1029,INDIRECT($A$14&ROW())),\"\"),\"\")","v":""},null,null,null,null,null,null,null,null,null,null,null,null,null,null,null,null,null,null,null,null,null,null,null,null,null,null,null,null,null,null,null,null,null,null,null,null,null,null,null,null,null,null,null,null,null,null,null,null,null,null,null,null,null,null,null,null,null,null,null,null,null,null,null,null,null,null,null,null,null,null,null,null,null,null,null,null,null,null,null,null,null,null,null,null,null,null,null,null,null,null,"SM02 2802:APPLE SM",1]
[{"$f":"IFERROR(IF(INDIRECT($A$14&ROW())<>\"\",COUNTIF([2]Summary!$B$30:$B$1029,INDIRECT($A$14&ROW())),\"\"),\"\")","v":""},null,null,null,null,null,null,null,null,null,null,null,null,null,null,null,null,null,null,null,null,null,null,null,null,null,null,null,null,null,null,null,null,null,null,null,null,null,null,null,null,null,null,null,null,null,null,null,null,null,null,null,null,null,null,null,null,null,null,null,null,null,null,null,null,null,null,null,null,null,null,null,null,null,null,null,null,null,null,null,null,null,null,null,null,null,null,null,null,null,null,"SM05 2805:RIBENA SM",1]
[{"$f":"IFERROR(IF(INDIRECT($A$14&ROW())<>\"\",COUNTIF([2]Summary!$B$30:$B$1029,INDIRECT($A$14&ROW())),\"\"),\"\")","v":""},null,null,null,null,null,null,null,null,null,null,null,null,null,null,null,null,null,null,null,null,null,null,null,null,null,null,null,null,null,null,null,null,null,null,null,null,null,null,null,null,null,null,null,null,null,null,null,null,null,null,null,null,null,null,null,null,null,null,null,null,null,null,null,null,null,null,null,null,null,null,null,null,null,null,null,null,null,null,null,null,null,null,null,null,null,null,null,null,null,null,"WA01 2026:BM WATER",6]
[{"$f":"IFERROR(IF(INDIRECT($A$14&ROW())<>\"\",COUNTIF([2]Summary!$B$30:$B$1029,INDIRECT($A$14&ROW())),\"\"),\"\")","v":""},null,null,null,null,null,null,null,null,null,null,null,null,null,null,null,null,null,null,null,null,null,null,null,null,null,null,null,null,null,null,null,null,null,null,null,null,null,null,null,null,null,null,null,null,null,null,null,null,null,null,null,null,null,null,null,null,null,null,null,null,null,null,null,null,null,null,null,null,null,null,null,null,null,null,null,null,null,null,null,null,null,null,null,null,null,null,null,null,null,null,"WF01 91001:BP CHK CP",204]
[{"$f":"IFERROR(IF(INDIRECT($A$14&ROW())<>\"\",COUNTIF([2]Summary!$B$30:$B$1029,INDIRECT($A$14&ROW())),\"\"),\"\")","v":""},null,null,null,null,null,null,null,null,null,null,null,null,null,null,null,null,null,null,null,null,null,null,null,null,null,null,null,null,null,null,null,null,null,null,null,null,null,null,null,null,null,null,null,null,null,null,null,null,null,null,null,null,null,null,null,null,null,null,null,null,null,null,null,null,null,null,null,null,null,null,null,null,null,null,null,null,null,null,null,null,null,null,null,null,null,null,null,null,null,null,"WF02 91002:GVY CHK CP",66]
[{"$f":"IFERROR(IF(INDIRECT($A$14&ROW())<>\"\",COUNTIF([2]Summary!$B$30:$B$1029,INDIRECT($A$14&ROW())),\"\"),\"\")","v":""},null,null,null,null,null,null,null,null,null,null,null,null,null,null,null,null,null,null,null,null,null,null,null,null,null,null,null,null,null,null,null,null,null,null,null,null,null,null,null,null,null,null,null,null,null,null,null,null,null,null,null,null,null,null,null,null,null,null,null,null,null,null,null,null,null,null,null,null,null,null,null,null,null,null,null,null,null,null,null,null,null,null,null,null,null,null,null,null,null,null,"WF03 91003:MR CHK CP",314]
[{"$f":"IFERROR(IF(INDIRECT($A$14&ROW())<>\"\",COUNTIF([2]Summary!$B$30:$B$1029,INDIRECT($A$14&ROW())),\"\"),\"\")","v":""},null,null,null,null,null,null,null,null,null,null,null,null,null,null,null,null,null,null,null,null,null,null,null,null,null,null,null,null,null,null,null,null,null,null,null,null,null,null,null,null,null,null,null,null,null,null,null,null,null,null,null,null,null,null,null,null,null,null,null,null,null,null,null,null,null,null,null,null,null,null,null,null,null,null,null,null,null,null,null,null,null,null,null,null,null,null,null,null,null,null,"WF04 91004:CKN MARY",76]
[{"$f":"IFERROR(IF(INDIRECT($A$14&ROW())<>\"\",COUNTIF([2]Summary!$B$30:$B$1029,INDIRECT($A$14&ROW())),\"\"),\"\")","v":""},null,null,null,null,null,null,null,null,null,null,null,null,null,null,null,null,null,null,null,null,null,null,null,null,null,null,null,null,null,null,null,null,null,null,null,null,null,null,null,null,null,null,null,null,null,null,null,null,null,null,null,null,null,null,null,null,null,null,null,null,null,null,null,null,null,null,null,null,null,null,null,null,null,null,null,null,null,null,null,null,null,null,null,null,null,null,null,null,null,null,"WF05 91005:FSH&CHIP",159]
[{"$f":"IFERROR(IF(INDIRECT($A$14&ROW())<>\"\",COUNTIF([2]Summary!$B$30:$B$1029,INDIRECT($A$14&ROW())),\"\"),\"\")","v":""},null,null,null,null,null,null,null,null,null,null,null,null,null,null,null,null,null,null,null,null,null,null,null,null,null,null,null,null,null,null,null,null,null,null,null,null,null,null,null,null,null,null,null,null,null,null,null,null,null,null,null,null,null,null,null,null,null,null,null,null,null,null,null,null,null,null,null,null,null,null,null,null,null,null,null,null,null,null,null,null,null,null,null,null,null,null,null,null,null,null,"WF06 91006:SPAGHETTI",89]
[{"$f":"IFERROR(IF(INDIRECT($A$14&ROW())<>\"\",COUNTIF([2]Summary!$B$30:$B$1029,INDIRECT($A$14&ROW())),\"\"),\"\")","v":""},null,null,null,null,null,null,null,null,null,null,null,null,null,null,null,null,null,null,null,null,null,null,null,null,null,null,null,null,null,null,null,null,null,null,null,null,null,null,null,null,null,null,null,null,null,null,null,null,null,null,null,null,null,null,null,null,null,null,null,null,null,null,null,null,null,null,null,null,null,null,null,null,null,null,null,null,null,null,null,null,null,null,null,null,null,null,null,null,null,null,"WF07 91007:CHK SALAD",41]
[{"$f":"IFERROR(IF(INDIRECT($A$14&ROW())<>\"\",COUNTIF([2]Summary!$B$30:$B$1029,INDIRECT($A$14&ROW())),\"\"),\"\")","v":""},null,null,null,null,null,null,null,null,null,null,null,null,null,null,null,null,null,null,null,null,null,null,null,null,null,null,null,null,null,null,null,null,null,null,null,null,null,null,null,null,null,null,null,null,null,null,null,null,null,null,null,null,null,null,null,null,null,null,null,null,null,null,null,null,null,null,null,null,null,null,null,null,null,null,null,null,null,null,null,null,null,null,null,null,null,null,null,null,null,null,"WG01 92026:PLN WATER",893]
[{"$f":"IFERROR(IF(INDIRECT($A$14&ROW())<>\"\",COUNTIF([2]Summary!$B$30:$B$1029,INDIRECT($A$14&ROW())),\"\"),\"\")","v":""},null,null,null,null,null,null,null,null,null,null,null,null,null,null,null,null,null,null,null,null,null,null,null,null,null,null,null,null,null,null,null,null,null,null,null,null,null,null,null,null,null,null,null,null,null,null,null,null,null,null,null,null,null,null,null,null,null,null,null,null,null,null,null,null,null,null,null,null,null,null,null,null,null,null,null,null,null,null,null,null,null,null,null,null,null,null,null,null,null,null,"WT01 1001:BP CKN CP",165]
[{"$f":"IFERROR(IF(INDIRECT($A$14&ROW())<>\"\",COUNTIF([2]Summary!$B$30:$B$1029,INDIRECT($A$14&ROW())),\"\"),\"\")","v":""},null,null,null,null,null,null,null,null,null,null,null,null,null,null,null,null,null,null,null,null,null,null,null,null,null,null,null,null,null,null,null,null,null,null,null,null,null,null,null,null,null,null,null,null,null,null,null,null,null,null,null,null,null,null,null,null,null,null,null,null,null,null,null,null,null,null,null,null,null,null,null,null,null,null,null,null,null,null,null,null,null,null,null,null,null,null,null,null,null,null,"WT02 1002:GVY CKN CP",52]
[{"$f":"IFERROR(IF(INDIRECT($A$14&ROW())<>\"\",COUNTIF([2]Summary!$B$30:$B$1029,INDIRECT($A$14&ROW())),\"\"),\"\")","v":""},null,null,null,null,null,null,null,null,null,null,null,null,null,null,null,null,null,null,null,null,null,null,null,null,null,null,null,null,null,null,null,null,null,null,null,null,null,null,null,null,null,null,null,null,null,null,null,null,null,null,null,null,null,null,null,null,null,null,null,null,null,null,null,null,null,null,null,null,null,null,null,null,null,null,null,null,null,null,null,null,null,null,null,null,null,null,null,null,null,null,"WT03 1003:MR CKN CP",252]
[{"$f":"IFERROR(IF(INDIRECT($A$14&ROW())<>\"\",COUNTIF([2]Summary!$B$30:$B$1029,INDIRECT($A$14&ROW())),\"\"),\"\")","v":""},null,null,null,null,null,null,null,null,null,null,null,null,null,null,null,null,null,null,null,null,null,null,null,null,null,null,null,null,null,null,null,null,null,null,null,null,null,null,null,null,null,null,null,null,null,null,null,null,null,null,null,null,null,null,null,null,null,null,null,null,null,null,null,null,null,null,null,null,null,null,null,null,null,null,null,null,null,null,null,null,null,null,null,null,null,null,null,null,null,null,"WT04 1004:CKN MARY",50]
[{"$f":"IFERROR(IF(INDIRECT($A$14&ROW())<>\"\",COUNTIF([2]Summary!$B$30:$B$1029,INDIRECT($A$14&ROW())),\"\"),\"\")","v":""},null,null,null,null,null,null,null,null,null,null,null,null,null,null,null,null,null,null,null,null,null,null,null,null,null,null,null,null,null,null,null,null,null,null,null,null,null,null,null,null,null,null,null,null,null,null,null,null,null,null,null,null,null,null,null,null,null,null,null,null,null,null,null,null,null,null,null,null,null,null,null,null,null,null,null,null,null,null,null,null,null,null,null,null,null,null,null,null,null,null,"WT05 1005:FSH&CHIP",82]
[{"$f":"IFERROR(IF(INDIRECT($A$14&ROW())<>\"\",COUNTIF([2]Summary!$B$30:$B$1029,INDIRECT($A$14&ROW())),\"\"),\"\")","v":""},null,null,null,null,null,null,null,null,null,null,null,null,null,null,null,null,null,null,null,null,null,null,null,null,null,null,null,null,null,null,null,null,null,null,null,null,null,null,null,null,null,null,null,null,null,null,null,null,null,null,null,null,null,null,null,null,null,null,null,null,null,null,null,null,null,null,null,null,null,null,null,null,null,null,null,null,null,null,null,null,null,null,null,null,null,null,null,null,null,null,"WT06 1006:SPAGHETTI",85]
[{"$f":"IFERROR(IF(INDIRECT($A$14&ROW())<>\"\",COUNTIF([2]Summary!$B$30:$B$1029,INDIRECT($A$14&ROW())),\"\"),\"\")","v":""},null,null,null,null,null,null,null,null,null,null,null,null,null,null,null,null,null,null,null,null,null,null,null,null,null,null,null,null,null,null,null,null,null,null,null,null,null,null,null,null,null,null,null,null,null,null,null,null,null,null,null,null,null,null,null,null,null,null,null,null,null,null,null,null,null,null,null,null,null,null,null,null,null,null,null,null,null,null,null,null,null,null,null,null,null,null,null,null,null,null,"WT07 1007:CHK SALAD",25]
[{"$f":"IFERROR(IF(INDIRECT($A$14&ROW())<>\"\",COUNTIF([2]Summary!$B$30:$B$1029,INDIRECT($A$14&ROW())),\"\"),\"\")","v":""},null,null,null,null,null,null,null,null,null,null,null,null,null,null,null,null,null,null,null,null,null,null,null,null,null,null,null,null,null,null,null,null,null,null,null,null,null,null,null,null,null,null,null,null,null,null,null,null,null,null,null,null,null,null,null,null,null,null,null,null,null,null,null,null,null,null,null,null,null,null,null,null,null,null,null,null,null,null,null,null,null,null,null,null,null,null,null,null,null,null,"WT08 RD:BP CKN CP",7]
[{"$f":"IFERROR(IF(INDIRECT($A$14&ROW())<>\"\",COUNTIF([2]Summary!$B$30:$B$1029,INDIRECT($A$14&ROW())),\"\"),\"\")","v":""},null,null,null,null,null,null,null,null,null,null,null,null,null,null,null,null,null,null,null,null,null,null,null,null,null,null,null,null,null,null,null,null,null,null,null,null,null,null,null,null,null,null,null,null,null,null,null,null,null,null,null,null,null,null,null,null,null,null,null,null,null,null,null,null,null,null,null,null,null,null,null,null,null,null,null,null,null,null,null,null,null,null,null,null,null,null,null,null,null,null,"WT09 RD:GVY CKN CP",1]
[{"$f":"IFERROR(IF(INDIRECT($A$14&ROW())<>\"\",COUNTIF([2]Summary!$B$30:$B$1029,INDIRECT($A$14&ROW())),\"\"),\"\")","v":""},null,null,null,null,null,null,null,null,null,null,null,null,null,null,null,null,null,null,null,null,null,null,null,null,null,null,null,null,null,null,null,null,null,null,null,null,null,null,null,null,null,null,null,null,null,null,null,null,null,null,null,null,null,null,null,null,null,null,null,null,null,null,null,null,null,null,null,null,null,null,null,null,null,null,null,null,null,null,null,null,null,null,null,null,null,null,null,null,null,null,"WT10 RD:MR CHN CP",9]
[{"$f":"IFERROR(IF(INDIRECT($A$14&ROW())<>\"\",COUNTIF([2]Summary!$B$30:$B$1029,INDIRECT($A$14&ROW())),\"\"),\"\")","v":""},null,null,null,null,null,null,null,null,null,null,null,null,null,null,null,null,null,null,null,null,null,null,null,null,null,null,null,null,null,null,null,null,null,null,null,null,null,null,null,null,null,null,null,null,null,null,null,null,null,null,null,null,null,null,null,null,null,null,null,null,null,null,null,null,null,null,null,null,null,null,null,null,null,null,null,null,null,null,null,null,null,null,null,null,null,null,null,null,null,null,"ZA01 K:REGULAR",2]
[{"$f":"IFERROR(IF(INDIRECT($A$14&ROW())<>\"\",COUNTIF([2]Summary!$B$30:$B$1029,INDIRECT($A$14&ROW())),\"\"),\"\")","v":""},null,null,null,null,null,null,null,null,null,null,null,null,null,null,null,null,null,null,null,null,null,null,null,null,null,null,null,null,null,null,null,null,null,null,null,null,null,null,null,null,null,null,null,null,null,null,null,null,null,null,null,null,null,null,null,null,null,null,null,null,null,null,null,null,null,null,null,null,null,null,null,null,null,null,null,null,null,null,null,null,null,null,null,null,null,null,null,null,null,null,"ZA05 K:CHILDREN",8]
[{"$f":"IFERROR(IF(INDIRECT($A$14&ROW())<>\"\",COUNTIF([2]Summary!$B$30:$B$1029,INDIRECT($A$14&ROW())),\"\"),\"\")","v":""},null,null,null,null,null,null,null,null,null,null,null,null,null,null,null,null,null,null,null,null,null,null,null,null,null,null,null,null,null,null,null,null,null,null,null,null,null,null,null,null,null,null,null,null,null,null,null,null,null,null,null,null,null,null,null,null,null,null,null,null,null,null,null,null,null,null,null,null,null,null,null,null,null,null,null,null,null,null,null,null,null,null,null,null,null,null,null,null,null,null,"ZA14 K:LUNCH",89]
[{"$f":"IFERROR(IF(INDIRECT($A$14&ROW())<>\"\",COUNTIF([2]Summary!$B$30:$B$1029,INDIRECT($A$14&ROW())),\"\"),\"\")","v":""},null,null,null,null,null,null,null,null,null,null,null,null,null,null,null,null,null,null,null,null,null,null,null,null,null,null,null,null,null,null,null,null,null,null,null,null,null,null,null,null,null,null,null,null,null,null,null,null,null,null,null,null,null,null,null,null,null,null,null,null,null,null,null,null,null,null,null,null,null,null,null,null,null,null,null,null,null,null,null,null,null,null,null,null,null,null,null,null,null,null,"ZAA01 1201:SFD STICK",15]
[{"$f":"IFERROR(IF(INDIRECT($A$14&ROW())<>\"\",COUNTIF([2]Summary!$B$30:$B$1029,INDIRECT($A$14&ROW())),\"\"),\"\")","v":""},null,null,null,null,null,null,null,null,null,null,null,null,null,null,null,null,null,null,null,null,null,null,null,null,null,null,null,null,null,null,null,null,null,null,null,null,null,null,null,null,null,null,null,null,null,null,null,null,null,null,null,null,null,null,null,null,null,null,null,null,null,null,null,null,null,null,null,null,null,null,null,null,null,null,null,null,null,null,null,null,null,null,null,null,null,null,null,null,null,null,"ZAA02 1202:FREN FRIES",184]
[{"$f":"IFERROR(IF(INDIRECT($A$14&ROW())<>\"\",COUNTIF([2]Summary!$B$30:$B$1029,INDIRECT($A$14&ROW())),\"\"),\"\")","v":""},null,null,null,null,null,null,null,null,null,null,null,null,null,null,null,null,null,null,null,null,null,null,null,null,null,null,null,null,null,null,null,null,null,null,null,null,null,null,null,null,null,null,null,null,null,null,null,null,null,null,null,null,null,null,null,null,null,null,null,null,null,null,null,null,null,null,null,null,null,null,null,null,null,null,null,null,null,null,null,null,null,null,null,null,null,null,null,null,null,null,"ZAA03 1203:GOLD MR",56]
[{"$f":"IFERROR(IF(INDIRECT($A$14&ROW())<>\"\",COUNTIF([2]Summary!$B$30:$B$1029,INDIRECT($A$14&ROW())),\"\"),\"\")","v":""},null,null,null,null,null,null,null,null,null,null,null,null,null,null,null,null,null,null,null,null,null,null,null,null,null,null,null,null,null,null,null,null,null,null,null,null,null,null,null,null,null,null,null,null,null,null,null,null,null,null,null,null,null,null,null,null,null,null,null,null,null,null,null,null,null,null,null,null,null,null,null,null,null,null,null,null,null,null,null,null,null,null,null,null,null,null,null,null,null,null,"ZAA04 1204:FSHBALL",54]
[{"$f":"IFERROR(IF(INDIRECT($A$14&ROW())<>\"\",COUNTIF([2]Summary!$B$30:$B$1029,INDIRECT($A$14&ROW())),\"\"),\"\")","v":""},null,null,null,null,null,null,null,null,null,null,null,null,null,null,null,null,null,null,null,null,null,null,null,null,null,null,null,null,null,null,null,null,null,null,null,null,null,null,null,null,null,null,null,null,null,null,null,null,null,null,null,null,null,null,null,null,null,null,null,null,null,null,null,null,null,null,null,null,null,null,null,null,null,null,null,null,null,null,null,null,null,null,null,null,null,null,null,null,null,null,"ZAA06 1206:SPRING RL",74]
[{"$f":"IFERROR(IF(INDIRECT($A$14&ROW())<>\"\",COUNTIF([2]Summary!$B$30:$B$1029,INDIRECT($A$14&ROW())),\"\"),\"\")","v":""},null,null,null,null,null,null,null,null,null,null,null,null,null,null,null,null,null,null,null,null,null,null,null,null,null,null,null,null,null,null,null,null,null,null,null,null,null,null,null,null,null,null,null,null,null,null,null,null,null,null,null,null,null,null,null,null,null,null,null,null,null,null,null,null,null,null,null,null,null,null,null,null,null,null,null,null,null,null,null,null,null,null,null,null,null,null,null,null,null,null,"ZAA07 1207:SAUSG",105]
[{"$f":"IFERROR(IF(INDIRECT($A$14&ROW())<>\"\",COUNTIF([2]Summary!$B$30:$B$1029,INDIRECT($A$14&ROW())),\"\"),\"\")","v":""},null,null,null,null,null,null,null,null,null,null,null,null,null,null,null,null,null,null,null,null,null,null,null,null,null,null,null,null,null,null,null,null,null,null,null,null,null,null,null,null,null,null,null,null,null,null,null,null,null,null,null,null,null,null,null,null,null,null,null,null,null,null,null,null,null,null,null,null,null,null,null,null,null,null,null,null,null,null,null,null,null,null,null,null,null,null,null,null,null,null,"ZAB02 1302:NUGGET",96]
[{"$f":"IFERROR(IF(INDIRECT($A$14&ROW())<>\"\",COUNTIF([2]Summary!$B$30:$B$1029,INDIRECT($A$14&ROW())),\"\"),\"\")","v":""},null,null,null,null,null,null,null,null,null,null,null,null,null,null,null,null,null,null,null,null,null,null,null,null,null,null,null,null,null,null,null,null,null,null,null,null,null,null,null,null,null,null,null,null,null,null,null,null,null,null,null,null,null,null,null,null,null,null,null,null,null,null,null,null,null,null,null,null,null,null,null,null,null,null,null,null,null,null,null,null,null,null,null,null,null,null,null,null,null,null,"ZAB03 1303:CHK WING",138]
[{"$f":"IFERROR(IF(INDIRECT($A$14&ROW())<>\"\",COUNTIF([2]Summary!$B$30:$B$1029,INDIRECT($A$14&ROW())),\"\"),\"\")","v":""},null,null,null,null,null,null,null,null,null,null,null,null,null,null,null,null,null,null,null,null,null,null,null,null,null,null,null,null,null,null,null,null,null,null,null,null,null,null,null,null,null,null,null,null,null,null,null,null,null,null,null,null,null,null,null,null,null,null,null,null,null,null,null,null,null,null,null,null,null,null,null,null,null,null,null,null,null,null,null,null,null,null,null,null,null,null,null,null,null,null,"ZAB04 1304:IKAN BILIS",12]
[{"$f":"IFERROR(IF(INDIRECT($A$14&ROW())<>\"\",COUNTIF([2]Summary!$B$30:$B$1029,INDIRECT($A$14&ROW())),\"\"),\"\")","v":""},null,null,null,null,null,null,null,null,null,null,null,null,null,null,null,null,null,null,null,null,null,null,null,null,null,null,null,null,null,null,null,null,null,null,null,null,null,null,null,null,null,null,null,null,null,null,null,null,null,null,null,null,null,null,null,null,null,null,null,null,null,null,null,null,null,null,null,null,null,null,null,null,null,null,null,null,null,null,null,null,null,null,null,null,null,null,null,null,null,null,"ZAB05 1305:THAI RL",17]
[{"$f":"IFERROR(IF(INDIRECT($A$14&ROW())<>\"\",COUNTIF([2]Summary!$B$30:$B$1029,INDIRECT($A$14&ROW())),\"\"),\"\")","v":""},null,null,null,null,null,null,null,null,null,null,null,null,null,null,null,null,null,null,null,null,null,null,null,null,null,null,null,null,null,null,null,null,null,null,null,null,null,null,null,null,null,null,null,null,null,null,null,null,null,null,null,null,null,null,null,null,null,null,null,null,null,null,null,null,null,null,null,null,null,null,null,null,null,null,null,null,null,null,null,null,null,null,null,null,null,null,null,null,null,null,"ZAB06 1306:DF WING",42]
[{"$f":"IFERROR(IF(INDIRECT($A$14&ROW())<>\"\",COUNTIF([2]Summary!$B$30:$B$1029,INDIRECT($A$14&ROW())),\"\"),\"\")","v":""},null,null,null,null,null,null,null,null,null,null,null,null,null,null,null,null,null,null,null,null,null,null,null,null,null,null,null,null,null,null,null,null,null,null,null,null,null,null,null,null,null,null,null,null,null,null,null,null,null,null,null,null,null,null,null,null,null,null,null,null,null,null,null,null,null,null,null,null,null,null,null,null,null,null,null,null,null,null,null,null,null,null,null,null,null,null,null,null,null,null,"ZAB07 1307: CALAMARI",59]
[{"$f":"IFERROR(IF(INDIRECT($A$14&ROW())<>\"\",COUNTIF([2]Summary!$B$30:$B$1029,INDIRECT($A$14&ROW())),\"\"),\"\")","v":""},null,null,null,null,null,null,null,null,null,null,null,null,null,null,null,null,null,null,null,null,null,null,null,null,null,null,null,null,null,null,null,null,null,null,null,null,null,null,null,null,null,null,null,null,null,null,null,null,null,null,null,null,null,null,null,null,null,null,null,null,null,null,null,null,null,null,null,null,null,null,null,null,null,null,null,null,null,null,null,null,null,null,null,null,null,null,null,null,null,null,"ZAB08 1308 MC RING",36]
[{"$f":"IFERROR(IF(INDIRECT($A$14&ROW())<>\"\",COUNTIF([2]Summary!$B$30:$B$1029,INDIRECT($A$14&ROW())),\"\"),\"\")","v":""},null,null,null,null,null,null,null,null,null,null,null,null,null,null,null,null,null,null,null,null,null,null,null,null,null,null,null,null,null,null,null,null,null,null,null,null,null,null,null,null,null,null,null,null,null,null,null,null,null,null,null,null,null,null,null,null,null,null,null,null,null,null,null,null,null,null,null,null,null,null,null,null,null,null,null,null,null,null,null,null,null,null,null,null,null,null,null,null,null,null,"Setia Walk Puchong"]
[{"$f":"IFERROR(IF(INDIRECT($A$14&ROW())<>\"\",COUNTIF([2]Summary!$B$30:$B$1029,INDIRECT($A$14&ROW())),\"\"),\"\")","v":""},null,null,null,null,null,null,null,null,null,null,null,null,null,null,null,null,null,null,null,null,null,null,null,null,null,null,null,null,null,null,null,null,null,null,null,null,null,null,null,null,null,null,null,null,null,null,null,null,null,null,null,null,null,null,null,null,null,null,null,null,null,null,null,null,null,null,null,null,null,null,null,null,null,null,null,null,null,null,null,null,null,null,null,null,null,null,null,null,null,null,"Sales Mix Report #2"]
[{"$f":"IFERROR(IF(INDIRECT($A$14&ROW())<>\"\",COUNTIF([2]Summary!$B$30:$B$1029,INDIRECT($A$14&ROW())),\"\"),\"\")","v":""},null,null,null,null,null,null,null,null,null,null,null,null,null,null,null,null,null,null,null,null,null,null,null,null,null,null,null,null,null,null,null,null,null,null,null,null,null,null,null,null,null,null,null,null,null,null,null,null,null,null,null,null,null,null,null,null,null,null,null,null,null,null,null,null,null,null,null,null,null,null,null,null,null,null,null,null,null,null,null,null,null,null,null,null,null,null,null,null,null,null,""]
[{"$f":"IFERROR(IF(INDIRECT($A$14&ROW())<>\"\",COUNTIF([2]Summary!$B$30:$B$1029,INDIRECT($A$14&ROW())),\"\"),\"\")","v":""},null,null,null,null,null,null,null,null,null,null,null,null,null,null,null,null,null,null,null,null,null,null,null,null,null,null,null,null,null,null,null,null,null,null,null,null,null,null,null,null,null,null,null,null,null,null,null,null,null,null,null,null,null,null,null,null,null,null,null,null,null,null,null,null,null,null,null,null,null,null,null,null,null,null,null,null,null,null,null,null,null,null,null,null,null,null,null,null,null,null,"Date: From 2014/01/01 (Wed) to 2014/01/31 (Fri)"]
[{"$f":"IFERROR(IF(INDIRECT($A$14&ROW())<>\"\",COUNTIF([2]Summary!$B$30:$B$1029,INDIRECT($A$14&ROW())),\"\"),\"\")","v":""},null,null,null,null,null,null,null,null,null,null,null,null,null,null,null,null,null,null,null,null,null,null,null,null,null,null,null,null,null,null,null,null,null,null,null,null,null,null,null,null,null,null,null,null,null,null,null,null,null,null,null,null,null,null,null,null,null,null,null,null,null,null,null,null,null,null,null,null,null,null,null,null,null,null,null,null,null,null,null,null,null,null,null,null,null,null,null,null,null,null,"Item Description","Dine In"]
[{"$f":"IFERROR(IF(INDIRECT($A$14&ROW())<>\"\",COUNTIF([2]Summary!$B$30:$B$1029,INDIRECT($A$14&ROW())),\"\"),\"\")","v":""},null,null,null,null,null,null,null,null,null,null,null,null,null,null,null,null,null,null,null,null,null,null,null,null,null,null,null,null,null,null,null,null,null,null,null,null,null,null,null,null,null,null,null,null,null,null,null,null,null,null,null,null,null,null,null,null,null,null,null,null,null,null,null,null,null,null,null,null,null,null,null,null,null,null,null,null,null,null,null,null,null,null,null,null,null,null,null,null,null,null,"ZAB09 1309:MC SPIRAL F",41]
[{"$f":"IFERROR(IF(INDIRECT($A$14&ROW())<>\"\",COUNTIF([2]Summary!$B$30:$B$1029,INDIRECT($A$14&ROW())),\"\"),\"\")","v":""},null,null,null,null,null,null,null,null,null,null,null,null,null,null,null,null,null,null,null,null,null,null,null,null,null,null,null,null,null,null,null,null,null,null,null,null,null,null,null,null,null,null,null,null,null,null,null,null,null,null,null,null,null,null,null,null,null,null,null,null,null,null,null,null,null,null,null,null,null,null,null,null,null,null,null,null,null,null,null,null,null,null,null,null,null,null,null,null,null,null,"ZAB10 1310:MC HP SMILE",11]
[{"$f":"IFERROR(IF(INDIRECT($A$14&ROW())<>\"\",COUNTIF([2]Summary!$B$30:$B$1029,INDIRECT($A$14&ROW())),\"\"),\"\")","v":""},null,null,null,null,null,null,null,null,null,null,null,null,null,null,null,null,null,null,null,null,null,null,null,null,null,null,null,null,null,null,null,null,null,null,null,null,null,null,null,null,null,null,null,null,null,null,null,null,null,null,null,null,null,null,null,null,null,null,null,null,null,null,null,null,null,null,null,null,null,null,null,null,null,null,null,null,null,null,null,null,null,null,null,null,null,null,null,null,null,null,"ZAB11 1311:MC HASH BRW",24]
[{"$f":"IFERROR(IF(INDIRECT($A$14&ROW())<>\"\",COUNTIF([2]Summary!$B$30:$B$1029,INDIRECT($A$14&ROW())),\"\"),\"\")","v":""},null,null,null,null,null,null,null,null,null,null,null,null,null,null,null,null,null,null,null,null,null,null,null,null,null,null,null,null,null,null,null,null,null,null,null,null,null,null,null,null,null,null,null,null,null,null,null,null,null,null,null,null,null,null,null,null,null,null,null,null,null,null,null,null,null,null,null,null,null,null,null,null,null,null,null,null,null,null,null,null,null,null,null,null,null,null,null,null,null,null,"ZB01 H:REGULAR",107]
[{"$f":"IFERROR(IF(INDIRECT($A$14&ROW())<>\"\",COUNTIF([2]Summary!$B$30:$B$1029,INDIRECT($A$14&ROW())),\"\"),\"\")","v":""},null,null,null,null,null,null,null,null,null,null,null,null,null,null,null,null,null,null,null,null,null,null,null,null,null,null,null,null,null,null,null,null,null,null,null,null,null,null,null,null,null,null,null,null,null,null,null,null,null,null,null,null,null,null,null,null,null,null,null,null,null,null,null,null,null,null,null,null,null,null,null,null,null,null,null,null,null,null,null,null,null,null,null,null,null,null,null,null,null,null,"ZB02 H:MEMBER",59]
[{"$f":"IFERROR(IF(INDIRECT($A$14&ROW())<>\"\",COUNTIF([2]Summary!$B$30:$B$1029,INDIRECT($A$14&ROW())),\"\"),\"\")","v":""},null,null,null,null,null,null,null,null,null,null,null,null,null,null,null,null,null,null,null,null,null,null,null,null,null,null,null,null,null,null,null,null,null,null,null,null,null,null,null,null,null,null,null,null,null,null,null,null,null,null,null,null,null,null,null,null,null,null,null,null,null,null,null,null,null,null,null,null,null,null,null,null,null,null,null,null,null,null,null,null,null,null,null,null,null,null,null,null,null,null,"ZB05 H:CHILDREN",2]
[{"$f":"IFERROR(IF(INDIRECT($A$14&ROW())<>\"\",COUNTIF([2]Summary!$B$30:$B$1029,INDIRECT($A$14&ROW())),\"\"),\"\")","v":""},null,null,null,null,null,null,null,null,null,null,null,null,null,null,null,null,null,null,null,null,null,null,null,null,null,null,null,null,null,null,null,null,null,null,null,null,null,null,null,null,null,null,null,null,null,null,null,null,null,null,null,null,null,null,null,null,null,null,null,null,null,null,null,null,null,null,null,null,null,null,null,null,null,null,null,null,null,null,null,null,null,null,null,null,null,null,null,null,null,null,"ZBC01 COLD",59]
[{"$f":"IFERROR(IF(INDIRECT($A$14&ROW())<>\"\",COUNTIF([2]Summary!$B$30:$B$1029,INDIRECT($A$14&ROW())),\"\"),\"\")","v":""},null,null,null,null,null,null,null,null,null,null,null,null,null,null,null,null,null,null,null,null,null,null,null,null,null,null,null,null,null,null,null,null,null,null,null,null,null,null,null,null,null,null,null,null,null,null,null,null,null,null,null,null,null,null,null,null,null,null,null,null,null,null,null,null,null,null,null,null,null,null,null,null,null,null,null,null,null,null,null,null,null,null,null,null,null,null,null,null,null,null,"ZBC02 HOT",72]
[{"$f":"IFERROR(IF(INDIRECT($A$14&ROW())<>\"\",COUNTIF([2]Summary!$B$30:$B$1029,INDIRECT($A$14&ROW())),\"\"),\"\")","v":""},null,null,null,null,null,null,null,null,null,null,null,null,null,null,null,null,null,null,null,null,null,null,null,null,null,null,null,null,null,null,null,null,null,null,null,null,null,null,null,null,null,null,null,null,null,null,null,null,null,null,null,null,null,null,null,null,null,null,null,null,null,null,null,null,null,null,null,null,null,null,null,null,null,null,null,null,null,null,null,null,null,null,null,null,null,null,null,null,null,null,"ZBC03 WARM",434]
[{"$f":"IFERROR(IF(INDIRECT($A$14&ROW())<>\"\",COUNTIF([2]Summary!$B$30:$B$1029,INDIRECT($A$14&ROW())),\"\"),\"\")","v":""},null,null,null,null,null,null,null,null,null,null,null,null,null,null,null,null,null,null,null,null,null,null,null,null,null,null,null,null,null,null,null,null,null,null,null,null,null,null,null,null,null,null,null,null,null,null,null,null,null,null,null,null,null,null,null,null,null,null,null,null,null,null,null,null,null,null,null,null,null,null,null,null,null,null,null,null,null,null,null,null,null,null,null,null,null,null,null,null,null,null,"ZBC04 LESS ICE",971]
[{"$f":"IFERROR(IF(INDIRECT($A$14&ROW())<>\"\",COUNTIF([2]Summary!$B$30:$B$1029,INDIRECT($A$14&ROW())),\"\"),\"\")","v":""},null,null,null,null,null,null,null,null,null,null,null,null,null,null,null,null,null,null,null,null,null,null,null,null,null,null,null,null,null,null,null,null,null,null,null,null,null,null,null,null,null,null,null,null,null,null,null,null,null,null,null,null,null,null,null,null,null,null,null,null,null,null,null,null,null,null,null,null,null,null,null,null,null,null,null,null,null,null,null,null,null,null,null,null,null,null,null,null,null,null,"ZBC05 MORE ICE",8]
[{"$f":"IFERROR(IF(INDIRECT($A$14&ROW())<>\"\",COUNTIF([2]Summary!$B$30:$B$1029,INDIRECT($A$14&ROW())),\"\"),\"\")","v":""},null,null,null,null,null,null,null,null,null,null,null,null,null,null,null,null,null,null,null,null,null,null,null,null,null,null,null,null,null,null,null,null,null,null,null,null,null,null,null,null,null,null,null,null,null,null,null,null,null,null,null,null,null,null,null,null,null,null,null,null,null,null,null,null,null,null,null,null,null,null,null,null,null,null,null,null,null,null,null,null,null,null,null,null,null,null,null,null,null,null,"ZBC06 NO ICE",383]
[{"$f":"IFERROR(IF(INDIRECT($A$14&ROW())<>\"\",COUNTIF([2]Summary!$B$30:$B$1029,INDIRECT($A$14&ROW())),\"\"),\"\")","v":""},null,null,null,null,null,null,null,null,null,null,null,null,null,null,null,null,null,null,null,null,null,null,null,null,null,null,null,null,null,null,null,null,null,null,null,null,null,null,null,null,null,null,null,null,null,null,null,null,null,null,null,null,null,null,null,null,null,null,null,null,null,null,null,null,null,null,null,null,null,null,null,null,null,null,null,null,null,null,null,null,null,null,null,null,null,null,null,null,null,null,"ZBC07 LESS SWEET",69]
[{"$f":"IFERROR(IF(INDIRECT($A$14&ROW())<>\"\",COUNTIF([2]Summary!$B$30:$B$1029,INDIRECT($A$14&ROW())),\"\"),\"\")","v":""},null,null,null,null,null,null,null,null,null,null,null,null,null,null,null,null,null,null,null,null,null,null,null,null,null,null,null,null,null,null,null,null,null,null,null,null,null,null,null,null,null,null,null,null,null,null,null,null,null,null,null,null,null,null,null,null,null,null,null,null,null,null,null,null,null,null,null,null,null,null,null,null,null,null,null,null,null,null,null,null,null,null,null,null,null,null,null,null,null,null,"ZBC08 MORE SWEET",32]
[{"$f":"IFERROR(IF(INDIRECT($A$14&ROW())<>\"\",COUNTIF([2]Summary!$B$30:$B$1029,INDIRECT($A$14&ROW())),\"\"),\"\")","v":""},null,null,null,null,null,null,null,null,null,null,null,null,null,null,null,null,null,null,null,null,null,null,null,null,null,null,null,null,null,null,null,null,null,null,null,null,null,null,null,null,null,null,null,null,null,null,null,null,null,null,null,null,null,null,null,null,null,null,null,null,null,null,null,null,null,null,null,null,null,null,null,null,null,null,null,null,null,null,null,null,null,null,null,null,null,null,null,null,null,null,"ZBC09 NO SWEET",49]
[{"$f":"IFERROR(IF(INDIRECT($A$14&ROW())<>\"\",COUNTIF([2]Summary!$B$30:$B$1029,INDIRECT($A$14&ROW())),\"\"),\"\")","v":""},null,null,null,null,null,null,null,null,null,null,null,null,null,null,null,null,null,null,null,null,null,null,null,null,null,null,null,null,null,null,null,null,null,null,null,null,null,null,null,null,null,null,null,null,null,null,null,null,null,null,null,null,null,null,null,null,null,null,null,null,null,null,null,null,null,null,null,null,null,null,null,null,null,null,null,null,null,null,null,null,null,null,null,null,null,null,null,null,null,null,"ZBC10 LESS LEMON",2]
[{"$f":"IFERROR(IF(INDIRECT($A$14&ROW())<>\"\",COUNTIF([2]Summary!$B$30:$B$1029,INDIRECT($A$14&ROW())),\"\"),\"\")","v":""},null,null,null,null,null,null,null,null,null,null,null,null,null,null,null,null,null,null,null,null,null,null,null,null,null,null,null,null,null,null,null,null,null,null,null,null,null,null,null,null,null,null,null,null,null,null,null,null,null,null,null,null,null,null,null,null,null,null,null,null,null,null,null,null,null,null,null,null,null,null,null,null,null,null,null,null,null,null,null,null,null,null,null,null,null,null,null,null,null,null,"ZBC11 MORE LEMON",8]
[{"$f":"IFERROR(IF(INDIRECT($A$14&ROW())<>\"\",COUNTIF([2]Summary!$B$30:$B$1029,INDIRECT($A$14&ROW())),\"\"),\"\")","v":""},null,null,null,null,null,null,null,null,null,null,null,null,null,null,null,null,null,null,null,null,null,null,null,null,null,null,null,null,null,null,null,null,null,null,null,null,null,null,null,null,null,null,null,null,null,null,null,null,null,null,null,null,null,null,null,null,null,null,null,null,null,null,null,null,null,null,null,null,null,null,null,null,null,null,null,null,null,null,null,null,null,null,null,null,null,null,null,null,null,null,"ZBC13 JUG",171]
[{"$f":"IFERROR(IF(INDIRECT($A$14&ROW())<>\"\",COUNTIF([2]Summary!$B$30:$B$1029,INDIRECT($A$14&ROW())),\"\"),\"\")","v":""},null,null,null,null,null,null,null,null,null,null,null,null,null,null,null,null,null,null,null,null,null,null,null,null,null,null,null,null,null,null,null,null,null,null,null,null,null,null,null,null,null,null,null,null,null,null,null,null,null,null,null,null,null,null,null,null,null,null,null,null,null,null,null,null,null,null,null,null,null,null,null,null,null,null,null,null,null,null,null,null,null,null,null,null,null,null,null,null,null,null,"ZBC14 BEER GLASS",826]
[{"$f":"IFERROR(IF(INDIRECT($A$14&ROW())<>\"\",COUNTIF([2]Summary!$B$30:$B$1029,INDIRECT($A$14&ROW())),\"\"),\"\")","v":""},null,null,null,null,null,null,null,null,null,null,null,null,null,null,null,null,null,null,null,null,null,null,null,null,null,null,null,null,null,null,null,null,null,null,null,null,null,null,null,null,null,null,null,null,null,null,null,null,null,null,null,null,null,null,null,null,null,null,null,null,null,null,null,null,null,null,null,null,null,null,null,null,null,null,null,null,null,null,null,null,null,null,null,null,null,null,null,null,null,null,"ZBC15 ICE BUCKET",120]
[{"$f":"IFERROR(IF(INDIRECT($A$14&ROW())<>\"\",COUNTIF([2]Summary!$B$30:$B$1029,INDIRECT($A$14&ROW())),\"\"),\"\")","v":""},null,null,null,null,null,null,null,null,null,null,null,null,null,null,null,null,null,null,null,null,null,null,null,null,null,null,null,null,null,null,null,null,null,null,null,null,null,null,null,null,null,null,null,null,null,null,null,null,null,null,null,null,null,null,null,null,null,null,null,null,null,null,null,null,null,null,null,null,null,null,null,null,null,null,null,null,null,null,null,null,null,null,null,null,null,null,null,null,null,null,"ZBC17 REMARK - HONEYYY",78]
[{"$f":"IFERROR(IF(INDIRECT($A$14&ROW())<>\"\",COUNTIF([2]Summary!$B$30:$B$1029,INDIRECT($A$14&ROW())),\"\"),\"\")","v":""},null,null,null,null,null,null,null,null,null,null,null,null,null,null,null,null,null,null,null,null,null,null,null,null,null,null,null,null,null,null,null,null,null,null,null,null,null,null,null,null,null,null,null,null,null,null,null,null,null,null,null,null,null,null,null,null,null,null,null,null,null,null,null,null,null,null,null,null,null,null,null,null,null,null,null,null,null,null,null,null,null,null,null,null,null,null,null,null,null,null,"ZBC18 ADD LEMON",194]
[{"$f":"IFERROR(IF(INDIRECT($A$14&ROW())<>\"\",COUNTIF([2]Summary!$B$30:$B$1029,INDIRECT($A$14&ROW())),\"\"),\"\")","v":""},null,null,null,null,null,null,null,null,null,null,null,null,null,null,null,null,null,null,null,null,null,null,null,null,null,null,null,null,null,null,null,null,null,null,null,null,null,null,null,null,null,null,null,null,null,null,null,null,null,null,null,null,null,null,null,null,null,null,null,null,null,null,null,null,null,null,null,null,null,null,null,null,null,null,null,null,null,null,null,null,null,null,null,null,null,null,null,null,null,null,"ZBM01 TIG MEM BKT",6]
[{"$f":"IFERROR(IF(INDIRECT($A$14&ROW())<>\"\",COUNTIF([2]Summary!$B$30:$B$1029,INDIRECT($A$14&ROW())),\"\"),\"\")","v":""},null,null,null,null,null,null,null,null,null,null,null,null,null,null,null,null,null,null,null,null,null,null,null,null,null,null,null,null,null,null,null,null,null,null,null,null,null,null,null,null,null,null,null,null,null,null,null,null,null,null,null,null,null,null,null,null,null,null,null,null,null,null,null,null,null,null,null,null,null,null,null,null,null,null,null,null,null,null,null,null,null,null,null,null,null,null,null,null,null,null,"ZBM02 HEI MEM EX BKT",3]
[{"$f":"IFERROR(IF(INDIRECT($A$14&ROW())<>\"\",COUNTIF([2]Summary!$B$30:$B$1029,INDIRECT($A$14&ROW())),\"\"),\"\")","v":""},null,null,null,null,null,null,null,null,null,null,null,null,null,null,null,null,null,null,null,null,null,null,null,null,null,null,null,null,null,null,null,null,null,null,null,null,null,null,null,null,null,null,null,null,null,null,null,null,null,null,null,null,null,null,null,null,null,null,null,null,null,null,null,null,null,null,null,null,null,null,null,null,null,null,null,null,null,null,null,null,null,null,null,null,null,null,null,null,null,null,"ZBR01 TIG BKT",320]
[{"$f":"IFERROR(IF(INDIRECT($A$14&ROW())<>\"\",COUNTIF([2]Summary!$B$30:$B$1029,INDIRECT($A$14&ROW())),\"\"),\"\")","v":""},null,null,null,null,null,null,null,null,null,null,null,null,null,null,null,null,null,null,null,null,null,null,null,null,null,null,null,null,null,null,null,null,null,null,null,null,null,null,null,null,null,null,null,null,null,null,null,null,null,null,null,null,null,null,null,null,null,null,null,null,null,null,null,null,null,null,null,null,null,null,null,null,null,null,null,null,null,null,null,null,null,null,null,null,null,null,null,null,null,null,"ZBR02 HEI EX BKT",17]
[{"$f":"IFERROR(IF(INDIRECT($A$14&ROW())<>\"\",COUNTIF([2]Summary!$B$30:$B$1029,INDIRECT($A$14&ROW())),\"\"),\"\")","v":""},null,null,null,null,null,null,null,null,null,null,null,null,null,null,null,null,null,null,null,null,null,null,null,null,null,null,null,null,null,null,null,null,null,null,null,null,null,null,null,null,null,null,null,null,null,null,null,null,null,null,null,null,null,null,null,null,null,null,null,null,null,null,null,null,null,null,null,null,null,null,null,null,null,null,null,null,null,null,null,null,null,null,null,null,null,null,null,null,null,null,"ZBR03 GUI EX BKT",5]
[{"$f":"IFERROR(IF(INDIRECT($A$14&ROW())<>\"\",COUNTIF([2]Summary!$B$30:$B$1029,INDIRECT($A$14&ROW())),\"\"),\"\")","v":""},null,null,null,null,null,null,null,null,null,null,null,null,null,null,null,null,null,null,null,null,null,null,null,null,null,null,null,null,null,null,null,null,null,null,null,null,null,null,null,null,null,null,null,null,null,null,null,null,null,null,null,null,null,null,null,null,null,null,null,null,null,null,null,null,null,null,null,null,null,null,null,null,null,null,null,null,null,null,null,null,null,null,null,null,null,null,null,null,null,null,"ZE01 1011:PC CKN CP"]
[{"$f":"IFERROR(IF(INDIRECT($A$14&ROW())<>\"\",COUNTIF([2]Summary!$B$30:$B$1029,INDIRECT($A$14&ROW())),\"\"),\"\")","v":""},null,null,null,null,null,null,null,null,null,null,null,null,null,null,null,null,null,null,null,null,null,null,null,null,null,null,null,null,null,null,null,null,null,null,null,null,null,null,null,null,null,null,null,null,null,null,null,null,null,null,null,null,null,null,null,null,null,null,null,null,null,null,null,null,null,null,null,null,null,null,null,null,null,null,null,null,null,null,null,null,null,null,null,null,null,null,null,null,null,null,"ZE11 91011:PC CKN CP",3]
[{"$f":"IFERROR(IF(INDIRECT($A$14&ROW())<>\"\",COUNTIF([2]Summary!$B$30:$B$1029,INDIRECT($A$14&ROW())),\"\"),\"\")","v":""},null,null,null,null,null,null,null,null,null,null,null,null,null,null,null,null,null,null,null,null,null,null,null,null,null,null,null,null,null,null,null,null,null,null,null,null,null,null,null,null,null,null,null,null,null,null,null,null,null,null,null,null,null,null,null,null,null,null,null,null,null,null,null,null,null,null,null,null,null,null,null,null,null,null,null,null,null,null,null,null,null,null,null,null,null,null,null,null,null,null,"ZE14 91014:OCT SALAD",1]
[{"$f":"IFERROR(IF(INDIRECT($A$14&ROW())<>\"\",COUNTIF([2]Summary!$B$30:$B$1029,INDIRECT($A$14&ROW())),\"\"),\"\")","v":""},null,null,null,null,null,null,null,null,null,null,null,null,null,null,null,null,null,null,null,null,null,null,null,null,null,null,null,null,null,null,null,null,null,null,null,null,null,null,null,null,null,null,null,null,null,null,null,null,null,null,null,null,null,null,null,null,null,null,null,null,null,null,null,null,null,null,null,null,null,null,null,null,null,null,null,null,null,null,null,null,null,null,null,null,null,null,null,null,null,null,"ZF06 N:MEMBER B'DAY",1]
[{"$f":"IFERROR(IF(INDIRECT($A$14&ROW())<>\"\",COUNTIF([2]Summary!$B$30:$B$1029,INDIRECT($A$14&ROW())),\"\"),\"\")","v":""},null,null,null,null,null,null,null,null,null,null,null,null,null,null,null,null,null,null,null,null,null,null,null,null,null,null,null,null,null,null,null,null,null,null,null,null,null,null,null,null,null,null,null,null,null,null,null,null,null,null,null,null,null,null,null,null,null,null,null,null,null,null,null,null,null,null,null,null,null,null,null,null,null,null,null,null,null,null,null,null,null,null,null,null,null,null,null,null,null,null,"ZF10 N:REGULAR",117]
[{"$f":"IFERROR(IF(INDIRECT($A$14&ROW())<>\"\",COUNTIF([2]Summary!$B$30:$B$1029,INDIRECT($A$14&ROW())),\"\"),\"\")","v":""},null,null,null,null,null,null,null,null,null,null,null,null,null,null,null,null,null,null,null,null,null,null,null,null,null,null,null,null,null,null,null,null,null,null,null,null,null,null,null,null,null,null,null,null,null,null,null,null,null,null,null,null,null,null,null,null,null,null,null,null,null,null,null,null,null,null,null,null,null,null,null,null,null,null,null,null,null,null,null,null,null,null,null,null,null,null,null,null,null,null,"ZF11 N:MEMBER",27]
[{"$f":"IFERROR(IF(INDIRECT($A$14&ROW())<>\"\",COUNTIF([2]Summary!$B$30:$B$1029,INDIRECT($A$14&ROW())),\"\"),\"\")","v":""},null,null,null,null,null,null,null,null,null,null,null,null,null,null,null,null,null,null,null,null,null,null,null,null,null,null,null,null,null,null,null,null,null,null,null,null,null,null,null,null,null,null,null,null,null,null,null,null,null,null,null,null,null,null,null,null,null,null,null,null,null,null,null,null,null,null,null,null,null,null,null,null,null,null,null,null,null,null,null,null,null,null,null,null,null,null,null,null,null,null,"ZF12 N:K DINNER",13]
[{"$f":"IFERROR(IF(INDIRECT($A$14&ROW())<>\"\",COUNTIF([2]Summary!$B$30:$B$1029,INDIRECT($A$14&ROW())),\"\"),\"\")","v":""},null,null,null,null,null,null,null,null,null,null,null,null,null,null,null,null,null,null,null,null,null,null,null,null,null,null,null,null,null,null,null,null,null,null,null,null,null,null,null,null,null,null,null,null,null,null,null,null,null,null,null,null,null,null,null,null,null,null,null,null,null,null,null,null,null,null,null,null,null,null,null,null,null,null,null,null,null,null,null,null,null,null,null,null,null,null,null,null,null,null,"ZF13 N:XM DINNER",4]
[{"$f":"IFERROR(IF(INDIRECT($A$14&ROW())<>\"\",COUNTIF([2]Summary!$B$30:$B$1029,INDIRECT($A$14&ROW())),\"\"),\"\")","v":""},null,null,null,null,null,null,null,null,null,null,null,null,null,null,null,null,null,null,null,null,null,null,null,null,null,null,null,null,null,null,null,null,null,null,null,null,null,null,null,null,null,null,null,null,null,null,null,null,null,null,null,null,null,null,null,null,null,null,null,null,null,null,null,null,null,null,null,null,null,null,null,null,null,null,null,null,null,null,null,null,null,null,null,null,null,null,null,null,null,null,"ZF18 N:4BP",4]
[{"$f":"IFERROR(IF(INDIRECT($A$14&ROW())<>\"\",COUNTIF([2]Summary!$B$30:$B$1029,INDIRECT($A$14&ROW())),\"\"),\"\")","v":""},null,null,null,null,null,null,null,null,null,null,null,null,null,null,null,null,null,null,null,null,null,null,null,null,null,null,null,null,null,null,null,null,null,null,null,null,null,null,null,null,null,null,null,null,null,null,null,null,null,null,null,null,null,null,null,null,null,null,null,null,null,null,null,null,null,null,null,null,null,null,null,null,null,null,null,null,null,null,null,null,null,null,null,null,null,null,null,null,null,null,"ZG11 M:REGULAR",9]
[{"$f":"IFERROR(IF(INDIRECT($A$14&ROW())<>\"\",COUNTIF([2]Summary!$B$30:$B$1029,INDIRECT($A$14&ROW())),\"\"),\"\")","v":""},null,null,null,null,null,null,null,null,null,null,null,null,null,null,null,null,null,null,null,null,null,null,null,null,null,null,null,null,null,null,null,null,null,null,null,null,null,null,null,null,null,null,null,null,null,null,null,null,null,null,null,null,null,null,null,null,null,null,null,null,null,null,null,null,null,null,null,null,null,null,null,null,null,null,null,null,null,null,null,null,null,null,null,null,null,null,null,null,null,null,"ZH05 K:LUNCH",21]
[{"$f":"IFERROR(IF(INDIRECT($A$14&ROW())<>\"\",COUNTIF([2]Summary!$B$30:$B$1029,INDIRECT($A$14&ROW())),\"\"),\"\")","v":""},null,null,null,null,null,null,null,null,null,null,null,null,null,null,null,null,null,null,null,null,null,null,null,null,null,null,null,null,null,null,null,null,null,null,null,null,null,null,null,null,null,null,null,null,null,null,null,null,null,null,null,null,null,null,null,null,null,null,null,null,null,null,null,null,null,null,null,null,null,null,null,null,null,null,null,null,null,null,null,null,null,null,null,null,null,null,null,null,null,null,"ZH12 K:CHILDREN",1]
[{"$f":"IFERROR(IF(INDIRECT($A$14&ROW())<>\"\",COUNTIF([2]Summary!$B$30:$B$1029,INDIRECT($A$14&ROW())),\"\"),\"\")","v":""},null,null,null,null,null,null,null,null,null,null,null,null,null,null,null,null,null,null,null,null,null,null,null,null,null,null,null,null,null,null,null,null,null,null,null,null,null,null,null,null,null,null,null,null,null,null,null,null,null,null,null,null,null,null,null,null,null,null,null,null,null,null,null,null,null,null,null,null,null,null,null,null,null,null,null,null,null,null,null,null,null,null,null,null,null,null,null,null,null,null,"ZI01 H:REGULAR",118]
[{"$f":"IFERROR(IF(INDIRECT($A$14&ROW())<>\"\",COUNTIF([2]Summary!$B$30:$B$1029,INDIRECT($A$14&ROW())),\"\"),\"\")","v":""},null,null,null,null,null,null,null,null,null,null,null,null,null,null,null,null,null,null,null,null,null,null,null,null,null,null,null,null,null,null,null,null,null,null,null,null,null,null,null,null,null,null,null,null,null,null,null,null,null,null,null,null,null,null,null,null,null,null,null,null,null,null,null,null,null,null,null,null,null,null,null,null,null,null,null,null,null,null,null,null,null,null,null,null,null,null,null,null,null,null,"ZI02 H:MEMBER",32]
[{"$f":"IFERROR(IF(INDIRECT($A$14&ROW())<>\"\",COUNTIF([2]Summary!$B$30:$B$1029,INDIRECT($A$14&ROW())),\"\"),\"\")","v":""},null,null,null,null,null,null,null,null,null,null,null,null,null,null,null,null,null,null,null,null,null,null,null,null,null,null,null,null,null,null,null,null,null,null,null,null,null,null,null,null,null,null,null,null,null,null,null,null,null,null,null,null,null,null,null,null,null,null,null,null,null,null,null,null,null,null,null,null,null,null,null,null,null,null,null,null,null,null,null,null,null,null,null,null,null,null,null,null,null,null,"ZI04 H:4BP",3]
[{"$f":"IFERROR(IF(INDIRECT($A$14&ROW())<>\"\",COUNTIF([2]Summary!$B$30:$B$1029,INDIRECT($A$14&ROW())),\"\"),\"\")","v":""},null,null,null,null,null,null,null,null,null,null,null,null,null,null,null,null,null,null,null,null,null,null,null,null,null,null,null,null,null,null,null,null,null,null,null,null,null,null,null,null,null,null,null,null,null,null,null,null,null,null,null,null,null,null,null,null,null,null,null,null,null,null,null,null,null,null,null,null,null,null,null,null,null,null,null,null,null,null,null,null,null,null,null,null,null,null,null,null,null,null,"ZI12 H:CHILDREN",5]
[{"$f":"IFERROR(IF(INDIRECT($A$14&ROW())<>\"\",COUNTIF([2]Summary!$B$30:$B$1029,INDIRECT($A$14&ROW())),\"\"),\"\")","v":""},null,null,null,null,null,null,null,null,null,null,null,null,null,null,null,null,null,null,null,null,null,null,null,null,null,null,null,null,null,null,null,null,null,null,null,null,null,null,null,null,null,null,null,null,null,null,null,null,null,null,null,null,null,null,null,null,null,null,null,null,null,null,null,null,null,null,null,null,null,null,null,null,null,null,null,null,null,null,null,null,null,null,null,null,null,null,null,null,null,null,"ZJ01 N:REGULAR",84]
[{"$f":"IFERROR(IF(INDIRECT($A$14&ROW())<>\"\",COUNTIF([2]Summary!$B$30:$B$1029,INDIRECT($A$14&ROW())),\"\"),\"\")","v":""},null,null,null,null,null,null,null,null,null,null,null,null,null,null,null,null,null,null,null,null,null,null,null,null,null,null,null,null,null,null,null,null,null,null,null,null,null,null,null,null,null,null,null,null,null,null,null,null,null,null,null,null,null,null,null,null,null,null,null,null,null,null,null,null,null,null,null,null,null,null,null,null,null,null,null,null,null,null,null,null,null,null,null,null,null,null,null,null,null,null,"ZJ02 N:MEMBER",54]
[{"$f":"IFERROR(IF(INDIRECT($A$14&ROW())<>\"\",COUNTIF([2]Summary!$B$30:$B$1029,INDIRECT($A$14&ROW())),\"\"),\"\")","v":""},null,null,null,null,null,null,null,null,null,null,null,null,null,null,null,null,null,null,null,null,null,null,null,null,null,null,null,null,null,null,null,null,null,null,null,null,null,null,null,null,null,null,null,null,null,null,null,null,null,null,null,null,null,null,null,null,null,null,null,null,null,null,null,null,null,null,null,null,null,null,null,null,null,null,null,null,null,null,null,null,null,null,null,null,null,null,null,null,null,null,"ZJ03 N:ST MEMBER"]
[{"$f":"IFERROR(IF(INDIRECT($A$14&ROW())<>\"\",COUNTIF([2]Summary!$B$30:$B$1029,INDIRECT($A$14&ROW())),\"\"),\"\")","v":""},null,null,null,null,null,null,null,null,null,null,null,null,null,null,null,null,null,null,null,null,null,null,null,null,null,null,null,null,null,null,null,null,null,null,null,null,null,null,null,null,null,null,null,null,null,null,null,null,null,null,null,null,null,null,null,null,null,null,null,null,null,null,null,null,null,null,null,null,null,null,null,null,null,null,null,null,null,null,null,null,null,null,null,null,null,null,null,null,null,null,"ZJ04 N:4BP",6]
[{"$f":"IFERROR(IF(INDIRECT($A$14&ROW())<>\"\",COUNTIF([2]Summary!$B$30:$B$1029,INDIRECT($A$14&ROW())),\"\"),\"\")","v":""},null,null,null,null,null,null,null,null,null,null,null,null,null,null,null,null,null,null,null,null,null,null,null,null,null,null,null,null,null,null,null,null,null,null,null,null,null,null,null,null,null,null,null,null,null,null,null,null,null,null,null,null,null,null,null,null,null,null,null,null,null,null,null,null,null,null,null,null,null,null,null,null,null,null,null,null,null,null,null,null,null,null,null,null,null,null,null,null,null,null,"ZJ05 N:K DINNER",57]
[{"$f":"IFERROR(IF(INDIRECT($A$14&ROW())<>\"\",COUNTIF([2]Summary!$B$30:$B$1029,INDIRECT($A$14&ROW())),\"\"),\"\")","v":""},null,null,null,null,null,null,null,null,null,null,null,null,null,null,null,null,null,null,null,null,null,null,null,null,null,null,null,null,null,null,null,null,null,null,null,null,null,null,null,null,null,null,null,null,null,null,null,null,null,null,null,null,null,null,null,null,null,null,null,null,null,null,null,null,null,null,null,null,null,null,null,null,null,null,null,null,null,null,null,null,null,null,null,null,null,null,null,null,null,null,"ZJ06 N:XTD S ROOM",1]
[{"$f":"IFERROR(IF(INDIRECT($A$14&ROW())<>\"\",COUNTIF([2]Summary!$B$30:$B$1029,INDIRECT($A$14&ROW())),\"\"),\"\")","v":""},null,null,null,null,null,null,null,null,null,null,null,null,null,null,null,null,null,null,null,null,null,null,null,null,null,null,null,null,null,null,null,null,null,null,null,null,null,null,null,null,null,null,null,null,null,null,null,null,null,null,null,null,null,null,null,null,null,null,null,null,null,null,null,null,null,null,null,null,null,null,null,null,null,null,null,null,null,null,null,null,null,null,null,null,null,null,null,null,null,null,"ZJ07 N:XTD M ROOM",1]
[{"$f":"IFERROR(IF(INDIRECT($A$14&ROW())<>\"\",COUNTIF([2]Summary!$B$30:$B$1029,INDIRECT($A$14&ROW())),\"\"),\"\")","v":""},null,null,null,null,null,null,null,null,null,null,null,null,null,null,null,null,null,null,null,null,null,null,null,null,null,null,null,null,null,null,null,null,null,null,null,null,null,null,null,null,null,null,null,null,null,null,null,null,null,null,null,null,null,null,null,null,null,null,null,null,null,null,null,null,null,null,null,null,null,null,null,null,null,null,null,null,null,null,null,null,null,null,null,null,null,null,null,null,null,null,"Setia Walk Puchong"]
[{"$f":"IFERROR(IF(INDIRECT($A$14&ROW())<>\"\",COUNTIF([2]Summary!$B$30:$B$1029,INDIRECT($A$14&ROW())),\"\"),\"\")","v":""},null,null,null,null,null,null,null,null,null,null,null,null,null,null,null,null,null,null,null,null,null,null,null,null,null,null,null,null,null,null,null,null,null,null,null,null,null,null,null,null,null,null,null,null,null,null,null,null,null,null,null,null,null,null,null,null,null,null,null,null,null,null,null,null,null,null,null,null,null,null,null,null,null,null,null,null,null,null,null,null,null,null,null,null,null,null,null,null,null,null,"Sales Mix Report #2"]
[{"$f":"IFERROR(IF(INDIRECT($A$14&ROW())<>\"\",COUNTIF([2]Summary!$B$30:$B$1029,INDIRECT($A$14&ROW())),\"\"),\"\")","v":""},null,null,null,null,null,null,null,null,null,null,null,null,null,null,null,null,null,null,null,null,null,null,null,null,null,null,null,null,null,null,null,null,null,null,null,null,null,null,null,null,null,null,null,null,null,null,null,null,null,null,null,null,null,null,null,null,null,null,null,null,null,null,null,null,null,null,null,null,null,null,null,null,null,null,null,null,null,null,null,null,null,null,null,null,null,null,null,null,null,null,""]
[{"$f":"IFERROR(IF(INDIRECT($A$14&ROW())<>\"\",COUNTIF([2]Summary!$B$30:$B$1029,INDIRECT($A$14&ROW())),\"\"),\"\")","v":""},null,null,null,null,null,null,null,null,null,null,null,null,null,null,null,null,null,null,null,null,null,null,null,null,null,null,null,null,null,null,null,null,null,null,null,null,null,null,null,null,null,null,null,null,null,null,null,null,null,null,null,null,null,null,null,null,null,null,null,null,null,null,null,null,null,null,null,null,null,null,null,null,null,null,null,null,null,null,null,null,null,null,null,null,null,null,null,null,null,null,"Date: From 2014/01/01 (Wed) to 2014/01/31 (Fri)"]
[{"$f":"IFERROR(IF(INDIRECT($A$14&ROW())<>\"\",COUNTIF([2]Summary!$B$30:$B$1029,INDIRECT($A$14&ROW())),\"\"),\"\")","v":""},null,null,null,null,null,null,null,null,null,null,null,null,null,null,null,null,null,null,null,null,null,null,null,null,null,null,null,null,null,null,null,null,null,null,null,null,null,null,null,null,null,null,null,null,null,null,null,null,null,null,null,null,null,null,null,null,null,null,null,null,null,null,null,null,null,null,null,null,null,null,null,null,null,null,null,null,null,null,null,null,null,null,null,null,null,null,null,null,null,null,"Item Description","Dine In"]
[{"$f":"IFERROR(IF(INDIRECT($A$14&ROW())<>\"\",COUNTIF([2]Summary!$B$30:$B$1029,INDIRECT($A$14&ROW())),\"\"),\"\")","v":""},null,null,null,null,null,null,null,null,null,null,null,null,null,null,null,null,null,null,null,null,null,null,null,null,null,null,null,null,null,null,null,null,null,null,null,null,null,null,null,null,null,null,null,null,null,null,null,null,null,null,null,null,null,null,null,null,null,null,null,null,null,null,null,null,null,null,null,null,null,null,null,null,null,null,null,null,null,null,null,null,null,null,null,null,null,null,null,null,null,null,"ZJ12 N:CHILDREN",3]
[{"$f":"IFERROR(IF(INDIRECT($A$14&ROW())<>\"\",COUNTIF([2]Summary!$B$30:$B$1029,INDIRECT($A$14&ROW())),\"\"),\"\")","v":""},null,null,null,null,null,null,null,null,null,null,null,null,null,null,null,null,null,null,null,null,null,null,null,null,null,null,null,null,null,null,null,null,null,null,null,null,null,null,null,null,null,null,null,null,null,null,null,null,null,null,null,null,null,null,null,null,null,null,null,null,null,null,null,null,null,null,null,null,null,null,null,null,null,null,null,null,null,null,null,null,null,null,null,null,null,null,null,null,null,null,"ZK01 M:REGULAR",3]
[{"$f":"IFERROR(IF(INDIRECT($A$14&ROW())<>\"\",COUNTIF([2]Summary!$B$30:$B$1029,INDIRECT($A$14&ROW())),\"\"),\"\")","v":""},null,null,null,null,null,null,null,null,null,null,null,null,null,null,null,null,null,null,null,null,null,null,null,null,null,null,null,null,null,null,null,null,null,null,null,null,null,null,null,null,null,null,null,null,null,null,null,null,null,null,null,null,null,null,null,null,null,null,null,null,null,null,null,null,null,null,null,null,null,null,null,null,null,null,null,null,null,null,null,null,null,null,null,null,null,null,null,null,null,null,"ZKC03 LESS SPICY",1]
[{"$f":"IFERROR(IF(INDIRECT($A$14&ROW())<>\"\",COUNTIF([2]Summary!$B$30:$B$1029,INDIRECT($A$14&ROW())),\"\"),\"\")","v":""},null,null,null,null,null,null,null,null,null,null,null,null,null,null,null,null,null,null,null,null,null,null,null,null,null,null,null,null,null,null,null,null,null,null,null,null,null,null,null,null,null,null,null,null,null,null,null,null,null,null,null,null,null,null,null,null,null,null,null,null,null,null,null,null,null,null,null,null,null,null,null,null,null,null,null,null,null,null,null,null,null,null,null,null,null,null,null,null,null,null,"ZKC04 MORE SPICY",2]
[{"$f":"IFERROR(IF(INDIRECT($A$14&ROW())<>\"\",COUNTIF([2]Summary!$B$30:$B$1029,INDIRECT($A$14&ROW())),\"\"),\"\")","v":""},null,null,null,null,null,null,null,null,null,null,null,null,null,null,null,null,null,null,null,null,null,null,null,null,null,null,null,null,null,null,null,null,null,null,null,null,null,null,null,null,null,null,null,null,null,null,null,null,null,null,null,null,null,null,null,null,null,null,null,null,null,null,null,null,null,null,null,null,null,null,null,null,null,null,null,null,null,null,null,null,null,null,null,null,null,null,null,null,null,null,"ZKC05 NO VEGE",4]
[{"$f":"IFERROR(IF(INDIRECT($A$14&ROW())<>\"\",COUNTIF([2]Summary!$B$30:$B$1029,INDIRECT($A$14&ROW())),\"\"),\"\")","v":""},null,null,null,null,null,null,null,null,null,null,null,null,null,null,null,null,null,null,null,null,null,null,null,null,null,null,null,null,null,null,null,null,null,null,null,null,null,null,null,null,null,null,null,null,null,null,null,null,null,null,null,null,null,null,null,null,null,null,null,null,null,null,null,null,null,null,null,null,null,null,null,null,null,null,null,null,null,null,null,null,null,null,null,null,null,null,null,null,null,null,"ZKC16 TAKE AWAY",2]
[{"$f":"IFERROR(IF(INDIRECT($A$14&ROW())<>\"\",COUNTIF([2]Summary!$B$30:$B$1029,INDIRECT($A$14&ROW())),\"\"),\"\")","v":""},null,null,null,null,null,null,null,null,null,null,null,null,null,null,null,null,null,null,null,null,null,null,null,null,null,null,null,null,null,null,null,null,null,null,null,null,null,null,null,null,null,null,null,null,null,null,null,null,null,null,null,null,null,null,null,null,null,null,null,null,null,null,null,null,null,null,null,null,null,null,null,null,null,null,null,null,null,null,null,null,null,null,null,null,null,null,null,null,null,null,"ZKC17 REMARK - SALAD O",15]
[{"$f":"IFERROR(IF(INDIRECT($A$14&ROW())<>\"\",COUNTIF([2]Summary!$B$30:$B$1029,INDIRECT($A$14&ROW())),\"\"),\"\")","v":""},null,null,null,null,null,null,null,null,null,null,null,null,null,null,null,null,null,null,null,null,null,null,null,null,null,null,null,null,null,null,null,null,null,null,null,null,null,null,null,null,null,null,null,null,null,null,null,null,null,null,null,null,null,null,null,null,null,null,null,null,null,null,null,null,null,null,null,null,null,null,null,null,null,null,null,null,null,null,null,null,null,null,null,null,null,null,null,null,null,null,"ZL02 1022:TPR FSH CH",1]
[{"$f":"IFERROR(IF(INDIRECT($A$14&ROW())<>\"\",COUNTIF([2]Summary!$B$30:$B$1029,INDIRECT($A$14&ROW())),\"\"),\"\")","v":""},null,null,null,null,null,null,null,null,null,null,null,null,null,null,null,null,null,null,null,null,null,null,null,null,null,null,null,null,null,null,null,null,null,null,null,null,null,null,null,null,null,null,null,null,null,null,null,null,null,null,null,null,null,null,null,null,null,null,null,null,null,null,null,null,null,null,null,null,null,null,null,null,null,null,null,null,null,null,null,null,null,null,null,null,null,null,null,null,null,null,"ZL05 1025:CNY PLATTER",11]
[{"$f":"IFERROR(IF(INDIRECT($A$14&ROW())<>\"\",COUNTIF([2]Summary!$B$30:$B$1029,INDIRECT($A$14&ROW())),\"\"),\"\")","v":""},null,null,null,null,null,null,null,null,null,null,null,null,null,null,null,null,null,null,null,null,null,null,null,null,null,null,null,null,null,null,null,null,null,null,null,null,null,null,null,null,null,null,null,null,null,null,null,null,null,null,null,null,null,null,null,null,null,null,null,null,null,null,null,null,null,null,null,null,null,null,null,null,null,null,null,null,null,null,null,null,null,null,null,null,null,null,null,null,null,null,"ZL11 91021:PA CKN CP",8]
[{"$f":"IFERROR(IF(INDIRECT($A$14&ROW())<>\"\",COUNTIF([2]Summary!$B$30:$B$1029,INDIRECT($A$14&ROW())),\"\"),\"\")","v":""},null,null,null,null,null,null,null,null,null,null,null,null,null,null,null,null,null,null,null,null,null,null,null,null,null,null,null,null,null,null,null,null,null,null,null,null,null,null,null,null,null,null,null,null,null,null,null,null,null,null,null,null,null,null,null,null,null,null,null,null,null,null,null,null,null,null,null,null,null,null,null,null,null,null,null,null,null,null,null,null,null,null,null,null,null,null,null,null,null,null,"ZL12 91022:TPR FSH CH",5]
[{"$f":"IFERROR(IF(INDIRECT($A$14&ROW())<>\"\",COUNTIF([2]Summary!$B$30:$B$1029,INDIRECT($A$14&ROW())),\"\"),\"\")","v":""},null,null,null,null,null,null,null,null,null,null,null,null,null,null,null,null,null,null,null,null,null,null,null,null,null,null,null,null,null,null,null,null,null,null,null,null,null,null,null,null,null,null,null,null,null,null,null,null,null,null,null,null,null,null,null,null,null,null,null,null,null,null,null,null,null,null,null,null,null,null,null,null,null,null,null,null,null,null,null,null,null,null,null,null,null,null,null,null,null,null,"ZL13 91023:LMN FSH FL",6]
[{"$f":"IFERROR(IF(INDIRECT($A$14&ROW())<>\"\",COUNTIF([2]Summary!$B$30:$B$1029,INDIRECT($A$14&ROW())),\"\"),\"\")","v":""},null,null,null,null,null,null,null,null,null,null,null,null,null,null,null,null,null,null,null,null,null,null,null,null,null,null,null,null,null,null,null,null,null,null,null,null,null,null,null,null,null,null,null,null,null,null,null,null,null,null,null,null,null,null,null,null,null,null,null,null,null,null,null,null,null,null,null,null,null,null,null,null,null,null,null,null,null,null,null,null,null,null,null,null,null,null,null,null,null,null,"ZL14 91024:SF RICE",9]
[{"$f":"IFERROR(IF(INDIRECT($A$14&ROW())<>\"\",COUNTIF([2]Summary!$B$30:$B$1029,INDIRECT($A$14&ROW())),\"\"),\"\")","v":""},null,null,null,null,null,null,null,null,null,null,null,null,null,null,null,null,null,null,null,null,null,null,null,null,null,null,null,null,null,null,null,null,null,null,null,null,null,null,null,null,null,null,null,null,null,null,null,null,null,null,null,null,null,null,null,null,null,null,null,null,null,null,null,null,null,null,null,null,null,null,null,null,null,null,null,null,null,null,null,null,null,null,null,null,null,null,null,null,null,null,"ZRM01 REASON - RED WIN",6]
[{"$f":"IFERROR(IF(INDIRECT($A$14&ROW())<>\"\",COUNTIF([2]Summary!$B$30:$B$1029,INDIRECT($A$14&ROW())),\"\"),\"\")","v":""},null,null,null,null,null,null,null,null,null,null,null,null,null,null,null,null,null,null,null,null,null,null,null,null,null,null,null,null,null,null,null,null,null,null,null,null,null,null,null,null,null,null,null,null,null,null,null,null,null,null,null,null,null,null,null,null,null,null,null,null,null,null,null,null,null,null,null,null,null,null,null,null,null,null,null,null,null,null,null,null,null,null,null,null,null,null,null,null,null,null,"ZZZZZ CHANGE TO CHARGE"]
[{"$f":"IFERROR(IF(INDIRECT($A$14&ROW())<>\"\",COUNTIF([2]Summary!$B$30:$B$1029,INDIRECT($A$14&ROW())),\"\"),\"\")","v":""},null,null,null,null,null,null,null,null,null,null,null,null,null,null,null,null,null,null,null,null,null,null,null,null,null,null,null,null,null,null,null,null,null,null,null,null,null,null,null,null,null,null,null,null,null,null,null,null,null,null,null,null,null,null,null,null,null,null,null,null,null,null,null,null,null,null,null,null,null,null,null,null,null,null,null,null,null,null,null,null,null,null,null,null,null,null,null,null,null,null,"Grand-Total:",48829]
[{"$f":"IFERROR(IF(INDIRECT($A$14&ROW())<>\"\",COUNTIF([2]Summary!$B$30:$B$1029,INDIRECT($A$14&ROW())),\"\"),\"\")","v":""}]
[{"$f":"IFERROR(IF(INDIRECT($A$14&ROW())<>\"\",COUNTIF([2]Summary!$B$30:$B$1029,INDIRECT($A$14&ROW())),\"\"),\"\")","v":""}]
[{"$f":"IFERROR(IF(INDIRECT($A$14&ROW())<>\"\",COUNTIF([2]Summary!$B$30:$B$1029,INDIRECT($A$14&ROW())),\"\"),\"\")","v":""}]
[{"$f":"IFERROR(IF(INDIRECT($A$14&ROW())<>\"\",COUNTIF([2]Summary!$B$30:$B$1029,INDIRECT($A$14&ROW())),\"\"),\"\")","v":""}]
[{"$f":"IFERROR(IF(INDIRECT($A$14&ROW())<>\"\",COUNTIF([2]Summary!$B$30:$B$1029,INDIRECT($A$14&ROW())),\"\"),\"\")","v":""}]
[{"$f":"IFERROR(IF(INDIRECT($A$14&ROW())<>\"\",COUNTIF([2]Summary!$B$30:$B$1029,INDIRECT($A$14&ROW())),\"\"),\"\")","v":""}]
[{"$f":"IFERROR(IF(INDIRECT($A$14&ROW())<>\"\",COUNTIF([2]Summary!$B$30:$B$1029,INDIRECT($A$14&ROW())),\"\"),\"\")","v":""}]
[{"$f":"IFERROR(IF(INDIRECT($A$14&ROW())<>\"\",COUNTIF([2]Summary!$B$30:$B$1029,INDIRECT($A$14&ROW())),\"\"),\"\")","v":""}]
[{"$f":"IFERROR(IF(INDIRECT($A$14&ROW())<>\"\",COUNTIF([2]Summary!$B$30:$B$1029,INDIRECT($A$14&ROW())),\"\"),\"\")","v":""}]
[{"$f":"IFERROR(IF(INDIRECT($A$14&ROW())<>\"\",COUNTIF([2]Summary!$B$30:$B$1029,INDIRECT($A$14&ROW())),\"\"),\"\")","v":""}]
[{"$f":"IFERROR(IF(INDIRECT($A$14&ROW())<>\"\",COUNTIF([2]Summary!$B$30:$B$1029,INDIRECT($A$14&ROW())),\"\"),\"\")","v":""}]
[{"$f":"IFERROR(IF(INDIRECT($A$14&ROW())<>\"\",COUNTIF([2]Summary!$B$30:$B$1029,INDIRECT($A$14&ROW())),\"\"),\"\")","v":""}]
[{"$f":"IFERROR(IF(INDIRECT($A$14&ROW())<>\"\",COUNTIF([2]Summary!$B$30:$B$1029,INDIRECT($A$14&ROW())),\"\"),\"\")","v":""}]
[{"$f":"IFERROR(IF(INDIRECT($A$14&ROW())<>\"\",COUNTIF([2]Summary!$B$30:$B$1029,INDIRECT($A$14&ROW())),\"\"),\"\")","v":""}]
[{"$f":"IFERROR(IF(INDIRECT($A$14&ROW())<>\"\",COUNTIF([2]Summary!$B$30:$B$1029,INDIRECT($A$14&ROW())),\"\"),\"\")","v":""}]
[{"$f":"IFERROR(IF(INDIRECT($A$14&ROW())<>\"\",COUNTIF([2]Summary!$B$30:$B$1029,INDIRECT($A$14&ROW())),\"\"),\"\")","v":""}]
[{"$f":"IFERROR(IF(INDIRECT($A$14&ROW())<>\"\",COUNTIF([2]Summary!$B$30:$B$1029,INDIRECT($A$14&ROW())),\"\"),\"\")","v":""}]
[{"$f":"IFERROR(IF(INDIRECT($A$14&ROW())<>\"\",COUNTIF([2]Summary!$B$30:$B$1029,INDIRECT($A$14&ROW())),\"\"),\"\")","v":""}]
[{"$f":"IFERROR(IF(INDIRECT($A$14&ROW())<>\"\",COUNTIF([2]Summary!$B$30:$B$1029,INDIRECT($A$14&ROW())),\"\"),\"\")","v":""}]
[{"$f":"IFERROR(IF(INDIRECT($A$14&ROW())<>\"\",COUNTIF([2]Summary!$B$30:$B$1029,INDIRECT($A$14&ROW())),\"\"),\"\")","v":""}]
[{"$f":"IFERROR(IF(INDIRECT($A$14&ROW())<>\"\",COUNTIF([2]Summary!$B$30:$B$1029,INDIRECT($A$14&ROW())),\"\"),\"\")","v":""}]
[{"$f":"IFERROR(IF(INDIRECT($A$14&ROW())<>\"\",COUNTIF([2]Summary!$B$30:$B$1029,INDIRECT($A$14&ROW())),\"\"),\"\")","v":""}]
[{"$f":"IFERROR(IF(INDIRECT($A$14&ROW())<>\"\",COUNTIF([2]Summary!$B$30:$B$1029,INDIRECT($A$14&ROW())),\"\"),\"\")","v":""}]
[{"$f":"IFERROR(IF(INDIRECT($A$14&ROW())<>\"\",COUNTIF([2]Summary!$B$30:$B$1029,INDIRECT($A$14&ROW())),\"\"),\"\")","v":""}]
[{"$f":"IFERROR(IF(INDIRECT($A$14&ROW())<>\"\",COUNTIF([2]Summary!$B$30:$B$1029,INDIRECT($A$14&ROW())),\"\"),\"\")","v":""}]
[{"$f":"IFERROR(IF(INDIRECT($A$14&ROW())<>\"\",COUNTIF([2]Summary!$B$30:$B$1029,INDIRECT($A$14&ROW())),\"\"),\"\")","v":""}]
[{"$f":"IFERROR(IF(INDIRECT($A$14&ROW())<>\"\",COUNTIF([2]Summary!$B$30:$B$1029,INDIRECT($A$14&ROW())),\"\"),\"\")","v":""}]
[{"$f":"IFERROR(IF(INDIRECT($A$14&ROW())<>\"\",COUNTIF([2]Summary!$B$30:$B$1029,INDIRECT($A$14&ROW())),\"\"),\"\")","v":""}]
[{"$f":"IFERROR(IF(INDIRECT($A$14&ROW())<>\"\",COUNTIF([2]Summary!$B$30:$B$1029,INDIRECT($A$14&ROW())),\"\"),\"\")","v":""}]
[{"$f":"IFERROR(IF(INDIRECT($A$14&ROW())<>\"\",COUNTIF([2]Summary!$B$30:$B$1029,INDIRECT($A$14&ROW())),\"\"),\"\")","v":""}]
[{"$f":"IFERROR(IF(INDIRECT($A$14&ROW())<>\"\",COUNTIF([2]Summary!$B$30:$B$1029,INDIRECT($A$14&ROW())),\"\"),\"\")","v":""}]
[{"$f":"IFERROR(IF(INDIRECT($A$14&ROW())<>\"\",COUNTIF([2]Summary!$B$30:$B$1029,INDIRECT($A$14&ROW())),\"\"),\"\")","v":""}]
[{"$f":"IFERROR(IF(INDIRECT($A$14&ROW())<>\"\",COUNTIF([2]Summary!$B$30:$B$1029,INDIRECT($A$14&ROW())),\"\"),\"\")","v":""}]
[{"$f":"IFERROR(IF(INDIRECT($A$14&ROW())<>\"\",COUNTIF([2]Summary!$B$30:$B$1029,INDIRECT($A$14&ROW())),\"\"),\"\")","v":""}]
[{"$f":"IFERROR(IF(INDIRECT($A$14&ROW())<>\"\",COUNTIF([2]Summary!$B$30:$B$1029,INDIRECT($A$14&ROW())),\"\"),\"\")","v":""}]
[{"$f":"IFERROR(IF(INDIRECT($A$14&ROW())<>\"\",COUNTIF([2]Summary!$B$30:$B$1029,INDIRECT($A$14&ROW())),\"\"),\"\")","v":""}]
[{"$f":"IFERROR(IF(INDIRECT($A$14&ROW())<>\"\",COUNTIF([2]Summary!$B$30:$B$1029,INDIRECT($A$14&ROW())),\"\"),\"\")","v":""}]
[{"$f":"IFERROR(IF(INDIRECT($A$14&ROW())<>\"\",COUNTIF([2]Summary!$B$30:$B$1029,INDIRECT($A$14&ROW())),\"\"),\"\")","v":""}]
[{"$f":"IFERROR(IF(INDIRECT($A$14&ROW())<>\"\",COUNTIF([2]Summary!$B$30:$B$1029,INDIRECT($A$14&ROW())),\"\"),\"\")","v":""}]
[{"$f":"IFERROR(IF(INDIRECT($A$14&ROW())<>\"\",COUNTIF([2]Summary!$B$30:$B$1029,INDIRECT($A$14&ROW())),\"\"),\"\")","v":""}]
[{"$f":"IFERROR(IF(INDIRECT($A$14&ROW())<>\"\",COUNTIF([2]Summary!$B$30:$B$1029,INDIRECT($A$14&ROW())),\"\"),\"\")","v":""}]
[{"$f":"IFERROR(IF(INDIRECT($A$14&ROW())<>\"\",COUNTIF([2]Summary!$B$30:$B$1029,INDIRECT($A$14&ROW())),\"\"),\"\")","v":""}]
[{"$f":"IFERROR(IF(INDIRECT($A$14&ROW())<>\"\",COUNTIF([2]Summary!$B$30:$B$1029,INDIRECT($A$14&ROW())),\"\"),\"\")","v":""}]
[{"$f":"IFERROR(IF(INDIRECT($A$14&ROW())<>\"\",COUNTIF([2]Summary!$B$30:$B$1029,INDIRECT($A$14&ROW())),\"\"),\"\")","v":""}]
[{"$f":"IFERROR(IF(INDIRECT($A$14&ROW())<>\"\",COUNTIF([2]Summary!$B$30:$B$1029,INDIRECT($A$14&ROW())),\"\"),\"\")","v":""}]
[{"$f":"IFERROR(IF(INDIRECT($A$14&ROW())<>\"\",COUNTIF([2]Summary!$B$30:$B$1029,INDIRECT($A$14&ROW())),\"\"),\"\")","v":""}]
[{"$f":"IFERROR(IF(INDIRECT($A$14&ROW())<>\"\",COUNTIF([2]Summary!$B$30:$B$1029,INDIRECT($A$14&ROW())),\"\"),\"\")","v":""}]
[{"$f":"IFERROR(IF(INDIRECT($A$14&ROW())<>\"\",COUNTIF([2]Summary!$B$30:$B$1029,INDIRECT($A$14&ROW())),\"\"),\"\")","v":""}]
[{"$f":"IFERROR(IF(INDIRECT($A$14&ROW())<>\"\",COUNTIF([2]Summary!$B$30:$B$1029,INDIRECT($A$14&ROW())),\"\"),\"\")","v":""}]
[{"$f":"IFERROR(IF(INDIRECT($A$14&ROW())<>\"\",COUNTIF([2]Summary!$B$30:$B$1029,INDIRECT($A$14&ROW())),\"\"),\"\")","v":""}]
[{"$f":"IFERROR(IF(INDIRECT($A$14&ROW())<>\"\",COUNTIF([2]Summary!$B$30:$B$1029,INDIRECT($A$14&ROW())),\"\"),\"\")","v":""}]
[{"$f":"IFERROR(IF(INDIRECT($A$14&ROW())<>\"\",COUNTIF([2]Summary!$B$30:$B$1029,INDIRECT($A$14&ROW())),\"\"),\"\")","v":""}]
[{"$f":"IFERROR(IF(INDIRECT($A$14&ROW())<>\"\",COUNTIF([2]Summary!$B$30:$B$1029,INDIRECT($A$14&ROW())),\"\"),\"\")","v":""}]
[{"$f":"IFERROR(IF(INDIRECT($A$14&ROW())<>\"\",COUNTIF([2]Summary!$B$30:$B$1029,INDIRECT($A$14&ROW())),\"\"),\"\")","v":""}]
[{"$f":"IFERROR(IF(INDIRECT($A$14&ROW())<>\"\",COUNTIF([2]Summary!$B$30:$B$1029,INDIRECT($A$14&ROW())),\"\"),\"\")","v":""}]
[{"$f":"IFERROR(IF(INDIRECT($A$14&ROW())<>\"\",COUNTIF([2]Summary!$B$30:$B$1029,INDIRECT($A$14&ROW())),\"\"),\"\")","v":""}]
[{"$f":"IFERROR(IF(INDIRECT($A$14&ROW())<>\"\",COUNTIF([2]Summary!$B$30:$B$1029,INDIRECT($A$14&ROW())),\"\"),\"\")","v":""}]
[{"$f":"IFERROR(IF(INDIRECT($A$14&ROW())<>\"\",COUNTIF([2]Summary!$B$30:$B$1029,INDIRECT($A$14&ROW())),\"\"),\"\")","v":""}]
[{"$f":"IFERROR(IF(INDIRECT($A$14&ROW())<>\"\",COUNTIF([2]Summary!$B$30:$B$1029,INDIRECT($A$14&ROW())),\"\"),\"\")","v":""}]
[{"$f":"IFERROR(IF(INDIRECT($A$14&ROW())<>\"\",COUNTIF([2]Summary!$B$30:$B$1029,INDIRECT($A$14&ROW())),\"\"),\"\")","v":""}]
[{"$f":"IFERROR(IF(INDIRECT($A$14&ROW())<>\"\",COUNTIF([2]Summary!$B$30:$B$1029,INDIRECT($A$14&ROW())),\"\"),\"\")","v":""}]
[{"$f":"IFERROR(IF(INDIRECT($A$14&ROW())<>\"\",COUNTIF([2]Summary!$B$30:$B$1029,INDIRECT($A$14&ROW())),\"\"),\"\")","v":""}]
[{"$f":"IFERROR(IF(INDIRECT($A$14&ROW())<>\"\",COUNTIF([2]Summary!$B$30:$B$1029,INDIRECT($A$14&ROW())),\"\"),\"\")","v":""}]
[{"$f":"IFERROR(IF(INDIRECT($A$14&ROW())<>\"\",COUNTIF([2]Summary!$B$30:$B$1029,INDIRECT($A$14&ROW())),\"\"),\"\")","v":""}]
[{"$f":"IFERROR(IF(INDIRECT($A$14&ROW())<>\"\",COUNTIF([2]Summary!$B$30:$B$1029,INDIRECT($A$14&ROW())),\"\"),\"\")","v":""}]
[{"$f":"IFERROR(IF(INDIRECT($A$14&ROW())<>\"\",COUNTIF([2]Summary!$B$30:$B$1029,INDIRECT($A$14&ROW())),\"\"),\"\")","v":""}]
[{"$f":"IFERROR(IF(INDIRECT($A$14&ROW())<>\"\",COUNTIF([2]Summary!$B$30:$B$1029,INDIRECT($A$14&ROW())),\"\"),\"\")","v":""}]
[{"$f":"IFERROR(IF(INDIRECT($A$14&ROW())<>\"\",COUNTIF([2]Summary!$B$30:$B$1029,INDIRECT($A$14&ROW())),\"\"),\"\")","v":""}]
[{"$f":"IFERROR(IF(INDIRECT($A$14&ROW())<>\"\",COUNTIF([2]Summary!$B$30:$B$1029,INDIRECT($A$14&ROW())),\"\"),\"\")","v":""}]
[{"$f":"IFERROR(IF(INDIRECT($A$14&ROW())<>\"\",COUNTIF([2]Summary!$B$30:$B$1029,INDIRECT($A$14&ROW())),\"\"),\"\")","v":""}]
[{"$f":"IFERROR(IF(INDIRECT($A$14&ROW())<>\"\",COUNTIF([2]Summary!$B$30:$B$1029,INDIRECT($A$14&ROW())),\"\"),\"\")","v":""}]
[{"$f":"IFERROR(IF(INDIRECT($A$14&ROW())<>\"\",COUNTIF([2]Summary!$B$30:$B$1029,INDIRECT($A$14&ROW())),\"\"),\"\")","v":""}]
[{"$f":"IFERROR(IF(INDIRECT($A$14&ROW())<>\"\",COUNTIF([2]Summary!$B$30:$B$1029,INDIRECT($A$14&ROW())),\"\"),\"\")","v":""}]
[{"$f":"IFERROR(IF(INDIRECT($A$14&ROW())<>\"\",COUNTIF([2]Summary!$B$30:$B$1029,INDIRECT($A$14&ROW())),\"\"),\"\")","v":""}]
[{"$f":"IFERROR(IF(INDIRECT($A$14&ROW())<>\"\",COUNTIF([2]Summary!$B$30:$B$1029,INDIRECT($A$14&ROW())),\"\"),\"\")","v":""}]
[{"$f":"IFERROR(IF(INDIRECT($A$14&ROW())<>\"\",COUNTIF([2]Summary!$B$30:$B$1029,INDIRECT($A$14&ROW())),\"\"),\"\")","v":""}]
[{"$f":"IFERROR(IF(INDIRECT($A$14&ROW())<>\"\",COUNTIF([2]Summary!$B$30:$B$1029,INDIRECT($A$14&ROW())),\"\"),\"\")","v":""}]
[{"$f":"IFERROR(IF(INDIRECT($A$14&ROW())<>\"\",COUNTIF([2]Summary!$B$30:$B$1029,INDIRECT($A$14&ROW())),\"\"),\"\")","v":""}]
[{"$f":"IFERROR(IF(INDIRECT($A$14&ROW())<>\"\",COUNTIF([2]Summary!$B$30:$B$1029,INDIRECT($A$14&ROW())),\"\"),\"\")","v":""}]
[{"$f":"IFERROR(IF(INDIRECT($A$14&ROW())<>\"\",COUNTIF([2]Summary!$B$30:$B$1029,INDIRECT($A$14&ROW())),\"\"),\"\")","v":""}]
[{"$f":"IFERROR(IF(INDIRECT($A$14&ROW())<>\"\",COUNTIF([2]Summary!$B$30:$B$1029,INDIRECT($A$14&ROW())),\"\"),\"\")","v":""}]
[{"$f":"IFERROR(IF(INDIRECT($A$14&ROW())<>\"\",COUNTIF([2]Summary!$B$30:$B$1029,INDIRECT($A$14&ROW())),\"\"),\"\")","v":""}]
[{"$f":"IFERROR(IF(INDIRECT($A$14&ROW())<>\"\",COUNTIF([2]Summary!$B$30:$B$1029,INDIRECT($A$14&ROW())),\"\"),\"\")","v":""}]
[{"$f":"IFERROR(IF(INDIRECT($A$14&ROW())<>\"\",COUNTIF([2]Summary!$B$30:$B$1029,INDIRECT($A$14&ROW())),\"\"),\"\")","v":""}]
[{"$f":"IFERROR(IF(INDIRECT($A$14&ROW())<>\"\",COUNTIF([2]Summary!$B$30:$B$1029,INDIRECT($A$14&ROW())),\"\"),\"\")","v":""}]
[{"$f":"IFERROR(IF(INDIRECT($A$14&ROW())<>\"\",COUNTIF([2]Summary!$B$30:$B$1029,INDIRECT($A$14&ROW())),\"\"),\"\")","v":""}]
[{"$f":"IFERROR(IF(INDIRECT($A$14&ROW())<>\"\",COUNTIF([2]Summary!$B$30:$B$1029,INDIRECT($A$14&ROW())),\"\"),\"\")","v":""}]
[{"$f":"IFERROR(IF(INDIRECT($A$14&ROW())<>\"\",COUNTIF([2]Summary!$B$30:$B$1029,INDIRECT($A$14&ROW())),\"\"),\"\")","v":""}]
[{"$f":"IFERROR(IF(INDIRECT($A$14&ROW())<>\"\",COUNTIF([2]Summary!$B$30:$B$1029,INDIRECT($A$14&ROW())),\"\"),\"\")","v":""}]
[{"$f":"IFERROR(IF(INDIRECT($A$14&ROW())<>\"\",COUNTIF([2]Summary!$B$30:$B$1029,INDIRECT($A$14&ROW())),\"\"),\"\")","v":""}]
[{"$f":"IFERROR(IF(INDIRECT($A$14&ROW())<>\"\",COUNTIF([2]Summary!$B$30:$B$1029,INDIRECT($A$14&ROW())),\"\"),\"\")","v":""}]
[{"$f":"IFERROR(IF(INDIRECT($A$14&ROW())<>\"\",COUNTIF([2]Summary!$B$30:$B$1029,INDIRECT($A$14&ROW())),\"\"),\"\")","v":""}]
[{"$f":"IFERROR(IF(INDIRECT($A$14&ROW())<>\"\",COUNTIF([2]Summary!$B$30:$B$1029,INDIRECT($A$14&ROW())),\"\"),\"\")","v":""}]
[{"$f":"IFERROR(IF(INDIRECT($A$14&ROW())<>\"\",COUNTIF([2]Summary!$B$30:$B$1029,INDIRECT($A$14&ROW())),\"\"),\"\")","v":""}]
[{"$f":"IFERROR(IF(INDIRECT($A$14&ROW())<>\"\",COUNTIF([2]Summary!$B$30:$B$1029,INDIRECT($A$14&ROW())),\"\"),\"\")","v":""}]
[{"$f":"IFERROR(IF(INDIRECT($A$14&ROW())<>\"\",COUNTIF([2]Summary!$B$30:$B$1029,INDIRECT($A$14&ROW())),\"\"),\"\")","v":""}]
[{"$f":"IFERROR(IF(INDIRECT($A$14&ROW())<>\"\",COUNTIF([2]Summary!$B$30:$B$1029,INDIRECT($A$14&ROW())),\"\"),\"\")","v":""}]
[{"$f":"IFERROR(IF(INDIRECT($A$14&ROW())<>\"\",COUNTIF([2]Summary!$B$30:$B$1029,INDIRECT($A$14&ROW())),\"\"),\"\")","v":""}]
[{"$f":"IFERROR(IF(INDIRECT($A$14&ROW())<>\"\",COUNTIF([2]Summary!$B$30:$B$1029,INDIRECT($A$14&ROW())),\"\"),\"\")","v":""}]
[{"$f":"IFERROR(IF(INDIRECT($A$14&ROW())<>\"\",COUNTIF([2]Summary!$B$30:$B$1029,INDIRECT($A$14&ROW())),\"\"),\"\")","v":""}]
[{"$f":"IFERROR(IF(INDIRECT($A$14&ROW())<>\"\",COUNTIF([2]Summary!$B$30:$B$1029,INDIRECT($A$14&ROW())),\"\"),\"\")","v":""}]
[{"$f":"IFERROR(IF(INDIRECT($A$14&ROW())<>\"\",COUNTIF([2]Summary!$B$30:$B$1029,INDIRECT($A$14&ROW())),\"\"),\"\")","v":""}]
[{"$f":"IFERROR(IF(INDIRECT($A$14&ROW())<>\"\",COUNTIF([2]Summary!$B$30:$B$1029,INDIRECT($A$14&ROW())),\"\"),\"\")","v":""}]
[{"$f":"IFERROR(IF(INDIRECT($A$14&ROW())<>\"\",COUNTIF([2]Summary!$B$30:$B$1029,INDIRECT($A$14&ROW())),\"\"),\"\")","v":""}]
[{"$f":"IFERROR(IF(INDIRECT($A$14&ROW())<>\"\",COUNTIF([2]Summary!$B$30:$B$1029,INDIRECT($A$14&ROW())),\"\"),\"\")","v":""}]
[{"$f":"IFERROR(IF(INDIRECT($A$14&ROW())<>\"\",COUNTIF([2]Summary!$B$30:$B$1029,INDIRECT($A$14&ROW())),\"\"),\"\")","v":""}]
[{"$f":"IFERROR(IF(INDIRECT($A$14&ROW())<>\"\",COUNTIF([2]Summary!$B$30:$B$1029,INDIRECT($A$14&ROW())),\"\"),\"\")","v":""}]
[{"$f":"IFERROR(IF(INDIRECT($A$14&ROW())<>\"\",COUNTIF([2]Summary!$B$30:$B$1029,INDIRECT($A$14&ROW())),\"\"),\"\")","v":""}]
[{"$f":"IFERROR(IF(INDIRECT($A$14&ROW())<>\"\",COUNTIF([2]Summary!$B$30:$B$1029,INDIRECT($A$14&ROW())),\"\"),\"\")","v":""}]
[{"$f":"IFERROR(IF(INDIRECT($A$14&ROW())<>\"\",COUNTIF([2]Summary!$B$30:$B$1029,INDIRECT($A$14&ROW())),\"\"),\"\")","v":""}]
[{"$f":"IFERROR(IF(INDIRECT($A$14&ROW())<>\"\",COUNTIF([2]Summary!$B$30:$B$1029,INDIRECT($A$14&ROW())),\"\"),\"\")","v":""}]
[{"$f":"IFERROR(IF(INDIRECT($A$14&ROW())<>\"\",COUNTIF([2]Summary!$B$30:$B$1029,INDIRECT($A$14&ROW())),\"\"),\"\")","v":""}]
[{"$f":"IFERROR(IF(INDIRECT($A$14&ROW())<>\"\",COUNTIF([2]Summary!$B$30:$B$1029,INDIRECT($A$14&ROW())),\"\"),\"\")","v":""}]
[{"$f":"IFERROR(IF(INDIRECT($A$14&ROW())<>\"\",COUNTIF([2]Summary!$B$30:$B$1029,INDIRECT($A$14&ROW())),\"\"),\"\")","v":""}]
[{"$f":"IFERROR(IF(INDIRECT($A$14&ROW())<>\"\",COUNTIF([2]Summary!$B$30:$B$1029,INDIRECT($A$14&ROW())),\"\"),\"\")","v":""}]
[{"$f":"IFERROR(IF(INDIRECT($A$14&ROW())<>\"\",COUNTIF([2]Summary!$B$30:$B$1029,INDIRECT($A$14&ROW())),\"\"),\"\")","v":""}]
[{"$f":"IFERROR(IF(INDIRECT($A$14&ROW())<>\"\",COUNTIF([2]Summary!$B$30:$B$1029,INDIRECT($A$14&ROW())),\"\"),\"\")","v":""}]
[{"$f":"IFERROR(IF(INDIRECT($A$14&ROW())<>\"\",COUNTIF([2]Summary!$B$30:$B$1029,INDIRECT($A$14&ROW())),\"\"),\"\")","v":""}]
[{"$f":"IFERROR(IF(INDIRECT($A$14&ROW())<>\"\",COUNTIF([2]Summary!$B$30:$B$1029,INDIRECT($A$14&ROW())),\"\"),\"\")","v":""}]
[{"$f":"IFERROR(IF(INDIRECT($A$14&ROW())<>\"\",COUNTIF([2]Summary!$B$30:$B$1029,INDIRECT($A$14&ROW())),\"\"),\"\")","v":""}]
[{"$f":"IFERROR(IF(INDIRECT($A$14&ROW())<>\"\",COUNTIF([2]Summary!$B$30:$B$1029,INDIRECT($A$14&ROW())),\"\"),\"\")","v":""}]
[{"$f":"IFERROR(IF(INDIRECT($A$14&ROW())<>\"\",COUNTIF([2]Summary!$B$30:$B$1029,INDIRECT($A$14&ROW())),\"\"),\"\")","v":""}]
[{"$f":"IFERROR(IF(INDIRECT($A$14&ROW())<>\"\",COUNTIF([2]Summary!$B$30:$B$1029,INDIRECT($A$14&ROW())),\"\"),\"\")","v":""}]
[{"$f":"IFERROR(IF(INDIRECT($A$14&ROW())<>\"\",COUNTIF([2]Summary!$B$30:$B$1029,INDIRECT($A$14&ROW())),\"\"),\"\")","v":""}]
[{"$f":"IFERROR(IF(INDIRECT($A$14&ROW())<>\"\",COUNTIF([2]Summary!$B$30:$B$1029,INDIRECT($A$14&ROW())),\"\"),\"\")","v":""}]
[{"$f":"IFERROR(IF(INDIRECT($A$14&ROW())<>\"\",COUNTIF([2]Summary!$B$30:$B$1029,INDIRECT($A$14&ROW())),\"\"),\"\")","v":""}]
[{"$f":"IFERROR(IF(INDIRECT($A$14&ROW())<>\"\",COUNTIF([2]Summary!$B$30:$B$1029,INDIRECT($A$14&ROW())),\"\"),\"\")","v":""}]
[{"$f":"IFERROR(IF(INDIRECT($A$14&ROW())<>\"\",COUNTIF([2]Summary!$B$30:$B$1029,INDIRECT($A$14&ROW())),\"\"),\"\")","v":""}]
[{"$f":"IFERROR(IF(INDIRECT($A$14&ROW())<>\"\",COUNTIF([2]Summary!$B$30:$B$1029,INDIRECT($A$14&ROW())),\"\"),\"\")","v":""}]
[{"$f":"IFERROR(IF(INDIRECT($A$14&ROW())<>\"\",COUNTIF([2]Summary!$B$30:$B$1029,INDIRECT($A$14&ROW())),\"\"),\"\")","v":""}]
[{"$f":"IFERROR(IF(INDIRECT($A$14&ROW())<>\"\",COUNTIF([2]Summary!$B$30:$B$1029,INDIRECT($A$14&ROW())),\"\"),\"\")","v":""}]
[{"$f":"IFERROR(IF(INDIRECT($A$14&ROW())<>\"\",COUNTIF([2]Summary!$B$30:$B$1029,INDIRECT($A$14&ROW())),\"\"),\"\")","v":""}]
[{"$f":"IFERROR(IF(INDIRECT($A$14&ROW())<>\"\",COUNTIF([2]Summary!$B$30:$B$1029,INDIRECT($A$14&ROW())),\"\"),\"\")","v":""}]
[{"$f":"IFERROR(IF(INDIRECT($A$14&ROW())<>\"\",COUNTIF([2]Summary!$B$30:$B$1029,INDIRECT($A$14&ROW())),\"\"),\"\")","v":""}]
[{"$f":"IFERROR(IF(INDIRECT($A$14&ROW())<>\"\",COUNTIF([2]Summary!$B$30:$B$1029,INDIRECT($A$14&ROW())),\"\"),\"\")","v":""}]
[{"$f":"IFERROR(IF(INDIRECT($A$14&ROW())<>\"\",COUNTIF([2]Summary!$B$30:$B$1029,INDIRECT($A$14&ROW())),\"\"),\"\")","v":""}]
[{"$f":"IFERROR(IF(INDIRECT($A$14&ROW())<>\"\",COUNTIF([2]Summary!$B$30:$B$1029,INDIRECT($A$14&ROW())),\"\"),\"\")","v":""}]
[{"$f":"IFERROR(IF(INDIRECT($A$14&ROW())<>\"\",COUNTIF([2]Summary!$B$30:$B$1029,INDIRECT($A$14&ROW())),\"\"),\"\")","v":""}]
[{"$f":"IFERROR(IF(INDIRECT($A$14&ROW())<>\"\",COUNTIF([2]Summary!$B$30:$B$1029,INDIRECT($A$14&ROW())),\"\"),\"\")","v":""}]
[{"$f":"IFERROR(IF(INDIRECT($A$14&ROW())<>\"\",COUNTIF([2]Summary!$B$30:$B$1029,INDIRECT($A$14&ROW())),\"\"),\"\")","v":""}]
[{"$f":"IFERROR(IF(INDIRECT($A$14&ROW())<>\"\",COUNTIF([2]Summary!$B$30:$B$1029,INDIRECT($A$14&ROW())),\"\"),\"\")","v":""}]
[{"$f":"IFERROR(IF(INDIRECT($A$14&ROW())<>\"\",COUNTIF([2]Summary!$B$30:$B$1029,INDIRECT($A$14&ROW())),\"\"),\"\")","v":""}]
[{"$f":"IFERROR(IF(INDIRECT($A$14&ROW())<>\"\",COUNTIF([2]Summary!$B$30:$B$1029,INDIRECT($A$14&ROW())),\"\"),\"\")","v":""}]
[{"$f":"IFERROR(IF(INDIRECT($A$14&ROW())<>\"\",COUNTIF([2]Summary!$B$30:$B$1029,INDIRECT($A$14&ROW())),\"\"),\"\")","v":""}]
[{"$f":"IFERROR(IF(INDIRECT($A$14&ROW())<>\"\",COUNTIF([2]Summary!$B$30:$B$1029,INDIRECT($A$14&ROW())),\"\"),\"\")","v":""}]
[{"$f":"IFERROR(IF(INDIRECT($A$14&ROW())<>\"\",COUNTIF([2]Summary!$B$30:$B$1029,INDIRECT($A$14&ROW())),\"\"),\"\")","v":""}]
[{"$f":"IFERROR(IF(INDIRECT($A$14&ROW())<>\"\",COUNTIF([2]Summary!$B$30:$B$1029,INDIRECT($A$14&ROW())),\"\"),\"\")","v":""}]
[{"$f":"IFERROR(IF(INDIRECT($A$14&ROW())<>\"\",COUNTIF([2]Summary!$B$30:$B$1029,INDIRECT($A$14&ROW())),\"\"),\"\")","v":""}]
[{"$f":"IFERROR(IF(INDIRECT($A$14&ROW())<>\"\",COUNTIF([2]Summary!$B$30:$B$1029,INDIRECT($A$14&ROW())),\"\"),\"\")","v":""}]
[{"$f":"IFERROR(IF(INDIRECT($A$14&ROW())<>\"\",COUNTIF([2]Summary!$B$30:$B$1029,INDIRECT($A$14&ROW())),\"\"),\"\")","v":""}]
[{"$f":"IFERROR(IF(INDIRECT($A$14&ROW())<>\"\",COUNTIF([2]Summary!$B$30:$B$1029,INDIRECT($A$14&ROW())),\"\"),\"\")","v":""}]
[{"$f":"IFERROR(IF(INDIRECT($A$14&ROW())<>\"\",COUNTIF([2]Summary!$B$30:$B$1029,INDIRECT($A$14&ROW())),\"\"),\"\")","v":""}]
[{"$f":"IFERROR(IF(INDIRECT($A$14&ROW())<>\"\",COUNTIF([2]Summary!$B$30:$B$1029,INDIRECT($A$14&ROW())),\"\"),\"\")","v":""}]
[{"$f":"IFERROR(IF(INDIRECT($A$14&ROW())<>\"\",COUNTIF([2]Summary!$B$30:$B$1029,INDIRECT($A$14&ROW())),\"\"),\"\")","v":""}]
[{"$f":"IFERROR(IF(INDIRECT($A$14&ROW())<>\"\",COUNTIF([2]Summary!$B$30:$B$1029,INDIRECT($A$14&ROW())),\"\"),\"\")","v":""}]
[{"$f":"IFERROR(IF(INDIRECT($A$14&ROW())<>\"\",COUNTIF([2]Summary!$B$30:$B$1029,INDIRECT($A$14&ROW())),\"\"),\"\")","v":""}]
[{"$f":"IFERROR(IF(INDIRECT($A$14&ROW())<>\"\",COUNTIF([2]Summary!$B$30:$B$1029,INDIRECT($A$14&ROW())),\"\"),\"\")","v":""}]
[{"$f":"IFERROR(IF(INDIRECT($A$14&ROW())<>\"\",COUNTIF([2]Summary!$B$30:$B$1029,INDIRECT($A$14&ROW())),\"\"),\"\")","v":""}]
[{"$f":"IFERROR(IF(INDIRECT($A$14&ROW())<>\"\",COUNTIF([2]Summary!$B$30:$B$1029,INDIRECT($A$14&ROW())),\"\"),\"\")","v":""}]
[{"$f":"IFERROR(IF(INDIRECT($A$14&ROW())<>\"\",COUNTIF([2]Summary!$B$30:$B$1029,INDIRECT($A$14&ROW())),\"\"),\"\")","v":""}]
[{"$f":"IFERROR(IF(INDIRECT($A$14&ROW())<>\"\",COUNTIF([2]Summary!$B$30:$B$1029,INDIRECT($A$14&ROW())),\"\"),\"\")","v":""}]
[{"$f":"IFERROR(IF(INDIRECT($A$14&ROW())<>\"\",COUNTIF([2]Summary!$B$30:$B$1029,INDIRECT($A$14&ROW())),\"\"),\"\")","v":""}]
[{"$f":"IFERROR(IF(INDIRECT($A$14&ROW())<>\"\",COUNTIF([2]Summary!$B$30:$B$1029,INDIRECT($A$14&ROW())),\"\"),\"\")","v":""}]
[{"$f":"IFERROR(IF(INDIRECT($A$14&ROW())<>\"\",COUNTIF([2]Summary!$B$30:$B$1029,INDIRECT($A$14&ROW())),\"\"),\"\")","v":""}]
[{"$f":"IFERROR(IF(INDIRECT($A$14&ROW())<>\"\",COUNTIF([2]Summary!$B$30:$B$1029,INDIRECT($A$14&ROW())),\"\"),\"\")","v":""}]
[{"$f":"IFERROR(IF(INDIRECT($A$14&ROW())<>\"\",COUNTIF([2]Summary!$B$30:$B$1029,INDIRECT($A$14&ROW())),\"\"),\"\")","v":""}]
[{"$f":"IFERROR(IF(INDIRECT($A$14&ROW())<>\"\",COUNTIF([2]Summary!$B$30:$B$1029,INDIRECT($A$14&ROW())),\"\"),\"\")","v":""}]
[{"$f":"IFERROR(IF(INDIRECT($A$14&ROW())<>\"\",COUNTIF([2]Summary!$B$30:$B$1029,INDIRECT($A$14&ROW())),\"\"),\"\")","v":""}]
[{"$f":"IFERROR(IF(INDIRECT($A$14&ROW())<>\"\",COUNTIF([2]Summary!$B$30:$B$1029,INDIRECT($A$14&ROW())),\"\"),\"\")","v":""}]
[{"$f":"IFERROR(IF(INDIRECT($A$14&ROW())<>\"\",COUNTIF([2]Summary!$B$30:$B$1029,INDIRECT($A$14&ROW())),\"\"),\"\")","v":""}]
[{"$f":"IFERROR(IF(INDIRECT($A$14&ROW())<>\"\",COUNTIF([2]Summary!$B$30:$B$1029,INDIRECT($A$14&ROW())),\"\"),\"\")","v":""}]
[{"$f":"IFERROR(IF(INDIRECT($A$14&ROW())<>\"\",COUNTIF([2]Summary!$B$30:$B$1029,INDIRECT($A$14&ROW())),\"\"),\"\")","v":""}]
[{"$f":"IFERROR(IF(INDIRECT($A$14&ROW())<>\"\",COUNTIF([2]Summary!$B$30:$B$1029,INDIRECT($A$14&ROW())),\"\"),\"\")","v":""}]
[{"$f":"IFERROR(IF(INDIRECT($A$14&ROW())<>\"\",COUNTIF([2]Summary!$B$30:$B$1029,INDIRECT($A$14&ROW())),\"\"),\"\")","v":""}]
[{"$f":"IFERROR(IF(INDIRECT($A$14&ROW())<>\"\",COUNTIF([2]Summary!$B$30:$B$1029,INDIRECT($A$14&ROW())),\"\"),\"\")","v":""}]
[{"$f":"IFERROR(IF(INDIRECT($A$14&ROW())<>\"\",COUNTIF([2]Summary!$B$30:$B$1029,INDIRECT($A$14&ROW())),\"\"),\"\")","v":""}]
[{"$f":"IFERROR(IF(INDIRECT($A$14&ROW())<>\"\",COUNTIF([2]Summary!$B$30:$B$1029,INDIRECT($A$14&ROW())),\"\"),\"\")","v":""}]
[{"$f":"IFERROR(IF(INDIRECT($A$14&ROW())<>\"\",COUNTIF([2]Summary!$B$30:$B$1029,INDIRECT($A$14&ROW())),\"\"),\"\")","v":""}]
[{"$f":"IFERROR(IF(INDIRECT($A$14&ROW())<>\"\",COUNTIF([2]Summary!$B$30:$B$1029,INDIRECT($A$14&ROW())),\"\"),\"\")","v":""}]
[{"$f":"IFERROR(IF(INDIRECT($A$14&ROW())<>\"\",COUNTIF([2]Summary!$B$30:$B$1029,INDIRECT($A$14&ROW())),\"\"),\"\")","v":""}]
[{"$f":"IFERROR(IF(INDIRECT($A$14&ROW())<>\"\",COUNTIF([2]Summary!$B$30:$B$1029,INDIRECT($A$14&ROW())),\"\"),\"\")","v":""}]
[{"$f":"IFERROR(IF(INDIRECT($A$14&ROW())<>\"\",COUNTIF([2]Summary!$B$30:$B$1029,INDIRECT($A$14&ROW())),\"\"),\"\")","v":""}]
[{"$f":"IFERROR(IF(INDIRECT($A$14&ROW())<>\"\",COUNTIF([2]Summary!$B$30:$B$1029,INDIRECT($A$14&ROW())),\"\"),\"\")","v":""}]
[{"$f":"IFERROR(IF(INDIRECT($A$14&ROW())<>\"\",COUNTIF([2]Summary!$B$30:$B$1029,INDIRECT($A$14&ROW())),\"\"),\"\")","v":""}]
[{"$f":"IFERROR(IF(INDIRECT($A$14&ROW())<>\"\",COUNTIF([2]Summary!$B$30:$B$1029,INDIRECT($A$14&ROW())),\"\"),\"\")","v":""}]
[{"$f":"IFERROR(IF(INDIRECT($A$14&ROW())<>\"\",COUNTIF([2]Summary!$B$30:$B$1029,INDIRECT($A$14&ROW())),\"\"),\"\")","v":""}]
[{"$f":"IFERROR(IF(INDIRECT($A$14&ROW())<>\"\",COUNTIF([2]Summary!$B$30:$B$1029,INDIRECT($A$14&ROW())),\"\"),\"\")","v":""}]
[{"$f":"IFERROR(IF(INDIRECT($A$14&ROW())<>\"\",COUNTIF([2]Summary!$B$30:$B$1029,INDIRECT($A$14&ROW())),\"\"),\"\")","v":""}]
[{"$f":"IFERROR(IF(INDIRECT($A$14&ROW())<>\"\",COUNTIF([2]Summary!$B$30:$B$1029,INDIRECT($A$14&ROW())),\"\"),\"\")","v":""}]
[{"$f":"IFERROR(IF(INDIRECT($A$14&ROW())<>\"\",COUNTIF([2]Summary!$B$30:$B$1029,INDIRECT($A$14&ROW())),\"\"),\"\")","v":""}]
[{"$f":"IFERROR(IF(INDIRECT($A$14&ROW())<>\"\",COUNTIF([2]Summary!$B$30:$B$1029,INDIRECT($A$14&ROW())),\"\"),\"\")","v":""}]
[{"$f":"IFERROR(IF(INDIRECT($A$14&ROW())<>\"\",COUNTIF([2]Summary!$B$30:$B$1029,INDIRECT($A$14&ROW())),\"\"),\"\")","v":""}]
[{"$f":"IFERROR(IF(INDIRECT($A$14&ROW())<>\"\",COUNTIF([2]Summary!$B$30:$B$1029,INDIRECT($A$14&ROW())),\"\"),\"\")","v":""}]
[{"$f":"IFERROR(IF(INDIRECT($A$14&ROW())<>\"\",COUNTIF([2]Summary!$B$30:$B$1029,INDIRECT($A$14&ROW())),\"\"),\"\")","v":""}]
[{"$f":"IFERROR(IF(INDIRECT($A$14&ROW())<>\"\",COUNTIF([2]Summary!$B$30:$B$1029,INDIRECT($A$14&ROW())),\"\"),\"\")","v":""}]
[{"$f":"IFERROR(IF(INDIRECT($A$14&ROW())<>\"\",COUNTIF([2]Summary!$B$30:$B$1029,INDIRECT($A$14&ROW())),\"\"),\"\")","v":""}]
[{"$f":"IFERROR(IF(INDIRECT($A$14&ROW())<>\"\",COUNTIF([2]Summary!$B$30:$B$1029,INDIRECT($A$14&ROW())),\"\"),\"\")","v":""}]
[{"$f":"IFERROR(IF(INDIRECT($A$14&ROW())<>\"\",COUNTIF([2]Summary!$B$30:$B$1029,INDIRECT($A$14&ROW())),\"\"),\"\")","v":""}]
[{"$f":"IFERROR(IF(INDIRECT($A$14&ROW())<>\"\",COUNTIF([2]Summary!$B$30:$B$1029,INDIRECT($A$14&ROW())),\"\"),\"\")","v":""}]
[{"$f":"IFERROR(IF(INDIRECT($A$14&ROW())<>\"\",COUNTIF([2]Summary!$B$30:$B$1029,INDIRECT($A$14&ROW())),\"\"),\"\")","v":""}]
[{"$f":"IFERROR(IF(INDIRECT($A$14&ROW())<>\"\",COUNTIF([2]Summary!$B$30:$B$1029,INDIRECT($A$14&ROW())),\"\"),\"\")","v":""}]
[{"$f":"IFERROR(IF(INDIRECT($A$14&ROW())<>\"\",COUNTIF([2]Summary!$B$30:$B$1029,INDIRECT($A$14&ROW())),\"\"),\"\")","v":""}]
[{"$f":"IFERROR(IF(INDIRECT($A$14&ROW())<>\"\",COUNTIF([2]Summary!$B$30:$B$1029,INDIRECT($A$14&ROW())),\"\"),\"\")","v":""}]
[{"$f":"IFERROR(IF(INDIRECT($A$14&ROW())<>\"\",COUNTIF([2]Summary!$B$30:$B$1029,INDIRECT($A$14&ROW())),\"\"),\"\")","v":""}]
[{"$f":"IFERROR(IF(INDIRECT($A$14&ROW())<>\"\",COUNTIF([2]Summary!$B$30:$B$1029,INDIRECT($A$14&ROW())),\"\"),\"\")","v":""}]
[{"$f":"IFERROR(IF(INDIRECT($A$14&ROW())<>\"\",COUNTIF([2]Summary!$B$30:$B$1029,INDIRECT($A$14&ROW())),\"\"),\"\")","v":""}]
[{"$f":"IFERROR(IF(INDIRECT($A$14&ROW())<>\"\",COUNTIF([2]Summary!$B$30:$B$1029,INDIRECT($A$14&ROW())),\"\"),\"\")","v":""}]
[{"$f":"IFERROR(IF(INDIRECT($A$14&ROW())<>\"\",COUNTIF([2]Summary!$B$30:$B$1029,INDIRECT($A$14&ROW())),\"\"),\"\")","v":""}]
[{"$f":"IFERROR(IF(INDIRECT($A$14&ROW())<>\"\",COUNTIF([2]Summary!$B$30:$B$1029,INDIRECT($A$14&ROW())),\"\"),\"\")","v":""}]
[{"$f":"IFERROR(IF(INDIRECT($A$14&ROW())<>\"\",COUNTIF([2]Summary!$B$30:$B$1029,INDIRECT($A$14&ROW())),\"\"),\"\")","v":""}]
[{"$f":"IFERROR(IF(INDIRECT($A$14&ROW())<>\"\",COUNTIF([2]Summary!$B$30:$B$1029,INDIRECT($A$14&ROW())),\"\"),\"\")","v":""}]
[{"$f":"IFERROR(IF(INDIRECT($A$14&ROW())<>\"\",COUNTIF([2]Summary!$B$30:$B$1029,INDIRECT($A$14&ROW())),\"\"),\"\")","v":""}]
[{"$f":"IFERROR(IF(INDIRECT($A$14&ROW())<>\"\",COUNTIF([2]Summary!$B$30:$B$1029,INDIRECT($A$14&ROW())),\"\"),\"\")","v":""}]
[{"$f":"IFERROR(IF(INDIRECT($A$14&ROW())<>\"\",COUNTIF([2]Summary!$B$30:$B$1029,INDIRECT($A$14&ROW())),\"\"),\"\")","v":""}]
[{"$f":"IFERROR(IF(INDIRECT($A$14&ROW())<>\"\",COUNTIF([2]Summary!$B$30:$B$1029,INDIRECT($A$14&ROW())),\"\"),\"\")","v":""}]
[{"$f":"IFERROR(IF(INDIRECT($A$14&ROW())<>\"\",COUNTIF([2]Summary!$B$30:$B$1029,INDIRECT($A$14&ROW())),\"\"),\"\")","v":""}]
[{"$f":"IFERROR(IF(INDIRECT($A$14&ROW())<>\"\",COUNTIF([2]Summary!$B$30:$B$1029,INDIRECT($A$14&ROW())),\"\"),\"\")","v":""}]
[{"$f":"IFERROR(IF(INDIRECT($A$14&ROW())<>\"\",COUNTIF([2]Summary!$B$30:$B$1029,INDIRECT($A$14&ROW())),\"\"),\"\")","v":""}]
[{"$f":"IFERROR(IF(INDIRECT($A$14&ROW())<>\"\",COUNTIF([2]Summary!$B$30:$B$1029,INDIRECT($A$14&ROW())),\"\"),\"\")","v":""}]
[{"$f":"IFERROR(IF(INDIRECT($A$14&ROW())<>\"\",COUNTIF([2]Summary!$B$30:$B$1029,INDIRECT($A$14&ROW())),\"\"),\"\")","v":""}]
[{"$f":"IFERROR(IF(INDIRECT($A$14&ROW())<>\"\",COUNTIF([2]Summary!$B$30:$B$1029,INDIRECT($A$14&ROW())),\"\"),\"\")","v":""}]
[{"$f":"IFERROR(IF(INDIRECT($A$14&ROW())<>\"\",COUNTIF([2]Summary!$B$30:$B$1029,INDIRECT($A$14&ROW())),\"\"),\"\")","v":""}]
[{"$f":"IFERROR(IF(INDIRECT($A$14&ROW())<>\"\",COUNTIF([2]Summary!$B$30:$B$1029,INDIRECT($A$14&ROW())),\"\"),\"\")","v":""}]
[{"$f":"IFERROR(IF(INDIRECT($A$14&ROW())<>\"\",COUNTIF([2]Summary!$B$30:$B$1029,INDIRECT($A$14&ROW())),\"\"),\"\")","v":""}]
[{"$f":"IFERROR(IF(INDIRECT($A$14&ROW())<>\"\",COUNTIF([2]Summary!$B$30:$B$1029,INDIRECT($A$14&ROW())),\"\"),\"\")","v":""}]
[{"$f":"IFERROR(IF(INDIRECT($A$14&ROW())<>\"\",COUNTIF([2]Summary!$B$30:$B$1029,INDIRECT($A$14&ROW())),\"\"),\"\")","v":""}]
[{"$f":"IFERROR(IF(INDIRECT($A$14&ROW())<>\"\",COUNTIF([2]Summary!$B$30:$B$1029,INDIRECT($A$14&ROW())),\"\"),\"\")","v":""}]
[{"$f":"IFERROR(IF(INDIRECT($A$14&ROW())<>\"\",COUNTIF([2]Summary!$B$30:$B$1029,INDIRECT($A$14&ROW())),\"\"),\"\")","v":""}]
[{"$f":"IFERROR(IF(INDIRECT($A$14&ROW())<>\"\",COUNTIF([2]Summary!$B$30:$B$1029,INDIRECT($A$14&ROW())),\"\"),\"\")","v":""}]
[{"$f":"IFERROR(IF(INDIRECT($A$14&ROW())<>\"\",COUNTIF([2]Summary!$B$30:$B$1029,INDIRECT($A$14&ROW())),\"\"),\"\")","v":""}]
[{"$f":"IFERROR(IF(INDIRECT($A$14&ROW())<>\"\",COUNTIF([2]Summary!$B$30:$B$1029,INDIRECT($A$14&ROW())),\"\"),\"\")","v":""}]
[{"$f":"IFERROR(IF(INDIRECT($A$14&ROW())<>\"\",COUNTIF([2]Summary!$B$30:$B$1029,INDIRECT($A$14&ROW())),\"\"),\"\")","v":""}]
[{"$f":"IFERROR(IF(INDIRECT($A$14&ROW())<>\"\",COUNTIF([2]Summary!$B$30:$B$1029,INDIRECT($A$14&ROW())),\"\"),\"\")","v":""}]
[{"$f":"IFERROR(IF(INDIRECT($A$14&ROW())<>\"\",COUNTIF([2]Summary!$B$30:$B$1029,INDIRECT($A$14&ROW())),\"\"),\"\")","v":""}]
[{"$f":"IFERROR(IF(INDIRECT($A$14&ROW())<>\"\",COUNTIF([2]Summary!$B$30:$B$1029,INDIRECT($A$14&ROW())),\"\"),\"\")","v":""}]
[{"$f":"IFERROR(IF(INDIRECT($A$14&ROW())<>\"\",COUNTIF([2]Summary!$B$30:$B$1029,INDIRECT($A$14&ROW())),\"\"),\"\")","v":""}]
[{"$f":"IFERROR(IF(INDIRECT($A$14&ROW())<>\"\",COUNTIF([2]Summary!$B$30:$B$1029,INDIRECT($A$14&ROW())),\"\"),\"\")","v":""}]
[{"$f":"IFERROR(IF(INDIRECT($A$14&ROW())<>\"\",COUNTIF([2]Summary!$B$30:$B$1029,INDIRECT($A$14&ROW())),\"\"),\"\")","v":""}]
[{"$f":"IFERROR(IF(INDIRECT($A$14&ROW())<>\"\",COUNTIF([2]Summary!$B$30:$B$1029,INDIRECT($A$14&ROW())),\"\"),\"\")","v":""}]
[{"$f":"IFERROR(IF(INDIRECT($A$14&ROW())<>\"\",COUNTIF([2]Summary!$B$30:$B$1029,INDIRECT($A$14&ROW())),\"\"),\"\")","v":""}]
[{"$f":"IFERROR(IF(INDIRECT($A$14&ROW())<>\"\",COUNTIF([2]Summary!$B$30:$B$1029,INDIRECT($A$14&ROW())),\"\"),\"\")","v":""}]
[{"$f":"IFERROR(IF(INDIRECT($A$14&ROW())<>\"\",COUNTIF([2]Summary!$B$30:$B$1029,INDIRECT($A$14&ROW())),\"\"),\"\")","v":""}]
[{"$f":"IFERROR(IF(INDIRECT($A$14&ROW())<>\"\",COUNTIF([2]Summary!$B$30:$B$1029,INDIRECT($A$14&ROW())),\"\"),\"\")","v":""}]
[{"$f":"IFERROR(IF(INDIRECT($A$14&ROW())<>\"\",COUNTIF([2]Summary!$B$30:$B$1029,INDIRECT($A$14&ROW())),\"\"),\"\")","v":""}]
[{"$f":"IFERROR(IF(INDIRECT($A$14&ROW())<>\"\",COUNTIF([2]Summary!$B$30:$B$1029,INDIRECT($A$14&ROW())),\"\"),\"\")","v":""}]
[{"$f":"IFERROR(IF(INDIRECT($A$14&ROW())<>\"\",COUNTIF([2]Summary!$B$30:$B$1029,INDIRECT($A$14&ROW())),\"\"),\"\")","v":""}]
[{"$f":"IFERROR(IF(INDIRECT($A$14&ROW())<>\"\",COUNTIF([2]Summary!$B$30:$B$1029,INDIRECT($A$14&ROW())),\"\"),\"\")","v":""}]
[{"$f":"IFERROR(IF(INDIRECT($A$14&ROW())<>\"\",COUNTIF([2]Summary!$B$30:$B$1029,INDIRECT($A$14&ROW())),\"\"),\"\")","v":""}]
[{"$f":"IFERROR(IF(INDIRECT($A$14&ROW())<>\"\",COUNTIF([2]Summary!$B$30:$B$1029,INDIRECT($A$14&ROW())),\"\"),\"\")","v":""}]
[{"$f":"IFERROR(IF(INDIRECT($A$14&ROW())<>\"\",COUNTIF([2]Summary!$B$30:$B$1029,INDIRECT($A$14&ROW())),\"\"),\"\")","v":""}]
[{"$f":"IFERROR(IF(INDIRECT($A$14&ROW())<>\"\",COUNTIF([2]Summary!$B$30:$B$1029,INDIRECT($A$14&ROW())),\"\"),\"\")","v":""}]
[{"$f":"IFERROR(IF(INDIRECT($A$14&ROW())<>\"\",COUNTIF([2]Summary!$B$30:$B$1029,INDIRECT($A$14&ROW())),\"\"),\"\")","v":""}]
[{"$f":"IFERROR(IF(INDIRECT($A$14&ROW())<>\"\",COUNTIF([2]Summary!$B$30:$B$1029,INDIRECT($A$14&ROW())),\"\"),\"\")","v":""}]
[{"$f":"IFERROR(IF(INDIRECT($A$14&ROW())<>\"\",COUNTIF([2]Summary!$B$30:$B$1029,INDIRECT($A$14&ROW())),\"\"),\"\")","v":""}]
[{"$f":"IFERROR(IF(INDIRECT($A$14&ROW())<>\"\",COUNTIF([2]Summary!$B$30:$B$1029,INDIRECT($A$14&ROW())),\"\"),\"\")","v":""}]
[{"$f":"IFERROR(IF(INDIRECT($A$14&ROW())<>\"\",COUNTIF([2]Summary!$B$30:$B$1029,INDIRECT($A$14&ROW())),\"\"),\"\")","v":""}]
[{"$f":"IFERROR(IF(INDIRECT($A$14&ROW())<>\"\",COUNTIF([2]Summary!$B$30:$B$1029,INDIRECT($A$14&ROW())),\"\"),\"\")","v":""}]
[{"$f":"IFERROR(IF(INDIRECT($A$14&ROW())<>\"\",COUNTIF([2]Summary!$B$30:$B$1029,INDIRECT($A$14&ROW())),\"\"),\"\")","v":""}]
[{"$f":"IFERROR(IF(INDIRECT($A$14&ROW())<>\"\",COUNTIF([2]Summary!$B$30:$B$1029,INDIRECT($A$14&ROW())),\"\"),\"\")","v":""}]
[{"$f":"IFERROR(IF(INDIRECT($A$14&ROW())<>\"\",COUNTIF([2]Summary!$B$30:$B$1029,INDIRECT($A$14&ROW())),\"\"),\"\")","v":""}]
[{"$f":"IFERROR(IF(INDIRECT($A$14&ROW())<>\"\",COUNTIF([2]Summary!$B$30:$B$1029,INDIRECT($A$14&ROW())),\"\"),\"\")","v":""}]
[{"$f":"IFERROR(IF(INDIRECT($A$14&ROW())<>\"\",COUNTIF([2]Summary!$B$30:$B$1029,INDIRECT($A$14&ROW())),\"\"),\"\")","v":""}]
[{"$f":"IFERROR(IF(INDIRECT($A$14&ROW())<>\"\",COUNTIF([2]Summary!$B$30:$B$1029,INDIRECT($A$14&ROW())),\"\"),\"\")","v":""}]
[{"$f":"IFERROR(IF(INDIRECT($A$14&ROW())<>\"\",COUNTIF([2]Summary!$B$30:$B$1029,INDIRECT($A$14&ROW())),\"\"),\"\")","v":""}]
[{"$f":"IFERROR(IF(INDIRECT($A$14&ROW())<>\"\",COUNTIF([2]Summary!$B$30:$B$1029,INDIRECT($A$14&ROW())),\"\"),\"\")","v":""}]
[{"$f":"IFERROR(IF(INDIRECT($A$14&ROW())<>\"\",COUNTIF([2]Summary!$B$30:$B$1029,INDIRECT($A$14&ROW())),\"\"),\"\")","v":""}]
[{"$f":"IFERROR(IF(INDIRECT($A$14&ROW())<>\"\",COUNTIF([2]Summary!$B$30:$B$1029,INDIRECT($A$14&ROW())),\"\"),\"\")","v":""}]
[{"$f":"IFERROR(IF(INDIRECT($A$14&ROW())<>\"\",COUNTIF([2]Summary!$B$30:$B$1029,INDIRECT($A$14&ROW())),\"\"),\"\")","v":""}]
[{"$f":"IFERROR(IF(INDIRECT($A$14&ROW())<>\"\",COUNTIF([2]Summary!$B$30:$B$1029,INDIRECT($A$14&ROW())),\"\"),\"\")","v":""}]
[{"$f":"IFERROR(IF(INDIRECT($A$14&ROW())<>\"\",COUNTIF([2]Summary!$B$30:$B$1029,INDIRECT($A$14&ROW())),\"\"),\"\")","v":""}]
[{"$f":"IFERROR(IF(INDIRECT($A$14&ROW())<>\"\",COUNTIF([2]Summary!$B$30:$B$1029,INDIRECT($A$14&ROW())),\"\"),\"\")","v":""}]
[{"$f":"IFERROR(IF(INDIRECT($A$14&ROW())<>\"\",COUNTIF([2]Summary!$B$30:$B$1029,INDIRECT($A$14&ROW())),\"\"),\"\")","v":""}]
[{"$f":"IFERROR(IF(INDIRECT($A$14&ROW())<>\"\",COUNTIF([2]Summary!$B$30:$B$1029,INDIRECT($A$14&ROW())),\"\"),\"\")","v":""}]
[{"$f":"IFERROR(IF(INDIRECT($A$14&ROW())<>\"\",COUNTIF([2]Summary!$B$30:$B$1029,INDIRECT($A$14&ROW())),\"\"),\"\")","v":""}]
[{"$f":"IFERROR(IF(INDIRECT($A$14&ROW())<>\"\",COUNTIF([2]Summary!$B$30:$B$1029,INDIRECT($A$14&ROW())),\"\"),\"\")","v":""}]
[{"$f":"IFERROR(IF(INDIRECT($A$14&ROW())<>\"\",COUNTIF([2]Summary!$B$30:$B$1029,INDIRECT($A$14&ROW())),\"\"),\"\")","v":""}]
[{"$f":"IFERROR(IF(INDIRECT($A$14&ROW())<>\"\",COUNTIF([2]Summary!$B$30:$B$1029,INDIRECT($A$14&ROW())),\"\"),\"\")","v":""}]
[{"$f":"IFERROR(IF(INDIRECT($A$14&ROW())<>\"\",COUNTIF([2]Summary!$B$30:$B$1029,INDIRECT($A$14&ROW())),\"\"),\"\")","v":""}]
[{"$f":"IFERROR(IF(INDIRECT($A$14&ROW())<>\"\",COUNTIF([2]Summary!$B$30:$B$1029,INDIRECT($A$14&ROW())),\"\"),\"\")","v":""}]
[{"$f":"IFERROR(IF(INDIRECT($A$14&ROW())<>\"\",COUNTIF([2]Summary!$B$30:$B$1029,INDIRECT($A$14&ROW())),\"\"),\"\")","v":""}]
[{"$f":"IFERROR(IF(INDIRECT($A$14&ROW())<>\"\",COUNTIF([2]Summary!$B$30:$B$1029,INDIRECT($A$14&ROW())),\"\"),\"\")","v":""}]
[{"$f":"IFERROR(IF(INDIRECT($A$14&ROW())<>\"\",COUNTIF([2]Summary!$B$30:$B$1029,INDIRECT($A$14&ROW())),\"\"),\"\")","v":""}]
[{"$f":"IFERROR(IF(INDIRECT($A$14&ROW())<>\"\",COUNTIF([2]Summary!$B$30:$B$1029,INDIRECT($A$14&ROW())),\"\"),\"\")","v":""}]
[{"$f":"IFERROR(IF(INDIRECT($A$14&ROW())<>\"\",COUNTIF([2]Summary!$B$30:$B$1029,INDIRECT($A$14&ROW())),\"\"),\"\")","v":""}]
[{"$f":"IFERROR(IF(INDIRECT($A$14&ROW())<>\"\",COUNTIF([2]Summary!$B$30:$B$1029,INDIRECT($A$14&ROW())),\"\"),\"\")","v":""}]
[{"$f":"IFERROR(IF(INDIRECT($A$14&ROW())<>\"\",COUNTIF([2]Summary!$B$30:$B$1029,INDIRECT($A$14&ROW())),\"\"),\"\")","v":""}]
[{"$f":"IFERROR(IF(INDIRECT($A$14&ROW())<>\"\",COUNTIF([2]Summary!$B$30:$B$1029,INDIRECT($A$14&ROW())),\"\"),\"\")","v":""}]
[{"$f":"IFERROR(IF(INDIRECT($A$14&ROW())<>\"\",COUNTIF([2]Summary!$B$30:$B$1029,INDIRECT($A$14&ROW())),\"\"),\"\")","v":""}]
[{"$f":"IFERROR(IF(INDIRECT($A$14&ROW())<>\"\",COUNTIF([2]Summary!$B$30:$B$1029,INDIRECT($A$14&ROW())),\"\"),\"\")","v":""}]
[{"$f":"IFERROR(IF(INDIRECT($A$14&ROW())<>\"\",COUNTIF([2]Summary!$B$30:$B$1029,INDIRECT($A$14&ROW())),\"\"),\"\")","v":""}]
[{"$f":"IFERROR(IF(INDIRECT($A$14&ROW())<>\"\",COUNTIF([2]Summary!$B$30:$B$1029,INDIRECT($A$14&ROW())),\"\"),\"\")","v":""}]
[{"$f":"IFERROR(IF(INDIRECT($A$14&ROW())<>\"\",COUNTIF([2]Summary!$B$30:$B$1029,INDIRECT($A$14&ROW())),\"\"),\"\")","v":""}]
[{"$f":"IFERROR(IF(INDIRECT($A$14&ROW())<>\"\",COUNTIF([2]Summary!$B$30:$B$1029,INDIRECT($A$14&ROW())),\"\"),\"\")","v":""}]
[{"$f":"IFERROR(IF(INDIRECT($A$14&ROW())<>\"\",COUNTIF([2]Summary!$B$30:$B$1029,INDIRECT($A$14&ROW())),\"\"),\"\")","v":""}]
[{"$f":"IFERROR(IF(INDIRECT($A$14&ROW())<>\"\",COUNTIF([2]Summary!$B$30:$B$1029,INDIRECT($A$14&ROW())),\"\"),\"\")","v":""}]
[{"$f":"IFERROR(IF(INDIRECT($A$14&ROW())<>\"\",COUNTIF([2]Summary!$B$30:$B$1029,INDIRECT($A$14&ROW())),\"\"),\"\")","v":""}]
[{"$f":"IFERROR(IF(INDIRECT($A$14&ROW())<>\"\",COUNTIF([2]Summary!$B$30:$B$1029,INDIRECT($A$14&ROW())),\"\"),\"\")","v":""}]
[{"$f":"IFERROR(IF(INDIRECT($A$14&ROW())<>\"\",COUNTIF([2]Summary!$B$30:$B$1029,INDIRECT($A$14&ROW())),\"\"),\"\")","v":""}]
[{"$f":"IFERROR(IF(INDIRECT($A$14&ROW())<>\"\",COUNTIF([2]Summary!$B$30:$B$1029,INDIRECT($A$14&ROW())),\"\"),\"\")","v":""}]
[{"$f":"IFERROR(IF(INDIRECT($A$14&ROW())<>\"\",COUNTIF([2]Summary!$B$30:$B$1029,INDIRECT($A$14&ROW())),\"\"),\"\")","v":""}]
[{"$f":"IFERROR(IF(INDIRECT($A$14&ROW())<>\"\",COUNTIF([2]Summary!$B$30:$B$1029,INDIRECT($A$14&ROW())),\"\"),\"\")","v":""}]
[{"$f":"IFERROR(IF(INDIRECT($A$14&ROW())<>\"\",COUNTIF([2]Summary!$B$30:$B$1029,INDIRECT($A$14&ROW())),\"\"),\"\")","v":""}]
[{"$f":"IFERROR(IF(INDIRECT($A$14&ROW())<>\"\",COUNTIF([2]Summary!$B$30:$B$1029,INDIRECT($A$14&ROW())),\"\"),\"\")","v":""}]
[{"$f":"IFERROR(IF(INDIRECT($A$14&ROW())<>\"\",COUNTIF([2]Summary!$B$30:$B$1029,INDIRECT($A$14&ROW())),\"\"),\"\")","v":""}]
[{"$f":"IFERROR(IF(INDIRECT($A$14&ROW())<>\"\",COUNTIF([2]Summary!$B$30:$B$1029,INDIRECT($A$14&ROW())),\"\"),\"\")","v":""}]
[{"$f":"IFERROR(IF(INDIRECT($A$14&ROW())<>\"\",COUNTIF([2]Summary!$B$30:$B$1029,INDIRECT($A$14&ROW())),\"\"),\"\")","v":""}]
[{"$f":"IFERROR(IF(INDIRECT($A$14&ROW())<>\"\",COUNTIF([2]Summary!$B$30:$B$1029,INDIRECT($A$14&ROW())),\"\"),\"\")","v":""}]
[{"$f":"IFERROR(IF(INDIRECT($A$14&ROW())<>\"\",COUNTIF([2]Summary!$B$30:$B$1029,INDIRECT($A$14&ROW())),\"\"),\"\")","v":""}]
[{"$f":"IFERROR(IF(INDIRECT($A$14&ROW())<>\"\",COUNTIF([2]Summary!$B$30:$B$1029,INDIRECT($A$14&ROW())),\"\"),\"\")","v":""}]
[{"$f":"IFERROR(IF(INDIRECT($A$14&ROW())<>\"\",COUNTIF([2]Summary!$B$30:$B$1029,INDIRECT($A$14&ROW())),\"\"),\"\")","v":""}]
[{"$f":"IFERROR(IF(INDIRECT($A$14&ROW())<>\"\",COUNTIF([2]Summary!$B$30:$B$1029,INDIRECT($A$14&ROW())),\"\"),\"\")","v":""}]
[{"$f":"IFERROR(IF(INDIRECT($A$14&ROW())<>\"\",COUNTIF([2]Summary!$B$30:$B$1029,INDIRECT($A$14&ROW())),\"\"),\"\")","v":""}]
[{"$f":"IFERROR(IF(INDIRECT($A$14&ROW())<>\"\",COUNTIF([2]Summary!$B$30:$B$1029,INDIRECT($A$14&ROW())),\"\"),\"\")","v":""}]
[{"$f":"IFERROR(IF(INDIRECT($A$14&ROW())<>\"\",COUNTIF([2]Summary!$B$30:$B$1029,INDIRECT($A$14&ROW())),\"\"),\"\")","v":""}]
[{"$f":"IFERROR(IF(INDIRECT($A$14&ROW())<>\"\",COUNTIF([2]Summary!$B$30:$B$1029,INDIRECT($A$14&ROW())),\"\"),\"\")","v":""}]
[{"$f":"IFERROR(IF(INDIRECT($A$14&ROW())<>\"\",COUNTIF([2]Summary!$B$30:$B$1029,INDIRECT($A$14&ROW())),\"\"),\"\")","v":""}]
[{"$f":"IFERROR(IF(INDIRECT($A$14&ROW())<>\"\",COUNTIF([2]Summary!$B$30:$B$1029,INDIRECT($A$14&ROW())),\"\"),\"\")","v":""}]
[{"$f":"IFERROR(IF(INDIRECT($A$14&ROW())<>\"\",COUNTIF([2]Summary!$B$30:$B$1029,INDIRECT($A$14&ROW())),\"\"),\"\")","v":""}]
[{"$f":"IFERROR(IF(INDIRECT($A$14&ROW())<>\"\",COUNTIF([2]Summary!$B$30:$B$1029,INDIRECT($A$14&ROW())),\"\"),\"\")","v":""}]
[{"$f":"IFERROR(IF(INDIRECT($A$14&ROW())<>\"\",COUNTIF([2]Summary!$B$30:$B$1029,INDIRECT($A$14&ROW())),\"\"),\"\")","v":""}]
[{"$f":"IFERROR(IF(INDIRECT($A$14&ROW())<>\"\",COUNTIF([2]Summary!$B$30:$B$1029,INDIRECT($A$14&ROW())),\"\"),\"\")","v":""}]
[{"$f":"IFERROR(IF(INDIRECT($A$14&ROW())<>\"\",COUNTIF([2]Summary!$B$30:$B$1029,INDIRECT($A$14&ROW())),\"\"),\"\")","v":""}]
[{"$f":"IFERROR(IF(INDIRECT($A$14&ROW())<>\"\",COUNTIF([2]Summary!$B$30:$B$1029,INDIRECT($A$14&ROW())),\"\"),\"\")","v":""}]
[{"$f":"IFERROR(IF(INDIRECT($A$14&ROW())<>\"\",COUNTIF([2]Summary!$B$30:$B$1029,INDIRECT($A$14&ROW())),\"\"),\"\")","v":""}]
[{"$f":"IFERROR(IF(INDIRECT($A$14&ROW())<>\"\",COUNTIF([2]Summary!$B$30:$B$1029,INDIRECT($A$14&ROW())),\"\"),\"\")","v":""}]
[{"$f":"IFERROR(IF(INDIRECT($A$14&ROW())<>\"\",COUNTIF([2]Summary!$B$30:$B$1029,INDIRECT($A$14&ROW())),\"\"),\"\")","v":""}]
[{"$f":"IFERROR(IF(INDIRECT($A$14&ROW())<>\"\",COUNTIF([2]Summary!$B$30:$B$1029,INDIRECT($A$14&ROW())),\"\"),\"\")","v":""}]
[{"$f":"IFERROR(IF(INDIRECT($A$14&ROW())<>\"\",COUNTIF([2]Summary!$B$30:$B$1029,INDIRECT($A$14&ROW())),\"\"),\"\")","v":""}]
[{"$f":"IFERROR(IF(INDIRECT($A$14&ROW())<>\"\",COUNTIF([2]Summary!$B$30:$B$1029,INDIRECT($A$14&ROW())),\"\"),\"\")","v":""}]
[{"$f":"IFERROR(IF(INDIRECT($A$14&ROW())<>\"\",COUNTIF([2]Summary!$B$30:$B$1029,INDIRECT($A$14&ROW())),\"\"),\"\")","v":""}]
[{"$f":"IFERROR(IF(INDIRECT($A$14&ROW())<>\"\",COUNTIF([2]Summary!$B$30:$B$1029,INDIRECT($A$14&ROW())),\"\"),\"\")","v":""}]
[{"$f":"IFERROR(IF(INDIRECT($A$14&ROW())<>\"\",COUNTIF([2]Summary!$B$30:$B$1029,INDIRECT($A$14&ROW())),\"\"),\"\")","v":""}]
[{"$f":"IFERROR(IF(INDIRECT($A$14&ROW())<>\"\",COUNTIF([2]Summary!$B$30:$B$1029,INDIRECT($A$14&ROW())),\"\"),\"\")","v":""}]
[{"$f":"IFERROR(IF(INDIRECT($A$14&ROW())<>\"\",COUNTIF([2]Summary!$B$30:$B$1029,INDIRECT($A$14&ROW())),\"\"),\"\")","v":""}]
[{"$f":"IFERROR(IF(INDIRECT($A$14&ROW())<>\"\",COUNTIF([2]Summary!$B$30:$B$1029,INDIRECT($A$14&ROW())),\"\"),\"\")","v":""}]
[{"$f":"IFERROR(IF(INDIRECT($A$14&ROW())<>\"\",COUNTIF([2]Summary!$B$30:$B$1029,INDIRECT($A$14&ROW())),\"\"),\"\")","v":""}]
[{"$f":"IFERROR(IF(INDIRECT($A$14&ROW())<>\"\",COUNTIF([2]Summary!$B$30:$B$1029,INDIRECT($A$14&ROW())),\"\"),\"\")","v":""}]
[{"$f":"IFERROR(IF(INDIRECT($A$14&ROW())<>\"\",COUNTIF([2]Summary!$B$30:$B$1029,INDIRECT($A$14&ROW())),\"\"),\"\")","v":""}]
[{"$f":"IFERROR(IF(INDIRECT($A$14&ROW())<>\"\",COUNTIF([2]Summary!$B$30:$B$1029,INDIRECT($A$14&ROW())),\"\"),\"\")","v":""}]
[{"$f":"IFERROR(IF(INDIRECT($A$14&ROW())<>\"\",COUNTIF([2]Summary!$B$30:$B$1029,INDIRECT($A$14&ROW())),\"\"),\"\")","v":""}]
[{"$f":"IFERROR(IF(INDIRECT($A$14&ROW())<>\"\",COUNTIF([2]Summary!$B$30:$B$1029,INDIRECT($A$14&ROW())),\"\"),\"\")","v":""}]
[{"$f":"IFERROR(IF(INDIRECT($A$14&ROW())<>\"\",COUNTIF([2]Summary!$B$30:$B$1029,INDIRECT($A$14&ROW())),\"\"),\"\")","v":""}]
[{"$f":"IFERROR(IF(INDIRECT($A$14&ROW())<>\"\",COUNTIF([2]Summary!$B$30:$B$1029,INDIRECT($A$14&ROW())),\"\"),\"\")","v":""}]
[{"$f":"IFERROR(IF(INDIRECT($A$14&ROW())<>\"\",COUNTIF([2]Summary!$B$30:$B$1029,INDIRECT($A$14&ROW())),\"\"),\"\")","v":""}]
[{"$f":"IFERROR(IF(INDIRECT($A$14&ROW())<>\"\",COUNTIF([2]Summary!$B$30:$B$1029,INDIRECT($A$14&ROW())),\"\"),\"\")","v":""}]
[{"$f":"IFERROR(IF(INDIRECT($A$14&ROW())<>\"\",COUNTIF([2]Summary!$B$30:$B$1029,INDIRECT($A$14&ROW())),\"\"),\"\")","v":""}]
[{"$f":"IFERROR(IF(INDIRECT($A$14&ROW())<>\"\",COUNTIF([2]Summary!$B$30:$B$1029,INDIRECT($A$14&ROW())),\"\"),\"\")","v":""}]
[{"$f":"IFERROR(IF(INDIRECT($A$14&ROW())<>\"\",COUNTIF([2]Summary!$B$30:$B$1029,INDIRECT($A$14&ROW())),\"\"),\"\")","v":""}]
[{"$f":"IFERROR(IF(INDIRECT($A$14&ROW())<>\"\",COUNTIF([2]Summary!$B$30:$B$1029,INDIRECT($A$14&ROW())),\"\"),\"\")","v":""}]
[{"$f":"IFERROR(IF(INDIRECT($A$14&ROW())<>\"\",COUNTIF([2]Summary!$B$30:$B$1029,INDIRECT($A$14&ROW())),\"\"),\"\")","v":""}]
[{"$f":"IFERROR(IF(INDIRECT($A$14&ROW())<>\"\",COUNTIF([2]Summary!$B$30:$B$1029,INDIRECT($A$14&ROW())),\"\"),\"\")","v":""}]
[{"$f":"IFERROR(IF(INDIRECT($A$14&ROW())<>\"\",COUNTIF([2]Summary!$B$30:$B$1029,INDIRECT($A$14&ROW())),\"\"),\"\")","v":""}]
[{"$f":"IFERROR(IF(INDIRECT($A$14&ROW())<>\"\",COUNTIF([2]Summary!$B$30:$B$1029,INDIRECT($A$14&ROW())),\"\"),\"\")","v":""}]
[{"$f":"IFERROR(IF(INDIRECT($A$14&ROW())<>\"\",COUNTIF([2]Summary!$B$30:$B$1029,INDIRECT($A$14&ROW())),\"\"),\"\")","v":""}]
[{"$f":"IFERROR(IF(INDIRECT($A$14&ROW())<>\"\",COUNTIF([2]Summary!$B$30:$B$1029,INDIRECT($A$14&ROW())),\"\"),\"\")","v":""}]
[{"$f":"IFERROR(IF(INDIRECT($A$14&ROW())<>\"\",COUNTIF([2]Summary!$B$30:$B$1029,INDIRECT($A$14&ROW())),\"\"),\"\")","v":""}]
[{"$f":"IFERROR(IF(INDIRECT($A$14&ROW())<>\"\",COUNTIF([2]Summary!$B$30:$B$1029,INDIRECT($A$14&ROW())),\"\"),\"\")","v":""}]
[{"$f":"IFERROR(IF(INDIRECT($A$14&ROW())<>\"\",COUNTIF([2]Summary!$B$30:$B$1029,INDIRECT($A$14&ROW())),\"\"),\"\")","v":""}]
[{"$f":"IFERROR(IF(INDIRECT($A$14&ROW())<>\"\",COUNTIF([2]Summary!$B$30:$B$1029,INDIRECT($A$14&ROW())),\"\"),\"\")","v":""}]
[{"$f":"IFERROR(IF(INDIRECT($A$14&ROW())<>\"\",COUNTIF([2]Summary!$B$30:$B$1029,INDIRECT($A$14&ROW())),\"\"),\"\")","v":""}]
[{"$f":"IFERROR(IF(INDIRECT($A$14&ROW())<>\"\",COUNTIF([2]Summary!$B$30:$B$1029,INDIRECT($A$14&ROW())),\"\"),\"\")","v":""}]
[{"$f":"IFERROR(IF(INDIRECT($A$14&ROW())<>\"\",COUNTIF([2]Summary!$B$30:$B$1029,INDIRECT($A$14&ROW())),\"\"),\"\")","v":""}]
[{"$f":"IFERROR(IF(INDIRECT($A$14&ROW())<>\"\",COUNTIF([2]Summary!$B$30:$B$1029,INDIRECT($A$14&ROW())),\"\"),\"\")","v":""}]
[{"$f":"IFERROR(IF(INDIRECT($A$14&ROW())<>\"\",COUNTIF([2]Summary!$B$30:$B$1029,INDIRECT($A$14&ROW())),\"\"),\"\")","v":""}]
[{"$f":"IFERROR(IF(INDIRECT($A$14&ROW())<>\"\",COUNTIF([2]Summary!$B$30:$B$1029,INDIRECT($A$14&ROW())),\"\"),\"\")","v":""}]
[{"$f":"IFERROR(IF(INDIRECT($A$14&ROW())<>\"\",COUNTIF([2]Summary!$B$30:$B$1029,INDIRECT($A$14&ROW())),\"\"),\"\")","v":""}]
[{"$f":"IFERROR(IF(INDIRECT($A$14&ROW())<>\"\",COUNTIF([2]Summary!$B$30:$B$1029,INDIRECT($A$14&ROW())),\"\"),\"\")","v":""}]
[{"$f":"IFERROR(IF(INDIRECT($A$14&ROW())<>\"\",COUNTIF([2]Summary!$B$30:$B$1029,INDIRECT($A$14&ROW())),\"\"),\"\")","v":""}]
[{"$f":"IFERROR(IF(INDIRECT($A$14&ROW())<>\"\",COUNTIF([2]Summary!$B$30:$B$1029,INDIRECT($A$14&ROW())),\"\"),\"\")","v":""}]
[{"$f":"IFERROR(IF(INDIRECT($A$14&ROW())<>\"\",COUNTIF([2]Summary!$B$30:$B$1029,INDIRECT($A$14&ROW())),\"\"),\"\")","v":""}]
[{"$f":"IFERROR(IF(INDIRECT($A$14&ROW())<>\"\",COUNTIF([2]Summary!$B$30:$B$1029,INDIRECT($A$14&ROW())),\"\"),\"\")","v":""}]
[{"$f":"IFERROR(IF(INDIRECT($A$14&ROW())<>\"\",COUNTIF([2]Summary!$B$30:$B$1029,INDIRECT($A$14&ROW())),\"\"),\"\")","v":""}]
[{"$f":"IFERROR(IF(INDIRECT($A$14&ROW())<>\"\",COUNTIF([2]Summary!$B$30:$B$1029,INDIRECT($A$14&ROW())),\"\"),\"\")","v":""}]
[{"$f":"IFERROR(IF(INDIRECT($A$14&ROW())<>\"\",COUNTIF([2]Summary!$B$30:$B$1029,INDIRECT($A$14&ROW())),\"\"),\"\")","v":""}]
[{"$f":"IFERROR(IF(INDIRECT($A$14&ROW())<>\"\",COUNTIF([2]Summary!$B$30:$B$1029,INDIRECT($A$14&ROW())),\"\"),\"\")","v":""}]
[{"$f":"IFERROR(IF(INDIRECT($A$14&ROW())<>\"\",COUNTIF([2]Summary!$B$30:$B$1029,INDIRECT($A$14&ROW())),\"\"),\"\")","v":""}]
[{"$f":"IFERROR(IF(INDIRECT($A$14&ROW())<>\"\",COUNTIF([2]Summary!$B$30:$B$1029,INDIRECT($A$14&ROW())),\"\"),\"\")","v":""}]
[{"$f":"IFERROR(IF(INDIRECT($A$14&ROW())<>\"\",COUNTIF([2]Summary!$B$30:$B$1029,INDIRECT($A$14&ROW())),\"\"),\"\")","v":""}]
[{"$f":"IFERROR(IF(INDIRECT($A$14&ROW())<>\"\",COUNTIF([2]Summary!$B$30:$B$1029,INDIRECT($A$14&ROW())),\"\"),\"\")","v":""}]
[{"$f":"IFERROR(IF(INDIRECT($A$14&ROW())<>\"\",COUNTIF([2]Summary!$B$30:$B$1029,INDIRECT($A$14&ROW())),\"\"),\"\")","v":""}]
[{"$f":"IFERROR(IF(INDIRECT($A$14&ROW())<>\"\",COUNTIF([2]Summary!$B$30:$B$1029,INDIRECT($A$14&ROW())),\"\"),\"\")","v":""}]
[{"$f":"IFERROR(IF(INDIRECT($A$14&ROW())<>\"\",COUNTIF([2]Summary!$B$30:$B$1029,INDIRECT($A$14&ROW())),\"\"),\"\")","v":""}]
[{"$f":"IFERROR(IF(INDIRECT($A$14&ROW())<>\"\",COUNTIF([2]Summary!$B$30:$B$1029,INDIRECT($A$14&ROW())),\"\"),\"\")","v":""}]
[{"$f":"IFERROR(IF(INDIRECT($A$14&ROW())<>\"\",COUNTIF([2]Summary!$B$30:$B$1029,INDIRECT($A$14&ROW())),\"\"),\"\")","v":""}]
[{"$f":"IFERROR(IF(INDIRECT($A$14&ROW())<>\"\",COUNTIF([2]Summary!$B$30:$B$1029,INDIRECT($A$14&ROW())),\"\"),\"\")","v":""}]
[{"$f":"IFERROR(IF(INDIRECT($A$14&ROW())<>\"\",COUNTIF([2]Summary!$B$30:$B$1029,INDIRECT($A$14&ROW())),\"\"),\"\")","v":""}]
[{"$f":"IFERROR(IF(INDIRECT($A$14&ROW())<>\"\",COUNTIF([2]Summary!$B$30:$B$1029,INDIRECT($A$14&ROW())),\"\"),\"\")","v":""}]
[{"$f":"IFERROR(IF(INDIRECT($A$14&ROW())<>\"\",COUNTIF([2]Summary!$B$30:$B$1029,INDIRECT($A$14&ROW())),\"\"),\"\")","v":""}]
[{"$f":"IFERROR(IF(INDIRECT($A$14&ROW())<>\"\",COUNTIF([2]Summary!$B$30:$B$1029,INDIRECT($A$14&ROW())),\"\"),\"\")","v":""}]
[{"$f":"IFERROR(IF(INDIRECT($A$14&ROW())<>\"\",COUNTIF([2]Summary!$B$30:$B$1029,INDIRECT($A$14&ROW())),\"\"),\"\")","v":""}]
[{"$f":"IFERROR(IF(INDIRECT($A$14&ROW())<>\"\",COUNTIF([2]Summary!$B$30:$B$1029,INDIRECT($A$14&ROW())),\"\"),\"\")","v":""}]
[{"$f":"IFERROR(IF(INDIRECT($A$14&ROW())<>\"\",COUNTIF([2]Summary!$B$30:$B$1029,INDIRECT($A$14&ROW())),\"\"),\"\")","v":""}]
[{"$f":"IFERROR(IF(INDIRECT($A$14&ROW())<>\"\",COUNTIF([2]Summary!$B$30:$B$1029,INDIRECT($A$14&ROW())),\"\"),\"\")","v":""}]
[{"$f":"IFERROR(IF(INDIRECT($A$14&ROW())<>\"\",COUNTIF([2]Summary!$B$30:$B$1029,INDIRECT($A$14&ROW())),\"\"),\"\")","v":""}]
[{"$f":"IFERROR(IF(INDIRECT($A$14&ROW())<>\"\",COUNTIF([2]Summary!$B$30:$B$1029,INDIRECT($A$14&ROW())),\"\"),\"\")","v":""}]
[{"$f":"IFERROR(IF(INDIRECT($A$14&ROW())<>\"\",COUNTIF([2]Summary!$B$30:$B$1029,INDIRECT($A$14&ROW())),\"\"),\"\")","v":""}]
[{"$f":"IFERROR(IF(INDIRECT($A$14&ROW())<>\"\",COUNTIF([2]Summary!$B$30:$B$1029,INDIRECT($A$14&ROW())),\"\"),\"\")","v":""}]
[{"$f":"IFERROR(IF(INDIRECT($A$14&ROW())<>\"\",COUNTIF([2]Summary!$B$30:$B$1029,INDIRECT($A$14&ROW())),\"\"),\"\")","v":""}]
[{"$f":"IFERROR(IF(INDIRECT($A$14&ROW())<>\"\",COUNTIF([2]Summary!$B$30:$B$1029,INDIRECT($A$14&ROW())),\"\"),\"\")","v":""}]
[{"$f":"IFERROR(IF(INDIRECT($A$14&ROW())<>\"\",COUNTIF([2]Summary!$B$30:$B$1029,INDIRECT($A$14&ROW())),\"\"),\"\")","v":""}]
[{"$f":"IFERROR(IF(INDIRECT($A$14&ROW())<>\"\",COUNTIF([2]Summary!$B$30:$B$1029,INDIRECT($A$14&ROW())),\"\"),\"\")","v":""}]
[{"$f":"IFERROR(IF(INDIRECT($A$14&ROW())<>\"\",COUNTIF([2]Summary!$B$30:$B$1029,INDIRECT($A$14&ROW())),\"\"),\"\")","v":""}]
[{"$f":"IFERROR(IF(INDIRECT($A$14&ROW())<>\"\",COUNTIF([2]Summary!$B$30:$B$1029,INDIRECT($A$14&ROW())),\"\"),\"\")","v":""}]
[{"$f":"IFERROR(IF(INDIRECT($A$14&ROW())<>\"\",COUNTIF([2]Summary!$B$30:$B$1029,INDIRECT($A$14&ROW())),\"\"),\"\")","v":""}]
[{"$f":"IFERROR(IF(INDIRECT($A$14&ROW())<>\"\",COUNTIF([2]Summary!$B$30:$B$1029,INDIRECT($A$14&ROW())),\"\"),\"\")","v":""}]
[{"$f":"IFERROR(IF(INDIRECT($A$14&ROW())<>\"\",COUNTIF([2]Summary!$B$30:$B$1029,INDIRECT($A$14&ROW())),\"\"),\"\")","v":""}]
[{"$f":"IFERROR(IF(INDIRECT($A$14&ROW())<>\"\",COUNTIF([2]Summary!$B$30:$B$1029,INDIRECT($A$14&ROW())),\"\"),\"\")","v":""}]
[{"$f":"IFERROR(IF(INDIRECT($A$14&ROW())<>\"\",COUNTIF([2]Summary!$B$30:$B$1029,INDIRECT($A$14&ROW())),\"\"),\"\")","v":""}]
[{"$f":"IFERROR(IF(INDIRECT($A$14&ROW())<>\"\",COUNTIF([2]Summary!$B$30:$B$1029,INDIRECT($A$14&ROW())),\"\"),\"\")","v":""}]
[{"$f":"IFERROR(IF(INDIRECT($A$14&ROW())<>\"\",COUNTIF([2]Summary!$B$30:$B$1029,INDIRECT($A$14&ROW())),\"\"),\"\")","v":""}]
[{"$f":"IFERROR(IF(INDIRECT($A$14&ROW())<>\"\",COUNTIF([2]Summary!$B$30:$B$1029,INDIRECT($A$14&ROW())),\"\"),\"\")","v":""}]
[{"$f":"IFERROR(IF(INDIRECT($A$14&ROW())<>\"\",COUNTIF([2]Summary!$B$30:$B$1029,INDIRECT($A$14&ROW())),\"\"),\"\")","v":""}]
[{"$f":"IFERROR(IF(INDIRECT($A$14&ROW())<>\"\",COUNTIF([2]Summary!$B$30:$B$1029,INDIRECT($A$14&ROW())),\"\"),\"\")","v":""}]
[{"$f":"IFERROR(IF(INDIRECT($A$14&ROW())<>\"\",COUNTIF([2]Summary!$B$30:$B$1029,INDIRECT($A$14&ROW())),\"\"),\"\")","v":""}]
[{"$f":"IFERROR(IF(INDIRECT($A$14&ROW())<>\"\",COUNTIF([2]Summary!$B$30:$B$1029,INDIRECT($A$14&ROW())),\"\"),\"\")","v":""}]
[{"$f":"IFERROR(IF(INDIRECT($A$14&ROW())<>\"\",COUNTIF([2]Summary!$B$30:$B$1029,INDIRECT($A$14&ROW())),\"\"),\"\")","v":""}]
[{"$f":"IFERROR(IF(INDIRECT($A$14&ROW())<>\"\",COUNTIF([2]Summary!$B$30:$B$1029,INDIRECT($A$14&ROW())),\"\"),\"\")","v":""}]
[{"$f":"IFERROR(IF(INDIRECT($A$14&ROW())<>\"\",COUNTIF([2]Summary!$B$30:$B$1029,INDIRECT($A$14&ROW())),\"\"),\"\")","v":""}]
[{"$f":"IFERROR(IF(INDIRECT($A$14&ROW())<>\"\",COUNTIF([2]Summary!$B$30:$B$1029,INDIRECT($A$14&ROW())),\"\"),\"\")","v":""}]
[{"$f":"IFERROR(IF(INDIRECT($A$14&ROW())<>\"\",COUNTIF([2]Summary!$B$30:$B$1029,INDIRECT($A$14&ROW())),\"\"),\"\")","v":""}]
[{"$f":"IFERROR(IF(INDIRECT($A$14&ROW())<>\"\",COUNTIF([2]Summary!$B$30:$B$1029,INDIRECT($A$14&ROW())),\"\"),\"\")","v":""}]
[{"$f":"IFERROR(IF(INDIRECT($A$14&ROW())<>\"\",COUNTIF([2]Summary!$B$30:$B$1029,INDIRECT($A$14&ROW())),\"\"),\"\")","v":""}]
[{"$f":"IFERROR(IF(INDIRECT($A$14&ROW())<>\"\",COUNTIF([2]Summary!$B$30:$B$1029,INDIRECT($A$14&ROW())),\"\"),\"\")","v":""}]
[{"$f":"IFERROR(IF(INDIRECT($A$14&ROW())<>\"\",COUNTIF([2]Summary!$B$30:$B$1029,INDIRECT($A$14&ROW())),\"\"),\"\")","v":""}]
[{"$f":"IFERROR(IF(INDIRECT($A$14&ROW())<>\"\",COUNTIF([2]Summary!$B$30:$B$1029,INDIRECT($A$14&ROW())),\"\"),\"\")","v":""}]
[{"$f":"IFERROR(IF(INDIRECT($A$14&ROW())<>\"\",COUNTIF([2]Summary!$B$30:$B$1029,INDIRECT($A$14&ROW())),\"\"),\"\")","v":""}]
[{"$f":"IFERROR(IF(INDIRECT($A$14&ROW())<>\"\",COUNTIF([2]Summary!$B$30:$B$1029,INDIRECT($A$14&ROW())),\"\"),\"\")","v":""}]
[{"$f":"IFERROR(IF(INDIRECT($A$14&ROW())<>\"\",COUNTIF([2]Summary!$B$30:$B$1029,INDIRECT($A$14&ROW())),\"\"),\"\")","v":""}]
[{"$f":"IFERROR(IF(INDIRECT($A$14&ROW())<>\"\",COUNTIF([2]Summary!$B$30:$B$1029,INDIRECT($A$14&ROW())),\"\"),\"\")","v":""}]
[{"$f":"IFERROR(IF(INDIRECT($A$14&ROW())<>\"\",COUNTIF([2]Summary!$B$30:$B$1029,INDIRECT($A$14&ROW())),\"\"),\"\")","v":""}]
[{"$f":"IFERROR(IF(INDIRECT($A$14&ROW())<>\"\",COUNTIF([2]Summary!$B$30:$B$1029,INDIRECT($A$14&ROW())),\"\"),\"\")","v":""}]
[{"$f":"IFERROR(IF(INDIRECT($A$14&ROW())<>\"\",COUNTIF([2]Summary!$B$30:$B$1029,INDIRECT($A$14&ROW())),\"\"),\"\")","v":""}]
[{"$f":"IFERROR(IF(INDIRECT($A$14&ROW())<>\"\",COUNTIF([2]Summary!$B$30:$B$1029,INDIRECT($A$14&ROW())),\"\"),\"\")","v":""}]
[{"$f":"IFERROR(IF(INDIRECT($A$14&ROW())<>\"\",COUNTIF([2]Summary!$B$30:$B$1029,INDIRECT($A$14&ROW())),\"\"),\"\")","v":""}]
[{"$f":"IFERROR(IF(INDIRECT($A$14&ROW())<>\"\",COUNTIF([2]Summary!$B$30:$B$1029,INDIRECT($A$14&ROW())),\"\"),\"\")","v":""}]
[{"$f":"IFERROR(IF(INDIRECT($A$14&ROW())<>\"\",COUNTIF([2]Summary!$B$30:$B$1029,INDIRECT($A$14&ROW())),\"\"),\"\")","v":""}]
[{"$f":"IFERROR(IF(INDIRECT($A$14&ROW())<>\"\",COUNTIF([2]Summary!$B$30:$B$1029,INDIRECT($A$14&ROW())),\"\"),\"\")","v":""}]
[{"$f":"IFERROR(IF(INDIRECT($A$14&ROW())<>\"\",COUNTIF([2]Summary!$B$30:$B$1029,INDIRECT($A$14&ROW())),\"\"),\"\")","v":""}]
[{"$f":"IFERROR(IF(INDIRECT($A$14&ROW())<>\"\",COUNTIF([2]Summary!$B$30:$B$1029,INDIRECT($A$14&ROW())),\"\"),\"\")","v":""}]
[{"$f":"IFERROR(IF(INDIRECT($A$14&ROW())<>\"\",COUNTIF([2]Summary!$B$30:$B$1029,INDIRECT($A$14&ROW())),\"\"),\"\")","v":""}]
[{"$f":"IFERROR(IF(INDIRECT($A$14&ROW())<>\"\",COUNTIF([2]Summary!$B$30:$B$1029,INDIRECT($A$14&ROW())),\"\"),\"\")","v":""}]
[{"$f":"IFERROR(IF(INDIRECT($A$14&ROW())<>\"\",COUNTIF([2]Summary!$B$30:$B$1029,INDIRECT($A$14&ROW())),\"\"),\"\")","v":""}]
[{"$f":"IFERROR(IF(INDIRECT($A$14&ROW())<>\"\",COUNTIF([2]Summary!$B$30:$B$1029,INDIRECT($A$14&ROW())),\"\"),\"\")","v":""}]
[{"$f":"IFERROR(IF(INDIRECT($A$14&ROW())<>\"\",COUNTIF([2]Summary!$B$30:$B$1029,INDIRECT($A$14&ROW())),\"\"),\"\")","v":""}]
[{"$f":"IFERROR(IF(INDIRECT($A$14&ROW())<>\"\",COUNTIF([2]Summary!$B$30:$B$1029,INDIRECT($A$14&ROW())),\"\"),\"\")","v":""}]
[{"$f":"IFERROR(IF(INDIRECT($A$14&ROW())<>\"\",COUNTIF([2]Summary!$B$30:$B$1029,INDIRECT($A$14&ROW())),\"\"),\"\")","v":""}]
[{"$f":"IFERROR(IF(INDIRECT($A$14&ROW())<>\"\",COUNTIF([2]Summary!$B$30:$B$1029,INDIRECT($A$14&ROW())),\"\"),\"\")","v":""}]
[{"$f":"IFERROR(IF(INDIRECT($A$14&ROW())<>\"\",COUNTIF([2]Summary!$B$30:$B$1029,INDIRECT($A$14&ROW())),\"\"),\"\")","v":""}]
[{"$f":"IFERROR(IF(INDIRECT($A$14&ROW())<>\"\",COUNTIF([2]Summary!$B$30:$B$1029,INDIRECT($A$14&ROW())),\"\"),\"\")","v":""}]
[{"$f":"IFERROR(IF(INDIRECT($A$14&ROW())<>\"\",COUNTIF([2]Summary!$B$30:$B$1029,INDIRECT($A$14&ROW())),\"\"),\"\")","v":""}]
[{"$f":"IFERROR(IF(INDIRECT($A$14&ROW())<>\"\",COUNTIF([2]Summary!$B$30:$B$1029,INDIRECT($A$14&ROW())),\"\"),\"\")","v":""}]
[{"$f":"IFERROR(IF(INDIRECT($A$14&ROW())<>\"\",COUNTIF([2]Summary!$B$30:$B$1029,INDIRECT($A$14&ROW())),\"\"),\"\")","v":""}]
[{"$f":"IFERROR(IF(INDIRECT($A$14&ROW())<>\"\",COUNTIF([2]Summary!$B$30:$B$1029,INDIRECT($A$14&ROW())),\"\"),\"\")","v":""}]
[{"$f":"IFERROR(IF(INDIRECT($A$14&ROW())<>\"\",COUNTIF([2]Summary!$B$30:$B$1029,INDIRECT($A$14&ROW())),\"\"),\"\")","v":""}]
[{"$f":"IFERROR(IF(INDIRECT($A$14&ROW())<>\"\",COUNTIF([2]Summary!$B$30:$B$1029,INDIRECT($A$14&ROW())),\"\"),\"\")","v":""}]
[{"$f":"IFERROR(IF(INDIRECT($A$14&ROW())<>\"\",COUNTIF([2]Summary!$B$30:$B$1029,INDIRECT($A$14&ROW())),\"\"),\"\")","v":""}]
[{"$f":"IFERROR(IF(INDIRECT($A$14&ROW())<>\"\",COUNTIF([2]Summary!$B$30:$B$1029,INDIRECT($A$14&ROW())),\"\"),\"\")","v":""}]
[{"$f":"IFERROR(IF(INDIRECT($A$14&ROW())<>\"\",COUNTIF([2]Summary!$B$30:$B$1029,INDIRECT($A$14&ROW())),\"\"),\"\")","v":""}]
[{"$f":"IFERROR(IF(INDIRECT($A$14&ROW())<>\"\",COUNTIF([2]Summary!$B$30:$B$1029,INDIRECT($A$14&ROW())),\"\"),\"\")","v":""}]
[{"$f":"IFERROR(IF(INDIRECT($A$14&ROW())<>\"\",COUNTIF([2]Summary!$B$30:$B$1029,INDIRECT($A$14&ROW())),\"\"),\"\")","v":""}]
[{"$f":"IFERROR(IF(INDIRECT($A$14&ROW())<>\"\",COUNTIF([2]Summary!$B$30:$B$1029,INDIRECT($A$14&ROW())),\"\"),\"\")","v":""}]
[{"$f":"IFERROR(IF(INDIRECT($A$14&ROW())<>\"\",COUNTIF([2]Summary!$B$30:$B$1029,INDIRECT($A$14&ROW())),\"\"),\"\")","v":""}]
[{"$f":"IFERROR(IF(INDIRECT($A$14&ROW())<>\"\",COUNTIF([2]Summary!$B$30:$B$1029,INDIRECT($A$14&ROW())),\"\"),\"\")","v":""}]
[{"$f":"IFERROR(IF(INDIRECT($A$14&ROW())<>\"\",COUNTIF([2]Summary!$B$30:$B$1029,INDIRECT($A$14&ROW())),\"\"),\"\")","v":""}]
[{"$f":"IFERROR(IF(INDIRECT($A$14&ROW())<>\"\",COUNTIF([2]Summary!$B$30:$B$1029,INDIRECT($A$14&ROW())),\"\"),\"\")","v":""}]
[{"$f":"IFERROR(IF(INDIRECT($A$14&ROW())<>\"\",COUNTIF([2]Summary!$B$30:$B$1029,INDIRECT($A$14&ROW())),\"\"),\"\")","v":""}]
[{"$f":"IFERROR(IF(INDIRECT($A$14&ROW())<>\"\",COUNTIF([2]Summary!$B$30:$B$1029,INDIRECT($A$14&ROW())),\"\"),\"\")","v":""}]
[{"$f":"IFERROR(IF(INDIRECT($A$14&ROW())<>\"\",COUNTIF([2]Summary!$B$30:$B$1029,INDIRECT($A$14&ROW())),\"\"),\"\")","v":""}]
[{"$f":"IFERROR(IF(INDIRECT($A$14&ROW())<>\"\",COUNTIF([2]Summary!$B$30:$B$1029,INDIRECT($A$14&ROW())),\"\"),\"\")","v":""}]
[{"$f":"IFERROR(IF(INDIRECT($A$14&ROW())<>\"\",COUNTIF([2]Summary!$B$30:$B$1029,INDIRECT($A$14&ROW())),\"\"),\"\")","v":""}]
[{"$f":"IFERROR(IF(INDIRECT($A$14&ROW())<>\"\",COUNTIF([2]Summary!$B$30:$B$1029,INDIRECT($A$14&ROW())),\"\"),\"\")","v":""}]
[{"$f":"IFERROR(IF(INDIRECT($A$14&ROW())<>\"\",COUNTIF([2]Summary!$B$30:$B$1029,INDIRECT($A$14&ROW())),\"\"),\"\")","v":""}]
[{"$f":"IFERROR(IF(INDIRECT($A$14&ROW())<>\"\",COUNTIF([2]Summary!$B$30:$B$1029,INDIRECT($A$14&ROW())),\"\"),\"\")","v":""}]
[{"$f":"IFERROR(IF(INDIRECT($A$14&ROW())<>\"\",COUNTIF([2]Summary!$B$30:$B$1029,INDIRECT($A$14&ROW())),\"\"),\"\")","v":""}]
[{"$f":"IFERROR(IF(INDIRECT($A$14&ROW())<>\"\",COUNTIF([2]Summary!$B$30:$B$1029,INDIRECT($A$14&ROW())),\"\"),\"\")","v":""}]
[{"$f":"IFERROR(IF(INDIRECT($A$14&ROW())<>\"\",COUNTIF([2]Summary!$B$30:$B$1029,INDIRECT($A$14&ROW())),\"\"),\"\")","v":""}]
[{"$f":"IFERROR(IF(INDIRECT($A$14&ROW())<>\"\",COUNTIF([2]Summary!$B$30:$B$1029,INDIRECT($A$14&ROW())),\"\"),\"\")","v":""}]
[{"$f":"IFERROR(IF(INDIRECT($A$14&ROW())<>\"\",COUNTIF([2]Summary!$B$30:$B$1029,INDIRECT($A$14&ROW())),\"\"),\"\")","v":""}]
[{"$f":"IFERROR(IF(INDIRECT($A$14&ROW())<>\"\",COUNTIF([2]Summary!$B$30:$B$1029,INDIRECT($A$14&ROW())),\"\"),\"\")","v":""}]
[{"$f":"IFERROR(IF(INDIRECT($A$14&ROW())<>\"\",COUNTIF([2]Summary!$B$30:$B$1029,INDIRECT($A$14&ROW())),\"\"),\"\")","v":""}]
[{"$f":"IFERROR(IF(INDIRECT($A$14&ROW())<>\"\",COUNTIF([2]Summary!$B$30:$B$1029,INDIRECT($A$14&ROW())),\"\"),\"\")","v":""}]
[{"$f":"IFERROR(IF(INDIRECT($A$14&ROW())<>\"\",COUNTIF([2]Summary!$B$30:$B$1029,INDIRECT($A$14&ROW())),\"\"),\"\")","v":""}]
[{"$f":"IFERROR(IF(INDIRECT($A$14&ROW())<>\"\",COUNTIF([2]Summary!$B$30:$B$1029,INDIRECT($A$14&ROW())),\"\"),\"\")","v":""}]
[{"$f":"IFERROR(IF(INDIRECT($A$14&ROW())<>\"\",COUNTIF([2]Summary!$B$30:$B$1029,INDIRECT($A$14&ROW())),\"\"),\"\")","v":""}]
[{"$f":"IFERROR(IF(INDIRECT($A$14&ROW())<>\"\",COUNTIF([2]Summary!$B$30:$B$1029,INDIRECT($A$14&ROW())),\"\"),\"\")","v":""}]
[{"$f":"IFERROR(IF(INDIRECT($A$14&ROW())<>\"\",COUNTIF([2]Summary!$B$30:$B$1029,INDIRECT($A$14&ROW())),\"\"),\"\")","v":""}]
[{"$f":"IFERROR(IF(INDIRECT($A$14&ROW())<>\"\",COUNTIF([2]Summary!$B$30:$B$1029,INDIRECT($A$14&ROW())),\"\"),\"\")","v":""}]
[{"$f":"IFERROR(IF(INDIRECT($A$14&ROW())<>\"\",COUNTIF([2]Summary!$B$30:$B$1029,INDIRECT($A$14&ROW())),\"\"),\"\")","v":""}]
[{"$f":"IFERROR(IF(INDIRECT($A$14&ROW())<>\"\",COUNTIF([2]Summary!$B$30:$B$1029,INDIRECT($A$14&ROW())),\"\"),\"\")","v":""}]
[{"$f":"IFERROR(IF(INDIRECT($A$14&ROW())<>\"\",COUNTIF([2]Summary!$B$30:$B$1029,INDIRECT($A$14&ROW())),\"\"),\"\")","v":""}]
[{"$f":"IFERROR(IF(INDIRECT($A$14&ROW())<>\"\",COUNTIF([2]Summary!$B$30:$B$1029,INDIRECT($A$14&ROW())),\"\"),\"\")","v":""}]
[{"$f":"IFERROR(IF(INDIRECT($A$14&ROW())<>\"\",COUNTIF([2]Summary!$B$30:$B$1029,INDIRECT($A$14&ROW())),\"\"),\"\")","v":""}]
[{"$f":"IFERROR(IF(INDIRECT($A$14&ROW())<>\"\",COUNTIF([2]Summary!$B$30:$B$1029,INDIRECT($A$14&ROW())),\"\"),\"\")","v":""}]
[{"$f":"IFERROR(IF(INDIRECT($A$14&ROW())<>\"\",COUNTIF([2]Summary!$B$30:$B$1029,INDIRECT($A$14&ROW())),\"\"),\"\")","v":""}]
[{"$f":"IFERROR(IF(INDIRECT($A$14&ROW())<>\"\",COUNTIF([2]Summary!$B$30:$B$1029,INDIRECT($A$14&ROW())),\"\"),\"\")","v":""}]
[{"$f":"IFERROR(IF(INDIRECT($A$14&ROW())<>\"\",COUNTIF([2]Summary!$B$30:$B$1029,INDIRECT($A$14&ROW())),\"\"),\"\")","v":""}]
[{"$f":"IFERROR(IF(INDIRECT($A$14&ROW())<>\"\",COUNTIF([2]Summary!$B$30:$B$1029,INDIRECT($A$14&ROW())),\"\"),\"\")","v":""}]
[{"$f":"IFERROR(IF(INDIRECT($A$14&ROW())<>\"\",COUNTIF([2]Summary!$B$30:$B$1029,INDIRECT($A$14&ROW())),\"\"),\"\")","v":""}]
[{"$f":"IFERROR(IF(INDIRECT($A$14&ROW())<>\"\",COUNTIF([2]Summary!$B$30:$B$1029,INDIRECT($A$14&ROW())),\"\"),\"\")","v":""}]
[{"$f":"IFERROR(IF(INDIRECT($A$14&ROW())<>\"\",COUNTIF([2]Summary!$B$30:$B$1029,INDIRECT($A$14&ROW())),\"\"),\"\")","v":""}]
[{"$f":"IFERROR(IF(INDIRECT($A$14&ROW())<>\"\",COUNTIF([2]Summary!$B$30:$B$1029,INDIRECT($A$14&ROW())),\"\"),\"\")","v":""}]
[{"$f":"IFERROR(IF(INDIRECT($A$14&ROW())<>\"\",COUNTIF([2]Summary!$B$30:$B$1029,INDIRECT($A$14&ROW())),\"\"),\"\")","v":""}]
[{"$f":"IFERROR(IF(INDIRECT($A$14&ROW())<>\"\",COUNTIF([2]Summary!$B$30:$B$1029,INDIRECT($A$14&ROW())),\"\"),\"\")","v":""}]
[{"$f":"IFERROR(IF(INDIRECT($A$14&ROW())<>\"\",COUNTIF([2]Summary!$B$30:$B$1029,INDIRECT($A$14&ROW())),\"\"),\"\")","v":""}]
[{"$f":"IFERROR(IF(INDIRECT($A$14&ROW())<>\"\",COUNTIF([2]Summary!$B$30:$B$1029,INDIRECT($A$14&ROW())),\"\"),\"\")","v":""}]
[{"$f":"IFERROR(IF(INDIRECT($A$14&ROW())<>\"\",COUNTIF([2]Summary!$B$30:$B$1029,INDIRECT($A$14&ROW())),\"\"),\"\")","v":""}]
[{"$f":"IFERROR(IF(INDIRECT($A$14&ROW())<>\"\",COUNTIF([2]Summary!$B$30:$B$1029,INDIRECT($A$14&ROW())),\"\"),\"\")","v":""}]
[{"$f":"IFERROR(IF(INDIRECT($A$14&ROW())<>\"\",COUNTIF([2]Summary!$B$30:$B$1029,INDIRECT($A$14&ROW())),\"\"),\"\")","v":""}]
[{"$f":"IFERROR(IF(INDIRECT($A$14&ROW())<>\"\",COUNTIF([2]Summary!$B$30:$B$1029,INDIRECT($A$14&ROW())),\"\"),\"\")","v":""}]
[{"$f":"IFERROR(IF(INDIRECT($A$14&ROW())<>\"\",COUNTIF([2]Summary!$B$30:$B$1029,INDIRECT($A$14&ROW())),\"\"),\"\")","v":""}]
[{"$f":"IFERROR(IF(INDIRECT($A$14&ROW())<>\"\",COUNTIF([2]Summary!$B$30:$B$1029,INDIRECT($A$14&ROW())),\"\"),\"\")","v":""}]
[{"$f":"IFERROR(IF(INDIRECT($A$14&ROW())<>\"\",COUNTIF([2]Summary!$B$30:$B$1029,INDIRECT($A$14&ROW())),\"\"),\"\")","v":""}]
[{"$f":"IFERROR(IF(INDIRECT($A$14&ROW())<>\"\",COUNTIF([2]Summary!$B$30:$B$1029,INDIRECT($A$14&ROW())),\"\"),\"\")","v":""}]
[{"$f":"IFERROR(IF(INDIRECT($A$14&ROW())<>\"\",COUNTIF([2]Summary!$B$30:$B$1029,INDIRECT($A$14&ROW())),\"\"),\"\")","v":""}]
[{"$f":"IFERROR(IF(INDIRECT($A$14&ROW())<>\"\",COUNTIF([2]Summary!$B$30:$B$1029,INDIRECT($A$14&ROW())),\"\"),\"\")","v":""}]
[{"$f":"IFERROR(IF(INDIRECT($A$14&ROW())<>\"\",COUNTIF([2]Summary!$B$30:$B$1029,INDIRECT($A$14&ROW())),\"\"),\"\")","v":""}]
[{"$f":"IFERROR(IF(INDIRECT($A$14&ROW())<>\"\",COUNTIF([2]Summary!$B$30:$B$1029,INDIRECT($A$14&ROW())),\"\"),\"\")","v":""}]
[{"$f":"IFERROR(IF(INDIRECT($A$14&ROW())<>\"\",COUNTIF([2]Summary!$B$30:$B$1029,INDIRECT($A$14&ROW())),\"\"),\"\")","v":""}]
[{"$f":"IFERROR(IF(INDIRECT($A$14&ROW())<>\"\",COUNTIF([2]Summary!$B$30:$B$1029,INDIRECT($A$14&ROW())),\"\"),\"\")","v":""}]
[{"$f":"IFERROR(IF(INDIRECT($A$14&ROW())<>\"\",COUNTIF([2]Summary!$B$30:$B$1029,INDIRECT($A$14&ROW())),\"\"),\"\")","v":""}]
[{"$f":"IFERROR(IF(INDIRECT($A$14&ROW())<>\"\",COUNTIF([2]Summary!$B$30:$B$1029,INDIRECT($A$14&ROW())),\"\"),\"\")","v":""}]
[{"$f":"IFERROR(IF(INDIRECT($A$14&ROW())<>\"\",COUNTIF([2]Summary!$B$30:$B$1029,INDIRECT($A$14&ROW())),\"\"),\"\")","v":""}]
[{"$f":"IFERROR(IF(INDIRECT($A$14&ROW())<>\"\",COUNTIF([2]Summary!$B$30:$B$1029,INDIRECT($A$14&ROW())),\"\"),\"\")","v":""}]
[{"$f":"IFERROR(IF(INDIRECT($A$14&ROW())<>\"\",COUNTIF([2]Summary!$B$30:$B$1029,INDIRECT($A$14&ROW())),\"\"),\"\")","v":""}]
[{"$f":"IFERROR(IF(INDIRECT($A$14&ROW())<>\"\",COUNTIF([2]Summary!$B$30:$B$1029,INDIRECT($A$14&ROW())),\"\"),\"\")","v":""}]
[{"$f":"IFERROR(IF(INDIRECT($A$14&ROW())<>\"\",COUNTIF([2]Summary!$B$30:$B$1029,INDIRECT($A$14&ROW())),\"\"),\"\")","v":""}]
[{"$f":"IFERROR(IF(INDIRECT($A$14&ROW())<>\"\",COUNTIF([2]Summary!$B$30:$B$1029,INDIRECT($A$14&ROW())),\"\"),\"\")","v":""}]
[{"$f":"IFERROR(IF(INDIRECT($A$14&ROW())<>\"\",COUNTIF([2]Summary!$B$30:$B$1029,INDIRECT($A$14&ROW())),\"\"),\"\")","v":""}]
[{"$f":"IFERROR(IF(INDIRECT($A$14&ROW())<>\"\",COUNTIF([2]Summary!$B$30:$B$1029,INDIRECT($A$14&ROW())),\"\"),\"\")","v":""}]
[{"$f":"IFERROR(IF(INDIRECT($A$14&ROW())<>\"\",COUNTIF([2]Summary!$B$30:$B$1029,INDIRECT($A$14&ROW())),\"\"),\"\")","v":""}]
[{"$f":"IFERROR(IF(INDIRECT($A$14&ROW())<>\"\",COUNTIF([2]Summary!$B$30:$B$1029,INDIRECT($A$14&ROW())),\"\"),\"\")","v":""}]
[{"$f":"IFERROR(IF(INDIRECT($A$14&ROW())<>\"\",COUNTIF([2]Summary!$B$30:$B$1029,INDIRECT($A$14&ROW())),\"\"),\"\")","v":""}]
[{"$f":"IFERROR(IF(INDIRECT($A$14&ROW())<>\"\",COUNTIF([2]Summary!$B$30:$B$1029,INDIRECT($A$14&ROW())),\"\"),\"\")","v":""}]
[{"$f":"IFERROR(IF(INDIRECT($A$14&ROW())<>\"\",COUNTIF([2]Summary!$B$30:$B$1029,INDIRECT($A$14&ROW())),\"\"),\"\")","v":""}]
[{"$f":"IFERROR(IF(INDIRECT($A$14&ROW())<>\"\",COUNTIF([2]Summary!$B$30:$B$1029,INDIRECT($A$14&ROW())),\"\"),\"\")","v":""}]
[{"$f":"IFERROR(IF(INDIRECT($A$14&ROW())<>\"\",COUNTIF([2]Summary!$B$30:$B$1029,INDIRECT($A$14&ROW())),\"\"),\"\")","v":""}]
[{"$f":"IFERROR(IF(INDIRECT($A$14&ROW())<>\"\",COUNTIF([2]Summary!$B$30:$B$1029,INDIRECT($A$14&ROW())),\"\"),\"\")","v":""}]
[{"$f":"IFERROR(IF(INDIRECT($A$14&ROW())<>\"\",COUNTIF([2]Summary!$B$30:$B$1029,INDIRECT($A$14&ROW())),\"\"),\"\")","v":""}]
[{"$f":"IFERROR(IF(INDIRECT($A$14&ROW())<>\"\",COUNTIF([2]Summary!$B$30:$B$1029,INDIRECT($A$14&ROW())),\"\"),\"\")","v":""}]
[{"$f":"IFERROR(IF(INDIRECT($A$14&ROW())<>\"\",COUNTIF([2]Summary!$B$30:$B$1029,INDIRECT($A$14&ROW())),\"\"),\"\")","v":""}]
[{"$f":"IFERROR(IF(INDIRECT($A$14&ROW())<>\"\",COUNTIF([2]Summary!$B$30:$B$1029,INDIRECT($A$14&ROW())),\"\"),\"\")","v":""}]
[{"$f":"IFERROR(IF(INDIRECT($A$14&ROW())<>\"\",COUNTIF([2]Summary!$B$30:$B$1029,INDIRECT($A$14&ROW())),\"\"),\"\")","v":""}]
[{"$f":"IFERROR(IF(INDIRECT($A$14&ROW())<>\"\",COUNTIF([2]Summary!$B$30:$B$1029,INDIRECT($A$14&ROW())),\"\"),\"\")","v":""}]
[{"$f":"IFERROR(IF(INDIRECT($A$14&ROW())<>\"\",COUNTIF([2]Summary!$B$30:$B$1029,INDIRECT($A$14&ROW())),\"\"),\"\")","v":""}]
[{"$f":"IFERROR(IF(INDIRECT($A$14&ROW())<>\"\",COUNTIF([2]Summary!$B$30:$B$1029,INDIRECT($A$14&ROW())),\"\"),\"\")","v":""}]
[{"$f":"IFERROR(IF(INDIRECT($A$14&ROW())<>\"\",COUNTIF([2]Summary!$B$30:$B$1029,INDIRECT($A$14&ROW())),\"\"),\"\")","v":""}]
[{"$f":"IFERROR(IF(INDIRECT($A$14&ROW())<>\"\",COUNTIF([2]Summary!$B$30:$B$1029,INDIRECT($A$14&ROW())),\"\"),\"\")","v":""}]
[{"$f":"IFERROR(IF(INDIRECT($A$14&ROW())<>\"\",COUNTIF([2]Summary!$B$30:$B$1029,INDIRECT($A$14&ROW())),\"\"),\"\")","v":""}]
[{"$f":"IFERROR(IF(INDIRECT($A$14&ROW())<>\"\",COUNTIF([2]Summary!$B$30:$B$1029,INDIRECT($A$14&ROW())),\"\"),\"\")","v":""}]
[{"$f":"IFERROR(IF(INDIRECT($A$14&ROW())<>\"\",COUNTIF([2]Summary!$B$30:$B$1029,INDIRECT($A$14&ROW())),\"\"),\"\")","v":""}]
[{"$f":"IFERROR(IF(INDIRECT($A$14&ROW())<>\"\",COUNTIF([2]Summary!$B$30:$B$1029,INDIRECT($A$14&ROW())),\"\"),\"\")","v":""}]
[{"$f":"IFERROR(IF(INDIRECT($A$14&ROW())<>\"\",COUNTIF([2]Summary!$B$30:$B$1029,INDIRECT($A$14&ROW())),\"\"),\"\")","v":""}]
[{"$f":"IFERROR(IF(INDIRECT($A$14&ROW())<>\"\",COUNTIF([2]Summary!$B$30:$B$1029,INDIRECT($A$14&ROW())),\"\"),\"\")","v":""}]
[{"$f":"IFERROR(IF(INDIRECT($A$14&ROW())<>\"\",COUNTIF([2]Summary!$B$30:$B$1029,INDIRECT($A$14&ROW())),\"\"),\"\")","v":""}]
[{"$f":"IFERROR(IF(INDIRECT($A$14&ROW())<>\"\",COUNTIF([2]Summary!$B$30:$B$1029,INDIRECT($A$14&ROW())),\"\"),\"\")","v":""}]
[{"$f":"IFERROR(IF(INDIRECT($A$14&ROW())<>\"\",COUNTIF([2]Summary!$B$30:$B$1029,INDIRECT($A$14&ROW())),\"\"),\"\")","v":""}]
[{"$f":"IFERROR(IF(INDIRECT($A$14&ROW())<>\"\",COUNTIF([2]Summary!$B$30:$B$1029,INDIRECT($A$14&ROW())),\"\"),\"\")","v":""}]
[{"$f":"IFERROR(IF(INDIRECT($A$14&ROW())<>\"\",COUNTIF([2]Summary!$B$30:$B$1029,INDIRECT($A$14&ROW())),\"\"),\"\")","v":""}]
[{"$f":"IFERROR(IF(INDIRECT($A$14&ROW())<>\"\",COUNTIF([2]Summary!$B$30:$B$1029,INDIRECT($A$14&ROW())),\"\"),\"\")","v":""}]
[{"$f":"IFERROR(IF(INDIRECT($A$14&ROW())<>\"\",COUNTIF([2]Summary!$B$30:$B$1029,INDIRECT($A$14&ROW())),\"\"),\"\")","v":""}]
[{"$f":"IFERROR(IF(INDIRECT($A$14&ROW())<>\"\",COUNTIF([2]Summary!$B$30:$B$1029,INDIRECT($A$14&ROW())),\"\"),\"\")","v":""}]
[{"$f":"IFERROR(IF(INDIRECT($A$14&ROW())<>\"\",COUNTIF([2]Summary!$B$30:$B$1029,INDIRECT($A$14&ROW())),\"\"),\"\")","v":""}]
[{"$f":"IFERROR(IF(INDIRECT($A$14&ROW())<>\"\",COUNTIF([2]Summary!$B$30:$B$1029,INDIRECT($A$14&ROW())),\"\"),\"\")","v":""}]
[{"$f":"IFERROR(IF(INDIRECT($A$14&ROW())<>\"\",COUNTIF([2]Summary!$B$30:$B$1029,INDIRECT($A$14&ROW())),\"\"),\"\")","v":""}]
[{"$f":"IFERROR(IF(INDIRECT($A$14&ROW())<>\"\",COUNTIF([2]Summary!$B$30:$B$1029,INDIRECT($A$14&ROW())),\"\"),\"\")","v":""}]
[{"$f":"IFERROR(IF(INDIRECT($A$14&ROW())<>\"\",COUNTIF([2]Summary!$B$30:$B$1029,INDIRECT($A$14&ROW())),\"\"),\"\")","v":""}]
[{"$f":"IFERROR(IF(INDIRECT($A$14&ROW())<>\"\",COUNTIF([2]Summary!$B$30:$B$1029,INDIRECT($A$14&ROW())),\"\"),\"\")","v":""}]
[{"$f":"IFERROR(IF(INDIRECT($A$14&ROW())<>\"\",COUNTIF([2]Summary!$B$30:$B$1029,INDIRECT($A$14&ROW())),\"\"),\"\")","v":""}]
[{"$f":"IFERROR(IF(INDIRECT($A$14&ROW())<>\"\",COUNTIF([2]Summary!$B$30:$B$1029,INDIRECT($A$14&ROW())),\"\"),\"\")","v":""}]
[{"$f":"IFERROR(IF(INDIRECT($A$14&ROW())<>\"\",COUNTIF([2]Summary!$B$30:$B$1029,INDIRECT($A$14&ROW())),\"\"),\"\")","v":""}]
[{"$f":"IFERROR(IF(INDIRECT($A$14&ROW())<>\"\",COUNTIF([2]Summary!$B$30:$B$1029,INDIRECT($A$14&ROW())),\"\"),\"\")","v":""}]
[{"$f":"IFERROR(IF(INDIRECT($A$14&ROW())<>\"\",COUNTIF([2]Summary!$B$30:$B$1029,INDIRECT($A$14&ROW())),\"\"),\"\")","v":""}]
[{"$f":"IFERROR(IF(INDIRECT($A$14&ROW())<>\"\",COUNTIF([2]Summary!$B$30:$B$1029,INDIRECT($A$14&ROW())),\"\"),\"\")","v":""}]
[{"$f":"IFERROR(IF(INDIRECT($A$14&ROW())<>\"\",COUNTIF([2]Summary!$B$30:$B$1029,INDIRECT($A$14&ROW())),\"\"),\"\")","v":""}]
[{"$f":"IFERROR(IF(INDIRECT($A$14&ROW())<>\"\",COUNTIF([2]Summary!$B$30:$B$1029,INDIRECT($A$14&ROW())),\"\"),\"\")","v":""}]
[{"$f":"IFERROR(IF(INDIRECT($A$14&ROW())<>\"\",COUNTIF([2]Summary!$B$30:$B$1029,INDIRECT($A$14&ROW())),\"\"),\"\")","v":""}]
[{"$f":"IFERROR(IF(INDIRECT($A$14&ROW())<>\"\",COUNTIF([2]Summary!$B$30:$B$1029,INDIRECT($A$14&ROW())),\"\"),\"\")","v":""}]
[{"$f":"IFERROR(IF(INDIRECT($A$14&ROW())<>\"\",COUNTIF([2]Summary!$B$30:$B$1029,INDIRECT($A$14&ROW())),\"\"),\"\")","v":""}]
[{"$f":"IFERROR(IF(INDIRECT($A$14&ROW())<>\"\",COUNTIF([2]Summary!$B$30:$B$1029,INDIRECT($A$14&ROW())),\"\"),\"\")","v":""}]
[{"$f":"IFERROR(IF(INDIRECT($A$14&ROW())<>\"\",COUNTIF([2]Summary!$B$30:$B$1029,INDIRECT($A$14&ROW())),\"\"),\"\")","v":""}]
[{"$f":"IFERROR(IF(INDIRECT($A$14&ROW())<>\"\",COUNTIF([2]Summary!$B$30:$B$1029,INDIRECT($A$14&ROW())),\"\"),\"\")","v":""}]
[{"$f":"IFERROR(IF(INDIRECT($A$14&ROW())<>\"\",COUNTIF([2]Summary!$B$30:$B$1029,INDIRECT($A$14&ROW())),\"\"),\"\")","v":""}]
[{"$f":"IFERROR(IF(INDIRECT($A$14&ROW())<>\"\",COUNTIF([2]Summary!$B$30:$B$1029,INDIRECT($A$14&ROW())),\"\"),\"\")","v":""}]
[{"$f":"IFERROR(IF(INDIRECT($A$14&ROW())<>\"\",COUNTIF([2]Summary!$B$30:$B$1029,INDIRECT($A$14&ROW())),\"\"),\"\")","v":""}]
[{"$f":"IFERROR(IF(INDIRECT($A$14&ROW())<>\"\",COUNTIF([2]Summary!$B$30:$B$1029,INDIRECT($A$14&ROW())),\"\"),\"\")","v":""}]
[{"$f":"IFERROR(IF(INDIRECT($A$14&ROW())<>\"\",COUNTIF([2]Summary!$B$30:$B$1029,INDIRECT($A$14&ROW())),\"\"),\"\")","v":""}]
[{"$f":"IFERROR(IF(INDIRECT($A$14&ROW())<>\"\",COUNTIF([2]Summary!$B$30:$B$1029,INDIRECT($A$14&ROW())),\"\"),\"\")","v":""}]
[{"$f":"IFERROR(IF(INDIRECT($A$14&ROW())<>\"\",COUNTIF([2]Summary!$B$30:$B$1029,INDIRECT($A$14&ROW())),\"\"),\"\")","v":""}]
[{"$f":"IFERROR(IF(INDIRECT($A$14&ROW())<>\"\",COUNTIF([2]Summary!$B$30:$B$1029,INDIRECT($A$14&ROW())),\"\"),\"\")","v":""}]
[{"$f":"IFERROR(IF(INDIRECT($A$14&ROW())<>\"\",COUNTIF([2]Summary!$B$30:$B$1029,INDIRECT($A$14&ROW())),\"\"),\"\")","v":""}]
[{"$f":"IFERROR(IF(INDIRECT($A$14&ROW())<>\"\",COUNTIF([2]Summary!$B$30:$B$1029,INDIRECT($A$14&ROW())),\"\"),\"\")","v":""}]
[{"$f":"IFERROR(IF(INDIRECT($A$14&ROW())<>\"\",COUNTIF([2]Summary!$B$30:$B$1029,INDIRECT($A$14&ROW())),\"\"),\"\")","v":""}]
[{"$f":"IFERROR(IF(INDIRECT($A$14&ROW())<>\"\",COUNTIF([2]Summary!$B$30:$B$1029,INDIRECT($A$14&ROW())),\"\"),\"\")","v":""}]
[{"$f":"IFERROR(IF(INDIRECT($A$14&ROW())<>\"\",COUNTIF([2]Summary!$B$30:$B$1029,INDIRECT($A$14&ROW())),\"\"),\"\")","v":""}]
[{"$f":"IFERROR(IF(INDIRECT($A$14&ROW())<>\"\",COUNTIF([2]Summary!$B$30:$B$1029,INDIRECT($A$14&ROW())),\"\"),\"\")","v":""}]
[{"$f":"IFERROR(IF(INDIRECT($A$14&ROW())<>\"\",COUNTIF([2]Summary!$B$30:$B$1029,INDIRECT($A$14&ROW())),\"\"),\"\")","v":""}]
[{"$f":"IFERROR(IF(INDIRECT($A$14&ROW())<>\"\",COUNTIF([2]Summary!$B$30:$B$1029,INDIRECT($A$14&ROW())),\"\"),\"\")","v":""}]
[{"$f":"IFERROR(IF(INDIRECT($A$14&ROW())<>\"\",COUNTIF([2]Summary!$B$30:$B$1029,INDIRECT($A$14&ROW())),\"\"),\"\")","v":""}]
[{"$f":"IFERROR(IF(INDIRECT($A$14&ROW())<>\"\",COUNTIF([2]Summary!$B$30:$B$1029,INDIRECT($A$14&ROW())),\"\"),\"\")","v":""}]
[]
[null,"Copyright © 2013 by Oracle Symphony Sdn Bhd"]

{"sheet":"CLOSING STOCK","index":4,"n_rows":232,"n_cols":18,"rows_kept":232,"cut":false,"hidden":false,"merged":[[8,16,8,17],[3,1,3,4],[8,5,8,6],[8,9,8,10],[8,11,8,12]]}
[null,"LOUDSPEAKER KARAOKE "]
[null,"MONTHLY KITCHEN  STOCK TAKE "]
[]
[null,"OUTLET : STP KITCHEN"]
[null,"DATE      : 01.02.2014 (CLOSING STOCK VALUE FOR JAN  )"]
[]
["Price Changed"]
[]
[null,"ITEMS 物品","中文","Packing     包装","U/P","(WHOLE PACK.)",null,"CONVERT",null,"(PARTIAL PACK)",null,"TOTAL ",null,"TOTAL ",null,null,"USAGE"]
[null,null,null,null,"RM","Qty","UOM ","Qty","UOM ","QTY","UOM","QTY","UOM","RM ",null,null,"QTY","UOM"]
["FROZEN FOOD 冷冻食品"]
["(A ) MEAT 肉类","CHICKEN CHOP (MARINATED)","鸡扒","1 PKT * 10 PCS",3.34,128,"PKT",10,"PCS",4,"PCS",{"$f":"+J12+(H12*F12)+Q12","v":1284},"PCS",{"$f":"+L12*E12","v":4288.5599999999995},null,null,null,"PCS"]
[null,"CHICKEN CHOP ( ORIGINAL)","鸡扒(未加工）","1 PKT * 1 KG",11.8,25,"PKT",1,"KG",null,"PKT",25,"KG ",295,null,null,null,"KG "]
[null,"WHOLE CHICKEN","全鸡","1 PKT * 1 KG",8.4,34,"KG",1,"KG",null,"KG",34,"KG ",285.60000000000002,null,null,null,"KG "]
[null,"CHICKEN WINGS (MARINATED)","腌制鸡翅膀","1PKT*21 PCS",1.17,null,"PKT",21,"PCS",null,"PCS",203,"PCS",237.51,null,null,null,"PCS"]
[null,"CHICKEN WINGS (NON-MARINATED)","鸡翅膀","PER  PCS",1.17,null,"PKT",21,"PCS",null,"PCS",119,"PCS",139.22999999999999,null,null,null,"PCS"]
[null,"CHICKEN WING ","未腌制鸡翅膀","PER KG ",9.6999999999999993,10,"KG",1,"KG",null,"KG",10,"KG ",97,null,null,null,"KG "]
[null,"MINCED CHICKEN ","鸡肉碎","1PKT * 1 KG",12.5,null,"PKT",1,"PKT",null,"PKT",0,"PKT",0,null,null,null,"PKT"]
[null,"NZ BONELESS LAMB SHOULDER",null,"01CTN  * 6 KG",22.2,13.5,"KG",1,"KG",null,"KG",{"$f":"+J19+(H19*F19)+Q19","v":13.5},"KG ",{"$f":"+L19*E19","v":299.7}]
[null,"CKN.DRUMMET / BOXING",null,"1PKT * 38 PCS",0.34,null,"PKT",1,"PKT",582,"PCS",582,"PCS",197.88000000000002]
[]
[]
["(B ) SEAFOOD 海鲜类","DORY FISH FILLET ","多利鱼","1 PKT*16PCS",2.4900000000000002,null,"PKT",16,"PCS",null,"PCS",211,"PCS",{"$f":"+L23*E23","v":525.3900000000001},null,null,null,"PCS"]
[null,"DORRY FISH FILLET ","多利鱼","1CTN *23PCS",56,1,"CTN",1,"CTN",null,"KG",{"$f":"+J24+(H24*F24)+Q24","v":1},"CTN",56,null,null,null,"CTN"]
[null,"TAIL PRAWN 41/50","有尾虾","1PKT*1KG*45PCS",0.5444444444444444,7,"PKT",45,"PCS",null,"PCS",{"$f":"+J25+(H25*F25)+Q25","v":315},"PCS",171.49999999999997,null,null,null,"PCS"]
[]
["(C ) MC Cain 产品","MCCAIN ONION RING","洋葱圈","1CTN*8PKT*60 PCS * 907 GM",0.17,6,"PKT",60,"PCS",48,"PCS",{"$f":"+J27+(H27*F27)+Q27","v":408},"PCS",69.36,null,null,null,"PCS"]
[null,"MCCAIN SMILES","笑脸","1CTN*6PKT*105 PCS * 1.8 KG",0.13,3,"PKT",105,"PCS",129,"PCS",{"$f":"+J28+(H28*F28)+Q28","v":444},"PCS",57.72,null,null,null,"PCS"]
[null,"MCCAIN VERSITOT","粒粒","1CTN*6PKT*220 PCS * 2.27 KG",6.363636363636363E-2,3,"PKT",220,"PCS",277,"PCS",{"$f":"+J29+(H29*F29)+Q29","v":937},"PCS",59.627272727272718,null,null,null,"PCS"]
[null,"MCCAIN SPIRAL FRIES","薯仔角","1PKT * 2.2KG*250 PCS",5.6680000000000001E-2,null,"PKT",250,"PCS",null,"PCS",{"$f":"+J30+(H30*F30)+Q30","v":0},"PCS",0,null,null,null,"PCS"]
[null,"MC CAIN REDTONE CANYON SPIRALS","卷曲薯条","1CTN*6PKT*1.8 KG",7.8722222222222218,9,"PKT",1.8,"KG ",0.4,"KG",{"$f":"+J31+(H31*F31)+Q31","v":16.599999999999998},"KG ",130.67888888888888,null,null,null,"KG "]
[]
[]
["(E  ) FISH /SALMON/SOTONG","SALMON BALL","三文鱼丸","1CTN * 20PKTS *30PCS * 500G",0.27,3,"PKT",30,"PCS",null,"PCS",{"$f":"+J34+(H34*F34)+Q34","v":90},"PCS",{"$f":"+L34*E34","v":24.3},null,null,null,"PCS"]
["         BALL ","SOTONG BALL","苏东丸","1CTN * 20PKTS*50PCS  * 1KG",0.17,3,"PKT",50,"PCS",null,"PCS",{"$f":"+J35+(H35*F35)+Q35","v":150},"PCS",{"$f":"+L35*E35","v":25.500000000000004},null,null,null,"PCS"]
[null,"FISH BALL (BIG)","大白鱼丸","1CTN * 10PKTS*40PCS * 1KG",0.24,null,"PKT",40,"PCS",30,"PCS",{"$f":"+J36+(H36*F36)+Q36","v":30},"PCS",{"$f":"+L36*E36","v":7.1999999999999993},null,null,null,"PCS"]
[null,"FISH BALL (SMALL)","小白鱼丸","1CTN * 20PKTS*100PCS * 1KG",9.5000000000000001E-2,3,"PKT",100,"PCS",null,"PCS",{"$f":"+J37+(H37*F37)+Q37","v":300},"PCS",{"$f":"+L37*E37","v":28.5},null,null,null,"PCS"]
[]
["(F ) OTHERS 其他"]
[null,"CALAMARI RING","苏东圈","1PKT*300G * 15PCS",0.46666666666666667,19,"PKT",15,"PCS",null,"PCS",{"$f":"+J40+(H40*F40)+Q40","v":285},"PCS",{"$f":"+L40*E40","v":133},null,null,null,"PCS"]
[null,"CHICKEN SAUSAGE ","鸡肉香肠","1CTN *32PKTS * 10PCS",0.23,3,"PKT",10,"PCS",null,"PCS",30,"PCS",6.9,null,null,null,"PCS"]
[null,"SPRING ROLL","春卷","1CTN * 50PKTS *20PCS",0.27,21,"PKT",20,"PCS",null,"PCS",420,"PCS",113.4,null,null,null,"PCS"]
[null,"CRAB STICK (FILAMENT STICK)","蟹柳","1CTN * 20PKT*30PCS*1KG",0.28999999999999998,7,"PKT",30,"PCS",null,"PCS",210,"PCS",60.9,null,null,null,"PCS"]
[null,"THAI ROLL ","泰式卷","1CTN *50PKTS* 15PCS",0.45,9,"PKT",15,"PCS",null,"PCS",{"$f":"+J44+(H44*F44)+Q44","v":135},"PCS",60.75,null,null,null,"PCS"]
[null,"FISH CAKE -DODO (BIG)","鱼饼","1PKT *1KG*10PCS",0.98,8,"PKT",10,"PCS",null,"PCS",80,"PCS",78.400000000000006,null,null,null,"PCS"]
[null,"FRENCH FRIES CRINCLE CUT ","薯条有牙","1CTN * 10 PKT * 1KG",4.8,64,"PKT",1,"KG",null,"KG",64,"KG",307.2,null,null,null,"KG"]
[null,"SEAFOOD TOFU ","海鲜豆腐","1 PKT * 33 PCS",0.33,7,"PKT",33,"PCS",null,"PCS",231,"PCS",76.23,null,null,null,"PCS"]
[null,"TEMPURA FISH ","天妇罗鱼片","1CTN *3.45KG *30PCS",2.85,84,"PCS",1,"PCS",null,"PCS",84,{"$f":"+K48","v":"PCS"},239.4]
[null,"CRUMB FISH FILLET LEMON","柠檬鱼片","1CTN *3.4KG *40PCS",2.2000000000000002,null,"PCS",1,"PCS",114,"PCS",114,"PCS",250.8]
[null,"CHICKEN NUGGET","天妇罗鸡肉块","1PKT * 36 PCS ",0.26,8,"PKT",36,"PCS",null,"PCS",288,"PCS",74.88,null,null,null,"PCS"]
[null,"SQ CHEESE SEAFOOD TOFU ","芝士海鲜豆腐","01 ctn × 20 pkt × 24 pcs ",0.33,null,"PKT ",24,"PCS",436,"PCS",{"$f":"+J51+(H51*F51)","v":436},{"$f":"+K51","v":"PCS"},143.88,null,null,null,"PCS"]
[null,"SQUID -WHOLE(BROWN)","鱿鱼","PER KG",5,null,"KG",1,"KG",1.5,"KG",1.5,"KG",7.5,null,null,null,"PCS"]
[]
["CHEESE PRODUCTS 芝士产品"]
[null,"CHEESE MOZZARELLA SHREDDED","芝士碎","1PKT * 1 KG",39,null,"PKT",1,"PKT",null,null,{"$f":"+J55+(H55*F55)+V55","v":0},"PKT",{"$f":"+L55*E55","v":0}]
[null,"PAMECAN CHEESE ","芝士粉","1PKT * 1 KG",23,null,"PKT",1,"PKT",null,null,{"$f":"+J56+(H56*F56)+V56","v":0},"PKT",{"$f":"+L56*E56","v":0}]
[null,"SHREDDED MILD CHEDDAR CHEESE","瑞士乳酪","1PKT*2KG ",11.5,null,"PKT",1,"PKT",null,null,{"$f":"+J57+(H57*F57)+V57","v":0},"PKT",{"$f":"+L57*E57","v":0}]
[null,"TROPIC CHOICE NACHOS CHEESE DIP","玉米片奶酪","1TUB*3KG",48,null,"TUB",1,"TUB",null,null,{"$f":"+J58+(H58*F58)+V58","v":0},"TUB",{"$f":"+L58*E58","v":0}]
[]
[]
["NOODLES 面类"]
[null,"KUEY TEOH ","粿条","1PKT * 1KG",1.5,null,"PKT",1,"PKT",null,null,{"$f":"+J62+(H62*F62)+V62","v":0},"PKT",{"$f":"+L62*E62","v":0}]
[null,"MEE KUNING","黄面","1PKT * 1KG",2,3,"PKT",1,"PKT",null,null,3,"PKT",6]
[null,"NDL SESAME OIL NISSIN                ","出前一丁面","1CTN*12 PKT*5PCS* 100 GM ",1.34,42,"PKT",1,"PKT",null,null,42,"PKT",56.28]
[null,"RAMEN","日式拉面","1CTN * 12PKT *12PCS",0.9,3,"PKT",12,"PCS",null,"PCS",36,"PCS",32.4]
[null,"SPAGHETTI","意大利面","1 PKT* 500 GM",2.5,47,"PKT",1,"PKT",null,null,47,"PKT",117.5]
[null,"UDON NOODLES","乌东面","1 PKT*200 GM",1.1000000000000001,20,"PKT",1,"PKT",null,null,20,"PKT",22]
[]
["RICE 米"]
[null,"WANGI IMP.THAI - PEARL ","泰国香米","1PKT * 10 KG ",45.95,26,"PKT",1,"PKT ",null,null,{"$f":"+J70+(H70*F70)+V70","v":26},"PKT",{"$f":"+L70*E70","v":1194.7}]
[null,"RICE  ( RAMBUTAN)","红毛丹米","1PKT * 10 KG ",27.5,5,"PKT",1,"PKT ",null,null,{"$f":"+J71+(H71*F71)+V71","v":5},"PKT",{"$f":"+L71*E71","v":137.5}]
[]
[]
["CONDIMENT 调味料"]
["(A ) Soy  sauce","MCM SAUCE OYSTER                                            ","(美中美)蚝油","1 TUB * 5 KG",10,null,"TUB",1,"TUB",null,null,{"$f":"+J75+(H75*F75)+V75","v":0},"TUB",{"$f":"+L75*E75","v":0}]
[null,"MCM SAUCE SOY DARK (2)                               ","(美中美)加晒","1 TUB * 5 KG",19.5,1,"TUB",1,"TUB",null,null,{"$f":"+J76+(H76*F76)+V76","v":1},"TUB",{"$f":"+L76*E76","v":19.5}]
[null,"MCM SAUCE SOY LIGHT( 4KG)                            ","(美中美)生抽","1 TUB * 4 KG",8.5,1,"TUB",1,"TUB",null,null,{"$f":"+J77+(H77*F77)+V77","v":1},"TUB",{"$f":"+L77*E77","v":8.5}]
[null,"BENTONG SAUCE SOY LIGHT","文东生抽","1TUB* 1.3 KG",10,1,"TUB",1,"TUB",null,null,{"$f":"+J78+(H78*F78)+V78","v":1},"TUB",{"$f":"+L78*E78","v":10}]
[null,"STH OYSTER SAUCE (TONG)","新泰兴蚝油（桶）","1TONG*5KG",11.9,null,"TONG",1,"TONG",null,null,{"$f":"+J79+(H79*F79)+V79","v":0},"TONG",{"$f":"+L79*E79","v":0}]
[]
["(B) Chilli / Tomato ","KIMBALL CHILI SAUCE(PKT)","(KIMBALL)辣椒酱","1CNT*12PKT*1kg",3.67,6,"PKT",1,"PKT",null,null,{"$f":"+J81+(H81*F81)+V81","v":6},"PKT",{"$f":"+L81*E81","v":22.02}]
[null,"KIMBALL TOMATO SAUCE(PKT)","(KIMBALL)蕃茄酱","1CNT*12PKT*1kg",3.54,9,"PKT",1,"PKT",null,null,9,"PKT",31.86]
[null,"KN PRONTO ITALIAN TOMATO SAUCE","(家乐)番茄肉粒酱","1TIN * 2KG",24,null,"TUB",1,"TUB",null,null,0,"TUB",0]
[null,"KIMBALL TOMATO PUREE","(KIMBALL)番茄膏","1CTN *24CAN *430G",3.8,null,"CAN",1,"CAN",null,null,0,"CAN",0]
[null,"MAGGIE CHILLI SAUCE","辣椒酱","1CNT*12PKT*1.5 KG",6.2,1,"PKT",1,"PKT",null,null,1,"PKT",6.2]
[null,"MAGGIE TOMATO SAUCE","蕃茄酱","1CNT*12PKT*1.5 KG",5.8,1,"PKT",1,"PKT",null,null,1,"PKT",5.8]
[]
["(C ) Salad Sauce 沙拉酱","LC COLESLAW DRESSING                                   ","沙拉酱","1 CTN*4 TUB *3 LIT ",28.9,3,"TUB",1,"TUB",null,null,{"$f":"+J88+(H88*F88)+V88","v":3},"TUB",{"$f":"+L88*E88","v":86.699999999999989}]
[null,"LC MAYO MAGIC              (PKT)                                     ","蛋黄酱 ( 包）","1 CTN*4 PKT *3 LIT ",18.899999999999999,5,"PKT",1,"PKT",null,null,{"$f":"+J89+(H89*F89)+V89","v":5},"PKT",{"$f":"+L89*E89","v":94.5}]
[null,"LC TARTAR SAUCE                                              ","鞑靼酱","1 CTN*6 TUB *3 LIT",31.5,3,"TUB",1,"TUB",null,null,{"$f":"+J90+(H90*F90)+V90","v":3},"TUB",{"$f":"+L90*E90","v":94.5}]
[null,"LC THOUSAND ISLAND DRESSING                       ","千岛酱","1 CTN*6 TUB *2.4 LIT",25.5,4,"TUB",1,"TUB",null,null,{"$f":"+J91+(H91*F91)+V91","v":4},"TUB",{"$f":"+L91*E91","v":102}]
[]
["(D) MCM Product","MCM VINEGAR WHITE                                           ","(美中美)白醋","1 TUB * 4000G",7.5,null,"TUB",1,"TUB",null,null,{"$f":"+J93+(H93*F93)+V93","v":0},"TUB",{"$f":"+L93*E93","v":0}]
[null,"MCM SAUCE SOURPLUM                                    ","(美中美)酸梅酱","1 TUB * 3KG",16.5,1,"TUB",1,"TUB",null,null,{"$f":"+J94+(H94*F94)+V94","v":1},"TUB",{"$f":"+L94*E94","v":16.5}]
[null,"MCM TAUCU PASTE                                           ","(美中美)蘑豆酱","1 TUB * 3KG",11.5,1,"TUB",1,"TUB",null,null,{"$f":"+J95+(H95*F95)+V95","v":1},"TUB",{"$f":"+L95*E95","v":11.5}]
[]
["(E ) OTHERS 其他","A1 Sauce","A1 汁"," 1BTL * 630ML ",7,1,"BTL",1,"BTL",null,null,{"$f":"+J97+(H97*F97)+V97","v":1},"BTL",{"$f":"+L97*E97","v":7}]
[null,"COLOURING YELLOW","黄色素","1BTL * 25ml",2,null,"BTL ",1,"BTL ",null,null,0,"BTL ",0]
[null,"COLOURING RED","红色素","1BTL * 25ml",2,null,"BTL ",1,"BTL ",null,null,0,"BTL",0]
[null,"DIPPING FOR CHIKEN (TONG)                                ","泰国-点鸡汁","1CTN*3TUB*5KG",37,3,"TUB",1,"TUB",null,null,3,"TUB",111]
[null,"FISH SAUCE","鱼露","1 BTL * 750 ML ",2.2000000000000002,1,"BTL",1,"BTL",null,null,1,"BTL",2.2000000000000002]
[null,"H.P SAUCE","Hp酱","1BTL *220GM",5.8,null,"BTL",1,"BTL",null,null,0,"BTL",0]
[null,"SAUCE LEA & PERRIN (LP)                                     ","LP调味汁","1 BTL *290ML",7.9,1,"BTL",1,"BTL",null,null,1,"BTL ",7.9]
[null,"KN BARBEQUE SAUCE","烧烤酱","1TUB * 900G ",25,null,"TUB",1,"TUB",null,null,0,"TUB",0]
[null,"LKK CHU HOU PASTE                              ","(李)柱侯酱","1 CAN *2.2KG",25.5,null,"CAN",1,"CAN",null,null,0,"CAN",0]
[null,"PASTE PRAWN (HK) SALTED","咸虾酱","1CAN * 227 G",4.9000000000000004,3,"CAN",1,"CAN",null,null,3,"CAN",14.700000000000001]
[null,"RICE WINE    (HAI-O)","白米酒(兴兴发）","1 BTL * 640ML",4.95,null,"BTL",1,"BTL",null,null,0,"BTL",0]
[null,"SATAY SAUCE","沙爹酱","1PKT * 1KG",21.5,8,"PKT",1,"PKT",null,null,8,"PKT",172]
[null,"SAUCE TABASCO","辣酱油","1BTL * 60ml",6.5,null,"BTL ",1,"BTL ",null,null,0,"BTL ",0]
[null,"VINEGAR (RED) -ELISEN","大红浙醋","1BTL*640ML",5.2,null,"BTL",1,"BTL",null,null,0,"BTL",0]
[null,"VINEGER GREATWALL","长城淅醋","1BTL * 667ML",3.3,null,"BTL",1,"BTL",null,null,0,"BTL",0]
[null,"WINE HUA TIAO CHEW (A)                                                ","花雕酒(尖塔)","1 BTL * 640ML",4.95,1,"BTL",1,"BTL",null,null,1,"BTL",4.95]
[null,"MAGGI SEASONING","(美极)调味料","1CTN*6BTL*790ML",17.5,null,"BTL",1,"BTL",null,null,0,"BTL",0]
[]
[]
[]
["PREPARED SAUCE 自制酱料"]
[null,"BLACK PEPPER SAUCE","黑椒酱","TUB*3.7KG",3.02,null,"TUB",3.7,"KG",3.4,"KG",{"$f":"+J118+(H118*F118)+V118","v":3.4},"KG",{"$f":"+L118*E118","v":10.267999999999999}]
[null,"BLACK PEPPER SAUCE (UDON)","黑椒酱 (乌冬面）","TUB*4 KG",3.88,null,"TUB",4,"KG",2.5,"KG",2.5,"KG",9.6999999999999993]
[null,"BOLOGNESE SAUCE","肉酱意粉酱","1 PKT*2KG",11.351666666666667,null,"PKT",2,"KG",0.6,"KG",0.6,"KG",6.8109999999999999]
[null,"CHICKEN SAUCE","鸡汁","TUB*1.6 KG",3.3,null,"TUB",1.6,"KG",1.9,"KG",1.9,"KG",6.27]
[null,"MARMITE SAUCE ","妈蜜汁","TUB*4.50KG",2,null,"TUB",4.5,"KG",3.9,"KG",3.9,"KG",7.8]
[null,"GONG BAO SAUCE ","宫保酱","TUB*4.2KG",1.53,null,"TUB",4.2,"KG",null,"KG",0,"KG",0]
[null,"MUSHROOM SAUCE","蘑菇酱","TUB*3.7 KG",6.78,null,"TUB",3.7,"KG",2.2000000000000002,"KG",2.2000000000000002,"KG",14.916000000000002]
[null,"SAMBAL (FRIED)SAUCE","叁巴酱","TUB*7.2KG",9.07,null,"TUB",7.2,"KG",4.9000000000000004,"KG",4.9000000000000004,"KG",44.443000000000005]
[null,"SAMBAL (NASI LEMAK )","叁巴酱","TUB*6KG",7.39,null,"TUB",6,"KG",null,"KG",0,"KG",0]
[null,"SWEET & SOUR SAUCE","糖醋酱","TUB*4KG",1.88,null,"TUB",4,"KG",null,"KG",0,"KG",0]
[null,"THAI SAUCE","泰式酱","1TUB*7.1 KG",7.1,null,"TUB",7.1,"KG",7.5,"KG",7.5,"KG",53.25]
[null,"BUTTER CREAM SAUCE","奶油酱","1TUB*1.1 KG",5.8999999999999995,null,"TUB",1.1000000000000001,"KG",1.1000000000000001,"KG",1.1000000000000001,"KG",6.49]
[null,"DRY NOODLE SAUCE","干捞酱","1TUB*2.1 KG",6.4523809523809526,null,"TUB",2.1,"KG",1.9,"KG",1.9,"KG",12.259523809523809]
[null,"ZONG WEI ","总味","1PKT * 0.94 KG",8.1808510638297882,null,"TUB",0.94,"KG",null,"KG",0,"KG",0]
[]
[]
["OIL 油"]
[null,"COOKING OIL","食油","1CTN *17PKT * 1KG",2.7,4,"CTN",17,"PKT",2,"PKT",{"$f":"+J135+(H135*F135)+V135","v":70},"PKT",{"$f":"+L135*E135","v":189}]
[null,"OIL CORN DAISY                                                ","包蜀油"," 1TUB *3KG",29.5,null,"TUB",1,"TUB",null,null,{"$f":"+J136+(H136*F136)+V136","v":0},"TUB",{"$f":"+L136*E136","v":0}]
[null,"OIL SESAME CY                                   ","麻油(胡泉益)鹿牌","1 TIN * 6KG",43,null,"TIN",1,"TIN",null,null,{"$f":"+J137+(H137*F137)+V137","v":0},"TIN",{"$f":"+L137*E137","v":0}]
[null,"OLIVE OIL","橄榄油","1 BTL * 1 LIT ",20.5,null,"BTL",1,"KG",null,null,{"$f":"+J138+(H138*F138)+V138","v":0},"BTL",{"$f":"+L138*E138","v":0}]
[]
["POWDER 粉类"]
["(A ) KNORR BRAND","KN CHICKEN STOCK                                         ","(家乐)鸡精粉","1ctn*6pkt*1.2kg",17.5,2,"PKT",1,"PKT",null,null,{"$f":"+J141+(H141*F141)+V141","v":2},"PKT",{"$f":"+L141*E141","v":35}]
[null,"KN DEMI-GLACE BROWN SAUCE MIX               ","(家乐)黄揭汁粉","1ctn*6pkt*1kg",20.9,6,"PKT",1,"PKT",null,null,{"$f":"+J142+(H142*F142)+V142","v":6},"PKT",{"$f":"+L142*E142","v":125.39999999999999}]
[null,"KN INSTANT CHICKEN GRAVY MIX                 ","(家乐)即溶鸡肉汁","1ctn*6pkt*1kg",23.9,5,"PKT",1,"PKT",null,null,{"$f":"+J143+(H143*F143)+V143","v":5},"PKT",{"$f":"+L143*E143","v":119.5}]
[null,"KN TENDERIZER ","（家乐）松肉粉","1 BTL *453.6 GM",6.9,1,"BTL ",null,null,null,null,{"$f":"+J144+(H144*F144)+V144","v":0},"BTL ",{"$f":"+L144*E144","v":0}]
[null,"KN TEPUNG GORENG AYAM","(家乐)酥炸脆鸡粉","1ctn*12pkt*1kg",12,1,"PKT",1,"PKT",null,null,{"$f":"+J145+(H145*F145)+V145","v":1},"PKT",{"$f":"+L145*E145","v":12}]
[]
["(B ) FLOUR","FLOUR SUPERIOR (WINDMILL)                              ","风车粉","1pkt*1kg",6.5,null,"PKT",1,"KG",null,null,{"$f":"+J147+(H147*F147)+V147","v":0},"PKT",{"$f":"+L147*E147","v":0}]
[null,"FLOUR TAPIOCA                                                      ","薯粉","1pkt*1kg",2.9,3,"PKT",1,"KG",null,null,{"$f":"+J148+(H148*F148)+V148","v":3},"PKT",{"$f":"+L148*E148","v":8.6999999999999993}]
[null,"FLOUR WHEAT (ANCHOR)                                ","面粉","1pkt*1kg",2.7,6,"PKT",1,"KG",null,null,{"$f":"+J149+(H149*F149)+V149","v":6},"PKT",{"$f":"+L149*E149","v":16.200000000000003}]
[null,"FLOUR RICE","粘米粉","1PKT * 500G",1.9,3,"PKT",1,"KG",null,null,{"$f":"+J150+(H150*F150)+V150","v":3},"PKT",{"$f":"+L150*E150","v":5.6999999999999993}]
[]
["(C  ) OTHERS","AJINOMOTO","味精粉","1CTN*20PKT*1KG",9.4,1,"PKT",1,"PKT",null,null,{"$f":"+J152+(H152*F152)+V152","v":1},"PKT",{"$f":"+L152*E152","v":9.4}]
[null,"CUMIN (JINTAN PUTIH)                   ","小茴粉","1ctn*40pkt*70g",null,null,"PKT",1,"PKT",null,null,0,"PKT",0]
[null,"DRIED CHILI POWDER","辣椒干粉","1ctn*40pkt*250g",4.5,1,"PKT",1,"PKT",null,null,1,"PKT",4.5]
[null,"PARPIKA ","灯笼椒粉","1pkt*100gm",6,null,"PKT",1,"PKT",null,null,0,"PKT",0]
[null,"PEPPER BLACK (CORN WHOLE)                          ","黑胡椒粒","PER KG",28,1,"PKT",1,"PKT",null,null,1,"PKT",28]
[null,"POWDER CURRY (BABA)","(BABA)加厘粉","1pkt*250g",4.5,1,"PKT",1,"PKT",null,null,1,"PKT",4.5]
[null,"POWDER CURRY (BURUNG BRAND)","咖哩粉（鸟牌）","1PKT * 250GM",13.8,null,"PKT",1,"KG",null,null,0,"PKT",0]
[null,"POWDER CURRY WATCH BRAND (ENGLAND)                     ","英式咖哩粉","1ctn*36btl*115g",5.2,1,"BTL ",1,"BTL ",null,null,1,"BTL ",5.2]
[null,"POWDER CUSTARD","鸡仔粉","1pkt*300gm",3.95,null,"PKT",1,"PKT",null,null,0,"PKT",0]
[null,"POWDER FIVE SPICE              ","五香粉(博安堂)","1pkt*300gm",12.5,1,"PKT",1,"PKT",null,null,1,"PKT",12.5]
[null,"POWDER MUSTARD","黄芥辣粉","1tub*454gm",29.5,null,"PKT",1,"PKT",null,null,0,"PKT",0]
[null,"POWDER WHITE PEPPER                                     ","白胡椒粉(平)","1pkt*500gm",5.9,null,"PKT",1,"PKT",null,null,0,"PKT",0]
[null,"TURMERIC (KUNYIT)                              ","黄姜粉","1pkt*250g",4.8,null,"PKT",1,"PKT",null,null,0,"PKT",0]
[null,"WHITE BREADCRUMB","面包粉","1pkt*1KG",8,1,"PKT",1,"PKT",null,null,1,"PKT",8]
[]
["HERBS & SPICES 香料类"]
[null,"BASIL WHOLE","九层塔香草","GRAM",0.06,null,"PKT",1,"GM",null,"GM",{"$f":"+J168+(H168*F168)+V168","v":0},"GM",{"$f":"+L168*E168","v":0}]
[null,"BAY LEAVES WHOLE","月桂叶","GRAM",5.5E-2,null,"PKT",1,"GM",null,"GM",0,"GM",0]
[null,"CINNAMON BARK (SMALL)","桂皮(小)","GRAM",9.4999999999999998E-3,null,"KG",1,"GM",null,"GM",0,"GM",0]
[null,"DING XIANG(CENGKIH)","丁香","GRAM",6.6000000000000003E-2,null,"PKT",1,"GM",null,"GM",0,"GM",0]
[null,"FUNGUS BLACK                                         ","木耳","GRAM",1.4E-2,null,"PKT",1,"GM",1,"GM",1,"GM",1.4E-2]
[null,"OREGANO WHOLE","区里卡诺香草","GRAM",7.0000000000000007E-2,null,"PKT",null,null,null,"GM",0,"GM",0]
[null,"RED DATE","红枣","1KG",7,null,"KG",1,"KG",null,"KG",0,"KG",0]
[null,"ROSEMARY WHOLE","迷迭香","GRAM",0.05,null,"PKT",1,"GM",null,"GM",0,"GM",0]
[null,"STAR ANISE/ BUNGA LAWANG","八角","GRAM",0.02,null,"PKT",1,"KG",null,"GM",0,"GM",0]
[]
[]
["CREAM / MILK / JUICE  忌廉/牛奶/汁"]
[null,"CARNATION MILK","三花生奶","1CTN *48 CAN *400G",2.9,10,"CAN",1,"CAN",null,null,{"$f":"+J180+(H180*F180)+V180","v":10},"CAN",{"$f":"+L180*E180","v":29}]
[null,"GREENFIELD FULL CREAM MILK （INDONESIA）","全脂牛奶","1 PKT * 1 LIT",3.8,3,"PKT",1,"PKT",null,null,3,"PKT",11.399999999999999]
[null,"MILK TEA POT                                                          ","茶壶牛奶","1CTN *48 CAN *505G",2.65,3,"CAN",1,"CAN",null,null,3,"CAN",7.9499999999999993]
[null,"GREENFIELD UHT WHIPPING CREAM","液体奶油","1PKT * 1 LIT",12.5,2,"PKT",1,"PKT",null,null,2,"PKT",25]
[null,"LEMON JUICE","柠檬汁","1BTL * 2LIT ",8.5,null,"BTL",1,"BTL",null,null,0,"BTL",0]
[null,"LIME JUICE","酸柑汁","1BTL * 2LIT ",8.5,null,"BTL",1,"BTL",null,null,0,"BTL",0]
[null,"GREENFIELD FULL CREAM MILK （INDONESIA）","全脂牛奶","1 PKT * 1 LIT",3.8,null,"PKT",1,"PKT",null,null,0,"PKT",0]
[null,"MILK TEA POT                                                          ","茶壶牛奶","1CTN *48 CAN *505G",2.75,null,"CAN",1,"CAN",null,null,0,"CAN",0]
[null,"GREENFIELD UHT WHIPPING CREAM","液体奶油","1PKT * 1 LIT",12.5,null,"PKT",1,"PKT",null,null,0,"PKT",0]
[null,"LEMON JUICE","柠檬汁","1BTL * 2LIT ",8.5,null,"BTL",1,"BTL",null,null,0,"BTL",0]
[null,"LIME JUICE","酸柑汁","1BTL * 2LIT ",8.5,null,"BTL",1,"BTL",null,null,0,"BTL",0]
[null,"MILK COCONUT (RASAKU)                                    ","椰汁","1PKT * 1 LIT",7.5,null,"PKT",1,"PKT",null,null,0,"PKT",0]
[null,"ORANGE JUICE","橙汁","1BTL * 2LIT ",4.25,null,"BTL",1,"BTL",null,null,0,"BTL",0]
[]
[]
[]
["EGG 鸡蛋 "]
[null,"EGG","鸡蛋","NOS",0.37,240,"PCS",1,"PCS",null,null,{"$f":"+J197+(H197*F197)+V197","v":240},"PCS",{"$f":"+L197*E197","v":88.8}]
[null,"EGG SALTED","咸蛋","NOS",0.62,null,"PCS",1,"PCS",null,null,{"$f":"+J198+(H198*F198)+V198","v":0},"PCS",{"$f":"+L198*E198","v":0}]
[]
["SUGAR / SALT 糖与盐"]
[null,"SUGER WHITE FINE","幼白糖","1CTN*24PKT*1KG",2.89,null,"PKT",1,"PKT",null,null,{"$f":"+J201+(H201*F201)+V201","v":0},"PKT",{"$f":"+L201*E201","v":0}]
[null,"SALT FINE (PKT)                                                       ","幼盐(包)","1CTN*12PKT*450GM",0.57999999999999996,7,"PKT",1,"PKT",null,null,{"$f":"+J202+(H202*F202)+V202","v":7},"PKT",{"$f":"+L202*E202","v":4.0599999999999996}]
[]
["GROCERIES 杂货"]
[null,"IKAN BILIS (B)","金钱鱼肉","PER KG",20,null,"KG",1,"KG",null,null,{"$f":"+J205+(H205*F205)+V205","v":0},"KG",{"$f":"+L205*E205","v":0}]
[null,"BAKED BEAN                                                ","茄汁豆","1CTN*24CAN *425G",1.8,null,"CAN",1,"CAN",null,null,0,"CAN",0]
[null,"BEANCURD RED PRESERVED","南乳(罐)","1 CTN *36BTL *250G",1.9,3,"CAN",1,"CAN",null,null,3,"CAN",5.6999999999999993]
[null,"BEANCURD WHITE PRESERVED                ","大石付乳","1 CTN *36BTL *350G",2,3,"CAN",1,"CAN",null,null,3,"CAN",6]
[null,"DOU CHU LI ","豆豉粒","1 CAN *500G",3.9,null,"CAN",1,"CAN",null,null,0,"CAN",0]
[null,"MALTOSE","麦芽糖","1CAN* 350G",2.2000000000000002,null,"CAN",1,"CAN",null,null,0,"CAN",0]
[null,"MARMITE","妈蜜汁","1CAN* 470G",24.9,1,"CAN",1,"CAN",null,null,1,"CAN",24.9]
[null,"MASHED POTATO POWDER","薯泥粉","1TIN* 2.2KG",34,null,"TIN",1,"TIN",null,null,0,"TIN",0]
[null,"MUSHROOM BUTTON                               ","蘑菇","1CTN*24CAN *425G",2.35,13,"CAN",1,"CAN",null,null,13,"CAN",30.55]
[null,"MUSHROOM STRAW ","草菇","1CTN*24CAN *425G",2.35,7,"CAN",1,"CAN",null,null,7,"CAN",16.45]
[]
[null,"NUT CANDLENUT (BUAH KERAS)                   ","石古仔","1 PKT * 1KG",14,null,"PKT",1,"PKT",null,null,{"$f":"+J216+(H216*F216)+V216","v":0},"PKT",{"$f":"+L216*E216","v":0}]
[null,"PINEAPPLE (SLICE)","黄梨片","1TIN * 565G",2.9,8,"CAN",1,"CAN",null,null,8,"CAN",23.2]
[null,"PLANTA CHEF","白兰她","1TUB*4.8KG",48.9,null,"TUB ",1,"TUB ",null,null,0,"TUB ",0]
[null,"PRESERVED VEGETABLE","包装菜蒲碎","1PKT *120G",6.5,null,"PKT",1,"PKT",null,null,0,"PKT",0]
[null,"SARDINE","沙丁鱼","1CTN*24CAN *425G",2.2999999999999998,1,"CAN",1,"CAN",null,null,1,"CAN",2.2999999999999998]
[null,"VE-TSIN POWDER-SMALL","佛手味精","1BTL*94.5G",3.5,null,"CAN",1,"CAN",null,null,0,"CAN",{"$f":"+L221*E221","v":0}]
[null,"ANCHOVIES","江鱼仔","1PKT * 1 KG",19,null,"PKT",1,{"$f":"+G222","v":"PKT"},null,null,{"$f":"+J222+(+H222*F222)","v":0},"PKT",0]
[null,"NUT GROUND                                                ","花生米","1 PKT * 1KG",0,null,"KG",1,"KG",null,null,{"$f":"+J223+(H223*F223)+V223","v":0},"KG",{"$f":"+L223*E223","v":0}]
["G.TOTAL FOR FOOD MATERIAL  ",null,null,null,null,null,null,null,null,null,null,null,null,{"$f":"SUM(N12:N223)","v":11976.337685425684}]
[]
["OTHERS 其他"]
[null,"DISHWASHING ","洗碗精","1DRUM*10 LIT",13.5,null,"DRUM",1,"DRUM",null,null,{"$f":"+J227+(H227*F227)+V227","v":0},"DRUM",{"$f":"+L227*E227","v":0}]
[null,"LUNCH BOX SET","打包饭盒","PCS",0.4,null,"PCS",1,"PCS",null,null,{"$f":"+J228+(H228*F228)+V228","v":0},"PKT",{"$f":"+L228*E228","v":0}]
[null,"OIL ABSORBING PAPER","吸油纸","1CTN*20PKT",3.5,10,"PKT",1,"PKT",null,null,{"$f":"+J229+(H229*F229)+V229","v":10},"PKT",{"$f":"+L229*E229","v":35}]
[]
[]
["G.TOTAL  ( FOOD MATERIAL + OTHERS)",null,null,null,null,null,null,null,null,null,null,null,null,{"$f":"SUM(N224:N231)","v":12011.337685425684}]

{"sheet":"DAILY FOC ","index":5,"n_rows":79,"n_cols":68,"rows_kept":79,"cut":false,"hidden":true,"merged":[[6,12,6,13],[6,14,6,15],[6,16,6,17],[6,50,6,51],[6,52,6,53],[6,30,6,31],[6,32,6,33],[6,34,6,35],[6,36,6,37],[6,38,6,39],[6,40,6,41],[0,0,0,11],[6,42,6,43],[6,44,6,45],[6,46,6,47],[6,48,6,49],[6,18,6,19],[6,20,6,21],[6,22,6,23],[6,24,6,25],[6,26,6,27],[6,28,6,29],[6,2,6,3],[6,4,6,5],[6,6,6,7],[6,8,6,9],[6,10,6,11],[6,54,6,55],[6,56,6,57],[6,58,6,59],[6,60,6,61],[6,62,6,63]]}
["MONTHLY FOC RECORD"]
[]
[{"$f":"+'SIDE ORDER & FOC'!A3","v":"Outlet :"},{"$f":"+'SIDE ORDER & FOC'!B3","v":"SPT OUTLET "}]
[{"$f":"+'SIDE ORDER & FOC'!A4","v":"Month :"},{"$f":"+'SIDE ORDER & FOC'!B4","v":"JANUARY"}]
[]
[]
["Item","S/P",1,null,{"$f":"+C7+1","v":2},null,{"$f":"+E7+1","v":3},null,{"$f":"+G7+1","v":4},null,{"$f":"+I7+1","v":5},null,{"$f":"+K7+1","v":6},null,{"$f":"+M7+1","v":7},null,{"$f":"+O7+1","v":8},null,{"$f":"+Q7+1","v":9},null,{"$f":"+S7+1","v":10},null,{"$f":"+U7+1","v":11},null,{"$f":"+W7+1","v":12},null,{"$f":"+Y7+1","v":13},null,{"$f":"+AA7+1","v":14},null,{"$f":"+AC7+1","v":15},null,{"$f":"+AE7+1","v":16},null,{"$f":"+AG7+1","v":17},null,{"$f":"+AI7+1","v":18},null,{"$f":"+AK7+1","v":19},null,{"$f":"+AM7+1","v":20},null,{"$f":"+AO7+1","v":21},null,{"$f":"+AQ7+1","v":22},null,{"$f":"+AS7+1","v":23},null,{"$f":"+AU7+1","v":24},null,{"$f":"+AW7+1","v":25},null,{"$f":"+AY7+1","v":26},null,{"$f":"+BA7+1","v":27},null,{"$f":"+BC7+1","v":28},null,{"$f":"+BE7+1","v":29},null,{"$f":"+BG7+1","v":30},null,{"$f":"+BI7+1","v":31},null,null,"TOTAL","TOTAL","%"]
[null,"RM","Q","RM","Q","RM","Q","RM","Q","RM","Q","RM","Q","RM","Q","RM","Q","RM","Q","RM","Q","RM","Q","RM","Q","RM","Q","RM","Q","RM","Q","RM","Q","RM","Q","RM","Q","RM","Q","RM","Q","RM","Q","RM","Q","RM","Q","RM","Q","RM","Q","RM","Q","RM","Q","RM","Q","RM","Q","RM","Q","RM","Q","RM",null,"Q","RM"]
["11401:Add Rice-加饭",{"$f":"SUMIF('SIDE ORDER & FOC'!$B$14:$B$102,'DAILY FOC '!A9,'SIDE ORDER & FOC'!$C$14:$C$102)","v":0},0,{"$f":"C9*B9","v":0},0,{"$f":"E9*B9","v":0},0,{"$f":"G9*B9","v":0},0,{"$f":"I9*B9","v":0},0,{"$f":"K9*B9","v":0},0,{"$f":"M9*B9","v":0},0,{"$f":"O9*B9","v":0},0,{"$f":"Q9*B9","v":0},0,{"$f":"S9*B9","v":0},0,{"$f":"U9*B9","v":0},0,{"$f":"W9*B9","v":0},0,{"$f":"Y9*B9","v":0},0,{"$f":"AA9*B9","v":0},0,{"$f":"AC9*B9","v":0},0,{"$f":"AE9*B9","v":0},0,{"$f":"AG9*B9","v":0},0,{"$f":"AI9*B9","v":0},0,{"$f":"AK9*B9","v":0},0,{"$f":"AM9*B9","v":0},0,{"$f":"AO9*B9","v":0},0,{"$f":"AQ9*B9","v":0},0,{"$f":"AS9*B9","v":0},0,{"$f":"AU9*B9","v":0},0,{"$f":"AW9*B9","v":0},0,{"$f":"AY9*B9","v":0},0,{"$f":"BA9*B9","v":0},0,{"$f":"BC9*B9","v":0},0,{"$f":"BE9*B9","v":0},0,{"$f":"BG9*B9","v":0},0,{"$f":"BI9*B9","v":0},0,{"$f":"BK9*B9","v":0},null,{"$f":"C9+E9+G9+I9+K9+M9+O9+Q9+S9+U9+W9+Y9+AA9+AC9+AE9+AG9+AI9+AK9+AM9+AO9+AQ9+AS9+AU9+AW9+AY9+BA9+BC9+BE9+BG9+BI9+BK9","v":0},{"$f":"BN9*B9","v":0}]
["11402:Add Egg-加蛋",{"$f":"SUMIF('SIDE ORDER & FOC'!$B$14:$B$102,'DAILY FOC '!A10,'SIDE ORDER & FOC'!$C$14:$C$102)","v":0},0,0,0,0,0,0,0,0,0,0,0,0,0,0,0,0,0,0,0,0,0,0,0,0,0,0,0,0,0,0,0,0,0,0,0,0,0,0,0,0,0,0,0,0,0,0,0,0,0,0,0,0,0,0,0,0,0,0,0,0,0,0,null,{"$f":"C10+E10+G10+I10+K10+M10+O10+Q10+S10+U10+W10+Y10+AA10+AC10+AE10+AG10+AI10+AK10+AM10+AO10+AQ10+AS10+AU10+AW10+AY10+BA10+BC10+BE10+BG10+BI10+BK10","v":0},0]
["11501:C01-泰式鸡饭",{"$f":"SUMIF('SIDE ORDER & FOC'!$B$14:$B$102,'DAILY FOC '!A11,'SIDE ORDER & FOC'!$C$14:$C$102)","v":0},0,0,0,0,0,0,0,0,0,0,0,0,0,0,0,0,0,0,0,0,0,0,0,0,0,0,0,0,0,0,0,0,0,0,0,0,0,0,0,0,0,0,0,0,0,0,0,0,0,0,0,0,0,0,0,0,0,0,0,0,0,0,null,0,0]
["11502:C02-妈蜜鸡饭",{"$f":"SUMIF('SIDE ORDER & FOC'!$B$14:$B$102,'DAILY FOC '!A12,'SIDE ORDER & FOC'!$C$14:$C$102)","v":0},0,0,0,0,0,0,0,0,0,0,0,0,0,0,0,0,0,0,0,0,0,0,0,0,0,0,0,0,0,0,0,0,0,0,0,0,0,0,0,0,0,0,0,0,0,0,0,0,0,0,0,0,0,0,0,0,0,0,0,0,0,0,null,0,0]
["11505:C03-奶油鸡饭",{"$f":"SUMIF('SIDE ORDER & FOC'!$B$14:$B$102,'DAILY FOC '!A13,'SIDE ORDER & FOC'!$C$14:$C$102)","v":0},0,0,0,0,0,0,0,0,0,0,0,0,0,0,0,0,0,0,0,0,0,0,0,0,0,0,0,0,0,0,0,0,0,0,0,0,0,0,0,0,0,0,0,0,0,0,0,0,0,0,0,0,0,0,0,0,0,0,0,0,0,0,null,0,0]
["11506:C04-港式炒饭",{"$f":"SUMIF('SIDE ORDER & FOC'!$B$14:$B$102,'DAILY FOC '!A14,'SIDE ORDER & FOC'!$C$14:$C$102)","v":0},0,0,0,0,0,0,0,0,0,0,0,0,0,0,0,0,0,0,0,0,0,0,0,0,0,0,0,0,0,0,0,0,0,0,0,0,0,0,0,0,0,0,0,0,0,0,0,0,0,0,0,0,0,0,0,0,0,0,0,0,0,0,null,0,0]
["11507:C07-泰式鱼扒饭",{"$f":"SUMIF('SIDE ORDER & FOC'!$B$14:$B$102,'DAILY FOC '!A15,'SIDE ORDER & FOC'!$C$14:$C$102)","v":0},0,0,0,0,0,0,0,0,0,0,0,0,0,0,0,0,0,0,0,0,0,0,0,0,0,0,0,0,0,0,0,0,0,0,0,0,0,0,0,0,0,0,0,0,0,0,0,0,0,0,0,0,0,0,0,0,0,0,0,0,0,0,null,0,0]
["11508:C08-妈蜜鱼扒饭",{"$f":"SUMIF('SIDE ORDER & FOC'!$B$14:$B$102,'DAILY FOC '!A16,'SIDE ORDER & FOC'!$C$14:$C$102)","v":0},0,0,0,0,0,0,0,0,0,0,0,0,0,0,0,0,0,0,0,0,0,0,0,0,0,0,0,0,0,0,0,0,0,0,0,0,0,0,0,0,0,0,0,0,0,0,0,0,0,0,0,0,0,0,0,0,0,0,0,0,0,0,null,0,0]
["11509:C09-奶油鱼扒饭",{"$f":"SUMIF('SIDE ORDER & FOC'!$B$14:$B$102,'DAILY FOC '!A17,'SIDE ORDER & FOC'!$C$14:$C$102)","v":0},0,0,0,0,0,0,0,0,0,0,0,0,0,0,0,0,0,0,0,0,0,0,0,0,0,0,0,0,0,0,0,0,0,0,0,0,0,0,0,0,0,0,0,0,0,0,0,0,0,0,0,0,0,0,0,0,0,0,0,0,0,0,null,0,0]
["11510:C05-黑椒乌冬面",{"$f":"SUMIF('SIDE ORDER & FOC'!$B$14:$B$102,'DAILY FOC '!A18,'SIDE ORDER & FOC'!$C$14:$C$102)","v":0},0,{"$f":"C18*B18","v":0},0,0,0,0,0,0,0,0,0,0,0,0,0,0,0,0,0,0,0,0,0,0,0,0,0,0,0,0,0,0,0,0,0,0,0,0,0,0,0,0,0,0,0,0,0,0,0,0,0,0,0,0,0,0,0,0,0,0,0,0,null,0,0]
["11517:S02-小薯脆脆",{"$f":"SUMIF('SIDE ORDER & FOC'!$B$14:$B$102,'DAILY FOC '!A19,'SIDE ORDER & FOC'!$C$14:$C$102)","v":0},0,0,0,0,0,0,0,0,0,0,0,0,0,0,0,0,0,0,0,0,0,0,0,0,0,0,0,0,0,0,0,0,0,0,0,0,0,0,0,0,0,0,0,0,0,0,0,0,0,0,0,0,0,0,0,0,0,0,0,0,0,0,null,0,0]
["11519:S06-小小鱼丸",{"$f":"SUMIF('SIDE ORDER & FOC'!$B$14:$B$102,'DAILY FOC '!A20,'SIDE ORDER & FOC'!$C$14:$C$102)","v":0},0,0,0,0,0,0,0,0,0,0,0,0,0,0,0,0,0,0,0,0,0,0,0,0,0,0,0,0,0,0,0,0,0,0,0,0,0,0,0,0,0,0,0,0,0,0,0,0,0,0,0,0,0,0,0,0,0,0,0,0,0,0,null,0,0]
["11521:S12-家乡春卷",{"$f":"SUMIF('SIDE ORDER & FOC'!$B$14:$B$102,'DAILY FOC '!A21,'SIDE ORDER & FOC'!$C$14:$C$102)","v":0},0,0,0,0,0,0,0,0,0,0,0,0,0,0,0,0,0,0,0,0,0,0,0,0,0,0,0,0,0,0,0,0,0,0,0,0,0,0,0,0,0,0,0,0,0,0,0,0,0,0,0,0,0,0,0,0,0,0,0,0,0,0,null,0,0]
["11522:S11-洋葱圈圈",{"$f":"SUMIF('SIDE ORDER & FOC'!$B$14:$B$102,'DAILY FOC '!A22,'SIDE ORDER & FOC'!$C$14:$C$102)","v":0},0,0,0,0,0,0,0,0,0,0,0,0,0,0,0,0,0,0,0,0,0,0,0,0,0,0,0,0,0,0,0,0,0,0,0,0,0,0,0,0,0,0,0,0,0,0,0,0,0,0,0,0,0,0,0,0,0,0,0,0,0,0,null,0,0]
["11525:S07-小鸡块块",{"$f":"SUMIF('SIDE ORDER & FOC'!$B$14:$B$102,'DAILY FOC '!A23,'SIDE ORDER & FOC'!$C$14:$C$102)","v":0},0,0,0,0,0,0,0,0,0,0,0,0,0,0,0,0,0,0,0,0,0,0,0,0,0,0,0,0,0,0,0,0,0,0,0,0,0,0,0,0,0,0,0,0,0,0,0,0,0,0,0,0,0,0,0,0,0,0,0,0,0,0,null,0,0]
["11528:S05-小乳鸡翅",{"$f":"SUMIF('SIDE ORDER & FOC'!$B$14:$B$102,'DAILY FOC '!A24,'SIDE ORDER & FOC'!$C$14:$C$102)","v":0},0,0,0,0,0,0,0,0,0,0,0,0,0,0,0,0,0,0,0,0,0,0,0,0,0,0,0,0,0,0,0,0,0,0,0,0,0,0,0,0,0,0,0,0,0,0,0,0,0,0,0,0,0,0,0,0,0,0,0,0,0,0,null,0,0]
["11525:S05-小鸡块块",{"$f":"SUMIF('SIDE ORDER & FOC'!$B$14:$B$102,'DAILY FOC '!A25,'SIDE ORDER & FOC'!$C$14:$C$102)","v":0},0,0,0,0,0,0,0,0,0,0,0,0,0,0,0,0,0,0,0,0,0,0,0,0,0,0,0,0,0,0,0,0,0,0,0,0,0,0,0,0,0,0,0,0,0,0,0,0,0,0,0,0,0,0,0,0,0,0,0,0,0,0,null,0,0]
["11528:S07-小乳鸡翅",{"$f":"SUMIF('SIDE ORDER & FOC'!$B$14:$B$102,'DAILY FOC '!A26,'SIDE ORDER & FOC'!$C$14:$C$102)","v":0},0,0,0,0,0,0,0,0,0,0,0,0,0,0,0,0,0,0,0,0,0,0,0,0,0,0,0,0,0,0,0,0,0,0,0,0,0,0,0,0,0,0,0,0,0,0,0,0,0,0,0,0,0,0,0,0,0,0,0,0,0,0,null,0,0]
["11531:W01-香煎鸡扒",{"$f":"SUMIF('SIDE ORDER & FOC'!$B$14:$B$102,'DAILY FOC '!A27,'SIDE ORDER & FOC'!$C$14:$C$102)","v":0},0,0,0,0,0,0,0,0,0,0,0,0,0,0,0,0,0,0,0,0,0,0,0,0,0,0,0,0,0,0,0,0,0,0,0,0,0,0,0,0,0,0,0,0,0,0,0,0,0,0,0,0,0,0,0,0,0,0,0,0,0,0,null,0,0]
["11532:W03-马里兰鸡扒",{"$f":"SUMIF('SIDE ORDER & FOC'!$B$14:$B$102,'DAILY FOC '!A28,'SIDE ORDER & FOC'!$C$14:$C$102)","v":0},0,0,0,0,0,0,0,0,0,0,0,0,0,0,0,0,0,0,0,0,0,0,0,0,0,0,0,0,0,0,0,0,0,0,0,0,0,0,0,0,0,0,0,0,0,0,0,0,0,0,0,0,0,0,0,0,0,0,0,0,0,0,null,0,0]
["11533:W02-香炸鱼扒",{"$f":"SUMIF('SIDE ORDER & FOC'!$B$14:$B$102,'DAILY FOC '!A29,'SIDE ORDER & FOC'!$C$14:$C$102)","v":0},0,0,0,0,0,0,0,0,0,0,0,0,0,0,0,0,0,0,0,0,0,0,0,0,0,0,0,0,0,0,0,0,0,0,0,0,0,0,0,0,0,0,0,0,0,0,0,0,0,0,0,0,0,0,0,0,0,0,0,0,0,0,null,0,0]
["11535:W04-鸡扒沙拉",{"$f":"SUMIF('SIDE ORDER & FOC'!$B$14:$B$102,'DAILY FOC '!A30,'SIDE ORDER & FOC'!$C$14:$C$102)","v":0},0,0,0,0,0,0,0,0,0,0,0,0,0,0,0,0,0,0,0,0,0,0,0,0,0,0,0,0,0,0,0,0,0,0,0,0,0,0,0,0,0,0,0,0,0,0,0,0,0,0,0,0,0,0,0,0,0,0,0,0,0,0,null,0,0]
["11540:S01-小热狗包",{"$f":"SUMIF('SIDE ORDER & FOC'!$B$14:$B$102,'DAILY FOC '!A31,'SIDE ORDER & FOC'!$C$14:$C$102)","v":0},0,0,0,0,0,0,0,0,0,0,0,0,0,0,0,0,0,0,0,0,0,0,0,0,0,0,0,0,0,0,0,0,0,0,0,0,0,0,0,0,0,0,0,0,0,0,0,0,0,0,0,0,0,0,0,0,0,0,0,0,0,0,null,0,0]
["11542:S04-小肠弯弯",{"$f":"SUMIF('SIDE ORDER & FOC'!$B$14:$B$102,'DAILY FOC '!A32,'SIDE ORDER & FOC'!$C$14:$C$102)","v":0},0,{"$f":"C32*B32","v":0},0,{"$f":"E32*B32","v":0},0,{"$f":"G32*B32","v":0},0,{"$f":"I32*B32","v":0},0,{"$f":"K32*B32","v":0},0,{"$f":"M32*B32","v":0},0,{"$f":"O32*B32","v":0},0,{"$f":"Q32*B32","v":0},0,{"$f":"S32*B32","v":0},0,{"$f":"U32*B32","v":0},0,{"$f":"W32*B32","v":0},0,{"$f":"Y32*B32","v":0},0,{"$f":"AA32*B32","v":0},0,{"$f":"AC32*B32","v":0},0,{"$f":"AE32*B32","v":0},0,{"$f":"AG32*B32","v":0},0,{"$f":"AI32*B32","v":0},0,{"$f":"AK32*B32","v":0},0,{"$f":"AM32*B32","v":0},0,{"$f":"AO32*B32","v":0},0,{"$f":"AQ32*B32","v":0},0,{"$f":"AS32*B32","v":0},0,{"$f":"AU32*B32","v":0},0,{"$f":"AW32*B32","v":0},0,{"$f":"AY32*B32","v":0},0,{"$f":"BA32*B32","v":0},0,{"$f":"BC32*B32","v":0},0,{"$f":"BE32*B32","v":0},0,{"$f":"BG32*B32","v":0},0,{"$f":"BI32*B32","v":0},0,{"$f":"BK32*B32","v":0},null,{"$f":"C32+E32+G32+I32+K32+M32+O32+Q32+S32+U32+W32+Y32+AA32+AC32+AE32+AG32+AI32+AK32+AM32+AO32+AQ32+AS32+AU32+AW32+AY32+BA32+BC32+BE32+BG32+BI32+BK32","v":0},{"$f":"BN32*B32","v":0}]
["11543:S08-海鲜豆腐",{"$f":"SUMIF('SIDE ORDER & FOC'!$B$14:$B$102,'DAILY FOC '!A33,'SIDE ORDER & FOC'!$C$14:$C$102)","v":0},0,0,0,0,0,0,0,0,0,0,0,0,0,0,0,0,0,0,0,0,0,0,0,0,0,0,0,0,0,0,0,0,0,0,0,0,0,0,0,0,0,0,0,0,0,0,0,0,0,0,0,0,0,0,0,0,0,0,0,0,0,0,null,0,0]
["11544:S09-沙律卷卷",{"$f":"SUMIF('SIDE ORDER & FOC'!$B$14:$B$102,'DAILY FOC '!A34,'SIDE ORDER & FOC'!$C$14:$C$102)","v":0},0,0,0,0,0,0,0,0,0,0,0,0,0,0,0,0,0,0,0,0,0,0,0,0,0,0,0,0,0,0,0,0,0,0,0,0,0,0,0,0,0,0,0,0,0,0,0,0,0,0,0,0,0,0,0,0,0,0,0,0,0,0,null,0,0]
["11545:S10-金钱肉干",{"$f":"SUMIF('SIDE ORDER & FOC'!$B$14:$B$102,'DAILY FOC '!A35,'SIDE ORDER & FOC'!$C$14:$C$102)","v":0},0,0,0,0,0,0,0,0,0,0,0,0,0,0,0,0,0,0,0,0,0,0,0,0,0,0,0,0,0,0,0,0,0,0,0,0,0,0,0,0,0,0,0,0,0,0,0,0,0,0,0,0,0,0,0,0,0,0,0,0,0,0,null,0,0]
["11901:McCain Platter",{"$f":"SUMIF('SIDE ORDER & FOC'!$B$14:$B$102,'DAILY FOC '!A36,'SIDE ORDER & FOC'!$C$14:$C$102)","v":0},0,0,0,0,0,0,0,0,0,0,0,0,0,0,0,0,0,0,0,0,0,0,0,0,0,0,0,0,0,0,0,0,0,0,0,0,0,0,0,0,0,0,0,0,0,0,0,0,0,0,0,0,0,0,0,0,0,0,0,0,0,0,null,0,0]
["11902:McCain Beer",{"$f":"SUMIF('SIDE ORDER & FOC'!$B$14:$B$102,'DAILY FOC '!A37,'SIDE ORDER & FOC'!$C$14:$C$102)","v":0},0,0,0,0,0,0,0,0,0,0,0,0,0,0,0,0,0,0,0,0,0,0,0,0,0,0,0,0,0,0,0,0,0,0,0,0,0,0,0,0,0,0,0,0,0,0,0,0,0,0,0,0,0,0,0,0,0,0,0,0,0,0,null,0,0]
["11903:MC03-螺旋薯条",{"$f":"SUMIF('SIDE ORDER & FOC'!$B$14:$B$102,'DAILY FOC '!A38,'SIDE ORDER & FOC'!$C$14:$C$102)","v":0},0,0,0,0,0,0,0,0,0,0,0,0,0,0,0,0,0,0,0,0,0,0,0,0,0,0,0,0,0,0,0,0,0,0,0,0,0,0,0,0,0,0,0,0,0,0,0,0,0,0,0,0,0,0,0,0,0,0,0,0,0,0,null,0,0]
["11904:MC04-迷你薯饼",{"$f":"SUMIF('SIDE ORDER & FOC'!$B$14:$B$102,'DAILY FOC '!A39,'SIDE ORDER & FOC'!$C$14:$C$102)","v":0},0,0,0,0,0,0,0,0,0,0,0,0,0,0,0,0,0,0,0,0,0,0,0,0,0,0,0,0,0,0,0,0,0,0,0,0,0,0,0,0,0,0,0,0,0,0,0,0,0,0,0,0,0,0,0,0,0,0,0,0,0,0,null,0,0]
["11905:MC05-笑面薯饼",{"$f":"SUMIF('SIDE ORDER & FOC'!$B$14:$B$102,'DAILY FOC '!A40,'SIDE ORDER & FOC'!$C$14:$C$102)","v":0},0,0,0,0,0,0,0,0,0,0,0,0,0,0,0,0,0,0,0,0,0,0,0,0,0,0,0,0,0,0,0,0,0,0,0,0,0,0,0,0,0,0,0,0,0,0,0,0,0,0,0,0,0,0,0,0,0,0,0,0,0,0,null,0,0]
["Total Foc","-",{"$f":"SUM(C9:C40)","v":0},0,0,0,0,0,0,0,0,0,0,0,0,0,0,0,0,0,0,0,0,0,0,0,0,0,0,0,0,0,0,0,{"$f":"SUM(AI9:AI40)","v":0},0,0,0,0,0,0,0,0,0,0,0,0,0,0,0,0,0,0,0,0,0,0,0,0,0,0,0,0,0,null,{"$f":"SUM(BN9:BN40)","v":0},{"$f":"SUM(BO9:BO40)","v":0}]
[]
["LOK LOK "]
["11001:Lok01-鸡肉火腿",{"$f":"SUMIF('SIDE ORDER & FOC'!$B$14:$B$173,'DAILY FOC '!A44,'SIDE ORDER & FOC'!$C$14:$C$173)","v":0},0,{"$f":"C44*B44","v":0},0,{"$f":"E44*B44","v":0},0,{"$f":"G44*B44","v":0},0,{"$f":"I44*B44","v":0},0,{"$f":"K44*B44","v":0},0,{"$f":"M44*B44","v":0},0,{"$f":"O44*B44","v":0},0,{"$f":"Q44*B44","v":0},0,{"$f":"S44*B44","v":0},0,{"$f":"U44*B44","v":0},0,{"$f":"W44*B44","v":0},0,{"$f":"Y44*B44","v":0},0,{"$f":"AA44*B44","v":0},0,{"$f":"AC44*B44","v":0},0,{"$f":"AE44*B44","v":0},0,{"$f":"AG44*B44","v":0},0,{"$f":"AI44*B44","v":0},0,{"$f":"AK44*B44","v":0},0,{"$f":"AM44*B44","v":0},0,{"$f":"AO44*B44","v":0},0,{"$f":"AQ44*B44","v":0},0,{"$f":"AS44*B44","v":0},0,{"$f":"AU44*B44","v":0},0,{"$f":"AW44*B44","v":0},0,{"$f":"AY44*B44","v":0},0,{"$f":"BA44*B44","v":0},0,{"$f":"BC44*B44","v":0},0,{"$f":"BE44*B44","v":0},0,{"$f":"BG44*B44","v":0},0,{"$f":"BI44*B44","v":0},0,{"$f":"BK44*B44","v":0},null,{"$f":"C44+E44+G44+I44+K44+M44+O44+Q44+S44+U44+W44+Y44+AA44+AC44+AE44+AG44+AI44+AK44+AM44+AO44+AQ44+AS44+AU44+AW44+AY44+BA44+BC44+BE44+BG44+BI44+BK44","v":0},{"$f":"BN44*B44","v":0}]
["11002:Lok02-烧鸡肾",{"$f":"SUMIF('SIDE ORDER & FOC'!$B$14:$B$173,'DAILY FOC '!A45,'SIDE ORDER & FOC'!$C$14:$C$173)","v":0},0,0,0,0,0,0,0,0,0,0,0,0,0,0,0,0,0,0,0,0,0,0,0,0,0,0,0,0,0,0,0,0,0,0,0,0,0,0,0,0,0,0,0,0,0,0,0,0,0,0,0,0,0,0,0,0,0,0,0,0,0,0,null,0,0]
["11003:Lok03-鸡尾酒香肠",{"$f":"SUMIF('SIDE ORDER & FOC'!$B$14:$B$173,'DAILY FOC '!A46,'SIDE ORDER & FOC'!$C$14:$C$173)","v":0},0,0,0,0,0,0,0,0,0,0,0,0,0,0,0,0,0,0,0,0,0,0,0,0,0,0,0,0,0,0,0,0,0,0,0,0,0,0,0,0,0,0,0,0,0,0,0,0,0,0,0,0,0,0,0,0,0,0,0,0,0,0,null,0,0]
["11004:Lok04-鸡肉香肠",{"$f":"SUMIF('SIDE ORDER & FOC'!$B$14:$B$173,'DAILY FOC '!A47,'SIDE ORDER & FOC'!$C$14:$C$173)","v":0},0,0,0,0,0,0,0,0,0,0,0,0,0,0,0,0,0,0,0,0,0,0,0,0,0,0,0,0,0,0,0,0,0,0,0,0,0,0,0,0,0,0,0,0,0,0,0,0,0,0,0,0,0,0,0,0,0,0,0,0,0,0,null,0,0]
["11005:Lok05-去骨烧鸡翼",{"$f":"SUMIF('SIDE ORDER & FOC'!$B$14:$B$173,'DAILY FOC '!A48,'SIDE ORDER & FOC'!$C$14:$C$173)","v":0},0,0,0,0,0,0,0,0,0,0,0,0,0,0,0,0,0,0,0,0,0,0,0,0,0,0,0,0,0,0,0,0,0,0,0,0,0,0,0,0,0,0,0,0,0,0,0,0,0,0,0,0,0,0,0,0,0,0,0,0,0,0,null,0,0]
["11006:Lok06-芝士香肠",{"$f":"SUMIF('SIDE ORDER & FOC'!$B$14:$B$173,'DAILY FOC '!A49,'SIDE ORDER & FOC'!$C$14:$C$173)","v":0},0,0,0,0,0,0,0,0,0,0,0,0,0,0,0,0,0,0,0,0,0,0,0,0,0,0,0,0,0,0,0,0,0,0,0,0,0,0,0,0,0,0,0,0,0,0,0,0,0,0,0,0,0,0,0,0,0,0,0,0,0,0,null,0,0]
["11007:Lok07-烧烤鸭肉",{"$f":"SUMIF('SIDE ORDER & FOC'!$B$14:$B$173,'DAILY FOC '!A50,'SIDE ORDER & FOC'!$C$14:$C$173)","v":0},0,0,0,0,0,0,0,0,0,0,0,0,0,0,0,0,0,0,0,0,0,0,0,0,0,0,0,0,0,0,0,0,0,0,0,0,0,0,0,0,0,0,0,0,0,0,0,0,0,0,0,0,0,0,0,0,0,0,0,0,0,0,null,0,0]
["11008:Lok08-猪肉圆",{"$f":"SUMIF('SIDE ORDER & FOC'!$B$14:$B$173,'DAILY FOC '!A51,'SIDE ORDER & FOC'!$C$14:$C$173)","v":0},0,0,0,0,0,0,0,0,0,0,0,0,0,0,0,0,0,0,0,0,0,0,0,0,0,0,0,0,0,0,0,0,0,0,0,0,0,0,0,0,0,0,0,0,0,0,0,0,0,0,0,0,0,0,0,0,0,0,0,0,0,0,null,0,0]
["11009:Lok09-培根",{"$f":"SUMIF('SIDE ORDER & FOC'!$B$14:$B$173,'DAILY FOC '!A52,'SIDE ORDER & FOC'!$C$14:$C$173)","v":0},0,0,0,0,0,0,0,0,0,0,0,0,0,0,0,0,0,0,0,0,0,0,0,0,0,0,0,0,0,0,0,0,0,0,0,0,0,0,0,0,0,0,0,0,0,0,0,0,0,0,0,0,0,0,0,0,0,0,0,0,0,0,null,0,0]
["11010:Lok10-炸云吞",{"$f":"SUMIF('SIDE ORDER & FOC'!$B$14:$B$173,'DAILY FOC '!A53,'SIDE ORDER & FOC'!$C$14:$C$173)","v":0},0,0,0,0,0,0,0,0,0,0,0,0,0,0,0,0,0,0,0,0,0,0,0,0,0,0,0,0,0,0,0,0,0,0,0,0,0,0,0,0,0,0,0,0,0,0,0,0,0,0,0,0,0,0,0,0,0,0,0,0,0,0,null,0,0]
["11011:Lok11-五香肉卷",{"$f":"SUMIF('SIDE ORDER & FOC'!$B$14:$B$173,'DAILY FOC '!A54,'SIDE ORDER & FOC'!$C$14:$C$173)","v":0},0,0,0,0,0,0,0,0,0,0,0,0,0,0,0,0,0,0,0,0,0,0,0,0,0,0,0,0,0,0,0,0,0,0,0,0,0,0,0,0,0,0,0,0,0,0,0,0,0,0,0,0,0,0,0,0,0,0,0,0,0,0,null,0,0]
["11012:Lok12-台湾香肠",{"$f":"SUMIF('SIDE ORDER & FOC'!$B$14:$B$173,'DAILY FOC '!A55,'SIDE ORDER & FOC'!$C$14:$C$173)","v":0},0,0,0,0,0,0,0,0,0,0,0,0,0,0,0,0,0,0,0,0,0,0,0,0,0,0,0,0,0,0,0,0,0,0,0,0,0,0,0,0,0,0,0,0,0,0,0,0,0,0,0,0,0,0,0,0,0,0,0,0,0,0,null,0,0]
["11013:Lok13-金菇培根卷",{"$f":"SUMIF('SIDE ORDER & FOC'!$B$14:$B$173,'DAILY FOC '!A56,'SIDE ORDER & FOC'!$C$14:$C$173)","v":0},0,0,0,0,0,0,0,0,0,0,0,0,0,0,0,0,0,0,0,0,0,0,0,0,0,0,0,0,0,0,0,0,0,0,0,0,0,0,0,0,0,0,0,0,0,0,0,0,0,0,0,0,0,0,0,0,0,0,0,0,0,0,null,0,0]
["11014:Lok14-空心菜",{"$f":"SUMIF('SIDE ORDER & FOC'!$B$14:$B$173,'DAILY FOC '!A57,'SIDE ORDER & FOC'!$C$14:$C$173)","v":0},0,0,0,0,0,0,0,0,0,0,0,0,0,0,0,0,0,0,0,0,0,0,0,0,0,0,0,0,0,0,0,0,0,0,0,0,0,0,0,0,0,0,0,0,0,0,0,0,0,0,0,0,0,0,0,0,0,0,0,0,0,0,null,0,0]
["11015:Lok15-西兰花",{"$f":"SUMIF('SIDE ORDER & FOC'!$B$14:$B$173,'DAILY FOC '!A58,'SIDE ORDER & FOC'!$C$14:$C$173)","v":0},0,0,0,0,0,0,0,0,0,0,0,0,0,0,0,0,0,0,0,0,0,0,0,0,0,0,0,0,0,0,0,0,0,0,0,0,0,0,0,0,0,0,0,0,0,0,0,0,0,0,0,0,0,0,0,0,0,0,0,0,0,0,null,0,0]
["11016:Lok16-长豆",{"$f":"SUMIF('SIDE ORDER & FOC'!$B$14:$B$173,'DAILY FOC '!A59,'SIDE ORDER & FOC'!$C$14:$C$173)","v":0},0,0,0,0,0,0,0,0,0,0,0,0,0,0,0,0,0,0,0,0,0,0,0,0,0,0,0,0,0,0,0,0,0,0,0,0,0,0,0,0,0,0,0,0,0,0,0,0,0,0,0,0,0,0,0,0,0,0,0,0,0,0,null,0,0]
["11017:Lok17-羊角豆",{"$f":"SUMIF('SIDE ORDER & FOC'!$B$14:$B$173,'DAILY FOC '!A60,'SIDE ORDER & FOC'!$C$14:$C$173)","v":0},0,0,0,0,0,0,0,0,0,0,0,0,0,0,0,0,0,0,0,0,0,0,0,0,0,0,0,0,0,0,0,0,0,0,0,0,0,0,0,0,0,0,0,0,0,0,0,0,0,0,0,0,0,0,0,0,0,0,0,0,0,0,null,0,0]
["11018:Lok18-炸鲍鱼菇",{"$f":"SUMIF('SIDE ORDER & FOC'!$B$14:$B$173,'DAILY FOC '!A61,'SIDE ORDER & FOC'!$C$14:$C$173)","v":0},0,0,0,0,0,0,0,0,0,0,0,0,0,0,0,0,0,0,0,0,0,0,0,0,0,0,0,0,0,0,0,0,0,0,0,0,0,0,0,0,0,0,0,0,0,0,0,0,0,0,0,0,0,0,0,0,0,0,0,0,0,0,null,0,0]
["11019:Lok19-鉗",{"$f":"SUMIF('SIDE ORDER & FOC'!$B$14:$B$173,'DAILY FOC '!A62,'SIDE ORDER & FOC'!$C$14:$C$173)","v":0},0,0,0,0,0,0,0,0,0,0,0,0,0,0,0,0,0,0,0,0,0,0,0,0,0,0,0,0,0,0,0,0,0,0,0,0,0,0,0,0,0,0,0,0,0,0,0,0,0,0,0,0,0,0,0,0,0,0,0,0,0,0,null,0,0]
["11020:Lok20-鱿鱼",{"$f":"SUMIF('SIDE ORDER & FOC'!$B$14:$B$173,'DAILY FOC '!A63,'SIDE ORDER & FOC'!$C$14:$C$173)","v":0},0,0,0,0,0,0,0,0,0,0,0,0,0,0,0,0,0,0,0,0,0,0,0,0,0,0,0,0,0,0,0,0,0,0,0,0,0,0,0,0,0,0,0,0,0,0,0,0,0,0,0,0,0,0,0,0,0,0,0,0,0,0,null,0,0]
["11021:Lok21-蟹条",{"$f":"SUMIF('SIDE ORDER & FOC'!$B$14:$B$173,'DAILY FOC '!A64,'SIDE ORDER & FOC'!$C$14:$C$173)","v":0},0,0,0,0,0,0,0,0,0,0,0,0,0,0,0,0,0,0,0,0,0,0,0,0,0,0,0,0,0,0,0,0,0,0,0,0,0,0,0,0,0,0,0,0,0,0,0,0,0,0,0,0,0,0,0,0,0,0,0,0,0,0,null,0,0]
["11022:Lok22-鱼丸（小）",{"$f":"SUMIF('SIDE ORDER & FOC'!$B$14:$B$173,'DAILY FOC '!A65,'SIDE ORDER & FOC'!$C$14:$C$173)","v":0},0,0,0,0,0,0,0,0,0,0,0,0,0,0,0,0,0,0,0,0,0,0,0,0,0,0,0,0,0,0,0,0,0,0,0,0,0,0,0,0,0,0,0,0,0,0,0,0,0,0,0,0,0,0,0,0,0,0,0,0,0,0,null,0,0]
["11023:Lok23-苏东",{"$f":"SUMIF('SIDE ORDER & FOC'!$B$14:$B$173,'DAILY FOC '!A66,'SIDE ORDER & FOC'!$C$14:$C$173)","v":0},0,0,0,0,0,0,0,0,0,0,0,0,0,0,0,0,0,0,0,0,0,0,0,0,0,0,0,0,0,0,0,0,0,0,0,0,0,0,0,0,0,0,0,0,0,0,0,0,0,0,0,0,0,0,0,0,0,0,0,0,0,0,null,0,0]
["11024:Lok24-天妇罗虾",{"$f":"SUMIF('SIDE ORDER & FOC'!$B$14:$B$173,'DAILY FOC '!A67,'SIDE ORDER & FOC'!$C$14:$C$173)","v":0},0,0,0,0,0,0,0,0,0,0,0,0,0,0,0,0,0,0,0,0,0,0,0,0,0,0,0,0,0,0,0,0,0,0,0,0,0,0,0,0,0,0,0,0,0,0,0,0,0,0,0,0,0,0,0,0,0,0,0,0,0,0,null,0,0]
["11025:Lok25-苏东丸",{"$f":"SUMIF('SIDE ORDER & FOC'!$B$14:$B$173,'DAILY FOC '!A68,'SIDE ORDER & FOC'!$C$14:$C$173)","v":0},0,0,0,0,0,0,0,0,0,0,0,0,0,0,0,0,0,0,0,0,0,0,0,0,0,0,0,0,0,0,0,0,0,0,0,0,0,0,0,0,0,0,0,0,0,0,0,0,0,0,0,0,0,0,0,0,0,0,0,0,0,0,null,0,0]
["11026:Lok26-小章鱼",{"$f":"SUMIF('SIDE ORDER & FOC'!$B$14:$B$173,'DAILY FOC '!A69,'SIDE ORDER & FOC'!$C$14:$C$173)","v":0},0,0,0,0,0,0,0,0,0,0,0,0,0,0,0,0,0,0,0,0,0,0,0,0,0,0,0,0,0,0,0,0,0,0,0,0,0,0,0,0,0,0,0,0,0,0,0,0,0,0,0,0,0,0,0,0,0,0,0,0,0,0,null,0,0]
["11027:Lok27-福州鱼丸（大）",{"$f":"SUMIF('SIDE ORDER & FOC'!$B$14:$B$173,'DAILY FOC '!A70,'SIDE ORDER & FOC'!$C$14:$C$173)","v":0},0,0,0,0,0,0,0,0,0,0,0,0,0,0,0,0,0,0,0,0,0,0,0,0,0,0,0,0,0,0,0,0,0,0,0,0,0,0,0,0,0,0,0,0,0,0,0,0,0,0,0,0,0,0,0,0,0,0,0,0,0,0,null,0,0]
["11028:Lok28-澳洲绿蚌",{"$f":"SUMIF('SIDE ORDER & FOC'!$B$14:$B$173,'DAILY FOC '!A71,'SIDE ORDER & FOC'!$C$14:$C$173)","v":0},0,0,0,0,0,0,0,0,0,0,0,0,0,0,0,0,0,0,0,0,0,0,0,0,0,0,0,0,0,0,0,0,0,0,0,0,0,0,0,0,0,0,0,0,0,0,0,0,0,0,0,0,0,0,0,0,0,0,0,0,0,0,null,0,0]
["11029:Lok29-炸芋头角",{"$f":"SUMIF('SIDE ORDER & FOC'!$B$14:$B$173,'DAILY FOC '!A72,'SIDE ORDER & FOC'!$C$14:$C$173)","v":0},0,0,0,0,0,0,0,0,0,0,0,0,0,0,0,0,0,0,0,0,0,0,0,0,0,0,0,0,0,0,0,0,0,0,0,0,0,0,0,0,0,0,0,0,0,0,0,0,0,0,0,0,0,0,0,0,0,0,0,0,0,0,null,0,0]
["11030:Lok30-炸腐皮",{"$f":"SUMIF('SIDE ORDER & FOC'!$B$14:$B$173,'DAILY FOC '!A73,'SIDE ORDER & FOC'!$C$14:$C$173)","v":0},0,0,0,0,0,0,0,0,0,0,0,0,0,0,0,0,0,0,0,0,0,0,0,0,0,0,0,0,0,0,0,0,0,0,0,0,0,0,0,0,0,0,0,0,0,0,0,0,0,0,0,0,0,0,0,0,0,0,0,0,0,0,null,0,0]
["11031:Lok31-豆卜",{"$f":"SUMIF('SIDE ORDER & FOC'!$B$14:$B$173,'DAILY FOC '!A74,'SIDE ORDER & FOC'!$C$14:$C$173)","v":0},0,0,0,0,0,0,0,0,0,0,0,0,0,0,0,0,0,0,0,0,0,0,0,0,0,0,0,0,0,0,0,0,0,0,0,0,0,0,0,0,0,0,0,0,0,0,0,0,0,0,0,0,0,0,0,0,0,0,0,0,0,0,null,0,0]
["11032:Lok32-鹌鹑蛋",{"$f":"SUMIF('SIDE ORDER & FOC'!$B$14:$B$173,'DAILY FOC '!A75,'SIDE ORDER & FOC'!$C$14:$C$173)","v":0},0,0,0,0,0,0,0,0,0,0,0,0,0,0,0,0,0,0,0,0,0,0,0,0,0,0,0,0,0,0,0,0,0,0,0,0,0,0,0,0,0,0,0,0,0,0,0,0,0,0,0,0,0,0,0,0,0,0,0,0,0,0,null,0,0]
["11033:Lok33-鹌鹑皮蛋",{"$f":"SUMIF('SIDE ORDER & FOC'!$B$14:$B$173,'DAILY FOC '!A76,'SIDE ORDER & FOC'!$C$14:$C$173)","v":0},0,0,0,0,0,0,0,0,0,0,0,0,0,0,0,0,0,0,0,0,0,0,0,0,0,0,0,0,0,0,0,0,0,0,0,0,0,0,0,0,0,0,0,0,0,0,0,0,0,0,0,0,0,0,0,0,0,0,0,0,0,0,null,0,0]
["11034:Lok34-海鲜豆腐",{"$f":"SUMIF('SIDE ORDER & FOC'!$B$14:$B$173,'DAILY FOC '!A77,'SIDE ORDER & FOC'!$C$14:$C$173)","v":0},0,0,0,0,0,0,0,0,0,0,0,0,0,0,0,0,0,0,0,0,0,0,0,0,0,0,0,0,0,0,0,0,0,0,0,0,0,0,0,0,0,0,0,0,0,0,0,0,0,0,0,0,0,0,0,0,0,0,0,0,0,0,null,0,0]
[]
["Total Foc","-",{"$f":"SUM(C9:C78)","v":0},{"$f":"SUM(D44:D78)","v":0},{"$f":"SUM(E9:E78)","v":0},{"$f":"SUM(F44:F77)","v":0},{"$f":"SUM(G9:G78)","v":0},{"$f":"SUM(H44:H77)","v":0},{"$f":"SUM(I9:I78)","v":0},{"$f":"SUM(J44:J77)","v":0},{"$f":"SUM(K9:K78)","v":0},{"$f":"SUM(L44:L77)","v":0},{"$f":"SUM(M9:M78)","v":0},{"$f":"SUM(H79:M79)","v":0},{"$f":"SUM(O9:O78)","v":0},{"$f":"SUM(J79:O79)","v":0},{"$f":"SUM(Q9:Q78)","v":0},{"$f":"SUM(C79:Q79)","v":0},{"$f":"SUM(S9:S78)","v":0},{"$f":"SUM(N79:S79)","v":0},{"$f":"SUM(S79:T79)","v":0},{"$f":"SUM(V44:V78)","v":0},{"$f":"SUM(W9:W78)","v":0},{"$f":"SUM(R79:W79)","v":0},{"$f":"SUM(Y9:Y78)","v":0},{"$f":"SUM(T79:Y79)","v":0},{"$f":"SUM(AA9:AA78)","v":0},{"$f":"SUM(V79:AA79)","v":0},{"$f":"SUM(AC9:AC78)","v":0},{"$f":"SUM(X79:AC79)","v":0},{"$f":"SUM(AE9:AE78)","v":0},{"$f":"SUM(Z79:AE79)","v":0},{"$f":"SUM(AG9:AG78)","v":0},{"$f":"SUM(AB79:AG79)","v":0},{"$f":"SUM(AI9:AI78)","v":0},{"$f":"SUM(AD79:AI79)","v":0},{"$f":"SUM(AK9:AK78)","v":0},{"$f":"SUM(AF79:AK79)","v":0},{"$f":"SUM(W79:AL79)","v":0},{"$f":"SUM(AN44:AN78)","v":0},{"$f":"SUM(AO44:AO78)","v":0},{"$f":"SUM(AP44:AP78)","v":0},{"$f":"SUM(AQ44:AQ78)","v":0},{"$f":"SUM(AL79:AQ79)","v":0},{"$f":"SUM(AS9:AS78)","v":0},{"$f":"SUM(AN79:AS79)","v":0},{"$f":"SUM(AU9:AU78)","v":0},{"$f":"SUM(AP79:AU79)","v":0},{"$f":"SUM(AW9:AW78)","v":0},{"$f":"SUM(AR79:AW79)","v":0},{"$f":"SUM(AY9:AY78)","v":0},{"$f":"SUM(AT79:AY79)","v":0},{"$f":"SUM(BA9:BA78)","v":0},{"$f":"SUM(AV79:BA79)","v":0},0,{"$f":"SUM(AX79:BC79)","v":0},0,{"$f":"SUM(AZ79:BE79)","v":0},{"$f":"SUM(BG9:BG78)","v":0},{"$f":"SUM(BB79:BG79)","v":0},0,{"$f":"SUM(BD79:BI79)","v":0},0,{"$f":"SUM(BF79:BK79)","v":0},null,{"$f":"SUM(BN44:BN78)","v":0},{"$f":"SUM(BO44:BO78)","v":0}]

{"sheet":"SAUCE USAGE","index":6,"n_rows":62,"n_cols":9,"rows_kept":62,"cut":false,"hidden":true,"merged":[[6,5,6,7],[51,0,51,2]]}
["MONTHLY SERVINGS: SAUCE "]
[]
[{"$f":"+'[3]K-LUNCH & K DINNER'!A3","v":"Outlet :"},{"$f":"+'[3]K-LUNCH & K DINNER'!B3","v":"TSU OUTLET "}]
[{"$f":"+'[3]K-LUNCH & K DINNER'!A4","v":"Month :"},{"$f":"+#REF!","v":{"$error":"#REF!"}}]
[]
[]
[null,null,null,"FROM POS",null,"USAGE"]
["NO","Item","COST","SERVINGS",null,"MATERIAL ","RECIPE","TOTAL","TOTAL COST"]
[null,null,"RM","Q",null,"Q","GRAM","GRAM ","RM"]
[null,"ALL USAGE",null,null,null,null,null,null,{"$f":"+H10*C10","v":0}]
[1,"11537:M/S 蘑菇酱",4.5999999999999999E-3,{"$f":"VLOOKUP(B11,Summary!$B$50:$AK$321,5,FALSE)","v":{"$error":"#N/A"}},null,"MUSHROOM SAUCE",50,{"$f":"+G11*D11","v":{"$error":"#N/A"}},{"$f":"+H11*C11","v":{"$error":"#N/A"}}]
[{"$f":"+A11+1","v":2},"11539:B/P-黑椒酱",3.0000000000000001E-3,{"$f":"VLOOKUP(B12,Summary!$B$50:$AK$321,5,FALSE)","v":{"$error":"#N/A"}},null,"BLACK PEPPER SAUCE",30,{"$f":"+G12*D12","v":{"$error":"#N/A"}},{"$f":"+H12*C12","v":{"$error":"#N/A"}}]
[]
[null,"CUSTOMER REQUEST",null,null,null,null,null,null,0]
[{"$f":"+A12+1","v":3},"11801:R-B/P Sauce ",3.0000000000000001E-3,{"$f":"VLOOKUP(B15,Summary!$B$50:$AK$321,5,FALSE)","v":{"$error":"#N/A"}},null,"BLACK PEPPER SAUCE",30,{"$error":"#N/A"},{"$error":"#N/A"}]
[{"$f":"+A15+1","v":4},"11802:R-Mushroom Sauce",4.5999999999999999E-3,{"$f":"VLOOKUP(B16,Summary!$B$50:$AK$321,5,FALSE)","v":{"$error":"#N/A"}},null,"MUSHROOM SAUCE",50,{"$error":"#N/A"},{"$error":"#N/A"}]
[5,"11803:R-Butter Sauce",0.01,{"$f":"VLOOKUP(B17,Summary!$B$50:$AK$321,5,FALSE)","v":{"$error":"#N/A"}},null,"BUTTER SAUCE ",30,{"$error":"#N/A"},{"$error":"#N/A"}]
[6,"11804:R-Thousand Island",0.01,{"$f":"VLOOKUP(B18,Summary!$B$50:$AK$321,5,FALSE)","v":{"$error":"#N/A"}},null,"THOUSAND ISLAND",30,{"$error":"#N/A"},{"$error":"#N/A"}]
[7,"11805:R-Tar Tar Sauce",0.01,{"$f":"VLOOKUP(B19,Summary!$B$50:$AK$321,5,FALSE)","v":{"$error":"#N/A"}},null,"TAR TAR SAUCE",40,{"$error":"#N/A"},{"$error":"#N/A"}]
[8,"11806:R-Mayonaisse",8.9999999999999993E-3,{"$f":"VLOOKUP(B20,Summary!$B$50:$AK$321,5,FALSE)","v":{"$error":"#N/A"}},null,"MAYONAISSE",40,{"$error":"#N/A"},{"$error":"#N/A"}]
[9,"11807:R-Thai Style Sauce",6.4999999999999997E-3,{"$f":"VLOOKUP(B21,Summary!$B$50:$AK$321,5,FALSE)","v":{"$error":"#N/A"}},null,"THAI STYLE SAUCE ",38,{"$error":"#N/A"},{"$error":"#N/A"}]
[10,"11808:R-Marmite Sauce",1.6000000000000001E-3,{"$f":"VLOOKUP(B22,Summary!$B$50:$AK$321,5,FALSE)","v":{"$error":"#N/A"}},null,"MARMITE SAUCE",30,{"$error":"#N/A"},{"$error":"#N/A"}]
[11,"11809:R-Tomato Sauce",3.0000000000000001E-3,{"$f":"VLOOKUP(B23,Summary!$B$50:$AK$321,5,FALSE)","v":{"$error":"#N/A"}},null,"TOMATO SAUCE",30,{"$error":"#N/A"},{"$error":"#N/A"}]
[12,"11810:R-Gravy Sauce",null,{"$f":"VLOOKUP(B24,Summary!$B$50:$AK$321,5,FALSE)","v":{"$error":"#N/A"}},null,null,null,null,0]
[13,"11811:R-Sambal Sauce",null,{"$f":"VLOOKUP(B25,Summary!$B$50:$AK$321,5,FALSE)","v":{"$error":"#N/A"}},null,null,null,null,0]
[14,"118152:R-Bolognaise Sauce",null,{"$f":"VLOOKUP(B26,Summary!$B$50:$AK$321,5,FALSE)","v":{"$error":"#N/A"}},null,null,null,null,0]
[15,"11813:R-Chilli Padi",3.0000000000000001E-3,{"$f":"VLOOKUP(B27,Summary!$B$50:$AK$321,5,FALSE)","v":{"$error":"#N/A"}},null,"CHILLI SAUCE",33.299999999999997,{"$f":"+G27*D27","v":{"$error":"#N/A"}},{"$error":"#N/A"}]
[]
[null,"K LUNCH",null,null,null,null,null,null,{"$f":"+H29*C29","v":0}]
[16,"11602:L -C02-妈蜜鸡饭",1.6000000000000001E-3,{"$f":"VLOOKUP(B30,Summary!$B$50:$AK$321,5,FALSE)","v":{"$error":"#N/A"}},null,"MARMITE SAUCE",30,{"$f":"+G30*D30","v":{"$error":"#N/A"}},{"$f":"+H30*C30","v":{"$error":"#N/A"}}]
[17,"11605:L -C03-奶油鸡饭",0.01,{"$f":"VLOOKUP(B31,Summary!$B$50:$AK$321,5,FALSE)","v":{"$error":"#N/A"}},null,"BUTTER SAUCE ",30,{"$f":"+G31*D31","v":{"$error":"#N/A"}},{"$f":"+H31*C31","v":{"$error":"#N/A"}}]
[18,"11608:L-C08-妈蜜鱼扒饭",1.6000000000000001E-3,{"$f":"VLOOKUP(B32,Summary!$B$50:$AK$321,5,FALSE)","v":{"$error":"#N/A"}},null,"MARMITE SAUCE",30,{"$f":"+G32*D32","v":{"$error":"#N/A"}},{"$f":"+H32*C32","v":{"$error":"#N/A"}}]
[19,"11609:L-C09-奶油鱼扒饭",0.01,{"$f":"VLOOKUP(B33,Summary!$B$50:$AK$321,5,FALSE)","v":{"$error":"#N/A"}},null,"BUTTER SAUCE ",30,{"$f":"+G33*D33","v":{"$error":"#N/A"}},{"$f":"+H33*C33","v":{"$error":"#N/A"}}]
[]
[null,"K DINNER ",null,null,null,null,null,null,{"$f":"+H35*C35","v":0}]
[20,"11702:D -C02-妈蜜鸡饭",1.6000000000000001E-3,{"$f":"VLOOKUP(B36,Summary!$B$50:$AK$321,5,FALSE)","v":{"$error":"#N/A"}},null,"MARMITE SAUCE",30,{"$f":"+G36*D36","v":{"$error":"#N/A"}},{"$error":"#N/A"}]
[21,"11705:D -C03-奶油鸡饭",0.01,{"$f":"VLOOKUP(B37,Summary!$B$50:$AK$321,5,FALSE)","v":{"$error":"#N/A"}},null,"BUTTER SAUCE ",30,{"$f":"+G37*D37","v":{"$error":"#N/A"}},{"$error":"#N/A"}]
[22,"11778:D -C08-妈蜜鱼片饭",1.6000000000000001E-3,{"$f":"VLOOKUP(B38,Summary!$B$50:$AK$321,5,FALSE)","v":{"$error":"#N/A"}},null,"MARMITE SAUCE",30,{"$f":"+G38*D38","v":{"$error":"#N/A"}},{"$error":"#N/A"}]
[23,"11779:D -C09-奶油鱼片饭",0.01,{"$f":"VLOOKUP(B39,Summary!$B$50:$AK$321,5,FALSE)","v":{"$error":"#N/A"}},null,"BUTTER SAUCE ",30,{"$f":"+G39*D39","v":{"$error":"#N/A"}},{"$error":"#N/A"}]
[]
[]
[null,"SIDE ORDER",null,null,null,null,null,null,0]
[24,"11502:C02-妈蜜鸡饭",1.6000000000000001E-3,{"$f":"VLOOKUP(B43,Summary!$B$50:$AK$321,5,FALSE)","v":{"$error":"#N/A"}},null,"MARMITE SAUCE",30,{"$f":"+G43*D43","v":{"$error":"#N/A"}},{"$error":"#N/A"}]
[25,"11505:C03-奶油鸡饭",0.01,{"$f":"VLOOKUP(B44,Summary!$B$50:$AK$321,5,FALSE)","v":{"$error":"#N/A"}},null,"BUTTER SAUCE ",30,{"$f":"+G44*D44","v":{"$error":"#N/A"}},{"$error":"#N/A"}]
[26,"11508:C08-妈蜜鱼扒饭",1.6000000000000001E-3,{"$f":"VLOOKUP(B45,Summary!$B$50:$AK$321,5,FALSE)","v":{"$error":"#N/A"}},null,"MARMITE SAUCE",30,{"$f":"+G45*D45","v":{"$error":"#N/A"}},{"$error":"#N/A"}]
[27,"11509:C09-奶油鱼扒饭",0.01,{"$f":"VLOOKUP(B46,Summary!$B$50:$AK$321,5,FALSE)","v":{"$error":"#N/A"}},null,"BUTTER SAUCE ",30,{"$f":"+G46*D46","v":{"$error":"#N/A"}},{"$error":"#N/A"}]
[]
[]
[]
[]
[]
["Total Sales / COST",null,null,null,null,null,null,null,{"$f":"SUM(I11:I51)","v":{"$error":"#N/A"}}]
[]
[]
[]
[]
[]
[]
[]
[]
[]
[null,null,null,null,null,null,null,{"$f":"SUBTOTAL(9,H11:H16)","v":{"$error":"#N/A"}}]

{"sheet":"SIDE ORDER & FOC","index":7,"n_rows":123,"n_cols":21,"rows_kept":123,"cut":false,"hidden":false,"merged":[[105,12,105,13],[105,14,105,15],[105,17,105,19],[0,0,0,13],[9,12,9,13],[8,3,8,4],[8,7,8,8],[8,9,8,10],[7,3,7,4],[7,6,7,7],[9,17,9,19],[9,14,9,15],[102,0,102,2],[9,3,9,4],[9,7,9,8],[9,9,9,10],[120,0,120,2],[104,3,104,4],[104,7,104,8],[104,9,104,10],[105,3,105,4],[105,7,105,8],[105,9,105,10]]}
["MONTHLY SALES FOOD RECORD ( SIDE ORDER & FOC )"]
[]
["Outlet :",{"$f":"+'K LUNCH & K DINNER'!B3","v":"SPT OUTLET "}]
["Month :",{"$f":"+'Daily Log'!C10","v":"JANUARY"}]
[]
["PART (A)  LOCAL DELIGHTS /WESTERN CRUISE / SNAKCS"]
[]
[]
[null,null,null,"(A)",null,null,"(B) ","( C  ) ",null,"(A) + (B) -(C  )"]
[null,null,null,"SIDE ORDER                 (INCLUDING FOC)",null,null,"OLD CODE","FOC",null,"SIDE ORDER                        (NETT SALES)",null,null,"SIDE ORDER                        (NETT COST)",null,"FOC (COST)",null,null,"USAGE "]
["NO","Item","S/P","Sales","TOTAL",null,"Sales","Sales","TOTAL","Sales","TOTAL",null,"COST","TOTAL","COST","TOTAL",null,"MATERIAL ","RECIPE","TOTAL"]
[null,null,"RM","Q","RM",null,"Q","Q","RM","Q","RM",null,"RM","RM","RM","RM",null,"Q","Q","Q"]
[null,"REQUEST"]
[1,"RQ01 1601:ADD RICE",1,{"$f":"VLOOKUP(B14,Summary!$B$50:$AK$323,5,FALSE)","v":11},{"$f":"D14*C14","v":11},null,null,0,{"$f":"H14*C14","v":0},{"$f":"+D14+G14-H14","v":11},{"$f":"+J14*C14","v":11},null,{"$f":"SUMIF(DATABASE!$E$3:$E$494,'SIDE ORDER & FOC'!B14,DATABASE!$F$3:$F$494)","v":0.5},{"$f":"+M14*J14","v":5.5},{"$f":"+M14","v":0.5},{"$f":"+O14*H14","v":0}]
[{"$f":"+A14+1","v":2},"RQ02 1602:ADD F.EGG",1,{"$f":"VLOOKUP(B15,Summary!$B$50:$AK$323,5,FALSE)","v":6},{"$f":"D15*C15","v":6},null,null,0,{"$f":"H15*C15","v":0},{"$f":"+D15+G15-H15","v":6},{"$f":"+J15*C15","v":6},null,{"$f":"SUMIF(DATABASE!$E$3:$E$494,'SIDE ORDER & FOC'!B15,DATABASE!$F$3:$F$494)","v":0.34},{"$f":"+M15*J15","v":2.04},{"$f":"+M15","v":0.34},{"$f":"+O15*H15","v":0}]
[]
[null,"LOCAL "]
[1,"LC01 1101:THAI CHK",9.9,{"$f":"VLOOKUP(B18,Summary!$B$50:$AK$323,5,FALSE)","v":133},{"$f":"D18*C18","v":1316.7},null,null,{"$f":"SUMIF('DAILY FOC '!$A$9:$A$80,'SIDE ORDER & FOC'!B18,'DAILY FOC '!$BN$9:$BN$80)","v":0},{"$f":"H18*C18","v":0},{"$f":"+D18+G18-H18","v":133},{"$f":"+J18*C18","v":1316.7},null,{"$f":"SUMIF(DATABASE!$E$3:$E$494,'SIDE ORDER & FOC'!B18,DATABASE!$F$3:$F$494)","v":3.29},{"$f":"+M18*J18","v":437.57},{"$f":"+M18","v":3.29},{"$f":"+O18*H18","v":0},null,"CHICKEN CHOP (MARINATED)",0.66,{"$f":"(+D18+G18)*S18","v":87.78}]
[{"$f":"+A18+1","v":2},"LC02 1102:MAMITE CHK",9.9,{"$f":"VLOOKUP(B19,Summary!$B$50:$AK$323,5,FALSE)","v":113},{"$f":"D19*C19","v":1118.7},null,null,{"$f":"SUMIF('DAILY FOC '!$A$9:$A$80,'SIDE ORDER & FOC'!B19,'DAILY FOC '!$BN$9:$BN$80)","v":0},{"$f":"H19*C19","v":0},113,{"$f":"+J19*C19","v":1118.7},null,{"$f":"SUMIF(DATABASE!$E$3:$E$494,'SIDE ORDER & FOC'!B19,DATABASE!$F$3:$F$494)","v":3.02},341.26,{"$f":"+M19","v":3.02},0,null,"CHICKEN CHOP (MARINATED)",0.66,{"$f":"(+D19+G19)*S19","v":74.58}]
[3,"LC03 1103:KO PO CHK",9.9,{"$f":"VLOOKUP(B20,Summary!$B$50:$AK$323,5,FALSE)","v":0},0,null,null,{"$f":"SUMIF('DAILY FOC '!$A$9:$A$80,'SIDE ORDER & FOC'!B20,'DAILY FOC '!$BN$9:$BN$80)","v":0},0,0,0,null,{"$f":"SUMIF(DATABASE!$E$3:$E$494,'SIDE ORDER & FOC'!B20,DATABASE!$F$3:$F$494)","v":3.45},0,3.45,0,null,"CHICKEN CHOP (MARINATED)",0.66,0]
[4,"LC04 1104:S&S CHK",9.9,{"$f":"VLOOKUP(B21,Summary!$B$50:$AK$323,5,FALSE)","v":70},693,null,null,{"$f":"SUMIF('DAILY FOC '!$A$9:$A$80,'SIDE ORDER & FOC'!B21,'DAILY FOC '!$BN$9:$BN$80)","v":0},0,70,693,null,{"$f":"SUMIF(DATABASE!$E$3:$E$494,'SIDE ORDER & FOC'!B21,DATABASE!$F$3:$F$494)","v":3.45},241.5,3.45,0,null,"CHICKEN CHOP (MARINATED)",0.66,46.2]
[5,"LC05 1105:BUTTER CHK",9.9,{"$f":"VLOOKUP(B22,Summary!$B$50:$AK$323,5,FALSE)","v":182},1801.8,null,null,{"$f":"SUMIF('DAILY FOC '!$A$9:$A$80,'SIDE ORDER & FOC'!B22,'DAILY FOC '!$BN$9:$BN$80)","v":0},0,182,1801.8,null,{"$f":"SUMIF(DATABASE!$E$3:$E$494,'SIDE ORDER & FOC'!B22,DATABASE!$F$3:$F$494)","v":3.32},604.24,3.32,0,null,"CHICKEN CHOP (MARINATED)",0.66,120.12]
[6,"LC06 1106:HK F.RICE",9.9,{"$f":"VLOOKUP(B23,Summary!$B$50:$AK$323,5,FALSE)","v":149},1475.1000000000001,null,null,{"$f":"SUMIF('DAILY FOC '!$A$9:$A$80,'SIDE ORDER & FOC'!B23,'DAILY FOC '!$BN$9:$BN$80)","v":0},0,149,1475.1000000000001,null,{"$f":"SUMIF(DATABASE!$E$3:$E$494,'SIDE ORDER & FOC'!B23,DATABASE!$F$3:$F$494)","v":3.16},470.84000000000003,3.16,0,null,null,null,0]
[7,"LC07 1107:SBL F.RICE",9.9,{"$f":"VLOOKUP(B24,Summary!$B$50:$AK$323,5,FALSE)","v":77},762.30000000000007,null,null,{"$f":"SUMIF('DAILY FOC '!$A$9:$A$80,'SIDE ORDER & FOC'!B24,'DAILY FOC '!$BN$9:$BN$80)","v":0},0,77,762.30000000000007,null,{"$f":"SUMIF(DATABASE!$E$3:$E$494,'SIDE ORDER & FOC'!B24,DATABASE!$F$3:$F$494)","v":2.41},185.57000000000002,2.41,0,null,null,null,0]
[8,"LC08 1108:SBL F.MEE",9.9,{"$f":"VLOOKUP(B25,Summary!$B$50:$AK$323,5,FALSE)","v":24},237.60000000000002,null,null,{"$f":"SUMIF('DAILY FOC '!$A$9:$A$80,'SIDE ORDER & FOC'!B25,'DAILY FOC '!$BN$9:$BN$80)","v":0},0,24,237.60000000000002,null,{"$f":"SUMIF(DATABASE!$E$3:$E$494,'SIDE ORDER & FOC'!B25,DATABASE!$F$3:$F$494)","v":2.8},67.199999999999989,2.8,0,null,null,null,0]
[9,"LC09 1109:BP UDON",9.9,{"$f":"VLOOKUP(B26,Summary!$B$50:$AK$323,5,FALSE)","v":43},425.7,null,null,{"$f":"SUMIF('DAILY FOC '!$A$9:$A$80,'SIDE ORDER & FOC'!B26,'DAILY FOC '!$BN$9:$BN$80)","v":0},0,43,425.7,null,{"$f":"SUMIF(DATABASE!$E$3:$E$494,'SIDE ORDER & FOC'!B26,DATABASE!$F$3:$F$494)","v":2.08},89.44,2.08,0,null,null,null,0]
[10,"LC10 1110:NISSIN",9.9,{"$f":"VLOOKUP(B27,Summary!$B$50:$AK$323,5,FALSE)","v":62},613.80000000000007,null,null,{"$f":"SUMIF('DAILY FOC '!$A$9:$A$80,'SIDE ORDER & FOC'!B27,'DAILY FOC '!$BN$9:$BN$80)","v":0},0,62,613.80000000000007,null,{"$f":"SUMIF(DATABASE!$E$3:$E$494,'SIDE ORDER & FOC'!B27,DATABASE!$F$3:$F$494)","v":2.3199999999999998},143.84,2.3199999999999998,0,null,"CHICKEN SAUSAGE ",1.5,93]
[11,"LC11 1111:VEG RICE",9.9,{"$f":"VLOOKUP(B28,Summary!$B$50:$AK$323,5,FALSE)","v":21},207.9,null,null,{"$f":"SUMIF('DAILY FOC '!$A$9:$A$80,'SIDE ORDER & FOC'!B28,'DAILY FOC '!$BN$9:$BN$80)","v":0},0,21,207.9,null,{"$f":"SUMIF(DATABASE!$E$3:$E$494,'SIDE ORDER & FOC'!B28,DATABASE!$F$3:$F$494)","v":1.6},33.6,1.6,0]
[12,"LC15 1112:CHK NOODLE",9.9,{"$f":"VLOOKUP(B29,Summary!$B$50:$AK$323,5,FALSE)","v":62},{"$f":"D29*C29","v":613.80000000000007},null,null,{"$f":"SUMIF('DAILY FOC '!$A$9:$A$80,'SIDE ORDER & FOC'!B29,'DAILY FOC '!$BN$9:$BN$80)","v":0},{"$f":"H29*C29","v":0},62,{"$f":"+J29*C29","v":613.80000000000007},null,{"$f":"SUMIF(DATABASE!$E$3:$E$494,'SIDE ORDER & FOC'!B29,DATABASE!$F$3:$F$494)","v":4.71},292.02,4.71,0,null,"CHICKEN CHOP (MARINATED)",1,62]
[13,"LC16 1103:MGL CHK",9.9,{"$f":"VLOOKUP(B30,Summary!$B$50:$AK$323,5,FALSE)","v":80},{"$f":"D30*C30","v":792},null,null,{"$f":"SUMIF('DAILY FOC '!$A$9:$A$80,'SIDE ORDER & FOC'!B30,'DAILY FOC '!$BN$9:$BN$80)","v":0},{"$f":"H30*C30","v":0},80,null,null,{"$f":"SUMIF(DATABASE!$E$3:$E$494,'SIDE ORDER & FOC'!B30,DATABASE!$F$3:$F$494)","v":4.75},380,4.75,0,null,"CHICKEN CHOP (MARINATED)",1,80]
[]
[null,"WESTERN"]
[1,"WT01 1001:BP CKN CP",12.9,{"$f":"VLOOKUP(B33,Summary!$B$50:$AK$323,5,FALSE)","v":165},{"$f":"D33*C33","v":2128.5},null,null,{"$f":"SUMIF('DAILY FOC '!$A$9:$A$80,'SIDE ORDER & FOC'!B33,'DAILY FOC '!$BN$9:$BN$80)","v":0},{"$f":"H33*C33","v":0},{"$f":"+D33+G33-H33","v":165},{"$f":"+J33*C33","v":2128.5},null,{"$f":"SUMIF(DATABASE!$E$3:$E$494,'SIDE ORDER & FOC'!B33,DATABASE!$F$3:$F$494)","v":4.41},{"$f":"+M33*J33","v":727.65},{"$f":"+M33","v":4.41},{"$f":"+O33*H33","v":0},null,"CHICKEN CHOP (MARINATED)",1,{"$f":"(+D33+G33)*S33","v":165}]
[{"$f":"+A33+1","v":2},"WT02 1002:GVY CKN CP",12.9,{"$f":"VLOOKUP(B34,Summary!$B$11:$AK$323,5,FALSE)","v":52},670.80000000000007,null,null,{"$f":"SUMIF('DAILY FOC '!$A$9:$A$80,'SIDE ORDER & FOC'!B34,'DAILY FOC '!$BN$9:$BN$80)","v":0},0,52,670.80000000000007,null,{"$f":"SUMIF(DATABASE!$E$3:$E$494,'SIDE ORDER & FOC'!B34,DATABASE!$F$3:$F$494)","v":4.43},230.35999999999999,{"$f":"+M34","v":4.43},0,null,"CHICKEN CHOP (MARINATED)",1,52]
[{"$f":"+A34+1","v":3},"WT03 1003:MR CKN CP",12.9,{"$f":"VLOOKUP(B35,Summary!$B$11:$AK$323,5,FALSE)","v":252},3250.8,null,null,3,38.700000000000003,249,3212.1,null,{"$f":"SUMIF(DATABASE!$E$3:$E$494,'SIDE ORDER & FOC'!B35,DATABASE!$F$3:$F$494)","v":4.75},1182.75,{"$f":"+M35","v":4.75},14.25,null,"CHICKEN CHOP (MARINATED)",1,252]
[4,"WT04 1004:CKN MARY",12.9,{"$f":"VLOOKUP(B36,Summary!$B$50:$AK$323,5,FALSE)","v":50},645,null,null,1,12.9,49,632.1,null,{"$f":"SUMIF(DATABASE!$E$3:$E$494,'SIDE ORDER & FOC'!B36,DATABASE!$F$3:$F$494)","v":5.98},293.02000000000004,{"$f":"+M36","v":5.98},5.98,null,"CHICKEN CHOP (MARINATED)",1,50]
[5,"WT05 1005:FSH&CHIP",12.9,{"$f":"VLOOKUP(B37,Summary!$B$50:$AK$323,5,FALSE)","v":82},1057.8,null,null,{"$f":"SUMIF('DAILY FOC '!$A$9:$A$80,'SIDE ORDER & FOC'!B37,'DAILY FOC '!$BN$9:$BN$80)","v":0},0,82,1057.8,null,{"$f":"SUMIF(DATABASE!$E$3:$E$494,'SIDE ORDER & FOC'!B37,DATABASE!$F$3:$F$494)","v":4.32},354.24,{"$f":"+M37","v":4.32},0,null,"FISH & CHIP ",1,82]
[6,"WT06 1006:SPAGHETTI",12.9,{"$f":"VLOOKUP(B38,Summary!$B$50:$AK$323,5,FALSE)","v":85},1096.5,null,null,{"$f":"SUMIF('DAILY FOC '!$A$9:$A$80,'SIDE ORDER & FOC'!B38,'DAILY FOC '!$BN$9:$BN$80)","v":0},0,85,1096.5,null,{"$f":"SUMIF(DATABASE!$E$3:$E$494,'SIDE ORDER & FOC'!B38,DATABASE!$F$3:$F$494)","v":2.1},178.5,{"$f":"+M38","v":2.1},0]
[7,"WT07 1007:CHK SALAD",12.9,{"$f":"VLOOKUP(B39,Summary!$B$50:$AK$323,5,FALSE)","v":25},322.5,null,null,{"$f":"SUMIF('DAILY FOC '!$A$9:$A$80,'SIDE ORDER & FOC'!B39,'DAILY FOC '!$BN$9:$BN$80)","v":0},0,25,322.5,null,{"$f":"SUMIF(DATABASE!$E$3:$E$494,'SIDE ORDER & FOC'!B39,DATABASE!$F$3:$F$494)","v":4.9400000000000004},123.50000000000001,4.9400000000000004,0,null,"CHICKEN CHOP (MARINATED)",0.5,12.5]
[]
[null,"APPETIZER"]
[1,"AA01 1201:SFD STICK",5.9,{"$f":"VLOOKUP(B42,Summary!$B$50:$AK$323,5,FALSE)","v":1},{"$f":"D42*C42","v":5.9},null,null,{"$f":"SUMIF('DAILY FOC '!$A$9:$A$80,'SIDE ORDER & FOC'!B42,'DAILY FOC '!$BN$9:$BN$80)","v":0},{"$f":"H42*C42","v":0},1,{"$f":"+J42*C42","v":5.9},null,{"$f":"SUMIF(DATABASE!$E$3:$E$494,'SIDE ORDER & FOC'!B42,DATABASE!$F$3:$F$494)","v":2},{"$f":"+M42*J42","v":2},{"$f":"+M42","v":2},{"$f":"+O42*H42","v":0},null,"SOTONG BALL",2,{"$f":"(+D42+G42)*S42","v":2}]
[null,null,null,null,null,null,null,null,null,null,null,null,null,null,null,null,null,"SALMON BALL",2,{"$f":"(+$D$42+$G$42)*S43","v":2}]
[null,null,null,null,null,null,null,null,null,null,null,null,null,null,null,null,null,"SEAFOOD TOFU",2,{"$f":"(+$D$42+$G$42)*S44","v":2}]
[{"$f":"+A42+1","v":2},"AA02 1202:FREN FRIES",5.9,{"$f":"VLOOKUP(B45,Summary!$B$50:$AK$323,5,FALSE)","v":64},377.6,null,null,{"$f":"SUMIF('DAILY FOC '!$A$9:$A$80,'SIDE ORDER & FOC'!B45,'DAILY FOC '!$BN$9:$BN$80)","v":0},0,{"$f":"+D45+G45-H45","v":64},377.6,null,{"$f":"SUMIF(DATABASE!$E$3:$E$494,'SIDE ORDER & FOC'!B45,DATABASE!$F$3:$F$494)","v":1.76},{"$f":"+M45*J45","v":112.64},1.76,{"$f":"+O45*H45","v":0}]
[3,"AA03 1203:GOLD MR",5.9,{"$f":"VLOOKUP(B46,Summary!$B$50:$AK$323,5,FALSE)","v":9},53.1,null,null,{"$f":"SUMIF('DAILY FOC '!$A$9:$A$80,'SIDE ORDER & FOC'!B46,'DAILY FOC '!$BN$9:$BN$80)","v":0},0,9,53.1,null,{"$f":"SUMIF(DATABASE!$E$3:$E$494,'SIDE ORDER & FOC'!B46,DATABASE!$F$3:$F$494)","v":4.3},38.699999999999996,4.3,0]
[4,"AA04 1204:FSH BALL",5.9,{"$f":"VLOOKUP(B47,Summary!$B$50:$AK$323,5,FALSE)","v":4},23.6,null,null,{"$f":"SUMIF('DAILY FOC '!$A$9:$A$80,'SIDE ORDER & FOC'!B47,'DAILY FOC '!$BN$9:$BN$80)","v":0},0,4,23.6,null,{"$f":"SUMIF(DATABASE!$E$3:$E$494,'SIDE ORDER & FOC'!B47,DATABASE!$F$3:$F$494)","v":1.56},6.24,1.56,0,null,"FISH BALL (BIG)",6,{"$f":"(+D47+G47)*S47","v":24}]
[5,"AA05 1205:RAINBOW RL",5.9,{"$f":"VLOOKUP(B48,Summary!$B$50:$AK$323,5,FALSE)","v":0},0,null,null,{"$f":"SUMIF('DAILY FOC '!$A$9:$A$80,'SIDE ORDER & FOC'!B48,'DAILY FOC '!$BN$9:$BN$80)","v":0},0,0,0,null,{"$f":"SUMIF(DATABASE!$E$3:$E$494,'SIDE ORDER & FOC'!B48,DATABASE!$F$3:$F$494)","v":2.5},0,2.5,0,null,"RAINBOW ROLL",1,{"$f":"(+D48+G48)*S48","v":0}]
[6,"AA06 1206:SPRING RL",5.9,{"$f":"VLOOKUP(B49,Summary!$B$50:$AK$323,5,FALSE)","v":10},59,null,null,{"$f":"SUMIF('DAILY FOC '!$A$9:$A$80,'SIDE ORDER & FOC'!B49,'DAILY FOC '!$BN$9:$BN$80)","v":0},0,10,59,null,{"$f":"SUMIF(DATABASE!$E$3:$E$494,'SIDE ORDER & FOC'!B49,DATABASE!$F$3:$F$494)","v":2.67},26.7,2.67,0,null,"SPRING ROLL",8,80]
[7,"AA07 1207:SAUSG",5.9,{"$f":"VLOOKUP(B50,Summary!$B$50:$AK$323,5,FALSE)","v":19},112.10000000000001,null,null,{"$f":"SUMIF('DAILY FOC '!$A$9:$A$80,'SIDE ORDER & FOC'!B50,'DAILY FOC '!$BN$9:$BN$80)","v":0},0,19,112.10000000000001,null,{"$f":"SUMIF(DATABASE!$E$3:$E$494,'SIDE ORDER & FOC'!B50,DATABASE!$F$3:$F$494)","v":1.24},23.56,1.24,0,null,"CHICKEN SAUSAGE ",4,76]
[{"$f":"+A50+1","v":8},"AA31 1301:DUMPLING",7.9,{"$f":"VLOOKUP(B51,Summary!$B$50:$AK$323,5,FALSE)","v":0},{"$f":"D51*C51","v":0},null,null,{"$f":"SUMIF('DAILY FOC '!$A$9:$A$80,'SIDE ORDER & FOC'!B51,'DAILY FOC '!$BN$9:$BN$80)","v":0},{"$f":"H51*C51","v":0},0,{"$f":"+J51*C51","v":0},null,{"$f":"SUMIF(DATABASE!$E$3:$E$494,'SIDE ORDER & FOC'!B51,DATABASE!$F$3:$F$494)","v":4.5},0,{"$f":"+M51","v":4.5},0,null,"DUMPLING",6,0]
[{"$f":"+A51+1","v":9},"AA32 1302:NUGGET",7.9,{"$f":"VLOOKUP(B52,Summary!$B$50:$AK$323,5,FALSE)","v":31},244.9,null,null,{"$f":"SUMIF('DAILY FOC '!$A$9:$A$80,'SIDE ORDER & FOC'!B52,'DAILY FOC '!$BN$9:$BN$80)","v":0},0,31,244.9,null,{"$f":"SUMIF(DATABASE!$E$3:$E$494,'SIDE ORDER & FOC'!B52,DATABASE!$F$3:$F$494)","v":2.4300000000000002},75.33,2.4300000000000002,0,null,"CHICKEN NUGGET",8,{"$f":"(+D52+G52)*S52","v":248}]
[{"$f":"+A52+1","v":10},"AA33 1303:CHK WING",7.9,{"$f":"VLOOKUP(B53,Summary!$B$50:$AK$323,5,FALSE)","v":36},284.40000000000003,null,null,{"$f":"SUMIF('DAILY FOC '!$A$9:$A$80,'SIDE ORDER & FOC'!B53,'DAILY FOC '!$BN$9:$BN$80)","v":0},0,36,284.40000000000003,null,{"$f":"SUMIF(DATABASE!$E$3:$E$494,'SIDE ORDER & FOC'!B53,DATABASE!$F$3:$F$494)","v":3.97},142.92000000000002,3.97,0,null,"CHICKEN WINGS (MARINATED)",3,108]
[11,"AA34 1304:IKAN BILIS",7.9,{"$f":"VLOOKUP(B54,Summary!$B$50:$AK$323,5,FALSE)","v":2},15.8,null,null,{"$f":"SUMIF('DAILY FOC '!$A$9:$A$80,'SIDE ORDER & FOC'!B54,'DAILY FOC '!$BN$9:$BN$80)","v":0},0,2,15.8,null,{"$f":"SUMIF(DATABASE!$E$3:$E$494,'SIDE ORDER & FOC'!B54,DATABASE!$F$3:$F$494)","v":2.1800000000000002},4.3600000000000003,2.1800000000000002,0]
[12,"AA35 1305:THAI RL",7.9,{"$f":"VLOOKUP(B55,Summary!$B$50:$AK$323,5,FALSE)","v":4},31.6,null,null,{"$f":"SUMIF('DAILY FOC '!$A$9:$A$80,'SIDE ORDER & FOC'!B55,'DAILY FOC '!$BN$9:$BN$80)","v":0},0,4,31.6,null,{"$f":"SUMIF(DATABASE!$E$3:$E$494,'SIDE ORDER & FOC'!B55,DATABASE!$F$3:$F$494)","v":3.61},14.44,3.61,0,null,"THAI ROLL ",7,28]
[13,"AA36 1306:DF WING",7.9,{"$f":"VLOOKUP(B56,Summary!$B$50:$AK$323,5,FALSE)","v":5},39.5,null,null,{"$f":"SUMIF('DAILY FOC '!$A$9:$A$80,'SIDE ORDER & FOC'!B56,'DAILY FOC '!$BN$9:$BN$80)","v":0},0,5,39.5,null,{"$f":"SUMIF(DATABASE!$E$3:$E$494,'SIDE ORDER & FOC'!B56,DATABASE!$F$3:$F$494)","v":2.4300000000000002},12.15,2.4300000000000002,0,null,"CHICKEN WINGS (MARINATED)",3,15]
[14,"AA37 1307:CALAMARI",7.9,{"$f":"VLOOKUP(B57,Summary!$B$50:$AK$323,5,FALSE)","v":6},null,null,null,{"$f":"SUMIF('DAILY FOC '!$A$9:$A$80,'SIDE ORDER & FOC'!B57,'DAILY FOC '!$BN$9:$BN$80)","v":0},0,6,47.400000000000006,null,{"$f":"SUMIF(DATABASE!$E$3:$E$494,'SIDE ORDER & FOC'!B57,DATABASE!$F$3:$F$494)","v":3.69},22.14,3.69,0,null,"CALAMARI RING",7,42]
[15,"AA38 1308:MC RING",7.9,{"$f":"VLOOKUP(B58,Summary!$B$50:$AK$323,5,FALSE)","v":4},null,null,null,{"$f":"SUMIF('DAILY FOC '!$A$9:$A$80,'SIDE ORDER & FOC'!B58,'DAILY FOC '!$BN$9:$BN$80)","v":0},0,4,31.6,null,{"$f":"SUMIF(DATABASE!$E$3:$E$494,'SIDE ORDER & FOC'!B58,DATABASE!$F$3:$F$494)","v":1.72},6.88,1.72,0,null,"MCCAIN ONION RING",8,32]
[16,"AA39 1309:MC S.FRIES",7.9,{"$f":"VLOOKUP(B59,Summary!$B$50:$AK$323,5,FALSE)","v":6},null,null,null,{"$f":"SUMIF('DAILY FOC '!$A$9:$A$80,'SIDE ORDER & FOC'!B59,'DAILY FOC '!$BN$9:$BN$80)","v":0},0,6,47.400000000000006,null,{"$f":"SUMIF(DATABASE!$E$3:$E$494,'SIDE ORDER & FOC'!B59,DATABASE!$F$3:$F$494)","v":1.72},10.32,1.72,0,null,"MCCAIN SPIRAL FRIES",0.22,1.32]
[17,"AA40 1310:MC HP SMIL",7.9,{"$f":"VLOOKUP(B60,Summary!$B$50:$AK$323,5,FALSE)","v":0},null,null,null,{"$f":"SUMIF('DAILY FOC '!$A$9:$A$80,'SIDE ORDER & FOC'!B60,'DAILY FOC '!$BN$9:$BN$80)","v":0},0,0,0,null,{"$f":"SUMIF(DATABASE!$E$3:$E$494,'SIDE ORDER & FOC'!B60,DATABASE!$F$3:$F$494)","v":0.59},0,0.59,0,null,"MCCAIN SMILES",8,0]
[18,"AA41 1311:MC HSH BRW",7.9,{"$f":"VLOOKUP(B61,Summary!$B$50:$AK$323,5,FALSE)","v":9},null,null,null,{"$f":"SUMIF('DAILY FOC '!$A$9:$A$80,'SIDE ORDER & FOC'!B61,'DAILY FOC '!$BN$9:$BN$80)","v":0},0,9,71.100000000000009,null,{"$f":"SUMIF(DATABASE!$E$3:$E$494,'SIDE ORDER & FOC'!B61,DATABASE!$F$3:$F$494)","v":1.34},12.06,1.34,0,null,"MCCAIN VERSITOT",15,{"$f":"(+D61+G61)*S61","v":135}]
[]
[null,"PLATTER "]
[19,"AP01 1411:MC ALACARTE",16.899999999999999,{"$f":"VLOOKUP(B64,Summary!$B$50:$AK$323,5,FALSE)","v":38},{"$f":"D64*C64","v":642.19999999999993},null,null,{"$f":"SUMIF('DAILY FOC '!$A$9:$A$80,'SIDE ORDER & FOC'!B64,'DAILY FOC '!$BN$9:$BN$80)","v":0},{"$f":"H64*C64","v":0},{"$f":"+D64+G64-H64","v":38},{"$f":"+J64*C64","v":642.19999999999993},null,{"$f":"SUMIF(DATABASE!$E$3:$E$494,'SIDE ORDER & FOC'!B64,DATABASE!$F$3:$F$494)","v":4.5999999999999996},{"$f":"+M64*J64","v":174.79999999999998},{"$f":"+M64","v":4.5999999999999996},{"$f":"+O64*H64","v":0},null,"MCCAIN VERSITOT",8,{"$f":"(+$D$64+$G$64)*S64","v":304}]
[null,null,null,null,null,null,null,null,null,null,null,null,null,null,null,null,null,"MCCAIN SMILES",6,{"$f":"(+$D$64+$G$64)*S65","v":228}]
[null,null,null,null,null,null,null,null,null,null,null,null,null,null,null,null,null,"MCCAIN ONION RING",8,{"$f":"(+$D$64+$G$64)*S66","v":304}]
[null,null,null,null,null,null,null,null,null,null,null,null,null,null,null,null,null,"MCCAIN SPIRAL FRIES",0.12,{"$f":"(+$D$64+$G$64)*S67","v":4.5599999999999996}]
[]
[20,"AP02 1412:MC BEER",12.9,{"$f":"VLOOKUP(B69,Summary!$B$50:$AK$323,5,FALSE)","v":41},{"$f":"D69*C69","v":528.9},null,null,{"$f":"SUMIF('DAILY FOC '!$A$9:$A$80,'SIDE ORDER & FOC'!B69,'DAILY FOC '!$BN$9:$BN$80)","v":0},{"$f":"H69*C69","v":0},{"$f":"+D69+G69-H69","v":41},{"$f":"+J69*C69","v":528.9},null,{"$f":"SUMIF(DATABASE!$E$3:$E$494,'SIDE ORDER & FOC'!B69,DATABASE!$F$3:$F$494)","v":4.5999999999999996},{"$f":"+M69*J69","v":188.6},{"$f":"+M69","v":4.5999999999999996},{"$f":"+O69*H69","v":0},null,"MCCAIN VERSITOT",8,{"$f":"(+$D$69+$G$69)*S69","v":328}]
[null,null,null,null,null,null,null,null,null,null,null,null,null,null,null,null,null,"MCCAIN SMILES",6,{"$f":"(+$D$69+$G$69)*S70","v":246}]
[null,null,null,null,null,null,null,null,null,null,null,null,null,null,null,null,null,"MCCAIN ONION RING",8,{"$f":"(+$D$69+$G$69)*S71","v":328}]
[null,null,null,null,null,null,null,null,null,null,null,null,null,null,null,null,null,"MCCAIN SPIRAL FRIES",0.12,{"$f":"(+$D$69+$G$69)*S72","v":4.92}]
[]
[null,"COMBO RM 9.90"]
[1,"ZAA01 1201:SFD STICK",{"$f":"9.9/2","v":4.95},{"$f":"VLOOKUP(B75,Summary!$B$50:$AK$323,5,FALSE)","v":15},{"$f":"D75*C75","v":74.25},null,null,{"$f":"SUMIF('DAILY FOC '!$A$9:$A$80,'SIDE ORDER & FOC'!B75,'DAILY FOC '!$BN$9:$BN$80)","v":0},{"$f":"H75*C75","v":0},{"$f":"+D75+G75-H75","v":15},{"$f":"+J75*C75","v":74.25},null,{"$f":"SUMIF(DATABASE!$E$3:$E$494,'SIDE ORDER & FOC'!B75,DATABASE!$F$3:$F$494)","v":2},{"$f":"+M75*J75","v":30},{"$f":"+M75","v":2},{"$f":"+O75*H75","v":0},null,"SOTONG BALL",2,{"$f":"(+$D$75+G75)*S75","v":30}]
[null,null,null,null,null,null,null,null,null,null,null,null,null,null,null,null,null,"SALMON BALL",2,{"$f":"(+$D$75+G76)*S76","v":30}]
[null,null,null,null,null,null,null,null,null,null,null,null,null,null,null,null,null,"SEAFOOD TOFU",2,30]
[{"$f":"+A75+1","v":2},"ZAA02 1202:FREN FRIES",{"$f":"9.9/2","v":4.95},{"$f":"VLOOKUP(B78,Summary!$B$50:$AK$323,5,FALSE)","v":184},{"$f":"D78*C78","v":910.80000000000007},null,null,{"$f":"SUMIF('DAILY FOC '!$A$9:$A$80,'SIDE ORDER & FOC'!B78,'DAILY FOC '!$BN$9:$BN$80)","v":0},{"$f":"H78*C78","v":0},{"$f":"+D78+G78-H78","v":184},{"$f":"+J78*C78","v":910.80000000000007},null,{"$f":"SUMIF(DATABASE!$E$3:$E$494,'SIDE ORDER & FOC'!B78,DATABASE!$F$3:$F$494)","v":1.76},{"$f":"+M78*J78","v":323.83999999999997},{"$f":"+M78","v":1.76},{"$f":"+O78*H78","v":0}]
[{"$f":"+A78+1","v":3},"ZAA03 1203:GOLD MR",{"$f":"9.9/2","v":4.95},{"$f":"VLOOKUP(B79,Summary!$B$50:$AK$323,5,FALSE)","v":56},0,null,null,{"$f":"SUMIF('DAILY FOC '!$A$9:$A$80,'SIDE ORDER & FOC'!B79,'DAILY FOC '!$BN$9:$BN$80)","v":0},0,{"$f":"+D79+G79-H79","v":56},{"$f":"+J79*C79","v":277.2},null,{"$f":"SUMIF(DATABASE!$E$3:$E$494,'SIDE ORDER & FOC'!B79,DATABASE!$F$3:$F$494)","v":2.15},120.39999999999999,2.15,0]
[{"$f":"+A79+1","v":4},"ZAA04 1204:FSHBALL",{"$f":"9.9/2","v":4.95},{"$f":"VLOOKUP(B80,Summary!$B$50:$AK$323,5,FALSE)","v":54},267.3,null,null,{"$f":"SUMIF('DAILY FOC '!$A$9:$A$80,'SIDE ORDER & FOC'!B80,'DAILY FOC '!$BN$9:$BN$80)","v":0},0,{"$f":"+D80+G80-H80","v":54},267.3,null,{"$f":"SUMIF(DATABASE!$E$3:$E$494,'SIDE ORDER & FOC'!B80,DATABASE!$F$3:$F$494)","v":1.56},84.240000000000009,1.56,0,null,"FISH BALL (BIG)",6,{"$f":"(+D80+G80)*S80","v":324}]
[5,"ZAA05 1205:RAINBOW RL",4.95,{"$f":"VLOOKUP(B81,Summary!$B$50:$AK$323,5,FALSE)","v":0},0,null,null,{"$f":"SUMIF('DAILY FOC '!$A$9:$A$80,'SIDE ORDER & FOC'!B81,'DAILY FOC '!$BN$9:$BN$80)","v":0},0,0,0,null,{"$f":"SUMIF(DATABASE!$E$3:$E$494,'SIDE ORDER & FOC'!B81,DATABASE!$F$3:$F$494)","v":2.5},0,2.5,0,null,"RAINBOW ROLL",1,{"$f":"(+D81+G81)*S81","v":0}]
[6,"ZAA06 1206:SPRING RL",4.95,{"$f":"VLOOKUP(B82,Summary!$B$50:$AK$323,5,FALSE)","v":74},366.3,null,null,{"$f":"SUMIF('DAILY FOC '!$A$9:$A$80,'SIDE ORDER & FOC'!B82,'DAILY FOC '!$BN$9:$BN$80)","v":0},0,{"$f":"+D82+G82-H82","v":74},366.3,null,{"$f":"SUMIF(DATABASE!$E$3:$E$494,'SIDE ORDER & FOC'!B82,DATABASE!$F$3:$F$494)","v":2.67},197.57999999999998,2.67,0,null,"SPRING ROLL",8,{"$f":"(+D82+G82)*S82","v":592}]
[7,"ZAA07 1207:SAUSG",4.95,{"$f":"VLOOKUP(B83,Summary!$B$50:$AK$323,5,FALSE)","v":105},519.75,null,null,{"$f":"SUMIF('DAILY FOC '!$A$9:$A$80,'SIDE ORDER & FOC'!B83,'DAILY FOC '!$BN$9:$BN$80)","v":0},0,{"$f":"+D83+G83-H83","v":105},519.75,null,{"$f":"SUMIF(DATABASE!$E$3:$E$494,'SIDE ORDER & FOC'!B83,DATABASE!$F$3:$F$494)","v":1.24},130.19999999999999,1.24,0,null,"CHICKEN SAUSAGE ",4,{"$f":"(+D83+G83)*S83","v":420}]
[8,"ZAA08 1208:HOTDOG BUN",4.95,{"$f":"VLOOKUP(B84,Summary!$B$50:$AK$323,5,FALSE)","v":0},24.75,null,null,{"$f":"SUMIF('DAILY FOC '!$A$9:$A$80,'SIDE ORDER & FOC'!B84,'DAILY FOC '!$BN$9:$BN$80)","v":0},0,0,24.75,null,2.04,10.199999999999999,2.04,0,null,"CHICKEN SAUSAGE ",1,{"$f":"(+$D$84+G84)*S84","v":0},{"$f":"SUBTOTAL(9,T27:T84)","v":3424.8}]
[null,null,null,null,null,null,null,null,null,null,null,null,null,null,null,null,null,"HOT DOG BUN ",1,{"$f":"(+$D$84+G85)*S85","v":0}]
[9,"ZAA09 1209:SF TF",4.95,{"$f":"VLOOKUP(B86,Summary!$B$50:$AK$323,5,FALSE)","v":0},{"$f":"D86*C86","v":0},null,null,{"$f":"SUMIF('DAILY FOC '!$A$9:$A$80,'SIDE ORDER & FOC'!B86,'DAILY FOC '!$BN$9:$BN$80)","v":0},{"$f":"H86*C86","v":0},0,{"$f":"+J86*C86","v":0},null,{"$f":"SUMIF(DATABASE!$E$3:$E$494,'SIDE ORDER & FOC'!B86,DATABASE!$F$3:$F$494)","v":2.4300000000000002},{"$f":"+M86*J86","v":0},{"$f":"+M86","v":2.4300000000000002},{"$f":"+O86*H86","v":0},null,"SEAFOOD TOFU ",6,{"$f":"(+D86+G86)*S86","v":0}]
[10,"ZAA10 1210:SALAD RL",4.95,{"$f":"VLOOKUP(B87,Summary!$B$50:$AK$323,5,FALSE)","v":0},{"$f":"D87*C87","v":0},null,null,{"$f":"SUMIF('DAILY FOC '!$A$9:$A$80,'SIDE ORDER & FOC'!B87,'DAILY FOC '!$BN$9:$BN$80)","v":0},{"$f":"H87*C87","v":0},0,{"$f":"+J87*C87","v":0},null,{"$f":"SUMIF(DATABASE!$E$3:$E$494,'SIDE ORDER & FOC'!B87,DATABASE!$F$3:$F$494)","v":0},{"$f":"+M87*J87","v":0},0,{"$f":"+O87*H87","v":0},null,"SALAD ROLL ",4,{"$f":"(+D87+G87)*S87","v":0}]
[11,"ZAA11 1211:BBQ CHK",4.95,{"$f":"VLOOKUP(B88,Summary!$B$50:$AK$323,5,FALSE)","v":0},{"$f":"D88*C88","v":0},null,null,{"$f":"SUMIF('DAILY FOC '!$A$9:$A$80,'SIDE ORDER & FOC'!B88,'DAILY FOC '!$BN$9:$BN$80)","v":0},{"$f":"H88*C88","v":0},0,{"$f":"+J88*C88","v":0},null,{"$f":"SUMIF(DATABASE!$E$3:$E$494,'SIDE ORDER & FOC'!B88,DATABASE!$F$3:$F$494)","v":0},{"$f":"+M88*J88","v":0},0,{"$f":"+O88*H88","v":0},null,"BBQ CHICKEN ",8,{"$f":"(+D88+G88)*S88","v":0}]
[]
[null,"COMBO RM 13.90"]
[1,"ZAB01 1301:DUMPLING",6.95,{"$f":"VLOOKUP(B91,Summary!$B$50:$AK$323,5,FALSE)","v":0},{"$f":"D91*C91","v":0},null,null,{"$f":"SUMIF('DAILY FOC '!$A$9:$A$80,'SIDE ORDER & FOC'!B91,'DAILY FOC '!$BN$9:$BN$80)","v":0},{"$f":"H91*C91","v":0},{"$f":"+D91+G91-H91","v":0},{"$f":"+J91*C91","v":0},null,1.24,{"$f":"+M91*J91","v":0},{"$f":"+M91","v":1.24},{"$f":"+O91*H91","v":0},null,"DUMPLING ",6,{"$f":"(+D91+G91)*S91","v":0}]
[{"$f":"+A91+1","v":2},"ZAB02 1302:NUGGET",{"$f":"13.9/2","v":6.95},{"$f":"VLOOKUP(B92,Summary!$B$50:$AK$323,5,FALSE)","v":96},{"$f":"D92*C92","v":667.2},null,null,{"$f":"SUMIF('DAILY FOC '!$A$9:$A$80,'SIDE ORDER & FOC'!B92,'DAILY FOC '!$BN$9:$BN$80)","v":0},{"$f":"H92*C92","v":0},{"$f":"+D92+G92-H92","v":96},{"$f":"+J92*C92","v":667.2},null,{"$f":"SUMIF(DATABASE!$E$3:$E$494,'SIDE ORDER & FOC'!B92,DATABASE!$F$3:$F$494)","v":2.4300000000000002},233.28000000000003,{"$f":"+M92","v":2.4300000000000002},{"$f":"+O92*H92","v":0},null,"CHICKEN NUGGET",8,{"$f":"(+D92+G92)*S92","v":768}]
[{"$f":"+A92+1","v":3},"ZAB03 1303:CHK WING",{"$f":"13.9/2","v":6.95},{"$f":"VLOOKUP(B93,Summary!$B$50:$AK$323,5,FALSE)","v":138},959.1,null,null,{"$f":"SUMIF('DAILY FOC '!$A$9:$A$80,'SIDE ORDER & FOC'!B93,'DAILY FOC '!$BN$9:$BN$80)","v":0},0,138,959.1,null,{"$f":"SUMIF(DATABASE!$E$3:$E$494,'SIDE ORDER & FOC'!B93,DATABASE!$F$3:$F$494)","v":3.97},547.86,3.97,0,null,"CHICKEN WINGS (MARINATED)",3,{"$f":"(+D93+G93)*S93","v":414}]
[4,"ZAB04 1304:IKAN BILIS",6.95,{"$f":"VLOOKUP(B94,Summary!$B$50:$AK$323,5,FALSE)","v":12},83.4,null,null,{"$f":"SUMIF('DAILY FOC '!$A$9:$A$80,'SIDE ORDER & FOC'!B94,'DAILY FOC '!$BN$9:$BN$80)","v":0},0,12,83.4,null,{"$f":"SUMIF(DATABASE!$E$3:$E$494,'SIDE ORDER & FOC'!B94,DATABASE!$F$3:$F$494)","v":2.1800000000000002},26.160000000000004,2.1800000000000002,0]
[5,"ZAB05 1305:THAI RL",6.95,{"$f":"VLOOKUP(B95,Summary!$B$50:$AK$323,5,FALSE)","v":17},118.15,null,null,{"$f":"SUMIF('DAILY FOC '!$A$9:$A$80,'SIDE ORDER & FOC'!B95,'DAILY FOC '!$BN$9:$BN$80)","v":0},0,17,118.15,null,{"$f":"SUMIF(DATABASE!$E$3:$E$494,'SIDE ORDER & FOC'!B95,DATABASE!$F$3:$F$494)","v":3.61},61.37,3.61,0,null,"THAI ROLL ",7,{"$f":"(+D95+G95)*S95","v":119}]
[6,"ZAB06 1306:DF WING",6.95,{"$f":"VLOOKUP(B96,Summary!$B$50:$AK$323,5,FALSE)","v":42},291.90000000000003,null,null,{"$f":"SUMIF('DAILY FOC '!$A$9:$A$80,'SIDE ORDER & FOC'!B96,'DAILY FOC '!$BN$9:$BN$80)","v":0},0,42,291.90000000000003,null,{"$f":"SUMIF(DATABASE!$E$3:$E$494,'SIDE ORDER & FOC'!B96,DATABASE!$F$3:$F$494)","v":4.3099999999999996},181.01999999999998,4.3099999999999996,0,null,"CHICKEN WINGS (MARINATED)",3,126]
[7,"ZAB07 1307: CALAMARI",6.95,{"$f":"VLOOKUP(B97,Summary!$B$50:$AK$323,5,FALSE)","v":59},410.05,null,null,2,13.9,57,396.15000000000003,null,3.69,210.32999999999998,3.69,7.38,null,"CALAMARI RING",7,413]
[8,"ZAB08 1308 MC RING",6.95,{"$f":"VLOOKUP(B98,Summary!$B$50:$AK$323,5,FALSE)","v":36},250.20000000000002,null,null,{"$f":"SUMIF('DAILY FOC '!$A$9:$A$80,'SIDE ORDER & FOC'!B98,'DAILY FOC '!$BN$9:$BN$80)","v":0},0,36,250.20000000000002,null,1.72,61.92,1.72,0,null,"MCCAIN ONION RING",8,288]
[9,"ZAB09 1309:MC SPIRAL F",6.95,{"$f":"VLOOKUP(B99,Summary!$B$50:$AK$323,5,FALSE)","v":41},284.95,null,null,{"$f":"SUMIF('DAILY FOC '!$A$9:$A$80,'SIDE ORDER & FOC'!B99,'DAILY FOC '!$BN$9:$BN$80)","v":0},0,41,284.95,null,1.72,70.52,1.72,0,null,"MCCAIN SPIRAL FRIES",0.22,9.02]
[10,"ZAB10 1310:MC HP SMILE",6.95,{"$f":"VLOOKUP(B100,Summary!$B$50:$AK$323,5,FALSE)","v":11},null,null,null,{"$f":"SUMIF('DAILY FOC '!$A$9:$A$80,'SIDE ORDER & FOC'!B100,'DAILY FOC '!$BN$9:$BN$80)","v":0},0,11,76.45,null,1.34,14.74,1.34,0,null,"MCCAIN SMILES",8,88]
[11,"ZAB11 1311:MC HASH BRW",6.95,{"$f":"VLOOKUP(B101,Summary!$B$50:$AK$323,5,FALSE)","v":24},166.8,null,null,{"$f":"SUMIF('DAILY FOC '!$A$9:$A$80,'SIDE ORDER & FOC'!B101,'DAILY FOC '!$BN$9:$BN$80)","v":0},0,24,166.8,null,0.59,14.16,0.59,0,null,"MCCAIN VERSITOT",15,360]
[]
["Total Sales / COST",null,null,{"$f":"SUM(D14:D102)","v":2997},{"$f":"SUM(E14:E102)","v":27060.799999999999},null,{"$f":"SUM(G14:G102)","v":0},{"$f":"SUM(H14:H102)","v":6},{"$f":"SUM(I14:I102)","v":65.5},{"$f":"SUM(J14:J102)","v":2991},{"$f":"SUM(K14:K102)","v":26754.450000000004},null,null,{"$f":"SUM(N14:N102)","v":9576.3000000000011},null,{"$f":"SUM(P14:P102)","v":27.61}]
[]
[null,null,null,"(A)",null,null,"(B)"]
[null,null,null,"XMAS & NY MEAL",null,null,"OLD CODE","FOC",null,"SIDE ORDER                        (NETT SALES)",null,null,"SIDE ORDER                        (NETT COST)",null,"FOC (COST)",null,null,"USAGE "]
["NO","Item","S/P","Sales","TOTAL",null,"Sales","Sales","TOTAL","Sales","TOTAL",null,"COST","TOTAL","COST","TOTAL",null,"MATERIAL ","RECIPE","TOTAL"]
[null,null,"RM","Q","RM",null,"Q","Q","RM","Q","RM",null,"RM","RM","RM","RM",null,"Q","Q","Q"]
[]
[1,"ZE01 1011:PC CKN CP",19.899999999999999,{"$f":"VLOOKUP(B110,Summary!$B$50:$AK$323,5,FALSE)","v":0},{"$f":"D110*C110","v":0},null,null,null,null,{"$f":"+D110+G110-H110","v":0},{"$f":"+J110*C110","v":0},null,5.18,{"$f":"+M110*J110","v":0},{"$f":"+M110","v":5.18},{"$f":"+O110*H110","v":0},null,"CHICKEN CHOP (MARINATED)",1,{"$f":"+S110*J110","v":0}]
[{"$f":"+A110+1","v":2},"ZE02 1012:RC CPY FSH",19.899999999999999,{"$f":"VLOOKUP(B111,Summary!$B$50:$AK$323,5,FALSE)","v":0},{"$f":"D111*C111","v":0},null,null,null,null,{"$f":"+D111+G111-H111","v":0},{"$f":"+J111*C111","v":0},null,5.08,{"$f":"+M111*J111","v":0},{"$f":"+M111","v":5.08},{"$f":"+O111*H111","v":0},null,"FISH & CHIP ",1,{"$f":"+S111*J111","v":0}]
[{"$f":"+A111+1","v":3},"ZE03 1013:SPRING CHK",19.899999999999999,{"$f":"VLOOKUP(B112,Summary!$B$50:$AK$323,5,FALSE)","v":0},{"$f":"D112*C112","v":0},null,null,null,null,0,0,null,4.2,0,4.2,0,null,"MCCAIN SPIRAL FRIES",0.1,0]
[4,"ZE04 1014:OCT SALAD",19.899999999999999,{"$f":"VLOOKUP(B113,Summary!$B$50:$AK$323,5,FALSE)","v":0},0,null,null,null,null,0,0,null,3.85,0,3.85,0]
[5,"ZE05 1015:X PLATTER",22.9,{"$f":"VLOOKUP(B114,Summary!$B$50:$AK$323,5,FALSE)","v":0},0,null,null,null,null,{"$f":"+D114+G114-H114","v":0},{"$f":"+J114*C114","v":0},null,5.47,{"$f":"+M114*J114","v":0},{"$f":"+M114","v":5.47},{"$f":"+O114*H114","v":0},null,"CHICKEN WINGS (NON-MARINATED)",2,{"$f":"+S114*J114","v":0}]
[]
[]
[1,"ZL02 1022:TPR FSH CH",19.899999999999999,{"$f":"VLOOKUP(B117,Summary!$B$50:$AK$323,5,FALSE)","v":1},{"$f":"D117*C117","v":19.899999999999999},null,null,null,null,{"$f":"+D117+G117-H117","v":1},{"$f":"+J117*C117","v":19.899999999999999},null,4.82,{"$f":"+M117*J117","v":4.82},{"$f":"+M117","v":4.82},{"$f":"+O117*H117","v":0},null,"TEMPURA FISH",1,{"$f":"+S117*J117","v":1}]
[2,"ZL05 1025:CNY PLATTER",22.9,{"$f":"VLOOKUP(B118,Summary!$B$50:$AK$323,5,FALSE)","v":11},251.89999999999998,null,null,null,null,11,251.89999999999998,null,7.85,{"$f":"+M118*J118","v":86.35},{"$f":"+M118","v":7.85},{"$f":"+O118*H118","v":0},null,"CKN.BOXING",4,44]
[null,null,null,null,null,null,null,null,null,null,null,null,null,null,null,null,null,"CHEESE SEAFOOD TOFU",4,{"$f":"+S119*J118","v":44}]
[]
["Total Sales / COST",null,null,{"$f":"SUM(D110:D120)","v":12},{"$f":"SUM(E110:E120)","v":271.79999999999995},null,{"$f":"SUM(G29:G114)","v":0},{"$f":"SUM(H110:H114)","v":0},{"$f":"SUM(I110:I114)","v":0},{"$f":"SUM(J110:J119)","v":12},{"$f":"SUM(K110:K118)","v":271.79999999999995},{"$f":"SUM(L110:L114)","v":0},null,{"$f":"SUM(N110:N118)","v":91.169999999999987},null,{"$f":"SUM(P110:P120)","v":0}]
[]
[null,null,null,{"$f":"SUM(D110:D113)","v":0}]

{"sheet":"K LUNCH & K DINNER","index":8,"n_rows":75,"n_cols":19,"rows_kept":75,"cut":false,"hidden":false,"merged":[[74,0,74,2],[74,13,74,15],[6,17,6,18],[6,12,6,13],[6,7,6,9],[6,0,6,4],[56,0,56,2],[59,12,59,13],[59,14,59,15],[59,7,59,9],[59,11,66,11],[58,3,58,4],[58,7,58,8],[59,3,59,4],[59,16,59,18]]}
["MONTHLY SALES FOOD RECORD ( K LUNCH & K DINNER)"]
[]
["Outlet :","SPT OUTLET "]
["Month :",{"$f":"+'SIDE ORDER & FOC'!B4","v":"JANUARY"}]
[]
[]
["K-LUNCH",null,null,null,null,null,"OLD CODE","REDEEM",null,null,null,null,"TOTAL COST",null,null,null,null,"USAGE"]
["NO","Item","Cost","Sales","TOTAL",null,"Sales","Item","Sales","TOTAL",null,null,"Sales","TOTAL",null,null,"MATERIAL ","RECIPE","TOTAL"]
[null,null,"RM","Q","RM",null,"Q",null,"Q","RM",null,null,"Q","RM",null,null,"Q","Q","Q"]
[null,"LOCAL",null,null,null,null,null,"LOCAL"]
[{"$f":"+A10+1","v":1},"LF01 91101:THAI CHK",{"$f":"SUMIF(DATABASE!$B$3:$B$50,B11,DATABASE!$C$3:$C$54)","v":3.29},{"$f":"VLOOKUP(B11,Summary!$B$30:$AK$323,5,FALSE)","v":46},{"$f":"D11*C11","v":151.34},null,null,"RL01 71101:THAI CHK",{"$f":"VLOOKUP(H11,Summary!$B$50:$AK$323,5,FALSE)","v":0},{"$f":"+I11*C11","v":0},null,null,{"$f":"+D11+I11+G11","v":46},{"$f":"M11*C11","v":151.34},null,null,"CHICKEN CHOP (MARINATED)",0.66,{"$f":"+R11*M11","v":30.360000000000003}]
[2,"LF02 91102:MAMITE CHK",{"$f":"SUMIF(DATABASE!$B$3:$B$50,B12,DATABASE!$C$3:$C$54)","v":3.02},{"$f":"VLOOKUP(B12,Summary!$B$30:$AK$323,5,FALSE)","v":43},129.86000000000001,null,null,"RL02 71102:MAMITE CHK",{"$f":"VLOOKUP(H12,Summary!$B$50:$AK$323,5,FALSE)","v":0},{"$f":"+I12*C12","v":0},null,null,{"$f":"+D12+I12+G12","v":43},129.86000000000001,null,null,"CHICKEN CHOP (MARINATED)",0.66,{"$f":"+R12*M12","v":28.380000000000003}]
[3,"LF03 91103:KO PO CHK",{"$f":"SUMIF(DATABASE!$B$3:$B$50,B13,DATABASE!$C$3:$C$54)","v":3.45},{"$f":"VLOOKUP(B13,Summary!$B$30:$AK$323,5,FALSE)","v":0},0,null,null,"RL03 71103:KO PO CHK",{"$f":"VLOOKUP(H13,Summary!$B$50:$AK$323,5,FALSE)","v":0},0,null,null,0,0,null,null,"CHICKEN CHOP (MARINATED)",0.66,0]
[4,"LF04 91104:S&S CHK",{"$f":"SUMIF(DATABASE!$B$3:$B$50,B14,DATABASE!$C$3:$C$54)","v":3.45},{"$f":"VLOOKUP(B14,Summary!$B$30:$AK$323,5,FALSE)","v":23},79.350000000000009,null,null,"RL04 71104:S&S CHK",{"$f":"VLOOKUP(H14,Summary!$B$50:$AK$323,5,FALSE)","v":0},0,null,null,23,79.350000000000009,null,null,"CHICKEN CHOP (MARINATED)",0.66,15.180000000000001]
[5,"LF05 91105:BUTTER CHK",{"$f":"SUMIF(DATABASE!$B$3:$B$50,B15,DATABASE!$C$3:$C$54)","v":3.32},{"$f":"VLOOKUP(B15,Summary!$B$30:$AK$323,5,FALSE)","v":66},219.11999999999998,null,null,"RL05 71105:BUTTER CHK",{"$f":"VLOOKUP(H15,Summary!$B$50:$AK$323,5,FALSE)","v":0},0,null,null,66,219.11999999999998,null,null,"CHICKEN CHOP (MARINATED)",0.66,43.56]
[6,"LF06 91106:HK F.RICE",{"$f":"SUMIF(DATABASE!$B$3:$B$50,B16,DATABASE!$C$3:$C$54)","v":3.16},{"$f":"VLOOKUP(B16,Summary!$B$30:$AK$323,5,FALSE)","v":41},129.56,null,null,"RL06 71106:HK F.RICE",{"$f":"VLOOKUP(H16,Summary!$B$50:$AK$323,5,FALSE)","v":0},0,null,null,41,129.56]
[7,"LF07 91107:SBL F.RICE",{"$f":"SUMIF(DATABASE!$B$3:$B$50,B17,DATABASE!$C$3:$C$54)","v":2.41},{"$f":"VLOOKUP(B17,Summary!$B$30:$AK$323,5,FALSE)","v":28},67.48,null,null,"RL07 71107:SBL F.RICE",{"$f":"VLOOKUP(H17,Summary!$B$50:$AK$323,5,FALSE)","v":0},0,null,null,28,67.48]
[8,"LF08 91108:SBL F.MEE",{"$f":"SUMIF(DATABASE!$B$3:$B$50,B18,DATABASE!$C$3:$C$54)","v":2.8},{"$f":"VLOOKUP(B18,Summary!$B$30:$AK$323,5,FALSE)","v":3},8.3999999999999986,null,null,"RL08 71108:SBL F.MEE",{"$f":"VLOOKUP(H18,Summary!$B$50:$AK$323,5,FALSE)","v":0},0,null,null,3,8.3999999999999986]
[9,"LF09 91109:BP UDON",{"$f":"SUMIF(DATABASE!$B$3:$B$50,B19,DATABASE!$C$3:$C$54)","v":2.08},{"$f":"VLOOKUP(B19,Summary!$B$30:$AK$323,5,FALSE)","v":15},31.200000000000003,null,null,"RL09 71109:BP UDON",{"$f":"VLOOKUP(H19,Summary!$B$50:$AK$323,5,FALSE)","v":0},0,null,null,15,31.200000000000003]
[10,"LF10 91110:NISSIN",{"$f":"SUMIF(DATABASE!$B$3:$B$50,B20,DATABASE!$C$3:$C$54)","v":2.3199999999999998},{"$f":"VLOOKUP(B20,Summary!$B$30:$AK$323,5,FALSE)","v":34},78.88,null,null,"RL10 71110:NISSIN",{"$f":"VLOOKUP(H20,Summary!$B$50:$AK$323,5,FALSE)","v":0},0,null,null,34,78.88,null,null,"CHICKEN SAUSAGE ",1.5,{"$f":"+R20*M20","v":51}]
[11,"LF11 91111:VEG RICE",{"$f":"SUMIF(DATABASE!$B$3:$B$50,B21,DATABASE!$C$3:$C$54)","v":1.6},{"$f":"VLOOKUP(B21,Summary!$B$30:$AK$323,5,FALSE)","v":15},24,null,null,"RL11 71111:VEG RICE",{"$f":"VLOOKUP(H21,Summary!$B$50:$AK$323,5,FALSE)","v":0},0,null,null,15,24]
[12,"LF13 91113:KUEY TEOW",{"$f":"SUMIF(DATABASE!$B$3:$B$50,B22,DATABASE!$C$3:$C$54)","v":3.16},{"$f":"VLOOKUP(B22,Summary!$B$30:$AK$323,5,FALSE)","v":0},0,null,null,"RL13 71113:KUEY TEOW",{"$f":"VLOOKUP(H22,Summary!$B$50:$AK$323,5,FALSE)","v":0},0,null,null,0,0]
[13,"LF14 91114:F.BALL MEE",{"$f":"SUMIF(DATABASE!$B$3:$B$50,B23,DATABASE!$C$3:$C$54)","v":2.59},{"$f":"VLOOKUP(B23,Summary!$B$30:$AK$323,5,FALSE)","v":0},0,null,null,"RL14 71114:F.BALL MEE",{"$f":"VLOOKUP(H23,Summary!$B$50:$AK$323,5,FALSE)","v":0},0,null,null,0,0,null,null,"FISH BALL (SMALL)",5,0]
[14,"LF15 91112:CHK NOODLE",{"$f":"SUMIF(DATABASE!$B$3:$B$50,B24,DATABASE!$C$3:$C$54)","v":4.71},{"$f":"VLOOKUP(B24,Summary!$B$30:$AK$323,5,FALSE)","v":17},{"$f":"D24*C24","v":80.069999999999993},null,null,"RL15 71112:CHK NOODLE",{"$f":"VLOOKUP(H24,Summary!$B$50:$AK$323,5,FALSE)","v":0},{"$f":"+I24*C24","v":0},null,null,{"$f":"+D24+I24+G24","v":17},{"$f":"M24*C24","v":80.069999999999993},null,null,"CHICKEN CHOP (MARINATED)",1,{"$f":"+R24*M24","v":17}]
[15,"LF16 91103:MGL CHK",{"$f":"SUMIF(DATABASE!$B$3:$B$50,B25,DATABASE!$C$3:$C$54)","v":4.75},{"$f":"VLOOKUP(B25,Summary!$B$30:$AK$323,5,FALSE)","v":33},null,null,null,"RL16 71103:MGL CHK",{"$f":"VLOOKUP(H25,Summary!$B$50:$AK$323,5,FALSE)","v":0},{"$f":"+I25*C25","v":0},null,null,{"$f":"+D25+I25+G25","v":33},{"$f":"M25*C25","v":156.75},null,null,"CHICKEN CHOP (MARINATED)",0.66,{"$f":"+R25*M25","v":21.78}]
[]
[null,"WESTERN"]
[1,"WF01 91001:BP CHK CP",{"$f":"SUMIF(DATABASE!$B$3:$B$50,B28,DATABASE!$C$3:$C$54)","v":4.41},{"$f":"VLOOKUP(B28,Summary!$B$50:$AK$323,5,FALSE)","v":204},{"$f":"D28*C28","v":899.64},null,null,"WT08 RD:BP CKN CP",{"$f":"VLOOKUP(H28,Summary!$B$50:$AK$323,5,FALSE)","v":7},{"$f":"+I28*C28","v":30.87},null,null,{"$f":"+D28+I28+G28","v":211},{"$f":"M28*C28","v":930.51},null,null,"CHICKEN CHOP (MARINATED)",1,{"$f":"+R28*M28","v":211}]
[{"$f":"+A28+1","v":2},"WF02 91002:GVY CHK CP",{"$f":"SUMIF(DATABASE!$B$3:$B$50,B29,DATABASE!$C$3:$C$54)","v":4.43},{"$f":"VLOOKUP(B29,Summary!$B$50:$AK$323,5,FALSE)","v":66},292.38,null,null,"WT09 RD:GVY CKN CP",{"$f":"VLOOKUP(H29,Summary!$B$50:$AK$323,5,FALSE)","v":1},4.43,null,null,67,296.81,null,null,"CHICKEN CHOP (MARINATED)",1,{"$f":"+R29*M29","v":67}]
[3,"WF03 91003:MR CHK CP",{"$f":"SUMIF(DATABASE!$B$3:$B$50,B30,DATABASE!$C$3:$C$54)","v":4.75},{"$f":"VLOOKUP(B30,Summary!$B$50:$AK$323,5,FALSE)","v":314},1491.5,null,null,"WT10 RD:MR CHN CP",{"$f":"VLOOKUP(H30,Summary!$B$50:$AK$323,5,FALSE)","v":9},42.75,null,null,323,1534.25,null,null,"CHICKEN CHOP (MARINATED)",1,323]
[4,"WF04 91004:CKN MARY",{"$f":"SUMIF(DATABASE!$B$3:$B$50,B31,DATABASE!$C$3:$C$54)","v":5.98},{"$f":"VLOOKUP(B31,Summary!$B$50:$AK$323,5,FALSE)","v":76},454.48,null,null,"RW04 71004:CKN MARY",{"$f":"VLOOKUP(H31,Summary!$B$50:$AK$323,5,FALSE)","v":0},{"$f":"+I31*C31","v":0},null,null,76,454.48,null,null,"CHICKEN CHOP (MARINATED)",1,76]
[5,"WF05 91005:FSH&CHIP",{"$f":"SUMIF(DATABASE!$B$3:$B$50,B32,DATABASE!$C$3:$C$54)","v":4.32},{"$f":"VLOOKUP(B32,Summary!$B$50:$AK$323,5,FALSE)","v":159},686.88,null,null,"RW05 71005:FSH&CHIP",{"$f":"VLOOKUP(H32,Summary!$B$50:$AK$323,5,FALSE)","v":0},0,null,null,159,686.88,null,null,"FISH & CHIP ",1,159]
[6,"WF06 91006:SPAGHETTI",{"$f":"SUMIF(DATABASE!$B$3:$B$50,B33,DATABASE!$C$3:$C$54)","v":2.1},{"$f":"VLOOKUP(B33,Summary!$B$50:$AK$323,5,FALSE)","v":89},186.9,null,null,"RW06 71006:SPAGHETTI",{"$f":"VLOOKUP(H33,Summary!$B$50:$AK$323,5,FALSE)","v":0},0,null,null,89,186.9]
[7,"WF07 91007:CHK SALAD",{"$f":"SUMIF(DATABASE!$B$3:$B$50,B34,DATABASE!$C$3:$C$54)","v":4.9400000000000004},{"$f":"VLOOKUP(B34,Summary!$B$50:$AK$323,5,FALSE)","v":41},202.54000000000002,null,null,"RW07 71007:CHK SALAD",{"$f":"VLOOKUP(H34,Summary!$B$50:$AK$323,5,FALSE)","v":0},0,null,null,41,202.54000000000002,null,null,"CHICKEN CHOP (MARINATED)",1,{"$f":"+R34*M34","v":41}]
[]
[null,"APPETIZER"]
[1,"AF01 91201:SFD STICK",{"$f":"SUMIF(DATABASE!$B$3:$B$50,B37,DATABASE!$C$3:$C$54)","v":2},{"$f":"VLOOKUP(B37,Summary!$B$50:$AK$323,5,FALSE)","v":4},{"$f":"D37*C37","v":8},null,null,null,null,null,null,null,{"$f":"+D37+I37+G37","v":4},{"$f":"M37*C37","v":8},null,null,"SOTONG BALL",2,{"$f":"+R37*M37","v":8}]
[null,null,null,null,null,null,null,null,null,null,null,null,null,null,null,null,"SALMON BALL",2,{"$f":"+R38*$M$37","v":8}]
[null,null,null,null,null,null,null,null,null,null,null,null,null,null,null,null,"SEAFOOD TOFU",2,{"$f":"+R39*$M$37","v":8}]
[{"$f":"+A37+1","v":2},"AF02 91202:FREN FRIES",{"$f":"SUMIF(DATABASE!$B$3:$B$50,B40,DATABASE!$C$3:$C$54)","v":1.76},{"$f":"VLOOKUP(B40,Summary!$B$50:$AK$323,5,FALSE)","v":16},{"$f":"D40*C40","v":28.16},null,null,"RS02 71202:FREN FRIES",{"$f":"VLOOKUP(H40,Summary!$B$50:$AK$323,5,FALSE)","v":0},{"$f":"+I40*C40","v":0},null,null,{"$f":"+D40+I40+G40","v":16},{"$f":"M40*C40","v":28.16}]
[{"$f":"+A40+1","v":3},"AF03 91203:GOLD MR",{"$f":"SUMIF(DATABASE!$B$3:$B$50,B41,DATABASE!$C$3:$C$54)","v":2.15},{"$f":"VLOOKUP(B41,Summary!$B$50:$AK$323,5,FALSE)","v":3},6.4499999999999993,null,null,"RS03 71203:GOLD MR",{"$f":"VLOOKUP(H41,Summary!$B$50:$AK$323,5,FALSE)","v":0},0,null,null,3,6.4499999999999993]
[4,"AF04 91204:FSH BALL",{"$f":"SUMIF(DATABASE!$B$3:$B$50,B42,DATABASE!$C$3:$C$54)","v":1.56},{"$f":"VLOOKUP(B42,Summary!$B$50:$AK$323,5,FALSE)","v":3},4.68,null,null,"RS04 71204:FSH BALL",{"$f":"VLOOKUP(H42,Summary!$B$50:$AK$323,5,FALSE)","v":0},0,null,null,3,4.68,null,null,"FISH BALL (BIG)",6,{"$f":"+R42*M42","v":18}]
[5,"AF05 91205:RAINBOW RL",{"$f":"SUMIF(DATABASE!$B$3:$B$50,B43,DATABASE!$C$3:$C$54)","v":2.5},{"$f":"VLOOKUP(B43,Summary!$B$50:$AK$323,5,FALSE)","v":0},0,null,null,"RS05 71205:RAINBOW RL",{"$f":"VLOOKUP(H43,Summary!$B$50:$AK$323,5,FALSE)","v":0},0,null,null,0,0,null,null,"RAINBOW ROLL",1,{"$f":"+R43*M43","v":0}]
[6,"AF06 91206:SPRING RL",{"$f":"SUMIF(DATABASE!$B$3:$B$50,B44,DATABASE!$C$3:$C$54)","v":2.67},{"$f":"VLOOKUP(B44,Summary!$B$50:$AK$323,5,FALSE)","v":6},16.02,null,null,"RS06 71206:SPRING RL",{"$f":"VLOOKUP(H44,Summary!$B$50:$AK$323,5,FALSE)","v":0},0,null,null,6,16.02,null,null,"SPRING ROLL",8,{"$f":"+R44*M44","v":48}]
[7,"AF07 91207:SAUSG",{"$f":"SUMIF(DATABASE!$B$3:$B$50,B45,DATABASE!$C$3:$C$54)","v":1.24},{"$f":"VLOOKUP(B45,Summary!$B$50:$AK$323,5,FALSE)","v":6},7.4399999999999995,null,null,"RS07 71207:SAUSG",{"$f":"VLOOKUP(H45,Summary!$B$50:$AK$323,5,FALSE)","v":0},0,null,null,6,7.4399999999999995,null,null,"CHICKEN SAUSAGE ",4,0]
[8,"AF31 91301:DUMPLING",{"$f":"SUMIF(DATABASE!$B$3:$B$50,B46,DATABASE!$C$3:$C$54)","v":4.5},{"$f":"VLOOKUP(B46,Summary!$B$50:$AK$323,5,FALSE)","v":0},0,null,null,"RS31 71301:DUMPLING",{"$f":"VLOOKUP(H46,Summary!$B$50:$AK$323,5,FALSE)","v":0},0,null,null,0,0,null,null,"DUMPLING",6,0]
[9,"AF32 91302:NUGGET",{"$f":"SUMIF(DATABASE!$B$3:$B$50,B47,DATABASE!$C$3:$C$54)","v":2.4300000000000002},{"$f":"VLOOKUP(B47,Summary!$B$50:$AK$323,5,FALSE)","v":20},48.6,null,null,"RS32 71302:NUGGET",{"$f":"VLOOKUP(H47,Summary!$B$50:$AK$323,5,FALSE)","v":0},0,null,null,20,48.6,null,null,"CHICKEN NUGGET",8,160]
[10,"AF33 91303:CHK WING",{"$f":"SUMIF(DATABASE!$B$3:$B$50,B48,DATABASE!$C$3:$C$54)","v":3.97},{"$f":"VLOOKUP(B48,Summary!$B$50:$AK$323,5,FALSE)","v":19},75.430000000000007,null,null,"RS33 71303:CHK WING",{"$f":"VLOOKUP(H48,Summary!$B$50:$AK$323,5,FALSE)","v":0},0,null,null,19,75.430000000000007,null,null,"CHICKEN WINGS (MARINATED)",3,{"$f":"+R48*M48","v":57}]
[11,"AF34 91304:IKAN BILIS",{"$f":"SUMIF(DATABASE!$B$3:$B$50,B49,DATABASE!$C$3:$C$54)","v":2.1800000000000002},{"$f":"VLOOKUP(B49,Summary!$B$50:$AK$323,5,FALSE)","v":1},2.1800000000000002,null,null,"RS34 71304:IKAN BILIS",{"$f":"VLOOKUP(H49,Summary!$B$50:$AK$323,5,FALSE)","v":0},0,null,null,1,2.1800000000000002]
[12,"AF35 91305:THAI RL",{"$f":"SUMIF(DATABASE!$B$3:$B$50,B50,DATABASE!$C$3:$C$54)","v":3.61},{"$f":"VLOOKUP(B50,Summary!$B$50:$AK$323,5,FALSE)","v":1},3.61,null,null,"RS35 71305:THAI RL",{"$f":"VLOOKUP(H50,Summary!$B$50:$AK$323,5,FALSE)","v":0},0,null,null,1,3.61,null,null,"THAI ROLL ",7,7]
[13,"AF36 91306:DF WING",4.3099999999999996,{"$f":"VLOOKUP(B51,Summary!$B$50:$AK$323,5,FALSE)","v":7},30.169999999999998,null,null,"RS36 71306:DF WING",{"$f":"VLOOKUP(H51,Summary!$B$50:$AK$323,5,FALSE)","v":0},0,null,null,7,30.169999999999998,null,null,"CHICKEN WINGS (MARINATED)",3,{"$f":"+R51*M51","v":21}]
[14,"AF37 91307:CALAMARI",3.69,{"$f":"VLOOKUP(B52,Summary!$B$50:$AK$323,5,FALSE)","v":6},22.14,null,null,"RS37 71307:CALAMARI",{"$f":"VLOOKUP(H52,Summary!$B$50:$AK$323,5,FALSE)","v":0},0,null,null,6,22.14,null,null,"CALAMARI RING",7,42]
[15,"AF38 91308:MC RING",1.72,{"$f":"VLOOKUP(B53,Summary!$B$50:$AK$323,5,FALSE)","v":6},null,null,null,"RS38 71308:MC RING",{"$f":"VLOOKUP(H53,Summary!$B$50:$AK$323,5,FALSE)","v":0},0,null,null,6,10.32,null,null,"MCCAIN ONION RING",8,{"$f":"+R53*M53","v":48}]
[16,"AF39 91309:MC S.FRIES",1.72,{"$f":"VLOOKUP(B54,Summary!$B$50:$AK$323,5,FALSE)","v":9},null,null,null,"RS39 71309:MC S.FRIES",{"$f":"VLOOKUP(H54,Summary!$B$50:$AK$323,5,FALSE)","v":0},0,null,null,9,15.48,null,null,"MCCAIN SPIRAL FRIES",0.22,{"$f":"+R54*M54","v":1.98}]
[17,"AF40 91310:MC HP SMIL",1.34,{"$f":"VLOOKUP(B55,Summary!$B$50:$AK$323,5,FALSE)","v":3},null,null,null,"RS41 71311:MC HSH BRW",{"$f":"VLOOKUP(H55,Summary!$B$50:$AK$323,5,FALSE)","v":0},{"$f":"+I55*C55","v":0},null,null,{"$f":"+D55+I55+G55","v":3},{"$f":"M55*C55","v":4.0200000000000005},null,null,"MCCAIN SMILES",8,{"$f":"+R55*M55","v":24}]
[18,"AF41 91311:MC HSH BRW",0.59,{"$f":"VLOOKUP(B56,Summary!$B$50:$AK$323,5,FALSE)","v":11},null,null,null,"RS40 71310:MC HP SMIL",{"$f":"VLOOKUP(H56,Summary!$B$50:$AK$323,5,FALSE)","v":0},0,null,null,11,6.4899999999999993,null,null,"MCCAIN VERSITOT",15,165]
["Total Sales / COST",null,null,{"$f":"SUM(D11:D56)","v":1434},{"$f":"SUM(E10:E56)","v":5466.4600000000009},null,null,null,{"$f":"SUM(I11:I56)","v":17},{"$f":"SUM(J11:J56)","v":78.05},null,null,{"$f":"SUM(M11:M56)","v":1451},{"$f":"SUM(N11:N56)","v":5737.57}]
[]
[null,null,null,"(A)",null,null,"(B)"]
[null,null,null,"XMAS & NY MEAL",null,null,"OLD CODE","REDEEM",null,null,null,null,"TOTAL COST",null,null,null,"USAGE （COMBINED OLD & NEW USAGE)"]
["NO","Item","Cost","Sales","TOTAL",null,"Sales","Item","Sales","TOTAL",null,null,"Sales","TOTAL",null,null,"MATERIAL ","RECIPE","TOTAL"]
[null,null,"RM","Q","RM",null,"Q",null,"Q","RM",null,null,"Q","RM",null,null,"Q","Q","Q"]
[]
[1,"ZE11 91011:PC CKN CP",5.18,{"$f":"VLOOKUP(B64,Summary!$B$50:$AK$323,5,FALSE)","v":3},{"$f":"D64*C64","v":15.54},null,null,null,null,null,null,null,{"$f":"+D64+I64+G64","v":3},{"$f":"M64*C64","v":15.54},null,null,"CHICKEN CHOP (MARINATED)",1,{"$f":"+R64*M64","v":3}]
[{"$f":"+A64+1","v":2},"ZE12 91012:RC CPY FSH",5.08,{"$f":"VLOOKUP(B65,Summary!$B$50:$AK$323,5,FALSE)","v":0},{"$f":"D65*C65","v":0},null,null,null,null,null,null,null,0,0,null,null,"FISH & CHIP ",1,{"$f":"+R65*M65","v":0}]
[{"$f":"+A65+1","v":3},"ZE13 91013:SPRING CHK",4.2,{"$f":"VLOOKUP(B66,Summary!$B$50:$AK$323,5,FALSE)","v":0},{"$f":"D66*C66","v":0},null,null,null,null,null,null,null,0,0,null,null,"MCCAIN SPIRAL FRIES",0.1,0]
[4,"ZE14 91014:OCT SALAD",3.85,{"$f":"VLOOKUP(B67,Summary!$B$50:$AK$323,5,FALSE)","v":1},3.85,null,null,null,null,null,null,null,1,3.85]
[]
[]
[1,"ZL11 91021:PA CKN CP",4.82,{"$f":"VLOOKUP(B70,Summary!$B$50:$AK$323,5,FALSE)","v":8},null,null,null,null,null,null,null,null,{"$f":"+D70+I70+G70","v":8},{"$f":"M70*C70","v":38.56},null,null,"CHICKEN CHOP (MARINATED)",1,{"$f":"+R70*M70","v":8}]
[2,"ZL12 91022:TPR FSH CH",4.38,{"$f":"VLOOKUP(B71,Summary!$B$50:$AK$323,5,FALSE)","v":5},null,null,null,null,null,null,null,null,5,21.9,null,null,"TEMPURA FISH",1,5]
[3,"ZL13 91023:LMN FSH FL",4.4400000000000004,{"$f":"VLOOKUP(B72,Summary!$B$50:$AK$323,5,FALSE)","v":6},null,null,null,null,null,null,null,null,6,26.64,null,null,"LEMON FISH FILLET",1,6]
[4,"ZL14 91024:SF RICE",3.9,{"$f":"VLOOKUP(B73,Summary!$B$50:$AK$323,5,FALSE)","v":9},null,null,null,null,null,null,null,null,9,35.1]
[]
["Total Sales / COST",null,null,{"$f":"SUM(D64:D74)","v":32},{"$f":"SUM(E21:E67)","v":10057.120000000004},null,null,null,null,null,null,null,{"$f":"SUM(M64:M74)","v":32},{"$f":"SUM(N63:N74)","v":141.59}]

{"sheet":"LOK LOK","index":9,"n_rows":69,"n_cols":24,"rows_kept":69,"cut":false,"hidden":false,"merged":[[7,17,7,18],[7,20,7,22],[64,1,64,3],[0,1,0,16],[6,4,6,5],[6,10,6,11],[6,12,6,13],[7,4,7,5],[7,7,7,9],[7,10,7,11],[7,12,7,13],[7,15,7,16]]}
[null,"MONTHLY SALES FOOD RECORD ( LOK LOK BAR COUNTER )"]
[]
[null,{"$f":"+'[4]K-LUNCH & K DINNER'!A3","v":"Outlet :"},{"$f":"+'SIDE ORDER & FOC'!B3","v":"SPT OUTLET "}]
[null,{"$f":"+'[4]K-LUNCH & K DINNER'!A4","v":"Month :"}]
[]
[null,"CCS LOK LOK BAR SALES"]
[null,null,null,null,"(A)",null,null,"(B)",null,null,"( B )",null,"(A) -(C )"]
[null,null,null,null,"SIDE ORDER                 (INCLUDING FOC)",null,null,"PACKAGE",null,null,"FOC",null,"SIDE ORDER                        (NETT SALES)",null,null,"SIDE ORDER                        (NETT COST)",null,"FOC (COST)",null,null,"USAGE"]
[null,"NO","MENU ITEM","S/P","Sales","TOTAL",null,"S/P","Sales","TOTAL","Sales","TOTAL","Sales","TOTAL",null,"COST","TOTAL","COST","TOTAL",null,"MATERIAL ","RECIPE","TOTAL"]
[null,null,null,"RM","Q","RM",null,"RM","Q","RM","Q","RM","Q","RM",null,"RM","RM","RM","RM",null,"Q","Q","Q"]
[null,null,"LOK LOK "]
[null,null,"MEAT"]
["Cocktail Chicken Sausage",1,"PA01 80001:COC SAUSG",1.5,{"$f":"SUMIF(Summary!B193:B306,'LOK LOK'!C13,Summary!F193:F306)","v":16},{"$f":"E13*D13","v":24},null,null,null,null,null,{"$f":"K13*D13","v":0},{"$f":"+E13+H13-K13","v":16},{"$f":"+M13*D13","v":24},null,{"$f":"SUMIF(DATABASE!$N$3:$N$51,'LOK LOK'!C13,DATABASE!$O$3:$O$51)","v":0.39},{"$f":"+P13*M13","v":6.24},{"$f":"+P13","v":0.39},{"$f":"+R13*K13","v":0},null,"CHICKEN SAUSAGE",3,{"$f":"(+E13+H13)*V13","v":48},"COCKTAIL CHICKEN SAUSAGE 迷你鸡尾肠"]
["Beef Ball",{"$f":"+B13+1","v":2},"PA02 80002:BEEF BAL",2,{"$f":"SUMIF(Summary!B194:B307,'LOK LOK'!C14,Summary!F194:F307)","v":36},{"$f":"E14*D14","v":72},null,null,null,null,null,0,36,72,null,{"$f":"SUMIF(DATABASE!$N$3:$N$51,'LOK LOK'!C14,DATABASE!$O$3:$O$51)","v":0.65},{"$f":"+P14*M14","v":23.400000000000002},{"$f":"+P14","v":0.65},0,null,"BEEF BALL",3,108,"BEEF BALL 牛肉丸"]
["Chicken Kidney",{"$f":"+B14+1","v":3},"PA03 80003:CHK KIDNEY",2.5,{"$f":"SUMIF(Summary!B195:B308,'LOK LOK'!C15,Summary!F195:F308)","v":26},65,null,null,null,null,null,0,26,65,null,{"$f":"SUMIF(DATABASE!$N$3:$N$51,'LOK LOK'!C15,DATABASE!$O$3:$O$51)","v":1},26,1,0,null,"CHICKEN KIDNEY",3,78,"CHICKEN KIDNEY 烧鸡肾"]
["Chicken Liver",4,"PA04 80004:CHK LIVER",2.5,{"$f":"SUMIF(Summary!B196:B309,'LOK LOK'!C16,Summary!F196:F309)","v":9},22.5,null,null,null,null,null,0,9,22.5,null,{"$f":"SUMIF(DATABASE!$N$3:$N$51,'LOK LOK'!C16,DATABASE!$O$3:$O$51)","v":1},9,1,0,null,"CHICKEN LIVER",3,27,"CHICKEN LIVER 烧鸡肝"]
["Cheese Chicken Sausage",5,"PA05 80005:CHEE SAUSG",2.5,{"$f":"SUMIF(Summary!B197:B310,'LOK LOK'!C17,Summary!F197:F310)","v":59},147.5,null,null,null,null,null,0,59,147.5,null,{"$f":"SUMIF(DATABASE!$N$3:$N$51,'LOK LOK'!C17,DATABASE!$O$3:$O$51)","v":0.8},47.2,0.8,0,null,"CHESS C.SAUSAGE",1,59,"CHEESE CHICKEN SAUSAGE 芝士鸡香肠"]
["Black Pepper Chicken Sausage",6,"PA06 80006:BP SAUSG",2.5,{"$f":"SUMIF(Summary!B198:B311,'LOK LOK'!C18,Summary!F198:F311)","v":36},90,null,null,null,null,null,0,36,90,null,{"$f":"SUMIF(DATABASE!$N$3:$N$51,'LOK LOK'!C18,DATABASE!$O$3:$O$51)","v":0.8},28.8,0.8,0,null,"BLACK PEPPER SAUGE",1,36,"BLACK PEPPER CHICKEN SAUSAGE 黑胡椒鸡香肠"]
["Pandan Chicken",7,"PA07 80007:PANDAN CHK",4,{"$f":"SUMIF(Summary!B199:B312,'LOK LOK'!C19,Summary!F199:F312)","v":25},100,null,null,null,null,null,0,25,100,null,{"$f":"SUMIF(DATABASE!$N$3:$N$51,'LOK LOK'!C19,DATABASE!$O$3:$O$51)","v":1.64},41,1.64,0,null,"PANDAN CHICKEN",2,50,"PANDAN CHICKEN 香茅鸡块"]
["Smoked Duck Breast",8,"PA08 80008:DCK BREAST",4,{"$f":"SUMIF(Summary!B200:B313,'LOK LOK'!C20,Summary!F200:F313)","v":11},44,null,null,null,null,null,0,11,44,null,{"$f":"SUMIF(DATABASE!$N$3:$N$51,'LOK LOK'!C20,DATABASE!$O$3:$O$51)","v":2.13},23.43,2.13,0,null,"DUCK BREAST",2,22,"SMOKED DUCK BREAST 烟熏鸭胸肉"]
["Grilled Boneless Chicken Wing",9,"PA09 80009:CHK WING",4,{"$f":"SUMIF(Summary!B201:B314,'LOK LOK'!C21,Summary!F201:F314)","v":55},220,null,null,null,null,null,0,55,220,null,{"$f":"SUMIF(DATABASE!$N$3:$N$51,'LOK LOK'!C21,DATABASE!$O$3:$O$51)","v":2.8},154,2.8,0,null,"BONELESS CKN.WING",1,55,"GRILLED BONELESS CHICKEN WING 去骨烧鸡翼"]
[]
[null,null,"SEAFOOD"]
["Mini Fried Fish Cake",1,"PC01 80016:FSH MI CAK",1.5,{"$f":"SUMIF(Summary!B204:B317,'LOK LOK'!C24,Summary!F204:F317)","v":13},19.5,null,null,null,null,null,0,13,19.5,null,{"$f":"SUMIF(DATABASE!$N$3:$N$51,'LOK LOK'!C24,DATABASE!$O$3:$O$51)","v":0.6},7.8,0.6,0,null,null,null,null,"MINI FRIED FISH CAKE 迷你手指鱼饼"]
["Spicy Fish Cake",2,"PC02 80017:SP FSH CAK",1.5,{"$f":"SUMIF(Summary!B205:B318,'LOK LOK'!C25,Summary!F205:F318)","v":5},7.5,null,null,null,null,null,0,5,7.5,null,{"$f":"SUMIF(DATABASE!$N$3:$N$51,'LOK LOK'!C25,DATABASE!$O$3:$O$51)","v":0.48},2.4,0.48,0,null,null,null,null,"SPICY FISH CAKE 香辣鱼饼"]
["Clam",3,"PC03 80018:CLAM",1.5,{"$f":"SUMIF(Summary!B206:B319,'LOK LOK'!C26,Summary!F206:F319)","v":19},28.5,null,null,null,null,null,0,19,28.5,null,{"$f":"SUMIF(DATABASE!$N$3:$N$51,'LOK LOK'!C26,DATABASE!$O$3:$O$51)","v":1.5},28.5,1.5,0,null,null,null,null,"CLAM 蛤"]
["Wu Xiang Fish Ball",4,"PC04 80019:FV FSH BAL",2,{"$f":"SUMIF(Summary!B207:B320,'LOK LOK'!C27,Summary!F207:F320)","v":14},28,null,null,null,null,null,0,14,28,null,{"$f":"SUMIF(DATABASE!$N$3:$N$51,'LOK LOK'!C27,DATABASE!$O$3:$O$51)","v":0.75},10.5,0.75,0,null,null,null,null,"WU XIANG FISH BALL 五香鱼丸"]
["Fish Ball (Small)",5,"PC05 80020:FSH BAL S",2,{"$f":"SUMIF(Summary!B208:B321,'LOK LOK'!C28,Summary!F208:F321)","v":25},{"$f":"E28*D28","v":50},null,null,null,null,null,0,25,50,null,{"$f":"SUMIF(DATABASE!$N$3:$N$51,'LOK LOK'!C28,DATABASE!$O$3:$O$51)","v":0.65},16.25,0.65,0,null,"FISH BALL (SMALL)",5,{"$f":"(+E28+H28)*V28","v":125},"FISH BALL (SMALL) 鱼丸 （小）"]
["Prawn Ball",6,"PC06 80021:PRW BAL",2,{"$f":"SUMIF(Summary!B209:B322,'LOK LOK'!C29,Summary!F209:F322)","v":7},14,null,null,null,null,null,0,7,14,null,{"$f":"SUMIF(DATABASE!$N$3:$N$51,'LOK LOK'!C29,DATABASE!$O$3:$O$51)","v":0.39},2.73,0.39,0,null,"PRAWN BALL",3,21,"PRAWN BALL 虾丸"]
["Abalone Slices",7,"PC07 80022:ABALO SLC",2,{"$f":"SUMIF(Summary!B210:B323,'LOK LOK'!C30,Summary!F210:F323)","v":9},18,null,null,null,null,null,0,9,18,null,{"$f":"SUMIF(DATABASE!$N$3:$N$51,'LOK LOK'!C30,DATABASE!$O$3:$O$51)","v":0.72},6.4799999999999995,0.72,0,null,"ABALONE SLICES",3,27,"ABALONE SLICES 鲍鱼片"]
["Fish Ball (Big)",8,"PC08 80023:FSH BAL B",2.5,{"$f":"SUMIF(Summary!B211:B324,'LOK LOK'!C31,Summary!F211:F324)","v":16},40,null,null,null,null,null,0,16,40,null,{"$f":"SUMIF(DATABASE!$N$3:$N$51,'LOK LOK'!C31,DATABASE!$O$3:$O$51)","v":1},16,1,0,null,"FISH BALL (BIG)",3,48,"FISH BALL (BIG) 鱼丸 （大） "]
["Tempura Prawn",9,"PC09 80024:TPURA PRW",2.5,{"$f":"SUMIF(Summary!B212:B325,'LOK LOK'!C32,Summary!F212:F325)","v":20},50,null,null,null,null,null,0,20,50,null,{"$f":"SUMIF(DATABASE!$N$3:$N$51,'LOK LOK'!C32,DATABASE!$O$3:$O$51)","v":0.9},18,0.9,0,null,"TEMPURA PRAWN",1,20,"TEMPURA PRAWN 天妇罗虾"]
["Breaded Crab Claw",10,"PC10 80025:CRB CLAW",2.5,{"$f":"SUMIF(Summary!B213:B326,'LOK LOK'!C33,Summary!F213:F326)","v":5},12.5,null,null,null,null,null,0,5,12.5,null,{"$f":"SUMIF(DATABASE!$N$3:$N$51,'LOK LOK'!C33,DATABASE!$O$3:$O$51)","v":0.9},4.5,0.9,0,null,null,null,null,"BREADED CRAB CLAW 蟹钳"]
["Taiwan Cuttlefish Ball",{"$f":"+B37+1","v":14},"PC14 80029:CFSH BAL",3,{"$f":"SUMIF(Summary!B217:B330,'LOK LOK'!C34,Summary!F217:F330)","v":17},{"$f":"E34*D34","v":51},null,null,null,null,null,{"$f":"K34*D34","v":0},{"$f":"+E34+H34-K34","v":17},{"$f":"+M34*D34","v":51},null,{"$f":"SUMIF(DATABASE!$N$3:$N$51,'LOK LOK'!C34,DATABASE!$O$3:$O$51)","v":1.29},{"$f":"+P34*M34","v":21.93},{"$f":"+P34","v":1.29},{"$f":"+R34*K34","v":0},null,"TAIWAN C.F. BALL",3,{"$f":"(+E34+H34)*V34","v":51},"TAIWAN CUTTLEFISH BALL 台湾花枝丸"]
["Salmon Ball",{"$f":"+B33+1","v":11},"PC11 80026:SALMON BAL",2.5,{"$f":"SUMIF(Summary!B214:B327,'LOK LOK'!C35,Summary!F214:F327)","v":27},67.5,null,null,null,null,null,0,27,67.5,null,{"$f":"SUMIF(DATABASE!$N$3:$N$51,'LOK LOK'!C35,DATABASE!$O$3:$O$51)","v":0.73},19.71,0.73,0,null,"SALMON BALL",3,{"$f":"(+E35+H35)*V35","v":81},"MUSHROOM SEAFOOD BALL 香菇海鲜丸"]
["Fuzhou Fish Ball",12,"PC12 80027:FZ FSH BAL",3,{"$f":"SUMIF(Summary!B215:B328,'LOK LOK'!C36,Summary!F215:F328)","v":9},27,null,null,null,null,null,0,9,27,null,{"$f":"SUMIF(DATABASE!$N$3:$N$51,'LOK LOK'!C36,DATABASE!$O$3:$O$51)","v":0.67},6.03,0.67,0,null,null,null,null,"SALMON BALL 三文鱼丸"]
["Scallop Ball",13,"PC13 80028:SCLOP BAL",3,{"$f":"SUMIF(Summary!B216:B329,'LOK LOK'!C37,Summary!F216:F329)","v":11},33,null,null,null,null,null,0,11,33,null,{"$f":"SUMIF(DATABASE!$N$3:$N$51,'LOK LOK'!C37,DATABASE!$O$3:$O$51)","v":0.9},9.9,0.9,0,null,"SCALLOP BALL",3,{"$f":"(+E37+H37)*V37","v":33},"FUZHOU FISH BALL 福州鱼丸"]
["Mushroom Seafood Ball",{"$f":"+B34+1","v":15},"PC15 80030:SF BAL",3,{"$f":"SUMIF(Summary!B218:B331,'LOK LOK'!C38,Summary!F218:F331)","v":5},15,null,null,null,null,null,0,5,15,null,{"$f":"SUMIF(DATABASE!$N$3:$N$51,'LOK LOK'!C38,DATABASE!$O$3:$O$51)","v":1.02},5.0999999999999996,1.02,0,null,null,null,null,"SCALLOP BALL 干贝丸"]
["Cuttlefish",16,"PC16 80031:CTL FSH",3,{"$f":"SUMIF(Summary!B219:B332,'LOK LOK'!C39,Summary!F219:F332)","v":7},21,null,null,null,null,null,0,7,21,null,{"$f":"SUMIF(DATABASE!$N$3:$N$51,'LOK LOK'!C39,DATABASE!$O$3:$O$51)","v":1.06},7.42,1.06,0,null,null,null,null,"CUTTLEFISH ROLL 鱿鱼卷"]
[]
[null,null,"VEGE"]
["Bottom Mushroom",1,"PB01 80010:BOTTON MR",1.5,{"$f":"SUMIF(Summary!B222:B335,'LOK LOK'!C42,Summary!F222:F335)","v":20},30,null,null,null,null,null,0,20,30,null,{"$f":"SUMIF(DATABASE!$N$3:$N$51,'LOK LOK'!C42,DATABASE!$O$3:$O$51)","v":0.6},12,0.6,0,null,null,null,null,"BOTTOM MUSHROOM 蘑菇"]
["Kang Kong",2,"PB02 80011:KANG KONG",1.5,{"$f":"SUMIF(Summary!B223:B336,'LOK LOK'!C43,Summary!F223:F336)","v":22},33,null,null,null,null,null,0,22,33,null,{"$f":"SUMIF(DATABASE!$N$3:$N$51,'LOK LOK'!C43,DATABASE!$O$3:$O$51)","v":0.4},8.8000000000000007,0.4,0,null,null,null,null,"KANG KONG 空心菜"]
["Broccoli",3,"PB03 80012:BROCCOLI",1.5,{"$f":"SUMIF(Summary!B224:B337,'LOK LOK'!C44,Summary!F224:F337)","v":37},55.5,null,null,null,null,null,0,37,55.5,null,{"$f":"SUMIF(DATABASE!$N$3:$N$51,'LOK LOK'!C44,DATABASE!$O$3:$O$51)","v":0.5},18.5,0.5,0,null,null,null,null,"BROCCOLI 西兰花"]
["Long Bean",4,"PB04 80013:LONG BEAN",1.5,{"$f":"SUMIF(Summary!B225:B338,'LOK LOK'!C45,Summary!F225:F338)","v":9},13.5,null,null,null,null,null,0,9,13.5,null,{"$f":"SUMIF(DATABASE!$N$3:$N$51,'LOK LOK'!C45,DATABASE!$O$3:$O$51)","v":0.3},2.6999999999999997,0.3,0,null,null,null,null,"LONG BEAN 长豆"]
["Fried Abalone Mushroom",{"$f":"+B45+1","v":5},"PB05 80014:ABALO MR",2,{"$f":"SUMIF(Summary!B226:B339,'LOK LOK'!C46,Summary!F226:F339)","v":55},110,null,null,null,null,null,0,55,110,null,{"$f":"SUMIF(DATABASE!$N$3:$N$51,'LOK LOK'!C46,DATABASE!$O$3:$O$51)","v":0.4},22,0.4,0,null,null,null,null,"FRIED ABALONE MUSHROOM 炸鲍鱼菇"]
["Shiitake Mushroom",6,"PB06 80015:STAKE MR",2,{"$f":"SUMIF(Summary!B227:B340,'LOK LOK'!C47,Summary!F227:F340)","v":18},36,null,null,null,null,null,0,18,36,null,{"$f":"SUMIF(DATABASE!$N$3:$N$51,'LOK LOK'!C47,DATABASE!$O$3:$O$51)","v":0.7},12.6,0.7,0,null,null,null,null,"SHIITAKE MUSHROOM 冬菇"]
[]
[null,null,"OTHERS"]
["Minced Fish Eggplant",1,"PD01 80032:FSHP EGGPL",1.5,{"$f":"SUMIF(Summary!B230:B343,'LOK LOK'!C50,Summary!F230:F343)","v":11},16.5,null,null,null,null,null,0,11,16.5,null,{"$f":"SUMIF(DATABASE!$N$3:$N$51,'LOK LOK'!C50,DATABASE!$O$3:$O$51)","v":0.52},5.7200000000000006,0.52,0,null,null,null,null,"MINCED FISH EGGPLANT 酿矮瓜"]
["Minced Fish Chili",2,"PD02 80033:FSHP CL",1.5,{"$f":"SUMIF(Summary!B231:B344,'LOK LOK'!C51,Summary!F231:F344)","v":5},7.5,null,null,null,null,null,0,5,7.5,null,{"$f":"SUMIF(DATABASE!$N$3:$N$51,'LOK LOK'!C51,DATABASE!$O$3:$O$51)","v":0.52},2.6,0.52,0,null,null,null,null,"MINCED FISH CHILI 酿辣椒"]
["Minced Fish Lady's Finger",3,"PD03 80034:FSHP LF",1.5,{"$f":"SUMIF(Summary!B232:B345,'LOK LOK'!C52,Summary!F232:F345)","v":14},21,null,null,null,null,null,0,14,21,null,{"$f":"SUMIF(DATABASE!$N$3:$N$51,'LOK LOK'!C52,DATABASE!$O$3:$O$51)","v":0.52},7.28,0.52,0,null,null,null,null,"MINCED FISH LADY'S FINGER 酿羊角豆"]
["Crispy Mini Beancurd",4,"PD04 80035:CRS BCURD",1.5,{"$f":"SUMIF(Summary!B233:B346,'LOK LOK'!C53,Summary!F233:F346)","v":36},54,null,null,null,null,null,0,36,54,null,{"$f":"SUMIF(DATABASE!$N$3:$N$51,'LOK LOK'!C53,DATABASE!$O$3:$O$51)","v":0.33},11.88,0.33,0,null,null,null,null,"CRISPY MINI BEANCURD 炸腐皮"]
["Quail Eggs",5,"PD05 80036:QUAIL EGGS",1.5,{"$f":"SUMIF(Summary!B234:B347,'LOK LOK'!C54,Summary!F234:F347)","v":32},48,null,null,null,null,null,0,32,48,null,{"$f":"SUMIF(DATABASE!$N$3:$N$51,'LOK LOK'!C54,DATABASE!$O$3:$O$51)","v":0.56000000000000005},17.920000000000002,0.56000000000000005,0,null,"QUAIL EGGS",4,{"$f":"(+E54+H54)*V54","v":128},"QUAIL EGGS 鹌鹑蛋"]
["Fried Wanton",6,"PD06 80037:F WANTON",2,{"$f":"SUMIF(Summary!B235:B348,'LOK LOK'!C55,Summary!F235:F348)","v":26},52,null,null,null,null,null,0,26,52,null,{"$f":"SUMIF(DATABASE!$N$3:$N$51,'LOK LOK'!C55,DATABASE!$O$3:$O$51)","v":0.9},23.400000000000002,0.9,0,null,"FRIED WANTON ",3,{"$f":"(+E55+H55)*V55","v":78},"FRIED WANTON 炸云吞"]
["Lemon Grass Potato Samosa",7,"PD07 80038:LGP SAMOSA",2,{"$f":"SUMIF(Summary!B236:B349,'LOK LOK'!C56,Summary!F236:F349)","v":2},4,null,null,null,null,null,0,2,4,null,{"$f":"SUMIF(DATABASE!$N$3:$N$51,'LOK LOK'!C56,DATABASE!$O$3:$O$51)","v":0.7},1.4,0.7,0,null,null,null,null,"LEMON GRASS POTATO SAMOSA 香茅马铃薯角"]
["Flavored Vege Ball",8,"PD08 80039:VEGE BAL",2,{"$f":"SUMIF(Summary!B237:B350,'LOK LOK'!C57,Summary!F237:F350)","v":26},52,null,null,null,null,null,0,26,52,null,{"$f":"SUMIF(DATABASE!$N$3:$N$51,'LOK LOK'!C57,DATABASE!$O$3:$O$51)","v":0.75},19.5,0.75,0,null,"VEGE BALL",3,{"$f":"(+E57+H57)*V57","v":78},"FLAVORED VEGE BALL 特级菜丸"]
["Seafood Tofu",9,"PD09 80040:SF TF",2.5,{"$f":"SUMIF(Summary!B238:B351,'LOK LOK'!C58,Summary!F238:F351)","v":38},95,null,null,null,null,null,0,38,95,null,{"$f":"SUMIF(DATABASE!$N$3:$N$51,'LOK LOK'!C58,DATABASE!$O$3:$O$51)","v":0.87},33.06,0.87,0,null,"SEAFOOD TOFU",3,{"$f":"(+E58+H58)*V58","v":114},"SEAFOOD TOFU 海鲜豆腐"]
["Spring Roll",10,"PD10 80041:SPRING RL",2.5,{"$f":"SUMIF(Summary!B239:B352,'LOK LOK'!C59,Summary!F239:F352)","v":20},50,null,null,null,null,null,0,20,50,null,{"$f":"SUMIF(DATABASE!$N$3:$N$51,'LOK LOK'!C59,DATABASE!$O$3:$O$51)","v":1},20,1,0,null,"SPRING ROLL",2,{"$f":"(+E59+H59)*V59","v":40},"SPRING ROLL 春卷"]
["Quail Century Egg",11,"PD11 80042:QC EGGS",2.5,{"$f":"SUMIF(Summary!B240:B353,'LOK LOK'!C60,Summary!F240:F353)","v":20},50,null,null,null,null,null,{"$f":"K60*D60","v":0},{"$f":"+E60+H60-K60","v":20},{"$f":"+M60*D60","v":50},null,{"$f":"SUMIF(DATABASE!$N$3:$N$51,'LOK LOK'!C60,DATABASE!$O$3:$O$51)","v":0.81},16.200000000000003,0.81,{"$f":"+R60*K60","v":0},null,"QUAIL CENTURY EGG",3,{"$f":"(+E60+H60)*V60","v":60},"QUAIL CENTURY EGG鹌鹑皮蛋"]
["Thai Roll",12,"PD12 80043:THAI RL",3,{"$f":"SUMIF(Summary!B241:B354,'LOK LOK'!C61,Summary!F241:F354)","v":8},24,null,null,null,null,null,0,8,24,null,{"$f":"SUMIF(DATABASE!$N$3:$N$51,'LOK LOK'!C61,DATABASE!$O$3:$O$51)","v":1.2},{"$f":"+P61*M61","v":9.6},{"$f":"+P61","v":1.2},0,null,"THAI ROLL ",2,16,"THAI ROLL 泰式卷"]
["Cheese Seafood Tofu",13,"PD13 80044:CHEE SF TF",3,{"$f":"SUMIF(Summary!B242:B355,'LOK LOK'!C62,Summary!F242:F355)","v":28},84,null,null,null,null,null,0,28,84,null,{"$f":"SUMIF(DATABASE!$N$3:$N$51,'LOK LOK'!C62,DATABASE!$O$3:$O$51)","v":1.02},28.560000000000002,1.02,0,null,null,null,null,"CHEESE SEAFOOD TOFU 芝士海鲜豆腐"]
["Rice Skin Roll",14,"PD14 80045:R SKIN RL",3,{"$f":"SUMIF(Summary!B243:B356,'LOK LOK'!C63,Summary!F243:F356)","v":0},0,null,null,null,null,null,0,0,0,null,{"$f":"SUMIF(DATABASE!$N$3:$N$51,'LOK LOK'!C63,DATABASE!$O$3:$O$51)","v":1.2},0,1.2,0,null,null,null,null,"RICE SKIN ROLL 芋丝米皮卷"]
[]
[null,"Total Sales / COST",null,null,{"$f":"SUM(E11:E73)","v":0},{"$f":"SUM(F11:F73)","v":2460.6999999999998},null,null,null,null,{"$f":"SUM(K11:K72)","v":0},{"$f":"SUM(L11:L73)","v":0},{"$f":"SUM(M11:M73)","v":928},{"$f":"SUM(N13:O73)","v":2460.6999999999998},null,null,{"$f":"SUM(Q11:Q64)","v":816.04000000000019},null,{"$f":"SUM(S13:S73)","v":0}]
[]
[null,null,"PACKAGE"]
[null,1,"PE01 LOK PACKAGE A",18.8,{"$f":"SUMIF(Summary!B247:B360,'LOK LOK'!C68,Summary!F247:F360)","v":7},{"$f":"E68*D68","v":131.6},null,null,null,null,null,{"$f":"K68*D68","v":0},{"$f":"+E68+H68-K68","v":7},{"$f":"+M68*D68","v":131.6},null,{"$f":"SUMIF(DATABASE!$N$3:$N$51,'LOK LOK'!C68,DATABASE!$O$3:$O$51)","v":8.2799999999999994},{"$f":"+P68*M68","v":57.959999999999994},{"$f":"+P68","v":8.2799999999999994},{"$f":"+R68*K68","v":0}]
[null,2,"PE02 LOK PACKAGE B",18.8,{"$f":"SUMIF(Summary!B248:B361,'LOK LOK'!C69,Summary!F248:F361)","v":12},{"$f":"E69*D69","v":225.60000000000002},null,null,null,null,null,{"$f":"K69*D69","v":0},{"$f":"+E69+H69-K69","v":12},{"$f":"+M69*D69","v":225.60000000000002},null,{"$f":"SUMIF(DATABASE!$N$3:$N$51,'LOK LOK'!C69,DATABASE!$O$3:$O$51)","v":8.4600000000000009},101.52000000000001,8.4600000000000009,0]

{"sheet":"SALES IN DECEMBER","index":10,"n_rows":9,"n_cols":4,"rows_kept":9,"cut":false,"hidden":true,"merged":[]}
["CATEGORIES","KLKD","SIDE ORDER","TOTAL"]
["LOCAL FOODS",248,491,{"$f":"SUM(B2:C2)","v":739}]
["WESTERN FOODS",581,378,{"$f":"SUM(B3:C3)","v":959}]
["APPERTIZER",70,152,222]
["PLATTER","-",32,32]
["XMAS MEAL",92,5,97]
["XMAS MEAL PLATTER","-",4,4]
["COMBO SET","-",441,441]
["G.TOTAL",null,null,{"$f":"SUM(D2:D8)","v":2494}]

{"sheet":"Sheet2","index":11,"n_rows":5,"n_cols":5,"rows_kept":5,"cut":false,"hidden":true,"merged":[]}
["NO","CATEGORIES",null,null,"DEC"]
[null,null,null,null,"RM "]
[]
[1,"MAIN COURSE MATERIAL 主餐食材",null,null,-349.39200000000062]
[2,"SNACKS MATERIAL   小吃食材",null,null,-75.107599999999977]