{"text_format":"1","workbook":"xlsx","n_sheets":13,"sheets":["DATABASE","Summary","Daily Log","SERVINGS","STOCK ANALYSIS","CLOSING STOCK FORM -ADJUSTMENT","CLOSING STOCK FORM ","DISPOSAL(CONVERT)","CLOSING STOCK (CONVERT)","TOTAL USAGE ON BEVERAGES","PURCHASE SUMMARY","Sheet1","Sheet2"],"not_rendered":{"charts":0,"images":6,"macros":0,"external_links":6,"defined_names":17,"comments":0,"pivot_tables":0},"unopened":[],"bounds":{"document_bytes":16777216,"sheet_cells":100000,"rows_first":2000,"rows_last":500,"rows_between":2000,"halvings":0,"cell_chars":16384,"cell_head_chars":4096},"cells_cut":0,"cells_raw":0,"read":"whole","date_system":"1900"}

{"sheet":"DATABASE","index":0,"n_rows":76,"n_cols":8,"rows_kept":76,"cut":false,"hidden":true,"merged":[[12,1,12,7]]}
[]
[]
[null,null,"DATABASE"]
[null,null,"资料库"]
[]
[]
[null,null,"OUTLET BAR ","CCS"]
[null,null,"分行吧台"]
[]
[null,null,"YEAR / MONTH","AUGUST  2013"]
[null,null,"年/月"]
[]
[]
[null,"ITEM","CATEGORIES","SUPPLIER","PRODUCT DESCRIPTION","PRICE","UOM","PACK.SIZE"]
[null,"项目","分类","供应商","食材产品","价格","单位","包装"]
[]
[]
[]
[]
[]
[null,"MAIN BEVERAGE MATERIAL 主要饮料的食材"]
[null,1,"SRYUP","BEST FICTION ","SYRUP CHAMPAGNE GRAPE",5.7499999999999999E-3,"ML ","01drum × 4000ml"]
[null,{"$f":"+B22+1","v":2},"SRYUP","BEST FICTION ","SYRUP GREEN APPLE",5.7499999999999999E-3,"ML ","01drum × 4000ml"]
[null,{"$f":"+B23+1","v":3},"SRYUP","BEST FICTION ","SYRUP PASSION FRUIT",5.7499999999999999E-3,"ML ","01drum × 4000ml"]
[null,4,"SRYUP","BEST FICTION ","SYRUP HONEY ",9.4999999999999998E-3,"ML ","01drum × 2000ml"]
[null,5,"SRYUP","BEST FICTION ","SYRUP MANGO",5.7499999999999999E-3,"ML ","01drum × 4000ml"]
[null,6,"SRYUP","G&K","SYRUP HONEY ",8.9999999999999993E-3,"ML ","01drum × 2000ml"]
[null,7,"SRYUP","G&K","SYRUP MANGO",5.7499999999999999E-3,"ML ","01drum × 4000ml"]
[null,8,"SRYUP","TIEN SWEE","SYRUP RIBENA",0.01,"ML ","01ctn × 06btl × 1000ml"]
[null,9,"TEABAG","BEST FICTION","TEA BAG JASMINE GREEN",0.75,"BAG ","01pkt × 24bag"]
[null,10,"TEABAG","CHUAN HUAT ","TEA BAG LIPTON CHAMOMILE",0.46,"BAG ","01box × 25bag"]
[null,11,"TEABAG","CHUAN HUAT ","TEA BAG LIPTON DARJEELING ",0.46,"BAG ","01box × 25bag"]
[null,12,"TEABAG","CHUAN HUAT ","TEA BAG LIPTON EARLGREY",0.46,"BAG ","01box × 25bag"]
[null,13,"TEABAG","CHUAN HUAT ","TEA BAG LIPTON RED CATERING",0.32500000000000001,"BAG ","01ctn × 12pkt × 20bag"]
[null,14,"POWDER","BEST FICTION","POWDER CAPPUCCINO",2.1000000000000001E-2,"GM","01pkt × 1000g"]
[null,15,"POWDER","GOLDEN CHOICE ","POWDER CHOCOLATE",0.02,"GM","01pkt × 1000g"]
[null,16,"POWDER","BEST FICTION","POWDER MOCHA",2.1000000000000001E-2,"GM","01pkt × 1000g"]
[null,17,"POWDER","CHUAN HUAT ","POWDER LIME",2.375E-2,"GM","01ctn × 12pkt × 400g"]
[null,18,"POWDER","SYKT.TEE SIANG","POWDER MILO",1.546875E-2,"GM","01ctn × 06pkt × 3200g"]
[null,19,"POWDER","SYKT.TEE SIANG","POWDER NESCAFE ICE",1.9213333333333332E-2,"GM","01pkt × 750g"]
[null,20,"POWDER","SYKT.TEE SIANG","POWDER NESCAFE WHITE",2.0210000000000002E-2,"GM","01pkt × 1000g"]
[null,21,"CREAMER  & SUGAR","SYKT.TEE SIANG","SACHET DAIRY CREAMER",0.1134,"PCS","01ctn × 2pkt × 500pcs"]
[null,22,"CREAMER  & SUGAR","SYKT.TEE SIANG","SACHET SUGAR WHITE",4.1500000000000002E-2,"PCS","01ctn × 10pkt × 200pcs"]
[null,23,"CREAMER  & SUGAR","BEST FICTION","POWDER DAIRY CREAMER",8.9999999999999993E-3,"GM","01pkt × 2000g"]
[null,24,"CREAMER  & SUGAR","S.C. TRADING","MIXED TIDBITS",1.0200000000000001E-2,"GM","01bag × 3500g"]
[null,25,"CANNED & BTL","PERMANIS SANDILAND ","LIPTON ICE TEA -LEMON",1.3415999999999999,"CANNED","01ctn × 24can × 300ml"]
[null,26,"CANNED & BTL","PERMANIS SANDILAND ","LIPTON ICE TEA -CLEAR GREEN",1.8708,"BTL","01ctn × 24btl × 450ml"]
[null,27,"CANNED & BTL","PERMANIS SANDILAND ","CHILL CHRYSANTHEMUM",1.1333,"CANNED","01ctn × 24can × 300ml"]
[null,28,"CANNED & BTL","PERMANIS SANDILAND ","CHILL SOYA BEAN",1.1333,"CANNED","01ctn × 24can × 300ml"]
[null,29,"CANNED & BTL","PERMANIS SANDILAND ","CHILL CINCAU",1.2333000000000001,"CANNED","01ctn × 24can × 300ml"]
[null,30,"CANNED & BTL","PERMANIS SANDILAND ","REVIVE REGULAR ",1.2124999999999999,"CANNED","01ctn × 24can × 325ml"]
[null,31,"CANNED & BTL","PERMANIS SANDILAND ","PEPSI COLA",1.2124999999999999,"CANNED","01ctn × 24can × 325ml"]
[null,32,"CANNED & BTL","PERMANIS SANDILAND ","7UP",1.2124999999999999,"CANNED","01ctn × 24can × 325ml"]
[null,33,"BEVERAGE ","TIEN SWEE","RIBENA MOBILE ",1.982,"PKT","01ctn × 24pkt × 300ml"]
[null,34,"MINERAL WATER ","PERMANIS SANDILAND ","MINERAL WATER ",0.58330000000000004,"BTL","01ctn × 24 btl "]
[null,35,"SOFT DRINKS","PERMANIS SANDILAND ","BIB PEPSI",166.37,"BIB","01bib × 20lit"]
[null,36,"SOFT DRINKS","PERMANIS SANDILAND ","BIB 7UP",166.37,"BIB","01bib × 20lit"]
[null,37,"SOFT DRINKS","PERMANIS SANDILAND ","BIB 7UP REVIVE",166.37,"BIB","01bib × 20lit"]
[null,38,"BEER","GAB","BEER GUINNESS",6.8103999999999996,"PINT","01ctn × 24btl"]
[null,39,"BEER","GAB","BEER HEINEKEN",8.1145999999999994,"PINT","01ctn × 24btl"]
[null,40,"BEER","GAB","BEER TIGER",6,"PINT","01ctn × 24btl"]
[null,41,"BEER","GAB","STRONGBOW",9.7200000000000006,"PINT","01ctn × 24btl"]
[null,42,"BEER","GAB","PAULANAR",12,"PINT","01ctn × 24btl"]
[null,43,"BEER","LUEN HENG","SOMEBY APPLE CIDER",9.57,"PINT","01ctn × 24btl"]
[null,44,"BEER","LUEN HENG","HOEGAARDEN",10.95,"PINT","01ctn × 24btl"]
[null,45,"CIGARETTE","NEW FOO HING","DUNHILL KING",11.0806,"PKT","01pkt × 20s "]
[null,46,"CIGARETTE","NEW FOO HING","DUNHILL LIGHTS KING",11.0806,"PKT","01pkt × 20s "]
[null,47,"CIGARETTE","NEW FOO HING","DUNHILL MENTHOL LIGHTS KING",11.0806,"PKT","01pkt × 20s "]
[null,48,"CIGARETTE","NEW FOO HING","DUNHILL MENTHOL KING",11.0806,"PKT","01pkt × 20s "]
[null,49,"CIGARETTE","NEW FOO HING","DUNHILL MENTHOL BOOST",11.0806,"PKT","01pkt × 20s "]
[null,50,"CIGARETTE","NEW FOO HING","DUNHILL MENTHOL SWITCH",11.0806,"PKT","01pkt × 20s "]
[null,51,"CIGARETTE","NEW FOO HING","DUNHILL ICE",11.0806,"PKT","01pkt × 20s "]
[null,52,"CIGARETTE","NEW FOO HING","KENT NEO",11.0806,"PKT","01pkt × 20s "]
[null,53,"CIGARETTE","NEW FOO HING","KENT ORIGINAL",11.0806,"PKT","01pkt × 20s "]
[null,54,"CIGARETTE","NEW FOO HING","KENT FUTURA ",11.0806,"PKT","01pkt × 20s "]
[null,55,"SRYUP","BEN MART","SYRUP RIBENA",23.9,"BTL","01ctn × 06btl × 2000ml"]

{"sheet":"Summary","index":1,"n_rows":289,"n_cols":38,"rows_kept":289,"cut":false,"hidden":true,"merged":[[5,2,5,3],[7,2,7,3],[9,2,9,3],[28,1,28,2]]}
[]
[]
[null,null,"SUMMARY OF PRODUCT SALES IN MONTH"]
[]
[]
[null,"OUTLET",{"$f":"MID(CELL(\"FILENAME\",$A$1),FIND(\"[\",CELL(\"FILENAME\",$A$1))+1,3)","v":"CCS"}]
[]
[null,"YEAR",{"$f":"MID(CELL(\"FILENAME\",$A$1),FIND(\"[\",CELL(\"FILENAME\",$A$1))+4,4)","v":"2014"}]
[]
[null,"MONTH",{"$f":"INDEX($C$12:$C$23,MID(CELL(\"FILENAME\",$A$1),FIND(\"[\",CELL(\"FILENAME\",$A$1))+8,2),1)","v":"APRIL"}]
[]
[null,"MONTH","JANUARY"]
[null,null,"FEBRUARY"]
[null,null,"MARCH"]
[null,null,"APRIL"]
[null,null,"MAY"]
[null,null,"JUNE"]
[null,null,"JULY"]
[null,null,"AUGUST"]
[null,null,"SEPTEMBER"]
[null,null,"OCTOBER"]
[null,null,"NOVEMBER"]
[null,null,"DECEMBER"]
[]
[]
[null,"PRODUCT",null,"CATEGORY","QTY","QUANTITIES SOLD IN MONTH"]
[null,null,null,null,"PER","TOTAL",{"$f":"DATE(C8,MID(CELL(\"FILENAME\",$A$1),FIND(\"[\",CELL(\"FILENAME\",$A$1))+8,2),1)","v":"2014-04-01"},{"$f":"IFERROR(IF(MONTH(G27+1)<=MONTH($G$27),G27+1,\"\"),\"\")","v":"2014-04-02"},{"$f":"IFERROR(IF(MONTH(H27+1)<=MONTH($G$27),H27+1,\"\"),\"\")","v":"2014-04-03"},"2014-04-04","2014-04-05","2014-04-06","2014-04-07","2014-04-08","2014-04-09","2014-04-10","2014-04-11","2014-04-12","2014-04-13","2014-04-14","2014-04-15","2014-04-16","2014-04-17","2014-04-18","2014-04-19","2014-04-20","2014-04-21","2014-04-22","2014-04-23","2014-04-24","2014-04-25","2014-04-26","2014-04-27","2014-04-28","2014-04-29","2014-04-30",""]
[null,null,null,null,"ITEM"]
[]
[null,"AA01 1201:SFD STICK",null,"APPETIZER",1,{"$f":"SUM($G30:$AK30)","v":0},{"$f":"IFERROR($E30*SUMIF('Daily Log'!$B$18:$B$1017,$B30,'Daily Log'!$C$18:$C$1017),0)","v":0},{"$f":"IFERROR($E30*SUMIF('Daily Log'!$E$18:$E$1017,$B30,'Daily Log'!$F$18:$F$1017),0)","v":0},{"$f":"IFERROR($E30*SUMIF('Daily Log'!$H$18:$H$1017,$B30,'Daily Log'!$I$18:$I$1017),0)","v":0},{"$f":"IFERROR($E30*SUMIF('Daily Log'!$K$18:$K$1017,$B30,'Daily Log'!$L$18:$L$1017),0)","v":0},{"$f":"IFERROR($E30*SUMIF('Daily Log'!$N$18:$N$1017,$B30,'Daily Log'!$O$18:$O$1017),0)","v":0},{"$f":"IFERROR($E30*SUMIF('Daily Log'!$Q$18:$Q$1017,$B30,'Daily Log'!$R$18:$R$1017),0)","v":0},{"$f":"IFERROR($E30*SUMIF('Daily Log'!$T$18:$T$1017,$B30,'Daily Log'!$U$18:$U$1017),0)","v":0},{"$f":"IFERROR($E30*SUMIF('Daily Log'!$W$18:$W$1017,$B30,'Daily Log'!$X$18:$X$1017),0)","v":0},{"$f":"IFERROR($E30*SUMIF('Daily Log'!$Z$18:$Z$1017,$B30,'Daily Log'!$AA$18:$AA$1017),0)","v":0},{"$f":"IFERROR($E30*SUMIF('Daily Log'!$AC$18:$AC$1017,$B30,'Daily Log'!$AD$18:$AD$1017),0)","v":0},{"$f":"IFERROR($E30*SUMIF('Daily Log'!$AF$18:$AF$1017,$B30,'Daily Log'!$AG$18:$AG$1017),0)","v":0},{"$f":"IFERROR($E30*SUMIF('Daily Log'!$AI$18:$AI$1017,$B30,'Daily Log'!$AJ$18:$AJ$1017),0)","v":0},{"$f":"IFERROR($E30*SUMIF('Daily Log'!$AL$18:$AL$1017,$B30,'Daily Log'!$AM$18:$AM$1017),0)","v":0},{"$f":"IFERROR($E30*SUMIF('Daily Log'!$AO$18:$AO$1017,$B30,'Daily Log'!$AP$18:$AP$1017),0)","v":0},{"$f":"IFERROR($E30*SUMIF('Daily Log'!$AR$18:$AR$1017,$B30,'Daily Log'!$AS$18:$AS$1017),0)","v":0},{"$f":"IFERROR($E30*SUMIF('Daily Log'!$AU$18:$AU$1017,$B30,'Daily Log'!$AV$18:$AV$1017),0)","v":0},{"$f":"IFERROR($E30*SUMIF('Daily Log'!$AX$18:$AX$1017,$B30,'Daily Log'!$AY$18:$AY$1017),0)","v":0},{"$f":"IFERROR($E30*SUMIF('Daily Log'!$BA$18:$BA$1017,$B30,'Daily Log'!$BB$18:$BB$1017),0)","v":0},{"$f":"IFERROR($E30*SUMIF('Daily Log'!$BD$18:$BD$1017,$B30,'Daily Log'!$BE$18:$BE$1017),0)","v":0},{"$f":"IFERROR($E30*SUMIF('Daily Log'!$BG$18:$BG$1017,$B30,'Daily Log'!$BH$18:$BH$1017),0)","v":0},{"$f":"IFERROR($E30*SUMIF('Daily Log'!$BJ$18:$BJ$1017,$B30,'Daily Log'!$BK$18:$BK$1017),0)","v":0},{"$f":"IFERROR($E30*SUMIF('Daily Log'!$BM$18:$BM$1017,$B30,'Daily Log'!$BN$18:$BN$1017),0)","v":0},{"$f":"IFERROR($E30*SUMIF('Daily Log'!$BP$18:$BP$1017,$B30,'Daily Log'!$BQ$18:$BQ$1017),0)","v":0},{"$f":"IFERROR($E30*SUMIF('Daily Log'!$BS$18:$BS$1017,$B30,'Daily Log'!$BT$18:$BT$1017),0)","v":0},{"$f":"IFERROR($E30*SUMIF('Daily Log'!$BV$18:$BV$1017,$B30,'Daily Log'!$BW$18:$BW$1017),0)","v":0},{"$f":"IFERROR($E30*SUMIF('Daily Log'!$BY$18:$BY$1017,$B30,'Daily Log'!$BZ$18:$BZ$1017),0)","v":0},{"$f":"IFERROR($E30*SUMIF('Daily Log'!$CB$18:$CB$1017,$B30,'Daily Log'!$CC$18:$CC$1017),0)","v":0},{"$f":"IFERROR($E30*SUMIF('Daily Log'!$CE$18:$CE$1017,$B30,'Daily Log'!$CF$18:$CF$1017),0)","v":0},{"$f":"IFERROR($E30*SUMIF('Daily Log'!$CH$18:$CH$1017,$B30,'Daily Log'!$CI$18:$CI$1017),0)","v":0},{"$f":"IFERROR($E30*SUMIF('Daily Log'!$CK$18:$CK$1017,$B30,'Daily Log'!$CL$18:$CL$1017),0)","v":0},{"$f":"IFERROR($E30*SUMIF('Daily Log'!$CN$18:$CN$1017,$B30,'Daily Log'!$CO$18:$CO$1017),0)","v":0}]
[null,"AA02 1202:FREN FRIES",null,"APPETIZER",1,84,{"$f":"IFERROR($E31*SUMIF('Daily Log'!$B$18:$B$1017,$B31,'Daily Log'!$C$18:$C$1017),0)","v":5},{"$f":"IFERROR($E31*SUMIF('Daily Log'!$E$18:$E$1017,$B31,'Daily Log'!$F$18:$F$1017),0)","v":1},{"$f":"IFERROR($E31*SUMIF('Daily Log'!$H$18:$H$1017,$B31,'Daily Log'!$I$18:$I$1017),0)","v":3},{"$f":"IFERROR($E31*SUMIF('Daily Log'!$K$18:$K$1017,$B31,'Daily Log'!$L$18:$L$1017),0)","v":4},{"$f":"IFERROR($E31*SUMIF('Daily Log'!$N$18:$N$1017,$B31,'Daily Log'!$O$18:$O$1017),0)","v":9},{"$f":"IFERROR($E31*SUMIF('Daily Log'!$Q$18:$Q$1017,$B31,'Daily Log'!$R$18:$R$1017),0)","v":0},{"$f":"IFERROR($E31*SUMIF('Daily Log'!$T$18:$T$1017,$B31,'Daily Log'!$U$18:$U$1017),0)","v":2},{"$f":"IFERROR($E31*SUMIF('Daily Log'!$W$18:$W$1017,$B31,'Daily Log'!$X$18:$X$1017),0)","v":0},{"$f":"IFERROR($E31*SUMIF('Daily Log'!$Z$18:$Z$1017,$B31,'Daily Log'!$AA$18:$AA$1017),0)","v":1},{"$f":"IFERROR($E31*SUMIF('Daily Log'!$AC$18:$AC$1017,$B31,'Daily Log'!$AD$18:$AD$1017),0)","v":0},{"$f":"IFERROR($E31*SUMIF('Daily Log'!$AF$18:$AF$1017,$B31,'Daily Log'!$AG$18:$AG$1017),0)","v":2},{"$f":"IFERROR($E31*SUMIF('Daily Log'!$AI$18:$AI$1017,$B31,'Daily Log'!$AJ$18:$AJ$1017),0)","v":1},{"$f":"IFERROR($E31*SUMIF('Daily Log'!$AL$18:$AL$1017,$B31,'Daily Log'!$AM$18:$AM$1017),0)","v":6},{"$f":"IFERROR($E31*SUMIF('Daily Log'!$AO$18:$AO$1017,$B31,'Daily Log'!$AP$18:$AP$1017),0)","v":2},{"$f":"IFERROR($E31*SUMIF('Daily Log'!$AR$18:$AR$1017,$B31,'Daily Log'!$AS$18:$AS$1017),0)","v":3},{"$f":"IFERROR($E31*SUMIF('Daily Log'!$AU$18:$AU$1017,$B31,'Daily Log'!$AV$18:$AV$1017),0)","v":8},{"$f":"IFERROR($E31*SUMIF('Daily Log'!$AX$18:$AX$1017,$B31,'Daily Log'!$AY$18:$AY$1017),0)","v":2},{"$f":"IFERROR($E31*SUMIF('Daily Log'!$BA$18:$BA$1017,$B31,'Daily Log'!$BB$18:$BB$1017),0)","v":2},{"$f":"IFERROR($E31*SUMIF('Daily Log'!$BD$18:$BD$1017,$B31,'Daily Log'!$BE$18:$BE$1017),0)","v":7},{"$f":"IFERROR($E31*SUMIF('Daily Log'!$BG$18:$BG$1017,$B31,'Daily Log'!$BH$18:$BH$1017),0)","v":5},{"$f":"IFERROR($E31*SUMIF('Daily Log'!$BJ$18:$BJ$1017,$B31,'Daily Log'!$BK$18:$BK$1017),0)","v":3},{"$f":"IFERROR($E31*SUMIF('Daily Log'!$BM$18:$BM$1017,$B31,'Daily Log'!$BN$18:$BN$1017),0)","v":2},{"$f":"IFERROR($E31*SUMIF('Daily Log'!$BP$18:$BP$1017,$B31,'Daily Log'!$BQ$18:$BQ$1017),0)","v":3},{"$f":"IFERROR($E31*SUMIF('Daily Log'!$BS$18:$BS$1017,$B31,'Daily Log'!$BT$18:$BT$1017),0)","v":0},{"$f":"IFERROR($E31*SUMIF('Daily Log'!$BV$18:$BV$1017,$B31,'Daily Log'!$BW$18:$BW$1017),0)","v":4},{"$f":"IFERROR($E31*SUMIF('Daily Log'!$BY$18:$BY$1017,$B31,'Daily Log'!$BZ$18:$BZ$1017),0)","v":2},{"$f":"IFERROR($E31*SUMIF('Daily Log'!$CB$18:$CB$1017,$B31,'Daily Log'!$CC$18:$CC$1017),0)","v":2},{"$f":"IFERROR($E31*SUMIF('Daily Log'!$CE$18:$CE$1017,$B31,'Daily Log'!$CF$18:$CF$1017),0)","v":1},{"$f":"IFERROR($E31*SUMIF('Daily Log'!$CH$18:$CH$1017,$B31,'Daily Log'!$CI$18:$CI$1017),0)","v":1},{"$f":"IFERROR($E31*SUMIF('Daily Log'!$CK$18:$CK$1017,$B31,'Daily Log'!$CL$18:$CL$1017),0)","v":3},{"$f":"IFERROR($E31*SUMIF('Daily Log'!$CN$18:$CN$1017,$B31,'Daily Log'!$CO$18:$CO$1017),0)","v":0}]
[null,"AA03 1203:GOLD MR",null,"APPETIZER",1,13,{"$f":"IFERROR($E32*SUMIF('Daily Log'!$B$18:$B$1017,$B32,'Daily Log'!$C$18:$C$1017),0)","v":0},{"$f":"IFERROR($E32*SUMIF('Daily Log'!$E$18:$E$1017,$B32,'Daily Log'!$F$18:$F$1017),0)","v":1},{"$f":"IFERROR($E32*SUMIF('Daily Log'!$H$18:$H$1017,$B32,'Daily Log'!$I$18:$I$1017),0)","v":0},{"$f":"IFERROR($E32*SUMIF('Daily Log'!$K$18:$K$1017,$B32,'Daily Log'!$L$18:$L$1017),0)","v":0},{"$f":"IFERROR($E32*SUMIF('Daily Log'!$N$18:$N$1017,$B32,'Daily Log'!$O$18:$O$1017),0)","v":0},{"$f":"IFERROR($E32*SUMIF('Daily Log'!$Q$18:$Q$1017,$B32,'Daily Log'!$R$18:$R$1017),0)","v":2},{"$f":"IFERROR($E32*SUMIF('Daily Log'!$T$18:$T$1017,$B32,'Daily Log'!$U$18:$U$1017),0)","v":0},{"$f":"IFERROR($E32*SUMIF('Daily Log'!$W$18:$W$1017,$B32,'Daily Log'!$X$18:$X$1017),0)","v":1},{"$f":"IFERROR($E32*SUMIF('Daily Log'!$Z$18:$Z$1017,$B32,'Daily Log'!$AA$18:$AA$1017),0)","v":1},{"$f":"IFERROR($E32*SUMIF('Daily Log'!$AC$18:$AC$1017,$B32,'Daily Log'!$AD$18:$AD$1017),0)","v":1},{"$f":"IFERROR($E32*SUMIF('Daily Log'!$AF$18:$AF$1017,$B32,'Daily Log'!$AG$18:$AG$1017),0)","v":0},{"$f":"IFERROR($E32*SUMIF('Daily Log'!$AI$18:$AI$1017,$B32,'Daily Log'!$AJ$18:$AJ$1017),0)","v":0},{"$f":"IFERROR($E32*SUMIF('Daily Log'!$AL$18:$AL$1017,$B32,'Daily Log'!$AM$18:$AM$1017),0)","v":1},{"$f":"IFERROR($E32*SUMIF('Daily Log'!$AO$18:$AO$1017,$B32,'Daily Log'!$AP$18:$AP$1017),0)","v":0},{"$f":"IFERROR($E32*SUMIF('Daily Log'!$AR$18:$AR$1017,$B32,'Daily Log'!$AS$18:$AS$1017),0)","v":0},{"$f":"IFERROR($E32*SUMIF('Daily Log'!$AU$18:$AU$1017,$B32,'Daily Log'!$AV$18:$AV$1017),0)","v":1},{"$f":"IFERROR($E32*SUMIF('Daily Log'!$AX$18:$AX$1017,$B32,'Daily Log'!$AY$18:$AY$1017),0)","v":0},{"$f":"IFERROR($E32*SUMIF('Daily Log'!$BA$18:$BA$1017,$B32,'Daily Log'!$BB$18:$BB$1017),0)","v":1},{"$f":"IFERROR($E32*SUMIF('Daily Log'!$BD$18:$BD$1017,$B32,'Daily Log'!$BE$18:$BE$1017),0)","v":0},{"$f":"IFERROR($E32*SUMIF('Daily Log'!$BG$18:$BG$1017,$B32,'Daily Log'!$BH$18:$BH$1017),0)","v":2},{"$f":"IFERROR($E32*SUMIF('Daily Log'!$BJ$18:$BJ$1017,$B32,'Daily Log'!$BK$18:$BK$1017),0)","v":0},{"$f":"IFERROR($E32*SUMIF('Daily Log'!$BM$18:$BM$1017,$B32,'Daily Log'!$BN$18:$BN$1017),0)","v":0},{"$f":"IFERROR($E32*SUMIF('Daily Log'!$BP$18:$BP$1017,$B32,'Daily Log'!$BQ$18:$BQ$1017),0)","v":1},{"$f":"IFERROR($E32*SUMIF('Daily Log'!$BS$18:$BS$1017,$B32,'Daily Log'!$BT$18:$BT$1017),0)","v":0},{"$f":"IFERROR($E32*SUMIF('Daily Log'!$BV$18:$BV$1017,$B32,'Daily Log'!$BW$18:$BW$1017),0)","v":0},{"$f":"IFERROR($E32*SUMIF('Daily Log'!$BY$18:$BY$1017,$B32,'Daily Log'!$BZ$18:$BZ$1017),0)","v":0},{"$f":"IFERROR($E32*SUMIF('Daily Log'!$CB$18:$CB$1017,$B32,'Daily Log'!$CC$18:$CC$1017),0)","v":0},{"$f":"IFERROR($E32*SUMIF('Daily Log'!$CE$18:$CE$1017,$B32,'Daily Log'!$CF$18:$CF$1017),0)","v":0},{"$f":"IFERROR($E32*SUMIF('Daily Log'!$CH$18:$CH$1017,$B32,'Daily Log'!$CI$18:$CI$1017),0)","v":0},{"$f":"IFERROR($E32*SUMIF('Daily Log'!$CK$18:$CK$1017,$B32,'Daily Log'!$CL$18:$CL$1017),0)","v":1},{"$f":"IFERROR($E32*SUMIF('Daily Log'!$CN$18:$CN$1017,$B32,'Daily Log'!$CO$18:$CO$1017),0)","v":0}]
[null,"AA04 1204:FSH BALL",null,"APPETIZER",1,9,{"$f":"IFERROR($E33*SUMIF('Daily Log'!$B$18:$B$1017,$B33,'Daily Log'!$C$18:$C$1017),0)","v":0},{"$f":"IFERROR($E33*SUMIF('Daily Log'!$E$18:$E$1017,$B33,'Daily Log'!$F$18:$F$1017),0)","v":0},{"$f":"IFERROR($E33*SUMIF('Daily Log'!$H$18:$H$1017,$B33,'Daily Log'!$I$18:$I$1017),0)","v":0},{"$f":"IFERROR($E33*SUMIF('Daily Log'!$K$18:$K$1017,$B33,'Daily Log'!$L$18:$L$1017),0)","v":0},{"$f":"IFERROR($E33*SUMIF('Daily Log'!$N$18:$N$1017,$B33,'Daily Log'!$O$18:$O$1017),0)","v":0},{"$f":"IFERROR($E33*SUMIF('Daily Log'!$Q$18:$Q$1017,$B33,'Daily Log'!$R$18:$R$1017),0)","v":0},{"$f":"IFERROR($E33*SUMIF('Daily Log'!$T$18:$T$1017,$B33,'Daily Log'!$U$18:$U$1017),0)","v":0},{"$f":"IFERROR($E33*SUMIF('Daily Log'!$W$18:$W$1017,$B33,'Daily Log'!$X$18:$X$1017),0)","v":0},{"$f":"IFERROR($E33*SUMIF('Daily Log'!$Z$18:$Z$1017,$B33,'Daily Log'!$AA$18:$AA$1017),0)","v":1},{"$f":"IFERROR($E33*SUMIF('Daily Log'!$AC$18:$AC$1017,$B33,'Daily Log'!$AD$18:$AD$1017),0)","v":0},{"$f":"IFERROR($E33*SUMIF('Daily Log'!$AF$18:$AF$1017,$B33,'Daily Log'!$AG$18:$AG$1017),0)","v":0},{"$f":"IFERROR($E33*SUMIF('Daily Log'!$AI$18:$AI$1017,$B33,'Daily Log'!$AJ$18:$AJ$1017),0)","v":1},{"$f":"IFERROR($E33*SUMIF('Daily Log'!$AL$18:$AL$1017,$B33,'Daily Log'!$AM$18:$AM$1017),0)","v":1},{"$f":"IFERROR($E33*SUMIF('Daily Log'!$AO$18:$AO$1017,$B33,'Daily Log'!$AP$18:$AP$1017),0)","v":1},{"$f":"IFERROR($E33*SUMIF('Daily Log'!$AR$18:$AR$1017,$B33,'Daily Log'!$AS$18:$AS$1017),0)","v":2},{"$f":"IFERROR($E33*SUMIF('Daily Log'!$AU$18:$AU$1017,$B33,'Daily Log'!$AV$18:$AV$1017),0)","v":2},{"$f":"IFERROR($E33*SUMIF('Daily Log'!$AX$18:$AX$1017,$B33,'Daily Log'!$AY$18:$AY$1017),0)","v":0},{"$f":"IFERROR($E33*SUMIF('Daily Log'!$BA$18:$BA$1017,$B33,'Daily Log'!$BB$18:$BB$1017),0)","v":0},{"$f":"IFERROR($E33*SUMIF('Daily Log'!$BD$18:$BD$1017,$B33,'Daily Log'!$BE$18:$BE$1017),0)","v":1},{"$f":"IFERROR($E33*SUMIF('Daily Log'!$BG$18:$BG$1017,$B33,'Daily Log'!$BH$18:$BH$1017),0)","v":0},{"$f":"IFERROR($E33*SUMIF('Daily Log'!$BJ$18:$BJ$1017,$B33,'Daily Log'!$BK$18:$BK$1017),0)","v":0},{"$f":"IFERROR($E33*SUMIF('Daily Log'!$BM$18:$BM$1017,$B33,'Daily Log'!$BN$18:$BN$1017),0)","v":0},{"$f":"IFERROR($E33*SUMIF('Daily Log'!$BP$18:$BP$1017,$B33,'Daily Log'!$BQ$18:$BQ$1017),0)","v":0},{"$f":"IFERROR($E33*SUMIF('Daily Log'!$BS$18:$BS$1017,$B33,'Daily Log'!$BT$18:$BT$1017),0)","v":0},{"$f":"IFERROR($E33*SUMIF('Daily Log'!$BV$18:$BV$1017,$B33,'Daily Log'!$BW$18:$BW$1017),0)","v":0},{"$f":"IFERROR($E33*SUMIF('Daily Log'!$BY$18:$BY$1017,$B33,'Daily Log'!$BZ$18:$BZ$1017),0)","v":0},{"$f":"IFERROR($E33*SUMIF('Daily Log'!$CB$18:$CB$1017,$B33,'Daily Log'!$CC$18:$CC$1017),0)","v":0},{"$f":"IFERROR($E33*SUMIF('Daily Log'!$CE$18:$CE$1017,$B33,'Daily Log'!$CF$18:$CF$1017),0)","v":0},{"$f":"IFERROR($E33*SUMIF('Daily Log'!$CH$18:$CH$1017,$B33,'Daily Log'!$CI$18:$CI$1017),0)","v":0},{"$f":"IFERROR($E33*SUMIF('Daily Log'!$CK$18:$CK$1017,$B33,'Daily Log'!$CL$18:$CL$1017),0)","v":0},{"$f":"IFERROR($E33*SUMIF('Daily Log'!$CN$18:$CN$1017,$B33,'Daily Log'!$CO$18:$CO$1017),0)","v":0}]
[null,"AA05 1205:RAINBOW RL",null,"APPETIZER",1,0,{"$f":"IFERROR($E34*SUMIF('Daily Log'!$B$18:$B$1017,$B34,'Daily Log'!$C$18:$C$1017),0)","v":0},{"$f":"IFERROR($E34*SUMIF('Daily Log'!$E$18:$E$1017,$B34,'Daily Log'!$F$18:$F$1017),0)","v":0},{"$f":"IFERROR($E34*SUMIF('Daily Log'!$H$18:$H$1017,$B34,'Daily Log'!$I$18:$I$1017),0)","v":0},{"$f":"IFERROR($E34*SUMIF('Daily Log'!$K$18:$K$1017,$B34,'Daily Log'!$L$18:$L$1017),0)","v":0},{"$f":"IFERROR($E34*SUMIF('Daily Log'!$N$18:$N$1017,$B34,'Daily Log'!$O$18:$O$1017),0)","v":0},{"$f":"IFERROR($E34*SUMIF('Daily Log'!$Q$18:$Q$1017,$B34,'Daily Log'!$R$18:$R$1017),0)","v":0},{"$f":"IFERROR($E34*SUMIF('Daily Log'!$T$18:$T$1017,$B34,'Daily Log'!$U$18:$U$1017),0)","v":0},{"$f":"IFERROR($E34*SUMIF('Daily Log'!$W$18:$W$1017,$B34,'Daily Log'!$X$18:$X$1017),0)","v":0},{"$f":"IFERROR($E34*SUMIF('Daily Log'!$Z$18:$Z$1017,$B34,'Daily Log'!$AA$18:$AA$1017),0)","v":0},{"$f":"IFERROR($E34*SUMIF('Daily Log'!$AC$18:$AC$1017,$B34,'Daily Log'!$AD$18:$AD$1017),0)","v":0},{"$f":"IFERROR($E34*SUMIF('Daily Log'!$AF$18:$AF$1017,$B34,'Daily Log'!$AG$18:$AG$1017),0)","v":0},{"$f":"IFERROR($E34*SUMIF('Daily Log'!$AI$18:$AI$1017,$B34,'Daily Log'!$AJ$18:$AJ$1017),0)","v":0},{"$f":"IFERROR($E34*SUMIF('Daily Log'!$AL$18:$AL$1017,$B34,'Daily Log'!$AM$18:$AM$1017),0)","v":0},{"$f":"IFERROR($E34*SUMIF('Daily Log'!$AO$18:$AO$1017,$B34,'Daily Log'!$AP$18:$AP$1017),0)","v":0},{"$f":"IFERROR($E34*SUMIF('Daily Log'!$AR$18:$AR$1017,$B34,'Daily Log'!$AS$18:$AS$1017),0)","v":0},{"$f":"IFERROR($E34*SUMIF('Daily Log'!$AU$18:$AU$1017,$B34,'Daily Log'!$AV$18:$AV$1017),0)","v":0},{"$f":"IFERROR($E34*SUMIF('Daily Log'!$AX$18:$AX$1017,$B34,'Daily Log'!$AY$18:$AY$1017),0)","v":0},{"$f":"IFERROR($E34*SUMIF('Daily Log'!$BA$18:$BA$1017,$B34,'Daily Log'!$BB$18:$BB$1017),0)","v":0},{"$f":"IFERROR($E34*SUMIF('Daily Log'!$BD$18:$BD$1017,$B34,'Daily Log'!$BE$18:$BE$1017),0)","v":0},{"$f":"IFERROR($E34*SUMIF('Daily Log'!$BG$18:$BG$1017,$B34,'Daily Log'!$BH$18:$BH$1017),0)","v":0},{"$f":"IFERROR($E34*SUMIF('Daily Log'!$BJ$18:$BJ$1017,$B34,'Daily Log'!$BK$18:$BK$1017),0)","v":0},{"$f":"IFERROR($E34*SUMIF('Daily Log'!$BM$18:$BM$1017,$B34,'Daily Log'!$BN$18:$BN$1017),0)","v":0},{"$f":"IFERROR($E34*SUMIF('Daily Log'!$BP$18:$BP$1017,$B34,'Daily Log'!$BQ$18:$BQ$1017),0)","v":0},{"$f":"IFERROR($E34*SUMIF('Daily Log'!$BS$18:$BS$1017,$B34,'Daily Log'!$BT$18:$BT$1017),0)","v":0},{"$f":"IFERROR($E34*SUMIF('Daily Log'!$BV$18:$BV$1017,$B34,'Daily Log'!$BW$18:$BW$1017),0)","v":0},{"$f":"IFERROR($E34*SUMIF('Daily Log'!$BY$18:$BY$1017,$B34,'Daily Log'!$BZ$18:$BZ$1017),0)","v":0},{"$f":"IFERROR($E34*SUMIF('Daily Log'!$CB$18:$CB$1017,$B34,'Daily Log'!$CC$18:$CC$1017),0)","v":0},{"$f":"IFERROR($E34*SUMIF('Daily Log'!$CE$18:$CE$1017,$B34,'Daily Log'!$CF$18:$CF$1017),0)","v":0},{"$f":"IFERROR($E34*SUMIF('Daily Log'!$CH$18:$CH$1017,$B34,'Daily Log'!$CI$18:$CI$1017),0)","v":0},{"$f":"IFERROR($E34*SUMIF('Daily Log'!$CK$18:$CK$1017,$B34,'Daily Log'!$CL$18:$CL$1017),0)","v":0},{"$f":"IFERROR($E34*SUMIF('Daily Log'!$CN$18:$CN$1017,$B34,'Daily Log'!$CO$18:$CO$1017),0)","v":0}]
[null,"AA06 1206:SPRING RL",null,"APPETIZER",1,4,{"$f":"IFERROR($E35*SUMIF('Daily Log'!$B$18:$B$1017,$B35,'Daily Log'!$C$18:$C$1017),0)","v":0},{"$f":"IFERROR($E35*SUMIF('Daily Log'!$E$18:$E$1017,$B35,'Daily Log'!$F$18:$F$1017),0)","v":0},{"$f":"IFERROR($E35*SUMIF('Daily Log'!$H$18:$H$1017,$B35,'Daily Log'!$I$18:$I$1017),0)","v":0},{"$f":"IFERROR($E35*SUMIF('Daily Log'!$K$18:$K$1017,$B35,'Daily Log'!$L$18:$L$1017),0)","v":0},{"$f":"IFERROR($E35*SUMIF('Daily Log'!$N$18:$N$1017,$B35,'Daily Log'!$O$18:$O$1017),0)","v":0},{"$f":"IFERROR($E35*SUMIF('Daily Log'!$Q$18:$Q$1017,$B35,'Daily Log'!$R$18:$R$1017),0)","v":0},{"$f":"IFERROR($E35*SUMIF('Daily Log'!$T$18:$T$1017,$B35,'Daily Log'!$U$18:$U$1017),0)","v":0},{"$f":"IFERROR($E35*SUMIF('Daily Log'!$W$18:$W$1017,$B35,'Daily Log'!$X$18:$X$1017),0)","v":0},{"$f":"IFERROR($E35*SUMIF('Daily Log'!$Z$18:$Z$1017,$B35,'Daily Log'!$AA$18:$AA$1017),0)","v":0},{"$f":"IFERROR($E35*SUMIF('Daily Log'!$AC$18:$AC$1017,$B35,'Daily Log'!$AD$18:$AD$1017),0)","v":0},{"$f":"IFERROR($E35*SUMIF('Daily Log'!$AF$18:$AF$1017,$B35,'Daily Log'!$AG$18:$AG$1017),0)","v":0},{"$f":"IFERROR($E35*SUMIF('Daily Log'!$AI$18:$AI$1017,$B35,'Daily Log'!$AJ$18:$AJ$1017),0)","v":1},{"$f":"IFERROR($E35*SUMIF('Daily Log'!$AL$18:$AL$1017,$B35,'Daily Log'!$AM$18:$AM$1017),0)","v":0},{"$f":"IFERROR($E35*SUMIF('Daily Log'!$AO$18:$AO$1017,$B35,'Daily Log'!$AP$18:$AP$1017),0)","v":1},{"$f":"IFERROR($E35*SUMIF('Daily Log'!$AR$18:$AR$1017,$B35,'Daily Log'!$AS$18:$AS$1017),0)","v":0},{"$f":"IFERROR($E35*SUMIF('Daily Log'!$AU$18:$AU$1017,$B35,'Daily Log'!$AV$18:$AV$1017),0)","v":0},{"$f":"IFERROR($E35*SUMIF('Daily Log'!$AX$18:$AX$1017,$B35,'Daily Log'!$AY$18:$AY$1017),0)","v":0},{"$f":"IFERROR($E35*SUMIF('Daily Log'!$BA$18:$BA$1017,$B35,'Daily Log'!$BB$18:$BB$1017),0)","v":0},{"$f":"IFERROR($E35*SUMIF('Daily Log'!$BD$18:$BD$1017,$B35,'Daily Log'!$BE$18:$BE$1017),0)","v":0},{"$f":"IFERROR($E35*SUMIF('Daily Log'!$BG$18:$BG$1017,$B35,'Daily Log'!$BH$18:$BH$1017),0)","v":0},{"$f":"IFERROR($E35*SUMIF('Daily Log'!$BJ$18:$BJ$1017,$B35,'Daily Log'!$BK$18:$BK$1017),0)","v":0},{"$f":"IFERROR($E35*SUMIF('Daily Log'!$BM$18:$BM$1017,$B35,'Daily Log'!$BN$18:$BN$1017),0)","v":0},{"$f":"IFERROR($E35*SUMIF('Daily Log'!$BP$18:$BP$1017,$B35,'Daily Log'!$BQ$18:$BQ$1017),0)","v":0},{"$f":"IFERROR($E35*SUMIF('Daily Log'!$BS$18:$BS$1017,$B35,'Daily Log'!$BT$18:$BT$1017),0)","v":0},{"$f":"IFERROR($E35*SUMIF('Daily Log'!$BV$18:$BV$1017,$B35,'Daily Log'!$BW$18:$BW$1017),0)","v":1},{"$f":"IFERROR($E35*SUMIF('Daily Log'!$BY$18:$BY$1017,$B35,'Daily Log'!$BZ$18:$BZ$1017),0)","v":0},{"$f":"IFERROR($E35*SUMIF('Daily Log'!$CB$18:$CB$1017,$B35,'Daily Log'!$CC$18:$CC$1017),0)","v":0},{"$f":"IFERROR($E35*SUMIF('Daily Log'!$CE$18:$CE$1017,$B35,'Daily Log'!$CF$18:$CF$1017),0)","v":0},{"$f":"IFERROR($E35*SUMIF('Daily Log'!$CH$18:$CH$1017,$B35,'Daily Log'!$CI$18:$CI$1017),0)","v":1},{"$f":"IFERROR($E35*SUMIF('Daily Log'!$CK$18:$CK$1017,$B35,'Daily Log'!$CL$18:$CL$1017),0)","v":0},{"$f":"IFERROR($E35*SUMIF('Daily Log'!$CN$18:$CN$1017,$B35,'Daily Log'!$CO$18:$CO$1017),0)","v":0}]
[null,"AA07 1207:SAUSG",null,"APPETIZER",1,14,{"$f":"IFERROR($E36*SUMIF('Daily Log'!$B$18:$B$1017,$B36,'Daily Log'!$C$18:$C$1017),0)","v":0},{"$f":"IFERROR($E36*SUMIF('Daily Log'!$E$18:$E$1017,$B36,'Daily Log'!$F$18:$F$1017),0)","v":0},{"$f":"IFERROR($E36*SUMIF('Daily Log'!$H$18:$H$1017,$B36,'Daily Log'!$I$18:$I$1017),0)","v":0},{"$f":"IFERROR($E36*SUMIF('Daily Log'!$K$18:$K$1017,$B36,'Daily Log'!$L$18:$L$1017),0)","v":0},{"$f":"IFERROR($E36*SUMIF('Daily Log'!$N$18:$N$1017,$B36,'Daily Log'!$O$18:$O$1017),0)","v":1},{"$f":"IFERROR($E36*SUMIF('Daily Log'!$Q$18:$Q$1017,$B36,'Daily Log'!$R$18:$R$1017),0)","v":2},{"$f":"IFERROR($E36*SUMIF('Daily Log'!$T$18:$T$1017,$B36,'Daily Log'!$U$18:$U$1017),0)","v":0},{"$f":"IFERROR($E36*SUMIF('Daily Log'!$W$18:$W$1017,$B36,'Daily Log'!$X$18:$X$1017),0)","v":1},{"$f":"IFERROR($E36*SUMIF('Daily Log'!$Z$18:$Z$1017,$B36,'Daily Log'!$AA$18:$AA$1017),0)","v":2},{"$f":"IFERROR($E36*SUMIF('Daily Log'!$AC$18:$AC$1017,$B36,'Daily Log'!$AD$18:$AD$1017),0)","v":0},{"$f":"IFERROR($E36*SUMIF('Daily Log'!$AF$18:$AF$1017,$B36,'Daily Log'!$AG$18:$AG$1017),0)","v":1},{"$f":"IFERROR($E36*SUMIF('Daily Log'!$AI$18:$AI$1017,$B36,'Daily Log'!$AJ$18:$AJ$1017),0)","v":0},{"$f":"IFERROR($E36*SUMIF('Daily Log'!$AL$18:$AL$1017,$B36,'Daily Log'!$AM$18:$AM$1017),0)","v":0},{"$f":"IFERROR($E36*SUMIF('Daily Log'!$AO$18:$AO$1017,$B36,'Daily Log'!$AP$18:$AP$1017),0)","v":1},{"$f":"IFERROR($E36*SUMIF('Daily Log'!$AR$18:$AR$1017,$B36,'Daily Log'!$AS$18:$AS$1017),0)","v":0},{"$f":"IFERROR($E36*SUMIF('Daily Log'!$AU$18:$AU$1017,$B36,'Daily Log'!$AV$18:$AV$1017),0)","v":0},{"$f":"IFERROR($E36*SUMIF('Daily Log'!$AX$18:$AX$1017,$B36,'Daily Log'!$AY$18:$AY$1017),0)","v":1},{"$f":"IFERROR($E36*SUMIF('Daily Log'!$BA$18:$BA$1017,$B36,'Daily Log'!$BB$18:$BB$1017),0)","v":1},{"$f":"IFERROR($E36*SUMIF('Daily Log'!$BD$18:$BD$1017,$B36,'Daily Log'!$BE$18:$BE$1017),0)","v":0},{"$f":"IFERROR($E36*SUMIF('Daily Log'!$BG$18:$BG$1017,$B36,'Daily Log'!$BH$18:$BH$1017),0)","v":1},{"$f":"IFERROR($E36*SUMIF('Daily Log'!$BJ$18:$BJ$1017,$B36,'Daily Log'!$BK$18:$BK$1017),0)","v":1},{"$f":"IFERROR($E36*SUMIF('Daily Log'!$BM$18:$BM$1017,$B36,'Daily Log'!$BN$18:$BN$1017),0)","v":0},{"$f":"IFERROR($E36*SUMIF('Daily Log'!$BP$18:$BP$1017,$B36,'Daily Log'!$BQ$18:$BQ$1017),0)","v":1},{"$f":"IFERROR($E36*SUMIF('Daily Log'!$BS$18:$BS$1017,$B36,'Daily Log'!$BT$18:$BT$1017),0)","v":0},{"$f":"IFERROR($E36*SUMIF('Daily Log'!$BV$18:$BV$1017,$B36,'Daily Log'!$BW$18:$BW$1017),0)","v":0},{"$f":"IFERROR($E36*SUMIF('Daily Log'!$BY$18:$BY$1017,$B36,'Daily Log'!$BZ$18:$BZ$1017),0)","v":0},{"$f":"IFERROR($E36*SUMIF('Daily Log'!$CB$18:$CB$1017,$B36,'Daily Log'!$CC$18:$CC$1017),0)","v":0},{"$f":"IFERROR($E36*SUMIF('Daily Log'!$CE$18:$CE$1017,$B36,'Daily Log'!$CF$18:$CF$1017),0)","v":1},{"$f":"IFERROR($E36*SUMIF('Daily Log'!$CH$18:$CH$1017,$B36,'Daily Log'!$CI$18:$CI$1017),0)","v":0},{"$f":"IFERROR($E36*SUMIF('Daily Log'!$CK$18:$CK$1017,$B36,'Daily Log'!$CL$18:$CL$1017),0)","v":0},{"$f":"IFERROR($E36*SUMIF('Daily Log'!$CN$18:$CN$1017,$B36,'Daily Log'!$CO$18:$CO$1017),0)","v":0}]
[null,"AA31 1301:DUMPLING",null,"APPETIZER",1,0,{"$f":"IFERROR($E37*SUMIF('Daily Log'!$B$18:$B$1017,$B37,'Daily Log'!$C$18:$C$1017),0)","v":0},{"$f":"IFERROR($E37*SUMIF('Daily Log'!$E$18:$E$1017,$B37,'Daily Log'!$F$18:$F$1017),0)","v":0},{"$f":"IFERROR($E37*SUMIF('Daily Log'!$H$18:$H$1017,$B37,'Daily Log'!$I$18:$I$1017),0)","v":0},{"$f":"IFERROR($E37*SUMIF('Daily Log'!$K$18:$K$1017,$B37,'Daily Log'!$L$18:$L$1017),0)","v":0},{"$f":"IFERROR($E37*SUMIF('Daily Log'!$N$18:$N$1017,$B37,'Daily Log'!$O$18:$O$1017),0)","v":0},{"$f":"IFERROR($E37*SUMIF('Daily Log'!$Q$18:$Q$1017,$B37,'Daily Log'!$R$18:$R$1017),0)","v":0},{"$f":"IFERROR($E37*SUMIF('Daily Log'!$T$18:$T$1017,$B37,'Daily Log'!$U$18:$U$1017),0)","v":0},{"$f":"IFERROR($E37*SUMIF('Daily Log'!$W$18:$W$1017,$B37,'Daily Log'!$X$18:$X$1017),0)","v":0},{"$f":"IFERROR($E37*SUMIF('Daily Log'!$Z$18:$Z$1017,$B37,'Daily Log'!$AA$18:$AA$1017),0)","v":0},{"$f":"IFERROR($E37*SUMIF('Daily Log'!$AC$18:$AC$1017,$B37,'Daily Log'!$AD$18:$AD$1017),0)","v":0},{"$f":"IFERROR($E37*SUMIF('Daily Log'!$AF$18:$AF$1017,$B37,'Daily Log'!$AG$18:$AG$1017),0)","v":0},{"$f":"IFERROR($E37*SUMIF('Daily Log'!$AI$18:$AI$1017,$B37,'Daily Log'!$AJ$18:$AJ$1017),0)","v":0},{"$f":"IFERROR($E37*SUMIF('Daily Log'!$AL$18:$AL$1017,$B37,'Daily Log'!$AM$18:$AM$1017),0)","v":0},{"$f":"IFERROR($E37*SUMIF('Daily Log'!$AO$18:$AO$1017,$B37,'Daily Log'!$AP$18:$AP$1017),0)","v":0},{"$f":"IFERROR($E37*SUMIF('Daily Log'!$AR$18:$AR$1017,$B37,'Daily Log'!$AS$18:$AS$1017),0)","v":0},{"$f":"IFERROR($E37*SUMIF('Daily Log'!$AU$18:$AU$1017,$B37,'Daily Log'!$AV$18:$AV$1017),0)","v":0},{"$f":"IFERROR($E37*SUMIF('Daily Log'!$AX$18:$AX$1017,$B37,'Daily Log'!$AY$18:$AY$1017),0)","v":0},{"$f":"IFERROR($E37*SUMIF('Daily Log'!$BA$18:$BA$1017,$B37,'Daily Log'!$BB$18:$BB$1017),0)","v":0},{"$f":"IFERROR($E37*SUMIF('Daily Log'!$BD$18:$BD$1017,$B37,'Daily Log'!$BE$18:$BE$1017),0)","v":0},{"$f":"IFERROR($E37*SUMIF('Daily Log'!$BG$18:$BG$1017,$B37,'Daily Log'!$BH$18:$BH$1017),0)","v":0},{"$f":"IFERROR($E37*SUMIF('Daily Log'!$BJ$18:$BJ$1017,$B37,'Daily Log'!$BK$18:$BK$1017),0)","v":0},{"$f":"IFERROR($E37*SUMIF('Daily Log'!$BM$18:$BM$1017,$B37,'Daily Log'!$BN$18:$BN$1017),0)","v":0},{"$f":"IFERROR($E37*SUMIF('Daily Log'!$BP$18:$BP$1017,$B37,'Daily Log'!$BQ$18:$BQ$1017),0)","v":0},{"$f":"IFERROR($E37*SUMIF('Daily Log'!$BS$18:$BS$1017,$B37,'Daily Log'!$BT$18:$BT$1017),0)","v":0},{"$f":"IFERROR($E37*SUMIF('Daily Log'!$BV$18:$BV$1017,$B37,'Daily Log'!$BW$18:$BW$1017),0)","v":0},{"$f":"IFERROR($E37*SUMIF('Daily Log'!$BY$18:$BY$1017,$B37,'Daily Log'!$BZ$18:$BZ$1017),0)","v":0},{"$f":"IFERROR($E37*SUMIF('Daily Log'!$CB$18:$CB$1017,$B37,'Daily Log'!$CC$18:$CC$1017),0)","v":0},{"$f":"IFERROR($E37*SUMIF('Daily Log'!$CE$18:$CE$1017,$B37,'Daily Log'!$CF$18:$CF$1017),0)","v":0},{"$f":"IFERROR($E37*SUMIF('Daily Log'!$CH$18:$CH$1017,$B37,'Daily Log'!$CI$18:$CI$1017),0)","v":0},{"$f":"IFERROR($E37*SUMIF('Daily Log'!$CK$18:$CK$1017,$B37,'Daily Log'!$CL$18:$CL$1017),0)","v":0},{"$f":"IFERROR($E37*SUMIF('Daily Log'!$CN$18:$CN$1017,$B37,'Daily Log'!$CO$18:$CO$1017),0)","v":0}]
[null,"AA32 1302:NUGGET",null,"APPETIZER",1,46,{"$f":"IFERROR($E38*SUMIF('Daily Log'!$B$18:$B$1017,$B38,'Daily Log'!$C$18:$C$1017),0)","v":1},{"$f":"IFERROR($E38*SUMIF('Daily Log'!$E$18:$E$1017,$B38,'Daily Log'!$F$18:$F$1017),0)","v":0},{"$f":"IFERROR($E38*SUMIF('Daily Log'!$H$18:$H$1017,$B38,'Daily Log'!$I$18:$I$1017),0)","v":1},{"$f":"IFERROR($E38*SUMIF('Daily Log'!$K$18:$K$1017,$B38,'Daily Log'!$L$18:$L$1017),0)","v":1},{"$f":"IFERROR($E38*SUMIF('Daily Log'!$N$18:$N$1017,$B38,'Daily Log'!$O$18:$O$1017),0)","v":3},{"$f":"IFERROR($E38*SUMIF('Daily Log'!$Q$18:$Q$1017,$B38,'Daily Log'!$R$18:$R$1017),0)","v":2},{"$f":"IFERROR($E38*SUMIF('Daily Log'!$T$18:$T$1017,$B38,'Daily Log'!$U$18:$U$1017),0)","v":0},{"$f":"IFERROR($E38*SUMIF('Daily Log'!$W$18:$W$1017,$B38,'Daily Log'!$X$18:$X$1017),0)","v":0},{"$f":"IFERROR($E38*SUMIF('Daily Log'!$Z$18:$Z$1017,$B38,'Daily Log'!$AA$18:$AA$1017),0)","v":3},{"$f":"IFERROR($E38*SUMIF('Daily Log'!$AC$18:$AC$1017,$B38,'Daily Log'!$AD$18:$AD$1017),0)","v":1},{"$f":"IFERROR($E38*SUMIF('Daily Log'!$AF$18:$AF$1017,$B38,'Daily Log'!$AG$18:$AG$1017),0)","v":0},{"$f":"IFERROR($E38*SUMIF('Daily Log'!$AI$18:$AI$1017,$B38,'Daily Log'!$AJ$18:$AJ$1017),0)","v":1},{"$f":"IFERROR($E38*SUMIF('Daily Log'!$AL$18:$AL$1017,$B38,'Daily Log'!$AM$18:$AM$1017),0)","v":2},{"$f":"IFERROR($E38*SUMIF('Daily Log'!$AO$18:$AO$1017,$B38,'Daily Log'!$AP$18:$AP$1017),0)","v":4},{"$f":"IFERROR($E38*SUMIF('Daily Log'!$AR$18:$AR$1017,$B38,'Daily Log'!$AS$18:$AS$1017),0)","v":1},{"$f":"IFERROR($E38*SUMIF('Daily Log'!$AU$18:$AU$1017,$B38,'Daily Log'!$AV$18:$AV$1017),0)","v":2},{"$f":"IFERROR($E38*SUMIF('Daily Log'!$AX$18:$AX$1017,$B38,'Daily Log'!$AY$18:$AY$1017),0)","v":0},{"$f":"IFERROR($E38*SUMIF('Daily Log'!$BA$18:$BA$1017,$B38,'Daily Log'!$BB$18:$BB$1017),0)","v":1},{"$f":"IFERROR($E38*SUMIF('Daily Log'!$BD$18:$BD$1017,$B38,'Daily Log'!$BE$18:$BE$1017),0)","v":1},{"$f":"IFERROR($E38*SUMIF('Daily Log'!$BG$18:$BG$1017,$B38,'Daily Log'!$BH$18:$BH$1017),0)","v":5},{"$f":"IFERROR($E38*SUMIF('Daily Log'!$BJ$18:$BJ$1017,$B38,'Daily Log'!$BK$18:$BK$1017),0)","v":3},{"$f":"IFERROR($E38*SUMIF('Daily Log'!$BM$18:$BM$1017,$B38,'Daily Log'!$BN$18:$BN$1017),0)","v":0},{"$f":"IFERROR($E38*SUMIF('Daily Log'!$BP$18:$BP$1017,$B38,'Daily Log'!$BQ$18:$BQ$1017),0)","v":2},{"$f":"IFERROR($E38*SUMIF('Daily Log'!$BS$18:$BS$1017,$B38,'Daily Log'!$BT$18:$BT$1017),0)","v":2},{"$f":"IFERROR($E38*SUMIF('Daily Log'!$BV$18:$BV$1017,$B38,'Daily Log'!$BW$18:$BW$1017),0)","v":6},{"$f":"IFERROR($E38*SUMIF('Daily Log'!$BY$18:$BY$1017,$B38,'Daily Log'!$BZ$18:$BZ$1017),0)","v":1},{"$f":"IFERROR($E38*SUMIF('Daily Log'!$CB$18:$CB$1017,$B38,'Daily Log'!$CC$18:$CC$1017),0)","v":0},{"$f":"IFERROR($E38*SUMIF('Daily Log'!$CE$18:$CE$1017,$B38,'Daily Log'!$CF$18:$CF$1017),0)","v":0},{"$f":"IFERROR($E38*SUMIF('Daily Log'!$CH$18:$CH$1017,$B38,'Daily Log'!$CI$18:$CI$1017),0)","v":2},{"$f":"IFERROR($E38*SUMIF('Daily Log'!$CK$18:$CK$1017,$B38,'Daily Log'!$CL$18:$CL$1017),0)","v":1},{"$f":"IFERROR($E38*SUMIF('Daily Log'!$CN$18:$CN$1017,$B38,'Daily Log'!$CO$18:$CO$1017),0)","v":0}]
[null,"AA33 1303:CHK WING",null,"APPETIZER",1,38,{"$f":"IFERROR($E39*SUMIF('Daily Log'!$B$18:$B$1017,$B39,'Daily Log'!$C$18:$C$1017),0)","v":1},{"$f":"IFERROR($E39*SUMIF('Daily Log'!$E$18:$E$1017,$B39,'Daily Log'!$F$18:$F$1017),0)","v":1},{"$f":"IFERROR($E39*SUMIF('Daily Log'!$H$18:$H$1017,$B39,'Daily Log'!$I$18:$I$1017),0)","v":0},{"$f":"IFERROR($E39*SUMIF('Daily Log'!$K$18:$K$1017,$B39,'Daily Log'!$L$18:$L$1017),0)","v":1},{"$f":"IFERROR($E39*SUMIF('Daily Log'!$N$18:$N$1017,$B39,'Daily Log'!$O$18:$O$1017),0)","v":1},{"$f":"IFERROR($E39*SUMIF('Daily Log'!$Q$18:$Q$1017,$B39,'Daily Log'!$R$18:$R$1017),0)","v":1},{"$f":"IFERROR($E39*SUMIF('Daily Log'!$T$18:$T$1017,$B39,'Daily Log'!$U$18:$U$1017),0)","v":1},{"$f":"IFERROR($E39*SUMIF('Daily Log'!$W$18:$W$1017,$B39,'Daily Log'!$X$18:$X$1017),0)","v":3},{"$f":"IFERROR($E39*SUMIF('Daily Log'!$Z$18:$Z$1017,$B39,'Daily Log'!$AA$18:$AA$1017),0)","v":0},{"$f":"IFERROR($E39*SUMIF('Daily Log'!$AC$18:$AC$1017,$B39,'Daily Log'!$AD$18:$AD$1017),0)","v":0},{"$f":"IFERROR($E39*SUMIF('Daily Log'!$AF$18:$AF$1017,$B39,'Daily Log'!$AG$18:$AG$1017),0)","v":2},{"$f":"IFERROR($E39*SUMIF('Daily Log'!$AI$18:$AI$1017,$B39,'Daily Log'!$AJ$18:$AJ$1017),0)","v":1},{"$f":"IFERROR($E39*SUMIF('Daily Log'!$AL$18:$AL$1017,$B39,'Daily Log'!$AM$18:$AM$1017),0)","v":0},{"$f":"IFERROR($E39*SUMIF('Daily Log'!$AO$18:$AO$1017,$B39,'Daily Log'!$AP$18:$AP$1017),0)","v":0},{"$f":"IFERROR($E39*SUMIF('Daily Log'!$AR$18:$AR$1017,$B39,'Daily Log'!$AS$18:$AS$1017),0)","v":0},{"$f":"IFERROR($E39*SUMIF('Daily Log'!$AU$18:$AU$1017,$B39,'Daily Log'!$AV$18:$AV$1017),0)","v":3},{"$f":"IFERROR($E39*SUMIF('Daily Log'!$AX$18:$AX$1017,$B39,'Daily Log'!$AY$18:$AY$1017),0)","v":2},{"$f":"IFERROR($E39*SUMIF('Daily Log'!$BA$18:$BA$1017,$B39,'Daily Log'!$BB$18:$BB$1017),0)","v":1},{"$f":"IFERROR($E39*SUMIF('Daily Log'!$BD$18:$BD$1017,$B39,'Daily Log'!$BE$18:$BE$1017),0)","v":3},{"$f":"IFERROR($E39*SUMIF('Daily Log'!$BG$18:$BG$1017,$B39,'Daily Log'!$BH$18:$BH$1017),0)","v":2},{"$f":"IFERROR($E39*SUMIF('Daily Log'!$BJ$18:$BJ$1017,$B39,'Daily Log'!$BK$18:$BK$1017),0)","v":1},{"$f":"IFERROR($E39*SUMIF('Daily Log'!$BM$18:$BM$1017,$B39,'Daily Log'!$BN$18:$BN$1017),0)","v":1},{"$f":"IFERROR($E39*SUMIF('Daily Log'!$BP$18:$BP$1017,$B39,'Daily Log'!$BQ$18:$BQ$1017),0)","v":1},{"$f":"IFERROR($E39*SUMIF('Daily Log'!$BS$18:$BS$1017,$B39,'Daily Log'!$BT$18:$BT$1017),0)","v":2},{"$f":"IFERROR($E39*SUMIF('Daily Log'!$BV$18:$BV$1017,$B39,'Daily Log'!$BW$18:$BW$1017),0)","v":4},{"$f":"IFERROR($E39*SUMIF('Daily Log'!$BY$18:$BY$1017,$B39,'Daily Log'!$BZ$18:$BZ$1017),0)","v":2},{"$f":"IFERROR($E39*SUMIF('Daily Log'!$CB$18:$CB$1017,$B39,'Daily Log'!$CC$18:$CC$1017),0)","v":1},{"$f":"IFERROR($E39*SUMIF('Daily Log'!$CE$18:$CE$1017,$B39,'Daily Log'!$CF$18:$CF$1017),0)","v":0},{"$f":"IFERROR($E39*SUMIF('Daily Log'!$CH$18:$CH$1017,$B39,'Daily Log'!$CI$18:$CI$1017),0)","v":1},{"$f":"IFERROR($E39*SUMIF('Daily Log'!$CK$18:$CK$1017,$B39,'Daily Log'!$CL$18:$CL$1017),0)","v":2},{"$f":"IFERROR($E39*SUMIF('Daily Log'!$CN$18:$CN$1017,$B39,'Daily Log'!$CO$18:$CO$1017),0)","v":0}]
[null,"AA34 1304:IKAN BILIS",null,"APPETIZER",1,5,{"$f":"IFERROR($E40*SUMIF('Daily Log'!$B$18:$B$1017,$B40,'Daily Log'!$C$18:$C$1017),0)","v":0},{"$f":"IFERROR($E40*SUMIF('Daily Log'!$E$18:$E$1017,$B40,'Daily Log'!$F$18:$F$1017),0)","v":0},{"$f":"IFERROR($E40*SUMIF('Daily Log'!$H$18:$H$1017,$B40,'Daily Log'!$I$18:$I$1017),0)","v":0},{"$f":"IFERROR($E40*SUMIF('Daily Log'!$K$18:$K$1017,$B40,'Daily Log'!$L$18:$L$1017),0)","v":0},{"$f":"IFERROR($E40*SUMIF('Daily Log'!$N$18:$N$1017,$B40,'Daily Log'!$O$18:$O$1017),0)","v":0},{"$f":"IFERROR($E40*SUMIF('Daily Log'!$Q$18:$Q$1017,$B40,'Daily Log'!$R$18:$R$1017),0)","v":1},{"$f":"IFERROR($E40*SUMIF('Daily Log'!$T$18:$T$1017,$B40,'Daily Log'!$U$18:$U$1017),0)","v":0},{"$f":"IFERROR($E40*SUMIF('Daily Log'!$W$18:$W$1017,$B40,'Daily Log'!$X$18:$X$1017),0)","v":1},{"$f":"IFERROR($E40*SUMIF('Daily Log'!$Z$18:$Z$1017,$B40,'Daily Log'!$AA$18:$AA$1017),0)","v":1},{"$f":"IFERROR($E40*SUMIF('Daily Log'!$AC$18:$AC$1017,$B40,'Daily Log'!$AD$18:$AD$1017),0)","v":0},{"$f":"IFERROR($E40*SUMIF('Daily Log'!$AF$18:$AF$1017,$B40,'Daily Log'!$AG$18:$AG$1017),0)","v":0},{"$f":"IFERROR($E40*SUMIF('Daily Log'!$AI$18:$AI$1017,$B40,'Daily Log'!$AJ$18:$AJ$1017),0)","v":0},{"$f":"IFERROR($E40*SUMIF('Daily Log'!$AL$18:$AL$1017,$B40,'Daily Log'!$AM$18:$AM$1017),0)","v":0},{"$f":"IFERROR($E40*SUMIF('Daily Log'!$AO$18:$AO$1017,$B40,'Daily Log'!$AP$18:$AP$1017),0)","v":0},{"$f":"IFERROR($E40*SUMIF('Daily Log'!$AR$18:$AR$1017,$B40,'Daily Log'!$AS$18:$AS$1017),0)","v":0},{"$f":"IFERROR($E40*SUMIF('Daily Log'!$AU$18:$AU$1017,$B40,'Daily Log'!$AV$18:$AV$1017),0)","v":0},{"$f":"IFERROR($E40*SUMIF('Daily Log'!$AX$18:$AX$1017,$B40,'Daily Log'!$AY$18:$AY$1017),0)","v":0},{"$f":"IFERROR($E40*SUMIF('Daily Log'!$BA$18:$BA$1017,$B40,'Daily Log'!$BB$18:$BB$1017),0)","v":0},{"$f":"IFERROR($E40*SUMIF('Daily Log'!$BD$18:$BD$1017,$B40,'Daily Log'!$BE$18:$BE$1017),0)","v":1},{"$f":"IFERROR($E40*SUMIF('Daily Log'!$BG$18:$BG$1017,$B40,'Daily Log'!$BH$18:$BH$1017),0)","v":0},{"$f":"IFERROR($E40*SUMIF('Daily Log'!$BJ$18:$BJ$1017,$B40,'Daily Log'!$BK$18:$BK$1017),0)","v":0},{"$f":"IFERROR($E40*SUMIF('Daily Log'!$BM$18:$BM$1017,$B40,'Daily Log'!$BN$18:$BN$1017),0)","v":0},{"$f":"IFERROR($E40*SUMIF('Daily Log'!$BP$18:$BP$1017,$B40,'Daily Log'!$BQ$18:$BQ$1017),0)","v":1},{"$f":"IFERROR($E40*SUMIF('Daily Log'!$BS$18:$BS$1017,$B40,'Daily Log'!$BT$18:$BT$1017),0)","v":0},{"$f":"IFERROR($E40*SUMIF('Daily Log'!$BV$18:$BV$1017,$B40,'Daily Log'!$BW$18:$BW$1017),0)","v":0},{"$f":"IFERROR($E40*SUMIF('Daily Log'!$BY$18:$BY$1017,$B40,'Daily Log'!$BZ$18:$BZ$1017),0)","v":0},{"$f":"IFERROR($E40*SUMIF('Daily Log'!$CB$18:$CB$1017,$B40,'Daily Log'!$CC$18:$CC$1017),0)","v":0},{"$f":"IFERROR($E40*SUMIF('Daily Log'!$CE$18:$CE$1017,$B40,'Daily Log'!$CF$18:$CF$1017),0)","v":0},{"$f":"IFERROR($E40*SUMIF('Daily Log'!$CH$18:$CH$1017,$B40,'Daily Log'!$CI$18:$CI$1017),0)","v":0},{"$f":"IFERROR($E40*SUMIF('Daily Log'!$CK$18:$CK$1017,$B40,'Daily Log'!$CL$18:$CL$1017),0)","v":0},{"$f":"IFERROR($E40*SUMIF('Daily Log'!$CN$18:$CN$1017,$B40,'Daily Log'!$CO$18:$CO$1017),0)","v":0}]
[null,"AA35 1305:THAI RL",null,"APPETIZER",1,0,{"$f":"IFERROR($E41*SUMIF('Daily Log'!$B$18:$B$1017,$B41,'Daily Log'!$C$18:$C$1017),0)","v":0},{"$f":"IFERROR($E41*SUMIF('Daily Log'!$E$18:$E$1017,$B41,'Daily Log'!$F$18:$F$1017),0)","v":0},{"$f":"IFERROR($E41*SUMIF('Daily Log'!$H$18:$H$1017,$B41,'Daily Log'!$I$18:$I$1017),0)","v":0},{"$f":"IFERROR($E41*SUMIF('Daily Log'!$K$18:$K$1017,$B41,'Daily Log'!$L$18:$L$1017),0)","v":0},{"$f":"IFERROR($E41*SUMIF('Daily Log'!$N$18:$N$1017,$B41,'Daily Log'!$O$18:$O$1017),0)","v":0},{"$f":"IFERROR($E41*SUMIF('Daily Log'!$Q$18:$Q$1017,$B41,'Daily Log'!$R$18:$R$1017),0)","v":0},{"$f":"IFERROR($E41*SUMIF('Daily Log'!$T$18:$T$1017,$B41,'Daily Log'!$U$18:$U$1017),0)","v":0},{"$f":"IFERROR($E41*SUMIF('Daily Log'!$W$18:$W$1017,$B41,'Daily Log'!$X$18:$X$1017),0)","v":0},{"$f":"IFERROR($E41*SUMIF('Daily Log'!$Z$18:$Z$1017,$B41,'Daily Log'!$AA$18:$AA$1017),0)","v":0},{"$f":"IFERROR($E41*SUMIF('Daily Log'!$AC$18:$AC$1017,$B41,'Daily Log'!$AD$18:$AD$1017),0)","v":0},{"$f":"IFERROR($E41*SUMIF('Daily Log'!$AF$18:$AF$1017,$B41,'Daily Log'!$AG$18:$AG$1017),0)","v":0},{"$f":"IFERROR($E41*SUMIF('Daily Log'!$AI$18:$AI$1017,$B41,'Daily Log'!$AJ$18:$AJ$1017),0)","v":0},{"$f":"IFERROR($E41*SUMIF('Daily Log'!$AL$18:$AL$1017,$B41,'Daily Log'!$AM$18:$AM$1017),0)","v":0},{"$f":"IFERROR($E41*SUMIF('Daily Log'!$AO$18:$AO$1017,$B41,'Daily Log'!$AP$18:$AP$1017),0)","v":0},{"$f":"IFERROR($E41*SUMIF('Daily Log'!$AR$18:$AR$1017,$B41,'Daily Log'!$AS$18:$AS$1017),0)","v":0},{"$f":"IFERROR($E41*SUMIF('Daily Log'!$AU$18:$AU$1017,$B41,'Daily Log'!$AV$18:$AV$1017),0)","v":0},{"$f":"IFERROR($E41*SUMIF('Daily Log'!$AX$18:$AX$1017,$B41,'Daily Log'!$AY$18:$AY$1017),0)","v":0},{"$f":"IFERROR($E41*SUMIF('Daily Log'!$BA$18:$BA$1017,$B41,'Daily Log'!$BB$18:$BB$1017),0)","v":0},{"$f":"IFERROR($E41*SUMIF('Daily Log'!$BD$18:$BD$1017,$B41,'Daily Log'!$BE$18:$BE$1017),0)","v":0},{"$f":"IFERROR($E41*SUMIF('Daily Log'!$BG$18:$BG$1017,$B41,'Daily Log'!$BH$18:$BH$1017),0)","v":0},{"$f":"IFERROR($E41*SUMIF('Daily Log'!$BJ$18:$BJ$1017,$B41,'Daily Log'!$BK$18:$BK$1017),0)","v":0},{"$f":"IFERROR($E41*SUMIF('Daily Log'!$BM$18:$BM$1017,$B41,'Daily Log'!$BN$18:$BN$1017),0)","v":0},{"$f":"IFERROR($E41*SUMIF('Daily Log'!$BP$18:$BP$1017,$B41,'Daily Log'!$BQ$18:$BQ$1017),0)","v":0},{"$f":"IFERROR($E41*SUMIF('Daily Log'!$BS$18:$BS$1017,$B41,'Daily Log'!$BT$18:$BT$1017),0)","v":0},{"$f":"IFERROR($E41*SUMIF('Daily Log'!$BV$18:$BV$1017,$B41,'Daily Log'!$BW$18:$BW$1017),0)","v":0},{"$f":"IFERROR($E41*SUMIF('Daily Log'!$BY$18:$BY$1017,$B41,'Daily Log'!$BZ$18:$BZ$1017),0)","v":0},{"$f":"IFERROR($E41*SUMIF('Daily Log'!$CB$18:$CB$1017,$B41,'Daily Log'!$CC$18:$CC$1017),0)","v":0},{"$f":"IFERROR($E41*SUMIF('Daily Log'!$CE$18:$CE$1017,$B41,'Daily Log'!$CF$18:$CF$1017),0)","v":0},{"$f":"IFERROR($E41*SUMIF('Daily Log'!$CH$18:$CH$1017,$B41,'Daily Log'!$CI$18:$CI$1017),0)","v":0},{"$f":"IFERROR($E41*SUMIF('Daily Log'!$CK$18:$CK$1017,$B41,'Daily Log'!$CL$18:$CL$1017),0)","v":0},{"$f":"IFERROR($E41*SUMIF('Daily Log'!$CN$18:$CN$1017,$B41,'Daily Log'!$CO$18:$CO$1017),0)","v":0}]
[null,"AA36 1306:DF WING",null,"APPETIZER",1,4,{"$f":"IFERROR($E42*SUMIF('Daily Log'!$B$18:$B$1017,$B42,'Daily Log'!$C$18:$C$1017),0)","v":0},{"$f":"IFERROR($E42*SUMIF('Daily Log'!$E$18:$E$1017,$B42,'Daily Log'!$F$18:$F$1017),0)","v":0},{"$f":"IFERROR($E42*SUMIF('Daily Log'!$H$18:$H$1017,$B42,'Daily Log'!$I$18:$I$1017),0)","v":0},{"$f":"IFERROR($E42*SUMIF('Daily Log'!$K$18:$K$1017,$B42,'Daily Log'!$L$18:$L$1017),0)","v":0},{"$f":"IFERROR($E42*SUMIF('Daily Log'!$N$18:$N$1017,$B42,'Daily Log'!$O$18:$O$1017),0)","v":0},{"$f":"IFERROR($E42*SUMIF('Daily Log'!$Q$18:$Q$1017,$B42,'Daily Log'!$R$18:$R$1017),0)","v":0},{"$f":"IFERROR($E42*SUMIF('Daily Log'!$T$18:$T$1017,$B42,'Daily Log'!$U$18:$U$1017),0)","v":0},{"$f":"IFERROR($E42*SUMIF('Daily Log'!$W$18:$W$1017,$B42,'Daily Log'!$X$18:$X$1017),0)","v":1},{"$f":"IFERROR($E42*SUMIF('Daily Log'!$Z$18:$Z$1017,$B42,'Daily Log'!$AA$18:$AA$1017),0)","v":0},{"$f":"IFERROR($E42*SUMIF('Daily Log'!$AC$18:$AC$1017,$B42,'Daily Log'!$AD$18:$AD$1017),0)","v":0},{"$f":"IFERROR($E42*SUMIF('Daily Log'!$AF$18:$AF$1017,$B42,'Daily Log'!$AG$18:$AG$1017),0)","v":0},{"$f":"IFERROR($E42*SUMIF('Daily Log'!$AI$18:$AI$1017,$B42,'Daily Log'!$AJ$18:$AJ$1017),0)","v":0},{"$f":"IFERROR($E42*SUMIF('Daily Log'!$AL$18:$AL$1017,$B42,'Daily Log'!$AM$18:$AM$1017),0)","v":0},{"$f":"IFERROR($E42*SUMIF('Daily Log'!$AO$18:$AO$1017,$B42,'Daily Log'!$AP$18:$AP$1017),0)","v":0},{"$f":"IFERROR($E42*SUMIF('Daily Log'!$AR$18:$AR$1017,$B42,'Daily Log'!$AS$18:$AS$1017),0)","v":0},{"$f":"IFERROR($E42*SUMIF('Daily Log'!$AU$18:$AU$1017,$B42,'Daily Log'!$AV$18:$AV$1017),0)","v":0},{"$f":"IFERROR($E42*SUMIF('Daily Log'!$AX$18:$AX$1017,$B42,'Daily Log'!$AY$18:$AY$1017),0)","v":0},{"$f":"IFERROR($E42*SUMIF('Daily Log'!$BA$18:$BA$1017,$B42,'Daily Log'!$BB$18:$BB$1017),0)","v":0},{"$f":"IFERROR($E42*SUMIF('Daily Log'!$BD$18:$BD$1017,$B42,'Daily Log'!$BE$18:$BE$1017),0)","v":0},{"$f":"IFERROR($E42*SUMIF('Daily Log'!$BG$18:$BG$1017,$B42,'Daily Log'!$BH$18:$BH$1017),0)","v":1},{"$f":"IFERROR($E42*SUMIF('Daily Log'!$BJ$18:$BJ$1017,$B42,'Daily Log'!$BK$18:$BK$1017),0)","v":0},{"$f":"IFERROR($E42*SUMIF('Daily Log'!$BM$18:$BM$1017,$B42,'Daily Log'!$BN$18:$BN$1017),0)","v":0},{"$f":"IFERROR($E42*SUMIF('Daily Log'!$BP$18:$BP$1017,$B42,'Daily Log'!$BQ$18:$BQ$1017),0)","v":0},{"$f":"IFERROR($E42*SUMIF('Daily Log'!$BS$18:$BS$1017,$B42,'Daily Log'!$BT$18:$BT$1017),0)","v":0},{"$f":"IFERROR($E42*SUMIF('Daily Log'!$BV$18:$BV$1017,$B42,'Daily Log'!$BW$18:$BW$1017),0)","v":1},{"$f":"IFERROR($E42*SUMIF('Daily Log'!$BY$18:$BY$1017,$B42,'Daily Log'!$BZ$18:$BZ$1017),0)","v":0},{"$f":"IFERROR($E42*SUMIF('Daily Log'!$CB$18:$CB$1017,$B42,'Daily Log'!$CC$18:$CC$1017),0)","v":0},{"$f":"IFERROR($E42*SUMIF('Daily Log'!$CE$18:$CE$1017,$B42,'Daily Log'!$CF$18:$CF$1017),0)","v":0},{"$f":"IFERROR($E42*SUMIF('Daily Log'!$CH$18:$CH$1017,$B42,'Daily Log'!$CI$18:$CI$1017),0)","v":0},{"$f":"IFERROR($E42*SUMIF('Daily Log'!$CK$18:$CK$1017,$B42,'Daily Log'!$CL$18:$CL$1017),0)","v":1},{"$f":"IFERROR($E42*SUMIF('Daily Log'!$CN$18:$CN$1017,$B42,'Daily Log'!$CO$18:$CO$1017),0)","v":0}]
[null,"AA37 1307:CALAMARI",null,"APPETIZER",1,5,{"$f":"IFERROR($E43*SUMIF('Daily Log'!$B$18:$B$1017,$B43,'Daily Log'!$C$18:$C$1017),0)","v":1},{"$f":"IFERROR($E43*SUMIF('Daily Log'!$E$18:$E$1017,$B43,'Daily Log'!$F$18:$F$1017),0)","v":0},{"$f":"IFERROR($E43*SUMIF('Daily Log'!$H$18:$H$1017,$B43,'Daily Log'!$I$18:$I$1017),0)","v":0},{"$f":"IFERROR($E43*SUMIF('Daily Log'!$K$18:$K$1017,$B43,'Daily Log'!$L$18:$L$1017),0)","v":0},{"$f":"IFERROR($E43*SUMIF('Daily Log'!$N$18:$N$1017,$B43,'Daily Log'!$O$18:$O$1017),0)","v":0},{"$f":"IFERROR($E43*SUMIF('Daily Log'!$Q$18:$Q$1017,$B43,'Daily Log'!$R$18:$R$1017),0)","v":0},{"$f":"IFERROR($E43*SUMIF('Daily Log'!$T$18:$T$1017,$B43,'Daily Log'!$U$18:$U$1017),0)","v":0},{"$f":"IFERROR($E43*SUMIF('Daily Log'!$W$18:$W$1017,$B43,'Daily Log'!$X$18:$X$1017),0)","v":0},{"$f":"IFERROR($E43*SUMIF('Daily Log'!$Z$18:$Z$1017,$B43,'Daily Log'!$AA$18:$AA$1017),0)","v":0},{"$f":"IFERROR($E43*SUMIF('Daily Log'!$AC$18:$AC$1017,$B43,'Daily Log'!$AD$18:$AD$1017),0)","v":0},{"$f":"IFERROR($E43*SUMIF('Daily Log'!$AF$18:$AF$1017,$B43,'Daily Log'!$AG$18:$AG$1017),0)","v":0},{"$f":"IFERROR($E43*SUMIF('Daily Log'!$AI$18:$AI$1017,$B43,'Daily Log'!$AJ$18:$AJ$1017),0)","v":0},{"$f":"IFERROR($E43*SUMIF('Daily Log'!$AL$18:$AL$1017,$B43,'Daily Log'!$AM$18:$AM$1017),0)","v":0},{"$f":"IFERROR($E43*SUMIF('Daily Log'!$AO$18:$AO$1017,$B43,'Daily Log'!$AP$18:$AP$1017),0)","v":0},{"$f":"IFERROR($E43*SUMIF('Daily Log'!$AR$18:$AR$1017,$B43,'Daily Log'!$AS$18:$AS$1017),0)","v":1},{"$f":"IFERROR($E43*SUMIF('Daily Log'!$AU$18:$AU$1017,$B43,'Daily Log'!$AV$18:$AV$1017),0)","v":1},{"$f":"IFERROR($E43*SUMIF('Daily Log'!$AX$18:$AX$1017,$B43,'Daily Log'!$AY$18:$AY$1017),0)","v":0},{"$f":"IFERROR($E43*SUMIF('Daily Log'!$BA$18:$BA$1017,$B43,'Daily Log'!$BB$18:$BB$1017),0)","v":0},{"$f":"IFERROR($E43*SUMIF('Daily Log'!$BD$18:$BD$1017,$B43,'Daily Log'!$BE$18:$BE$1017),0)","v":0},{"$f":"IFERROR($E43*SUMIF('Daily Log'!$BG$18:$BG$1017,$B43,'Daily Log'!$BH$18:$BH$1017),0)","v":0},{"$f":"IFERROR($E43*SUMIF('Daily Log'!$BJ$18:$BJ$1017,$B43,'Daily Log'!$BK$18:$BK$1017),0)","v":0},{"$f":"IFERROR($E43*SUMIF('Daily Log'!$BM$18:$BM$1017,$B43,'Daily Log'!$BN$18:$BN$1017),0)","v":0},{"$f":"IFERROR($E43*SUMIF('Daily Log'!$BP$18:$BP$1017,$B43,'Daily Log'!$BQ$18:$BQ$1017),0)","v":0},{"$f":"IFERROR($E43*SUMIF('Daily Log'!$BS$18:$BS$1017,$B43,'Daily Log'!$BT$18:$BT$1017),0)","v":0},{"$f":"IFERROR($E43*SUMIF('Daily Log'!$BV$18:$BV$1017,$B43,'Daily Log'!$BW$18:$BW$1017),0)","v":1},{"$f":"IFERROR($E43*SUMIF('Daily Log'!$BY$18:$BY$1017,$B43,'Daily Log'!$BZ$18:$BZ$1017),0)","v":0},{"$f":"IFERROR($E43*SUMIF('Daily Log'!$CB$18:$CB$1017,$B43,'Daily Log'!$CC$18:$CC$1017),0)","v":0},{"$f":"IFERROR($E43*SUMIF('Daily Log'!$CE$18:$CE$1017,$B43,'Daily Log'!$CF$18:$CF$1017),0)","v":0},{"$f":"IFERROR($E43*SUMIF('Daily Log'!$CH$18:$CH$1017,$B43,'Daily Log'!$CI$18:$CI$1017),0)","v":0},{"$f":"IFERROR($E43*SUMIF('Daily Log'!$CK$18:$CK$1017,$B43,'Daily Log'!$CL$18:$CL$1017),0)","v":1},{"$f":"IFERROR($E43*SUMIF('Daily Log'!$CN$18:$CN$1017,$B43,'Daily Log'!$CO$18:$CO$1017),0)","v":0}]
[null,"AA38 1308:MC RING",null,"APPETIZER",1,5,{"$f":"IFERROR($E44*SUMIF('Daily Log'!$B$18:$B$1017,$B44,'Daily Log'!$C$18:$C$1017),0)","v":0},{"$f":"IFERROR($E44*SUMIF('Daily Log'!$E$18:$E$1017,$B44,'Daily Log'!$F$18:$F$1017),0)","v":0},{"$f":"IFERROR($E44*SUMIF('Daily Log'!$H$18:$H$1017,$B44,'Daily Log'!$I$18:$I$1017),0)","v":0},{"$f":"IFERROR($E44*SUMIF('Daily Log'!$K$18:$K$1017,$B44,'Daily Log'!$L$18:$L$1017),0)","v":0},{"$f":"IFERROR($E44*SUMIF('Daily Log'!$N$18:$N$1017,$B44,'Daily Log'!$O$18:$O$1017),0)","v":0},{"$f":"IFERROR($E44*SUMIF('Daily Log'!$Q$18:$Q$1017,$B44,'Daily Log'!$R$18:$R$1017),0)","v":0},{"$f":"IFERROR($E44*SUMIF('Daily Log'!$T$18:$T$1017,$B44,'Daily Log'!$U$18:$U$1017),0)","v":0},{"$f":"IFERROR($E44*SUMIF('Daily Log'!$W$18:$W$1017,$B44,'Daily Log'!$X$18:$X$1017),0)","v":0},{"$f":"IFERROR($E44*SUMIF('Daily Log'!$Z$18:$Z$1017,$B44,'Daily Log'!$AA$18:$AA$1017),0)","v":0},{"$f":"IFERROR($E44*SUMIF('Daily Log'!$AC$18:$AC$1017,$B44,'Daily Log'!$AD$18:$AD$1017),0)","v":1},{"$f":"IFERROR($E44*SUMIF('Daily Log'!$AF$18:$AF$1017,$B44,'Daily Log'!$AG$18:$AG$1017),0)","v":0},{"$f":"IFERROR($E44*SUMIF('Daily Log'!$AI$18:$AI$1017,$B44,'Daily Log'!$AJ$18:$AJ$1017),0)","v":0},{"$f":"IFERROR($E44*SUMIF('Daily Log'!$AL$18:$AL$1017,$B44,'Daily Log'!$AM$18:$AM$1017),0)","v":1},{"$f":"IFERROR($E44*SUMIF('Daily Log'!$AO$18:$AO$1017,$B44,'Daily Log'!$AP$18:$AP$1017),0)","v":1},{"$f":"IFERROR($E44*SUMIF('Daily Log'!$AR$18:$AR$1017,$B44,'Daily Log'!$AS$18:$AS$1017),0)","v":0},{"$f":"IFERROR($E44*SUMIF('Daily Log'!$AU$18:$AU$1017,$B44,'Daily Log'!$AV$18:$AV$1017),0)","v":1},{"$f":"IFERROR($E44*SUMIF('Daily Log'!$AX$18:$AX$1017,$B44,'Daily Log'!$AY$18:$AY$1017),0)","v":0},{"$f":"IFERROR($E44*SUMIF('Daily Log'!$BA$18:$BA$1017,$B44,'Daily Log'!$BB$18:$BB$1017),0)","v":0},{"$f":"IFERROR($E44*SUMIF('Daily Log'!$BD$18:$BD$1017,$B44,'Daily Log'!$BE$18:$BE$1017),0)","v":1},{"$f":"IFERROR($E44*SUMIF('Daily Log'!$BG$18:$BG$1017,$B44,'Daily Log'!$BH$18:$BH$1017),0)","v":0},{"$f":"IFERROR($E44*SUMIF('Daily Log'!$BJ$18:$BJ$1017,$B44,'Daily Log'!$BK$18:$BK$1017),0)","v":0},{"$f":"IFERROR($E44*SUMIF('Daily Log'!$BM$18:$BM$1017,$B44,'Daily Log'!$BN$18:$BN$1017),0)","v":0},{"$f":"IFERROR($E44*SUMIF('Daily Log'!$BP$18:$BP$1017,$B44,'Daily Log'!$BQ$18:$BQ$1017),0)","v":0},{"$f":"IFERROR($E44*SUMIF('Daily Log'!$BS$18:$BS$1017,$B44,'Daily Log'!$BT$18:$BT$1017),0)","v":0},{"$f":"IFERROR($E44*SUMIF('Daily Log'!$BV$18:$BV$1017,$B44,'Daily Log'!$BW$18:$BW$1017),0)","v":0},{"$f":"IFERROR($E44*SUMIF('Daily Log'!$BY$18:$BY$1017,$B44,'Daily Log'!$BZ$18:$BZ$1017),0)","v":0},{"$f":"IFERROR($E44*SUMIF('Daily Log'!$CB$18:$CB$1017,$B44,'Daily Log'!$CC$18:$CC$1017),0)","v":0},{"$f":"IFERROR($E44*SUMIF('Daily Log'!$CE$18:$CE$1017,$B44,'Daily Log'!$CF$18:$CF$1017),0)","v":0},{"$f":"IFERROR($E44*SUMIF('Daily Log'!$CH$18:$CH$1017,$B44,'Daily Log'!$CI$18:$CI$1017),0)","v":0},{"$f":"IFERROR($E44*SUMIF('Daily Log'!$CK$18:$CK$1017,$B44,'Daily Log'!$CL$18:$CL$1017),0)","v":0},{"$f":"IFERROR($E44*SUMIF('Daily Log'!$CN$18:$CN$1017,$B44,'Daily Log'!$CO$18:$CO$1017),0)","v":0}]
[null,"AA39 1309:MC S.FRIES",null,"APPETIZER",1,13,{"$f":"IFERROR($E45*SUMIF('Daily Log'!$B$18:$B$1017,$B45,'Daily Log'!$C$18:$C$1017),0)","v":0},{"$f":"IFERROR($E45*SUMIF('Daily Log'!$E$18:$E$1017,$B45,'Daily Log'!$F$18:$F$1017),0)","v":0},{"$f":"IFERROR($E45*SUMIF('Daily Log'!$H$18:$H$1017,$B45,'Daily Log'!$I$18:$I$1017),0)","v":1},{"$f":"IFERROR($E45*SUMIF('Daily Log'!$K$18:$K$1017,$B45,'Daily Log'!$L$18:$L$1017),0)","v":0},{"$f":"IFERROR($E45*SUMIF('Daily Log'!$N$18:$N$1017,$B45,'Daily Log'!$O$18:$O$1017),0)","v":2},{"$f":"IFERROR($E45*SUMIF('Daily Log'!$Q$18:$Q$1017,$B45,'Daily Log'!$R$18:$R$1017),0)","v":2},{"$f":"IFERROR($E45*SUMIF('Daily Log'!$T$18:$T$1017,$B45,'Daily Log'!$U$18:$U$1017),0)","v":0},{"$f":"IFERROR($E45*SUMIF('Daily Log'!$W$18:$W$1017,$B45,'Daily Log'!$X$18:$X$1017),0)","v":1},{"$f":"IFERROR($E45*SUMIF('Daily Log'!$Z$18:$Z$1017,$B45,'Daily Log'!$AA$18:$AA$1017),0)","v":0},{"$f":"IFERROR($E45*SUMIF('Daily Log'!$AC$18:$AC$1017,$B45,'Daily Log'!$AD$18:$AD$1017),0)","v":0},{"$f":"IFERROR($E45*SUMIF('Daily Log'!$AF$18:$AF$1017,$B45,'Daily Log'!$AG$18:$AG$1017),0)","v":0},{"$f":"IFERROR($E45*SUMIF('Daily Log'!$AI$18:$AI$1017,$B45,'Daily Log'!$AJ$18:$AJ$1017),0)","v":0},{"$f":"IFERROR($E45*SUMIF('Daily Log'!$AL$18:$AL$1017,$B45,'Daily Log'!$AM$18:$AM$1017),0)","v":1},{"$f":"IFERROR($E45*SUMIF('Daily Log'!$AO$18:$AO$1017,$B45,'Daily Log'!$AP$18:$AP$1017),0)","v":0},{"$f":"IFERROR($E45*SUMIF('Daily Log'!$AR$18:$AR$1017,$B45,'Daily Log'!$AS$18:$AS$1017),0)","v":0},{"$f":"IFERROR($E45*SUMIF('Daily Log'!$AU$18:$AU$1017,$B45,'Daily Log'!$AV$18:$AV$1017),0)","v":0},{"$f":"IFERROR($E45*SUMIF('Daily Log'!$AX$18:$AX$1017,$B45,'Daily Log'!$AY$18:$AY$1017),0)","v":0},{"$f":"IFERROR($E45*SUMIF('Daily Log'!$BA$18:$BA$1017,$B45,'Daily Log'!$BB$18:$BB$1017),0)","v":0},{"$f":"IFERROR($E45*SUMIF('Daily Log'!$BD$18:$BD$1017,$B45,'Daily Log'!$BE$18:$BE$1017),0)","v":0},{"$f":"IFERROR($E45*SUMIF('Daily Log'!$BG$18:$BG$1017,$B45,'Daily Log'!$BH$18:$BH$1017),0)","v":0},{"$f":"IFERROR($E45*SUMIF('Daily Log'!$BJ$18:$BJ$1017,$B45,'Daily Log'!$BK$18:$BK$1017),0)","v":0},{"$f":"IFERROR($E45*SUMIF('Daily Log'!$BM$18:$BM$1017,$B45,'Daily Log'!$BN$18:$BN$1017),0)","v":1},{"$f":"IFERROR($E45*SUMIF('Daily Log'!$BP$18:$BP$1017,$B45,'Daily Log'!$BQ$18:$BQ$1017),0)","v":1},{"$f":"IFERROR($E45*SUMIF('Daily Log'!$BS$18:$BS$1017,$B45,'Daily Log'!$BT$18:$BT$1017),0)","v":0},{"$f":"IFERROR($E45*SUMIF('Daily Log'!$BV$18:$BV$1017,$B45,'Daily Log'!$BW$18:$BW$1017),0)","v":0},{"$f":"IFERROR($E45*SUMIF('Daily Log'!$BY$18:$BY$1017,$B45,'Daily Log'!$BZ$18:$BZ$1017),0)","v":1},{"$f":"IFERROR($E45*SUMIF('Daily Log'!$CB$18:$CB$1017,$B45,'Daily Log'!$CC$18:$CC$1017),0)","v":0},{"$f":"IFERROR($E45*SUMIF('Daily Log'!$CE$18:$CE$1017,$B45,'Daily Log'!$CF$18:$CF$1017),0)","v":1},{"$f":"IFERROR($E45*SUMIF('Daily Log'!$CH$18:$CH$1017,$B45,'Daily Log'!$CI$18:$CI$1017),0)","v":1},{"$f":"IFERROR($E45*SUMIF('Daily Log'!$CK$18:$CK$1017,$B45,'Daily Log'!$CL$18:$CL$1017),0)","v":1},{"$f":"IFERROR($E45*SUMIF('Daily Log'!$CN$18:$CN$1017,$B45,'Daily Log'!$CO$18:$CO$1017),0)","v":0}]
[null,"AA40 1310:MC HP SMIL",null,"APPETIZER",1,1,{"$f":"IFERROR($E46*SUMIF('Daily Log'!$B$18:$B$1017,$B46,'Daily Log'!$C$18:$C$1017),0)","v":0},{"$f":"IFERROR($E46*SUMIF('Daily Log'!$E$18:$E$1017,$B46,'Daily Log'!$F$18:$F$1017),0)","v":0},{"$f":"IFERROR($E46*SUMIF('Daily Log'!$H$18:$H$1017,$B46,'Daily Log'!$I$18:$I$1017),0)","v":0},{"$f":"IFERROR($E46*SUMIF('Daily Log'!$K$18:$K$1017,$B46,'Daily Log'!$L$18:$L$1017),0)","v":0},{"$f":"IFERROR($E46*SUMIF('Daily Log'!$N$18:$N$1017,$B46,'Daily Log'!$O$18:$O$1017),0)","v":0},{"$f":"IFERROR($E46*SUMIF('Daily Log'!$Q$18:$Q$1017,$B46,'Daily Log'!$R$18:$R$1017),0)","v":0},{"$f":"IFERROR($E46*SUMIF('Daily Log'!$T$18:$T$1017,$B46,'Daily Log'!$U$18:$U$1017),0)","v":0},{"$f":"IFERROR($E46*SUMIF('Daily Log'!$W$18:$W$1017,$B46,'Daily Log'!$X$18:$X$1017),0)","v":0},{"$f":"IFERROR($E46*SUMIF('Daily Log'!$Z$18:$Z$1017,$B46,'Daily Log'!$AA$18:$AA$1017),0)","v":0},{"$f":"IFERROR($E46*SUMIF('Daily Log'!$AC$18:$AC$1017,$B46,'Daily Log'!$AD$18:$AD$1017),0)","v":0},{"$f":"IFERROR($E46*SUMIF('Daily Log'!$AF$18:$AF$1017,$B46,'Daily Log'!$AG$18:$AG$1017),0)","v":0},{"$f":"IFERROR($E46*SUMIF('Daily Log'!$AI$18:$AI$1017,$B46,'Daily Log'!$AJ$18:$AJ$1017),0)","v":0},{"$f":"IFERROR($E46*SUMIF('Daily Log'!$AL$18:$AL$1017,$B46,'Daily Log'!$AM$18:$AM$1017),0)","v":0},{"$f":"IFERROR($E46*SUMIF('Daily Log'!$AO$18:$AO$1017,$B46,'Daily Log'!$AP$18:$AP$1017),0)","v":0},{"$f":"IFERROR($E46*SUMIF('Daily Log'!$AR$18:$AR$1017,$B46,'Daily Log'!$AS$18:$AS$1017),0)","v":0},{"$f":"IFERROR($E46*SUMIF('Daily Log'!$AU$18:$AU$1017,$B46,'Daily Log'!$AV$18:$AV$1017),0)","v":0},{"$f":"IFERROR($E46*SUMIF('Daily Log'!$AX$18:$AX$1017,$B46,'Daily Log'!$AY$18:$AY$1017),0)","v":0},{"$f":"IFERROR($E46*SUMIF('Daily Log'!$BA$18:$BA$1017,$B46,'Daily Log'!$BB$18:$BB$1017),0)","v":0},{"$f":"IFERROR($E46*SUMIF('Daily Log'!$BD$18:$BD$1017,$B46,'Daily Log'!$BE$18:$BE$1017),0)","v":1},{"$f":"IFERROR($E46*SUMIF('Daily Log'!$BG$18:$BG$1017,$B46,'Daily Log'!$BH$18:$BH$1017),0)","v":0},{"$f":"IFERROR($E46*SUMIF('Daily Log'!$BJ$18:$BJ$1017,$B46,'Daily Log'!$BK$18:$BK$1017),0)","v":0},{"$f":"IFERROR($E46*SUMIF('Daily Log'!$BM$18:$BM$1017,$B46,'Daily Log'!$BN$18:$BN$1017),0)","v":0},{"$f":"IFERROR($E46*SUMIF('Daily Log'!$BP$18:$BP$1017,$B46,'Daily Log'!$BQ$18:$BQ$1017),0)","v":0},{"$f":"IFERROR($E46*SUMIF('Daily Log'!$BS$18:$BS$1017,$B46,'Daily Log'!$BT$18:$BT$1017),0)","v":0},{"$f":"IFERROR($E46*SUMIF('Daily Log'!$BV$18:$BV$1017,$B46,'Daily Log'!$BW$18:$BW$1017),0)","v":0},{"$f":"IFERROR($E46*SUMIF('Daily Log'!$BY$18:$BY$1017,$B46,'Daily Log'!$BZ$18:$BZ$1017),0)","v":0},{"$f":"IFERROR($E46*SUMIF('Daily Log'!$CB$18:$CB$1017,$B46,'Daily Log'!$CC$18:$CC$1017),0)","v":0},{"$f":"IFERROR($E46*SUMIF('Daily Log'!$CE$18:$CE$1017,$B46,'Daily Log'!$CF$18:$CF$1017),0)","v":0},{"$f":"IFERROR($E46*SUMIF('Daily Log'!$CH$18:$CH$1017,$B46,'Daily Log'!$CI$18:$CI$1017),0)","v":0},{"$f":"IFERROR($E46*SUMIF('Daily Log'!$CK$18:$CK$1017,$B46,'Daily Log'!$CL$18:$CL$1017),0)","v":0},{"$f":"IFERROR($E46*SUMIF('Daily Log'!$CN$18:$CN$1017,$B46,'Daily Log'!$CO$18:$CO$1017),0)","v":0}]
[null,"AA41 1311:MC HSH BRW",null,"APPETIZER",1,10,{"$f":"IFERROR($E47*SUMIF('Daily Log'!$B$18:$B$1017,$B47,'Daily Log'!$C$18:$C$1017),0)","v":0},{"$f":"IFERROR($E47*SUMIF('Daily Log'!$E$18:$E$1017,$B47,'Daily Log'!$F$18:$F$1017),0)","v":0},{"$f":"IFERROR($E47*SUMIF('Daily Log'!$H$18:$H$1017,$B47,'Daily Log'!$I$18:$I$1017),0)","v":0},{"$f":"IFERROR($E47*SUMIF('Daily Log'!$K$18:$K$1017,$B47,'Daily Log'!$L$18:$L$1017),0)","v":0},{"$f":"IFERROR($E47*SUMIF('Daily Log'!$N$18:$N$1017,$B47,'Daily Log'!$O$18:$O$1017),0)","v":0},{"$f":"IFERROR($E47*SUMIF('Daily Log'!$Q$18:$Q$1017,$B47,'Daily Log'!$R$18:$R$1017),0)","v":0},{"$f":"IFERROR($E47*SUMIF('Daily Log'!$T$18:$T$1017,$B47,'Daily Log'!$U$18:$U$1017),0)","v":2},{"$f":"IFERROR($E47*SUMIF('Daily Log'!$W$18:$W$1017,$B47,'Daily Log'!$X$18:$X$1017),0)","v":1},{"$f":"IFERROR($E47*SUMIF('Daily Log'!$Z$18:$Z$1017,$B47,'Daily Log'!$AA$18:$AA$1017),0)","v":0},{"$f":"IFERROR($E47*SUMIF('Daily Log'!$AC$18:$AC$1017,$B47,'Daily Log'!$AD$18:$AD$1017),0)","v":1},{"$f":"IFERROR($E47*SUMIF('Daily Log'!$AF$18:$AF$1017,$B47,'Daily Log'!$AG$18:$AG$1017),0)","v":0},{"$f":"IFERROR($E47*SUMIF('Daily Log'!$AI$18:$AI$1017,$B47,'Daily Log'!$AJ$18:$AJ$1017),0)","v":0},{"$f":"IFERROR($E47*SUMIF('Daily Log'!$AL$18:$AL$1017,$B47,'Daily Log'!$AM$18:$AM$1017),0)","v":0},{"$f":"IFERROR($E47*SUMIF('Daily Log'!$AO$18:$AO$1017,$B47,'Daily Log'!$AP$18:$AP$1017),0)","v":0},{"$f":"IFERROR($E47*SUMIF('Daily Log'!$AR$18:$AR$1017,$B47,'Daily Log'!$AS$18:$AS$1017),0)","v":0},{"$f":"IFERROR($E47*SUMIF('Daily Log'!$AU$18:$AU$1017,$B47,'Daily Log'!$AV$18:$AV$1017),0)","v":0},{"$f":"IFERROR($E47*SUMIF('Daily Log'!$AX$18:$AX$1017,$B47,'Daily Log'!$AY$18:$AY$1017),0)","v":1},{"$f":"IFERROR($E47*SUMIF('Daily Log'!$BA$18:$BA$1017,$B47,'Daily Log'!$BB$18:$BB$1017),0)","v":0},{"$f":"IFERROR($E47*SUMIF('Daily Log'!$BD$18:$BD$1017,$B47,'Daily Log'!$BE$18:$BE$1017),0)","v":1},{"$f":"IFERROR($E47*SUMIF('Daily Log'!$BG$18:$BG$1017,$B47,'Daily Log'!$BH$18:$BH$1017),0)","v":1},{"$f":"IFERROR($E47*SUMIF('Daily Log'!$BJ$18:$BJ$1017,$B47,'Daily Log'!$BK$18:$BK$1017),0)","v":0},{"$f":"IFERROR($E47*SUMIF('Daily Log'!$BM$18:$BM$1017,$B47,'Daily Log'!$BN$18:$BN$1017),0)","v":1},{"$f":"IFERROR($E47*SUMIF('Daily Log'!$BP$18:$BP$1017,$B47,'Daily Log'!$BQ$18:$BQ$1017),0)","v":0},{"$f":"IFERROR($E47*SUMIF('Daily Log'!$BS$18:$BS$1017,$B47,'Daily Log'!$BT$18:$BT$1017),0)","v":0},{"$f":"IFERROR($E47*SUMIF('Daily Log'!$BV$18:$BV$1017,$B47,'Daily Log'!$BW$18:$BW$1017),0)","v":1},{"$f":"IFERROR($E47*SUMIF('Daily Log'!$BY$18:$BY$1017,$B47,'Daily Log'!$BZ$18:$BZ$1017),0)","v":1},{"$f":"IFERROR($E47*SUMIF('Daily Log'!$CB$18:$CB$1017,$B47,'Daily Log'!$CC$18:$CC$1017),0)","v":0},{"$f":"IFERROR($E47*SUMIF('Daily Log'!$CE$18:$CE$1017,$B47,'Daily Log'!$CF$18:$CF$1017),0)","v":0},{"$f":"IFERROR($E47*SUMIF('Daily Log'!$CH$18:$CH$1017,$B47,'Daily Log'!$CI$18:$CI$1017),0)","v":0},{"$f":"IFERROR($E47*SUMIF('Daily Log'!$CK$18:$CK$1017,$B47,'Daily Log'!$CL$18:$CL$1017),0)","v":0},{"$f":"IFERROR($E47*SUMIF('Daily Log'!$CN$18:$CN$1017,$B47,'Daily Log'!$CO$18:$CO$1017),0)","v":0}]
[null,"AF01 91201:SFD STICK",null,"APPETIZER FREE",1,2,{"$f":"IFERROR($E48*SUMIF('Daily Log'!$B$18:$B$1017,$B48,'Daily Log'!$C$18:$C$1017),0)","v":0},{"$f":"IFERROR($E48*SUMIF('Daily Log'!$E$18:$E$1017,$B48,'Daily Log'!$F$18:$F$1017),0)","v":0},{"$f":"IFERROR($E48*SUMIF('Daily Log'!$H$18:$H$1017,$B48,'Daily Log'!$I$18:$I$1017),0)","v":1},{"$f":"IFERROR($E48*SUMIF('Daily Log'!$K$18:$K$1017,$B48,'Daily Log'!$L$18:$L$1017),0)","v":0},{"$f":"IFERROR($E48*SUMIF('Daily Log'!$N$18:$N$1017,$B48,'Daily Log'!$O$18:$O$1017),0)","v":0},{"$f":"IFERROR($E48*SUMIF('Daily Log'!$Q$18:$Q$1017,$B48,'Daily Log'!$R$18:$R$1017),0)","v":0},{"$f":"IFERROR($E48*SUMIF('Daily Log'!$T$18:$T$1017,$B48,'Daily Log'!$U$18:$U$1017),0)","v":0},{"$f":"IFERROR($E48*SUMIF('Daily Log'!$W$18:$W$1017,$B48,'Daily Log'!$X$18:$X$1017),0)","v":0},{"$f":"IFERROR($E48*SUMIF('Daily Log'!$Z$18:$Z$1017,$B48,'Daily Log'!$AA$18:$AA$1017),0)","v":0},{"$f":"IFERROR($E48*SUMIF('Daily Log'!$AC$18:$AC$1017,$B48,'Daily Log'!$AD$18:$AD$1017),0)","v":0},{"$f":"IFERROR($E48*SUMIF('Daily Log'!$AF$18:$AF$1017,$B48,'Daily Log'!$AG$18:$AG$1017),0)","v":0},{"$f":"IFERROR($E48*SUMIF('Daily Log'!$AI$18:$AI$1017,$B48,'Daily Log'!$AJ$18:$AJ$1017),0)","v":0},{"$f":"IFERROR($E48*SUMIF('Daily Log'!$AL$18:$AL$1017,$B48,'Daily Log'!$AM$18:$AM$1017),0)","v":0},{"$f":"IFERROR($E48*SUMIF('Daily Log'!$AO$18:$AO$1017,$B48,'Daily Log'!$AP$18:$AP$1017),0)","v":0},{"$f":"IFERROR($E48*SUMIF('Daily Log'!$AR$18:$AR$1017,$B48,'Daily Log'!$AS$18:$AS$1017),0)","v":0},{"$f":"IFERROR($E48*SUMIF('Daily Log'!$AU$18:$AU$1017,$B48,'Daily Log'!$AV$18:$AV$1017),0)","v":0},{"$f":"IFERROR($E48*SUMIF('Daily Log'!$AX$18:$AX$1017,$B48,'Daily Log'!$AY$18:$AY$1017),0)","v":0},{"$f":"IFERROR($E48*SUMIF('Daily Log'!$BA$18:$BA$1017,$B48,'Daily Log'!$BB$18:$BB$1017),0)","v":0},{"$f":"IFERROR($E48*SUMIF('Daily Log'!$BD$18:$BD$1017,$B48,'Daily Log'!$BE$18:$BE$1017),0)","v":0},{"$f":"IFERROR($E48*SUMIF('Daily Log'!$BG$18:$BG$1017,$B48,'Daily Log'!$BH$18:$BH$1017),0)","v":0},{"$f":"IFERROR($E48*SUMIF('Daily Log'!$BJ$18:$BJ$1017,$B48,'Daily Log'!$BK$18:$BK$1017),0)","v":0},{"$f":"IFERROR($E48*SUMIF('Daily Log'!$BM$18:$BM$1017,$B48,'Daily Log'!$BN$18:$BN$1017),0)","v":0},{"$f":"IFERROR($E48*SUMIF('Daily Log'!$BP$18:$BP$1017,$B48,'Daily Log'!$BQ$18:$BQ$1017),0)","v":1},{"$f":"IFERROR($E48*SUMIF('Daily Log'!$BS$18:$BS$1017,$B48,'Daily Log'!$BT$18:$BT$1017),0)","v":0},{"$f":"IFERROR($E48*SUMIF('Daily Log'!$BV$18:$BV$1017,$B48,'Daily Log'!$BW$18:$BW$1017),0)","v":0},{"$f":"IFERROR($E48*SUMIF('Daily Log'!$BY$18:$BY$1017,$B48,'Daily Log'!$BZ$18:$BZ$1017),0)","v":0},{"$f":"IFERROR($E48*SUMIF('Daily Log'!$CB$18:$CB$1017,$B48,'Daily Log'!$CC$18:$CC$1017),0)","v":0},{"$f":"IFERROR($E48*SUMIF('Daily Log'!$CE$18:$CE$1017,$B48,'Daily Log'!$CF$18:$CF$1017),0)","v":0},{"$f":"IFERROR($E48*SUMIF('Daily Log'!$CH$18:$CH$1017,$B48,'Daily Log'!$CI$18:$CI$1017),0)","v":0},{"$f":"IFERROR($E48*SUMIF('Daily Log'!$CK$18:$CK$1017,$B48,'Daily Log'!$CL$18:$CL$1017),0)","v":0},{"$f":"IFERROR($E48*SUMIF('Daily Log'!$CN$18:$CN$1017,$B48,'Daily Log'!$CO$18:$CO$1017),0)","v":0}]
[null,"AF02 91202:FREN FRIES",null,"APPETIZER FREE",1,22,{"$f":"IFERROR($E49*SUMIF('Daily Log'!$B$18:$B$1017,$B49,'Daily Log'!$C$18:$C$1017),0)","v":0},{"$f":"IFERROR($E49*SUMIF('Daily Log'!$E$18:$E$1017,$B49,'Daily Log'!$F$18:$F$1017),0)","v":0},{"$f":"IFERROR($E49*SUMIF('Daily Log'!$H$18:$H$1017,$B49,'Daily Log'!$I$18:$I$1017),0)","v":0},{"$f":"IFERROR($E49*SUMIF('Daily Log'!$K$18:$K$1017,$B49,'Daily Log'!$L$18:$L$1017),0)","v":4},{"$f":"IFERROR($E49*SUMIF('Daily Log'!$N$18:$N$1017,$B49,'Daily Log'!$O$18:$O$1017),0)","v":1},{"$f":"IFERROR($E49*SUMIF('Daily Log'!$Q$18:$Q$1017,$B49,'Daily Log'!$R$18:$R$1017),0)","v":0},{"$f":"IFERROR($E49*SUMIF('Daily Log'!$T$18:$T$1017,$B49,'Daily Log'!$U$18:$U$1017),0)","v":1},{"$f":"IFERROR($E49*SUMIF('Daily Log'!$W$18:$W$1017,$B49,'Daily Log'!$X$18:$X$1017),0)","v":0},{"$f":"IFERROR($E49*SUMIF('Daily Log'!$Z$18:$Z$1017,$B49,'Daily Log'!$AA$18:$AA$1017),0)","v":0},{"$f":"IFERROR($E49*SUMIF('Daily Log'!$AC$18:$AC$1017,$B49,'Daily Log'!$AD$18:$AD$1017),0)","v":0},{"$f":"IFERROR($E49*SUMIF('Daily Log'!$AF$18:$AF$1017,$B49,'Daily Log'!$AG$18:$AG$1017),0)","v":1},{"$f":"IFERROR($E49*SUMIF('Daily Log'!$AI$18:$AI$1017,$B49,'Daily Log'!$AJ$18:$AJ$1017),0)","v":1},{"$f":"IFERROR($E49*SUMIF('Daily Log'!$AL$18:$AL$1017,$B49,'Daily Log'!$AM$18:$AM$1017),0)","v":1},{"$f":"IFERROR($E49*SUMIF('Daily Log'!$AO$18:$AO$1017,$B49,'Daily Log'!$AP$18:$AP$1017),0)","v":0},{"$f":"IFERROR($E49*SUMIF('Daily Log'!$AR$18:$AR$1017,$B49,'Daily Log'!$AS$18:$AS$1017),0)","v":0},{"$f":"IFERROR($E49*SUMIF('Daily Log'!$AU$18:$AU$1017,$B49,'Daily Log'!$AV$18:$AV$1017),0)","v":0},{"$f":"IFERROR($E49*SUMIF('Daily Log'!$AX$18:$AX$1017,$B49,'Daily Log'!$AY$18:$AY$1017),0)","v":1},{"$f":"IFERROR($E49*SUMIF('Daily Log'!$BA$18:$BA$1017,$B49,'Daily Log'!$BB$18:$BB$1017),0)","v":0},{"$f":"IFERROR($E49*SUMIF('Daily Log'!$BD$18:$BD$1017,$B49,'Daily Log'!$BE$18:$BE$1017),0)","v":0},{"$f":"IFERROR($E49*SUMIF('Daily Log'!$BG$18:$BG$1017,$B49,'Daily Log'!$BH$18:$BH$1017),0)","v":0},{"$f":"IFERROR($E49*SUMIF('Daily Log'!$BJ$18:$BJ$1017,$B49,'Daily Log'!$BK$18:$BK$1017),0)","v":1},{"$f":"IFERROR($E49*SUMIF('Daily Log'!$BM$18:$BM$1017,$B49,'Daily Log'!$BN$18:$BN$1017),0)","v":1},{"$f":"IFERROR($E49*SUMIF('Daily Log'!$BP$18:$BP$1017,$B49,'Daily Log'!$BQ$18:$BQ$1017),0)","v":0},{"$f":"IFERROR($E49*SUMIF('Daily Log'!$BS$18:$BS$1017,$B49,'Daily Log'!$BT$18:$BT$1017),0)","v":0},{"$f":"IFERROR($E49*SUMIF('Daily Log'!$BV$18:$BV$1017,$B49,'Daily Log'!$BW$18:$BW$1017),0)","v":0},{"$f":"IFERROR($E49*SUMIF('Daily Log'!$BY$18:$BY$1017,$B49,'Daily Log'!$BZ$18:$BZ$1017),0)","v":1},{"$f":"IFERROR($E49*SUMIF('Daily Log'!$CB$18:$CB$1017,$B49,'Daily Log'!$CC$18:$CC$1017),0)","v":7},{"$f":"IFERROR($E49*SUMIF('Daily Log'!$CE$18:$CE$1017,$B49,'Daily Log'!$CF$18:$CF$1017),0)","v":2},{"$f":"IFERROR($E49*SUMIF('Daily Log'!$CH$18:$CH$1017,$B49,'Daily Log'!$CI$18:$CI$1017),0)","v":0},{"$f":"IFERROR($E49*SUMIF('Daily Log'!$CK$18:$CK$1017,$B49,'Daily Log'!$CL$18:$CL$1017),0)","v":0},{"$f":"IFERROR($E49*SUMIF('Daily Log'!$CN$18:$CN$1017,$B49,'Daily Log'!$CO$18:$CO$1017),0)","v":0}]
[null,"AF03 91203:GOLD MR",null,"APPETIZER FREE",1,6,{"$f":"IFERROR($E50*SUMIF('Daily Log'!$B$18:$B$1017,$B50,'Daily Log'!$C$18:$C$1017),0)","v":1},{"$f":"IFERROR($E50*SUMIF('Daily Log'!$E$18:$E$1017,$B50,'Daily Log'!$F$18:$F$1017),0)","v":0},{"$f":"IFERROR($E50*SUMIF('Daily Log'!$H$18:$H$1017,$B50,'Daily Log'!$I$18:$I$1017),0)","v":0},{"$f":"IFERROR($E50*SUMIF('Daily Log'!$K$18:$K$1017,$B50,'Daily Log'!$L$18:$L$1017),0)","v":1},{"$f":"IFERROR($E50*SUMIF('Daily Log'!$N$18:$N$1017,$B50,'Daily Log'!$O$18:$O$1017),0)","v":0},{"$f":"IFERROR($E50*SUMIF('Daily Log'!$Q$18:$Q$1017,$B50,'Daily Log'!$R$18:$R$1017),0)","v":0},{"$f":"IFERROR($E50*SUMIF('Daily Log'!$T$18:$T$1017,$B50,'Daily Log'!$U$18:$U$1017),0)","v":0},{"$f":"IFERROR($E50*SUMIF('Daily Log'!$W$18:$W$1017,$B50,'Daily Log'!$X$18:$X$1017),0)","v":0},{"$f":"IFERROR($E50*SUMIF('Daily Log'!$Z$18:$Z$1017,$B50,'Daily Log'!$AA$18:$AA$1017),0)","v":0},{"$f":"IFERROR($E50*SUMIF('Daily Log'!$AC$18:$AC$1017,$B50,'Daily Log'!$AD$18:$AD$1017),0)","v":0},{"$f":"IFERROR($E50*SUMIF('Daily Log'!$AF$18:$AF$1017,$B50,'Daily Log'!$AG$18:$AG$1017),0)","v":0},{"$f":"IFERROR($E50*SUMIF('Daily Log'!$AI$18:$AI$1017,$B50,'Daily Log'!$AJ$18:$AJ$1017),0)","v":1},{"$f":"IFERROR($E50*SUMIF('Daily Log'!$AL$18:$AL$1017,$B50,'Daily Log'!$AM$18:$AM$1017),0)","v":0},{"$f":"IFERROR($E50*SUMIF('Daily Log'!$AO$18:$AO$1017,$B50,'Daily Log'!$AP$18:$AP$1017),0)","v":0},{"$f":"IFERROR($E50*SUMIF('Daily Log'!$AR$18:$AR$1017,$B50,'Daily Log'!$AS$18:$AS$1017),0)","v":0},{"$f":"IFERROR($E50*SUMIF('Daily Log'!$AU$18:$AU$1017,$B50,'Daily Log'!$AV$18:$AV$1017),0)","v":1},{"$f":"IFERROR($E50*SUMIF('Daily Log'!$AX$18:$AX$1017,$B50,'Daily Log'!$AY$18:$AY$1017),0)","v":0},{"$f":"IFERROR($E50*SUMIF('Daily Log'!$BA$18:$BA$1017,$B50,'Daily Log'!$BB$18:$BB$1017),0)","v":0},{"$f":"IFERROR($E50*SUMIF('Daily Log'!$BD$18:$BD$1017,$B50,'Daily Log'!$BE$18:$BE$1017),0)","v":1},{"$f":"IFERROR($E50*SUMIF('Daily Log'!$BG$18:$BG$1017,$B50,'Daily Log'!$BH$18:$BH$1017),0)","v":0},{"$f":"IFERROR($E50*SUMIF('Daily Log'!$BJ$18:$BJ$1017,$B50,'Daily Log'!$BK$18:$BK$1017),0)","v":0},{"$f":"IFERROR($E50*SUMIF('Daily Log'!$BM$18:$BM$1017,$B50,'Daily Log'!$BN$18:$BN$1017),0)","v":0},{"$f":"IFERROR($E50*SUMIF('Daily Log'!$BP$18:$BP$1017,$B50,'Daily Log'!$BQ$18:$BQ$1017),0)","v":0},{"$f":"IFERROR($E50*SUMIF('Daily Log'!$BS$18:$BS$1017,$B50,'Daily Log'!$BT$18:$BT$1017),0)","v":0},{"$f":"IFERROR($E50*SUMIF('Daily Log'!$BV$18:$BV$1017,$B50,'Daily Log'!$BW$18:$BW$1017),0)","v":1},{"$f":"IFERROR($E50*SUMIF('Daily Log'!$BY$18:$BY$1017,$B50,'Daily Log'!$BZ$18:$BZ$1017),0)","v":0},{"$f":"IFERROR($E50*SUMIF('Daily Log'!$CB$18:$CB$1017,$B50,'Daily Log'!$CC$18:$CC$1017),0)","v":0},{"$f":"IFERROR($E50*SUMIF('Daily Log'!$CE$18:$CE$1017,$B50,'Daily Log'!$CF$18:$CF$1017),0)","v":0},{"$f":"IFERROR($E50*SUMIF('Daily Log'!$CH$18:$CH$1017,$B50,'Daily Log'!$CI$18:$CI$1017),0)","v":0},{"$f":"IFERROR($E50*SUMIF('Daily Log'!$CK$18:$CK$1017,$B50,'Daily Log'!$CL$18:$CL$1017),0)","v":0},{"$f":"IFERROR($E50*SUMIF('Daily Log'!$CN$18:$CN$1017,$B50,'Daily Log'!$CO$18:$CO$1017),0)","v":0}]
[null,"AF04 91204:FSH BALL",null,"APPETIZER FREE",1,8,{"$f":"IFERROR($E51*SUMIF('Daily Log'!$B$18:$B$1017,$B51,'Daily Log'!$C$18:$C$1017),0)","v":0},{"$f":"IFERROR($E51*SUMIF('Daily Log'!$E$18:$E$1017,$B51,'Daily Log'!$F$18:$F$1017),0)","v":1},{"$f":"IFERROR($E51*SUMIF('Daily Log'!$H$18:$H$1017,$B51,'Daily Log'!$I$18:$I$1017),0)","v":0},{"$f":"IFERROR($E51*SUMIF('Daily Log'!$K$18:$K$1017,$B51,'Daily Log'!$L$18:$L$1017),0)","v":0},{"$f":"IFERROR($E51*SUMIF('Daily Log'!$N$18:$N$1017,$B51,'Daily Log'!$O$18:$O$1017),0)","v":2},{"$f":"IFERROR($E51*SUMIF('Daily Log'!$Q$18:$Q$1017,$B51,'Daily Log'!$R$18:$R$1017),0)","v":0},{"$f":"IFERROR($E51*SUMIF('Daily Log'!$T$18:$T$1017,$B51,'Daily Log'!$U$18:$U$1017),0)","v":0},{"$f":"IFERROR($E51*SUMIF('Daily Log'!$W$18:$W$1017,$B51,'Daily Log'!$X$18:$X$1017),0)","v":0},{"$f":"IFERROR($E51*SUMIF('Daily Log'!$Z$18:$Z$1017,$B51,'Daily Log'!$AA$18:$AA$1017),0)","v":0},{"$f":"IFERROR($E51*SUMIF('Daily Log'!$AC$18:$AC$1017,$B51,'Daily Log'!$AD$18:$AD$1017),0)","v":0},{"$f":"IFERROR($E51*SUMIF('Daily Log'!$AF$18:$AF$1017,$B51,'Daily Log'!$AG$18:$AG$1017),0)","v":0},{"$f":"IFERROR($E51*SUMIF('Daily Log'!$AI$18:$AI$1017,$B51,'Daily Log'!$AJ$18:$AJ$1017),0)","v":0},{"$f":"IFERROR($E51*SUMIF('Daily Log'!$AL$18:$AL$1017,$B51,'Daily Log'!$AM$18:$AM$1017),0)","v":1},{"$f":"IFERROR($E51*SUMIF('Daily Log'!$AO$18:$AO$1017,$B51,'Daily Log'!$AP$18:$AP$1017),0)","v":1},{"$f":"IFERROR($E51*SUMIF('Daily Log'!$AR$18:$AR$1017,$B51,'Daily Log'!$AS$18:$AS$1017),0)","v":0},{"$f":"IFERROR($E51*SUMIF('Daily Log'!$AU$18:$AU$1017,$B51,'Daily Log'!$AV$18:$AV$1017),0)","v":0},{"$f":"IFERROR($E51*SUMIF('Daily Log'!$AX$18:$AX$1017,$B51,'Daily Log'!$AY$18:$AY$1017),0)","v":0},{"$f":"IFERROR($E51*SUMIF('Daily Log'!$BA$18:$BA$1017,$B51,'Daily Log'!$BB$18:$BB$1017),0)","v":0},{"$f":"IFERROR($E51*SUMIF('Daily Log'!$BD$18:$BD$1017,$B51,'Daily Log'!$BE$18:$BE$1017),0)","v":0},{"$f":"IFERROR($E51*SUMIF('Daily Log'!$BG$18:$BG$1017,$B51,'Daily Log'!$BH$18:$BH$1017),0)","v":0},{"$f":"IFERROR($E51*SUMIF('Daily Log'!$BJ$18:$BJ$1017,$B51,'Daily Log'!$BK$18:$BK$1017),0)","v":0},{"$f":"IFERROR($E51*SUMIF('Daily Log'!$BM$18:$BM$1017,$B51,'Daily Log'!$BN$18:$BN$1017),0)","v":0},{"$f":"IFERROR($E51*SUMIF('Daily Log'!$BP$18:$BP$1017,$B51,'Daily Log'!$BQ$18:$BQ$1017),0)","v":0},{"$f":"IFERROR($E51*SUMIF('Daily Log'!$BS$18:$BS$1017,$B51,'Daily Log'!$BT$18:$BT$1017),0)","v":0},{"$f":"IFERROR($E51*SUMIF('Daily Log'!$BV$18:$BV$1017,$B51,'Daily Log'!$BW$18:$BW$1017),0)","v":1},{"$f":"IFERROR($E51*SUMIF('Daily Log'!$BY$18:$BY$1017,$B51,'Daily Log'!$BZ$18:$BZ$1017),0)","v":0},{"$f":"IFERROR($E51*SUMIF('Daily Log'!$CB$18:$CB$1017,$B51,'Daily Log'!$CC$18:$CC$1017),0)","v":2},{"$f":"IFERROR($E51*SUMIF('Daily Log'!$CE$18:$CE$1017,$B51,'Daily Log'!$CF$18:$CF$1017),0)","v":0},{"$f":"IFERROR($E51*SUMIF('Daily Log'!$CH$18:$CH$1017,$B51,'Daily Log'!$CI$18:$CI$1017),0)","v":0},{"$f":"IFERROR($E51*SUMIF('Daily Log'!$CK$18:$CK$1017,$B51,'Daily Log'!$CL$18:$CL$1017),0)","v":0},{"$f":"IFERROR($E51*SUMIF('Daily Log'!$CN$18:$CN$1017,$B51,'Daily Log'!$CO$18:$CO$1017),0)","v":0}]
[null,"AF05 91205:RAINBOW RL",null,"APPETIZER FREE",1,0,{"$f":"IFERROR($E52*SUMIF('Daily Log'!$B$18:$B$1017,$B52,'Daily Log'!$C$18:$C$1017),0)","v":0},{"$f":"IFERROR($E52*SUMIF('Daily Log'!$E$18:$E$1017,$B52,'Daily Log'!$F$18:$F$1017),0)","v":0},{"$f":"IFERROR($E52*SUMIF('Daily Log'!$H$18:$H$1017,$B52,'Daily Log'!$I$18:$I$1017),0)","v":0},{"$f":"IFERROR($E52*SUMIF('Daily Log'!$K$18:$K$1017,$B52,'Daily Log'!$L$18:$L$1017),0)","v":0},{"$f":"IFERROR($E52*SUMIF('Daily Log'!$N$18:$N$1017,$B52,'Daily Log'!$O$18:$O$1017),0)","v":0},{"$f":"IFERROR($E52*SUMIF('Daily Log'!$Q$18:$Q$1017,$B52,'Daily Log'!$R$18:$R$1017),0)","v":0},{"$f":"IFERROR($E52*SUMIF('Daily Log'!$T$18:$T$1017,$B52,'Daily Log'!$U$18:$U$1017),0)","v":0},{"$f":"IFERROR($E52*SUMIF('Daily Log'!$W$18:$W$1017,$B52,'Daily Log'!$X$18:$X$1017),0)","v":0},{"$f":"IFERROR($E52*SUMIF('Daily Log'!$Z$18:$Z$1017,$B52,'Daily Log'!$AA$18:$AA$1017),0)","v":0},{"$f":"IFERROR($E52*SUMIF('Daily Log'!$AC$18:$AC$1017,$B52,'Daily Log'!$AD$18:$AD$1017),0)","v":0},{"$f":"IFERROR($E52*SUMIF('Daily Log'!$AF$18:$AF$1017,$B52,'Daily Log'!$AG$18:$AG$1017),0)","v":0},{"$f":"IFERROR($E52*SUMIF('Daily Log'!$AI$18:$AI$1017,$B52,'Daily Log'!$AJ$18:$AJ$1017),0)","v":0},{"$f":"IFERROR($E52*SUMIF('Daily Log'!$AL$18:$AL$1017,$B52,'Daily Log'!$AM$18:$AM$1017),0)","v":0},{"$f":"IFERROR($E52*SUMIF('Daily Log'!$AO$18:$AO$1017,$B52,'Daily Log'!$AP$18:$AP$1017),0)","v":0},{"$f":"IFERROR($E52*SUMIF('Daily Log'!$AR$18:$AR$1017,$B52,'Daily Log'!$AS$18:$AS$1017),0)","v":0},{"$f":"IFERROR($E52*SUMIF('Daily Log'!$AU$18:$AU$1017,$B52,'Daily Log'!$AV$18:$AV$1017),0)","v":0},{"$f":"IFERROR($E52*SUMIF('Daily Log'!$AX$18:$AX$1017,$B52,'Daily Log'!$AY$18:$AY$1017),0)","v":0},{"$f":"IFERROR($E52*SUMIF('Daily Log'!$BA$18:$BA$1017,$B52,'Daily Log'!$BB$18:$BB$1017),0)","v":0},{"$f":"IFERROR($E52*SUMIF('Daily Log'!$BD$18:$BD$1017,$B52,'Daily Log'!$BE$18:$BE$1017),0)","v":0},{"$f":"IFERROR($E52*SUMIF('Daily Log'!$BG$18:$BG$1017,$B52,'Daily Log'!$BH$18:$BH$1017),0)","v":0},{"$f":"IFERROR($E52*SUMIF('Daily Log'!$BJ$18:$BJ$1017,$B52,'Daily Log'!$BK$18:$BK$1017),0)","v":0},{"$f":"IFERROR($E52*SUMIF('Daily Log'!$BM$18:$BM$1017,$B52,'Daily Log'!$BN$18:$BN$1017),0)","v":0},{"$f":"IFERROR($E52*SUMIF('Daily Log'!$BP$18:$BP$1017,$B52,'Daily Log'!$BQ$18:$BQ$1017),0)","v":0},{"$f":"IFERROR($E52*SUMIF('Daily Log'!$BS$18:$BS$1017,$B52,'Daily Log'!$BT$18:$BT$1017),0)","v":0},{"$f":"IFERROR($E52*SUMIF('Daily Log'!$BV$18:$BV$1017,$B52,'Daily Log'!$BW$18:$BW$1017),0)","v":0},{"$f":"IFERROR($E52*SUMIF('Daily Log'!$BY$18:$BY$1017,$B52,'Daily Log'!$BZ$18:$BZ$1017),0)","v":0},{"$f":"IFERROR($E52*SUMIF('Daily Log'!$CB$18:$CB$1017,$B52,'Daily Log'!$CC$18:$CC$1017),0)","v":0},{"$f":"IFERROR($E52*SUMIF('Daily Log'!$CE$18:$CE$1017,$B52,'Daily Log'!$CF$18:$CF$1017),0)","v":0},{"$f":"IFERROR($E52*SUMIF('Daily Log'!$CH$18:$CH$1017,$B52,'Daily Log'!$CI$18:$CI$1017),0)","v":0},{"$f":"IFERROR($E52*SUMIF('Daily Log'!$CK$18:$CK$1017,$B52,'Daily Log'!$CL$18:$CL$1017),0)","v":0},{"$f":"IFERROR($E52*SUMIF('Daily Log'!$CN$18:$CN$1017,$B52,'Daily Log'!$CO$18:$CO$1017),0)","v":0}]
[null,"AF06 91206:SPRING RL",null,"APPETIZER FREE",1,6,{"$f":"IFERROR($E53*SUMIF('Daily Log'!$B$18:$B$1017,$B53,'Daily Log'!$C$18:$C$1017),0)","v":0},{"$f":"IFERROR($E53*SUMIF('Daily Log'!$E$18:$E$1017,$B53,'Daily Log'!$F$18:$F$1017),0)","v":0},{"$f":"IFERROR($E53*SUMIF('Daily Log'!$H$18:$H$1017,$B53,'Daily Log'!$I$18:$I$1017),0)","v":0},{"$f":"IFERROR($E53*SUMIF('Daily Log'!$K$18:$K$1017,$B53,'Daily Log'!$L$18:$L$1017),0)","v":1},{"$f":"IFERROR($E53*SUMIF('Daily Log'!$N$18:$N$1017,$B53,'Daily Log'!$O$18:$O$1017),0)","v":0},{"$f":"IFERROR($E53*SUMIF('Daily Log'!$Q$18:$Q$1017,$B53,'Daily Log'!$R$18:$R$1017),0)","v":0},{"$f":"IFERROR($E53*SUMIF('Daily Log'!$T$18:$T$1017,$B53,'Daily Log'!$U$18:$U$1017),0)","v":0},{"$f":"IFERROR($E53*SUMIF('Daily Log'!$W$18:$W$1017,$B53,'Daily Log'!$X$18:$X$1017),0)","v":0},{"$f":"IFERROR($E53*SUMIF('Daily Log'!$Z$18:$Z$1017,$B53,'Daily Log'!$AA$18:$AA$1017),0)","v":0},{"$f":"IFERROR($E53*SUMIF('Daily Log'!$AC$18:$AC$1017,$B53,'Daily Log'!$AD$18:$AD$1017),0)","v":0},{"$f":"IFERROR($E53*SUMIF('Daily Log'!$AF$18:$AF$1017,$B53,'Daily Log'!$AG$18:$AG$1017),0)","v":0},{"$f":"IFERROR($E53*SUMIF('Daily Log'!$AI$18:$AI$1017,$B53,'Daily Log'!$AJ$18:$AJ$1017),0)","v":0},{"$f":"IFERROR($E53*SUMIF('Daily Log'!$AL$18:$AL$1017,$B53,'Daily Log'!$AM$18:$AM$1017),0)","v":1},{"$f":"IFERROR($E53*SUMIF('Daily Log'!$AO$18:$AO$1017,$B53,'Daily Log'!$AP$18:$AP$1017),0)","v":0},{"$f":"IFERROR($E53*SUMIF('Daily Log'!$AR$18:$AR$1017,$B53,'Daily Log'!$AS$18:$AS$1017),0)","v":0},{"$f":"IFERROR($E53*SUMIF('Daily Log'!$AU$18:$AU$1017,$B53,'Daily Log'!$AV$18:$AV$1017),0)","v":0},{"$f":"IFERROR($E53*SUMIF('Daily Log'!$AX$18:$AX$1017,$B53,'Daily Log'!$AY$18:$AY$1017),0)","v":0},{"$f":"IFERROR($E53*SUMIF('Daily Log'!$BA$18:$BA$1017,$B53,'Daily Log'!$BB$18:$BB$1017),0)","v":0},{"$f":"IFERROR($E53*SUMIF('Daily Log'!$BD$18:$BD$1017,$B53,'Daily Log'!$BE$18:$BE$1017),0)","v":0},{"$f":"IFERROR($E53*SUMIF('Daily Log'!$BG$18:$BG$1017,$B53,'Daily Log'!$BH$18:$BH$1017),0)","v":0},{"$f":"IFERROR($E53*SUMIF('Daily Log'!$BJ$18:$BJ$1017,$B53,'Daily Log'!$BK$18:$BK$1017),0)","v":0},{"$f":"IFERROR($E53*SUMIF('Daily Log'!$BM$18:$BM$1017,$B53,'Daily Log'!$BN$18:$BN$1017),0)","v":0},{"$f":"IFERROR($E53*SUMIF('Daily Log'!$BP$18:$BP$1017,$B53,'Daily Log'!$BQ$18:$BQ$1017),0)","v":0},{"$f":"IFERROR($E53*SUMIF('Daily Log'!$BS$18:$BS$1017,$B53,'Daily Log'!$BT$18:$BT$1017),0)","v":0},{"$f":"IFERROR($E53*SUMIF('Daily Log'!$BV$18:$BV$1017,$B53,'Daily Log'!$BW$18:$BW$1017),0)","v":3},{"$f":"IFERROR($E53*SUMIF('Daily Log'!$BY$18:$BY$1017,$B53,'Daily Log'!$BZ$18:$BZ$1017),0)","v":0},{"$f":"IFERROR($E53*SUMIF('Daily Log'!$CB$18:$CB$1017,$B53,'Daily Log'!$CC$18:$CC$1017),0)","v":1},{"$f":"IFERROR($E53*SUMIF('Daily Log'!$CE$18:$CE$1017,$B53,'Daily Log'!$CF$18:$CF$1017),0)","v":0},{"$f":"IFERROR($E53*SUMIF('Daily Log'!$CH$18:$CH$1017,$B53,'Daily Log'!$CI$18:$CI$1017),0)","v":0},{"$f":"IFERROR($E53*SUMIF('Daily Log'!$CK$18:$CK$1017,$B53,'Daily Log'!$CL$18:$CL$1017),0)","v":0},{"$f":"IFERROR($E53*SUMIF('Daily Log'!$CN$18:$CN$1017,$B53,'Daily Log'!$CO$18:$CO$1017),0)","v":0}]
[null,"AF07 91207:SAUSG",null,"APPETIZER FREE",1,9,{"$f":"IFERROR($E54*SUMIF('Daily Log'!$B$18:$B$1017,$B54,'Daily Log'!$C$18:$C$1017),0)","v":0},{"$f":"IFERROR($E54*SUMIF('Daily Log'!$E$18:$E$1017,$B54,'Daily Log'!$F$18:$F$1017),0)","v":1},{"$f":"IFERROR($E54*SUMIF('Daily Log'!$H$18:$H$1017,$B54,'Daily Log'!$I$18:$I$1017),0)","v":0},{"$f":"IFERROR($E54*SUMIF('Daily Log'!$K$18:$K$1017,$B54,'Daily Log'!$L$18:$L$1017),0)","v":2},{"$f":"IFERROR($E54*SUMIF('Daily Log'!$N$18:$N$1017,$B54,'Daily Log'!$O$18:$O$1017),0)","v":1},{"$f":"IFERROR($E54*SUMIF('Daily Log'!$Q$18:$Q$1017,$B54,'Daily Log'!$R$18:$R$1017),0)","v":1},{"$f":"IFERROR($E54*SUMIF('Daily Log'!$T$18:$T$1017,$B54,'Daily Log'!$U$18:$U$1017),0)","v":1},{"$f":"IFERROR($E54*SUMIF('Daily Log'!$W$18:$W$1017,$B54,'Daily Log'!$X$18:$X$1017),0)","v":0},{"$f":"IFERROR($E54*SUMIF('Daily Log'!$Z$18:$Z$1017,$B54,'Daily Log'!$AA$18:$AA$1017),0)","v":1},{"$f":"IFERROR($E54*SUMIF('Daily Log'!$AC$18:$AC$1017,$B54,'Daily Log'!$AD$18:$AD$1017),0)","v":0},{"$f":"IFERROR($E54*SUMIF('Daily Log'!$AF$18:$AF$1017,$B54,'Daily Log'!$AG$18:$AG$1017),0)","v":0},{"$f":"IFERROR($E54*SUMIF('Daily Log'!$AI$18:$AI$1017,$B54,'Daily Log'!$AJ$18:$AJ$1017),0)","v":0},{"$f":"IFERROR($E54*SUMIF('Daily Log'!$AL$18:$AL$1017,$B54,'Daily Log'!$AM$18:$AM$1017),0)","v":0},{"$f":"IFERROR($E54*SUMIF('Daily Log'!$AO$18:$AO$1017,$B54,'Daily Log'!$AP$18:$AP$1017),0)","v":0},{"$f":"IFERROR($E54*SUMIF('Daily Log'!$AR$18:$AR$1017,$B54,'Daily Log'!$AS$18:$AS$1017),0)","v":0},{"$f":"IFERROR($E54*SUMIF('Daily Log'!$AU$18:$AU$1017,$B54,'Daily Log'!$AV$18:$AV$1017),0)","v":0},{"$f":"IFERROR($E54*SUMIF('Daily Log'!$AX$18:$AX$1017,$B54,'Daily Log'!$AY$18:$AY$1017),0)","v":0},{"$f":"IFERROR($E54*SUMIF('Daily Log'!$BA$18:$BA$1017,$B54,'Daily Log'!$BB$18:$BB$1017),0)","v":0},{"$f":"IFERROR($E54*SUMIF('Daily Log'!$BD$18:$BD$1017,$B54,'Daily Log'!$BE$18:$BE$1017),0)","v":0},{"$f":"IFERROR($E54*SUMIF('Daily Log'!$BG$18:$BG$1017,$B54,'Daily Log'!$BH$18:$BH$1017),0)","v":0},{"$f":"IFERROR($E54*SUMIF('Daily Log'!$BJ$18:$BJ$1017,$B54,'Daily Log'!$BK$18:$BK$1017),0)","v":0},{"$f":"IFERROR($E54*SUMIF('Daily Log'!$BM$18:$BM$1017,$B54,'Daily Log'!$BN$18:$BN$1017),0)","v":0},{"$f":"IFERROR($E54*SUMIF('Daily Log'!$BP$18:$BP$1017,$B54,'Daily Log'!$BQ$18:$BQ$1017),0)","v":0},{"$f":"IFERROR($E54*SUMIF('Daily Log'!$BS$18:$BS$1017,$B54,'Daily Log'!$BT$18:$BT$1017),0)","v":0},{"$f":"IFERROR($E54*SUMIF('Daily Log'!$BV$18:$BV$1017,$B54,'Daily Log'!$BW$18:$BW$1017),0)","v":0},{"$f":"IFERROR($E54*SUMIF('Daily Log'!$BY$18:$BY$1017,$B54,'Daily Log'!$BZ$18:$BZ$1017),0)","v":0},{"$f":"IFERROR($E54*SUMIF('Daily Log'!$CB$18:$CB$1017,$B54,'Daily Log'!$CC$18:$CC$1017),0)","v":2},{"$f":"IFERROR($E54*SUMIF('Daily Log'!$CE$18:$CE$1017,$B54,'Daily Log'!$CF$18:$CF$1017),0)","v":0},{"$f":"IFERROR($E54*SUMIF('Daily Log'!$CH$18:$CH$1017,$B54,'Daily Log'!$CI$18:$CI$1017),0)","v":0},{"$f":"IFERROR($E54*SUMIF('Daily Log'!$CK$18:$CK$1017,$B54,'Daily Log'!$CL$18:$CL$1017),0)","v":0},{"$f":"IFERROR($E54*SUMIF('Daily Log'!$CN$18:$CN$1017,$B54,'Daily Log'!$CO$18:$CO$1017),0)","v":0}]
[null,"AF31 91301:DUMPLING",null,"APPETIZER FREE",1,0,{"$f":"IFERROR($E55*SUMIF('Daily Log'!$B$18:$B$1017,$B55,'Daily Log'!$C$18:$C$1017),0)","v":0},{"$f":"IFERROR($E55*SUMIF('Daily Log'!$E$18:$E$1017,$B55,'Daily Log'!$F$18:$F$1017),0)","v":0},{"$f":"IFERROR($E55*SUMIF('Daily Log'!$H$18:$H$1017,$B55,'Daily Log'!$I$18:$I$1017),0)","v":0},{"$f":"IFERROR($E55*SUMIF('Daily Log'!$K$18:$K$1017,$B55,'Daily Log'!$L$18:$L$1017),0)","v":0},{"$f":"IFERROR($E55*SUMIF('Daily Log'!$N$18:$N$1017,$B55,'Daily Log'!$O$18:$O$1017),0)","v":0},{"$f":"IFERROR($E55*SUMIF('Daily Log'!$Q$18:$Q$1017,$B55,'Daily Log'!$R$18:$R$1017),0)","v":0},{"$f":"IFERROR($E55*SUMIF('Daily Log'!$T$18:$T$1017,$B55,'Daily Log'!$U$18:$U$1017),0)","v":0},{"$f":"IFERROR($E55*SUMIF('Daily Log'!$W$18:$W$1017,$B55,'Daily Log'!$X$18:$X$1017),0)","v":0},{"$f":"IFERROR($E55*SUMIF('Daily Log'!$Z$18:$Z$1017,$B55,'Daily Log'!$AA$18:$AA$1017),0)","v":0},{"$f":"IFERROR($E55*SUMIF('Daily Log'!$AC$18:$AC$1017,$B55,'Daily Log'!$AD$18:$AD$1017),0)","v":0},{"$f":"IFERROR($E55*SUMIF('Daily Log'!$AF$18:$AF$1017,$B55,'Daily Log'!$AG$18:$AG$1017),0)","v":0},{"$f":"IFERROR($E55*SUMIF('Daily Log'!$AI$18:$AI$1017,$B55,'Daily Log'!$AJ$18:$AJ$1017),0)","v":0},{"$f":"IFERROR($E55*SUMIF('Daily Log'!$AL$18:$AL$1017,$B55,'Daily Log'!$AM$18:$AM$1017),0)","v":0},{"$f":"IFERROR($E55*SUMIF('Daily Log'!$AO$18:$AO$1017,$B55,'Daily Log'!$AP$18:$AP$1017),0)","v":0},{"$f":"IFERROR($E55*SUMIF('Daily Log'!$AR$18:$AR$1017,$B55,'Daily Log'!$AS$18:$AS$1017),0)","v":0},{"$f":"IFERROR($E55*SUMIF('Daily Log'!$AU$18:$AU$1017,$B55,'Daily Log'!$AV$18:$AV$1017),0)","v":0},{"$f":"IFERROR($E55*SUMIF('Daily Log'!$AX$18:$AX$1017,$B55,'Daily Log'!$AY$18:$AY$1017),0)","v":0},{"$f":"IFERROR($E55*SUMIF('Daily Log'!$BA$18:$BA$1017,$B55,'Daily Log'!$BB$18:$BB$1017),0)","v":0},{"$f":"IFERROR($E55*SUMIF('Daily Log'!$BD$18:$BD$1017,$B55,'Daily Log'!$BE$18:$BE$1017),0)","v":0},{"$f":"IFERROR($E55*SUMIF('Daily Log'!$BG$18:$BG$1017,$B55,'Daily Log'!$BH$18:$BH$1017),0)","v":0},{"$f":"IFERROR($E55*SUMIF('Daily Log'!$BJ$18:$BJ$1017,$B55,'Daily Log'!$BK$18:$BK$1017),0)","v":0},{"$f":"IFERROR($E55*SUMIF('Daily Log'!$BM$18:$BM$1017,$B55,'Daily Log'!$BN$18:$BN$1017),0)","v":0},{"$f":"IFERROR($E55*SUMIF('Daily Log'!$BP$18:$BP$1017,$B55,'Daily Log'!$BQ$18:$BQ$1017),0)","v":0},{"$f":"IFERROR($E55*SUMIF('Daily Log'!$BS$18:$BS$1017,$B55,'Daily Log'!$BT$18:$BT$1017),0)","v":0},{"$f":"IFERROR($E55*SUMIF('Daily Log'!$BV$18:$BV$1017,$B55,'Daily Log'!$BW$18:$BW$1017),0)","v":0},{"$f":"IFERROR($E55*SUMIF('Daily Log'!$BY$18:$BY$1017,$B55,'Daily Log'!$BZ$18:$BZ$1017),0)","v":0},{"$f":"IFERROR($E55*SUMIF('Daily Log'!$CB$18:$CB$1017,$B55,'Daily Log'!$CC$18:$CC$1017),0)","v":0},{"$f":"IFERROR($E55*SUMIF('Daily Log'!$CE$18:$CE$1017,$B55,'Daily Log'!$CF$18:$CF$1017),0)","v":0},{"$f":"IFERROR($E55*SUMIF('Daily Log'!$CH$18:$CH$1017,$B55,'Daily Log'!$CI$18:$CI$1017),0)","v":0},{"$f":"IFERROR($E55*SUMIF('Daily Log'!$CK$18:$CK$1017,$B55,'Daily Log'!$CL$18:$CL$1017),0)","v":0},{"$f":"IFERROR($E55*SUMIF('Daily Log'!$CN$18:$CN$1017,$B55,'Daily Log'!$CO$18:$CO$1017),0)","v":0}]
[null,"AF32 91302:NUGGET",null,"APPETIZER FREE",1,32,{"$f":"IFERROR($E56*SUMIF('Daily Log'!$B$18:$B$1017,$B56,'Daily Log'!$C$18:$C$1017),0)","v":1},{"$f":"IFERROR($E56*SUMIF('Daily Log'!$E$18:$E$1017,$B56,'Daily Log'!$F$18:$F$1017),0)","v":1},{"$f":"IFERROR($E56*SUMIF('Daily Log'!$H$18:$H$1017,$B56,'Daily Log'!$I$18:$I$1017),0)","v":1},{"$f":"IFERROR($E56*SUMIF('Daily Log'!$K$18:$K$1017,$B56,'Daily Log'!$L$18:$L$1017),0)","v":6},{"$f":"IFERROR($E56*SUMIF('Daily Log'!$N$18:$N$1017,$B56,'Daily Log'!$O$18:$O$1017),0)","v":3},{"$f":"IFERROR($E56*SUMIF('Daily Log'!$Q$18:$Q$1017,$B56,'Daily Log'!$R$18:$R$1017),0)","v":0},{"$f":"IFERROR($E56*SUMIF('Daily Log'!$T$18:$T$1017,$B56,'Daily Log'!$U$18:$U$1017),0)","v":0},{"$f":"IFERROR($E56*SUMIF('Daily Log'!$W$18:$W$1017,$B56,'Daily Log'!$X$18:$X$1017),0)","v":0},{"$f":"IFERROR($E56*SUMIF('Daily Log'!$Z$18:$Z$1017,$B56,'Daily Log'!$AA$18:$AA$1017),0)","v":1},{"$f":"IFERROR($E56*SUMIF('Daily Log'!$AC$18:$AC$1017,$B56,'Daily Log'!$AD$18:$AD$1017),0)","v":1},{"$f":"IFERROR($E56*SUMIF('Daily Log'!$AF$18:$AF$1017,$B56,'Daily Log'!$AG$18:$AG$1017),0)","v":0},{"$f":"IFERROR($E56*SUMIF('Daily Log'!$AI$18:$AI$1017,$B56,'Daily Log'!$AJ$18:$AJ$1017),0)","v":0},{"$f":"IFERROR($E56*SUMIF('Daily Log'!$AL$18:$AL$1017,$B56,'Daily Log'!$AM$18:$AM$1017),0)","v":1},{"$f":"IFERROR($E56*SUMIF('Daily Log'!$AO$18:$AO$1017,$B56,'Daily Log'!$AP$18:$AP$1017),0)","v":1},{"$f":"IFERROR($E56*SUMIF('Daily Log'!$AR$18:$AR$1017,$B56,'Daily Log'!$AS$18:$AS$1017),0)","v":0},{"$f":"IFERROR($E56*SUMIF('Daily Log'!$AU$18:$AU$1017,$B56,'Daily Log'!$AV$18:$AV$1017),0)","v":0},{"$f":"IFERROR($E56*SUMIF('Daily Log'!$AX$18:$AX$1017,$B56,'Daily Log'!$AY$18:$AY$1017),0)","v":0},{"$f":"IFERROR($E56*SUMIF('Daily Log'!$BA$18:$BA$1017,$B56,'Daily Log'!$BB$18:$BB$1017),0)","v":0},{"$f":"IFERROR($E56*SUMIF('Daily Log'!$BD$18:$BD$1017,$B56,'Daily Log'!$BE$18:$BE$1017),0)","v":1},{"$f":"IFERROR($E56*SUMIF('Daily Log'!$BG$18:$BG$1017,$B56,'Daily Log'!$BH$18:$BH$1017),0)","v":0},{"$f":"IFERROR($E56*SUMIF('Daily Log'!$BJ$18:$BJ$1017,$B56,'Daily Log'!$BK$18:$BK$1017),0)","v":2},{"$f":"IFERROR($E56*SUMIF('Daily Log'!$BM$18:$BM$1017,$B56,'Daily Log'!$BN$18:$BN$1017),0)","v":0},{"$f":"IFERROR($E56*SUMIF('Daily Log'!$BP$18:$BP$1017,$B56,'Daily Log'!$BQ$18:$BQ$1017),0)","v":0},{"$f":"IFERROR($E56*SUMIF('Daily Log'!$BS$18:$BS$1017,$B56,'Daily Log'!$BT$18:$BT$1017),0)","v":0},{"$f":"IFERROR($E56*SUMIF('Daily Log'!$BV$18:$BV$1017,$B56,'Daily Log'!$BW$18:$BW$1017),0)","v":0},{"$f":"IFERROR($E56*SUMIF('Daily Log'!$BY$18:$BY$1017,$B56,'Daily Log'!$BZ$18:$BZ$1017),0)","v":1},{"$f":"IFERROR($E56*SUMIF('Daily Log'!$CB$18:$CB$1017,$B56,'Daily Log'!$CC$18:$CC$1017),0)","v":10},{"$f":"IFERROR($E56*SUMIF('Daily Log'!$CE$18:$CE$1017,$B56,'Daily Log'!$CF$18:$CF$1017),0)","v":2},{"$f":"IFERROR($E56*SUMIF('Daily Log'!$CH$18:$CH$1017,$B56,'Daily Log'!$CI$18:$CI$1017),0)","v":0},{"$f":"IFERROR($E56*SUMIF('Daily Log'!$CK$18:$CK$1017,$B56,'Daily Log'!$CL$18:$CL$1017),0)","v":0},{"$f":"IFERROR($E56*SUMIF('Daily Log'!$CN$18:$CN$1017,$B56,'Daily Log'!$CO$18:$CO$1017),0)","v":0}]
[null,"AF33 91303:CHK WING",null,"APPETIZER FREE",1,57,{"$f":"IFERROR($E57*SUMIF('Daily Log'!$B$18:$B$1017,$B57,'Daily Log'!$C$18:$C$1017),0)","v":1},{"$f":"IFERROR($E57*SUMIF('Daily Log'!$E$18:$E$1017,$B57,'Daily Log'!$F$18:$F$1017),0)","v":6},{"$f":"IFERROR($E57*SUMIF('Daily Log'!$H$18:$H$1017,$B57,'Daily Log'!$I$18:$I$1017),0)","v":2},{"$f":"IFERROR($E57*SUMIF('Daily Log'!$K$18:$K$1017,$B57,'Daily Log'!$L$18:$L$1017),0)","v":2},{"$f":"IFERROR($E57*SUMIF('Daily Log'!$N$18:$N$1017,$B57,'Daily Log'!$O$18:$O$1017),0)","v":2},{"$f":"IFERROR($E57*SUMIF('Daily Log'!$Q$18:$Q$1017,$B57,'Daily Log'!$R$18:$R$1017),0)","v":1},{"$f":"IFERROR($E57*SUMIF('Daily Log'!$T$18:$T$1017,$B57,'Daily Log'!$U$18:$U$1017),0)","v":1},{"$f":"IFERROR($E57*SUMIF('Daily Log'!$W$18:$W$1017,$B57,'Daily Log'!$X$18:$X$1017),0)","v":0},{"$f":"IFERROR($E57*SUMIF('Daily Log'!$Z$18:$Z$1017,$B57,'Daily Log'!$AA$18:$AA$1017),0)","v":0},{"$f":"IFERROR($E57*SUMIF('Daily Log'!$AC$18:$AC$1017,$B57,'Daily Log'!$AD$18:$AD$1017),0)","v":4},{"$f":"IFERROR($E57*SUMIF('Daily Log'!$AF$18:$AF$1017,$B57,'Daily Log'!$AG$18:$AG$1017),0)","v":2},{"$f":"IFERROR($E57*SUMIF('Daily Log'!$AI$18:$AI$1017,$B57,'Daily Log'!$AJ$18:$AJ$1017),0)","v":3},{"$f":"IFERROR($E57*SUMIF('Daily Log'!$AL$18:$AL$1017,$B57,'Daily Log'!$AM$18:$AM$1017),0)","v":3},{"$f":"IFERROR($E57*SUMIF('Daily Log'!$AO$18:$AO$1017,$B57,'Daily Log'!$AP$18:$AP$1017),0)","v":0},{"$f":"IFERROR($E57*SUMIF('Daily Log'!$AR$18:$AR$1017,$B57,'Daily Log'!$AS$18:$AS$1017),0)","v":0},{"$f":"IFERROR($E57*SUMIF('Daily Log'!$AU$18:$AU$1017,$B57,'Daily Log'!$AV$18:$AV$1017),0)","v":0},{"$f":"IFERROR($E57*SUMIF('Daily Log'!$AX$18:$AX$1017,$B57,'Daily Log'!$AY$18:$AY$1017),0)","v":0},{"$f":"IFERROR($E57*SUMIF('Daily Log'!$BA$18:$BA$1017,$B57,'Daily Log'!$BB$18:$BB$1017),0)","v":0},{"$f":"IFERROR($E57*SUMIF('Daily Log'!$BD$18:$BD$1017,$B57,'Daily Log'!$BE$18:$BE$1017),0)","v":3},{"$f":"IFERROR($E57*SUMIF('Daily Log'!$BG$18:$BG$1017,$B57,'Daily Log'!$BH$18:$BH$1017),0)","v":2},{"$f":"IFERROR($E57*SUMIF('Daily Log'!$BJ$18:$BJ$1017,$B57,'Daily Log'!$BK$18:$BK$1017),0)","v":2},{"$f":"IFERROR($E57*SUMIF('Daily Log'!$BM$18:$BM$1017,$B57,'Daily Log'!$BN$18:$BN$1017),0)","v":3},{"$f":"IFERROR($E57*SUMIF('Daily Log'!$BP$18:$BP$1017,$B57,'Daily Log'!$BQ$18:$BQ$1017),0)","v":0},{"$f":"IFERROR($E57*SUMIF('Daily Log'!$BS$18:$BS$1017,$B57,'Daily Log'!$BT$18:$BT$1017),0)","v":0},{"$f":"IFERROR($E57*SUMIF('Daily Log'!$BV$18:$BV$1017,$B57,'Daily Log'!$BW$18:$BW$1017),0)","v":0},{"$f":"IFERROR($E57*SUMIF('Daily Log'!$BY$18:$BY$1017,$B57,'Daily Log'!$BZ$18:$BZ$1017),0)","v":4},{"$f":"IFERROR($E57*SUMIF('Daily Log'!$CB$18:$CB$1017,$B57,'Daily Log'!$CC$18:$CC$1017),0)","v":7},{"$f":"IFERROR($E57*SUMIF('Daily Log'!$CE$18:$CE$1017,$B57,'Daily Log'!$CF$18:$CF$1017),0)","v":5},{"$f":"IFERROR($E57*SUMIF('Daily Log'!$CH$18:$CH$1017,$B57,'Daily Log'!$CI$18:$CI$1017),0)","v":2},{"$f":"IFERROR($E57*SUMIF('Daily Log'!$CK$18:$CK$1017,$B57,'Daily Log'!$CL$18:$CL$1017),0)","v":2},{"$f":"IFERROR($E57*SUMIF('Daily Log'!$CN$18:$CN$1017,$B57,'Daily Log'!$CO$18:$CO$1017),0)","v":0}]
[null,"AF34 91304:IKAN BILIS",null,"APPETIZER FREE",1,3,{"$f":"IFERROR($E58*SUMIF('Daily Log'!$B$18:$B$1017,$B58,'Daily Log'!$C$18:$C$1017),0)","v":0},{"$f":"IFERROR($E58*SUMIF('Daily Log'!$E$18:$E$1017,$B58,'Daily Log'!$F$18:$F$1017),0)","v":0},{"$f":"IFERROR($E58*SUMIF('Daily Log'!$H$18:$H$1017,$B58,'Daily Log'!$I$18:$I$1017),0)","v":0},{"$f":"IFERROR($E58*SUMIF('Daily Log'!$K$18:$K$1017,$B58,'Daily Log'!$L$18:$L$1017),0)","v":0},{"$f":"IFERROR($E58*SUMIF('Daily Log'!$N$18:$N$1017,$B58,'Daily Log'!$O$18:$O$1017),0)","v":0},{"$f":"IFERROR($E58*SUMIF('Daily Log'!$Q$18:$Q$1017,$B58,'Daily Log'!$R$18:$R$1017),0)","v":0},{"$f":"IFERROR($E58*SUMIF('Daily Log'!$T$18:$T$1017,$B58,'Daily Log'!$U$18:$U$1017),0)","v":0},{"$f":"IFERROR($E58*SUMIF('Daily Log'!$W$18:$W$1017,$B58,'Daily Log'!$X$18:$X$1017),0)","v":0},{"$f":"IFERROR($E58*SUMIF('Daily Log'!$Z$18:$Z$1017,$B58,'Daily Log'!$AA$18:$AA$1017),0)","v":0},{"$f":"IFERROR($E58*SUMIF('Daily Log'!$AC$18:$AC$1017,$B58,'Daily Log'!$AD$18:$AD$1017),0)","v":1},{"$f":"IFERROR($E58*SUMIF('Daily Log'!$AF$18:$AF$1017,$B58,'Daily Log'!$AG$18:$AG$1017),0)","v":0},{"$f":"IFERROR($E58*SUMIF('Daily Log'!$AI$18:$AI$1017,$B58,'Daily Log'!$AJ$18:$AJ$1017),0)","v":0},{"$f":"IFERROR($E58*SUMIF('Daily Log'!$AL$18:$AL$1017,$B58,'Daily Log'!$AM$18:$AM$1017),0)","v":2},{"$f":"IFERROR($E58*SUMIF('Daily Log'!$AO$18:$AO$1017,$B58,'Daily Log'!$AP$18:$AP$1017),0)","v":0},{"$f":"IFERROR($E58*SUMIF('Daily Log'!$AR$18:$AR$1017,$B58,'Daily Log'!$AS$18:$AS$1017),0)","v":0},{"$f":"IFERROR($E58*SUMIF('Daily Log'!$AU$18:$AU$1017,$B58,'Daily Log'!$AV$18:$AV$1017),0)","v":0},{"$f":"IFERROR($E58*SUMIF('Daily Log'!$AX$18:$AX$1017,$B58,'Daily Log'!$AY$18:$AY$1017),0)","v":0},{"$f":"IFERROR($E58*SUMIF('Daily Log'!$BA$18:$BA$1017,$B58,'Daily Log'!$BB$18:$BB$1017),0)","v":0},{"$f":"IFERROR($E58*SUMIF('Daily Log'!$BD$18:$BD$1017,$B58,'Daily Log'!$BE$18:$BE$1017),0)","v":0},{"$f":"IFERROR($E58*SUMIF('Daily Log'!$BG$18:$BG$1017,$B58,'Daily Log'!$BH$18:$BH$1017),0)","v":0},{"$f":"IFERROR($E58*SUMIF('Daily Log'!$BJ$18:$BJ$1017,$B58,'Daily Log'!$BK$18:$BK$1017),0)","v":0},{"$f":"IFERROR($E58*SUMIF('Daily Log'!$BM$18:$BM$1017,$B58,'Daily Log'!$BN$18:$BN$1017),0)","v":0},{"$f":"IFERROR($E58*SUMIF('Daily Log'!$BP$18:$BP$1017,$B58,'Daily Log'!$BQ$18:$BQ$1017),0)","v":0},{"$f":"IFERROR($E58*SUMIF('Daily Log'!$BS$18:$BS$1017,$B58,'Daily Log'!$BT$18:$BT$1017),0)","v":0},{"$f":"IFERROR($E58*SUMIF('Daily Log'!$BV$18:$BV$1017,$B58,'Daily Log'!$BW$18:$BW$1017),0)","v":0},{"$f":"IFERROR($E58*SUMIF('Daily Log'!$BY$18:$BY$1017,$B58,'Daily Log'!$BZ$18:$BZ$1017),0)","v":0},{"$f":"IFERROR($E58*SUMIF('Daily Log'!$CB$18:$CB$1017,$B58,'Daily Log'!$CC$18:$CC$1017),0)","v":0},{"$f":"IFERROR($E58*SUMIF('Daily Log'!$CE$18:$CE$1017,$B58,'Daily Log'!$CF$18:$CF$1017),0)","v":0},{"$f":"IFERROR($E58*SUMIF('Daily Log'!$CH$18:$CH$1017,$B58,'Daily Log'!$CI$18:$CI$1017),0)","v":0},{"$f":"IFERROR($E58*SUMIF('Daily Log'!$CK$18:$CK$1017,$B58,'Daily Log'!$CL$18:$CL$1017),0)","v":0},{"$f":"IFERROR($E58*SUMIF('Daily Log'!$CN$18:$CN$1017,$B58,'Daily Log'!$CO$18:$CO$1017),0)","v":0}]
[null,"AF35 91305:THAI RL",null,"APPETIZER FREE",1,2,{"$f":"IFERROR($E59*SUMIF('Daily Log'!$B$18:$B$1017,$B59,'Daily Log'!$C$18:$C$1017),0)","v":0},{"$f":"IFERROR($E59*SUMIF('Daily Log'!$E$18:$E$1017,$B59,'Daily Log'!$F$18:$F$1017),0)","v":0},{"$f":"IFERROR($E59*SUMIF('Daily Log'!$H$18:$H$1017,$B59,'Daily Log'!$I$18:$I$1017),0)","v":0},{"$f":"IFERROR($E59*SUMIF('Daily Log'!$K$18:$K$1017,$B59,'Daily Log'!$L$18:$L$1017),0)","v":0},{"$f":"IFERROR($E59*SUMIF('Daily Log'!$N$18:$N$1017,$B59,'Daily Log'!$O$18:$O$1017),0)","v":1},{"$f":"IFERROR($E59*SUMIF('Daily Log'!$Q$18:$Q$1017,$B59,'Daily Log'!$R$18:$R$1017),0)","v":1},{"$f":"IFERROR($E59*SUMIF('Daily Log'!$T$18:$T$1017,$B59,'Daily Log'!$U$18:$U$1017),0)","v":0},{"$f":"IFERROR($E59*SUMIF('Daily Log'!$W$18:$W$1017,$B59,'Daily Log'!$X$18:$X$1017),0)","v":0},{"$f":"IFERROR($E59*SUMIF('Daily Log'!$Z$18:$Z$1017,$B59,'Daily Log'!$AA$18:$AA$1017),0)","v":0},{"$f":"IFERROR($E59*SUMIF('Daily Log'!$AC$18:$AC$1017,$B59,'Daily Log'!$AD$18:$AD$1017),0)","v":0},{"$f":"IFERROR($E59*SUMIF('Daily Log'!$AF$18:$AF$1017,$B59,'Daily Log'!$AG$18:$AG$1017),0)","v":0},{"$f":"IFERROR($E59*SUMIF('Daily Log'!$AI$18:$AI$1017,$B59,'Daily Log'!$AJ$18:$AJ$1017),0)","v":0},{"$f":"IFERROR($E59*SUMIF('Daily Log'!$AL$18:$AL$1017,$B59,'Daily Log'!$AM$18:$AM$1017),0)","v":0},{"$f":"IFERROR($E59*SUMIF('Daily Log'!$AO$18:$AO$1017,$B59,'Daily Log'!$AP$18:$AP$1017),0)","v":0},{"$f":"IFERROR($E59*SUMIF('Daily Log'!$AR$18:$AR$1017,$B59,'Daily Log'!$AS$18:$AS$1017),0)","v":0},{"$f":"IFERROR($E59*SUMIF('Daily Log'!$AU$18:$AU$1017,$B59,'Daily Log'!$AV$18:$AV$1017),0)","v":0},{"$f":"IFERROR($E59*SUMIF('Daily Log'!$AX$18:$AX$1017,$B59,'Daily Log'!$AY$18:$AY$1017),0)","v":0},{"$f":"IFERROR($E59*SUMIF('Daily Log'!$BA$18:$BA$1017,$B59,'Daily Log'!$BB$18:$BB$1017),0)","v":0},{"$f":"IFERROR($E59*SUMIF('Daily Log'!$BD$18:$BD$1017,$B59,'Daily Log'!$BE$18:$BE$1017),0)","v":0},{"$f":"IFERROR($E59*SUMIF('Daily Log'!$BG$18:$BG$1017,$B59,'Daily Log'!$BH$18:$BH$1017),0)","v":0},{"$f":"IFERROR($E59*SUMIF('Daily Log'!$BJ$18:$BJ$1017,$B59,'Daily Log'!$BK$18:$BK$1017),0)","v":0},{"$f":"IFERROR($E59*SUMIF('Daily Log'!$BM$18:$BM$1017,$B59,'Daily Log'!$BN$18:$BN$1017),0)","v":0},{"$f":"IFERROR($E59*SUMIF('Daily Log'!$BP$18:$BP$1017,$B59,'Daily Log'!$BQ$18:$BQ$1017),0)","v":0},{"$f":"IFERROR($E59*SUMIF('Daily Log'!$BS$18:$BS$1017,$B59,'Daily Log'!$BT$18:$BT$1017),0)","v":0},{"$f":"IFERROR($E59*SUMIF('Daily Log'!$BV$18:$BV$1017,$B59,'Daily Log'!$BW$18:$BW$1017),0)","v":0},{"$f":"IFERROR($E59*SUMIF('Daily Log'!$BY$18:$BY$1017,$B59,'Daily Log'!$BZ$18:$BZ$1017),0)","v":0},{"$f":"IFERROR($E59*SUMIF('Daily Log'!$CB$18:$CB$1017,$B59,'Daily Log'!$CC$18:$CC$1017),0)","v":0},{"$f":"IFERROR($E59*SUMIF('Daily Log'!$CE$18:$CE$1017,$B59,'Daily Log'!$CF$18:$CF$1017),0)","v":0},{"$f":"IFERROR($E59*SUMIF('Daily Log'!$CH$18:$CH$1017,$B59,'Daily Log'!$CI$18:$CI$1017),0)","v":0},{"$f":"IFERROR($E59*SUMIF('Daily Log'!$CK$18:$CK$1017,$B59,'Daily Log'!$CL$18:$CL$1017),0)","v":0},{"$f":"IFERROR($E59*SUMIF('Daily Log'!$CN$18:$CN$1017,$B59,'Daily Log'!$CO$18:$CO$1017),0)","v":0}]
[null,"AF36 91306:DF WING",null,"APPETIZER FREE",1,7,{"$f":"IFERROR($E60*SUMIF('Daily Log'!$B$18:$B$1017,$B60,'Daily Log'!$C$18:$C$1017),0)","v":0},{"$f":"IFERROR($E60*SUMIF('Daily Log'!$E$18:$E$1017,$B60,'Daily Log'!$F$18:$F$1017),0)","v":0},{"$f":"IFERROR($E60*SUMIF('Daily Log'!$H$18:$H$1017,$B60,'Daily Log'!$I$18:$I$1017),0)","v":0},{"$f":"IFERROR($E60*SUMIF('Daily Log'!$K$18:$K$1017,$B60,'Daily Log'!$L$18:$L$1017),0)","v":1},{"$f":"IFERROR($E60*SUMIF('Daily Log'!$N$18:$N$1017,$B60,'Daily Log'!$O$18:$O$1017),0)","v":0},{"$f":"IFERROR($E60*SUMIF('Daily Log'!$Q$18:$Q$1017,$B60,'Daily Log'!$R$18:$R$1017),0)","v":0},{"$f":"IFERROR($E60*SUMIF('Daily Log'!$T$18:$T$1017,$B60,'Daily Log'!$U$18:$U$1017),0)","v":0},{"$f":"IFERROR($E60*SUMIF('Daily Log'!$W$18:$W$1017,$B60,'Daily Log'!$X$18:$X$1017),0)","v":0},{"$f":"IFERROR($E60*SUMIF('Daily Log'!$Z$18:$Z$1017,$B60,'Daily Log'!$AA$18:$AA$1017),0)","v":0},{"$f":"IFERROR($E60*SUMIF('Daily Log'!$AC$18:$AC$1017,$B60,'Daily Log'!$AD$18:$AD$1017),0)","v":0},{"$f":"IFERROR($E60*SUMIF('Daily Log'!$AF$18:$AF$1017,$B60,'Daily Log'!$AG$18:$AG$1017),0)","v":0},{"$f":"IFERROR($E60*SUMIF('Daily Log'!$AI$18:$AI$1017,$B60,'Daily Log'!$AJ$18:$AJ$1017),0)","v":0},{"$f":"IFERROR($E60*SUMIF('Daily Log'!$AL$18:$AL$1017,$B60,'Daily Log'!$AM$18:$AM$1017),0)","v":0},{"$f":"IFERROR($E60*SUMIF('Daily Log'!$AO$18:$AO$1017,$B60,'Daily Log'!$AP$18:$AP$1017),0)","v":2},{"$f":"IFERROR($E60*SUMIF('Daily Log'!$AR$18:$AR$1017,$B60,'Daily Log'!$AS$18:$AS$1017),0)","v":0},{"$f":"IFERROR($E60*SUMIF('Daily Log'!$AU$18:$AU$1017,$B60,'Daily Log'!$AV$18:$AV$1017),0)","v":0},{"$f":"IFERROR($E60*SUMIF('Daily Log'!$AX$18:$AX$1017,$B60,'Daily Log'!$AY$18:$AY$1017),0)","v":0},{"$f":"IFERROR($E60*SUMIF('Daily Log'!$BA$18:$BA$1017,$B60,'Daily Log'!$BB$18:$BB$1017),0)","v":1},{"$f":"IFERROR($E60*SUMIF('Daily Log'!$BD$18:$BD$1017,$B60,'Daily Log'!$BE$18:$BE$1017),0)","v":0},{"$f":"IFERROR($E60*SUMIF('Daily Log'!$BG$18:$BG$1017,$B60,'Daily Log'!$BH$18:$BH$1017),0)","v":0},{"$f":"IFERROR($E60*SUMIF('Daily Log'!$BJ$18:$BJ$1017,$B60,'Daily Log'!$BK$18:$BK$1017),0)","v":0},{"$f":"IFERROR($E60*SUMIF('Daily Log'!$BM$18:$BM$1017,$B60,'Daily Log'!$BN$18:$BN$1017),0)","v":0},{"$f":"IFERROR($E60*SUMIF('Daily Log'!$BP$18:$BP$1017,$B60,'Daily Log'!$BQ$18:$BQ$1017),0)","v":0},{"$f":"IFERROR($E60*SUMIF('Daily Log'!$BS$18:$BS$1017,$B60,'Daily Log'!$BT$18:$BT$1017),0)","v":0},{"$f":"IFERROR($E60*SUMIF('Daily Log'!$BV$18:$BV$1017,$B60,'Daily Log'!$BW$18:$BW$1017),0)","v":0},{"$f":"IFERROR($E60*SUMIF('Daily Log'!$BY$18:$BY$1017,$B60,'Daily Log'!$BZ$18:$BZ$1017),0)","v":1},{"$f":"IFERROR($E60*SUMIF('Daily Log'!$CB$18:$CB$1017,$B60,'Daily Log'!$CC$18:$CC$1017),0)","v":1},{"$f":"IFERROR($E60*SUMIF('Daily Log'!$CE$18:$CE$1017,$B60,'Daily Log'!$CF$18:$CF$1017),0)","v":0},{"$f":"IFERROR($E60*SUMIF('Daily Log'!$CH$18:$CH$1017,$B60,'Daily Log'!$CI$18:$CI$1017),0)","v":1},{"$f":"IFERROR($E60*SUMIF('Daily Log'!$CK$18:$CK$1017,$B60,'Daily Log'!$CL$18:$CL$1017),0)","v":0},{"$f":"IFERROR($E60*SUMIF('Daily Log'!$CN$18:$CN$1017,$B60,'Daily Log'!$CO$18:$CO$1017),0)","v":0}]
[null,"AF37 91307:CALAMARI",null,"APPETIZER FREE",1,11,{"$f":"IFERROR($E61*SUMIF('Daily Log'!$B$18:$B$1017,$B61,'Daily Log'!$C$18:$C$1017),0)","v":0},{"$f":"IFERROR($E61*SUMIF('Daily Log'!$E$18:$E$1017,$B61,'Daily Log'!$F$18:$F$1017),0)","v":1},{"$f":"IFERROR($E61*SUMIF('Daily Log'!$H$18:$H$1017,$B61,'Daily Log'!$I$18:$I$1017),0)","v":1},{"$f":"IFERROR($E61*SUMIF('Daily Log'!$K$18:$K$1017,$B61,'Daily Log'!$L$18:$L$1017),0)","v":1},{"$f":"IFERROR($E61*SUMIF('Daily Log'!$N$18:$N$1017,$B61,'Daily Log'!$O$18:$O$1017),0)","v":0},{"$f":"IFERROR($E61*SUMIF('Daily Log'!$Q$18:$Q$1017,$B61,'Daily Log'!$R$18:$R$1017),0)","v":0},{"$f":"IFERROR($E61*SUMIF('Daily Log'!$T$18:$T$1017,$B61,'Daily Log'!$U$18:$U$1017),0)","v":0},{"$f":"IFERROR($E61*SUMIF('Daily Log'!$W$18:$W$1017,$B61,'Daily Log'!$X$18:$X$1017),0)","v":0},{"$f":"IFERROR($E61*SUMIF('Daily Log'!$Z$18:$Z$1017,$B61,'Daily Log'!$AA$18:$AA$1017),0)","v":0},{"$f":"IFERROR($E61*SUMIF('Daily Log'!$AC$18:$AC$1017,$B61,'Daily Log'!$AD$18:$AD$1017),0)","v":0},{"$f":"IFERROR($E61*SUMIF('Daily Log'!$AF$18:$AF$1017,$B61,'Daily Log'!$AG$18:$AG$1017),0)","v":0},{"$f":"IFERROR($E61*SUMIF('Daily Log'!$AI$18:$AI$1017,$B61,'Daily Log'!$AJ$18:$AJ$1017),0)","v":0},{"$f":"IFERROR($E61*SUMIF('Daily Log'!$AL$18:$AL$1017,$B61,'Daily Log'!$AM$18:$AM$1017),0)","v":0},{"$f":"IFERROR($E61*SUMIF('Daily Log'!$AO$18:$AO$1017,$B61,'Daily Log'!$AP$18:$AP$1017),0)","v":0},{"$f":"IFERROR($E61*SUMIF('Daily Log'!$AR$18:$AR$1017,$B61,'Daily Log'!$AS$18:$AS$1017),0)","v":0},{"$f":"IFERROR($E61*SUMIF('Daily Log'!$AU$18:$AU$1017,$B61,'Daily Log'!$AV$18:$AV$1017),0)","v":0},{"$f":"IFERROR($E61*SUMIF('Daily Log'!$AX$18:$AX$1017,$B61,'Daily Log'!$AY$18:$AY$1017),0)","v":0},{"$f":"IFERROR($E61*SUMIF('Daily Log'!$BA$18:$BA$1017,$B61,'Daily Log'!$BB$18:$BB$1017),0)","v":0},{"$f":"IFERROR($E61*SUMIF('Daily Log'!$BD$18:$BD$1017,$B61,'Daily Log'!$BE$18:$BE$1017),0)","v":1},{"$f":"IFERROR($E61*SUMIF('Daily Log'!$BG$18:$BG$1017,$B61,'Daily Log'!$BH$18:$BH$1017),0)","v":1},{"$f":"IFERROR($E61*SUMIF('Daily Log'!$BJ$18:$BJ$1017,$B61,'Daily Log'!$BK$18:$BK$1017),0)","v":0},{"$f":"IFERROR($E61*SUMIF('Daily Log'!$BM$18:$BM$1017,$B61,'Daily Log'!$BN$18:$BN$1017),0)","v":1},{"$f":"IFERROR($E61*SUMIF('Daily Log'!$BP$18:$BP$1017,$B61,'Daily Log'!$BQ$18:$BQ$1017),0)","v":0},{"$f":"IFERROR($E61*SUMIF('Daily Log'!$BS$18:$BS$1017,$B61,'Daily Log'!$BT$18:$BT$1017),0)","v":0},{"$f":"IFERROR($E61*SUMIF('Daily Log'!$BV$18:$BV$1017,$B61,'Daily Log'!$BW$18:$BW$1017),0)","v":0},{"$f":"IFERROR($E61*SUMIF('Daily Log'!$BY$18:$BY$1017,$B61,'Daily Log'!$BZ$18:$BZ$1017),0)","v":2},{"$f":"IFERROR($E61*SUMIF('Daily Log'!$CB$18:$CB$1017,$B61,'Daily Log'!$CC$18:$CC$1017),0)","v":2},{"$f":"IFERROR($E61*SUMIF('Daily Log'!$CE$18:$CE$1017,$B61,'Daily Log'!$CF$18:$CF$1017),0)","v":1},{"$f":"IFERROR($E61*SUMIF('Daily Log'!$CH$18:$CH$1017,$B61,'Daily Log'!$CI$18:$CI$1017),0)","v":0},{"$f":"IFERROR($E61*SUMIF('Daily Log'!$CK$18:$CK$1017,$B61,'Daily Log'!$CL$18:$CL$1017),0)","v":0},{"$f":"IFERROR($E61*SUMIF('Daily Log'!$CN$18:$CN$1017,$B61,'Daily Log'!$CO$18:$CO$1017),0)","v":0}]
[null,"AF38 91308:MC RING",null,"APPETIZER FREE",1,10,{"$f":"IFERROR($E62*SUMIF('Daily Log'!$B$18:$B$1017,$B62,'Daily Log'!$C$18:$C$1017),0)","v":0},{"$f":"IFERROR($E62*SUMIF('Daily Log'!$E$18:$E$1017,$B62,'Daily Log'!$F$18:$F$1017),0)","v":1},{"$f":"IFERROR($E62*SUMIF('Daily Log'!$H$18:$H$1017,$B62,'Daily Log'!$I$18:$I$1017),0)","v":0},{"$f":"IFERROR($E62*SUMIF('Daily Log'!$K$18:$K$1017,$B62,'Daily Log'!$L$18:$L$1017),0)","v":1},{"$f":"IFERROR($E62*SUMIF('Daily Log'!$N$18:$N$1017,$B62,'Daily Log'!$O$18:$O$1017),0)","v":0},{"$f":"IFERROR($E62*SUMIF('Daily Log'!$Q$18:$Q$1017,$B62,'Daily Log'!$R$18:$R$1017),0)","v":0},{"$f":"IFERROR($E62*SUMIF('Daily Log'!$T$18:$T$1017,$B62,'Daily Log'!$U$18:$U$1017),0)","v":0},{"$f":"IFERROR($E62*SUMIF('Daily Log'!$W$18:$W$1017,$B62,'Daily Log'!$X$18:$X$1017),0)","v":0},{"$f":"IFERROR($E62*SUMIF('Daily Log'!$Z$18:$Z$1017,$B62,'Daily Log'!$AA$18:$AA$1017),0)","v":0},{"$f":"IFERROR($E62*SUMIF('Daily Log'!$AC$18:$AC$1017,$B62,'Daily Log'!$AD$18:$AD$1017),0)","v":0},{"$f":"IFERROR($E62*SUMIF('Daily Log'!$AF$18:$AF$1017,$B62,'Daily Log'!$AG$18:$AG$1017),0)","v":0},{"$f":"IFERROR($E62*SUMIF('Daily Log'!$AI$18:$AI$1017,$B62,'Daily Log'!$AJ$18:$AJ$1017),0)","v":0},{"$f":"IFERROR($E62*SUMIF('Daily Log'!$AL$18:$AL$1017,$B62,'Daily Log'!$AM$18:$AM$1017),0)","v":1},{"$f":"IFERROR($E62*SUMIF('Daily Log'!$AO$18:$AO$1017,$B62,'Daily Log'!$AP$18:$AP$1017),0)","v":0},{"$f":"IFERROR($E62*SUMIF('Daily Log'!$AR$18:$AR$1017,$B62,'Daily Log'!$AS$18:$AS$1017),0)","v":0},{"$f":"IFERROR($E62*SUMIF('Daily Log'!$AU$18:$AU$1017,$B62,'Daily Log'!$AV$18:$AV$1017),0)","v":0},{"$f":"IFERROR($E62*SUMIF('Daily Log'!$AX$18:$AX$1017,$B62,'Daily Log'!$AY$18:$AY$1017),0)","v":0},{"$f":"IFERROR($E62*SUMIF('Daily Log'!$BA$18:$BA$1017,$B62,'Daily Log'!$BB$18:$BB$1017),0)","v":1},{"$f":"IFERROR($E62*SUMIF('Daily Log'!$BD$18:$BD$1017,$B62,'Daily Log'!$BE$18:$BE$1017),0)","v":0},{"$f":"IFERROR($E62*SUMIF('Daily Log'!$BG$18:$BG$1017,$B62,'Daily Log'!$BH$18:$BH$1017),0)","v":0},{"$f":"IFERROR($E62*SUMIF('Daily Log'!$BJ$18:$BJ$1017,$B62,'Daily Log'!$BK$18:$BK$1017),0)","v":1},{"$f":"IFERROR($E62*SUMIF('Daily Log'!$BM$18:$BM$1017,$B62,'Daily Log'!$BN$18:$BN$1017),0)","v":1},{"$f":"IFERROR($E62*SUMIF('Daily Log'!$BP$18:$BP$1017,$B62,'Daily Log'!$BQ$18:$BQ$1017),0)","v":0},{"$f":"IFERROR($E62*SUMIF('Daily Log'!$BS$18:$BS$1017,$B62,'Daily Log'!$BT$18:$BT$1017),0)","v":0},{"$f":"IFERROR($E62*SUMIF('Daily Log'!$BV$18:$BV$1017,$B62,'Daily Log'!$BW$18:$BW$1017),0)","v":0},{"$f":"IFERROR($E62*SUMIF('Daily Log'!$BY$18:$BY$1017,$B62,'Daily Log'!$BZ$18:$BZ$1017),0)","v":0},{"$f":"IFERROR($E62*SUMIF('Daily Log'!$CB$18:$CB$1017,$B62,'Daily Log'!$CC$18:$CC$1017),0)","v":4},{"$f":"IFERROR($E62*SUMIF('Daily Log'!$CE$18:$CE$1017,$B62,'Daily Log'!$CF$18:$CF$1017),0)","v":0},{"$f":"IFERROR($E62*SUMIF('Daily Log'!$CH$18:$CH$1017,$B62,'Daily Log'!$CI$18:$CI$1017),0)","v":0},{"$f":"IFERROR($E62*SUMIF('Daily Log'!$CK$18:$CK$1017,$B62,'Daily Log'!$CL$18:$CL$1017),0)","v":0},{"$f":"IFERROR($E62*SUMIF('Daily Log'!$CN$18:$CN$1017,$B62,'Daily Log'!$CO$18:$CO$1017),0)","v":0}]
[null,"AF39 91309:MC S.FRIES",null,"APPETIZER FREE",1,9,{"$f":"IFERROR($E63*SUMIF('Daily Log'!$B$18:$B$1017,$B63,'Daily Log'!$C$18:$C$1017),0)","v":0},{"$f":"IFERROR($E63*SUMIF('Daily Log'!$E$18:$E$1017,$B63,'Daily Log'!$F$18:$F$1017),0)","v":0},{"$f":"IFERROR($E63*SUMIF('Daily Log'!$H$18:$H$1017,$B63,'Daily Log'!$I$18:$I$1017),0)","v":0},{"$f":"IFERROR($E63*SUMIF('Daily Log'!$K$18:$K$1017,$B63,'Daily Log'!$L$18:$L$1017),0)","v":4},{"$f":"IFERROR($E63*SUMIF('Daily Log'!$N$18:$N$1017,$B63,'Daily Log'!$O$18:$O$1017),0)","v":0},{"$f":"IFERROR($E63*SUMIF('Daily Log'!$Q$18:$Q$1017,$B63,'Daily Log'!$R$18:$R$1017),0)","v":0},{"$f":"IFERROR($E63*SUMIF('Daily Log'!$T$18:$T$1017,$B63,'Daily Log'!$U$18:$U$1017),0)","v":0},{"$f":"IFERROR($E63*SUMIF('Daily Log'!$W$18:$W$1017,$B63,'Daily Log'!$X$18:$X$1017),0)","v":0},{"$f":"IFERROR($E63*SUMIF('Daily Log'!$Z$18:$Z$1017,$B63,'Daily Log'!$AA$18:$AA$1017),0)","v":0},{"$f":"IFERROR($E63*SUMIF('Daily Log'!$AC$18:$AC$1017,$B63,'Daily Log'!$AD$18:$AD$1017),0)","v":0},{"$f":"IFERROR($E63*SUMIF('Daily Log'!$AF$18:$AF$1017,$B63,'Daily Log'!$AG$18:$AG$1017),0)","v":0},{"$f":"IFERROR($E63*SUMIF('Daily Log'!$AI$18:$AI$1017,$B63,'Daily Log'!$AJ$18:$AJ$1017),0)","v":1},{"$f":"IFERROR($E63*SUMIF('Daily Log'!$AL$18:$AL$1017,$B63,'Daily Log'!$AM$18:$AM$1017),0)","v":0},{"$f":"IFERROR($E63*SUMIF('Daily Log'!$AO$18:$AO$1017,$B63,'Daily Log'!$AP$18:$AP$1017),0)","v":0},{"$f":"IFERROR($E63*SUMIF('Daily Log'!$AR$18:$AR$1017,$B63,'Daily Log'!$AS$18:$AS$1017),0)","v":0},{"$f":"IFERROR($E63*SUMIF('Daily Log'!$AU$18:$AU$1017,$B63,'Daily Log'!$AV$18:$AV$1017),0)","v":0},{"$f":"IFERROR($E63*SUMIF('Daily Log'!$AX$18:$AX$1017,$B63,'Daily Log'!$AY$18:$AY$1017),0)","v":0},{"$f":"IFERROR($E63*SUMIF('Daily Log'!$BA$18:$BA$1017,$B63,'Daily Log'!$BB$18:$BB$1017),0)","v":1},{"$f":"IFERROR($E63*SUMIF('Daily Log'!$BD$18:$BD$1017,$B63,'Daily Log'!$BE$18:$BE$1017),0)","v":0},{"$f":"IFERROR($E63*SUMIF('Daily Log'!$BG$18:$BG$1017,$B63,'Daily Log'!$BH$18:$BH$1017),0)","v":0},{"$f":"IFERROR($E63*SUMIF('Daily Log'!$BJ$18:$BJ$1017,$B63,'Daily Log'!$BK$18:$BK$1017),0)","v":0},{"$f":"IFERROR($E63*SUMIF('Daily Log'!$BM$18:$BM$1017,$B63,'Daily Log'!$BN$18:$BN$1017),0)","v":1},{"$f":"IFERROR($E63*SUMIF('Daily Log'!$BP$18:$BP$1017,$B63,'Daily Log'!$BQ$18:$BQ$1017),0)","v":0},{"$f":"IFERROR($E63*SUMIF('Daily Log'!$BS$18:$BS$1017,$B63,'Daily Log'!$BT$18:$BT$1017),0)","v":0},{"$f":"IFERROR($E63*SUMIF('Daily Log'!$BV$18:$BV$1017,$B63,'Daily Log'!$BW$18:$BW$1017),0)","v":0},{"$f":"IFERROR($E63*SUMIF('Daily Log'!$BY$18:$BY$1017,$B63,'Daily Log'!$BZ$18:$BZ$1017),0)","v":0},{"$f":"IFERROR($E63*SUMIF('Daily Log'!$CB$18:$CB$1017,$B63,'Daily Log'!$CC$18:$CC$1017),0)","v":1},{"$f":"IFERROR($E63*SUMIF('Daily Log'!$CE$18:$CE$1017,$B63,'Daily Log'!$CF$18:$CF$1017),0)","v":0},{"$f":"IFERROR($E63*SUMIF('Daily Log'!$CH$18:$CH$1017,$B63,'Daily Log'!$CI$18:$CI$1017),0)","v":0},{"$f":"IFERROR($E63*SUMIF('Daily Log'!$CK$18:$CK$1017,$B63,'Daily Log'!$CL$18:$CL$1017),0)","v":1},{"$f":"IFERROR($E63*SUMIF('Daily Log'!$CN$18:$CN$1017,$B63,'Daily Log'!$CO$18:$CO$1017),0)","v":0}]
[null,"AF40 91310:MC HP SMIL",null,"APPETIZER FREE",1,1,{"$f":"IFERROR($E64*SUMIF('Daily Log'!$B$18:$B$1017,$B64,'Daily Log'!$C$18:$C$1017),0)","v":0},{"$f":"IFERROR($E64*SUMIF('Daily Log'!$E$18:$E$1017,$B64,'Daily Log'!$F$18:$F$1017),0)","v":0},{"$f":"IFERROR($E64*SUMIF('Daily Log'!$H$18:$H$1017,$B64,'Daily Log'!$I$18:$I$1017),0)","v":0},{"$f":"IFERROR($E64*SUMIF('Daily Log'!$K$18:$K$1017,$B64,'Daily Log'!$L$18:$L$1017),0)","v":0},{"$f":"IFERROR($E64*SUMIF('Daily Log'!$N$18:$N$1017,$B64,'Daily Log'!$O$18:$O$1017),0)","v":0},{"$f":"IFERROR($E64*SUMIF('Daily Log'!$Q$18:$Q$1017,$B64,'Daily Log'!$R$18:$R$1017),0)","v":0},{"$f":"IFERROR($E64*SUMIF('Daily Log'!$T$18:$T$1017,$B64,'Daily Log'!$U$18:$U$1017),0)","v":0},{"$f":"IFERROR($E64*SUMIF('Daily Log'!$W$18:$W$1017,$B64,'Daily Log'!$X$18:$X$1017),0)","v":0},{"$f":"IFERROR($E64*SUMIF('Daily Log'!$Z$18:$Z$1017,$B64,'Daily Log'!$AA$18:$AA$1017),0)","v":0},{"$f":"IFERROR($E64*SUMIF('Daily Log'!$AC$18:$AC$1017,$B64,'Daily Log'!$AD$18:$AD$1017),0)","v":0},{"$f":"IFERROR($E64*SUMIF('Daily Log'!$AF$18:$AF$1017,$B64,'Daily Log'!$AG$18:$AG$1017),0)","v":0},{"$f":"IFERROR($E64*SUMIF('Daily Log'!$AI$18:$AI$1017,$B64,'Daily Log'!$AJ$18:$AJ$1017),0)","v":0},{"$f":"IFERROR($E64*SUMIF('Daily Log'!$AL$18:$AL$1017,$B64,'Daily Log'!$AM$18:$AM$1017),0)","v":0},{"$f":"IFERROR($E64*SUMIF('Daily Log'!$AO$18:$AO$1017,$B64,'Daily Log'!$AP$18:$AP$1017),0)","v":0},{"$f":"IFERROR($E64*SUMIF('Daily Log'!$AR$18:$AR$1017,$B64,'Daily Log'!$AS$18:$AS$1017),0)","v":0},{"$f":"IFERROR($E64*SUMIF('Daily Log'!$AU$18:$AU$1017,$B64,'Daily Log'!$AV$18:$AV$1017),0)","v":0},{"$f":"IFERROR($E64*SUMIF('Daily Log'!$AX$18:$AX$1017,$B64,'Daily Log'!$AY$18:$AY$1017),0)","v":0},{"$f":"IFERROR($E64*SUMIF('Daily Log'!$BA$18:$BA$1017,$B64,'Daily Log'!$BB$18:$BB$1017),0)","v":0},{"$f":"IFERROR($E64*SUMIF('Daily Log'!$BD$18:$BD$1017,$B64,'Daily Log'!$BE$18:$BE$1017),0)","v":0},{"$f":"IFERROR($E64*SUMIF('Daily Log'!$BG$18:$BG$1017,$B64,'Daily Log'!$BH$18:$BH$1017),0)","v":0},{"$f":"IFERROR($E64*SUMIF('Daily Log'!$BJ$18:$BJ$1017,$B64,'Daily Log'!$BK$18:$BK$1017),0)","v":0},{"$f":"IFERROR($E64*SUMIF('Daily Log'!$BM$18:$BM$1017,$B64,'Daily Log'!$BN$18:$BN$1017),0)","v":0},{"$f":"IFERROR($E64*SUMIF('Daily Log'!$BP$18:$BP$1017,$B64,'Daily Log'!$BQ$18:$BQ$1017),0)","v":0},{"$f":"IFERROR($E64*SUMIF('Daily Log'!$BS$18:$BS$1017,$B64,'Daily Log'!$BT$18:$BT$1017),0)","v":0},{"$f":"IFERROR($E64*SUMIF('Daily Log'!$BV$18:$BV$1017,$B64,'Daily Log'!$BW$18:$BW$1017),0)","v":0},{"$f":"IFERROR($E64*SUMIF('Daily Log'!$BY$18:$BY$1017,$B64,'Daily Log'!$BZ$18:$BZ$1017),0)","v":0},{"$f":"IFERROR($E64*SUMIF('Daily Log'!$CB$18:$CB$1017,$B64,'Daily Log'!$CC$18:$CC$1017),0)","v":1},{"$f":"IFERROR($E64*SUMIF('Daily Log'!$CE$18:$CE$1017,$B64,'Daily Log'!$CF$18:$CF$1017),0)","v":0},{"$f":"IFERROR($E64*SUMIF('Daily Log'!$CH$18:$CH$1017,$B64,'Daily Log'!$CI$18:$CI$1017),0)","v":0},{"$f":"IFERROR($E64*SUMIF('Daily Log'!$CK$18:$CK$1017,$B64,'Daily Log'!$CL$18:$CL$1017),0)","v":0},{"$f":"IFERROR($E64*SUMIF('Daily Log'!$CN$18:$CN$1017,$B64,'Daily Log'!$CO$18:$CO$1017),0)","v":0}]
[null,"AF41 91311:MC HSH BRW",null,"APPETIZER FREE",1,8,{"$f":"IFERROR($E65*SUMIF('Daily Log'!$B$18:$B$1017,$B65,'Daily Log'!$C$18:$C$1017),0)","v":0},{"$f":"IFERROR($E65*SUMIF('Daily Log'!$E$18:$E$1017,$B65,'Daily Log'!$F$18:$F$1017),0)","v":1},{"$f":"IFERROR($E65*SUMIF('Daily Log'!$H$18:$H$1017,$B65,'Daily Log'!$I$18:$I$1017),0)","v":0},{"$f":"IFERROR($E65*SUMIF('Daily Log'!$K$18:$K$1017,$B65,'Daily Log'!$L$18:$L$1017),0)","v":1},{"$f":"IFERROR($E65*SUMIF('Daily Log'!$N$18:$N$1017,$B65,'Daily Log'!$O$18:$O$1017),0)","v":0},{"$f":"IFERROR($E65*SUMIF('Daily Log'!$Q$18:$Q$1017,$B65,'Daily Log'!$R$18:$R$1017),0)","v":2},{"$f":"IFERROR($E65*SUMIF('Daily Log'!$T$18:$T$1017,$B65,'Daily Log'!$U$18:$U$1017),0)","v":0},{"$f":"IFERROR($E65*SUMIF('Daily Log'!$W$18:$W$1017,$B65,'Daily Log'!$X$18:$X$1017),0)","v":0},{"$f":"IFERROR($E65*SUMIF('Daily Log'!$Z$18:$Z$1017,$B65,'Daily Log'!$AA$18:$AA$1017),0)","v":0},{"$f":"IFERROR($E65*SUMIF('Daily Log'!$AC$18:$AC$1017,$B65,'Daily Log'!$AD$18:$AD$1017),0)","v":1},{"$f":"IFERROR($E65*SUMIF('Daily Log'!$AF$18:$AF$1017,$B65,'Daily Log'!$AG$18:$AG$1017),0)","v":0},{"$f":"IFERROR($E65*SUMIF('Daily Log'!$AI$18:$AI$1017,$B65,'Daily Log'!$AJ$18:$AJ$1017),0)","v":1},{"$f":"IFERROR($E65*SUMIF('Daily Log'!$AL$18:$AL$1017,$B65,'Daily Log'!$AM$18:$AM$1017),0)","v":0},{"$f":"IFERROR($E65*SUMIF('Daily Log'!$AO$18:$AO$1017,$B65,'Daily Log'!$AP$18:$AP$1017),0)","v":0},{"$f":"IFERROR($E65*SUMIF('Daily Log'!$AR$18:$AR$1017,$B65,'Daily Log'!$AS$18:$AS$1017),0)","v":0},{"$f":"IFERROR($E65*SUMIF('Daily Log'!$AU$18:$AU$1017,$B65,'Daily Log'!$AV$18:$AV$1017),0)","v":1},{"$f":"IFERROR($E65*SUMIF('Daily Log'!$AX$18:$AX$1017,$B65,'Daily Log'!$AY$18:$AY$1017),0)","v":0},{"$f":"IFERROR($E65*SUMIF('Daily Log'!$BA$18:$BA$1017,$B65,'Daily Log'!$BB$18:$BB$1017),0)","v":0},{"$f":"IFERROR($E65*SUMIF('Daily Log'!$BD$18:$BD$1017,$B65,'Daily Log'!$BE$18:$BE$1017),0)","v":0},{"$f":"IFERROR($E65*SUMIF('Daily Log'!$BG$18:$BG$1017,$B65,'Daily Log'!$BH$18:$BH$1017),0)","v":0},{"$f":"IFERROR($E65*SUMIF('Daily Log'!$BJ$18:$BJ$1017,$B65,'Daily Log'!$BK$18:$BK$1017),0)","v":0},{"$f":"IFERROR($E65*SUMIF('Daily Log'!$BM$18:$BM$1017,$B65,'Daily Log'!$BN$18:$BN$1017),0)","v":0},{"$f":"IFERROR($E65*SUMIF('Daily Log'!$BP$18:$BP$1017,$B65,'Daily Log'!$BQ$18:$BQ$1017),0)","v":0},{"$f":"IFERROR($E65*SUMIF('Daily Log'!$BS$18:$BS$1017,$B65,'Daily Log'!$BT$18:$BT$1017),0)","v":0},{"$f":"IFERROR($E65*SUMIF('Daily Log'!$BV$18:$BV$1017,$B65,'Daily Log'!$BW$18:$BW$1017),0)","v":0},{"$f":"IFERROR($E65*SUMIF('Daily Log'!$BY$18:$BY$1017,$B65,'Daily Log'!$BZ$18:$BZ$1017),0)","v":0},{"$f":"IFERROR($E65*SUMIF('Daily Log'!$CB$18:$CB$1017,$B65,'Daily Log'!$CC$18:$CC$1017),0)","v":1},{"$f":"IFERROR($E65*SUMIF('Daily Log'!$CE$18:$CE$1017,$B65,'Daily Log'!$CF$18:$CF$1017),0)","v":0},{"$f":"IFERROR($E65*SUMIF('Daily Log'!$CH$18:$CH$1017,$B65,'Daily Log'!$CI$18:$CI$1017),0)","v":0},{"$f":"IFERROR($E65*SUMIF('Daily Log'!$CK$18:$CK$1017,$B65,'Daily Log'!$CL$18:$CL$1017),0)","v":0},{"$f":"IFERROR($E65*SUMIF('Daily Log'!$CN$18:$CN$1017,$B65,'Daily Log'!$CO$18:$CO$1017),0)","v":0}]
[null,"BG01 6001:GUI BTL",null,"BEER",1,14,{"$f":"IFERROR($E66*SUMIF('Daily Log'!$B$18:$B$1017,$B66,'Daily Log'!$C$18:$C$1017),0)","v":0},{"$f":"IFERROR($E66*SUMIF('Daily Log'!$E$18:$E$1017,$B66,'Daily Log'!$F$18:$F$1017),0)","v":0},{"$f":"IFERROR($E66*SUMIF('Daily Log'!$H$18:$H$1017,$B66,'Daily Log'!$I$18:$I$1017),0)","v":2},{"$f":"IFERROR($E66*SUMIF('Daily Log'!$K$18:$K$1017,$B66,'Daily Log'!$L$18:$L$1017),0)","v":0},{"$f":"IFERROR($E66*SUMIF('Daily Log'!$N$18:$N$1017,$B66,'Daily Log'!$O$18:$O$1017),0)","v":0},{"$f":"IFERROR($E66*SUMIF('Daily Log'!$Q$18:$Q$1017,$B66,'Daily Log'!$R$18:$R$1017),0)","v":0},{"$f":"IFERROR($E66*SUMIF('Daily Log'!$T$18:$T$1017,$B66,'Daily Log'!$U$18:$U$1017),0)","v":0},{"$f":"IFERROR($E66*SUMIF('Daily Log'!$W$18:$W$1017,$B66,'Daily Log'!$X$18:$X$1017),0)","v":0},{"$f":"IFERROR($E66*SUMIF('Daily Log'!$Z$18:$Z$1017,$B66,'Daily Log'!$AA$18:$AA$1017),0)","v":2},{"$f":"IFERROR($E66*SUMIF('Daily Log'!$AC$18:$AC$1017,$B66,'Daily Log'!$AD$18:$AD$1017),0)","v":0},{"$f":"IFERROR($E66*SUMIF('Daily Log'!$AF$18:$AF$1017,$B66,'Daily Log'!$AG$18:$AG$1017),0)","v":0},{"$f":"IFERROR($E66*SUMIF('Daily Log'!$AI$18:$AI$1017,$B66,'Daily Log'!$AJ$18:$AJ$1017),0)","v":0},{"$f":"IFERROR($E66*SUMIF('Daily Log'!$AL$18:$AL$1017,$B66,'Daily Log'!$AM$18:$AM$1017),0)","v":0},{"$f":"IFERROR($E66*SUMIF('Daily Log'!$AO$18:$AO$1017,$B66,'Daily Log'!$AP$18:$AP$1017),0)","v":0},{"$f":"IFERROR($E66*SUMIF('Daily Log'!$AR$18:$AR$1017,$B66,'Daily Log'!$AS$18:$AS$1017),0)","v":0},{"$f":"IFERROR($E66*SUMIF('Daily Log'!$AU$18:$AU$1017,$B66,'Daily Log'!$AV$18:$AV$1017),0)","v":0},{"$f":"IFERROR($E66*SUMIF('Daily Log'!$AX$18:$AX$1017,$B66,'Daily Log'!$AY$18:$AY$1017),0)","v":0},{"$f":"IFERROR($E66*SUMIF('Daily Log'!$BA$18:$BA$1017,$B66,'Daily Log'!$BB$18:$BB$1017),0)","v":2},{"$f":"IFERROR($E66*SUMIF('Daily Log'!$BD$18:$BD$1017,$B66,'Daily Log'!$BE$18:$BE$1017),0)","v":0},{"$f":"IFERROR($E66*SUMIF('Daily Log'!$BG$18:$BG$1017,$B66,'Daily Log'!$BH$18:$BH$1017),0)","v":0},{"$f":"IFERROR($E66*SUMIF('Daily Log'!$BJ$18:$BJ$1017,$B66,'Daily Log'!$BK$18:$BK$1017),0)","v":2},{"$f":"IFERROR($E66*SUMIF('Daily Log'!$BM$18:$BM$1017,$B66,'Daily Log'!$BN$18:$BN$1017),0)","v":1},{"$f":"IFERROR($E66*SUMIF('Daily Log'!$BP$18:$BP$1017,$B66,'Daily Log'!$BQ$18:$BQ$1017),0)","v":0},{"$f":"IFERROR($E66*SUMIF('Daily Log'!$BS$18:$BS$1017,$B66,'Daily Log'!$BT$18:$BT$1017),0)","v":0},{"$f":"IFERROR($E66*SUMIF('Daily Log'!$BV$18:$BV$1017,$B66,'Daily Log'!$BW$18:$BW$1017),0)","v":0},{"$f":"IFERROR($E66*SUMIF('Daily Log'!$BY$18:$BY$1017,$B66,'Daily Log'!$BZ$18:$BZ$1017),0)","v":3},{"$f":"IFERROR($E66*SUMIF('Daily Log'!$CB$18:$CB$1017,$B66,'Daily Log'!$CC$18:$CC$1017),0)","v":0},{"$f":"IFERROR($E66*SUMIF('Daily Log'!$CE$18:$CE$1017,$B66,'Daily Log'!$CF$18:$CF$1017),0)","v":0},{"$f":"IFERROR($E66*SUMIF('Daily Log'!$CH$18:$CH$1017,$B66,'Daily Log'!$CI$18:$CI$1017),0)","v":0},{"$f":"IFERROR($E66*SUMIF('Daily Log'!$CK$18:$CK$1017,$B66,'Daily Log'!$CL$18:$CL$1017),0)","v":2},{"$f":"IFERROR($E66*SUMIF('Daily Log'!$CN$18:$CN$1017,$B66,'Daily Log'!$CO$18:$CO$1017),0)","v":0}]
[null,"BG02 6002:GUI BKT",null,"BEER",4,64,{"$f":"IFERROR($E67*SUMIF('Daily Log'!$B$18:$B$1017,$B67,'Daily Log'!$C$18:$C$1017),0)","v":4},{"$f":"IFERROR($E67*SUMIF('Daily Log'!$E$18:$E$1017,$B67,'Daily Log'!$F$18:$F$1017),0)","v":0},{"$f":"IFERROR($E67*SUMIF('Daily Log'!$H$18:$H$1017,$B67,'Daily Log'!$I$18:$I$1017),0)","v":0},{"$f":"IFERROR($E67*SUMIF('Daily Log'!$K$18:$K$1017,$B67,'Daily Log'!$L$18:$L$1017),0)","v":12},{"$f":"IFERROR($E67*SUMIF('Daily Log'!$N$18:$N$1017,$B67,'Daily Log'!$O$18:$O$1017),0)","v":0},{"$f":"IFERROR($E67*SUMIF('Daily Log'!$Q$18:$Q$1017,$B67,'Daily Log'!$R$18:$R$1017),0)","v":0},{"$f":"IFERROR($E67*SUMIF('Daily Log'!$T$18:$T$1017,$B67,'Daily Log'!$U$18:$U$1017),0)","v":0},{"$f":"IFERROR($E67*SUMIF('Daily Log'!$W$18:$W$1017,$B67,'Daily Log'!$X$18:$X$1017),0)","v":4},{"$f":"IFERROR($E67*SUMIF('Daily Log'!$Z$18:$Z$1017,$B67,'Daily Log'!$AA$18:$AA$1017),0)","v":0},{"$f":"IFERROR($E67*SUMIF('Daily Log'!$AC$18:$AC$1017,$B67,'Daily Log'!$AD$18:$AD$1017),0)","v":8},{"$f":"IFERROR($E67*SUMIF('Daily Log'!$AF$18:$AF$1017,$B67,'Daily Log'!$AG$18:$AG$1017),0)","v":8},{"$f":"IFERROR($E67*SUMIF('Daily Log'!$AI$18:$AI$1017,$B67,'Daily Log'!$AJ$18:$AJ$1017),0)","v":0},{"$f":"IFERROR($E67*SUMIF('Daily Log'!$AL$18:$AL$1017,$B67,'Daily Log'!$AM$18:$AM$1017),0)","v":0},{"$f":"IFERROR($E67*SUMIF('Daily Log'!$AO$18:$AO$1017,$B67,'Daily Log'!$AP$18:$AP$1017),0)","v":0},{"$f":"IFERROR($E67*SUMIF('Daily Log'!$AR$18:$AR$1017,$B67,'Daily Log'!$AS$18:$AS$1017),0)","v":0},{"$f":"IFERROR($E67*SUMIF('Daily Log'!$AU$18:$AU$1017,$B67,'Daily Log'!$AV$18:$AV$1017),0)","v":0},{"$f":"IFERROR($E67*SUMIF('Daily Log'!$AX$18:$AX$1017,$B67,'Daily Log'!$AY$18:$AY$1017),0)","v":8},{"$f":"IFERROR($E67*SUMIF('Daily Log'!$BA$18:$BA$1017,$B67,'Daily Log'!$BB$18:$BB$1017),0)","v":4},{"$f":"IFERROR($E67*SUMIF('Daily Log'!$BD$18:$BD$1017,$B67,'Daily Log'!$BE$18:$BE$1017),0)","v":0},{"$f":"IFERROR($E67*SUMIF('Daily Log'!$BG$18:$BG$1017,$B67,'Daily Log'!$BH$18:$BH$1017),0)","v":0},{"$f":"IFERROR($E67*SUMIF('Daily Log'!$BJ$18:$BJ$1017,$B67,'Daily Log'!$BK$18:$BK$1017),0)","v":0},{"$f":"IFERROR($E67*SUMIF('Daily Log'!$BM$18:$BM$1017,$B67,'Daily Log'!$BN$18:$BN$1017),0)","v":0},{"$f":"IFERROR($E67*SUMIF('Daily Log'!$BP$18:$BP$1017,$B67,'Daily Log'!$BQ$18:$BQ$1017),0)","v":0},{"$f":"IFERROR($E67*SUMIF('Daily Log'!$BS$18:$BS$1017,$B67,'Daily Log'!$BT$18:$BT$1017),0)","v":0},{"$f":"IFERROR($E67*SUMIF('Daily Log'!$BV$18:$BV$1017,$B67,'Daily Log'!$BW$18:$BW$1017),0)","v":4},{"$f":"IFERROR($E67*SUMIF('Daily Log'!$BY$18:$BY$1017,$B67,'Daily Log'!$BZ$18:$BZ$1017),0)","v":0},{"$f":"IFERROR($E67*SUMIF('Daily Log'!$CB$18:$CB$1017,$B67,'Daily Log'!$CC$18:$CC$1017),0)","v":0},{"$f":"IFERROR($E67*SUMIF('Daily Log'!$CE$18:$CE$1017,$B67,'Daily Log'!$CF$18:$CF$1017),0)","v":0},{"$f":"IFERROR($E67*SUMIF('Daily Log'!$CH$18:$CH$1017,$B67,'Daily Log'!$CI$18:$CI$1017),0)","v":12},{"$f":"IFERROR($E67*SUMIF('Daily Log'!$CK$18:$CK$1017,$B67,'Daily Log'!$CL$18:$CL$1017),0)","v":0},{"$f":"IFERROR($E67*SUMIF('Daily Log'!$CN$18:$CN$1017,$B67,'Daily Log'!$CO$18:$CO$1017),0)","v":0}]
[null,"BG03 6003:GUI RND",null,"BEER",12,48,{"$f":"IFERROR($E68*SUMIF('Daily Log'!$B$18:$B$1017,$B68,'Daily Log'!$C$18:$C$1017),0)","v":0},{"$f":"IFERROR($E68*SUMIF('Daily Log'!$E$18:$E$1017,$B68,'Daily Log'!$F$18:$F$1017),0)","v":0},{"$f":"IFERROR($E68*SUMIF('Daily Log'!$H$18:$H$1017,$B68,'Daily Log'!$I$18:$I$1017),0)","v":0},{"$f":"IFERROR($E68*SUMIF('Daily Log'!$K$18:$K$1017,$B68,'Daily Log'!$L$18:$L$1017),0)","v":0},{"$f":"IFERROR($E68*SUMIF('Daily Log'!$N$18:$N$1017,$B68,'Daily Log'!$O$18:$O$1017),0)","v":0},{"$f":"IFERROR($E68*SUMIF('Daily Log'!$Q$18:$Q$1017,$B68,'Daily Log'!$R$18:$R$1017),0)","v":0},{"$f":"IFERROR($E68*SUMIF('Daily Log'!$T$18:$T$1017,$B68,'Daily Log'!$U$18:$U$1017),0)","v":0},{"$f":"IFERROR($E68*SUMIF('Daily Log'!$W$18:$W$1017,$B68,'Daily Log'!$X$18:$X$1017),0)","v":0},{"$f":"IFERROR($E68*SUMIF('Daily Log'!$Z$18:$Z$1017,$B68,'Daily Log'!$AA$18:$AA$1017),0)","v":0},{"$f":"IFERROR($E68*SUMIF('Daily Log'!$AC$18:$AC$1017,$B68,'Daily Log'!$AD$18:$AD$1017),0)","v":0},{"$f":"IFERROR($E68*SUMIF('Daily Log'!$AF$18:$AF$1017,$B68,'Daily Log'!$AG$18:$AG$1017),0)","v":0},{"$f":"IFERROR($E68*SUMIF('Daily Log'!$AI$18:$AI$1017,$B68,'Daily Log'!$AJ$18:$AJ$1017),0)","v":12},{"$f":"IFERROR($E68*SUMIF('Daily Log'!$AL$18:$AL$1017,$B68,'Daily Log'!$AM$18:$AM$1017),0)","v":0},{"$f":"IFERROR($E68*SUMIF('Daily Log'!$AO$18:$AO$1017,$B68,'Daily Log'!$AP$18:$AP$1017),0)","v":12},{"$f":"IFERROR($E68*SUMIF('Daily Log'!$AR$18:$AR$1017,$B68,'Daily Log'!$AS$18:$AS$1017),0)","v":0},{"$f":"IFERROR($E68*SUMIF('Daily Log'!$AU$18:$AU$1017,$B68,'Daily Log'!$AV$18:$AV$1017),0)","v":0},{"$f":"IFERROR($E68*SUMIF('Daily Log'!$AX$18:$AX$1017,$B68,'Daily Log'!$AY$18:$AY$1017),0)","v":0},{"$f":"IFERROR($E68*SUMIF('Daily Log'!$BA$18:$BA$1017,$B68,'Daily Log'!$BB$18:$BB$1017),0)","v":0},{"$f":"IFERROR($E68*SUMIF('Daily Log'!$BD$18:$BD$1017,$B68,'Daily Log'!$BE$18:$BE$1017),0)","v":24},{"$f":"IFERROR($E68*SUMIF('Daily Log'!$BG$18:$BG$1017,$B68,'Daily Log'!$BH$18:$BH$1017),0)","v":0},{"$f":"IFERROR($E68*SUMIF('Daily Log'!$BJ$18:$BJ$1017,$B68,'Daily Log'!$BK$18:$BK$1017),0)","v":0},{"$f":"IFERROR($E68*SUMIF('Daily Log'!$BM$18:$BM$1017,$B68,'Daily Log'!$BN$18:$BN$1017),0)","v":0},{"$f":"IFERROR($E68*SUMIF('Daily Log'!$BP$18:$BP$1017,$B68,'Daily Log'!$BQ$18:$BQ$1017),0)","v":0},{"$f":"IFERROR($E68*SUMIF('Daily Log'!$BS$18:$BS$1017,$B68,'Daily Log'!$BT$18:$BT$1017),0)","v":0},{"$f":"IFERROR($E68*SUMIF('Daily Log'!$BV$18:$BV$1017,$B68,'Daily Log'!$BW$18:$BW$1017),0)","v":0},{"$f":"IFERROR($E68*SUMIF('Daily Log'!$BY$18:$BY$1017,$B68,'Daily Log'!$BZ$18:$BZ$1017),0)","v":0},{"$f":"IFERROR($E68*SUMIF('Daily Log'!$CB$18:$CB$1017,$B68,'Daily Log'!$CC$18:$CC$1017),0)","v":0},{"$f":"IFERROR($E68*SUMIF('Daily Log'!$CE$18:$CE$1017,$B68,'Daily Log'!$CF$18:$CF$1017),0)","v":0},{"$f":"IFERROR($E68*SUMIF('Daily Log'!$CH$18:$CH$1017,$B68,'Daily Log'!$CI$18:$CI$1017),0)","v":0},{"$f":"IFERROR($E68*SUMIF('Daily Log'!$CK$18:$CK$1017,$B68,'Daily Log'!$CL$18:$CL$1017),0)","v":0},{"$f":"IFERROR($E68*SUMIF('Daily Log'!$CN$18:$CN$1017,$B68,'Daily Log'!$CO$18:$CO$1017),0)","v":0}]
[null,"CJ01 86001:GUI BTL",null,"BEER",1,{"$f":"SUM($G69:$AK69)","v":3},{"$f":"IFERROR($E69*SUMIF('Daily Log'!$B$18:$B$1017,$B69,'Daily Log'!$C$18:$C$1017),0)","v":1},{"$f":"IFERROR($E69*SUMIF('Daily Log'!$E$18:$E$1017,$B69,'Daily Log'!$F$18:$F$1017),0)","v":0},{"$f":"IFERROR($E69*SUMIF('Daily Log'!$H$18:$H$1017,$B69,'Daily Log'!$I$18:$I$1017),0)","v":0},{"$f":"IFERROR($E69*SUMIF('Daily Log'!$K$18:$K$1017,$B69,'Daily Log'!$L$18:$L$1017),0)","v":0},{"$f":"IFERROR($E69*SUMIF('Daily Log'!$N$18:$N$1017,$B69,'Daily Log'!$O$18:$O$1017),0)","v":0},{"$f":"IFERROR($E69*SUMIF('Daily Log'!$Q$18:$Q$1017,$B69,'Daily Log'!$R$18:$R$1017),0)","v":0},{"$f":"IFERROR($E69*SUMIF('Daily Log'!$T$18:$T$1017,$B69,'Daily Log'!$U$18:$U$1017),0)","v":0},{"$f":"IFERROR($E69*SUMIF('Daily Log'!$W$18:$W$1017,$B69,'Daily Log'!$X$18:$X$1017),0)","v":0},{"$f":"IFERROR($E69*SUMIF('Daily Log'!$Z$18:$Z$1017,$B69,'Daily Log'!$AA$18:$AA$1017),0)","v":0},{"$f":"IFERROR($E69*SUMIF('Daily Log'!$AC$18:$AC$1017,$B69,'Daily Log'!$AD$18:$AD$1017),0)","v":0},{"$f":"IFERROR($E69*SUMIF('Daily Log'!$AF$18:$AF$1017,$B69,'Daily Log'!$AG$18:$AG$1017),0)","v":1},{"$f":"IFERROR($E69*SUMIF('Daily Log'!$AI$18:$AI$1017,$B69,'Daily Log'!$AJ$18:$AJ$1017),0)","v":0},{"$f":"IFERROR($E69*SUMIF('Daily Log'!$AL$18:$AL$1017,$B69,'Daily Log'!$AM$18:$AM$1017),0)","v":0},{"$f":"IFERROR($E69*SUMIF('Daily Log'!$AO$18:$AO$1017,$B69,'Daily Log'!$AP$18:$AP$1017),0)","v":0},{"$f":"IFERROR($E69*SUMIF('Daily Log'!$AR$18:$AR$1017,$B69,'Daily Log'!$AS$18:$AS$1017),0)","v":0},{"$f":"IFERROR($E69*SUMIF('Daily Log'!$AU$18:$AU$1017,$B69,'Daily Log'!$AV$18:$AV$1017),0)","v":0},{"$f":"IFERROR($E69*SUMIF('Daily Log'!$AX$18:$AX$1017,$B69,'Daily Log'!$AY$18:$AY$1017),0)","v":0},{"$f":"IFERROR($E69*SUMIF('Daily Log'!$BA$18:$BA$1017,$B69,'Daily Log'!$BB$18:$BB$1017),0)","v":0},{"$f":"IFERROR($E69*SUMIF('Daily Log'!$BD$18:$BD$1017,$B69,'Daily Log'!$BE$18:$BE$1017),0)","v":0},{"$f":"IFERROR($E69*SUMIF('Daily Log'!$BG$18:$BG$1017,$B69,'Daily Log'!$BH$18:$BH$1017),0)","v":0},{"$f":"IFERROR($E69*SUMIF('Daily Log'!$BJ$18:$BJ$1017,$B69,'Daily Log'!$BK$18:$BK$1017),0)","v":0},{"$f":"IFERROR($E69*SUMIF('Daily Log'!$BM$18:$BM$1017,$B69,'Daily Log'!$BN$18:$BN$1017),0)","v":1},{"$f":"IFERROR($E69*SUMIF('Daily Log'!$BP$18:$BP$1017,$B69,'Daily Log'!$BQ$18:$BQ$1017),0)","v":0},{"$f":"IFERROR($E69*SUMIF('Daily Log'!$BS$18:$BS$1017,$B69,'Daily Log'!$BT$18:$BT$1017),0)","v":0},{"$f":"IFERROR($E69*SUMIF('Daily Log'!$BV$18:$BV$1017,$B69,'Daily Log'!$BW$18:$BW$1017),0)","v":0},{"$f":"IFERROR($E69*SUMIF('Daily Log'!$BY$18:$BY$1017,$B69,'Daily Log'!$BZ$18:$BZ$1017),0)","v":0},{"$f":"IFERROR($E69*SUMIF('Daily Log'!$CB$18:$CB$1017,$B69,'Daily Log'!$CC$18:$CC$1017),0)","v":0},{"$f":"IFERROR($E69*SUMIF('Daily Log'!$CE$18:$CE$1017,$B69,'Daily Log'!$CF$18:$CF$1017),0)","v":0},{"$f":"IFERROR($E69*SUMIF('Daily Log'!$CH$18:$CH$1017,$B69,'Daily Log'!$CI$18:$CI$1017),0)","v":0},{"$f":"IFERROR($E69*SUMIF('Daily Log'!$CK$18:$CK$1017,$B69,'Daily Log'!$CL$18:$CL$1017),0)","v":0},{"$f":"IFERROR($E69*SUMIF('Daily Log'!$CN$18:$CN$1017,$B69,'Daily Log'!$CO$18:$CO$1017),0)","v":0}]
[null,"CJ02 86002:GUI BKT",null,"BEER",4,{"$f":"SUM($G70:$AK70)","v":24},{"$f":"IFERROR($E70*SUMIF('Daily Log'!$B$18:$B$1017,$B70,'Daily Log'!$C$18:$C$1017),0)","v":0},{"$f":"IFERROR($E70*SUMIF('Daily Log'!$E$18:$E$1017,$B70,'Daily Log'!$F$18:$F$1017),0)","v":0},{"$f":"IFERROR($E70*SUMIF('Daily Log'!$H$18:$H$1017,$B70,'Daily Log'!$I$18:$I$1017),0)","v":0},{"$f":"IFERROR($E70*SUMIF('Daily Log'!$K$18:$K$1017,$B70,'Daily Log'!$L$18:$L$1017),0)","v":0},{"$f":"IFERROR($E70*SUMIF('Daily Log'!$N$18:$N$1017,$B70,'Daily Log'!$O$18:$O$1017),0)","v":0},{"$f":"IFERROR($E70*SUMIF('Daily Log'!$Q$18:$Q$1017,$B70,'Daily Log'!$R$18:$R$1017),0)","v":0},{"$f":"IFERROR($E70*SUMIF('Daily Log'!$T$18:$T$1017,$B70,'Daily Log'!$U$18:$U$1017),0)","v":0},{"$f":"IFERROR($E70*SUMIF('Daily Log'!$W$18:$W$1017,$B70,'Daily Log'!$X$18:$X$1017),0)","v":0},{"$f":"IFERROR($E70*SUMIF('Daily Log'!$Z$18:$Z$1017,$B70,'Daily Log'!$AA$18:$AA$1017),0)","v":0},{"$f":"IFERROR($E70*SUMIF('Daily Log'!$AC$18:$AC$1017,$B70,'Daily Log'!$AD$18:$AD$1017),0)","v":0},{"$f":"IFERROR($E70*SUMIF('Daily Log'!$AF$18:$AF$1017,$B70,'Daily Log'!$AG$18:$AG$1017),0)","v":4},{"$f":"IFERROR($E70*SUMIF('Daily Log'!$AI$18:$AI$1017,$B70,'Daily Log'!$AJ$18:$AJ$1017),0)","v":8},{"$f":"IFERROR($E70*SUMIF('Daily Log'!$AL$18:$AL$1017,$B70,'Daily Log'!$AM$18:$AM$1017),0)","v":0},{"$f":"IFERROR($E70*SUMIF('Daily Log'!$AO$18:$AO$1017,$B70,'Daily Log'!$AP$18:$AP$1017),0)","v":0},{"$f":"IFERROR($E70*SUMIF('Daily Log'!$AR$18:$AR$1017,$B70,'Daily Log'!$AS$18:$AS$1017),0)","v":0},{"$f":"IFERROR($E70*SUMIF('Daily Log'!$AU$18:$AU$1017,$B70,'Daily Log'!$AV$18:$AV$1017),0)","v":0},{"$f":"IFERROR($E70*SUMIF('Daily Log'!$AX$18:$AX$1017,$B70,'Daily Log'!$AY$18:$AY$1017),0)","v":0},{"$f":"IFERROR($E70*SUMIF('Daily Log'!$BA$18:$BA$1017,$B70,'Daily Log'!$BB$18:$BB$1017),0)","v":0},{"$f":"IFERROR($E70*SUMIF('Daily Log'!$BD$18:$BD$1017,$B70,'Daily Log'!$BE$18:$BE$1017),0)","v":0},{"$f":"IFERROR($E70*SUMIF('Daily Log'!$BG$18:$BG$1017,$B70,'Daily Log'!$BH$18:$BH$1017),0)","v":0},{"$f":"IFERROR($E70*SUMIF('Daily Log'!$BJ$18:$BJ$1017,$B70,'Daily Log'!$BK$18:$BK$1017),0)","v":0},{"$f":"IFERROR($E70*SUMIF('Daily Log'!$BM$18:$BM$1017,$B70,'Daily Log'!$BN$18:$BN$1017),0)","v":0},{"$f":"IFERROR($E70*SUMIF('Daily Log'!$BP$18:$BP$1017,$B70,'Daily Log'!$BQ$18:$BQ$1017),0)","v":0},{"$f":"IFERROR($E70*SUMIF('Daily Log'!$BS$18:$BS$1017,$B70,'Daily Log'!$BT$18:$BT$1017),0)","v":0},{"$f":"IFERROR($E70*SUMIF('Daily Log'!$BV$18:$BV$1017,$B70,'Daily Log'!$BW$18:$BW$1017),0)","v":4},{"$f":"IFERROR($E70*SUMIF('Daily Log'!$BY$18:$BY$1017,$B70,'Daily Log'!$BZ$18:$BZ$1017),0)","v":8},{"$f":"IFERROR($E70*SUMIF('Daily Log'!$CB$18:$CB$1017,$B70,'Daily Log'!$CC$18:$CC$1017),0)","v":0},{"$f":"IFERROR($E70*SUMIF('Daily Log'!$CE$18:$CE$1017,$B70,'Daily Log'!$CF$18:$CF$1017),0)","v":0},{"$f":"IFERROR($E70*SUMIF('Daily Log'!$CH$18:$CH$1017,$B70,'Daily Log'!$CI$18:$CI$1017),0)","v":0},{"$f":"IFERROR($E70*SUMIF('Daily Log'!$CK$18:$CK$1017,$B70,'Daily Log'!$CL$18:$CL$1017),0)","v":0},{"$f":"IFERROR($E70*SUMIF('Daily Log'!$CN$18:$CN$1017,$B70,'Daily Log'!$CO$18:$CO$1017),0)","v":0}]
[null,"ZBR03 GUI EX BKT",null,"BEER",4,{"$f":"SUM($G71:$AK71)","v":52},{"$f":"IFERROR($E71*SUMIF('Daily Log'!$B$18:$B$1017,$B71,'Daily Log'!$C$18:$C$1017),0)","v":0},{"$f":"IFERROR($E71*SUMIF('Daily Log'!$E$18:$E$1017,$B71,'Daily Log'!$F$18:$F$1017),0)","v":0},{"$f":"IFERROR($E71*SUMIF('Daily Log'!$H$18:$H$1017,$B71,'Daily Log'!$I$18:$I$1017),0)","v":0},{"$f":"IFERROR($E71*SUMIF('Daily Log'!$K$18:$K$1017,$B71,'Daily Log'!$L$18:$L$1017),0)","v":32},{"$f":"IFERROR($E71*SUMIF('Daily Log'!$N$18:$N$1017,$B71,'Daily Log'!$O$18:$O$1017),0)","v":0},{"$f":"IFERROR($E71*SUMIF('Daily Log'!$Q$18:$Q$1017,$B71,'Daily Log'!$R$18:$R$1017),0)","v":0},{"$f":"IFERROR($E71*SUMIF('Daily Log'!$T$18:$T$1017,$B71,'Daily Log'!$U$18:$U$1017),0)","v":0},{"$f":"IFERROR($E71*SUMIF('Daily Log'!$W$18:$W$1017,$B71,'Daily Log'!$X$18:$X$1017),0)","v":0},{"$f":"IFERROR($E71*SUMIF('Daily Log'!$Z$18:$Z$1017,$B71,'Daily Log'!$AA$18:$AA$1017),0)","v":0},{"$f":"IFERROR($E71*SUMIF('Daily Log'!$AC$18:$AC$1017,$B71,'Daily Log'!$AD$18:$AD$1017),0)","v":0},{"$f":"IFERROR($E71*SUMIF('Daily Log'!$AF$18:$AF$1017,$B71,'Daily Log'!$AG$18:$AG$1017),0)","v":0},{"$f":"IFERROR($E71*SUMIF('Daily Log'!$AI$18:$AI$1017,$B71,'Daily Log'!$AJ$18:$AJ$1017),0)","v":0},{"$f":"IFERROR($E71*SUMIF('Daily Log'!$AL$18:$AL$1017,$B71,'Daily Log'!$AM$18:$AM$1017),0)","v":0},{"$f":"IFERROR($E71*SUMIF('Daily Log'!$AO$18:$AO$1017,$B71,'Daily Log'!$AP$18:$AP$1017),0)","v":0},{"$f":"IFERROR($E71*SUMIF('Daily Log'!$AR$18:$AR$1017,$B71,'Daily Log'!$AS$18:$AS$1017),0)","v":0},{"$f":"IFERROR($E71*SUMIF('Daily Log'!$AU$18:$AU$1017,$B71,'Daily Log'!$AV$18:$AV$1017),0)","v":0},{"$f":"IFERROR($E71*SUMIF('Daily Log'!$AX$18:$AX$1017,$B71,'Daily Log'!$AY$18:$AY$1017),0)","v":4},{"$f":"IFERROR($E71*SUMIF('Daily Log'!$BA$18:$BA$1017,$B71,'Daily Log'!$BB$18:$BB$1017),0)","v":4},{"$f":"IFERROR($E71*SUMIF('Daily Log'!$BD$18:$BD$1017,$B71,'Daily Log'!$BE$18:$BE$1017),0)","v":0},{"$f":"IFERROR($E71*SUMIF('Daily Log'!$BG$18:$BG$1017,$B71,'Daily Log'!$BH$18:$BH$1017),0)","v":0},{"$f":"IFERROR($E71*SUMIF('Daily Log'!$BJ$18:$BJ$1017,$B71,'Daily Log'!$BK$18:$BK$1017),0)","v":0},{"$f":"IFERROR($E71*SUMIF('Daily Log'!$BM$18:$BM$1017,$B71,'Daily Log'!$BN$18:$BN$1017),0)","v":0},{"$f":"IFERROR($E71*SUMIF('Daily Log'!$BP$18:$BP$1017,$B71,'Daily Log'!$BQ$18:$BQ$1017),0)","v":0},{"$f":"IFERROR($E71*SUMIF('Daily Log'!$BS$18:$BS$1017,$B71,'Daily Log'!$BT$18:$BT$1017),0)","v":0},{"$f":"IFERROR($E71*SUMIF('Daily Log'!$BV$18:$BV$1017,$B71,'Daily Log'!$BW$18:$BW$1017),0)","v":0},{"$f":"IFERROR($E71*SUMIF('Daily Log'!$BY$18:$BY$1017,$B71,'Daily Log'!$BZ$18:$BZ$1017),0)","v":0},{"$f":"IFERROR($E71*SUMIF('Daily Log'!$CB$18:$CB$1017,$B71,'Daily Log'!$CC$18:$CC$1017),0)","v":12},{"$f":"IFERROR($E71*SUMIF('Daily Log'!$CE$18:$CE$1017,$B71,'Daily Log'!$CF$18:$CF$1017),0)","v":0},{"$f":"IFERROR($E71*SUMIF('Daily Log'!$CH$18:$CH$1017,$B71,'Daily Log'!$CI$18:$CI$1017),0)","v":0},{"$f":"IFERROR($E71*SUMIF('Daily Log'!$CK$18:$CK$1017,$B71,'Daily Log'!$CL$18:$CL$1017),0)","v":0},{"$f":"IFERROR($E71*SUMIF('Daily Log'!$CN$18:$CN$1017,$B71,'Daily Log'!$CO$18:$CO$1017),0)","v":0}]
[null,"ZBM03 GUI MEM EX BKT",null,"BEER",4,0,{"$f":"IFERROR($E72*SUMIF('Daily Log'!$B$18:$B$1017,$B72,'Daily Log'!$C$18:$C$1017),0)","v":0},{"$f":"IFERROR($E72*SUMIF('Daily Log'!$E$18:$E$1017,$B72,'Daily Log'!$F$18:$F$1017),0)","v":0},{"$f":"IFERROR($E72*SUMIF('Daily Log'!$H$18:$H$1017,$B72,'Daily Log'!$I$18:$I$1017),0)","v":0},{"$f":"IFERROR($E72*SUMIF('Daily Log'!$K$18:$K$1017,$B72,'Daily Log'!$L$18:$L$1017),0)","v":0},{"$f":"IFERROR($E72*SUMIF('Daily Log'!$N$18:$N$1017,$B72,'Daily Log'!$O$18:$O$1017),0)","v":0},{"$f":"IFERROR($E72*SUMIF('Daily Log'!$Q$18:$Q$1017,$B72,'Daily Log'!$R$18:$R$1017),0)","v":0},{"$f":"IFERROR($E72*SUMIF('Daily Log'!$T$18:$T$1017,$B72,'Daily Log'!$U$18:$U$1017),0)","v":0},{"$f":"IFERROR($E72*SUMIF('Daily Log'!$W$18:$W$1017,$B72,'Daily Log'!$X$18:$X$1017),0)","v":0},{"$f":"IFERROR($E72*SUMIF('Daily Log'!$Z$18:$Z$1017,$B72,'Daily Log'!$AA$18:$AA$1017),0)","v":0},{"$f":"IFERROR($E72*SUMIF('Daily Log'!$AC$18:$AC$1017,$B72,'Daily Log'!$AD$18:$AD$1017),0)","v":0},{"$f":"IFERROR($E72*SUMIF('Daily Log'!$AF$18:$AF$1017,$B72,'Daily Log'!$AG$18:$AG$1017),0)","v":0},{"$f":"IFERROR($E72*SUMIF('Daily Log'!$AI$18:$AI$1017,$B72,'Daily Log'!$AJ$18:$AJ$1017),0)","v":0},{"$f":"IFERROR($E72*SUMIF('Daily Log'!$AL$18:$AL$1017,$B72,'Daily Log'!$AM$18:$AM$1017),0)","v":0},{"$f":"IFERROR($E72*SUMIF('Daily Log'!$AO$18:$AO$1017,$B72,'Daily Log'!$AP$18:$AP$1017),0)","v":0},{"$f":"IFERROR($E72*SUMIF('Daily Log'!$AR$18:$AR$1017,$B72,'Daily Log'!$AS$18:$AS$1017),0)","v":0},{"$f":"IFERROR($E72*SUMIF('Daily Log'!$AU$18:$AU$1017,$B72,'Daily Log'!$AV$18:$AV$1017),0)","v":0},{"$f":"IFERROR($E72*SUMIF('Daily Log'!$AX$18:$AX$1017,$B72,'Daily Log'!$AY$18:$AY$1017),0)","v":0},{"$f":"IFERROR($E72*SUMIF('Daily Log'!$BA$18:$BA$1017,$B72,'Daily Log'!$BB$18:$BB$1017),0)","v":0},{"$f":"IFERROR($E72*SUMIF('Daily Log'!$BD$18:$BD$1017,$B72,'Daily Log'!$BE$18:$BE$1017),0)","v":0},{"$f":"IFERROR($E72*SUMIF('Daily Log'!$BG$18:$BG$1017,$B72,'Daily Log'!$BH$18:$BH$1017),0)","v":0},{"$f":"IFERROR($E72*SUMIF('Daily Log'!$BJ$18:$BJ$1017,$B72,'Daily Log'!$BK$18:$BK$1017),0)","v":0},{"$f":"IFERROR($E72*SUMIF('Daily Log'!$BM$18:$BM$1017,$B72,'Daily Log'!$BN$18:$BN$1017),0)","v":0},{"$f":"IFERROR($E72*SUMIF('Daily Log'!$BP$18:$BP$1017,$B72,'Daily Log'!$BQ$18:$BQ$1017),0)","v":0},{"$f":"IFERROR($E72*SUMIF('Daily Log'!$BS$18:$BS$1017,$B72,'Daily Log'!$BT$18:$BT$1017),0)","v":0},{"$f":"IFERROR($E72*SUMIF('Daily Log'!$BV$18:$BV$1017,$B72,'Daily Log'!$BW$18:$BW$1017),0)","v":0},{"$f":"IFERROR($E72*SUMIF('Daily Log'!$BY$18:$BY$1017,$B72,'Daily Log'!$BZ$18:$BZ$1017),0)","v":0},{"$f":"IFERROR($E72*SUMIF('Daily Log'!$CB$18:$CB$1017,$B72,'Daily Log'!$CC$18:$CC$1017),0)","v":0},{"$f":"IFERROR($E72*SUMIF('Daily Log'!$CE$18:$CE$1017,$B72,'Daily Log'!$CF$18:$CF$1017),0)","v":0},{"$f":"IFERROR($E72*SUMIF('Daily Log'!$CH$18:$CH$1017,$B72,'Daily Log'!$CI$18:$CI$1017),0)","v":0},{"$f":"IFERROR($E72*SUMIF('Daily Log'!$CK$18:$CK$1017,$B72,'Daily Log'!$CL$18:$CL$1017),0)","v":0},{"$f":"IFERROR($E72*SUMIF('Daily Log'!$CN$18:$CN$1017,$B72,'Daily Log'!$CO$18:$CO$1017),0)","v":0}]
[null,"GUINNESS BEER TOTAL",null,"BEER",null,205,{"$f":"SUM(G66:G71)","v":5},{"$f":"SUM(H66:H71)","v":0},2,44,0,0,0,4,2,8,13,20,0,12,0,0,12,{"$f":"SUM(X66:X72)","v":10},24,0,2,2,0,0,8,11,12,0,12,2,0,0]
[null,"BH01 5001:HEI BTL",null,"BEER",1,15,{"$f":"IFERROR($E74*SUMIF('Daily Log'!$B$18:$B$1017,$B74,'Daily Log'!$C$18:$C$1017),0)","v":0},{"$f":"IFERROR($E74*SUMIF('Daily Log'!$E$18:$E$1017,$B74,'Daily Log'!$F$18:$F$1017),0)","v":0},{"$f":"IFERROR($E74*SUMIF('Daily Log'!$H$18:$H$1017,$B74,'Daily Log'!$I$18:$I$1017),0)","v":0},{"$f":"IFERROR($E74*SUMIF('Daily Log'!$K$18:$K$1017,$B74,'Daily Log'!$L$18:$L$1017),0)","v":0},{"$f":"IFERROR($E74*SUMIF('Daily Log'!$N$18:$N$1017,$B74,'Daily Log'!$O$18:$O$1017),0)","v":2},{"$f":"IFERROR($E74*SUMIF('Daily Log'!$Q$18:$Q$1017,$B74,'Daily Log'!$R$18:$R$1017),0)","v":0},{"$f":"IFERROR($E74*SUMIF('Daily Log'!$T$18:$T$1017,$B74,'Daily Log'!$U$18:$U$1017),0)","v":0},{"$f":"IFERROR($E74*SUMIF('Daily Log'!$W$18:$W$1017,$B74,'Daily Log'!$X$18:$X$1017),0)","v":0},{"$f":"IFERROR($E74*SUMIF('Daily Log'!$Z$18:$Z$1017,$B74,'Daily Log'!$AA$18:$AA$1017),0)","v":0},{"$f":"IFERROR($E74*SUMIF('Daily Log'!$AC$18:$AC$1017,$B74,'Daily Log'!$AD$18:$AD$1017),0)","v":0},{"$f":"IFERROR($E74*SUMIF('Daily Log'!$AF$18:$AF$1017,$B74,'Daily Log'!$AG$18:$AG$1017),0)","v":1},{"$f":"IFERROR($E74*SUMIF('Daily Log'!$AI$18:$AI$1017,$B74,'Daily Log'!$AJ$18:$AJ$1017),0)","v":0},{"$f":"IFERROR($E74*SUMIF('Daily Log'!$AL$18:$AL$1017,$B74,'Daily Log'!$AM$18:$AM$1017),0)","v":0},{"$f":"IFERROR($E74*SUMIF('Daily Log'!$AO$18:$AO$1017,$B74,'Daily Log'!$AP$18:$AP$1017),0)","v":0},{"$f":"IFERROR($E74*SUMIF('Daily Log'!$AR$18:$AR$1017,$B74,'Daily Log'!$AS$18:$AS$1017),0)","v":0},{"$f":"IFERROR($E74*SUMIF('Daily Log'!$AU$18:$AU$1017,$B74,'Daily Log'!$AV$18:$AV$1017),0)","v":1},{"$f":"IFERROR($E74*SUMIF('Daily Log'!$AX$18:$AX$1017,$B74,'Daily Log'!$AY$18:$AY$1017),0)","v":0},{"$f":"IFERROR($E74*SUMIF('Daily Log'!$BA$18:$BA$1017,$B74,'Daily Log'!$BB$18:$BB$1017),0)","v":0},{"$f":"IFERROR($E74*SUMIF('Daily Log'!$BD$18:$BD$1017,$B74,'Daily Log'!$BE$18:$BE$1017),0)","v":1},{"$f":"IFERROR($E74*SUMIF('Daily Log'!$BG$18:$BG$1017,$B74,'Daily Log'!$BH$18:$BH$1017),0)","v":0},{"$f":"IFERROR($E74*SUMIF('Daily Log'!$BJ$18:$BJ$1017,$B74,'Daily Log'!$BK$18:$BK$1017),0)","v":0},{"$f":"IFERROR($E74*SUMIF('Daily Log'!$BM$18:$BM$1017,$B74,'Daily Log'!$BN$18:$BN$1017),0)","v":2},{"$f":"IFERROR($E74*SUMIF('Daily Log'!$BP$18:$BP$1017,$B74,'Daily Log'!$BQ$18:$BQ$1017),0)","v":0},{"$f":"IFERROR($E74*SUMIF('Daily Log'!$BS$18:$BS$1017,$B74,'Daily Log'!$BT$18:$BT$1017),0)","v":2},{"$f":"IFERROR($E74*SUMIF('Daily Log'!$BV$18:$BV$1017,$B74,'Daily Log'!$BW$18:$BW$1017),0)","v":0},{"$f":"IFERROR($E74*SUMIF('Daily Log'!$BY$18:$BY$1017,$B74,'Daily Log'!$BZ$18:$BZ$1017),0)","v":4},{"$f":"IFERROR($E74*SUMIF('Daily Log'!$CB$18:$CB$1017,$B74,'Daily Log'!$CC$18:$CC$1017),0)","v":0},{"$f":"IFERROR($E74*SUMIF('Daily Log'!$CE$18:$CE$1017,$B74,'Daily Log'!$CF$18:$CF$1017),0)","v":0},{"$f":"IFERROR($E74*SUMIF('Daily Log'!$CH$18:$CH$1017,$B74,'Daily Log'!$CI$18:$CI$1017),0)","v":0},{"$f":"IFERROR($E74*SUMIF('Daily Log'!$CK$18:$CK$1017,$B74,'Daily Log'!$CL$18:$CL$1017),0)","v":2},{"$f":"IFERROR($E74*SUMIF('Daily Log'!$CN$18:$CN$1017,$B74,'Daily Log'!$CO$18:$CO$1017),0)","v":0}]
[null,"BH02 5002:HEI BKT",null,"BEER",4,376,{"$f":"IFERROR($E75*SUMIF('Daily Log'!$B$18:$B$1017,$B75,'Daily Log'!$C$18:$C$1017),0)","v":12},{"$f":"IFERROR($E75*SUMIF('Daily Log'!$E$18:$E$1017,$B75,'Daily Log'!$F$18:$F$1017),0)","v":36},{"$f":"IFERROR($E75*SUMIF('Daily Log'!$H$18:$H$1017,$B75,'Daily Log'!$I$18:$I$1017),0)","v":12},{"$f":"IFERROR($E75*SUMIF('Daily Log'!$K$18:$K$1017,$B75,'Daily Log'!$L$18:$L$1017),0)","v":12},{"$f":"IFERROR($E75*SUMIF('Daily Log'!$N$18:$N$1017,$B75,'Daily Log'!$O$18:$O$1017),0)","v":12},{"$f":"IFERROR($E75*SUMIF('Daily Log'!$Q$18:$Q$1017,$B75,'Daily Log'!$R$18:$R$1017),0)","v":8},{"$f":"IFERROR($E75*SUMIF('Daily Log'!$T$18:$T$1017,$B75,'Daily Log'!$U$18:$U$1017),0)","v":4},{"$f":"IFERROR($E75*SUMIF('Daily Log'!$W$18:$W$1017,$B75,'Daily Log'!$X$18:$X$1017),0)","v":0},{"$f":"IFERROR($E75*SUMIF('Daily Log'!$Z$18:$Z$1017,$B75,'Daily Log'!$AA$18:$AA$1017),0)","v":52},{"$f":"IFERROR($E75*SUMIF('Daily Log'!$AC$18:$AC$1017,$B75,'Daily Log'!$AD$18:$AD$1017),0)","v":0},{"$f":"IFERROR($E75*SUMIF('Daily Log'!$AF$18:$AF$1017,$B75,'Daily Log'!$AG$18:$AG$1017),0)","v":0},{"$f":"IFERROR($E75*SUMIF('Daily Log'!$AI$18:$AI$1017,$B75,'Daily Log'!$AJ$18:$AJ$1017),0)","v":8},{"$f":"IFERROR($E75*SUMIF('Daily Log'!$AL$18:$AL$1017,$B75,'Daily Log'!$AM$18:$AM$1017),0)","v":8},{"$f":"IFERROR($E75*SUMIF('Daily Log'!$AO$18:$AO$1017,$B75,'Daily Log'!$AP$18:$AP$1017),0)","v":0},{"$f":"IFERROR($E75*SUMIF('Daily Log'!$AR$18:$AR$1017,$B75,'Daily Log'!$AS$18:$AS$1017),0)","v":0},{"$f":"IFERROR($E75*SUMIF('Daily Log'!$AU$18:$AU$1017,$B75,'Daily Log'!$AV$18:$AV$1017),0)","v":84},{"$f":"IFERROR($E75*SUMIF('Daily Log'!$AX$18:$AX$1017,$B75,'Daily Log'!$AY$18:$AY$1017),0)","v":0},{"$f":"IFERROR($E75*SUMIF('Daily Log'!$BA$18:$BA$1017,$B75,'Daily Log'!$BB$18:$BB$1017),0)","v":12},{"$f":"IFERROR($E75*SUMIF('Daily Log'!$BD$18:$BD$1017,$B75,'Daily Log'!$BE$18:$BE$1017),0)","v":8},{"$f":"IFERROR($E75*SUMIF('Daily Log'!$BG$18:$BG$1017,$B75,'Daily Log'!$BH$18:$BH$1017),0)","v":0},{"$f":"IFERROR($E75*SUMIF('Daily Log'!$BJ$18:$BJ$1017,$B75,'Daily Log'!$BK$18:$BK$1017),0)","v":4},{"$f":"IFERROR($E75*SUMIF('Daily Log'!$BM$18:$BM$1017,$B75,'Daily Log'!$BN$18:$BN$1017),0)","v":4},{"$f":"IFERROR($E75*SUMIF('Daily Log'!$BP$18:$BP$1017,$B75,'Daily Log'!$BQ$18:$BQ$1017),0)","v":72},{"$f":"IFERROR($E75*SUMIF('Daily Log'!$BS$18:$BS$1017,$B75,'Daily Log'!$BT$18:$BT$1017),0)","v":4},{"$f":"IFERROR($E75*SUMIF('Daily Log'!$BV$18:$BV$1017,$B75,'Daily Log'!$BW$18:$BW$1017),0)","v":4},{"$f":"IFERROR($E75*SUMIF('Daily Log'!$BY$18:$BY$1017,$B75,'Daily Log'!$BZ$18:$BZ$1017),0)","v":20},{"$f":"IFERROR($E75*SUMIF('Daily Log'!$CB$18:$CB$1017,$B75,'Daily Log'!$CC$18:$CC$1017),0)","v":0},{"$f":"IFERROR($E75*SUMIF('Daily Log'!$CE$18:$CE$1017,$B75,'Daily Log'!$CF$18:$CF$1017),0)","v":0},{"$f":"IFERROR($E75*SUMIF('Daily Log'!$CH$18:$CH$1017,$B75,'Daily Log'!$CI$18:$CI$1017),0)","v":0},{"$f":"IFERROR($E75*SUMIF('Daily Log'!$CK$18:$CK$1017,$B75,'Daily Log'!$CL$18:$CL$1017),0)","v":0},{"$f":"IFERROR($E75*SUMIF('Daily Log'!$CN$18:$CN$1017,$B75,'Daily Log'!$CO$18:$CO$1017),0)","v":0}]
[null,"BH03 5003:HEI RND",null,"BEER",12,168,{"$f":"IFERROR($E76*SUMIF('Daily Log'!$B$18:$B$1017,$B76,'Daily Log'!$C$18:$C$1017),0)","v":0},{"$f":"IFERROR($E76*SUMIF('Daily Log'!$E$18:$E$1017,$B76,'Daily Log'!$F$18:$F$1017),0)","v":0},{"$f":"IFERROR($E76*SUMIF('Daily Log'!$H$18:$H$1017,$B76,'Daily Log'!$I$18:$I$1017),0)","v":0},{"$f":"IFERROR($E76*SUMIF('Daily Log'!$K$18:$K$1017,$B76,'Daily Log'!$L$18:$L$1017),0)","v":72},{"$f":"IFERROR($E76*SUMIF('Daily Log'!$N$18:$N$1017,$B76,'Daily Log'!$O$18:$O$1017),0)","v":0},{"$f":"IFERROR($E76*SUMIF('Daily Log'!$Q$18:$Q$1017,$B76,'Daily Log'!$R$18:$R$1017),0)","v":0},{"$f":"IFERROR($E76*SUMIF('Daily Log'!$T$18:$T$1017,$B76,'Daily Log'!$U$18:$U$1017),0)","v":36},{"$f":"IFERROR($E76*SUMIF('Daily Log'!$W$18:$W$1017,$B76,'Daily Log'!$X$18:$X$1017),0)","v":0},{"$f":"IFERROR($E76*SUMIF('Daily Log'!$Z$18:$Z$1017,$B76,'Daily Log'!$AA$18:$AA$1017),0)","v":0},{"$f":"IFERROR($E76*SUMIF('Daily Log'!$AC$18:$AC$1017,$B76,'Daily Log'!$AD$18:$AD$1017),0)","v":0},{"$f":"IFERROR($E76*SUMIF('Daily Log'!$AF$18:$AF$1017,$B76,'Daily Log'!$AG$18:$AG$1017),0)","v":0},{"$f":"IFERROR($E76*SUMIF('Daily Log'!$AI$18:$AI$1017,$B76,'Daily Log'!$AJ$18:$AJ$1017),0)","v":0},{"$f":"IFERROR($E76*SUMIF('Daily Log'!$AL$18:$AL$1017,$B76,'Daily Log'!$AM$18:$AM$1017),0)","v":0},{"$f":"IFERROR($E76*SUMIF('Daily Log'!$AO$18:$AO$1017,$B76,'Daily Log'!$AP$18:$AP$1017),0)","v":0},{"$f":"IFERROR($E76*SUMIF('Daily Log'!$AR$18:$AR$1017,$B76,'Daily Log'!$AS$18:$AS$1017),0)","v":0},{"$f":"IFERROR($E76*SUMIF('Daily Log'!$AU$18:$AU$1017,$B76,'Daily Log'!$AV$18:$AV$1017),0)","v":0},{"$f":"IFERROR($E76*SUMIF('Daily Log'!$AX$18:$AX$1017,$B76,'Daily Log'!$AY$18:$AY$1017),0)","v":0},{"$f":"IFERROR($E76*SUMIF('Daily Log'!$BA$18:$BA$1017,$B76,'Daily Log'!$BB$18:$BB$1017),0)","v":0},{"$f":"IFERROR($E76*SUMIF('Daily Log'!$BD$18:$BD$1017,$B76,'Daily Log'!$BE$18:$BE$1017),0)","v":0},{"$f":"IFERROR($E76*SUMIF('Daily Log'!$BG$18:$BG$1017,$B76,'Daily Log'!$BH$18:$BH$1017),0)","v":0},{"$f":"IFERROR($E76*SUMIF('Daily Log'!$BJ$18:$BJ$1017,$B76,'Daily Log'!$BK$18:$BK$1017),0)","v":12},{"$f":"IFERROR($E76*SUMIF('Daily Log'!$BM$18:$BM$1017,$B76,'Daily Log'!$BN$18:$BN$1017),0)","v":12},{"$f":"IFERROR($E76*SUMIF('Daily Log'!$BP$18:$BP$1017,$B76,'Daily Log'!$BQ$18:$BQ$1017),0)","v":0},{"$f":"IFERROR($E76*SUMIF('Daily Log'!$BS$18:$BS$1017,$B76,'Daily Log'!$BT$18:$BT$1017),0)","v":0},{"$f":"IFERROR($E76*SUMIF('Daily Log'!$BV$18:$BV$1017,$B76,'Daily Log'!$BW$18:$BW$1017),0)","v":12},{"$f":"IFERROR($E76*SUMIF('Daily Log'!$BY$18:$BY$1017,$B76,'Daily Log'!$BZ$18:$BZ$1017),0)","v":0},{"$f":"IFERROR($E76*SUMIF('Daily Log'!$CB$18:$CB$1017,$B76,'Daily Log'!$CC$18:$CC$1017),0)","v":12},{"$f":"IFERROR($E76*SUMIF('Daily Log'!$CE$18:$CE$1017,$B76,'Daily Log'!$CF$18:$CF$1017),0)","v":0},{"$f":"IFERROR($E76*SUMIF('Daily Log'!$CH$18:$CH$1017,$B76,'Daily Log'!$CI$18:$CI$1017),0)","v":12},{"$f":"IFERROR($E76*SUMIF('Daily Log'!$CK$18:$CK$1017,$B76,'Daily Log'!$CL$18:$CL$1017),0)","v":0},{"$f":"IFERROR($E76*SUMIF('Daily Log'!$CN$18:$CN$1017,$B76,'Daily Log'!$CO$18:$CO$1017),0)","v":0}]
[null,"CI02 85002:HEI BKT",null,"BEER",4,0,{"$f":"IFERROR($E77*SUMIF('Daily Log'!$B$18:$B$1017,$B77,'Daily Log'!$C$18:$C$1017),0)","v":0},{"$f":"IFERROR($E77*SUMIF('Daily Log'!$E$18:$E$1017,$B77,'Daily Log'!$F$18:$F$1017),0)","v":0},{"$f":"IFERROR($E77*SUMIF('Daily Log'!$H$18:$H$1017,$B77,'Daily Log'!$I$18:$I$1017),0)","v":0},{"$f":"IFERROR($E77*SUMIF('Daily Log'!$K$18:$K$1017,$B77,'Daily Log'!$L$18:$L$1017),0)","v":0},{"$f":"IFERROR($E77*SUMIF('Daily Log'!$N$18:$N$1017,$B77,'Daily Log'!$O$18:$O$1017),0)","v":0},{"$f":"IFERROR($E77*SUMIF('Daily Log'!$Q$18:$Q$1017,$B77,'Daily Log'!$R$18:$R$1017),0)","v":0},{"$f":"IFERROR($E77*SUMIF('Daily Log'!$T$18:$T$1017,$B77,'Daily Log'!$U$18:$U$1017),0)","v":0},{"$f":"IFERROR($E77*SUMIF('Daily Log'!$W$18:$W$1017,$B77,'Daily Log'!$X$18:$X$1017),0)","v":0},{"$f":"IFERROR($E77*SUMIF('Daily Log'!$Z$18:$Z$1017,$B77,'Daily Log'!$AA$18:$AA$1017),0)","v":0},{"$f":"IFERROR($E77*SUMIF('Daily Log'!$AC$18:$AC$1017,$B77,'Daily Log'!$AD$18:$AD$1017),0)","v":0},{"$f":"IFERROR($E77*SUMIF('Daily Log'!$AF$18:$AF$1017,$B77,'Daily Log'!$AG$18:$AG$1017),0)","v":0},{"$f":"IFERROR($E77*SUMIF('Daily Log'!$AI$18:$AI$1017,$B77,'Daily Log'!$AJ$18:$AJ$1017),0)","v":0},{"$f":"IFERROR($E77*SUMIF('Daily Log'!$AL$18:$AL$1017,$B77,'Daily Log'!$AM$18:$AM$1017),0)","v":0},{"$f":"IFERROR($E77*SUMIF('Daily Log'!$AO$18:$AO$1017,$B77,'Daily Log'!$AP$18:$AP$1017),0)","v":0},{"$f":"IFERROR($E77*SUMIF('Daily Log'!$AR$18:$AR$1017,$B77,'Daily Log'!$AS$18:$AS$1017),0)","v":0},{"$f":"IFERROR($E77*SUMIF('Daily Log'!$AU$18:$AU$1017,$B77,'Daily Log'!$AV$18:$AV$1017),0)","v":0},{"$f":"IFERROR($E77*SUMIF('Daily Log'!$AX$18:$AX$1017,$B77,'Daily Log'!$AY$18:$AY$1017),0)","v":0},{"$f":"IFERROR($E77*SUMIF('Daily Log'!$BA$18:$BA$1017,$B77,'Daily Log'!$BB$18:$BB$1017),0)","v":0},{"$f":"IFERROR($E77*SUMIF('Daily Log'!$BD$18:$BD$1017,$B77,'Daily Log'!$BE$18:$BE$1017),0)","v":0},{"$f":"IFERROR($E77*SUMIF('Daily Log'!$BG$18:$BG$1017,$B77,'Daily Log'!$BH$18:$BH$1017),0)","v":0},{"$f":"IFERROR($E77*SUMIF('Daily Log'!$BJ$18:$BJ$1017,$B77,'Daily Log'!$BK$18:$BK$1017),0)","v":0},{"$f":"IFERROR($E77*SUMIF('Daily Log'!$BM$18:$BM$1017,$B77,'Daily Log'!$BN$18:$BN$1017),0)","v":0},{"$f":"IFERROR($E77*SUMIF('Daily Log'!$BP$18:$BP$1017,$B77,'Daily Log'!$BQ$18:$BQ$1017),0)","v":0},{"$f":"IFERROR($E77*SUMIF('Daily Log'!$BS$18:$BS$1017,$B77,'Daily Log'!$BT$18:$BT$1017),0)","v":0},{"$f":"IFERROR($E77*SUMIF('Daily Log'!$BV$18:$BV$1017,$B77,'Daily Log'!$BW$18:$BW$1017),0)","v":0},{"$f":"IFERROR($E77*SUMIF('Daily Log'!$BY$18:$BY$1017,$B77,'Daily Log'!$BZ$18:$BZ$1017),0)","v":0},{"$f":"IFERROR($E77*SUMIF('Daily Log'!$CB$18:$CB$1017,$B77,'Daily Log'!$CC$18:$CC$1017),0)","v":0},{"$f":"IFERROR($E77*SUMIF('Daily Log'!$CE$18:$CE$1017,$B77,'Daily Log'!$CF$18:$CF$1017),0)","v":0},{"$f":"IFERROR($E77*SUMIF('Daily Log'!$CH$18:$CH$1017,$B77,'Daily Log'!$CI$18:$CI$1017),0)","v":0},{"$f":"IFERROR($E77*SUMIF('Daily Log'!$CK$18:$CK$1017,$B77,'Daily Log'!$CL$18:$CL$1017),0)","v":0},{"$f":"IFERROR($E77*SUMIF('Daily Log'!$CN$18:$CN$1017,$B77,'Daily Log'!$CO$18:$CO$1017),0)","v":0}]
[null,"CI01 85001:HEI BTL",null,"BEER",1,{"$f":"SUM($G78:$AK78)","v":5},{"$f":"IFERROR($E78*SUMIF('Daily Log'!$B$18:$B$1017,$B78,'Daily Log'!$C$18:$C$1017),0)","v":0},{"$f":"IFERROR($E78*SUMIF('Daily Log'!$E$18:$E$1017,$B78,'Daily Log'!$F$18:$F$1017),0)","v":0},{"$f":"IFERROR($E78*SUMIF('Daily Log'!$H$18:$H$1017,$B78,'Daily Log'!$I$18:$I$1017),0)","v":0},{"$f":"IFERROR($E78*SUMIF('Daily Log'!$K$18:$K$1017,$B78,'Daily Log'!$L$18:$L$1017),0)","v":0},{"$f":"IFERROR($E78*SUMIF('Daily Log'!$N$18:$N$1017,$B78,'Daily Log'!$O$18:$O$1017),0)","v":0},{"$f":"IFERROR($E78*SUMIF('Daily Log'!$Q$18:$Q$1017,$B78,'Daily Log'!$R$18:$R$1017),0)","v":0},{"$f":"IFERROR($E78*SUMIF('Daily Log'!$T$18:$T$1017,$B78,'Daily Log'!$U$18:$U$1017),0)","v":0},{"$f":"IFERROR($E78*SUMIF('Daily Log'!$W$18:$W$1017,$B78,'Daily Log'!$X$18:$X$1017),0)","v":0},{"$f":"IFERROR($E78*SUMIF('Daily Log'!$Z$18:$Z$1017,$B78,'Daily Log'!$AA$18:$AA$1017),0)","v":0},{"$f":"IFERROR($E78*SUMIF('Daily Log'!$AC$18:$AC$1017,$B78,'Daily Log'!$AD$18:$AD$1017),0)","v":0},{"$f":"IFERROR($E78*SUMIF('Daily Log'!$AF$18:$AF$1017,$B78,'Daily Log'!$AG$18:$AG$1017),0)","v":0},{"$f":"IFERROR($E78*SUMIF('Daily Log'!$AI$18:$AI$1017,$B78,'Daily Log'!$AJ$18:$AJ$1017),0)","v":0},{"$f":"IFERROR($E78*SUMIF('Daily Log'!$AL$18:$AL$1017,$B78,'Daily Log'!$AM$18:$AM$1017),0)","v":1},{"$f":"IFERROR($E78*SUMIF('Daily Log'!$AO$18:$AO$1017,$B78,'Daily Log'!$AP$18:$AP$1017),0)","v":0},{"$f":"IFERROR($E78*SUMIF('Daily Log'!$AR$18:$AR$1017,$B78,'Daily Log'!$AS$18:$AS$1017),0)","v":0},{"$f":"IFERROR($E78*SUMIF('Daily Log'!$AU$18:$AU$1017,$B78,'Daily Log'!$AV$18:$AV$1017),0)","v":0},{"$f":"IFERROR($E78*SUMIF('Daily Log'!$AX$18:$AX$1017,$B78,'Daily Log'!$AY$18:$AY$1017),0)","v":0},{"$f":"IFERROR($E78*SUMIF('Daily Log'!$BA$18:$BA$1017,$B78,'Daily Log'!$BB$18:$BB$1017),0)","v":0},{"$f":"IFERROR($E78*SUMIF('Daily Log'!$BD$18:$BD$1017,$B78,'Daily Log'!$BE$18:$BE$1017),0)","v":2},{"$f":"IFERROR($E78*SUMIF('Daily Log'!$BG$18:$BG$1017,$B78,'Daily Log'!$BH$18:$BH$1017),0)","v":0},{"$f":"IFERROR($E78*SUMIF('Daily Log'!$BJ$18:$BJ$1017,$B78,'Daily Log'!$BK$18:$BK$1017),0)","v":0},{"$f":"IFERROR($E78*SUMIF('Daily Log'!$BM$18:$BM$1017,$B78,'Daily Log'!$BN$18:$BN$1017),0)","v":0},{"$f":"IFERROR($E78*SUMIF('Daily Log'!$BP$18:$BP$1017,$B78,'Daily Log'!$BQ$18:$BQ$1017),0)","v":0},{"$f":"IFERROR($E78*SUMIF('Daily Log'!$BS$18:$BS$1017,$B78,'Daily Log'!$BT$18:$BT$1017),0)","v":0},{"$f":"IFERROR($E78*SUMIF('Daily Log'!$BV$18:$BV$1017,$B78,'Daily Log'!$BW$18:$BW$1017),0)","v":0},{"$f":"IFERROR($E78*SUMIF('Daily Log'!$BY$18:$BY$1017,$B78,'Daily Log'!$BZ$18:$BZ$1017),0)","v":0},{"$f":"IFERROR($E78*SUMIF('Daily Log'!$CB$18:$CB$1017,$B78,'Daily Log'!$CC$18:$CC$1017),0)","v":0},{"$f":"IFERROR($E78*SUMIF('Daily Log'!$CE$18:$CE$1017,$B78,'Daily Log'!$CF$18:$CF$1017),0)","v":0},{"$f":"IFERROR($E78*SUMIF('Daily Log'!$CH$18:$CH$1017,$B78,'Daily Log'!$CI$18:$CI$1017),0)","v":0},{"$f":"IFERROR($E78*SUMIF('Daily Log'!$CK$18:$CK$1017,$B78,'Daily Log'!$CL$18:$CL$1017),0)","v":2},{"$f":"IFERROR($E78*SUMIF('Daily Log'!$CN$18:$CN$1017,$B78,'Daily Log'!$CO$18:$CO$1017),0)","v":0}]
[null,"ZBR02 HEI EX BKT",null,"BEER",4,{"$f":"SUM($G79:$AK79)","v":44},{"$f":"IFERROR($E79*SUMIF('Daily Log'!$B$18:$B$1017,$B79,'Daily Log'!$C$18:$C$1017),0)","v":0},{"$f":"IFERROR($E79*SUMIF('Daily Log'!$E$18:$E$1017,$B79,'Daily Log'!$F$18:$F$1017),0)","v":0},{"$f":"IFERROR($E79*SUMIF('Daily Log'!$H$18:$H$1017,$B79,'Daily Log'!$I$18:$I$1017),0)","v":0},{"$f":"IFERROR($E79*SUMIF('Daily Log'!$K$18:$K$1017,$B79,'Daily Log'!$L$18:$L$1017),0)","v":8},{"$f":"IFERROR($E79*SUMIF('Daily Log'!$N$18:$N$1017,$B79,'Daily Log'!$O$18:$O$1017),0)","v":12},{"$f":"IFERROR($E79*SUMIF('Daily Log'!$Q$18:$Q$1017,$B79,'Daily Log'!$R$18:$R$1017),0)","v":0},{"$f":"IFERROR($E79*SUMIF('Daily Log'!$T$18:$T$1017,$B79,'Daily Log'!$U$18:$U$1017),0)","v":12},{"$f":"IFERROR($E79*SUMIF('Daily Log'!$W$18:$W$1017,$B79,'Daily Log'!$X$18:$X$1017),0)","v":4},{"$f":"IFERROR($E79*SUMIF('Daily Log'!$Z$18:$Z$1017,$B79,'Daily Log'!$AA$18:$AA$1017),0)","v":0},{"$f":"IFERROR($E79*SUMIF('Daily Log'!$AC$18:$AC$1017,$B79,'Daily Log'!$AD$18:$AD$1017),0)","v":0},{"$f":"IFERROR($E79*SUMIF('Daily Log'!$AF$18:$AF$1017,$B79,'Daily Log'!$AG$18:$AG$1017),0)","v":0},{"$f":"IFERROR($E79*SUMIF('Daily Log'!$AI$18:$AI$1017,$B79,'Daily Log'!$AJ$18:$AJ$1017),0)","v":0},{"$f":"IFERROR($E79*SUMIF('Daily Log'!$AL$18:$AL$1017,$B79,'Daily Log'!$AM$18:$AM$1017),0)","v":4},{"$f":"IFERROR($E79*SUMIF('Daily Log'!$AO$18:$AO$1017,$B79,'Daily Log'!$AP$18:$AP$1017),0)","v":0},{"$f":"IFERROR($E79*SUMIF('Daily Log'!$AR$18:$AR$1017,$B79,'Daily Log'!$AS$18:$AS$1017),0)","v":0},{"$f":"IFERROR($E79*SUMIF('Daily Log'!$AU$18:$AU$1017,$B79,'Daily Log'!$AV$18:$AV$1017),0)","v":0},{"$f":"IFERROR($E79*SUMIF('Daily Log'!$AX$18:$AX$1017,$B79,'Daily Log'!$AY$18:$AY$1017),0)","v":4},{"$f":"IFERROR($E79*SUMIF('Daily Log'!$BA$18:$BA$1017,$B79,'Daily Log'!$BB$18:$BB$1017),0)","v":0},{"$f":"IFERROR($E79*SUMIF('Daily Log'!$BD$18:$BD$1017,$B79,'Daily Log'!$BE$18:$BE$1017),0)","v":0},{"$f":"IFERROR($E79*SUMIF('Daily Log'!$BG$18:$BG$1017,$B79,'Daily Log'!$BH$18:$BH$1017),0)","v":0},{"$f":"IFERROR($E79*SUMIF('Daily Log'!$BJ$18:$BJ$1017,$B79,'Daily Log'!$BK$18:$BK$1017),0)","v":0},{"$f":"IFERROR($E79*SUMIF('Daily Log'!$BM$18:$BM$1017,$B79,'Daily Log'!$BN$18:$BN$1017),0)","v":0},{"$f":"IFERROR($E79*SUMIF('Daily Log'!$BP$18:$BP$1017,$B79,'Daily Log'!$BQ$18:$BQ$1017),0)","v":0},{"$f":"IFERROR($E79*SUMIF('Daily Log'!$BS$18:$BS$1017,$B79,'Daily Log'!$BT$18:$BT$1017),0)","v":0},{"$f":"IFERROR($E79*SUMIF('Daily Log'!$BV$18:$BV$1017,$B79,'Daily Log'!$BW$18:$BW$1017),0)","v":0},{"$f":"IFERROR($E79*SUMIF('Daily Log'!$BY$18:$BY$1017,$B79,'Daily Log'!$BZ$18:$BZ$1017),0)","v":0},{"$f":"IFERROR($E79*SUMIF('Daily Log'!$CB$18:$CB$1017,$B79,'Daily Log'!$CC$18:$CC$1017),0)","v":0},{"$f":"IFERROR($E79*SUMIF('Daily Log'!$CE$18:$CE$1017,$B79,'Daily Log'!$CF$18:$CF$1017),0)","v":0},{"$f":"IFERROR($E79*SUMIF('Daily Log'!$CH$18:$CH$1017,$B79,'Daily Log'!$CI$18:$CI$1017),0)","v":0},{"$f":"IFERROR($E79*SUMIF('Daily Log'!$CK$18:$CK$1017,$B79,'Daily Log'!$CL$18:$CL$1017),0)","v":0},{"$f":"IFERROR($E79*SUMIF('Daily Log'!$CN$18:$CN$1017,$B79,'Daily Log'!$CO$18:$CO$1017),0)","v":0}]
[null,"ZBM02 HEI MEM EX BKT",null,"BEER",4,108,{"$f":"IFERROR($E80*SUMIF('Daily Log'!$B$18:$B$1017,$B80,'Daily Log'!$C$18:$C$1017),0)","v":12},{"$f":"IFERROR($E80*SUMIF('Daily Log'!$E$18:$E$1017,$B80,'Daily Log'!$F$18:$F$1017),0)","v":0},{"$f":"IFERROR($E80*SUMIF('Daily Log'!$H$18:$H$1017,$B80,'Daily Log'!$I$18:$I$1017),0)","v":0},{"$f":"IFERROR($E80*SUMIF('Daily Log'!$K$18:$K$1017,$B80,'Daily Log'!$L$18:$L$1017),0)","v":0},{"$f":"IFERROR($E80*SUMIF('Daily Log'!$N$18:$N$1017,$B80,'Daily Log'!$O$18:$O$1017),0)","v":0},{"$f":"IFERROR($E80*SUMIF('Daily Log'!$Q$18:$Q$1017,$B80,'Daily Log'!$R$18:$R$1017),0)","v":0},{"$f":"IFERROR($E80*SUMIF('Daily Log'!$T$18:$T$1017,$B80,'Daily Log'!$U$18:$U$1017),0)","v":0},{"$f":"IFERROR($E80*SUMIF('Daily Log'!$W$18:$W$1017,$B80,'Daily Log'!$X$18:$X$1017),0)","v":60},{"$f":"IFERROR($E80*SUMIF('Daily Log'!$Z$18:$Z$1017,$B80,'Daily Log'!$AA$18:$AA$1017),0)","v":0},{"$f":"IFERROR($E80*SUMIF('Daily Log'!$AC$18:$AC$1017,$B80,'Daily Log'!$AD$18:$AD$1017),0)","v":0},{"$f":"IFERROR($E80*SUMIF('Daily Log'!$AF$18:$AF$1017,$B80,'Daily Log'!$AG$18:$AG$1017),0)","v":0},{"$f":"IFERROR($E80*SUMIF('Daily Log'!$AI$18:$AI$1017,$B80,'Daily Log'!$AJ$18:$AJ$1017),0)","v":0},{"$f":"IFERROR($E80*SUMIF('Daily Log'!$AL$18:$AL$1017,$B80,'Daily Log'!$AM$18:$AM$1017),0)","v":0},{"$f":"IFERROR($E80*SUMIF('Daily Log'!$AO$18:$AO$1017,$B80,'Daily Log'!$AP$18:$AP$1017),0)","v":0},{"$f":"IFERROR($E80*SUMIF('Daily Log'!$AR$18:$AR$1017,$B80,'Daily Log'!$AS$18:$AS$1017),0)","v":12},{"$f":"IFERROR($E80*SUMIF('Daily Log'!$AU$18:$AU$1017,$B80,'Daily Log'!$AV$18:$AV$1017),0)","v":0},{"$f":"IFERROR($E80*SUMIF('Daily Log'!$AX$18:$AX$1017,$B80,'Daily Log'!$AY$18:$AY$1017),0)","v":0},{"$f":"IFERROR($E80*SUMIF('Daily Log'!$BA$18:$BA$1017,$B80,'Daily Log'!$BB$18:$BB$1017),0)","v":0},{"$f":"IFERROR($E80*SUMIF('Daily Log'!$BD$18:$BD$1017,$B80,'Daily Log'!$BE$18:$BE$1017),0)","v":0},{"$f":"IFERROR($E80*SUMIF('Daily Log'!$BG$18:$BG$1017,$B80,'Daily Log'!$BH$18:$BH$1017),0)","v":0},{"$f":"IFERROR($E80*SUMIF('Daily Log'!$BJ$18:$BJ$1017,$B80,'Daily Log'!$BK$18:$BK$1017),0)","v":0},{"$f":"IFERROR($E80*SUMIF('Daily Log'!$BM$18:$BM$1017,$B80,'Daily Log'!$BN$18:$BN$1017),0)","v":12},{"$f":"IFERROR($E80*SUMIF('Daily Log'!$BP$18:$BP$1017,$B80,'Daily Log'!$BQ$18:$BQ$1017),0)","v":0},{"$f":"IFERROR($E80*SUMIF('Daily Log'!$BS$18:$BS$1017,$B80,'Daily Log'!$BT$18:$BT$1017),0)","v":0},{"$f":"IFERROR($E80*SUMIF('Daily Log'!$BV$18:$BV$1017,$B80,'Daily Log'!$BW$18:$BW$1017),0)","v":0},{"$f":"IFERROR($E80*SUMIF('Daily Log'!$BY$18:$BY$1017,$B80,'Daily Log'!$BZ$18:$BZ$1017),0)","v":0},{"$f":"IFERROR($E80*SUMIF('Daily Log'!$CB$18:$CB$1017,$B80,'Daily Log'!$CC$18:$CC$1017),0)","v":0},{"$f":"IFERROR($E80*SUMIF('Daily Log'!$CE$18:$CE$1017,$B80,'Daily Log'!$CF$18:$CF$1017),0)","v":0},{"$f":"IFERROR($E80*SUMIF('Daily Log'!$CH$18:$CH$1017,$B80,'Daily Log'!$CI$18:$CI$1017),0)","v":12},{"$f":"IFERROR($E80*SUMIF('Daily Log'!$CK$18:$CK$1017,$B80,'Daily Log'!$CL$18:$CL$1017),0)","v":0},{"$f":"IFERROR($E80*SUMIF('Daily Log'!$CN$18:$CN$1017,$B80,'Daily Log'!$CO$18:$CO$1017),0)","v":0}]
[null,"HEINEKEN BEER TOTAL",null,"BEER",null,716,{"$f":"SUM(G74:G80)","v":24},{"$f":"SUM(H74:H78)","v":36},12,{"$f":"SUM(J74:J80)","v":92},{"$f":"SUM(K74:K80)","v":26},{"$f":"SUM(L74:L80)","v":8},52,64,52,0,1,8,{"$f":"SUM(S74:S80)","v":13},{"$f":"SUM(T74:T79)","v":0},{"$f":"SUM(U74:U80)","v":12},85,{"$f":"SUM(W74:W80)","v":4},{"$f":"SUM(X74:X80)","v":12},{"$f":"SUM(Y74:Y80)","v":11},0,16,{"$f":"SUM(AB74:AB80)","v":30},{"$f":"SUM(AC74:AC80)","v":72},6,16,24,{"$f":"SUM(AG74:AG80)","v":12},0,{"$f":"SUM(AI74:AI80)","v":24},{"$f":"SUM(AJ74:AJ79)","v":4},0]
[null,"BT01 7001:TIG BTL",null,"BEER",1,{"$f":"SUM($G82:$AK82)","v":37},{"$f":"IFERROR($E82*SUMIF('Daily Log'!$B$18:$B$1017,$B82,'Daily Log'!$C$18:$C$1017),0)","v":2},{"$f":"IFERROR($E82*SUMIF('Daily Log'!$E$18:$E$1017,$B82,'Daily Log'!$F$18:$F$1017),0)","v":0},{"$f":"IFERROR($E82*SUMIF('Daily Log'!$H$18:$H$1017,$B82,'Daily Log'!$I$18:$I$1017),0)","v":2},{"$f":"IFERROR($E82*SUMIF('Daily Log'!$K$18:$K$1017,$B82,'Daily Log'!$L$18:$L$1017),0)","v":0},{"$f":"IFERROR($E82*SUMIF('Daily Log'!$N$18:$N$1017,$B82,'Daily Log'!$O$18:$O$1017),0)","v":1},{"$f":"IFERROR($E82*SUMIF('Daily Log'!$Q$18:$Q$1017,$B82,'Daily Log'!$R$18:$R$1017),0)","v":0},{"$f":"IFERROR($E82*SUMIF('Daily Log'!$T$18:$T$1017,$B82,'Daily Log'!$U$18:$U$1017),0)","v":2},{"$f":"IFERROR($E82*SUMIF('Daily Log'!$W$18:$W$1017,$B82,'Daily Log'!$X$18:$X$1017),0)","v":1},{"$f":"IFERROR($E82*SUMIF('Daily Log'!$Z$18:$Z$1017,$B82,'Daily Log'!$AA$18:$AA$1017),0)","v":0},{"$f":"IFERROR($E82*SUMIF('Daily Log'!$AC$18:$AC$1017,$B82,'Daily Log'!$AD$18:$AD$1017),0)","v":0},{"$f":"IFERROR($E82*SUMIF('Daily Log'!$AF$18:$AF$1017,$B82,'Daily Log'!$AG$18:$AG$1017),0)","v":0},{"$f":"IFERROR($E82*SUMIF('Daily Log'!$AI$18:$AI$1017,$B82,'Daily Log'!$AJ$18:$AJ$1017),0)","v":0},{"$f":"IFERROR($E82*SUMIF('Daily Log'!$AL$18:$AL$1017,$B82,'Daily Log'!$AM$18:$AM$1017),0)","v":0},{"$f":"IFERROR($E82*SUMIF('Daily Log'!$AO$18:$AO$1017,$B82,'Daily Log'!$AP$18:$AP$1017),0)","v":0},{"$f":"IFERROR($E82*SUMIF('Daily Log'!$AR$18:$AR$1017,$B82,'Daily Log'!$AS$18:$AS$1017),0)","v":3},{"$f":"IFERROR($E82*SUMIF('Daily Log'!$AU$18:$AU$1017,$B82,'Daily Log'!$AV$18:$AV$1017),0)","v":5},{"$f":"IFERROR($E82*SUMIF('Daily Log'!$AX$18:$AX$1017,$B82,'Daily Log'!$AY$18:$AY$1017),0)","v":0},{"$f":"IFERROR($E82*SUMIF('Daily Log'!$BA$18:$BA$1017,$B82,'Daily Log'!$BB$18:$BB$1017),0)","v":2},{"$f":"IFERROR($E82*SUMIF('Daily Log'!$BD$18:$BD$1017,$B82,'Daily Log'!$BE$18:$BE$1017),0)","v":1},{"$f":"IFERROR($E82*SUMIF('Daily Log'!$BG$18:$BG$1017,$B82,'Daily Log'!$BH$18:$BH$1017),0)","v":1},{"$f":"IFERROR($E82*SUMIF('Daily Log'!$BJ$18:$BJ$1017,$B82,'Daily Log'!$BK$18:$BK$1017),0)","v":1},{"$f":"IFERROR($E82*SUMIF('Daily Log'!$BM$18:$BM$1017,$B82,'Daily Log'!$BN$18:$BN$1017),0)","v":0},{"$f":"IFERROR($E82*SUMIF('Daily Log'!$BP$18:$BP$1017,$B82,'Daily Log'!$BQ$18:$BQ$1017),0)","v":0},{"$f":"IFERROR($E82*SUMIF('Daily Log'!$BS$18:$BS$1017,$B82,'Daily Log'!$BT$18:$BT$1017),0)","v":5},{"$f":"IFERROR($E82*SUMIF('Daily Log'!$BV$18:$BV$1017,$B82,'Daily Log'!$BW$18:$BW$1017),0)","v":0},{"$f":"IFERROR($E82*SUMIF('Daily Log'!$BY$18:$BY$1017,$B82,'Daily Log'!$BZ$18:$BZ$1017),0)","v":4},{"$f":"IFERROR($E82*SUMIF('Daily Log'!$CB$18:$CB$1017,$B82,'Daily Log'!$CC$18:$CC$1017),0)","v":6},{"$f":"IFERROR($E82*SUMIF('Daily Log'!$CE$18:$CE$1017,$B82,'Daily Log'!$CF$18:$CF$1017),0)","v":0},{"$f":"IFERROR($E82*SUMIF('Daily Log'!$CH$18:$CH$1017,$B82,'Daily Log'!$CI$18:$CI$1017),0)","v":0},{"$f":"IFERROR($E82*SUMIF('Daily Log'!$CK$18:$CK$1017,$B82,'Daily Log'!$CL$18:$CL$1017),0)","v":1},{"$f":"IFERROR($E82*SUMIF('Daily Log'!$CN$18:$CN$1017,$B82,'Daily Log'!$CO$18:$CO$1017),0)","v":0}]
[null,"BT02 7002:TIG BKT",null,"BEER",4,{"$f":"SUM($G83:$AK83)","v":1572},{"$f":"IFERROR($E83*SUMIF('Daily Log'!$B$18:$B$1017,$B83,'Daily Log'!$C$18:$C$1017),0)","v":100},{"$f":"IFERROR($E83*SUMIF('Daily Log'!$E$18:$E$1017,$B83,'Daily Log'!$F$18:$F$1017),0)","v":28},{"$f":"IFERROR($E83*SUMIF('Daily Log'!$H$18:$H$1017,$B83,'Daily Log'!$I$18:$I$1017),0)","v":64},{"$f":"IFERROR($E83*SUMIF('Daily Log'!$K$18:$K$1017,$B83,'Daily Log'!$L$18:$L$1017),0)","v":52},{"$f":"IFERROR($E83*SUMIF('Daily Log'!$N$18:$N$1017,$B83,'Daily Log'!$O$18:$O$1017),0)","v":116},{"$f":"IFERROR($E83*SUMIF('Daily Log'!$Q$18:$Q$1017,$B83,'Daily Log'!$R$18:$R$1017),0)","v":36},{"$f":"IFERROR($E83*SUMIF('Daily Log'!$T$18:$T$1017,$B83,'Daily Log'!$U$18:$U$1017),0)","v":68},{"$f":"IFERROR($E83*SUMIF('Daily Log'!$W$18:$W$1017,$B83,'Daily Log'!$X$18:$X$1017),0)","v":64},{"$f":"IFERROR($E83*SUMIF('Daily Log'!$Z$18:$Z$1017,$B83,'Daily Log'!$AA$18:$AA$1017),0)","v":52},{"$f":"IFERROR($E83*SUMIF('Daily Log'!$AC$18:$AC$1017,$B83,'Daily Log'!$AD$18:$AD$1017),0)","v":8},{"$f":"IFERROR($E83*SUMIF('Daily Log'!$AF$18:$AF$1017,$B83,'Daily Log'!$AG$18:$AG$1017),0)","v":48},{"$f":"IFERROR($E83*SUMIF('Daily Log'!$AI$18:$AI$1017,$B83,'Daily Log'!$AJ$18:$AJ$1017),0)","v":56},{"$f":"IFERROR($E83*SUMIF('Daily Log'!$AL$18:$AL$1017,$B83,'Daily Log'!$AM$18:$AM$1017),0)","v":24},{"$f":"IFERROR($E83*SUMIF('Daily Log'!$AO$18:$AO$1017,$B83,'Daily Log'!$AP$18:$AP$1017),0)","v":76},{"$f":"IFERROR($E83*SUMIF('Daily Log'!$AR$18:$AR$1017,$B83,'Daily Log'!$AS$18:$AS$1017),0)","v":24},{"$f":"IFERROR($E83*SUMIF('Daily Log'!$AU$18:$AU$1017,$B83,'Daily Log'!$AV$18:$AV$1017),0)","v":56},{"$f":"IFERROR($E83*SUMIF('Daily Log'!$AX$18:$AX$1017,$B83,'Daily Log'!$AY$18:$AY$1017),0)","v":32},{"$f":"IFERROR($E83*SUMIF('Daily Log'!$BA$18:$BA$1017,$B83,'Daily Log'!$BB$18:$BB$1017),0)","v":32},{"$f":"IFERROR($E83*SUMIF('Daily Log'!$BD$18:$BD$1017,$B83,'Daily Log'!$BE$18:$BE$1017),0)","v":48},{"$f":"IFERROR($E83*SUMIF('Daily Log'!$BG$18:$BG$1017,$B83,'Daily Log'!$BH$18:$BH$1017),0)","v":0},{"$f":"IFERROR($E83*SUMIF('Daily Log'!$BJ$18:$BJ$1017,$B83,'Daily Log'!$BK$18:$BK$1017),0)","v":68},{"$f":"IFERROR($E83*SUMIF('Daily Log'!$BM$18:$BM$1017,$B83,'Daily Log'!$BN$18:$BN$1017),0)","v":56},{"$f":"IFERROR($E83*SUMIF('Daily Log'!$BP$18:$BP$1017,$B83,'Daily Log'!$BQ$18:$BQ$1017),0)","v":24},{"$f":"IFERROR($E83*SUMIF('Daily Log'!$BS$18:$BS$1017,$B83,'Daily Log'!$BT$18:$BT$1017),0)","v":84},{"$f":"IFERROR($E83*SUMIF('Daily Log'!$BV$18:$BV$1017,$B83,'Daily Log'!$BW$18:$BW$1017),0)","v":60},{"$f":"IFERROR($E83*SUMIF('Daily Log'!$BY$18:$BY$1017,$B83,'Daily Log'!$BZ$18:$BZ$1017),0)","v":40},{"$f":"IFERROR($E83*SUMIF('Daily Log'!$CB$18:$CB$1017,$B83,'Daily Log'!$CC$18:$CC$1017),0)","v":44},{"$f":"IFERROR($E83*SUMIF('Daily Log'!$CE$18:$CE$1017,$B83,'Daily Log'!$CF$18:$CF$1017),0)","v":80},{"$f":"IFERROR($E83*SUMIF('Daily Log'!$CH$18:$CH$1017,$B83,'Daily Log'!$CI$18:$CI$1017),0)","v":64},{"$f":"IFERROR($E83*SUMIF('Daily Log'!$CK$18:$CK$1017,$B83,'Daily Log'!$CL$18:$CL$1017),0)","v":68},{"$f":"IFERROR($E83*SUMIF('Daily Log'!$CN$18:$CN$1017,$B83,'Daily Log'!$CO$18:$CO$1017),0)","v":0}]
[null,"BT03 7003:TIG RND",null,"BEER",12,{"$f":"SUM($G84:$AK84)","v":792},{"$f":"IFERROR($E84*SUMIF('Daily Log'!$B$18:$B$1017,$B84,'Daily Log'!$C$18:$C$1017),0)","v":36},{"$f":"IFERROR($E84*SUMIF('Daily Log'!$E$18:$E$1017,$B84,'Daily Log'!$F$18:$F$1017),0)","v":0},{"$f":"IFERROR($E84*SUMIF('Daily Log'!$H$18:$H$1017,$B84,'Daily Log'!$I$18:$I$1017),0)","v":36},{"$f":"IFERROR($E84*SUMIF('Daily Log'!$K$18:$K$1017,$B84,'Daily Log'!$L$18:$L$1017),0)","v":0},{"$f":"IFERROR($E84*SUMIF('Daily Log'!$N$18:$N$1017,$B84,'Daily Log'!$O$18:$O$1017),0)","v":60},{"$f":"IFERROR($E84*SUMIF('Daily Log'!$Q$18:$Q$1017,$B84,'Daily Log'!$R$18:$R$1017),0)","v":48},{"$f":"IFERROR($E84*SUMIF('Daily Log'!$T$18:$T$1017,$B84,'Daily Log'!$U$18:$U$1017),0)","v":0},{"$f":"IFERROR($E84*SUMIF('Daily Log'!$W$18:$W$1017,$B84,'Daily Log'!$X$18:$X$1017),0)","v":60},{"$f":"IFERROR($E84*SUMIF('Daily Log'!$Z$18:$Z$1017,$B84,'Daily Log'!$AA$18:$AA$1017),0)","v":0},{"$f":"IFERROR($E84*SUMIF('Daily Log'!$AC$18:$AC$1017,$B84,'Daily Log'!$AD$18:$AD$1017),0)","v":24},{"$f":"IFERROR($E84*SUMIF('Daily Log'!$AF$18:$AF$1017,$B84,'Daily Log'!$AG$18:$AG$1017),0)","v":12},{"$f":"IFERROR($E84*SUMIF('Daily Log'!$AI$18:$AI$1017,$B84,'Daily Log'!$AJ$18:$AJ$1017),0)","v":48},{"$f":"IFERROR($E84*SUMIF('Daily Log'!$AL$18:$AL$1017,$B84,'Daily Log'!$AM$18:$AM$1017),0)","v":12},{"$f":"IFERROR($E84*SUMIF('Daily Log'!$AO$18:$AO$1017,$B84,'Daily Log'!$AP$18:$AP$1017),0)","v":0},{"$f":"IFERROR($E84*SUMIF('Daily Log'!$AR$18:$AR$1017,$B84,'Daily Log'!$AS$18:$AS$1017),0)","v":12},{"$f":"IFERROR($E84*SUMIF('Daily Log'!$AU$18:$AU$1017,$B84,'Daily Log'!$AV$18:$AV$1017),0)","v":24},{"$f":"IFERROR($E84*SUMIF('Daily Log'!$AX$18:$AX$1017,$B84,'Daily Log'!$AY$18:$AY$1017),0)","v":60},{"$f":"IFERROR($E84*SUMIF('Daily Log'!$BA$18:$BA$1017,$B84,'Daily Log'!$BB$18:$BB$1017),0)","v":12},{"$f":"IFERROR($E84*SUMIF('Daily Log'!$BD$18:$BD$1017,$B84,'Daily Log'!$BE$18:$BE$1017),0)","v":60},{"$f":"IFERROR($E84*SUMIF('Daily Log'!$BG$18:$BG$1017,$B84,'Daily Log'!$BH$18:$BH$1017),0)","v":12},{"$f":"IFERROR($E84*SUMIF('Daily Log'!$BJ$18:$BJ$1017,$B84,'Daily Log'!$BK$18:$BK$1017),0)","v":0},{"$f":"IFERROR($E84*SUMIF('Daily Log'!$BM$18:$BM$1017,$B84,'Daily Log'!$BN$18:$BN$1017),0)","v":48},{"$f":"IFERROR($E84*SUMIF('Daily Log'!$BP$18:$BP$1017,$B84,'Daily Log'!$BQ$18:$BQ$1017),0)","v":12},{"$f":"IFERROR($E84*SUMIF('Daily Log'!$BS$18:$BS$1017,$B84,'Daily Log'!$BT$18:$BT$1017),0)","v":24},{"$f":"IFERROR($E84*SUMIF('Daily Log'!$BV$18:$BV$1017,$B84,'Daily Log'!$BW$18:$BW$1017),0)","v":36},{"$f":"IFERROR($E84*SUMIF('Daily Log'!$BY$18:$BY$1017,$B84,'Daily Log'!$BZ$18:$BZ$1017),0)","v":84},{"$f":"IFERROR($E84*SUMIF('Daily Log'!$CB$18:$CB$1017,$B84,'Daily Log'!$CC$18:$CC$1017),0)","v":12},{"$f":"IFERROR($E84*SUMIF('Daily Log'!$CE$18:$CE$1017,$B84,'Daily Log'!$CF$18:$CF$1017),0)","v":0},{"$f":"IFERROR($E84*SUMIF('Daily Log'!$CH$18:$CH$1017,$B84,'Daily Log'!$CI$18:$CI$1017),0)","v":12},{"$f":"IFERROR($E84*SUMIF('Daily Log'!$CK$18:$CK$1017,$B84,'Daily Log'!$CL$18:$CL$1017),0)","v":48},{"$f":"IFERROR($E84*SUMIF('Daily Log'!$CN$18:$CN$1017,$B84,'Daily Log'!$CO$18:$CO$1017),0)","v":0}]
[null,"BT05 7005:TIG RD BTL",null,"BEER",1,{"$f":"SUM($G85:$AK85)","v":0},{"$f":"IFERROR($E85*SUMIF('Daily Log'!$B$18:$B$1017,$B85,'Daily Log'!$C$18:$C$1017),0)","v":0},{"$f":"IFERROR($E85*SUMIF('Daily Log'!$E$18:$E$1017,$B85,'Daily Log'!$F$18:$F$1017),0)","v":0},{"$f":"IFERROR($E85*SUMIF('Daily Log'!$H$18:$H$1017,$B85,'Daily Log'!$I$18:$I$1017),0)","v":0},{"$f":"IFERROR($E85*SUMIF('Daily Log'!$K$18:$K$1017,$B85,'Daily Log'!$L$18:$L$1017),0)","v":0},{"$f":"IFERROR($E85*SUMIF('Daily Log'!$N$18:$N$1017,$B85,'Daily Log'!$O$18:$O$1017),0)","v":0},{"$f":"IFERROR($E85*SUMIF('Daily Log'!$Q$18:$Q$1017,$B85,'Daily Log'!$R$18:$R$1017),0)","v":0},{"$f":"IFERROR($E85*SUMIF('Daily Log'!$T$18:$T$1017,$B85,'Daily Log'!$U$18:$U$1017),0)","v":0},{"$f":"IFERROR($E85*SUMIF('Daily Log'!$W$18:$W$1017,$B85,'Daily Log'!$X$18:$X$1017),0)","v":0},{"$f":"IFERROR($E85*SUMIF('Daily Log'!$Z$18:$Z$1017,$B85,'Daily Log'!$AA$18:$AA$1017),0)","v":0},{"$f":"IFERROR($E85*SUMIF('Daily Log'!$AC$18:$AC$1017,$B85,'Daily Log'!$AD$18:$AD$1017),0)","v":0},{"$f":"IFERROR($E85*SUMIF('Daily Log'!$AF$18:$AF$1017,$B85,'Daily Log'!$AG$18:$AG$1017),0)","v":0},{"$f":"IFERROR($E85*SUMIF('Daily Log'!$AI$18:$AI$1017,$B85,'Daily Log'!$AJ$18:$AJ$1017),0)","v":0},{"$f":"IFERROR($E85*SUMIF('Daily Log'!$AL$18:$AL$1017,$B85,'Daily Log'!$AM$18:$AM$1017),0)","v":0},{"$f":"IFERROR($E85*SUMIF('Daily Log'!$AO$18:$AO$1017,$B85,'Daily Log'!$AP$18:$AP$1017),0)","v":0},{"$f":"IFERROR($E85*SUMIF('Daily Log'!$AR$18:$AR$1017,$B85,'Daily Log'!$AS$18:$AS$1017),0)","v":0},{"$f":"IFERROR($E85*SUMIF('Daily Log'!$AU$18:$AU$1017,$B85,'Daily Log'!$AV$18:$AV$1017),0)","v":0},{"$f":"IFERROR($E85*SUMIF('Daily Log'!$AX$18:$AX$1017,$B85,'Daily Log'!$AY$18:$AY$1017),0)","v":0},{"$f":"IFERROR($E85*SUMIF('Daily Log'!$BA$18:$BA$1017,$B85,'Daily Log'!$BB$18:$BB$1017),0)","v":0},{"$f":"IFERROR($E85*SUMIF('Daily Log'!$BD$18:$BD$1017,$B85,'Daily Log'!$BE$18:$BE$1017),0)","v":0},{"$f":"IFERROR($E85*SUMIF('Daily Log'!$BG$18:$BG$1017,$B85,'Daily Log'!$BH$18:$BH$1017),0)","v":0},{"$f":"IFERROR($E85*SUMIF('Daily Log'!$BJ$18:$BJ$1017,$B85,'Daily Log'!$BK$18:$BK$1017),0)","v":0},{"$f":"IFERROR($E85*SUMIF('Daily Log'!$BM$18:$BM$1017,$B85,'Daily Log'!$BN$18:$BN$1017),0)","v":0},{"$f":"IFERROR($E85*SUMIF('Daily Log'!$BP$18:$BP$1017,$B85,'Daily Log'!$BQ$18:$BQ$1017),0)","v":0},{"$f":"IFERROR($E85*SUMIF('Daily Log'!$BS$18:$BS$1017,$B85,'Daily Log'!$BT$18:$BT$1017),0)","v":0},{"$f":"IFERROR($E85*SUMIF('Daily Log'!$BV$18:$BV$1017,$B85,'Daily Log'!$BW$18:$BW$1017),0)","v":0},{"$f":"IFERROR($E85*SUMIF('Daily Log'!$BY$18:$BY$1017,$B85,'Daily Log'!$BZ$18:$BZ$1017),0)","v":0},{"$f":"IFERROR($E85*SUMIF('Daily Log'!$CB$18:$CB$1017,$B85,'Daily Log'!$CC$18:$CC$1017),0)","v":0},{"$f":"IFERROR($E85*SUMIF('Daily Log'!$CE$18:$CE$1017,$B85,'Daily Log'!$CF$18:$CF$1017),0)","v":0},{"$f":"IFERROR($E85*SUMIF('Daily Log'!$CH$18:$CH$1017,$B85,'Daily Log'!$CI$18:$CI$1017),0)","v":0},{"$f":"IFERROR($E85*SUMIF('Daily Log'!$CK$18:$CK$1017,$B85,'Daily Log'!$CL$18:$CL$1017),0)","v":0},{"$f":"IFERROR($E85*SUMIF('Daily Log'!$CN$18:$CN$1017,$B85,'Daily Log'!$CO$18:$CO$1017),0)","v":0}]
[null,"BT06 7006:TIG RD BKT",null,"BEER",4,0,{"$f":"IFERROR($E86*SUMIF('Daily Log'!$B$18:$B$1017,$B86,'Daily Log'!$C$18:$C$1017),0)","v":0},{"$f":"IFERROR($E86*SUMIF('Daily Log'!$E$18:$E$1017,$B86,'Daily Log'!$F$18:$F$1017),0)","v":0},{"$f":"IFERROR($E86*SUMIF('Daily Log'!$H$18:$H$1017,$B86,'Daily Log'!$I$18:$I$1017),0)","v":0},{"$f":"IFERROR($E86*SUMIF('Daily Log'!$K$18:$K$1017,$B86,'Daily Log'!$L$18:$L$1017),0)","v":0},{"$f":"IFERROR($E86*SUMIF('Daily Log'!$N$18:$N$1017,$B86,'Daily Log'!$O$18:$O$1017),0)","v":0},{"$f":"IFERROR($E86*SUMIF('Daily Log'!$Q$18:$Q$1017,$B86,'Daily Log'!$R$18:$R$1017),0)","v":0},{"$f":"IFERROR($E86*SUMIF('Daily Log'!$T$18:$T$1017,$B86,'Daily Log'!$U$18:$U$1017),0)","v":0},{"$f":"IFERROR($E86*SUMIF('Daily Log'!$W$18:$W$1017,$B86,'Daily Log'!$X$18:$X$1017),0)","v":0},{"$f":"IFERROR($E86*SUMIF('Daily Log'!$Z$18:$Z$1017,$B86,'Daily Log'!$AA$18:$AA$1017),0)","v":0},{"$f":"IFERROR($E86*SUMIF('Daily Log'!$AC$18:$AC$1017,$B86,'Daily Log'!$AD$18:$AD$1017),0)","v":0},{"$f":"IFERROR($E86*SUMIF('Daily Log'!$AF$18:$AF$1017,$B86,'Daily Log'!$AG$18:$AG$1017),0)","v":0},{"$f":"IFERROR($E86*SUMIF('Daily Log'!$AI$18:$AI$1017,$B86,'Daily Log'!$AJ$18:$AJ$1017),0)","v":0},{"$f":"IFERROR($E86*SUMIF('Daily Log'!$AL$18:$AL$1017,$B86,'Daily Log'!$AM$18:$AM$1017),0)","v":0},{"$f":"IFERROR($E86*SUMIF('Daily Log'!$AO$18:$AO$1017,$B86,'Daily Log'!$AP$18:$AP$1017),0)","v":0},{"$f":"IFERROR($E86*SUMIF('Daily Log'!$AR$18:$AR$1017,$B86,'Daily Log'!$AS$18:$AS$1017),0)","v":0},{"$f":"IFERROR($E86*SUMIF('Daily Log'!$AU$18:$AU$1017,$B86,'Daily Log'!$AV$18:$AV$1017),0)","v":0},{"$f":"IFERROR($E86*SUMIF('Daily Log'!$AX$18:$AX$1017,$B86,'Daily Log'!$AY$18:$AY$1017),0)","v":0},{"$f":"IFERROR($E86*SUMIF('Daily Log'!$BA$18:$BA$1017,$B86,'Daily Log'!$BB$18:$BB$1017),0)","v":0},{"$f":"IFERROR($E86*SUMIF('Daily Log'!$BD$18:$BD$1017,$B86,'Daily Log'!$BE$18:$BE$1017),0)","v":0},{"$f":"IFERROR($E86*SUMIF('Daily Log'!$BG$18:$BG$1017,$B86,'Daily Log'!$BH$18:$BH$1017),0)","v":0},{"$f":"IFERROR($E86*SUMIF('Daily Log'!$BJ$18:$BJ$1017,$B86,'Daily Log'!$BK$18:$BK$1017),0)","v":0},{"$f":"IFERROR($E86*SUMIF('Daily Log'!$BM$18:$BM$1017,$B86,'Daily Log'!$BN$18:$BN$1017),0)","v":0},{"$f":"IFERROR($E86*SUMIF('Daily Log'!$BP$18:$BP$1017,$B86,'Daily Log'!$BQ$18:$BQ$1017),0)","v":0},{"$f":"IFERROR($E86*SUMIF('Daily Log'!$BS$18:$BS$1017,$B86,'Daily Log'!$BT$18:$BT$1017),0)","v":0},{"$f":"IFERROR($E86*SUMIF('Daily Log'!$BV$18:$BV$1017,$B86,'Daily Log'!$BW$18:$BW$1017),0)","v":0},{"$f":"IFERROR($E86*SUMIF('Daily Log'!$BY$18:$BY$1017,$B86,'Daily Log'!$BZ$18:$BZ$1017),0)","v":0},{"$f":"IFERROR($E86*SUMIF('Daily Log'!$CB$18:$CB$1017,$B86,'Daily Log'!$CC$18:$CC$1017),0)","v":0},{"$f":"IFERROR($E86*SUMIF('Daily Log'!$CE$18:$CE$1017,$B86,'Daily Log'!$CF$18:$CF$1017),0)","v":0},{"$f":"IFERROR($E86*SUMIF('Daily Log'!$CH$18:$CH$1017,$B86,'Daily Log'!$CI$18:$CI$1017),0)","v":0},{"$f":"IFERROR($E86*SUMIF('Daily Log'!$CK$18:$CK$1017,$B86,'Daily Log'!$CL$18:$CL$1017),0)","v":0},{"$f":"IFERROR($E86*SUMIF('Daily Log'!$CN$18:$CN$1017,$B86,'Daily Log'!$CO$18:$CO$1017),0)","v":0}]
[null,"CZ06 87006:TIG 2BKT P *Link BT02",null,"BEER",null,0,null,null,null,null,null,null,null,null,{"$f":"IFERROR($E87*SUMIF('Daily Log'!$Z$18:$Z$1017,$B87,'Daily Log'!$AA$18:$AA$1017),0)","v":0},null,null,null,null,{"$f":"IFERROR($E87*SUMIF('Daily Log'!$AO$18:$AO$1017,$B87,'Daily Log'!$AP$18:$AP$1017),0)","v":0},null,null,null,null,null,null,null,null,null,null,null,null,null,null,null,null,{"$f":"IFERROR($E87*SUMIF('Daily Log'!$CN$18:$CN$1017,$B87,'Daily Log'!$CO$18:$CO$1017),0)","v":0}]
[null,"CZ02 87002:TIG BKT",null,"BEER",4,12,{"$f":"IFERROR($E88*SUMIF('Daily Log'!$B$18:$B$1017,$B88,'Daily Log'!$C$18:$C$1017),0)","v":0},{"$f":"IFERROR($E88*SUMIF('Daily Log'!$E$18:$E$1017,$B88,'Daily Log'!$F$18:$F$1017),0)","v":0},{"$f":"IFERROR($E88*SUMIF('Daily Log'!$H$18:$H$1017,$B88,'Daily Log'!$I$18:$I$1017),0)","v":0},{"$f":"IFERROR($E88*SUMIF('Daily Log'!$K$18:$K$1017,$B88,'Daily Log'!$L$18:$L$1017),0)","v":0},{"$f":"IFERROR($E88*SUMIF('Daily Log'!$N$18:$N$1017,$B88,'Daily Log'!$O$18:$O$1017),0)","v":0},{"$f":"IFERROR($E88*SUMIF('Daily Log'!$Q$18:$Q$1017,$B88,'Daily Log'!$R$18:$R$1017),0)","v":0},{"$f":"IFERROR($E88*SUMIF('Daily Log'!$T$18:$T$1017,$B88,'Daily Log'!$U$18:$U$1017),0)","v":0},{"$f":"IFERROR($E88*SUMIF('Daily Log'!$W$18:$W$1017,$B88,'Daily Log'!$X$18:$X$1017),0)","v":0},{"$f":"IFERROR($E88*SUMIF('Daily Log'!$Z$18:$Z$1017,$B88,'Daily Log'!$AA$18:$AA$1017),0)","v":0},{"$f":"IFERROR($E88*SUMIF('Daily Log'!$AC$18:$AC$1017,$B88,'Daily Log'!$AD$18:$AD$1017),0)","v":0},{"$f":"IFERROR($E88*SUMIF('Daily Log'!$AF$18:$AF$1017,$B88,'Daily Log'!$AG$18:$AG$1017),0)","v":0},{"$f":"IFERROR($E88*SUMIF('Daily Log'!$AI$18:$AI$1017,$B88,'Daily Log'!$AJ$18:$AJ$1017),0)","v":0},{"$f":"IFERROR($E88*SUMIF('Daily Log'!$AL$18:$AL$1017,$B88,'Daily Log'!$AM$18:$AM$1017),0)","v":0},{"$f":"IFERROR($E88*SUMIF('Daily Log'!$AO$18:$AO$1017,$B88,'Daily Log'!$AP$18:$AP$1017),0)","v":0},{"$f":"IFERROR($E88*SUMIF('Daily Log'!$AR$18:$AR$1017,$B88,'Daily Log'!$AS$18:$AS$1017),0)","v":0},{"$f":"IFERROR($E88*SUMIF('Daily Log'!$AU$18:$AU$1017,$B88,'Daily Log'!$AV$18:$AV$1017),0)","v":0},{"$f":"IFERROR($E88*SUMIF('Daily Log'!$AX$18:$AX$1017,$B88,'Daily Log'!$AY$18:$AY$1017),0)","v":0},{"$f":"IFERROR($E88*SUMIF('Daily Log'!$BA$18:$BA$1017,$B88,'Daily Log'!$BB$18:$BB$1017),0)","v":0},{"$f":"IFERROR($E88*SUMIF('Daily Log'!$BD$18:$BD$1017,$B88,'Daily Log'!$BE$18:$BE$1017),0)","v":4},{"$f":"IFERROR($E88*SUMIF('Daily Log'!$BG$18:$BG$1017,$B88,'Daily Log'!$BH$18:$BH$1017),0)","v":8},{"$f":"IFERROR($E88*SUMIF('Daily Log'!$BJ$18:$BJ$1017,$B88,'Daily Log'!$BK$18:$BK$1017),0)","v":0},{"$f":"IFERROR($E88*SUMIF('Daily Log'!$BM$18:$BM$1017,$B88,'Daily Log'!$BN$18:$BN$1017),0)","v":0},{"$f":"IFERROR($E88*SUMIF('Daily Log'!$BP$18:$BP$1017,$B88,'Daily Log'!$BQ$18:$BQ$1017),0)","v":0},{"$f":"IFERROR($E88*SUMIF('Daily Log'!$BS$18:$BS$1017,$B88,'Daily Log'!$BT$18:$BT$1017),0)","v":0},{"$f":"IFERROR($E88*SUMIF('Daily Log'!$BV$18:$BV$1017,$B88,'Daily Log'!$BW$18:$BW$1017),0)","v":0},{"$f":"IFERROR($E88*SUMIF('Daily Log'!$BY$18:$BY$1017,$B88,'Daily Log'!$BZ$18:$BZ$1017),0)","v":0},{"$f":"IFERROR($E88*SUMIF('Daily Log'!$CB$18:$CB$1017,$B88,'Daily Log'!$CC$18:$CC$1017),0)","v":0},{"$f":"IFERROR($E88*SUMIF('Daily Log'!$CE$18:$CE$1017,$B88,'Daily Log'!$CF$18:$CF$1017),0)","v":0},{"$f":"IFERROR($E88*SUMIF('Daily Log'!$CH$18:$CH$1017,$B88,'Daily Log'!$CI$18:$CI$1017),0)","v":0},{"$f":"IFERROR($E88*SUMIF('Daily Log'!$CK$18:$CK$1017,$B88,'Daily Log'!$CL$18:$CL$1017),0)","v":0},{"$f":"IFERROR($E88*SUMIF('Daily Log'!$CN$18:$CN$1017,$B88,'Daily Log'!$CO$18:$CO$1017),0)","v":0}]
[null,"CZ01 87001:TIG BTL",null,"BEER",1,1,null,null,null,null,null,null,null,null,{"$f":"IFERROR($E89*SUMIF('Daily Log'!$Z$18:$Z$1017,$B89,'Daily Log'!$AA$18:$AA$1017),0)","v":0},null,null,null,null,{"$f":"IFERROR($E89*SUMIF('Daily Log'!$AO$18:$AO$1017,$B89,'Daily Log'!$AP$18:$AP$1017),0)","v":1},null,null,null,null,null,null,null,null,null,null,null,{"$f":"IFERROR($E89*SUMIF('Daily Log'!$BY$18:$BY$1017,$B89,'Daily Log'!$BZ$18:$BZ$1017),0)","v":0}]
[null,"ZBR01 TIG BKT",null,"BEER",4,1816,{"$f":"IFERROR($E90*SUMIF('Daily Log'!$B$18:$B$1017,$B90,'Daily Log'!$C$18:$C$1017),0)","v":60},{"$f":"IFERROR($E90*SUMIF('Daily Log'!$B$18:$B$1017,$B90,'Daily Log'!$C$18:$C$1017),0)","v":60},{"$f":"IFERROR($E90*SUMIF('Daily Log'!$B$18:$B$1017,$B90,'Daily Log'!$C$18:$C$1017),0)","v":60},{"$f":"IFERROR($E90*SUMIF('Daily Log'!$B$18:$B$1017,$B90,'Daily Log'!$C$18:$C$1017),0)","v":60},{"$f":"IFERROR($E90*SUMIF('Daily Log'!$N$18:$N$1017,$B90,'Daily Log'!$O$18:$O$1017),0)","v":156},{"$f":"IFERROR($E90*SUMIF('Daily Log'!$Q$18:$Q$1017,$B90,'Daily Log'!$R$18:$R$1017),0)","v":48},{"$f":"IFERROR($E90*SUMIF('Daily Log'!$T$18:$T$1017,$B90,'Daily Log'!$U$18:$U$1017),0)","v":60},{"$f":"IFERROR($E90*SUMIF('Daily Log'!$W$18:$W$1017,$B90,'Daily Log'!$X$18:$X$1017),0)","v":32},{"$f":"IFERROR($E90*SUMIF('Daily Log'!$Z$18:$Z$1017,$B90,'Daily Log'!$AA$18:$AA$1017),0)","v":24},{"$f":"IFERROR($E90*SUMIF('Daily Log'!$AC$18:$AC$1017,$B90,'Daily Log'!$AD$18:$AD$1017),0)","v":36},{"$f":"IFERROR($E90*SUMIF('Daily Log'!$AF$18:$AF$1017,$B90,'Daily Log'!$AG$18:$AG$1017),0)","v":60},{"$f":"IFERROR($E90*SUMIF('Daily Log'!$AI$18:$AI$1017,$B90,'Daily Log'!$AJ$18:$AJ$1017),0)","v":108},{"$f":"IFERROR($E90*SUMIF('Daily Log'!$AL$18:$AL$1017,$B90,'Daily Log'!$AM$18:$AM$1017),0)","v":68},{"$f":"IFERROR($E90*SUMIF('Daily Log'!$AO$18:$AO$1017,$B90,'Daily Log'!$AP$18:$AP$1017),0)","v":48},{"$f":"IFERROR($E90*SUMIF('Daily Log'!$AR$18:$AR$1017,$B90,'Daily Log'!$AS$18:$AS$1017),0)","v":12},{"$f":"IFERROR($E90*SUMIF('Daily Log'!$AU$18:$AU$1017,$B90,'Daily Log'!$AV$18:$AV$1017),0)","v":36},{"$f":"IFERROR($E90*SUMIF('Daily Log'!$AX$18:$AX$1017,$B90,'Daily Log'!$AY$18:$AY$1017),0)","v":28},{"$f":"IFERROR($E90*SUMIF('Daily Log'!$BA$18:$BA$1017,$B90,'Daily Log'!$BB$18:$BB$1017),0)","v":140},{"$f":"IFERROR($E90*SUMIF('Daily Log'!$BD$18:$BD$1017,$B90,'Daily Log'!$BE$18:$BE$1017),0)","v":144},{"$f":"IFERROR($E90*SUMIF('Daily Log'!$BG$18:$BG$1017,$B90,'Daily Log'!$BH$18:$BH$1017),0)","v":48},{"$f":"IFERROR($E90*SUMIF('Daily Log'!$BJ$18:$BJ$1017,$B90,'Daily Log'!$BK$18:$BK$1017),0)","v":0},{"$f":"IFERROR($E90*SUMIF('Daily Log'!$BM$18:$BM$1017,$B90,'Daily Log'!$BN$18:$BN$1017),0)","v":12},{"$f":"IFERROR($E90*SUMIF('Daily Log'!$BP$18:$BP$1017,$B90,'Daily Log'!$BQ$18:$BQ$1017),0)","v":24},{"$f":"IFERROR($E90*SUMIF('Daily Log'!$BS$18:$BS$1017,$B90,'Daily Log'!$BT$18:$BT$1017),0)","v":36},{"$f":"IFERROR($E90*SUMIF('Daily Log'!$BV$18:$BV$1017,$B90,'Daily Log'!$BW$18:$BW$1017),0)","v":48},{"$f":"IFERROR($E90*SUMIF('Daily Log'!$BY$18:$BY$1017,$B90,'Daily Log'!$BZ$18:$BZ$1017),0)","v":156},{"$f":"IFERROR($E90*SUMIF('Daily Log'!$CB$18:$CB$1017,$B90,'Daily Log'!$CC$18:$CC$1017),0)","v":48},{"$f":"IFERROR($E90*SUMIF('Daily Log'!$CE$18:$CE$1017,$B90,'Daily Log'!$CF$18:$CF$1017),0)","v":36},{"$f":"IFERROR($E90*SUMIF('Daily Log'!$CH$18:$CH$1017,$B90,'Daily Log'!$CI$18:$CI$1017),0)","v":0},{"$f":"IFERROR($E90*SUMIF('Daily Log'!$CK$18:$CK$1017,$B90,'Daily Log'!$CL$18:$CL$1017),0)","v":168},{"$f":"IFERROR($E90*SUMIF('Daily Log'!$CN$18:$CN$1017,$B90,'Daily Log'!$CO$18:$CO$1017),0)","v":0}]
[null,"ZBM01 TIG MEM BKT",null,"BEER",4,12,null,null,null,null,null,null,null,null,null,null,null,null,null,{"$f":"IFERROR($E91*SUMIF('Daily Log'!$AO$18:$AO$1017,$B91,'Daily Log'!$AP$18:$AP$1017),0)","v":0},{"$f":"IFERROR($E91*SUMIF('Daily Log'!$AR$18:$AR$1017,$B91,'Daily Log'!$AS$18:$AS$1017),0)","v":12}]
[null,"TIGER BEER TOTAL",null,"BEER",null,null,{"$f":"SUM(G82:G90)","v":198},88,162,112,333,132,130,157,76,68,120,212,104,125,{"$f":"SUM(U82:U91)","v":63},{"$f":"SUM(V82:V90)","v":121},120,186,257,69,69,116,60,149,144,284,110,116,76,285,0]
[null,"BN02 8202:HOE BKT",null,"BEER",4,16,{"$f":"IFERROR($E93*SUMIF('Daily Log'!$B$18:$B$1017,$B93,'Daily Log'!$C$18:$C$1017),0)","v":0},{"$f":"IFERROR($E93*SUMIF('Daily Log'!$E$18:$E$1017,$B93,'Daily Log'!$F$18:$F$1017),0)","v":0},{"$f":"IFERROR($E93*SUMIF('Daily Log'!$H$18:$H$1017,$B93,'Daily Log'!$I$18:$I$1017),0)","v":0},{"$f":"IFERROR($E93*SUMIF('Daily Log'!$K$18:$K$1017,$B93,'Daily Log'!$L$18:$L$1017),0)","v":4},{"$f":"IFERROR($E93*SUMIF('Daily Log'!$N$18:$N$1017,$B93,'Daily Log'!$O$18:$O$1017),0)","v":0},{"$f":"IFERROR($E93*SUMIF('Daily Log'!$Q$18:$Q$1017,$B93,'Daily Log'!$R$18:$R$1017),0)","v":0},{"$f":"IFERROR($E93*SUMIF('Daily Log'!$T$18:$T$1017,$B93,'Daily Log'!$U$18:$U$1017),0)","v":0},{"$f":"IFERROR($E93*SUMIF('Daily Log'!$W$18:$W$1017,$B93,'Daily Log'!$X$18:$X$1017),0)","v":0},{"$f":"IFERROR($E93*SUMIF('Daily Log'!$Z$18:$Z$1017,$B93,'Daily Log'!$AA$18:$AA$1017),0)","v":0},{"$f":"IFERROR($E93*SUMIF('Daily Log'!$AC$18:$AC$1017,$B93,'Daily Log'!$AD$18:$AD$1017),0)","v":0},{"$f":"IFERROR($E93*SUMIF('Daily Log'!$AF$18:$AF$1017,$B93,'Daily Log'!$AG$18:$AG$1017),0)","v":0},{"$f":"IFERROR($E93*SUMIF('Daily Log'!$AI$18:$AI$1017,$B93,'Daily Log'!$AJ$18:$AJ$1017),0)","v":0},{"$f":"IFERROR($E93*SUMIF('Daily Log'!$AL$18:$AL$1017,$B93,'Daily Log'!$AM$18:$AM$1017),0)","v":0},{"$f":"IFERROR($E93*SUMIF('Daily Log'!$AO$18:$AO$1017,$B93,'Daily Log'!$AP$18:$AP$1017),0)","v":0},{"$f":"IFERROR($E93*SUMIF('Daily Log'!$AR$18:$AR$1017,$B93,'Daily Log'!$AS$18:$AS$1017),0)","v":4},{"$f":"IFERROR($E93*SUMIF('Daily Log'!$AU$18:$AU$1017,$B93,'Daily Log'!$AV$18:$AV$1017),0)","v":0},{"$f":"IFERROR($E93*SUMIF('Daily Log'!$AX$18:$AX$1017,$B93,'Daily Log'!$AY$18:$AY$1017),0)","v":0},{"$f":"IFERROR($E93*SUMIF('Daily Log'!$BA$18:$BA$1017,$B93,'Daily Log'!$BB$18:$BB$1017),0)","v":0},{"$f":"IFERROR($E93*SUMIF('Daily Log'!$BD$18:$BD$1017,$B93,'Daily Log'!$BE$18:$BE$1017),0)","v":8},{"$f":"IFERROR($E93*SUMIF('Daily Log'!$BG$18:$BG$1017,$B93,'Daily Log'!$BH$18:$BH$1017),0)","v":0},{"$f":"IFERROR($E93*SUMIF('Daily Log'!$BJ$18:$BJ$1017,$B93,'Daily Log'!$BK$18:$BK$1017),0)","v":0},{"$f":"IFERROR($E93*SUMIF('Daily Log'!$BM$18:$BM$1017,$B93,'Daily Log'!$BN$18:$BN$1017),0)","v":0},{"$f":"IFERROR($E93*SUMIF('Daily Log'!$BP$18:$BP$1017,$B93,'Daily Log'!$BQ$18:$BQ$1017),0)","v":0},{"$f":"IFERROR($E93*SUMIF('Daily Log'!$BS$18:$BS$1017,$B93,'Daily Log'!$BT$18:$BT$1017),0)","v":0},{"$f":"IFERROR($E93*SUMIF('Daily Log'!$BV$18:$BV$1017,$B93,'Daily Log'!$BW$18:$BW$1017),0)","v":0},{"$f":"IFERROR($E93*SUMIF('Daily Log'!$BY$18:$BY$1017,$B93,'Daily Log'!$BZ$18:$BZ$1017),0)","v":0},{"$f":"IFERROR($E93*SUMIF('Daily Log'!$CB$18:$CB$1017,$B93,'Daily Log'!$CC$18:$CC$1017),0)","v":0},{"$f":"IFERROR($E93*SUMIF('Daily Log'!$CE$18:$CE$1017,$B93,'Daily Log'!$CF$18:$CF$1017),0)","v":0},{"$f":"IFERROR($E93*SUMIF('Daily Log'!$CH$18:$CH$1017,$B93,'Daily Log'!$CI$18:$CI$1017),0)","v":0},{"$f":"IFERROR($E93*SUMIF('Daily Log'!$CK$18:$CK$1017,$B93,'Daily Log'!$CL$18:$CL$1017),0)","v":0},{"$f":"IFERROR($E93*SUMIF('Daily Log'!$CN$18:$CN$1017,$B93,'Daily Log'!$CO$18:$CO$1017),0)","v":0}]
[null,"BN01 8201:HOE BTL",null,"BEER",1,1,{"$f":"IFERROR($E94*SUMIF('Daily Log'!$B$18:$B$1017,$B94,'Daily Log'!$C$18:$C$1017),0)","v":0},{"$f":"IFERROR($E94*SUMIF('Daily Log'!$E$18:$E$1017,$B94,'Daily Log'!$F$18:$F$1017),0)","v":0},{"$f":"IFERROR($E94*SUMIF('Daily Log'!$H$18:$H$1017,$B94,'Daily Log'!$I$18:$I$1017),0)","v":0},{"$f":"IFERROR($E94*SUMIF('Daily Log'!$K$18:$K$1017,$B94,'Daily Log'!$L$18:$L$1017),0)","v":0},{"$f":"IFERROR($E94*SUMIF('Daily Log'!$N$18:$N$1017,$B94,'Daily Log'!$O$18:$O$1017),0)","v":0},{"$f":"IFERROR($E94*SUMIF('Daily Log'!$Q$18:$Q$1017,$B94,'Daily Log'!$R$18:$R$1017),0)","v":0},{"$f":"IFERROR($E94*SUMIF('Daily Log'!$T$18:$T$1017,$B94,'Daily Log'!$U$18:$U$1017),0)","v":0},{"$f":"IFERROR($E94*SUMIF('Daily Log'!$W$18:$W$1017,$B94,'Daily Log'!$X$18:$X$1017),0)","v":0},{"$f":"IFERROR($E94*SUMIF('Daily Log'!$Z$18:$Z$1017,$B94,'Daily Log'!$AA$18:$AA$1017),0)","v":0},{"$f":"IFERROR($E94*SUMIF('Daily Log'!$AC$18:$AC$1017,$B94,'Daily Log'!$AD$18:$AD$1017),0)","v":0},{"$f":"IFERROR($E94*SUMIF('Daily Log'!$AF$18:$AF$1017,$B94,'Daily Log'!$AG$18:$AG$1017),0)","v":0},{"$f":"IFERROR($E94*SUMIF('Daily Log'!$AI$18:$AI$1017,$B94,'Daily Log'!$AJ$18:$AJ$1017),0)","v":0},{"$f":"IFERROR($E94*SUMIF('Daily Log'!$AL$18:$AL$1017,$B94,'Daily Log'!$AM$18:$AM$1017),0)","v":0},{"$f":"IFERROR($E94*SUMIF('Daily Log'!$AO$18:$AO$1017,$B94,'Daily Log'!$AP$18:$AP$1017),0)","v":0},{"$f":"IFERROR($E94*SUMIF('Daily Log'!$AR$18:$AR$1017,$B94,'Daily Log'!$AS$18:$AS$1017),0)","v":1},{"$f":"IFERROR($E94*SUMIF('Daily Log'!$AU$18:$AU$1017,$B94,'Daily Log'!$AV$18:$AV$1017),0)","v":0},{"$f":"IFERROR($E94*SUMIF('Daily Log'!$AX$18:$AX$1017,$B94,'Daily Log'!$AY$18:$AY$1017),0)","v":0},{"$f":"IFERROR($E94*SUMIF('Daily Log'!$BA$18:$BA$1017,$B94,'Daily Log'!$BB$18:$BB$1017),0)","v":0},{"$f":"IFERROR($E94*SUMIF('Daily Log'!$BD$18:$BD$1017,$B94,'Daily Log'!$BE$18:$BE$1017),0)","v":0},{"$f":"IFERROR($E94*SUMIF('Daily Log'!$BG$18:$BG$1017,$B94,'Daily Log'!$BH$18:$BH$1017),0)","v":0},{"$f":"IFERROR($E94*SUMIF('Daily Log'!$BJ$18:$BJ$1017,$B94,'Daily Log'!$BK$18:$BK$1017),0)","v":0},{"$f":"IFERROR($E94*SUMIF('Daily Log'!$BM$18:$BM$1017,$B94,'Daily Log'!$BN$18:$BN$1017),0)","v":0},{"$f":"IFERROR($E94*SUMIF('Daily Log'!$BP$18:$BP$1017,$B94,'Daily Log'!$BQ$18:$BQ$1017),0)","v":0},{"$f":"IFERROR($E94*SUMIF('Daily Log'!$BS$18:$BS$1017,$B94,'Daily Log'!$BT$18:$BT$1017),0)","v":0},{"$f":"IFERROR($E94*SUMIF('Daily Log'!$BV$18:$BV$1017,$B94,'Daily Log'!$BW$18:$BW$1017),0)","v":0},{"$f":"IFERROR($E94*SUMIF('Daily Log'!$BY$18:$BY$1017,$B94,'Daily Log'!$BZ$18:$BZ$1017),0)","v":0},{"$f":"IFERROR($E94*SUMIF('Daily Log'!$CB$18:$CB$1017,$B94,'Daily Log'!$CC$18:$CC$1017),0)","v":0},{"$f":"IFERROR($E94*SUMIF('Daily Log'!$CE$18:$CE$1017,$B94,'Daily Log'!$CF$18:$CF$1017),0)","v":0},{"$f":"IFERROR($E94*SUMIF('Daily Log'!$CH$18:$CH$1017,$B94,'Daily Log'!$CI$18:$CI$1017),0)","v":0},{"$f":"IFERROR($E94*SUMIF('Daily Log'!$CK$18:$CK$1017,$B94,'Daily Log'!$CL$18:$CL$1017),0)","v":0},{"$f":"IFERROR($E94*SUMIF('Daily Log'!$CN$18:$CN$1017,$B94,'Daily Log'!$CO$18:$CO$1017),0)","v":0}]
[null,"CN01 88201:HOE BTL",null,"BEER",1,{"$f":"SUM($G95:$AK95)","v":1},{"$f":"IFERROR($E95*SUMIF('Daily Log'!$B$18:$B$1017,$B95,'Daily Log'!$C$18:$C$1017),0)","v":0},{"$f":"IFERROR($E95*SUMIF('Daily Log'!$E$18:$E$1017,$B95,'Daily Log'!$F$18:$F$1017),0)","v":0},{"$f":"IFERROR($E95*SUMIF('Daily Log'!$H$18:$H$1017,$B95,'Daily Log'!$I$18:$I$1017),0)","v":0},{"$f":"IFERROR($E95*SUMIF('Daily Log'!$K$18:$K$1017,$B95,'Daily Log'!$L$18:$L$1017),0)","v":0},{"$f":"IFERROR($E95*SUMIF('Daily Log'!$N$18:$N$1017,$B95,'Daily Log'!$O$18:$O$1017),0)","v":0},{"$f":"IFERROR($E95*SUMIF('Daily Log'!$Q$18:$Q$1017,$B95,'Daily Log'!$R$18:$R$1017),0)","v":0},{"$f":"IFERROR($E95*SUMIF('Daily Log'!$T$18:$T$1017,$B95,'Daily Log'!$U$18:$U$1017),0)","v":0},{"$f":"IFERROR($E95*SUMIF('Daily Log'!$W$18:$W$1017,$B95,'Daily Log'!$X$18:$X$1017),0)","v":0},{"$f":"IFERROR($E95*SUMIF('Daily Log'!$Z$18:$Z$1017,$B95,'Daily Log'!$AA$18:$AA$1017),0)","v":0},{"$f":"IFERROR($E95*SUMIF('Daily Log'!$AC$18:$AC$1017,$B95,'Daily Log'!$AD$18:$AD$1017),0)","v":0},{"$f":"IFERROR($E95*SUMIF('Daily Log'!$AF$18:$AF$1017,$B95,'Daily Log'!$AG$18:$AG$1017),0)","v":0},{"$f":"IFERROR($E95*SUMIF('Daily Log'!$AI$18:$AI$1017,$B95,'Daily Log'!$AJ$18:$AJ$1017),0)","v":1},{"$f":"IFERROR($E95*SUMIF('Daily Log'!$AL$18:$AL$1017,$B95,'Daily Log'!$AM$18:$AM$1017),0)","v":0},{"$f":"IFERROR($E95*SUMIF('Daily Log'!$AO$18:$AO$1017,$B95,'Daily Log'!$AP$18:$AP$1017),0)","v":0},{"$f":"IFERROR($E95*SUMIF('Daily Log'!$AR$18:$AR$1017,$B95,'Daily Log'!$AS$18:$AS$1017),0)","v":0},{"$f":"IFERROR($E95*SUMIF('Daily Log'!$AU$18:$AU$1017,$B95,'Daily Log'!$AV$18:$AV$1017),0)","v":0},{"$f":"IFERROR($E95*SUMIF('Daily Log'!$AX$18:$AX$1017,$B95,'Daily Log'!$AY$18:$AY$1017),0)","v":0},{"$f":"IFERROR($E95*SUMIF('Daily Log'!$BA$18:$BA$1017,$B95,'Daily Log'!$BB$18:$BB$1017),0)","v":0},{"$f":"IFERROR($E95*SUMIF('Daily Log'!$BD$18:$BD$1017,$B95,'Daily Log'!$BE$18:$BE$1017),0)","v":0},{"$f":"IFERROR($E95*SUMIF('Daily Log'!$BG$18:$BG$1017,$B95,'Daily Log'!$BH$18:$BH$1017),0)","v":0},{"$f":"IFERROR($E95*SUMIF('Daily Log'!$BJ$18:$BJ$1017,$B95,'Daily Log'!$BK$18:$BK$1017),0)","v":0},{"$f":"IFERROR($E95*SUMIF('Daily Log'!$BM$18:$BM$1017,$B95,'Daily Log'!$BN$18:$BN$1017),0)","v":0},{"$f":"IFERROR($E95*SUMIF('Daily Log'!$BP$18:$BP$1017,$B95,'Daily Log'!$BQ$18:$BQ$1017),0)","v":0},{"$f":"IFERROR($E95*SUMIF('Daily Log'!$BS$18:$BS$1017,$B95,'Daily Log'!$BT$18:$BT$1017),0)","v":0},{"$f":"IFERROR($E95*SUMIF('Daily Log'!$BV$18:$BV$1017,$B95,'Daily Log'!$BW$18:$BW$1017),0)","v":0},{"$f":"IFERROR($E95*SUMIF('Daily Log'!$BY$18:$BY$1017,$B95,'Daily Log'!$BZ$18:$BZ$1017),0)","v":0},{"$f":"IFERROR($E95*SUMIF('Daily Log'!$CB$18:$CB$1017,$B95,'Daily Log'!$CC$18:$CC$1017),0)","v":0},{"$f":"IFERROR($E95*SUMIF('Daily Log'!$CE$18:$CE$1017,$B95,'Daily Log'!$CF$18:$CF$1017),0)","v":0},{"$f":"IFERROR($E95*SUMIF('Daily Log'!$CH$18:$CH$1017,$B95,'Daily Log'!$CI$18:$CI$1017),0)","v":0},{"$f":"IFERROR($E95*SUMIF('Daily Log'!$CK$18:$CK$1017,$B95,'Daily Log'!$CL$18:$CL$1017),0)","v":0},{"$f":"IFERROR($E95*SUMIF('Daily Log'!$CN$18:$CN$1017,$B95,'Daily Log'!$CO$18:$CO$1017),0)","v":0}]
[null,"CN02 88202:HOE BKT",null,"BEER",4,{"$f":"SUM($G96:$AK96)","v":4},null,null,null,null,null,null,null,null,null,null,null,null,null,null,null,null,null,null,null,null,null,null,{"$f":"IFERROR($E96*SUMIF('Daily Log'!$BP$18:$BP$1017,$B96,'Daily Log'!$BQ$18:$BQ$1017),0)","v":0},{"$f":"IFERROR($E96*SUMIF('Daily Log'!$BS$18:$BS$1017,$B96,'Daily Log'!$BT$18:$BT$1017),0)","v":0},{"$f":"IFERROR($E96*SUMIF('Daily Log'!$BV$18:$BV$1017,$B96,'Daily Log'!$BW$18:$BW$1017),0)","v":0},{"$f":"IFERROR($E96*SUMIF('Daily Log'!$BY$18:$BY$1017,$B96,'Daily Log'!$BZ$18:$BZ$1017),0)","v":4},{"$f":"IFERROR($E96*SUMIF('Daily Log'!$CB$18:$CB$1017,$B96,'Daily Log'!$CC$18:$CC$1017),0)","v":0},{"$f":"IFERROR($E96*SUMIF('Daily Log'!$CE$18:$CE$1017,$B96,'Daily Log'!$CF$18:$CF$1017),0)","v":0},{"$f":"IFERROR($E96*SUMIF('Daily Log'!$CH$18:$CH$1017,$B96,'Daily Log'!$CI$18:$CI$1017),0)","v":0},{"$f":"IFERROR($E96*SUMIF('Daily Log'!$CK$18:$CK$1017,$B96,'Daily Log'!$CL$18:$CL$1017),0)","v":0},{"$f":"IFERROR($E96*SUMIF('Daily Log'!$CN$18:$CN$1017,$B96,'Daily Log'!$CO$18:$CO$1017),0)","v":0}]
[null,"HOEGAARDEN BEER TOTAL",null,"BEER",null,{"$f":"SUM($G97:$AK97)","v":22},{"$f":"SUM(G93:G95)","v":0},{"$f":"SUM(H93:H95)","v":0},0,4,0,0,0,0,0,0,0,1,0,{"$f":"SUM(T93:T95)","v":0},5,0,0,0,8,0,0,0,{"$f":"SUM(AC93:AC96)","v":0},{"$f":"SUM(AD93:AD96)","v":0},0,4,0,0,0,0,0]
[null,"BY01 8001:SOME BTL",null,"BEER",1,6,{"$f":"IFERROR($E98*SUMIF('Daily Log'!$B$18:$B$1017,$B98,'Daily Log'!$C$18:$C$1017),0)","v":0},{"$f":"IFERROR($E98*SUMIF('Daily Log'!$E$18:$E$1017,$B98,'Daily Log'!$F$18:$F$1017),0)","v":0},{"$f":"IFERROR($E98*SUMIF('Daily Log'!$H$18:$H$1017,$B98,'Daily Log'!$I$18:$I$1017),0)","v":0},{"$f":"IFERROR($E98*SUMIF('Daily Log'!$K$18:$K$1017,$B98,'Daily Log'!$L$18:$L$1017),0)","v":0},{"$f":"IFERROR($E98*SUMIF('Daily Log'!$N$18:$N$1017,$B98,'Daily Log'!$O$18:$O$1017),0)","v":1},{"$f":"IFERROR($E98*SUMIF('Daily Log'!$Q$18:$Q$1017,$B98,'Daily Log'!$R$18:$R$1017),0)","v":0},{"$f":"IFERROR($E98*SUMIF('Daily Log'!$T$18:$T$1017,$B98,'Daily Log'!$U$18:$U$1017),0)","v":1},{"$f":"IFERROR($E98*SUMIF('Daily Log'!$W$18:$W$1017,$B98,'Daily Log'!$X$18:$X$1017),0)","v":0},{"$f":"IFERROR($E98*SUMIF('Daily Log'!$Z$18:$Z$1017,$B98,'Daily Log'!$AA$18:$AA$1017),0)","v":0},{"$f":"IFERROR($E98*SUMIF('Daily Log'!$AC$18:$AC$1017,$B98,'Daily Log'!$AD$18:$AD$1017),0)","v":0},{"$f":"IFERROR($E98*SUMIF('Daily Log'!$AF$18:$AF$1017,$B98,'Daily Log'!$AG$18:$AG$1017),0)","v":0},{"$f":"IFERROR($E98*SUMIF('Daily Log'!$AI$18:$AI$1017,$B98,'Daily Log'!$AJ$18:$AJ$1017),0)","v":0},{"$f":"IFERROR($E98*SUMIF('Daily Log'!$AL$18:$AL$1017,$B98,'Daily Log'!$AM$18:$AM$1017),0)","v":0},{"$f":"IFERROR($E98*SUMIF('Daily Log'!$AO$18:$AO$1017,$B98,'Daily Log'!$AP$18:$AP$1017),0)","v":0},{"$f":"IFERROR($E98*SUMIF('Daily Log'!$AR$18:$AR$1017,$B98,'Daily Log'!$AS$18:$AS$1017),0)","v":0},{"$f":"IFERROR($E98*SUMIF('Daily Log'!$AU$18:$AU$1017,$B98,'Daily Log'!$AV$18:$AV$1017),0)","v":0},{"$f":"IFERROR($E98*SUMIF('Daily Log'!$AX$18:$AX$1017,$B98,'Daily Log'!$AY$18:$AY$1017),0)","v":1},{"$f":"IFERROR($E98*SUMIF('Daily Log'!$BA$18:$BA$1017,$B98,'Daily Log'!$BB$18:$BB$1017),0)","v":0},{"$f":"IFERROR($E98*SUMIF('Daily Log'!$BD$18:$BD$1017,$B98,'Daily Log'!$BE$18:$BE$1017),0)","v":0},{"$f":"IFERROR($E98*SUMIF('Daily Log'!$BG$18:$BG$1017,$B98,'Daily Log'!$BH$18:$BH$1017),0)","v":0},{"$f":"IFERROR($E98*SUMIF('Daily Log'!$BJ$18:$BJ$1017,$B98,'Daily Log'!$BK$18:$BK$1017),0)","v":0},{"$f":"IFERROR($E98*SUMIF('Daily Log'!$BM$18:$BM$1017,$B98,'Daily Log'!$BN$18:$BN$1017),0)","v":0},{"$f":"IFERROR($E98*SUMIF('Daily Log'!$BP$18:$BP$1017,$B98,'Daily Log'!$BQ$18:$BQ$1017),0)","v":0},{"$f":"IFERROR($E98*SUMIF('Daily Log'!$BS$18:$BS$1017,$B98,'Daily Log'!$BT$18:$BT$1017),0)","v":0},{"$f":"IFERROR($E98*SUMIF('Daily Log'!$BV$18:$BV$1017,$B98,'Daily Log'!$BW$18:$BW$1017),0)","v":2},{"$f":"IFERROR($E98*SUMIF('Daily Log'!$BY$18:$BY$1017,$B98,'Daily Log'!$BZ$18:$BZ$1017),0)","v":0},{"$f":"IFERROR($E98*SUMIF('Daily Log'!$CB$18:$CB$1017,$B98,'Daily Log'!$CC$18:$CC$1017),0)","v":1},{"$f":"IFERROR($E98*SUMIF('Daily Log'!$CE$18:$CE$1017,$B98,'Daily Log'!$CF$18:$CF$1017),0)","v":0},{"$f":"IFERROR($E98*SUMIF('Daily Log'!$CH$18:$CH$1017,$B98,'Daily Log'!$CI$18:$CI$1017),0)","v":0},{"$f":"IFERROR($E98*SUMIF('Daily Log'!$CK$18:$CK$1017,$B98,'Daily Log'!$CL$18:$CL$1017),0)","v":0},{"$f":"IFERROR($E98*SUMIF('Daily Log'!$CN$18:$CN$1017,$B98,'Daily Log'!$CO$18:$CO$1017),0)","v":0}]
[null,"BY02 8002:SOME BKT",null,"BEER",4,36,{"$f":"IFERROR($E99*SUMIF('Daily Log'!$B$18:$B$1017,$B99,'Daily Log'!$C$18:$C$1017),0)","v":0},{"$f":"IFERROR($E99*SUMIF('Daily Log'!$E$18:$E$1017,$B99,'Daily Log'!$F$18:$F$1017),0)","v":0},{"$f":"IFERROR($E99*SUMIF('Daily Log'!$H$18:$H$1017,$B99,'Daily Log'!$I$18:$I$1017),0)","v":0},{"$f":"IFERROR($E99*SUMIF('Daily Log'!$K$18:$K$1017,$B99,'Daily Log'!$L$18:$L$1017),0)","v":4},{"$f":"IFERROR($E99*SUMIF('Daily Log'!$N$18:$N$1017,$B99,'Daily Log'!$O$18:$O$1017),0)","v":4},{"$f":"IFERROR($E99*SUMIF('Daily Log'!$Q$18:$Q$1017,$B99,'Daily Log'!$R$18:$R$1017),0)","v":4},{"$f":"IFERROR($E99*SUMIF('Daily Log'!$T$18:$T$1017,$B99,'Daily Log'!$U$18:$U$1017),0)","v":0},{"$f":"IFERROR($E99*SUMIF('Daily Log'!$W$18:$W$1017,$B99,'Daily Log'!$X$18:$X$1017),0)","v":4},{"$f":"IFERROR($E99*SUMIF('Daily Log'!$Z$18:$Z$1017,$B99,'Daily Log'!$AA$18:$AA$1017),0)","v":0},{"$f":"IFERROR($E99*SUMIF('Daily Log'!$AC$18:$AC$1017,$B99,'Daily Log'!$AD$18:$AD$1017),0)","v":0},{"$f":"IFERROR($E99*SUMIF('Daily Log'!$AF$18:$AF$1017,$B99,'Daily Log'!$AG$18:$AG$1017),0)","v":0},{"$f":"IFERROR($E99*SUMIF('Daily Log'!$AI$18:$AI$1017,$B99,'Daily Log'!$AJ$18:$AJ$1017),0)","v":0},{"$f":"IFERROR($E99*SUMIF('Daily Log'!$AL$18:$AL$1017,$B99,'Daily Log'!$AM$18:$AM$1017),0)","v":4},{"$f":"IFERROR($E99*SUMIF('Daily Log'!$AO$18:$AO$1017,$B99,'Daily Log'!$AP$18:$AP$1017),0)","v":0},{"$f":"IFERROR($E99*SUMIF('Daily Log'!$AR$18:$AR$1017,$B99,'Daily Log'!$AS$18:$AS$1017),0)","v":0},{"$f":"IFERROR($E99*SUMIF('Daily Log'!$AU$18:$AU$1017,$B99,'Daily Log'!$AV$18:$AV$1017),0)","v":4},{"$f":"IFERROR($E99*SUMIF('Daily Log'!$AX$18:$AX$1017,$B99,'Daily Log'!$AY$18:$AY$1017),0)","v":0},{"$f":"IFERROR($E99*SUMIF('Daily Log'!$BA$18:$BA$1017,$B99,'Daily Log'!$BB$18:$BB$1017),0)","v":0},{"$f":"IFERROR($E99*SUMIF('Daily Log'!$BD$18:$BD$1017,$B99,'Daily Log'!$BE$18:$BE$1017),0)","v":0},{"$f":"IFERROR($E99*SUMIF('Daily Log'!$BG$18:$BG$1017,$B99,'Daily Log'!$BH$18:$BH$1017),0)","v":0},{"$f":"IFERROR($E99*SUMIF('Daily Log'!$BJ$18:$BJ$1017,$B99,'Daily Log'!$BK$18:$BK$1017),0)","v":0},{"$f":"IFERROR($E99*SUMIF('Daily Log'!$BM$18:$BM$1017,$B99,'Daily Log'!$BN$18:$BN$1017),0)","v":0},{"$f":"IFERROR($E99*SUMIF('Daily Log'!$BP$18:$BP$1017,$B99,'Daily Log'!$BQ$18:$BQ$1017),0)","v":0},{"$f":"IFERROR($E99*SUMIF('Daily Log'!$BS$18:$BS$1017,$B99,'Daily Log'!$BT$18:$BT$1017),0)","v":0},{"$f":"IFERROR($E99*SUMIF('Daily Log'!$BV$18:$BV$1017,$B99,'Daily Log'!$BW$18:$BW$1017),0)","v":4},{"$f":"IFERROR($E99*SUMIF('Daily Log'!$BY$18:$BY$1017,$B99,'Daily Log'!$BZ$18:$BZ$1017),0)","v":0},{"$f":"IFERROR($E99*SUMIF('Daily Log'!$CB$18:$CB$1017,$B99,'Daily Log'!$CC$18:$CC$1017),0)","v":0},{"$f":"IFERROR($E99*SUMIF('Daily Log'!$CE$18:$CE$1017,$B99,'Daily Log'!$CF$18:$CF$1017),0)","v":4},{"$f":"IFERROR($E99*SUMIF('Daily Log'!$CH$18:$CH$1017,$B99,'Daily Log'!$CI$18:$CI$1017),0)","v":4},{"$f":"IFERROR($E99*SUMIF('Daily Log'!$CK$18:$CK$1017,$B99,'Daily Log'!$CL$18:$CL$1017),0)","v":0},{"$f":"IFERROR($E99*SUMIF('Daily Log'!$CN$18:$CN$1017,$B99,'Daily Log'!$CO$18:$CO$1017),0)","v":0}]
[null,"CY01 88001:SOME BTL",null,"BEER",1,{"$f":"SUM($G100:$AK100)","v":8},{"$f":"IFERROR($E100*SUMIF('Daily Log'!$B$18:$B$1017,$B100,'Daily Log'!$C$18:$C$1017),0)","v":0},{"$f":"IFERROR($E100*SUMIF('Daily Log'!$E$18:$E$1017,$B100,'Daily Log'!$F$18:$F$1017),0)","v":0},{"$f":"IFERROR($E100*SUMIF('Daily Log'!$H$18:$H$1017,$B100,'Daily Log'!$I$18:$I$1017),0)","v":2},{"$f":"IFERROR($E100*SUMIF('Daily Log'!$K$18:$K$1017,$B100,'Daily Log'!$L$18:$L$1017),0)","v":0},{"$f":"IFERROR($E100*SUMIF('Daily Log'!$N$18:$N$1017,$B100,'Daily Log'!$O$18:$O$1017),0)","v":0},{"$f":"IFERROR($E100*SUMIF('Daily Log'!$Q$18:$Q$1017,$B100,'Daily Log'!$R$18:$R$1017),0)","v":0},{"$f":"IFERROR($E100*SUMIF('Daily Log'!$T$18:$T$1017,$B100,'Daily Log'!$U$18:$U$1017),0)","v":0},{"$f":"IFERROR($E100*SUMIF('Daily Log'!$W$18:$W$1017,$B100,'Daily Log'!$X$18:$X$1017),0)","v":1},{"$f":"IFERROR($E100*SUMIF('Daily Log'!$Z$18:$Z$1017,$B100,'Daily Log'!$AA$18:$AA$1017),0)","v":1},{"$f":"IFERROR($E100*SUMIF('Daily Log'!$AC$18:$AC$1017,$B100,'Daily Log'!$AD$18:$AD$1017),0)","v":0},{"$f":"IFERROR($E100*SUMIF('Daily Log'!$AF$18:$AF$1017,$B100,'Daily Log'!$AG$18:$AG$1017),0)","v":1},{"$f":"IFERROR($E100*SUMIF('Daily Log'!$AI$18:$AI$1017,$B100,'Daily Log'!$AJ$18:$AJ$1017),0)","v":0},{"$f":"IFERROR($E100*SUMIF('Daily Log'!$AL$18:$AL$1017,$B100,'Daily Log'!$AM$18:$AM$1017),0)","v":0},{"$f":"IFERROR($E100*SUMIF('Daily Log'!$AO$18:$AO$1017,$B100,'Daily Log'!$AP$18:$AP$1017),0)","v":0},{"$f":"IFERROR($E100*SUMIF('Daily Log'!$AR$18:$AR$1017,$B100,'Daily Log'!$AS$18:$AS$1017),0)","v":0},{"$f":"IFERROR($E100*SUMIF('Daily Log'!$AU$18:$AU$1017,$B100,'Daily Log'!$AV$18:$AV$1017),0)","v":0},{"$f":"IFERROR($E100*SUMIF('Daily Log'!$AX$18:$AX$1017,$B100,'Daily Log'!$AY$18:$AY$1017),0)","v":0},{"$f":"IFERROR($E100*SUMIF('Daily Log'!$BA$18:$BA$1017,$B100,'Daily Log'!$BB$18:$BB$1017),0)","v":0},{"$f":"IFERROR($E100*SUMIF('Daily Log'!$BD$18:$BD$1017,$B100,'Daily Log'!$BE$18:$BE$1017),0)","v":0},{"$f":"IFERROR($E100*SUMIF('Daily Log'!$BG$18:$BG$1017,$B100,'Daily Log'!$BH$18:$BH$1017),0)","v":0},{"$f":"IFERROR($E100*SUMIF('Daily Log'!$BJ$18:$BJ$1017,$B100,'Daily Log'!$BK$18:$BK$1017),0)","v":0},{"$f":"IFERROR($E100*SUMIF('Daily Log'!$BM$18:$BM$1017,$B100,'Daily Log'!$BN$18:$BN$1017),0)","v":0},{"$f":"IFERROR($E100*SUMIF('Daily Log'!$BP$18:$BP$1017,$B100,'Daily Log'!$BQ$18:$BQ$1017),0)","v":0},{"$f":"IFERROR($E100*SUMIF('Daily Log'!$BS$18:$BS$1017,$B100,'Daily Log'!$BT$18:$BT$1017),0)","v":0},{"$f":"IFERROR($E100*SUMIF('Daily Log'!$BV$18:$BV$1017,$B100,'Daily Log'!$BW$18:$BW$1017),0)","v":0},{"$f":"IFERROR($E100*SUMIF('Daily Log'!$BY$18:$BY$1017,$B100,'Daily Log'!$BZ$18:$BZ$1017),0)","v":3},{"$f":"IFERROR($E100*SUMIF('Daily Log'!$CB$18:$CB$1017,$B100,'Daily Log'!$CC$18:$CC$1017),0)","v":0},{"$f":"IFERROR($E100*SUMIF('Daily Log'!$CE$18:$CE$1017,$B100,'Daily Log'!$CF$18:$CF$1017),0)","v":0},{"$f":"IFERROR($E100*SUMIF('Daily Log'!$CH$18:$CH$1017,$B100,'Daily Log'!$CI$18:$CI$1017),0)","v":0},{"$f":"IFERROR($E100*SUMIF('Daily Log'!$CK$18:$CK$1017,$B100,'Daily Log'!$CL$18:$CL$1017),0)","v":0},{"$f":"IFERROR($E100*SUMIF('Daily Log'!$CN$18:$CN$1017,$B100,'Daily Log'!$CO$18:$CO$1017),0)","v":0}]
[null,"CY02 88002:SOME BKT",null,"BEER",4,{"$f":"SUM($G101:$AK101)","v":32},{"$f":"IFERROR($E101*SUMIF('Daily Log'!$B$18:$B$1017,$B101,'Daily Log'!$C$18:$C$1017),0)","v":4},{"$f":"IFERROR($E101*SUMIF('Daily Log'!$E$18:$E$1017,$B101,'Daily Log'!$F$18:$F$1017),0)","v":0},{"$f":"IFERROR($E101*SUMIF('Daily Log'!$H$18:$H$1017,$B101,'Daily Log'!$I$18:$I$1017),0)","v":0},{"$f":"IFERROR($E101*SUMIF('Daily Log'!$K$18:$K$1017,$B101,'Daily Log'!$L$18:$L$1017),0)","v":0},{"$f":"IFERROR($E101*SUMIF('Daily Log'!$N$18:$N$1017,$B101,'Daily Log'!$O$18:$O$1017),0)","v":4},{"$f":"IFERROR($E101*SUMIF('Daily Log'!$Q$18:$Q$1017,$B101,'Daily Log'!$R$18:$R$1017),0)","v":0},{"$f":"IFERROR($E101*SUMIF('Daily Log'!$T$18:$T$1017,$B101,'Daily Log'!$U$18:$U$1017),0)","v":0},{"$f":"IFERROR($E101*SUMIF('Daily Log'!$W$18:$W$1017,$B101,'Daily Log'!$X$18:$X$1017),0)","v":0},{"$f":"IFERROR($E101*SUMIF('Daily Log'!$Z$18:$Z$1017,$B101,'Daily Log'!$AA$18:$AA$1017),0)","v":0},{"$f":"IFERROR($E101*SUMIF('Daily Log'!$AC$18:$AC$1017,$B101,'Daily Log'!$AD$18:$AD$1017),0)","v":4},{"$f":"IFERROR($E101*SUMIF('Daily Log'!$AF$18:$AF$1017,$B101,'Daily Log'!$AG$18:$AG$1017),0)","v":8},{"$f":"IFERROR($E101*SUMIF('Daily Log'!$AI$18:$AI$1017,$B101,'Daily Log'!$AJ$18:$AJ$1017),0)","v":0},{"$f":"IFERROR($E101*SUMIF('Daily Log'!$AL$18:$AL$1017,$B101,'Daily Log'!$AM$18:$AM$1017),0)","v":0},{"$f":"IFERROR($E101*SUMIF('Daily Log'!$AO$18:$AO$1017,$B101,'Daily Log'!$AP$18:$AP$1017),0)","v":4},{"$f":"IFERROR($E101*SUMIF('Daily Log'!$AR$18:$AR$1017,$B101,'Daily Log'!$AS$18:$AS$1017),0)","v":0},{"$f":"IFERROR($E101*SUMIF('Daily Log'!$AU$18:$AU$1017,$B101,'Daily Log'!$AV$18:$AV$1017),0)","v":0},{"$f":"IFERROR($E101*SUMIF('Daily Log'!$AX$18:$AX$1017,$B101,'Daily Log'!$AY$18:$AY$1017),0)","v":8},{"$f":"IFERROR($E101*SUMIF('Daily Log'!$BA$18:$BA$1017,$B101,'Daily Log'!$BB$18:$BB$1017),0)","v":0},{"$f":"IFERROR($E101*SUMIF('Daily Log'!$BD$18:$BD$1017,$B101,'Daily Log'!$BE$18:$BE$1017),0)","v":0},{"$f":"IFERROR($E101*SUMIF('Daily Log'!$BG$18:$BG$1017,$B101,'Daily Log'!$BH$18:$BH$1017),0)","v":0},{"$f":"IFERROR($E101*SUMIF('Daily Log'!$BJ$18:$BJ$1017,$B101,'Daily Log'!$BK$18:$BK$1017),0)","v":0},{"$f":"IFERROR($E101*SUMIF('Daily Log'!$BM$18:$BM$1017,$B101,'Daily Log'!$BN$18:$BN$1017),0)","v":0},{"$f":"IFERROR($E101*SUMIF('Daily Log'!$BP$18:$BP$1017,$B101,'Daily Log'!$BQ$18:$BQ$1017),0)","v":0},{"$f":"IFERROR($E101*SUMIF('Daily Log'!$BS$18:$BS$1017,$B101,'Daily Log'!$BT$18:$BT$1017),0)","v":0},{"$f":"IFERROR($E101*SUMIF('Daily Log'!$BV$18:$BV$1017,$B101,'Daily Log'!$BW$18:$BW$1017),0)","v":0},{"$f":"IFERROR($E101*SUMIF('Daily Log'!$BY$18:$BY$1017,$B101,'Daily Log'!$BZ$18:$BZ$1017),0)","v":0},{"$f":"IFERROR($E101*SUMIF('Daily Log'!$CB$18:$CB$1017,$B101,'Daily Log'!$CC$18:$CC$1017),0)","v":0},{"$f":"IFERROR($E101*SUMIF('Daily Log'!$CE$18:$CE$1017,$B101,'Daily Log'!$CF$18:$CF$1017),0)","v":0},{"$f":"IFERROR($E101*SUMIF('Daily Log'!$CH$18:$CH$1017,$B101,'Daily Log'!$CI$18:$CI$1017),0)","v":0},{"$f":"IFERROR($E101*SUMIF('Daily Log'!$CK$18:$CK$1017,$B101,'Daily Log'!$CL$18:$CL$1017),0)","v":0},{"$f":"IFERROR($E101*SUMIF('Daily Log'!$CN$18:$CN$1017,$B101,'Daily Log'!$CO$18:$CO$1017),0)","v":0}]
[null,"APPLE CIDER  BEER TOTAL",null,"BEER",null,{"$f":"SUM($G102:$AK102)","v":82},{"$f":"SUM(G98:G101)","v":4},{"$f":"SUM(H98:H101)","v":0},2,4,9,4,1,5,1,4,9,0,4,4,{"$f":"SUM(U98:U101)","v":0},4,9,0,0,0,0,0,0,0,6,3,1,4,4,0,0]
[null,"CK01 88101:STRONG BTL",null,"BEER",1,1,{"$f":"IFERROR($E103*SUMIF('Daily Log'!$B$18:$B$1017,$B103,'Daily Log'!$C$18:$C$1017),0)","v":0},{"$f":"IFERROR($E103*SUMIF('Daily Log'!$E$18:$E$1017,$B103,'Daily Log'!$F$18:$F$1017),0)","v":0},{"$f":"IFERROR($E103*SUMIF('Daily Log'!$H$18:$H$1017,$B103,'Daily Log'!$I$18:$I$1017),0)","v":1},{"$f":"IFERROR($E103*SUMIF('Daily Log'!$K$18:$K$1017,$B103,'Daily Log'!$L$18:$L$1017),0)","v":0},{"$f":"IFERROR($E103*SUMIF('Daily Log'!$N$18:$N$1017,$B103,'Daily Log'!$O$18:$O$1017),0)","v":0},{"$f":"IFERROR($E103*SUMIF('Daily Log'!$Q$18:$Q$1017,$B103,'Daily Log'!$R$18:$R$1017),0)","v":0},{"$f":"IFERROR($E103*SUMIF('Daily Log'!$T$18:$T$1017,$B103,'Daily Log'!$U$18:$U$1017),0)","v":0},{"$f":"IFERROR($E103*SUMIF('Daily Log'!$W$18:$W$1017,$B103,'Daily Log'!$X$18:$X$1017),0)","v":0},{"$f":"IFERROR($E103*SUMIF('Daily Log'!$Z$18:$Z$1017,$B103,'Daily Log'!$AA$18:$AA$1017),0)","v":0},{"$f":"IFERROR($E103*SUMIF('Daily Log'!$AC$18:$AC$1017,$B103,'Daily Log'!$AD$18:$AD$1017),0)","v":0},{"$f":"IFERROR($E103*SUMIF('Daily Log'!$AF$18:$AF$1017,$B103,'Daily Log'!$AG$18:$AG$1017),0)","v":0},{"$f":"IFERROR($E103*SUMIF('Daily Log'!$AI$18:$AI$1017,$B103,'Daily Log'!$AJ$18:$AJ$1017),0)","v":0},{"$f":"IFERROR($E103*SUMIF('Daily Log'!$AL$18:$AL$1017,$B103,'Daily Log'!$AM$18:$AM$1017),0)","v":0},{"$f":"IFERROR($E103*SUMIF('Daily Log'!$AO$18:$AO$1017,$B103,'Daily Log'!$AP$18:$AP$1017),0)","v":0},{"$f":"IFERROR($E103*SUMIF('Daily Log'!$AR$18:$AR$1017,$B103,'Daily Log'!$AS$18:$AS$1017),0)","v":0},{"$f":"IFERROR($E103*SUMIF('Daily Log'!$AU$18:$AU$1017,$B103,'Daily Log'!$AV$18:$AV$1017),0)","v":0},{"$f":"IFERROR($E103*SUMIF('Daily Log'!$AX$18:$AX$1017,$B103,'Daily Log'!$AY$18:$AY$1017),0)","v":0},{"$f":"IFERROR($E103*SUMIF('Daily Log'!$BA$18:$BA$1017,$B103,'Daily Log'!$BB$18:$BB$1017),0)","v":0},{"$f":"IFERROR($E103*SUMIF('Daily Log'!$BD$18:$BD$1017,$B103,'Daily Log'!$BE$18:$BE$1017),0)","v":0},{"$f":"IFERROR($E103*SUMIF('Daily Log'!$BG$18:$BG$1017,$B103,'Daily Log'!$BH$18:$BH$1017),0)","v":0},{"$f":"IFERROR($E103*SUMIF('Daily Log'!$BJ$18:$BJ$1017,$B103,'Daily Log'!$BK$18:$BK$1017),0)","v":0},{"$f":"IFERROR($E103*SUMIF('Daily Log'!$BM$18:$BM$1017,$B103,'Daily Log'!$BN$18:$BN$1017),0)","v":0},{"$f":"IFERROR($E103*SUMIF('Daily Log'!$BP$18:$BP$1017,$B103,'Daily Log'!$BQ$18:$BQ$1017),0)","v":0},{"$f":"IFERROR($E103*SUMIF('Daily Log'!$BS$18:$BS$1017,$B103,'Daily Log'!$BT$18:$BT$1017),0)","v":0},{"$f":"IFERROR($E103*SUMIF('Daily Log'!$BV$18:$BV$1017,$B103,'Daily Log'!$BW$18:$BW$1017),0)","v":0},{"$f":"IFERROR($E103*SUMIF('Daily Log'!$BY$18:$BY$1017,$B103,'Daily Log'!$BZ$18:$BZ$1017),0)","v":0},{"$f":"IFERROR($E103*SUMIF('Daily Log'!$CB$18:$CB$1017,$B103,'Daily Log'!$CC$18:$CC$1017),0)","v":0},{"$f":"IFERROR($E103*SUMIF('Daily Log'!$CE$18:$CE$1017,$B103,'Daily Log'!$CF$18:$CF$1017),0)","v":0},{"$f":"IFERROR($E103*SUMIF('Daily Log'!$CH$18:$CH$1017,$B103,'Daily Log'!$CI$18:$CI$1017),0)","v":0},{"$f":"IFERROR($E103*SUMIF('Daily Log'!$CK$18:$CK$1017,$B103,'Daily Log'!$CL$18:$CL$1017),0)","v":0},{"$f":"IFERROR($E103*SUMIF('Daily Log'!$CN$18:$CN$1017,$B103,'Daily Log'!$CO$18:$CO$1017),0)","v":0}]
[null,"CK02 88102:STRONG BKT",null,"BEER",4,0,{"$f":"IFERROR($E104*SUMIF('Daily Log'!$B$18:$B$1017,$B104,'Daily Log'!$C$18:$C$1017),0)","v":0},{"$f":"IFERROR($E104*SUMIF('Daily Log'!$E$18:$E$1017,$B104,'Daily Log'!$F$18:$F$1017),0)","v":0},{"$f":"IFERROR($E104*SUMIF('Daily Log'!$H$18:$H$1017,$B104,'Daily Log'!$I$18:$I$1017),0)","v":0},{"$f":"IFERROR($E104*SUMIF('Daily Log'!$K$18:$K$1017,$B104,'Daily Log'!$L$18:$L$1017),0)","v":0},{"$f":"IFERROR($E104*SUMIF('Daily Log'!$N$18:$N$1017,$B104,'Daily Log'!$O$18:$O$1017),0)","v":0},{"$f":"IFERROR($E104*SUMIF('Daily Log'!$Q$18:$Q$1017,$B104,'Daily Log'!$R$18:$R$1017),0)","v":0},{"$f":"IFERROR($E104*SUMIF('Daily Log'!$T$18:$T$1017,$B104,'Daily Log'!$U$18:$U$1017),0)","v":0},{"$f":"IFERROR($E104*SUMIF('Daily Log'!$W$18:$W$1017,$B104,'Daily Log'!$X$18:$X$1017),0)","v":0},{"$f":"IFERROR($E104*SUMIF('Daily Log'!$Z$18:$Z$1017,$B104,'Daily Log'!$AA$18:$AA$1017),0)","v":0},{"$f":"IFERROR($E104*SUMIF('Daily Log'!$AC$18:$AC$1017,$B104,'Daily Log'!$AD$18:$AD$1017),0)","v":0},{"$f":"IFERROR($E104*SUMIF('Daily Log'!$AF$18:$AF$1017,$B104,'Daily Log'!$AG$18:$AG$1017),0)","v":0},{"$f":"IFERROR($E104*SUMIF('Daily Log'!$AI$18:$AI$1017,$B104,'Daily Log'!$AJ$18:$AJ$1017),0)","v":0},{"$f":"IFERROR($E104*SUMIF('Daily Log'!$AL$18:$AL$1017,$B104,'Daily Log'!$AM$18:$AM$1017),0)","v":0},{"$f":"IFERROR($E104*SUMIF('Daily Log'!$AO$18:$AO$1017,$B104,'Daily Log'!$AP$18:$AP$1017),0)","v":0},{"$f":"IFERROR($E104*SUMIF('Daily Log'!$AR$18:$AR$1017,$B104,'Daily Log'!$AS$18:$AS$1017),0)","v":0},{"$f":"IFERROR($E104*SUMIF('Daily Log'!$AU$18:$AU$1017,$B104,'Daily Log'!$AV$18:$AV$1017),0)","v":0},{"$f":"IFERROR($E104*SUMIF('Daily Log'!$AX$18:$AX$1017,$B104,'Daily Log'!$AY$18:$AY$1017),0)","v":0},{"$f":"IFERROR($E104*SUMIF('Daily Log'!$BA$18:$BA$1017,$B104,'Daily Log'!$BB$18:$BB$1017),0)","v":0},{"$f":"IFERROR($E104*SUMIF('Daily Log'!$BD$18:$BD$1017,$B104,'Daily Log'!$BE$18:$BE$1017),0)","v":0},{"$f":"IFERROR($E104*SUMIF('Daily Log'!$BG$18:$BG$1017,$B104,'Daily Log'!$BH$18:$BH$1017),0)","v":0},{"$f":"IFERROR($E104*SUMIF('Daily Log'!$BJ$18:$BJ$1017,$B104,'Daily Log'!$BK$18:$BK$1017),0)","v":0},{"$f":"IFERROR($E104*SUMIF('Daily Log'!$BM$18:$BM$1017,$B104,'Daily Log'!$BN$18:$BN$1017),0)","v":0},{"$f":"IFERROR($E104*SUMIF('Daily Log'!$BP$18:$BP$1017,$B104,'Daily Log'!$BQ$18:$BQ$1017),0)","v":0},{"$f":"IFERROR($E104*SUMIF('Daily Log'!$BS$18:$BS$1017,$B104,'Daily Log'!$BT$18:$BT$1017),0)","v":0},{"$f":"IFERROR($E104*SUMIF('Daily Log'!$BV$18:$BV$1017,$B104,'Daily Log'!$BW$18:$BW$1017),0)","v":0},{"$f":"IFERROR($E104*SUMIF('Daily Log'!$BY$18:$BY$1017,$B104,'Daily Log'!$BZ$18:$BZ$1017),0)","v":0},{"$f":"IFERROR($E104*SUMIF('Daily Log'!$CB$18:$CB$1017,$B104,'Daily Log'!$CC$18:$CC$1017),0)","v":0},{"$f":"IFERROR($E104*SUMIF('Daily Log'!$CE$18:$CE$1017,$B104,'Daily Log'!$CF$18:$CF$1017),0)","v":0},{"$f":"IFERROR($E104*SUMIF('Daily Log'!$CH$18:$CH$1017,$B104,'Daily Log'!$CI$18:$CI$1017),0)","v":0},{"$f":"IFERROR($E104*SUMIF('Daily Log'!$CK$18:$CK$1017,$B104,'Daily Log'!$CL$18:$CL$1017),0)","v":0},{"$f":"IFERROR($E104*SUMIF('Daily Log'!$CN$18:$CN$1017,$B104,'Daily Log'!$CO$18:$CO$1017),0)","v":0}]
[null,"BW01 8101:STRONG BTL",null,"BEER",1,1,null,null,null,null,null,null,null,null,null,{"$f":"IFERROR($E105*SUMIF('Daily Log'!$AC$18:$AC$1017,$B105,'Daily Log'!$AD$18:$AD$1017),0)","v":0},{"$f":"IFERROR($E105*SUMIF('Daily Log'!$AF$18:$AF$1017,$B105,'Daily Log'!$AG$18:$AG$1017),0)","v":0},{"$f":"IFERROR($E105*SUMIF('Daily Log'!$AI$18:$AI$1017,$B105,'Daily Log'!$AJ$18:$AJ$1017),0)","v":0},{"$f":"IFERROR($E105*SUMIF('Daily Log'!$AL$18:$AL$1017,$B105,'Daily Log'!$AM$18:$AM$1017),0)","v":0},{"$f":"IFERROR($E105*SUMIF('Daily Log'!$AO$18:$AO$1017,$B105,'Daily Log'!$AP$18:$AP$1017),0)","v":0},{"$f":"IFERROR($E105*SUMIF('Daily Log'!$AR$18:$AR$1017,$B105,'Daily Log'!$AS$18:$AS$1017),0)","v":0},{"$f":"IFERROR($E105*SUMIF('Daily Log'!$AU$18:$AU$1017,$B105,'Daily Log'!$AV$18:$AV$1017),0)","v":0},{"$f":"IFERROR($E105*SUMIF('Daily Log'!$AX$18:$AX$1017,$B105,'Daily Log'!$AY$18:$AY$1017),0)","v":0},{"$f":"IFERROR($E105*SUMIF('Daily Log'!$BA$18:$BA$1017,$B105,'Daily Log'!$BB$18:$BB$1017),0)","v":0},{"$f":"IFERROR($E105*SUMIF('Daily Log'!$BD$18:$BD$1017,$B105,'Daily Log'!$BE$18:$BE$1017),0)","v":0},{"$f":"IFERROR($E105*SUMIF('Daily Log'!$BG$18:$BG$1017,$B105,'Daily Log'!$BH$18:$BH$1017),0)","v":0},{"$f":"IFERROR($E105*SUMIF('Daily Log'!$BJ$18:$BJ$1017,$B105,'Daily Log'!$BK$18:$BK$1017),0)","v":0},{"$f":"IFERROR($E105*SUMIF('Daily Log'!$BM$18:$BM$1017,$B105,'Daily Log'!$BN$18:$BN$1017),0)","v":0},{"$f":"IFERROR($E105*SUMIF('Daily Log'!$BP$18:$BP$1017,$B105,'Daily Log'!$BQ$18:$BQ$1017),0)","v":0},{"$f":"IFERROR($E105*SUMIF('Daily Log'!$BS$18:$BS$1017,$B105,'Daily Log'!$BT$18:$BT$1017),0)","v":1},{"$f":"IFERROR($E105*SUMIF('Daily Log'!$BV$18:$BV$1017,$B105,'Daily Log'!$BW$18:$BW$1017),0)","v":0},{"$f":"IFERROR($E105*SUMIF('Daily Log'!$BY$18:$BY$1017,$B105,'Daily Log'!$BZ$18:$BZ$1017),0)","v":0},{"$f":"IFERROR($E105*SUMIF('Daily Log'!$CB$18:$CB$1017,$B105,'Daily Log'!$CC$18:$CC$1017),0)","v":0},{"$f":"IFERROR($E105*SUMIF('Daily Log'!$CE$18:$CE$1017,$B105,'Daily Log'!$CF$18:$CF$1017),0)","v":0},{"$f":"IFERROR($E105*SUMIF('Daily Log'!$CH$18:$CH$1017,$B105,'Daily Log'!$CI$18:$CI$1017),0)","v":0},{"$f":"IFERROR($E105*SUMIF('Daily Log'!$CK$18:$CK$1017,$B105,'Daily Log'!$CL$18:$CL$1017),0)","v":0},{"$f":"IFERROR($E105*SUMIF('Daily Log'!$CN$18:$CN$1017,$B105,'Daily Log'!$CO$18:$CO$1017),0)","v":0}]
[null,"BW02 8102:STRONG BKT",null,"BEER",4,null,null,null,null,null,null,null,null,null,null,{"$f":"IFERROR($E106*SUMIF('Daily Log'!$AC$18:$AC$1017,$B106,'Daily Log'!$AD$18:$AD$1017),0)","v":0},{"$f":"IFERROR($E106*SUMIF('Daily Log'!$AF$18:$AF$1017,$B106,'Daily Log'!$AG$18:$AG$1017),0)","v":0},{"$f":"IFERROR($E106*SUMIF('Daily Log'!$AI$18:$AI$1017,$B106,'Daily Log'!$AJ$18:$AJ$1017),0)","v":0},{"$f":"IFERROR($E106*SUMIF('Daily Log'!$AL$18:$AL$1017,$B106,'Daily Log'!$AM$18:$AM$1017),0)","v":4},{"$f":"IFERROR($E106*SUMIF('Daily Log'!$AO$18:$AO$1017,$B106,'Daily Log'!$AP$18:$AP$1017),0)","v":0},{"$f":"IFERROR($E106*SUMIF('Daily Log'!$AR$18:$AR$1017,$B106,'Daily Log'!$AS$18:$AS$1017),0)","v":0},{"$f":"IFERROR($E106*SUMIF('Daily Log'!$AU$18:$AU$1017,$B106,'Daily Log'!$AV$18:$AV$1017),0)","v":0},{"$f":"IFERROR($E106*SUMIF('Daily Log'!$AX$18:$AX$1017,$B106,'Daily Log'!$AY$18:$AY$1017),0)","v":0},{"$f":"IFERROR($E106*SUMIF('Daily Log'!$BA$18:$BA$1017,$B106,'Daily Log'!$BB$18:$BB$1017),0)","v":0},{"$f":"IFERROR($E106*SUMIF('Daily Log'!$BD$18:$BD$1017,$B106,'Daily Log'!$BE$18:$BE$1017),0)","v":0},{"$f":"IFERROR($E106*SUMIF('Daily Log'!$BG$18:$BG$1017,$B106,'Daily Log'!$BH$18:$BH$1017),0)","v":0},{"$f":"IFERROR($E106*SUMIF('Daily Log'!$BJ$18:$BJ$1017,$B106,'Daily Log'!$BK$18:$BK$1017),0)","v":0},{"$f":"IFERROR($E106*SUMIF('Daily Log'!$BM$18:$BM$1017,$B106,'Daily Log'!$BN$18:$BN$1017),0)","v":0},{"$f":"IFERROR($E106*SUMIF('Daily Log'!$BP$18:$BP$1017,$B106,'Daily Log'!$BQ$18:$BQ$1017),0)","v":0},{"$f":"IFERROR($E106*SUMIF('Daily Log'!$BS$18:$BS$1017,$B106,'Daily Log'!$BT$18:$BT$1017),0)","v":0},{"$f":"IFERROR($E106*SUMIF('Daily Log'!$BV$18:$BV$1017,$B106,'Daily Log'!$BW$18:$BW$1017),0)","v":0},{"$f":"IFERROR($E106*SUMIF('Daily Log'!$BY$18:$BY$1017,$B106,'Daily Log'!$BZ$18:$BZ$1017),0)","v":0},{"$f":"IFERROR($E106*SUMIF('Daily Log'!$CB$18:$CB$1017,$B106,'Daily Log'!$CC$18:$CC$1017),0)","v":0},{"$f":"IFERROR($E106*SUMIF('Daily Log'!$CE$18:$CE$1017,$B106,'Daily Log'!$CF$18:$CF$1017),0)","v":0},{"$f":"IFERROR($E106*SUMIF('Daily Log'!$CH$18:$CH$1017,$B106,'Daily Log'!$CI$18:$CI$1017),0)","v":0},{"$f":"IFERROR($E106*SUMIF('Daily Log'!$CK$18:$CK$1017,$B106,'Daily Log'!$CL$18:$CL$1017),0)","v":0},{"$f":"IFERROR($E106*SUMIF('Daily Log'!$CN$18:$CN$1017,$B106,'Daily Log'!$CO$18:$CO$1017),0)","v":0}]
[null,"STRONGBOW BEER TOTAL",null,"BEER",null,{"$f":"SUM($G107:$AK107)","v":6},{"$f":"SUM(G103:G104)","v":0},{"$f":"SUM(H103:H104)","v":0},1,0,0,0,0,0,0,{"$f":"SUM(P103:P106)","v":0},{"$f":"SUM(Q103:Q106)","v":0},{"$f":"SUM(R103:R106)","v":0},{"$f":"SUM(S103:S106)","v":4},{"$f":"SUM(T103:T106)","v":0},{"$f":"SUM(U103:U106)","v":0},0,0,0,0,0,0,0,0,1,0,0,0,0,0,0,0]
[null,"BR01 8301:PAUL BTL",null,"BEER",1,null,{"$f":"IFERROR($E108*SUMIF('Daily Log'!$B$18:$B$1017,$B108,'Daily Log'!$C$18:$C$1017),0)","v":0},{"$f":"IFERROR($E108*SUMIF('Daily Log'!$E$18:$E$1017,$B108,'Daily Log'!$F$18:$F$1017),0)","v":0},{"$f":"IFERROR($E108*SUMIF('Daily Log'!$H$18:$H$1017,$B108,'Daily Log'!$I$18:$I$1017),0)","v":0},{"$f":"IFERROR($E108*SUMIF('Daily Log'!$K$18:$K$1017,$B108,'Daily Log'!$L$18:$L$1017),0)","v":0},{"$f":"IFERROR($E108*SUMIF('Daily Log'!$N$18:$N$1017,$B108,'Daily Log'!$O$18:$O$1017),0)","v":0},{"$f":"IFERROR($E108*SUMIF('Daily Log'!$Q$18:$Q$1017,$B108,'Daily Log'!$R$18:$R$1017),0)","v":0},{"$f":"IFERROR($E108*SUMIF('Daily Log'!$T$18:$T$1017,$B108,'Daily Log'!$U$18:$U$1017),0)","v":0},{"$f":"IFERROR($E108*SUMIF('Daily Log'!$W$18:$W$1017,$B108,'Daily Log'!$X$18:$X$1017),0)","v":0},{"$f":"IFERROR($E108*SUMIF('Daily Log'!$Z$18:$Z$1017,$B108,'Daily Log'!$AA$18:$AA$1017),0)","v":0},{"$f":"IFERROR($E108*SUMIF('Daily Log'!$AC$18:$AC$1017,$B108,'Daily Log'!$AD$18:$AD$1017),0)","v":0},{"$f":"IFERROR($E108*SUMIF('Daily Log'!$AF$18:$AF$1017,$B108,'Daily Log'!$AG$18:$AG$1017),0)","v":0},{"$f":"IFERROR($E108*SUMIF('Daily Log'!$AI$18:$AI$1017,$B108,'Daily Log'!$AJ$18:$AJ$1017),0)","v":0},{"$f":"IFERROR($E108*SUMIF('Daily Log'!$AL$18:$AL$1017,$B108,'Daily Log'!$AM$18:$AM$1017),0)","v":0},{"$f":"IFERROR($E108*SUMIF('Daily Log'!$AO$18:$AO$1017,$B108,'Daily Log'!$AP$18:$AP$1017),0)","v":0},{"$f":"IFERROR($E108*SUMIF('Daily Log'!$AR$18:$AR$1017,$B108,'Daily Log'!$AS$18:$AS$1017),0)","v":0},{"$f":"IFERROR($E108*SUMIF('Daily Log'!$AU$18:$AU$1017,$B108,'Daily Log'!$AV$18:$AV$1017),0)","v":0},{"$f":"IFERROR($E108*SUMIF('Daily Log'!$AX$18:$AX$1017,$B108,'Daily Log'!$AY$18:$AY$1017),0)","v":0},{"$f":"IFERROR($E108*SUMIF('Daily Log'!$BA$18:$BA$1017,$B108,'Daily Log'!$BB$18:$BB$1017),0)","v":0},{"$f":"IFERROR($E108*SUMIF('Daily Log'!$BD$18:$BD$1017,$B108,'Daily Log'!$BE$18:$BE$1017),0)","v":0},{"$f":"IFERROR($E108*SUMIF('Daily Log'!$BG$18:$BG$1017,$B108,'Daily Log'!$BH$18:$BH$1017),0)","v":0},{"$f":"IFERROR($E108*SUMIF('Daily Log'!$BJ$18:$BJ$1017,$B108,'Daily Log'!$BK$18:$BK$1017),0)","v":0},{"$f":"IFERROR($E108*SUMIF('Daily Log'!$BM$18:$BM$1017,$B108,'Daily Log'!$BN$18:$BN$1017),0)","v":0},{"$f":"IFERROR($E108*SUMIF('Daily Log'!$BP$18:$BP$1017,$B108,'Daily Log'!$BQ$18:$BQ$1017),0)","v":0},{"$f":"IFERROR($E108*SUMIF('Daily Log'!$BS$18:$BS$1017,$B108,'Daily Log'!$BT$18:$BT$1017),0)","v":0},{"$f":"IFERROR($E108*SUMIF('Daily Log'!$BV$18:$BV$1017,$B108,'Daily Log'!$BW$18:$BW$1017),0)","v":0},{"$f":"IFERROR($E108*SUMIF('Daily Log'!$BY$18:$BY$1017,$B108,'Daily Log'!$BZ$18:$BZ$1017),0)","v":0},{"$f":"IFERROR($E108*SUMIF('Daily Log'!$CB$18:$CB$1017,$B108,'Daily Log'!$CC$18:$CC$1017),0)","v":0},{"$f":"IFERROR($E108*SUMIF('Daily Log'!$CE$18:$CE$1017,$B108,'Daily Log'!$CF$18:$CF$1017),0)","v":0},{"$f":"IFERROR($E108*SUMIF('Daily Log'!$CH$18:$CH$1017,$B108,'Daily Log'!$CI$18:$CI$1017),0)","v":0},{"$f":"IFERROR($E108*SUMIF('Daily Log'!$CK$18:$CK$1017,$B108,'Daily Log'!$CL$18:$CL$1017),0)","v":0},{"$f":"IFERROR($E108*SUMIF('Daily Log'!$CN$18:$CN$1017,$B108,'Daily Log'!$CO$18:$CO$1017),0)","v":0}]
[null,"BR02 8302:PAUL BKT",null,"BEER",4,null,{"$f":"IFERROR($E109*SUMIF('Daily Log'!$B$18:$B$1017,$B109,'Daily Log'!$C$18:$C$1017),0)","v":0},{"$f":"IFERROR($E109*SUMIF('Daily Log'!$E$18:$E$1017,$B109,'Daily Log'!$F$18:$F$1017),0)","v":0},{"$f":"IFERROR($E109*SUMIF('Daily Log'!$H$18:$H$1017,$B109,'Daily Log'!$I$18:$I$1017),0)","v":0},{"$f":"IFERROR($E109*SUMIF('Daily Log'!$K$18:$K$1017,$B109,'Daily Log'!$L$18:$L$1017),0)","v":0},{"$f":"IFERROR($E109*SUMIF('Daily Log'!$N$18:$N$1017,$B109,'Daily Log'!$O$18:$O$1017),0)","v":0},{"$f":"IFERROR($E109*SUMIF('Daily Log'!$Q$18:$Q$1017,$B109,'Daily Log'!$R$18:$R$1017),0)","v":0},{"$f":"IFERROR($E109*SUMIF('Daily Log'!$T$18:$T$1017,$B109,'Daily Log'!$U$18:$U$1017),0)","v":0},{"$f":"IFERROR($E109*SUMIF('Daily Log'!$W$18:$W$1017,$B109,'Daily Log'!$X$18:$X$1017),0)","v":0},{"$f":"IFERROR($E109*SUMIF('Daily Log'!$Z$18:$Z$1017,$B109,'Daily Log'!$AA$18:$AA$1017),0)","v":0},{"$f":"IFERROR($E109*SUMIF('Daily Log'!$AC$18:$AC$1017,$B109,'Daily Log'!$AD$18:$AD$1017),0)","v":0},{"$f":"IFERROR($E109*SUMIF('Daily Log'!$AF$18:$AF$1017,$B109,'Daily Log'!$AG$18:$AG$1017),0)","v":0},{"$f":"IFERROR($E109*SUMIF('Daily Log'!$AI$18:$AI$1017,$B109,'Daily Log'!$AJ$18:$AJ$1017),0)","v":0},{"$f":"IFERROR($E109*SUMIF('Daily Log'!$AL$18:$AL$1017,$B109,'Daily Log'!$AM$18:$AM$1017),0)","v":0},{"$f":"IFERROR($E109*SUMIF('Daily Log'!$AO$18:$AO$1017,$B109,'Daily Log'!$AP$18:$AP$1017),0)","v":0},{"$f":"IFERROR($E109*SUMIF('Daily Log'!$AR$18:$AR$1017,$B109,'Daily Log'!$AS$18:$AS$1017),0)","v":0},{"$f":"IFERROR($E109*SUMIF('Daily Log'!$AU$18:$AU$1017,$B109,'Daily Log'!$AV$18:$AV$1017),0)","v":0},{"$f":"IFERROR($E109*SUMIF('Daily Log'!$AX$18:$AX$1017,$B109,'Daily Log'!$AY$18:$AY$1017),0)","v":0},{"$f":"IFERROR($E109*SUMIF('Daily Log'!$BA$18:$BA$1017,$B109,'Daily Log'!$BB$18:$BB$1017),0)","v":0},{"$f":"IFERROR($E109*SUMIF('Daily Log'!$BD$18:$BD$1017,$B109,'Daily Log'!$BE$18:$BE$1017),0)","v":0},{"$f":"IFERROR($E109*SUMIF('Daily Log'!$BG$18:$BG$1017,$B109,'Daily Log'!$BH$18:$BH$1017),0)","v":0},{"$f":"IFERROR($E109*SUMIF('Daily Log'!$BJ$18:$BJ$1017,$B109,'Daily Log'!$BK$18:$BK$1017),0)","v":0},{"$f":"IFERROR($E109*SUMIF('Daily Log'!$BM$18:$BM$1017,$B109,'Daily Log'!$BN$18:$BN$1017),0)","v":0},{"$f":"IFERROR($E109*SUMIF('Daily Log'!$BP$18:$BP$1017,$B109,'Daily Log'!$BQ$18:$BQ$1017),0)","v":0},{"$f":"IFERROR($E109*SUMIF('Daily Log'!$BS$18:$BS$1017,$B109,'Daily Log'!$BT$18:$BT$1017),0)","v":0},{"$f":"IFERROR($E109*SUMIF('Daily Log'!$BV$18:$BV$1017,$B109,'Daily Log'!$BW$18:$BW$1017),0)","v":0},{"$f":"IFERROR($E109*SUMIF('Daily Log'!$BY$18:$BY$1017,$B109,'Daily Log'!$BZ$18:$BZ$1017),0)","v":0},{"$f":"IFERROR($E109*SUMIF('Daily Log'!$CB$18:$CB$1017,$B109,'Daily Log'!$CC$18:$CC$1017),0)","v":0},{"$f":"IFERROR($E109*SUMIF('Daily Log'!$CE$18:$CE$1017,$B109,'Daily Log'!$CF$18:$CF$1017),0)","v":0},{"$f":"IFERROR($E109*SUMIF('Daily Log'!$CH$18:$CH$1017,$B109,'Daily Log'!$CI$18:$CI$1017),0)","v":0},{"$f":"IFERROR($E109*SUMIF('Daily Log'!$CK$18:$CK$1017,$B109,'Daily Log'!$CL$18:$CL$1017),0)","v":0},{"$f":"IFERROR($E109*SUMIF('Daily Log'!$CN$18:$CN$1017,$B109,'Daily Log'!$CO$18:$CO$1017),0)","v":0}]
[null,"CR01 88301:PAUL BTL",null,"BEER",1,{"$f":"SUM($G110:$AK110)","v":1},{"$f":"IFERROR($E110*SUMIF('Daily Log'!$B$18:$B$1017,$B110,'Daily Log'!$C$18:$C$1017),0)","v":0},{"$f":"IFERROR($E110*SUMIF('Daily Log'!$E$18:$E$1017,$B110,'Daily Log'!$F$18:$F$1017),0)","v":0},{"$f":"IFERROR($E110*SUMIF('Daily Log'!$H$18:$H$1017,$B110,'Daily Log'!$I$18:$I$1017),0)","v":0},{"$f":"IFERROR($E110*SUMIF('Daily Log'!$K$18:$K$1017,$B110,'Daily Log'!$L$18:$L$1017),0)","v":0},{"$f":"IFERROR($E110*SUMIF('Daily Log'!$N$18:$N$1017,$B110,'Daily Log'!$O$18:$O$1017),0)","v":0},{"$f":"IFERROR($E110*SUMIF('Daily Log'!$Q$18:$Q$1017,$B110,'Daily Log'!$R$18:$R$1017),0)","v":0},{"$f":"IFERROR($E110*SUMIF('Daily Log'!$T$18:$T$1017,$B110,'Daily Log'!$U$18:$U$1017),0)","v":0},{"$f":"IFERROR($E110*SUMIF('Daily Log'!$W$18:$W$1017,$B110,'Daily Log'!$X$18:$X$1017),0)","v":0},{"$f":"IFERROR($E110*SUMIF('Daily Log'!$Z$18:$Z$1017,$B110,'Daily Log'!$AA$18:$AA$1017),0)","v":0},{"$f":"IFERROR($E110*SUMIF('Daily Log'!$AC$18:$AC$1017,$B110,'Daily Log'!$AD$18:$AD$1017),0)","v":0},{"$f":"IFERROR($E110*SUMIF('Daily Log'!$AF$18:$AF$1017,$B110,'Daily Log'!$AG$18:$AG$1017),0)","v":0},{"$f":"IFERROR($E110*SUMIF('Daily Log'!$AI$18:$AI$1017,$B110,'Daily Log'!$AJ$18:$AJ$1017),0)","v":1},{"$f":"IFERROR($E110*SUMIF('Daily Log'!$AL$18:$AL$1017,$B110,'Daily Log'!$AM$18:$AM$1017),0)","v":0},{"$f":"IFERROR($E110*SUMIF('Daily Log'!$AO$18:$AO$1017,$B110,'Daily Log'!$AP$18:$AP$1017),0)","v":0},{"$f":"IFERROR($E110*SUMIF('Daily Log'!$AR$18:$AR$1017,$B110,'Daily Log'!$AS$18:$AS$1017),0)","v":0},{"$f":"IFERROR($E110*SUMIF('Daily Log'!$AU$18:$AU$1017,$B110,'Daily Log'!$AV$18:$AV$1017),0)","v":0},{"$f":"IFERROR($E110*SUMIF('Daily Log'!$AX$18:$AX$1017,$B110,'Daily Log'!$AY$18:$AY$1017),0)","v":0},{"$f":"IFERROR($E110*SUMIF('Daily Log'!$BA$18:$BA$1017,$B110,'Daily Log'!$BB$18:$BB$1017),0)","v":0},{"$f":"IFERROR($E110*SUMIF('Daily Log'!$BD$18:$BD$1017,$B110,'Daily Log'!$BE$18:$BE$1017),0)","v":0},{"$f":"IFERROR($E110*SUMIF('Daily Log'!$BG$18:$BG$1017,$B110,'Daily Log'!$BH$18:$BH$1017),0)","v":0},{"$f":"IFERROR($E110*SUMIF('Daily Log'!$BJ$18:$BJ$1017,$B110,'Daily Log'!$BK$18:$BK$1017),0)","v":0},{"$f":"IFERROR($E110*SUMIF('Daily Log'!$BM$18:$BM$1017,$B110,'Daily Log'!$BN$18:$BN$1017),0)","v":0},{"$f":"IFERROR($E110*SUMIF('Daily Log'!$BP$18:$BP$1017,$B110,'Daily Log'!$BQ$18:$BQ$1017),0)","v":0},{"$f":"IFERROR($E110*SUMIF('Daily Log'!$BS$18:$BS$1017,$B110,'Daily Log'!$BT$18:$BT$1017),0)","v":0},{"$f":"IFERROR($E110*SUMIF('Daily Log'!$BV$18:$BV$1017,$B110,'Daily Log'!$BW$18:$BW$1017),0)","v":0},{"$f":"IFERROR($E110*SUMIF('Daily Log'!$BY$18:$BY$1017,$B110,'Daily Log'!$BZ$18:$BZ$1017),0)","v":0},{"$f":"IFERROR($E110*SUMIF('Daily Log'!$CB$18:$CB$1017,$B110,'Daily Log'!$CC$18:$CC$1017),0)","v":0},{"$f":"IFERROR($E110*SUMIF('Daily Log'!$CE$18:$CE$1017,$B110,'Daily Log'!$CF$18:$CF$1017),0)","v":0},{"$f":"IFERROR($E110*SUMIF('Daily Log'!$CH$18:$CH$1017,$B110,'Daily Log'!$CI$18:$CI$1017),0)","v":0},{"$f":"IFERROR($E110*SUMIF('Daily Log'!$CK$18:$CK$1017,$B110,'Daily Log'!$CL$18:$CL$1017),0)","v":0},{"$f":"IFERROR($E110*SUMIF('Daily Log'!$CN$18:$CN$1017,$B110,'Daily Log'!$CO$18:$CO$1017),0)","v":0}]
[null,"CR02 88302:PAUL BKT",null,"BEER",4,{"$f":"SUM($G111:$AK111)","v":4},null,null,null,null,null,null,null,null,null,null,null,null,null,null,null,null,null,null,null,null,null,null,{"$f":"IFERROR($E111*SUMIF('Daily Log'!$BP$18:$BP$1017,$B111,'Daily Log'!$BQ$18:$BQ$1017),0)","v":0},{"$f":"IFERROR($E111*SUMIF('Daily Log'!$BS$18:$BS$1017,$B111,'Daily Log'!$BT$18:$BT$1017),0)","v":4},{"$f":"IFERROR($E111*SUMIF('Daily Log'!$BV$18:$BV$1017,$B111,'Daily Log'!$BW$18:$BW$1017),0)","v":0},{"$f":"IFERROR($E111*SUMIF('Daily Log'!$BY$18:$BY$1017,$B111,'Daily Log'!$BZ$18:$BZ$1017),0)","v":0},{"$f":"IFERROR($E111*SUMIF('Daily Log'!$CB$18:$CB$1017,$B111,'Daily Log'!$CC$18:$CC$1017),0)","v":0},{"$f":"IFERROR($E111*SUMIF('Daily Log'!$CE$18:$CE$1017,$B111,'Daily Log'!$CF$18:$CF$1017),0)","v":0},{"$f":"IFERROR($E111*SUMIF('Daily Log'!$CH$18:$CH$1017,$B111,'Daily Log'!$CI$18:$CI$1017),0)","v":0},{"$f":"IFERROR($E111*SUMIF('Daily Log'!$CK$18:$CK$1017,$B111,'Daily Log'!$CL$18:$CL$1017),0)","v":0},{"$f":"IFERROR($E111*SUMIF('Daily Log'!$CN$18:$CN$1017,$B111,'Daily Log'!$CO$18:$CO$1017),0)","v":0}]
[null,"PAULANAR BEER TOTAL ",null,"BEER",null,null,{"$f":"SUM(G108:G110)","v":0},0,0,0,0,0,0,0,0,0,0,1,0,{"$f":"SUM(T108:T110)","v":0},{"$f":"SUM(U108:U110)","v":0},0,0,0,0,0,0,0,{"$f":"SUM(AC108:AC111)","v":0},4,0,0,0,0,0,0,0]
[null,"CB01 2001:MILO(C)",null,"SO-COLD BEVERAGE",1,0,{"$f":"IFERROR($E113*SUMIF('Daily Log'!$B$18:$B$1017,$B113,'Daily Log'!$C$18:$C$1017),0)","v":0},{"$f":"IFERROR($E113*SUMIF('Daily Log'!$E$18:$E$1017,$B113,'Daily Log'!$F$18:$F$1017),0)","v":0},{"$f":"IFERROR($E113*SUMIF('Daily Log'!$H$18:$H$1017,$B113,'Daily Log'!$I$18:$I$1017),0)","v":0},{"$f":"IFERROR($E113*SUMIF('Daily Log'!$K$18:$K$1017,$B113,'Daily Log'!$L$18:$L$1017),0)","v":0},{"$f":"IFERROR($E113*SUMIF('Daily Log'!$N$18:$N$1017,$B113,'Daily Log'!$O$18:$O$1017),0)","v":0},{"$f":"IFERROR($E113*SUMIF('Daily Log'!$Q$18:$Q$1017,$B113,'Daily Log'!$R$18:$R$1017),0)","v":0},{"$f":"IFERROR($E113*SUMIF('Daily Log'!$T$18:$T$1017,$B113,'Daily Log'!$U$18:$U$1017),0)","v":0},{"$f":"IFERROR($E113*SUMIF('Daily Log'!$W$18:$W$1017,$B113,'Daily Log'!$X$18:$X$1017),0)","v":0},{"$f":"IFERROR($E113*SUMIF('Daily Log'!$Z$18:$Z$1017,$B113,'Daily Log'!$AA$18:$AA$1017),0)","v":0},{"$f":"IFERROR($E113*SUMIF('Daily Log'!$AC$18:$AC$1017,$B113,'Daily Log'!$AD$18:$AD$1017),0)","v":0},{"$f":"IFERROR($E113*SUMIF('Daily Log'!$AF$18:$AF$1017,$B113,'Daily Log'!$AG$18:$AG$1017),0)","v":0},{"$f":"IFERROR($E113*SUMIF('Daily Log'!$AI$18:$AI$1017,$B113,'Daily Log'!$AJ$18:$AJ$1017),0)","v":0},{"$f":"IFERROR($E113*SUMIF('Daily Log'!$AL$18:$AL$1017,$B113,'Daily Log'!$AM$18:$AM$1017),0)","v":0},{"$f":"IFERROR($E113*SUMIF('Daily Log'!$AO$18:$AO$1017,$B113,'Daily Log'!$AP$18:$AP$1017),0)","v":0},{"$f":"IFERROR($E113*SUMIF('Daily Log'!$AR$18:$AR$1017,$B113,'Daily Log'!$AS$18:$AS$1017),0)","v":0},{"$f":"IFERROR($E113*SUMIF('Daily Log'!$AU$18:$AU$1017,$B113,'Daily Log'!$AV$18:$AV$1017),0)","v":0},{"$f":"IFERROR($E113*SUMIF('Daily Log'!$AX$18:$AX$1017,$B113,'Daily Log'!$AY$18:$AY$1017),0)","v":0},{"$f":"IFERROR($E113*SUMIF('Daily Log'!$BA$18:$BA$1017,$B113,'Daily Log'!$BB$18:$BB$1017),0)","v":0},{"$f":"IFERROR($E113*SUMIF('Daily Log'!$BD$18:$BD$1017,$B113,'Daily Log'!$BE$18:$BE$1017),0)","v":0},{"$f":"IFERROR($E113*SUMIF('Daily Log'!$BG$18:$BG$1017,$B113,'Daily Log'!$BH$18:$BH$1017),0)","v":0},{"$f":"IFERROR($E113*SUMIF('Daily Log'!$BJ$18:$BJ$1017,$B113,'Daily Log'!$BK$18:$BK$1017),0)","v":0},{"$f":"IFERROR($E113*SUMIF('Daily Log'!$BM$18:$BM$1017,$B113,'Daily Log'!$BN$18:$BN$1017),0)","v":0},{"$f":"IFERROR($E113*SUMIF('Daily Log'!$BP$18:$BP$1017,$B113,'Daily Log'!$BQ$18:$BQ$1017),0)","v":0},{"$f":"IFERROR($E113*SUMIF('Daily Log'!$BS$18:$BS$1017,$B113,'Daily Log'!$BT$18:$BT$1017),0)","v":0},{"$f":"IFERROR($E113*SUMIF('Daily Log'!$BV$18:$BV$1017,$B113,'Daily Log'!$BW$18:$BW$1017),0)","v":0},{"$f":"IFERROR($E113*SUMIF('Daily Log'!$BY$18:$BY$1017,$B113,'Daily Log'!$BZ$18:$BZ$1017),0)","v":0},{"$f":"IFERROR($E113*SUMIF('Daily Log'!$CB$18:$CB$1017,$B113,'Daily Log'!$CC$18:$CC$1017),0)","v":0},{"$f":"IFERROR($E113*SUMIF('Daily Log'!$CE$18:$CE$1017,$B113,'Daily Log'!$CF$18:$CF$1017),0)","v":0},{"$f":"IFERROR($E113*SUMIF('Daily Log'!$CH$18:$CH$1017,$B113,'Daily Log'!$CI$18:$CI$1017),0)","v":0},{"$f":"IFERROR($E113*SUMIF('Daily Log'!$CK$18:$CK$1017,$B113,'Daily Log'!$CL$18:$CL$1017),0)","v":0},{"$f":"IFERROR($E113*SUMIF('Daily Log'!$CN$18:$CN$1017,$B113,'Daily Log'!$CO$18:$CO$1017),0)","v":0}]
[null,"CB02 2003:NESCAFE(C)",null,"SO-COLD BEVERAGE",1,1,{"$f":"IFERROR($E114*SUMIF('Daily Log'!$B$18:$B$1017,$B114,'Daily Log'!$C$18:$C$1017),0)","v":0},{"$f":"IFERROR($E114*SUMIF('Daily Log'!$E$18:$E$1017,$B114,'Daily Log'!$F$18:$F$1017),0)","v":0},{"$f":"IFERROR($E114*SUMIF('Daily Log'!$H$18:$H$1017,$B114,'Daily Log'!$I$18:$I$1017),0)","v":0},{"$f":"IFERROR($E114*SUMIF('Daily Log'!$K$18:$K$1017,$B114,'Daily Log'!$L$18:$L$1017),0)","v":0},{"$f":"IFERROR($E114*SUMIF('Daily Log'!$N$18:$N$1017,$B114,'Daily Log'!$O$18:$O$1017),0)","v":0},{"$f":"IFERROR($E114*SUMIF('Daily Log'!$Q$18:$Q$1017,$B114,'Daily Log'!$R$18:$R$1017),0)","v":0},{"$f":"IFERROR($E114*SUMIF('Daily Log'!$T$18:$T$1017,$B114,'Daily Log'!$U$18:$U$1017),0)","v":0},{"$f":"IFERROR($E114*SUMIF('Daily Log'!$W$18:$W$1017,$B114,'Daily Log'!$X$18:$X$1017),0)","v":0},{"$f":"IFERROR($E114*SUMIF('Daily Log'!$Z$18:$Z$1017,$B114,'Daily Log'!$AA$18:$AA$1017),0)","v":0},{"$f":"IFERROR($E114*SUMIF('Daily Log'!$AC$18:$AC$1017,$B114,'Daily Log'!$AD$18:$AD$1017),0)","v":0},{"$f":"IFERROR($E114*SUMIF('Daily Log'!$AF$18:$AF$1017,$B114,'Daily Log'!$AG$18:$AG$1017),0)","v":0},{"$f":"IFERROR($E114*SUMIF('Daily Log'!$AI$18:$AI$1017,$B114,'Daily Log'!$AJ$18:$AJ$1017),0)","v":0},{"$f":"IFERROR($E114*SUMIF('Daily Log'!$AL$18:$AL$1017,$B114,'Daily Log'!$AM$18:$AM$1017),0)","v":0},{"$f":"IFERROR($E114*SUMIF('Daily Log'!$AO$18:$AO$1017,$B114,'Daily Log'!$AP$18:$AP$1017),0)","v":0},{"$f":"IFERROR($E114*SUMIF('Daily Log'!$AR$18:$AR$1017,$B114,'Daily Log'!$AS$18:$AS$1017),0)","v":0},{"$f":"IFERROR($E114*SUMIF('Daily Log'!$AU$18:$AU$1017,$B114,'Daily Log'!$AV$18:$AV$1017),0)","v":0},{"$f":"IFERROR($E114*SUMIF('Daily Log'!$AX$18:$AX$1017,$B114,'Daily Log'!$AY$18:$AY$1017),0)","v":0},{"$f":"IFERROR($E114*SUMIF('Daily Log'!$BA$18:$BA$1017,$B114,'Daily Log'!$BB$18:$BB$1017),0)","v":0},{"$f":"IFERROR($E114*SUMIF('Daily Log'!$BD$18:$BD$1017,$B114,'Daily Log'!$BE$18:$BE$1017),0)","v":1},{"$f":"IFERROR($E114*SUMIF('Daily Log'!$BG$18:$BG$1017,$B114,'Daily Log'!$BH$18:$BH$1017),0)","v":0},{"$f":"IFERROR($E114*SUMIF('Daily Log'!$BJ$18:$BJ$1017,$B114,'Daily Log'!$BK$18:$BK$1017),0)","v":0},{"$f":"IFERROR($E114*SUMIF('Daily Log'!$BM$18:$BM$1017,$B114,'Daily Log'!$BN$18:$BN$1017),0)","v":0},{"$f":"IFERROR($E114*SUMIF('Daily Log'!$BP$18:$BP$1017,$B114,'Daily Log'!$BQ$18:$BQ$1017),0)","v":0},{"$f":"IFERROR($E114*SUMIF('Daily Log'!$BS$18:$BS$1017,$B114,'Daily Log'!$BT$18:$BT$1017),0)","v":0},{"$f":"IFERROR($E114*SUMIF('Daily Log'!$BV$18:$BV$1017,$B114,'Daily Log'!$BW$18:$BW$1017),0)","v":0},{"$f":"IFERROR($E114*SUMIF('Daily Log'!$BY$18:$BY$1017,$B114,'Daily Log'!$BZ$18:$BZ$1017),0)","v":0},{"$f":"IFERROR($E114*SUMIF('Daily Log'!$CB$18:$CB$1017,$B114,'Daily Log'!$CC$18:$CC$1017),0)","v":0},{"$f":"IFERROR($E114*SUMIF('Daily Log'!$CE$18:$CE$1017,$B114,'Daily Log'!$CF$18:$CF$1017),0)","v":0},{"$f":"IFERROR($E114*SUMIF('Daily Log'!$CH$18:$CH$1017,$B114,'Daily Log'!$CI$18:$CI$1017),0)","v":0},{"$f":"IFERROR($E114*SUMIF('Daily Log'!$CK$18:$CK$1017,$B114,'Daily Log'!$CL$18:$CL$1017),0)","v":0},{"$f":"IFERROR($E114*SUMIF('Daily Log'!$CN$18:$CN$1017,$B114,'Daily Log'!$CO$18:$CO$1017),0)","v":0}]
[null,"CB03 2005:TEA(C)",null,"SO-COLD BEVERAGE",1,0,{"$f":"IFERROR($E115*SUMIF('Daily Log'!$B$18:$B$1017,$B115,'Daily Log'!$C$18:$C$1017),0)","v":0},{"$f":"IFERROR($E115*SUMIF('Daily Log'!$E$18:$E$1017,$B115,'Daily Log'!$F$18:$F$1017),0)","v":0},{"$f":"IFERROR($E115*SUMIF('Daily Log'!$H$18:$H$1017,$B115,'Daily Log'!$I$18:$I$1017),0)","v":0},{"$f":"IFERROR($E115*SUMIF('Daily Log'!$K$18:$K$1017,$B115,'Daily Log'!$L$18:$L$1017),0)","v":0},{"$f":"IFERROR($E115*SUMIF('Daily Log'!$N$18:$N$1017,$B115,'Daily Log'!$O$18:$O$1017),0)","v":0},{"$f":"IFERROR($E115*SUMIF('Daily Log'!$Q$18:$Q$1017,$B115,'Daily Log'!$R$18:$R$1017),0)","v":0},{"$f":"IFERROR($E115*SUMIF('Daily Log'!$T$18:$T$1017,$B115,'Daily Log'!$U$18:$U$1017),0)","v":0},{"$f":"IFERROR($E115*SUMIF('Daily Log'!$W$18:$W$1017,$B115,'Daily Log'!$X$18:$X$1017),0)","v":0},{"$f":"IFERROR($E115*SUMIF('Daily Log'!$Z$18:$Z$1017,$B115,'Daily Log'!$AA$18:$AA$1017),0)","v":0},{"$f":"IFERROR($E115*SUMIF('Daily Log'!$AC$18:$AC$1017,$B115,'Daily Log'!$AD$18:$AD$1017),0)","v":0},{"$f":"IFERROR($E115*SUMIF('Daily Log'!$AF$18:$AF$1017,$B115,'Daily Log'!$AG$18:$AG$1017),0)","v":0},{"$f":"IFERROR($E115*SUMIF('Daily Log'!$AI$18:$AI$1017,$B115,'Daily Log'!$AJ$18:$AJ$1017),0)","v":0},{"$f":"IFERROR($E115*SUMIF('Daily Log'!$AL$18:$AL$1017,$B115,'Daily Log'!$AM$18:$AM$1017),0)","v":0},{"$f":"IFERROR($E115*SUMIF('Daily Log'!$AO$18:$AO$1017,$B115,'Daily Log'!$AP$18:$AP$1017),0)","v":0},{"$f":"IFERROR($E115*SUMIF('Daily Log'!$AR$18:$AR$1017,$B115,'Daily Log'!$AS$18:$AS$1017),0)","v":0},{"$f":"IFERROR($E115*SUMIF('Daily Log'!$AU$18:$AU$1017,$B115,'Daily Log'!$AV$18:$AV$1017),0)","v":0},{"$f":"IFERROR($E115*SUMIF('Daily Log'!$AX$18:$AX$1017,$B115,'Daily Log'!$AY$18:$AY$1017),0)","v":0},{"$f":"IFERROR($E115*SUMIF('Daily Log'!$BA$18:$BA$1017,$B115,'Daily Log'!$BB$18:$BB$1017),0)","v":0},{"$f":"IFERROR($E115*SUMIF('Daily Log'!$BD$18:$BD$1017,$B115,'Daily Log'!$BE$18:$BE$1017),0)","v":0},{"$f":"IFERROR($E115*SUMIF('Daily Log'!$BG$18:$BG$1017,$B115,'Daily Log'!$BH$18:$BH$1017),0)","v":0},{"$f":"IFERROR($E115*SUMIF('Daily Log'!$BJ$18:$BJ$1017,$B115,'Daily Log'!$BK$18:$BK$1017),0)","v":0},{"$f":"IFERROR($E115*SUMIF('Daily Log'!$BM$18:$BM$1017,$B115,'Daily Log'!$BN$18:$BN$1017),0)","v":0},{"$f":"IFERROR($E115*SUMIF('Daily Log'!$BP$18:$BP$1017,$B115,'Daily Log'!$BQ$18:$BQ$1017),0)","v":0},{"$f":"IFERROR($E115*SUMIF('Daily Log'!$BS$18:$BS$1017,$B115,'Daily Log'!$BT$18:$BT$1017),0)","v":0},{"$f":"IFERROR($E115*SUMIF('Daily Log'!$BV$18:$BV$1017,$B115,'Daily Log'!$BW$18:$BW$1017),0)","v":0},{"$f":"IFERROR($E115*SUMIF('Daily Log'!$BY$18:$BY$1017,$B115,'Daily Log'!$BZ$18:$BZ$1017),0)","v":0},{"$f":"IFERROR($E115*SUMIF('Daily Log'!$CB$18:$CB$1017,$B115,'Daily Log'!$CC$18:$CC$1017),0)","v":0},{"$f":"IFERROR($E115*SUMIF('Daily Log'!$CE$18:$CE$1017,$B115,'Daily Log'!$CF$18:$CF$1017),0)","v":0},{"$f":"IFERROR($E115*SUMIF('Daily Log'!$CH$18:$CH$1017,$B115,'Daily Log'!$CI$18:$CI$1017),0)","v":0},{"$f":"IFERROR($E115*SUMIF('Daily Log'!$CK$18:$CK$1017,$B115,'Daily Log'!$CL$18:$CL$1017),0)","v":0},{"$f":"IFERROR($E115*SUMIF('Daily Log'!$CN$18:$CN$1017,$B115,'Daily Log'!$CO$18:$CO$1017),0)","v":0}]
[null,"CB04 2007:LMN TEA(C)",null,"SO-COLD BEVERAGE",1,4,{"$f":"IFERROR($E116*SUMIF('Daily Log'!$B$18:$B$1017,$B116,'Daily Log'!$C$18:$C$1017),0)","v":0},{"$f":"IFERROR($E116*SUMIF('Daily Log'!$E$18:$E$1017,$B116,'Daily Log'!$F$18:$F$1017),0)","v":0},{"$f":"IFERROR($E116*SUMIF('Daily Log'!$H$18:$H$1017,$B116,'Daily Log'!$I$18:$I$1017),0)","v":0},{"$f":"IFERROR($E116*SUMIF('Daily Log'!$K$18:$K$1017,$B116,'Daily Log'!$L$18:$L$1017),0)","v":0},{"$f":"IFERROR($E116*SUMIF('Daily Log'!$N$18:$N$1017,$B116,'Daily Log'!$O$18:$O$1017),0)","v":0},{"$f":"IFERROR($E116*SUMIF('Daily Log'!$Q$18:$Q$1017,$B116,'Daily Log'!$R$18:$R$1017),0)","v":0},{"$f":"IFERROR($E116*SUMIF('Daily Log'!$T$18:$T$1017,$B116,'Daily Log'!$U$18:$U$1017),0)","v":2},{"$f":"IFERROR($E116*SUMIF('Daily Log'!$W$18:$W$1017,$B116,'Daily Log'!$X$18:$X$1017),0)","v":0},{"$f":"IFERROR($E116*SUMIF('Daily Log'!$Z$18:$Z$1017,$B116,'Daily Log'!$AA$18:$AA$1017),0)","v":0},{"$f":"IFERROR($E116*SUMIF('Daily Log'!$AC$18:$AC$1017,$B116,'Daily Log'!$AD$18:$AD$1017),0)","v":0},{"$f":"IFERROR($E116*SUMIF('Daily Log'!$AF$18:$AF$1017,$B116,'Daily Log'!$AG$18:$AG$1017),0)","v":0},{"$f":"IFERROR($E116*SUMIF('Daily Log'!$AI$18:$AI$1017,$B116,'Daily Log'!$AJ$18:$AJ$1017),0)","v":0},{"$f":"IFERROR($E116*SUMIF('Daily Log'!$AL$18:$AL$1017,$B116,'Daily Log'!$AM$18:$AM$1017),0)","v":1},{"$f":"IFERROR($E116*SUMIF('Daily Log'!$AO$18:$AO$1017,$B116,'Daily Log'!$AP$18:$AP$1017),0)","v":0},{"$f":"IFERROR($E116*SUMIF('Daily Log'!$AR$18:$AR$1017,$B116,'Daily Log'!$AS$18:$AS$1017),0)","v":0},{"$f":"IFERROR($E116*SUMIF('Daily Log'!$AU$18:$AU$1017,$B116,'Daily Log'!$AV$18:$AV$1017),0)","v":0},{"$f":"IFERROR($E116*SUMIF('Daily Log'!$AX$18:$AX$1017,$B116,'Daily Log'!$AY$18:$AY$1017),0)","v":0},{"$f":"IFERROR($E116*SUMIF('Daily Log'!$BA$18:$BA$1017,$B116,'Daily Log'!$BB$18:$BB$1017),0)","v":0},{"$f":"IFERROR($E116*SUMIF('Daily Log'!$BD$18:$BD$1017,$B116,'Daily Log'!$BE$18:$BE$1017),0)","v":0},{"$f":"IFERROR($E116*SUMIF('Daily Log'!$BG$18:$BG$1017,$B116,'Daily Log'!$BH$18:$BH$1017),0)","v":0},{"$f":"IFERROR($E116*SUMIF('Daily Log'!$BJ$18:$BJ$1017,$B116,'Daily Log'!$BK$18:$BK$1017),0)","v":0},{"$f":"IFERROR($E116*SUMIF('Daily Log'!$BM$18:$BM$1017,$B116,'Daily Log'!$BN$18:$BN$1017),0)","v":0},{"$f":"IFERROR($E116*SUMIF('Daily Log'!$BP$18:$BP$1017,$B116,'Daily Log'!$BQ$18:$BQ$1017),0)","v":0},{"$f":"IFERROR($E116*SUMIF('Daily Log'!$BS$18:$BS$1017,$B116,'Daily Log'!$BT$18:$BT$1017),0)","v":0},{"$f":"IFERROR($E116*SUMIF('Daily Log'!$BV$18:$BV$1017,$B116,'Daily Log'!$BW$18:$BW$1017),0)","v":1},{"$f":"IFERROR($E116*SUMIF('Daily Log'!$BY$18:$BY$1017,$B116,'Daily Log'!$BZ$18:$BZ$1017),0)","v":0},{"$f":"IFERROR($E116*SUMIF('Daily Log'!$CB$18:$CB$1017,$B116,'Daily Log'!$CC$18:$CC$1017),0)","v":0},{"$f":"IFERROR($E116*SUMIF('Daily Log'!$CE$18:$CE$1017,$B116,'Daily Log'!$CF$18:$CF$1017),0)","v":0},{"$f":"IFERROR($E116*SUMIF('Daily Log'!$CH$18:$CH$1017,$B116,'Daily Log'!$CI$18:$CI$1017),0)","v":0},{"$f":"IFERROR($E116*SUMIF('Daily Log'!$CK$18:$CK$1017,$B116,'Daily Log'!$CL$18:$CL$1017),0)","v":0},{"$f":"IFERROR($E116*SUMIF('Daily Log'!$CN$18:$CN$1017,$B116,'Daily Log'!$CO$18:$CO$1017),0)","v":0}]
[null,"CB05 2009:GRN TEA(C)",null,"SO-COLD BEVERAGE",1,{"$f":"SUM($G117:$AK117)","v":4},{"$f":"IFERROR($E117*SUMIF('Daily Log'!$B$18:$B$1017,$B117,'Daily Log'!$C$18:$C$1017),0)","v":0},{"$f":"IFERROR($E117*SUMIF('Daily Log'!$E$18:$E$1017,$B117,'Daily Log'!$F$18:$F$1017),0)","v":0},{"$f":"IFERROR($E117*SUMIF('Daily Log'!$H$18:$H$1017,$B117,'Daily Log'!$I$18:$I$1017),0)","v":0},{"$f":"IFERROR($E117*SUMIF('Daily Log'!$K$18:$K$1017,$B117,'Daily Log'!$L$18:$L$1017),0)","v":0},{"$f":"IFERROR($E117*SUMIF('Daily Log'!$N$18:$N$1017,$B117,'Daily Log'!$O$18:$O$1017),0)","v":0},{"$f":"IFERROR($E117*SUMIF('Daily Log'!$Q$18:$Q$1017,$B117,'Daily Log'!$R$18:$R$1017),0)","v":0},{"$f":"IFERROR($E117*SUMIF('Daily Log'!$T$18:$T$1017,$B117,'Daily Log'!$U$18:$U$1017),0)","v":0},{"$f":"IFERROR($E117*SUMIF('Daily Log'!$W$18:$W$1017,$B117,'Daily Log'!$X$18:$X$1017),0)","v":0},{"$f":"IFERROR($E117*SUMIF('Daily Log'!$Z$18:$Z$1017,$B117,'Daily Log'!$AA$18:$AA$1017),0)","v":0},{"$f":"IFERROR($E117*SUMIF('Daily Log'!$AC$18:$AC$1017,$B117,'Daily Log'!$AD$18:$AD$1017),0)","v":0},{"$f":"IFERROR($E117*SUMIF('Daily Log'!$AF$18:$AF$1017,$B117,'Daily Log'!$AG$18:$AG$1017),0)","v":0},{"$f":"IFERROR($E117*SUMIF('Daily Log'!$AI$18:$AI$1017,$B117,'Daily Log'!$AJ$18:$AJ$1017),0)","v":0},{"$f":"IFERROR($E117*SUMIF('Daily Log'!$AL$18:$AL$1017,$B117,'Daily Log'!$AM$18:$AM$1017),0)","v":0},{"$f":"IFERROR($E117*SUMIF('Daily Log'!$AO$18:$AO$1017,$B117,'Daily Log'!$AP$18:$AP$1017),0)","v":0},{"$f":"IFERROR($E117*SUMIF('Daily Log'!$AR$18:$AR$1017,$B117,'Daily Log'!$AS$18:$AS$1017),0)","v":0},{"$f":"IFERROR($E117*SUMIF('Daily Log'!$AU$18:$AU$1017,$B117,'Daily Log'!$AV$18:$AV$1017),0)","v":0},{"$f":"IFERROR($E117*SUMIF('Daily Log'!$AX$18:$AX$1017,$B117,'Daily Log'!$AY$18:$AY$1017),0)","v":0},{"$f":"IFERROR($E117*SUMIF('Daily Log'!$BA$18:$BA$1017,$B117,'Daily Log'!$BB$18:$BB$1017),0)","v":0},{"$f":"IFERROR($E117*SUMIF('Daily Log'!$BD$18:$BD$1017,$B117,'Daily Log'!$BE$18:$BE$1017),0)","v":0},{"$f":"IFERROR($E117*SUMIF('Daily Log'!$BG$18:$BG$1017,$B117,'Daily Log'!$BH$18:$BH$1017),0)","v":4},{"$f":"IFERROR($E117*SUMIF('Daily Log'!$BJ$18:$BJ$1017,$B117,'Daily Log'!$BK$18:$BK$1017),0)","v":0},{"$f":"IFERROR($E117*SUMIF('Daily Log'!$BM$18:$BM$1017,$B117,'Daily Log'!$BN$18:$BN$1017),0)","v":0},{"$f":"IFERROR($E117*SUMIF('Daily Log'!$BP$18:$BP$1017,$B117,'Daily Log'!$BQ$18:$BQ$1017),0)","v":0},{"$f":"IFERROR($E117*SUMIF('Daily Log'!$BS$18:$BS$1017,$B117,'Daily Log'!$BT$18:$BT$1017),0)","v":0},{"$f":"IFERROR($E117*SUMIF('Daily Log'!$BV$18:$BV$1017,$B117,'Daily Log'!$BW$18:$BW$1017),0)","v":0},{"$f":"IFERROR($E117*SUMIF('Daily Log'!$BY$18:$BY$1017,$B117,'Daily Log'!$BZ$18:$BZ$1017),0)","v":0},{"$f":"IFERROR($E117*SUMIF('Daily Log'!$CB$18:$CB$1017,$B117,'Daily Log'!$CC$18:$CC$1017),0)","v":0},{"$f":"IFERROR($E117*SUMIF('Daily Log'!$CE$18:$CE$1017,$B117,'Daily Log'!$CF$18:$CF$1017),0)","v":0},{"$f":"IFERROR($E117*SUMIF('Daily Log'!$CH$18:$CH$1017,$B117,'Daily Log'!$CI$18:$CI$1017),0)","v":0},{"$f":"IFERROR($E117*SUMIF('Daily Log'!$CK$18:$CK$1017,$B117,'Daily Log'!$CL$18:$CL$1017),0)","v":0},{"$f":"IFERROR($E117*SUMIF('Daily Log'!$CN$18:$CN$1017,$B117,'Daily Log'!$CO$18:$CO$1017),0)","v":0}]
[null,"CB06 2011:HNY GT(C)",null,"SO-COLD BEVERAGE",1,0,{"$f":"IFERROR($E118*SUMIF('Daily Log'!$B$18:$B$1017,$B118,'Daily Log'!$C$18:$C$1017),0)","v":0},{"$f":"IFERROR($E118*SUMIF('Daily Log'!$E$18:$E$1017,$B118,'Daily Log'!$F$18:$F$1017),0)","v":0},{"$f":"IFERROR($E118*SUMIF('Daily Log'!$H$18:$H$1017,$B118,'Daily Log'!$I$18:$I$1017),0)","v":0},{"$f":"IFERROR($E118*SUMIF('Daily Log'!$K$18:$K$1017,$B118,'Daily Log'!$L$18:$L$1017),0)","v":0},{"$f":"IFERROR($E118*SUMIF('Daily Log'!$N$18:$N$1017,$B118,'Daily Log'!$O$18:$O$1017),0)","v":0},{"$f":"IFERROR($E118*SUMIF('Daily Log'!$Q$18:$Q$1017,$B118,'Daily Log'!$R$18:$R$1017),0)","v":0},{"$f":"IFERROR($E118*SUMIF('Daily Log'!$T$18:$T$1017,$B118,'Daily Log'!$U$18:$U$1017),0)","v":0},{"$f":"IFERROR($E118*SUMIF('Daily Log'!$W$18:$W$1017,$B118,'Daily Log'!$X$18:$X$1017),0)","v":0},{"$f":"IFERROR($E118*SUMIF('Daily Log'!$Z$18:$Z$1017,$B118,'Daily Log'!$AA$18:$AA$1017),0)","v":0},{"$f":"IFERROR($E118*SUMIF('Daily Log'!$AC$18:$AC$1017,$B118,'Daily Log'!$AD$18:$AD$1017),0)","v":0},{"$f":"IFERROR($E118*SUMIF('Daily Log'!$AF$18:$AF$1017,$B118,'Daily Log'!$AG$18:$AG$1017),0)","v":0},{"$f":"IFERROR($E118*SUMIF('Daily Log'!$AI$18:$AI$1017,$B118,'Daily Log'!$AJ$18:$AJ$1017),0)","v":0},{"$f":"IFERROR($E118*SUMIF('Daily Log'!$AL$18:$AL$1017,$B118,'Daily Log'!$AM$18:$AM$1017),0)","v":0},{"$f":"IFERROR($E118*SUMIF('Daily Log'!$AO$18:$AO$1017,$B118,'Daily Log'!$AP$18:$AP$1017),0)","v":0},{"$f":"IFERROR($E118*SUMIF('Daily Log'!$AR$18:$AR$1017,$B118,'Daily Log'!$AS$18:$AS$1017),0)","v":0},{"$f":"IFERROR($E118*SUMIF('Daily Log'!$AU$18:$AU$1017,$B118,'Daily Log'!$AV$18:$AV$1017),0)","v":0},{"$f":"IFERROR($E118*SUMIF('Daily Log'!$AX$18:$AX$1017,$B118,'Daily Log'!$AY$18:$AY$1017),0)","v":0},{"$f":"IFERROR($E118*SUMIF('Daily Log'!$BA$18:$BA$1017,$B118,'Daily Log'!$BB$18:$BB$1017),0)","v":0},{"$f":"IFERROR($E118*SUMIF('Daily Log'!$BD$18:$BD$1017,$B118,'Daily Log'!$BE$18:$BE$1017),0)","v":0},{"$f":"IFERROR($E118*SUMIF('Daily Log'!$BG$18:$BG$1017,$B118,'Daily Log'!$BH$18:$BH$1017),0)","v":0},{"$f":"IFERROR($E118*SUMIF('Daily Log'!$BJ$18:$BJ$1017,$B118,'Daily Log'!$BK$18:$BK$1017),0)","v":0},{"$f":"IFERROR($E118*SUMIF('Daily Log'!$BM$18:$BM$1017,$B118,'Daily Log'!$BN$18:$BN$1017),0)","v":0},{"$f":"IFERROR($E118*SUMIF('Daily Log'!$BP$18:$BP$1017,$B118,'Daily Log'!$BQ$18:$BQ$1017),0)","v":0},{"$f":"IFERROR($E118*SUMIF('Daily Log'!$BS$18:$BS$1017,$B118,'Daily Log'!$BT$18:$BT$1017),0)","v":0},{"$f":"IFERROR($E118*SUMIF('Daily Log'!$BV$18:$BV$1017,$B118,'Daily Log'!$BW$18:$BW$1017),0)","v":0},{"$f":"IFERROR($E118*SUMIF('Daily Log'!$BY$18:$BY$1017,$B118,'Daily Log'!$BZ$18:$BZ$1017),0)","v":0},{"$f":"IFERROR($E118*SUMIF('Daily Log'!$CB$18:$CB$1017,$B118,'Daily Log'!$CC$18:$CC$1017),0)","v":0},{"$f":"IFERROR($E118*SUMIF('Daily Log'!$CE$18:$CE$1017,$B118,'Daily Log'!$CF$18:$CF$1017),0)","v":0},{"$f":"IFERROR($E118*SUMIF('Daily Log'!$CH$18:$CH$1017,$B118,'Daily Log'!$CI$18:$CI$1017),0)","v":0},{"$f":"IFERROR($E118*SUMIF('Daily Log'!$CK$18:$CK$1017,$B118,'Daily Log'!$CL$18:$CL$1017),0)","v":0},{"$f":"IFERROR($E118*SUMIF('Daily Log'!$CN$18:$CN$1017,$B118,'Daily Log'!$CO$18:$CO$1017),0)","v":0}]
[null,"CB07 2013:HONEY (C)",null,"SO-COLD BEVERAGE",1,0,{"$f":"IFERROR($E119*SUMIF('Daily Log'!$B$18:$B$1017,$B119,'Daily Log'!$C$18:$C$1017),0)","v":0},{"$f":"IFERROR($E119*SUMIF('Daily Log'!$E$18:$E$1017,$B119,'Daily Log'!$F$18:$F$1017),0)","v":0},{"$f":"IFERROR($E119*SUMIF('Daily Log'!$H$18:$H$1017,$B119,'Daily Log'!$I$18:$I$1017),0)","v":0},{"$f":"IFERROR($E119*SUMIF('Daily Log'!$K$18:$K$1017,$B119,'Daily Log'!$L$18:$L$1017),0)","v":0},{"$f":"IFERROR($E119*SUMIF('Daily Log'!$N$18:$N$1017,$B119,'Daily Log'!$O$18:$O$1017),0)","v":0},{"$f":"IFERROR($E119*SUMIF('Daily Log'!$Q$18:$Q$1017,$B119,'Daily Log'!$R$18:$R$1017),0)","v":0},{"$f":"IFERROR($E119*SUMIF('Daily Log'!$T$18:$T$1017,$B119,'Daily Log'!$U$18:$U$1017),0)","v":0},{"$f":"IFERROR($E119*SUMIF('Daily Log'!$W$18:$W$1017,$B119,'Daily Log'!$X$18:$X$1017),0)","v":0},{"$f":"IFERROR($E119*SUMIF('Daily Log'!$Z$18:$Z$1017,$B119,'Daily Log'!$AA$18:$AA$1017),0)","v":0},{"$f":"IFERROR($E119*SUMIF('Daily Log'!$AC$18:$AC$1017,$B119,'Daily Log'!$AD$18:$AD$1017),0)","v":0},{"$f":"IFERROR($E119*SUMIF('Daily Log'!$AF$18:$AF$1017,$B119,'Daily Log'!$AG$18:$AG$1017),0)","v":0},{"$f":"IFERROR($E119*SUMIF('Daily Log'!$AI$18:$AI$1017,$B119,'Daily Log'!$AJ$18:$AJ$1017),0)","v":0},{"$f":"IFERROR($E119*SUMIF('Daily Log'!$AL$18:$AL$1017,$B119,'Daily Log'!$AM$18:$AM$1017),0)","v":0},{"$f":"IFERROR($E119*SUMIF('Daily Log'!$AO$18:$AO$1017,$B119,'Daily Log'!$AP$18:$AP$1017),0)","v":0},{"$f":"IFERROR($E119*SUMIF('Daily Log'!$AR$18:$AR$1017,$B119,'Daily Log'!$AS$18:$AS$1017),0)","v":0},{"$f":"IFERROR($E119*SUMIF('Daily Log'!$AU$18:$AU$1017,$B119,'Daily Log'!$AV$18:$AV$1017),0)","v":0},{"$f":"IFERROR($E119*SUMIF('Daily Log'!$AX$18:$AX$1017,$B119,'Daily Log'!$AY$18:$AY$1017),0)","v":0},{"$f":"IFERROR($E119*SUMIF('Daily Log'!$BA$18:$BA$1017,$B119,'Daily Log'!$BB$18:$BB$1017),0)","v":0},{"$f":"IFERROR($E119*SUMIF('Daily Log'!$BD$18:$BD$1017,$B119,'Daily Log'!$BE$18:$BE$1017),0)","v":0},{"$f":"IFERROR($E119*SUMIF('Daily Log'!$BG$18:$BG$1017,$B119,'Daily Log'!$BH$18:$BH$1017),0)","v":0},{"$f":"IFERROR($E119*SUMIF('Daily Log'!$BJ$18:$BJ$1017,$B119,'Daily Log'!$BK$18:$BK$1017),0)","v":0},{"$f":"IFERROR($E119*SUMIF('Daily Log'!$BM$18:$BM$1017,$B119,'Daily Log'!$BN$18:$BN$1017),0)","v":0},{"$f":"IFERROR($E119*SUMIF('Daily Log'!$BP$18:$BP$1017,$B119,'Daily Log'!$BQ$18:$BQ$1017),0)","v":0},{"$f":"IFERROR($E119*SUMIF('Daily Log'!$BS$18:$BS$1017,$B119,'Daily Log'!$BT$18:$BT$1017),0)","v":0},{"$f":"IFERROR($E119*SUMIF('Daily Log'!$BV$18:$BV$1017,$B119,'Daily Log'!$BW$18:$BW$1017),0)","v":0},{"$f":"IFERROR($E119*SUMIF('Daily Log'!$BY$18:$BY$1017,$B119,'Daily Log'!$BZ$18:$BZ$1017),0)","v":0},{"$f":"IFERROR($E119*SUMIF('Daily Log'!$CB$18:$CB$1017,$B119,'Daily Log'!$CC$18:$CC$1017),0)","v":0},{"$f":"IFERROR($E119*SUMIF('Daily Log'!$CE$18:$CE$1017,$B119,'Daily Log'!$CF$18:$CF$1017),0)","v":0},{"$f":"IFERROR($E119*SUMIF('Daily Log'!$CH$18:$CH$1017,$B119,'Daily Log'!$CI$18:$CI$1017),0)","v":0},{"$f":"IFERROR($E119*SUMIF('Daily Log'!$CK$18:$CK$1017,$B119,'Daily Log'!$CL$18:$CL$1017),0)","v":0},{"$f":"IFERROR($E119*SUMIF('Daily Log'!$CN$18:$CN$1017,$B119,'Daily Log'!$CO$18:$CO$1017),0)","v":0}]
[null,"CB08 2015:HNY LMN(C)",null,"SO-COLD BEVERAGE",1,3,{"$f":"IFERROR($E120*SUMIF('Daily Log'!$B$18:$B$1017,$B120,'Daily Log'!$C$18:$C$1017),0)","v":0},{"$f":"IFERROR($E120*SUMIF('Daily Log'!$E$18:$E$1017,$B120,'Daily Log'!$F$18:$F$1017),0)","v":0},{"$f":"IFERROR($E120*SUMIF('Daily Log'!$H$18:$H$1017,$B120,'Daily Log'!$I$18:$I$1017),0)","v":0},{"$f":"IFERROR($E120*SUMIF('Daily Log'!$K$18:$K$1017,$B120,'Daily Log'!$L$18:$L$1017),0)","v":0},{"$f":"IFERROR($E120*SUMIF('Daily Log'!$N$18:$N$1017,$B120,'Daily Log'!$O$18:$O$1017),0)","v":0},{"$f":"IFERROR($E120*SUMIF('Daily Log'!$Q$18:$Q$1017,$B120,'Daily Log'!$R$18:$R$1017),0)","v":0},{"$f":"IFERROR($E120*SUMIF('Daily Log'!$T$18:$T$1017,$B120,'Daily Log'!$U$18:$U$1017),0)","v":0},{"$f":"IFERROR($E120*SUMIF('Daily Log'!$W$18:$W$1017,$B120,'Daily Log'!$X$18:$X$1017),0)","v":0},{"$f":"IFERROR($E120*SUMIF('Daily Log'!$Z$18:$Z$1017,$B120,'Daily Log'!$AA$18:$AA$1017),0)","v":0},{"$f":"IFERROR($E120*SUMIF('Daily Log'!$AC$18:$AC$1017,$B120,'Daily Log'!$AD$18:$AD$1017),0)","v":0},{"$f":"IFERROR($E120*SUMIF('Daily Log'!$AF$18:$AF$1017,$B120,'Daily Log'!$AG$18:$AG$1017),0)","v":0},{"$f":"IFERROR($E120*SUMIF('Daily Log'!$AI$18:$AI$1017,$B120,'Daily Log'!$AJ$18:$AJ$1017),0)","v":0},{"$f":"IFERROR($E120*SUMIF('Daily Log'!$AL$18:$AL$1017,$B120,'Daily Log'!$AM$18:$AM$1017),0)","v":1},{"$f":"IFERROR($E120*SUMIF('Daily Log'!$AO$18:$AO$1017,$B120,'Daily Log'!$AP$18:$AP$1017),0)","v":0},{"$f":"IFERROR($E120*SUMIF('Daily Log'!$AR$18:$AR$1017,$B120,'Daily Log'!$AS$18:$AS$1017),0)","v":0},{"$f":"IFERROR($E120*SUMIF('Daily Log'!$AU$18:$AU$1017,$B120,'Daily Log'!$AV$18:$AV$1017),0)","v":0},{"$f":"IFERROR($E120*SUMIF('Daily Log'!$AX$18:$AX$1017,$B120,'Daily Log'!$AY$18:$AY$1017),0)","v":0},{"$f":"IFERROR($E120*SUMIF('Daily Log'!$BA$18:$BA$1017,$B120,'Daily Log'!$BB$18:$BB$1017),0)","v":0},{"$f":"IFERROR($E120*SUMIF('Daily Log'!$BD$18:$BD$1017,$B120,'Daily Log'!$BE$18:$BE$1017),0)","v":0},{"$f":"IFERROR($E120*SUMIF('Daily Log'!$BG$18:$BG$1017,$B120,'Daily Log'!$BH$18:$BH$1017),0)","v":0},{"$f":"IFERROR($E120*SUMIF('Daily Log'!$BJ$18:$BJ$1017,$B120,'Daily Log'!$BK$18:$BK$1017),0)","v":0},{"$f":"IFERROR($E120*SUMIF('Daily Log'!$BM$18:$BM$1017,$B120,'Daily Log'!$BN$18:$BN$1017),0)","v":0},{"$f":"IFERROR($E120*SUMIF('Daily Log'!$BP$18:$BP$1017,$B120,'Daily Log'!$BQ$18:$BQ$1017),0)","v":0},{"$f":"IFERROR($E120*SUMIF('Daily Log'!$BS$18:$BS$1017,$B120,'Daily Log'!$BT$18:$BT$1017),0)","v":0},{"$f":"IFERROR($E120*SUMIF('Daily Log'!$BV$18:$BV$1017,$B120,'Daily Log'!$BW$18:$BW$1017),0)","v":1},{"$f":"IFERROR($E120*SUMIF('Daily Log'!$BY$18:$BY$1017,$B120,'Daily Log'!$BZ$18:$BZ$1017),0)","v":0},{"$f":"IFERROR($E120*SUMIF('Daily Log'!$CB$18:$CB$1017,$B120,'Daily Log'!$CC$18:$CC$1017),0)","v":1},{"$f":"IFERROR($E120*SUMIF('Daily Log'!$CE$18:$CE$1017,$B120,'Daily Log'!$CF$18:$CF$1017),0)","v":0},{"$f":"IFERROR($E120*SUMIF('Daily Log'!$CH$18:$CH$1017,$B120,'Daily Log'!$CI$18:$CI$1017),0)","v":0},{"$f":"IFERROR($E120*SUMIF('Daily Log'!$CK$18:$CK$1017,$B120,'Daily Log'!$CL$18:$CL$1017),0)","v":0},{"$f":"IFERROR($E120*SUMIF('Daily Log'!$CN$18:$CN$1017,$B120,'Daily Log'!$CO$18:$CO$1017),0)","v":0}]
[null,"CF01 92001:MILO(C)",null,"FFDRINKS-COLD",1,744,{"$f":"IFERROR($E121*SUMIF('Daily Log'!$B$18:$B$1017,$B121,'Daily Log'!$C$18:$C$1017),0)","v":25},{"$f":"IFERROR($E121*SUMIF('Daily Log'!$E$18:$E$1017,$B121,'Daily Log'!$F$18:$F$1017),0)","v":27},{"$f":"IFERROR($E121*SUMIF('Daily Log'!$H$18:$H$1017,$B121,'Daily Log'!$I$18:$I$1017),0)","v":27},{"$f":"IFERROR($E121*SUMIF('Daily Log'!$K$18:$K$1017,$B121,'Daily Log'!$L$18:$L$1017),0)","v":26},{"$f":"IFERROR($E121*SUMIF('Daily Log'!$N$18:$N$1017,$B121,'Daily Log'!$O$18:$O$1017),0)","v":28},{"$f":"IFERROR($E121*SUMIF('Daily Log'!$Q$18:$Q$1017,$B121,'Daily Log'!$R$18:$R$1017),0)","v":39},{"$f":"IFERROR($E121*SUMIF('Daily Log'!$T$18:$T$1017,$B121,'Daily Log'!$U$18:$U$1017),0)","v":23},{"$f":"IFERROR($E121*SUMIF('Daily Log'!$W$18:$W$1017,$B121,'Daily Log'!$X$18:$X$1017),0)","v":14},{"$f":"IFERROR($E121*SUMIF('Daily Log'!$Z$18:$Z$1017,$B121,'Daily Log'!$AA$18:$AA$1017),0)","v":14},{"$f":"IFERROR($E121*SUMIF('Daily Log'!$AC$18:$AC$1017,$B121,'Daily Log'!$AD$18:$AD$1017),0)","v":27},{"$f":"IFERROR($E121*SUMIF('Daily Log'!$AF$18:$AF$1017,$B121,'Daily Log'!$AG$18:$AG$1017),0)","v":34},{"$f":"IFERROR($E121*SUMIF('Daily Log'!$AI$18:$AI$1017,$B121,'Daily Log'!$AJ$18:$AJ$1017),0)","v":27},{"$f":"IFERROR($E121*SUMIF('Daily Log'!$AL$18:$AL$1017,$B121,'Daily Log'!$AM$18:$AM$1017),0)","v":29},{"$f":"IFERROR($E121*SUMIF('Daily Log'!$AO$18:$AO$1017,$B121,'Daily Log'!$AP$18:$AP$1017),0)","v":5},{"$f":"IFERROR($E121*SUMIF('Daily Log'!$AR$18:$AR$1017,$B121,'Daily Log'!$AS$18:$AS$1017),0)","v":23},{"$f":"IFERROR($E121*SUMIF('Daily Log'!$AU$18:$AU$1017,$B121,'Daily Log'!$AV$18:$AV$1017),0)","v":25},{"$f":"IFERROR($E121*SUMIF('Daily Log'!$AX$18:$AX$1017,$B121,'Daily Log'!$AY$18:$AY$1017),0)","v":18},{"$f":"IFERROR($E121*SUMIF('Daily Log'!$BA$18:$BA$1017,$B121,'Daily Log'!$BB$18:$BB$1017),0)","v":28},{"$f":"IFERROR($E121*SUMIF('Daily Log'!$BD$18:$BD$1017,$B121,'Daily Log'!$BE$18:$BE$1017),0)","v":30},{"$f":"IFERROR($E121*SUMIF('Daily Log'!$BG$18:$BG$1017,$B121,'Daily Log'!$BH$18:$BH$1017),0)","v":35},{"$f":"IFERROR($E121*SUMIF('Daily Log'!$BJ$18:$BJ$1017,$B121,'Daily Log'!$BK$18:$BK$1017),0)","v":34},{"$f":"IFERROR($E121*SUMIF('Daily Log'!$BM$18:$BM$1017,$B121,'Daily Log'!$BN$18:$BN$1017),0)","v":27},{"$f":"IFERROR($E121*SUMIF('Daily Log'!$BP$18:$BP$1017,$B121,'Daily Log'!$BQ$18:$BQ$1017),0)","v":17},{"$f":"IFERROR($E121*SUMIF('Daily Log'!$BS$18:$BS$1017,$B121,'Daily Log'!$BT$18:$BT$1017),0)","v":15},{"$f":"IFERROR($E121*SUMIF('Daily Log'!$BV$18:$BV$1017,$B121,'Daily Log'!$BW$18:$BW$1017),0)","v":29},{"$f":"IFERROR($E121*SUMIF('Daily Log'!$BY$18:$BY$1017,$B121,'Daily Log'!$BZ$18:$BZ$1017),0)","v":23},{"$f":"IFERROR($E121*SUMIF('Daily Log'!$CB$18:$CB$1017,$B121,'Daily Log'!$CC$18:$CC$1017),0)","v":21},{"$f":"IFERROR($E121*SUMIF('Daily Log'!$CE$18:$CE$1017,$B121,'Daily Log'!$CF$18:$CF$1017),0)","v":17},{"$f":"IFERROR($E121*SUMIF('Daily Log'!$CH$18:$CH$1017,$B121,'Daily Log'!$CI$18:$CI$1017),0)","v":30},{"$f":"IFERROR($E121*SUMIF('Daily Log'!$CK$18:$CK$1017,$B121,'Daily Log'!$CL$18:$CL$1017),0)","v":27},{"$f":"IFERROR($E121*SUMIF('Daily Log'!$CN$18:$CN$1017,$B121,'Daily Log'!$CO$18:$CO$1017),0)","v":0}]
[null,"CF02 92003:NESCAFE(C)",null,"FFDRINKS-COLD",1,229,{"$f":"IFERROR($E122*SUMIF('Daily Log'!$B$18:$B$1017,$B122,'Daily Log'!$C$18:$C$1017),0)","v":3},{"$f":"IFERROR($E122*SUMIF('Daily Log'!$E$18:$E$1017,$B122,'Daily Log'!$F$18:$F$1017),0)","v":8},{"$f":"IFERROR($E122*SUMIF('Daily Log'!$H$18:$H$1017,$B122,'Daily Log'!$I$18:$I$1017),0)","v":3},{"$f":"IFERROR($E122*SUMIF('Daily Log'!$K$18:$K$1017,$B122,'Daily Log'!$L$18:$L$1017),0)","v":6},{"$f":"IFERROR($E122*SUMIF('Daily Log'!$N$18:$N$1017,$B122,'Daily Log'!$O$18:$O$1017),0)","v":8},{"$f":"IFERROR($E122*SUMIF('Daily Log'!$Q$18:$Q$1017,$B122,'Daily Log'!$R$18:$R$1017),0)","v":10},{"$f":"IFERROR($E122*SUMIF('Daily Log'!$T$18:$T$1017,$B122,'Daily Log'!$U$18:$U$1017),0)","v":7},{"$f":"IFERROR($E122*SUMIF('Daily Log'!$W$18:$W$1017,$B122,'Daily Log'!$X$18:$X$1017),0)","v":3},{"$f":"IFERROR($E122*SUMIF('Daily Log'!$Z$18:$Z$1017,$B122,'Daily Log'!$AA$18:$AA$1017),0)","v":5},{"$f":"IFERROR($E122*SUMIF('Daily Log'!$AC$18:$AC$1017,$B122,'Daily Log'!$AD$18:$AD$1017),0)","v":10},{"$f":"IFERROR($E122*SUMIF('Daily Log'!$AF$18:$AF$1017,$B122,'Daily Log'!$AG$18:$AG$1017),0)","v":10},{"$f":"IFERROR($E122*SUMIF('Daily Log'!$AI$18:$AI$1017,$B122,'Daily Log'!$AJ$18:$AJ$1017),0)","v":8},{"$f":"IFERROR($E122*SUMIF('Daily Log'!$AL$18:$AL$1017,$B122,'Daily Log'!$AM$18:$AM$1017),0)","v":11},{"$f":"IFERROR($E122*SUMIF('Daily Log'!$AO$18:$AO$1017,$B122,'Daily Log'!$AP$18:$AP$1017),0)","v":4},{"$f":"IFERROR($E122*SUMIF('Daily Log'!$AR$18:$AR$1017,$B122,'Daily Log'!$AS$18:$AS$1017),0)","v":9},{"$f":"IFERROR($E122*SUMIF('Daily Log'!$AU$18:$AU$1017,$B122,'Daily Log'!$AV$18:$AV$1017),0)","v":3},{"$f":"IFERROR($E122*SUMIF('Daily Log'!$AX$18:$AX$1017,$B122,'Daily Log'!$AY$18:$AY$1017),0)","v":11},{"$f":"IFERROR($E122*SUMIF('Daily Log'!$BA$18:$BA$1017,$B122,'Daily Log'!$BB$18:$BB$1017),0)","v":7},{"$f":"IFERROR($E122*SUMIF('Daily Log'!$BD$18:$BD$1017,$B122,'Daily Log'!$BE$18:$BE$1017),0)","v":14},{"$f":"IFERROR($E122*SUMIF('Daily Log'!$BG$18:$BG$1017,$B122,'Daily Log'!$BH$18:$BH$1017),0)","v":10},{"$f":"IFERROR($E122*SUMIF('Daily Log'!$BJ$18:$BJ$1017,$B122,'Daily Log'!$BK$18:$BK$1017),0)","v":4},{"$f":"IFERROR($E122*SUMIF('Daily Log'!$BM$18:$BM$1017,$B122,'Daily Log'!$BN$18:$BN$1017),0)","v":8},{"$f":"IFERROR($E122*SUMIF('Daily Log'!$BP$18:$BP$1017,$B122,'Daily Log'!$BQ$18:$BQ$1017),0)","v":4},{"$f":"IFERROR($E122*SUMIF('Daily Log'!$BS$18:$BS$1017,$B122,'Daily Log'!$BT$18:$BT$1017),0)","v":10},{"$f":"IFERROR($E122*SUMIF('Daily Log'!$BV$18:$BV$1017,$B122,'Daily Log'!$BW$18:$BW$1017),0)","v":2},{"$f":"IFERROR($E122*SUMIF('Daily Log'!$BY$18:$BY$1017,$B122,'Daily Log'!$BZ$18:$BZ$1017),0)","v":18},{"$f":"IFERROR($E122*SUMIF('Daily Log'!$CB$18:$CB$1017,$B122,'Daily Log'!$CC$18:$CC$1017),0)","v":13},{"$f":"IFERROR($E122*SUMIF('Daily Log'!$CE$18:$CE$1017,$B122,'Daily Log'!$CF$18:$CF$1017),0)","v":3},{"$f":"IFERROR($E122*SUMIF('Daily Log'!$CH$18:$CH$1017,$B122,'Daily Log'!$CI$18:$CI$1017),0)","v":9},{"$f":"IFERROR($E122*SUMIF('Daily Log'!$CK$18:$CK$1017,$B122,'Daily Log'!$CL$18:$CL$1017),0)","v":8},{"$f":"IFERROR($E122*SUMIF('Daily Log'!$CN$18:$CN$1017,$B122,'Daily Log'!$CO$18:$CO$1017),0)","v":0}]
[null,"CF03 92005:TEA(C)",null,"FFDRINKS-COLD",1,366,{"$f":"IFERROR($E123*SUMIF('Daily Log'!$B$18:$B$1017,$B123,'Daily Log'!$C$18:$C$1017),0)","v":19},{"$f":"IFERROR($E123*SUMIF('Daily Log'!$E$18:$E$1017,$B123,'Daily Log'!$F$18:$F$1017),0)","v":23},{"$f":"IFERROR($E123*SUMIF('Daily Log'!$H$18:$H$1017,$B123,'Daily Log'!$I$18:$I$1017),0)","v":8},{"$f":"IFERROR($E123*SUMIF('Daily Log'!$K$18:$K$1017,$B123,'Daily Log'!$L$18:$L$1017),0)","v":14},{"$f":"IFERROR($E123*SUMIF('Daily Log'!$N$18:$N$1017,$B123,'Daily Log'!$O$18:$O$1017),0)","v":6},{"$f":"IFERROR($E123*SUMIF('Daily Log'!$Q$18:$Q$1017,$B123,'Daily Log'!$R$18:$R$1017),0)","v":17},{"$f":"IFERROR($E123*SUMIF('Daily Log'!$T$18:$T$1017,$B123,'Daily Log'!$U$18:$U$1017),0)","v":15},{"$f":"IFERROR($E123*SUMIF('Daily Log'!$W$18:$W$1017,$B123,'Daily Log'!$X$18:$X$1017),0)","v":13},{"$f":"IFERROR($E123*SUMIF('Daily Log'!$Z$18:$Z$1017,$B123,'Daily Log'!$AA$18:$AA$1017),0)","v":7},{"$f":"IFERROR($E123*SUMIF('Daily Log'!$AC$18:$AC$1017,$B123,'Daily Log'!$AD$18:$AD$1017),0)","v":14},{"$f":"IFERROR($E123*SUMIF('Daily Log'!$AF$18:$AF$1017,$B123,'Daily Log'!$AG$18:$AG$1017),0)","v":10},{"$f":"IFERROR($E123*SUMIF('Daily Log'!$AI$18:$AI$1017,$B123,'Daily Log'!$AJ$18:$AJ$1017),0)","v":20},{"$f":"IFERROR($E123*SUMIF('Daily Log'!$AL$18:$AL$1017,$B123,'Daily Log'!$AM$18:$AM$1017),0)","v":17},{"$f":"IFERROR($E123*SUMIF('Daily Log'!$AO$18:$AO$1017,$B123,'Daily Log'!$AP$18:$AP$1017),0)","v":17},{"$f":"IFERROR($E123*SUMIF('Daily Log'!$AR$18:$AR$1017,$B123,'Daily Log'!$AS$18:$AS$1017),0)","v":9},{"$f":"IFERROR($E123*SUMIF('Daily Log'!$AU$18:$AU$1017,$B123,'Daily Log'!$AV$18:$AV$1017),0)","v":5},{"$f":"IFERROR($E123*SUMIF('Daily Log'!$AX$18:$AX$1017,$B123,'Daily Log'!$AY$18:$AY$1017),0)","v":14},{"$f":"IFERROR($E123*SUMIF('Daily Log'!$BA$18:$BA$1017,$B123,'Daily Log'!$BB$18:$BB$1017),0)","v":5},{"$f":"IFERROR($E123*SUMIF('Daily Log'!$BD$18:$BD$1017,$B123,'Daily Log'!$BE$18:$BE$1017),0)","v":12},{"$f":"IFERROR($E123*SUMIF('Daily Log'!$BG$18:$BG$1017,$B123,'Daily Log'!$BH$18:$BH$1017),0)","v":7},{"$f":"IFERROR($E123*SUMIF('Daily Log'!$BJ$18:$BJ$1017,$B123,'Daily Log'!$BK$18:$BK$1017),0)","v":7},{"$f":"IFERROR($E123*SUMIF('Daily Log'!$BM$18:$BM$1017,$B123,'Daily Log'!$BN$18:$BN$1017),0)","v":15},{"$f":"IFERROR($E123*SUMIF('Daily Log'!$BP$18:$BP$1017,$B123,'Daily Log'!$BQ$18:$BQ$1017),0)","v":16},{"$f":"IFERROR($E123*SUMIF('Daily Log'!$BS$18:$BS$1017,$B123,'Daily Log'!$BT$18:$BT$1017),0)","v":5},{"$f":"IFERROR($E123*SUMIF('Daily Log'!$BV$18:$BV$1017,$B123,'Daily Log'!$BW$18:$BW$1017),0)","v":10},{"$f":"IFERROR($E123*SUMIF('Daily Log'!$BY$18:$BY$1017,$B123,'Daily Log'!$BZ$18:$BZ$1017),0)","v":22},{"$f":"IFERROR($E123*SUMIF('Daily Log'!$CB$18:$CB$1017,$B123,'Daily Log'!$CC$18:$CC$1017),0)","v":15},{"$f":"IFERROR($E123*SUMIF('Daily Log'!$CE$18:$CE$1017,$B123,'Daily Log'!$CF$18:$CF$1017),0)","v":6},{"$f":"IFERROR($E123*SUMIF('Daily Log'!$CH$18:$CH$1017,$B123,'Daily Log'!$CI$18:$CI$1017),0)","v":6},{"$f":"IFERROR($E123*SUMIF('Daily Log'!$CK$18:$CK$1017,$B123,'Daily Log'!$CL$18:$CL$1017),0)","v":12},{"$f":"IFERROR($E123*SUMIF('Daily Log'!$CN$18:$CN$1017,$B123,'Daily Log'!$CO$18:$CO$1017),0)","v":0}]
[null,"CF04 92007:LMN TEA(C)",null,"FFDRINKS-COLD",1,1122,{"$f":"IFERROR($E124*SUMIF('Daily Log'!$B$18:$B$1017,$B124,'Daily Log'!$C$18:$C$1017),0)","v":41},{"$f":"IFERROR($E124*SUMIF('Daily Log'!$E$18:$E$1017,$B124,'Daily Log'!$F$18:$F$1017),0)","v":28},{"$f":"IFERROR($E124*SUMIF('Daily Log'!$H$18:$H$1017,$B124,'Daily Log'!$I$18:$I$1017),0)","v":35},{"$f":"IFERROR($E124*SUMIF('Daily Log'!$K$18:$K$1017,$B124,'Daily Log'!$L$18:$L$1017),0)","v":47},{"$f":"IFERROR($E124*SUMIF('Daily Log'!$N$18:$N$1017,$B124,'Daily Log'!$O$18:$O$1017),0)","v":59},{"$f":"IFERROR($E124*SUMIF('Daily Log'!$Q$18:$Q$1017,$B124,'Daily Log'!$R$18:$R$1017),0)","v":60},{"$f":"IFERROR($E124*SUMIF('Daily Log'!$T$18:$T$1017,$B124,'Daily Log'!$U$18:$U$1017),0)","v":35},{"$f":"IFERROR($E124*SUMIF('Daily Log'!$W$18:$W$1017,$B124,'Daily Log'!$X$18:$X$1017),0)","v":30},{"$f":"IFERROR($E124*SUMIF('Daily Log'!$Z$18:$Z$1017,$B124,'Daily Log'!$AA$18:$AA$1017),0)","v":26},{"$f":"IFERROR($E124*SUMIF('Daily Log'!$AC$18:$AC$1017,$B124,'Daily Log'!$AD$18:$AD$1017),0)","v":23},{"$f":"IFERROR($E124*SUMIF('Daily Log'!$AF$18:$AF$1017,$B124,'Daily Log'!$AG$18:$AG$1017),0)","v":53},{"$f":"IFERROR($E124*SUMIF('Daily Log'!$AI$18:$AI$1017,$B124,'Daily Log'!$AJ$18:$AJ$1017),0)","v":57},{"$f":"IFERROR($E124*SUMIF('Daily Log'!$AL$18:$AL$1017,$B124,'Daily Log'!$AM$18:$AM$1017),0)","v":69},{"$f":"IFERROR($E124*SUMIF('Daily Log'!$AO$18:$AO$1017,$B124,'Daily Log'!$AP$18:$AP$1017),0)","v":14},{"$f":"IFERROR($E124*SUMIF('Daily Log'!$AR$18:$AR$1017,$B124,'Daily Log'!$AS$18:$AS$1017),0)","v":36},{"$f":"IFERROR($E124*SUMIF('Daily Log'!$AU$18:$AU$1017,$B124,'Daily Log'!$AV$18:$AV$1017),0)","v":29},{"$f":"IFERROR($E124*SUMIF('Daily Log'!$AX$18:$AX$1017,$B124,'Daily Log'!$AY$18:$AY$1017),0)","v":25},{"$f":"IFERROR($E124*SUMIF('Daily Log'!$BA$18:$BA$1017,$B124,'Daily Log'!$BB$18:$BB$1017),0)","v":24},{"$f":"IFERROR($E124*SUMIF('Daily Log'!$BD$18:$BD$1017,$B124,'Daily Log'!$BE$18:$BE$1017),0)","v":60},{"$f":"IFERROR($E124*SUMIF('Daily Log'!$BG$18:$BG$1017,$B124,'Daily Log'!$BH$18:$BH$1017),0)","v":31},{"$f":"IFERROR($E124*SUMIF('Daily Log'!$BJ$18:$BJ$1017,$B124,'Daily Log'!$BK$18:$BK$1017),0)","v":16},{"$f":"IFERROR($E124*SUMIF('Daily Log'!$BM$18:$BM$1017,$B124,'Daily Log'!$BN$18:$BN$1017),0)","v":18},{"$f":"IFERROR($E124*SUMIF('Daily Log'!$BP$18:$BP$1017,$B124,'Daily Log'!$BQ$18:$BQ$1017),0)","v":9},{"$f":"IFERROR($E124*SUMIF('Daily Log'!$BS$18:$BS$1017,$B124,'Daily Log'!$BT$18:$BT$1017),0)","v":32},{"$f":"IFERROR($E124*SUMIF('Daily Log'!$BV$18:$BV$1017,$B124,'Daily Log'!$BW$18:$BW$1017),0)","v":42},{"$f":"IFERROR($E124*SUMIF('Daily Log'!$BY$18:$BY$1017,$B124,'Daily Log'!$BZ$18:$BZ$1017),0)","v":54},{"$f":"IFERROR($E124*SUMIF('Daily Log'!$CB$18:$CB$1017,$B124,'Daily Log'!$CC$18:$CC$1017),0)","v":66},{"$f":"IFERROR($E124*SUMIF('Daily Log'!$CE$18:$CE$1017,$B124,'Daily Log'!$CF$18:$CF$1017),0)","v":22},{"$f":"IFERROR($E124*SUMIF('Daily Log'!$CH$18:$CH$1017,$B124,'Daily Log'!$CI$18:$CI$1017),0)","v":27},{"$f":"IFERROR($E124*SUMIF('Daily Log'!$CK$18:$CK$1017,$B124,'Daily Log'!$CL$18:$CL$1017),0)","v":54},{"$f":"IFERROR($E124*SUMIF('Daily Log'!$CN$18:$CN$1017,$B124,'Daily Log'!$CO$18:$CO$1017),0)","v":0}]
[null,"CF05 92009:GRN TEA(C)",null,"FFDRINKS-COLD",1,1648,{"$f":"IFERROR($E125*SUMIF('Daily Log'!$B$18:$B$1017,$B125,'Daily Log'!$C$18:$C$1017),0)","v":61},{"$f":"IFERROR($E125*SUMIF('Daily Log'!$E$18:$E$1017,$B125,'Daily Log'!$F$18:$F$1017),0)","v":29},{"$f":"IFERROR($E125*SUMIF('Daily Log'!$H$18:$H$1017,$B125,'Daily Log'!$I$18:$I$1017),0)","v":40},{"$f":"IFERROR($E125*SUMIF('Daily Log'!$K$18:$K$1017,$B125,'Daily Log'!$L$18:$L$1017),0)","v":62},{"$f":"IFERROR($E125*SUMIF('Daily Log'!$N$18:$N$1017,$B125,'Daily Log'!$O$18:$O$1017),0)","v":75},{"$f":"IFERROR($E125*SUMIF('Daily Log'!$Q$18:$Q$1017,$B125,'Daily Log'!$R$18:$R$1017),0)","v":71},{"$f":"IFERROR($E125*SUMIF('Daily Log'!$T$18:$T$1017,$B125,'Daily Log'!$U$18:$U$1017),0)","v":28},{"$f":"IFERROR($E125*SUMIF('Daily Log'!$W$18:$W$1017,$B125,'Daily Log'!$X$18:$X$1017),0)","v":57},{"$f":"IFERROR($E125*SUMIF('Daily Log'!$Z$18:$Z$1017,$B125,'Daily Log'!$AA$18:$AA$1017),0)","v":54},{"$f":"IFERROR($E125*SUMIF('Daily Log'!$AC$18:$AC$1017,$B125,'Daily Log'!$AD$18:$AD$1017),0)","v":34},{"$f":"IFERROR($E125*SUMIF('Daily Log'!$AF$18:$AF$1017,$B125,'Daily Log'!$AG$18:$AG$1017),0)","v":62},{"$f":"IFERROR($E125*SUMIF('Daily Log'!$AI$18:$AI$1017,$B125,'Daily Log'!$AJ$18:$AJ$1017),0)","v":84},{"$f":"IFERROR($E125*SUMIF('Daily Log'!$AL$18:$AL$1017,$B125,'Daily Log'!$AM$18:$AM$1017),0)","v":71},{"$f":"IFERROR($E125*SUMIF('Daily Log'!$AO$18:$AO$1017,$B125,'Daily Log'!$AP$18:$AP$1017),0)","v":56},{"$f":"IFERROR($E125*SUMIF('Daily Log'!$AR$18:$AR$1017,$B125,'Daily Log'!$AS$18:$AS$1017),0)","v":32},{"$f":"IFERROR($E125*SUMIF('Daily Log'!$AU$18:$AU$1017,$B125,'Daily Log'!$AV$18:$AV$1017),0)","v":37},{"$f":"IFERROR($E125*SUMIF('Daily Log'!$AX$18:$AX$1017,$B125,'Daily Log'!$AY$18:$AY$1017),0)","v":42},{"$f":"IFERROR($E125*SUMIF('Daily Log'!$BA$18:$BA$1017,$B125,'Daily Log'!$BB$18:$BB$1017),0)","v":49},{"$f":"IFERROR($E125*SUMIF('Daily Log'!$BD$18:$BD$1017,$B125,'Daily Log'!$BE$18:$BE$1017),0)","v":78},{"$f":"IFERROR($E125*SUMIF('Daily Log'!$BG$18:$BG$1017,$B125,'Daily Log'!$BH$18:$BH$1017),0)","v":54},{"$f":"IFERROR($E125*SUMIF('Daily Log'!$BJ$18:$BJ$1017,$B125,'Daily Log'!$BK$18:$BK$1017),0)","v":40},{"$f":"IFERROR($E125*SUMIF('Daily Log'!$BM$18:$BM$1017,$B125,'Daily Log'!$BN$18:$BN$1017),0)","v":47},{"$f":"IFERROR($E125*SUMIF('Daily Log'!$BP$18:$BP$1017,$B125,'Daily Log'!$BQ$18:$BQ$1017),0)","v":44},{"$f":"IFERROR($E125*SUMIF('Daily Log'!$BS$18:$BS$1017,$B125,'Daily Log'!$BT$18:$BT$1017),0)","v":54},{"$f":"IFERROR($E125*SUMIF('Daily Log'!$BV$18:$BV$1017,$B125,'Daily Log'!$BW$18:$BW$1017),0)","v":55},{"$f":"IFERROR($E125*SUMIF('Daily Log'!$BY$18:$BY$1017,$B125,'Daily Log'!$BZ$18:$BZ$1017),0)","v":93},{"$f":"IFERROR($E125*SUMIF('Daily Log'!$CB$18:$CB$1017,$B125,'Daily Log'!$CC$18:$CC$1017),0)","v":66},{"$f":"IFERROR($E125*SUMIF('Daily Log'!$CE$18:$CE$1017,$B125,'Daily Log'!$CF$18:$CF$1017),0)","v":56},{"$f":"IFERROR($E125*SUMIF('Daily Log'!$CH$18:$CH$1017,$B125,'Daily Log'!$CI$18:$CI$1017),0)","v":46},{"$f":"IFERROR($E125*SUMIF('Daily Log'!$CK$18:$CK$1017,$B125,'Daily Log'!$CL$18:$CL$1017),0)","v":71},{"$f":"IFERROR($E125*SUMIF('Daily Log'!$CN$18:$CN$1017,$B125,'Daily Log'!$CO$18:$CO$1017),0)","v":0}]
[null,"CF06 92011:HNY GT(C)",null,"FFDRINKS-COLD",1,1373,{"$f":"IFERROR($E126*SUMIF('Daily Log'!$B$18:$B$1017,$B126,'Daily Log'!$C$18:$C$1017),0)","v":38},{"$f":"IFERROR($E126*SUMIF('Daily Log'!$E$18:$E$1017,$B126,'Daily Log'!$F$18:$F$1017),0)","v":61},{"$f":"IFERROR($E126*SUMIF('Daily Log'!$H$18:$H$1017,$B126,'Daily Log'!$I$18:$I$1017),0)","v":38},{"$f":"IFERROR($E126*SUMIF('Daily Log'!$K$18:$K$1017,$B126,'Daily Log'!$L$18:$L$1017),0)","v":61},{"$f":"IFERROR($E126*SUMIF('Daily Log'!$N$18:$N$1017,$B126,'Daily Log'!$O$18:$O$1017),0)","v":48},{"$f":"IFERROR($E126*SUMIF('Daily Log'!$Q$18:$Q$1017,$B126,'Daily Log'!$R$18:$R$1017),0)","v":58},{"$f":"IFERROR($E126*SUMIF('Daily Log'!$T$18:$T$1017,$B126,'Daily Log'!$U$18:$U$1017),0)","v":41},{"$f":"IFERROR($E126*SUMIF('Daily Log'!$W$18:$W$1017,$B126,'Daily Log'!$X$18:$X$1017),0)","v":37},{"$f":"IFERROR($E126*SUMIF('Daily Log'!$Z$18:$Z$1017,$B126,'Daily Log'!$AA$18:$AA$1017),0)","v":24},{"$f":"IFERROR($E126*SUMIF('Daily Log'!$AC$18:$AC$1017,$B126,'Daily Log'!$AD$18:$AD$1017),0)","v":46},{"$f":"IFERROR($E126*SUMIF('Daily Log'!$AF$18:$AF$1017,$B126,'Daily Log'!$AG$18:$AG$1017),0)","v":51},{"$f":"IFERROR($E126*SUMIF('Daily Log'!$AI$18:$AI$1017,$B126,'Daily Log'!$AJ$18:$AJ$1017),0)","v":81},{"$f":"IFERROR($E126*SUMIF('Daily Log'!$AL$18:$AL$1017,$B126,'Daily Log'!$AM$18:$AM$1017),0)","v":51},{"$f":"IFERROR($E126*SUMIF('Daily Log'!$AO$18:$AO$1017,$B126,'Daily Log'!$AP$18:$AP$1017),0)","v":37},{"$f":"IFERROR($E126*SUMIF('Daily Log'!$AR$18:$AR$1017,$B126,'Daily Log'!$AS$18:$AS$1017),0)","v":34},{"$f":"IFERROR($E126*SUMIF('Daily Log'!$AU$18:$AU$1017,$B126,'Daily Log'!$AV$18:$AV$1017),0)","v":60},{"$f":"IFERROR($E126*SUMIF('Daily Log'!$AX$18:$AX$1017,$B126,'Daily Log'!$AY$18:$AY$1017),0)","v":41},{"$f":"IFERROR($E126*SUMIF('Daily Log'!$BA$18:$BA$1017,$B126,'Daily Log'!$BB$18:$BB$1017),0)","v":50},{"$f":"IFERROR($E126*SUMIF('Daily Log'!$BD$18:$BD$1017,$B126,'Daily Log'!$BE$18:$BE$1017),0)","v":94},{"$f":"IFERROR($E126*SUMIF('Daily Log'!$BG$18:$BG$1017,$B126,'Daily Log'!$BH$18:$BH$1017),0)","v":55},{"$f":"IFERROR($E126*SUMIF('Daily Log'!$BJ$18:$BJ$1017,$B126,'Daily Log'!$BK$18:$BK$1017),0)","v":23},{"$f":"IFERROR($E126*SUMIF('Daily Log'!$BM$18:$BM$1017,$B126,'Daily Log'!$BN$18:$BN$1017),0)","v":44},{"$f":"IFERROR($E126*SUMIF('Daily Log'!$BP$18:$BP$1017,$B126,'Daily Log'!$BQ$18:$BQ$1017),0)","v":25},{"$f":"IFERROR($E126*SUMIF('Daily Log'!$BS$18:$BS$1017,$B126,'Daily Log'!$BT$18:$BT$1017),0)","v":40},{"$f":"IFERROR($E126*SUMIF('Daily Log'!$BV$18:$BV$1017,$B126,'Daily Log'!$BW$18:$BW$1017),0)","v":55},{"$f":"IFERROR($E126*SUMIF('Daily Log'!$BY$18:$BY$1017,$B126,'Daily Log'!$BZ$18:$BZ$1017),0)","v":39},{"$f":"IFERROR($E126*SUMIF('Daily Log'!$CB$18:$CB$1017,$B126,'Daily Log'!$CC$18:$CC$1017),0)","v":62},{"$f":"IFERROR($E126*SUMIF('Daily Log'!$CE$18:$CE$1017,$B126,'Daily Log'!$CF$18:$CF$1017),0)","v":28},{"$f":"IFERROR($E126*SUMIF('Daily Log'!$CH$18:$CH$1017,$B126,'Daily Log'!$CI$18:$CI$1017),0)","v":22},{"$f":"IFERROR($E126*SUMIF('Daily Log'!$CK$18:$CK$1017,$B126,'Daily Log'!$CL$18:$CL$1017),0)","v":29},{"$f":"IFERROR($E126*SUMIF('Daily Log'!$CN$18:$CN$1017,$B126,'Daily Log'!$CO$18:$CO$1017),0)","v":0}]
[null,"CF07 92013:HONEY(C)",null,"FFDRINKS-COLD",1,443,{"$f":"IFERROR($E127*SUMIF('Daily Log'!$B$18:$B$1017,$B127,'Daily Log'!$C$18:$C$1017),0)","v":22},{"$f":"IFERROR($E127*SUMIF('Daily Log'!$E$18:$E$1017,$B127,'Daily Log'!$F$18:$F$1017),0)","v":8},{"$f":"IFERROR($E127*SUMIF('Daily Log'!$H$18:$H$1017,$B127,'Daily Log'!$I$18:$I$1017),0)","v":12},{"$f":"IFERROR($E127*SUMIF('Daily Log'!$K$18:$K$1017,$B127,'Daily Log'!$L$18:$L$1017),0)","v":17},{"$f":"IFERROR($E127*SUMIF('Daily Log'!$N$18:$N$1017,$B127,'Daily Log'!$O$18:$O$1017),0)","v":20},{"$f":"IFERROR($E127*SUMIF('Daily Log'!$Q$18:$Q$1017,$B127,'Daily Log'!$R$18:$R$1017),0)","v":23},{"$f":"IFERROR($E127*SUMIF('Daily Log'!$T$18:$T$1017,$B127,'Daily Log'!$U$18:$U$1017),0)","v":11},{"$f":"IFERROR($E127*SUMIF('Daily Log'!$W$18:$W$1017,$B127,'Daily Log'!$X$18:$X$1017),0)","v":10},{"$f":"IFERROR($E127*SUMIF('Daily Log'!$Z$18:$Z$1017,$B127,'Daily Log'!$AA$18:$AA$1017),0)","v":16},{"$f":"IFERROR($E127*SUMIF('Daily Log'!$AC$18:$AC$1017,$B127,'Daily Log'!$AD$18:$AD$1017),0)","v":14},{"$f":"IFERROR($E127*SUMIF('Daily Log'!$AF$18:$AF$1017,$B127,'Daily Log'!$AG$18:$AG$1017),0)","v":23},{"$f":"IFERROR($E127*SUMIF('Daily Log'!$AI$18:$AI$1017,$B127,'Daily Log'!$AJ$18:$AJ$1017),0)","v":14},{"$f":"IFERROR($E127*SUMIF('Daily Log'!$AL$18:$AL$1017,$B127,'Daily Log'!$AM$18:$AM$1017),0)","v":11},{"$f":"IFERROR($E127*SUMIF('Daily Log'!$AO$18:$AO$1017,$B127,'Daily Log'!$AP$18:$AP$1017),0)","v":14},{"$f":"IFERROR($E127*SUMIF('Daily Log'!$AR$18:$AR$1017,$B127,'Daily Log'!$AS$18:$AS$1017),0)","v":6},{"$f":"IFERROR($E127*SUMIF('Daily Log'!$AU$18:$AU$1017,$B127,'Daily Log'!$AV$18:$AV$1017),0)","v":19},{"$f":"IFERROR($E127*SUMIF('Daily Log'!$AX$18:$AX$1017,$B127,'Daily Log'!$AY$18:$AY$1017),0)","v":13},{"$f":"IFERROR($E127*SUMIF('Daily Log'!$BA$18:$BA$1017,$B127,'Daily Log'!$BB$18:$BB$1017),0)","v":26},{"$f":"IFERROR($E127*SUMIF('Daily Log'!$BD$18:$BD$1017,$B127,'Daily Log'!$BE$18:$BE$1017),0)","v":21},{"$f":"IFERROR($E127*SUMIF('Daily Log'!$BG$18:$BG$1017,$B127,'Daily Log'!$BH$18:$BH$1017),0)","v":10},{"$f":"IFERROR($E127*SUMIF('Daily Log'!$BJ$18:$BJ$1017,$B127,'Daily Log'!$BK$18:$BK$1017),0)","v":19},{"$f":"IFERROR($E127*SUMIF('Daily Log'!$BM$18:$BM$1017,$B127,'Daily Log'!$BN$18:$BN$1017),0)","v":15},{"$f":"IFERROR($E127*SUMIF('Daily Log'!$BP$18:$BP$1017,$B127,'Daily Log'!$BQ$18:$BQ$1017),0)","v":9},{"$f":"IFERROR($E127*SUMIF('Daily Log'!$BS$18:$BS$1017,$B127,'Daily Log'!$BT$18:$BT$1017),0)","v":13},{"$f":"IFERROR($E127*SUMIF('Daily Log'!$BV$18:$BV$1017,$B127,'Daily Log'!$BW$18:$BW$1017),0)","v":8},{"$f":"IFERROR($E127*SUMIF('Daily Log'!$BY$18:$BY$1017,$B127,'Daily Log'!$BZ$18:$BZ$1017),0)","v":12},{"$f":"IFERROR($E127*SUMIF('Daily Log'!$CB$18:$CB$1017,$B127,'Daily Log'!$CC$18:$CC$1017),0)","v":12},{"$f":"IFERROR($E127*SUMIF('Daily Log'!$CE$18:$CE$1017,$B127,'Daily Log'!$CF$18:$CF$1017),0)","v":19},{"$f":"IFERROR($E127*SUMIF('Daily Log'!$CH$18:$CH$1017,$B127,'Daily Log'!$CI$18:$CI$1017),0)","v":10},{"$f":"IFERROR($E127*SUMIF('Daily Log'!$CK$18:$CK$1017,$B127,'Daily Log'!$CL$18:$CL$1017),0)","v":16},{"$f":"IFERROR($E127*SUMIF('Daily Log'!$CN$18:$CN$1017,$B127,'Daily Log'!$CO$18:$CO$1017),0)","v":0}]
[null,"CF08 92015:HNY LMN(C)",null,"FFDRINKS-COLD",1,2990,{"$f":"IFERROR($E128*SUMIF('Daily Log'!$B$18:$B$1017,$B128,'Daily Log'!$C$18:$C$1017),0)","v":118},{"$f":"IFERROR($E128*SUMIF('Daily Log'!$E$18:$E$1017,$B128,'Daily Log'!$F$18:$F$1017),0)","v":111},{"$f":"IFERROR($E128*SUMIF('Daily Log'!$H$18:$H$1017,$B128,'Daily Log'!$I$18:$I$1017),0)","v":91},{"$f":"IFERROR($E128*SUMIF('Daily Log'!$K$18:$K$1017,$B128,'Daily Log'!$L$18:$L$1017),0)","v":118},{"$f":"IFERROR($E128*SUMIF('Daily Log'!$N$18:$N$1017,$B128,'Daily Log'!$O$18:$O$1017),0)","v":145},{"$f":"IFERROR($E128*SUMIF('Daily Log'!$Q$18:$Q$1017,$B128,'Daily Log'!$R$18:$R$1017),0)","v":157},{"$f":"IFERROR($E128*SUMIF('Daily Log'!$T$18:$T$1017,$B128,'Daily Log'!$U$18:$U$1017),0)","v":68},{"$f":"IFERROR($E128*SUMIF('Daily Log'!$W$18:$W$1017,$B128,'Daily Log'!$X$18:$X$1017),0)","v":82},{"$f":"IFERROR($E128*SUMIF('Daily Log'!$Z$18:$Z$1017,$B128,'Daily Log'!$AA$18:$AA$1017),0)","v":54},{"$f":"IFERROR($E128*SUMIF('Daily Log'!$AC$18:$AC$1017,$B128,'Daily Log'!$AD$18:$AD$1017),0)","v":84},{"$f":"IFERROR($E128*SUMIF('Daily Log'!$AF$18:$AF$1017,$B128,'Daily Log'!$AG$18:$AG$1017),0)","v":99},{"$f":"IFERROR($E128*SUMIF('Daily Log'!$AI$18:$AI$1017,$B128,'Daily Log'!$AJ$18:$AJ$1017),0)","v":161},{"$f":"IFERROR($E128*SUMIF('Daily Log'!$AL$18:$AL$1017,$B128,'Daily Log'!$AM$18:$AM$1017),0)","v":102},{"$f":"IFERROR($E128*SUMIF('Daily Log'!$AO$18:$AO$1017,$B128,'Daily Log'!$AP$18:$AP$1017),0)","v":54},{"$f":"IFERROR($E128*SUMIF('Daily Log'!$AR$18:$AR$1017,$B128,'Daily Log'!$AS$18:$AS$1017),0)","v":63},{"$f":"IFERROR($E128*SUMIF('Daily Log'!$AU$18:$AU$1017,$B128,'Daily Log'!$AV$18:$AV$1017),0)","v":67},{"$f":"IFERROR($E128*SUMIF('Daily Log'!$AX$18:$AX$1017,$B128,'Daily Log'!$AY$18:$AY$1017),0)","v":78},{"$f":"IFERROR($E128*SUMIF('Daily Log'!$BA$18:$BA$1017,$B128,'Daily Log'!$BB$18:$BB$1017),0)","v":96},{"$f":"IFERROR($E128*SUMIF('Daily Log'!$BD$18:$BD$1017,$B128,'Daily Log'!$BE$18:$BE$1017),0)","v":170},{"$f":"IFERROR($E128*SUMIF('Daily Log'!$BG$18:$BG$1017,$B128,'Daily Log'!$BH$18:$BH$1017),0)","v":91},{"$f":"IFERROR($E128*SUMIF('Daily Log'!$BJ$18:$BJ$1017,$B128,'Daily Log'!$BK$18:$BK$1017),0)","v":98},{"$f":"IFERROR($E128*SUMIF('Daily Log'!$BM$18:$BM$1017,$B128,'Daily Log'!$BN$18:$BN$1017),0)","v":97},{"$f":"IFERROR($E128*SUMIF('Daily Log'!$BP$18:$BP$1017,$B128,'Daily Log'!$BQ$18:$BQ$1017),0)","v":87},{"$f":"IFERROR($E128*SUMIF('Daily Log'!$BS$18:$BS$1017,$B128,'Daily Log'!$BT$18:$BT$1017),0)","v":77},{"$f":"IFERROR($E128*SUMIF('Daily Log'!$BV$18:$BV$1017,$B128,'Daily Log'!$BW$18:$BW$1017),0)","v":139},{"$f":"IFERROR($E128*SUMIF('Daily Log'!$BY$18:$BY$1017,$B128,'Daily Log'!$BZ$18:$BZ$1017),0)","v":109},{"$f":"IFERROR($E128*SUMIF('Daily Log'!$CB$18:$CB$1017,$B128,'Daily Log'!$CC$18:$CC$1017),0)","v":105},{"$f":"IFERROR($E128*SUMIF('Daily Log'!$CE$18:$CE$1017,$B128,'Daily Log'!$CF$18:$CF$1017),0)","v":82},{"$f":"IFERROR($E128*SUMIF('Daily Log'!$CH$18:$CH$1017,$B128,'Daily Log'!$CI$18:$CI$1017),0)","v":85},{"$f":"IFERROR($E128*SUMIF('Daily Log'!$CK$18:$CK$1017,$B128,'Daily Log'!$CL$18:$CL$1017),0)","v":102},{"$f":"IFERROR($E128*SUMIF('Daily Log'!$CN$18:$CN$1017,$B128,'Daily Log'!$CO$18:$CO$1017),0)","v":0}]
[null,"HB01 2002:MILO(H)",null,"SO-HOT BEVERAGES",1,2,{"$f":"IFERROR($E129*SUMIF('Daily Log'!$B$18:$B$1017,$B129,'Daily Log'!$C$18:$C$1017),0)","v":0},{"$f":"IFERROR($E129*SUMIF('Daily Log'!$E$18:$E$1017,$B129,'Daily Log'!$F$18:$F$1017),0)","v":0},{"$f":"IFERROR($E129*SUMIF('Daily Log'!$H$18:$H$1017,$B129,'Daily Log'!$I$18:$I$1017),0)","v":0},{"$f":"IFERROR($E129*SUMIF('Daily Log'!$K$18:$K$1017,$B129,'Daily Log'!$L$18:$L$1017),0)","v":1},{"$f":"IFERROR($E129*SUMIF('Daily Log'!$N$18:$N$1017,$B129,'Daily Log'!$O$18:$O$1017),0)","v":0},{"$f":"IFERROR($E129*SUMIF('Daily Log'!$Q$18:$Q$1017,$B129,'Daily Log'!$R$18:$R$1017),0)","v":0},{"$f":"IFERROR($E129*SUMIF('Daily Log'!$T$18:$T$1017,$B129,'Daily Log'!$U$18:$U$1017),0)","v":0},{"$f":"IFERROR($E129*SUMIF('Daily Log'!$W$18:$W$1017,$B129,'Daily Log'!$X$18:$X$1017),0)","v":0},{"$f":"IFERROR($E129*SUMIF('Daily Log'!$Z$18:$Z$1017,$B129,'Daily Log'!$AA$18:$AA$1017),0)","v":0},{"$f":"IFERROR($E129*SUMIF('Daily Log'!$AC$18:$AC$1017,$B129,'Daily Log'!$AD$18:$AD$1017),0)","v":0},{"$f":"IFERROR($E129*SUMIF('Daily Log'!$AF$18:$AF$1017,$B129,'Daily Log'!$AG$18:$AG$1017),0)","v":0},{"$f":"IFERROR($E129*SUMIF('Daily Log'!$AI$18:$AI$1017,$B129,'Daily Log'!$AJ$18:$AJ$1017),0)","v":0},{"$f":"IFERROR($E129*SUMIF('Daily Log'!$AL$18:$AL$1017,$B129,'Daily Log'!$AM$18:$AM$1017),0)","v":0},{"$f":"IFERROR($E129*SUMIF('Daily Log'!$AO$18:$AO$1017,$B129,'Daily Log'!$AP$18:$AP$1017),0)","v":1},{"$f":"IFERROR($E129*SUMIF('Daily Log'!$AR$18:$AR$1017,$B129,'Daily Log'!$AS$18:$AS$1017),0)","v":0},{"$f":"IFERROR($E129*SUMIF('Daily Log'!$AU$18:$AU$1017,$B129,'Daily Log'!$AV$18:$AV$1017),0)","v":0},{"$f":"IFERROR($E129*SUMIF('Daily Log'!$AX$18:$AX$1017,$B129,'Daily Log'!$AY$18:$AY$1017),0)","v":0},{"$f":"IFERROR($E129*SUMIF('Daily Log'!$BA$18:$BA$1017,$B129,'Daily Log'!$BB$18:$BB$1017),0)","v":0},{"$f":"IFERROR($E129*SUMIF('Daily Log'!$BD$18:$BD$1017,$B129,'Daily Log'!$BE$18:$BE$1017),0)","v":0},{"$f":"IFERROR($E129*SUMIF('Daily Log'!$BG$18:$BG$1017,$B129,'Daily Log'!$BH$18:$BH$1017),0)","v":0},{"$f":"IFERROR($E129*SUMIF('Daily Log'!$BJ$18:$BJ$1017,$B129,'Daily Log'!$BK$18:$BK$1017),0)","v":0},{"$f":"IFERROR($E129*SUMIF('Daily Log'!$BM$18:$BM$1017,$B129,'Daily Log'!$BN$18:$BN$1017),0)","v":0},{"$f":"IFERROR($E129*SUMIF('Daily Log'!$BP$18:$BP$1017,$B129,'Daily Log'!$BQ$18:$BQ$1017),0)","v":0},{"$f":"IFERROR($E129*SUMIF('Daily Log'!$BS$18:$BS$1017,$B129,'Daily Log'!$BT$18:$BT$1017),0)","v":0},{"$f":"IFERROR($E129*SUMIF('Daily Log'!$BV$18:$BV$1017,$B129,'Daily Log'!$BW$18:$BW$1017),0)","v":0},{"$f":"IFERROR($E129*SUMIF('Daily Log'!$BY$18:$BY$1017,$B129,'Daily Log'!$BZ$18:$BZ$1017),0)","v":0},{"$f":"IFERROR($E129*SUMIF('Daily Log'!$CB$18:$CB$1017,$B129,'Daily Log'!$CC$18:$CC$1017),0)","v":0},{"$f":"IFERROR($E129*SUMIF('Daily Log'!$CE$18:$CE$1017,$B129,'Daily Log'!$CF$18:$CF$1017),0)","v":0},{"$f":"IFERROR($E129*SUMIF('Daily Log'!$CH$18:$CH$1017,$B129,'Daily Log'!$CI$18:$CI$1017),0)","v":0},{"$f":"IFERROR($E129*SUMIF('Daily Log'!$CK$18:$CK$1017,$B129,'Daily Log'!$CL$18:$CL$1017),0)","v":0},{"$f":"IFERROR($E129*SUMIF('Daily Log'!$CN$18:$CN$1017,$B129,'Daily Log'!$CO$18:$CO$1017),0)","v":0}]
[null,"HB02 2004:NESCAFE(H)",null,"SO-HOT BEVERAGES",1,1,{"$f":"IFERROR($E130*SUMIF('Daily Log'!$B$18:$B$1017,$B130,'Daily Log'!$C$18:$C$1017),0)","v":0},{"$f":"IFERROR($E130*SUMIF('Daily Log'!$E$18:$E$1017,$B130,'Daily Log'!$F$18:$F$1017),0)","v":0},{"$f":"IFERROR($E130*SUMIF('Daily Log'!$H$18:$H$1017,$B130,'Daily Log'!$I$18:$I$1017),0)","v":0},{"$f":"IFERROR($E130*SUMIF('Daily Log'!$K$18:$K$1017,$B130,'Daily Log'!$L$18:$L$1017),0)","v":0},{"$f":"IFERROR($E130*SUMIF('Daily Log'!$N$18:$N$1017,$B130,'Daily Log'!$O$18:$O$1017),0)","v":0},{"$f":"IFERROR($E130*SUMIF('Daily Log'!$Q$18:$Q$1017,$B130,'Daily Log'!$R$18:$R$1017),0)","v":0},{"$f":"IFERROR($E130*SUMIF('Daily Log'!$T$18:$T$1017,$B130,'Daily Log'!$U$18:$U$1017),0)","v":0},{"$f":"IFERROR($E130*SUMIF('Daily Log'!$W$18:$W$1017,$B130,'Daily Log'!$X$18:$X$1017),0)","v":0},{"$f":"IFERROR($E130*SUMIF('Daily Log'!$Z$18:$Z$1017,$B130,'Daily Log'!$AA$18:$AA$1017),0)","v":0},{"$f":"IFERROR($E130*SUMIF('Daily Log'!$AC$18:$AC$1017,$B130,'Daily Log'!$AD$18:$AD$1017),0)","v":1},{"$f":"IFERROR($E130*SUMIF('Daily Log'!$AF$18:$AF$1017,$B130,'Daily Log'!$AG$18:$AG$1017),0)","v":0},{"$f":"IFERROR($E130*SUMIF('Daily Log'!$AI$18:$AI$1017,$B130,'Daily Log'!$AJ$18:$AJ$1017),0)","v":0},{"$f":"IFERROR($E130*SUMIF('Daily Log'!$AL$18:$AL$1017,$B130,'Daily Log'!$AM$18:$AM$1017),0)","v":0},{"$f":"IFERROR($E130*SUMIF('Daily Log'!$AO$18:$AO$1017,$B130,'Daily Log'!$AP$18:$AP$1017),0)","v":0},{"$f":"IFERROR($E130*SUMIF('Daily Log'!$AR$18:$AR$1017,$B130,'Daily Log'!$AS$18:$AS$1017),0)","v":0},{"$f":"IFERROR($E130*SUMIF('Daily Log'!$AU$18:$AU$1017,$B130,'Daily Log'!$AV$18:$AV$1017),0)","v":0},{"$f":"IFERROR($E130*SUMIF('Daily Log'!$AX$18:$AX$1017,$B130,'Daily Log'!$AY$18:$AY$1017),0)","v":0},{"$f":"IFERROR($E130*SUMIF('Daily Log'!$BA$18:$BA$1017,$B130,'Daily Log'!$BB$18:$BB$1017),0)","v":0},{"$f":"IFERROR($E130*SUMIF('Daily Log'!$BD$18:$BD$1017,$B130,'Daily Log'!$BE$18:$BE$1017),0)","v":0},{"$f":"IFERROR($E130*SUMIF('Daily Log'!$BG$18:$BG$1017,$B130,'Daily Log'!$BH$18:$BH$1017),0)","v":0},{"$f":"IFERROR($E130*SUMIF('Daily Log'!$BJ$18:$BJ$1017,$B130,'Daily Log'!$BK$18:$BK$1017),0)","v":0},{"$f":"IFERROR($E130*SUMIF('Daily Log'!$BM$18:$BM$1017,$B130,'Daily Log'!$BN$18:$BN$1017),0)","v":0},{"$f":"IFERROR($E130*SUMIF('Daily Log'!$BP$18:$BP$1017,$B130,'Daily Log'!$BQ$18:$BQ$1017),0)","v":0},{"$f":"IFERROR($E130*SUMIF('Daily Log'!$BS$18:$BS$1017,$B130,'Daily Log'!$BT$18:$BT$1017),0)","v":0},{"$f":"IFERROR($E130*SUMIF('Daily Log'!$BV$18:$BV$1017,$B130,'Daily Log'!$BW$18:$BW$1017),0)","v":0},{"$f":"IFERROR($E130*SUMIF('Daily Log'!$BY$18:$BY$1017,$B130,'Daily Log'!$BZ$18:$BZ$1017),0)","v":0},{"$f":"IFERROR($E130*SUMIF('Daily Log'!$CB$18:$CB$1017,$B130,'Daily Log'!$CC$18:$CC$1017),0)","v":0},{"$f":"IFERROR($E130*SUMIF('Daily Log'!$CE$18:$CE$1017,$B130,'Daily Log'!$CF$18:$CF$1017),0)","v":0},{"$f":"IFERROR($E130*SUMIF('Daily Log'!$CH$18:$CH$1017,$B130,'Daily Log'!$CI$18:$CI$1017),0)","v":0},{"$f":"IFERROR($E130*SUMIF('Daily Log'!$CK$18:$CK$1017,$B130,'Daily Log'!$CL$18:$CL$1017),0)","v":0},{"$f":"IFERROR($E130*SUMIF('Daily Log'!$CN$18:$CN$1017,$B130,'Daily Log'!$CO$18:$CO$1017),0)","v":0}]
[null,"HB03 2006:TEA(H)",null,"SO-HOT BEVERAGES",1,0,{"$f":"IFERROR($E131*SUMIF('Daily Log'!$B$18:$B$1017,$B131,'Daily Log'!$C$18:$C$1017),0)","v":0},{"$f":"IFERROR($E131*SUMIF('Daily Log'!$E$18:$E$1017,$B131,'Daily Log'!$F$18:$F$1017),0)","v":0},{"$f":"IFERROR($E131*SUMIF('Daily Log'!$H$18:$H$1017,$B131,'Daily Log'!$I$18:$I$1017),0)","v":0},{"$f":"IFERROR($E131*SUMIF('Daily Log'!$K$18:$K$1017,$B131,'Daily Log'!$L$18:$L$1017),0)","v":0},{"$f":"IFERROR($E131*SUMIF('Daily Log'!$N$18:$N$1017,$B131,'Daily Log'!$O$18:$O$1017),0)","v":0},{"$f":"IFERROR($E131*SUMIF('Daily Log'!$Q$18:$Q$1017,$B131,'Daily Log'!$R$18:$R$1017),0)","v":0},{"$f":"IFERROR($E131*SUMIF('Daily Log'!$T$18:$T$1017,$B131,'Daily Log'!$U$18:$U$1017),0)","v":0},{"$f":"IFERROR($E131*SUMIF('Daily Log'!$W$18:$W$1017,$B131,'Daily Log'!$X$18:$X$1017),0)","v":0},{"$f":"IFERROR($E131*SUMIF('Daily Log'!$Z$18:$Z$1017,$B131,'Daily Log'!$AA$18:$AA$1017),0)","v":0},{"$f":"IFERROR($E131*SUMIF('Daily Log'!$AC$18:$AC$1017,$B131,'Daily Log'!$AD$18:$AD$1017),0)","v":0},{"$f":"IFERROR($E131*SUMIF('Daily Log'!$AF$18:$AF$1017,$B131,'Daily Log'!$AG$18:$AG$1017),0)","v":0},{"$f":"IFERROR($E131*SUMIF('Daily Log'!$AI$18:$AI$1017,$B131,'Daily Log'!$AJ$18:$AJ$1017),0)","v":0},{"$f":"IFERROR($E131*SUMIF('Daily Log'!$AL$18:$AL$1017,$B131,'Daily Log'!$AM$18:$AM$1017),0)","v":0},{"$f":"IFERROR($E131*SUMIF('Daily Log'!$AO$18:$AO$1017,$B131,'Daily Log'!$AP$18:$AP$1017),0)","v":0},{"$f":"IFERROR($E131*SUMIF('Daily Log'!$AR$18:$AR$1017,$B131,'Daily Log'!$AS$18:$AS$1017),0)","v":0},{"$f":"IFERROR($E131*SUMIF('Daily Log'!$AU$18:$AU$1017,$B131,'Daily Log'!$AV$18:$AV$1017),0)","v":0},{"$f":"IFERROR($E131*SUMIF('Daily Log'!$AX$18:$AX$1017,$B131,'Daily Log'!$AY$18:$AY$1017),0)","v":0},{"$f":"IFERROR($E131*SUMIF('Daily Log'!$BA$18:$BA$1017,$B131,'Daily Log'!$BB$18:$BB$1017),0)","v":0},{"$f":"IFERROR($E131*SUMIF('Daily Log'!$BD$18:$BD$1017,$B131,'Daily Log'!$BE$18:$BE$1017),0)","v":0},{"$f":"IFERROR($E131*SUMIF('Daily Log'!$BG$18:$BG$1017,$B131,'Daily Log'!$BH$18:$BH$1017),0)","v":0},{"$f":"IFERROR($E131*SUMIF('Daily Log'!$BJ$18:$BJ$1017,$B131,'Daily Log'!$BK$18:$BK$1017),0)","v":0},{"$f":"IFERROR($E131*SUMIF('Daily Log'!$BM$18:$BM$1017,$B131,'Daily Log'!$BN$18:$BN$1017),0)","v":0},{"$f":"IFERROR($E131*SUMIF('Daily Log'!$BP$18:$BP$1017,$B131,'Daily Log'!$BQ$18:$BQ$1017),0)","v":0},{"$f":"IFERROR($E131*SUMIF('Daily Log'!$BS$18:$BS$1017,$B131,'Daily Log'!$BT$18:$BT$1017),0)","v":0},{"$f":"IFERROR($E131*SUMIF('Daily Log'!$BV$18:$BV$1017,$B131,'Daily Log'!$BW$18:$BW$1017),0)","v":0},{"$f":"IFERROR($E131*SUMIF('Daily Log'!$BY$18:$BY$1017,$B131,'Daily Log'!$BZ$18:$BZ$1017),0)","v":0},{"$f":"IFERROR($E131*SUMIF('Daily Log'!$CB$18:$CB$1017,$B131,'Daily Log'!$CC$18:$CC$1017),0)","v":0},{"$f":"IFERROR($E131*SUMIF('Daily Log'!$CE$18:$CE$1017,$B131,'Daily Log'!$CF$18:$CF$1017),0)","v":0},{"$f":"IFERROR($E131*SUMIF('Daily Log'!$CH$18:$CH$1017,$B131,'Daily Log'!$CI$18:$CI$1017),0)","v":0},{"$f":"IFERROR($E131*SUMIF('Daily Log'!$CK$18:$CK$1017,$B131,'Daily Log'!$CL$18:$CL$1017),0)","v":0},{"$f":"IFERROR($E131*SUMIF('Daily Log'!$CN$18:$CN$1017,$B131,'Daily Log'!$CO$18:$CO$1017),0)","v":0}]
[null,"HB04 2008:LMN TEA(H)",null,"SO-HOT BEVERAGES",1,0,{"$f":"IFERROR($E132*SUMIF('Daily Log'!$B$18:$B$1017,$B132,'Daily Log'!$C$18:$C$1017),0)","v":0},{"$f":"IFERROR($E132*SUMIF('Daily Log'!$E$18:$E$1017,$B132,'Daily Log'!$F$18:$F$1017),0)","v":0},{"$f":"IFERROR($E132*SUMIF('Daily Log'!$H$18:$H$1017,$B132,'Daily Log'!$I$18:$I$1017),0)","v":0},{"$f":"IFERROR($E132*SUMIF('Daily Log'!$K$18:$K$1017,$B132,'Daily Log'!$L$18:$L$1017),0)","v":0},{"$f":"IFERROR($E132*SUMIF('Daily Log'!$N$18:$N$1017,$B132,'Daily Log'!$O$18:$O$1017),0)","v":0},{"$f":"IFERROR($E132*SUMIF('Daily Log'!$Q$18:$Q$1017,$B132,'Daily Log'!$R$18:$R$1017),0)","v":0},{"$f":"IFERROR($E132*SUMIF('Daily Log'!$T$18:$T$1017,$B132,'Daily Log'!$U$18:$U$1017),0)","v":0},{"$f":"IFERROR($E132*SUMIF('Daily Log'!$W$18:$W$1017,$B132,'Daily Log'!$X$18:$X$1017),0)","v":0},{"$f":"IFERROR($E132*SUMIF('Daily Log'!$Z$18:$Z$1017,$B132,'Daily Log'!$AA$18:$AA$1017),0)","v":0},{"$f":"IFERROR($E132*SUMIF('Daily Log'!$AC$18:$AC$1017,$B132,'Daily Log'!$AD$18:$AD$1017),0)","v":0},{"$f":"IFERROR($E132*SUMIF('Daily Log'!$AF$18:$AF$1017,$B132,'Daily Log'!$AG$18:$AG$1017),0)","v":0},{"$f":"IFERROR($E132*SUMIF('Daily Log'!$AI$18:$AI$1017,$B132,'Daily Log'!$AJ$18:$AJ$1017),0)","v":0},{"$f":"IFERROR($E132*SUMIF('Daily Log'!$AL$18:$AL$1017,$B132,'Daily Log'!$AM$18:$AM$1017),0)","v":0},{"$f":"IFERROR($E132*SUMIF('Daily Log'!$AO$18:$AO$1017,$B132,'Daily Log'!$AP$18:$AP$1017),0)","v":0},{"$f":"IFERROR($E132*SUMIF('Daily Log'!$AR$18:$AR$1017,$B132,'Daily Log'!$AS$18:$AS$1017),0)","v":0},{"$f":"IFERROR($E132*SUMIF('Daily Log'!$AU$18:$AU$1017,$B132,'Daily Log'!$AV$18:$AV$1017),0)","v":0},{"$f":"IFERROR($E132*SUMIF('Daily Log'!$AX$18:$AX$1017,$B132,'Daily Log'!$AY$18:$AY$1017),0)","v":0},{"$f":"IFERROR($E132*SUMIF('Daily Log'!$BA$18:$BA$1017,$B132,'Daily Log'!$BB$18:$BB$1017),0)","v":0},{"$f":"IFERROR($E132*SUMIF('Daily Log'!$BD$18:$BD$1017,$B132,'Daily Log'!$BE$18:$BE$1017),0)","v":0},{"$f":"IFERROR($E132*SUMIF('Daily Log'!$BG$18:$BG$1017,$B132,'Daily Log'!$BH$18:$BH$1017),0)","v":0},{"$f":"IFERROR($E132*SUMIF('Daily Log'!$BJ$18:$BJ$1017,$B132,'Daily Log'!$BK$18:$BK$1017),0)","v":0},{"$f":"IFERROR($E132*SUMIF('Daily Log'!$BM$18:$BM$1017,$B132,'Daily Log'!$BN$18:$BN$1017),0)","v":0},{"$f":"IFERROR($E132*SUMIF('Daily Log'!$BP$18:$BP$1017,$B132,'Daily Log'!$BQ$18:$BQ$1017),0)","v":0},{"$f":"IFERROR($E132*SUMIF('Daily Log'!$BS$18:$BS$1017,$B132,'Daily Log'!$BT$18:$BT$1017),0)","v":0},{"$f":"IFERROR($E132*SUMIF('Daily Log'!$BV$18:$BV$1017,$B132,'Daily Log'!$BW$18:$BW$1017),0)","v":0},{"$f":"IFERROR($E132*SUMIF('Daily Log'!$BY$18:$BY$1017,$B132,'Daily Log'!$BZ$18:$BZ$1017),0)","v":0},{"$f":"IFERROR($E132*SUMIF('Daily Log'!$CB$18:$CB$1017,$B132,'Daily Log'!$CC$18:$CC$1017),0)","v":0},{"$f":"IFERROR($E132*SUMIF('Daily Log'!$CE$18:$CE$1017,$B132,'Daily Log'!$CF$18:$CF$1017),0)","v":0},{"$f":"IFERROR($E132*SUMIF('Daily Log'!$CH$18:$CH$1017,$B132,'Daily Log'!$CI$18:$CI$1017),0)","v":0},{"$f":"IFERROR($E132*SUMIF('Daily Log'!$CK$18:$CK$1017,$B132,'Daily Log'!$CL$18:$CL$1017),0)","v":0},{"$f":"IFERROR($E132*SUMIF('Daily Log'!$CN$18:$CN$1017,$B132,'Daily Log'!$CO$18:$CO$1017),0)","v":0}]
[null,"HB05 2010:GRN TEA(H)",null,"SO-HOT BEVERAGES",1,0,{"$f":"IFERROR($E133*SUMIF('Daily Log'!$B$18:$B$1017,$B133,'Daily Log'!$C$18:$C$1017),0)","v":0},{"$f":"IFERROR($E133*SUMIF('Daily Log'!$E$18:$E$1017,$B133,'Daily Log'!$F$18:$F$1017),0)","v":0},{"$f":"IFERROR($E133*SUMIF('Daily Log'!$H$18:$H$1017,$B133,'Daily Log'!$I$18:$I$1017),0)","v":0},{"$f":"IFERROR($E133*SUMIF('Daily Log'!$K$18:$K$1017,$B133,'Daily Log'!$L$18:$L$1017),0)","v":0},{"$f":"IFERROR($E133*SUMIF('Daily Log'!$N$18:$N$1017,$B133,'Daily Log'!$O$18:$O$1017),0)","v":0},{"$f":"IFERROR($E133*SUMIF('Daily Log'!$Q$18:$Q$1017,$B133,'Daily Log'!$R$18:$R$1017),0)","v":0},{"$f":"IFERROR($E133*SUMIF('Daily Log'!$T$18:$T$1017,$B133,'Daily Log'!$U$18:$U$1017),0)","v":0},{"$f":"IFERROR($E133*SUMIF('Daily Log'!$W$18:$W$1017,$B133,'Daily Log'!$X$18:$X$1017),0)","v":0},{"$f":"IFERROR($E133*SUMIF('Daily Log'!$Z$18:$Z$1017,$B133,'Daily Log'!$AA$18:$AA$1017),0)","v":0},{"$f":"IFERROR($E133*SUMIF('Daily Log'!$AC$18:$AC$1017,$B133,'Daily Log'!$AD$18:$AD$1017),0)","v":0},{"$f":"IFERROR($E133*SUMIF('Daily Log'!$AF$18:$AF$1017,$B133,'Daily Log'!$AG$18:$AG$1017),0)","v":0},{"$f":"IFERROR($E133*SUMIF('Daily Log'!$AI$18:$AI$1017,$B133,'Daily Log'!$AJ$18:$AJ$1017),0)","v":0},{"$f":"IFERROR($E133*SUMIF('Daily Log'!$AL$18:$AL$1017,$B133,'Daily Log'!$AM$18:$AM$1017),0)","v":0},{"$f":"IFERROR($E133*SUMIF('Daily Log'!$AO$18:$AO$1017,$B133,'Daily Log'!$AP$18:$AP$1017),0)","v":0},{"$f":"IFERROR($E133*SUMIF('Daily Log'!$AR$18:$AR$1017,$B133,'Daily Log'!$AS$18:$AS$1017),0)","v":0},{"$f":"IFERROR($E133*SUMIF('Daily Log'!$AU$18:$AU$1017,$B133,'Daily Log'!$AV$18:$AV$1017),0)","v":0},{"$f":"IFERROR($E133*SUMIF('Daily Log'!$AX$18:$AX$1017,$B133,'Daily Log'!$AY$18:$AY$1017),0)","v":0},{"$f":"IFERROR($E133*SUMIF('Daily Log'!$BA$18:$BA$1017,$B133,'Daily Log'!$BB$18:$BB$1017),0)","v":0},{"$f":"IFERROR($E133*SUMIF('Daily Log'!$BD$18:$BD$1017,$B133,'Daily Log'!$BE$18:$BE$1017),0)","v":0},{"$f":"IFERROR($E133*SUMIF('Daily Log'!$BG$18:$BG$1017,$B133,'Daily Log'!$BH$18:$BH$1017),0)","v":0},{"$f":"IFERROR($E133*SUMIF('Daily Log'!$BJ$18:$BJ$1017,$B133,'Daily Log'!$BK$18:$BK$1017),0)","v":0},{"$f":"IFERROR($E133*SUMIF('Daily Log'!$BM$18:$BM$1017,$B133,'Daily Log'!$BN$18:$BN$1017),0)","v":0},{"$f":"IFERROR($E133*SUMIF('Daily Log'!$BP$18:$BP$1017,$B133,'Daily Log'!$BQ$18:$BQ$1017),0)","v":0},{"$f":"IFERROR($E133*SUMIF('Daily Log'!$BS$18:$BS$1017,$B133,'Daily Log'!$BT$18:$BT$1017),0)","v":0},{"$f":"IFERROR($E133*SUMIF('Daily Log'!$BV$18:$BV$1017,$B133,'Daily Log'!$BW$18:$BW$1017),0)","v":0},{"$f":"IFERROR($E133*SUMIF('Daily Log'!$BY$18:$BY$1017,$B133,'Daily Log'!$BZ$18:$BZ$1017),0)","v":0},{"$f":"IFERROR($E133*SUMIF('Daily Log'!$CB$18:$CB$1017,$B133,'Daily Log'!$CC$18:$CC$1017),0)","v":0},{"$f":"IFERROR($E133*SUMIF('Daily Log'!$CE$18:$CE$1017,$B133,'Daily Log'!$CF$18:$CF$1017),0)","v":0},{"$f":"IFERROR($E133*SUMIF('Daily Log'!$CH$18:$CH$1017,$B133,'Daily Log'!$CI$18:$CI$1017),0)","v":0},{"$f":"IFERROR($E133*SUMIF('Daily Log'!$CK$18:$CK$1017,$B133,'Daily Log'!$CL$18:$CL$1017),0)","v":0},{"$f":"IFERROR($E133*SUMIF('Daily Log'!$CN$18:$CN$1017,$B133,'Daily Log'!$CO$18:$CO$1017),0)","v":0}]
[null,"HB06 2012:HNY GT(H)",null,"SO-HOT BEVERAGES",1,0,{"$f":"IFERROR($E134*SUMIF('Daily Log'!$B$18:$B$1017,$B134,'Daily Log'!$C$18:$C$1017),0)","v":0},{"$f":"IFERROR($E134*SUMIF('Daily Log'!$E$18:$E$1017,$B134,'Daily Log'!$F$18:$F$1017),0)","v":0},{"$f":"IFERROR($E134*SUMIF('Daily Log'!$H$18:$H$1017,$B134,'Daily Log'!$I$18:$I$1017),0)","v":0},{"$f":"IFERROR($E134*SUMIF('Daily Log'!$K$18:$K$1017,$B134,'Daily Log'!$L$18:$L$1017),0)","v":0},{"$f":"IFERROR($E134*SUMIF('Daily Log'!$N$18:$N$1017,$B134,'Daily Log'!$O$18:$O$1017),0)","v":0},{"$f":"IFERROR($E134*SUMIF('Daily Log'!$Q$18:$Q$1017,$B134,'Daily Log'!$R$18:$R$1017),0)","v":0},{"$f":"IFERROR($E134*SUMIF('Daily Log'!$T$18:$T$1017,$B134,'Daily Log'!$U$18:$U$1017),0)","v":0},{"$f":"IFERROR($E134*SUMIF('Daily Log'!$W$18:$W$1017,$B134,'Daily Log'!$X$18:$X$1017),0)","v":0},{"$f":"IFERROR($E134*SUMIF('Daily Log'!$Z$18:$Z$1017,$B134,'Daily Log'!$AA$18:$AA$1017),0)","v":0},{"$f":"IFERROR($E134*SUMIF('Daily Log'!$AC$18:$AC$1017,$B134,'Daily Log'!$AD$18:$AD$1017),0)","v":0},{"$f":"IFERROR($E134*SUMIF('Daily Log'!$AF$18:$AF$1017,$B134,'Daily Log'!$AG$18:$AG$1017),0)","v":0},{"$f":"IFERROR($E134*SUMIF('Daily Log'!$AI$18:$AI$1017,$B134,'Daily Log'!$AJ$18:$AJ$1017),0)","v":0},{"$f":"IFERROR($E134*SUMIF('Daily Log'!$AL$18:$AL$1017,$B134,'Daily Log'!$AM$18:$AM$1017),0)","v":0},{"$f":"IFERROR($E134*SUMIF('Daily Log'!$AO$18:$AO$1017,$B134,'Daily Log'!$AP$18:$AP$1017),0)","v":0},{"$f":"IFERROR($E134*SUMIF('Daily Log'!$AR$18:$AR$1017,$B134,'Daily Log'!$AS$18:$AS$1017),0)","v":0},{"$f":"IFERROR($E134*SUMIF('Daily Log'!$AU$18:$AU$1017,$B134,'Daily Log'!$AV$18:$AV$1017),0)","v":0},{"$f":"IFERROR($E134*SUMIF('Daily Log'!$AX$18:$AX$1017,$B134,'Daily Log'!$AY$18:$AY$1017),0)","v":0},{"$f":"IFERROR($E134*SUMIF('Daily Log'!$BA$18:$BA$1017,$B134,'Daily Log'!$BB$18:$BB$1017),0)","v":0},{"$f":"IFERROR($E134*SUMIF('Daily Log'!$BD$18:$BD$1017,$B134,'Daily Log'!$BE$18:$BE$1017),0)","v":0},{"$f":"IFERROR($E134*SUMIF('Daily Log'!$BG$18:$BG$1017,$B134,'Daily Log'!$BH$18:$BH$1017),0)","v":0},{"$f":"IFERROR($E134*SUMIF('Daily Log'!$BJ$18:$BJ$1017,$B134,'Daily Log'!$BK$18:$BK$1017),0)","v":0},{"$f":"IFERROR($E134*SUMIF('Daily Log'!$BM$18:$BM$1017,$B134,'Daily Log'!$BN$18:$BN$1017),0)","v":0},{"$f":"IFERROR($E134*SUMIF('Daily Log'!$BP$18:$BP$1017,$B134,'Daily Log'!$BQ$18:$BQ$1017),0)","v":0},{"$f":"IFERROR($E134*SUMIF('Daily Log'!$BS$18:$BS$1017,$B134,'Daily Log'!$BT$18:$BT$1017),0)","v":0},{"$f":"IFERROR($E134*SUMIF('Daily Log'!$BV$18:$BV$1017,$B134,'Daily Log'!$BW$18:$BW$1017),0)","v":0},{"$f":"IFERROR($E134*SUMIF('Daily Log'!$BY$18:$BY$1017,$B134,'Daily Log'!$BZ$18:$BZ$1017),0)","v":0},{"$f":"IFERROR($E134*SUMIF('Daily Log'!$CB$18:$CB$1017,$B134,'Daily Log'!$CC$18:$CC$1017),0)","v":0},{"$f":"IFERROR($E134*SUMIF('Daily Log'!$CE$18:$CE$1017,$B134,'Daily Log'!$CF$18:$CF$1017),0)","v":0},{"$f":"IFERROR($E134*SUMIF('Daily Log'!$CH$18:$CH$1017,$B134,'Daily Log'!$CI$18:$CI$1017),0)","v":0},{"$f":"IFERROR($E134*SUMIF('Daily Log'!$CK$18:$CK$1017,$B134,'Daily Log'!$CL$18:$CL$1017),0)","v":0},{"$f":"IFERROR($E134*SUMIF('Daily Log'!$CN$18:$CN$1017,$B134,'Daily Log'!$CO$18:$CO$1017),0)","v":0}]
[null,"HB07 2014:HONEY(H)",null,"SO-HOT BEVERAGES",1,0,{"$f":"IFERROR($E135*SUMIF('Daily Log'!$B$18:$B$1017,$B135,'Daily Log'!$C$18:$C$1017),0)","v":0},{"$f":"IFERROR($E135*SUMIF('Daily Log'!$E$18:$E$1017,$B135,'Daily Log'!$F$18:$F$1017),0)","v":0},{"$f":"IFERROR($E135*SUMIF('Daily Log'!$H$18:$H$1017,$B135,'Daily Log'!$I$18:$I$1017),0)","v":0},{"$f":"IFERROR($E135*SUMIF('Daily Log'!$K$18:$K$1017,$B135,'Daily Log'!$L$18:$L$1017),0)","v":0},{"$f":"IFERROR($E135*SUMIF('Daily Log'!$N$18:$N$1017,$B135,'Daily Log'!$O$18:$O$1017),0)","v":0},{"$f":"IFERROR($E135*SUMIF('Daily Log'!$Q$18:$Q$1017,$B135,'Daily Log'!$R$18:$R$1017),0)","v":0},{"$f":"IFERROR($E135*SUMIF('Daily Log'!$T$18:$T$1017,$B135,'Daily Log'!$U$18:$U$1017),0)","v":0},{"$f":"IFERROR($E135*SUMIF('Daily Log'!$W$18:$W$1017,$B135,'Daily Log'!$X$18:$X$1017),0)","v":0},{"$f":"IFERROR($E135*SUMIF('Daily Log'!$Z$18:$Z$1017,$B135,'Daily Log'!$AA$18:$AA$1017),0)","v":0},{"$f":"IFERROR($E135*SUMIF('Daily Log'!$AC$18:$AC$1017,$B135,'Daily Log'!$AD$18:$AD$1017),0)","v":0},{"$f":"IFERROR($E135*SUMIF('Daily Log'!$AF$18:$AF$1017,$B135,'Daily Log'!$AG$18:$AG$1017),0)","v":0},{"$f":"IFERROR($E135*SUMIF('Daily Log'!$AI$18:$AI$1017,$B135,'Daily Log'!$AJ$18:$AJ$1017),0)","v":0},{"$f":"IFERROR($E135*SUMIF('Daily Log'!$AL$18:$AL$1017,$B135,'Daily Log'!$AM$18:$AM$1017),0)","v":0},{"$f":"IFERROR($E135*SUMIF('Daily Log'!$AO$18:$AO$1017,$B135,'Daily Log'!$AP$18:$AP$1017),0)","v":0},{"$f":"IFERROR($E135*SUMIF('Daily Log'!$AR$18:$AR$1017,$B135,'Daily Log'!$AS$18:$AS$1017),0)","v":0},{"$f":"IFERROR($E135*SUMIF('Daily Log'!$AU$18:$AU$1017,$B135,'Daily Log'!$AV$18:$AV$1017),0)","v":0},{"$f":"IFERROR($E135*SUMIF('Daily Log'!$AX$18:$AX$1017,$B135,'Daily Log'!$AY$18:$AY$1017),0)","v":0},{"$f":"IFERROR($E135*SUMIF('Daily Log'!$BA$18:$BA$1017,$B135,'Daily Log'!$BB$18:$BB$1017),0)","v":0},{"$f":"IFERROR($E135*SUMIF('Daily Log'!$BD$18:$BD$1017,$B135,'Daily Log'!$BE$18:$BE$1017),0)","v":0},{"$f":"IFERROR($E135*SUMIF('Daily Log'!$BG$18:$BG$1017,$B135,'Daily Log'!$BH$18:$BH$1017),0)","v":0},{"$f":"IFERROR($E135*SUMIF('Daily Log'!$BJ$18:$BJ$1017,$B135,'Daily Log'!$BK$18:$BK$1017),0)","v":0},{"$f":"IFERROR($E135*SUMIF('Daily Log'!$BM$18:$BM$1017,$B135,'Daily Log'!$BN$18:$BN$1017),0)","v":0},{"$f":"IFERROR($E135*SUMIF('Daily Log'!$BP$18:$BP$1017,$B135,'Daily Log'!$BQ$18:$BQ$1017),0)","v":0},{"$f":"IFERROR($E135*SUMIF('Daily Log'!$BS$18:$BS$1017,$B135,'Daily Log'!$BT$18:$BT$1017),0)","v":0},{"$f":"IFERROR($E135*SUMIF('Daily Log'!$BV$18:$BV$1017,$B135,'Daily Log'!$BW$18:$BW$1017),0)","v":0},{"$f":"IFERROR($E135*SUMIF('Daily Log'!$BY$18:$BY$1017,$B135,'Daily Log'!$BZ$18:$BZ$1017),0)","v":0},{"$f":"IFERROR($E135*SUMIF('Daily Log'!$CB$18:$CB$1017,$B135,'Daily Log'!$CC$18:$CC$1017),0)","v":0},{"$f":"IFERROR($E135*SUMIF('Daily Log'!$CE$18:$CE$1017,$B135,'Daily Log'!$CF$18:$CF$1017),0)","v":0},{"$f":"IFERROR($E135*SUMIF('Daily Log'!$CH$18:$CH$1017,$B135,'Daily Log'!$CI$18:$CI$1017),0)","v":0},{"$f":"IFERROR($E135*SUMIF('Daily Log'!$CK$18:$CK$1017,$B135,'Daily Log'!$CL$18:$CL$1017),0)","v":0},{"$f":"IFERROR($E135*SUMIF('Daily Log'!$CN$18:$CN$1017,$B135,'Daily Log'!$CO$18:$CO$1017),0)","v":0}]
[null,"HB08 2016:HNY LMN(H)",null,"SO-HOT BEVERAGES",1,1,{"$f":"IFERROR($E136*SUMIF('Daily Log'!$B$18:$B$1017,$B136,'Daily Log'!$C$18:$C$1017),0)","v":0},{"$f":"IFERROR($E136*SUMIF('Daily Log'!$E$18:$E$1017,$B136,'Daily Log'!$F$18:$F$1017),0)","v":0},{"$f":"IFERROR($E136*SUMIF('Daily Log'!$H$18:$H$1017,$B136,'Daily Log'!$I$18:$I$1017),0)","v":0},{"$f":"IFERROR($E136*SUMIF('Daily Log'!$K$18:$K$1017,$B136,'Daily Log'!$L$18:$L$1017),0)","v":0},{"$f":"IFERROR($E136*SUMIF('Daily Log'!$N$18:$N$1017,$B136,'Daily Log'!$O$18:$O$1017),0)","v":0},{"$f":"IFERROR($E136*SUMIF('Daily Log'!$Q$18:$Q$1017,$B136,'Daily Log'!$R$18:$R$1017),0)","v":0},{"$f":"IFERROR($E136*SUMIF('Daily Log'!$T$18:$T$1017,$B136,'Daily Log'!$U$18:$U$1017),0)","v":0},{"$f":"IFERROR($E136*SUMIF('Daily Log'!$W$18:$W$1017,$B136,'Daily Log'!$X$18:$X$1017),0)","v":0},{"$f":"IFERROR($E136*SUMIF('Daily Log'!$Z$18:$Z$1017,$B136,'Daily Log'!$AA$18:$AA$1017),0)","v":0},{"$f":"IFERROR($E136*SUMIF('Daily Log'!$AC$18:$AC$1017,$B136,'Daily Log'!$AD$18:$AD$1017),0)","v":0},{"$f":"IFERROR($E136*SUMIF('Daily Log'!$AF$18:$AF$1017,$B136,'Daily Log'!$AG$18:$AG$1017),0)","v":0},{"$f":"IFERROR($E136*SUMIF('Daily Log'!$AI$18:$AI$1017,$B136,'Daily Log'!$AJ$18:$AJ$1017),0)","v":0},{"$f":"IFERROR($E136*SUMIF('Daily Log'!$AL$18:$AL$1017,$B136,'Daily Log'!$AM$18:$AM$1017),0)","v":0},{"$f":"IFERROR($E136*SUMIF('Daily Log'!$AO$18:$AO$1017,$B136,'Daily Log'!$AP$18:$AP$1017),0)","v":0},{"$f":"IFERROR($E136*SUMIF('Daily Log'!$AR$18:$AR$1017,$B136,'Daily Log'!$AS$18:$AS$1017),0)","v":0},{"$f":"IFERROR($E136*SUMIF('Daily Log'!$AU$18:$AU$1017,$B136,'Daily Log'!$AV$18:$AV$1017),0)","v":0},{"$f":"IFERROR($E136*SUMIF('Daily Log'!$AX$18:$AX$1017,$B136,'Daily Log'!$AY$18:$AY$1017),0)","v":1},{"$f":"IFERROR($E136*SUMIF('Daily Log'!$BA$18:$BA$1017,$B136,'Daily Log'!$BB$18:$BB$1017),0)","v":0},{"$f":"IFERROR($E136*SUMIF('Daily Log'!$BD$18:$BD$1017,$B136,'Daily Log'!$BE$18:$BE$1017),0)","v":0},{"$f":"IFERROR($E136*SUMIF('Daily Log'!$BG$18:$BG$1017,$B136,'Daily Log'!$BH$18:$BH$1017),0)","v":0},{"$f":"IFERROR($E136*SUMIF('Daily Log'!$BJ$18:$BJ$1017,$B136,'Daily Log'!$BK$18:$BK$1017),0)","v":0},{"$f":"IFERROR($E136*SUMIF('Daily Log'!$BM$18:$BM$1017,$B136,'Daily Log'!$BN$18:$BN$1017),0)","v":0},{"$f":"IFERROR($E136*SUMIF('Daily Log'!$BP$18:$BP$1017,$B136,'Daily Log'!$BQ$18:$BQ$1017),0)","v":0},{"$f":"IFERROR($E136*SUMIF('Daily Log'!$BS$18:$BS$1017,$B136,'Daily Log'!$BT$18:$BT$1017),0)","v":0},{"$f":"IFERROR($E136*SUMIF('Daily Log'!$BV$18:$BV$1017,$B136,'Daily Log'!$BW$18:$BW$1017),0)","v":0},{"$f":"IFERROR($E136*SUMIF('Daily Log'!$BY$18:$BY$1017,$B136,'Daily Log'!$BZ$18:$BZ$1017),0)","v":0},{"$f":"IFERROR($E136*SUMIF('Daily Log'!$CB$18:$CB$1017,$B136,'Daily Log'!$CC$18:$CC$1017),0)","v":0},{"$f":"IFERROR($E136*SUMIF('Daily Log'!$CE$18:$CE$1017,$B136,'Daily Log'!$CF$18:$CF$1017),0)","v":0},{"$f":"IFERROR($E136*SUMIF('Daily Log'!$CH$18:$CH$1017,$B136,'Daily Log'!$CI$18:$CI$1017),0)","v":0},{"$f":"IFERROR($E136*SUMIF('Daily Log'!$CK$18:$CK$1017,$B136,'Daily Log'!$CL$18:$CL$1017),0)","v":0},{"$f":"IFERROR($E136*SUMIF('Daily Log'!$CN$18:$CN$1017,$B136,'Daily Log'!$CO$18:$CO$1017),0)","v":0}]
[null,"HB09 2017:CHAMOMILE",null,"SO-HOT BEVERAGES",1,0,{"$f":"IFERROR($E137*SUMIF('Daily Log'!$B$18:$B$1017,$B137,'Daily Log'!$C$18:$C$1017),0)","v":0},{"$f":"IFERROR($E137*SUMIF('Daily Log'!$E$18:$E$1017,$B137,'Daily Log'!$F$18:$F$1017),0)","v":0},{"$f":"IFERROR($E137*SUMIF('Daily Log'!$H$18:$H$1017,$B137,'Daily Log'!$I$18:$I$1017),0)","v":0},{"$f":"IFERROR($E137*SUMIF('Daily Log'!$K$18:$K$1017,$B137,'Daily Log'!$L$18:$L$1017),0)","v":0},{"$f":"IFERROR($E137*SUMIF('Daily Log'!$N$18:$N$1017,$B137,'Daily Log'!$O$18:$O$1017),0)","v":0},{"$f":"IFERROR($E137*SUMIF('Daily Log'!$Q$18:$Q$1017,$B137,'Daily Log'!$R$18:$R$1017),0)","v":0},{"$f":"IFERROR($E137*SUMIF('Daily Log'!$T$18:$T$1017,$B137,'Daily Log'!$U$18:$U$1017),0)","v":0},{"$f":"IFERROR($E137*SUMIF('Daily Log'!$W$18:$W$1017,$B137,'Daily Log'!$X$18:$X$1017),0)","v":0},{"$f":"IFERROR($E137*SUMIF('Daily Log'!$Z$18:$Z$1017,$B137,'Daily Log'!$AA$18:$AA$1017),0)","v":0},{"$f":"IFERROR($E137*SUMIF('Daily Log'!$AC$18:$AC$1017,$B137,'Daily Log'!$AD$18:$AD$1017),0)","v":0},{"$f":"IFERROR($E137*SUMIF('Daily Log'!$AF$18:$AF$1017,$B137,'Daily Log'!$AG$18:$AG$1017),0)","v":0},{"$f":"IFERROR($E137*SUMIF('Daily Log'!$AI$18:$AI$1017,$B137,'Daily Log'!$AJ$18:$AJ$1017),0)","v":0},{"$f":"IFERROR($E137*SUMIF('Daily Log'!$AL$18:$AL$1017,$B137,'Daily Log'!$AM$18:$AM$1017),0)","v":0},{"$f":"IFERROR($E137*SUMIF('Daily Log'!$AO$18:$AO$1017,$B137,'Daily Log'!$AP$18:$AP$1017),0)","v":0},{"$f":"IFERROR($E137*SUMIF('Daily Log'!$AR$18:$AR$1017,$B137,'Daily Log'!$AS$18:$AS$1017),0)","v":0},{"$f":"IFERROR($E137*SUMIF('Daily Log'!$AU$18:$AU$1017,$B137,'Daily Log'!$AV$18:$AV$1017),0)","v":0},{"$f":"IFERROR($E137*SUMIF('Daily Log'!$AX$18:$AX$1017,$B137,'Daily Log'!$AY$18:$AY$1017),0)","v":0},{"$f":"IFERROR($E137*SUMIF('Daily Log'!$BA$18:$BA$1017,$B137,'Daily Log'!$BB$18:$BB$1017),0)","v":0},{"$f":"IFERROR($E137*SUMIF('Daily Log'!$BD$18:$BD$1017,$B137,'Daily Log'!$BE$18:$BE$1017),0)","v":0},{"$f":"IFERROR($E137*SUMIF('Daily Log'!$BG$18:$BG$1017,$B137,'Daily Log'!$BH$18:$BH$1017),0)","v":0},{"$f":"IFERROR($E137*SUMIF('Daily Log'!$BJ$18:$BJ$1017,$B137,'Daily Log'!$BK$18:$BK$1017),0)","v":0},{"$f":"IFERROR($E137*SUMIF('Daily Log'!$BM$18:$BM$1017,$B137,'Daily Log'!$BN$18:$BN$1017),0)","v":0},{"$f":"IFERROR($E137*SUMIF('Daily Log'!$BP$18:$BP$1017,$B137,'Daily Log'!$BQ$18:$BQ$1017),0)","v":0},{"$f":"IFERROR($E137*SUMIF('Daily Log'!$BS$18:$BS$1017,$B137,'Daily Log'!$BT$18:$BT$1017),0)","v":0},{"$f":"IFERROR($E137*SUMIF('Daily Log'!$BV$18:$BV$1017,$B137,'Daily Log'!$BW$18:$BW$1017),0)","v":0},{"$f":"IFERROR($E137*SUMIF('Daily Log'!$BY$18:$BY$1017,$B137,'Daily Log'!$BZ$18:$BZ$1017),0)","v":0},{"$f":"IFERROR($E137*SUMIF('Daily Log'!$CB$18:$CB$1017,$B137,'Daily Log'!$CC$18:$CC$1017),0)","v":0},{"$f":"IFERROR($E137*SUMIF('Daily Log'!$CE$18:$CE$1017,$B137,'Daily Log'!$CF$18:$CF$1017),0)","v":0},{"$f":"IFERROR($E137*SUMIF('Daily Log'!$CH$18:$CH$1017,$B137,'Daily Log'!$CI$18:$CI$1017),0)","v":0},{"$f":"IFERROR($E137*SUMIF('Daily Log'!$CK$18:$CK$1017,$B137,'Daily Log'!$CL$18:$CL$1017),0)","v":0},{"$f":"IFERROR($E137*SUMIF('Daily Log'!$CN$18:$CN$1017,$B137,'Daily Log'!$CO$18:$CO$1017),0)","v":0}]
[null,"HB10 2018:DARJEELING",null,"SO-HOT BEVERAGES",1,0,{"$f":"IFERROR($E138*SUMIF('Daily Log'!$B$18:$B$1017,$B138,'Daily Log'!$C$18:$C$1017),0)","v":0},{"$f":"IFERROR($E138*SUMIF('Daily Log'!$E$18:$E$1017,$B138,'Daily Log'!$F$18:$F$1017),0)","v":0},{"$f":"IFERROR($E138*SUMIF('Daily Log'!$H$18:$H$1017,$B138,'Daily Log'!$I$18:$I$1017),0)","v":0},{"$f":"IFERROR($E138*SUMIF('Daily Log'!$K$18:$K$1017,$B138,'Daily Log'!$L$18:$L$1017),0)","v":0},{"$f":"IFERROR($E138*SUMIF('Daily Log'!$N$18:$N$1017,$B138,'Daily Log'!$O$18:$O$1017),0)","v":0},{"$f":"IFERROR($E138*SUMIF('Daily Log'!$Q$18:$Q$1017,$B138,'Daily Log'!$R$18:$R$1017),0)","v":0},{"$f":"IFERROR($E138*SUMIF('Daily Log'!$T$18:$T$1017,$B138,'Daily Log'!$U$18:$U$1017),0)","v":0},{"$f":"IFERROR($E138*SUMIF('Daily Log'!$W$18:$W$1017,$B138,'Daily Log'!$X$18:$X$1017),0)","v":0},{"$f":"IFERROR($E138*SUMIF('Daily Log'!$Z$18:$Z$1017,$B138,'Daily Log'!$AA$18:$AA$1017),0)","v":0},{"$f":"IFERROR($E138*SUMIF('Daily Log'!$AC$18:$AC$1017,$B138,'Daily Log'!$AD$18:$AD$1017),0)","v":0},{"$f":"IFERROR($E138*SUMIF('Daily Log'!$AF$18:$AF$1017,$B138,'Daily Log'!$AG$18:$AG$1017),0)","v":0},{"$f":"IFERROR($E138*SUMIF('Daily Log'!$AI$18:$AI$1017,$B138,'Daily Log'!$AJ$18:$AJ$1017),0)","v":0},{"$f":"IFERROR($E138*SUMIF('Daily Log'!$AL$18:$AL$1017,$B138,'Daily Log'!$AM$18:$AM$1017),0)","v":0},{"$f":"IFERROR($E138*SUMIF('Daily Log'!$AO$18:$AO$1017,$B138,'Daily Log'!$AP$18:$AP$1017),0)","v":0},{"$f":"IFERROR($E138*SUMIF('Daily Log'!$AR$18:$AR$1017,$B138,'Daily Log'!$AS$18:$AS$1017),0)","v":0},{"$f":"IFERROR($E138*SUMIF('Daily Log'!$AU$18:$AU$1017,$B138,'Daily Log'!$AV$18:$AV$1017),0)","v":0},{"$f":"IFERROR($E138*SUMIF('Daily Log'!$AX$18:$AX$1017,$B138,'Daily Log'!$AY$18:$AY$1017),0)","v":0},{"$f":"IFERROR($E138*SUMIF('Daily Log'!$BA$18:$BA$1017,$B138,'Daily Log'!$BB$18:$BB$1017),0)","v":0},{"$f":"IFERROR($E138*SUMIF('Daily Log'!$BD$18:$BD$1017,$B138,'Daily Log'!$BE$18:$BE$1017),0)","v":0},{"$f":"IFERROR($E138*SUMIF('Daily Log'!$BG$18:$BG$1017,$B138,'Daily Log'!$BH$18:$BH$1017),0)","v":0},{"$f":"IFERROR($E138*SUMIF('Daily Log'!$BJ$18:$BJ$1017,$B138,'Daily Log'!$BK$18:$BK$1017),0)","v":0},{"$f":"IFERROR($E138*SUMIF('Daily Log'!$BM$18:$BM$1017,$B138,'Daily Log'!$BN$18:$BN$1017),0)","v":0},{"$f":"IFERROR($E138*SUMIF('Daily Log'!$BP$18:$BP$1017,$B138,'Daily Log'!$BQ$18:$BQ$1017),0)","v":0},{"$f":"IFERROR($E138*SUMIF('Daily Log'!$BS$18:$BS$1017,$B138,'Daily Log'!$BT$18:$BT$1017),0)","v":0},{"$f":"IFERROR($E138*SUMIF('Daily Log'!$BV$18:$BV$1017,$B138,'Daily Log'!$BW$18:$BW$1017),0)","v":0},{"$f":"IFERROR($E138*SUMIF('Daily Log'!$BY$18:$BY$1017,$B138,'Daily Log'!$BZ$18:$BZ$1017),0)","v":0},{"$f":"IFERROR($E138*SUMIF('Daily Log'!$CB$18:$CB$1017,$B138,'Daily Log'!$CC$18:$CC$1017),0)","v":0},{"$f":"IFERROR($E138*SUMIF('Daily Log'!$CE$18:$CE$1017,$B138,'Daily Log'!$CF$18:$CF$1017),0)","v":0},{"$f":"IFERROR($E138*SUMIF('Daily Log'!$CH$18:$CH$1017,$B138,'Daily Log'!$CI$18:$CI$1017),0)","v":0},{"$f":"IFERROR($E138*SUMIF('Daily Log'!$CK$18:$CK$1017,$B138,'Daily Log'!$CL$18:$CL$1017),0)","v":0},{"$f":"IFERROR($E138*SUMIF('Daily Log'!$CN$18:$CN$1017,$B138,'Daily Log'!$CO$18:$CO$1017),0)","v":0}]
[null,"HB11 2019:EARL GREY",null,"SO-HOT BEVERAGES",1,0,{"$f":"IFERROR($E139*SUMIF('Daily Log'!$B$18:$B$1017,$B139,'Daily Log'!$C$18:$C$1017),0)","v":0},{"$f":"IFERROR($E139*SUMIF('Daily Log'!$E$18:$E$1017,$B139,'Daily Log'!$F$18:$F$1017),0)","v":0},{"$f":"IFERROR($E139*SUMIF('Daily Log'!$H$18:$H$1017,$B139,'Daily Log'!$I$18:$I$1017),0)","v":0},{"$f":"IFERROR($E139*SUMIF('Daily Log'!$K$18:$K$1017,$B139,'Daily Log'!$L$18:$L$1017),0)","v":0},{"$f":"IFERROR($E139*SUMIF('Daily Log'!$N$18:$N$1017,$B139,'Daily Log'!$O$18:$O$1017),0)","v":0},{"$f":"IFERROR($E139*SUMIF('Daily Log'!$Q$18:$Q$1017,$B139,'Daily Log'!$R$18:$R$1017),0)","v":0},{"$f":"IFERROR($E139*SUMIF('Daily Log'!$T$18:$T$1017,$B139,'Daily Log'!$U$18:$U$1017),0)","v":0},{"$f":"IFERROR($E139*SUMIF('Daily Log'!$W$18:$W$1017,$B139,'Daily Log'!$X$18:$X$1017),0)","v":0},{"$f":"IFERROR($E139*SUMIF('Daily Log'!$Z$18:$Z$1017,$B139,'Daily Log'!$AA$18:$AA$1017),0)","v":0},{"$f":"IFERROR($E139*SUMIF('Daily Log'!$AC$18:$AC$1017,$B139,'Daily Log'!$AD$18:$AD$1017),0)","v":0},{"$f":"IFERROR($E139*SUMIF('Daily Log'!$AF$18:$AF$1017,$B139,'Daily Log'!$AG$18:$AG$1017),0)","v":0},{"$f":"IFERROR($E139*SUMIF('Daily Log'!$AI$18:$AI$1017,$B139,'Daily Log'!$AJ$18:$AJ$1017),0)","v":0},{"$f":"IFERROR($E139*SUMIF('Daily Log'!$AL$18:$AL$1017,$B139,'Daily Log'!$AM$18:$AM$1017),0)","v":0},{"$f":"IFERROR($E139*SUMIF('Daily Log'!$AO$18:$AO$1017,$B139,'Daily Log'!$AP$18:$AP$1017),0)","v":0},{"$f":"IFERROR($E139*SUMIF('Daily Log'!$AR$18:$AR$1017,$B139,'Daily Log'!$AS$18:$AS$1017),0)","v":0},{"$f":"IFERROR($E139*SUMIF('Daily Log'!$AU$18:$AU$1017,$B139,'Daily Log'!$AV$18:$AV$1017),0)","v":0},{"$f":"IFERROR($E139*SUMIF('Daily Log'!$AX$18:$AX$1017,$B139,'Daily Log'!$AY$18:$AY$1017),0)","v":0},{"$f":"IFERROR($E139*SUMIF('Daily Log'!$BA$18:$BA$1017,$B139,'Daily Log'!$BB$18:$BB$1017),0)","v":0},{"$f":"IFERROR($E139*SUMIF('Daily Log'!$BD$18:$BD$1017,$B139,'Daily Log'!$BE$18:$BE$1017),0)","v":0},{"$f":"IFERROR($E139*SUMIF('Daily Log'!$BG$18:$BG$1017,$B139,'Daily Log'!$BH$18:$BH$1017),0)","v":0},{"$f":"IFERROR($E139*SUMIF('Daily Log'!$BJ$18:$BJ$1017,$B139,'Daily Log'!$BK$18:$BK$1017),0)","v":0},{"$f":"IFERROR($E139*SUMIF('Daily Log'!$BM$18:$BM$1017,$B139,'Daily Log'!$BN$18:$BN$1017),0)","v":0},{"$f":"IFERROR($E139*SUMIF('Daily Log'!$BP$18:$BP$1017,$B139,'Daily Log'!$BQ$18:$BQ$1017),0)","v":0},{"$f":"IFERROR($E139*SUMIF('Daily Log'!$BS$18:$BS$1017,$B139,'Daily Log'!$BT$18:$BT$1017),0)","v":0},{"$f":"IFERROR($E139*SUMIF('Daily Log'!$BV$18:$BV$1017,$B139,'Daily Log'!$BW$18:$BW$1017),0)","v":0},{"$f":"IFERROR($E139*SUMIF('Daily Log'!$BY$18:$BY$1017,$B139,'Daily Log'!$BZ$18:$BZ$1017),0)","v":0},{"$f":"IFERROR($E139*SUMIF('Daily Log'!$CB$18:$CB$1017,$B139,'Daily Log'!$CC$18:$CC$1017),0)","v":0},{"$f":"IFERROR($E139*SUMIF('Daily Log'!$CE$18:$CE$1017,$B139,'Daily Log'!$CF$18:$CF$1017),0)","v":0},{"$f":"IFERROR($E139*SUMIF('Daily Log'!$CH$18:$CH$1017,$B139,'Daily Log'!$CI$18:$CI$1017),0)","v":0},{"$f":"IFERROR($E139*SUMIF('Daily Log'!$CK$18:$CK$1017,$B139,'Daily Log'!$CL$18:$CL$1017),0)","v":0},{"$f":"IFERROR($E139*SUMIF('Daily Log'!$CN$18:$CN$1017,$B139,'Daily Log'!$CO$18:$CO$1017),0)","v":0}]
[null,"HB12 2020:CAPPU(H)",null,"SO-HOT BEVERAGES",1,2,{"$f":"IFERROR($E140*SUMIF('Daily Log'!$B$18:$B$1017,$B140,'Daily Log'!$C$18:$C$1017),0)","v":0},{"$f":"IFERROR($E140*SUMIF('Daily Log'!$E$18:$E$1017,$B140,'Daily Log'!$F$18:$F$1017),0)","v":0},{"$f":"IFERROR($E140*SUMIF('Daily Log'!$H$18:$H$1017,$B140,'Daily Log'!$I$18:$I$1017),0)","v":0},{"$f":"IFERROR($E140*SUMIF('Daily Log'!$K$18:$K$1017,$B140,'Daily Log'!$L$18:$L$1017),0)","v":0},{"$f":"IFERROR($E140*SUMIF('Daily Log'!$N$18:$N$1017,$B140,'Daily Log'!$O$18:$O$1017),0)","v":0},{"$f":"IFERROR($E140*SUMIF('Daily Log'!$Q$18:$Q$1017,$B140,'Daily Log'!$R$18:$R$1017),0)","v":0},{"$f":"IFERROR($E140*SUMIF('Daily Log'!$T$18:$T$1017,$B140,'Daily Log'!$U$18:$U$1017),0)","v":0},{"$f":"IFERROR($E140*SUMIF('Daily Log'!$W$18:$W$1017,$B140,'Daily Log'!$X$18:$X$1017),0)","v":0},{"$f":"IFERROR($E140*SUMIF('Daily Log'!$Z$18:$Z$1017,$B140,'Daily Log'!$AA$18:$AA$1017),0)","v":0},{"$f":"IFERROR($E140*SUMIF('Daily Log'!$AC$18:$AC$1017,$B140,'Daily Log'!$AD$18:$AD$1017),0)","v":0},{"$f":"IFERROR($E140*SUMIF('Daily Log'!$AF$18:$AF$1017,$B140,'Daily Log'!$AG$18:$AG$1017),0)","v":0},{"$f":"IFERROR($E140*SUMIF('Daily Log'!$AI$18:$AI$1017,$B140,'Daily Log'!$AJ$18:$AJ$1017),0)","v":0},{"$f":"IFERROR($E140*SUMIF('Daily Log'!$AL$18:$AL$1017,$B140,'Daily Log'!$AM$18:$AM$1017),0)","v":2},{"$f":"IFERROR($E140*SUMIF('Daily Log'!$AO$18:$AO$1017,$B140,'Daily Log'!$AP$18:$AP$1017),0)","v":0},{"$f":"IFERROR($E140*SUMIF('Daily Log'!$AR$18:$AR$1017,$B140,'Daily Log'!$AS$18:$AS$1017),0)","v":0},{"$f":"IFERROR($E140*SUMIF('Daily Log'!$AU$18:$AU$1017,$B140,'Daily Log'!$AV$18:$AV$1017),0)","v":0},{"$f":"IFERROR($E140*SUMIF('Daily Log'!$AX$18:$AX$1017,$B140,'Daily Log'!$AY$18:$AY$1017),0)","v":0},{"$f":"IFERROR($E140*SUMIF('Daily Log'!$BA$18:$BA$1017,$B140,'Daily Log'!$BB$18:$BB$1017),0)","v":0},{"$f":"IFERROR($E140*SUMIF('Daily Log'!$BD$18:$BD$1017,$B140,'Daily Log'!$BE$18:$BE$1017),0)","v":0},{"$f":"IFERROR($E140*SUMIF('Daily Log'!$BG$18:$BG$1017,$B140,'Daily Log'!$BH$18:$BH$1017),0)","v":0},{"$f":"IFERROR($E140*SUMIF('Daily Log'!$BJ$18:$BJ$1017,$B140,'Daily Log'!$BK$18:$BK$1017),0)","v":0},{"$f":"IFERROR($E140*SUMIF('Daily Log'!$BM$18:$BM$1017,$B140,'Daily Log'!$BN$18:$BN$1017),0)","v":0},{"$f":"IFERROR($E140*SUMIF('Daily Log'!$BP$18:$BP$1017,$B140,'Daily Log'!$BQ$18:$BQ$1017),0)","v":0},{"$f":"IFERROR($E140*SUMIF('Daily Log'!$BS$18:$BS$1017,$B140,'Daily Log'!$BT$18:$BT$1017),0)","v":0},{"$f":"IFERROR($E140*SUMIF('Daily Log'!$BV$18:$BV$1017,$B140,'Daily Log'!$BW$18:$BW$1017),0)","v":0},{"$f":"IFERROR($E140*SUMIF('Daily Log'!$BY$18:$BY$1017,$B140,'Daily Log'!$BZ$18:$BZ$1017),0)","v":0},{"$f":"IFERROR($E140*SUMIF('Daily Log'!$CB$18:$CB$1017,$B140,'Daily Log'!$CC$18:$CC$1017),0)","v":0},{"$f":"IFERROR($E140*SUMIF('Daily Log'!$CE$18:$CE$1017,$B140,'Daily Log'!$CF$18:$CF$1017),0)","v":0},{"$f":"IFERROR($E140*SUMIF('Daily Log'!$CH$18:$CH$1017,$B140,'Daily Log'!$CI$18:$CI$1017),0)","v":0},{"$f":"IFERROR($E140*SUMIF('Daily Log'!$CK$18:$CK$1017,$B140,'Daily Log'!$CL$18:$CL$1017),0)","v":0},{"$f":"IFERROR($E140*SUMIF('Daily Log'!$CN$18:$CN$1017,$B140,'Daily Log'!$CO$18:$CO$1017),0)","v":0}]
[null,"HB13 2021:CHOCO(H)",null,"SO-HOT BEVERAGES",1,3,{"$f":"IFERROR($E141*SUMIF('Daily Log'!$B$18:$B$1017,$B141,'Daily Log'!$C$18:$C$1017),0)","v":0},{"$f":"IFERROR($E141*SUMIF('Daily Log'!$E$18:$E$1017,$B141,'Daily Log'!$F$18:$F$1017),0)","v":0},{"$f":"IFERROR($E141*SUMIF('Daily Log'!$H$18:$H$1017,$B141,'Daily Log'!$I$18:$I$1017),0)","v":0},{"$f":"IFERROR($E141*SUMIF('Daily Log'!$K$18:$K$1017,$B141,'Daily Log'!$L$18:$L$1017),0)","v":0},{"$f":"IFERROR($E141*SUMIF('Daily Log'!$N$18:$N$1017,$B141,'Daily Log'!$O$18:$O$1017),0)","v":1},{"$f":"IFERROR($E141*SUMIF('Daily Log'!$Q$18:$Q$1017,$B141,'Daily Log'!$R$18:$R$1017),0)","v":0},{"$f":"IFERROR($E141*SUMIF('Daily Log'!$T$18:$T$1017,$B141,'Daily Log'!$U$18:$U$1017),0)","v":0},{"$f":"IFERROR($E141*SUMIF('Daily Log'!$W$18:$W$1017,$B141,'Daily Log'!$X$18:$X$1017),0)","v":0},{"$f":"IFERROR($E141*SUMIF('Daily Log'!$Z$18:$Z$1017,$B141,'Daily Log'!$AA$18:$AA$1017),0)","v":0},{"$f":"IFERROR($E141*SUMIF('Daily Log'!$AC$18:$AC$1017,$B141,'Daily Log'!$AD$18:$AD$1017),0)","v":0},{"$f":"IFERROR($E141*SUMIF('Daily Log'!$AF$18:$AF$1017,$B141,'Daily Log'!$AG$18:$AG$1017),0)","v":0},{"$f":"IFERROR($E141*SUMIF('Daily Log'!$AI$18:$AI$1017,$B141,'Daily Log'!$AJ$18:$AJ$1017),0)","v":0},{"$f":"IFERROR($E141*SUMIF('Daily Log'!$AL$18:$AL$1017,$B141,'Daily Log'!$AM$18:$AM$1017),0)","v":0},{"$f":"IFERROR($E141*SUMIF('Daily Log'!$AO$18:$AO$1017,$B141,'Daily Log'!$AP$18:$AP$1017),0)","v":0},{"$f":"IFERROR($E141*SUMIF('Daily Log'!$AR$18:$AR$1017,$B141,'Daily Log'!$AS$18:$AS$1017),0)","v":0},{"$f":"IFERROR($E141*SUMIF('Daily Log'!$AU$18:$AU$1017,$B141,'Daily Log'!$AV$18:$AV$1017),0)","v":0},{"$f":"IFERROR($E141*SUMIF('Daily Log'!$AX$18:$AX$1017,$B141,'Daily Log'!$AY$18:$AY$1017),0)","v":0},{"$f":"IFERROR($E141*SUMIF('Daily Log'!$BA$18:$BA$1017,$B141,'Daily Log'!$BB$18:$BB$1017),0)","v":0},{"$f":"IFERROR($E141*SUMIF('Daily Log'!$BD$18:$BD$1017,$B141,'Daily Log'!$BE$18:$BE$1017),0)","v":1},{"$f":"IFERROR($E141*SUMIF('Daily Log'!$BG$18:$BG$1017,$B141,'Daily Log'!$BH$18:$BH$1017),0)","v":0},{"$f":"IFERROR($E141*SUMIF('Daily Log'!$BJ$18:$BJ$1017,$B141,'Daily Log'!$BK$18:$BK$1017),0)","v":0},{"$f":"IFERROR($E141*SUMIF('Daily Log'!$BM$18:$BM$1017,$B141,'Daily Log'!$BN$18:$BN$1017),0)","v":0},{"$f":"IFERROR($E141*SUMIF('Daily Log'!$BP$18:$BP$1017,$B141,'Daily Log'!$BQ$18:$BQ$1017),0)","v":0},{"$f":"IFERROR($E141*SUMIF('Daily Log'!$BS$18:$BS$1017,$B141,'Daily Log'!$BT$18:$BT$1017),0)","v":1},{"$f":"IFERROR($E141*SUMIF('Daily Log'!$BV$18:$BV$1017,$B141,'Daily Log'!$BW$18:$BW$1017),0)","v":0},{"$f":"IFERROR($E141*SUMIF('Daily Log'!$BY$18:$BY$1017,$B141,'Daily Log'!$BZ$18:$BZ$1017),0)","v":0},{"$f":"IFERROR($E141*SUMIF('Daily Log'!$CB$18:$CB$1017,$B141,'Daily Log'!$CC$18:$CC$1017),0)","v":0},{"$f":"IFERROR($E141*SUMIF('Daily Log'!$CE$18:$CE$1017,$B141,'Daily Log'!$CF$18:$CF$1017),0)","v":0},{"$f":"IFERROR($E141*SUMIF('Daily Log'!$CH$18:$CH$1017,$B141,'Daily Log'!$CI$18:$CI$1017),0)","v":0},{"$f":"IFERROR($E141*SUMIF('Daily Log'!$CK$18:$CK$1017,$B141,'Daily Log'!$CL$18:$CL$1017),0)","v":0},{"$f":"IFERROR($E141*SUMIF('Daily Log'!$CN$18:$CN$1017,$B141,'Daily Log'!$CO$18:$CO$1017),0)","v":0}]
[null,"HB14 2022:MOCHA(H)",null,"SO-HOT BEVERAGES",1,3,{"$f":"IFERROR($E142*SUMIF('Daily Log'!$B$18:$B$1017,$B142,'Daily Log'!$C$18:$C$1017),0)","v":0},{"$f":"IFERROR($E142*SUMIF('Daily Log'!$E$18:$E$1017,$B142,'Daily Log'!$F$18:$F$1017),0)","v":0},{"$f":"IFERROR($E142*SUMIF('Daily Log'!$H$18:$H$1017,$B142,'Daily Log'!$I$18:$I$1017),0)","v":0},{"$f":"IFERROR($E142*SUMIF('Daily Log'!$K$18:$K$1017,$B142,'Daily Log'!$L$18:$L$1017),0)","v":1},{"$f":"IFERROR($E142*SUMIF('Daily Log'!$N$18:$N$1017,$B142,'Daily Log'!$O$18:$O$1017),0)","v":0},{"$f":"IFERROR($E142*SUMIF('Daily Log'!$Q$18:$Q$1017,$B142,'Daily Log'!$R$18:$R$1017),0)","v":0},{"$f":"IFERROR($E142*SUMIF('Daily Log'!$T$18:$T$1017,$B142,'Daily Log'!$U$18:$U$1017),0)","v":0},{"$f":"IFERROR($E142*SUMIF('Daily Log'!$W$18:$W$1017,$B142,'Daily Log'!$X$18:$X$1017),0)","v":0},{"$f":"IFERROR($E142*SUMIF('Daily Log'!$Z$18:$Z$1017,$B142,'Daily Log'!$AA$18:$AA$1017),0)","v":0},{"$f":"IFERROR($E142*SUMIF('Daily Log'!$AC$18:$AC$1017,$B142,'Daily Log'!$AD$18:$AD$1017),0)","v":0},{"$f":"IFERROR($E142*SUMIF('Daily Log'!$AF$18:$AF$1017,$B142,'Daily Log'!$AG$18:$AG$1017),0)","v":0},{"$f":"IFERROR($E142*SUMIF('Daily Log'!$AI$18:$AI$1017,$B142,'Daily Log'!$AJ$18:$AJ$1017),0)","v":1},{"$f":"IFERROR($E142*SUMIF('Daily Log'!$AL$18:$AL$1017,$B142,'Daily Log'!$AM$18:$AM$1017),0)","v":0},{"$f":"IFERROR($E142*SUMIF('Daily Log'!$AO$18:$AO$1017,$B142,'Daily Log'!$AP$18:$AP$1017),0)","v":0},{"$f":"IFERROR($E142*SUMIF('Daily Log'!$AR$18:$AR$1017,$B142,'Daily Log'!$AS$18:$AS$1017),0)","v":0},{"$f":"IFERROR($E142*SUMIF('Daily Log'!$AU$18:$AU$1017,$B142,'Daily Log'!$AV$18:$AV$1017),0)","v":0},{"$f":"IFERROR($E142*SUMIF('Daily Log'!$AX$18:$AX$1017,$B142,'Daily Log'!$AY$18:$AY$1017),0)","v":0},{"$f":"IFERROR($E142*SUMIF('Daily Log'!$BA$18:$BA$1017,$B142,'Daily Log'!$BB$18:$BB$1017),0)","v":0},{"$f":"IFERROR($E142*SUMIF('Daily Log'!$BD$18:$BD$1017,$B142,'Daily Log'!$BE$18:$BE$1017),0)","v":0},{"$f":"IFERROR($E142*SUMIF('Daily Log'!$BG$18:$BG$1017,$B142,'Daily Log'!$BH$18:$BH$1017),0)","v":0},{"$f":"IFERROR($E142*SUMIF('Daily Log'!$BJ$18:$BJ$1017,$B142,'Daily Log'!$BK$18:$BK$1017),0)","v":0},{"$f":"IFERROR($E142*SUMIF('Daily Log'!$BM$18:$BM$1017,$B142,'Daily Log'!$BN$18:$BN$1017),0)","v":1},{"$f":"IFERROR($E142*SUMIF('Daily Log'!$BP$18:$BP$1017,$B142,'Daily Log'!$BQ$18:$BQ$1017),0)","v":0},{"$f":"IFERROR($E142*SUMIF('Daily Log'!$BS$18:$BS$1017,$B142,'Daily Log'!$BT$18:$BT$1017),0)","v":0},{"$f":"IFERROR($E142*SUMIF('Daily Log'!$BV$18:$BV$1017,$B142,'Daily Log'!$BW$18:$BW$1017),0)","v":0},{"$f":"IFERROR($E142*SUMIF('Daily Log'!$BY$18:$BY$1017,$B142,'Daily Log'!$BZ$18:$BZ$1017),0)","v":0},{"$f":"IFERROR($E142*SUMIF('Daily Log'!$CB$18:$CB$1017,$B142,'Daily Log'!$CC$18:$CC$1017),0)","v":0},{"$f":"IFERROR($E142*SUMIF('Daily Log'!$CE$18:$CE$1017,$B142,'Daily Log'!$CF$18:$CF$1017),0)","v":0},{"$f":"IFERROR($E142*SUMIF('Daily Log'!$CH$18:$CH$1017,$B142,'Daily Log'!$CI$18:$CI$1017),0)","v":0},{"$f":"IFERROR($E142*SUMIF('Daily Log'!$CK$18:$CK$1017,$B142,'Daily Log'!$CL$18:$CL$1017),0)","v":0},{"$f":"IFERROR($E142*SUMIF('Daily Log'!$CN$18:$CN$1017,$B142,'Daily Log'!$CO$18:$CO$1017),0)","v":0}]
[null,"HF01 92002:MILO(H)",null,"FFDRINKS-HOT",1,538,{"$f":"IFERROR($E143*SUMIF('Daily Log'!$B$18:$B$1017,$B143,'Daily Log'!$C$18:$C$1017),0)","v":14},{"$f":"IFERROR($E143*SUMIF('Daily Log'!$E$18:$E$1017,$B143,'Daily Log'!$F$18:$F$1017),0)","v":6},{"$f":"IFERROR($E143*SUMIF('Daily Log'!$H$18:$H$1017,$B143,'Daily Log'!$I$18:$I$1017),0)","v":22},{"$f":"IFERROR($E143*SUMIF('Daily Log'!$K$18:$K$1017,$B143,'Daily Log'!$L$18:$L$1017),0)","v":14},{"$f":"IFERROR($E143*SUMIF('Daily Log'!$N$18:$N$1017,$B143,'Daily Log'!$O$18:$O$1017),0)","v":28},{"$f":"IFERROR($E143*SUMIF('Daily Log'!$Q$18:$Q$1017,$B143,'Daily Log'!$R$18:$R$1017),0)","v":24},{"$f":"IFERROR($E143*SUMIF('Daily Log'!$T$18:$T$1017,$B143,'Daily Log'!$U$18:$U$1017),0)","v":21},{"$f":"IFERROR($E143*SUMIF('Daily Log'!$W$18:$W$1017,$B143,'Daily Log'!$X$18:$X$1017),0)","v":19},{"$f":"IFERROR($E143*SUMIF('Daily Log'!$Z$18:$Z$1017,$B143,'Daily Log'!$AA$18:$AA$1017),0)","v":8},{"$f":"IFERROR($E143*SUMIF('Daily Log'!$AC$18:$AC$1017,$B143,'Daily Log'!$AD$18:$AD$1017),0)","v":13},{"$f":"IFERROR($E143*SUMIF('Daily Log'!$AF$18:$AF$1017,$B143,'Daily Log'!$AG$18:$AG$1017),0)","v":11},{"$f":"IFERROR($E143*SUMIF('Daily Log'!$AI$18:$AI$1017,$B143,'Daily Log'!$AJ$18:$AJ$1017),0)","v":39},{"$f":"IFERROR($E143*SUMIF('Daily Log'!$AL$18:$AL$1017,$B143,'Daily Log'!$AM$18:$AM$1017),0)","v":15},{"$f":"IFERROR($E143*SUMIF('Daily Log'!$AO$18:$AO$1017,$B143,'Daily Log'!$AP$18:$AP$1017),0)","v":6},{"$f":"IFERROR($E143*SUMIF('Daily Log'!$AR$18:$AR$1017,$B143,'Daily Log'!$AS$18:$AS$1017),0)","v":19},{"$f":"IFERROR($E143*SUMIF('Daily Log'!$AU$18:$AU$1017,$B143,'Daily Log'!$AV$18:$AV$1017),0)","v":23},{"$f":"IFERROR($E143*SUMIF('Daily Log'!$AX$18:$AX$1017,$B143,'Daily Log'!$AY$18:$AY$1017),0)","v":14},{"$f":"IFERROR($E143*SUMIF('Daily Log'!$BA$18:$BA$1017,$B143,'Daily Log'!$BB$18:$BB$1017),0)","v":16},{"$f":"IFERROR($E143*SUMIF('Daily Log'!$BD$18:$BD$1017,$B143,'Daily Log'!$BE$18:$BE$1017),0)","v":19},{"$f":"IFERROR($E143*SUMIF('Daily Log'!$BG$18:$BG$1017,$B143,'Daily Log'!$BH$18:$BH$1017),0)","v":13},{"$f":"IFERROR($E143*SUMIF('Daily Log'!$BJ$18:$BJ$1017,$B143,'Daily Log'!$BK$18:$BK$1017),0)","v":16},{"$f":"IFERROR($E143*SUMIF('Daily Log'!$BM$18:$BM$1017,$B143,'Daily Log'!$BN$18:$BN$1017),0)","v":24},{"$f":"IFERROR($E143*SUMIF('Daily Log'!$BP$18:$BP$1017,$B143,'Daily Log'!$BQ$18:$BQ$1017),0)","v":11},{"$f":"IFERROR($E143*SUMIF('Daily Log'!$BS$18:$BS$1017,$B143,'Daily Log'!$BT$18:$BT$1017),0)","v":17},{"$f":"IFERROR($E143*SUMIF('Daily Log'!$BV$18:$BV$1017,$B143,'Daily Log'!$BW$18:$BW$1017),0)","v":28},{"$f":"IFERROR($E143*SUMIF('Daily Log'!$BY$18:$BY$1017,$B143,'Daily Log'!$BZ$18:$BZ$1017),0)","v":16},{"$f":"IFERROR($E143*SUMIF('Daily Log'!$CB$18:$CB$1017,$B143,'Daily Log'!$CC$18:$CC$1017),0)","v":25},{"$f":"IFERROR($E143*SUMIF('Daily Log'!$CE$18:$CE$1017,$B143,'Daily Log'!$CF$18:$CF$1017),0)","v":13},{"$f":"IFERROR($E143*SUMIF('Daily Log'!$CH$18:$CH$1017,$B143,'Daily Log'!$CI$18:$CI$1017),0)","v":18},{"$f":"IFERROR($E143*SUMIF('Daily Log'!$CK$18:$CK$1017,$B143,'Daily Log'!$CL$18:$CL$1017),0)","v":26},{"$f":"IFERROR($E143*SUMIF('Daily Log'!$CN$18:$CN$1017,$B143,'Daily Log'!$CO$18:$CO$1017),0)","v":0}]
[null,"HF02 92004:NESCAFE(H)",null,"FFDRINKS-HOT",1,138,{"$f":"IFERROR($E144*SUMIF('Daily Log'!$B$18:$B$1017,$B144,'Daily Log'!$C$18:$C$1017),0)","v":5},{"$f":"IFERROR($E144*SUMIF('Daily Log'!$E$18:$E$1017,$B144,'Daily Log'!$F$18:$F$1017),0)","v":0},{"$f":"IFERROR($E144*SUMIF('Daily Log'!$H$18:$H$1017,$B144,'Daily Log'!$I$18:$I$1017),0)","v":1},{"$f":"IFERROR($E144*SUMIF('Daily Log'!$K$18:$K$1017,$B144,'Daily Log'!$L$18:$L$1017),0)","v":4},{"$f":"IFERROR($E144*SUMIF('Daily Log'!$N$18:$N$1017,$B144,'Daily Log'!$O$18:$O$1017),0)","v":5},{"$f":"IFERROR($E144*SUMIF('Daily Log'!$Q$18:$Q$1017,$B144,'Daily Log'!$R$18:$R$1017),0)","v":4},{"$f":"IFERROR($E144*SUMIF('Daily Log'!$T$18:$T$1017,$B144,'Daily Log'!$U$18:$U$1017),0)","v":3},{"$f":"IFERROR($E144*SUMIF('Daily Log'!$W$18:$W$1017,$B144,'Daily Log'!$X$18:$X$1017),0)","v":4},{"$f":"IFERROR($E144*SUMIF('Daily Log'!$Z$18:$Z$1017,$B144,'Daily Log'!$AA$18:$AA$1017),0)","v":7},{"$f":"IFERROR($E144*SUMIF('Daily Log'!$AC$18:$AC$1017,$B144,'Daily Log'!$AD$18:$AD$1017),0)","v":4},{"$f":"IFERROR($E144*SUMIF('Daily Log'!$AF$18:$AF$1017,$B144,'Daily Log'!$AG$18:$AG$1017),0)","v":9},{"$f":"IFERROR($E144*SUMIF('Daily Log'!$AI$18:$AI$1017,$B144,'Daily Log'!$AJ$18:$AJ$1017),0)","v":11},{"$f":"IFERROR($E144*SUMIF('Daily Log'!$AL$18:$AL$1017,$B144,'Daily Log'!$AM$18:$AM$1017),0)","v":10},{"$f":"IFERROR($E144*SUMIF('Daily Log'!$AO$18:$AO$1017,$B144,'Daily Log'!$AP$18:$AP$1017),0)","v":4},{"$f":"IFERROR($E144*SUMIF('Daily Log'!$AR$18:$AR$1017,$B144,'Daily Log'!$AS$18:$AS$1017),0)","v":7},{"$f":"IFERROR($E144*SUMIF('Daily Log'!$AU$18:$AU$1017,$B144,'Daily Log'!$AV$18:$AV$1017),0)","v":1},{"$f":"IFERROR($E144*SUMIF('Daily Log'!$AX$18:$AX$1017,$B144,'Daily Log'!$AY$18:$AY$1017),0)","v":2},{"$f":"IFERROR($E144*SUMIF('Daily Log'!$BA$18:$BA$1017,$B144,'Daily Log'!$BB$18:$BB$1017),0)","v":3},{"$f":"IFERROR($E144*SUMIF('Daily Log'!$BD$18:$BD$1017,$B144,'Daily Log'!$BE$18:$BE$1017),0)","v":3},{"$f":"IFERROR($E144*SUMIF('Daily Log'!$BG$18:$BG$1017,$B144,'Daily Log'!$BH$18:$BH$1017),0)","v":8},{"$f":"IFERROR($E144*SUMIF('Daily Log'!$BJ$18:$BJ$1017,$B144,'Daily Log'!$BK$18:$BK$1017),0)","v":4},{"$f":"IFERROR($E144*SUMIF('Daily Log'!$BM$18:$BM$1017,$B144,'Daily Log'!$BN$18:$BN$1017),0)","v":4},{"$f":"IFERROR($E144*SUMIF('Daily Log'!$BP$18:$BP$1017,$B144,'Daily Log'!$BQ$18:$BQ$1017),0)","v":0},{"$f":"IFERROR($E144*SUMIF('Daily Log'!$BS$18:$BS$1017,$B144,'Daily Log'!$BT$18:$BT$1017),0)","v":2},{"$f":"IFERROR($E144*SUMIF('Daily Log'!$BV$18:$BV$1017,$B144,'Daily Log'!$BW$18:$BW$1017),0)","v":3},{"$f":"IFERROR($E144*SUMIF('Daily Log'!$BY$18:$BY$1017,$B144,'Daily Log'!$BZ$18:$BZ$1017),0)","v":12},{"$f":"IFERROR($E144*SUMIF('Daily Log'!$CB$18:$CB$1017,$B144,'Daily Log'!$CC$18:$CC$1017),0)","v":2},{"$f":"IFERROR($E144*SUMIF('Daily Log'!$CE$18:$CE$1017,$B144,'Daily Log'!$CF$18:$CF$1017),0)","v":5},{"$f":"IFERROR($E144*SUMIF('Daily Log'!$CH$18:$CH$1017,$B144,'Daily Log'!$CI$18:$CI$1017),0)","v":6},{"$f":"IFERROR($E144*SUMIF('Daily Log'!$CK$18:$CK$1017,$B144,'Daily Log'!$CL$18:$CL$1017),0)","v":5},{"$f":"IFERROR($E144*SUMIF('Daily Log'!$CN$18:$CN$1017,$B144,'Daily Log'!$CO$18:$CO$1017),0)","v":0}]
[null,"HF03 92006:TEA(H)",null,"FFDRINKS-HOT",1,{"$f":"SUM($G145:$AK145)","v":44},{"$f":"IFERROR($E145*SUMIF('Daily Log'!$B$18:$B$1017,$B145,'Daily Log'!$C$18:$C$1017),0)","v":0},{"$f":"IFERROR($E145*SUMIF('Daily Log'!$E$18:$E$1017,$B145,'Daily Log'!$F$18:$F$1017),0)","v":1},{"$f":"IFERROR($E145*SUMIF('Daily Log'!$H$18:$H$1017,$B145,'Daily Log'!$I$18:$I$1017),0)","v":0},{"$f":"IFERROR($E145*SUMIF('Daily Log'!$K$18:$K$1017,$B145,'Daily Log'!$L$18:$L$1017),0)","v":3},{"$f":"IFERROR($E145*SUMIF('Daily Log'!$N$18:$N$1017,$B145,'Daily Log'!$O$18:$O$1017),0)","v":1},{"$f":"IFERROR($E145*SUMIF('Daily Log'!$Q$18:$Q$1017,$B145,'Daily Log'!$R$18:$R$1017),0)","v":3},{"$f":"IFERROR($E145*SUMIF('Daily Log'!$T$18:$T$1017,$B145,'Daily Log'!$U$18:$U$1017),0)","v":3},{"$f":"IFERROR($E145*SUMIF('Daily Log'!$W$18:$W$1017,$B145,'Daily Log'!$X$18:$X$1017),0)","v":0},{"$f":"IFERROR($E145*SUMIF('Daily Log'!$Z$18:$Z$1017,$B145,'Daily Log'!$AA$18:$AA$1017),0)","v":2},{"$f":"IFERROR($E145*SUMIF('Daily Log'!$AC$18:$AC$1017,$B145,'Daily Log'!$AD$18:$AD$1017),0)","v":0},{"$f":"IFERROR($E145*SUMIF('Daily Log'!$AF$18:$AF$1017,$B145,'Daily Log'!$AG$18:$AG$1017),0)","v":2},{"$f":"IFERROR($E145*SUMIF('Daily Log'!$AI$18:$AI$1017,$B145,'Daily Log'!$AJ$18:$AJ$1017),0)","v":3},{"$f":"IFERROR($E145*SUMIF('Daily Log'!$AL$18:$AL$1017,$B145,'Daily Log'!$AM$18:$AM$1017),0)","v":2},{"$f":"IFERROR($E145*SUMIF('Daily Log'!$AO$18:$AO$1017,$B145,'Daily Log'!$AP$18:$AP$1017),0)","v":2},{"$f":"IFERROR($E145*SUMIF('Daily Log'!$AR$18:$AR$1017,$B145,'Daily Log'!$AS$18:$AS$1017),0)","v":1},{"$f":"IFERROR($E145*SUMIF('Daily Log'!$AU$18:$AU$1017,$B145,'Daily Log'!$AV$18:$AV$1017),0)","v":2},{"$f":"IFERROR($E145*SUMIF('Daily Log'!$AX$18:$AX$1017,$B145,'Daily Log'!$AY$18:$AY$1017),0)","v":2},{"$f":"IFERROR($E145*SUMIF('Daily Log'!$BA$18:$BA$1017,$B145,'Daily Log'!$BB$18:$BB$1017),0)","v":1},{"$f":"IFERROR($E145*SUMIF('Daily Log'!$BD$18:$BD$1017,$B145,'Daily Log'!$BE$18:$BE$1017),0)","v":4},{"$f":"IFERROR($E145*SUMIF('Daily Log'!$BG$18:$BG$1017,$B145,'Daily Log'!$BH$18:$BH$1017),0)","v":2},{"$f":"IFERROR($E145*SUMIF('Daily Log'!$BJ$18:$BJ$1017,$B145,'Daily Log'!$BK$18:$BK$1017),0)","v":0},{"$f":"IFERROR($E145*SUMIF('Daily Log'!$BM$18:$BM$1017,$B145,'Daily Log'!$BN$18:$BN$1017),0)","v":0},{"$f":"IFERROR($E145*SUMIF('Daily Log'!$BP$18:$BP$1017,$B145,'Daily Log'!$BQ$18:$BQ$1017),0)","v":2},{"$f":"IFERROR($E145*SUMIF('Daily Log'!$BS$18:$BS$1017,$B145,'Daily Log'!$BT$18:$BT$1017),0)","v":4},{"$f":"IFERROR($E145*SUMIF('Daily Log'!$BV$18:$BV$1017,$B145,'Daily Log'!$BW$18:$BW$1017),0)","v":1},{"$f":"IFERROR($E145*SUMIF('Daily Log'!$BY$18:$BY$1017,$B145,'Daily Log'!$BZ$18:$BZ$1017),0)","v":2},{"$f":"IFERROR($E145*SUMIF('Daily Log'!$CB$18:$CB$1017,$B145,'Daily Log'!$CC$18:$CC$1017),0)","v":1},{"$f":"IFERROR($E145*SUMIF('Daily Log'!$CE$18:$CE$1017,$B145,'Daily Log'!$CF$18:$CF$1017),0)","v":0},{"$f":"IFERROR($E145*SUMIF('Daily Log'!$CH$18:$CH$1017,$B145,'Daily Log'!$CI$18:$CI$1017),0)","v":0},{"$f":"IFERROR($E145*SUMIF('Daily Log'!$CK$18:$CK$1017,$B145,'Daily Log'!$CL$18:$CL$1017),0)","v":0},{"$f":"IFERROR($E145*SUMIF('Daily Log'!$CN$18:$CN$1017,$B145,'Daily Log'!$CO$18:$CO$1017),0)","v":0}]
[null,"HF04 92008:LMN TEA(H)",null,"FFDRINKS-HOT",1,177,{"$f":"IFERROR($E146*SUMIF('Daily Log'!$B$18:$B$1017,$B146,'Daily Log'!$C$18:$C$1017),0)","v":10},{"$f":"IFERROR($E146*SUMIF('Daily Log'!$E$18:$E$1017,$B146,'Daily Log'!$F$18:$F$1017),0)","v":3},{"$f":"IFERROR($E146*SUMIF('Daily Log'!$H$18:$H$1017,$B146,'Daily Log'!$I$18:$I$1017),0)","v":7},{"$f":"IFERROR($E146*SUMIF('Daily Log'!$K$18:$K$1017,$B146,'Daily Log'!$L$18:$L$1017),0)","v":10},{"$f":"IFERROR($E146*SUMIF('Daily Log'!$N$18:$N$1017,$B146,'Daily Log'!$O$18:$O$1017),0)","v":14},{"$f":"IFERROR($E146*SUMIF('Daily Log'!$Q$18:$Q$1017,$B146,'Daily Log'!$R$18:$R$1017),0)","v":7},{"$f":"IFERROR($E146*SUMIF('Daily Log'!$T$18:$T$1017,$B146,'Daily Log'!$U$18:$U$1017),0)","v":1},{"$f":"IFERROR($E146*SUMIF('Daily Log'!$W$18:$W$1017,$B146,'Daily Log'!$X$18:$X$1017),0)","v":4},{"$f":"IFERROR($E146*SUMIF('Daily Log'!$Z$18:$Z$1017,$B146,'Daily Log'!$AA$18:$AA$1017),0)","v":2},{"$f":"IFERROR($E146*SUMIF('Daily Log'!$AC$18:$AC$1017,$B146,'Daily Log'!$AD$18:$AD$1017),0)","v":2},{"$f":"IFERROR($E146*SUMIF('Daily Log'!$AF$18:$AF$1017,$B146,'Daily Log'!$AG$18:$AG$1017),0)","v":2},{"$f":"IFERROR($E146*SUMIF('Daily Log'!$AI$18:$AI$1017,$B146,'Daily Log'!$AJ$18:$AJ$1017),0)","v":14},{"$f":"IFERROR($E146*SUMIF('Daily Log'!$AL$18:$AL$1017,$B146,'Daily Log'!$AM$18:$AM$1017),0)","v":10},{"$f":"IFERROR($E146*SUMIF('Daily Log'!$AO$18:$AO$1017,$B146,'Daily Log'!$AP$18:$AP$1017),0)","v":1},{"$f":"IFERROR($E146*SUMIF('Daily Log'!$AR$18:$AR$1017,$B146,'Daily Log'!$AS$18:$AS$1017),0)","v":1},{"$f":"IFERROR($E146*SUMIF('Daily Log'!$AU$18:$AU$1017,$B146,'Daily Log'!$AV$18:$AV$1017),0)","v":5},{"$f":"IFERROR($E146*SUMIF('Daily Log'!$AX$18:$AX$1017,$B146,'Daily Log'!$AY$18:$AY$1017),0)","v":6},{"$f":"IFERROR($E146*SUMIF('Daily Log'!$BA$18:$BA$1017,$B146,'Daily Log'!$BB$18:$BB$1017),0)","v":9},{"$f":"IFERROR($E146*SUMIF('Daily Log'!$BD$18:$BD$1017,$B146,'Daily Log'!$BE$18:$BE$1017),0)","v":7},{"$f":"IFERROR($E146*SUMIF('Daily Log'!$BG$18:$BG$1017,$B146,'Daily Log'!$BH$18:$BH$1017),0)","v":18},{"$f":"IFERROR($E146*SUMIF('Daily Log'!$BJ$18:$BJ$1017,$B146,'Daily Log'!$BK$18:$BK$1017),0)","v":5},{"$f":"IFERROR($E146*SUMIF('Daily Log'!$BM$18:$BM$1017,$B146,'Daily Log'!$BN$18:$BN$1017),0)","v":2},{"$f":"IFERROR($E146*SUMIF('Daily Log'!$BP$18:$BP$1017,$B146,'Daily Log'!$BQ$18:$BQ$1017),0)","v":3},{"$f":"IFERROR($E146*SUMIF('Daily Log'!$BS$18:$BS$1017,$B146,'Daily Log'!$BT$18:$BT$1017),0)","v":6},{"$f":"IFERROR($E146*SUMIF('Daily Log'!$BV$18:$BV$1017,$B146,'Daily Log'!$BW$18:$BW$1017),0)","v":2},{"$f":"IFERROR($E146*SUMIF('Daily Log'!$BY$18:$BY$1017,$B146,'Daily Log'!$BZ$18:$BZ$1017),0)","v":7},{"$f":"IFERROR($E146*SUMIF('Daily Log'!$CB$18:$CB$1017,$B146,'Daily Log'!$CC$18:$CC$1017),0)","v":8},{"$f":"IFERROR($E146*SUMIF('Daily Log'!$CE$18:$CE$1017,$B146,'Daily Log'!$CF$18:$CF$1017),0)","v":4},{"$f":"IFERROR($E146*SUMIF('Daily Log'!$CH$18:$CH$1017,$B146,'Daily Log'!$CI$18:$CI$1017),0)","v":2},{"$f":"IFERROR($E146*SUMIF('Daily Log'!$CK$18:$CK$1017,$B146,'Daily Log'!$CL$18:$CL$1017),0)","v":5},{"$f":"IFERROR($E146*SUMIF('Daily Log'!$CN$18:$CN$1017,$B146,'Daily Log'!$CO$18:$CO$1017),0)","v":0}]
[null,"HF05 92010:GRN TEA(H)",null,"FFDRINKS-HOT",1,445,{"$f":"IFERROR($E147*SUMIF('Daily Log'!$B$18:$B$1017,$B147,'Daily Log'!$C$18:$C$1017),0)","v":8},{"$f":"IFERROR($E147*SUMIF('Daily Log'!$E$18:$E$1017,$B147,'Daily Log'!$F$18:$F$1017),0)","v":6},{"$f":"IFERROR($E147*SUMIF('Daily Log'!$H$18:$H$1017,$B147,'Daily Log'!$I$18:$I$1017),0)","v":10},{"$f":"IFERROR($E147*SUMIF('Daily Log'!$K$18:$K$1017,$B147,'Daily Log'!$L$18:$L$1017),0)","v":36},{"$f":"IFERROR($E147*SUMIF('Daily Log'!$N$18:$N$1017,$B147,'Daily Log'!$O$18:$O$1017),0)","v":39},{"$f":"IFERROR($E147*SUMIF('Daily Log'!$Q$18:$Q$1017,$B147,'Daily Log'!$R$18:$R$1017),0)","v":13},{"$f":"IFERROR($E147*SUMIF('Daily Log'!$T$18:$T$1017,$B147,'Daily Log'!$U$18:$U$1017),0)","v":11},{"$f":"IFERROR($E147*SUMIF('Daily Log'!$W$18:$W$1017,$B147,'Daily Log'!$X$18:$X$1017),0)","v":10},{"$f":"IFERROR($E147*SUMIF('Daily Log'!$Z$18:$Z$1017,$B147,'Daily Log'!$AA$18:$AA$1017),0)","v":12},{"$f":"IFERROR($E147*SUMIF('Daily Log'!$AC$18:$AC$1017,$B147,'Daily Log'!$AD$18:$AD$1017),0)","v":6},{"$f":"IFERROR($E147*SUMIF('Daily Log'!$AF$18:$AF$1017,$B147,'Daily Log'!$AG$18:$AG$1017),0)","v":15},{"$f":"IFERROR($E147*SUMIF('Daily Log'!$AI$18:$AI$1017,$B147,'Daily Log'!$AJ$18:$AJ$1017),0)","v":31},{"$f":"IFERROR($E147*SUMIF('Daily Log'!$AL$18:$AL$1017,$B147,'Daily Log'!$AM$18:$AM$1017),0)","v":15},{"$f":"IFERROR($E147*SUMIF('Daily Log'!$AO$18:$AO$1017,$B147,'Daily Log'!$AP$18:$AP$1017),0)","v":12},{"$f":"IFERROR($E147*SUMIF('Daily Log'!$AR$18:$AR$1017,$B147,'Daily Log'!$AS$18:$AS$1017),0)","v":4},{"$f":"IFERROR($E147*SUMIF('Daily Log'!$AU$18:$AU$1017,$B147,'Daily Log'!$AV$18:$AV$1017),0)","v":14},{"$f":"IFERROR($E147*SUMIF('Daily Log'!$AX$18:$AX$1017,$B147,'Daily Log'!$AY$18:$AY$1017),0)","v":3},{"$f":"IFERROR($E147*SUMIF('Daily Log'!$BA$18:$BA$1017,$B147,'Daily Log'!$BB$18:$BB$1017),0)","v":24},{"$f":"IFERROR($E147*SUMIF('Daily Log'!$BD$18:$BD$1017,$B147,'Daily Log'!$BE$18:$BE$1017),0)","v":23},{"$f":"IFERROR($E147*SUMIF('Daily Log'!$BG$18:$BG$1017,$B147,'Daily Log'!$BH$18:$BH$1017),0)","v":25},{"$f":"IFERROR($E147*SUMIF('Daily Log'!$BJ$18:$BJ$1017,$B147,'Daily Log'!$BK$18:$BK$1017),0)","v":14},{"$f":"IFERROR($E147*SUMIF('Daily Log'!$BM$18:$BM$1017,$B147,'Daily Log'!$BN$18:$BN$1017),0)","v":11},{"$f":"IFERROR($E147*SUMIF('Daily Log'!$BP$18:$BP$1017,$B147,'Daily Log'!$BQ$18:$BQ$1017),0)","v":17},{"$f":"IFERROR($E147*SUMIF('Daily Log'!$BS$18:$BS$1017,$B147,'Daily Log'!$BT$18:$BT$1017),0)","v":9},{"$f":"IFERROR($E147*SUMIF('Daily Log'!$BV$18:$BV$1017,$B147,'Daily Log'!$BW$18:$BW$1017),0)","v":15},{"$f":"IFERROR($E147*SUMIF('Daily Log'!$BY$18:$BY$1017,$B147,'Daily Log'!$BZ$18:$BZ$1017),0)","v":9},{"$f":"IFERROR($E147*SUMIF('Daily Log'!$CB$18:$CB$1017,$B147,'Daily Log'!$CC$18:$CC$1017),0)","v":17},{"$f":"IFERROR($E147*SUMIF('Daily Log'!$CE$18:$CE$1017,$B147,'Daily Log'!$CF$18:$CF$1017),0)","v":10},{"$f":"IFERROR($E147*SUMIF('Daily Log'!$CH$18:$CH$1017,$B147,'Daily Log'!$CI$18:$CI$1017),0)","v":11},{"$f":"IFERROR($E147*SUMIF('Daily Log'!$CK$18:$CK$1017,$B147,'Daily Log'!$CL$18:$CL$1017),0)","v":15},{"$f":"IFERROR($E147*SUMIF('Daily Log'!$CN$18:$CN$1017,$B147,'Daily Log'!$CO$18:$CO$1017),0)","v":0}]
[null,"HF06 92012:HNY GT(H)",null,"FFDRINKS-HOT",1,494,{"$f":"IFERROR($E148*SUMIF('Daily Log'!$B$18:$B$1017,$B148,'Daily Log'!$C$18:$C$1017),0)","v":13},{"$f":"IFERROR($E148*SUMIF('Daily Log'!$E$18:$E$1017,$B148,'Daily Log'!$F$18:$F$1017),0)","v":6},{"$f":"IFERROR($E148*SUMIF('Daily Log'!$H$18:$H$1017,$B148,'Daily Log'!$I$18:$I$1017),0)","v":26},{"$f":"IFERROR($E148*SUMIF('Daily Log'!$K$18:$K$1017,$B148,'Daily Log'!$L$18:$L$1017),0)","v":34},{"$f":"IFERROR($E148*SUMIF('Daily Log'!$N$18:$N$1017,$B148,'Daily Log'!$O$18:$O$1017),0)","v":51},{"$f":"IFERROR($E148*SUMIF('Daily Log'!$Q$18:$Q$1017,$B148,'Daily Log'!$R$18:$R$1017),0)","v":24},{"$f":"IFERROR($E148*SUMIF('Daily Log'!$T$18:$T$1017,$B148,'Daily Log'!$U$18:$U$1017),0)","v":6},{"$f":"IFERROR($E148*SUMIF('Daily Log'!$W$18:$W$1017,$B148,'Daily Log'!$X$18:$X$1017),0)","v":20},{"$f":"IFERROR($E148*SUMIF('Daily Log'!$Z$18:$Z$1017,$B148,'Daily Log'!$AA$18:$AA$1017),0)","v":18},{"$f":"IFERROR($E148*SUMIF('Daily Log'!$AC$18:$AC$1017,$B148,'Daily Log'!$AD$18:$AD$1017),0)","v":17},{"$f":"IFERROR($E148*SUMIF('Daily Log'!$AF$18:$AF$1017,$B148,'Daily Log'!$AG$18:$AG$1017),0)","v":14},{"$f":"IFERROR($E148*SUMIF('Daily Log'!$AI$18:$AI$1017,$B148,'Daily Log'!$AJ$18:$AJ$1017),0)","v":24},{"$f":"IFERROR($E148*SUMIF('Daily Log'!$AL$18:$AL$1017,$B148,'Daily Log'!$AM$18:$AM$1017),0)","v":11},{"$f":"IFERROR($E148*SUMIF('Daily Log'!$AO$18:$AO$1017,$B148,'Daily Log'!$AP$18:$AP$1017),0)","v":9},{"$f":"IFERROR($E148*SUMIF('Daily Log'!$AR$18:$AR$1017,$B148,'Daily Log'!$AS$18:$AS$1017),0)","v":7},{"$f":"IFERROR($E148*SUMIF('Daily Log'!$AU$18:$AU$1017,$B148,'Daily Log'!$AV$18:$AV$1017),0)","v":20},{"$f":"IFERROR($E148*SUMIF('Daily Log'!$AX$18:$AX$1017,$B148,'Daily Log'!$AY$18:$AY$1017),0)","v":6},{"$f":"IFERROR($E148*SUMIF('Daily Log'!$BA$18:$BA$1017,$B148,'Daily Log'!$BB$18:$BB$1017),0)","v":17},{"$f":"IFERROR($E148*SUMIF('Daily Log'!$BD$18:$BD$1017,$B148,'Daily Log'!$BE$18:$BE$1017),0)","v":24},{"$f":"IFERROR($E148*SUMIF('Daily Log'!$BG$18:$BG$1017,$B148,'Daily Log'!$BH$18:$BH$1017),0)","v":13},{"$f":"IFERROR($E148*SUMIF('Daily Log'!$BJ$18:$BJ$1017,$B148,'Daily Log'!$BK$18:$BK$1017),0)","v":6},{"$f":"IFERROR($E148*SUMIF('Daily Log'!$BM$18:$BM$1017,$B148,'Daily Log'!$BN$18:$BN$1017),0)","v":17},{"$f":"IFERROR($E148*SUMIF('Daily Log'!$BP$18:$BP$1017,$B148,'Daily Log'!$BQ$18:$BQ$1017),0)","v":10},{"$f":"IFERROR($E148*SUMIF('Daily Log'!$BS$18:$BS$1017,$B148,'Daily Log'!$BT$18:$BT$1017),0)","v":20},{"$f":"IFERROR($E148*SUMIF('Daily Log'!$BV$18:$BV$1017,$B148,'Daily Log'!$BW$18:$BW$1017),0)","v":18},{"$f":"IFERROR($E148*SUMIF('Daily Log'!$BY$18:$BY$1017,$B148,'Daily Log'!$BZ$18:$BZ$1017),0)","v":15},{"$f":"IFERROR($E148*SUMIF('Daily Log'!$CB$18:$CB$1017,$B148,'Daily Log'!$CC$18:$CC$1017),0)","v":13},{"$f":"IFERROR($E148*SUMIF('Daily Log'!$CE$18:$CE$1017,$B148,'Daily Log'!$CF$18:$CF$1017),0)","v":12},{"$f":"IFERROR($E148*SUMIF('Daily Log'!$CH$18:$CH$1017,$B148,'Daily Log'!$CI$18:$CI$1017),0)","v":6},{"$f":"IFERROR($E148*SUMIF('Daily Log'!$CK$18:$CK$1017,$B148,'Daily Log'!$CL$18:$CL$1017),0)","v":17},{"$f":"IFERROR($E148*SUMIF('Daily Log'!$CN$18:$CN$1017,$B148,'Daily Log'!$CO$18:$CO$1017),0)","v":0}]
[null,"HF07 92014:HONEY(H)",null,"FFDRINKS-HOT",1,402,{"$f":"IFERROR($E149*SUMIF('Daily Log'!$B$18:$B$1017,$B149,'Daily Log'!$C$18:$C$1017),0)","v":14},{"$f":"IFERROR($E149*SUMIF('Daily Log'!$E$18:$E$1017,$B149,'Daily Log'!$F$18:$F$1017),0)","v":9},{"$f":"IFERROR($E149*SUMIF('Daily Log'!$H$18:$H$1017,$B149,'Daily Log'!$I$18:$I$1017),0)","v":19},{"$f":"IFERROR($E149*SUMIF('Daily Log'!$K$18:$K$1017,$B149,'Daily Log'!$L$18:$L$1017),0)","v":5},{"$f":"IFERROR($E149*SUMIF('Daily Log'!$N$18:$N$1017,$B149,'Daily Log'!$O$18:$O$1017),0)","v":32},{"$f":"IFERROR($E149*SUMIF('Daily Log'!$Q$18:$Q$1017,$B149,'Daily Log'!$R$18:$R$1017),0)","v":20},{"$f":"IFERROR($E149*SUMIF('Daily Log'!$T$18:$T$1017,$B149,'Daily Log'!$U$18:$U$1017),0)","v":4},{"$f":"IFERROR($E149*SUMIF('Daily Log'!$W$18:$W$1017,$B149,'Daily Log'!$X$18:$X$1017),0)","v":21},{"$f":"IFERROR($E149*SUMIF('Daily Log'!$Z$18:$Z$1017,$B149,'Daily Log'!$AA$18:$AA$1017),0)","v":17},{"$f":"IFERROR($E149*SUMIF('Daily Log'!$AC$18:$AC$1017,$B149,'Daily Log'!$AD$18:$AD$1017),0)","v":9},{"$f":"IFERROR($E149*SUMIF('Daily Log'!$AF$18:$AF$1017,$B149,'Daily Log'!$AG$18:$AG$1017),0)","v":22},{"$f":"IFERROR($E149*SUMIF('Daily Log'!$AI$18:$AI$1017,$B149,'Daily Log'!$AJ$18:$AJ$1017),0)","v":20},{"$f":"IFERROR($E149*SUMIF('Daily Log'!$AL$18:$AL$1017,$B149,'Daily Log'!$AM$18:$AM$1017),0)","v":6},{"$f":"IFERROR($E149*SUMIF('Daily Log'!$AO$18:$AO$1017,$B149,'Daily Log'!$AP$18:$AP$1017),0)","v":1},{"$f":"IFERROR($E149*SUMIF('Daily Log'!$AR$18:$AR$1017,$B149,'Daily Log'!$AS$18:$AS$1017),0)","v":7},{"$f":"IFERROR($E149*SUMIF('Daily Log'!$AU$18:$AU$1017,$B149,'Daily Log'!$AV$18:$AV$1017),0)","v":15},{"$f":"IFERROR($E149*SUMIF('Daily Log'!$AX$18:$AX$1017,$B149,'Daily Log'!$AY$18:$AY$1017),0)","v":8},{"$f":"IFERROR($E149*SUMIF('Daily Log'!$BA$18:$BA$1017,$B149,'Daily Log'!$BB$18:$BB$1017),0)","v":23},{"$f":"IFERROR($E149*SUMIF('Daily Log'!$BD$18:$BD$1017,$B149,'Daily Log'!$BE$18:$BE$1017),0)","v":28},{"$f":"IFERROR($E149*SUMIF('Daily Log'!$BG$18:$BG$1017,$B149,'Daily Log'!$BH$18:$BH$1017),0)","v":5},{"$f":"IFERROR($E149*SUMIF('Daily Log'!$BJ$18:$BJ$1017,$B149,'Daily Log'!$BK$18:$BK$1017),0)","v":22},{"$f":"IFERROR($E149*SUMIF('Daily Log'!$BM$18:$BM$1017,$B149,'Daily Log'!$BN$18:$BN$1017),0)","v":13},{"$f":"IFERROR($E149*SUMIF('Daily Log'!$BP$18:$BP$1017,$B149,'Daily Log'!$BQ$18:$BQ$1017),0)","v":17},{"$f":"IFERROR($E149*SUMIF('Daily Log'!$BS$18:$BS$1017,$B149,'Daily Log'!$BT$18:$BT$1017),0)","v":5},{"$f":"IFERROR($E149*SUMIF('Daily Log'!$BV$18:$BV$1017,$B149,'Daily Log'!$BW$18:$BW$1017),0)","v":12},{"$f":"IFERROR($E149*SUMIF('Daily Log'!$BY$18:$BY$1017,$B149,'Daily Log'!$BZ$18:$BZ$1017),0)","v":10},{"$f":"IFERROR($E149*SUMIF('Daily Log'!$CB$18:$CB$1017,$B149,'Daily Log'!$CC$18:$CC$1017),0)","v":6},{"$f":"IFERROR($E149*SUMIF('Daily Log'!$CE$18:$CE$1017,$B149,'Daily Log'!$CF$18:$CF$1017),0)","v":11},{"$f":"IFERROR($E149*SUMIF('Daily Log'!$CH$18:$CH$1017,$B149,'Daily Log'!$CI$18:$CI$1017),0)","v":8},{"$f":"IFERROR($E149*SUMIF('Daily Log'!$CK$18:$CK$1017,$B149,'Daily Log'!$CL$18:$CL$1017),0)","v":13},{"$f":"IFERROR($E149*SUMIF('Daily Log'!$CN$18:$CN$1017,$B149,'Daily Log'!$CO$18:$CO$1017),0)","v":0}]
[null,"HF08 92016:HNY LMN(H)",null,"FFDRINKS-HOT",1,1731,{"$f":"IFERROR($E150*SUMIF('Daily Log'!$B$18:$B$1017,$B150,'Daily Log'!$C$18:$C$1017),0)","v":51},{"$f":"IFERROR($E150*SUMIF('Daily Log'!$E$18:$E$1017,$B150,'Daily Log'!$F$18:$F$1017),0)","v":31},{"$f":"IFERROR($E150*SUMIF('Daily Log'!$H$18:$H$1017,$B150,'Daily Log'!$I$18:$I$1017),0)","v":38},{"$f":"IFERROR($E150*SUMIF('Daily Log'!$K$18:$K$1017,$B150,'Daily Log'!$L$18:$L$1017),0)","v":68},{"$f":"IFERROR($E150*SUMIF('Daily Log'!$N$18:$N$1017,$B150,'Daily Log'!$O$18:$O$1017),0)","v":120},{"$f":"IFERROR($E150*SUMIF('Daily Log'!$Q$18:$Q$1017,$B150,'Daily Log'!$R$18:$R$1017),0)","v":61},{"$f":"IFERROR($E150*SUMIF('Daily Log'!$T$18:$T$1017,$B150,'Daily Log'!$U$18:$U$1017),0)","v":47},{"$f":"IFERROR($E150*SUMIF('Daily Log'!$W$18:$W$1017,$B150,'Daily Log'!$X$18:$X$1017),0)","v":70},{"$f":"IFERROR($E150*SUMIF('Daily Log'!$Z$18:$Z$1017,$B150,'Daily Log'!$AA$18:$AA$1017),0)","v":43},{"$f":"IFERROR($E150*SUMIF('Daily Log'!$AC$18:$AC$1017,$B150,'Daily Log'!$AD$18:$AD$1017),0)","v":46},{"$f":"IFERROR($E150*SUMIF('Daily Log'!$AF$18:$AF$1017,$B150,'Daily Log'!$AG$18:$AG$1017),0)","v":43},{"$f":"IFERROR($E150*SUMIF('Daily Log'!$AI$18:$AI$1017,$B150,'Daily Log'!$AJ$18:$AJ$1017),0)","v":173},{"$f":"IFERROR($E150*SUMIF('Daily Log'!$AL$18:$AL$1017,$B150,'Daily Log'!$AM$18:$AM$1017),0)","v":50},{"$f":"IFERROR($E150*SUMIF('Daily Log'!$AO$18:$AO$1017,$B150,'Daily Log'!$AP$18:$AP$1017),0)","v":35},{"$f":"IFERROR($E150*SUMIF('Daily Log'!$AR$18:$AR$1017,$B150,'Daily Log'!$AS$18:$AS$1017),0)","v":31},{"$f":"IFERROR($E150*SUMIF('Daily Log'!$AU$18:$AU$1017,$B150,'Daily Log'!$AV$18:$AV$1017),0)","v":37},{"$f":"IFERROR($E150*SUMIF('Daily Log'!$AX$18:$AX$1017,$B150,'Daily Log'!$AY$18:$AY$1017),0)","v":34},{"$f":"IFERROR($E150*SUMIF('Daily Log'!$BA$18:$BA$1017,$B150,'Daily Log'!$BB$18:$BB$1017),0)","v":44},{"$f":"IFERROR($E150*SUMIF('Daily Log'!$BD$18:$BD$1017,$B150,'Daily Log'!$BE$18:$BE$1017),0)","v":66},{"$f":"IFERROR($E150*SUMIF('Daily Log'!$BG$18:$BG$1017,$B150,'Daily Log'!$BH$18:$BH$1017),0)","v":55},{"$f":"IFERROR($E150*SUMIF('Daily Log'!$BJ$18:$BJ$1017,$B150,'Daily Log'!$BK$18:$BK$1017),0)","v":77},{"$f":"IFERROR($E150*SUMIF('Daily Log'!$BM$18:$BM$1017,$B150,'Daily Log'!$BN$18:$BN$1017),0)","v":60},{"$f":"IFERROR($E150*SUMIF('Daily Log'!$BP$18:$BP$1017,$B150,'Daily Log'!$BQ$18:$BQ$1017),0)","v":72},{"$f":"IFERROR($E150*SUMIF('Daily Log'!$BS$18:$BS$1017,$B150,'Daily Log'!$BT$18:$BT$1017),0)","v":41},{"$f":"IFERROR($E150*SUMIF('Daily Log'!$BV$18:$BV$1017,$B150,'Daily Log'!$BW$18:$BW$1017),0)","v":83},{"$f":"IFERROR($E150*SUMIF('Daily Log'!$BY$18:$BY$1017,$B150,'Daily Log'!$BZ$18:$BZ$1017),0)","v":55},{"$f":"IFERROR($E150*SUMIF('Daily Log'!$CB$18:$CB$1017,$B150,'Daily Log'!$CC$18:$CC$1017),0)","v":47},{"$f":"IFERROR($E150*SUMIF('Daily Log'!$CE$18:$CE$1017,$B150,'Daily Log'!$CF$18:$CF$1017),0)","v":29},{"$f":"IFERROR($E150*SUMIF('Daily Log'!$CH$18:$CH$1017,$B150,'Daily Log'!$CI$18:$CI$1017),0)","v":43},{"$f":"IFERROR($E150*SUMIF('Daily Log'!$CK$18:$CK$1017,$B150,'Daily Log'!$CL$18:$CL$1017),0)","v":81},{"$f":"IFERROR($E150*SUMIF('Daily Log'!$CN$18:$CN$1017,$B150,'Daily Log'!$CO$18:$CO$1017),0)","v":0}]
[null,"HF09 92017:CHAMOMILE",null,"FFDRINKS-HOT",1,135,{"$f":"IFERROR($E151*SUMIF('Daily Log'!$B$18:$B$1017,$B151,'Daily Log'!$C$18:$C$1017),0)","v":5},{"$f":"IFERROR($E151*SUMIF('Daily Log'!$E$18:$E$1017,$B151,'Daily Log'!$F$18:$F$1017),0)","v":8},{"$f":"IFERROR($E151*SUMIF('Daily Log'!$H$18:$H$1017,$B151,'Daily Log'!$I$18:$I$1017),0)","v":2},{"$f":"IFERROR($E151*SUMIF('Daily Log'!$K$18:$K$1017,$B151,'Daily Log'!$L$18:$L$1017),0)","v":3},{"$f":"IFERROR($E151*SUMIF('Daily Log'!$N$18:$N$1017,$B151,'Daily Log'!$O$18:$O$1017),0)","v":7},{"$f":"IFERROR($E151*SUMIF('Daily Log'!$Q$18:$Q$1017,$B151,'Daily Log'!$R$18:$R$1017),0)","v":7},{"$f":"IFERROR($E151*SUMIF('Daily Log'!$T$18:$T$1017,$B151,'Daily Log'!$U$18:$U$1017),0)","v":6},{"$f":"IFERROR($E151*SUMIF('Daily Log'!$W$18:$W$1017,$B151,'Daily Log'!$X$18:$X$1017),0)","v":2},{"$f":"IFERROR($E151*SUMIF('Daily Log'!$Z$18:$Z$1017,$B151,'Daily Log'!$AA$18:$AA$1017),0)","v":2},{"$f":"IFERROR($E151*SUMIF('Daily Log'!$AC$18:$AC$1017,$B151,'Daily Log'!$AD$18:$AD$1017),0)","v":1},{"$f":"IFERROR($E151*SUMIF('Daily Log'!$AF$18:$AF$1017,$B151,'Daily Log'!$AG$18:$AG$1017),0)","v":3},{"$f":"IFERROR($E151*SUMIF('Daily Log'!$AI$18:$AI$1017,$B151,'Daily Log'!$AJ$18:$AJ$1017),0)","v":9},{"$f":"IFERROR($E151*SUMIF('Daily Log'!$AL$18:$AL$1017,$B151,'Daily Log'!$AM$18:$AM$1017),0)","v":5},{"$f":"IFERROR($E151*SUMIF('Daily Log'!$AO$18:$AO$1017,$B151,'Daily Log'!$AP$18:$AP$1017),0)","v":0},{"$f":"IFERROR($E151*SUMIF('Daily Log'!$AR$18:$AR$1017,$B151,'Daily Log'!$AS$18:$AS$1017),0)","v":1},{"$f":"IFERROR($E151*SUMIF('Daily Log'!$AU$18:$AU$1017,$B151,'Daily Log'!$AV$18:$AV$1017),0)","v":1},{"$f":"IFERROR($E151*SUMIF('Daily Log'!$AX$18:$AX$1017,$B151,'Daily Log'!$AY$18:$AY$1017),0)","v":6},{"$f":"IFERROR($E151*SUMIF('Daily Log'!$BA$18:$BA$1017,$B151,'Daily Log'!$BB$18:$BB$1017),0)","v":11},{"$f":"IFERROR($E151*SUMIF('Daily Log'!$BD$18:$BD$1017,$B151,'Daily Log'!$BE$18:$BE$1017),0)","v":2},{"$f":"IFERROR($E151*SUMIF('Daily Log'!$BG$18:$BG$1017,$B151,'Daily Log'!$BH$18:$BH$1017),0)","v":7},{"$f":"IFERROR($E151*SUMIF('Daily Log'!$BJ$18:$BJ$1017,$B151,'Daily Log'!$BK$18:$BK$1017),0)","v":3},{"$f":"IFERROR($E151*SUMIF('Daily Log'!$BM$18:$BM$1017,$B151,'Daily Log'!$BN$18:$BN$1017),0)","v":7},{"$f":"IFERROR($E151*SUMIF('Daily Log'!$BP$18:$BP$1017,$B151,'Daily Log'!$BQ$18:$BQ$1017),0)","v":2},{"$f":"IFERROR($E151*SUMIF('Daily Log'!$BS$18:$BS$1017,$B151,'Daily Log'!$BT$18:$BT$1017),0)","v":12},{"$f":"IFERROR($E151*SUMIF('Daily Log'!$BV$18:$BV$1017,$B151,'Daily Log'!$BW$18:$BW$1017),0)","v":8},{"$f":"IFERROR($E151*SUMIF('Daily Log'!$BY$18:$BY$1017,$B151,'Daily Log'!$BZ$18:$BZ$1017),0)","v":3},{"$f":"IFERROR($E151*SUMIF('Daily Log'!$CB$18:$CB$1017,$B151,'Daily Log'!$CC$18:$CC$1017),0)","v":5},{"$f":"IFERROR($E151*SUMIF('Daily Log'!$CE$18:$CE$1017,$B151,'Daily Log'!$CF$18:$CF$1017),0)","v":0},{"$f":"IFERROR($E151*SUMIF('Daily Log'!$CH$18:$CH$1017,$B151,'Daily Log'!$CI$18:$CI$1017),0)","v":1},{"$f":"IFERROR($E151*SUMIF('Daily Log'!$CK$18:$CK$1017,$B151,'Daily Log'!$CL$18:$CL$1017),0)","v":6},{"$f":"IFERROR($E151*SUMIF('Daily Log'!$CN$18:$CN$1017,$B151,'Daily Log'!$CO$18:$CO$1017),0)","v":0}]
[null,"HF10 92018:DARJEELING",null,"FFDRINKS-HOT",1,23,{"$f":"IFERROR($E152*SUMIF('Daily Log'!$B$18:$B$1017,$B152,'Daily Log'!$C$18:$C$1017),0)","v":0},{"$f":"IFERROR($E152*SUMIF('Daily Log'!$E$18:$E$1017,$B152,'Daily Log'!$F$18:$F$1017),0)","v":0},{"$f":"IFERROR($E152*SUMIF('Daily Log'!$H$18:$H$1017,$B152,'Daily Log'!$I$18:$I$1017),0)","v":0},{"$f":"IFERROR($E152*SUMIF('Daily Log'!$K$18:$K$1017,$B152,'Daily Log'!$L$18:$L$1017),0)","v":0},{"$f":"IFERROR($E152*SUMIF('Daily Log'!$N$18:$N$1017,$B152,'Daily Log'!$O$18:$O$1017),0)","v":1},{"$f":"IFERROR($E152*SUMIF('Daily Log'!$Q$18:$Q$1017,$B152,'Daily Log'!$R$18:$R$1017),0)","v":4},{"$f":"IFERROR($E152*SUMIF('Daily Log'!$T$18:$T$1017,$B152,'Daily Log'!$U$18:$U$1017),0)","v":0},{"$f":"IFERROR($E152*SUMIF('Daily Log'!$W$18:$W$1017,$B152,'Daily Log'!$X$18:$X$1017),0)","v":3},{"$f":"IFERROR($E152*SUMIF('Daily Log'!$Z$18:$Z$1017,$B152,'Daily Log'!$AA$18:$AA$1017),0)","v":1},{"$f":"IFERROR($E152*SUMIF('Daily Log'!$AC$18:$AC$1017,$B152,'Daily Log'!$AD$18:$AD$1017),0)","v":0},{"$f":"IFERROR($E152*SUMIF('Daily Log'!$AF$18:$AF$1017,$B152,'Daily Log'!$AG$18:$AG$1017),0)","v":0},{"$f":"IFERROR($E152*SUMIF('Daily Log'!$AI$18:$AI$1017,$B152,'Daily Log'!$AJ$18:$AJ$1017),0)","v":0},{"$f":"IFERROR($E152*SUMIF('Daily Log'!$AL$18:$AL$1017,$B152,'Daily Log'!$AM$18:$AM$1017),0)","v":0},{"$f":"IFERROR($E152*SUMIF('Daily Log'!$AO$18:$AO$1017,$B152,'Daily Log'!$AP$18:$AP$1017),0)","v":4},{"$f":"IFERROR($E152*SUMIF('Daily Log'!$AR$18:$AR$1017,$B152,'Daily Log'!$AS$18:$AS$1017),0)","v":0},{"$f":"IFERROR($E152*SUMIF('Daily Log'!$AU$18:$AU$1017,$B152,'Daily Log'!$AV$18:$AV$1017),0)","v":0},{"$f":"IFERROR($E152*SUMIF('Daily Log'!$AX$18:$AX$1017,$B152,'Daily Log'!$AY$18:$AY$1017),0)","v":0},{"$f":"IFERROR($E152*SUMIF('Daily Log'!$BA$18:$BA$1017,$B152,'Daily Log'!$BB$18:$BB$1017),0)","v":1},{"$f":"IFERROR($E152*SUMIF('Daily Log'!$BD$18:$BD$1017,$B152,'Daily Log'!$BE$18:$BE$1017),0)","v":1},{"$f":"IFERROR($E152*SUMIF('Daily Log'!$BG$18:$BG$1017,$B152,'Daily Log'!$BH$18:$BH$1017),0)","v":0},{"$f":"IFERROR($E152*SUMIF('Daily Log'!$BJ$18:$BJ$1017,$B152,'Daily Log'!$BK$18:$BK$1017),0)","v":1},{"$f":"IFERROR($E152*SUMIF('Daily Log'!$BM$18:$BM$1017,$B152,'Daily Log'!$BN$18:$BN$1017),0)","v":0},{"$f":"IFERROR($E152*SUMIF('Daily Log'!$BP$18:$BP$1017,$B152,'Daily Log'!$BQ$18:$BQ$1017),0)","v":0},{"$f":"IFERROR($E152*SUMIF('Daily Log'!$BS$18:$BS$1017,$B152,'Daily Log'!$BT$18:$BT$1017),0)","v":2},{"$f":"IFERROR($E152*SUMIF('Daily Log'!$BV$18:$BV$1017,$B152,'Daily Log'!$BW$18:$BW$1017),0)","v":1},{"$f":"IFERROR($E152*SUMIF('Daily Log'!$BY$18:$BY$1017,$B152,'Daily Log'!$BZ$18:$BZ$1017),0)","v":1},{"$f":"IFERROR($E152*SUMIF('Daily Log'!$CB$18:$CB$1017,$B152,'Daily Log'!$CC$18:$CC$1017),0)","v":1},{"$f":"IFERROR($E152*SUMIF('Daily Log'!$CE$18:$CE$1017,$B152,'Daily Log'!$CF$18:$CF$1017),0)","v":1},{"$f":"IFERROR($E152*SUMIF('Daily Log'!$CH$18:$CH$1017,$B152,'Daily Log'!$CI$18:$CI$1017),0)","v":0},{"$f":"IFERROR($E152*SUMIF('Daily Log'!$CK$18:$CK$1017,$B152,'Daily Log'!$CL$18:$CL$1017),0)","v":1},{"$f":"IFERROR($E152*SUMIF('Daily Log'!$CN$18:$CN$1017,$B152,'Daily Log'!$CO$18:$CO$1017),0)","v":0}]
[null,"HF11 92019:EARL GREY",null,"FFDRINKS-HOT",1,98,{"$f":"IFERROR($E153*SUMIF('Daily Log'!$B$18:$B$1017,$B153,'Daily Log'!$C$18:$C$1017),0)","v":8},{"$f":"IFERROR($E153*SUMIF('Daily Log'!$E$18:$E$1017,$B153,'Daily Log'!$F$18:$F$1017),0)","v":5},{"$f":"IFERROR($E153*SUMIF('Daily Log'!$H$18:$H$1017,$B153,'Daily Log'!$I$18:$I$1017),0)","v":4},{"$f":"IFERROR($E153*SUMIF('Daily Log'!$K$18:$K$1017,$B153,'Daily Log'!$L$18:$L$1017),0)","v":2},{"$f":"IFERROR($E153*SUMIF('Daily Log'!$N$18:$N$1017,$B153,'Daily Log'!$O$18:$O$1017),0)","v":5},{"$f":"IFERROR($E153*SUMIF('Daily Log'!$Q$18:$Q$1017,$B153,'Daily Log'!$R$18:$R$1017),0)","v":13},{"$f":"IFERROR($E153*SUMIF('Daily Log'!$T$18:$T$1017,$B153,'Daily Log'!$U$18:$U$1017),0)","v":5},{"$f":"IFERROR($E153*SUMIF('Daily Log'!$W$18:$W$1017,$B153,'Daily Log'!$X$18:$X$1017),0)","v":1},{"$f":"IFERROR($E153*SUMIF('Daily Log'!$Z$18:$Z$1017,$B153,'Daily Log'!$AA$18:$AA$1017),0)","v":1},{"$f":"IFERROR($E153*SUMIF('Daily Log'!$AC$18:$AC$1017,$B153,'Daily Log'!$AD$18:$AD$1017),0)","v":1},{"$f":"IFERROR($E153*SUMIF('Daily Log'!$AF$18:$AF$1017,$B153,'Daily Log'!$AG$18:$AG$1017),0)","v":0},{"$f":"IFERROR($E153*SUMIF('Daily Log'!$AI$18:$AI$1017,$B153,'Daily Log'!$AJ$18:$AJ$1017),0)","v":7},{"$f":"IFERROR($E153*SUMIF('Daily Log'!$AL$18:$AL$1017,$B153,'Daily Log'!$AM$18:$AM$1017),0)","v":2},{"$f":"IFERROR($E153*SUMIF('Daily Log'!$AO$18:$AO$1017,$B153,'Daily Log'!$AP$18:$AP$1017),0)","v":0},{"$f":"IFERROR($E153*SUMIF('Daily Log'!$AR$18:$AR$1017,$B153,'Daily Log'!$AS$18:$AS$1017),0)","v":4},{"$f":"IFERROR($E153*SUMIF('Daily Log'!$AU$18:$AU$1017,$B153,'Daily Log'!$AV$18:$AV$1017),0)","v":2},{"$f":"IFERROR($E153*SUMIF('Daily Log'!$AX$18:$AX$1017,$B153,'Daily Log'!$AY$18:$AY$1017),0)","v":2},{"$f":"IFERROR($E153*SUMIF('Daily Log'!$BA$18:$BA$1017,$B153,'Daily Log'!$BB$18:$BB$1017),0)","v":4},{"$f":"IFERROR($E153*SUMIF('Daily Log'!$BD$18:$BD$1017,$B153,'Daily Log'!$BE$18:$BE$1017),0)","v":3},{"$f":"IFERROR($E153*SUMIF('Daily Log'!$BG$18:$BG$1017,$B153,'Daily Log'!$BH$18:$BH$1017),0)","v":1},{"$f":"IFERROR($E153*SUMIF('Daily Log'!$BJ$18:$BJ$1017,$B153,'Daily Log'!$BK$18:$BK$1017),0)","v":5},{"$f":"IFERROR($E153*SUMIF('Daily Log'!$BM$18:$BM$1017,$B153,'Daily Log'!$BN$18:$BN$1017),0)","v":9},{"$f":"IFERROR($E153*SUMIF('Daily Log'!$BP$18:$BP$1017,$B153,'Daily Log'!$BQ$18:$BQ$1017),0)","v":1},{"$f":"IFERROR($E153*SUMIF('Daily Log'!$BS$18:$BS$1017,$B153,'Daily Log'!$BT$18:$BT$1017),0)","v":2},{"$f":"IFERROR($E153*SUMIF('Daily Log'!$BV$18:$BV$1017,$B153,'Daily Log'!$BW$18:$BW$1017),0)","v":4},{"$f":"IFERROR($E153*SUMIF('Daily Log'!$BY$18:$BY$1017,$B153,'Daily Log'!$BZ$18:$BZ$1017),0)","v":4},{"$f":"IFERROR($E153*SUMIF('Daily Log'!$CB$18:$CB$1017,$B153,'Daily Log'!$CC$18:$CC$1017),0)","v":0},{"$f":"IFERROR($E153*SUMIF('Daily Log'!$CE$18:$CE$1017,$B153,'Daily Log'!$CF$18:$CF$1017),0)","v":0},{"$f":"IFERROR($E153*SUMIF('Daily Log'!$CH$18:$CH$1017,$B153,'Daily Log'!$CI$18:$CI$1017),0)","v":1},{"$f":"IFERROR($E153*SUMIF('Daily Log'!$CK$18:$CK$1017,$B153,'Daily Log'!$CL$18:$CL$1017),0)","v":2},{"$f":"IFERROR($E153*SUMIF('Daily Log'!$CN$18:$CN$1017,$B153,'Daily Log'!$CO$18:$CO$1017),0)","v":0}]
[null,"CA01 2023:7 UP",null,"SO-SOFT DRINKS",1,1,{"$f":"IFERROR($E154*SUMIF('Daily Log'!$B$18:$B$1017,$B154,'Daily Log'!$C$18:$C$1017),0)","v":0},{"$f":"IFERROR($E154*SUMIF('Daily Log'!$E$18:$E$1017,$B154,'Daily Log'!$F$18:$F$1017),0)","v":0},{"$f":"IFERROR($E154*SUMIF('Daily Log'!$H$18:$H$1017,$B154,'Daily Log'!$I$18:$I$1017),0)","v":0},{"$f":"IFERROR($E154*SUMIF('Daily Log'!$K$18:$K$1017,$B154,'Daily Log'!$L$18:$L$1017),0)","v":0},{"$f":"IFERROR($E154*SUMIF('Daily Log'!$N$18:$N$1017,$B154,'Daily Log'!$O$18:$O$1017),0)","v":0},{"$f":"IFERROR($E154*SUMIF('Daily Log'!$Q$18:$Q$1017,$B154,'Daily Log'!$R$18:$R$1017),0)","v":1},{"$f":"IFERROR($E154*SUMIF('Daily Log'!$T$18:$T$1017,$B154,'Daily Log'!$U$18:$U$1017),0)","v":0},{"$f":"IFERROR($E154*SUMIF('Daily Log'!$W$18:$W$1017,$B154,'Daily Log'!$X$18:$X$1017),0)","v":0},{"$f":"IFERROR($E154*SUMIF('Daily Log'!$Z$18:$Z$1017,$B154,'Daily Log'!$AA$18:$AA$1017),0)","v":0},{"$f":"IFERROR($E154*SUMIF('Daily Log'!$AC$18:$AC$1017,$B154,'Daily Log'!$AD$18:$AD$1017),0)","v":0},{"$f":"IFERROR($E154*SUMIF('Daily Log'!$AF$18:$AF$1017,$B154,'Daily Log'!$AG$18:$AG$1017),0)","v":0},{"$f":"IFERROR($E154*SUMIF('Daily Log'!$AI$18:$AI$1017,$B154,'Daily Log'!$AJ$18:$AJ$1017),0)","v":0},{"$f":"IFERROR($E154*SUMIF('Daily Log'!$AL$18:$AL$1017,$B154,'Daily Log'!$AM$18:$AM$1017),0)","v":0},{"$f":"IFERROR($E154*SUMIF('Daily Log'!$AO$18:$AO$1017,$B154,'Daily Log'!$AP$18:$AP$1017),0)","v":0},{"$f":"IFERROR($E154*SUMIF('Daily Log'!$AR$18:$AR$1017,$B154,'Daily Log'!$AS$18:$AS$1017),0)","v":0},{"$f":"IFERROR($E154*SUMIF('Daily Log'!$AU$18:$AU$1017,$B154,'Daily Log'!$AV$18:$AV$1017),0)","v":0},{"$f":"IFERROR($E154*SUMIF('Daily Log'!$AX$18:$AX$1017,$B154,'Daily Log'!$AY$18:$AY$1017),0)","v":0},{"$f":"IFERROR($E154*SUMIF('Daily Log'!$BA$18:$BA$1017,$B154,'Daily Log'!$BB$18:$BB$1017),0)","v":0},{"$f":"IFERROR($E154*SUMIF('Daily Log'!$BD$18:$BD$1017,$B154,'Daily Log'!$BE$18:$BE$1017),0)","v":0},{"$f":"IFERROR($E154*SUMIF('Daily Log'!$BG$18:$BG$1017,$B154,'Daily Log'!$BH$18:$BH$1017),0)","v":0},{"$f":"IFERROR($E154*SUMIF('Daily Log'!$BJ$18:$BJ$1017,$B154,'Daily Log'!$BK$18:$BK$1017),0)","v":0},{"$f":"IFERROR($E154*SUMIF('Daily Log'!$BM$18:$BM$1017,$B154,'Daily Log'!$BN$18:$BN$1017),0)","v":0},{"$f":"IFERROR($E154*SUMIF('Daily Log'!$BP$18:$BP$1017,$B154,'Daily Log'!$BQ$18:$BQ$1017),0)","v":0},{"$f":"IFERROR($E154*SUMIF('Daily Log'!$BS$18:$BS$1017,$B154,'Daily Log'!$BT$18:$BT$1017),0)","v":0},{"$f":"IFERROR($E154*SUMIF('Daily Log'!$BV$18:$BV$1017,$B154,'Daily Log'!$BW$18:$BW$1017),0)","v":0},{"$f":"IFERROR($E154*SUMIF('Daily Log'!$BY$18:$BY$1017,$B154,'Daily Log'!$BZ$18:$BZ$1017),0)","v":0},{"$f":"IFERROR($E154*SUMIF('Daily Log'!$CB$18:$CB$1017,$B154,'Daily Log'!$CC$18:$CC$1017),0)","v":0},{"$f":"IFERROR($E154*SUMIF('Daily Log'!$CE$18:$CE$1017,$B154,'Daily Log'!$CF$18:$CF$1017),0)","v":0},{"$f":"IFERROR($E154*SUMIF('Daily Log'!$CH$18:$CH$1017,$B154,'Daily Log'!$CI$18:$CI$1017),0)","v":0},{"$f":"IFERROR($E154*SUMIF('Daily Log'!$CK$18:$CK$1017,$B154,'Daily Log'!$CL$18:$CL$1017),0)","v":0},{"$f":"IFERROR($E154*SUMIF('Daily Log'!$CN$18:$CN$1017,$B154,'Daily Log'!$CO$18:$CO$1017),0)","v":0}]
[null,"CA02 2024:7UP REVIVE",null,"SO-SOFT DRINKS",1,0,{"$f":"IFERROR($E155*SUMIF('Daily Log'!$B$18:$B$1017,$B155,'Daily Log'!$C$18:$C$1017),0)","v":0},{"$f":"IFERROR($E155*SUMIF('Daily Log'!$E$18:$E$1017,$B155,'Daily Log'!$F$18:$F$1017),0)","v":0},{"$f":"IFERROR($E155*SUMIF('Daily Log'!$H$18:$H$1017,$B155,'Daily Log'!$I$18:$I$1017),0)","v":0},{"$f":"IFERROR($E155*SUMIF('Daily Log'!$K$18:$K$1017,$B155,'Daily Log'!$L$18:$L$1017),0)","v":0},{"$f":"IFERROR($E155*SUMIF('Daily Log'!$N$18:$N$1017,$B155,'Daily Log'!$O$18:$O$1017),0)","v":0},{"$f":"IFERROR($E155*SUMIF('Daily Log'!$Q$18:$Q$1017,$B155,'Daily Log'!$R$18:$R$1017),0)","v":0},{"$f":"IFERROR($E155*SUMIF('Daily Log'!$T$18:$T$1017,$B155,'Daily Log'!$U$18:$U$1017),0)","v":0},{"$f":"IFERROR($E155*SUMIF('Daily Log'!$W$18:$W$1017,$B155,'Daily Log'!$X$18:$X$1017),0)","v":0},{"$f":"IFERROR($E155*SUMIF('Daily Log'!$Z$18:$Z$1017,$B155,'Daily Log'!$AA$18:$AA$1017),0)","v":0},{"$f":"IFERROR($E155*SUMIF('Daily Log'!$AC$18:$AC$1017,$B155,'Daily Log'!$AD$18:$AD$1017),0)","v":0},{"$f":"IFERROR($E155*SUMIF('Daily Log'!$AF$18:$AF$1017,$B155,'Daily Log'!$AG$18:$AG$1017),0)","v":0},{"$f":"IFERROR($E155*SUMIF('Daily Log'!$AI$18:$AI$1017,$B155,'Daily Log'!$AJ$18:$AJ$1017),0)","v":0},{"$f":"IFERROR($E155*SUMIF('Daily Log'!$AL$18:$AL$1017,$B155,'Daily Log'!$AM$18:$AM$1017),0)","v":0},{"$f":"IFERROR($E155*SUMIF('Daily Log'!$AO$18:$AO$1017,$B155,'Daily Log'!$AP$18:$AP$1017),0)","v":0},{"$f":"IFERROR($E155*SUMIF('Daily Log'!$AR$18:$AR$1017,$B155,'Daily Log'!$AS$18:$AS$1017),0)","v":0},{"$f":"IFERROR($E155*SUMIF('Daily Log'!$AU$18:$AU$1017,$B155,'Daily Log'!$AV$18:$AV$1017),0)","v":0},{"$f":"IFERROR($E155*SUMIF('Daily Log'!$AX$18:$AX$1017,$B155,'Daily Log'!$AY$18:$AY$1017),0)","v":0},{"$f":"IFERROR($E155*SUMIF('Daily Log'!$BA$18:$BA$1017,$B155,'Daily Log'!$BB$18:$BB$1017),0)","v":0},{"$f":"IFERROR($E155*SUMIF('Daily Log'!$BD$18:$BD$1017,$B155,'Daily Log'!$BE$18:$BE$1017),0)","v":0},{"$f":"IFERROR($E155*SUMIF('Daily Log'!$BG$18:$BG$1017,$B155,'Daily Log'!$BH$18:$BH$1017),0)","v":0},{"$f":"IFERROR($E155*SUMIF('Daily Log'!$BJ$18:$BJ$1017,$B155,'Daily Log'!$BK$18:$BK$1017),0)","v":0},{"$f":"IFERROR($E155*SUMIF('Daily Log'!$BM$18:$BM$1017,$B155,'Daily Log'!$BN$18:$BN$1017),0)","v":0},{"$f":"IFERROR($E155*SUMIF('Daily Log'!$BP$18:$BP$1017,$B155,'Daily Log'!$BQ$18:$BQ$1017),0)","v":0},{"$f":"IFERROR($E155*SUMIF('Daily Log'!$BS$18:$BS$1017,$B155,'Daily Log'!$BT$18:$BT$1017),0)","v":0},{"$f":"IFERROR($E155*SUMIF('Daily Log'!$BV$18:$BV$1017,$B155,'Daily Log'!$BW$18:$BW$1017),0)","v":0},{"$f":"IFERROR($E155*SUMIF('Daily Log'!$BY$18:$BY$1017,$B155,'Daily Log'!$BZ$18:$BZ$1017),0)","v":0},{"$f":"IFERROR($E155*SUMIF('Daily Log'!$CB$18:$CB$1017,$B155,'Daily Log'!$CC$18:$CC$1017),0)","v":0},{"$f":"IFERROR($E155*SUMIF('Daily Log'!$CE$18:$CE$1017,$B155,'Daily Log'!$CF$18:$CF$1017),0)","v":0},{"$f":"IFERROR($E155*SUMIF('Daily Log'!$CH$18:$CH$1017,$B155,'Daily Log'!$CI$18:$CI$1017),0)","v":0},{"$f":"IFERROR($E155*SUMIF('Daily Log'!$CK$18:$CK$1017,$B155,'Daily Log'!$CL$18:$CL$1017),0)","v":0},{"$f":"IFERROR($E155*SUMIF('Daily Log'!$CN$18:$CN$1017,$B155,'Daily Log'!$CO$18:$CO$1017),0)","v":0}]
[null,"CA03 2025:PEPSI",null,"SO-SOFT DRINKS",1,2,{"$f":"IFERROR($E156*SUMIF('Daily Log'!$B$18:$B$1017,$B156,'Daily Log'!$C$18:$C$1017),0)","v":0},{"$f":"IFERROR($E156*SUMIF('Daily Log'!$E$18:$E$1017,$B156,'Daily Log'!$F$18:$F$1017),0)","v":0},{"$f":"IFERROR($E156*SUMIF('Daily Log'!$H$18:$H$1017,$B156,'Daily Log'!$I$18:$I$1017),0)","v":0},{"$f":"IFERROR($E156*SUMIF('Daily Log'!$K$18:$K$1017,$B156,'Daily Log'!$L$18:$L$1017),0)","v":0},{"$f":"IFERROR($E156*SUMIF('Daily Log'!$N$18:$N$1017,$B156,'Daily Log'!$O$18:$O$1017),0)","v":1},{"$f":"IFERROR($E156*SUMIF('Daily Log'!$Q$18:$Q$1017,$B156,'Daily Log'!$R$18:$R$1017),0)","v":0},{"$f":"IFERROR($E156*SUMIF('Daily Log'!$T$18:$T$1017,$B156,'Daily Log'!$U$18:$U$1017),0)","v":0},{"$f":"IFERROR($E156*SUMIF('Daily Log'!$W$18:$W$1017,$B156,'Daily Log'!$X$18:$X$1017),0)","v":0},{"$f":"IFERROR($E156*SUMIF('Daily Log'!$Z$18:$Z$1017,$B156,'Daily Log'!$AA$18:$AA$1017),0)","v":0},{"$f":"IFERROR($E156*SUMIF('Daily Log'!$AC$18:$AC$1017,$B156,'Daily Log'!$AD$18:$AD$1017),0)","v":0},{"$f":"IFERROR($E156*SUMIF('Daily Log'!$AF$18:$AF$1017,$B156,'Daily Log'!$AG$18:$AG$1017),0)","v":0},{"$f":"IFERROR($E156*SUMIF('Daily Log'!$AI$18:$AI$1017,$B156,'Daily Log'!$AJ$18:$AJ$1017),0)","v":0},{"$f":"IFERROR($E156*SUMIF('Daily Log'!$AL$18:$AL$1017,$B156,'Daily Log'!$AM$18:$AM$1017),0)","v":0},{"$f":"IFERROR($E156*SUMIF('Daily Log'!$AO$18:$AO$1017,$B156,'Daily Log'!$AP$18:$AP$1017),0)","v":0},{"$f":"IFERROR($E156*SUMIF('Daily Log'!$AR$18:$AR$1017,$B156,'Daily Log'!$AS$18:$AS$1017),0)","v":0},{"$f":"IFERROR($E156*SUMIF('Daily Log'!$AU$18:$AU$1017,$B156,'Daily Log'!$AV$18:$AV$1017),0)","v":0},{"$f":"IFERROR($E156*SUMIF('Daily Log'!$AX$18:$AX$1017,$B156,'Daily Log'!$AY$18:$AY$1017),0)","v":0},{"$f":"IFERROR($E156*SUMIF('Daily Log'!$BA$18:$BA$1017,$B156,'Daily Log'!$BB$18:$BB$1017),0)","v":0},{"$f":"IFERROR($E156*SUMIF('Daily Log'!$BD$18:$BD$1017,$B156,'Daily Log'!$BE$18:$BE$1017),0)","v":0},{"$f":"IFERROR($E156*SUMIF('Daily Log'!$BG$18:$BG$1017,$B156,'Daily Log'!$BH$18:$BH$1017),0)","v":1},{"$f":"IFERROR($E156*SUMIF('Daily Log'!$BJ$18:$BJ$1017,$B156,'Daily Log'!$BK$18:$BK$1017),0)","v":0},{"$f":"IFERROR($E156*SUMIF('Daily Log'!$BM$18:$BM$1017,$B156,'Daily Log'!$BN$18:$BN$1017),0)","v":0},{"$f":"IFERROR($E156*SUMIF('Daily Log'!$BP$18:$BP$1017,$B156,'Daily Log'!$BQ$18:$BQ$1017),0)","v":0},{"$f":"IFERROR($E156*SUMIF('Daily Log'!$BS$18:$BS$1017,$B156,'Daily Log'!$BT$18:$BT$1017),0)","v":0},{"$f":"IFERROR($E156*SUMIF('Daily Log'!$BV$18:$BV$1017,$B156,'Daily Log'!$BW$18:$BW$1017),0)","v":0},{"$f":"IFERROR($E156*SUMIF('Daily Log'!$BY$18:$BY$1017,$B156,'Daily Log'!$BZ$18:$BZ$1017),0)","v":0},{"$f":"IFERROR($E156*SUMIF('Daily Log'!$CB$18:$CB$1017,$B156,'Daily Log'!$CC$18:$CC$1017),0)","v":0},{"$f":"IFERROR($E156*SUMIF('Daily Log'!$CE$18:$CE$1017,$B156,'Daily Log'!$CF$18:$CF$1017),0)","v":0},{"$f":"IFERROR($E156*SUMIF('Daily Log'!$CH$18:$CH$1017,$B156,'Daily Log'!$CI$18:$CI$1017),0)","v":0},{"$f":"IFERROR($E156*SUMIF('Daily Log'!$CK$18:$CK$1017,$B156,'Daily Log'!$CL$18:$CL$1017),0)","v":0},{"$f":"IFERROR($E156*SUMIF('Daily Log'!$CN$18:$CN$1017,$B156,'Daily Log'!$CO$18:$CO$1017),0)","v":0}]
[null,"CG01 92023:7 UP",null,"FFDRINKS-COLD",1,339,{"$f":"IFERROR($E157*SUMIF('Daily Log'!$B$18:$B$1017,$B157,'Daily Log'!$C$18:$C$1017),0)","v":4},{"$f":"IFERROR($E157*SUMIF('Daily Log'!$E$18:$E$1017,$B157,'Daily Log'!$F$18:$F$1017),0)","v":3},{"$f":"IFERROR($E157*SUMIF('Daily Log'!$H$18:$H$1017,$B157,'Daily Log'!$I$18:$I$1017),0)","v":4},{"$f":"IFERROR($E157*SUMIF('Daily Log'!$K$18:$K$1017,$B157,'Daily Log'!$L$18:$L$1017),0)","v":18},{"$f":"IFERROR($E157*SUMIF('Daily Log'!$N$18:$N$1017,$B157,'Daily Log'!$O$18:$O$1017),0)","v":17},{"$f":"IFERROR($E157*SUMIF('Daily Log'!$Q$18:$Q$1017,$B157,'Daily Log'!$R$18:$R$1017),0)","v":13},{"$f":"IFERROR($E157*SUMIF('Daily Log'!$T$18:$T$1017,$B157,'Daily Log'!$U$18:$U$1017),0)","v":8},{"$f":"IFERROR($E157*SUMIF('Daily Log'!$W$18:$W$1017,$B157,'Daily Log'!$X$18:$X$1017),0)","v":5},{"$f":"IFERROR($E157*SUMIF('Daily Log'!$Z$18:$Z$1017,$B157,'Daily Log'!$AA$18:$AA$1017),0)","v":17},{"$f":"IFERROR($E157*SUMIF('Daily Log'!$AC$18:$AC$1017,$B157,'Daily Log'!$AD$18:$AD$1017),0)","v":4},{"$f":"IFERROR($E157*SUMIF('Daily Log'!$AF$18:$AF$1017,$B157,'Daily Log'!$AG$18:$AG$1017),0)","v":15},{"$f":"IFERROR($E157*SUMIF('Daily Log'!$AI$18:$AI$1017,$B157,'Daily Log'!$AJ$18:$AJ$1017),0)","v":14},{"$f":"IFERROR($E157*SUMIF('Daily Log'!$AL$18:$AL$1017,$B157,'Daily Log'!$AM$18:$AM$1017),0)","v":13},{"$f":"IFERROR($E157*SUMIF('Daily Log'!$AO$18:$AO$1017,$B157,'Daily Log'!$AP$18:$AP$1017),0)","v":11},{"$f":"IFERROR($E157*SUMIF('Daily Log'!$AR$18:$AR$1017,$B157,'Daily Log'!$AS$18:$AS$1017),0)","v":14},{"$f":"IFERROR($E157*SUMIF('Daily Log'!$AU$18:$AU$1017,$B157,'Daily Log'!$AV$18:$AV$1017),0)","v":10},{"$f":"IFERROR($E157*SUMIF('Daily Log'!$AX$18:$AX$1017,$B157,'Daily Log'!$AY$18:$AY$1017),0)","v":18},{"$f":"IFERROR($E157*SUMIF('Daily Log'!$BA$18:$BA$1017,$B157,'Daily Log'!$BB$18:$BB$1017),0)","v":18},{"$f":"IFERROR($E157*SUMIF('Daily Log'!$BD$18:$BD$1017,$B157,'Daily Log'!$BE$18:$BE$1017),0)","v":12},{"$f":"IFERROR($E157*SUMIF('Daily Log'!$BG$18:$BG$1017,$B157,'Daily Log'!$BH$18:$BH$1017),0)","v":7},{"$f":"IFERROR($E157*SUMIF('Daily Log'!$BJ$18:$BJ$1017,$B157,'Daily Log'!$BK$18:$BK$1017),0)","v":9},{"$f":"IFERROR($E157*SUMIF('Daily Log'!$BM$18:$BM$1017,$B157,'Daily Log'!$BN$18:$BN$1017),0)","v":6},{"$f":"IFERROR($E157*SUMIF('Daily Log'!$BP$18:$BP$1017,$B157,'Daily Log'!$BQ$18:$BQ$1017),0)","v":6},{"$f":"IFERROR($E157*SUMIF('Daily Log'!$BS$18:$BS$1017,$B157,'Daily Log'!$BT$18:$BT$1017),0)","v":11},{"$f":"IFERROR($E157*SUMIF('Daily Log'!$BV$18:$BV$1017,$B157,'Daily Log'!$BW$18:$BW$1017),0)","v":15},{"$f":"IFERROR($E157*SUMIF('Daily Log'!$BY$18:$BY$1017,$B157,'Daily Log'!$BZ$18:$BZ$1017),0)","v":19},{"$f":"IFERROR($E157*SUMIF('Daily Log'!$CB$18:$CB$1017,$B157,'Daily Log'!$CC$18:$CC$1017),0)","v":22},{"$f":"IFERROR($E157*SUMIF('Daily Log'!$CE$18:$CE$1017,$B157,'Daily Log'!$CF$18:$CF$1017),0)","v":1},{"$f":"IFERROR($E157*SUMIF('Daily Log'!$CH$18:$CH$1017,$B157,'Daily Log'!$CI$18:$CI$1017),0)","v":11},{"$f":"IFERROR($E157*SUMIF('Daily Log'!$CK$18:$CK$1017,$B157,'Daily Log'!$CL$18:$CL$1017),0)","v":14},{"$f":"IFERROR($E157*SUMIF('Daily Log'!$CN$18:$CN$1017,$B157,'Daily Log'!$CO$18:$CO$1017),0)","v":0}]
[null,"CG02 92024:7UP REVIVE",null,"FFDRINKS-COLD",1,85,{"$f":"IFERROR($E158*SUMIF('Daily Log'!$B$18:$B$1017,$B158,'Daily Log'!$C$18:$C$1017),0)","v":4},{"$f":"IFERROR($E158*SUMIF('Daily Log'!$E$18:$E$1017,$B158,'Daily Log'!$F$18:$F$1017),0)","v":1},{"$f":"IFERROR($E158*SUMIF('Daily Log'!$H$18:$H$1017,$B158,'Daily Log'!$I$18:$I$1017),0)","v":2},{"$f":"IFERROR($E158*SUMIF('Daily Log'!$K$18:$K$1017,$B158,'Daily Log'!$L$18:$L$1017),0)","v":2},{"$f":"IFERROR($E158*SUMIF('Daily Log'!$N$18:$N$1017,$B158,'Daily Log'!$O$18:$O$1017),0)","v":3},{"$f":"IFERROR($E158*SUMIF('Daily Log'!$Q$18:$Q$1017,$B158,'Daily Log'!$R$18:$R$1017),0)","v":1},{"$f":"IFERROR($E158*SUMIF('Daily Log'!$T$18:$T$1017,$B158,'Daily Log'!$U$18:$U$1017),0)","v":0},{"$f":"IFERROR($E158*SUMIF('Daily Log'!$W$18:$W$1017,$B158,'Daily Log'!$X$18:$X$1017),0)","v":1},{"$f":"IFERROR($E158*SUMIF('Daily Log'!$Z$18:$Z$1017,$B158,'Daily Log'!$AA$18:$AA$1017),0)","v":1},{"$f":"IFERROR($E158*SUMIF('Daily Log'!$AC$18:$AC$1017,$B158,'Daily Log'!$AD$18:$AD$1017),0)","v":4},{"$f":"IFERROR($E158*SUMIF('Daily Log'!$AF$18:$AF$1017,$B158,'Daily Log'!$AG$18:$AG$1017),0)","v":6},{"$f":"IFERROR($E158*SUMIF('Daily Log'!$AI$18:$AI$1017,$B158,'Daily Log'!$AJ$18:$AJ$1017),0)","v":5},{"$f":"IFERROR($E158*SUMIF('Daily Log'!$AL$18:$AL$1017,$B158,'Daily Log'!$AM$18:$AM$1017),0)","v":4},{"$f":"IFERROR($E158*SUMIF('Daily Log'!$AO$18:$AO$1017,$B158,'Daily Log'!$AP$18:$AP$1017),0)","v":0},{"$f":"IFERROR($E158*SUMIF('Daily Log'!$AR$18:$AR$1017,$B158,'Daily Log'!$AS$18:$AS$1017),0)","v":1},{"$f":"IFERROR($E158*SUMIF('Daily Log'!$AU$18:$AU$1017,$B158,'Daily Log'!$AV$18:$AV$1017),0)","v":3},{"$f":"IFERROR($E158*SUMIF('Daily Log'!$AX$18:$AX$1017,$B158,'Daily Log'!$AY$18:$AY$1017),0)","v":0},{"$f":"IFERROR($E158*SUMIF('Daily Log'!$BA$18:$BA$1017,$B158,'Daily Log'!$BB$18:$BB$1017),0)","v":2},{"$f":"IFERROR($E158*SUMIF('Daily Log'!$BD$18:$BD$1017,$B158,'Daily Log'!$BE$18:$BE$1017),0)","v":3},{"$f":"IFERROR($E158*SUMIF('Daily Log'!$BG$18:$BG$1017,$B158,'Daily Log'!$BH$18:$BH$1017),0)","v":2},{"$f":"IFERROR($E158*SUMIF('Daily Log'!$BJ$18:$BJ$1017,$B158,'Daily Log'!$BK$18:$BK$1017),0)","v":2},{"$f":"IFERROR($E158*SUMIF('Daily Log'!$BM$18:$BM$1017,$B158,'Daily Log'!$BN$18:$BN$1017),0)","v":2},{"$f":"IFERROR($E158*SUMIF('Daily Log'!$BP$18:$BP$1017,$B158,'Daily Log'!$BQ$18:$BQ$1017),0)","v":15},{"$f":"IFERROR($E158*SUMIF('Daily Log'!$BS$18:$BS$1017,$B158,'Daily Log'!$BT$18:$BT$1017),0)","v":2},{"$f":"IFERROR($E158*SUMIF('Daily Log'!$BV$18:$BV$1017,$B158,'Daily Log'!$BW$18:$BW$1017),0)","v":3},{"$f":"IFERROR($E158*SUMIF('Daily Log'!$BY$18:$BY$1017,$B158,'Daily Log'!$BZ$18:$BZ$1017),0)","v":3},{"$f":"IFERROR($E158*SUMIF('Daily Log'!$CB$18:$CB$1017,$B158,'Daily Log'!$CC$18:$CC$1017),0)","v":11},{"$f":"IFERROR($E158*SUMIF('Daily Log'!$CE$18:$CE$1017,$B158,'Daily Log'!$CF$18:$CF$1017),0)","v":1},{"$f":"IFERROR($E158*SUMIF('Daily Log'!$CH$18:$CH$1017,$B158,'Daily Log'!$CI$18:$CI$1017),0)","v":1},{"$f":"IFERROR($E158*SUMIF('Daily Log'!$CK$18:$CK$1017,$B158,'Daily Log'!$CL$18:$CL$1017),0)","v":0},{"$f":"IFERROR($E158*SUMIF('Daily Log'!$CN$18:$CN$1017,$B158,'Daily Log'!$CO$18:$CO$1017),0)","v":0}]
[null,"CG03 92025:PEPSI",null,"FFDRINKS-COLD",1,847,{"$f":"IFERROR($E159*SUMIF('Daily Log'!$B$18:$B$1017,$B159,'Daily Log'!$C$18:$C$1017),0)","v":10},{"$f":"IFERROR($E159*SUMIF('Daily Log'!$E$18:$E$1017,$B159,'Daily Log'!$F$18:$F$1017),0)","v":14},{"$f":"IFERROR($E159*SUMIF('Daily Log'!$H$18:$H$1017,$B159,'Daily Log'!$I$18:$I$1017),0)","v":12},{"$f":"IFERROR($E159*SUMIF('Daily Log'!$K$18:$K$1017,$B159,'Daily Log'!$L$18:$L$1017),0)","v":33},{"$f":"IFERROR($E159*SUMIF('Daily Log'!$N$18:$N$1017,$B159,'Daily Log'!$O$18:$O$1017),0)","v":24},{"$f":"IFERROR($E159*SUMIF('Daily Log'!$Q$18:$Q$1017,$B159,'Daily Log'!$R$18:$R$1017),0)","v":69},{"$f":"IFERROR($E159*SUMIF('Daily Log'!$T$18:$T$1017,$B159,'Daily Log'!$U$18:$U$1017),0)","v":36},{"$f":"IFERROR($E159*SUMIF('Daily Log'!$W$18:$W$1017,$B159,'Daily Log'!$X$18:$X$1017),0)","v":18},{"$f":"IFERROR($E159*SUMIF('Daily Log'!$Z$18:$Z$1017,$B159,'Daily Log'!$AA$18:$AA$1017),0)","v":27},{"$f":"IFERROR($E159*SUMIF('Daily Log'!$AC$18:$AC$1017,$B159,'Daily Log'!$AD$18:$AD$1017),0)","v":15},{"$f":"IFERROR($E159*SUMIF('Daily Log'!$AF$18:$AF$1017,$B159,'Daily Log'!$AG$18:$AG$1017),0)","v":15},{"$f":"IFERROR($E159*SUMIF('Daily Log'!$AI$18:$AI$1017,$B159,'Daily Log'!$AJ$18:$AJ$1017),0)","v":64},{"$f":"IFERROR($E159*SUMIF('Daily Log'!$AL$18:$AL$1017,$B159,'Daily Log'!$AM$18:$AM$1017),0)","v":31},{"$f":"IFERROR($E159*SUMIF('Daily Log'!$AO$18:$AO$1017,$B159,'Daily Log'!$AP$18:$AP$1017),0)","v":38},{"$f":"IFERROR($E159*SUMIF('Daily Log'!$AR$18:$AR$1017,$B159,'Daily Log'!$AS$18:$AS$1017),0)","v":36},{"$f":"IFERROR($E159*SUMIF('Daily Log'!$AU$18:$AU$1017,$B159,'Daily Log'!$AV$18:$AV$1017),0)","v":23},{"$f":"IFERROR($E159*SUMIF('Daily Log'!$AX$18:$AX$1017,$B159,'Daily Log'!$AY$18:$AY$1017),0)","v":13},{"$f":"IFERROR($E159*SUMIF('Daily Log'!$BA$18:$BA$1017,$B159,'Daily Log'!$BB$18:$BB$1017),0)","v":9},{"$f":"IFERROR($E159*SUMIF('Daily Log'!$BD$18:$BD$1017,$B159,'Daily Log'!$BE$18:$BE$1017),0)","v":50},{"$f":"IFERROR($E159*SUMIF('Daily Log'!$BG$18:$BG$1017,$B159,'Daily Log'!$BH$18:$BH$1017),0)","v":37},{"$f":"IFERROR($E159*SUMIF('Daily Log'!$BJ$18:$BJ$1017,$B159,'Daily Log'!$BK$18:$BK$1017),0)","v":25},{"$f":"IFERROR($E159*SUMIF('Daily Log'!$BM$18:$BM$1017,$B159,'Daily Log'!$BN$18:$BN$1017),0)","v":16},{"$f":"IFERROR($E159*SUMIF('Daily Log'!$BP$18:$BP$1017,$B159,'Daily Log'!$BQ$18:$BQ$1017),0)","v":25},{"$f":"IFERROR($E159*SUMIF('Daily Log'!$BS$18:$BS$1017,$B159,'Daily Log'!$BT$18:$BT$1017),0)","v":12},{"$f":"IFERROR($E159*SUMIF('Daily Log'!$BV$18:$BV$1017,$B159,'Daily Log'!$BW$18:$BW$1017),0)","v":15},{"$f":"IFERROR($E159*SUMIF('Daily Log'!$BY$18:$BY$1017,$B159,'Daily Log'!$BZ$18:$BZ$1017),0)","v":21},{"$f":"IFERROR($E159*SUMIF('Daily Log'!$CB$18:$CB$1017,$B159,'Daily Log'!$CC$18:$CC$1017),0)","v":49},{"$f":"IFERROR($E159*SUMIF('Daily Log'!$CE$18:$CE$1017,$B159,'Daily Log'!$CF$18:$CF$1017),0)","v":33},{"$f":"IFERROR($E159*SUMIF('Daily Log'!$CH$18:$CH$1017,$B159,'Daily Log'!$CI$18:$CI$1017),0)","v":22},{"$f":"IFERROR($E159*SUMIF('Daily Log'!$CK$18:$CK$1017,$B159,'Daily Log'!$CL$18:$CL$1017),0)","v":55},{"$f":"IFERROR($E159*SUMIF('Daily Log'!$CN$18:$CN$1017,$B159,'Daily Log'!$CO$18:$CO$1017),0)","v":0}]
[null,"WG01 92026:PLN WATER",null,"SKY JUICE",1,922,{"$f":"IFERROR($E160*SUMIF('Daily Log'!$B$18:$B$1017,$B160,'Daily Log'!$C$18:$C$1017),0)","v":36},{"$f":"IFERROR($E160*SUMIF('Daily Log'!$E$18:$E$1017,$B160,'Daily Log'!$F$18:$F$1017),0)","v":41},{"$f":"IFERROR($E160*SUMIF('Daily Log'!$H$18:$H$1017,$B160,'Daily Log'!$I$18:$I$1017),0)","v":28},{"$f":"IFERROR($E160*SUMIF('Daily Log'!$K$18:$K$1017,$B160,'Daily Log'!$L$18:$L$1017),0)","v":33},{"$f":"IFERROR($E160*SUMIF('Daily Log'!$N$18:$N$1017,$B160,'Daily Log'!$O$18:$O$1017),0)","v":59},{"$f":"IFERROR($E160*SUMIF('Daily Log'!$Q$18:$Q$1017,$B160,'Daily Log'!$R$18:$R$1017),0)","v":27},{"$f":"IFERROR($E160*SUMIF('Daily Log'!$T$18:$T$1017,$B160,'Daily Log'!$U$18:$U$1017),0)","v":35},{"$f":"IFERROR($E160*SUMIF('Daily Log'!$W$18:$W$1017,$B160,'Daily Log'!$X$18:$X$1017),0)","v":24},{"$f":"IFERROR($E160*SUMIF('Daily Log'!$Z$18:$Z$1017,$B160,'Daily Log'!$AA$18:$AA$1017),0)","v":18},{"$f":"IFERROR($E160*SUMIF('Daily Log'!$AC$18:$AC$1017,$B160,'Daily Log'!$AD$18:$AD$1017),0)","v":31},{"$f":"IFERROR($E160*SUMIF('Daily Log'!$AF$18:$AF$1017,$B160,'Daily Log'!$AG$18:$AG$1017),0)","v":74},{"$f":"IFERROR($E160*SUMIF('Daily Log'!$AI$18:$AI$1017,$B160,'Daily Log'!$AJ$18:$AJ$1017),0)","v":34},{"$f":"IFERROR($E160*SUMIF('Daily Log'!$AL$18:$AL$1017,$B160,'Daily Log'!$AM$18:$AM$1017),0)","v":42},{"$f":"IFERROR($E160*SUMIF('Daily Log'!$AO$18:$AO$1017,$B160,'Daily Log'!$AP$18:$AP$1017),0)","v":34},{"$f":"IFERROR($E160*SUMIF('Daily Log'!$AR$18:$AR$1017,$B160,'Daily Log'!$AS$18:$AS$1017),0)","v":21},{"$f":"IFERROR($E160*SUMIF('Daily Log'!$AU$18:$AU$1017,$B160,'Daily Log'!$AV$18:$AV$1017),0)","v":16},{"$f":"IFERROR($E160*SUMIF('Daily Log'!$AX$18:$AX$1017,$B160,'Daily Log'!$AY$18:$AY$1017),0)","v":11},{"$f":"IFERROR($E160*SUMIF('Daily Log'!$BA$18:$BA$1017,$B160,'Daily Log'!$BB$18:$BB$1017),0)","v":29},{"$f":"IFERROR($E160*SUMIF('Daily Log'!$BD$18:$BD$1017,$B160,'Daily Log'!$BE$18:$BE$1017),0)","v":26},{"$f":"IFERROR($E160*SUMIF('Daily Log'!$BG$18:$BG$1017,$B160,'Daily Log'!$BH$18:$BH$1017),0)","v":26},{"$f":"IFERROR($E160*SUMIF('Daily Log'!$BJ$18:$BJ$1017,$B160,'Daily Log'!$BK$18:$BK$1017),0)","v":15},{"$f":"IFERROR($E160*SUMIF('Daily Log'!$BM$18:$BM$1017,$B160,'Daily Log'!$BN$18:$BN$1017),0)","v":28},{"$f":"IFERROR($E160*SUMIF('Daily Log'!$BP$18:$BP$1017,$B160,'Daily Log'!$BQ$18:$BQ$1017),0)","v":29},{"$f":"IFERROR($E160*SUMIF('Daily Log'!$BS$18:$BS$1017,$B160,'Daily Log'!$BT$18:$BT$1017),0)","v":22},{"$f":"IFERROR($E160*SUMIF('Daily Log'!$BV$18:$BV$1017,$B160,'Daily Log'!$BW$18:$BW$1017),0)","v":35},{"$f":"IFERROR($E160*SUMIF('Daily Log'!$BY$18:$BY$1017,$B160,'Daily Log'!$BZ$18:$BZ$1017),0)","v":42},{"$f":"IFERROR($E160*SUMIF('Daily Log'!$CB$18:$CB$1017,$B160,'Daily Log'!$CC$18:$CC$1017),0)","v":31},{"$f":"IFERROR($E160*SUMIF('Daily Log'!$CE$18:$CE$1017,$B160,'Daily Log'!$CF$18:$CF$1017),0)","v":21},{"$f":"IFERROR($E160*SUMIF('Daily Log'!$CH$18:$CH$1017,$B160,'Daily Log'!$CI$18:$CI$1017),0)","v":22},{"$f":"IFERROR($E160*SUMIF('Daily Log'!$CK$18:$CK$1017,$B160,'Daily Log'!$CL$18:$CL$1017),0)","v":32},{"$f":"IFERROR($E160*SUMIF('Daily Log'!$CN$18:$CN$1017,$B160,'Daily Log'!$CO$18:$CO$1017),0)","v":0}]
[null,"JU01 2501:GRAPE J",null,"SO-COLD BEVERAGE",1,0,{"$f":"IFERROR($E161*SUMIF('Daily Log'!$B$18:$B$1017,$B161,'Daily Log'!$C$18:$C$1017),0)","v":0},{"$f":"IFERROR($E161*SUMIF('Daily Log'!$E$18:$E$1017,$B161,'Daily Log'!$F$18:$F$1017),0)","v":0},{"$f":"IFERROR($E161*SUMIF('Daily Log'!$H$18:$H$1017,$B161,'Daily Log'!$I$18:$I$1017),0)","v":0},{"$f":"IFERROR($E161*SUMIF('Daily Log'!$K$18:$K$1017,$B161,'Daily Log'!$L$18:$L$1017),0)","v":0},{"$f":"IFERROR($E161*SUMIF('Daily Log'!$N$18:$N$1017,$B161,'Daily Log'!$O$18:$O$1017),0)","v":0},{"$f":"IFERROR($E161*SUMIF('Daily Log'!$Q$18:$Q$1017,$B161,'Daily Log'!$R$18:$R$1017),0)","v":0},{"$f":"IFERROR($E161*SUMIF('Daily Log'!$T$18:$T$1017,$B161,'Daily Log'!$U$18:$U$1017),0)","v":0},{"$f":"IFERROR($E161*SUMIF('Daily Log'!$W$18:$W$1017,$B161,'Daily Log'!$X$18:$X$1017),0)","v":0},{"$f":"IFERROR($E161*SUMIF('Daily Log'!$Z$18:$Z$1017,$B161,'Daily Log'!$AA$18:$AA$1017),0)","v":0},{"$f":"IFERROR($E161*SUMIF('Daily Log'!$AC$18:$AC$1017,$B161,'Daily Log'!$AD$18:$AD$1017),0)","v":0},{"$f":"IFERROR($E161*SUMIF('Daily Log'!$AF$18:$AF$1017,$B161,'Daily Log'!$AG$18:$AG$1017),0)","v":0},{"$f":"IFERROR($E161*SUMIF('Daily Log'!$AI$18:$AI$1017,$B161,'Daily Log'!$AJ$18:$AJ$1017),0)","v":0},{"$f":"IFERROR($E161*SUMIF('Daily Log'!$AL$18:$AL$1017,$B161,'Daily Log'!$AM$18:$AM$1017),0)","v":0},{"$f":"IFERROR($E161*SUMIF('Daily Log'!$AO$18:$AO$1017,$B161,'Daily Log'!$AP$18:$AP$1017),0)","v":0},{"$f":"IFERROR($E161*SUMIF('Daily Log'!$AR$18:$AR$1017,$B161,'Daily Log'!$AS$18:$AS$1017),0)","v":0},{"$f":"IFERROR($E161*SUMIF('Daily Log'!$AU$18:$AU$1017,$B161,'Daily Log'!$AV$18:$AV$1017),0)","v":0},{"$f":"IFERROR($E161*SUMIF('Daily Log'!$AX$18:$AX$1017,$B161,'Daily Log'!$AY$18:$AY$1017),0)","v":0},{"$f":"IFERROR($E161*SUMIF('Daily Log'!$BA$18:$BA$1017,$B161,'Daily Log'!$BB$18:$BB$1017),0)","v":0},{"$f":"IFERROR($E161*SUMIF('Daily Log'!$BD$18:$BD$1017,$B161,'Daily Log'!$BE$18:$BE$1017),0)","v":0},{"$f":"IFERROR($E161*SUMIF('Daily Log'!$BG$18:$BG$1017,$B161,'Daily Log'!$BH$18:$BH$1017),0)","v":0},{"$f":"IFERROR($E161*SUMIF('Daily Log'!$BJ$18:$BJ$1017,$B161,'Daily Log'!$BK$18:$BK$1017),0)","v":0},{"$f":"IFERROR($E161*SUMIF('Daily Log'!$BM$18:$BM$1017,$B161,'Daily Log'!$BN$18:$BN$1017),0)","v":0},{"$f":"IFERROR($E161*SUMIF('Daily Log'!$BP$18:$BP$1017,$B161,'Daily Log'!$BQ$18:$BQ$1017),0)","v":0},{"$f":"IFERROR($E161*SUMIF('Daily Log'!$BS$18:$BS$1017,$B161,'Daily Log'!$BT$18:$BT$1017),0)","v":0},{"$f":"IFERROR($E161*SUMIF('Daily Log'!$BV$18:$BV$1017,$B161,'Daily Log'!$BW$18:$BW$1017),0)","v":0},{"$f":"IFERROR($E161*SUMIF('Daily Log'!$BY$18:$BY$1017,$B161,'Daily Log'!$BZ$18:$BZ$1017),0)","v":0},{"$f":"IFERROR($E161*SUMIF('Daily Log'!$CB$18:$CB$1017,$B161,'Daily Log'!$CC$18:$CC$1017),0)","v":0},{"$f":"IFERROR($E161*SUMIF('Daily Log'!$CE$18:$CE$1017,$B161,'Daily Log'!$CF$18:$CF$1017),0)","v":0},{"$f":"IFERROR($E161*SUMIF('Daily Log'!$CH$18:$CH$1017,$B161,'Daily Log'!$CI$18:$CI$1017),0)","v":0},{"$f":"IFERROR($E161*SUMIF('Daily Log'!$CK$18:$CK$1017,$B161,'Daily Log'!$CL$18:$CL$1017),0)","v":0},{"$f":"IFERROR($E161*SUMIF('Daily Log'!$CN$18:$CN$1017,$B161,'Daily Log'!$CO$18:$CO$1017),0)","v":0}]
[null,"JU02 2502:APPLE J",null,"SO-COLD BEVERAGE",1,1,{"$f":"IFERROR($E162*SUMIF('Daily Log'!$B$18:$B$1017,$B162,'Daily Log'!$C$18:$C$1017),0)","v":0},{"$f":"IFERROR($E162*SUMIF('Daily Log'!$E$18:$E$1017,$B162,'Daily Log'!$F$18:$F$1017),0)","v":0},{"$f":"IFERROR($E162*SUMIF('Daily Log'!$H$18:$H$1017,$B162,'Daily Log'!$I$18:$I$1017),0)","v":0},{"$f":"IFERROR($E162*SUMIF('Daily Log'!$K$18:$K$1017,$B162,'Daily Log'!$L$18:$L$1017),0)","v":0},{"$f":"IFERROR($E162*SUMIF('Daily Log'!$N$18:$N$1017,$B162,'Daily Log'!$O$18:$O$1017),0)","v":0},{"$f":"IFERROR($E162*SUMIF('Daily Log'!$Q$18:$Q$1017,$B162,'Daily Log'!$R$18:$R$1017),0)","v":0},{"$f":"IFERROR($E162*SUMIF('Daily Log'!$T$18:$T$1017,$B162,'Daily Log'!$U$18:$U$1017),0)","v":0},{"$f":"IFERROR($E162*SUMIF('Daily Log'!$W$18:$W$1017,$B162,'Daily Log'!$X$18:$X$1017),0)","v":0},{"$f":"IFERROR($E162*SUMIF('Daily Log'!$Z$18:$Z$1017,$B162,'Daily Log'!$AA$18:$AA$1017),0)","v":0},{"$f":"IFERROR($E162*SUMIF('Daily Log'!$AC$18:$AC$1017,$B162,'Daily Log'!$AD$18:$AD$1017),0)","v":0},{"$f":"IFERROR($E162*SUMIF('Daily Log'!$AF$18:$AF$1017,$B162,'Daily Log'!$AG$18:$AG$1017),0)","v":0},{"$f":"IFERROR($E162*SUMIF('Daily Log'!$AI$18:$AI$1017,$B162,'Daily Log'!$AJ$18:$AJ$1017),0)","v":0},{"$f":"IFERROR($E162*SUMIF('Daily Log'!$AL$18:$AL$1017,$B162,'Daily Log'!$AM$18:$AM$1017),0)","v":0},{"$f":"IFERROR($E162*SUMIF('Daily Log'!$AO$18:$AO$1017,$B162,'Daily Log'!$AP$18:$AP$1017),0)","v":0},{"$f":"IFERROR($E162*SUMIF('Daily Log'!$AR$18:$AR$1017,$B162,'Daily Log'!$AS$18:$AS$1017),0)","v":0},{"$f":"IFERROR($E162*SUMIF('Daily Log'!$AU$18:$AU$1017,$B162,'Daily Log'!$AV$18:$AV$1017),0)","v":0},{"$f":"IFERROR($E162*SUMIF('Daily Log'!$AX$18:$AX$1017,$B162,'Daily Log'!$AY$18:$AY$1017),0)","v":0},{"$f":"IFERROR($E162*SUMIF('Daily Log'!$BA$18:$BA$1017,$B162,'Daily Log'!$BB$18:$BB$1017),0)","v":0},{"$f":"IFERROR($E162*SUMIF('Daily Log'!$BD$18:$BD$1017,$B162,'Daily Log'!$BE$18:$BE$1017),0)","v":0},{"$f":"IFERROR($E162*SUMIF('Daily Log'!$BG$18:$BG$1017,$B162,'Daily Log'!$BH$18:$BH$1017),0)","v":1},{"$f":"IFERROR($E162*SUMIF('Daily Log'!$BJ$18:$BJ$1017,$B162,'Daily Log'!$BK$18:$BK$1017),0)","v":0},{"$f":"IFERROR($E162*SUMIF('Daily Log'!$BM$18:$BM$1017,$B162,'Daily Log'!$BN$18:$BN$1017),0)","v":0},{"$f":"IFERROR($E162*SUMIF('Daily Log'!$BP$18:$BP$1017,$B162,'Daily Log'!$BQ$18:$BQ$1017),0)","v":0},{"$f":"IFERROR($E162*SUMIF('Daily Log'!$BS$18:$BS$1017,$B162,'Daily Log'!$BT$18:$BT$1017),0)","v":0},{"$f":"IFERROR($E162*SUMIF('Daily Log'!$BV$18:$BV$1017,$B162,'Daily Log'!$BW$18:$BW$1017),0)","v":0},{"$f":"IFERROR($E162*SUMIF('Daily Log'!$BY$18:$BY$1017,$B162,'Daily Log'!$BZ$18:$BZ$1017),0)","v":0},{"$f":"IFERROR($E162*SUMIF('Daily Log'!$CB$18:$CB$1017,$B162,'Daily Log'!$CC$18:$CC$1017),0)","v":0},{"$f":"IFERROR($E162*SUMIF('Daily Log'!$CE$18:$CE$1017,$B162,'Daily Log'!$CF$18:$CF$1017),0)","v":0},{"$f":"IFERROR($E162*SUMIF('Daily Log'!$CH$18:$CH$1017,$B162,'Daily Log'!$CI$18:$CI$1017),0)","v":0},{"$f":"IFERROR($E162*SUMIF('Daily Log'!$CK$18:$CK$1017,$B162,'Daily Log'!$CL$18:$CL$1017),0)","v":0},{"$f":"IFERROR($E162*SUMIF('Daily Log'!$CN$18:$CN$1017,$B162,'Daily Log'!$CO$18:$CO$1017),0)","v":0}]
[null,"JU03 2503:MANGO J",null,"SO-COLD BEVERAGE",1,0,{"$f":"IFERROR($E163*SUMIF('Daily Log'!$B$18:$B$1017,$B163,'Daily Log'!$C$18:$C$1017),0)","v":0},{"$f":"IFERROR($E163*SUMIF('Daily Log'!$E$18:$E$1017,$B163,'Daily Log'!$F$18:$F$1017),0)","v":0},{"$f":"IFERROR($E163*SUMIF('Daily Log'!$H$18:$H$1017,$B163,'Daily Log'!$I$18:$I$1017),0)","v":0},{"$f":"IFERROR($E163*SUMIF('Daily Log'!$K$18:$K$1017,$B163,'Daily Log'!$L$18:$L$1017),0)","v":0},{"$f":"IFERROR($E163*SUMIF('Daily Log'!$N$18:$N$1017,$B163,'Daily Log'!$O$18:$O$1017),0)","v":0},{"$f":"IFERROR($E163*SUMIF('Daily Log'!$Q$18:$Q$1017,$B163,'Daily Log'!$R$18:$R$1017),0)","v":0},{"$f":"IFERROR($E163*SUMIF('Daily Log'!$T$18:$T$1017,$B163,'Daily Log'!$U$18:$U$1017),0)","v":0},{"$f":"IFERROR($E163*SUMIF('Daily Log'!$W$18:$W$1017,$B163,'Daily Log'!$X$18:$X$1017),0)","v":0},{"$f":"IFERROR($E163*SUMIF('Daily Log'!$Z$18:$Z$1017,$B163,'Daily Log'!$AA$18:$AA$1017),0)","v":0},{"$f":"IFERROR($E163*SUMIF('Daily Log'!$AC$18:$AC$1017,$B163,'Daily Log'!$AD$18:$AD$1017),0)","v":0},{"$f":"IFERROR($E163*SUMIF('Daily Log'!$AF$18:$AF$1017,$B163,'Daily Log'!$AG$18:$AG$1017),0)","v":0},{"$f":"IFERROR($E163*SUMIF('Daily Log'!$AI$18:$AI$1017,$B163,'Daily Log'!$AJ$18:$AJ$1017),0)","v":0},{"$f":"IFERROR($E163*SUMIF('Daily Log'!$AL$18:$AL$1017,$B163,'Daily Log'!$AM$18:$AM$1017),0)","v":0},{"$f":"IFERROR($E163*SUMIF('Daily Log'!$AO$18:$AO$1017,$B163,'Daily Log'!$AP$18:$AP$1017),0)","v":0},{"$f":"IFERROR($E163*SUMIF('Daily Log'!$AR$18:$AR$1017,$B163,'Daily Log'!$AS$18:$AS$1017),0)","v":0},{"$f":"IFERROR($E163*SUMIF('Daily Log'!$AU$18:$AU$1017,$B163,'Daily Log'!$AV$18:$AV$1017),0)","v":0},{"$f":"IFERROR($E163*SUMIF('Daily Log'!$AX$18:$AX$1017,$B163,'Daily Log'!$AY$18:$AY$1017),0)","v":0},{"$f":"IFERROR($E163*SUMIF('Daily Log'!$BA$18:$BA$1017,$B163,'Daily Log'!$BB$18:$BB$1017),0)","v":0},{"$f":"IFERROR($E163*SUMIF('Daily Log'!$BD$18:$BD$1017,$B163,'Daily Log'!$BE$18:$BE$1017),0)","v":0},{"$f":"IFERROR($E163*SUMIF('Daily Log'!$BG$18:$BG$1017,$B163,'Daily Log'!$BH$18:$BH$1017),0)","v":0},{"$f":"IFERROR($E163*SUMIF('Daily Log'!$BJ$18:$BJ$1017,$B163,'Daily Log'!$BK$18:$BK$1017),0)","v":0},{"$f":"IFERROR($E163*SUMIF('Daily Log'!$BM$18:$BM$1017,$B163,'Daily Log'!$BN$18:$BN$1017),0)","v":0},{"$f":"IFERROR($E163*SUMIF('Daily Log'!$BP$18:$BP$1017,$B163,'Daily Log'!$BQ$18:$BQ$1017),0)","v":0},{"$f":"IFERROR($E163*SUMIF('Daily Log'!$BS$18:$BS$1017,$B163,'Daily Log'!$BT$18:$BT$1017),0)","v":0},{"$f":"IFERROR($E163*SUMIF('Daily Log'!$BV$18:$BV$1017,$B163,'Daily Log'!$BW$18:$BW$1017),0)","v":0},{"$f":"IFERROR($E163*SUMIF('Daily Log'!$BY$18:$BY$1017,$B163,'Daily Log'!$BZ$18:$BZ$1017),0)","v":0},{"$f":"IFERROR($E163*SUMIF('Daily Log'!$CB$18:$CB$1017,$B163,'Daily Log'!$CC$18:$CC$1017),0)","v":0},{"$f":"IFERROR($E163*SUMIF('Daily Log'!$CE$18:$CE$1017,$B163,'Daily Log'!$CF$18:$CF$1017),0)","v":0},{"$f":"IFERROR($E163*SUMIF('Daily Log'!$CH$18:$CH$1017,$B163,'Daily Log'!$CI$18:$CI$1017),0)","v":0},{"$f":"IFERROR($E163*SUMIF('Daily Log'!$CK$18:$CK$1017,$B163,'Daily Log'!$CL$18:$CL$1017),0)","v":0},{"$f":"IFERROR($E163*SUMIF('Daily Log'!$CN$18:$CN$1017,$B163,'Daily Log'!$CO$18:$CO$1017),0)","v":0}]
[null,"JU04 2504:PASSION J",null,"SO-COLD BEVERAGE",1,0,{"$f":"IFERROR($E164*SUMIF('Daily Log'!$B$18:$B$1017,$B164,'Daily Log'!$C$18:$C$1017),0)","v":0},{"$f":"IFERROR($E164*SUMIF('Daily Log'!$E$18:$E$1017,$B164,'Daily Log'!$F$18:$F$1017),0)","v":0},{"$f":"IFERROR($E164*SUMIF('Daily Log'!$H$18:$H$1017,$B164,'Daily Log'!$I$18:$I$1017),0)","v":0},{"$f":"IFERROR($E164*SUMIF('Daily Log'!$K$18:$K$1017,$B164,'Daily Log'!$L$18:$L$1017),0)","v":0},{"$f":"IFERROR($E164*SUMIF('Daily Log'!$N$18:$N$1017,$B164,'Daily Log'!$O$18:$O$1017),0)","v":0},{"$f":"IFERROR($E164*SUMIF('Daily Log'!$Q$18:$Q$1017,$B164,'Daily Log'!$R$18:$R$1017),0)","v":0},{"$f":"IFERROR($E164*SUMIF('Daily Log'!$T$18:$T$1017,$B164,'Daily Log'!$U$18:$U$1017),0)","v":0},{"$f":"IFERROR($E164*SUMIF('Daily Log'!$W$18:$W$1017,$B164,'Daily Log'!$X$18:$X$1017),0)","v":0},{"$f":"IFERROR($E164*SUMIF('Daily Log'!$Z$18:$Z$1017,$B164,'Daily Log'!$AA$18:$AA$1017),0)","v":0},{"$f":"IFERROR($E164*SUMIF('Daily Log'!$AC$18:$AC$1017,$B164,'Daily Log'!$AD$18:$AD$1017),0)","v":0},{"$f":"IFERROR($E164*SUMIF('Daily Log'!$AF$18:$AF$1017,$B164,'Daily Log'!$AG$18:$AG$1017),0)","v":0},{"$f":"IFERROR($E164*SUMIF('Daily Log'!$AI$18:$AI$1017,$B164,'Daily Log'!$AJ$18:$AJ$1017),0)","v":0},{"$f":"IFERROR($E164*SUMIF('Daily Log'!$AL$18:$AL$1017,$B164,'Daily Log'!$AM$18:$AM$1017),0)","v":0},{"$f":"IFERROR($E164*SUMIF('Daily Log'!$AO$18:$AO$1017,$B164,'Daily Log'!$AP$18:$AP$1017),0)","v":0},{"$f":"IFERROR($E164*SUMIF('Daily Log'!$AR$18:$AR$1017,$B164,'Daily Log'!$AS$18:$AS$1017),0)","v":0},{"$f":"IFERROR($E164*SUMIF('Daily Log'!$AU$18:$AU$1017,$B164,'Daily Log'!$AV$18:$AV$1017),0)","v":0},{"$f":"IFERROR($E164*SUMIF('Daily Log'!$AX$18:$AX$1017,$B164,'Daily Log'!$AY$18:$AY$1017),0)","v":0},{"$f":"IFERROR($E164*SUMIF('Daily Log'!$BA$18:$BA$1017,$B164,'Daily Log'!$BB$18:$BB$1017),0)","v":0},{"$f":"IFERROR($E164*SUMIF('Daily Log'!$BD$18:$BD$1017,$B164,'Daily Log'!$BE$18:$BE$1017),0)","v":0},{"$f":"IFERROR($E164*SUMIF('Daily Log'!$BG$18:$BG$1017,$B164,'Daily Log'!$BH$18:$BH$1017),0)","v":0},{"$f":"IFERROR($E164*SUMIF('Daily Log'!$BJ$18:$BJ$1017,$B164,'Daily Log'!$BK$18:$BK$1017),0)","v":0},{"$f":"IFERROR($E164*SUMIF('Daily Log'!$BM$18:$BM$1017,$B164,'Daily Log'!$BN$18:$BN$1017),0)","v":0},{"$f":"IFERROR($E164*SUMIF('Daily Log'!$BP$18:$BP$1017,$B164,'Daily Log'!$BQ$18:$BQ$1017),0)","v":0},{"$f":"IFERROR($E164*SUMIF('Daily Log'!$BS$18:$BS$1017,$B164,'Daily Log'!$BT$18:$BT$1017),0)","v":0},{"$f":"IFERROR($E164*SUMIF('Daily Log'!$BV$18:$BV$1017,$B164,'Daily Log'!$BW$18:$BW$1017),0)","v":0},{"$f":"IFERROR($E164*SUMIF('Daily Log'!$BY$18:$BY$1017,$B164,'Daily Log'!$BZ$18:$BZ$1017),0)","v":0},{"$f":"IFERROR($E164*SUMIF('Daily Log'!$CB$18:$CB$1017,$B164,'Daily Log'!$CC$18:$CC$1017),0)","v":0},{"$f":"IFERROR($E164*SUMIF('Daily Log'!$CE$18:$CE$1017,$B164,'Daily Log'!$CF$18:$CF$1017),0)","v":0},{"$f":"IFERROR($E164*SUMIF('Daily Log'!$CH$18:$CH$1017,$B164,'Daily Log'!$CI$18:$CI$1017),0)","v":0},{"$f":"IFERROR($E164*SUMIF('Daily Log'!$CK$18:$CK$1017,$B164,'Daily Log'!$CL$18:$CL$1017),0)","v":0},{"$f":"IFERROR($E164*SUMIF('Daily Log'!$CN$18:$CN$1017,$B164,'Daily Log'!$CO$18:$CO$1017),0)","v":0}]
[null,"JU05 2505:RIBENA J",null,"SO-COLD BEVERAGE",1,1,{"$f":"IFERROR($E165*SUMIF('Daily Log'!$B$18:$B$1017,$B165,'Daily Log'!$C$18:$C$1017),0)","v":0},{"$f":"IFERROR($E165*SUMIF('Daily Log'!$E$18:$E$1017,$B165,'Daily Log'!$F$18:$F$1017),0)","v":0},{"$f":"IFERROR($E165*SUMIF('Daily Log'!$H$18:$H$1017,$B165,'Daily Log'!$I$18:$I$1017),0)","v":0},{"$f":"IFERROR($E165*SUMIF('Daily Log'!$K$18:$K$1017,$B165,'Daily Log'!$L$18:$L$1017),0)","v":0},{"$f":"IFERROR($E165*SUMIF('Daily Log'!$N$18:$N$1017,$B165,'Daily Log'!$O$18:$O$1017),0)","v":0},{"$f":"IFERROR($E165*SUMIF('Daily Log'!$Q$18:$Q$1017,$B165,'Daily Log'!$R$18:$R$1017),0)","v":0},{"$f":"IFERROR($E165*SUMIF('Daily Log'!$T$18:$T$1017,$B165,'Daily Log'!$U$18:$U$1017),0)","v":0},{"$f":"IFERROR($E165*SUMIF('Daily Log'!$W$18:$W$1017,$B165,'Daily Log'!$X$18:$X$1017),0)","v":0},{"$f":"IFERROR($E165*SUMIF('Daily Log'!$Z$18:$Z$1017,$B165,'Daily Log'!$AA$18:$AA$1017),0)","v":0},{"$f":"IFERROR($E165*SUMIF('Daily Log'!$AC$18:$AC$1017,$B165,'Daily Log'!$AD$18:$AD$1017),0)","v":0},{"$f":"IFERROR($E165*SUMIF('Daily Log'!$AF$18:$AF$1017,$B165,'Daily Log'!$AG$18:$AG$1017),0)","v":0},{"$f":"IFERROR($E165*SUMIF('Daily Log'!$AI$18:$AI$1017,$B165,'Daily Log'!$AJ$18:$AJ$1017),0)","v":0},{"$f":"IFERROR($E165*SUMIF('Daily Log'!$AL$18:$AL$1017,$B165,'Daily Log'!$AM$18:$AM$1017),0)","v":0},{"$f":"IFERROR($E165*SUMIF('Daily Log'!$AO$18:$AO$1017,$B165,'Daily Log'!$AP$18:$AP$1017),0)","v":0},{"$f":"IFERROR($E165*SUMIF('Daily Log'!$AR$18:$AR$1017,$B165,'Daily Log'!$AS$18:$AS$1017),0)","v":0},{"$f":"IFERROR($E165*SUMIF('Daily Log'!$AU$18:$AU$1017,$B165,'Daily Log'!$AV$18:$AV$1017),0)","v":0},{"$f":"IFERROR($E165*SUMIF('Daily Log'!$AX$18:$AX$1017,$B165,'Daily Log'!$AY$18:$AY$1017),0)","v":0},{"$f":"IFERROR($E165*SUMIF('Daily Log'!$BA$18:$BA$1017,$B165,'Daily Log'!$BB$18:$BB$1017),0)","v":0},{"$f":"IFERROR($E165*SUMIF('Daily Log'!$BD$18:$BD$1017,$B165,'Daily Log'!$BE$18:$BE$1017),0)","v":0},{"$f":"IFERROR($E165*SUMIF('Daily Log'!$BG$18:$BG$1017,$B165,'Daily Log'!$BH$18:$BH$1017),0)","v":1},{"$f":"IFERROR($E165*SUMIF('Daily Log'!$BJ$18:$BJ$1017,$B165,'Daily Log'!$BK$18:$BK$1017),0)","v":0},{"$f":"IFERROR($E165*SUMIF('Daily Log'!$BM$18:$BM$1017,$B165,'Daily Log'!$BN$18:$BN$1017),0)","v":0},{"$f":"IFERROR($E165*SUMIF('Daily Log'!$BP$18:$BP$1017,$B165,'Daily Log'!$BQ$18:$BQ$1017),0)","v":0},{"$f":"IFERROR($E165*SUMIF('Daily Log'!$BS$18:$BS$1017,$B165,'Daily Log'!$BT$18:$BT$1017),0)","v":0},{"$f":"IFERROR($E165*SUMIF('Daily Log'!$BV$18:$BV$1017,$B165,'Daily Log'!$BW$18:$BW$1017),0)","v":0},{"$f":"IFERROR($E165*SUMIF('Daily Log'!$BY$18:$BY$1017,$B165,'Daily Log'!$BZ$18:$BZ$1017),0)","v":0},{"$f":"IFERROR($E165*SUMIF('Daily Log'!$CB$18:$CB$1017,$B165,'Daily Log'!$CC$18:$CC$1017),0)","v":0},{"$f":"IFERROR($E165*SUMIF('Daily Log'!$CE$18:$CE$1017,$B165,'Daily Log'!$CF$18:$CF$1017),0)","v":0},{"$f":"IFERROR($E165*SUMIF('Daily Log'!$CH$18:$CH$1017,$B165,'Daily Log'!$CI$18:$CI$1017),0)","v":0},{"$f":"IFERROR($E165*SUMIF('Daily Log'!$CK$18:$CK$1017,$B165,'Daily Log'!$CL$18:$CL$1017),0)","v":0},{"$f":"IFERROR($E165*SUMIF('Daily Log'!$CN$18:$CN$1017,$B165,'Daily Log'!$CO$18:$CO$1017),0)","v":0}]
[null,"JF01 92501:GRAPE J",null,"FFDRINKS-COLD",1,360,{"$f":"IFERROR($E166*SUMIF('Daily Log'!$B$18:$B$1017,$B166,'Daily Log'!$C$18:$C$1017),0)","v":9},{"$f":"IFERROR($E166*SUMIF('Daily Log'!$E$18:$E$1017,$B166,'Daily Log'!$F$18:$F$1017),0)","v":3},{"$f":"IFERROR($E166*SUMIF('Daily Log'!$H$18:$H$1017,$B166,'Daily Log'!$I$18:$I$1017),0)","v":7},{"$f":"IFERROR($E166*SUMIF('Daily Log'!$K$18:$K$1017,$B166,'Daily Log'!$L$18:$L$1017),0)","v":15},{"$f":"IFERROR($E166*SUMIF('Daily Log'!$N$18:$N$1017,$B166,'Daily Log'!$O$18:$O$1017),0)","v":17},{"$f":"IFERROR($E166*SUMIF('Daily Log'!$Q$18:$Q$1017,$B166,'Daily Log'!$R$18:$R$1017),0)","v":20},{"$f":"IFERROR($E166*SUMIF('Daily Log'!$T$18:$T$1017,$B166,'Daily Log'!$U$18:$U$1017),0)","v":15},{"$f":"IFERROR($E166*SUMIF('Daily Log'!$W$18:$W$1017,$B166,'Daily Log'!$X$18:$X$1017),0)","v":8},{"$f":"IFERROR($E166*SUMIF('Daily Log'!$Z$18:$Z$1017,$B166,'Daily Log'!$AA$18:$AA$1017),0)","v":8},{"$f":"IFERROR($E166*SUMIF('Daily Log'!$AC$18:$AC$1017,$B166,'Daily Log'!$AD$18:$AD$1017),0)","v":12},{"$f":"IFERROR($E166*SUMIF('Daily Log'!$AF$18:$AF$1017,$B166,'Daily Log'!$AG$18:$AG$1017),0)","v":20},{"$f":"IFERROR($E166*SUMIF('Daily Log'!$AI$18:$AI$1017,$B166,'Daily Log'!$AJ$18:$AJ$1017),0)","v":19},{"$f":"IFERROR($E166*SUMIF('Daily Log'!$AL$18:$AL$1017,$B166,'Daily Log'!$AM$18:$AM$1017),0)","v":18},{"$f":"IFERROR($E166*SUMIF('Daily Log'!$AO$18:$AO$1017,$B166,'Daily Log'!$AP$18:$AP$1017),0)","v":21},{"$f":"IFERROR($E166*SUMIF('Daily Log'!$AR$18:$AR$1017,$B166,'Daily Log'!$AS$18:$AS$1017),0)","v":1},{"$f":"IFERROR($E166*SUMIF('Daily Log'!$AU$18:$AU$1017,$B166,'Daily Log'!$AV$18:$AV$1017),0)","v":8},{"$f":"IFERROR($E166*SUMIF('Daily Log'!$AX$18:$AX$1017,$B166,'Daily Log'!$AY$18:$AY$1017),0)","v":5},{"$f":"IFERROR($E166*SUMIF('Daily Log'!$BA$18:$BA$1017,$B166,'Daily Log'!$BB$18:$BB$1017),0)","v":9},{"$f":"IFERROR($E166*SUMIF('Daily Log'!$BD$18:$BD$1017,$B166,'Daily Log'!$BE$18:$BE$1017),0)","v":18},{"$f":"IFERROR($E166*SUMIF('Daily Log'!$BG$18:$BG$1017,$B166,'Daily Log'!$BH$18:$BH$1017),0)","v":12},{"$f":"IFERROR($E166*SUMIF('Daily Log'!$BJ$18:$BJ$1017,$B166,'Daily Log'!$BK$18:$BK$1017),0)","v":12},{"$f":"IFERROR($E166*SUMIF('Daily Log'!$BM$18:$BM$1017,$B166,'Daily Log'!$BN$18:$BN$1017),0)","v":12},{"$f":"IFERROR($E166*SUMIF('Daily Log'!$BP$18:$BP$1017,$B166,'Daily Log'!$BQ$18:$BQ$1017),0)","v":6},{"$f":"IFERROR($E166*SUMIF('Daily Log'!$BS$18:$BS$1017,$B166,'Daily Log'!$BT$18:$BT$1017),0)","v":12},{"$f":"IFERROR($E166*SUMIF('Daily Log'!$BV$18:$BV$1017,$B166,'Daily Log'!$BW$18:$BW$1017),0)","v":12},{"$f":"IFERROR($E166*SUMIF('Daily Log'!$BY$18:$BY$1017,$B166,'Daily Log'!$BZ$18:$BZ$1017),0)","v":13},{"$f":"IFERROR($E166*SUMIF('Daily Log'!$CB$18:$CB$1017,$B166,'Daily Log'!$CC$18:$CC$1017),0)","v":16},{"$f":"IFERROR($E166*SUMIF('Daily Log'!$CE$18:$CE$1017,$B166,'Daily Log'!$CF$18:$CF$1017),0)","v":9},{"$f":"IFERROR($E166*SUMIF('Daily Log'!$CH$18:$CH$1017,$B166,'Daily Log'!$CI$18:$CI$1017),0)","v":11},{"$f":"IFERROR($E166*SUMIF('Daily Log'!$CK$18:$CK$1017,$B166,'Daily Log'!$CL$18:$CL$1017),0)","v":12},{"$f":"IFERROR($E166*SUMIF('Daily Log'!$CN$18:$CN$1017,$B166,'Daily Log'!$CO$18:$CO$1017),0)","v":0}]
[null,"JF02 92502:APPLE J",null,"FFDRINKS-COLD",1,530,{"$f":"IFERROR($E167*SUMIF('Daily Log'!$B$18:$B$1017,$B167,'Daily Log'!$C$18:$C$1017),0)","v":11},{"$f":"IFERROR($E167*SUMIF('Daily Log'!$E$18:$E$1017,$B167,'Daily Log'!$F$18:$F$1017),0)","v":22},{"$f":"IFERROR($E167*SUMIF('Daily Log'!$H$18:$H$1017,$B167,'Daily Log'!$I$18:$I$1017),0)","v":21},{"$f":"IFERROR($E167*SUMIF('Daily Log'!$K$18:$K$1017,$B167,'Daily Log'!$L$18:$L$1017),0)","v":15},{"$f":"IFERROR($E167*SUMIF('Daily Log'!$N$18:$N$1017,$B167,'Daily Log'!$O$18:$O$1017),0)","v":27},{"$f":"IFERROR($E167*SUMIF('Daily Log'!$Q$18:$Q$1017,$B167,'Daily Log'!$R$18:$R$1017),0)","v":20},{"$f":"IFERROR($E167*SUMIF('Daily Log'!$T$18:$T$1017,$B167,'Daily Log'!$U$18:$U$1017),0)","v":16},{"$f":"IFERROR($E167*SUMIF('Daily Log'!$W$18:$W$1017,$B167,'Daily Log'!$X$18:$X$1017),0)","v":12},{"$f":"IFERROR($E167*SUMIF('Daily Log'!$Z$18:$Z$1017,$B167,'Daily Log'!$AA$18:$AA$1017),0)","v":13},{"$f":"IFERROR($E167*SUMIF('Daily Log'!$AC$18:$AC$1017,$B167,'Daily Log'!$AD$18:$AD$1017),0)","v":17},{"$f":"IFERROR($E167*SUMIF('Daily Log'!$AF$18:$AF$1017,$B167,'Daily Log'!$AG$18:$AG$1017),0)","v":30},{"$f":"IFERROR($E167*SUMIF('Daily Log'!$AI$18:$AI$1017,$B167,'Daily Log'!$AJ$18:$AJ$1017),0)","v":25},{"$f":"IFERROR($E167*SUMIF('Daily Log'!$AL$18:$AL$1017,$B167,'Daily Log'!$AM$18:$AM$1017),0)","v":30},{"$f":"IFERROR($E167*SUMIF('Daily Log'!$AO$18:$AO$1017,$B167,'Daily Log'!$AP$18:$AP$1017),0)","v":12},{"$f":"IFERROR($E167*SUMIF('Daily Log'!$AR$18:$AR$1017,$B167,'Daily Log'!$AS$18:$AS$1017),0)","v":1},{"$f":"IFERROR($E167*SUMIF('Daily Log'!$AU$18:$AU$1017,$B167,'Daily Log'!$AV$18:$AV$1017),0)","v":13},{"$f":"IFERROR($E167*SUMIF('Daily Log'!$AX$18:$AX$1017,$B167,'Daily Log'!$AY$18:$AY$1017),0)","v":10},{"$f":"IFERROR($E167*SUMIF('Daily Log'!$BA$18:$BA$1017,$B167,'Daily Log'!$BB$18:$BB$1017),0)","v":11},{"$f":"IFERROR($E167*SUMIF('Daily Log'!$BD$18:$BD$1017,$B167,'Daily Log'!$BE$18:$BE$1017),0)","v":32},{"$f":"IFERROR($E167*SUMIF('Daily Log'!$BG$18:$BG$1017,$B167,'Daily Log'!$BH$18:$BH$1017),0)","v":20},{"$f":"IFERROR($E167*SUMIF('Daily Log'!$BJ$18:$BJ$1017,$B167,'Daily Log'!$BK$18:$BK$1017),0)","v":10},{"$f":"IFERROR($E167*SUMIF('Daily Log'!$BM$18:$BM$1017,$B167,'Daily Log'!$BN$18:$BN$1017),0)","v":18},{"$f":"IFERROR($E167*SUMIF('Daily Log'!$BP$18:$BP$1017,$B167,'Daily Log'!$BQ$18:$BQ$1017),0)","v":19},{"$f":"IFERROR($E167*SUMIF('Daily Log'!$BS$18:$BS$1017,$B167,'Daily Log'!$BT$18:$BT$1017),0)","v":11},{"$f":"IFERROR($E167*SUMIF('Daily Log'!$BV$18:$BV$1017,$B167,'Daily Log'!$BW$18:$BW$1017),0)","v":27},{"$f":"IFERROR($E167*SUMIF('Daily Log'!$BY$18:$BY$1017,$B167,'Daily Log'!$BZ$18:$BZ$1017),0)","v":17},{"$f":"IFERROR($E167*SUMIF('Daily Log'!$CB$18:$CB$1017,$B167,'Daily Log'!$CC$18:$CC$1017),0)","v":24},{"$f":"IFERROR($E167*SUMIF('Daily Log'!$CE$18:$CE$1017,$B167,'Daily Log'!$CF$18:$CF$1017),0)","v":16},{"$f":"IFERROR($E167*SUMIF('Daily Log'!$CH$18:$CH$1017,$B167,'Daily Log'!$CI$18:$CI$1017),0)","v":10},{"$f":"IFERROR($E167*SUMIF('Daily Log'!$CK$18:$CK$1017,$B167,'Daily Log'!$CL$18:$CL$1017),0)","v":20},{"$f":"IFERROR($E167*SUMIF('Daily Log'!$CN$18:$CN$1017,$B167,'Daily Log'!$CO$18:$CO$1017),0)","v":0}]
[null,"JF03 92503:MANGO J",null,"FFDRINKS-COLD",1,308,{"$f":"IFERROR($E168*SUMIF('Daily Log'!$B$18:$B$1017,$B168,'Daily Log'!$C$18:$C$1017),0)","v":8},{"$f":"IFERROR($E168*SUMIF('Daily Log'!$E$18:$E$1017,$B168,'Daily Log'!$F$18:$F$1017),0)","v":6},{"$f":"IFERROR($E168*SUMIF('Daily Log'!$H$18:$H$1017,$B168,'Daily Log'!$I$18:$I$1017),0)","v":3},{"$f":"IFERROR($E168*SUMIF('Daily Log'!$K$18:$K$1017,$B168,'Daily Log'!$L$18:$L$1017),0)","v":17},{"$f":"IFERROR($E168*SUMIF('Daily Log'!$N$18:$N$1017,$B168,'Daily Log'!$O$18:$O$1017),0)","v":15},{"$f":"IFERROR($E168*SUMIF('Daily Log'!$Q$18:$Q$1017,$B168,'Daily Log'!$R$18:$R$1017),0)","v":13},{"$f":"IFERROR($E168*SUMIF('Daily Log'!$T$18:$T$1017,$B168,'Daily Log'!$U$18:$U$1017),0)","v":11},{"$f":"IFERROR($E168*SUMIF('Daily Log'!$W$18:$W$1017,$B168,'Daily Log'!$X$18:$X$1017),0)","v":9},{"$f":"IFERROR($E168*SUMIF('Daily Log'!$Z$18:$Z$1017,$B168,'Daily Log'!$AA$18:$AA$1017),0)","v":6},{"$f":"IFERROR($E168*SUMIF('Daily Log'!$AC$18:$AC$1017,$B168,'Daily Log'!$AD$18:$AD$1017),0)","v":14},{"$f":"IFERROR($E168*SUMIF('Daily Log'!$AF$18:$AF$1017,$B168,'Daily Log'!$AG$18:$AG$1017),0)","v":16},{"$f":"IFERROR($E168*SUMIF('Daily Log'!$AI$18:$AI$1017,$B168,'Daily Log'!$AJ$18:$AJ$1017),0)","v":22},{"$f":"IFERROR($E168*SUMIF('Daily Log'!$AL$18:$AL$1017,$B168,'Daily Log'!$AM$18:$AM$1017),0)","v":8},{"$f":"IFERROR($E168*SUMIF('Daily Log'!$AO$18:$AO$1017,$B168,'Daily Log'!$AP$18:$AP$1017),0)","v":4},{"$f":"IFERROR($E168*SUMIF('Daily Log'!$AR$18:$AR$1017,$B168,'Daily Log'!$AS$18:$AS$1017),0)","v":3},{"$f":"IFERROR($E168*SUMIF('Daily Log'!$AU$18:$AU$1017,$B168,'Daily Log'!$AV$18:$AV$1017),0)","v":6},{"$f":"IFERROR($E168*SUMIF('Daily Log'!$AX$18:$AX$1017,$B168,'Daily Log'!$AY$18:$AY$1017),0)","v":18},{"$f":"IFERROR($E168*SUMIF('Daily Log'!$BA$18:$BA$1017,$B168,'Daily Log'!$BB$18:$BB$1017),0)","v":9},{"$f":"IFERROR($E168*SUMIF('Daily Log'!$BD$18:$BD$1017,$B168,'Daily Log'!$BE$18:$BE$1017),0)","v":18},{"$f":"IFERROR($E168*SUMIF('Daily Log'!$BG$18:$BG$1017,$B168,'Daily Log'!$BH$18:$BH$1017),0)","v":12},{"$f":"IFERROR($E168*SUMIF('Daily Log'!$BJ$18:$BJ$1017,$B168,'Daily Log'!$BK$18:$BK$1017),0)","v":7},{"$f":"IFERROR($E168*SUMIF('Daily Log'!$BM$18:$BM$1017,$B168,'Daily Log'!$BN$18:$BN$1017),0)","v":8},{"$f":"IFERROR($E168*SUMIF('Daily Log'!$BP$18:$BP$1017,$B168,'Daily Log'!$BQ$18:$BQ$1017),0)","v":14},{"$f":"IFERROR($E168*SUMIF('Daily Log'!$BS$18:$BS$1017,$B168,'Daily Log'!$BT$18:$BT$1017),0)","v":7},{"$f":"IFERROR($E168*SUMIF('Daily Log'!$BV$18:$BV$1017,$B168,'Daily Log'!$BW$18:$BW$1017),0)","v":11},{"$f":"IFERROR($E168*SUMIF('Daily Log'!$BY$18:$BY$1017,$B168,'Daily Log'!$BZ$18:$BZ$1017),0)","v":12},{"$f":"IFERROR($E168*SUMIF('Daily Log'!$CB$18:$CB$1017,$B168,'Daily Log'!$CC$18:$CC$1017),0)","v":13},{"$f":"IFERROR($E168*SUMIF('Daily Log'!$CE$18:$CE$1017,$B168,'Daily Log'!$CF$18:$CF$1017),0)","v":6},{"$f":"IFERROR($E168*SUMIF('Daily Log'!$CH$18:$CH$1017,$B168,'Daily Log'!$CI$18:$CI$1017),0)","v":3},{"$f":"IFERROR($E168*SUMIF('Daily Log'!$CK$18:$CK$1017,$B168,'Daily Log'!$CL$18:$CL$1017),0)","v":9},{"$f":"IFERROR($E168*SUMIF('Daily Log'!$CN$18:$CN$1017,$B168,'Daily Log'!$CO$18:$CO$1017),0)","v":0}]
[null,"JF04 92504:PASSION J",null,"FFDRINKS-COLD",1,598,{"$f":"IFERROR($E169*SUMIF('Daily Log'!$B$18:$B$1017,$B169,'Daily Log'!$C$18:$C$1017),0)","v":10},{"$f":"IFERROR($E169*SUMIF('Daily Log'!$E$18:$E$1017,$B169,'Daily Log'!$F$18:$F$1017),0)","v":44},{"$f":"IFERROR($E169*SUMIF('Daily Log'!$H$18:$H$1017,$B169,'Daily Log'!$I$18:$I$1017),0)","v":19},{"$f":"IFERROR($E169*SUMIF('Daily Log'!$K$18:$K$1017,$B169,'Daily Log'!$L$18:$L$1017),0)","v":17},{"$f":"IFERROR($E169*SUMIF('Daily Log'!$N$18:$N$1017,$B169,'Daily Log'!$O$18:$O$1017),0)","v":25},{"$f":"IFERROR($E169*SUMIF('Daily Log'!$Q$18:$Q$1017,$B169,'Daily Log'!$R$18:$R$1017),0)","v":32},{"$f":"IFERROR($E169*SUMIF('Daily Log'!$T$18:$T$1017,$B169,'Daily Log'!$U$18:$U$1017),0)","v":14},{"$f":"IFERROR($E169*SUMIF('Daily Log'!$W$18:$W$1017,$B169,'Daily Log'!$X$18:$X$1017),0)","v":10},{"$f":"IFERROR($E169*SUMIF('Daily Log'!$Z$18:$Z$1017,$B169,'Daily Log'!$AA$18:$AA$1017),0)","v":12},{"$f":"IFERROR($E169*SUMIF('Daily Log'!$AC$18:$AC$1017,$B169,'Daily Log'!$AD$18:$AD$1017),0)","v":22},{"$f":"IFERROR($E169*SUMIF('Daily Log'!$AF$18:$AF$1017,$B169,'Daily Log'!$AG$18:$AG$1017),0)","v":23},{"$f":"IFERROR($E169*SUMIF('Daily Log'!$AI$18:$AI$1017,$B169,'Daily Log'!$AJ$18:$AJ$1017),0)","v":29},{"$f":"IFERROR($E169*SUMIF('Daily Log'!$AL$18:$AL$1017,$B169,'Daily Log'!$AM$18:$AM$1017),0)","v":29},{"$f":"IFERROR($E169*SUMIF('Daily Log'!$AO$18:$AO$1017,$B169,'Daily Log'!$AP$18:$AP$1017),0)","v":5},{"$f":"IFERROR($E169*SUMIF('Daily Log'!$AR$18:$AR$1017,$B169,'Daily Log'!$AS$18:$AS$1017),0)","v":9},{"$f":"IFERROR($E169*SUMIF('Daily Log'!$AU$18:$AU$1017,$B169,'Daily Log'!$AV$18:$AV$1017),0)","v":27},{"$f":"IFERROR($E169*SUMIF('Daily Log'!$AX$18:$AX$1017,$B169,'Daily Log'!$AY$18:$AY$1017),0)","v":26},{"$f":"IFERROR($E169*SUMIF('Daily Log'!$BA$18:$BA$1017,$B169,'Daily Log'!$BB$18:$BB$1017),0)","v":9},{"$f":"IFERROR($E169*SUMIF('Daily Log'!$BD$18:$BD$1017,$B169,'Daily Log'!$BE$18:$BE$1017),0)","v":31},{"$f":"IFERROR($E169*SUMIF('Daily Log'!$BG$18:$BG$1017,$B169,'Daily Log'!$BH$18:$BH$1017),0)","v":20},{"$f":"IFERROR($E169*SUMIF('Daily Log'!$BJ$18:$BJ$1017,$B169,'Daily Log'!$BK$18:$BK$1017),0)","v":19},{"$f":"IFERROR($E169*SUMIF('Daily Log'!$BM$18:$BM$1017,$B169,'Daily Log'!$BN$18:$BN$1017),0)","v":15},{"$f":"IFERROR($E169*SUMIF('Daily Log'!$BP$18:$BP$1017,$B169,'Daily Log'!$BQ$18:$BQ$1017),0)","v":6},{"$f":"IFERROR($E169*SUMIF('Daily Log'!$BS$18:$BS$1017,$B169,'Daily Log'!$BT$18:$BT$1017),0)","v":22},{"$f":"IFERROR($E169*SUMIF('Daily Log'!$BV$18:$BV$1017,$B169,'Daily Log'!$BW$18:$BW$1017),0)","v":19},{"$f":"IFERROR($E169*SUMIF('Daily Log'!$BY$18:$BY$1017,$B169,'Daily Log'!$BZ$18:$BZ$1017),0)","v":24},{"$f":"IFERROR($E169*SUMIF('Daily Log'!$CB$18:$CB$1017,$B169,'Daily Log'!$CC$18:$CC$1017),0)","v":27},{"$f":"IFERROR($E169*SUMIF('Daily Log'!$CE$18:$CE$1017,$B169,'Daily Log'!$CF$18:$CF$1017),0)","v":15},{"$f":"IFERROR($E169*SUMIF('Daily Log'!$CH$18:$CH$1017,$B169,'Daily Log'!$CI$18:$CI$1017),0)","v":14},{"$f":"IFERROR($E169*SUMIF('Daily Log'!$CK$18:$CK$1017,$B169,'Daily Log'!$CL$18:$CL$1017),0)","v":24},{"$f":"IFERROR($E169*SUMIF('Daily Log'!$CN$18:$CN$1017,$B169,'Daily Log'!$CO$18:$CO$1017),0)","v":0}]
[null,"JF05 92505:RIBENA J",null,"FFDRINKS-COLD",1,562,{"$f":"IFERROR($E170*SUMIF('Daily Log'!$B$18:$B$1017,$B170,'Daily Log'!$C$18:$C$1017),0)","v":16},{"$f":"IFERROR($E170*SUMIF('Daily Log'!$E$18:$E$1017,$B170,'Daily Log'!$F$18:$F$1017),0)","v":14},{"$f":"IFERROR($E170*SUMIF('Daily Log'!$H$18:$H$1017,$B170,'Daily Log'!$I$18:$I$1017),0)","v":18},{"$f":"IFERROR($E170*SUMIF('Daily Log'!$K$18:$K$1017,$B170,'Daily Log'!$L$18:$L$1017),0)","v":17},{"$f":"IFERROR($E170*SUMIF('Daily Log'!$N$18:$N$1017,$B170,'Daily Log'!$O$18:$O$1017),0)","v":27},{"$f":"IFERROR($E170*SUMIF('Daily Log'!$Q$18:$Q$1017,$B170,'Daily Log'!$R$18:$R$1017),0)","v":22},{"$f":"IFERROR($E170*SUMIF('Daily Log'!$T$18:$T$1017,$B170,'Daily Log'!$U$18:$U$1017),0)","v":27},{"$f":"IFERROR($E170*SUMIF('Daily Log'!$W$18:$W$1017,$B170,'Daily Log'!$X$18:$X$1017),0)","v":21},{"$f":"IFERROR($E170*SUMIF('Daily Log'!$Z$18:$Z$1017,$B170,'Daily Log'!$AA$18:$AA$1017),0)","v":5},{"$f":"IFERROR($E170*SUMIF('Daily Log'!$AC$18:$AC$1017,$B170,'Daily Log'!$AD$18:$AD$1017),0)","v":1},{"$f":"IFERROR($E170*SUMIF('Daily Log'!$AF$18:$AF$1017,$B170,'Daily Log'!$AG$18:$AG$1017),0)","v":0},{"$f":"IFERROR($E170*SUMIF('Daily Log'!$AI$18:$AI$1017,$B170,'Daily Log'!$AJ$18:$AJ$1017),0)","v":2},{"$f":"IFERROR($E170*SUMIF('Daily Log'!$AL$18:$AL$1017,$B170,'Daily Log'!$AM$18:$AM$1017),0)","v":25},{"$f":"IFERROR($E170*SUMIF('Daily Log'!$AO$18:$AO$1017,$B170,'Daily Log'!$AP$18:$AP$1017),0)","v":13},{"$f":"IFERROR($E170*SUMIF('Daily Log'!$AR$18:$AR$1017,$B170,'Daily Log'!$AS$18:$AS$1017),0)","v":9},{"$f":"IFERROR($E170*SUMIF('Daily Log'!$AU$18:$AU$1017,$B170,'Daily Log'!$AV$18:$AV$1017),0)","v":11},{"$f":"IFERROR($E170*SUMIF('Daily Log'!$AX$18:$AX$1017,$B170,'Daily Log'!$AY$18:$AY$1017),0)","v":24},{"$f":"IFERROR($E170*SUMIF('Daily Log'!$BA$18:$BA$1017,$B170,'Daily Log'!$BB$18:$BB$1017),0)","v":23},{"$f":"IFERROR($E170*SUMIF('Daily Log'!$BD$18:$BD$1017,$B170,'Daily Log'!$BE$18:$BE$1017),0)","v":60},{"$f":"IFERROR($E170*SUMIF('Daily Log'!$BG$18:$BG$1017,$B170,'Daily Log'!$BH$18:$BH$1017),0)","v":35},{"$f":"IFERROR($E170*SUMIF('Daily Log'!$BJ$18:$BJ$1017,$B170,'Daily Log'!$BK$18:$BK$1017),0)","v":6},{"$f":"IFERROR($E170*SUMIF('Daily Log'!$BM$18:$BM$1017,$B170,'Daily Log'!$BN$18:$BN$1017),0)","v":16},{"$f":"IFERROR($E170*SUMIF('Daily Log'!$BP$18:$BP$1017,$B170,'Daily Log'!$BQ$18:$BQ$1017),0)","v":9},{"$f":"IFERROR($E170*SUMIF('Daily Log'!$BS$18:$BS$1017,$B170,'Daily Log'!$BT$18:$BT$1017),0)","v":25},{"$f":"IFERROR($E170*SUMIF('Daily Log'!$BV$18:$BV$1017,$B170,'Daily Log'!$BW$18:$BW$1017),0)","v":24},{"$f":"IFERROR($E170*SUMIF('Daily Log'!$BY$18:$BY$1017,$B170,'Daily Log'!$BZ$18:$BZ$1017),0)","v":24},{"$f":"IFERROR($E170*SUMIF('Daily Log'!$CB$18:$CB$1017,$B170,'Daily Log'!$CC$18:$CC$1017),0)","v":36},{"$f":"IFERROR($E170*SUMIF('Daily Log'!$CE$18:$CE$1017,$B170,'Daily Log'!$CF$18:$CF$1017),0)","v":19},{"$f":"IFERROR($E170*SUMIF('Daily Log'!$CH$18:$CH$1017,$B170,'Daily Log'!$CI$18:$CI$1017),0)","v":16},{"$f":"IFERROR($E170*SUMIF('Daily Log'!$CK$18:$CK$1017,$B170,'Daily Log'!$CL$18:$CL$1017),0)","v":17},{"$f":"IFERROR($E170*SUMIF('Daily Log'!$CN$18:$CN$1017,$B170,'Daily Log'!$CO$18:$CO$1017),0)","v":0}]
[null,"SO01 2601:GRAPE SO",null,"SO-COLD BEVERAGE",1,0,{"$f":"IFERROR($E171*SUMIF('Daily Log'!$B$18:$B$1017,$B171,'Daily Log'!$C$18:$C$1017),0)","v":0},{"$f":"IFERROR($E171*SUMIF('Daily Log'!$E$18:$E$1017,$B171,'Daily Log'!$F$18:$F$1017),0)","v":0},{"$f":"IFERROR($E171*SUMIF('Daily Log'!$H$18:$H$1017,$B171,'Daily Log'!$I$18:$I$1017),0)","v":0},{"$f":"IFERROR($E171*SUMIF('Daily Log'!$K$18:$K$1017,$B171,'Daily Log'!$L$18:$L$1017),0)","v":0},{"$f":"IFERROR($E171*SUMIF('Daily Log'!$N$18:$N$1017,$B171,'Daily Log'!$O$18:$O$1017),0)","v":0},{"$f":"IFERROR($E171*SUMIF('Daily Log'!$Q$18:$Q$1017,$B171,'Daily Log'!$R$18:$R$1017),0)","v":0},{"$f":"IFERROR($E171*SUMIF('Daily Log'!$T$18:$T$1017,$B171,'Daily Log'!$U$18:$U$1017),0)","v":0},{"$f":"IFERROR($E171*SUMIF('Daily Log'!$W$18:$W$1017,$B171,'Daily Log'!$X$18:$X$1017),0)","v":0},{"$f":"IFERROR($E171*SUMIF('Daily Log'!$Z$18:$Z$1017,$B171,'Daily Log'!$AA$18:$AA$1017),0)","v":0},{"$f":"IFERROR($E171*SUMIF('Daily Log'!$AC$18:$AC$1017,$B171,'Daily Log'!$AD$18:$AD$1017),0)","v":0},{"$f":"IFERROR($E171*SUMIF('Daily Log'!$AF$18:$AF$1017,$B171,'Daily Log'!$AG$18:$AG$1017),0)","v":0},{"$f":"IFERROR($E171*SUMIF('Daily Log'!$AI$18:$AI$1017,$B171,'Daily Log'!$AJ$18:$AJ$1017),0)","v":0},{"$f":"IFERROR($E171*SUMIF('Daily Log'!$AL$18:$AL$1017,$B171,'Daily Log'!$AM$18:$AM$1017),0)","v":0},{"$f":"IFERROR($E171*SUMIF('Daily Log'!$AO$18:$AO$1017,$B171,'Daily Log'!$AP$18:$AP$1017),0)","v":0},{"$f":"IFERROR($E171*SUMIF('Daily Log'!$AR$18:$AR$1017,$B171,'Daily Log'!$AS$18:$AS$1017),0)","v":0},{"$f":"IFERROR($E171*SUMIF('Daily Log'!$AU$18:$AU$1017,$B171,'Daily Log'!$AV$18:$AV$1017),0)","v":0},{"$f":"IFERROR($E171*SUMIF('Daily Log'!$AX$18:$AX$1017,$B171,'Daily Log'!$AY$18:$AY$1017),0)","v":0},{"$f":"IFERROR($E171*SUMIF('Daily Log'!$BA$18:$BA$1017,$B171,'Daily Log'!$BB$18:$BB$1017),0)","v":0},{"$f":"IFERROR($E171*SUMIF('Daily Log'!$BD$18:$BD$1017,$B171,'Daily Log'!$BE$18:$BE$1017),0)","v":0},{"$f":"IFERROR($E171*SUMIF('Daily Log'!$BG$18:$BG$1017,$B171,'Daily Log'!$BH$18:$BH$1017),0)","v":0},{"$f":"IFERROR($E171*SUMIF('Daily Log'!$BJ$18:$BJ$1017,$B171,'Daily Log'!$BK$18:$BK$1017),0)","v":0},{"$f":"IFERROR($E171*SUMIF('Daily Log'!$BM$18:$BM$1017,$B171,'Daily Log'!$BN$18:$BN$1017),0)","v":0},{"$f":"IFERROR($E171*SUMIF('Daily Log'!$BP$18:$BP$1017,$B171,'Daily Log'!$BQ$18:$BQ$1017),0)","v":0},{"$f":"IFERROR($E171*SUMIF('Daily Log'!$BS$18:$BS$1017,$B171,'Daily Log'!$BT$18:$BT$1017),0)","v":0},{"$f":"IFERROR($E171*SUMIF('Daily Log'!$BV$18:$BV$1017,$B171,'Daily Log'!$BW$18:$BW$1017),0)","v":0},{"$f":"IFERROR($E171*SUMIF('Daily Log'!$BY$18:$BY$1017,$B171,'Daily Log'!$BZ$18:$BZ$1017),0)","v":0},{"$f":"IFERROR($E171*SUMIF('Daily Log'!$CB$18:$CB$1017,$B171,'Daily Log'!$CC$18:$CC$1017),0)","v":0},{"$f":"IFERROR($E171*SUMIF('Daily Log'!$CE$18:$CE$1017,$B171,'Daily Log'!$CF$18:$CF$1017),0)","v":0},{"$f":"IFERROR($E171*SUMIF('Daily Log'!$CH$18:$CH$1017,$B171,'Daily Log'!$CI$18:$CI$1017),0)","v":0},{"$f":"IFERROR($E171*SUMIF('Daily Log'!$CK$18:$CK$1017,$B171,'Daily Log'!$CL$18:$CL$1017),0)","v":0},{"$f":"IFERROR($E171*SUMIF('Daily Log'!$CN$18:$CN$1017,$B171,'Daily Log'!$CO$18:$CO$1017),0)","v":0}]
[null,"SO02 2602:APPLE SO",null,"SO-COLD BEVERAGE",1,0,{"$f":"IFERROR($E172*SUMIF('Daily Log'!$B$18:$B$1017,$B172,'Daily Log'!$C$18:$C$1017),0)","v":0},{"$f":"IFERROR($E172*SUMIF('Daily Log'!$E$18:$E$1017,$B172,'Daily Log'!$F$18:$F$1017),0)","v":0},{"$f":"IFERROR($E172*SUMIF('Daily Log'!$H$18:$H$1017,$B172,'Daily Log'!$I$18:$I$1017),0)","v":0},{"$f":"IFERROR($E172*SUMIF('Daily Log'!$K$18:$K$1017,$B172,'Daily Log'!$L$18:$L$1017),0)","v":0},{"$f":"IFERROR($E172*SUMIF('Daily Log'!$N$18:$N$1017,$B172,'Daily Log'!$O$18:$O$1017),0)","v":0},{"$f":"IFERROR($E172*SUMIF('Daily Log'!$Q$18:$Q$1017,$B172,'Daily Log'!$R$18:$R$1017),0)","v":0},{"$f":"IFERROR($E172*SUMIF('Daily Log'!$T$18:$T$1017,$B172,'Daily Log'!$U$18:$U$1017),0)","v":0},{"$f":"IFERROR($E172*SUMIF('Daily Log'!$W$18:$W$1017,$B172,'Daily Log'!$X$18:$X$1017),0)","v":0},{"$f":"IFERROR($E172*SUMIF('Daily Log'!$Z$18:$Z$1017,$B172,'Daily Log'!$AA$18:$AA$1017),0)","v":0},{"$f":"IFERROR($E172*SUMIF('Daily Log'!$AC$18:$AC$1017,$B172,'Daily Log'!$AD$18:$AD$1017),0)","v":0},{"$f":"IFERROR($E172*SUMIF('Daily Log'!$AF$18:$AF$1017,$B172,'Daily Log'!$AG$18:$AG$1017),0)","v":0},{"$f":"IFERROR($E172*SUMIF('Daily Log'!$AI$18:$AI$1017,$B172,'Daily Log'!$AJ$18:$AJ$1017),0)","v":0},{"$f":"IFERROR($E172*SUMIF('Daily Log'!$AL$18:$AL$1017,$B172,'Daily Log'!$AM$18:$AM$1017),0)","v":0},{"$f":"IFERROR($E172*SUMIF('Daily Log'!$AO$18:$AO$1017,$B172,'Daily Log'!$AP$18:$AP$1017),0)","v":0},{"$f":"IFERROR($E172*SUMIF('Daily Log'!$AR$18:$AR$1017,$B172,'Daily Log'!$AS$18:$AS$1017),0)","v":0},{"$f":"IFERROR($E172*SUMIF('Daily Log'!$AU$18:$AU$1017,$B172,'Daily Log'!$AV$18:$AV$1017),0)","v":0},{"$f":"IFERROR($E172*SUMIF('Daily Log'!$AX$18:$AX$1017,$B172,'Daily Log'!$AY$18:$AY$1017),0)","v":0},{"$f":"IFERROR($E172*SUMIF('Daily Log'!$BA$18:$BA$1017,$B172,'Daily Log'!$BB$18:$BB$1017),0)","v":0},{"$f":"IFERROR($E172*SUMIF('Daily Log'!$BD$18:$BD$1017,$B172,'Daily Log'!$BE$18:$BE$1017),0)","v":0},{"$f":"IFERROR($E172*SUMIF('Daily Log'!$BG$18:$BG$1017,$B172,'Daily Log'!$BH$18:$BH$1017),0)","v":0},{"$f":"IFERROR($E172*SUMIF('Daily Log'!$BJ$18:$BJ$1017,$B172,'Daily Log'!$BK$18:$BK$1017),0)","v":0},{"$f":"IFERROR($E172*SUMIF('Daily Log'!$BM$18:$BM$1017,$B172,'Daily Log'!$BN$18:$BN$1017),0)","v":0},{"$f":"IFERROR($E172*SUMIF('Daily Log'!$BP$18:$BP$1017,$B172,'Daily Log'!$BQ$18:$BQ$1017),0)","v":0},{"$f":"IFERROR($E172*SUMIF('Daily Log'!$BS$18:$BS$1017,$B172,'Daily Log'!$BT$18:$BT$1017),0)","v":0},{"$f":"IFERROR($E172*SUMIF('Daily Log'!$BV$18:$BV$1017,$B172,'Daily Log'!$BW$18:$BW$1017),0)","v":0},{"$f":"IFERROR($E172*SUMIF('Daily Log'!$BY$18:$BY$1017,$B172,'Daily Log'!$BZ$18:$BZ$1017),0)","v":0},{"$f":"IFERROR($E172*SUMIF('Daily Log'!$CB$18:$CB$1017,$B172,'Daily Log'!$CC$18:$CC$1017),0)","v":0},{"$f":"IFERROR($E172*SUMIF('Daily Log'!$CE$18:$CE$1017,$B172,'Daily Log'!$CF$18:$CF$1017),0)","v":0},{"$f":"IFERROR($E172*SUMIF('Daily Log'!$CH$18:$CH$1017,$B172,'Daily Log'!$CI$18:$CI$1017),0)","v":0},{"$f":"IFERROR($E172*SUMIF('Daily Log'!$CK$18:$CK$1017,$B172,'Daily Log'!$CL$18:$CL$1017),0)","v":0},{"$f":"IFERROR($E172*SUMIF('Daily Log'!$CN$18:$CN$1017,$B172,'Daily Log'!$CO$18:$CO$1017),0)","v":0}]
[null,"SO03 2603:MANGO SO",null,"SO-COLD BEVERAGE",1,0,{"$f":"IFERROR($E173*SUMIF('Daily Log'!$B$18:$B$1017,$B173,'Daily Log'!$C$18:$C$1017),0)","v":0},{"$f":"IFERROR($E173*SUMIF('Daily Log'!$E$18:$E$1017,$B173,'Daily Log'!$F$18:$F$1017),0)","v":0},{"$f":"IFERROR($E173*SUMIF('Daily Log'!$H$18:$H$1017,$B173,'Daily Log'!$I$18:$I$1017),0)","v":0},{"$f":"IFERROR($E173*SUMIF('Daily Log'!$K$18:$K$1017,$B173,'Daily Log'!$L$18:$L$1017),0)","v":0},{"$f":"IFERROR($E173*SUMIF('Daily Log'!$N$18:$N$1017,$B173,'Daily Log'!$O$18:$O$1017),0)","v":0},{"$f":"IFERROR($E173*SUMIF('Daily Log'!$Q$18:$Q$1017,$B173,'Daily Log'!$R$18:$R$1017),0)","v":0},{"$f":"IFERROR($E173*SUMIF('Daily Log'!$T$18:$T$1017,$B173,'Daily Log'!$U$18:$U$1017),0)","v":0},{"$f":"IFERROR($E173*SUMIF('Daily Log'!$W$18:$W$1017,$B173,'Daily Log'!$X$18:$X$1017),0)","v":0},{"$f":"IFERROR($E173*SUMIF('Daily Log'!$Z$18:$Z$1017,$B173,'Daily Log'!$AA$18:$AA$1017),0)","v":0},{"$f":"IFERROR($E173*SUMIF('Daily Log'!$AC$18:$AC$1017,$B173,'Daily Log'!$AD$18:$AD$1017),0)","v":0},{"$f":"IFERROR($E173*SUMIF('Daily Log'!$AF$18:$AF$1017,$B173,'Daily Log'!$AG$18:$AG$1017),0)","v":0},{"$f":"IFERROR($E173*SUMIF('Daily Log'!$AI$18:$AI$1017,$B173,'Daily Log'!$AJ$18:$AJ$1017),0)","v":0},{"$f":"IFERROR($E173*SUMIF('Daily Log'!$AL$18:$AL$1017,$B173,'Daily Log'!$AM$18:$AM$1017),0)","v":0},{"$f":"IFERROR($E173*SUMIF('Daily Log'!$AO$18:$AO$1017,$B173,'Daily Log'!$AP$18:$AP$1017),0)","v":0},{"$f":"IFERROR($E173*SUMIF('Daily Log'!$AR$18:$AR$1017,$B173,'Daily Log'!$AS$18:$AS$1017),0)","v":0},{"$f":"IFERROR($E173*SUMIF('Daily Log'!$AU$18:$AU$1017,$B173,'Daily Log'!$AV$18:$AV$1017),0)","v":0},{"$f":"IFERROR($E173*SUMIF('Daily Log'!$AX$18:$AX$1017,$B173,'Daily Log'!$AY$18:$AY$1017),0)","v":0},{"$f":"IFERROR($E173*SUMIF('Daily Log'!$BA$18:$BA$1017,$B173,'Daily Log'!$BB$18:$BB$1017),0)","v":0},{"$f":"IFERROR($E173*SUMIF('Daily Log'!$BD$18:$BD$1017,$B173,'Daily Log'!$BE$18:$BE$1017),0)","v":0},{"$f":"IFERROR($E173*SUMIF('Daily Log'!$BG$18:$BG$1017,$B173,'Daily Log'!$BH$18:$BH$1017),0)","v":0},{"$f":"IFERROR($E173*SUMIF('Daily Log'!$BJ$18:$BJ$1017,$B173,'Daily Log'!$BK$18:$BK$1017),0)","v":0},{"$f":"IFERROR($E173*SUMIF('Daily Log'!$BM$18:$BM$1017,$B173,'Daily Log'!$BN$18:$BN$1017),0)","v":0},{"$f":"IFERROR($E173*SUMIF('Daily Log'!$BP$18:$BP$1017,$B173,'Daily Log'!$BQ$18:$BQ$1017),0)","v":0},{"$f":"IFERROR($E173*SUMIF('Daily Log'!$BS$18:$BS$1017,$B173,'Daily Log'!$BT$18:$BT$1017),0)","v":0},{"$f":"IFERROR($E173*SUMIF('Daily Log'!$BV$18:$BV$1017,$B173,'Daily Log'!$BW$18:$BW$1017),0)","v":0},{"$f":"IFERROR($E173*SUMIF('Daily Log'!$BY$18:$BY$1017,$B173,'Daily Log'!$BZ$18:$BZ$1017),0)","v":0},{"$f":"IFERROR($E173*SUMIF('Daily Log'!$CB$18:$CB$1017,$B173,'Daily Log'!$CC$18:$CC$1017),0)","v":0},{"$f":"IFERROR($E173*SUMIF('Daily Log'!$CE$18:$CE$1017,$B173,'Daily Log'!$CF$18:$CF$1017),0)","v":0},{"$f":"IFERROR($E173*SUMIF('Daily Log'!$CH$18:$CH$1017,$B173,'Daily Log'!$CI$18:$CI$1017),0)","v":0},{"$f":"IFERROR($E173*SUMIF('Daily Log'!$CK$18:$CK$1017,$B173,'Daily Log'!$CL$18:$CL$1017),0)","v":0},{"$f":"IFERROR($E173*SUMIF('Daily Log'!$CN$18:$CN$1017,$B173,'Daily Log'!$CO$18:$CO$1017),0)","v":0}]
[null,"SO04 2604:PASSION SO",null,"SO-COLD BEVERAGE",1,0,{"$f":"IFERROR($E174*SUMIF('Daily Log'!$B$18:$B$1017,$B174,'Daily Log'!$C$18:$C$1017),0)","v":0},{"$f":"IFERROR($E174*SUMIF('Daily Log'!$E$18:$E$1017,$B174,'Daily Log'!$F$18:$F$1017),0)","v":0},{"$f":"IFERROR($E174*SUMIF('Daily Log'!$H$18:$H$1017,$B174,'Daily Log'!$I$18:$I$1017),0)","v":0},{"$f":"IFERROR($E174*SUMIF('Daily Log'!$K$18:$K$1017,$B174,'Daily Log'!$L$18:$L$1017),0)","v":0},{"$f":"IFERROR($E174*SUMIF('Daily Log'!$N$18:$N$1017,$B174,'Daily Log'!$O$18:$O$1017),0)","v":0},{"$f":"IFERROR($E174*SUMIF('Daily Log'!$Q$18:$Q$1017,$B174,'Daily Log'!$R$18:$R$1017),0)","v":0},{"$f":"IFERROR($E174*SUMIF('Daily Log'!$T$18:$T$1017,$B174,'Daily Log'!$U$18:$U$1017),0)","v":0},{"$f":"IFERROR($E174*SUMIF('Daily Log'!$W$18:$W$1017,$B174,'Daily Log'!$X$18:$X$1017),0)","v":0},{"$f":"IFERROR($E174*SUMIF('Daily Log'!$Z$18:$Z$1017,$B174,'Daily Log'!$AA$18:$AA$1017),0)","v":0},{"$f":"IFERROR($E174*SUMIF('Daily Log'!$AC$18:$AC$1017,$B174,'Daily Log'!$AD$18:$AD$1017),0)","v":0},{"$f":"IFERROR($E174*SUMIF('Daily Log'!$AF$18:$AF$1017,$B174,'Daily Log'!$AG$18:$AG$1017),0)","v":0},{"$f":"IFERROR($E174*SUMIF('Daily Log'!$AI$18:$AI$1017,$B174,'Daily Log'!$AJ$18:$AJ$1017),0)","v":0},{"$f":"IFERROR($E174*SUMIF('Daily Log'!$AL$18:$AL$1017,$B174,'Daily Log'!$AM$18:$AM$1017),0)","v":0},{"$f":"IFERROR($E174*SUMIF('Daily Log'!$AO$18:$AO$1017,$B174,'Daily Log'!$AP$18:$AP$1017),0)","v":0},{"$f":"IFERROR($E174*SUMIF('Daily Log'!$AR$18:$AR$1017,$B174,'Daily Log'!$AS$18:$AS$1017),0)","v":0},{"$f":"IFERROR($E174*SUMIF('Daily Log'!$AU$18:$AU$1017,$B174,'Daily Log'!$AV$18:$AV$1017),0)","v":0},{"$f":"IFERROR($E174*SUMIF('Daily Log'!$AX$18:$AX$1017,$B174,'Daily Log'!$AY$18:$AY$1017),0)","v":0},{"$f":"IFERROR($E174*SUMIF('Daily Log'!$BA$18:$BA$1017,$B174,'Daily Log'!$BB$18:$BB$1017),0)","v":0},{"$f":"IFERROR($E174*SUMIF('Daily Log'!$BD$18:$BD$1017,$B174,'Daily Log'!$BE$18:$BE$1017),0)","v":0},{"$f":"IFERROR($E174*SUMIF('Daily Log'!$BG$18:$BG$1017,$B174,'Daily Log'!$BH$18:$BH$1017),0)","v":0},{"$f":"IFERROR($E174*SUMIF('Daily Log'!$BJ$18:$BJ$1017,$B174,'Daily Log'!$BK$18:$BK$1017),0)","v":0},{"$f":"IFERROR($E174*SUMIF('Daily Log'!$BM$18:$BM$1017,$B174,'Daily Log'!$BN$18:$BN$1017),0)","v":0},{"$f":"IFERROR($E174*SUMIF('Daily Log'!$BP$18:$BP$1017,$B174,'Daily Log'!$BQ$18:$BQ$1017),0)","v":0},{"$f":"IFERROR($E174*SUMIF('Daily Log'!$BS$18:$BS$1017,$B174,'Daily Log'!$BT$18:$BT$1017),0)","v":0},{"$f":"IFERROR($E174*SUMIF('Daily Log'!$BV$18:$BV$1017,$B174,'Daily Log'!$BW$18:$BW$1017),0)","v":0},{"$f":"IFERROR($E174*SUMIF('Daily Log'!$BY$18:$BY$1017,$B174,'Daily Log'!$BZ$18:$BZ$1017),0)","v":0},{"$f":"IFERROR($E174*SUMIF('Daily Log'!$CB$18:$CB$1017,$B174,'Daily Log'!$CC$18:$CC$1017),0)","v":0},{"$f":"IFERROR($E174*SUMIF('Daily Log'!$CE$18:$CE$1017,$B174,'Daily Log'!$CF$18:$CF$1017),0)","v":0},{"$f":"IFERROR($E174*SUMIF('Daily Log'!$CH$18:$CH$1017,$B174,'Daily Log'!$CI$18:$CI$1017),0)","v":0},{"$f":"IFERROR($E174*SUMIF('Daily Log'!$CK$18:$CK$1017,$B174,'Daily Log'!$CL$18:$CL$1017),0)","v":0},{"$f":"IFERROR($E174*SUMIF('Daily Log'!$CN$18:$CN$1017,$B174,'Daily Log'!$CO$18:$CO$1017),0)","v":0}]
[null,"SO05 2605:RIBENA SO",null,"SO-COLD BEVERAGE",1,1,{"$f":"IFERROR($E175*SUMIF('Daily Log'!$B$18:$B$1017,$B175,'Daily Log'!$C$18:$C$1017),0)","v":0},{"$f":"IFERROR($E175*SUMIF('Daily Log'!$E$18:$E$1017,$B175,'Daily Log'!$F$18:$F$1017),0)","v":0},{"$f":"IFERROR($E175*SUMIF('Daily Log'!$H$18:$H$1017,$B175,'Daily Log'!$I$18:$I$1017),0)","v":0},{"$f":"IFERROR($E175*SUMIF('Daily Log'!$K$18:$K$1017,$B175,'Daily Log'!$L$18:$L$1017),0)","v":1},{"$f":"IFERROR($E175*SUMIF('Daily Log'!$N$18:$N$1017,$B175,'Daily Log'!$O$18:$O$1017),0)","v":0},{"$f":"IFERROR($E175*SUMIF('Daily Log'!$Q$18:$Q$1017,$B175,'Daily Log'!$R$18:$R$1017),0)","v":0},{"$f":"IFERROR($E175*SUMIF('Daily Log'!$T$18:$T$1017,$B175,'Daily Log'!$U$18:$U$1017),0)","v":0},{"$f":"IFERROR($E175*SUMIF('Daily Log'!$W$18:$W$1017,$B175,'Daily Log'!$X$18:$X$1017),0)","v":0},{"$f":"IFERROR($E175*SUMIF('Daily Log'!$Z$18:$Z$1017,$B175,'Daily Log'!$AA$18:$AA$1017),0)","v":0},{"$f":"IFERROR($E175*SUMIF('Daily Log'!$AC$18:$AC$1017,$B175,'Daily Log'!$AD$18:$AD$1017),0)","v":0},{"$f":"IFERROR($E175*SUMIF('Daily Log'!$AF$18:$AF$1017,$B175,'Daily Log'!$AG$18:$AG$1017),0)","v":0},{"$f":"IFERROR($E175*SUMIF('Daily Log'!$AI$18:$AI$1017,$B175,'Daily Log'!$AJ$18:$AJ$1017),0)","v":0},{"$f":"IFERROR($E175*SUMIF('Daily Log'!$AL$18:$AL$1017,$B175,'Daily Log'!$AM$18:$AM$1017),0)","v":0},{"$f":"IFERROR($E175*SUMIF('Daily Log'!$AO$18:$AO$1017,$B175,'Daily Log'!$AP$18:$AP$1017),0)","v":0},{"$f":"IFERROR($E175*SUMIF('Daily Log'!$AR$18:$AR$1017,$B175,'Daily Log'!$AS$18:$AS$1017),0)","v":0},{"$f":"IFERROR($E175*SUMIF('Daily Log'!$AU$18:$AU$1017,$B175,'Daily Log'!$AV$18:$AV$1017),0)","v":0},{"$f":"IFERROR($E175*SUMIF('Daily Log'!$AX$18:$AX$1017,$B175,'Daily Log'!$AY$18:$AY$1017),0)","v":0},{"$f":"IFERROR($E175*SUMIF('Daily Log'!$BA$18:$BA$1017,$B175,'Daily Log'!$BB$18:$BB$1017),0)","v":0},{"$f":"IFERROR($E175*SUMIF('Daily Log'!$BD$18:$BD$1017,$B175,'Daily Log'!$BE$18:$BE$1017),0)","v":0},{"$f":"IFERROR($E175*SUMIF('Daily Log'!$BG$18:$BG$1017,$B175,'Daily Log'!$BH$18:$BH$1017),0)","v":0},{"$f":"IFERROR($E175*SUMIF('Daily Log'!$BJ$18:$BJ$1017,$B175,'Daily Log'!$BK$18:$BK$1017),0)","v":0},{"$f":"IFERROR($E175*SUMIF('Daily Log'!$BM$18:$BM$1017,$B175,'Daily Log'!$BN$18:$BN$1017),0)","v":0},{"$f":"IFERROR($E175*SUMIF('Daily Log'!$BP$18:$BP$1017,$B175,'Daily Log'!$BQ$18:$BQ$1017),0)","v":0},{"$f":"IFERROR($E175*SUMIF('Daily Log'!$BS$18:$BS$1017,$B175,'Daily Log'!$BT$18:$BT$1017),0)","v":0},{"$f":"IFERROR($E175*SUMIF('Daily Log'!$BV$18:$BV$1017,$B175,'Daily Log'!$BW$18:$BW$1017),0)","v":0},{"$f":"IFERROR($E175*SUMIF('Daily Log'!$BY$18:$BY$1017,$B175,'Daily Log'!$BZ$18:$BZ$1017),0)","v":0},{"$f":"IFERROR($E175*SUMIF('Daily Log'!$CB$18:$CB$1017,$B175,'Daily Log'!$CC$18:$CC$1017),0)","v":0},{"$f":"IFERROR($E175*SUMIF('Daily Log'!$CE$18:$CE$1017,$B175,'Daily Log'!$CF$18:$CF$1017),0)","v":0},{"$f":"IFERROR($E175*SUMIF('Daily Log'!$CH$18:$CH$1017,$B175,'Daily Log'!$CI$18:$CI$1017),0)","v":0},{"$f":"IFERROR($E175*SUMIF('Daily Log'!$CK$18:$CK$1017,$B175,'Daily Log'!$CL$18:$CL$1017),0)","v":0},{"$f":"IFERROR($E175*SUMIF('Daily Log'!$CN$18:$CN$1017,$B175,'Daily Log'!$CO$18:$CO$1017),0)","v":0}]
[null,"SF01 92601:GRAPE SO",null,"FFDRINKS-COLD",1,61,{"$f":"IFERROR($E176*SUMIF('Daily Log'!$B$18:$B$1017,$B176,'Daily Log'!$C$18:$C$1017),0)","v":1},{"$f":"IFERROR($E176*SUMIF('Daily Log'!$E$18:$E$1017,$B176,'Daily Log'!$F$18:$F$1017),0)","v":1},{"$f":"IFERROR($E176*SUMIF('Daily Log'!$H$18:$H$1017,$B176,'Daily Log'!$I$18:$I$1017),0)","v":3},{"$f":"IFERROR($E176*SUMIF('Daily Log'!$K$18:$K$1017,$B176,'Daily Log'!$L$18:$L$1017),0)","v":6},{"$f":"IFERROR($E176*SUMIF('Daily Log'!$N$18:$N$1017,$B176,'Daily Log'!$O$18:$O$1017),0)","v":0},{"$f":"IFERROR($E176*SUMIF('Daily Log'!$Q$18:$Q$1017,$B176,'Daily Log'!$R$18:$R$1017),0)","v":0},{"$f":"IFERROR($E176*SUMIF('Daily Log'!$T$18:$T$1017,$B176,'Daily Log'!$U$18:$U$1017),0)","v":2},{"$f":"IFERROR($E176*SUMIF('Daily Log'!$W$18:$W$1017,$B176,'Daily Log'!$X$18:$X$1017),0)","v":0},{"$f":"IFERROR($E176*SUMIF('Daily Log'!$Z$18:$Z$1017,$B176,'Daily Log'!$AA$18:$AA$1017),0)","v":0},{"$f":"IFERROR($E176*SUMIF('Daily Log'!$AC$18:$AC$1017,$B176,'Daily Log'!$AD$18:$AD$1017),0)","v":2},{"$f":"IFERROR($E176*SUMIF('Daily Log'!$AF$18:$AF$1017,$B176,'Daily Log'!$AG$18:$AG$1017),0)","v":3},{"$f":"IFERROR($E176*SUMIF('Daily Log'!$AI$18:$AI$1017,$B176,'Daily Log'!$AJ$18:$AJ$1017),0)","v":4},{"$f":"IFERROR($E176*SUMIF('Daily Log'!$AL$18:$AL$1017,$B176,'Daily Log'!$AM$18:$AM$1017),0)","v":0},{"$f":"IFERROR($E176*SUMIF('Daily Log'!$AO$18:$AO$1017,$B176,'Daily Log'!$AP$18:$AP$1017),0)","v":0},{"$f":"IFERROR($E176*SUMIF('Daily Log'!$AR$18:$AR$1017,$B176,'Daily Log'!$AS$18:$AS$1017),0)","v":4},{"$f":"IFERROR($E176*SUMIF('Daily Log'!$AU$18:$AU$1017,$B176,'Daily Log'!$AV$18:$AV$1017),0)","v":3},{"$f":"IFERROR($E176*SUMIF('Daily Log'!$AX$18:$AX$1017,$B176,'Daily Log'!$AY$18:$AY$1017),0)","v":2},{"$f":"IFERROR($E176*SUMIF('Daily Log'!$BA$18:$BA$1017,$B176,'Daily Log'!$BB$18:$BB$1017),0)","v":5},{"$f":"IFERROR($E176*SUMIF('Daily Log'!$BD$18:$BD$1017,$B176,'Daily Log'!$BE$18:$BE$1017),0)","v":6},{"$f":"IFERROR($E176*SUMIF('Daily Log'!$BG$18:$BG$1017,$B176,'Daily Log'!$BH$18:$BH$1017),0)","v":4},{"$f":"IFERROR($E176*SUMIF('Daily Log'!$BJ$18:$BJ$1017,$B176,'Daily Log'!$BK$18:$BK$1017),0)","v":3},{"$f":"IFERROR($E176*SUMIF('Daily Log'!$BM$18:$BM$1017,$B176,'Daily Log'!$BN$18:$BN$1017),0)","v":0},{"$f":"IFERROR($E176*SUMIF('Daily Log'!$BP$18:$BP$1017,$B176,'Daily Log'!$BQ$18:$BQ$1017),0)","v":0},{"$f":"IFERROR($E176*SUMIF('Daily Log'!$BS$18:$BS$1017,$B176,'Daily Log'!$BT$18:$BT$1017),0)","v":2},{"$f":"IFERROR($E176*SUMIF('Daily Log'!$BV$18:$BV$1017,$B176,'Daily Log'!$BW$18:$BW$1017),0)","v":1},{"$f":"IFERROR($E176*SUMIF('Daily Log'!$BY$18:$BY$1017,$B176,'Daily Log'!$BZ$18:$BZ$1017),0)","v":5},{"$f":"IFERROR($E176*SUMIF('Daily Log'!$CB$18:$CB$1017,$B176,'Daily Log'!$CC$18:$CC$1017),0)","v":2},{"$f":"IFERROR($E176*SUMIF('Daily Log'!$CE$18:$CE$1017,$B176,'Daily Log'!$CF$18:$CF$1017),0)","v":0},{"$f":"IFERROR($E176*SUMIF('Daily Log'!$CH$18:$CH$1017,$B176,'Daily Log'!$CI$18:$CI$1017),0)","v":2},{"$f":"IFERROR($E176*SUMIF('Daily Log'!$CK$18:$CK$1017,$B176,'Daily Log'!$CL$18:$CL$1017),0)","v":0},{"$f":"IFERROR($E176*SUMIF('Daily Log'!$CN$18:$CN$1017,$B176,'Daily Log'!$CO$18:$CO$1017),0)","v":0}]
[null,"SF02 92602:APPLE SO",null,"FFDRINKS-COLD",1,73,{"$f":"IFERROR($E177*SUMIF('Daily Log'!$B$18:$B$1017,$B177,'Daily Log'!$C$18:$C$1017),0)","v":1},{"$f":"IFERROR($E177*SUMIF('Daily Log'!$E$18:$E$1017,$B177,'Daily Log'!$F$18:$F$1017),0)","v":4},{"$f":"IFERROR($E177*SUMIF('Daily Log'!$H$18:$H$1017,$B177,'Daily Log'!$I$18:$I$1017),0)","v":0},{"$f":"IFERROR($E177*SUMIF('Daily Log'!$K$18:$K$1017,$B177,'Daily Log'!$L$18:$L$1017),0)","v":3},{"$f":"IFERROR($E177*SUMIF('Daily Log'!$N$18:$N$1017,$B177,'Daily Log'!$O$18:$O$1017),0)","v":5},{"$f":"IFERROR($E177*SUMIF('Daily Log'!$Q$18:$Q$1017,$B177,'Daily Log'!$R$18:$R$1017),0)","v":5},{"$f":"IFERROR($E177*SUMIF('Daily Log'!$T$18:$T$1017,$B177,'Daily Log'!$U$18:$U$1017),0)","v":0},{"$f":"IFERROR($E177*SUMIF('Daily Log'!$W$18:$W$1017,$B177,'Daily Log'!$X$18:$X$1017),0)","v":0},{"$f":"IFERROR($E177*SUMIF('Daily Log'!$Z$18:$Z$1017,$B177,'Daily Log'!$AA$18:$AA$1017),0)","v":3},{"$f":"IFERROR($E177*SUMIF('Daily Log'!$AC$18:$AC$1017,$B177,'Daily Log'!$AD$18:$AD$1017),0)","v":3},{"$f":"IFERROR($E177*SUMIF('Daily Log'!$AF$18:$AF$1017,$B177,'Daily Log'!$AG$18:$AG$1017),0)","v":8},{"$f":"IFERROR($E177*SUMIF('Daily Log'!$AI$18:$AI$1017,$B177,'Daily Log'!$AJ$18:$AJ$1017),0)","v":4},{"$f":"IFERROR($E177*SUMIF('Daily Log'!$AL$18:$AL$1017,$B177,'Daily Log'!$AM$18:$AM$1017),0)","v":0},{"$f":"IFERROR($E177*SUMIF('Daily Log'!$AO$18:$AO$1017,$B177,'Daily Log'!$AP$18:$AP$1017),0)","v":0},{"$f":"IFERROR($E177*SUMIF('Daily Log'!$AR$18:$AR$1017,$B177,'Daily Log'!$AS$18:$AS$1017),0)","v":3},{"$f":"IFERROR($E177*SUMIF('Daily Log'!$AU$18:$AU$1017,$B177,'Daily Log'!$AV$18:$AV$1017),0)","v":1},{"$f":"IFERROR($E177*SUMIF('Daily Log'!$AX$18:$AX$1017,$B177,'Daily Log'!$AY$18:$AY$1017),0)","v":1},{"$f":"IFERROR($E177*SUMIF('Daily Log'!$BA$18:$BA$1017,$B177,'Daily Log'!$BB$18:$BB$1017),0)","v":2},{"$f":"IFERROR($E177*SUMIF('Daily Log'!$BD$18:$BD$1017,$B177,'Daily Log'!$BE$18:$BE$1017),0)","v":1},{"$f":"IFERROR($E177*SUMIF('Daily Log'!$BG$18:$BG$1017,$B177,'Daily Log'!$BH$18:$BH$1017),0)","v":3},{"$f":"IFERROR($E177*SUMIF('Daily Log'!$BJ$18:$BJ$1017,$B177,'Daily Log'!$BK$18:$BK$1017),0)","v":4},{"$f":"IFERROR($E177*SUMIF('Daily Log'!$BM$18:$BM$1017,$B177,'Daily Log'!$BN$18:$BN$1017),0)","v":5},{"$f":"IFERROR($E177*SUMIF('Daily Log'!$BP$18:$BP$1017,$B177,'Daily Log'!$BQ$18:$BQ$1017),0)","v":0},{"$f":"IFERROR($E177*SUMIF('Daily Log'!$BS$18:$BS$1017,$B177,'Daily Log'!$BT$18:$BT$1017),0)","v":2},{"$f":"IFERROR($E177*SUMIF('Daily Log'!$BV$18:$BV$1017,$B177,'Daily Log'!$BW$18:$BW$1017),0)","v":0},{"$f":"IFERROR($E177*SUMIF('Daily Log'!$BY$18:$BY$1017,$B177,'Daily Log'!$BZ$18:$BZ$1017),0)","v":9},{"$f":"IFERROR($E177*SUMIF('Daily Log'!$CB$18:$CB$1017,$B177,'Daily Log'!$CC$18:$CC$1017),0)","v":2},{"$f":"IFERROR($E177*SUMIF('Daily Log'!$CE$18:$CE$1017,$B177,'Daily Log'!$CF$18:$CF$1017),0)","v":0},{"$f":"IFERROR($E177*SUMIF('Daily Log'!$CH$18:$CH$1017,$B177,'Daily Log'!$CI$18:$CI$1017),0)","v":4},{"$f":"IFERROR($E177*SUMIF('Daily Log'!$CK$18:$CK$1017,$B177,'Daily Log'!$CL$18:$CL$1017),0)","v":0},{"$f":"IFERROR($E177*SUMIF('Daily Log'!$CN$18:$CN$1017,$B177,'Daily Log'!$CO$18:$CO$1017),0)","v":0}]
[null,"SF03 92603:MANGO SO",null,"FFDRINKS-COLD",1,32,{"$f":"IFERROR($E178*SUMIF('Daily Log'!$B$18:$B$1017,$B178,'Daily Log'!$C$18:$C$1017),0)","v":0},{"$f":"IFERROR($E178*SUMIF('Daily Log'!$E$18:$E$1017,$B178,'Daily Log'!$F$18:$F$1017),0)","v":1},{"$f":"IFERROR($E178*SUMIF('Daily Log'!$H$18:$H$1017,$B178,'Daily Log'!$I$18:$I$1017),0)","v":2},{"$f":"IFERROR($E178*SUMIF('Daily Log'!$K$18:$K$1017,$B178,'Daily Log'!$L$18:$L$1017),0)","v":4},{"$f":"IFERROR($E178*SUMIF('Daily Log'!$N$18:$N$1017,$B178,'Daily Log'!$O$18:$O$1017),0)","v":3},{"$f":"IFERROR($E178*SUMIF('Daily Log'!$Q$18:$Q$1017,$B178,'Daily Log'!$R$18:$R$1017),0)","v":0},{"$f":"IFERROR($E178*SUMIF('Daily Log'!$T$18:$T$1017,$B178,'Daily Log'!$U$18:$U$1017),0)","v":1},{"$f":"IFERROR($E178*SUMIF('Daily Log'!$W$18:$W$1017,$B178,'Daily Log'!$X$18:$X$1017),0)","v":0},{"$f":"IFERROR($E178*SUMIF('Daily Log'!$Z$18:$Z$1017,$B178,'Daily Log'!$AA$18:$AA$1017),0)","v":1},{"$f":"IFERROR($E178*SUMIF('Daily Log'!$AC$18:$AC$1017,$B178,'Daily Log'!$AD$18:$AD$1017),0)","v":1},{"$f":"IFERROR($E178*SUMIF('Daily Log'!$AF$18:$AF$1017,$B178,'Daily Log'!$AG$18:$AG$1017),0)","v":1},{"$f":"IFERROR($E178*SUMIF('Daily Log'!$AI$18:$AI$1017,$B178,'Daily Log'!$AJ$18:$AJ$1017),0)","v":0},{"$f":"IFERROR($E178*SUMIF('Daily Log'!$AL$18:$AL$1017,$B178,'Daily Log'!$AM$18:$AM$1017),0)","v":0},{"$f":"IFERROR($E178*SUMIF('Daily Log'!$AO$18:$AO$1017,$B178,'Daily Log'!$AP$18:$AP$1017),0)","v":0},{"$f":"IFERROR($E178*SUMIF('Daily Log'!$AR$18:$AR$1017,$B178,'Daily Log'!$AS$18:$AS$1017),0)","v":0},{"$f":"IFERROR($E178*SUMIF('Daily Log'!$AU$18:$AU$1017,$B178,'Daily Log'!$AV$18:$AV$1017),0)","v":1},{"$f":"IFERROR($E178*SUMIF('Daily Log'!$AX$18:$AX$1017,$B178,'Daily Log'!$AY$18:$AY$1017),0)","v":3},{"$f":"IFERROR($E178*SUMIF('Daily Log'!$BA$18:$BA$1017,$B178,'Daily Log'!$BB$18:$BB$1017),0)","v":2},{"$f":"IFERROR($E178*SUMIF('Daily Log'!$BD$18:$BD$1017,$B178,'Daily Log'!$BE$18:$BE$1017),0)","v":0},{"$f":"IFERROR($E178*SUMIF('Daily Log'!$BG$18:$BG$1017,$B178,'Daily Log'!$BH$18:$BH$1017),0)","v":0},{"$f":"IFERROR($E178*SUMIF('Daily Log'!$BJ$18:$BJ$1017,$B178,'Daily Log'!$BK$18:$BK$1017),0)","v":0},{"$f":"IFERROR($E178*SUMIF('Daily Log'!$BM$18:$BM$1017,$B178,'Daily Log'!$BN$18:$BN$1017),0)","v":0},{"$f":"IFERROR($E178*SUMIF('Daily Log'!$BP$18:$BP$1017,$B178,'Daily Log'!$BQ$18:$BQ$1017),0)","v":1},{"$f":"IFERROR($E178*SUMIF('Daily Log'!$BS$18:$BS$1017,$B178,'Daily Log'!$BT$18:$BT$1017),0)","v":0},{"$f":"IFERROR($E178*SUMIF('Daily Log'!$BV$18:$BV$1017,$B178,'Daily Log'!$BW$18:$BW$1017),0)","v":1},{"$f":"IFERROR($E178*SUMIF('Daily Log'!$BY$18:$BY$1017,$B178,'Daily Log'!$BZ$18:$BZ$1017),0)","v":2},{"$f":"IFERROR($E178*SUMIF('Daily Log'!$CB$18:$CB$1017,$B178,'Daily Log'!$CC$18:$CC$1017),0)","v":6},{"$f":"IFERROR($E178*SUMIF('Daily Log'!$CE$18:$CE$1017,$B178,'Daily Log'!$CF$18:$CF$1017),0)","v":0},{"$f":"IFERROR($E178*SUMIF('Daily Log'!$CH$18:$CH$1017,$B178,'Daily Log'!$CI$18:$CI$1017),0)","v":2},{"$f":"IFERROR($E178*SUMIF('Daily Log'!$CK$18:$CK$1017,$B178,'Daily Log'!$CL$18:$CL$1017),0)","v":0},{"$f":"IFERROR($E178*SUMIF('Daily Log'!$CN$18:$CN$1017,$B178,'Daily Log'!$CO$18:$CO$1017),0)","v":0}]
[null,"SF04 92604:PASSION SO",null,"FFDRINKS-COLD",1,99,{"$f":"IFERROR($E179*SUMIF('Daily Log'!$B$18:$B$1017,$B179,'Daily Log'!$C$18:$C$1017),0)","v":6},{"$f":"IFERROR($E179*SUMIF('Daily Log'!$E$18:$E$1017,$B179,'Daily Log'!$F$18:$F$1017),0)","v":1},{"$f":"IFERROR($E179*SUMIF('Daily Log'!$H$18:$H$1017,$B179,'Daily Log'!$I$18:$I$1017),0)","v":0},{"$f":"IFERROR($E179*SUMIF('Daily Log'!$K$18:$K$1017,$B179,'Daily Log'!$L$18:$L$1017),0)","v":7},{"$f":"IFERROR($E179*SUMIF('Daily Log'!$N$18:$N$1017,$B179,'Daily Log'!$O$18:$O$1017),0)","v":6},{"$f":"IFERROR($E179*SUMIF('Daily Log'!$Q$18:$Q$1017,$B179,'Daily Log'!$R$18:$R$1017),0)","v":2},{"$f":"IFERROR($E179*SUMIF('Daily Log'!$T$18:$T$1017,$B179,'Daily Log'!$U$18:$U$1017),0)","v":0},{"$f":"IFERROR($E179*SUMIF('Daily Log'!$W$18:$W$1017,$B179,'Daily Log'!$X$18:$X$1017),0)","v":2},{"$f":"IFERROR($E179*SUMIF('Daily Log'!$Z$18:$Z$1017,$B179,'Daily Log'!$AA$18:$AA$1017),0)","v":8},{"$f":"IFERROR($E179*SUMIF('Daily Log'!$AC$18:$AC$1017,$B179,'Daily Log'!$AD$18:$AD$1017),0)","v":1},{"$f":"IFERROR($E179*SUMIF('Daily Log'!$AF$18:$AF$1017,$B179,'Daily Log'!$AG$18:$AG$1017),0)","v":5},{"$f":"IFERROR($E179*SUMIF('Daily Log'!$AI$18:$AI$1017,$B179,'Daily Log'!$AJ$18:$AJ$1017),0)","v":6},{"$f":"IFERROR($E179*SUMIF('Daily Log'!$AL$18:$AL$1017,$B179,'Daily Log'!$AM$18:$AM$1017),0)","v":0},{"$f":"IFERROR($E179*SUMIF('Daily Log'!$AO$18:$AO$1017,$B179,'Daily Log'!$AP$18:$AP$1017),0)","v":7},{"$f":"IFERROR($E179*SUMIF('Daily Log'!$AR$18:$AR$1017,$B179,'Daily Log'!$AS$18:$AS$1017),0)","v":7},{"$f":"IFERROR($E179*SUMIF('Daily Log'!$AU$18:$AU$1017,$B179,'Daily Log'!$AV$18:$AV$1017),0)","v":0},{"$f":"IFERROR($E179*SUMIF('Daily Log'!$AX$18:$AX$1017,$B179,'Daily Log'!$AY$18:$AY$1017),0)","v":1},{"$f":"IFERROR($E179*SUMIF('Daily Log'!$BA$18:$BA$1017,$B179,'Daily Log'!$BB$18:$BB$1017),0)","v":3},{"$f":"IFERROR($E179*SUMIF('Daily Log'!$BD$18:$BD$1017,$B179,'Daily Log'!$BE$18:$BE$1017),0)","v":5},{"$f":"IFERROR($E179*SUMIF('Daily Log'!$BG$18:$BG$1017,$B179,'Daily Log'!$BH$18:$BH$1017),0)","v":4},{"$f":"IFERROR($E179*SUMIF('Daily Log'!$BJ$18:$BJ$1017,$B179,'Daily Log'!$BK$18:$BK$1017),0)","v":0},{"$f":"IFERROR($E179*SUMIF('Daily Log'!$BM$18:$BM$1017,$B179,'Daily Log'!$BN$18:$BN$1017),0)","v":2},{"$f":"IFERROR($E179*SUMIF('Daily Log'!$BP$18:$BP$1017,$B179,'Daily Log'!$BQ$18:$BQ$1017),0)","v":4},{"$f":"IFERROR($E179*SUMIF('Daily Log'!$BS$18:$BS$1017,$B179,'Daily Log'!$BT$18:$BT$1017),0)","v":3},{"$f":"IFERROR($E179*SUMIF('Daily Log'!$BV$18:$BV$1017,$B179,'Daily Log'!$BW$18:$BW$1017),0)","v":0},{"$f":"IFERROR($E179*SUMIF('Daily Log'!$BY$18:$BY$1017,$B179,'Daily Log'!$BZ$18:$BZ$1017),0)","v":12},{"$f":"IFERROR($E179*SUMIF('Daily Log'!$CB$18:$CB$1017,$B179,'Daily Log'!$CC$18:$CC$1017),0)","v":5},{"$f":"IFERROR($E179*SUMIF('Daily Log'!$CE$18:$CE$1017,$B179,'Daily Log'!$CF$18:$CF$1017),0)","v":2},{"$f":"IFERROR($E179*SUMIF('Daily Log'!$CH$18:$CH$1017,$B179,'Daily Log'!$CI$18:$CI$1017),0)","v":0},{"$f":"IFERROR($E179*SUMIF('Daily Log'!$CK$18:$CK$1017,$B179,'Daily Log'!$CL$18:$CL$1017),0)","v":0},{"$f":"IFERROR($E179*SUMIF('Daily Log'!$CN$18:$CN$1017,$B179,'Daily Log'!$CO$18:$CO$1017),0)","v":0}]
[null,"SF05 92605:RIBENA SO",null,"FFDRINKS-COLD",1,111,{"$f":"IFERROR($E180*SUMIF('Daily Log'!$B$18:$B$1017,$B180,'Daily Log'!$C$18:$C$1017),0)","v":1},{"$f":"IFERROR($E180*SUMIF('Daily Log'!$E$18:$E$1017,$B180,'Daily Log'!$F$18:$F$1017),0)","v":5},{"$f":"IFERROR($E180*SUMIF('Daily Log'!$H$18:$H$1017,$B180,'Daily Log'!$I$18:$I$1017),0)","v":8},{"$f":"IFERROR($E180*SUMIF('Daily Log'!$K$18:$K$1017,$B180,'Daily Log'!$L$18:$L$1017),0)","v":4},{"$f":"IFERROR($E180*SUMIF('Daily Log'!$N$18:$N$1017,$B180,'Daily Log'!$O$18:$O$1017),0)","v":1},{"$f":"IFERROR($E180*SUMIF('Daily Log'!$Q$18:$Q$1017,$B180,'Daily Log'!$R$18:$R$1017),0)","v":7},{"$f":"IFERROR($E180*SUMIF('Daily Log'!$T$18:$T$1017,$B180,'Daily Log'!$U$18:$U$1017),0)","v":2},{"$f":"IFERROR($E180*SUMIF('Daily Log'!$W$18:$W$1017,$B180,'Daily Log'!$X$18:$X$1017),0)","v":3},{"$f":"IFERROR($E180*SUMIF('Daily Log'!$Z$18:$Z$1017,$B180,'Daily Log'!$AA$18:$AA$1017),0)","v":3},{"$f":"IFERROR($E180*SUMIF('Daily Log'!$AC$18:$AC$1017,$B180,'Daily Log'!$AD$18:$AD$1017),0)","v":0},{"$f":"IFERROR($E180*SUMIF('Daily Log'!$AF$18:$AF$1017,$B180,'Daily Log'!$AG$18:$AG$1017),0)","v":0},{"$f":"IFERROR($E180*SUMIF('Daily Log'!$AI$18:$AI$1017,$B180,'Daily Log'!$AJ$18:$AJ$1017),0)","v":0},{"$f":"IFERROR($E180*SUMIF('Daily Log'!$AL$18:$AL$1017,$B180,'Daily Log'!$AM$18:$AM$1017),0)","v":4},{"$f":"IFERROR($E180*SUMIF('Daily Log'!$AO$18:$AO$1017,$B180,'Daily Log'!$AP$18:$AP$1017),0)","v":6},{"$f":"IFERROR($E180*SUMIF('Daily Log'!$AR$18:$AR$1017,$B180,'Daily Log'!$AS$18:$AS$1017),0)","v":9},{"$f":"IFERROR($E180*SUMIF('Daily Log'!$AU$18:$AU$1017,$B180,'Daily Log'!$AV$18:$AV$1017),0)","v":6},{"$f":"IFERROR($E180*SUMIF('Daily Log'!$AX$18:$AX$1017,$B180,'Daily Log'!$AY$18:$AY$1017),0)","v":6},{"$f":"IFERROR($E180*SUMIF('Daily Log'!$BA$18:$BA$1017,$B180,'Daily Log'!$BB$18:$BB$1017),0)","v":9},{"$f":"IFERROR($E180*SUMIF('Daily Log'!$BD$18:$BD$1017,$B180,'Daily Log'!$BE$18:$BE$1017),0)","v":0},{"$f":"IFERROR($E180*SUMIF('Daily Log'!$BG$18:$BG$1017,$B180,'Daily Log'!$BH$18:$BH$1017),0)","v":6},{"$f":"IFERROR($E180*SUMIF('Daily Log'!$BJ$18:$BJ$1017,$B180,'Daily Log'!$BK$18:$BK$1017),0)","v":7},{"$f":"IFERROR($E180*SUMIF('Daily Log'!$BM$18:$BM$1017,$B180,'Daily Log'!$BN$18:$BN$1017),0)","v":3},{"$f":"IFERROR($E180*SUMIF('Daily Log'!$BP$18:$BP$1017,$B180,'Daily Log'!$BQ$18:$BQ$1017),0)","v":1},{"$f":"IFERROR($E180*SUMIF('Daily Log'!$BS$18:$BS$1017,$B180,'Daily Log'!$BT$18:$BT$1017),0)","v":6},{"$f":"IFERROR($E180*SUMIF('Daily Log'!$BV$18:$BV$1017,$B180,'Daily Log'!$BW$18:$BW$1017),0)","v":5},{"$f":"IFERROR($E180*SUMIF('Daily Log'!$BY$18:$BY$1017,$B180,'Daily Log'!$BZ$18:$BZ$1017),0)","v":0},{"$f":"IFERROR($E180*SUMIF('Daily Log'!$CB$18:$CB$1017,$B180,'Daily Log'!$CC$18:$CC$1017),0)","v":3},{"$f":"IFERROR($E180*SUMIF('Daily Log'!$CE$18:$CE$1017,$B180,'Daily Log'!$CF$18:$CF$1017),0)","v":0},{"$f":"IFERROR($E180*SUMIF('Daily Log'!$CH$18:$CH$1017,$B180,'Daily Log'!$CI$18:$CI$1017),0)","v":6},{"$f":"IFERROR($E180*SUMIF('Daily Log'!$CK$18:$CK$1017,$B180,'Daily Log'!$CL$18:$CL$1017),0)","v":0},{"$f":"IFERROR($E180*SUMIF('Daily Log'!$CN$18:$CN$1017,$B180,'Daily Log'!$CO$18:$CO$1017),0)","v":0}]
[null,"SM01 2801:GRAPE SM",null,"SO-COLD BEVERAGE",1,{"$f":"SUM($G181:$AK181)","v":0},{"$f":"IFERROR($E181*SUMIF('Daily Log'!$B$18:$B$1017,$B181,'Daily Log'!$C$18:$C$1017),0)","v":0},{"$f":"IFERROR($E181*SUMIF('Daily Log'!$E$18:$E$1017,$B181,'Daily Log'!$F$18:$F$1017),0)","v":0},{"$f":"IFERROR($E181*SUMIF('Daily Log'!$H$18:$H$1017,$B181,'Daily Log'!$I$18:$I$1017),0)","v":0},{"$f":"IFERROR($E181*SUMIF('Daily Log'!$K$18:$K$1017,$B181,'Daily Log'!$L$18:$L$1017),0)","v":0},{"$f":"IFERROR($E181*SUMIF('Daily Log'!$N$18:$N$1017,$B181,'Daily Log'!$O$18:$O$1017),0)","v":0},{"$f":"IFERROR($E181*SUMIF('Daily Log'!$Q$18:$Q$1017,$B181,'Daily Log'!$R$18:$R$1017),0)","v":0},{"$f":"IFERROR($E181*SUMIF('Daily Log'!$T$18:$T$1017,$B181,'Daily Log'!$U$18:$U$1017),0)","v":0},{"$f":"IFERROR($E181*SUMIF('Daily Log'!$W$18:$W$1017,$B181,'Daily Log'!$X$18:$X$1017),0)","v":0},{"$f":"IFERROR($E181*SUMIF('Daily Log'!$Z$18:$Z$1017,$B181,'Daily Log'!$AA$18:$AA$1017),0)","v":0},{"$f":"IFERROR($E181*SUMIF('Daily Log'!$AC$18:$AC$1017,$B181,'Daily Log'!$AD$18:$AD$1017),0)","v":0},{"$f":"IFERROR($E181*SUMIF('Daily Log'!$AF$18:$AF$1017,$B181,'Daily Log'!$AG$18:$AG$1017),0)","v":0},{"$f":"IFERROR($E181*SUMIF('Daily Log'!$AI$18:$AI$1017,$B181,'Daily Log'!$AJ$18:$AJ$1017),0)","v":0},{"$f":"IFERROR($E181*SUMIF('Daily Log'!$AL$18:$AL$1017,$B181,'Daily Log'!$AM$18:$AM$1017),0)","v":0},{"$f":"IFERROR($E181*SUMIF('Daily Log'!$AO$18:$AO$1017,$B181,'Daily Log'!$AP$18:$AP$1017),0)","v":0},{"$f":"IFERROR($E181*SUMIF('Daily Log'!$AR$18:$AR$1017,$B181,'Daily Log'!$AS$18:$AS$1017),0)","v":0},{"$f":"IFERROR($E181*SUMIF('Daily Log'!$AU$18:$AU$1017,$B181,'Daily Log'!$AV$18:$AV$1017),0)","v":0},{"$f":"IFERROR($E181*SUMIF('Daily Log'!$AX$18:$AX$1017,$B181,'Daily Log'!$AY$18:$AY$1017),0)","v":0},{"$f":"IFERROR($E181*SUMIF('Daily Log'!$BA$18:$BA$1017,$B181,'Daily Log'!$BB$18:$BB$1017),0)","v":0},{"$f":"IFERROR($E181*SUMIF('Daily Log'!$BD$18:$BD$1017,$B181,'Daily Log'!$BE$18:$BE$1017),0)","v":0},{"$f":"IFERROR($E181*SUMIF('Daily Log'!$BG$18:$BG$1017,$B181,'Daily Log'!$BH$18:$BH$1017),0)","v":0},{"$f":"IFERROR($E181*SUMIF('Daily Log'!$BJ$18:$BJ$1017,$B181,'Daily Log'!$BK$18:$BK$1017),0)","v":0},{"$f":"IFERROR($E181*SUMIF('Daily Log'!$BM$18:$BM$1017,$B181,'Daily Log'!$BN$18:$BN$1017),0)","v":0},{"$f":"IFERROR($E181*SUMIF('Daily Log'!$BP$18:$BP$1017,$B181,'Daily Log'!$BQ$18:$BQ$1017),0)","v":0},{"$f":"IFERROR($E181*SUMIF('Daily Log'!$BS$18:$BS$1017,$B181,'Daily Log'!$BT$18:$BT$1017),0)","v":0},{"$f":"IFERROR($E181*SUMIF('Daily Log'!$BV$18:$BV$1017,$B181,'Daily Log'!$BW$18:$BW$1017),0)","v":0},{"$f":"IFERROR($E181*SUMIF('Daily Log'!$BY$18:$BY$1017,$B181,'Daily Log'!$BZ$18:$BZ$1017),0)","v":0},{"$f":"IFERROR($E181*SUMIF('Daily Log'!$CB$18:$CB$1017,$B181,'Daily Log'!$CC$18:$CC$1017),0)","v":0},{"$f":"IFERROR($E181*SUMIF('Daily Log'!$CE$18:$CE$1017,$B181,'Daily Log'!$CF$18:$CF$1017),0)","v":0},{"$f":"IFERROR($E181*SUMIF('Daily Log'!$CH$18:$CH$1017,$B181,'Daily Log'!$CI$18:$CI$1017),0)","v":0},{"$f":"IFERROR($E181*SUMIF('Daily Log'!$CK$18:$CK$1017,$B181,'Daily Log'!$CL$18:$CL$1017),0)","v":0},{"$f":"IFERROR($E181*SUMIF('Daily Log'!$CN$18:$CN$1017,$B181,'Daily Log'!$CO$18:$CO$1017),0)","v":0}]
[null,"SM02 2802:APPLE SM",null,"SO-COLD BEVERAGE",1,0,{"$f":"IFERROR($E182*SUMIF('Daily Log'!$B$18:$B$1017,$B182,'Daily Log'!$C$18:$C$1017),0)","v":0},{"$f":"IFERROR($E182*SUMIF('Daily Log'!$E$18:$E$1017,$B182,'Daily Log'!$F$18:$F$1017),0)","v":0},{"$f":"IFERROR($E182*SUMIF('Daily Log'!$H$18:$H$1017,$B182,'Daily Log'!$I$18:$I$1017),0)","v":0},{"$f":"IFERROR($E182*SUMIF('Daily Log'!$K$18:$K$1017,$B182,'Daily Log'!$L$18:$L$1017),0)","v":0},{"$f":"IFERROR($E182*SUMIF('Daily Log'!$N$18:$N$1017,$B182,'Daily Log'!$O$18:$O$1017),0)","v":0},{"$f":"IFERROR($E182*SUMIF('Daily Log'!$Q$18:$Q$1017,$B182,'Daily Log'!$R$18:$R$1017),0)","v":0},{"$f":"IFERROR($E182*SUMIF('Daily Log'!$T$18:$T$1017,$B182,'Daily Log'!$U$18:$U$1017),0)","v":0},{"$f":"IFERROR($E182*SUMIF('Daily Log'!$W$18:$W$1017,$B182,'Daily Log'!$X$18:$X$1017),0)","v":0},{"$f":"IFERROR($E182*SUMIF('Daily Log'!$Z$18:$Z$1017,$B182,'Daily Log'!$AA$18:$AA$1017),0)","v":0},{"$f":"IFERROR($E182*SUMIF('Daily Log'!$AC$18:$AC$1017,$B182,'Daily Log'!$AD$18:$AD$1017),0)","v":0},{"$f":"IFERROR($E182*SUMIF('Daily Log'!$AF$18:$AF$1017,$B182,'Daily Log'!$AG$18:$AG$1017),0)","v":0},{"$f":"IFERROR($E182*SUMIF('Daily Log'!$AI$18:$AI$1017,$B182,'Daily Log'!$AJ$18:$AJ$1017),0)","v":0},{"$f":"IFERROR($E182*SUMIF('Daily Log'!$AL$18:$AL$1017,$B182,'Daily Log'!$AM$18:$AM$1017),0)","v":0},{"$f":"IFERROR($E182*SUMIF('Daily Log'!$AO$18:$AO$1017,$B182,'Daily Log'!$AP$18:$AP$1017),0)","v":0},{"$f":"IFERROR($E182*SUMIF('Daily Log'!$AR$18:$AR$1017,$B182,'Daily Log'!$AS$18:$AS$1017),0)","v":0},{"$f":"IFERROR($E182*SUMIF('Daily Log'!$AU$18:$AU$1017,$B182,'Daily Log'!$AV$18:$AV$1017),0)","v":0},{"$f":"IFERROR($E182*SUMIF('Daily Log'!$AX$18:$AX$1017,$B182,'Daily Log'!$AY$18:$AY$1017),0)","v":0},{"$f":"IFERROR($E182*SUMIF('Daily Log'!$BA$18:$BA$1017,$B182,'Daily Log'!$BB$18:$BB$1017),0)","v":0},{"$f":"IFERROR($E182*SUMIF('Daily Log'!$BD$18:$BD$1017,$B182,'Daily Log'!$BE$18:$BE$1017),0)","v":0},{"$f":"IFERROR($E182*SUMIF('Daily Log'!$BG$18:$BG$1017,$B182,'Daily Log'!$BH$18:$BH$1017),0)","v":0},{"$f":"IFERROR($E182*SUMIF('Daily Log'!$BJ$18:$BJ$1017,$B182,'Daily Log'!$BK$18:$BK$1017),0)","v":0},{"$f":"IFERROR($E182*SUMIF('Daily Log'!$BM$18:$BM$1017,$B182,'Daily Log'!$BN$18:$BN$1017),0)","v":0},{"$f":"IFERROR($E182*SUMIF('Daily Log'!$BP$18:$BP$1017,$B182,'Daily Log'!$BQ$18:$BQ$1017),0)","v":0},{"$f":"IFERROR($E182*SUMIF('Daily Log'!$BS$18:$BS$1017,$B182,'Daily Log'!$BT$18:$BT$1017),0)","v":0},{"$f":"IFERROR($E182*SUMIF('Daily Log'!$BV$18:$BV$1017,$B182,'Daily Log'!$BW$18:$BW$1017),0)","v":0},{"$f":"IFERROR($E182*SUMIF('Daily Log'!$BY$18:$BY$1017,$B182,'Daily Log'!$BZ$18:$BZ$1017),0)","v":0},{"$f":"IFERROR($E182*SUMIF('Daily Log'!$CB$18:$CB$1017,$B182,'Daily Log'!$CC$18:$CC$1017),0)","v":0},{"$f":"IFERROR($E182*SUMIF('Daily Log'!$CE$18:$CE$1017,$B182,'Daily Log'!$CF$18:$CF$1017),0)","v":0},{"$f":"IFERROR($E182*SUMIF('Daily Log'!$CH$18:$CH$1017,$B182,'Daily Log'!$CI$18:$CI$1017),0)","v":0},{"$f":"IFERROR($E182*SUMIF('Daily Log'!$CK$18:$CK$1017,$B182,'Daily Log'!$CL$18:$CL$1017),0)","v":0},{"$f":"IFERROR($E182*SUMIF('Daily Log'!$CN$18:$CN$1017,$B182,'Daily Log'!$CO$18:$CO$1017),0)","v":0}]
[null,"SM03 2803:MANGO SM",null,"SO-COLD BEVERAGE",1,1,{"$f":"IFERROR($E183*SUMIF('Daily Log'!$B$18:$B$1017,$B183,'Daily Log'!$C$18:$C$1017),0)","v":0},{"$f":"IFERROR($E183*SUMIF('Daily Log'!$E$18:$E$1017,$B183,'Daily Log'!$F$18:$F$1017),0)","v":0},{"$f":"IFERROR($E183*SUMIF('Daily Log'!$H$18:$H$1017,$B183,'Daily Log'!$I$18:$I$1017),0)","v":0},{"$f":"IFERROR($E183*SUMIF('Daily Log'!$K$18:$K$1017,$B183,'Daily Log'!$L$18:$L$1017),0)","v":0},{"$f":"IFERROR($E183*SUMIF('Daily Log'!$N$18:$N$1017,$B183,'Daily Log'!$O$18:$O$1017),0)","v":0},{"$f":"IFERROR($E183*SUMIF('Daily Log'!$Q$18:$Q$1017,$B183,'Daily Log'!$R$18:$R$1017),0)","v":0},{"$f":"IFERROR($E183*SUMIF('Daily Log'!$T$18:$T$1017,$B183,'Daily Log'!$U$18:$U$1017),0)","v":0},{"$f":"IFERROR($E183*SUMIF('Daily Log'!$W$18:$W$1017,$B183,'Daily Log'!$X$18:$X$1017),0)","v":0},{"$f":"IFERROR($E183*SUMIF('Daily Log'!$Z$18:$Z$1017,$B183,'Daily Log'!$AA$18:$AA$1017),0)","v":1},{"$f":"IFERROR($E183*SUMIF('Daily Log'!$AC$18:$AC$1017,$B183,'Daily Log'!$AD$18:$AD$1017),0)","v":0},{"$f":"IFERROR($E183*SUMIF('Daily Log'!$AF$18:$AF$1017,$B183,'Daily Log'!$AG$18:$AG$1017),0)","v":0},{"$f":"IFERROR($E183*SUMIF('Daily Log'!$AI$18:$AI$1017,$B183,'Daily Log'!$AJ$18:$AJ$1017),0)","v":0},{"$f":"IFERROR($E183*SUMIF('Daily Log'!$AL$18:$AL$1017,$B183,'Daily Log'!$AM$18:$AM$1017),0)","v":0},{"$f":"IFERROR($E183*SUMIF('Daily Log'!$AO$18:$AO$1017,$B183,'Daily Log'!$AP$18:$AP$1017),0)","v":0},{"$f":"IFERROR($E183*SUMIF('Daily Log'!$AR$18:$AR$1017,$B183,'Daily Log'!$AS$18:$AS$1017),0)","v":0},{"$f":"IFERROR($E183*SUMIF('Daily Log'!$AU$18:$AU$1017,$B183,'Daily Log'!$AV$18:$AV$1017),0)","v":0},{"$f":"IFERROR($E183*SUMIF('Daily Log'!$AX$18:$AX$1017,$B183,'Daily Log'!$AY$18:$AY$1017),0)","v":0},{"$f":"IFERROR($E183*SUMIF('Daily Log'!$BA$18:$BA$1017,$B183,'Daily Log'!$BB$18:$BB$1017),0)","v":0},{"$f":"IFERROR($E183*SUMIF('Daily Log'!$BD$18:$BD$1017,$B183,'Daily Log'!$BE$18:$BE$1017),0)","v":0},{"$f":"IFERROR($E183*SUMIF('Daily Log'!$BG$18:$BG$1017,$B183,'Daily Log'!$BH$18:$BH$1017),0)","v":0},{"$f":"IFERROR($E183*SUMIF('Daily Log'!$BJ$18:$BJ$1017,$B183,'Daily Log'!$BK$18:$BK$1017),0)","v":0},{"$f":"IFERROR($E183*SUMIF('Daily Log'!$BM$18:$BM$1017,$B183,'Daily Log'!$BN$18:$BN$1017),0)","v":0},{"$f":"IFERROR($E183*SUMIF('Daily Log'!$BP$18:$BP$1017,$B183,'Daily Log'!$BQ$18:$BQ$1017),0)","v":0},{"$f":"IFERROR($E183*SUMIF('Daily Log'!$BS$18:$BS$1017,$B183,'Daily Log'!$BT$18:$BT$1017),0)","v":0},{"$f":"IFERROR($E183*SUMIF('Daily Log'!$BV$18:$BV$1017,$B183,'Daily Log'!$BW$18:$BW$1017),0)","v":0},{"$f":"IFERROR($E183*SUMIF('Daily Log'!$BY$18:$BY$1017,$B183,'Daily Log'!$BZ$18:$BZ$1017),0)","v":0},{"$f":"IFERROR($E183*SUMIF('Daily Log'!$CB$18:$CB$1017,$B183,'Daily Log'!$CC$18:$CC$1017),0)","v":0},{"$f":"IFERROR($E183*SUMIF('Daily Log'!$CE$18:$CE$1017,$B183,'Daily Log'!$CF$18:$CF$1017),0)","v":0},{"$f":"IFERROR($E183*SUMIF('Daily Log'!$CH$18:$CH$1017,$B183,'Daily Log'!$CI$18:$CI$1017),0)","v":0},{"$f":"IFERROR($E183*SUMIF('Daily Log'!$CK$18:$CK$1017,$B183,'Daily Log'!$CL$18:$CL$1017),0)","v":0},{"$f":"IFERROR($E183*SUMIF('Daily Log'!$CN$18:$CN$1017,$B183,'Daily Log'!$CO$18:$CO$1017),0)","v":0}]
[null,"SM04 2804:PASSION SM",null,"SO-COLD BEVERAGE",1,0,{"$f":"IFERROR($E184*SUMIF('Daily Log'!$B$18:$B$1017,$B184,'Daily Log'!$C$18:$C$1017),0)","v":0},{"$f":"IFERROR($E184*SUMIF('Daily Log'!$E$18:$E$1017,$B184,'Daily Log'!$F$18:$F$1017),0)","v":0},{"$f":"IFERROR($E184*SUMIF('Daily Log'!$H$18:$H$1017,$B184,'Daily Log'!$I$18:$I$1017),0)","v":0},{"$f":"IFERROR($E184*SUMIF('Daily Log'!$K$18:$K$1017,$B184,'Daily Log'!$L$18:$L$1017),0)","v":0},{"$f":"IFERROR($E184*SUMIF('Daily Log'!$N$18:$N$1017,$B184,'Daily Log'!$O$18:$O$1017),0)","v":0},{"$f":"IFERROR($E184*SUMIF('Daily Log'!$Q$18:$Q$1017,$B184,'Daily Log'!$R$18:$R$1017),0)","v":0},{"$f":"IFERROR($E184*SUMIF('Daily Log'!$T$18:$T$1017,$B184,'Daily Log'!$U$18:$U$1017),0)","v":0},{"$f":"IFERROR($E184*SUMIF('Daily Log'!$W$18:$W$1017,$B184,'Daily Log'!$X$18:$X$1017),0)","v":0},{"$f":"IFERROR($E184*SUMIF('Daily Log'!$Z$18:$Z$1017,$B184,'Daily Log'!$AA$18:$AA$1017),0)","v":0},{"$f":"IFERROR($E184*SUMIF('Daily Log'!$AC$18:$AC$1017,$B184,'Daily Log'!$AD$18:$AD$1017),0)","v":0},{"$f":"IFERROR($E184*SUMIF('Daily Log'!$AF$18:$AF$1017,$B184,'Daily Log'!$AG$18:$AG$1017),0)","v":0},{"$f":"IFERROR($E184*SUMIF('Daily Log'!$AI$18:$AI$1017,$B184,'Daily Log'!$AJ$18:$AJ$1017),0)","v":0},{"$f":"IFERROR($E184*SUMIF('Daily Log'!$AL$18:$AL$1017,$B184,'Daily Log'!$AM$18:$AM$1017),0)","v":0},{"$f":"IFERROR($E184*SUMIF('Daily Log'!$AO$18:$AO$1017,$B184,'Daily Log'!$AP$18:$AP$1017),0)","v":0},{"$f":"IFERROR($E184*SUMIF('Daily Log'!$AR$18:$AR$1017,$B184,'Daily Log'!$AS$18:$AS$1017),0)","v":0},{"$f":"IFERROR($E184*SUMIF('Daily Log'!$AU$18:$AU$1017,$B184,'Daily Log'!$AV$18:$AV$1017),0)","v":0},{"$f":"IFERROR($E184*SUMIF('Daily Log'!$AX$18:$AX$1017,$B184,'Daily Log'!$AY$18:$AY$1017),0)","v":0},{"$f":"IFERROR($E184*SUMIF('Daily Log'!$BA$18:$BA$1017,$B184,'Daily Log'!$BB$18:$BB$1017),0)","v":0},{"$f":"IFERROR($E184*SUMIF('Daily Log'!$BD$18:$BD$1017,$B184,'Daily Log'!$BE$18:$BE$1017),0)","v":0},{"$f":"IFERROR($E184*SUMIF('Daily Log'!$BG$18:$BG$1017,$B184,'Daily Log'!$BH$18:$BH$1017),0)","v":0},{"$f":"IFERROR($E184*SUMIF('Daily Log'!$BJ$18:$BJ$1017,$B184,'Daily Log'!$BK$18:$BK$1017),0)","v":0},{"$f":"IFERROR($E184*SUMIF('Daily Log'!$BM$18:$BM$1017,$B184,'Daily Log'!$BN$18:$BN$1017),0)","v":0},{"$f":"IFERROR($E184*SUMIF('Daily Log'!$BP$18:$BP$1017,$B184,'Daily Log'!$BQ$18:$BQ$1017),0)","v":0},{"$f":"IFERROR($E184*SUMIF('Daily Log'!$BS$18:$BS$1017,$B184,'Daily Log'!$BT$18:$BT$1017),0)","v":0},{"$f":"IFERROR($E184*SUMIF('Daily Log'!$BV$18:$BV$1017,$B184,'Daily Log'!$BW$18:$BW$1017),0)","v":0},{"$f":"IFERROR($E184*SUMIF('Daily Log'!$BY$18:$BY$1017,$B184,'Daily Log'!$BZ$18:$BZ$1017),0)","v":0},{"$f":"IFERROR($E184*SUMIF('Daily Log'!$CB$18:$CB$1017,$B184,'Daily Log'!$CC$18:$CC$1017),0)","v":0},{"$f":"IFERROR($E184*SUMIF('Daily Log'!$CE$18:$CE$1017,$B184,'Daily Log'!$CF$18:$CF$1017),0)","v":0},{"$f":"IFERROR($E184*SUMIF('Daily Log'!$CH$18:$CH$1017,$B184,'Daily Log'!$CI$18:$CI$1017),0)","v":0},{"$f":"IFERROR($E184*SUMIF('Daily Log'!$CK$18:$CK$1017,$B184,'Daily Log'!$CL$18:$CL$1017),0)","v":0},{"$f":"IFERROR($E184*SUMIF('Daily Log'!$CN$18:$CN$1017,$B184,'Daily Log'!$CO$18:$CO$1017),0)","v":0}]
[null,"SM05 2805:RIBENA SM",null,"SO-COLD BEVERAGE",1,0,{"$f":"IFERROR($E185*SUMIF('Daily Log'!$B$18:$B$1017,$B185,'Daily Log'!$C$18:$C$1017),0)","v":0},{"$f":"IFERROR($E185*SUMIF('Daily Log'!$E$18:$E$1017,$B185,'Daily Log'!$F$18:$F$1017),0)","v":0},{"$f":"IFERROR($E185*SUMIF('Daily Log'!$H$18:$H$1017,$B185,'Daily Log'!$I$18:$I$1017),0)","v":0},{"$f":"IFERROR($E185*SUMIF('Daily Log'!$K$18:$K$1017,$B185,'Daily Log'!$L$18:$L$1017),0)","v":0},{"$f":"IFERROR($E185*SUMIF('Daily Log'!$N$18:$N$1017,$B185,'Daily Log'!$O$18:$O$1017),0)","v":0},{"$f":"IFERROR($E185*SUMIF('Daily Log'!$Q$18:$Q$1017,$B185,'Daily Log'!$R$18:$R$1017),0)","v":0},{"$f":"IFERROR($E185*SUMIF('Daily Log'!$T$18:$T$1017,$B185,'Daily Log'!$U$18:$U$1017),0)","v":0},{"$f":"IFERROR($E185*SUMIF('Daily Log'!$W$18:$W$1017,$B185,'Daily Log'!$X$18:$X$1017),0)","v":0},{"$f":"IFERROR($E185*SUMIF('Daily Log'!$Z$18:$Z$1017,$B185,'Daily Log'!$AA$18:$AA$1017),0)","v":0},{"$f":"IFERROR($E185*SUMIF('Daily Log'!$AC$18:$AC$1017,$B185,'Daily Log'!$AD$18:$AD$1017),0)","v":0},{"$f":"IFERROR($E185*SUMIF('Daily Log'!$AF$18:$AF$1017,$B185,'Daily Log'!$AG$18:$AG$1017),0)","v":0},{"$f":"IFERROR($E185*SUMIF('Daily Log'!$AI$18:$AI$1017,$B185,'Daily Log'!$AJ$18:$AJ$1017),0)","v":0},{"$f":"IFERROR($E185*SUMIF('Daily Log'!$AL$18:$AL$1017,$B185,'Daily Log'!$AM$18:$AM$1017),0)","v":0},{"$f":"IFERROR($E185*SUMIF('Daily Log'!$AO$18:$AO$1017,$B185,'Daily Log'!$AP$18:$AP$1017),0)","v":0},{"$f":"IFERROR($E185*SUMIF('Daily Log'!$AR$18:$AR$1017,$B185,'Daily Log'!$AS$18:$AS$1017),0)","v":0},{"$f":"IFERROR($E185*SUMIF('Daily Log'!$AU$18:$AU$1017,$B185,'Daily Log'!$AV$18:$AV$1017),0)","v":0},{"$f":"IFERROR($E185*SUMIF('Daily Log'!$AX$18:$AX$1017,$B185,'Daily Log'!$AY$18:$AY$1017),0)","v":0},{"$f":"IFERROR($E185*SUMIF('Daily Log'!$BA$18:$BA$1017,$B185,'Daily Log'!$BB$18:$BB$1017),0)","v":0},{"$f":"IFERROR($E185*SUMIF('Daily Log'!$BD$18:$BD$1017,$B185,'Daily Log'!$BE$18:$BE$1017),0)","v":0},{"$f":"IFERROR($E185*SUMIF('Daily Log'!$BG$18:$BG$1017,$B185,'Daily Log'!$BH$18:$BH$1017),0)","v":0},{"$f":"IFERROR($E185*SUMIF('Daily Log'!$BJ$18:$BJ$1017,$B185,'Daily Log'!$BK$18:$BK$1017),0)","v":0},{"$f":"IFERROR($E185*SUMIF('Daily Log'!$BM$18:$BM$1017,$B185,'Daily Log'!$BN$18:$BN$1017),0)","v":0},{"$f":"IFERROR($E185*SUMIF('Daily Log'!$BP$18:$BP$1017,$B185,'Daily Log'!$BQ$18:$BQ$1017),0)","v":0},{"$f":"IFERROR($E185*SUMIF('Daily Log'!$BS$18:$BS$1017,$B185,'Daily Log'!$BT$18:$BT$1017),0)","v":0},{"$f":"IFERROR($E185*SUMIF('Daily Log'!$BV$18:$BV$1017,$B185,'Daily Log'!$BW$18:$BW$1017),0)","v":0},{"$f":"IFERROR($E185*SUMIF('Daily Log'!$BY$18:$BY$1017,$B185,'Daily Log'!$BZ$18:$BZ$1017),0)","v":0},{"$f":"IFERROR($E185*SUMIF('Daily Log'!$CB$18:$CB$1017,$B185,'Daily Log'!$CC$18:$CC$1017),0)","v":0},{"$f":"IFERROR($E185*SUMIF('Daily Log'!$CE$18:$CE$1017,$B185,'Daily Log'!$CF$18:$CF$1017),0)","v":0},{"$f":"IFERROR($E185*SUMIF('Daily Log'!$CH$18:$CH$1017,$B185,'Daily Log'!$CI$18:$CI$1017),0)","v":0},{"$f":"IFERROR($E185*SUMIF('Daily Log'!$CK$18:$CK$1017,$B185,'Daily Log'!$CL$18:$CL$1017),0)","v":0},{"$f":"IFERROR($E185*SUMIF('Daily Log'!$CN$18:$CN$1017,$B185,'Daily Log'!$CO$18:$CO$1017),0)","v":0}]
[null,"SM06 2820:CAPPU SM",null,"SO-COLD BEVERAGE",1,1,{"$f":"IFERROR($E186*SUMIF('Daily Log'!$B$18:$B$1017,$B186,'Daily Log'!$C$18:$C$1017),0)","v":0},{"$f":"IFERROR($E186*SUMIF('Daily Log'!$E$18:$E$1017,$B186,'Daily Log'!$F$18:$F$1017),0)","v":0},{"$f":"IFERROR($E186*SUMIF('Daily Log'!$H$18:$H$1017,$B186,'Daily Log'!$I$18:$I$1017),0)","v":0},{"$f":"IFERROR($E186*SUMIF('Daily Log'!$K$18:$K$1017,$B186,'Daily Log'!$L$18:$L$1017),0)","v":0},{"$f":"IFERROR($E186*SUMIF('Daily Log'!$N$18:$N$1017,$B186,'Daily Log'!$O$18:$O$1017),0)","v":0},{"$f":"IFERROR($E186*SUMIF('Daily Log'!$Q$18:$Q$1017,$B186,'Daily Log'!$R$18:$R$1017),0)","v":1},{"$f":"IFERROR($E186*SUMIF('Daily Log'!$T$18:$T$1017,$B186,'Daily Log'!$U$18:$U$1017),0)","v":0},{"$f":"IFERROR($E186*SUMIF('Daily Log'!$W$18:$W$1017,$B186,'Daily Log'!$X$18:$X$1017),0)","v":0},{"$f":"IFERROR($E186*SUMIF('Daily Log'!$Z$18:$Z$1017,$B186,'Daily Log'!$AA$18:$AA$1017),0)","v":0},{"$f":"IFERROR($E186*SUMIF('Daily Log'!$AC$18:$AC$1017,$B186,'Daily Log'!$AD$18:$AD$1017),0)","v":0},{"$f":"IFERROR($E186*SUMIF('Daily Log'!$AF$18:$AF$1017,$B186,'Daily Log'!$AG$18:$AG$1017),0)","v":0},{"$f":"IFERROR($E186*SUMIF('Daily Log'!$AI$18:$AI$1017,$B186,'Daily Log'!$AJ$18:$AJ$1017),0)","v":0},{"$f":"IFERROR($E186*SUMIF('Daily Log'!$AL$18:$AL$1017,$B186,'Daily Log'!$AM$18:$AM$1017),0)","v":0},{"$f":"IFERROR($E186*SUMIF('Daily Log'!$AO$18:$AO$1017,$B186,'Daily Log'!$AP$18:$AP$1017),0)","v":0},{"$f":"IFERROR($E186*SUMIF('Daily Log'!$AR$18:$AR$1017,$B186,'Daily Log'!$AS$18:$AS$1017),0)","v":0},{"$f":"IFERROR($E186*SUMIF('Daily Log'!$AU$18:$AU$1017,$B186,'Daily Log'!$AV$18:$AV$1017),0)","v":0},{"$f":"IFERROR($E186*SUMIF('Daily Log'!$AX$18:$AX$1017,$B186,'Daily Log'!$AY$18:$AY$1017),0)","v":0},{"$f":"IFERROR($E186*SUMIF('Daily Log'!$BA$18:$BA$1017,$B186,'Daily Log'!$BB$18:$BB$1017),0)","v":0},{"$f":"IFERROR($E186*SUMIF('Daily Log'!$BD$18:$BD$1017,$B186,'Daily Log'!$BE$18:$BE$1017),0)","v":0},{"$f":"IFERROR($E186*SUMIF('Daily Log'!$BG$18:$BG$1017,$B186,'Daily Log'!$BH$18:$BH$1017),0)","v":0},{"$f":"IFERROR($E186*SUMIF('Daily Log'!$BJ$18:$BJ$1017,$B186,'Daily Log'!$BK$18:$BK$1017),0)","v":0},{"$f":"IFERROR($E186*SUMIF('Daily Log'!$BM$18:$BM$1017,$B186,'Daily Log'!$BN$18:$BN$1017),0)","v":0},{"$f":"IFERROR($E186*SUMIF('Daily Log'!$BP$18:$BP$1017,$B186,'Daily Log'!$BQ$18:$BQ$1017),0)","v":0},{"$f":"IFERROR($E186*SUMIF('Daily Log'!$BS$18:$BS$1017,$B186,'Daily Log'!$BT$18:$BT$1017),0)","v":0},{"$f":"IFERROR($E186*SUMIF('Daily Log'!$BV$18:$BV$1017,$B186,'Daily Log'!$BW$18:$BW$1017),0)","v":0},{"$f":"IFERROR($E186*SUMIF('Daily Log'!$BY$18:$BY$1017,$B186,'Daily Log'!$BZ$18:$BZ$1017),0)","v":0},{"$f":"IFERROR($E186*SUMIF('Daily Log'!$CB$18:$CB$1017,$B186,'Daily Log'!$CC$18:$CC$1017),0)","v":0},{"$f":"IFERROR($E186*SUMIF('Daily Log'!$CE$18:$CE$1017,$B186,'Daily Log'!$CF$18:$CF$1017),0)","v":0},{"$f":"IFERROR($E186*SUMIF('Daily Log'!$CH$18:$CH$1017,$B186,'Daily Log'!$CI$18:$CI$1017),0)","v":0},{"$f":"IFERROR($E186*SUMIF('Daily Log'!$CK$18:$CK$1017,$B186,'Daily Log'!$CL$18:$CL$1017),0)","v":0},{"$f":"IFERROR($E186*SUMIF('Daily Log'!$CN$18:$CN$1017,$B186,'Daily Log'!$CO$18:$CO$1017),0)","v":0}]
[null,"SM10 2821:CHOCO SM",null,"SO-COLD BEVERAGE",1,0,{"$f":"IFERROR($E187*SUMIF('Daily Log'!$B$18:$B$1017,$B187,'Daily Log'!$C$18:$C$1017),0)","v":0},{"$f":"IFERROR($E187*SUMIF('Daily Log'!$E$18:$E$1017,$B187,'Daily Log'!$F$18:$F$1017),0)","v":0},{"$f":"IFERROR($E187*SUMIF('Daily Log'!$H$18:$H$1017,$B187,'Daily Log'!$I$18:$I$1017),0)","v":0},{"$f":"IFERROR($E187*SUMIF('Daily Log'!$K$18:$K$1017,$B187,'Daily Log'!$L$18:$L$1017),0)","v":0},{"$f":"IFERROR($E187*SUMIF('Daily Log'!$N$18:$N$1017,$B187,'Daily Log'!$O$18:$O$1017),0)","v":0},{"$f":"IFERROR($E187*SUMIF('Daily Log'!$Q$18:$Q$1017,$B187,'Daily Log'!$R$18:$R$1017),0)","v":0},{"$f":"IFERROR($E187*SUMIF('Daily Log'!$T$18:$T$1017,$B187,'Daily Log'!$U$18:$U$1017),0)","v":0},{"$f":"IFERROR($E187*SUMIF('Daily Log'!$W$18:$W$1017,$B187,'Daily Log'!$X$18:$X$1017),0)","v":0},{"$f":"IFERROR($E187*SUMIF('Daily Log'!$Z$18:$Z$1017,$B187,'Daily Log'!$AA$18:$AA$1017),0)","v":0},{"$f":"IFERROR($E187*SUMIF('Daily Log'!$AC$18:$AC$1017,$B187,'Daily Log'!$AD$18:$AD$1017),0)","v":0},{"$f":"IFERROR($E187*SUMIF('Daily Log'!$AF$18:$AF$1017,$B187,'Daily Log'!$AG$18:$AG$1017),0)","v":0},{"$f":"IFERROR($E187*SUMIF('Daily Log'!$AI$18:$AI$1017,$B187,'Daily Log'!$AJ$18:$AJ$1017),0)","v":0},{"$f":"IFERROR($E187*SUMIF('Daily Log'!$AL$18:$AL$1017,$B187,'Daily Log'!$AM$18:$AM$1017),0)","v":0},{"$f":"IFERROR($E187*SUMIF('Daily Log'!$AO$18:$AO$1017,$B187,'Daily Log'!$AP$18:$AP$1017),0)","v":0},{"$f":"IFERROR($E187*SUMIF('Daily Log'!$AR$18:$AR$1017,$B187,'Daily Log'!$AS$18:$AS$1017),0)","v":0},{"$f":"IFERROR($E187*SUMIF('Daily Log'!$AU$18:$AU$1017,$B187,'Daily Log'!$AV$18:$AV$1017),0)","v":0},{"$f":"IFERROR($E187*SUMIF('Daily Log'!$AX$18:$AX$1017,$B187,'Daily Log'!$AY$18:$AY$1017),0)","v":0},{"$f":"IFERROR($E187*SUMIF('Daily Log'!$BA$18:$BA$1017,$B187,'Daily Log'!$BB$18:$BB$1017),0)","v":0},{"$f":"IFERROR($E187*SUMIF('Daily Log'!$BD$18:$BD$1017,$B187,'Daily Log'!$BE$18:$BE$1017),0)","v":0},{"$f":"IFERROR($E187*SUMIF('Daily Log'!$BG$18:$BG$1017,$B187,'Daily Log'!$BH$18:$BH$1017),0)","v":0},{"$f":"IFERROR($E187*SUMIF('Daily Log'!$BJ$18:$BJ$1017,$B187,'Daily Log'!$BK$18:$BK$1017),0)","v":0},{"$f":"IFERROR($E187*SUMIF('Daily Log'!$BM$18:$BM$1017,$B187,'Daily Log'!$BN$18:$BN$1017),0)","v":0},{"$f":"IFERROR($E187*SUMIF('Daily Log'!$BP$18:$BP$1017,$B187,'Daily Log'!$BQ$18:$BQ$1017),0)","v":0},{"$f":"IFERROR($E187*SUMIF('Daily Log'!$BS$18:$BS$1017,$B187,'Daily Log'!$BT$18:$BT$1017),0)","v":0},{"$f":"IFERROR($E187*SUMIF('Daily Log'!$BV$18:$BV$1017,$B187,'Daily Log'!$BW$18:$BW$1017),0)","v":0},{"$f":"IFERROR($E187*SUMIF('Daily Log'!$BY$18:$BY$1017,$B187,'Daily Log'!$BZ$18:$BZ$1017),0)","v":0},{"$f":"IFERROR($E187*SUMIF('Daily Log'!$CB$18:$CB$1017,$B187,'Daily Log'!$CC$18:$CC$1017),0)","v":0},{"$f":"IFERROR($E187*SUMIF('Daily Log'!$CE$18:$CE$1017,$B187,'Daily Log'!$CF$18:$CF$1017),0)","v":0},{"$f":"IFERROR($E187*SUMIF('Daily Log'!$CH$18:$CH$1017,$B187,'Daily Log'!$CI$18:$CI$1017),0)","v":0},{"$f":"IFERROR($E187*SUMIF('Daily Log'!$CK$18:$CK$1017,$B187,'Daily Log'!$CL$18:$CL$1017),0)","v":0},{"$f":"IFERROR($E187*SUMIF('Daily Log'!$CN$18:$CN$1017,$B187,'Daily Log'!$CO$18:$CO$1017),0)","v":0}]
[null,"SM08 2822:MOCHA SM",null,"SO-COLD BEVERAGE",1,0,{"$f":"IFERROR($E188*SUMIF('Daily Log'!$B$18:$B$1017,$B188,'Daily Log'!$C$18:$C$1017),0)","v":0},{"$f":"IFERROR($E188*SUMIF('Daily Log'!$E$18:$E$1017,$B188,'Daily Log'!$F$18:$F$1017),0)","v":0},{"$f":"IFERROR($E188*SUMIF('Daily Log'!$H$18:$H$1017,$B188,'Daily Log'!$I$18:$I$1017),0)","v":0},{"$f":"IFERROR($E188*SUMIF('Daily Log'!$K$18:$K$1017,$B188,'Daily Log'!$L$18:$L$1017),0)","v":0},{"$f":"IFERROR($E188*SUMIF('Daily Log'!$N$18:$N$1017,$B188,'Daily Log'!$O$18:$O$1017),0)","v":0},{"$f":"IFERROR($E188*SUMIF('Daily Log'!$Q$18:$Q$1017,$B188,'Daily Log'!$R$18:$R$1017),0)","v":0},{"$f":"IFERROR($E188*SUMIF('Daily Log'!$T$18:$T$1017,$B188,'Daily Log'!$U$18:$U$1017),0)","v":0},{"$f":"IFERROR($E188*SUMIF('Daily Log'!$W$18:$W$1017,$B188,'Daily Log'!$X$18:$X$1017),0)","v":0},{"$f":"IFERROR($E188*SUMIF('Daily Log'!$Z$18:$Z$1017,$B188,'Daily Log'!$AA$18:$AA$1017),0)","v":0},{"$f":"IFERROR($E188*SUMIF('Daily Log'!$AC$18:$AC$1017,$B188,'Daily Log'!$AD$18:$AD$1017),0)","v":0},{"$f":"IFERROR($E188*SUMIF('Daily Log'!$AF$18:$AF$1017,$B188,'Daily Log'!$AG$18:$AG$1017),0)","v":0},{"$f":"IFERROR($E188*SUMIF('Daily Log'!$AI$18:$AI$1017,$B188,'Daily Log'!$AJ$18:$AJ$1017),0)","v":0},{"$f":"IFERROR($E188*SUMIF('Daily Log'!$AL$18:$AL$1017,$B188,'Daily Log'!$AM$18:$AM$1017),0)","v":0},{"$f":"IFERROR($E188*SUMIF('Daily Log'!$AO$18:$AO$1017,$B188,'Daily Log'!$AP$18:$AP$1017),0)","v":0},{"$f":"IFERROR($E188*SUMIF('Daily Log'!$AR$18:$AR$1017,$B188,'Daily Log'!$AS$18:$AS$1017),0)","v":0},{"$f":"IFERROR($E188*SUMIF('Daily Log'!$AU$18:$AU$1017,$B188,'Daily Log'!$AV$18:$AV$1017),0)","v":0},{"$f":"IFERROR($E188*SUMIF('Daily Log'!$AX$18:$AX$1017,$B188,'Daily Log'!$AY$18:$AY$1017),0)","v":0},{"$f":"IFERROR($E188*SUMIF('Daily Log'!$BA$18:$BA$1017,$B188,'Daily Log'!$BB$18:$BB$1017),0)","v":0},{"$f":"IFERROR($E188*SUMIF('Daily Log'!$BD$18:$BD$1017,$B188,'Daily Log'!$BE$18:$BE$1017),0)","v":0},{"$f":"IFERROR($E188*SUMIF('Daily Log'!$BG$18:$BG$1017,$B188,'Daily Log'!$BH$18:$BH$1017),0)","v":0},{"$f":"IFERROR($E188*SUMIF('Daily Log'!$BJ$18:$BJ$1017,$B188,'Daily Log'!$BK$18:$BK$1017),0)","v":0},{"$f":"IFERROR($E188*SUMIF('Daily Log'!$BM$18:$BM$1017,$B188,'Daily Log'!$BN$18:$BN$1017),0)","v":0},{"$f":"IFERROR($E188*SUMIF('Daily Log'!$BP$18:$BP$1017,$B188,'Daily Log'!$BQ$18:$BQ$1017),0)","v":0},{"$f":"IFERROR($E188*SUMIF('Daily Log'!$BS$18:$BS$1017,$B188,'Daily Log'!$BT$18:$BT$1017),0)","v":0},{"$f":"IFERROR($E188*SUMIF('Daily Log'!$BV$18:$BV$1017,$B188,'Daily Log'!$BW$18:$BW$1017),0)","v":0},{"$f":"IFERROR($E188*SUMIF('Daily Log'!$BY$18:$BY$1017,$B188,'Daily Log'!$BZ$18:$BZ$1017),0)","v":0},{"$f":"IFERROR($E188*SUMIF('Daily Log'!$CB$18:$CB$1017,$B188,'Daily Log'!$CC$18:$CC$1017),0)","v":0},{"$f":"IFERROR($E188*SUMIF('Daily Log'!$CE$18:$CE$1017,$B188,'Daily Log'!$CF$18:$CF$1017),0)","v":0},{"$f":"IFERROR($E188*SUMIF('Daily Log'!$CH$18:$CH$1017,$B188,'Daily Log'!$CI$18:$CI$1017),0)","v":0},{"$f":"IFERROR($E188*SUMIF('Daily Log'!$CK$18:$CK$1017,$B188,'Daily Log'!$CL$18:$CL$1017),0)","v":0},{"$f":"IFERROR($E188*SUMIF('Daily Log'!$CN$18:$CN$1017,$B188,'Daily Log'!$CO$18:$CO$1017),0)","v":0}]
[null,"JD01 2923:7 UP JUG",null,"SO-COLD BEVERAGE",1,0,{"$f":"IFERROR($E189*SUMIF('Daily Log'!$B$18:$B$1017,$B189,'Daily Log'!$C$18:$C$1017),0)","v":0},{"$f":"IFERROR($E189*SUMIF('Daily Log'!$E$18:$E$1017,$B189,'Daily Log'!$F$18:$F$1017),0)","v":0},{"$f":"IFERROR($E189*SUMIF('Daily Log'!$H$18:$H$1017,$B189,'Daily Log'!$I$18:$I$1017),0)","v":0},{"$f":"IFERROR($E189*SUMIF('Daily Log'!$K$18:$K$1017,$B189,'Daily Log'!$L$18:$L$1017),0)","v":0},{"$f":"IFERROR($E189*SUMIF('Daily Log'!$N$18:$N$1017,$B189,'Daily Log'!$O$18:$O$1017),0)","v":0},{"$f":"IFERROR($E189*SUMIF('Daily Log'!$Q$18:$Q$1017,$B189,'Daily Log'!$R$18:$R$1017),0)","v":0},{"$f":"IFERROR($E189*SUMIF('Daily Log'!$T$18:$T$1017,$B189,'Daily Log'!$U$18:$U$1017),0)","v":0},{"$f":"IFERROR($E189*SUMIF('Daily Log'!$W$18:$W$1017,$B189,'Daily Log'!$X$18:$X$1017),0)","v":0},{"$f":"IFERROR($E189*SUMIF('Daily Log'!$Z$18:$Z$1017,$B189,'Daily Log'!$AA$18:$AA$1017),0)","v":0},{"$f":"IFERROR($E189*SUMIF('Daily Log'!$AC$18:$AC$1017,$B189,'Daily Log'!$AD$18:$AD$1017),0)","v":0},{"$f":"IFERROR($E189*SUMIF('Daily Log'!$AF$18:$AF$1017,$B189,'Daily Log'!$AG$18:$AG$1017),0)","v":0},{"$f":"IFERROR($E189*SUMIF('Daily Log'!$AI$18:$AI$1017,$B189,'Daily Log'!$AJ$18:$AJ$1017),0)","v":0},{"$f":"IFERROR($E189*SUMIF('Daily Log'!$AL$18:$AL$1017,$B189,'Daily Log'!$AM$18:$AM$1017),0)","v":0},{"$f":"IFERROR($E189*SUMIF('Daily Log'!$AO$18:$AO$1017,$B189,'Daily Log'!$AP$18:$AP$1017),0)","v":0},{"$f":"IFERROR($E189*SUMIF('Daily Log'!$AR$18:$AR$1017,$B189,'Daily Log'!$AS$18:$AS$1017),0)","v":0},{"$f":"IFERROR($E189*SUMIF('Daily Log'!$AU$18:$AU$1017,$B189,'Daily Log'!$AV$18:$AV$1017),0)","v":0},{"$f":"IFERROR($E189*SUMIF('Daily Log'!$AX$18:$AX$1017,$B189,'Daily Log'!$AY$18:$AY$1017),0)","v":0},{"$f":"IFERROR($E189*SUMIF('Daily Log'!$BA$18:$BA$1017,$B189,'Daily Log'!$BB$18:$BB$1017),0)","v":0},{"$f":"IFERROR($E189*SUMIF('Daily Log'!$BD$18:$BD$1017,$B189,'Daily Log'!$BE$18:$BE$1017),0)","v":0},{"$f":"IFERROR($E189*SUMIF('Daily Log'!$BG$18:$BG$1017,$B189,'Daily Log'!$BH$18:$BH$1017),0)","v":0},{"$f":"IFERROR($E189*SUMIF('Daily Log'!$BJ$18:$BJ$1017,$B189,'Daily Log'!$BK$18:$BK$1017),0)","v":0},{"$f":"IFERROR($E189*SUMIF('Daily Log'!$BM$18:$BM$1017,$B189,'Daily Log'!$BN$18:$BN$1017),0)","v":0},{"$f":"IFERROR($E189*SUMIF('Daily Log'!$BP$18:$BP$1017,$B189,'Daily Log'!$BQ$18:$BQ$1017),0)","v":0},{"$f":"IFERROR($E189*SUMIF('Daily Log'!$BS$18:$BS$1017,$B189,'Daily Log'!$BT$18:$BT$1017),0)","v":0},{"$f":"IFERROR($E189*SUMIF('Daily Log'!$BV$18:$BV$1017,$B189,'Daily Log'!$BW$18:$BW$1017),0)","v":0},{"$f":"IFERROR($E189*SUMIF('Daily Log'!$BY$18:$BY$1017,$B189,'Daily Log'!$BZ$18:$BZ$1017),0)","v":0},{"$f":"IFERROR($E189*SUMIF('Daily Log'!$CB$18:$CB$1017,$B189,'Daily Log'!$CC$18:$CC$1017),0)","v":0},{"$f":"IFERROR($E189*SUMIF('Daily Log'!$CE$18:$CE$1017,$B189,'Daily Log'!$CF$18:$CF$1017),0)","v":0},{"$f":"IFERROR($E189*SUMIF('Daily Log'!$CH$18:$CH$1017,$B189,'Daily Log'!$CI$18:$CI$1017),0)","v":0},{"$f":"IFERROR($E189*SUMIF('Daily Log'!$CK$18:$CK$1017,$B189,'Daily Log'!$CL$18:$CL$1017),0)","v":0},{"$f":"IFERROR($E189*SUMIF('Daily Log'!$CN$18:$CN$1017,$B189,'Daily Log'!$CO$18:$CO$1017),0)","v":0}]
[null,"JD02 2910:GRN TEA JUG",null,"SO-COLD BEVERAGE",1,0,{"$f":"IFERROR($E190*SUMIF('Daily Log'!$B$18:$B$1017,$B190,'Daily Log'!$C$18:$C$1017),0)","v":0},{"$f":"IFERROR($E190*SUMIF('Daily Log'!$E$18:$E$1017,$B190,'Daily Log'!$F$18:$F$1017),0)","v":0},{"$f":"IFERROR($E190*SUMIF('Daily Log'!$H$18:$H$1017,$B190,'Daily Log'!$I$18:$I$1017),0)","v":0},{"$f":"IFERROR($E190*SUMIF('Daily Log'!$K$18:$K$1017,$B190,'Daily Log'!$L$18:$L$1017),0)","v":0},{"$f":"IFERROR($E190*SUMIF('Daily Log'!$N$18:$N$1017,$B190,'Daily Log'!$O$18:$O$1017),0)","v":0},{"$f":"IFERROR($E190*SUMIF('Daily Log'!$Q$18:$Q$1017,$B190,'Daily Log'!$R$18:$R$1017),0)","v":0},{"$f":"IFERROR($E190*SUMIF('Daily Log'!$T$18:$T$1017,$B190,'Daily Log'!$U$18:$U$1017),0)","v":0},{"$f":"IFERROR($E190*SUMIF('Daily Log'!$W$18:$W$1017,$B190,'Daily Log'!$X$18:$X$1017),0)","v":0},{"$f":"IFERROR($E190*SUMIF('Daily Log'!$Z$18:$Z$1017,$B190,'Daily Log'!$AA$18:$AA$1017),0)","v":0},{"$f":"IFERROR($E190*SUMIF('Daily Log'!$AC$18:$AC$1017,$B190,'Daily Log'!$AD$18:$AD$1017),0)","v":0},{"$f":"IFERROR($E190*SUMIF('Daily Log'!$AF$18:$AF$1017,$B190,'Daily Log'!$AG$18:$AG$1017),0)","v":0},{"$f":"IFERROR($E190*SUMIF('Daily Log'!$AI$18:$AI$1017,$B190,'Daily Log'!$AJ$18:$AJ$1017),0)","v":0},{"$f":"IFERROR($E190*SUMIF('Daily Log'!$AL$18:$AL$1017,$B190,'Daily Log'!$AM$18:$AM$1017),0)","v":0},{"$f":"IFERROR($E190*SUMIF('Daily Log'!$AO$18:$AO$1017,$B190,'Daily Log'!$AP$18:$AP$1017),0)","v":0},{"$f":"IFERROR($E190*SUMIF('Daily Log'!$AR$18:$AR$1017,$B190,'Daily Log'!$AS$18:$AS$1017),0)","v":0},{"$f":"IFERROR($E190*SUMIF('Daily Log'!$AU$18:$AU$1017,$B190,'Daily Log'!$AV$18:$AV$1017),0)","v":0},{"$f":"IFERROR($E190*SUMIF('Daily Log'!$AX$18:$AX$1017,$B190,'Daily Log'!$AY$18:$AY$1017),0)","v":0},{"$f":"IFERROR($E190*SUMIF('Daily Log'!$BA$18:$BA$1017,$B190,'Daily Log'!$BB$18:$BB$1017),0)","v":0},{"$f":"IFERROR($E190*SUMIF('Daily Log'!$BD$18:$BD$1017,$B190,'Daily Log'!$BE$18:$BE$1017),0)","v":0},{"$f":"IFERROR($E190*SUMIF('Daily Log'!$BG$18:$BG$1017,$B190,'Daily Log'!$BH$18:$BH$1017),0)","v":0},{"$f":"IFERROR($E190*SUMIF('Daily Log'!$BJ$18:$BJ$1017,$B190,'Daily Log'!$BK$18:$BK$1017),0)","v":0},{"$f":"IFERROR($E190*SUMIF('Daily Log'!$BM$18:$BM$1017,$B190,'Daily Log'!$BN$18:$BN$1017),0)","v":0},{"$f":"IFERROR($E190*SUMIF('Daily Log'!$BP$18:$BP$1017,$B190,'Daily Log'!$BQ$18:$BQ$1017),0)","v":0},{"$f":"IFERROR($E190*SUMIF('Daily Log'!$BS$18:$BS$1017,$B190,'Daily Log'!$BT$18:$BT$1017),0)","v":0},{"$f":"IFERROR($E190*SUMIF('Daily Log'!$BV$18:$BV$1017,$B190,'Daily Log'!$BW$18:$BW$1017),0)","v":0},{"$f":"IFERROR($E190*SUMIF('Daily Log'!$BY$18:$BY$1017,$B190,'Daily Log'!$BZ$18:$BZ$1017),0)","v":0},{"$f":"IFERROR($E190*SUMIF('Daily Log'!$CB$18:$CB$1017,$B190,'Daily Log'!$CC$18:$CC$1017),0)","v":0},{"$f":"IFERROR($E190*SUMIF('Daily Log'!$CE$18:$CE$1017,$B190,'Daily Log'!$CF$18:$CF$1017),0)","v":0},{"$f":"IFERROR($E190*SUMIF('Daily Log'!$CH$18:$CH$1017,$B190,'Daily Log'!$CI$18:$CI$1017),0)","v":0},{"$f":"IFERROR($E190*SUMIF('Daily Log'!$CK$18:$CK$1017,$B190,'Daily Log'!$CL$18:$CL$1017),0)","v":0},{"$f":"IFERROR($E190*SUMIF('Daily Log'!$CN$18:$CN$1017,$B190,'Daily Log'!$CO$18:$CO$1017),0)","v":0}]
[null,"JD03 2925:PEPSI JUG",null,"SO-COLD BEVERAGE",1,0,{"$f":"IFERROR($E191*SUMIF('Daily Log'!$B$18:$B$1017,$B191,'Daily Log'!$C$18:$C$1017),0)","v":0},{"$f":"IFERROR($E191*SUMIF('Daily Log'!$E$18:$E$1017,$B191,'Daily Log'!$F$18:$F$1017),0)","v":0},{"$f":"IFERROR($E191*SUMIF('Daily Log'!$H$18:$H$1017,$B191,'Daily Log'!$I$18:$I$1017),0)","v":0},{"$f":"IFERROR($E191*SUMIF('Daily Log'!$K$18:$K$1017,$B191,'Daily Log'!$L$18:$L$1017),0)","v":0},{"$f":"IFERROR($E191*SUMIF('Daily Log'!$N$18:$N$1017,$B191,'Daily Log'!$O$18:$O$1017),0)","v":0},{"$f":"IFERROR($E191*SUMIF('Daily Log'!$Q$18:$Q$1017,$B191,'Daily Log'!$R$18:$R$1017),0)","v":0},{"$f":"IFERROR($E191*SUMIF('Daily Log'!$T$18:$T$1017,$B191,'Daily Log'!$U$18:$U$1017),0)","v":0},{"$f":"IFERROR($E191*SUMIF('Daily Log'!$W$18:$W$1017,$B191,'Daily Log'!$X$18:$X$1017),0)","v":0},{"$f":"IFERROR($E191*SUMIF('Daily Log'!$Z$18:$Z$1017,$B191,'Daily Log'!$AA$18:$AA$1017),0)","v":0},{"$f":"IFERROR($E191*SUMIF('Daily Log'!$AC$18:$AC$1017,$B191,'Daily Log'!$AD$18:$AD$1017),0)","v":0},{"$f":"IFERROR($E191*SUMIF('Daily Log'!$AF$18:$AF$1017,$B191,'Daily Log'!$AG$18:$AG$1017),0)","v":0},{"$f":"IFERROR($E191*SUMIF('Daily Log'!$AI$18:$AI$1017,$B191,'Daily Log'!$AJ$18:$AJ$1017),0)","v":0},{"$f":"IFERROR($E191*SUMIF('Daily Log'!$AL$18:$AL$1017,$B191,'Daily Log'!$AM$18:$AM$1017),0)","v":0},{"$f":"IFERROR($E191*SUMIF('Daily Log'!$AO$18:$AO$1017,$B191,'Daily Log'!$AP$18:$AP$1017),0)","v":0},{"$f":"IFERROR($E191*SUMIF('Daily Log'!$AR$18:$AR$1017,$B191,'Daily Log'!$AS$18:$AS$1017),0)","v":0},{"$f":"IFERROR($E191*SUMIF('Daily Log'!$AU$18:$AU$1017,$B191,'Daily Log'!$AV$18:$AV$1017),0)","v":0},{"$f":"IFERROR($E191*SUMIF('Daily Log'!$AX$18:$AX$1017,$B191,'Daily Log'!$AY$18:$AY$1017),0)","v":0},{"$f":"IFERROR($E191*SUMIF('Daily Log'!$BA$18:$BA$1017,$B191,'Daily Log'!$BB$18:$BB$1017),0)","v":0},{"$f":"IFERROR($E191*SUMIF('Daily Log'!$BD$18:$BD$1017,$B191,'Daily Log'!$BE$18:$BE$1017),0)","v":0},{"$f":"IFERROR($E191*SUMIF('Daily Log'!$BG$18:$BG$1017,$B191,'Daily Log'!$BH$18:$BH$1017),0)","v":0},{"$f":"IFERROR($E191*SUMIF('Daily Log'!$BJ$18:$BJ$1017,$B191,'Daily Log'!$BK$18:$BK$1017),0)","v":0},{"$f":"IFERROR($E191*SUMIF('Daily Log'!$BM$18:$BM$1017,$B191,'Daily Log'!$BN$18:$BN$1017),0)","v":0},{"$f":"IFERROR($E191*SUMIF('Daily Log'!$BP$18:$BP$1017,$B191,'Daily Log'!$BQ$18:$BQ$1017),0)","v":0},{"$f":"IFERROR($E191*SUMIF('Daily Log'!$BS$18:$BS$1017,$B191,'Daily Log'!$BT$18:$BT$1017),0)","v":0},{"$f":"IFERROR($E191*SUMIF('Daily Log'!$BV$18:$BV$1017,$B191,'Daily Log'!$BW$18:$BW$1017),0)","v":0},{"$f":"IFERROR($E191*SUMIF('Daily Log'!$BY$18:$BY$1017,$B191,'Daily Log'!$BZ$18:$BZ$1017),0)","v":0},{"$f":"IFERROR($E191*SUMIF('Daily Log'!$CB$18:$CB$1017,$B191,'Daily Log'!$CC$18:$CC$1017),0)","v":0},{"$f":"IFERROR($E191*SUMIF('Daily Log'!$CE$18:$CE$1017,$B191,'Daily Log'!$CF$18:$CF$1017),0)","v":0},{"$f":"IFERROR($E191*SUMIF('Daily Log'!$CH$18:$CH$1017,$B191,'Daily Log'!$CI$18:$CI$1017),0)","v":0},{"$f":"IFERROR($E191*SUMIF('Daily Log'!$CK$18:$CK$1017,$B191,'Daily Log'!$CL$18:$CL$1017),0)","v":0},{"$f":"IFERROR($E191*SUMIF('Daily Log'!$CN$18:$CN$1017,$B191,'Daily Log'!$CO$18:$CO$1017),0)","v":0}]
[null,"JD04 2927:SODA JUG",null,"SO-COLD BEVERAGE",1,0,{"$f":"IFERROR($E192*SUMIF('Daily Log'!$B$18:$B$1017,$B192,'Daily Log'!$C$18:$C$1017),0)","v":0},{"$f":"IFERROR($E192*SUMIF('Daily Log'!$E$18:$E$1017,$B192,'Daily Log'!$F$18:$F$1017),0)","v":0},{"$f":"IFERROR($E192*SUMIF('Daily Log'!$H$18:$H$1017,$B192,'Daily Log'!$I$18:$I$1017),0)","v":0},{"$f":"IFERROR($E192*SUMIF('Daily Log'!$K$18:$K$1017,$B192,'Daily Log'!$L$18:$L$1017),0)","v":0},{"$f":"IFERROR($E192*SUMIF('Daily Log'!$N$18:$N$1017,$B192,'Daily Log'!$O$18:$O$1017),0)","v":0},{"$f":"IFERROR($E192*SUMIF('Daily Log'!$Q$18:$Q$1017,$B192,'Daily Log'!$R$18:$R$1017),0)","v":0},{"$f":"IFERROR($E192*SUMIF('Daily Log'!$T$18:$T$1017,$B192,'Daily Log'!$U$18:$U$1017),0)","v":0},{"$f":"IFERROR($E192*SUMIF('Daily Log'!$W$18:$W$1017,$B192,'Daily Log'!$X$18:$X$1017),0)","v":0},{"$f":"IFERROR($E192*SUMIF('Daily Log'!$Z$18:$Z$1017,$B192,'Daily Log'!$AA$18:$AA$1017),0)","v":0},{"$f":"IFERROR($E192*SUMIF('Daily Log'!$AC$18:$AC$1017,$B192,'Daily Log'!$AD$18:$AD$1017),0)","v":0},{"$f":"IFERROR($E192*SUMIF('Daily Log'!$AF$18:$AF$1017,$B192,'Daily Log'!$AG$18:$AG$1017),0)","v":0},{"$f":"IFERROR($E192*SUMIF('Daily Log'!$AI$18:$AI$1017,$B192,'Daily Log'!$AJ$18:$AJ$1017),0)","v":0},{"$f":"IFERROR($E192*SUMIF('Daily Log'!$AL$18:$AL$1017,$B192,'Daily Log'!$AM$18:$AM$1017),0)","v":0},{"$f":"IFERROR($E192*SUMIF('Daily Log'!$AO$18:$AO$1017,$B192,'Daily Log'!$AP$18:$AP$1017),0)","v":0},{"$f":"IFERROR($E192*SUMIF('Daily Log'!$AR$18:$AR$1017,$B192,'Daily Log'!$AS$18:$AS$1017),0)","v":0},{"$f":"IFERROR($E192*SUMIF('Daily Log'!$AU$18:$AU$1017,$B192,'Daily Log'!$AV$18:$AV$1017),0)","v":0},{"$f":"IFERROR($E192*SUMIF('Daily Log'!$AX$18:$AX$1017,$B192,'Daily Log'!$AY$18:$AY$1017),0)","v":0},{"$f":"IFERROR($E192*SUMIF('Daily Log'!$BA$18:$BA$1017,$B192,'Daily Log'!$BB$18:$BB$1017),0)","v":0},{"$f":"IFERROR($E192*SUMIF('Daily Log'!$BD$18:$BD$1017,$B192,'Daily Log'!$BE$18:$BE$1017),0)","v":0},{"$f":"IFERROR($E192*SUMIF('Daily Log'!$BG$18:$BG$1017,$B192,'Daily Log'!$BH$18:$BH$1017),0)","v":0},{"$f":"IFERROR($E192*SUMIF('Daily Log'!$BJ$18:$BJ$1017,$B192,'Daily Log'!$BK$18:$BK$1017),0)","v":0},{"$f":"IFERROR($E192*SUMIF('Daily Log'!$BM$18:$BM$1017,$B192,'Daily Log'!$BN$18:$BN$1017),0)","v":0},{"$f":"IFERROR($E192*SUMIF('Daily Log'!$BP$18:$BP$1017,$B192,'Daily Log'!$BQ$18:$BQ$1017),0)","v":0},{"$f":"IFERROR($E192*SUMIF('Daily Log'!$BS$18:$BS$1017,$B192,'Daily Log'!$BT$18:$BT$1017),0)","v":0},{"$f":"IFERROR($E192*SUMIF('Daily Log'!$BV$18:$BV$1017,$B192,'Daily Log'!$BW$18:$BW$1017),0)","v":0},{"$f":"IFERROR($E192*SUMIF('Daily Log'!$BY$18:$BY$1017,$B192,'Daily Log'!$BZ$18:$BZ$1017),0)","v":0},{"$f":"IFERROR($E192*SUMIF('Daily Log'!$CB$18:$CB$1017,$B192,'Daily Log'!$CC$18:$CC$1017),0)","v":0},{"$f":"IFERROR($E192*SUMIF('Daily Log'!$CE$18:$CE$1017,$B192,'Daily Log'!$CF$18:$CF$1017),0)","v":0},{"$f":"IFERROR($E192*SUMIF('Daily Log'!$CH$18:$CH$1017,$B192,'Daily Log'!$CI$18:$CI$1017),0)","v":0},{"$f":"IFERROR($E192*SUMIF('Daily Log'!$CK$18:$CK$1017,$B192,'Daily Log'!$CL$18:$CL$1017),0)","v":0},{"$f":"IFERROR($E192*SUMIF('Daily Log'!$CN$18:$CN$1017,$B192,'Daily Log'!$CO$18:$CO$1017),0)","v":0}]
[null,"JD05 2905:RIBENA JUG",null,"SO-COLD BEVERAGE",1,0,{"$f":"IFERROR($E193*SUMIF('Daily Log'!$B$18:$B$1017,$B193,'Daily Log'!$C$18:$C$1017),0)","v":0},{"$f":"IFERROR($E193*SUMIF('Daily Log'!$E$18:$E$1017,$B193,'Daily Log'!$F$18:$F$1017),0)","v":0},{"$f":"IFERROR($E193*SUMIF('Daily Log'!$H$18:$H$1017,$B193,'Daily Log'!$I$18:$I$1017),0)","v":0},{"$f":"IFERROR($E193*SUMIF('Daily Log'!$K$18:$K$1017,$B193,'Daily Log'!$L$18:$L$1017),0)","v":0},{"$f":"IFERROR($E193*SUMIF('Daily Log'!$N$18:$N$1017,$B193,'Daily Log'!$O$18:$O$1017),0)","v":0},{"$f":"IFERROR($E193*SUMIF('Daily Log'!$Q$18:$Q$1017,$B193,'Daily Log'!$R$18:$R$1017),0)","v":0},{"$f":"IFERROR($E193*SUMIF('Daily Log'!$T$18:$T$1017,$B193,'Daily Log'!$U$18:$U$1017),0)","v":0},{"$f":"IFERROR($E193*SUMIF('Daily Log'!$W$18:$W$1017,$B193,'Daily Log'!$X$18:$X$1017),0)","v":0},{"$f":"IFERROR($E193*SUMIF('Daily Log'!$Z$18:$Z$1017,$B193,'Daily Log'!$AA$18:$AA$1017),0)","v":0},{"$f":"IFERROR($E193*SUMIF('Daily Log'!$AC$18:$AC$1017,$B193,'Daily Log'!$AD$18:$AD$1017),0)","v":0},{"$f":"IFERROR($E193*SUMIF('Daily Log'!$AF$18:$AF$1017,$B193,'Daily Log'!$AG$18:$AG$1017),0)","v":0},{"$f":"IFERROR($E193*SUMIF('Daily Log'!$AI$18:$AI$1017,$B193,'Daily Log'!$AJ$18:$AJ$1017),0)","v":0},{"$f":"IFERROR($E193*SUMIF('Daily Log'!$AL$18:$AL$1017,$B193,'Daily Log'!$AM$18:$AM$1017),0)","v":0},{"$f":"IFERROR($E193*SUMIF('Daily Log'!$AO$18:$AO$1017,$B193,'Daily Log'!$AP$18:$AP$1017),0)","v":0},{"$f":"IFERROR($E193*SUMIF('Daily Log'!$AR$18:$AR$1017,$B193,'Daily Log'!$AS$18:$AS$1017),0)","v":0},{"$f":"IFERROR($E193*SUMIF('Daily Log'!$AU$18:$AU$1017,$B193,'Daily Log'!$AV$18:$AV$1017),0)","v":0},{"$f":"IFERROR($E193*SUMIF('Daily Log'!$AX$18:$AX$1017,$B193,'Daily Log'!$AY$18:$AY$1017),0)","v":0},{"$f":"IFERROR($E193*SUMIF('Daily Log'!$BA$18:$BA$1017,$B193,'Daily Log'!$BB$18:$BB$1017),0)","v":0},{"$f":"IFERROR($E193*SUMIF('Daily Log'!$BD$18:$BD$1017,$B193,'Daily Log'!$BE$18:$BE$1017),0)","v":0},{"$f":"IFERROR($E193*SUMIF('Daily Log'!$BG$18:$BG$1017,$B193,'Daily Log'!$BH$18:$BH$1017),0)","v":0},{"$f":"IFERROR($E193*SUMIF('Daily Log'!$BJ$18:$BJ$1017,$B193,'Daily Log'!$BK$18:$BK$1017),0)","v":0},{"$f":"IFERROR($E193*SUMIF('Daily Log'!$BM$18:$BM$1017,$B193,'Daily Log'!$BN$18:$BN$1017),0)","v":0},{"$f":"IFERROR($E193*SUMIF('Daily Log'!$BP$18:$BP$1017,$B193,'Daily Log'!$BQ$18:$BQ$1017),0)","v":0},{"$f":"IFERROR($E193*SUMIF('Daily Log'!$BS$18:$BS$1017,$B193,'Daily Log'!$BT$18:$BT$1017),0)","v":0},{"$f":"IFERROR($E193*SUMIF('Daily Log'!$BV$18:$BV$1017,$B193,'Daily Log'!$BW$18:$BW$1017),0)","v":0},{"$f":"IFERROR($E193*SUMIF('Daily Log'!$BY$18:$BY$1017,$B193,'Daily Log'!$BZ$18:$BZ$1017),0)","v":0},{"$f":"IFERROR($E193*SUMIF('Daily Log'!$CB$18:$CB$1017,$B193,'Daily Log'!$CC$18:$CC$1017),0)","v":0},{"$f":"IFERROR($E193*SUMIF('Daily Log'!$CE$18:$CE$1017,$B193,'Daily Log'!$CF$18:$CF$1017),0)","v":0},{"$f":"IFERROR($E193*SUMIF('Daily Log'!$CH$18:$CH$1017,$B193,'Daily Log'!$CI$18:$CI$1017),0)","v":0},{"$f":"IFERROR($E193*SUMIF('Daily Log'!$CK$18:$CK$1017,$B193,'Daily Log'!$CL$18:$CL$1017),0)","v":0},{"$f":"IFERROR($E193*SUMIF('Daily Log'!$CN$18:$CN$1017,$B193,'Daily Log'!$CO$18:$CO$1017),0)","v":0}]
[null,"JD06 2926:WATER JUG",null,"SO-COLD BEVERAGE",1,0,{"$f":"IFERROR($E194*SUMIF('Daily Log'!$B$18:$B$1017,$B194,'Daily Log'!$C$18:$C$1017),0)","v":0},{"$f":"IFERROR($E194*SUMIF('Daily Log'!$E$18:$E$1017,$B194,'Daily Log'!$F$18:$F$1017),0)","v":0},{"$f":"IFERROR($E194*SUMIF('Daily Log'!$H$18:$H$1017,$B194,'Daily Log'!$I$18:$I$1017),0)","v":0},{"$f":"IFERROR($E194*SUMIF('Daily Log'!$K$18:$K$1017,$B194,'Daily Log'!$L$18:$L$1017),0)","v":0},{"$f":"IFERROR($E194*SUMIF('Daily Log'!$N$18:$N$1017,$B194,'Daily Log'!$O$18:$O$1017),0)","v":0},{"$f":"IFERROR($E194*SUMIF('Daily Log'!$Q$18:$Q$1017,$B194,'Daily Log'!$R$18:$R$1017),0)","v":0},{"$f":"IFERROR($E194*SUMIF('Daily Log'!$T$18:$T$1017,$B194,'Daily Log'!$U$18:$U$1017),0)","v":0},{"$f":"IFERROR($E194*SUMIF('Daily Log'!$W$18:$W$1017,$B194,'Daily Log'!$X$18:$X$1017),0)","v":0},{"$f":"IFERROR($E194*SUMIF('Daily Log'!$Z$18:$Z$1017,$B194,'Daily Log'!$AA$18:$AA$1017),0)","v":0},{"$f":"IFERROR($E194*SUMIF('Daily Log'!$AC$18:$AC$1017,$B194,'Daily Log'!$AD$18:$AD$1017),0)","v":0},{"$f":"IFERROR($E194*SUMIF('Daily Log'!$AF$18:$AF$1017,$B194,'Daily Log'!$AG$18:$AG$1017),0)","v":0},{"$f":"IFERROR($E194*SUMIF('Daily Log'!$AI$18:$AI$1017,$B194,'Daily Log'!$AJ$18:$AJ$1017),0)","v":0},{"$f":"IFERROR($E194*SUMIF('Daily Log'!$AL$18:$AL$1017,$B194,'Daily Log'!$AM$18:$AM$1017),0)","v":0},{"$f":"IFERROR($E194*SUMIF('Daily Log'!$AO$18:$AO$1017,$B194,'Daily Log'!$AP$18:$AP$1017),0)","v":0},{"$f":"IFERROR($E194*SUMIF('Daily Log'!$AR$18:$AR$1017,$B194,'Daily Log'!$AS$18:$AS$1017),0)","v":0},{"$f":"IFERROR($E194*SUMIF('Daily Log'!$AU$18:$AU$1017,$B194,'Daily Log'!$AV$18:$AV$1017),0)","v":0},{"$f":"IFERROR($E194*SUMIF('Daily Log'!$AX$18:$AX$1017,$B194,'Daily Log'!$AY$18:$AY$1017),0)","v":0},{"$f":"IFERROR($E194*SUMIF('Daily Log'!$BA$18:$BA$1017,$B194,'Daily Log'!$BB$18:$BB$1017),0)","v":0},{"$f":"IFERROR($E194*SUMIF('Daily Log'!$BD$18:$BD$1017,$B194,'Daily Log'!$BE$18:$BE$1017),0)","v":0},{"$f":"IFERROR($E194*SUMIF('Daily Log'!$BG$18:$BG$1017,$B194,'Daily Log'!$BH$18:$BH$1017),0)","v":0},{"$f":"IFERROR($E194*SUMIF('Daily Log'!$BJ$18:$BJ$1017,$B194,'Daily Log'!$BK$18:$BK$1017),0)","v":0},{"$f":"IFERROR($E194*SUMIF('Daily Log'!$BM$18:$BM$1017,$B194,'Daily Log'!$BN$18:$BN$1017),0)","v":0},{"$f":"IFERROR($E194*SUMIF('Daily Log'!$BP$18:$BP$1017,$B194,'Daily Log'!$BQ$18:$BQ$1017),0)","v":0},{"$f":"IFERROR($E194*SUMIF('Daily Log'!$BS$18:$BS$1017,$B194,'Daily Log'!$BT$18:$BT$1017),0)","v":0},{"$f":"IFERROR($E194*SUMIF('Daily Log'!$BV$18:$BV$1017,$B194,'Daily Log'!$BW$18:$BW$1017),0)","v":0},{"$f":"IFERROR($E194*SUMIF('Daily Log'!$BY$18:$BY$1017,$B194,'Daily Log'!$BZ$18:$BZ$1017),0)","v":0},{"$f":"IFERROR($E194*SUMIF('Daily Log'!$CB$18:$CB$1017,$B194,'Daily Log'!$CC$18:$CC$1017),0)","v":0},{"$f":"IFERROR($E194*SUMIF('Daily Log'!$CE$18:$CE$1017,$B194,'Daily Log'!$CF$18:$CF$1017),0)","v":0},{"$f":"IFERROR($E194*SUMIF('Daily Log'!$CH$18:$CH$1017,$B194,'Daily Log'!$CI$18:$CI$1017),0)","v":0},{"$f":"IFERROR($E194*SUMIF('Daily Log'!$CK$18:$CK$1017,$B194,'Daily Log'!$CL$18:$CL$1017),0)","v":0},{"$f":"IFERROR($E194*SUMIF('Daily Log'!$CN$18:$CN$1017,$B194,'Daily Log'!$CO$18:$CO$1017),0)","v":0}]
[null,"SM07 2821:CHOCO SM",null,"SO-COLD BEVERAGE",1,4,{"$f":"IFERROR($E195*SUMIF('Daily Log'!$B$18:$B$1017,$B195,'Daily Log'!$C$18:$C$1017),0)","v":0},{"$f":"IFERROR($E195*SUMIF('Daily Log'!$E$18:$E$1017,$B195,'Daily Log'!$F$18:$F$1017),0)","v":0},{"$f":"IFERROR($E195*SUMIF('Daily Log'!$H$18:$H$1017,$B195,'Daily Log'!$I$18:$I$1017),0)","v":1},{"$f":"IFERROR($E195*SUMIF('Daily Log'!$K$18:$K$1017,$B195,'Daily Log'!$L$18:$L$1017),0)","v":1},{"$f":"IFERROR($E195*SUMIF('Daily Log'!$N$18:$N$1017,$B195,'Daily Log'!$O$18:$O$1017),0)","v":1},{"$f":"IFERROR($E195*SUMIF('Daily Log'!$Q$18:$Q$1017,$B195,'Daily Log'!$R$18:$R$1017),0)","v":0},{"$f":"IFERROR($E195*SUMIF('Daily Log'!$T$18:$T$1017,$B195,'Daily Log'!$U$18:$U$1017),0)","v":0},{"$f":"IFERROR($E195*SUMIF('Daily Log'!$W$18:$W$1017,$B195,'Daily Log'!$X$18:$X$1017),0)","v":0},{"$f":"IFERROR($E195*SUMIF('Daily Log'!$Z$18:$Z$1017,$B195,'Daily Log'!$AA$18:$AA$1017),0)","v":0},{"$f":"IFERROR($E195*SUMIF('Daily Log'!$AC$18:$AC$1017,$B195,'Daily Log'!$AD$18:$AD$1017),0)","v":0},{"$f":"IFERROR($E195*SUMIF('Daily Log'!$AF$18:$AF$1017,$B195,'Daily Log'!$AG$18:$AG$1017),0)","v":0},{"$f":"IFERROR($E195*SUMIF('Daily Log'!$AI$18:$AI$1017,$B195,'Daily Log'!$AJ$18:$AJ$1017),0)","v":0},{"$f":"IFERROR($E195*SUMIF('Daily Log'!$AL$18:$AL$1017,$B195,'Daily Log'!$AM$18:$AM$1017),0)","v":0},{"$f":"IFERROR($E195*SUMIF('Daily Log'!$AO$18:$AO$1017,$B195,'Daily Log'!$AP$18:$AP$1017),0)","v":0},{"$f":"IFERROR($E195*SUMIF('Daily Log'!$AR$18:$AR$1017,$B195,'Daily Log'!$AS$18:$AS$1017),0)","v":0},{"$f":"IFERROR($E195*SUMIF('Daily Log'!$AU$18:$AU$1017,$B195,'Daily Log'!$AV$18:$AV$1017),0)","v":0},{"$f":"IFERROR($E195*SUMIF('Daily Log'!$AX$18:$AX$1017,$B195,'Daily Log'!$AY$18:$AY$1017),0)","v":0},{"$f":"IFERROR($E195*SUMIF('Daily Log'!$BA$18:$BA$1017,$B195,'Daily Log'!$BB$18:$BB$1017),0)","v":0},{"$f":"IFERROR($E195*SUMIF('Daily Log'!$BD$18:$BD$1017,$B195,'Daily Log'!$BE$18:$BE$1017),0)","v":1},{"$f":"IFERROR($E195*SUMIF('Daily Log'!$BG$18:$BG$1017,$B195,'Daily Log'!$BH$18:$BH$1017),0)","v":0},{"$f":"IFERROR($E195*SUMIF('Daily Log'!$BJ$18:$BJ$1017,$B195,'Daily Log'!$BK$18:$BK$1017),0)","v":0},{"$f":"IFERROR($E195*SUMIF('Daily Log'!$BM$18:$BM$1017,$B195,'Daily Log'!$BN$18:$BN$1017),0)","v":0},{"$f":"IFERROR($E195*SUMIF('Daily Log'!$BP$18:$BP$1017,$B195,'Daily Log'!$BQ$18:$BQ$1017),0)","v":0},{"$f":"IFERROR($E195*SUMIF('Daily Log'!$BS$18:$BS$1017,$B195,'Daily Log'!$BT$18:$BT$1017),0)","v":0},{"$f":"IFERROR($E195*SUMIF('Daily Log'!$BV$18:$BV$1017,$B195,'Daily Log'!$BW$18:$BW$1017),0)","v":0},{"$f":"IFERROR($E195*SUMIF('Daily Log'!$BY$18:$BY$1017,$B195,'Daily Log'!$BZ$18:$BZ$1017),0)","v":0},{"$f":"IFERROR($E195*SUMIF('Daily Log'!$CB$18:$CB$1017,$B195,'Daily Log'!$CC$18:$CC$1017),0)","v":0},{"$f":"IFERROR($E195*SUMIF('Daily Log'!$CE$18:$CE$1017,$B195,'Daily Log'!$CF$18:$CF$1017),0)","v":0},{"$f":"IFERROR($E195*SUMIF('Daily Log'!$CH$18:$CH$1017,$B195,'Daily Log'!$CI$18:$CI$1017),0)","v":0},{"$f":"IFERROR($E195*SUMIF('Daily Log'!$CK$18:$CK$1017,$B195,'Daily Log'!$CL$18:$CL$1017),0)","v":0},{"$f":"IFERROR($E195*SUMIF('Daily Log'!$CN$18:$CN$1017,$B195,'Daily Log'!$CO$18:$CO$1017),0)","v":0}]
[null,"SF05 92605:RIBENA SO",null,"SO-COLD BEVERAGE",1,111,{"$f":"IFERROR($E196*SUMIF('Daily Log'!$B$18:$B$1017,$B196,'Daily Log'!$C$18:$C$1017),0)","v":1},{"$f":"IFERROR($E196*SUMIF('Daily Log'!$E$18:$E$1017,$B196,'Daily Log'!$F$18:$F$1017),0)","v":5},{"$f":"IFERROR($E196*SUMIF('Daily Log'!$H$18:$H$1017,$B196,'Daily Log'!$I$18:$I$1017),0)","v":8},{"$f":"IFERROR($E196*SUMIF('Daily Log'!$K$18:$K$1017,$B196,'Daily Log'!$L$18:$L$1017),0)","v":4},{"$f":"IFERROR($E196*SUMIF('Daily Log'!$N$18:$N$1017,$B196,'Daily Log'!$O$18:$O$1017),0)","v":1},{"$f":"IFERROR($E196*SUMIF('Daily Log'!$Q$18:$Q$1017,$B196,'Daily Log'!$R$18:$R$1017),0)","v":7},{"$f":"IFERROR($E196*SUMIF('Daily Log'!$T$18:$T$1017,$B196,'Daily Log'!$U$18:$U$1017),0)","v":2},{"$f":"IFERROR($E196*SUMIF('Daily Log'!$W$18:$W$1017,$B196,'Daily Log'!$X$18:$X$1017),0)","v":3},{"$f":"IFERROR($E196*SUMIF('Daily Log'!$Z$18:$Z$1017,$B196,'Daily Log'!$AA$18:$AA$1017),0)","v":3},{"$f":"IFERROR($E196*SUMIF('Daily Log'!$AC$18:$AC$1017,$B196,'Daily Log'!$AD$18:$AD$1017),0)","v":0},{"$f":"IFERROR($E196*SUMIF('Daily Log'!$AF$18:$AF$1017,$B196,'Daily Log'!$AG$18:$AG$1017),0)","v":0},{"$f":"IFERROR($E196*SUMIF('Daily Log'!$AI$18:$AI$1017,$B196,'Daily Log'!$AJ$18:$AJ$1017),0)","v":0},{"$f":"IFERROR($E196*SUMIF('Daily Log'!$AL$18:$AL$1017,$B196,'Daily Log'!$AM$18:$AM$1017),0)","v":4},{"$f":"IFERROR($E196*SUMIF('Daily Log'!$AO$18:$AO$1017,$B196,'Daily Log'!$AP$18:$AP$1017),0)","v":6},{"$f":"IFERROR($E196*SUMIF('Daily Log'!$AR$18:$AR$1017,$B196,'Daily Log'!$AS$18:$AS$1017),0)","v":9},{"$f":"IFERROR($E196*SUMIF('Daily Log'!$AU$18:$AU$1017,$B196,'Daily Log'!$AV$18:$AV$1017),0)","v":6},{"$f":"IFERROR($E196*SUMIF('Daily Log'!$AX$18:$AX$1017,$B196,'Daily Log'!$AY$18:$AY$1017),0)","v":6},{"$f":"IFERROR($E196*SUMIF('Daily Log'!$BA$18:$BA$1017,$B196,'Daily Log'!$BB$18:$BB$1017),0)","v":9},{"$f":"IFERROR($E196*SUMIF('Daily Log'!$BD$18:$BD$1017,$B196,'Daily Log'!$BE$18:$BE$1017),0)","v":0},{"$f":"IFERROR($E196*SUMIF('Daily Log'!$BG$18:$BG$1017,$B196,'Daily Log'!$BH$18:$BH$1017),0)","v":6},{"$f":"IFERROR($E196*SUMIF('Daily Log'!$BJ$18:$BJ$1017,$B196,'Daily Log'!$BK$18:$BK$1017),0)","v":7},{"$f":"IFERROR($E196*SUMIF('Daily Log'!$BM$18:$BM$1017,$B196,'Daily Log'!$BN$18:$BN$1017),0)","v":3},{"$f":"IFERROR($E196*SUMIF('Daily Log'!$BP$18:$BP$1017,$B196,'Daily Log'!$BQ$18:$BQ$1017),0)","v":1},{"$f":"IFERROR($E196*SUMIF('Daily Log'!$BS$18:$BS$1017,$B196,'Daily Log'!$BT$18:$BT$1017),0)","v":6},{"$f":"IFERROR($E196*SUMIF('Daily Log'!$BV$18:$BV$1017,$B196,'Daily Log'!$BW$18:$BW$1017),0)","v":5},{"$f":"IFERROR($E196*SUMIF('Daily Log'!$BY$18:$BY$1017,$B196,'Daily Log'!$BZ$18:$BZ$1017),0)","v":0},{"$f":"IFERROR($E196*SUMIF('Daily Log'!$CB$18:$CB$1017,$B196,'Daily Log'!$CC$18:$CC$1017),0)","v":3},{"$f":"IFERROR($E196*SUMIF('Daily Log'!$CE$18:$CE$1017,$B196,'Daily Log'!$CF$18:$CF$1017),0)","v":0},{"$f":"IFERROR($E196*SUMIF('Daily Log'!$CH$18:$CH$1017,$B196,'Daily Log'!$CI$18:$CI$1017),0)","v":6},{"$f":"IFERROR($E196*SUMIF('Daily Log'!$CK$18:$CK$1017,$B196,'Daily Log'!$CL$18:$CL$1017),0)","v":0},{"$f":"IFERROR($E196*SUMIF('Daily Log'!$CN$18:$CN$1017,$B196,'Daily Log'!$CO$18:$CO$1017),0)","v":0}]
[null,"CH01 82008:LEMON TEA",null,"LOK LOK-BEVERAGE",1,31,{"$f":"IFERROR($E197*SUMIF('Daily Log'!$B$18:$B$1017,$B197,'Daily Log'!$C$18:$C$1017),0)","v":2},{"$f":"IFERROR($E197*SUMIF('Daily Log'!$E$18:$E$1017,$B197,'Daily Log'!$F$18:$F$1017),0)","v":1},{"$f":"IFERROR($E197*SUMIF('Daily Log'!$H$18:$H$1017,$B197,'Daily Log'!$I$18:$I$1017),0)","v":0},{"$f":"IFERROR($E197*SUMIF('Daily Log'!$K$18:$K$1017,$B197,'Daily Log'!$L$18:$L$1017),0)","v":3},{"$f":"IFERROR($E197*SUMIF('Daily Log'!$N$18:$N$1017,$B197,'Daily Log'!$O$18:$O$1017),0)","v":5},{"$f":"IFERROR($E197*SUMIF('Daily Log'!$Q$18:$Q$1017,$B197,'Daily Log'!$R$18:$R$1017),0)","v":0},{"$f":"IFERROR($E197*SUMIF('Daily Log'!$T$18:$T$1017,$B197,'Daily Log'!$U$18:$U$1017),0)","v":0},{"$f":"IFERROR($E197*SUMIF('Daily Log'!$W$18:$W$1017,$B197,'Daily Log'!$X$18:$X$1017),0)","v":0},{"$f":"IFERROR($E197*SUMIF('Daily Log'!$Z$18:$Z$1017,$B197,'Daily Log'!$AA$18:$AA$1017),0)","v":2},{"$f":"IFERROR($E197*SUMIF('Daily Log'!$AC$18:$AC$1017,$B197,'Daily Log'!$AD$18:$AD$1017),0)","v":0},{"$f":"IFERROR($E197*SUMIF('Daily Log'!$AF$18:$AF$1017,$B197,'Daily Log'!$AG$18:$AG$1017),0)","v":0},{"$f":"IFERROR($E197*SUMIF('Daily Log'!$AI$18:$AI$1017,$B197,'Daily Log'!$AJ$18:$AJ$1017),0)","v":0},{"$f":"IFERROR($E197*SUMIF('Daily Log'!$AL$18:$AL$1017,$B197,'Daily Log'!$AM$18:$AM$1017),0)","v":1},{"$f":"IFERROR($E197*SUMIF('Daily Log'!$AO$18:$AO$1017,$B197,'Daily Log'!$AP$18:$AP$1017),0)","v":1},{"$f":"IFERROR($E197*SUMIF('Daily Log'!$AR$18:$AR$1017,$B197,'Daily Log'!$AS$18:$AS$1017),0)","v":0},{"$f":"IFERROR($E197*SUMIF('Daily Log'!$AU$18:$AU$1017,$B197,'Daily Log'!$AV$18:$AV$1017),0)","v":0},{"$f":"IFERROR($E197*SUMIF('Daily Log'!$AX$18:$AX$1017,$B197,'Daily Log'!$AY$18:$AY$1017),0)","v":1},{"$f":"IFERROR($E197*SUMIF('Daily Log'!$BA$18:$BA$1017,$B197,'Daily Log'!$BB$18:$BB$1017),0)","v":0},{"$f":"IFERROR($E197*SUMIF('Daily Log'!$BD$18:$BD$1017,$B197,'Daily Log'!$BE$18:$BE$1017),0)","v":2},{"$f":"IFERROR($E197*SUMIF('Daily Log'!$BG$18:$BG$1017,$B197,'Daily Log'!$BH$18:$BH$1017),0)","v":5},{"$f":"IFERROR($E197*SUMIF('Daily Log'!$BJ$18:$BJ$1017,$B197,'Daily Log'!$BK$18:$BK$1017),0)","v":0},{"$f":"IFERROR($E197*SUMIF('Daily Log'!$BM$18:$BM$1017,$B197,'Daily Log'!$BN$18:$BN$1017),0)","v":0},{"$f":"IFERROR($E197*SUMIF('Daily Log'!$BP$18:$BP$1017,$B197,'Daily Log'!$BQ$18:$BQ$1017),0)","v":0},{"$f":"IFERROR($E197*SUMIF('Daily Log'!$BS$18:$BS$1017,$B197,'Daily Log'!$BT$18:$BT$1017),0)","v":1},{"$f":"IFERROR($E197*SUMIF('Daily Log'!$BV$18:$BV$1017,$B197,'Daily Log'!$BW$18:$BW$1017),0)","v":2},{"$f":"IFERROR($E197*SUMIF('Daily Log'!$BY$18:$BY$1017,$B197,'Daily Log'!$BZ$18:$BZ$1017),0)","v":1},{"$f":"IFERROR($E197*SUMIF('Daily Log'!$CB$18:$CB$1017,$B197,'Daily Log'!$CC$18:$CC$1017),0)","v":2},{"$f":"IFERROR($E197*SUMIF('Daily Log'!$CE$18:$CE$1017,$B197,'Daily Log'!$CF$18:$CF$1017),0)","v":0},{"$f":"IFERROR($E197*SUMIF('Daily Log'!$CH$18:$CH$1017,$B197,'Daily Log'!$CI$18:$CI$1017),0)","v":0},{"$f":"IFERROR($E197*SUMIF('Daily Log'!$CK$18:$CK$1017,$B197,'Daily Log'!$CL$18:$CL$1017),0)","v":2},{"$f":"IFERROR($E197*SUMIF('Daily Log'!$CN$18:$CN$1017,$B197,'Daily Log'!$CO$18:$CO$1017),0)","v":0}]
[null,"CH02 82010:GRN TEA",null,"LOK LOK-BEVERAGE",1,33,{"$f":"IFERROR($E198*SUMIF('Daily Log'!$B$18:$B$1017,$B198,'Daily Log'!$C$18:$C$1017),0)","v":2},{"$f":"IFERROR($E198*SUMIF('Daily Log'!$E$18:$E$1017,$B198,'Daily Log'!$F$18:$F$1017),0)","v":1},{"$f":"IFERROR($E198*SUMIF('Daily Log'!$H$18:$H$1017,$B198,'Daily Log'!$I$18:$I$1017),0)","v":0},{"$f":"IFERROR($E198*SUMIF('Daily Log'!$K$18:$K$1017,$B198,'Daily Log'!$L$18:$L$1017),0)","v":0},{"$f":"IFERROR($E198*SUMIF('Daily Log'!$N$18:$N$1017,$B198,'Daily Log'!$O$18:$O$1017),0)","v":4},{"$f":"IFERROR($E198*SUMIF('Daily Log'!$Q$18:$Q$1017,$B198,'Daily Log'!$R$18:$R$1017),0)","v":2},{"$f":"IFERROR($E198*SUMIF('Daily Log'!$T$18:$T$1017,$B198,'Daily Log'!$U$18:$U$1017),0)","v":1},{"$f":"IFERROR($E198*SUMIF('Daily Log'!$W$18:$W$1017,$B198,'Daily Log'!$X$18:$X$1017),0)","v":2},{"$f":"IFERROR($E198*SUMIF('Daily Log'!$Z$18:$Z$1017,$B198,'Daily Log'!$AA$18:$AA$1017),0)","v":2},{"$f":"IFERROR($E198*SUMIF('Daily Log'!$AC$18:$AC$1017,$B198,'Daily Log'!$AD$18:$AD$1017),0)","v":0},{"$f":"IFERROR($E198*SUMIF('Daily Log'!$AF$18:$AF$1017,$B198,'Daily Log'!$AG$18:$AG$1017),0)","v":1},{"$f":"IFERROR($E198*SUMIF('Daily Log'!$AI$18:$AI$1017,$B198,'Daily Log'!$AJ$18:$AJ$1017),0)","v":0},{"$f":"IFERROR($E198*SUMIF('Daily Log'!$AL$18:$AL$1017,$B198,'Daily Log'!$AM$18:$AM$1017),0)","v":0},{"$f":"IFERROR($E198*SUMIF('Daily Log'!$AO$18:$AO$1017,$B198,'Daily Log'!$AP$18:$AP$1017),0)","v":1},{"$f":"IFERROR($E198*SUMIF('Daily Log'!$AR$18:$AR$1017,$B198,'Daily Log'!$AS$18:$AS$1017),0)","v":1},{"$f":"IFERROR($E198*SUMIF('Daily Log'!$AU$18:$AU$1017,$B198,'Daily Log'!$AV$18:$AV$1017),0)","v":0},{"$f":"IFERROR($E198*SUMIF('Daily Log'!$AX$18:$AX$1017,$B198,'Daily Log'!$AY$18:$AY$1017),0)","v":1},{"$f":"IFERROR($E198*SUMIF('Daily Log'!$BA$18:$BA$1017,$B198,'Daily Log'!$BB$18:$BB$1017),0)","v":1},{"$f":"IFERROR($E198*SUMIF('Daily Log'!$BD$18:$BD$1017,$B198,'Daily Log'!$BE$18:$BE$1017),0)","v":2},{"$f":"IFERROR($E198*SUMIF('Daily Log'!$BG$18:$BG$1017,$B198,'Daily Log'!$BH$18:$BH$1017),0)","v":2},{"$f":"IFERROR($E198*SUMIF('Daily Log'!$BJ$18:$BJ$1017,$B198,'Daily Log'!$BK$18:$BK$1017),0)","v":0},{"$f":"IFERROR($E198*SUMIF('Daily Log'!$BM$18:$BM$1017,$B198,'Daily Log'!$BN$18:$BN$1017),0)","v":0},{"$f":"IFERROR($E198*SUMIF('Daily Log'!$BP$18:$BP$1017,$B198,'Daily Log'!$BQ$18:$BQ$1017),0)","v":0},{"$f":"IFERROR($E198*SUMIF('Daily Log'!$BS$18:$BS$1017,$B198,'Daily Log'!$BT$18:$BT$1017),0)","v":1},{"$f":"IFERROR($E198*SUMIF('Daily Log'!$BV$18:$BV$1017,$B198,'Daily Log'!$BW$18:$BW$1017),0)","v":4},{"$f":"IFERROR($E198*SUMIF('Daily Log'!$BY$18:$BY$1017,$B198,'Daily Log'!$BZ$18:$BZ$1017),0)","v":1},{"$f":"IFERROR($E198*SUMIF('Daily Log'!$CB$18:$CB$1017,$B198,'Daily Log'!$CC$18:$CC$1017),0)","v":3},{"$f":"IFERROR($E198*SUMIF('Daily Log'!$CE$18:$CE$1017,$B198,'Daily Log'!$CF$18:$CF$1017),0)","v":1},{"$f":"IFERROR($E198*SUMIF('Daily Log'!$CH$18:$CH$1017,$B198,'Daily Log'!$CI$18:$CI$1017),0)","v":0},{"$f":"IFERROR($E198*SUMIF('Daily Log'!$CK$18:$CK$1017,$B198,'Daily Log'!$CL$18:$CL$1017),0)","v":0},{"$f":"IFERROR($E198*SUMIF('Daily Log'!$CN$18:$CN$1017,$B198,'Daily Log'!$CO$18:$CO$1017),0)","v":0}]
[null,"CH03 82028:CHRY TEA",null,"LOK LOK-BEVERAGE",1,15,{"$f":"IFERROR($E199*SUMIF('Daily Log'!$B$18:$B$1017,$B199,'Daily Log'!$C$18:$C$1017),0)","v":1},{"$f":"IFERROR($E199*SUMIF('Daily Log'!$E$18:$E$1017,$B199,'Daily Log'!$F$18:$F$1017),0)","v":0},{"$f":"IFERROR($E199*SUMIF('Daily Log'!$H$18:$H$1017,$B199,'Daily Log'!$I$18:$I$1017),0)","v":1},{"$f":"IFERROR($E199*SUMIF('Daily Log'!$K$18:$K$1017,$B199,'Daily Log'!$L$18:$L$1017),0)","v":0},{"$f":"IFERROR($E199*SUMIF('Daily Log'!$N$18:$N$1017,$B199,'Daily Log'!$O$18:$O$1017),0)","v":1},{"$f":"IFERROR($E199*SUMIF('Daily Log'!$Q$18:$Q$1017,$B199,'Daily Log'!$R$18:$R$1017),0)","v":0},{"$f":"IFERROR($E199*SUMIF('Daily Log'!$T$18:$T$1017,$B199,'Daily Log'!$U$18:$U$1017),0)","v":1},{"$f":"IFERROR($E199*SUMIF('Daily Log'!$W$18:$W$1017,$B199,'Daily Log'!$X$18:$X$1017),0)","v":1},{"$f":"IFERROR($E199*SUMIF('Daily Log'!$Z$18:$Z$1017,$B199,'Daily Log'!$AA$18:$AA$1017),0)","v":0},{"$f":"IFERROR($E199*SUMIF('Daily Log'!$AC$18:$AC$1017,$B199,'Daily Log'!$AD$18:$AD$1017),0)","v":0},{"$f":"IFERROR($E199*SUMIF('Daily Log'!$AF$18:$AF$1017,$B199,'Daily Log'!$AG$18:$AG$1017),0)","v":1},{"$f":"IFERROR($E199*SUMIF('Daily Log'!$AI$18:$AI$1017,$B199,'Daily Log'!$AJ$18:$AJ$1017),0)","v":0},{"$f":"IFERROR($E199*SUMIF('Daily Log'!$AL$18:$AL$1017,$B199,'Daily Log'!$AM$18:$AM$1017),0)","v":0},{"$f":"IFERROR($E199*SUMIF('Daily Log'!$AO$18:$AO$1017,$B199,'Daily Log'!$AP$18:$AP$1017),0)","v":0},{"$f":"IFERROR($E199*SUMIF('Daily Log'!$AR$18:$AR$1017,$B199,'Daily Log'!$AS$18:$AS$1017),0)","v":1},{"$f":"IFERROR($E199*SUMIF('Daily Log'!$AU$18:$AU$1017,$B199,'Daily Log'!$AV$18:$AV$1017),0)","v":0},{"$f":"IFERROR($E199*SUMIF('Daily Log'!$AX$18:$AX$1017,$B199,'Daily Log'!$AY$18:$AY$1017),0)","v":0},{"$f":"IFERROR($E199*SUMIF('Daily Log'!$BA$18:$BA$1017,$B199,'Daily Log'!$BB$18:$BB$1017),0)","v":0},{"$f":"IFERROR($E199*SUMIF('Daily Log'!$BD$18:$BD$1017,$B199,'Daily Log'!$BE$18:$BE$1017),0)","v":2},{"$f":"IFERROR($E199*SUMIF('Daily Log'!$BG$18:$BG$1017,$B199,'Daily Log'!$BH$18:$BH$1017),0)","v":0},{"$f":"IFERROR($E199*SUMIF('Daily Log'!$BJ$18:$BJ$1017,$B199,'Daily Log'!$BK$18:$BK$1017),0)","v":2},{"$f":"IFERROR($E199*SUMIF('Daily Log'!$BM$18:$BM$1017,$B199,'Daily Log'!$BN$18:$BN$1017),0)","v":0},{"$f":"IFERROR($E199*SUMIF('Daily Log'!$BP$18:$BP$1017,$B199,'Daily Log'!$BQ$18:$BQ$1017),0)","v":1},{"$f":"IFERROR($E199*SUMIF('Daily Log'!$BS$18:$BS$1017,$B199,'Daily Log'!$BT$18:$BT$1017),0)","v":1},{"$f":"IFERROR($E199*SUMIF('Daily Log'!$BV$18:$BV$1017,$B199,'Daily Log'!$BW$18:$BW$1017),0)","v":1},{"$f":"IFERROR($E199*SUMIF('Daily Log'!$BY$18:$BY$1017,$B199,'Daily Log'!$BZ$18:$BZ$1017),0)","v":0},{"$f":"IFERROR($E199*SUMIF('Daily Log'!$CB$18:$CB$1017,$B199,'Daily Log'!$CC$18:$CC$1017),0)","v":0},{"$f":"IFERROR($E199*SUMIF('Daily Log'!$CE$18:$CE$1017,$B199,'Daily Log'!$CF$18:$CF$1017),0)","v":0},{"$f":"IFERROR($E199*SUMIF('Daily Log'!$CH$18:$CH$1017,$B199,'Daily Log'!$CI$18:$CI$1017),0)","v":1},{"$f":"IFERROR($E199*SUMIF('Daily Log'!$CK$18:$CK$1017,$B199,'Daily Log'!$CL$18:$CL$1017),0)","v":0},{"$f":"IFERROR($E199*SUMIF('Daily Log'!$CN$18:$CN$1017,$B199,'Daily Log'!$CO$18:$CO$1017),0)","v":0}]
[null,"CH05 82030:CINCAU",null,"LOK LOK-BEVERAGE",1,9,{"$f":"IFERROR($E200*SUMIF('Daily Log'!$B$18:$B$1017,$B200,'Daily Log'!$C$18:$C$1017),0)","v":0},{"$f":"IFERROR($E200*SUMIF('Daily Log'!$E$18:$E$1017,$B200,'Daily Log'!$F$18:$F$1017),0)","v":0},{"$f":"IFERROR($E200*SUMIF('Daily Log'!$H$18:$H$1017,$B200,'Daily Log'!$I$18:$I$1017),0)","v":0},{"$f":"IFERROR($E200*SUMIF('Daily Log'!$K$18:$K$1017,$B200,'Daily Log'!$L$18:$L$1017),0)","v":0},{"$f":"IFERROR($E200*SUMIF('Daily Log'!$N$18:$N$1017,$B200,'Daily Log'!$O$18:$O$1017),0)","v":1},{"$f":"IFERROR($E200*SUMIF('Daily Log'!$Q$18:$Q$1017,$B200,'Daily Log'!$R$18:$R$1017),0)","v":0},{"$f":"IFERROR($E200*SUMIF('Daily Log'!$T$18:$T$1017,$B200,'Daily Log'!$U$18:$U$1017),0)","v":0},{"$f":"IFERROR($E200*SUMIF('Daily Log'!$W$18:$W$1017,$B200,'Daily Log'!$X$18:$X$1017),0)","v":0},{"$f":"IFERROR($E200*SUMIF('Daily Log'!$Z$18:$Z$1017,$B200,'Daily Log'!$AA$18:$AA$1017),0)","v":0},{"$f":"IFERROR($E200*SUMIF('Daily Log'!$AC$18:$AC$1017,$B200,'Daily Log'!$AD$18:$AD$1017),0)","v":1},{"$f":"IFERROR($E200*SUMIF('Daily Log'!$AF$18:$AF$1017,$B200,'Daily Log'!$AG$18:$AG$1017),0)","v":0},{"$f":"IFERROR($E200*SUMIF('Daily Log'!$AI$18:$AI$1017,$B200,'Daily Log'!$AJ$18:$AJ$1017),0)","v":2},{"$f":"IFERROR($E200*SUMIF('Daily Log'!$AL$18:$AL$1017,$B200,'Daily Log'!$AM$18:$AM$1017),0)","v":0},{"$f":"IFERROR($E200*SUMIF('Daily Log'!$AO$18:$AO$1017,$B200,'Daily Log'!$AP$18:$AP$1017),0)","v":0},{"$f":"IFERROR($E200*SUMIF('Daily Log'!$AR$18:$AR$1017,$B200,'Daily Log'!$AS$18:$AS$1017),0)","v":0},{"$f":"IFERROR($E200*SUMIF('Daily Log'!$AU$18:$AU$1017,$B200,'Daily Log'!$AV$18:$AV$1017),0)","v":0},{"$f":"IFERROR($E200*SUMIF('Daily Log'!$AX$18:$AX$1017,$B200,'Daily Log'!$AY$18:$AY$1017),0)","v":0},{"$f":"IFERROR($E200*SUMIF('Daily Log'!$BA$18:$BA$1017,$B200,'Daily Log'!$BB$18:$BB$1017),0)","v":0},{"$f":"IFERROR($E200*SUMIF('Daily Log'!$BD$18:$BD$1017,$B200,'Daily Log'!$BE$18:$BE$1017),0)","v":0},{"$f":"IFERROR($E200*SUMIF('Daily Log'!$BG$18:$BG$1017,$B200,'Daily Log'!$BH$18:$BH$1017),0)","v":0},{"$f":"IFERROR($E200*SUMIF('Daily Log'!$BJ$18:$BJ$1017,$B200,'Daily Log'!$BK$18:$BK$1017),0)","v":0},{"$f":"IFERROR($E200*SUMIF('Daily Log'!$BM$18:$BM$1017,$B200,'Daily Log'!$BN$18:$BN$1017),0)","v":0},{"$f":"IFERROR($E200*SUMIF('Daily Log'!$BP$18:$BP$1017,$B200,'Daily Log'!$BQ$18:$BQ$1017),0)","v":0},{"$f":"IFERROR($E200*SUMIF('Daily Log'!$BS$18:$BS$1017,$B200,'Daily Log'!$BT$18:$BT$1017),0)","v":0},{"$f":"IFERROR($E200*SUMIF('Daily Log'!$BV$18:$BV$1017,$B200,'Daily Log'!$BW$18:$BW$1017),0)","v":3},{"$f":"IFERROR($E200*SUMIF('Daily Log'!$BY$18:$BY$1017,$B200,'Daily Log'!$BZ$18:$BZ$1017),0)","v":2},{"$f":"IFERROR($E200*SUMIF('Daily Log'!$CB$18:$CB$1017,$B200,'Daily Log'!$CC$18:$CC$1017),0)","v":0},{"$f":"IFERROR($E200*SUMIF('Daily Log'!$CE$18:$CE$1017,$B200,'Daily Log'!$CF$18:$CF$1017),0)","v":0},{"$f":"IFERROR($E200*SUMIF('Daily Log'!$CH$18:$CH$1017,$B200,'Daily Log'!$CI$18:$CI$1017),0)","v":0},{"$f":"IFERROR($E200*SUMIF('Daily Log'!$CK$18:$CK$1017,$B200,'Daily Log'!$CL$18:$CL$1017),0)","v":0},{"$f":"IFERROR($E200*SUMIF('Daily Log'!$CN$18:$CN$1017,$B200,'Daily Log'!$CO$18:$CO$1017),0)","v":0}]
[null,"CH06 82023:7 UP",null,"LOK LOK-BEVERAGE",1,11,{"$f":"IFERROR($E201*SUMIF('Daily Log'!$B$18:$B$1017,$B201,'Daily Log'!$C$18:$C$1017),0)","v":1},{"$f":"IFERROR($E201*SUMIF('Daily Log'!$E$18:$E$1017,$B201,'Daily Log'!$F$18:$F$1017),0)","v":0},{"$f":"IFERROR($E201*SUMIF('Daily Log'!$H$18:$H$1017,$B201,'Daily Log'!$I$18:$I$1017),0)","v":0},{"$f":"IFERROR($E201*SUMIF('Daily Log'!$K$18:$K$1017,$B201,'Daily Log'!$L$18:$L$1017),0)","v":0},{"$f":"IFERROR($E201*SUMIF('Daily Log'!$N$18:$N$1017,$B201,'Daily Log'!$O$18:$O$1017),0)","v":2},{"$f":"IFERROR($E201*SUMIF('Daily Log'!$Q$18:$Q$1017,$B201,'Daily Log'!$R$18:$R$1017),0)","v":0},{"$f":"IFERROR($E201*SUMIF('Daily Log'!$T$18:$T$1017,$B201,'Daily Log'!$U$18:$U$1017),0)","v":0},{"$f":"IFERROR($E201*SUMIF('Daily Log'!$W$18:$W$1017,$B201,'Daily Log'!$X$18:$X$1017),0)","v":0},{"$f":"IFERROR($E201*SUMIF('Daily Log'!$Z$18:$Z$1017,$B201,'Daily Log'!$AA$18:$AA$1017),0)","v":0},{"$f":"IFERROR($E201*SUMIF('Daily Log'!$AC$18:$AC$1017,$B201,'Daily Log'!$AD$18:$AD$1017),0)","v":0},{"$f":"IFERROR($E201*SUMIF('Daily Log'!$AF$18:$AF$1017,$B201,'Daily Log'!$AG$18:$AG$1017),0)","v":1},{"$f":"IFERROR($E201*SUMIF('Daily Log'!$AI$18:$AI$1017,$B201,'Daily Log'!$AJ$18:$AJ$1017),0)","v":0},{"$f":"IFERROR($E201*SUMIF('Daily Log'!$AL$18:$AL$1017,$B201,'Daily Log'!$AM$18:$AM$1017),0)","v":1},{"$f":"IFERROR($E201*SUMIF('Daily Log'!$AO$18:$AO$1017,$B201,'Daily Log'!$AP$18:$AP$1017),0)","v":0},{"$f":"IFERROR($E201*SUMIF('Daily Log'!$AR$18:$AR$1017,$B201,'Daily Log'!$AS$18:$AS$1017),0)","v":0},{"$f":"IFERROR($E201*SUMIF('Daily Log'!$AU$18:$AU$1017,$B201,'Daily Log'!$AV$18:$AV$1017),0)","v":0},{"$f":"IFERROR($E201*SUMIF('Daily Log'!$AX$18:$AX$1017,$B201,'Daily Log'!$AY$18:$AY$1017),0)","v":0},{"$f":"IFERROR($E201*SUMIF('Daily Log'!$BA$18:$BA$1017,$B201,'Daily Log'!$BB$18:$BB$1017),0)","v":0},{"$f":"IFERROR($E201*SUMIF('Daily Log'!$BD$18:$BD$1017,$B201,'Daily Log'!$BE$18:$BE$1017),0)","v":2},{"$f":"IFERROR($E201*SUMIF('Daily Log'!$BG$18:$BG$1017,$B201,'Daily Log'!$BH$18:$BH$1017),0)","v":1},{"$f":"IFERROR($E201*SUMIF('Daily Log'!$BJ$18:$BJ$1017,$B201,'Daily Log'!$BK$18:$BK$1017),0)","v":0},{"$f":"IFERROR($E201*SUMIF('Daily Log'!$BM$18:$BM$1017,$B201,'Daily Log'!$BN$18:$BN$1017),0)","v":0},{"$f":"IFERROR($E201*SUMIF('Daily Log'!$BP$18:$BP$1017,$B201,'Daily Log'!$BQ$18:$BQ$1017),0)","v":0},{"$f":"IFERROR($E201*SUMIF('Daily Log'!$BS$18:$BS$1017,$B201,'Daily Log'!$BT$18:$BT$1017),0)","v":0},{"$f":"IFERROR($E201*SUMIF('Daily Log'!$BV$18:$BV$1017,$B201,'Daily Log'!$BW$18:$BW$1017),0)","v":1},{"$f":"IFERROR($E201*SUMIF('Daily Log'!$BY$18:$BY$1017,$B201,'Daily Log'!$BZ$18:$BZ$1017),0)","v":0},{"$f":"IFERROR($E201*SUMIF('Daily Log'!$CB$18:$CB$1017,$B201,'Daily Log'!$CC$18:$CC$1017),0)","v":0},{"$f":"IFERROR($E201*SUMIF('Daily Log'!$CE$18:$CE$1017,$B201,'Daily Log'!$CF$18:$CF$1017),0)","v":0},{"$f":"IFERROR($E201*SUMIF('Daily Log'!$CH$18:$CH$1017,$B201,'Daily Log'!$CI$18:$CI$1017),0)","v":0},{"$f":"IFERROR($E201*SUMIF('Daily Log'!$CK$18:$CK$1017,$B201,'Daily Log'!$CL$18:$CL$1017),0)","v":2},{"$f":"IFERROR($E201*SUMIF('Daily Log'!$CN$18:$CN$1017,$B201,'Daily Log'!$CO$18:$CO$1017),0)","v":0}]
[null,"CH07 82024:7 UP RV",null,"LOK LOK-BEVERAGE",1,6,{"$f":"IFERROR($E202*SUMIF('Daily Log'!$B$18:$B$1017,$B202,'Daily Log'!$C$18:$C$1017),0)","v":1},{"$f":"IFERROR($E202*SUMIF('Daily Log'!$E$18:$E$1017,$B202,'Daily Log'!$F$18:$F$1017),0)","v":0},{"$f":"IFERROR($E202*SUMIF('Daily Log'!$H$18:$H$1017,$B202,'Daily Log'!$I$18:$I$1017),0)","v":0},{"$f":"IFERROR($E202*SUMIF('Daily Log'!$K$18:$K$1017,$B202,'Daily Log'!$L$18:$L$1017),0)","v":0},{"$f":"IFERROR($E202*SUMIF('Daily Log'!$N$18:$N$1017,$B202,'Daily Log'!$O$18:$O$1017),0)","v":0},{"$f":"IFERROR($E202*SUMIF('Daily Log'!$Q$18:$Q$1017,$B202,'Daily Log'!$R$18:$R$1017),0)","v":0},{"$f":"IFERROR($E202*SUMIF('Daily Log'!$T$18:$T$1017,$B202,'Daily Log'!$U$18:$U$1017),0)","v":0},{"$f":"IFERROR($E202*SUMIF('Daily Log'!$W$18:$W$1017,$B202,'Daily Log'!$X$18:$X$1017),0)","v":1},{"$f":"IFERROR($E202*SUMIF('Daily Log'!$Z$18:$Z$1017,$B202,'Daily Log'!$AA$18:$AA$1017),0)","v":0},{"$f":"IFERROR($E202*SUMIF('Daily Log'!$AC$18:$AC$1017,$B202,'Daily Log'!$AD$18:$AD$1017),0)","v":0},{"$f":"IFERROR($E202*SUMIF('Daily Log'!$AF$18:$AF$1017,$B202,'Daily Log'!$AG$18:$AG$1017),0)","v":0},{"$f":"IFERROR($E202*SUMIF('Daily Log'!$AI$18:$AI$1017,$B202,'Daily Log'!$AJ$18:$AJ$1017),0)","v":0},{"$f":"IFERROR($E202*SUMIF('Daily Log'!$AL$18:$AL$1017,$B202,'Daily Log'!$AM$18:$AM$1017),0)","v":0},{"$f":"IFERROR($E202*SUMIF('Daily Log'!$AO$18:$AO$1017,$B202,'Daily Log'!$AP$18:$AP$1017),0)","v":0},{"$f":"IFERROR($E202*SUMIF('Daily Log'!$AR$18:$AR$1017,$B202,'Daily Log'!$AS$18:$AS$1017),0)","v":0},{"$f":"IFERROR($E202*SUMIF('Daily Log'!$AU$18:$AU$1017,$B202,'Daily Log'!$AV$18:$AV$1017),0)","v":0},{"$f":"IFERROR($E202*SUMIF('Daily Log'!$AX$18:$AX$1017,$B202,'Daily Log'!$AY$18:$AY$1017),0)","v":0},{"$f":"IFERROR($E202*SUMIF('Daily Log'!$BA$18:$BA$1017,$B202,'Daily Log'!$BB$18:$BB$1017),0)","v":0},{"$f":"IFERROR($E202*SUMIF('Daily Log'!$BD$18:$BD$1017,$B202,'Daily Log'!$BE$18:$BE$1017),0)","v":0},{"$f":"IFERROR($E202*SUMIF('Daily Log'!$BG$18:$BG$1017,$B202,'Daily Log'!$BH$18:$BH$1017),0)","v":0},{"$f":"IFERROR($E202*SUMIF('Daily Log'!$BJ$18:$BJ$1017,$B202,'Daily Log'!$BK$18:$BK$1017),0)","v":1},{"$f":"IFERROR($E202*SUMIF('Daily Log'!$BM$18:$BM$1017,$B202,'Daily Log'!$BN$18:$BN$1017),0)","v":0},{"$f":"IFERROR($E202*SUMIF('Daily Log'!$BP$18:$BP$1017,$B202,'Daily Log'!$BQ$18:$BQ$1017),0)","v":0},{"$f":"IFERROR($E202*SUMIF('Daily Log'!$BS$18:$BS$1017,$B202,'Daily Log'!$BT$18:$BT$1017),0)","v":0},{"$f":"IFERROR($E202*SUMIF('Daily Log'!$BV$18:$BV$1017,$B202,'Daily Log'!$BW$18:$BW$1017),0)","v":1},{"$f":"IFERROR($E202*SUMIF('Daily Log'!$BY$18:$BY$1017,$B202,'Daily Log'!$BZ$18:$BZ$1017),0)","v":1},{"$f":"IFERROR($E202*SUMIF('Daily Log'!$CB$18:$CB$1017,$B202,'Daily Log'!$CC$18:$CC$1017),0)","v":0},{"$f":"IFERROR($E202*SUMIF('Daily Log'!$CE$18:$CE$1017,$B202,'Daily Log'!$CF$18:$CF$1017),0)","v":0},{"$f":"IFERROR($E202*SUMIF('Daily Log'!$CH$18:$CH$1017,$B202,'Daily Log'!$CI$18:$CI$1017),0)","v":0},{"$f":"IFERROR($E202*SUMIF('Daily Log'!$CK$18:$CK$1017,$B202,'Daily Log'!$CL$18:$CL$1017),0)","v":1},{"$f":"IFERROR($E202*SUMIF('Daily Log'!$CN$18:$CN$1017,$B202,'Daily Log'!$CO$18:$CO$1017),0)","v":0}]
[null,"CH09 82105:RIBENA",null,"LOK LOK-BEVERAGE",1,37,{"$f":"IFERROR($E203*SUMIF('Daily Log'!$B$18:$B$1017,$B203,'Daily Log'!$C$18:$C$1017),0)","v":2},{"$f":"IFERROR($E203*SUMIF('Daily Log'!$E$18:$E$1017,$B203,'Daily Log'!$F$18:$F$1017),0)","v":0},{"$f":"IFERROR($E203*SUMIF('Daily Log'!$H$18:$H$1017,$B203,'Daily Log'!$I$18:$I$1017),0)","v":1},{"$f":"IFERROR($E203*SUMIF('Daily Log'!$K$18:$K$1017,$B203,'Daily Log'!$L$18:$L$1017),0)","v":4},{"$f":"IFERROR($E203*SUMIF('Daily Log'!$N$18:$N$1017,$B203,'Daily Log'!$O$18:$O$1017),0)","v":3},{"$f":"IFERROR($E203*SUMIF('Daily Log'!$Q$18:$Q$1017,$B203,'Daily Log'!$R$18:$R$1017),0)","v":1},{"$f":"IFERROR($E203*SUMIF('Daily Log'!$T$18:$T$1017,$B203,'Daily Log'!$U$18:$U$1017),0)","v":3},{"$f":"IFERROR($E203*SUMIF('Daily Log'!$W$18:$W$1017,$B203,'Daily Log'!$X$18:$X$1017),0)","v":2},{"$f":"IFERROR($E203*SUMIF('Daily Log'!$Z$18:$Z$1017,$B203,'Daily Log'!$AA$18:$AA$1017),0)","v":0},{"$f":"IFERROR($E203*SUMIF('Daily Log'!$AC$18:$AC$1017,$B203,'Daily Log'!$AD$18:$AD$1017),0)","v":0},{"$f":"IFERROR($E203*SUMIF('Daily Log'!$AF$18:$AF$1017,$B203,'Daily Log'!$AG$18:$AG$1017),0)","v":4},{"$f":"IFERROR($E203*SUMIF('Daily Log'!$AI$18:$AI$1017,$B203,'Daily Log'!$AJ$18:$AJ$1017),0)","v":0},{"$f":"IFERROR($E203*SUMIF('Daily Log'!$AL$18:$AL$1017,$B203,'Daily Log'!$AM$18:$AM$1017),0)","v":0},{"$f":"IFERROR($E203*SUMIF('Daily Log'!$AO$18:$AO$1017,$B203,'Daily Log'!$AP$18:$AP$1017),0)","v":1},{"$f":"IFERROR($E203*SUMIF('Daily Log'!$AR$18:$AR$1017,$B203,'Daily Log'!$AS$18:$AS$1017),0)","v":0},{"$f":"IFERROR($E203*SUMIF('Daily Log'!$AU$18:$AU$1017,$B203,'Daily Log'!$AV$18:$AV$1017),0)","v":0},{"$f":"IFERROR($E203*SUMIF('Daily Log'!$AX$18:$AX$1017,$B203,'Daily Log'!$AY$18:$AY$1017),0)","v":0},{"$f":"IFERROR($E203*SUMIF('Daily Log'!$BA$18:$BA$1017,$B203,'Daily Log'!$BB$18:$BB$1017),0)","v":0},{"$f":"IFERROR($E203*SUMIF('Daily Log'!$BD$18:$BD$1017,$B203,'Daily Log'!$BE$18:$BE$1017),0)","v":2},{"$f":"IFERROR($E203*SUMIF('Daily Log'!$BG$18:$BG$1017,$B203,'Daily Log'!$BH$18:$BH$1017),0)","v":0},{"$f":"IFERROR($E203*SUMIF('Daily Log'!$BJ$18:$BJ$1017,$B203,'Daily Log'!$BK$18:$BK$1017),0)","v":0},{"$f":"IFERROR($E203*SUMIF('Daily Log'!$BM$18:$BM$1017,$B203,'Daily Log'!$BN$18:$BN$1017),0)","v":0},{"$f":"IFERROR($E203*SUMIF('Daily Log'!$BP$18:$BP$1017,$B203,'Daily Log'!$BQ$18:$BQ$1017),0)","v":3},{"$f":"IFERROR($E203*SUMIF('Daily Log'!$BS$18:$BS$1017,$B203,'Daily Log'!$BT$18:$BT$1017),0)","v":2},{"$f":"IFERROR($E203*SUMIF('Daily Log'!$BV$18:$BV$1017,$B203,'Daily Log'!$BW$18:$BW$1017),0)","v":5},{"$f":"IFERROR($E203*SUMIF('Daily Log'!$BY$18:$BY$1017,$B203,'Daily Log'!$BZ$18:$BZ$1017),0)","v":3},{"$f":"IFERROR($E203*SUMIF('Daily Log'!$CB$18:$CB$1017,$B203,'Daily Log'!$CC$18:$CC$1017),0)","v":0},{"$f":"IFERROR($E203*SUMIF('Daily Log'!$CE$18:$CE$1017,$B203,'Daily Log'!$CF$18:$CF$1017),0)","v":0},{"$f":"IFERROR($E203*SUMIF('Daily Log'!$CH$18:$CH$1017,$B203,'Daily Log'!$CI$18:$CI$1017),0)","v":0},{"$f":"IFERROR($E203*SUMIF('Daily Log'!$CK$18:$CK$1017,$B203,'Daily Log'!$CL$18:$CL$1017),0)","v":1},{"$f":"IFERROR($E203*SUMIF('Daily Log'!$CN$18:$CN$1017,$B203,'Daily Log'!$CO$18:$CO$1017),0)","v":0}]
[null,"CH10 82026:BM WATER",null,"LOK LOK-BEVERAGE",1,28,{"$f":"IFERROR($E204*SUMIF('Daily Log'!$B$18:$B$1017,$B204,'Daily Log'!$C$18:$C$1017),0)","v":0},{"$f":"IFERROR($E204*SUMIF('Daily Log'!$E$18:$E$1017,$B204,'Daily Log'!$F$18:$F$1017),0)","v":1},{"$f":"IFERROR($E204*SUMIF('Daily Log'!$H$18:$H$1017,$B204,'Daily Log'!$I$18:$I$1017),0)","v":0},{"$f":"IFERROR($E204*SUMIF('Daily Log'!$K$18:$K$1017,$B204,'Daily Log'!$L$18:$L$1017),0)","v":1},{"$f":"IFERROR($E204*SUMIF('Daily Log'!$N$18:$N$1017,$B204,'Daily Log'!$O$18:$O$1017),0)","v":1},{"$f":"IFERROR($E204*SUMIF('Daily Log'!$Q$18:$Q$1017,$B204,'Daily Log'!$R$18:$R$1017),0)","v":0},{"$f":"IFERROR($E204*SUMIF('Daily Log'!$T$18:$T$1017,$B204,'Daily Log'!$U$18:$U$1017),0)","v":0},{"$f":"IFERROR($E204*SUMIF('Daily Log'!$W$18:$W$1017,$B204,'Daily Log'!$X$18:$X$1017),0)","v":2},{"$f":"IFERROR($E204*SUMIF('Daily Log'!$Z$18:$Z$1017,$B204,'Daily Log'!$AA$18:$AA$1017),0)","v":0},{"$f":"IFERROR($E204*SUMIF('Daily Log'!$AC$18:$AC$1017,$B204,'Daily Log'!$AD$18:$AD$1017),0)","v":0},{"$f":"IFERROR($E204*SUMIF('Daily Log'!$AF$18:$AF$1017,$B204,'Daily Log'!$AG$18:$AG$1017),0)","v":1},{"$f":"IFERROR($E204*SUMIF('Daily Log'!$AI$18:$AI$1017,$B204,'Daily Log'!$AJ$18:$AJ$1017),0)","v":1},{"$f":"IFERROR($E204*SUMIF('Daily Log'!$AL$18:$AL$1017,$B204,'Daily Log'!$AM$18:$AM$1017),0)","v":0},{"$f":"IFERROR($E204*SUMIF('Daily Log'!$AO$18:$AO$1017,$B204,'Daily Log'!$AP$18:$AP$1017),0)","v":0},{"$f":"IFERROR($E204*SUMIF('Daily Log'!$AR$18:$AR$1017,$B204,'Daily Log'!$AS$18:$AS$1017),0)","v":2},{"$f":"IFERROR($E204*SUMIF('Daily Log'!$AU$18:$AU$1017,$B204,'Daily Log'!$AV$18:$AV$1017),0)","v":1},{"$f":"IFERROR($E204*SUMIF('Daily Log'!$AX$18:$AX$1017,$B204,'Daily Log'!$AY$18:$AY$1017),0)","v":2},{"$f":"IFERROR($E204*SUMIF('Daily Log'!$BA$18:$BA$1017,$B204,'Daily Log'!$BB$18:$BB$1017),0)","v":0},{"$f":"IFERROR($E204*SUMIF('Daily Log'!$BD$18:$BD$1017,$B204,'Daily Log'!$BE$18:$BE$1017),0)","v":5},{"$f":"IFERROR($E204*SUMIF('Daily Log'!$BG$18:$BG$1017,$B204,'Daily Log'!$BH$18:$BH$1017),0)","v":1},{"$f":"IFERROR($E204*SUMIF('Daily Log'!$BJ$18:$BJ$1017,$B204,'Daily Log'!$BK$18:$BK$1017),0)","v":0},{"$f":"IFERROR($E204*SUMIF('Daily Log'!$BM$18:$BM$1017,$B204,'Daily Log'!$BN$18:$BN$1017),0)","v":0},{"$f":"IFERROR($E204*SUMIF('Daily Log'!$BP$18:$BP$1017,$B204,'Daily Log'!$BQ$18:$BQ$1017),0)","v":3},{"$f":"IFERROR($E204*SUMIF('Daily Log'!$BS$18:$BS$1017,$B204,'Daily Log'!$BT$18:$BT$1017),0)","v":1},{"$f":"IFERROR($E204*SUMIF('Daily Log'!$BV$18:$BV$1017,$B204,'Daily Log'!$BW$18:$BW$1017),0)","v":2},{"$f":"IFERROR($E204*SUMIF('Daily Log'!$BY$18:$BY$1017,$B204,'Daily Log'!$BZ$18:$BZ$1017),0)","v":3},{"$f":"IFERROR($E204*SUMIF('Daily Log'!$CB$18:$CB$1017,$B204,'Daily Log'!$CC$18:$CC$1017),0)","v":0},{"$f":"IFERROR($E204*SUMIF('Daily Log'!$CE$18:$CE$1017,$B204,'Daily Log'!$CF$18:$CF$1017),0)","v":0},{"$f":"IFERROR($E204*SUMIF('Daily Log'!$CH$18:$CH$1017,$B204,'Daily Log'!$CI$18:$CI$1017),0)","v":1},{"$f":"IFERROR($E204*SUMIF('Daily Log'!$CK$18:$CK$1017,$B204,'Daily Log'!$CL$18:$CL$1017),0)","v":0},{"$f":"IFERROR($E204*SUMIF('Daily Log'!$CN$18:$CN$1017,$B204,'Daily Log'!$CO$18:$CO$1017),0)","v":0}]
[null,"CH08 82025:PEPSI",null,"LOK LOK-BEVERAGE",1,9,{"$f":"IFERROR($E205*SUMIF('Daily Log'!$B$18:$B$1017,$B205,'Daily Log'!$C$18:$C$1017),0)","v":0},{"$f":"IFERROR($E205*SUMIF('Daily Log'!$E$18:$E$1017,$B205,'Daily Log'!$F$18:$F$1017),0)","v":0},{"$f":"IFERROR($E205*SUMIF('Daily Log'!$H$18:$H$1017,$B205,'Daily Log'!$I$18:$I$1017),0)","v":0},{"$f":"IFERROR($E205*SUMIF('Daily Log'!$K$18:$K$1017,$B205,'Daily Log'!$L$18:$L$1017),0)","v":0},{"$f":"IFERROR($E205*SUMIF('Daily Log'!$N$18:$N$1017,$B205,'Daily Log'!$O$18:$O$1017),0)","v":1},{"$f":"IFERROR($E205*SUMIF('Daily Log'!$Q$18:$Q$1017,$B205,'Daily Log'!$R$18:$R$1017),0)","v":0},{"$f":"IFERROR($E205*SUMIF('Daily Log'!$T$18:$T$1017,$B205,'Daily Log'!$U$18:$U$1017),0)","v":0},{"$f":"IFERROR($E205*SUMIF('Daily Log'!$W$18:$W$1017,$B205,'Daily Log'!$X$18:$X$1017),0)","v":1},{"$f":"IFERROR($E205*SUMIF('Daily Log'!$Z$18:$Z$1017,$B205,'Daily Log'!$AA$18:$AA$1017),0)","v":0},{"$f":"IFERROR($E205*SUMIF('Daily Log'!$AC$18:$AC$1017,$B205,'Daily Log'!$AD$18:$AD$1017),0)","v":0},{"$f":"IFERROR($E205*SUMIF('Daily Log'!$AF$18:$AF$1017,$B205,'Daily Log'!$AG$18:$AG$1017),0)","v":0},{"$f":"IFERROR($E205*SUMIF('Daily Log'!$AI$18:$AI$1017,$B205,'Daily Log'!$AJ$18:$AJ$1017),0)","v":0},{"$f":"IFERROR($E205*SUMIF('Daily Log'!$AL$18:$AL$1017,$B205,'Daily Log'!$AM$18:$AM$1017),0)","v":0},{"$f":"IFERROR($E205*SUMIF('Daily Log'!$AO$18:$AO$1017,$B205,'Daily Log'!$AP$18:$AP$1017),0)","v":0},{"$f":"IFERROR($E205*SUMIF('Daily Log'!$AR$18:$AR$1017,$B205,'Daily Log'!$AS$18:$AS$1017),0)","v":1},{"$f":"IFERROR($E205*SUMIF('Daily Log'!$AU$18:$AU$1017,$B205,'Daily Log'!$AV$18:$AV$1017),0)","v":0},{"$f":"IFERROR($E205*SUMIF('Daily Log'!$AX$18:$AX$1017,$B205,'Daily Log'!$AY$18:$AY$1017),0)","v":0},{"$f":"IFERROR($E205*SUMIF('Daily Log'!$BA$18:$BA$1017,$B205,'Daily Log'!$BB$18:$BB$1017),0)","v":0},{"$f":"IFERROR($E205*SUMIF('Daily Log'!$BD$18:$BD$1017,$B205,'Daily Log'!$BE$18:$BE$1017),0)","v":1},{"$f":"IFERROR($E205*SUMIF('Daily Log'!$BG$18:$BG$1017,$B205,'Daily Log'!$BH$18:$BH$1017),0)","v":1},{"$f":"IFERROR($E205*SUMIF('Daily Log'!$BJ$18:$BJ$1017,$B205,'Daily Log'!$BK$18:$BK$1017),0)","v":0},{"$f":"IFERROR($E205*SUMIF('Daily Log'!$BM$18:$BM$1017,$B205,'Daily Log'!$BN$18:$BN$1017),0)","v":0},{"$f":"IFERROR($E205*SUMIF('Daily Log'!$BP$18:$BP$1017,$B205,'Daily Log'!$BQ$18:$BQ$1017),0)","v":0},{"$f":"IFERROR($E205*SUMIF('Daily Log'!$BS$18:$BS$1017,$B205,'Daily Log'!$BT$18:$BT$1017),0)","v":2},{"$f":"IFERROR($E205*SUMIF('Daily Log'!$BV$18:$BV$1017,$B205,'Daily Log'!$BW$18:$BW$1017),0)","v":0},{"$f":"IFERROR($E205*SUMIF('Daily Log'!$BY$18:$BY$1017,$B205,'Daily Log'!$BZ$18:$BZ$1017),0)","v":0},{"$f":"IFERROR($E205*SUMIF('Daily Log'!$CB$18:$CB$1017,$B205,'Daily Log'!$CC$18:$CC$1017),0)","v":2},{"$f":"IFERROR($E205*SUMIF('Daily Log'!$CE$18:$CE$1017,$B205,'Daily Log'!$CF$18:$CF$1017),0)","v":0},{"$f":"IFERROR($E205*SUMIF('Daily Log'!$CH$18:$CH$1017,$B205,'Daily Log'!$CI$18:$CI$1017),0)","v":0},{"$f":"IFERROR($E205*SUMIF('Daily Log'!$CK$18:$CK$1017,$B205,'Daily Log'!$CL$18:$CL$1017),0)","v":0},{"$f":"IFERROR($E205*SUMIF('Daily Log'!$CN$18:$CN$1017,$B205,'Daily Log'!$CO$18:$CO$1017),0)","v":0}]
[null,"CH04 82029:SOYA",null,"LOK LOK-BEVERAGE",1,19,{"$f":"IFERROR($E206*SUMIF('Daily Log'!$B$18:$B$1017,$B206,'Daily Log'!$C$18:$C$1017),0)","v":1},{"$f":"IFERROR($E206*SUMIF('Daily Log'!$E$18:$E$1017,$B206,'Daily Log'!$F$18:$F$1017),0)","v":0},{"$f":"IFERROR($E206*SUMIF('Daily Log'!$H$18:$H$1017,$B206,'Daily Log'!$I$18:$I$1017),0)","v":1},{"$f":"IFERROR($E206*SUMIF('Daily Log'!$K$18:$K$1017,$B206,'Daily Log'!$L$18:$L$1017),0)","v":2},{"$f":"IFERROR($E206*SUMIF('Daily Log'!$N$18:$N$1017,$B206,'Daily Log'!$O$18:$O$1017),0)","v":0},{"$f":"IFERROR($E206*SUMIF('Daily Log'!$Q$18:$Q$1017,$B206,'Daily Log'!$R$18:$R$1017),0)","v":0},{"$f":"IFERROR($E206*SUMIF('Daily Log'!$T$18:$T$1017,$B206,'Daily Log'!$U$18:$U$1017),0)","v":1},{"$f":"IFERROR($E206*SUMIF('Daily Log'!$W$18:$W$1017,$B206,'Daily Log'!$X$18:$X$1017),0)","v":4},{"$f":"IFERROR($E206*SUMIF('Daily Log'!$Z$18:$Z$1017,$B206,'Daily Log'!$AA$18:$AA$1017),0)","v":0},{"$f":"IFERROR($E206*SUMIF('Daily Log'!$AC$18:$AC$1017,$B206,'Daily Log'!$AD$18:$AD$1017),0)","v":3},{"$f":"IFERROR($E206*SUMIF('Daily Log'!$AF$18:$AF$1017,$B206,'Daily Log'!$AG$18:$AG$1017),0)","v":0},{"$f":"IFERROR($E206*SUMIF('Daily Log'!$AI$18:$AI$1017,$B206,'Daily Log'!$AJ$18:$AJ$1017),0)","v":1},{"$f":"IFERROR($E206*SUMIF('Daily Log'!$AL$18:$AL$1017,$B206,'Daily Log'!$AM$18:$AM$1017),0)","v":1},{"$f":"IFERROR($E206*SUMIF('Daily Log'!$AO$18:$AO$1017,$B206,'Daily Log'!$AP$18:$AP$1017),0)","v":2},{"$f":"IFERROR($E206*SUMIF('Daily Log'!$AR$18:$AR$1017,$B206,'Daily Log'!$AS$18:$AS$1017),0)","v":0},{"$f":"IFERROR($E206*SUMIF('Daily Log'!$AU$18:$AU$1017,$B206,'Daily Log'!$AV$18:$AV$1017),0)","v":0},{"$f":"IFERROR($E206*SUMIF('Daily Log'!$AX$18:$AX$1017,$B206,'Daily Log'!$AY$18:$AY$1017),0)","v":0},{"$f":"IFERROR($E206*SUMIF('Daily Log'!$BA$18:$BA$1017,$B206,'Daily Log'!$BB$18:$BB$1017),0)","v":0},{"$f":"IFERROR($E206*SUMIF('Daily Log'!$BD$18:$BD$1017,$B206,'Daily Log'!$BE$18:$BE$1017),0)","v":0},{"$f":"IFERROR($E206*SUMIF('Daily Log'!$BG$18:$BG$1017,$B206,'Daily Log'!$BH$18:$BH$1017),0)","v":1},{"$f":"IFERROR($E206*SUMIF('Daily Log'!$BJ$18:$BJ$1017,$B206,'Daily Log'!$BK$18:$BK$1017),0)","v":0},{"$f":"IFERROR($E206*SUMIF('Daily Log'!$BM$18:$BM$1017,$B206,'Daily Log'!$BN$18:$BN$1017),0)","v":0},{"$f":"IFERROR($E206*SUMIF('Daily Log'!$BP$18:$BP$1017,$B206,'Daily Log'!$BQ$18:$BQ$1017),0)","v":0},{"$f":"IFERROR($E206*SUMIF('Daily Log'!$BS$18:$BS$1017,$B206,'Daily Log'!$BT$18:$BT$1017),0)","v":1},{"$f":"IFERROR($E206*SUMIF('Daily Log'!$BV$18:$BV$1017,$B206,'Daily Log'!$BW$18:$BW$1017),0)","v":1},{"$f":"IFERROR($E206*SUMIF('Daily Log'!$BY$18:$BY$1017,$B206,'Daily Log'!$BZ$18:$BZ$1017),0)","v":0},{"$f":"IFERROR($E206*SUMIF('Daily Log'!$CB$18:$CB$1017,$B206,'Daily Log'!$CC$18:$CC$1017),0)","v":0},{"$f":"IFERROR($E206*SUMIF('Daily Log'!$CE$18:$CE$1017,$B206,'Daily Log'!$CF$18:$CF$1017),0)","v":0},{"$f":"IFERROR($E206*SUMIF('Daily Log'!$CH$18:$CH$1017,$B206,'Daily Log'!$CI$18:$CI$1017),0)","v":0},{"$f":"IFERROR($E206*SUMIF('Daily Log'!$CK$18:$CK$1017,$B206,'Daily Log'!$CL$18:$CL$1017),0)","v":0},{"$f":"IFERROR($E206*SUMIF('Daily Log'!$CN$18:$CN$1017,$B206,'Daily Log'!$CO$18:$CO$1017),0)","v":0}]
[null,"DH01 DUNHILL",null,"CIGARETTE",1,29,{"$f":"IFERROR($E207*SUMIF('Daily Log'!$B$18:$B$1017,$B207,'Daily Log'!$C$18:$C$1017),0)","v":2},{"$f":"IFERROR($E207*SUMIF('Daily Log'!$E$18:$E$1017,$B207,'Daily Log'!$F$18:$F$1017),0)","v":0},{"$f":"IFERROR($E207*SUMIF('Daily Log'!$H$18:$H$1017,$B207,'Daily Log'!$I$18:$I$1017),0)","v":1},{"$f":"IFERROR($E207*SUMIF('Daily Log'!$K$18:$K$1017,$B207,'Daily Log'!$L$18:$L$1017),0)","v":4},{"$f":"IFERROR($E207*SUMIF('Daily Log'!$N$18:$N$1017,$B207,'Daily Log'!$O$18:$O$1017),0)","v":0},{"$f":"IFERROR($E207*SUMIF('Daily Log'!$Q$18:$Q$1017,$B207,'Daily Log'!$R$18:$R$1017),0)","v":0},{"$f":"IFERROR($E207*SUMIF('Daily Log'!$T$18:$T$1017,$B207,'Daily Log'!$U$18:$U$1017),0)","v":3},{"$f":"IFERROR($E207*SUMIF('Daily Log'!$W$18:$W$1017,$B207,'Daily Log'!$X$18:$X$1017),0)","v":3},{"$f":"IFERROR($E207*SUMIF('Daily Log'!$Z$18:$Z$1017,$B207,'Daily Log'!$AA$18:$AA$1017),0)","v":0},{"$f":"IFERROR($E207*SUMIF('Daily Log'!$AC$18:$AC$1017,$B207,'Daily Log'!$AD$18:$AD$1017),0)","v":1},{"$f":"IFERROR($E207*SUMIF('Daily Log'!$AF$18:$AF$1017,$B207,'Daily Log'!$AG$18:$AG$1017),0)","v":1},{"$f":"IFERROR($E207*SUMIF('Daily Log'!$AI$18:$AI$1017,$B207,'Daily Log'!$AJ$18:$AJ$1017),0)","v":0},{"$f":"IFERROR($E207*SUMIF('Daily Log'!$AL$18:$AL$1017,$B207,'Daily Log'!$AM$18:$AM$1017),0)","v":0},{"$f":"IFERROR($E207*SUMIF('Daily Log'!$AO$18:$AO$1017,$B207,'Daily Log'!$AP$18:$AP$1017),0)","v":0},{"$f":"IFERROR($E207*SUMIF('Daily Log'!$AR$18:$AR$1017,$B207,'Daily Log'!$AS$18:$AS$1017),0)","v":0},{"$f":"IFERROR($E207*SUMIF('Daily Log'!$AU$18:$AU$1017,$B207,'Daily Log'!$AV$18:$AV$1017),0)","v":2},{"$f":"IFERROR($E207*SUMIF('Daily Log'!$AX$18:$AX$1017,$B207,'Daily Log'!$AY$18:$AY$1017),0)","v":1},{"$f":"IFERROR($E207*SUMIF('Daily Log'!$BA$18:$BA$1017,$B207,'Daily Log'!$BB$18:$BB$1017),0)","v":1},{"$f":"IFERROR($E207*SUMIF('Daily Log'!$BD$18:$BD$1017,$B207,'Daily Log'!$BE$18:$BE$1017),0)","v":1},{"$f":"IFERROR($E207*SUMIF('Daily Log'!$BG$18:$BG$1017,$B207,'Daily Log'!$BH$18:$BH$1017),0)","v":0},{"$f":"IFERROR($E207*SUMIF('Daily Log'!$BJ$18:$BJ$1017,$B207,'Daily Log'!$BK$18:$BK$1017),0)","v":1},{"$f":"IFERROR($E207*SUMIF('Daily Log'!$BM$18:$BM$1017,$B207,'Daily Log'!$BN$18:$BN$1017),0)","v":1},{"$f":"IFERROR($E207*SUMIF('Daily Log'!$BP$18:$BP$1017,$B207,'Daily Log'!$BQ$18:$BQ$1017),0)","v":0},{"$f":"IFERROR($E207*SUMIF('Daily Log'!$BS$18:$BS$1017,$B207,'Daily Log'!$BT$18:$BT$1017),0)","v":1},{"$f":"IFERROR($E207*SUMIF('Daily Log'!$BV$18:$BV$1017,$B207,'Daily Log'!$BW$18:$BW$1017),0)","v":0},{"$f":"IFERROR($E207*SUMIF('Daily Log'!$BY$18:$BY$1017,$B207,'Daily Log'!$BZ$18:$BZ$1017),0)","v":3},{"$f":"IFERROR($E207*SUMIF('Daily Log'!$CB$18:$CB$1017,$B207,'Daily Log'!$CC$18:$CC$1017),0)","v":1},{"$f":"IFERROR($E207*SUMIF('Daily Log'!$CE$18:$CE$1017,$B207,'Daily Log'!$CF$18:$CF$1017),0)","v":0},{"$f":"IFERROR($E207*SUMIF('Daily Log'!$CH$18:$CH$1017,$B207,'Daily Log'!$CI$18:$CI$1017),0)","v":0},{"$f":"IFERROR($E207*SUMIF('Daily Log'!$CK$18:$CK$1017,$B207,'Daily Log'!$CL$18:$CL$1017),0)","v":2},{"$f":"IFERROR($E207*SUMIF('Daily Log'!$CN$18:$CN$1017,$B207,'Daily Log'!$CO$18:$CO$1017),0)","v":0}]
[null,"DH02 DUNHILL LITE",null,"CIGARETTE",1,28,{"$f":"IFERROR($E208*SUMIF('Daily Log'!$B$18:$B$1017,$B208,'Daily Log'!$C$18:$C$1017),0)","v":1},{"$f":"IFERROR($E208*SUMIF('Daily Log'!$E$18:$E$1017,$B208,'Daily Log'!$F$18:$F$1017),0)","v":0},{"$f":"IFERROR($E208*SUMIF('Daily Log'!$H$18:$H$1017,$B208,'Daily Log'!$I$18:$I$1017),0)","v":0},{"$f":"IFERROR($E208*SUMIF('Daily Log'!$K$18:$K$1017,$B208,'Daily Log'!$L$18:$L$1017),0)","v":0},{"$f":"IFERROR($E208*SUMIF('Daily Log'!$N$18:$N$1017,$B208,'Daily Log'!$O$18:$O$1017),0)","v":2},{"$f":"IFERROR($E208*SUMIF('Daily Log'!$Q$18:$Q$1017,$B208,'Daily Log'!$R$18:$R$1017),0)","v":0},{"$f":"IFERROR($E208*SUMIF('Daily Log'!$T$18:$T$1017,$B208,'Daily Log'!$U$18:$U$1017),0)","v":0},{"$f":"IFERROR($E208*SUMIF('Daily Log'!$W$18:$W$1017,$B208,'Daily Log'!$X$18:$X$1017),0)","v":1},{"$f":"IFERROR($E208*SUMIF('Daily Log'!$Z$18:$Z$1017,$B208,'Daily Log'!$AA$18:$AA$1017),0)","v":0},{"$f":"IFERROR($E208*SUMIF('Daily Log'!$AC$18:$AC$1017,$B208,'Daily Log'!$AD$18:$AD$1017),0)","v":2},{"$f":"IFERROR($E208*SUMIF('Daily Log'!$AF$18:$AF$1017,$B208,'Daily Log'!$AG$18:$AG$1017),0)","v":2},{"$f":"IFERROR($E208*SUMIF('Daily Log'!$AI$18:$AI$1017,$B208,'Daily Log'!$AJ$18:$AJ$1017),0)","v":1},{"$f":"IFERROR($E208*SUMIF('Daily Log'!$AL$18:$AL$1017,$B208,'Daily Log'!$AM$18:$AM$1017),0)","v":2},{"$f":"IFERROR($E208*SUMIF('Daily Log'!$AO$18:$AO$1017,$B208,'Daily Log'!$AP$18:$AP$1017),0)","v":0},{"$f":"IFERROR($E208*SUMIF('Daily Log'!$AR$18:$AR$1017,$B208,'Daily Log'!$AS$18:$AS$1017),0)","v":0},{"$f":"IFERROR($E208*SUMIF('Daily Log'!$AU$18:$AU$1017,$B208,'Daily Log'!$AV$18:$AV$1017),0)","v":0},{"$f":"IFERROR($E208*SUMIF('Daily Log'!$AX$18:$AX$1017,$B208,'Daily Log'!$AY$18:$AY$1017),0)","v":1},{"$f":"IFERROR($E208*SUMIF('Daily Log'!$BA$18:$BA$1017,$B208,'Daily Log'!$BB$18:$BB$1017),0)","v":2},{"$f":"IFERROR($E208*SUMIF('Daily Log'!$BD$18:$BD$1017,$B208,'Daily Log'!$BE$18:$BE$1017),0)","v":1},{"$f":"IFERROR($E208*SUMIF('Daily Log'!$BG$18:$BG$1017,$B208,'Daily Log'!$BH$18:$BH$1017),0)","v":0},{"$f":"IFERROR($E208*SUMIF('Daily Log'!$BJ$18:$BJ$1017,$B208,'Daily Log'!$BK$18:$BK$1017),0)","v":0},{"$f":"IFERROR($E208*SUMIF('Daily Log'!$BM$18:$BM$1017,$B208,'Daily Log'!$BN$18:$BN$1017),0)","v":5},{"$f":"IFERROR($E208*SUMIF('Daily Log'!$BP$18:$BP$1017,$B208,'Daily Log'!$BQ$18:$BQ$1017),0)","v":1},{"$f":"IFERROR($E208*SUMIF('Daily Log'!$BS$18:$BS$1017,$B208,'Daily Log'!$BT$18:$BT$1017),0)","v":1},{"$f":"IFERROR($E208*SUMIF('Daily Log'!$BV$18:$BV$1017,$B208,'Daily Log'!$BW$18:$BW$1017),0)","v":0},{"$f":"IFERROR($E208*SUMIF('Daily Log'!$BY$18:$BY$1017,$B208,'Daily Log'!$BZ$18:$BZ$1017),0)","v":2},{"$f":"IFERROR($E208*SUMIF('Daily Log'!$CB$18:$CB$1017,$B208,'Daily Log'!$CC$18:$CC$1017),0)","v":2},{"$f":"IFERROR($E208*SUMIF('Daily Log'!$CE$18:$CE$1017,$B208,'Daily Log'!$CF$18:$CF$1017),0)","v":0},{"$f":"IFERROR($E208*SUMIF('Daily Log'!$CH$18:$CH$1017,$B208,'Daily Log'!$CI$18:$CI$1017),0)","v":0},{"$f":"IFERROR($E208*SUMIF('Daily Log'!$CK$18:$CK$1017,$B208,'Daily Log'!$CL$18:$CL$1017),0)","v":2},{"$f":"IFERROR($E208*SUMIF('Daily Log'!$CN$18:$CN$1017,$B208,'Daily Log'!$CO$18:$CO$1017),0)","v":0}]
[null,"DH03 DUNHILL MT",null,"CIGARETTE",1,12,{"$f":"IFERROR($E209*SUMIF('Daily Log'!$B$18:$B$1017,$B209,'Daily Log'!$C$18:$C$1017),0)","v":1},{"$f":"IFERROR($E209*SUMIF('Daily Log'!$E$18:$E$1017,$B209,'Daily Log'!$F$18:$F$1017),0)","v":1},{"$f":"IFERROR($E209*SUMIF('Daily Log'!$H$18:$H$1017,$B209,'Daily Log'!$I$18:$I$1017),0)","v":0},{"$f":"IFERROR($E209*SUMIF('Daily Log'!$K$18:$K$1017,$B209,'Daily Log'!$L$18:$L$1017),0)","v":1},{"$f":"IFERROR($E209*SUMIF('Daily Log'!$N$18:$N$1017,$B209,'Daily Log'!$O$18:$O$1017),0)","v":0},{"$f":"IFERROR($E209*SUMIF('Daily Log'!$Q$18:$Q$1017,$B209,'Daily Log'!$R$18:$R$1017),0)","v":0},{"$f":"IFERROR($E209*SUMIF('Daily Log'!$T$18:$T$1017,$B209,'Daily Log'!$U$18:$U$1017),0)","v":0},{"$f":"IFERROR($E209*SUMIF('Daily Log'!$W$18:$W$1017,$B209,'Daily Log'!$X$18:$X$1017),0)","v":0},{"$f":"IFERROR($E209*SUMIF('Daily Log'!$Z$18:$Z$1017,$B209,'Daily Log'!$AA$18:$AA$1017),0)","v":0},{"$f":"IFERROR($E209*SUMIF('Daily Log'!$AC$18:$AC$1017,$B209,'Daily Log'!$AD$18:$AD$1017),0)","v":0},{"$f":"IFERROR($E209*SUMIF('Daily Log'!$AF$18:$AF$1017,$B209,'Daily Log'!$AG$18:$AG$1017),0)","v":0},{"$f":"IFERROR($E209*SUMIF('Daily Log'!$AI$18:$AI$1017,$B209,'Daily Log'!$AJ$18:$AJ$1017),0)","v":0},{"$f":"IFERROR($E209*SUMIF('Daily Log'!$AL$18:$AL$1017,$B209,'Daily Log'!$AM$18:$AM$1017),0)","v":0},{"$f":"IFERROR($E209*SUMIF('Daily Log'!$AO$18:$AO$1017,$B209,'Daily Log'!$AP$18:$AP$1017),0)","v":0},{"$f":"IFERROR($E209*SUMIF('Daily Log'!$AR$18:$AR$1017,$B209,'Daily Log'!$AS$18:$AS$1017),0)","v":0},{"$f":"IFERROR($E209*SUMIF('Daily Log'!$AU$18:$AU$1017,$B209,'Daily Log'!$AV$18:$AV$1017),0)","v":1},{"$f":"IFERROR($E209*SUMIF('Daily Log'!$AX$18:$AX$1017,$B209,'Daily Log'!$AY$18:$AY$1017),0)","v":0},{"$f":"IFERROR($E209*SUMIF('Daily Log'!$BA$18:$BA$1017,$B209,'Daily Log'!$BB$18:$BB$1017),0)","v":1},{"$f":"IFERROR($E209*SUMIF('Daily Log'!$BD$18:$BD$1017,$B209,'Daily Log'!$BE$18:$BE$1017),0)","v":0},{"$f":"IFERROR($E209*SUMIF('Daily Log'!$BG$18:$BG$1017,$B209,'Daily Log'!$BH$18:$BH$1017),0)","v":0},{"$f":"IFERROR($E209*SUMIF('Daily Log'!$BJ$18:$BJ$1017,$B209,'Daily Log'!$BK$18:$BK$1017),0)","v":0},{"$f":"IFERROR($E209*SUMIF('Daily Log'!$BM$18:$BM$1017,$B209,'Daily Log'!$BN$18:$BN$1017),0)","v":0},{"$f":"IFERROR($E209*SUMIF('Daily Log'!$BP$18:$BP$1017,$B209,'Daily Log'!$BQ$18:$BQ$1017),0)","v":0},{"$f":"IFERROR($E209*SUMIF('Daily Log'!$BS$18:$BS$1017,$B209,'Daily Log'!$BT$18:$BT$1017),0)","v":1},{"$f":"IFERROR($E209*SUMIF('Daily Log'!$BV$18:$BV$1017,$B209,'Daily Log'!$BW$18:$BW$1017),0)","v":0},{"$f":"IFERROR($E209*SUMIF('Daily Log'!$BY$18:$BY$1017,$B209,'Daily Log'!$BZ$18:$BZ$1017),0)","v":0},{"$f":"IFERROR($E209*SUMIF('Daily Log'!$CB$18:$CB$1017,$B209,'Daily Log'!$CC$18:$CC$1017),0)","v":4},{"$f":"IFERROR($E209*SUMIF('Daily Log'!$CE$18:$CE$1017,$B209,'Daily Log'!$CF$18:$CF$1017),0)","v":0},{"$f":"IFERROR($E209*SUMIF('Daily Log'!$CH$18:$CH$1017,$B209,'Daily Log'!$CI$18:$CI$1017),0)","v":1},{"$f":"IFERROR($E209*SUMIF('Daily Log'!$CK$18:$CK$1017,$B209,'Daily Log'!$CL$18:$CL$1017),0)","v":1},{"$f":"IFERROR($E209*SUMIF('Daily Log'!$CN$18:$CN$1017,$B209,'Daily Log'!$CO$18:$CO$1017),0)","v":0}]
[null,"DH05 DUNHILL BOOST",null,"CIGARETTE",1,0,{"$f":"IFERROR($E210*SUMIF('Daily Log'!$B$18:$B$1017,$B210,'Daily Log'!$C$18:$C$1017),0)","v":0},{"$f":"IFERROR($E210*SUMIF('Daily Log'!$E$18:$E$1017,$B210,'Daily Log'!$F$18:$F$1017),0)","v":0},{"$f":"IFERROR($E210*SUMIF('Daily Log'!$H$18:$H$1017,$B210,'Daily Log'!$I$18:$I$1017),0)","v":0},{"$f":"IFERROR($E210*SUMIF('Daily Log'!$K$18:$K$1017,$B210,'Daily Log'!$L$18:$L$1017),0)","v":0},{"$f":"IFERROR($E210*SUMIF('Daily Log'!$N$18:$N$1017,$B210,'Daily Log'!$O$18:$O$1017),0)","v":0},{"$f":"IFERROR($E210*SUMIF('Daily Log'!$Q$18:$Q$1017,$B210,'Daily Log'!$R$18:$R$1017),0)","v":0},{"$f":"IFERROR($E210*SUMIF('Daily Log'!$T$18:$T$1017,$B210,'Daily Log'!$U$18:$U$1017),0)","v":0},{"$f":"IFERROR($E210*SUMIF('Daily Log'!$W$18:$W$1017,$B210,'Daily Log'!$X$18:$X$1017),0)","v":0},{"$f":"IFERROR($E210*SUMIF('Daily Log'!$Z$18:$Z$1017,$B210,'Daily Log'!$AA$18:$AA$1017),0)","v":0},{"$f":"IFERROR($E210*SUMIF('Daily Log'!$AC$18:$AC$1017,$B210,'Daily Log'!$AD$18:$AD$1017),0)","v":0},{"$f":"IFERROR($E210*SUMIF('Daily Log'!$AF$18:$AF$1017,$B210,'Daily Log'!$AG$18:$AG$1017),0)","v":0},{"$f":"IFERROR($E210*SUMIF('Daily Log'!$AI$18:$AI$1017,$B210,'Daily Log'!$AJ$18:$AJ$1017),0)","v":0},{"$f":"IFERROR($E210*SUMIF('Daily Log'!$AL$18:$AL$1017,$B210,'Daily Log'!$AM$18:$AM$1017),0)","v":0},{"$f":"IFERROR($E210*SUMIF('Daily Log'!$AO$18:$AO$1017,$B210,'Daily Log'!$AP$18:$AP$1017),0)","v":0},{"$f":"IFERROR($E210*SUMIF('Daily Log'!$AR$18:$AR$1017,$B210,'Daily Log'!$AS$18:$AS$1017),0)","v":0},{"$f":"IFERROR($E210*SUMIF('Daily Log'!$AU$18:$AU$1017,$B210,'Daily Log'!$AV$18:$AV$1017),0)","v":0},{"$f":"IFERROR($E210*SUMIF('Daily Log'!$AX$18:$AX$1017,$B210,'Daily Log'!$AY$18:$AY$1017),0)","v":0},{"$f":"IFERROR($E210*SUMIF('Daily Log'!$BA$18:$BA$1017,$B210,'Daily Log'!$BB$18:$BB$1017),0)","v":0},{"$f":"IFERROR($E210*SUMIF('Daily Log'!$BD$18:$BD$1017,$B210,'Daily Log'!$BE$18:$BE$1017),0)","v":0},{"$f":"IFERROR($E210*SUMIF('Daily Log'!$BG$18:$BG$1017,$B210,'Daily Log'!$BH$18:$BH$1017),0)","v":0},{"$f":"IFERROR($E210*SUMIF('Daily Log'!$BJ$18:$BJ$1017,$B210,'Daily Log'!$BK$18:$BK$1017),0)","v":0},{"$f":"IFERROR($E210*SUMIF('Daily Log'!$BM$18:$BM$1017,$B210,'Daily Log'!$BN$18:$BN$1017),0)","v":0},{"$f":"IFERROR($E210*SUMIF('Daily Log'!$BP$18:$BP$1017,$B210,'Daily Log'!$BQ$18:$BQ$1017),0)","v":0},{"$f":"IFERROR($E210*SUMIF('Daily Log'!$BS$18:$BS$1017,$B210,'Daily Log'!$BT$18:$BT$1017),0)","v":0},{"$f":"IFERROR($E210*SUMIF('Daily Log'!$BV$18:$BV$1017,$B210,'Daily Log'!$BW$18:$BW$1017),0)","v":0},{"$f":"IFERROR($E210*SUMIF('Daily Log'!$BY$18:$BY$1017,$B210,'Daily Log'!$BZ$18:$BZ$1017),0)","v":0},{"$f":"IFERROR($E210*SUMIF('Daily Log'!$CB$18:$CB$1017,$B210,'Daily Log'!$CC$18:$CC$1017),0)","v":0},{"$f":"IFERROR($E210*SUMIF('Daily Log'!$CE$18:$CE$1017,$B210,'Daily Log'!$CF$18:$CF$1017),0)","v":0},{"$f":"IFERROR($E210*SUMIF('Daily Log'!$CH$18:$CH$1017,$B210,'Daily Log'!$CI$18:$CI$1017),0)","v":0},{"$f":"IFERROR($E210*SUMIF('Daily Log'!$CK$18:$CK$1017,$B210,'Daily Log'!$CL$18:$CL$1017),0)","v":0},{"$f":"IFERROR($E210*SUMIF('Daily Log'!$CN$18:$CN$1017,$B210,'Daily Log'!$CO$18:$CO$1017),0)","v":0}]
[null,"DH07 DUNHILL ICE",null,"CIGARETTE",1,21,{"$f":"IFERROR($E211*SUMIF('Daily Log'!$B$18:$B$1017,$B211,'Daily Log'!$C$18:$C$1017),0)","v":0},{"$f":"IFERROR($E211*SUMIF('Daily Log'!$E$18:$E$1017,$B211,'Daily Log'!$F$18:$F$1017),0)","v":0},{"$f":"IFERROR($E211*SUMIF('Daily Log'!$H$18:$H$1017,$B211,'Daily Log'!$I$18:$I$1017),0)","v":2},{"$f":"IFERROR($E211*SUMIF('Daily Log'!$K$18:$K$1017,$B211,'Daily Log'!$L$18:$L$1017),0)","v":2},{"$f":"IFERROR($E211*SUMIF('Daily Log'!$N$18:$N$1017,$B211,'Daily Log'!$O$18:$O$1017),0)","v":1},{"$f":"IFERROR($E211*SUMIF('Daily Log'!$Q$18:$Q$1017,$B211,'Daily Log'!$R$18:$R$1017),0)","v":0},{"$f":"IFERROR($E211*SUMIF('Daily Log'!$T$18:$T$1017,$B211,'Daily Log'!$U$18:$U$1017),0)","v":0},{"$f":"IFERROR($E211*SUMIF('Daily Log'!$W$18:$W$1017,$B211,'Daily Log'!$X$18:$X$1017),0)","v":0},{"$f":"IFERROR($E211*SUMIF('Daily Log'!$Z$18:$Z$1017,$B211,'Daily Log'!$AA$18:$AA$1017),0)","v":0},{"$f":"IFERROR($E211*SUMIF('Daily Log'!$AC$18:$AC$1017,$B211,'Daily Log'!$AD$18:$AD$1017),0)","v":1},{"$f":"IFERROR($E211*SUMIF('Daily Log'!$AF$18:$AF$1017,$B211,'Daily Log'!$AG$18:$AG$1017),0)","v":0},{"$f":"IFERROR($E211*SUMIF('Daily Log'!$AI$18:$AI$1017,$B211,'Daily Log'!$AJ$18:$AJ$1017),0)","v":0},{"$f":"IFERROR($E211*SUMIF('Daily Log'!$AL$18:$AL$1017,$B211,'Daily Log'!$AM$18:$AM$1017),0)","v":0},{"$f":"IFERROR($E211*SUMIF('Daily Log'!$AO$18:$AO$1017,$B211,'Daily Log'!$AP$18:$AP$1017),0)","v":1},{"$f":"IFERROR($E211*SUMIF('Daily Log'!$AR$18:$AR$1017,$B211,'Daily Log'!$AS$18:$AS$1017),0)","v":0},{"$f":"IFERROR($E211*SUMIF('Daily Log'!$AU$18:$AU$1017,$B211,'Daily Log'!$AV$18:$AV$1017),0)","v":1},{"$f":"IFERROR($E211*SUMIF('Daily Log'!$AX$18:$AX$1017,$B211,'Daily Log'!$AY$18:$AY$1017),0)","v":0},{"$f":"IFERROR($E211*SUMIF('Daily Log'!$BA$18:$BA$1017,$B211,'Daily Log'!$BB$18:$BB$1017),0)","v":2},{"$f":"IFERROR($E211*SUMIF('Daily Log'!$BD$18:$BD$1017,$B211,'Daily Log'!$BE$18:$BE$1017),0)","v":1},{"$f":"IFERROR($E211*SUMIF('Daily Log'!$BG$18:$BG$1017,$B211,'Daily Log'!$BH$18:$BH$1017),0)","v":1},{"$f":"IFERROR($E211*SUMIF('Daily Log'!$BJ$18:$BJ$1017,$B211,'Daily Log'!$BK$18:$BK$1017),0)","v":1},{"$f":"IFERROR($E211*SUMIF('Daily Log'!$BM$18:$BM$1017,$B211,'Daily Log'!$BN$18:$BN$1017),0)","v":0},{"$f":"IFERROR($E211*SUMIF('Daily Log'!$BP$18:$BP$1017,$B211,'Daily Log'!$BQ$18:$BQ$1017),0)","v":0},{"$f":"IFERROR($E211*SUMIF('Daily Log'!$BS$18:$BS$1017,$B211,'Daily Log'!$BT$18:$BT$1017),0)","v":0},{"$f":"IFERROR($E211*SUMIF('Daily Log'!$BV$18:$BV$1017,$B211,'Daily Log'!$BW$18:$BW$1017),0)","v":0},{"$f":"IFERROR($E211*SUMIF('Daily Log'!$BY$18:$BY$1017,$B211,'Daily Log'!$BZ$18:$BZ$1017),0)","v":2},{"$f":"IFERROR($E211*SUMIF('Daily Log'!$CB$18:$CB$1017,$B211,'Daily Log'!$CC$18:$CC$1017),0)","v":2},{"$f":"IFERROR($E211*SUMIF('Daily Log'!$CE$18:$CE$1017,$B211,'Daily Log'!$CF$18:$CF$1017),0)","v":2},{"$f":"IFERROR($E211*SUMIF('Daily Log'!$CH$18:$CH$1017,$B211,'Daily Log'!$CI$18:$CI$1017),0)","v":1},{"$f":"IFERROR($E211*SUMIF('Daily Log'!$CK$18:$CK$1017,$B211,'Daily Log'!$CL$18:$CL$1017),0)","v":1},{"$f":"IFERROR($E211*SUMIF('Daily Log'!$CN$18:$CN$1017,$B211,'Daily Log'!$CO$18:$CO$1017),0)","v":0}]
[null,"CIGARETTE TOTAL",null,"BEER",null,90,{"$f":"SUM(G207:G211)","v":4},1,3,7,3,0,3,4,0,4,3,1,2,1,0,4,2,6,3,1,2,6,1,3,0,7,9,2,2,6,0]
[null,"WA01 2026:BM WATER",null,"MINERAL WATER",1,11,{"$f":"IFERROR($E213*SUMIF('Daily Log'!$B$18:$B$1017,$B213,'Daily Log'!$C$18:$C$1017),0)","v":1},{"$f":"IFERROR($E213*SUMIF('Daily Log'!$E$18:$E$1017,$B213,'Daily Log'!$F$18:$F$1017),0)","v":0},{"$f":"IFERROR($E213*SUMIF('Daily Log'!$H$18:$H$1017,$B213,'Daily Log'!$I$18:$I$1017),0)","v":1},{"$f":"IFERROR($E213*SUMIF('Daily Log'!$K$18:$K$1017,$B213,'Daily Log'!$L$18:$L$1017),0)","v":5},{"$f":"IFERROR($E213*SUMIF('Daily Log'!$N$18:$N$1017,$B213,'Daily Log'!$O$18:$O$1017),0)","v":1},{"$f":"IFERROR($E213*SUMIF('Daily Log'!$Q$18:$Q$1017,$B213,'Daily Log'!$R$18:$R$1017),0)","v":0},{"$f":"IFERROR($E213*SUMIF('Daily Log'!$T$18:$T$1017,$B213,'Daily Log'!$U$18:$U$1017),0)","v":0},{"$f":"IFERROR($E213*SUMIF('Daily Log'!$W$18:$W$1017,$B213,'Daily Log'!$X$18:$X$1017),0)","v":0},{"$f":"IFERROR($E213*SUMIF('Daily Log'!$Z$18:$Z$1017,$B213,'Daily Log'!$AA$18:$AA$1017),0)","v":0},{"$f":"IFERROR($E213*SUMIF('Daily Log'!$AC$18:$AC$1017,$B213,'Daily Log'!$AD$18:$AD$1017),0)","v":0},{"$f":"IFERROR($E213*SUMIF('Daily Log'!$AF$18:$AF$1017,$B213,'Daily Log'!$AG$18:$AG$1017),0)","v":1},{"$f":"IFERROR($E213*SUMIF('Daily Log'!$AI$18:$AI$1017,$B213,'Daily Log'!$AJ$18:$AJ$1017),0)","v":0},{"$f":"IFERROR($E213*SUMIF('Daily Log'!$AL$18:$AL$1017,$B213,'Daily Log'!$AM$18:$AM$1017),0)","v":1},{"$f":"IFERROR($E213*SUMIF('Daily Log'!$AO$18:$AO$1017,$B213,'Daily Log'!$AP$18:$AP$1017),0)","v":0},{"$f":"IFERROR($E213*SUMIF('Daily Log'!$AR$18:$AR$1017,$B213,'Daily Log'!$AS$18:$AS$1017),0)","v":0},{"$f":"IFERROR($E213*SUMIF('Daily Log'!$AU$18:$AU$1017,$B213,'Daily Log'!$AV$18:$AV$1017),0)","v":0},{"$f":"IFERROR($E213*SUMIF('Daily Log'!$AX$18:$AX$1017,$B213,'Daily Log'!$AY$18:$AY$1017),0)","v":0},{"$f":"IFERROR($E213*SUMIF('Daily Log'!$BA$18:$BA$1017,$B213,'Daily Log'!$BB$18:$BB$1017),0)","v":0},{"$f":"IFERROR($E213*SUMIF('Daily Log'!$BD$18:$BD$1017,$B213,'Daily Log'!$BE$18:$BE$1017),0)","v":0},{"$f":"IFERROR($E213*SUMIF('Daily Log'!$BG$18:$BG$1017,$B213,'Daily Log'!$BH$18:$BH$1017),0)","v":0},{"$f":"IFERROR($E213*SUMIF('Daily Log'!$BJ$18:$BJ$1017,$B213,'Daily Log'!$BK$18:$BK$1017),0)","v":0},{"$f":"IFERROR($E213*SUMIF('Daily Log'!$BM$18:$BM$1017,$B213,'Daily Log'!$BN$18:$BN$1017),0)","v":0},{"$f":"IFERROR($E213*SUMIF('Daily Log'!$BP$18:$BP$1017,$B213,'Daily Log'!$BQ$18:$BQ$1017),0)","v":0},{"$f":"IFERROR($E213*SUMIF('Daily Log'!$BS$18:$BS$1017,$B213,'Daily Log'!$BT$18:$BT$1017),0)","v":0},{"$f":"IFERROR($E213*SUMIF('Daily Log'!$BV$18:$BV$1017,$B213,'Daily Log'!$BW$18:$BW$1017),0)","v":0},{"$f":"IFERROR($E213*SUMIF('Daily Log'!$BY$18:$BY$1017,$B213,'Daily Log'!$BZ$18:$BZ$1017),0)","v":1},{"$f":"IFERROR($E213*SUMIF('Daily Log'!$CB$18:$CB$1017,$B213,'Daily Log'!$CC$18:$CC$1017),0)","v":0},{"$f":"IFERROR($E213*SUMIF('Daily Log'!$CE$18:$CE$1017,$B213,'Daily Log'!$CF$18:$CF$1017),0)","v":0},{"$f":"IFERROR($E213*SUMIF('Daily Log'!$CH$18:$CH$1017,$B213,'Daily Log'!$CI$18:$CI$1017),0)","v":0},{"$f":"IFERROR($E213*SUMIF('Daily Log'!$CK$18:$CK$1017,$B213,'Daily Log'!$CL$18:$CL$1017),0)","v":0},{"$f":"IFERROR($E213*SUMIF('Daily Log'!$CN$18:$CN$1017,$B213,'Daily Log'!$CO$18:$CO$1017),0)","v":0}]
[null,"MC02 MIC COVER X 3",null,"MIC COVER",1,{"$f":"SUM($G214:$AK214)","v":40},{"$f":"IFERROR($E214*SUMIF('Daily Log'!$B$18:$B$1017,$B214,'Daily Log'!$C$18:$C$1017),0)","v":0},{"$f":"IFERROR($E214*SUMIF('Daily Log'!$E$18:$E$1017,$B214,'Daily Log'!$F$18:$F$1017),0)","v":5},{"$f":"IFERROR($E214*SUMIF('Daily Log'!$H$18:$H$1017,$B214,'Daily Log'!$I$18:$I$1017),0)","v":1},{"$f":"IFERROR($E214*SUMIF('Daily Log'!$K$18:$K$1017,$B214,'Daily Log'!$L$18:$L$1017),0)","v":3},{"$f":"IFERROR($E214*SUMIF('Daily Log'!$N$18:$N$1017,$B214,'Daily Log'!$O$18:$O$1017),0)","v":1},{"$f":"IFERROR($E214*SUMIF('Daily Log'!$Q$18:$Q$1017,$B214,'Daily Log'!$R$18:$R$1017),0)","v":0},{"$f":"IFERROR($E214*SUMIF('Daily Log'!$T$18:$T$1017,$B214,'Daily Log'!$U$18:$U$1017),0)","v":1},{"$f":"IFERROR($E214*SUMIF('Daily Log'!$W$18:$W$1017,$B214,'Daily Log'!$X$18:$X$1017),0)","v":2},{"$f":"IFERROR($E214*SUMIF('Daily Log'!$Z$18:$Z$1017,$B214,'Daily Log'!$AA$18:$AA$1017),0)","v":0},{"$f":"IFERROR($E214*SUMIF('Daily Log'!$AC$18:$AC$1017,$B214,'Daily Log'!$AD$18:$AD$1017),0)","v":0},{"$f":"IFERROR($E214*SUMIF('Daily Log'!$AF$18:$AF$1017,$B214,'Daily Log'!$AG$18:$AG$1017),0)","v":0},{"$f":"IFERROR($E214*SUMIF('Daily Log'!$AI$18:$AI$1017,$B214,'Daily Log'!$AJ$18:$AJ$1017),0)","v":1},{"$f":"IFERROR($E214*SUMIF('Daily Log'!$AL$18:$AL$1017,$B214,'Daily Log'!$AM$18:$AM$1017),0)","v":2},{"$f":"IFERROR($E214*SUMIF('Daily Log'!$AO$18:$AO$1017,$B214,'Daily Log'!$AP$18:$AP$1017),0)","v":2},{"$f":"IFERROR($E214*SUMIF('Daily Log'!$AR$18:$AR$1017,$B214,'Daily Log'!$AS$18:$AS$1017),0)","v":1},{"$f":"IFERROR($E214*SUMIF('Daily Log'!$AU$18:$AU$1017,$B214,'Daily Log'!$AV$18:$AV$1017),0)","v":2},{"$f":"IFERROR($E214*SUMIF('Daily Log'!$AX$18:$AX$1017,$B214,'Daily Log'!$AY$18:$AY$1017),0)","v":2},{"$f":"IFERROR($E214*SUMIF('Daily Log'!$BA$18:$BA$1017,$B214,'Daily Log'!$BB$18:$BB$1017),0)","v":1},{"$f":"IFERROR($E214*SUMIF('Daily Log'!$BD$18:$BD$1017,$B214,'Daily Log'!$BE$18:$BE$1017),0)","v":4},{"$f":"IFERROR($E214*SUMIF('Daily Log'!$BG$18:$BG$1017,$B214,'Daily Log'!$BH$18:$BH$1017),0)","v":1},{"$f":"IFERROR($E214*SUMIF('Daily Log'!$BJ$18:$BJ$1017,$B214,'Daily Log'!$BK$18:$BK$1017),0)","v":1},{"$f":"IFERROR($E214*SUMIF('Daily Log'!$BM$18:$BM$1017,$B214,'Daily Log'!$BN$18:$BN$1017),0)","v":2},{"$f":"IFERROR($E214*SUMIF('Daily Log'!$BP$18:$BP$1017,$B214,'Daily Log'!$BQ$18:$BQ$1017),0)","v":2},{"$f":"IFERROR($E214*SUMIF('Daily Log'!$BS$18:$BS$1017,$B214,'Daily Log'!$BT$18:$BT$1017),0)","v":0},{"$f":"IFERROR($E214*SUMIF('Daily Log'!$BV$18:$BV$1017,$B214,'Daily Log'!$BW$18:$BW$1017),0)","v":1},{"$f":"IFERROR($E214*SUMIF('Daily Log'!$BY$18:$BY$1017,$B214,'Daily Log'!$BZ$18:$BZ$1017),0)","v":0},{"$f":"IFERROR($E214*SUMIF('Daily Log'!$CB$18:$CB$1017,$B214,'Daily Log'!$CC$18:$CC$1017),0)","v":1},{"$f":"IFERROR($E214*SUMIF('Daily Log'!$CE$18:$CE$1017,$B214,'Daily Log'!$CF$18:$CF$1017),0)","v":1},{"$f":"IFERROR($E214*SUMIF('Daily Log'!$CH$18:$CH$1017,$B214,'Daily Log'!$CI$18:$CI$1017),0)","v":1},{"$f":"IFERROR($E214*SUMIF('Daily Log'!$CK$18:$CK$1017,$B214,'Daily Log'!$CL$18:$CL$1017),0)","v":2},{"$f":"IFERROR($E214*SUMIF('Daily Log'!$CN$18:$CN$1017,$B214,'Daily Log'!$CO$18:$CO$1017),0)","v":0}]
[null,null,null,null,null,0,{"$f":"IFERROR($E215*SUMIF('Daily Log'!$B$18:$B$1017,$B215,'Daily Log'!$C$18:$C$1017),0)","v":0},{"$f":"IFERROR($E215*SUMIF('Daily Log'!$E$18:$E$1017,$B215,'Daily Log'!$F$18:$F$1017),0)","v":0},{"$f":"IFERROR($E215*SUMIF('Daily Log'!$H$18:$H$1017,$B215,'Daily Log'!$I$18:$I$1017),0)","v":0},{"$f":"IFERROR($E215*SUMIF('Daily Log'!$K$18:$K$1017,$B215,'Daily Log'!$L$18:$L$1017),0)","v":0},{"$f":"IFERROR($E215*SUMIF('Daily Log'!$N$18:$N$1017,$B215,'Daily Log'!$O$18:$O$1017),0)","v":0},{"$f":"IFERROR($E215*SUMIF('Daily Log'!$Q$18:$Q$1017,$B215,'Daily Log'!$R$18:$R$1017),0)","v":0},{"$f":"IFERROR($E215*SUMIF('Daily Log'!$T$18:$T$1017,$B215,'Daily Log'!$U$18:$U$1017),0)","v":0},{"$f":"IFERROR($E215*SUMIF('Daily Log'!$W$18:$W$1017,$B215,'Daily Log'!$X$18:$X$1017),0)","v":0},{"$f":"IFERROR($E215*SUMIF('Daily Log'!$Z$18:$Z$1017,$B215,'Daily Log'!$AA$18:$AA$1017),0)","v":0},{"$f":"IFERROR($E215*SUMIF('Daily Log'!$AC$18:$AC$1017,$B215,'Daily Log'!$AD$18:$AD$1017),0)","v":0},{"$f":"IFERROR($E215*SUMIF('Daily Log'!$AF$18:$AF$1017,$B215,'Daily Log'!$AG$18:$AG$1017),0)","v":0},{"$f":"IFERROR($E215*SUMIF('Daily Log'!$AI$18:$AI$1017,$B215,'Daily Log'!$AJ$18:$AJ$1017),0)","v":0},{"$f":"IFERROR($E215*SUMIF('Daily Log'!$AL$18:$AL$1017,$B215,'Daily Log'!$AM$18:$AM$1017),0)","v":0},{"$f":"IFERROR($E215*SUMIF('Daily Log'!$AO$18:$AO$1017,$B215,'Daily Log'!$AP$18:$AP$1017),0)","v":0},{"$f":"IFERROR($E215*SUMIF('Daily Log'!$AR$18:$AR$1017,$B215,'Daily Log'!$AS$18:$AS$1017),0)","v":0},{"$f":"IFERROR($E215*SUMIF('Daily Log'!$AU$18:$AU$1017,$B215,'Daily Log'!$AV$18:$AV$1017),0)","v":0},{"$f":"IFERROR($E215*SUMIF('Daily Log'!$AX$18:$AX$1017,$B215,'Daily Log'!$AY$18:$AY$1017),0)","v":0},{"$f":"IFERROR($E215*SUMIF('Daily Log'!$BA$18:$BA$1017,$B215,'Daily Log'!$BB$18:$BB$1017),0)","v":0},{"$f":"IFERROR($E215*SUMIF('Daily Log'!$BD$18:$BD$1017,$B215,'Daily Log'!$BE$18:$BE$1017),0)","v":0},{"$f":"IFERROR($E215*SUMIF('Daily Log'!$BG$18:$BG$1017,$B215,'Daily Log'!$BH$18:$BH$1017),0)","v":0},{"$f":"IFERROR($E215*SUMIF('Daily Log'!$BJ$18:$BJ$1017,$B215,'Daily Log'!$BK$18:$BK$1017),0)","v":0},{"$f":"IFERROR($E215*SUMIF('Daily Log'!$BM$18:$BM$1017,$B215,'Daily Log'!$BN$18:$BN$1017),0)","v":0},{"$f":"IFERROR($E215*SUMIF('Daily Log'!$BP$18:$BP$1017,$B215,'Daily Log'!$BQ$18:$BQ$1017),0)","v":0},{"$f":"IFERROR($E215*SUMIF('Daily Log'!$BS$18:$BS$1017,$B215,'Daily Log'!$BT$18:$BT$1017),0)","v":0},{"$f":"IFERROR($E215*SUMIF('Daily Log'!$BV$18:$BV$1017,$B215,'Daily Log'!$BW$18:$BW$1017),0)","v":0},{"$f":"IFERROR($E215*SUMIF('Daily Log'!$BY$18:$BY$1017,$B215,'Daily Log'!$BZ$18:$BZ$1017),0)","v":0},{"$f":"IFERROR($E215*SUMIF('Daily Log'!$CB$18:$CB$1017,$B215,'Daily Log'!$CC$18:$CC$1017),0)","v":0},{"$f":"IFERROR($E215*SUMIF('Daily Log'!$CE$18:$CE$1017,$B215,'Daily Log'!$CF$18:$CF$1017),0)","v":0},{"$f":"IFERROR($E215*SUMIF('Daily Log'!$CH$18:$CH$1017,$B215,'Daily Log'!$CI$18:$CI$1017),0)","v":0},{"$f":"IFERROR($E215*SUMIF('Daily Log'!$CK$18:$CK$1017,$B215,'Daily Log'!$CL$18:$CL$1017),0)","v":0},{"$f":"IFERROR($E215*SUMIF('Daily Log'!$CN$18:$CN$1017,$B215,'Daily Log'!$CO$18:$CO$1017),0)","v":0}]
[null,null,null,null,null,0,{"$f":"IFERROR($E216*SUMIF('Daily Log'!$B$18:$B$1017,$B216,'Daily Log'!$C$18:$C$1017),0)","v":0},{"$f":"IFERROR($E216*SUMIF('Daily Log'!$E$18:$E$1017,$B216,'Daily Log'!$F$18:$F$1017),0)","v":0},{"$f":"IFERROR($E216*SUMIF('Daily Log'!$H$18:$H$1017,$B216,'Daily Log'!$I$18:$I$1017),0)","v":0},{"$f":"IFERROR($E216*SUMIF('Daily Log'!$K$18:$K$1017,$B216,'Daily Log'!$L$18:$L$1017),0)","v":0},{"$f":"IFERROR($E216*SUMIF('Daily Log'!$N$18:$N$1017,$B216,'Daily Log'!$O$18:$O$1017),0)","v":0},{"$f":"IFERROR($E216*SUMIF('Daily Log'!$Q$18:$Q$1017,$B216,'Daily Log'!$R$18:$R$1017),0)","v":0},{"$f":"IFERROR($E216*SUMIF('Daily Log'!$T$18:$T$1017,$B216,'Daily Log'!$U$18:$U$1017),0)","v":0},{"$f":"IFERROR($E216*SUMIF('Daily Log'!$W$18:$W$1017,$B216,'Daily Log'!$X$18:$X$1017),0)","v":0},{"$f":"IFERROR($E216*SUMIF('Daily Log'!$Z$18:$Z$1017,$B216,'Daily Log'!$AA$18:$AA$1017),0)","v":0},{"$f":"IFERROR($E216*SUMIF('Daily Log'!$AC$18:$AC$1017,$B216,'Daily Log'!$AD$18:$AD$1017),0)","v":0},{"$f":"IFERROR($E216*SUMIF('Daily Log'!$AF$18:$AF$1017,$B216,'Daily Log'!$AG$18:$AG$1017),0)","v":0},{"$f":"IFERROR($E216*SUMIF('Daily Log'!$AI$18:$AI$1017,$B216,'Daily Log'!$AJ$18:$AJ$1017),0)","v":0},{"$f":"IFERROR($E216*SUMIF('Daily Log'!$AL$18:$AL$1017,$B216,'Daily Log'!$AM$18:$AM$1017),0)","v":0},{"$f":"IFERROR($E216*SUMIF('Daily Log'!$AO$18:$AO$1017,$B216,'Daily Log'!$AP$18:$AP$1017),0)","v":0},{"$f":"IFERROR($E216*SUMIF('Daily Log'!$AR$18:$AR$1017,$B216,'Daily Log'!$AS$18:$AS$1017),0)","v":0},{"$f":"IFERROR($E216*SUMIF('Daily Log'!$AU$18:$AU$1017,$B216,'Daily Log'!$AV$18:$AV$1017),0)","v":0},{"$f":"IFERROR($E216*SUMIF('Daily Log'!$AX$18:$AX$1017,$B216,'Daily Log'!$AY$18:$AY$1017),0)","v":0},{"$f":"IFERROR($E216*SUMIF('Daily Log'!$BA$18:$BA$1017,$B216,'Daily Log'!$BB$18:$BB$1017),0)","v":0},{"$f":"IFERROR($E216*SUMIF('Daily Log'!$BD$18:$BD$1017,$B216,'Daily Log'!$BE$18:$BE$1017),0)","v":0},{"$f":"IFERROR($E216*SUMIF('Daily Log'!$BG$18:$BG$1017,$B216,'Daily Log'!$BH$18:$BH$1017),0)","v":0},{"$f":"IFERROR($E216*SUMIF('Daily Log'!$BJ$18:$BJ$1017,$B216,'Daily Log'!$BK$18:$BK$1017),0)","v":0},{"$f":"IFERROR($E216*SUMIF('Daily Log'!$BM$18:$BM$1017,$B216,'Daily Log'!$BN$18:$BN$1017),0)","v":0},{"$f":"IFERROR($E216*SUMIF('Daily Log'!$BP$18:$BP$1017,$B216,'Daily Log'!$BQ$18:$BQ$1017),0)","v":0},{"$f":"IFERROR($E216*SUMIF('Daily Log'!$BS$18:$BS$1017,$B216,'Daily Log'!$BT$18:$BT$1017),0)","v":0},{"$f":"IFERROR($E216*SUMIF('Daily Log'!$BV$18:$BV$1017,$B216,'Daily Log'!$BW$18:$BW$1017),0)","v":0},{"$f":"IFERROR($E216*SUMIF('Daily Log'!$BY$18:$BY$1017,$B216,'Daily Log'!$BZ$18:$BZ$1017),0)","v":0},{"$f":"IFERROR($E216*SUMIF('Daily Log'!$CB$18:$CB$1017,$B216,'Daily Log'!$CC$18:$CC$1017),0)","v":0},{"$f":"IFERROR($E216*SUMIF('Daily Log'!$CE$18:$CE$1017,$B216,'Daily Log'!$CF$18:$CF$1017),0)","v":0},{"$f":"IFERROR($E216*SUMIF('Daily Log'!$CH$18:$CH$1017,$B216,'Daily Log'!$CI$18:$CI$1017),0)","v":0},{"$f":"IFERROR($E216*SUMIF('Daily Log'!$CK$18:$CK$1017,$B216,'Daily Log'!$CL$18:$CL$1017),0)","v":0},{"$f":"IFERROR($E216*SUMIF('Daily Log'!$CN$18:$CN$1017,$B216,'Daily Log'!$CO$18:$CO$1017),0)","v":0}]
[null,null,null,null,null,0,{"$f":"IFERROR($E217*SUMIF('Daily Log'!$B$18:$B$1017,$B217,'Daily Log'!$C$18:$C$1017),0)","v":0},{"$f":"IFERROR($E217*SUMIF('Daily Log'!$E$18:$E$1017,$B217,'Daily Log'!$F$18:$F$1017),0)","v":0},{"$f":"IFERROR($E217*SUMIF('Daily Log'!$H$18:$H$1017,$B217,'Daily Log'!$I$18:$I$1017),0)","v":0},{"$f":"IFERROR($E217*SUMIF('Daily Log'!$K$18:$K$1017,$B217,'Daily Log'!$L$18:$L$1017),0)","v":0},{"$f":"IFERROR($E217*SUMIF('Daily Log'!$N$18:$N$1017,$B217,'Daily Log'!$O$18:$O$1017),0)","v":0},{"$f":"IFERROR($E217*SUMIF('Daily Log'!$Q$18:$Q$1017,$B217,'Daily Log'!$R$18:$R$1017),0)","v":0},{"$f":"IFERROR($E217*SUMIF('Daily Log'!$T$18:$T$1017,$B217,'Daily Log'!$U$18:$U$1017),0)","v":0},{"$f":"IFERROR($E217*SUMIF('Daily Log'!$W$18:$W$1017,$B217,'Daily Log'!$X$18:$X$1017),0)","v":0},{"$f":"IFERROR($E217*SUMIF('Daily Log'!$Z$18:$Z$1017,$B217,'Daily Log'!$AA$18:$AA$1017),0)","v":0},{"$f":"IFERROR($E217*SUMIF('Daily Log'!$AC$18:$AC$1017,$B217,'Daily Log'!$AD$18:$AD$1017),0)","v":0},{"$f":"IFERROR($E217*SUMIF('Daily Log'!$AF$18:$AF$1017,$B217,'Daily Log'!$AG$18:$AG$1017),0)","v":0},{"$f":"IFERROR($E217*SUMIF('Daily Log'!$AI$18:$AI$1017,$B217,'Daily Log'!$AJ$18:$AJ$1017),0)","v":0},{"$f":"IFERROR($E217*SUMIF('Daily Log'!$AL$18:$AL$1017,$B217,'Daily Log'!$AM$18:$AM$1017),0)","v":0},{"$f":"IFERROR($E217*SUMIF('Daily Log'!$AO$18:$AO$1017,$B217,'Daily Log'!$AP$18:$AP$1017),0)","v":0},{"$f":"IFERROR($E217*SUMIF('Daily Log'!$AR$18:$AR$1017,$B217,'Daily Log'!$AS$18:$AS$1017),0)","v":0},{"$f":"IFERROR($E217*SUMIF('Daily Log'!$AU$18:$AU$1017,$B217,'Daily Log'!$AV$18:$AV$1017),0)","v":0},{"$f":"IFERROR($E217*SUMIF('Daily Log'!$AX$18:$AX$1017,$B217,'Daily Log'!$AY$18:$AY$1017),0)","v":0},{"$f":"IFERROR($E217*SUMIF('Daily Log'!$BA$18:$BA$1017,$B217,'Daily Log'!$BB$18:$BB$1017),0)","v":0},{"$f":"IFERROR($E217*SUMIF('Daily Log'!$BD$18:$BD$1017,$B217,'Daily Log'!$BE$18:$BE$1017),0)","v":0},{"$f":"IFERROR($E217*SUMIF('Daily Log'!$BG$18:$BG$1017,$B217,'Daily Log'!$BH$18:$BH$1017),0)","v":0},{"$f":"IFERROR($E217*SUMIF('Daily Log'!$BJ$18:$BJ$1017,$B217,'Daily Log'!$BK$18:$BK$1017),0)","v":0},{"$f":"IFERROR($E217*SUMIF('Daily Log'!$BM$18:$BM$1017,$B217,'Daily Log'!$BN$18:$BN$1017),0)","v":0},{"$f":"IFERROR($E217*SUMIF('Daily Log'!$BP$18:$BP$1017,$B217,'Daily Log'!$BQ$18:$BQ$1017),0)","v":0},{"$f":"IFERROR($E217*SUMIF('Daily Log'!$BS$18:$BS$1017,$B217,'Daily Log'!$BT$18:$BT$1017),0)","v":0},{"$f":"IFERROR($E217*SUMIF('Daily Log'!$BV$18:$BV$1017,$B217,'Daily Log'!$BW$18:$BW$1017),0)","v":0},{"$f":"IFERROR($E217*SUMIF('Daily Log'!$BY$18:$BY$1017,$B217,'Daily Log'!$BZ$18:$BZ$1017),0)","v":0},{"$f":"IFERROR($E217*SUMIF('Daily Log'!$CB$18:$CB$1017,$B217,'Daily Log'!$CC$18:$CC$1017),0)","v":0},{"$f":"IFERROR($E217*SUMIF('Daily Log'!$CE$18:$CE$1017,$B217,'Daily Log'!$CF$18:$CF$1017),0)","v":0},{"$f":"IFERROR($E217*SUMIF('Daily Log'!$CH$18:$CH$1017,$B217,'Daily Log'!$CI$18:$CI$1017),0)","v":0},{"$f":"IFERROR($E217*SUMIF('Daily Log'!$CK$18:$CK$1017,$B217,'Daily Log'!$CL$18:$CL$1017),0)","v":0},{"$f":"IFERROR($E217*SUMIF('Daily Log'!$CN$18:$CN$1017,$B217,'Daily Log'!$CO$18:$CO$1017),0)","v":0}]
[null,null,null,null,null,0,{"$f":"IFERROR($E218*SUMIF('Daily Log'!$B$18:$B$1017,$B218,'Daily Log'!$C$18:$C$1017),0)","v":0},{"$f":"IFERROR($E218*SUMIF('Daily Log'!$E$18:$E$1017,$B218,'Daily Log'!$F$18:$F$1017),0)","v":0},{"$f":"IFERROR($E218*SUMIF('Daily Log'!$H$18:$H$1017,$B218,'Daily Log'!$I$18:$I$1017),0)","v":0},{"$f":"IFERROR($E218*SUMIF('Daily Log'!$K$18:$K$1017,$B218,'Daily Log'!$L$18:$L$1017),0)","v":0},{"$f":"IFERROR($E218*SUMIF('Daily Log'!$N$18:$N$1017,$B218,'Daily Log'!$O$18:$O$1017),0)","v":0},{"$f":"IFERROR($E218*SUMIF('Daily Log'!$Q$18:$Q$1017,$B218,'Daily Log'!$R$18:$R$1017),0)","v":0},{"$f":"IFERROR($E218*SUMIF('Daily Log'!$T$18:$T$1017,$B218,'Daily Log'!$U$18:$U$1017),0)","v":0},{"$f":"IFERROR($E218*SUMIF('Daily Log'!$W$18:$W$1017,$B218,'Daily Log'!$X$18:$X$1017),0)","v":0},{"$f":"IFERROR($E218*SUMIF('Daily Log'!$Z$18:$Z$1017,$B218,'Daily Log'!$AA$18:$AA$1017),0)","v":0},{"$f":"IFERROR($E218*SUMIF('Daily Log'!$AC$18:$AC$1017,$B218,'Daily Log'!$AD$18:$AD$1017),0)","v":0},{"$f":"IFERROR($E218*SUMIF('Daily Log'!$AF$18:$AF$1017,$B218,'Daily Log'!$AG$18:$AG$1017),0)","v":0},{"$f":"IFERROR($E218*SUMIF('Daily Log'!$AI$18:$AI$1017,$B218,'Daily Log'!$AJ$18:$AJ$1017),0)","v":0},{"$f":"IFERROR($E218*SUMIF('Daily Log'!$AL$18:$AL$1017,$B218,'Daily Log'!$AM$18:$AM$1017),0)","v":0},{"$f":"IFERROR($E218*SUMIF('Daily Log'!$AO$18:$AO$1017,$B218,'Daily Log'!$AP$18:$AP$1017),0)","v":0},{"$f":"IFERROR($E218*SUMIF('Daily Log'!$AR$18:$AR$1017,$B218,'Daily Log'!$AS$18:$AS$1017),0)","v":0},{"$f":"IFERROR($E218*SUMIF('Daily Log'!$AU$18:$AU$1017,$B218,'Daily Log'!$AV$18:$AV$1017),0)","v":0},{"$f":"IFERROR($E218*SUMIF('Daily Log'!$AX$18:$AX$1017,$B218,'Daily Log'!$AY$18:$AY$1017),0)","v":0},{"$f":"IFERROR($E218*SUMIF('Daily Log'!$BA$18:$BA$1017,$B218,'Daily Log'!$BB$18:$BB$1017),0)","v":0},{"$f":"IFERROR($E218*SUMIF('Daily Log'!$BD$18:$BD$1017,$B218,'Daily Log'!$BE$18:$BE$1017),0)","v":0},{"$f":"IFERROR($E218*SUMIF('Daily Log'!$BG$18:$BG$1017,$B218,'Daily Log'!$BH$18:$BH$1017),0)","v":0},{"$f":"IFERROR($E218*SUMIF('Daily Log'!$BJ$18:$BJ$1017,$B218,'Daily Log'!$BK$18:$BK$1017),0)","v":0},{"$f":"IFERROR($E218*SUMIF('Daily Log'!$BM$18:$BM$1017,$B218,'Daily Log'!$BN$18:$BN$1017),0)","v":0},{"$f":"IFERROR($E218*SUMIF('Daily Log'!$BP$18:$BP$1017,$B218,'Daily Log'!$BQ$18:$BQ$1017),0)","v":0},{"$f":"IFERROR($E218*SUMIF('Daily Log'!$BS$18:$BS$1017,$B218,'Daily Log'!$BT$18:$BT$1017),0)","v":0},{"$f":"IFERROR($E218*SUMIF('Daily Log'!$BV$18:$BV$1017,$B218,'Daily Log'!$BW$18:$BW$1017),0)","v":0},{"$f":"IFERROR($E218*SUMIF('Daily Log'!$BY$18:$BY$1017,$B218,'Daily Log'!$BZ$18:$BZ$1017),0)","v":0},{"$f":"IFERROR($E218*SUMIF('Daily Log'!$CB$18:$CB$1017,$B218,'Daily Log'!$CC$18:$CC$1017),0)","v":0},{"$f":"IFERROR($E218*SUMIF('Daily Log'!$CE$18:$CE$1017,$B218,'Daily Log'!$CF$18:$CF$1017),0)","v":0},{"$f":"IFERROR($E218*SUMIF('Daily Log'!$CH$18:$CH$1017,$B218,'Daily Log'!$CI$18:$CI$1017),0)","v":0},{"$f":"IFERROR($E218*SUMIF('Daily Log'!$CK$18:$CK$1017,$B218,'Daily Log'!$CL$18:$CL$1017),0)","v":0},{"$f":"IFERROR($E218*SUMIF('Daily Log'!$CN$18:$CN$1017,$B218,'Daily Log'!$CO$18:$CO$1017),0)","v":0}]
[null,null,null,null,null,0,{"$f":"IFERROR($E219*SUMIF('Daily Log'!$B$18:$B$1017,$B219,'Daily Log'!$C$18:$C$1017),0)","v":0},{"$f":"IFERROR($E219*SUMIF('Daily Log'!$E$18:$E$1017,$B219,'Daily Log'!$F$18:$F$1017),0)","v":0},{"$f":"IFERROR($E219*SUMIF('Daily Log'!$H$18:$H$1017,$B219,'Daily Log'!$I$18:$I$1017),0)","v":0},{"$f":"IFERROR($E219*SUMIF('Daily Log'!$K$18:$K$1017,$B219,'Daily Log'!$L$18:$L$1017),0)","v":0},{"$f":"IFERROR($E219*SUMIF('Daily Log'!$N$18:$N$1017,$B219,'Daily Log'!$O$18:$O$1017),0)","v":0},{"$f":"IFERROR($E219*SUMIF('Daily Log'!$Q$18:$Q$1017,$B219,'Daily Log'!$R$18:$R$1017),0)","v":0},{"$f":"IFERROR($E219*SUMIF('Daily Log'!$T$18:$T$1017,$B219,'Daily Log'!$U$18:$U$1017),0)","v":0},{"$f":"IFERROR($E219*SUMIF('Daily Log'!$W$18:$W$1017,$B219,'Daily Log'!$X$18:$X$1017),0)","v":0},{"$f":"IFERROR($E219*SUMIF('Daily Log'!$Z$18:$Z$1017,$B219,'Daily Log'!$AA$18:$AA$1017),0)","v":0},{"$f":"IFERROR($E219*SUMIF('Daily Log'!$AC$18:$AC$1017,$B219,'Daily Log'!$AD$18:$AD$1017),0)","v":0},{"$f":"IFERROR($E219*SUMIF('Daily Log'!$AF$18:$AF$1017,$B219,'Daily Log'!$AG$18:$AG$1017),0)","v":0},{"$f":"IFERROR($E219*SUMIF('Daily Log'!$AI$18:$AI$1017,$B219,'Daily Log'!$AJ$18:$AJ$1017),0)","v":0},{"$f":"IFERROR($E219*SUMIF('Daily Log'!$AL$18:$AL$1017,$B219,'Daily Log'!$AM$18:$AM$1017),0)","v":0},{"$f":"IFERROR($E219*SUMIF('Daily Log'!$AO$18:$AO$1017,$B219,'Daily Log'!$AP$18:$AP$1017),0)","v":0},{"$f":"IFERROR($E219*SUMIF('Daily Log'!$AR$18:$AR$1017,$B219,'Daily Log'!$AS$18:$AS$1017),0)","v":0},{"$f":"IFERROR($E219*SUMIF('Daily Log'!$AU$18:$AU$1017,$B219,'Daily Log'!$AV$18:$AV$1017),0)","v":0},{"$f":"IFERROR($E219*SUMIF('Daily Log'!$AX$18:$AX$1017,$B219,'Daily Log'!$AY$18:$AY$1017),0)","v":0},{"$f":"IFERROR($E219*SUMIF('Daily Log'!$BA$18:$BA$1017,$B219,'Daily Log'!$BB$18:$BB$1017),0)","v":0},{"$f":"IFERROR($E219*SUMIF('Daily Log'!$BD$18:$BD$1017,$B219,'Daily Log'!$BE$18:$BE$1017),0)","v":0},{"$f":"IFERROR($E219*SUMIF('Daily Log'!$BG$18:$BG$1017,$B219,'Daily Log'!$BH$18:$BH$1017),0)","v":0},{"$f":"IFERROR($E219*SUMIF('Daily Log'!$BJ$18:$BJ$1017,$B219,'Daily Log'!$BK$18:$BK$1017),0)","v":0},{"$f":"IFERROR($E219*SUMIF('Daily Log'!$BM$18:$BM$1017,$B219,'Daily Log'!$BN$18:$BN$1017),0)","v":0},{"$f":"IFERROR($E219*SUMIF('Daily Log'!$BP$18:$BP$1017,$B219,'Daily Log'!$BQ$18:$BQ$1017),0)","v":0},{"$f":"IFERROR($E219*SUMIF('Daily Log'!$BS$18:$BS$1017,$B219,'Daily Log'!$BT$18:$BT$1017),0)","v":0},{"$f":"IFERROR($E219*SUMIF('Daily Log'!$BV$18:$BV$1017,$B219,'Daily Log'!$BW$18:$BW$1017),0)","v":0},{"$f":"IFERROR($E219*SUMIF('Daily Log'!$BY$18:$BY$1017,$B219,'Daily Log'!$BZ$18:$BZ$1017),0)","v":0},{"$f":"IFERROR($E219*SUMIF('Daily Log'!$CB$18:$CB$1017,$B219,'Daily Log'!$CC$18:$CC$1017),0)","v":0},{"$f":"IFERROR($E219*SUMIF('Daily Log'!$CE$18:$CE$1017,$B219,'Daily Log'!$CF$18:$CF$1017),0)","v":0},{"$f":"IFERROR($E219*SUMIF('Daily Log'!$CH$18:$CH$1017,$B219,'Daily Log'!$CI$18:$CI$1017),0)","v":0},{"$f":"IFERROR($E219*SUMIF('Daily Log'!$CK$18:$CK$1017,$B219,'Daily Log'!$CL$18:$CL$1017),0)","v":0},{"$f":"IFERROR($E219*SUMIF('Daily Log'!$CN$18:$CN$1017,$B219,'Daily Log'!$CO$18:$CO$1017),0)","v":0}]
[null,null,null,null,null,0,{"$f":"IFERROR($E220*SUMIF('Daily Log'!$B$18:$B$1017,$B220,'Daily Log'!$C$18:$C$1017),0)","v":0},{"$f":"IFERROR($E220*SUMIF('Daily Log'!$E$18:$E$1017,$B220,'Daily Log'!$F$18:$F$1017),0)","v":0},{"$f":"IFERROR($E220*SUMIF('Daily Log'!$H$18:$H$1017,$B220,'Daily Log'!$I$18:$I$1017),0)","v":0},{"$f":"IFERROR($E220*SUMIF('Daily Log'!$K$18:$K$1017,$B220,'Daily Log'!$L$18:$L$1017),0)","v":0},{"$f":"IFERROR($E220*SUMIF('Daily Log'!$N$18:$N$1017,$B220,'Daily Log'!$O$18:$O$1017),0)","v":0},{"$f":"IFERROR($E220*SUMIF('Daily Log'!$Q$18:$Q$1017,$B220,'Daily Log'!$R$18:$R$1017),0)","v":0},{"$f":"IFERROR($E220*SUMIF('Daily Log'!$T$18:$T$1017,$B220,'Daily Log'!$U$18:$U$1017),0)","v":0},{"$f":"IFERROR($E220*SUMIF('Daily Log'!$W$18:$W$1017,$B220,'Daily Log'!$X$18:$X$1017),0)","v":0},{"$f":"IFERROR($E220*SUMIF('Daily Log'!$Z$18:$Z$1017,$B220,'Daily Log'!$AA$18:$AA$1017),0)","v":0},{"$f":"IFERROR($E220*SUMIF('Daily Log'!$AC$18:$AC$1017,$B220,'Daily Log'!$AD$18:$AD$1017),0)","v":0},{"$f":"IFERROR($E220*SUMIF('Daily Log'!$AF$18:$AF$1017,$B220,'Daily Log'!$AG$18:$AG$1017),0)","v":0},{"$f":"IFERROR($E220*SUMIF('Daily Log'!$AI$18:$AI$1017,$B220,'Daily Log'!$AJ$18:$AJ$1017),0)","v":0},{"$f":"IFERROR($E220*SUMIF('Daily Log'!$AL$18:$AL$1017,$B220,'Daily Log'!$AM$18:$AM$1017),0)","v":0},{"$f":"IFERROR($E220*SUMIF('Daily Log'!$AO$18:$AO$1017,$B220,'Daily Log'!$AP$18:$AP$1017),0)","v":0},{"$f":"IFERROR($E220*SUMIF('Daily Log'!$AR$18:$AR$1017,$B220,'Daily Log'!$AS$18:$AS$1017),0)","v":0},{"$f":"IFERROR($E220*SUMIF('Daily Log'!$AU$18:$AU$1017,$B220,'Daily Log'!$AV$18:$AV$1017),0)","v":0},{"$f":"IFERROR($E220*SUMIF('Daily Log'!$AX$18:$AX$1017,$B220,'Daily Log'!$AY$18:$AY$1017),0)","v":0},{"$f":"IFERROR($E220*SUMIF('Daily Log'!$BA$18:$BA$1017,$B220,'Daily Log'!$BB$18:$BB$1017),0)","v":0},{"$f":"IFERROR($E220*SUMIF('Daily Log'!$BD$18:$BD$1017,$B220,'Daily Log'!$BE$18:$BE$1017),0)","v":0},{"$f":"IFERROR($E220*SUMIF('Daily Log'!$BG$18:$BG$1017,$B220,'Daily Log'!$BH$18:$BH$1017),0)","v":0},{"$f":"IFERROR($E220*SUMIF('Daily Log'!$BJ$18:$BJ$1017,$B220,'Daily Log'!$BK$18:$BK$1017),0)","v":0},{"$f":"IFERROR($E220*SUMIF('Daily Log'!$BM$18:$BM$1017,$B220,'Daily Log'!$BN$18:$BN$1017),0)","v":0},{"$f":"IFERROR($E220*SUMIF('Daily Log'!$BP$18:$BP$1017,$B220,'Daily Log'!$BQ$18:$BQ$1017),0)","v":0},{"$f":"IFERROR($E220*SUMIF('Daily Log'!$BS$18:$BS$1017,$B220,'Daily Log'!$BT$18:$BT$1017),0)","v":0},{"$f":"IFERROR($E220*SUMIF('Daily Log'!$BV$18:$BV$1017,$B220,'Daily Log'!$BW$18:$BW$1017),0)","v":0},{"$f":"IFERROR($E220*SUMIF('Daily Log'!$BY$18:$BY$1017,$B220,'Daily Log'!$BZ$18:$BZ$1017),0)","v":0},{"$f":"IFERROR($E220*SUMIF('Daily Log'!$CB$18:$CB$1017,$B220,'Daily Log'!$CC$18:$CC$1017),0)","v":0},{"$f":"IFERROR($E220*SUMIF('Daily Log'!$CE$18:$CE$1017,$B220,'Daily Log'!$CF$18:$CF$1017),0)","v":0},{"$f":"IFERROR($E220*SUMIF('Daily Log'!$CH$18:$CH$1017,$B220,'Daily Log'!$CI$18:$CI$1017),0)","v":0},{"$f":"IFERROR($E220*SUMIF('Daily Log'!$CK$18:$CK$1017,$B220,'Daily Log'!$CL$18:$CL$1017),0)","v":0},{"$f":"IFERROR($E220*SUMIF('Daily Log'!$CN$18:$CN$1017,$B220,'Daily Log'!$CO$18:$CO$1017),0)","v":0}]
[null,null,null,null,null,0,{"$f":"IFERROR($E221*SUMIF('Daily Log'!$B$18:$B$1017,$B221,'Daily Log'!$C$18:$C$1017),0)","v":0},{"$f":"IFERROR($E221*SUMIF('Daily Log'!$E$18:$E$1017,$B221,'Daily Log'!$F$18:$F$1017),0)","v":0},{"$f":"IFERROR($E221*SUMIF('Daily Log'!$H$18:$H$1017,$B221,'Daily Log'!$I$18:$I$1017),0)","v":0},{"$f":"IFERROR($E221*SUMIF('Daily Log'!$K$18:$K$1017,$B221,'Daily Log'!$L$18:$L$1017),0)","v":0},{"$f":"IFERROR($E221*SUMIF('Daily Log'!$N$18:$N$1017,$B221,'Daily Log'!$O$18:$O$1017),0)","v":0},{"$f":"IFERROR($E221*SUMIF('Daily Log'!$Q$18:$Q$1017,$B221,'Daily Log'!$R$18:$R$1017),0)","v":0},{"$f":"IFERROR($E221*SUMIF('Daily Log'!$T$18:$T$1017,$B221,'Daily Log'!$U$18:$U$1017),0)","v":0},{"$f":"IFERROR($E221*SUMIF('Daily Log'!$W$18:$W$1017,$B221,'Daily Log'!$X$18:$X$1017),0)","v":0},{"$f":"IFERROR($E221*SUMIF('Daily Log'!$Z$18:$Z$1017,$B221,'Daily Log'!$AA$18:$AA$1017),0)","v":0},{"$f":"IFERROR($E221*SUMIF('Daily Log'!$AC$18:$AC$1017,$B221,'Daily Log'!$AD$18:$AD$1017),0)","v":0},{"$f":"IFERROR($E221*SUMIF('Daily Log'!$AF$18:$AF$1017,$B221,'Daily Log'!$AG$18:$AG$1017),0)","v":0},{"$f":"IFERROR($E221*SUMIF('Daily Log'!$AI$18:$AI$1017,$B221,'Daily Log'!$AJ$18:$AJ$1017),0)","v":0},{"$f":"IFERROR($E221*SUMIF('Daily Log'!$AL$18:$AL$1017,$B221,'Daily Log'!$AM$18:$AM$1017),0)","v":0},{"$f":"IFERROR($E221*SUMIF('Daily Log'!$AO$18:$AO$1017,$B221,'Daily Log'!$AP$18:$AP$1017),0)","v":0},{"$f":"IFERROR($E221*SUMIF('Daily Log'!$AR$18:$AR$1017,$B221,'Daily Log'!$AS$18:$AS$1017),0)","v":0},{"$f":"IFERROR($E221*SUMIF('Daily Log'!$AU$18:$AU$1017,$B221,'Daily Log'!$AV$18:$AV$1017),0)","v":0},{"$f":"IFERROR($E221*SUMIF('Daily Log'!$AX$18:$AX$1017,$B221,'Daily Log'!$AY$18:$AY$1017),0)","v":0},{"$f":"IFERROR($E221*SUMIF('Daily Log'!$BA$18:$BA$1017,$B221,'Daily Log'!$BB$18:$BB$1017),0)","v":0},{"$f":"IFERROR($E221*SUMIF('Daily Log'!$BD$18:$BD$1017,$B221,'Daily Log'!$BE$18:$BE$1017),0)","v":0},{"$f":"IFERROR($E221*SUMIF('Daily Log'!$BG$18:$BG$1017,$B221,'Daily Log'!$BH$18:$BH$1017),0)","v":0},{"$f":"IFERROR($E221*SUMIF('Daily Log'!$BJ$18:$BJ$1017,$B221,'Daily Log'!$BK$18:$BK$1017),0)","v":0},{"$f":"IFERROR($E221*SUMIF('Daily Log'!$BM$18:$BM$1017,$B221,'Daily Log'!$BN$18:$BN$1017),0)","v":0},{"$f":"IFERROR($E221*SUMIF('Daily Log'!$BP$18:$BP$1017,$B221,'Daily Log'!$BQ$18:$BQ$1017),0)","v":0},{"$f":"IFERROR($E221*SUMIF('Daily Log'!$BS$18:$BS$1017,$B221,'Daily Log'!$BT$18:$BT$1017),0)","v":0},{"$f":"IFERROR($E221*SUMIF('Daily Log'!$BV$18:$BV$1017,$B221,'Daily Log'!$BW$18:$BW$1017),0)","v":0},{"$f":"IFERROR($E221*SUMIF('Daily Log'!$BY$18:$BY$1017,$B221,'Daily Log'!$BZ$18:$BZ$1017),0)","v":0},{"$f":"IFERROR($E221*SUMIF('Daily Log'!$CB$18:$CB$1017,$B221,'Daily Log'!$CC$18:$CC$1017),0)","v":0},{"$f":"IFERROR($E221*SUMIF('Daily Log'!$CE$18:$CE$1017,$B221,'Daily Log'!$CF$18:$CF$1017),0)","v":0},{"$f":"IFERROR($E221*SUMIF('Daily Log'!$CH$18:$CH$1017,$B221,'Daily Log'!$CI$18:$CI$1017),0)","v":0},{"$f":"IFERROR($E221*SUMIF('Daily Log'!$CK$18:$CK$1017,$B221,'Daily Log'!$CL$18:$CL$1017),0)","v":0},{"$f":"IFERROR($E221*SUMIF('Daily Log'!$CN$18:$CN$1017,$B221,'Daily Log'!$CO$18:$CO$1017),0)","v":0}]
[null,null,null,null,null,0,{"$f":"IFERROR($E222*SUMIF('Daily Log'!$B$18:$B$1017,$B222,'Daily Log'!$C$18:$C$1017),0)","v":0},{"$f":"IFERROR($E222*SUMIF('Daily Log'!$E$18:$E$1017,$B222,'Daily Log'!$F$18:$F$1017),0)","v":0},{"$f":"IFERROR($E222*SUMIF('Daily Log'!$H$18:$H$1017,$B222,'Daily Log'!$I$18:$I$1017),0)","v":0},{"$f":"IFERROR($E222*SUMIF('Daily Log'!$K$18:$K$1017,$B222,'Daily Log'!$L$18:$L$1017),0)","v":0},{"$f":"IFERROR($E222*SUMIF('Daily Log'!$N$18:$N$1017,$B222,'Daily Log'!$O$18:$O$1017),0)","v":0},{"$f":"IFERROR($E222*SUMIF('Daily Log'!$Q$18:$Q$1017,$B222,'Daily Log'!$R$18:$R$1017),0)","v":0},{"$f":"IFERROR($E222*SUMIF('Daily Log'!$T$18:$T$1017,$B222,'Daily Log'!$U$18:$U$1017),0)","v":0},{"$f":"IFERROR($E222*SUMIF('Daily Log'!$W$18:$W$1017,$B222,'Daily Log'!$X$18:$X$1017),0)","v":0},{"$f":"IFERROR($E222*SUMIF('Daily Log'!$Z$18:$Z$1017,$B222,'Daily Log'!$AA$18:$AA$1017),0)","v":0},{"$f":"IFERROR($E222*SUMIF('Daily Log'!$AC$18:$AC$1017,$B222,'Daily Log'!$AD$18:$AD$1017),0)","v":0},{"$f":"IFERROR($E222*SUMIF('Daily Log'!$AF$18:$AF$1017,$B222,'Daily Log'!$AG$18:$AG$1017),0)","v":0},{"$f":"IFERROR($E222*SUMIF('Daily Log'!$AI$18:$AI$1017,$B222,'Daily Log'!$AJ$18:$AJ$1017),0)","v":0},{"$f":"IFERROR($E222*SUMIF('Daily Log'!$AL$18:$AL$1017,$B222,'Daily Log'!$AM$18:$AM$1017),0)","v":0},{"$f":"IFERROR($E222*SUMIF('Daily Log'!$AO$18:$AO$1017,$B222,'Daily Log'!$AP$18:$AP$1017),0)","v":0},{"$f":"IFERROR($E222*SUMIF('Daily Log'!$AR$18:$AR$1017,$B222,'Daily Log'!$AS$18:$AS$1017),0)","v":0},{"$f":"IFERROR($E222*SUMIF('Daily Log'!$AU$18:$AU$1017,$B222,'Daily Log'!$AV$18:$AV$1017),0)","v":0},{"$f":"IFERROR($E222*SUMIF('Daily Log'!$AX$18:$AX$1017,$B222,'Daily Log'!$AY$18:$AY$1017),0)","v":0},{"$f":"IFERROR($E222*SUMIF('Daily Log'!$BA$18:$BA$1017,$B222,'Daily Log'!$BB$18:$BB$1017),0)","v":0},{"$f":"IFERROR($E222*SUMIF('Daily Log'!$BD$18:$BD$1017,$B222,'Daily Log'!$BE$18:$BE$1017),0)","v":0},{"$f":"IFERROR($E222*SUMIF('Daily Log'!$BG$18:$BG$1017,$B222,'Daily Log'!$BH$18:$BH$1017),0)","v":0},{"$f":"IFERROR($E222*SUMIF('Daily Log'!$BJ$18:$BJ$1017,$B222,'Daily Log'!$BK$18:$BK$1017),0)","v":0},{"$f":"IFERROR($E222*SUMIF('Daily Log'!$BM$18:$BM$1017,$B222,'Daily Log'!$BN$18:$BN$1017),0)","v":0},{"$f":"IFERROR($E222*SUMIF('Daily Log'!$BP$18:$BP$1017,$B222,'Daily Log'!$BQ$18:$BQ$1017),0)","v":0},{"$f":"IFERROR($E222*SUMIF('Daily Log'!$BS$18:$BS$1017,$B222,'Daily Log'!$BT$18:$BT$1017),0)","v":0},{"$f":"IFERROR($E222*SUMIF('Daily Log'!$BV$18:$BV$1017,$B222,'Daily Log'!$BW$18:$BW$1017),0)","v":0},{"$f":"IFERROR($E222*SUMIF('Daily Log'!$BY$18:$BY$1017,$B222,'Daily Log'!$BZ$18:$BZ$1017),0)","v":0},{"$f":"IFERROR($E222*SUMIF('Daily Log'!$CB$18:$CB$1017,$B222,'Daily Log'!$CC$18:$CC$1017),0)","v":0},{"$f":"IFERROR($E222*SUMIF('Daily Log'!$CE$18:$CE$1017,$B222,'Daily Log'!$CF$18:$CF$1017),0)","v":0},{"$f":"IFERROR($E222*SUMIF('Daily Log'!$CH$18:$CH$1017,$B222,'Daily Log'!$CI$18:$CI$1017),0)","v":0},{"$f":"IFERROR($E222*SUMIF('Daily Log'!$CK$18:$CK$1017,$B222,'Daily Log'!$CL$18:$CL$1017),0)","v":0},{"$f":"IFERROR($E222*SUMIF('Daily Log'!$CN$18:$CN$1017,$B222,'Daily Log'!$CO$18:$CO$1017),0)","v":0}]
[null,null,null,null,null,0,{"$f":"IFERROR($E223*SUMIF('Daily Log'!$B$18:$B$1017,$B223,'Daily Log'!$C$18:$C$1017),0)","v":0},{"$f":"IFERROR($E223*SUMIF('Daily Log'!$E$18:$E$1017,$B223,'Daily Log'!$F$18:$F$1017),0)","v":0},{"$f":"IFERROR($E223*SUMIF('Daily Log'!$H$18:$H$1017,$B223,'Daily Log'!$I$18:$I$1017),0)","v":0},{"$f":"IFERROR($E223*SUMIF('Daily Log'!$K$18:$K$1017,$B223,'Daily Log'!$L$18:$L$1017),0)","v":0},{"$f":"IFERROR($E223*SUMIF('Daily Log'!$N$18:$N$1017,$B223,'Daily Log'!$O$18:$O$1017),0)","v":0},{"$f":"IFERROR($E223*SUMIF('Daily Log'!$Q$18:$Q$1017,$B223,'Daily Log'!$R$18:$R$1017),0)","v":0},{"$f":"IFERROR($E223*SUMIF('Daily Log'!$T$18:$T$1017,$B223,'Daily Log'!$U$18:$U$1017),0)","v":0},{"$f":"IFERROR($E223*SUMIF('Daily Log'!$W$18:$W$1017,$B223,'Daily Log'!$X$18:$X$1017),0)","v":0},{"$f":"IFERROR($E223*SUMIF('Daily Log'!$Z$18:$Z$1017,$B223,'Daily Log'!$AA$18:$AA$1017),0)","v":0},{"$f":"IFERROR($E223*SUMIF('Daily Log'!$AC$18:$AC$1017,$B223,'Daily Log'!$AD$18:$AD$1017),0)","v":0},{"$f":"IFERROR($E223*SUMIF('Daily Log'!$AF$18:$AF$1017,$B223,'Daily Log'!$AG$18:$AG$1017),0)","v":0},{"$f":"IFERROR($E223*SUMIF('Daily Log'!$AI$18:$AI$1017,$B223,'Daily Log'!$AJ$18:$AJ$1017),0)","v":0},{"$f":"IFERROR($E223*SUMIF('Daily Log'!$AL$18:$AL$1017,$B223,'Daily Log'!$AM$18:$AM$1017),0)","v":0},{"$f":"IFERROR($E223*SUMIF('Daily Log'!$AO$18:$AO$1017,$B223,'Daily Log'!$AP$18:$AP$1017),0)","v":0},{"$f":"IFERROR($E223*SUMIF('Daily Log'!$AR$18:$AR$1017,$B223,'Daily Log'!$AS$18:$AS$1017),0)","v":0},{"$f":"IFERROR($E223*SUMIF('Daily Log'!$AU$18:$AU$1017,$B223,'Daily Log'!$AV$18:$AV$1017),0)","v":0},{"$f":"IFERROR($E223*SUMIF('Daily Log'!$AX$18:$AX$1017,$B223,'Daily Log'!$AY$18:$AY$1017),0)","v":0},{"$f":"IFERROR($E223*SUMIF('Daily Log'!$BA$18:$BA$1017,$B223,'Daily Log'!$BB$18:$BB$1017),0)","v":0},{"$f":"IFERROR($E223*SUMIF('Daily Log'!$BD$18:$BD$1017,$B223,'Daily Log'!$BE$18:$BE$1017),0)","v":0},{"$f":"IFERROR($E223*SUMIF('Daily Log'!$BG$18:$BG$1017,$B223,'Daily Log'!$BH$18:$BH$1017),0)","v":0},{"$f":"IFERROR($E223*SUMIF('Daily Log'!$BJ$18:$BJ$1017,$B223,'Daily Log'!$BK$18:$BK$1017),0)","v":0},{"$f":"IFERROR($E223*SUMIF('Daily Log'!$BM$18:$BM$1017,$B223,'Daily Log'!$BN$18:$BN$1017),0)","v":0},{"$f":"IFERROR($E223*SUMIF('Daily Log'!$BP$18:$BP$1017,$B223,'Daily Log'!$BQ$18:$BQ$1017),0)","v":0},{"$f":"IFERROR($E223*SUMIF('Daily Log'!$BS$18:$BS$1017,$B223,'Daily Log'!$BT$18:$BT$1017),0)","v":0},{"$f":"IFERROR($E223*SUMIF('Daily Log'!$BV$18:$BV$1017,$B223,'Daily Log'!$BW$18:$BW$1017),0)","v":0},{"$f":"IFERROR($E223*SUMIF('Daily Log'!$BY$18:$BY$1017,$B223,'Daily Log'!$BZ$18:$BZ$1017),0)","v":0},{"$f":"IFERROR($E223*SUMIF('Daily Log'!$CB$18:$CB$1017,$B223,'Daily Log'!$CC$18:$CC$1017),0)","v":0},{"$f":"IFERROR($E223*SUMIF('Daily Log'!$CE$18:$CE$1017,$B223,'Daily Log'!$CF$18:$CF$1017),0)","v":0},{"$f":"IFERROR($E223*SUMIF('Daily Log'!$CH$18:$CH$1017,$B223,'Daily Log'!$CI$18:$CI$1017),0)","v":0},{"$f":"IFERROR($E223*SUMIF('Daily Log'!$CK$18:$CK$1017,$B223,'Daily Log'!$CL$18:$CL$1017),0)","v":0},{"$f":"IFERROR($E223*SUMIF('Daily Log'!$CN$18:$CN$1017,$B223,'Daily Log'!$CO$18:$CO$1017),0)","v":0}]
[null,null,null,null,null,0,{"$f":"IFERROR($E224*SUMIF('Daily Log'!$B$18:$B$1017,$B224,'Daily Log'!$C$18:$C$1017),0)","v":0},{"$f":"IFERROR($E224*SUMIF('Daily Log'!$E$18:$E$1017,$B224,'Daily Log'!$F$18:$F$1017),0)","v":0},{"$f":"IFERROR($E224*SUMIF('Daily Log'!$H$18:$H$1017,$B224,'Daily Log'!$I$18:$I$1017),0)","v":0},{"$f":"IFERROR($E224*SUMIF('Daily Log'!$K$18:$K$1017,$B224,'Daily Log'!$L$18:$L$1017),0)","v":0},{"$f":"IFERROR($E224*SUMIF('Daily Log'!$N$18:$N$1017,$B224,'Daily Log'!$O$18:$O$1017),0)","v":0},{"$f":"IFERROR($E224*SUMIF('Daily Log'!$Q$18:$Q$1017,$B224,'Daily Log'!$R$18:$R$1017),0)","v":0},{"$f":"IFERROR($E224*SUMIF('Daily Log'!$T$18:$T$1017,$B224,'Daily Log'!$U$18:$U$1017),0)","v":0},{"$f":"IFERROR($E224*SUMIF('Daily Log'!$W$18:$W$1017,$B224,'Daily Log'!$X$18:$X$1017),0)","v":0},{"$f":"IFERROR($E224*SUMIF('Daily Log'!$Z$18:$Z$1017,$B224,'Daily Log'!$AA$18:$AA$1017),0)","v":0},{"$f":"IFERROR($E224*SUMIF('Daily Log'!$AC$18:$AC$1017,$B224,'Daily Log'!$AD$18:$AD$1017),0)","v":0},{"$f":"IFERROR($E224*SUMIF('Daily Log'!$AF$18:$AF$1017,$B224,'Daily Log'!$AG$18:$AG$1017),0)","v":0},{"$f":"IFERROR($E224*SUMIF('Daily Log'!$AI$18:$AI$1017,$B224,'Daily Log'!$AJ$18:$AJ$1017),0)","v":0},{"$f":"IFERROR($E224*SUMIF('Daily Log'!$AL$18:$AL$1017,$B224,'Daily Log'!$AM$18:$AM$1017),0)","v":0},{"$f":"IFERROR($E224*SUMIF('Daily Log'!$AO$18:$AO$1017,$B224,'Daily Log'!$AP$18:$AP$1017),0)","v":0},{"$f":"IFERROR($E224*SUMIF('Daily Log'!$AR$18:$AR$1017,$B224,'Daily Log'!$AS$18:$AS$1017),0)","v":0},{"$f":"IFERROR($E224*SUMIF('Daily Log'!$AU$18:$AU$1017,$B224,'Daily Log'!$AV$18:$AV$1017),0)","v":0},{"$f":"IFERROR($E224*SUMIF('Daily Log'!$AX$18:$AX$1017,$B224,'Daily Log'!$AY$18:$AY$1017),0)","v":0},{"$f":"IFERROR($E224*SUMIF('Daily Log'!$BA$18:$BA$1017,$B224,'Daily Log'!$BB$18:$BB$1017),0)","v":0},{"$f":"IFERROR($E224*SUMIF('Daily Log'!$BD$18:$BD$1017,$B224,'Daily Log'!$BE$18:$BE$1017),0)","v":0},{"$f":"IFERROR($E224*SUMIF('Daily Log'!$BG$18:$BG$1017,$B224,'Daily Log'!$BH$18:$BH$1017),0)","v":0},{"$f":"IFERROR($E224*SUMIF('Daily Log'!$BJ$18:$BJ$1017,$B224,'Daily Log'!$BK$18:$BK$1017),0)","v":0},{"$f":"IFERROR($E224*SUMIF('Daily Log'!$BM$18:$BM$1017,$B224,'Daily Log'!$BN$18:$BN$1017),0)","v":0},{"$f":"IFERROR($E224*SUMIF('Daily Log'!$BP$18:$BP$1017,$B224,'Daily Log'!$BQ$18:$BQ$1017),0)","v":0},{"$f":"IFERROR($E224*SUMIF('Daily Log'!$BS$18:$BS$1017,$B224,'Daily Log'!$BT$18:$BT$1017),0)","v":0},{"$f":"IFERROR($E224*SUMIF('Daily Log'!$BV$18:$BV$1017,$B224,'Daily Log'!$BW$18:$BW$1017),0)","v":0},{"$f":"IFERROR($E224*SUMIF('Daily Log'!$BY$18:$BY$1017,$B224,'Daily Log'!$BZ$18:$BZ$1017),0)","v":0},{"$f":"IFERROR($E224*SUMIF('Daily Log'!$CB$18:$CB$1017,$B224,'Daily Log'!$CC$18:$CC$1017),0)","v":0},{"$f":"IFERROR($E224*SUMIF('Daily Log'!$CE$18:$CE$1017,$B224,'Daily Log'!$CF$18:$CF$1017),0)","v":0},{"$f":"IFERROR($E224*SUMIF('Daily Log'!$CH$18:$CH$1017,$B224,'Daily Log'!$CI$18:$CI$1017),0)","v":0},{"$f":"IFERROR($E224*SUMIF('Daily Log'!$CK$18:$CK$1017,$B224,'Daily Log'!$CL$18:$CL$1017),0)","v":0},{"$f":"IFERROR($E224*SUMIF('Daily Log'!$CN$18:$CN$1017,$B224,'Daily Log'!$CO$18:$CO$1017),0)","v":0}]
[null,null,null,null,null,0,{"$f":"IFERROR($E225*SUMIF('Daily Log'!$B$18:$B$1017,$B225,'Daily Log'!$C$18:$C$1017),0)","v":0},{"$f":"IFERROR($E225*SUMIF('Daily Log'!$E$18:$E$1017,$B225,'Daily Log'!$F$18:$F$1017),0)","v":0},{"$f":"IFERROR($E225*SUMIF('Daily Log'!$H$18:$H$1017,$B225,'Daily Log'!$I$18:$I$1017),0)","v":0},{"$f":"IFERROR($E225*SUMIF('Daily Log'!$K$18:$K$1017,$B225,'Daily Log'!$L$18:$L$1017),0)","v":0},{"$f":"IFERROR($E225*SUMIF('Daily Log'!$N$18:$N$1017,$B225,'Daily Log'!$O$18:$O$1017),0)","v":0},{"$f":"IFERROR($E225*SUMIF('Daily Log'!$Q$18:$Q$1017,$B225,'Daily Log'!$R$18:$R$1017),0)","v":0},{"$f":"IFERROR($E225*SUMIF('Daily Log'!$T$18:$T$1017,$B225,'Daily Log'!$U$18:$U$1017),0)","v":0},{"$f":"IFERROR($E225*SUMIF('Daily Log'!$W$18:$W$1017,$B225,'Daily Log'!$X$18:$X$1017),0)","v":0},{"$f":"IFERROR($E225*SUMIF('Daily Log'!$Z$18:$Z$1017,$B225,'Daily Log'!$AA$18:$AA$1017),0)","v":0},{"$f":"IFERROR($E225*SUMIF('Daily Log'!$AC$18:$AC$1017,$B225,'Daily Log'!$AD$18:$AD$1017),0)","v":0},{"$f":"IFERROR($E225*SUMIF('Daily Log'!$AF$18:$AF$1017,$B225,'Daily Log'!$AG$18:$AG$1017),0)","v":0},{"$f":"IFERROR($E225*SUMIF('Daily Log'!$AI$18:$AI$1017,$B225,'Daily Log'!$AJ$18:$AJ$1017),0)","v":0},{"$f":"IFERROR($E225*SUMIF('Daily Log'!$AL$18:$AL$1017,$B225,'Daily Log'!$AM$18:$AM$1017),0)","v":0},{"$f":"IFERROR($E225*SUMIF('Daily Log'!$AO$18:$AO$1017,$B225,'Daily Log'!$AP$18:$AP$1017),0)","v":0},{"$f":"IFERROR($E225*SUMIF('Daily Log'!$AR$18:$AR$1017,$B225,'Daily Log'!$AS$18:$AS$1017),0)","v":0},{"$f":"IFERROR($E225*SUMIF('Daily Log'!$AU$18:$AU$1017,$B225,'Daily Log'!$AV$18:$AV$1017),0)","v":0},{"$f":"IFERROR($E225*SUMIF('Daily Log'!$AX$18:$AX$1017,$B225,'Daily Log'!$AY$18:$AY$1017),0)","v":0},{"$f":"IFERROR($E225*SUMIF('Daily Log'!$BA$18:$BA$1017,$B225,'Daily Log'!$BB$18:$BB$1017),0)","v":0},{"$f":"IFERROR($E225*SUMIF('Daily Log'!$BD$18:$BD$1017,$B225,'Daily Log'!$BE$18:$BE$1017),0)","v":0},{"$f":"IFERROR($E225*SUMIF('Daily Log'!$BG$18:$BG$1017,$B225,'Daily Log'!$BH$18:$BH$1017),0)","v":0},{"$f":"IFERROR($E225*SUMIF('Daily Log'!$BJ$18:$BJ$1017,$B225,'Daily Log'!$BK$18:$BK$1017),0)","v":0},{"$f":"IFERROR($E225*SUMIF('Daily Log'!$BM$18:$BM$1017,$B225,'Daily Log'!$BN$18:$BN$1017),0)","v":0},{"$f":"IFERROR($E225*SUMIF('Daily Log'!$BP$18:$BP$1017,$B225,'Daily Log'!$BQ$18:$BQ$1017),0)","v":0},{"$f":"IFERROR($E225*SUMIF('Daily Log'!$BS$18:$BS$1017,$B225,'Daily Log'!$BT$18:$BT$1017),0)","v":0},{"$f":"IFERROR($E225*SUMIF('Daily Log'!$BV$18:$BV$1017,$B225,'Daily Log'!$BW$18:$BW$1017),0)","v":0},{"$f":"IFERROR($E225*SUMIF('Daily Log'!$BY$18:$BY$1017,$B225,'Daily Log'!$BZ$18:$BZ$1017),0)","v":0},{"$f":"IFERROR($E225*SUMIF('Daily Log'!$CB$18:$CB$1017,$B225,'Daily Log'!$CC$18:$CC$1017),0)","v":0},{"$f":"IFERROR($E225*SUMIF('Daily Log'!$CE$18:$CE$1017,$B225,'Daily Log'!$CF$18:$CF$1017),0)","v":0},{"$f":"IFERROR($E225*SUMIF('Daily Log'!$CH$18:$CH$1017,$B225,'Daily Log'!$CI$18:$CI$1017),0)","v":0},{"$f":"IFERROR($E225*SUMIF('Daily Log'!$CK$18:$CK$1017,$B225,'Daily Log'!$CL$18:$CL$1017),0)","v":0},{"$f":"IFERROR($E225*SUMIF('Daily Log'!$CN$18:$CN$1017,$B225,'Daily Log'!$CO$18:$CO$1017),0)","v":0}]
[null,null,null,null,null,0,{"$f":"IFERROR($E226*SUMIF('Daily Log'!$B$18:$B$1017,$B226,'Daily Log'!$C$18:$C$1017),0)","v":0},{"$f":"IFERROR($E226*SUMIF('Daily Log'!$E$18:$E$1017,$B226,'Daily Log'!$F$18:$F$1017),0)","v":0},{"$f":"IFERROR($E226*SUMIF('Daily Log'!$H$18:$H$1017,$B226,'Daily Log'!$I$18:$I$1017),0)","v":0},{"$f":"IFERROR($E226*SUMIF('Daily Log'!$K$18:$K$1017,$B226,'Daily Log'!$L$18:$L$1017),0)","v":0},{"$f":"IFERROR($E226*SUMIF('Daily Log'!$N$18:$N$1017,$B226,'Daily Log'!$O$18:$O$1017),0)","v":0},{"$f":"IFERROR($E226*SUMIF('Daily Log'!$Q$18:$Q$1017,$B226,'Daily Log'!$R$18:$R$1017),0)","v":0},{"$f":"IFERROR($E226*SUMIF('Daily Log'!$T$18:$T$1017,$B226,'Daily Log'!$U$18:$U$1017),0)","v":0},{"$f":"IFERROR($E226*SUMIF('Daily Log'!$W$18:$W$1017,$B226,'Daily Log'!$X$18:$X$1017),0)","v":0},{"$f":"IFERROR($E226*SUMIF('Daily Log'!$Z$18:$Z$1017,$B226,'Daily Log'!$AA$18:$AA$1017),0)","v":0},{"$f":"IFERROR($E226*SUMIF('Daily Log'!$AC$18:$AC$1017,$B226,'Daily Log'!$AD$18:$AD$1017),0)","v":0},{"$f":"IFERROR($E226*SUMIF('Daily Log'!$AF$18:$AF$1017,$B226,'Daily Log'!$AG$18:$AG$1017),0)","v":0},{"$f":"IFERROR($E226*SUMIF('Daily Log'!$AI$18:$AI$1017,$B226,'Daily Log'!$AJ$18:$AJ$1017),0)","v":0},{"$f":"IFERROR($E226*SUMIF('Daily Log'!$AL$18:$AL$1017,$B226,'Daily Log'!$AM$18:$AM$1017),0)","v":0},{"$f":"IFERROR($E226*SUMIF('Daily Log'!$AO$18:$AO$1017,$B226,'Daily Log'!$AP$18:$AP$1017),0)","v":0},{"$f":"IFERROR($E226*SUMIF('Daily Log'!$AR$18:$AR$1017,$B226,'Daily Log'!$AS$18:$AS$1017),0)","v":0},{"$f":"IFERROR($E226*SUMIF('Daily Log'!$AU$18:$AU$1017,$B226,'Daily Log'!$AV$18:$AV$1017),0)","v":0},{"$f":"IFERROR($E226*SUMIF('Daily Log'!$AX$18:$AX$1017,$B226,'Daily Log'!$AY$18:$AY$1017),0)","v":0},{"$f":"IFERROR($E226*SUMIF('Daily Log'!$BA$18:$BA$1017,$B226,'Daily Log'!$BB$18:$BB$1017),0)","v":0},{"$f":"IFERROR($E226*SUMIF('Daily Log'!$BD$18:$BD$1017,$B226,'Daily Log'!$BE$18:$BE$1017),0)","v":0},{"$f":"IFERROR($E226*SUMIF('Daily Log'!$BG$18:$BG$1017,$B226,'Daily Log'!$BH$18:$BH$1017),0)","v":0},{"$f":"IFERROR($E226*SUMIF('Daily Log'!$BJ$18:$BJ$1017,$B226,'Daily Log'!$BK$18:$BK$1017),0)","v":0},{"$f":"IFERROR($E226*SUMIF('Daily Log'!$BM$18:$BM$1017,$B226,'Daily Log'!$BN$18:$BN$1017),0)","v":0},{"$f":"IFERROR($E226*SUMIF('Daily Log'!$BP$18:$BP$1017,$B226,'Daily Log'!$BQ$18:$BQ$1017),0)","v":0},{"$f":"IFERROR($E226*SUMIF('Daily Log'!$BS$18:$BS$1017,$B226,'Daily Log'!$BT$18:$BT$1017),0)","v":0},{"$f":"IFERROR($E226*SUMIF('Daily Log'!$BV$18:$BV$1017,$B226,'Daily Log'!$BW$18:$BW$1017),0)","v":0},{"$f":"IFERROR($E226*SUMIF('Daily Log'!$BY$18:$BY$1017,$B226,'Daily Log'!$BZ$18:$BZ$1017),0)","v":0},{"$f":"IFERROR($E226*SUMIF('Daily Log'!$CB$18:$CB$1017,$B226,'Daily Log'!$CC$18:$CC$1017),0)","v":0},{"$f":"IFERROR($E226*SUMIF('Daily Log'!$CE$18:$CE$1017,$B226,'Daily Log'!$CF$18:$CF$1017),0)","v":0},{"$f":"IFERROR($E226*SUMIF('Daily Log'!$CH$18:$CH$1017,$B226,'Daily Log'!$CI$18:$CI$1017),0)","v":0},{"$f":"IFERROR($E226*SUMIF('Daily Log'!$CK$18:$CK$1017,$B226,'Daily Log'!$CL$18:$CL$1017),0)","v":0},{"$f":"IFERROR($E226*SUMIF('Daily Log'!$CN$18:$CN$1017,$B226,'Daily Log'!$CO$18:$CO$1017),0)","v":0}]
[null,null,null,null,null,0,{"$f":"IFERROR($E227*SUMIF('Daily Log'!$B$18:$B$1017,$B227,'Daily Log'!$C$18:$C$1017),0)","v":0},{"$f":"IFERROR($E227*SUMIF('Daily Log'!$E$18:$E$1017,$B227,'Daily Log'!$F$18:$F$1017),0)","v":0},{"$f":"IFERROR($E227*SUMIF('Daily Log'!$H$18:$H$1017,$B227,'Daily Log'!$I$18:$I$1017),0)","v":0},{"$f":"IFERROR($E227*SUMIF('Daily Log'!$K$18:$K$1017,$B227,'Daily Log'!$L$18:$L$1017),0)","v":0},{"$f":"IFERROR($E227*SUMIF('Daily Log'!$N$18:$N$1017,$B227,'Daily Log'!$O$18:$O$1017),0)","v":0},{"$f":"IFERROR($E227*SUMIF('Daily Log'!$Q$18:$Q$1017,$B227,'Daily Log'!$R$18:$R$1017),0)","v":0},{"$f":"IFERROR($E227*SUMIF('Daily Log'!$T$18:$T$1017,$B227,'Daily Log'!$U$18:$U$1017),0)","v":0},{"$f":"IFERROR($E227*SUMIF('Daily Log'!$W$18:$W$1017,$B227,'Daily Log'!$X$18:$X$1017),0)","v":0},{"$f":"IFERROR($E227*SUMIF('Daily Log'!$Z$18:$Z$1017,$B227,'Daily Log'!$AA$18:$AA$1017),0)","v":0},{"$f":"IFERROR($E227*SUMIF('Daily Log'!$AC$18:$AC$1017,$B227,'Daily Log'!$AD$18:$AD$1017),0)","v":0},{"$f":"IFERROR($E227*SUMIF('Daily Log'!$AF$18:$AF$1017,$B227,'Daily Log'!$AG$18:$AG$1017),0)","v":0},{"$f":"IFERROR($E227*SUMIF('Daily Log'!$AI$18:$AI$1017,$B227,'Daily Log'!$AJ$18:$AJ$1017),0)","v":0},{"$f":"IFERROR($E227*SUMIF('Daily Log'!$AL$18:$AL$1017,$B227,'Daily Log'!$AM$18:$AM$1017),0)","v":0},{"$f":"IFERROR($E227*SUMIF('Daily Log'!$AO$18:$AO$1017,$B227,'Daily Log'!$AP$18:$AP$1017),0)","v":0},{"$f":"IFERROR($E227*SUMIF('Daily Log'!$AR$18:$AR$1017,$B227,'Daily Log'!$AS$18:$AS$1017),0)","v":0},{"$f":"IFERROR($E227*SUMIF('Daily Log'!$AU$18:$AU$1017,$B227,'Daily Log'!$AV$18:$AV$1017),0)","v":0},{"$f":"IFERROR($E227*SUMIF('Daily Log'!$AX$18:$AX$1017,$B227,'Daily Log'!$AY$18:$AY$1017),0)","v":0},{"$f":"IFERROR($E227*SUMIF('Daily Log'!$BA$18:$BA$1017,$B227,'Daily Log'!$BB$18:$BB$1017),0)","v":0},{"$f":"IFERROR($E227*SUMIF('Daily Log'!$BD$18:$BD$1017,$B227,'Daily Log'!$BE$18:$BE$1017),0)","v":0},{"$f":"IFERROR($E227*SUMIF('Daily Log'!$BG$18:$BG$1017,$B227,'Daily Log'!$BH$18:$BH$1017),0)","v":0},{"$f":"IFERROR($E227*SUMIF('Daily Log'!$BJ$18:$BJ$1017,$B227,'Daily Log'!$BK$18:$BK$1017),0)","v":0},{"$f":"IFERROR($E227*SUMIF('Daily Log'!$BM$18:$BM$1017,$B227,'Daily Log'!$BN$18:$BN$1017),0)","v":0},{"$f":"IFERROR($E227*SUMIF('Daily Log'!$BP$18:$BP$1017,$B227,'Daily Log'!$BQ$18:$BQ$1017),0)","v":0},{"$f":"IFERROR($E227*SUMIF('Daily Log'!$BS$18:$BS$1017,$B227,'Daily Log'!$BT$18:$BT$1017),0)","v":0},{"$f":"IFERROR($E227*SUMIF('Daily Log'!$BV$18:$BV$1017,$B227,'Daily Log'!$BW$18:$BW$1017),0)","v":0},{"$f":"IFERROR($E227*SUMIF('Daily Log'!$BY$18:$BY$1017,$B227,'Daily Log'!$BZ$18:$BZ$1017),0)","v":0},{"$f":"IFERROR($E227*SUMIF('Daily Log'!$CB$18:$CB$1017,$B227,'Daily Log'!$CC$18:$CC$1017),0)","v":0},{"$f":"IFERROR($E227*SUMIF('Daily Log'!$CE$18:$CE$1017,$B227,'Daily Log'!$CF$18:$CF$1017),0)","v":0},{"$f":"IFERROR($E227*SUMIF('Daily Log'!$CH$18:$CH$1017,$B227,'Daily Log'!$CI$18:$CI$1017),0)","v":0},{"$f":"IFERROR($E227*SUMIF('Daily Log'!$CK$18:$CK$1017,$B227,'Daily Log'!$CL$18:$CL$1017),0)","v":0},{"$f":"IFERROR($E227*SUMIF('Daily Log'!$CN$18:$CN$1017,$B227,'Daily Log'!$CO$18:$CO$1017),0)","v":0}]
[null,null,null,null,null,0,{"$f":"IFERROR($E228*SUMIF('Daily Log'!$B$18:$B$1017,$B228,'Daily Log'!$C$18:$C$1017),0)","v":0},{"$f":"IFERROR($E228*SUMIF('Daily Log'!$E$18:$E$1017,$B228,'Daily Log'!$F$18:$F$1017),0)","v":0},{"$f":"IFERROR($E228*SUMIF('Daily Log'!$H$18:$H$1017,$B228,'Daily Log'!$I$18:$I$1017),0)","v":0},{"$f":"IFERROR($E228*SUMIF('Daily Log'!$K$18:$K$1017,$B228,'Daily Log'!$L$18:$L$1017),0)","v":0},{"$f":"IFERROR($E228*SUMIF('Daily Log'!$N$18:$N$1017,$B228,'Daily Log'!$O$18:$O$1017),0)","v":0},{"$f":"IFERROR($E228*SUMIF('Daily Log'!$Q$18:$Q$1017,$B228,'Daily Log'!$R$18:$R$1017),0)","v":0},{"$f":"IFERROR($E228*SUMIF('Daily Log'!$T$18:$T$1017,$B228,'Daily Log'!$U$18:$U$1017),0)","v":0},{"$f":"IFERROR($E228*SUMIF('Daily Log'!$W$18:$W$1017,$B228,'Daily Log'!$X$18:$X$1017),0)","v":0},{"$f":"IFERROR($E228*SUMIF('Daily Log'!$Z$18:$Z$1017,$B228,'Daily Log'!$AA$18:$AA$1017),0)","v":0},{"$f":"IFERROR($E228*SUMIF('Daily Log'!$AC$18:$AC$1017,$B228,'Daily Log'!$AD$18:$AD$1017),0)","v":0},{"$f":"IFERROR($E228*SUMIF('Daily Log'!$AF$18:$AF$1017,$B228,'Daily Log'!$AG$18:$AG$1017),0)","v":0},{"$f":"IFERROR($E228*SUMIF('Daily Log'!$AI$18:$AI$1017,$B228,'Daily Log'!$AJ$18:$AJ$1017),0)","v":0},{"$f":"IFERROR($E228*SUMIF('Daily Log'!$AL$18:$AL$1017,$B228,'Daily Log'!$AM$18:$AM$1017),0)","v":0},{"$f":"IFERROR($E228*SUMIF('Daily Log'!$AO$18:$AO$1017,$B228,'Daily Log'!$AP$18:$AP$1017),0)","v":0},{"$f":"IFERROR($E228*SUMIF('Daily Log'!$AR$18:$AR$1017,$B228,'Daily Log'!$AS$18:$AS$1017),0)","v":0},{"$f":"IFERROR($E228*SUMIF('Daily Log'!$AU$18:$AU$1017,$B228,'Daily Log'!$AV$18:$AV$1017),0)","v":0},{"$f":"IFERROR($E228*SUMIF('Daily Log'!$AX$18:$AX$1017,$B228,'Daily Log'!$AY$18:$AY$1017),0)","v":0},{"$f":"IFERROR($E228*SUMIF('Daily Log'!$BA$18:$BA$1017,$B228,'Daily Log'!$BB$18:$BB$1017),0)","v":0},{"$f":"IFERROR($E228*SUMIF('Daily Log'!$BD$18:$BD$1017,$B228,'Daily Log'!$BE$18:$BE$1017),0)","v":0},{"$f":"IFERROR($E228*SUMIF('Daily Log'!$BG$18:$BG$1017,$B228,'Daily Log'!$BH$18:$BH$1017),0)","v":0},{"$f":"IFERROR($E228*SUMIF('Daily Log'!$BJ$18:$BJ$1017,$B228,'Daily Log'!$BK$18:$BK$1017),0)","v":0},{"$f":"IFERROR($E228*SUMIF('Daily Log'!$BM$18:$BM$1017,$B228,'Daily Log'!$BN$18:$BN$1017),0)","v":0},{"$f":"IFERROR($E228*SUMIF('Daily Log'!$BP$18:$BP$1017,$B228,'Daily Log'!$BQ$18:$BQ$1017),0)","v":0},{"$f":"IFERROR($E228*SUMIF('Daily Log'!$BS$18:$BS$1017,$B228,'Daily Log'!$BT$18:$BT$1017),0)","v":0},{"$f":"IFERROR($E228*SUMIF('Daily Log'!$BV$18:$BV$1017,$B228,'Daily Log'!$BW$18:$BW$1017),0)","v":0},{"$f":"IFERROR($E228*SUMIF('Daily Log'!$BY$18:$BY$1017,$B228,'Daily Log'!$BZ$18:$BZ$1017),0)","v":0},{"$f":"IFERROR($E228*SUMIF('Daily Log'!$CB$18:$CB$1017,$B228,'Daily Log'!$CC$18:$CC$1017),0)","v":0},{"$f":"IFERROR($E228*SUMIF('Daily Log'!$CE$18:$CE$1017,$B228,'Daily Log'!$CF$18:$CF$1017),0)","v":0},{"$f":"IFERROR($E228*SUMIF('Daily Log'!$CH$18:$CH$1017,$B228,'Daily Log'!$CI$18:$CI$1017),0)","v":0},{"$f":"IFERROR($E228*SUMIF('Daily Log'!$CK$18:$CK$1017,$B228,'Daily Log'!$CL$18:$CL$1017),0)","v":0},{"$f":"IFERROR($E228*SUMIF('Daily Log'!$CN$18:$CN$1017,$B228,'Daily Log'!$CO$18:$CO$1017),0)","v":0}]
[null,null,null,null,null,0,{"$f":"IFERROR($E229*SUMIF('Daily Log'!$B$18:$B$1017,$B229,'Daily Log'!$C$18:$C$1017),0)","v":0},{"$f":"IFERROR($E229*SUMIF('Daily Log'!$E$18:$E$1017,$B229,'Daily Log'!$F$18:$F$1017),0)","v":0},{"$f":"IFERROR($E229*SUMIF('Daily Log'!$H$18:$H$1017,$B229,'Daily Log'!$I$18:$I$1017),0)","v":0},{"$f":"IFERROR($E229*SUMIF('Daily Log'!$K$18:$K$1017,$B229,'Daily Log'!$L$18:$L$1017),0)","v":0},{"$f":"IFERROR($E229*SUMIF('Daily Log'!$N$18:$N$1017,$B229,'Daily Log'!$O$18:$O$1017),0)","v":0},{"$f":"IFERROR($E229*SUMIF('Daily Log'!$Q$18:$Q$1017,$B229,'Daily Log'!$R$18:$R$1017),0)","v":0},{"$f":"IFERROR($E229*SUMIF('Daily Log'!$T$18:$T$1017,$B229,'Daily Log'!$U$18:$U$1017),0)","v":0},{"$f":"IFERROR($E229*SUMIF('Daily Log'!$W$18:$W$1017,$B229,'Daily Log'!$X$18:$X$1017),0)","v":0},{"$f":"IFERROR($E229*SUMIF('Daily Log'!$Z$18:$Z$1017,$B229,'Daily Log'!$AA$18:$AA$1017),0)","v":0},{"$f":"IFERROR($E229*SUMIF('Daily Log'!$AC$18:$AC$1017,$B229,'Daily Log'!$AD$18:$AD$1017),0)","v":0},{"$f":"IFERROR($E229*SUMIF('Daily Log'!$AF$18:$AF$1017,$B229,'Daily Log'!$AG$18:$AG$1017),0)","v":0},{"$f":"IFERROR($E229*SUMIF('Daily Log'!$AI$18:$AI$1017,$B229,'Daily Log'!$AJ$18:$AJ$1017),0)","v":0},{"$f":"IFERROR($E229*SUMIF('Daily Log'!$AL$18:$AL$1017,$B229,'Daily Log'!$AM$18:$AM$1017),0)","v":0},{"$f":"IFERROR($E229*SUMIF('Daily Log'!$AO$18:$AO$1017,$B229,'Daily Log'!$AP$18:$AP$1017),0)","v":0},{"$f":"IFERROR($E229*SUMIF('Daily Log'!$AR$18:$AR$1017,$B229,'Daily Log'!$AS$18:$AS$1017),0)","v":0},{"$f":"IFERROR($E229*SUMIF('Daily Log'!$AU$18:$AU$1017,$B229,'Daily Log'!$AV$18:$AV$1017),0)","v":0},{"$f":"IFERROR($E229*SUMIF('Daily Log'!$AX$18:$AX$1017,$B229,'Daily Log'!$AY$18:$AY$1017),0)","v":0},{"$f":"IFERROR($E229*SUMIF('Daily Log'!$BA$18:$BA$1017,$B229,'Daily Log'!$BB$18:$BB$1017),0)","v":0},{"$f":"IFERROR($E229*SUMIF('Daily Log'!$BD$18:$BD$1017,$B229,'Daily Log'!$BE$18:$BE$1017),0)","v":0},{"$f":"IFERROR($E229*SUMIF('Daily Log'!$BG$18:$BG$1017,$B229,'Daily Log'!$BH$18:$BH$1017),0)","v":0},{"$f":"IFERROR($E229*SUMIF('Daily Log'!$BJ$18:$BJ$1017,$B229,'Daily Log'!$BK$18:$BK$1017),0)","v":0},{"$f":"IFERROR($E229*SUMIF('Daily Log'!$BM$18:$BM$1017,$B229,'Daily Log'!$BN$18:$BN$1017),0)","v":0},{"$f":"IFERROR($E229*SUMIF('Daily Log'!$BP$18:$BP$1017,$B229,'Daily Log'!$BQ$18:$BQ$1017),0)","v":0},{"$f":"IFERROR($E229*SUMIF('Daily Log'!$BS$18:$BS$1017,$B229,'Daily Log'!$BT$18:$BT$1017),0)","v":0},{"$f":"IFERROR($E229*SUMIF('Daily Log'!$BV$18:$BV$1017,$B229,'Daily Log'!$BW$18:$BW$1017),0)","v":0},{"$f":"IFERROR($E229*SUMIF('Daily Log'!$BY$18:$BY$1017,$B229,'Daily Log'!$BZ$18:$BZ$1017),0)","v":0},{"$f":"IFERROR($E229*SUMIF('Daily Log'!$CB$18:$CB$1017,$B229,'Daily Log'!$CC$18:$CC$1017),0)","v":0},{"$f":"IFERROR($E229*SUMIF('Daily Log'!$CE$18:$CE$1017,$B229,'Daily Log'!$CF$18:$CF$1017),0)","v":0},{"$f":"IFERROR($E229*SUMIF('Daily Log'!$CH$18:$CH$1017,$B229,'Daily Log'!$CI$18:$CI$1017),0)","v":0},{"$f":"IFERROR($E229*SUMIF('Daily Log'!$CK$18:$CK$1017,$B229,'Daily Log'!$CL$18:$CL$1017),0)","v":0},{"$f":"IFERROR($E229*SUMIF('Daily Log'!$CN$18:$CN$1017,$B229,'Daily Log'!$CO$18:$CO$1017),0)","v":0}]
[null,null,null,null,null,0,{"$f":"IFERROR($E230*SUMIF('Daily Log'!$B$18:$B$1017,$B230,'Daily Log'!$C$18:$C$1017),0)","v":0},{"$f":"IFERROR($E230*SUMIF('Daily Log'!$E$18:$E$1017,$B230,'Daily Log'!$F$18:$F$1017),0)","v":0},{"$f":"IFERROR($E230*SUMIF('Daily Log'!$H$18:$H$1017,$B230,'Daily Log'!$I$18:$I$1017),0)","v":0},{"$f":"IFERROR($E230*SUMIF('Daily Log'!$K$18:$K$1017,$B230,'Daily Log'!$L$18:$L$1017),0)","v":0},{"$f":"IFERROR($E230*SUMIF('Daily Log'!$N$18:$N$1017,$B230,'Daily Log'!$O$18:$O$1017),0)","v":0},{"$f":"IFERROR($E230*SUMIF('Daily Log'!$Q$18:$Q$1017,$B230,'Daily Log'!$R$18:$R$1017),0)","v":0},{"$f":"IFERROR($E230*SUMIF('Daily Log'!$T$18:$T$1017,$B230,'Daily Log'!$U$18:$U$1017),0)","v":0},{"$f":"IFERROR($E230*SUMIF('Daily Log'!$W$18:$W$1017,$B230,'Daily Log'!$X$18:$X$1017),0)","v":0},{"$f":"IFERROR($E230*SUMIF('Daily Log'!$Z$18:$Z$1017,$B230,'Daily Log'!$AA$18:$AA$1017),0)","v":0},{"$f":"IFERROR($E230*SUMIF('Daily Log'!$AC$18:$AC$1017,$B230,'Daily Log'!$AD$18:$AD$1017),0)","v":0},{"$f":"IFERROR($E230*SUMIF('Daily Log'!$AF$18:$AF$1017,$B230,'Daily Log'!$AG$18:$AG$1017),0)","v":0},{"$f":"IFERROR($E230*SUMIF('Daily Log'!$AI$18:$AI$1017,$B230,'Daily Log'!$AJ$18:$AJ$1017),0)","v":0},{"$f":"IFERROR($E230*SUMIF('Daily Log'!$AL$18:$AL$1017,$B230,'Daily Log'!$AM$18:$AM$1017),0)","v":0},{"$f":"IFERROR($E230*SUMIF('Daily Log'!$AO$18:$AO$1017,$B230,'Daily Log'!$AP$18:$AP$1017),0)","v":0},{"$f":"IFERROR($E230*SUMIF('Daily Log'!$AR$18:$AR$1017,$B230,'Daily Log'!$AS$18:$AS$1017),0)","v":0},{"$f":"IFERROR($E230*SUMIF('Daily Log'!$AU$18:$AU$1017,$B230,'Daily Log'!$AV$18:$AV$1017),0)","v":0},{"$f":"IFERROR($E230*SUMIF('Daily Log'!$AX$18:$AX$1017,$B230,'Daily Log'!$AY$18:$AY$1017),0)","v":0},{"$f":"IFERROR($E230*SUMIF('Daily Log'!$BA$18:$BA$1017,$B230,'Daily Log'!$BB$18:$BB$1017),0)","v":0},{"$f":"IFERROR($E230*SUMIF('Daily Log'!$BD$18:$BD$1017,$B230,'Daily Log'!$BE$18:$BE$1017),0)","v":0},{"$f":"IFERROR($E230*SUMIF('Daily Log'!$BG$18:$BG$1017,$B230,'Daily Log'!$BH$18:$BH$1017),0)","v":0},{"$f":"IFERROR($E230*SUMIF('Daily Log'!$BJ$18:$BJ$1017,$B230,'Daily Log'!$BK$18:$BK$1017),0)","v":0},{"$f":"IFERROR($E230*SUMIF('Daily Log'!$BM$18:$BM$1017,$B230,'Daily Log'!$BN$18:$BN$1017),0)","v":0},{"$f":"IFERROR($E230*SUMIF('Daily Log'!$BP$18:$BP$1017,$B230,'Daily Log'!$BQ$18:$BQ$1017),0)","v":0},{"$f":"IFERROR($E230*SUMIF('Daily Log'!$BS$18:$BS$1017,$B230,'Daily Log'!$BT$18:$BT$1017),0)","v":0},{"$f":"IFERROR($E230*SUMIF('Daily Log'!$BV$18:$BV$1017,$B230,'Daily Log'!$BW$18:$BW$1017),0)","v":0},{"$f":"IFERROR($E230*SUMIF('Daily Log'!$BY$18:$BY$1017,$B230,'Daily Log'!$BZ$18:$BZ$1017),0)","v":0},{"$f":"IFERROR($E230*SUMIF('Daily Log'!$CB$18:$CB$1017,$B230,'Daily Log'!$CC$18:$CC$1017),0)","v":0},{"$f":"IFERROR($E230*SUMIF('Daily Log'!$CE$18:$CE$1017,$B230,'Daily Log'!$CF$18:$CF$1017),0)","v":0},{"$f":"IFERROR($E230*SUMIF('Daily Log'!$CH$18:$CH$1017,$B230,'Daily Log'!$CI$18:$CI$1017),0)","v":0},{"$f":"IFERROR($E230*SUMIF('Daily Log'!$CK$18:$CK$1017,$B230,'Daily Log'!$CL$18:$CL$1017),0)","v":0},{"$f":"IFERROR($E230*SUMIF('Daily Log'!$CN$18:$CN$1017,$B230,'Daily Log'!$CO$18:$CO$1017),0)","v":0}]
[null,null,null,null,null,0,{"$f":"IFERROR($E231*SUMIF('Daily Log'!$B$18:$B$1017,$B231,'Daily Log'!$C$18:$C$1017),0)","v":0},{"$f":"IFERROR($E231*SUMIF('Daily Log'!$E$18:$E$1017,$B231,'Daily Log'!$F$18:$F$1017),0)","v":0},{"$f":"IFERROR($E231*SUMIF('Daily Log'!$H$18:$H$1017,$B231,'Daily Log'!$I$18:$I$1017),0)","v":0},{"$f":"IFERROR($E231*SUMIF('Daily Log'!$K$18:$K$1017,$B231,'Daily Log'!$L$18:$L$1017),0)","v":0},{"$f":"IFERROR($E231*SUMIF('Daily Log'!$N$18:$N$1017,$B231,'Daily Log'!$O$18:$O$1017),0)","v":0},{"$f":"IFERROR($E231*SUMIF('Daily Log'!$Q$18:$Q$1017,$B231,'Daily Log'!$R$18:$R$1017),0)","v":0},{"$f":"IFERROR($E231*SUMIF('Daily Log'!$T$18:$T$1017,$B231,'Daily Log'!$U$18:$U$1017),0)","v":0},{"$f":"IFERROR($E231*SUMIF('Daily Log'!$W$18:$W$1017,$B231,'Daily Log'!$X$18:$X$1017),0)","v":0},{"$f":"IFERROR($E231*SUMIF('Daily Log'!$Z$18:$Z$1017,$B231,'Daily Log'!$AA$18:$AA$1017),0)","v":0},{"$f":"IFERROR($E231*SUMIF('Daily Log'!$AC$18:$AC$1017,$B231,'Daily Log'!$AD$18:$AD$1017),0)","v":0},{"$f":"IFERROR($E231*SUMIF('Daily Log'!$AF$18:$AF$1017,$B231,'Daily Log'!$AG$18:$AG$1017),0)","v":0},{"$f":"IFERROR($E231*SUMIF('Daily Log'!$AI$18:$AI$1017,$B231,'Daily Log'!$AJ$18:$AJ$1017),0)","v":0},{"$f":"IFERROR($E231*SUMIF('Daily Log'!$AL$18:$AL$1017,$B231,'Daily Log'!$AM$18:$AM$1017),0)","v":0},{"$f":"IFERROR($E231*SUMIF('Daily Log'!$AO$18:$AO$1017,$B231,'Daily Log'!$AP$18:$AP$1017),0)","v":0},{"$f":"IFERROR($E231*SUMIF('Daily Log'!$AR$18:$AR$1017,$B231,'Daily Log'!$AS$18:$AS$1017),0)","v":0},{"$f":"IFERROR($E231*SUMIF('Daily Log'!$AU$18:$AU$1017,$B231,'Daily Log'!$AV$18:$AV$1017),0)","v":0},{"$f":"IFERROR($E231*SUMIF('Daily Log'!$AX$18:$AX$1017,$B231,'Daily Log'!$AY$18:$AY$1017),0)","v":0},{"$f":"IFERROR($E231*SUMIF('Daily Log'!$BA$18:$BA$1017,$B231,'Daily Log'!$BB$18:$BB$1017),0)","v":0},{"$f":"IFERROR($E231*SUMIF('Daily Log'!$BD$18:$BD$1017,$B231,'Daily Log'!$BE$18:$BE$1017),0)","v":0},{"$f":"IFERROR($E231*SUMIF('Daily Log'!$BG$18:$BG$1017,$B231,'Daily Log'!$BH$18:$BH$1017),0)","v":0},{"$f":"IFERROR($E231*SUMIF('Daily Log'!$BJ$18:$BJ$1017,$B231,'Daily Log'!$BK$18:$BK$1017),0)","v":0},{"$f":"IFERROR($E231*SUMIF('Daily Log'!$BM$18:$BM$1017,$B231,'Daily Log'!$BN$18:$BN$1017),0)","v":0},{"$f":"IFERROR($E231*SUMIF('Daily Log'!$BP$18:$BP$1017,$B231,'Daily Log'!$BQ$18:$BQ$1017),0)","v":0},{"$f":"IFERROR($E231*SUMIF('Daily Log'!$BS$18:$BS$1017,$B231,'Daily Log'!$BT$18:$BT$1017),0)","v":0},{"$f":"IFERROR($E231*SUMIF('Daily Log'!$BV$18:$BV$1017,$B231,'Daily Log'!$BW$18:$BW$1017),0)","v":0},{"$f":"IFERROR($E231*SUMIF('Daily Log'!$BY$18:$BY$1017,$B231,'Daily Log'!$BZ$18:$BZ$1017),0)","v":0},{"$f":"IFERROR($E231*SUMIF('Daily Log'!$CB$18:$CB$1017,$B231,'Daily Log'!$CC$18:$CC$1017),0)","v":0},{"$f":"IFERROR($E231*SUMIF('Daily Log'!$CE$18:$CE$1017,$B231,'Daily Log'!$CF$18:$CF$1017),0)","v":0},{"$f":"IFERROR($E231*SUMIF('Daily Log'!$CH$18:$CH$1017,$B231,'Daily Log'!$CI$18:$CI$1017),0)","v":0},{"$f":"IFERROR($E231*SUMIF('Daily Log'!$CK$18:$CK$1017,$B231,'Daily Log'!$CL$18:$CL$1017),0)","v":0},{"$f":"IFERROR($E231*SUMIF('Daily Log'!$CN$18:$CN$1017,$B231,'Daily Log'!$CO$18:$CO$1017),0)","v":0}]
[null,null,null,null,null,0,{"$f":"IFERROR($E232*SUMIF('Daily Log'!$B$18:$B$1017,$B232,'Daily Log'!$C$18:$C$1017),0)","v":0},{"$f":"IFERROR($E232*SUMIF('Daily Log'!$E$18:$E$1017,$B232,'Daily Log'!$F$18:$F$1017),0)","v":0},{"$f":"IFERROR($E232*SUMIF('Daily Log'!$H$18:$H$1017,$B232,'Daily Log'!$I$18:$I$1017),0)","v":0},{"$f":"IFERROR($E232*SUMIF('Daily Log'!$K$18:$K$1017,$B232,'Daily Log'!$L$18:$L$1017),0)","v":0},{"$f":"IFERROR($E232*SUMIF('Daily Log'!$N$18:$N$1017,$B232,'Daily Log'!$O$18:$O$1017),0)","v":0},{"$f":"IFERROR($E232*SUMIF('Daily Log'!$Q$18:$Q$1017,$B232,'Daily Log'!$R$18:$R$1017),0)","v":0},{"$f":"IFERROR($E232*SUMIF('Daily Log'!$T$18:$T$1017,$B232,'Daily Log'!$U$18:$U$1017),0)","v":0},{"$f":"IFERROR($E232*SUMIF('Daily Log'!$W$18:$W$1017,$B232,'Daily Log'!$X$18:$X$1017),0)","v":0},{"$f":"IFERROR($E232*SUMIF('Daily Log'!$Z$18:$Z$1017,$B232,'Daily Log'!$AA$18:$AA$1017),0)","v":0},{"$f":"IFERROR($E232*SUMIF('Daily Log'!$AC$18:$AC$1017,$B232,'Daily Log'!$AD$18:$AD$1017),0)","v":0},{"$f":"IFERROR($E232*SUMIF('Daily Log'!$AF$18:$AF$1017,$B232,'Daily Log'!$AG$18:$AG$1017),0)","v":0},{"$f":"IFERROR($E232*SUMIF('Daily Log'!$AI$18:$AI$1017,$B232,'Daily Log'!$AJ$18:$AJ$1017),0)","v":0},{"$f":"IFERROR($E232*SUMIF('Daily Log'!$AL$18:$AL$1017,$B232,'Daily Log'!$AM$18:$AM$1017),0)","v":0},{"$f":"IFERROR($E232*SUMIF('Daily Log'!$AO$18:$AO$1017,$B232,'Daily Log'!$AP$18:$AP$1017),0)","v":0},{"$f":"IFERROR($E232*SUMIF('Daily Log'!$AR$18:$AR$1017,$B232,'Daily Log'!$AS$18:$AS$1017),0)","v":0},{"$f":"IFERROR($E232*SUMIF('Daily Log'!$AU$18:$AU$1017,$B232,'Daily Log'!$AV$18:$AV$1017),0)","v":0},{"$f":"IFERROR($E232*SUMIF('Daily Log'!$AX$18:$AX$1017,$B232,'Daily Log'!$AY$18:$AY$1017),0)","v":0},{"$f":"IFERROR($E232*SUMIF('Daily Log'!$BA$18:$BA$1017,$B232,'Daily Log'!$BB$18:$BB$1017),0)","v":0},{"$f":"IFERROR($E232*SUMIF('Daily Log'!$BD$18:$BD$1017,$B232,'Daily Log'!$BE$18:$BE$1017),0)","v":0},{"$f":"IFERROR($E232*SUMIF('Daily Log'!$BG$18:$BG$1017,$B232,'Daily Log'!$BH$18:$BH$1017),0)","v":0},{"$f":"IFERROR($E232*SUMIF('Daily Log'!$BJ$18:$BJ$1017,$B232,'Daily Log'!$BK$18:$BK$1017),0)","v":0},{"$f":"IFERROR($E232*SUMIF('Daily Log'!$BM$18:$BM$1017,$B232,'Daily Log'!$BN$18:$BN$1017),0)","v":0},{"$f":"IFERROR($E232*SUMIF('Daily Log'!$BP$18:$BP$1017,$B232,'Daily Log'!$BQ$18:$BQ$1017),0)","v":0},{"$f":"IFERROR($E232*SUMIF('Daily Log'!$BS$18:$BS$1017,$B232,'Daily Log'!$BT$18:$BT$1017),0)","v":0},{"$f":"IFERROR($E232*SUMIF('Daily Log'!$BV$18:$BV$1017,$B232,'Daily Log'!$BW$18:$BW$1017),0)","v":0},{"$f":"IFERROR($E232*SUMIF('Daily Log'!$BY$18:$BY$1017,$B232,'Daily Log'!$BZ$18:$BZ$1017),0)","v":0},{"$f":"IFERROR($E232*SUMIF('Daily Log'!$CB$18:$CB$1017,$B232,'Daily Log'!$CC$18:$CC$1017),0)","v":0},{"$f":"IFERROR($E232*SUMIF('Daily Log'!$CE$18:$CE$1017,$B232,'Daily Log'!$CF$18:$CF$1017),0)","v":0},{"$f":"IFERROR($E232*SUMIF('Daily Log'!$CH$18:$CH$1017,$B232,'Daily Log'!$CI$18:$CI$1017),0)","v":0},{"$f":"IFERROR($E232*SUMIF('Daily Log'!$CK$18:$CK$1017,$B232,'Daily Log'!$CL$18:$CL$1017),0)","v":0},{"$f":"IFERROR($E232*SUMIF('Daily Log'!$CN$18:$CN$1017,$B232,'Daily Log'!$CO$18:$CO$1017),0)","v":0}]
[null,null,null,null,null,0,{"$f":"IFERROR($E233*SUMIF('Daily Log'!$B$18:$B$1017,$B233,'Daily Log'!$C$18:$C$1017),0)","v":0},{"$f":"IFERROR($E233*SUMIF('Daily Log'!$E$18:$E$1017,$B233,'Daily Log'!$F$18:$F$1017),0)","v":0},{"$f":"IFERROR($E233*SUMIF('Daily Log'!$H$18:$H$1017,$B233,'Daily Log'!$I$18:$I$1017),0)","v":0},{"$f":"IFERROR($E233*SUMIF('Daily Log'!$K$18:$K$1017,$B233,'Daily Log'!$L$18:$L$1017),0)","v":0},{"$f":"IFERROR($E233*SUMIF('Daily Log'!$N$18:$N$1017,$B233,'Daily Log'!$O$18:$O$1017),0)","v":0},{"$f":"IFERROR($E233*SUMIF('Daily Log'!$Q$18:$Q$1017,$B233,'Daily Log'!$R$18:$R$1017),0)","v":0},{"$f":"IFERROR($E233*SUMIF('Daily Log'!$T$18:$T$1017,$B233,'Daily Log'!$U$18:$U$1017),0)","v":0},{"$f":"IFERROR($E233*SUMIF('Daily Log'!$W$18:$W$1017,$B233,'Daily Log'!$X$18:$X$1017),0)","v":0},{"$f":"IFERROR($E233*SUMIF('Daily Log'!$Z$18:$Z$1017,$B233,'Daily Log'!$AA$18:$AA$1017),0)","v":0},{"$f":"IFERROR($E233*SUMIF('Daily Log'!$AC$18:$AC$1017,$B233,'Daily Log'!$AD$18:$AD$1017),0)","v":0},{"$f":"IFERROR($E233*SUMIF('Daily Log'!$AF$18:$AF$1017,$B233,'Daily Log'!$AG$18:$AG$1017),0)","v":0},{"$f":"IFERROR($E233*SUMIF('Daily Log'!$AI$18:$AI$1017,$B233,'Daily Log'!$AJ$18:$AJ$1017),0)","v":0},{"$f":"IFERROR($E233*SUMIF('Daily Log'!$AL$18:$AL$1017,$B233,'Daily Log'!$AM$18:$AM$1017),0)","v":0},{"$f":"IFERROR($E233*SUMIF('Daily Log'!$AO$18:$AO$1017,$B233,'Daily Log'!$AP$18:$AP$1017),0)","v":0},{"$f":"IFERROR($E233*SUMIF('Daily Log'!$AR$18:$AR$1017,$B233,'Daily Log'!$AS$18:$AS$1017),0)","v":0},{"$f":"IFERROR($E233*SUMIF('Daily Log'!$AU$18:$AU$1017,$B233,'Daily Log'!$AV$18:$AV$1017),0)","v":0},{"$f":"IFERROR($E233*SUMIF('Daily Log'!$AX$18:$AX$1017,$B233,'Daily Log'!$AY$18:$AY$1017),0)","v":0},{"$f":"IFERROR($E233*SUMIF('Daily Log'!$BA$18:$BA$1017,$B233,'Daily Log'!$BB$18:$BB$1017),0)","v":0},{"$f":"IFERROR($E233*SUMIF('Daily Log'!$BD$18:$BD$1017,$B233,'Daily Log'!$BE$18:$BE$1017),0)","v":0},{"$f":"IFERROR($E233*SUMIF('Daily Log'!$BG$18:$BG$1017,$B233,'Daily Log'!$BH$18:$BH$1017),0)","v":0},{"$f":"IFERROR($E233*SUMIF('Daily Log'!$BJ$18:$BJ$1017,$B233,'Daily Log'!$BK$18:$BK$1017),0)","v":0},{"$f":"IFERROR($E233*SUMIF('Daily Log'!$BM$18:$BM$1017,$B233,'Daily Log'!$BN$18:$BN$1017),0)","v":0},{"$f":"IFERROR($E233*SUMIF('Daily Log'!$BP$18:$BP$1017,$B233,'Daily Log'!$BQ$18:$BQ$1017),0)","v":0},{"$f":"IFERROR($E233*SUMIF('Daily Log'!$BS$18:$BS$1017,$B233,'Daily Log'!$BT$18:$BT$1017),0)","v":0},{"$f":"IFERROR($E233*SUMIF('Daily Log'!$BV$18:$BV$1017,$B233,'Daily Log'!$BW$18:$BW$1017),0)","v":0},{"$f":"IFERROR($E233*SUMIF('Daily Log'!$BY$18:$BY$1017,$B233,'Daily Log'!$BZ$18:$BZ$1017),0)","v":0},{"$f":"IFERROR($E233*SUMIF('Daily Log'!$CB$18:$CB$1017,$B233,'Daily Log'!$CC$18:$CC$1017),0)","v":0},{"$f":"IFERROR($E233*SUMIF('Daily Log'!$CE$18:$CE$1017,$B233,'Daily Log'!$CF$18:$CF$1017),0)","v":0},{"$f":"IFERROR($E233*SUMIF('Daily Log'!$CH$18:$CH$1017,$B233,'Daily Log'!$CI$18:$CI$1017),0)","v":0},{"$f":"IFERROR($E233*SUMIF('Daily Log'!$CK$18:$CK$1017,$B233,'Daily Log'!$CL$18:$CL$1017),0)","v":0},{"$f":"IFERROR($E233*SUMIF('Daily Log'!$CN$18:$CN$1017,$B233,'Daily Log'!$CO$18:$CO$1017),0)","v":0}]
[null,null,null,null,null,0,{"$f":"IFERROR($E234*SUMIF('Daily Log'!$B$18:$B$1017,$B234,'Daily Log'!$C$18:$C$1017),0)","v":0},{"$f":"IFERROR($E234*SUMIF('Daily Log'!$E$18:$E$1017,$B234,'Daily Log'!$F$18:$F$1017),0)","v":0},{"$f":"IFERROR($E234*SUMIF('Daily Log'!$H$18:$H$1017,$B234,'Daily Log'!$I$18:$I$1017),0)","v":0},{"$f":"IFERROR($E234*SUMIF('Daily Log'!$K$18:$K$1017,$B234,'Daily Log'!$L$18:$L$1017),0)","v":0},{"$f":"IFERROR($E234*SUMIF('Daily Log'!$N$18:$N$1017,$B234,'Daily Log'!$O$18:$O$1017),0)","v":0},{"$f":"IFERROR($E234*SUMIF('Daily Log'!$Q$18:$Q$1017,$B234,'Daily Log'!$R$18:$R$1017),0)","v":0},{"$f":"IFERROR($E234*SUMIF('Daily Log'!$T$18:$T$1017,$B234,'Daily Log'!$U$18:$U$1017),0)","v":0},{"$f":"IFERROR($E234*SUMIF('Daily Log'!$W$18:$W$1017,$B234,'Daily Log'!$X$18:$X$1017),0)","v":0},{"$f":"IFERROR($E234*SUMIF('Daily Log'!$Z$18:$Z$1017,$B234,'Daily Log'!$AA$18:$AA$1017),0)","v":0},{"$f":"IFERROR($E234*SUMIF('Daily Log'!$AC$18:$AC$1017,$B234,'Daily Log'!$AD$18:$AD$1017),0)","v":0},{"$f":"IFERROR($E234*SUMIF('Daily Log'!$AF$18:$AF$1017,$B234,'Daily Log'!$AG$18:$AG$1017),0)","v":0},{"$f":"IFERROR($E234*SUMIF('Daily Log'!$AI$18:$AI$1017,$B234,'Daily Log'!$AJ$18:$AJ$1017),0)","v":0},{"$f":"IFERROR($E234*SUMIF('Daily Log'!$AL$18:$AL$1017,$B234,'Daily Log'!$AM$18:$AM$1017),0)","v":0},{"$f":"IFERROR($E234*SUMIF('Daily Log'!$AO$18:$AO$1017,$B234,'Daily Log'!$AP$18:$AP$1017),0)","v":0},{"$f":"IFERROR($E234*SUMIF('Daily Log'!$AR$18:$AR$1017,$B234,'Daily Log'!$AS$18:$AS$1017),0)","v":0},{"$f":"IFERROR($E234*SUMIF('Daily Log'!$AU$18:$AU$1017,$B234,'Daily Log'!$AV$18:$AV$1017),0)","v":0},{"$f":"IFERROR($E234*SUMIF('Daily Log'!$AX$18:$AX$1017,$B234,'Daily Log'!$AY$18:$AY$1017),0)","v":0},{"$f":"IFERROR($E234*SUMIF('Daily Log'!$BA$18:$BA$1017,$B234,'Daily Log'!$BB$18:$BB$1017),0)","v":0},{"$f":"IFERROR($E234*SUMIF('Daily Log'!$BD$18:$BD$1017,$B234,'Daily Log'!$BE$18:$BE$1017),0)","v":0},{"$f":"IFERROR($E234*SUMIF('Daily Log'!$BG$18:$BG$1017,$B234,'Daily Log'!$BH$18:$BH$1017),0)","v":0},{"$f":"IFERROR($E234*SUMIF('Daily Log'!$BJ$18:$BJ$1017,$B234,'Daily Log'!$BK$18:$BK$1017),0)","v":0},{"$f":"IFERROR($E234*SUMIF('Daily Log'!$BM$18:$BM$1017,$B234,'Daily Log'!$BN$18:$BN$1017),0)","v":0},{"$f":"IFERROR($E234*SUMIF('Daily Log'!$BP$18:$BP$1017,$B234,'Daily Log'!$BQ$18:$BQ$1017),0)","v":0},{"$f":"IFERROR($E234*SUMIF('Daily Log'!$BS$18:$BS$1017,$B234,'Daily Log'!$BT$18:$BT$1017),0)","v":0},{"$f":"IFERROR($E234*SUMIF('Daily Log'!$BV$18:$BV$1017,$B234,'Daily Log'!$BW$18:$BW$1017),0)","v":0},{"$f":"IFERROR($E234*SUMIF('Daily Log'!$BY$18:$BY$1017,$B234,'Daily Log'!$BZ$18:$BZ$1017),0)","v":0},{"$f":"IFERROR($E234*SUMIF('Daily Log'!$CB$18:$CB$1017,$B234,'Daily Log'!$CC$18:$CC$1017),0)","v":0},{"$f":"IFERROR($E234*SUMIF('Daily Log'!$CE$18:$CE$1017,$B234,'Daily Log'!$CF$18:$CF$1017),0)","v":0},{"$f":"IFERROR($E234*SUMIF('Daily Log'!$CH$18:$CH$1017,$B234,'Daily Log'!$CI$18:$CI$1017),0)","v":0},{"$f":"IFERROR($E234*SUMIF('Daily Log'!$CK$18:$CK$1017,$B234,'Daily Log'!$CL$18:$CL$1017),0)","v":0},{"$f":"IFERROR($E234*SUMIF('Daily Log'!$CN$18:$CN$1017,$B234,'Daily Log'!$CO$18:$CO$1017),0)","v":0}]
[null,null,null,null,null,0,{"$f":"IFERROR($E235*SUMIF('Daily Log'!$B$18:$B$1017,$B235,'Daily Log'!$C$18:$C$1017),0)","v":0},{"$f":"IFERROR($E235*SUMIF('Daily Log'!$E$18:$E$1017,$B235,'Daily Log'!$F$18:$F$1017),0)","v":0},{"$f":"IFERROR($E235*SUMIF('Daily Log'!$H$18:$H$1017,$B235,'Daily Log'!$I$18:$I$1017),0)","v":0},{"$f":"IFERROR($E235*SUMIF('Daily Log'!$K$18:$K$1017,$B235,'Daily Log'!$L$18:$L$1017),0)","v":0},{"$f":"IFERROR($E235*SUMIF('Daily Log'!$N$18:$N$1017,$B235,'Daily Log'!$O$18:$O$1017),0)","v":0},{"$f":"IFERROR($E235*SUMIF('Daily Log'!$Q$18:$Q$1017,$B235,'Daily Log'!$R$18:$R$1017),0)","v":0},{"$f":"IFERROR($E235*SUMIF('Daily Log'!$T$18:$T$1017,$B235,'Daily Log'!$U$18:$U$1017),0)","v":0},{"$f":"IFERROR($E235*SUMIF('Daily Log'!$W$18:$W$1017,$B235,'Daily Log'!$X$18:$X$1017),0)","v":0},{"$f":"IFERROR($E235*SUMIF('Daily Log'!$Z$18:$Z$1017,$B235,'Daily Log'!$AA$18:$AA$1017),0)","v":0},{"$f":"IFERROR($E235*SUMIF('Daily Log'!$AC$18:$AC$1017,$B235,'Daily Log'!$AD$18:$AD$1017),0)","v":0},{"$f":"IFERROR($E235*SUMIF('Daily Log'!$AF$18:$AF$1017,$B235,'Daily Log'!$AG$18:$AG$1017),0)","v":0},{"$f":"IFERROR($E235*SUMIF('Daily Log'!$AI$18:$AI$1017,$B235,'Daily Log'!$AJ$18:$AJ$1017),0)","v":0},{"$f":"IFERROR($E235*SUMIF('Daily Log'!$AL$18:$AL$1017,$B235,'Daily Log'!$AM$18:$AM$1017),0)","v":0},{"$f":"IFERROR($E235*SUMIF('Daily Log'!$AO$18:$AO$1017,$B235,'Daily Log'!$AP$18:$AP$1017),0)","v":0},{"$f":"IFERROR($E235*SUMIF('Daily Log'!$AR$18:$AR$1017,$B235,'Daily Log'!$AS$18:$AS$1017),0)","v":0},{"$f":"IFERROR($E235*SUMIF('Daily Log'!$AU$18:$AU$1017,$B235,'Daily Log'!$AV$18:$AV$1017),0)","v":0},{"$f":"IFERROR($E235*SUMIF('Daily Log'!$AX$18:$AX$1017,$B235,'Daily Log'!$AY$18:$AY$1017),0)","v":0},{"$f":"IFERROR($E235*SUMIF('Daily Log'!$BA$18:$BA$1017,$B235,'Daily Log'!$BB$18:$BB$1017),0)","v":0},{"$f":"IFERROR($E235*SUMIF('Daily Log'!$BD$18:$BD$1017,$B235,'Daily Log'!$BE$18:$BE$1017),0)","v":0},{"$f":"IFERROR($E235*SUMIF('Daily Log'!$BG$18:$BG$1017,$B235,'Daily Log'!$BH$18:$BH$1017),0)","v":0},{"$f":"IFERROR($E235*SUMIF('Daily Log'!$BJ$18:$BJ$1017,$B235,'Daily Log'!$BK$18:$BK$1017),0)","v":0},{"$f":"IFERROR($E235*SUMIF('Daily Log'!$BM$18:$BM$1017,$B235,'Daily Log'!$BN$18:$BN$1017),0)","v":0},{"$f":"IFERROR($E235*SUMIF('Daily Log'!$BP$18:$BP$1017,$B235,'Daily Log'!$BQ$18:$BQ$1017),0)","v":0},{"$f":"IFERROR($E235*SUMIF('Daily Log'!$BS$18:$BS$1017,$B235,'Daily Log'!$BT$18:$BT$1017),0)","v":0},{"$f":"IFERROR($E235*SUMIF('Daily Log'!$BV$18:$BV$1017,$B235,'Daily Log'!$BW$18:$BW$1017),0)","v":0},{"$f":"IFERROR($E235*SUMIF('Daily Log'!$BY$18:$BY$1017,$B235,'Daily Log'!$BZ$18:$BZ$1017),0)","v":0},{"$f":"IFERROR($E235*SUMIF('Daily Log'!$CB$18:$CB$1017,$B235,'Daily Log'!$CC$18:$CC$1017),0)","v":0},{"$f":"IFERROR($E235*SUMIF('Daily Log'!$CE$18:$CE$1017,$B235,'Daily Log'!$CF$18:$CF$1017),0)","v":0},{"$f":"IFERROR($E235*SUMIF('Daily Log'!$CH$18:$CH$1017,$B235,'Daily Log'!$CI$18:$CI$1017),0)","v":0},{"$f":"IFERROR($E235*SUMIF('Daily Log'!$CK$18:$CK$1017,$B235,'Daily Log'!$CL$18:$CL$1017),0)","v":0},{"$f":"IFERROR($E235*SUMIF('Daily Log'!$CN$18:$CN$1017,$B235,'Daily Log'!$CO$18:$CO$1017),0)","v":0}]
[null,null,null,null,null,0,{"$f":"IFERROR($E236*SUMIF('Daily Log'!$B$18:$B$1017,$B236,'Daily Log'!$C$18:$C$1017),0)","v":0},{"$f":"IFERROR($E236*SUMIF('Daily Log'!$E$18:$E$1017,$B236,'Daily Log'!$F$18:$F$1017),0)","v":0},{"$f":"IFERROR($E236*SUMIF('Daily Log'!$H$18:$H$1017,$B236,'Daily Log'!$I$18:$I$1017),0)","v":0},{"$f":"IFERROR($E236*SUMIF('Daily Log'!$K$18:$K$1017,$B236,'Daily Log'!$L$18:$L$1017),0)","v":0},{"$f":"IFERROR($E236*SUMIF('Daily Log'!$N$18:$N$1017,$B236,'Daily Log'!$O$18:$O$1017),0)","v":0},{"$f":"IFERROR($E236*SUMIF('Daily Log'!$Q$18:$Q$1017,$B236,'Daily Log'!$R$18:$R$1017),0)","v":0},{"$f":"IFERROR($E236*SUMIF('Daily Log'!$T$18:$T$1017,$B236,'Daily Log'!$U$18:$U$1017),0)","v":0},{"$f":"IFERROR($E236*SUMIF('Daily Log'!$W$18:$W$1017,$B236,'Daily Log'!$X$18:$X$1017),0)","v":0},{"$f":"IFERROR($E236*SUMIF('Daily Log'!$Z$18:$Z$1017,$B236,'Daily Log'!$AA$18:$AA$1017),0)","v":0},{"$f":"IFERROR($E236*SUMIF('Daily Log'!$AC$18:$AC$1017,$B236,'Daily Log'!$AD$18:$AD$1017),0)","v":0},{"$f":"IFERROR($E236*SUMIF('Daily Log'!$AF$18:$AF$1017,$B236,'Daily Log'!$AG$18:$AG$1017),0)","v":0},{"$f":"IFERROR($E236*SUMIF('Daily Log'!$AI$18:$AI$1017,$B236,'Daily Log'!$AJ$18:$AJ$1017),0)","v":0},{"$f":"IFERROR($E236*SUMIF('Daily Log'!$AL$18:$AL$1017,$B236,'Daily Log'!$AM$18:$AM$1017),0)","v":0},{"$f":"IFERROR($E236*SUMIF('Daily Log'!$AO$18:$AO$1017,$B236,'Daily Log'!$AP$18:$AP$1017),0)","v":0},{"$f":"IFERROR($E236*SUMIF('Daily Log'!$AR$18:$AR$1017,$B236,'Daily Log'!$AS$18:$AS$1017),0)","v":0},{"$f":"IFERROR($E236*SUMIF('Daily Log'!$AU$18:$AU$1017,$B236,'Daily Log'!$AV$18:$AV$1017),0)","v":0},{"$f":"IFERROR($E236*SUMIF('Daily Log'!$AX$18:$AX$1017,$B236,'Daily Log'!$AY$18:$AY$1017),0)","v":0},{"$f":"IFERROR($E236*SUMIF('Daily Log'!$BA$18:$BA$1017,$B236,'Daily Log'!$BB$18:$BB$1017),0)","v":0},{"$f":"IFERROR($E236*SUMIF('Daily Log'!$BD$18:$BD$1017,$B236,'Daily Log'!$BE$18:$BE$1017),0)","v":0},{"$f":"IFERROR($E236*SUMIF('Daily Log'!$BG$18:$BG$1017,$B236,'Daily Log'!$BH$18:$BH$1017),0)","v":0},{"$f":"IFERROR($E236*SUMIF('Daily Log'!$BJ$18:$BJ$1017,$B236,'Daily Log'!$BK$18:$BK$1017),0)","v":0},{"$f":"IFERROR($E236*SUMIF('Daily Log'!$BM$18:$BM$1017,$B236,'Daily Log'!$BN$18:$BN$1017),0)","v":0},{"$f":"IFERROR($E236*SUMIF('Daily Log'!$BP$18:$BP$1017,$B236,'Daily Log'!$BQ$18:$BQ$1017),0)","v":0},{"$f":"IFERROR($E236*SUMIF('Daily Log'!$BS$18:$BS$1017,$B236,'Daily Log'!$BT$18:$BT$1017),0)","v":0},{"$f":"IFERROR($E236*SUMIF('Daily Log'!$BV$18:$BV$1017,$B236,'Daily Log'!$BW$18:$BW$1017),0)","v":0},{"$f":"IFERROR($E236*SUMIF('Daily Log'!$BY$18:$BY$1017,$B236,'Daily Log'!$BZ$18:$BZ$1017),0)","v":0},{"$f":"IFERROR($E236*SUMIF('Daily Log'!$CB$18:$CB$1017,$B236,'Daily Log'!$CC$18:$CC$1017),0)","v":0},{"$f":"IFERROR($E236*SUMIF('Daily Log'!$CE$18:$CE$1017,$B236,'Daily Log'!$CF$18:$CF$1017),0)","v":0},{"$f":"IFERROR($E236*SUMIF('Daily Log'!$CH$18:$CH$1017,$B236,'Daily Log'!$CI$18:$CI$1017),0)","v":0},{"$f":"IFERROR($E236*SUMIF('Daily Log'!$CK$18:$CK$1017,$B236,'Daily Log'!$CL$18:$CL$1017),0)","v":0},{"$f":"IFERROR($E236*SUMIF('Daily Log'!$CN$18:$CN$1017,$B236,'Daily Log'!$CO$18:$CO$1017),0)","v":0}]
[null,null,null,null,null,0,{"$f":"IFERROR($E237*SUMIF('Daily Log'!$B$18:$B$1017,$B237,'Daily Log'!$C$18:$C$1017),0)","v":0},{"$f":"IFERROR($E237*SUMIF('Daily Log'!$E$18:$E$1017,$B237,'Daily Log'!$F$18:$F$1017),0)","v":0},{"$f":"IFERROR($E237*SUMIF('Daily Log'!$H$18:$H$1017,$B237,'Daily Log'!$I$18:$I$1017),0)","v":0},{"$f":"IFERROR($E237*SUMIF('Daily Log'!$K$18:$K$1017,$B237,'Daily Log'!$L$18:$L$1017),0)","v":0},{"$f":"IFERROR($E237*SUMIF('Daily Log'!$N$18:$N$1017,$B237,'Daily Log'!$O$18:$O$1017),0)","v":0},{"$f":"IFERROR($E237*SUMIF('Daily Log'!$Q$18:$Q$1017,$B237,'Daily Log'!$R$18:$R$1017),0)","v":0},{"$f":"IFERROR($E237*SUMIF('Daily Log'!$T$18:$T$1017,$B237,'Daily Log'!$U$18:$U$1017),0)","v":0},{"$f":"IFERROR($E237*SUMIF('Daily Log'!$W$18:$W$1017,$B237,'Daily Log'!$X$18:$X$1017),0)","v":0},{"$f":"IFERROR($E237*SUMIF('Daily Log'!$Z$18:$Z$1017,$B237,'Daily Log'!$AA$18:$AA$1017),0)","v":0},{"$f":"IFERROR($E237*SUMIF('Daily Log'!$AC$18:$AC$1017,$B237,'Daily Log'!$AD$18:$AD$1017),0)","v":0},{"$f":"IFERROR($E237*SUMIF('Daily Log'!$AF$18:$AF$1017,$B237,'Daily Log'!$AG$18:$AG$1017),0)","v":0},{"$f":"IFERROR($E237*SUMIF('Daily Log'!$AI$18:$AI$1017,$B237,'Daily Log'!$AJ$18:$AJ$1017),0)","v":0},{"$f":"IFERROR($E237*SUMIF('Daily Log'!$AL$18:$AL$1017,$B237,'Daily Log'!$AM$18:$AM$1017),0)","v":0},{"$f":"IFERROR($E237*SUMIF('Daily Log'!$AO$18:$AO$1017,$B237,'Daily Log'!$AP$18:$AP$1017),0)","v":0},{"$f":"IFERROR($E237*SUMIF('Daily Log'!$AR$18:$AR$1017,$B237,'Daily Log'!$AS$18:$AS$1017),0)","v":0},{"$f":"IFERROR($E237*SUMIF('Daily Log'!$AU$18:$AU$1017,$B237,'Daily Log'!$AV$18:$AV$1017),0)","v":0},{"$f":"IFERROR($E237*SUMIF('Daily Log'!$AX$18:$AX$1017,$B237,'Daily Log'!$AY$18:$AY$1017),0)","v":0},{"$f":"IFERROR($E237*SUMIF('Daily Log'!$BA$18:$BA$1017,$B237,'Daily Log'!$BB$18:$BB$1017),0)","v":0},{"$f":"IFERROR($E237*SUMIF('Daily Log'!$BD$18:$BD$1017,$B237,'Daily Log'!$BE$18:$BE$1017),0)","v":0},{"$f":"IFERROR($E237*SUMIF('Daily Log'!$BG$18:$BG$1017,$B237,'Daily Log'!$BH$18:$BH$1017),0)","v":0},{"$f":"IFERROR($E237*SUMIF('Daily Log'!$BJ$18:$BJ$1017,$B237,'Daily Log'!$BK$18:$BK$1017),0)","v":0},{"$f":"IFERROR($E237*SUMIF('Daily Log'!$BM$18:$BM$1017,$B237,'Daily Log'!$BN$18:$BN$1017),0)","v":0},{"$f":"IFERROR($E237*SUMIF('Daily Log'!$BP$18:$BP$1017,$B237,'Daily Log'!$BQ$18:$BQ$1017),0)","v":0},{"$f":"IFERROR($E237*SUMIF('Daily Log'!$BS$18:$BS$1017,$B237,'Daily Log'!$BT$18:$BT$1017),0)","v":0},{"$f":"IFERROR($E237*SUMIF('Daily Log'!$BV$18:$BV$1017,$B237,'Daily Log'!$BW$18:$BW$1017),0)","v":0},{"$f":"IFERROR($E237*SUMIF('Daily Log'!$BY$18:$BY$1017,$B237,'Daily Log'!$BZ$18:$BZ$1017),0)","v":0},{"$f":"IFERROR($E237*SUMIF('Daily Log'!$CB$18:$CB$1017,$B237,'Daily Log'!$CC$18:$CC$1017),0)","v":0},{"$f":"IFERROR($E237*SUMIF('Daily Log'!$CE$18:$CE$1017,$B237,'Daily Log'!$CF$18:$CF$1017),0)","v":0},{"$f":"IFERROR($E237*SUMIF('Daily Log'!$CH$18:$CH$1017,$B237,'Daily Log'!$CI$18:$CI$1017),0)","v":0},{"$f":"IFERROR($E237*SUMIF('Daily Log'!$CK$18:$CK$1017,$B237,'Daily Log'!$CL$18:$CL$1017),0)","v":0},{"$f":"IFERROR($E237*SUMIF('Daily Log'!$CN$18:$CN$1017,$B237,'Daily Log'!$CO$18:$CO$1017),0)","v":0}]
[null,null,null,null,null,0,{"$f":"IFERROR($E238*SUMIF('Daily Log'!$B$18:$B$1017,$B238,'Daily Log'!$C$18:$C$1017),0)","v":0},{"$f":"IFERROR($E238*SUMIF('Daily Log'!$E$18:$E$1017,$B238,'Daily Log'!$F$18:$F$1017),0)","v":0},{"$f":"IFERROR($E238*SUMIF('Daily Log'!$H$18:$H$1017,$B238,'Daily Log'!$I$18:$I$1017),0)","v":0},{"$f":"IFERROR($E238*SUMIF('Daily Log'!$K$18:$K$1017,$B238,'Daily Log'!$L$18:$L$1017),0)","v":0},{"$f":"IFERROR($E238*SUMIF('Daily Log'!$N$18:$N$1017,$B238,'Daily Log'!$O$18:$O$1017),0)","v":0},{"$f":"IFERROR($E238*SUMIF('Daily Log'!$Q$18:$Q$1017,$B238,'Daily Log'!$R$18:$R$1017),0)","v":0},{"$f":"IFERROR($E238*SUMIF('Daily Log'!$T$18:$T$1017,$B238,'Daily Log'!$U$18:$U$1017),0)","v":0},{"$f":"IFERROR($E238*SUMIF('Daily Log'!$W$18:$W$1017,$B238,'Daily Log'!$X$18:$X$1017),0)","v":0},{"$f":"IFERROR($E238*SUMIF('Daily Log'!$Z$18:$Z$1017,$B238,'Daily Log'!$AA$18:$AA$1017),0)","v":0},{"$f":"IFERROR($E238*SUMIF('Daily Log'!$AC$18:$AC$1017,$B238,'Daily Log'!$AD$18:$AD$1017),0)","v":0},{"$f":"IFERROR($E238*SUMIF('Daily Log'!$AF$18:$AF$1017,$B238,'Daily Log'!$AG$18:$AG$1017),0)","v":0},{"$f":"IFERROR($E238*SUMIF('Daily Log'!$AI$18:$AI$1017,$B238,'Daily Log'!$AJ$18:$AJ$1017),0)","v":0},{"$f":"IFERROR($E238*SUMIF('Daily Log'!$AL$18:$AL$1017,$B238,'Daily Log'!$AM$18:$AM$1017),0)","v":0},{"$f":"IFERROR($E238*SUMIF('Daily Log'!$AO$18:$AO$1017,$B238,'Daily Log'!$AP$18:$AP$1017),0)","v":0},{"$f":"IFERROR($E238*SUMIF('Daily Log'!$AR$18:$AR$1017,$B238,'Daily Log'!$AS$18:$AS$1017),0)","v":0},{"$f":"IFERROR($E238*SUMIF('Daily Log'!$AU$18:$AU$1017,$B238,'Daily Log'!$AV$18:$AV$1017),0)","v":0},{"$f":"IFERROR($E238*SUMIF('Daily Log'!$AX$18:$AX$1017,$B238,'Daily Log'!$AY$18:$AY$1017),0)","v":0},{"$f":"IFERROR($E238*SUMIF('Daily Log'!$BA$18:$BA$1017,$B238,'Daily Log'!$BB$18:$BB$1017),0)","v":0},{"$f":"IFERROR($E238*SUMIF('Daily Log'!$BD$18:$BD$1017,$B238,'Daily Log'!$BE$18:$BE$1017),0)","v":0},{"$f":"IFERROR($E238*SUMIF('Daily Log'!$BG$18:$BG$1017,$B238,'Daily Log'!$BH$18:$BH$1017),0)","v":0},{"$f":"IFERROR($E238*SUMIF('Daily Log'!$BJ$18:$BJ$1017,$B238,'Daily Log'!$BK$18:$BK$1017),0)","v":0},{"$f":"IFERROR($E238*SUMIF('Daily Log'!$BM$18:$BM$1017,$B238,'Daily Log'!$BN$18:$BN$1017),0)","v":0},{"$f":"IFERROR($E238*SUMIF('Daily Log'!$BP$18:$BP$1017,$B238,'Daily Log'!$BQ$18:$BQ$1017),0)","v":0},{"$f":"IFERROR($E238*SUMIF('Daily Log'!$BS$18:$BS$1017,$B238,'Daily Log'!$BT$18:$BT$1017),0)","v":0},{"$f":"IFERROR($E238*SUMIF('Daily Log'!$BV$18:$BV$1017,$B238,'Daily Log'!$BW$18:$BW$1017),0)","v":0},{"$f":"IFERROR($E238*SUMIF('Daily Log'!$BY$18:$BY$1017,$B238,'Daily Log'!$BZ$18:$BZ$1017),0)","v":0},{"$f":"IFERROR($E238*SUMIF('Daily Log'!$CB$18:$CB$1017,$B238,'Daily Log'!$CC$18:$CC$1017),0)","v":0},{"$f":"IFERROR($E238*SUMIF('Daily Log'!$CE$18:$CE$1017,$B238,'Daily Log'!$CF$18:$CF$1017),0)","v":0},{"$f":"IFERROR($E238*SUMIF('Daily Log'!$CH$18:$CH$1017,$B238,'Daily Log'!$CI$18:$CI$1017),0)","v":0},{"$f":"IFERROR($E238*SUMIF('Daily Log'!$CK$18:$CK$1017,$B238,'Daily Log'!$CL$18:$CL$1017),0)","v":0},{"$f":"IFERROR($E238*SUMIF('Daily Log'!$CN$18:$CN$1017,$B238,'Daily Log'!$CO$18:$CO$1017),0)","v":0}]
[null,null,null,null,null,0,{"$f":"IFERROR($E239*SUMIF('Daily Log'!$B$18:$B$1017,$B239,'Daily Log'!$C$18:$C$1017),0)","v":0},{"$f":"IFERROR($E239*SUMIF('Daily Log'!$E$18:$E$1017,$B239,'Daily Log'!$F$18:$F$1017),0)","v":0},{"$f":"IFERROR($E239*SUMIF('Daily Log'!$H$18:$H$1017,$B239,'Daily Log'!$I$18:$I$1017),0)","v":0},{"$f":"IFERROR($E239*SUMIF('Daily Log'!$K$18:$K$1017,$B239,'Daily Log'!$L$18:$L$1017),0)","v":0},{"$f":"IFERROR($E239*SUMIF('Daily Log'!$N$18:$N$1017,$B239,'Daily Log'!$O$18:$O$1017),0)","v":0},{"$f":"IFERROR($E239*SUMIF('Daily Log'!$Q$18:$Q$1017,$B239,'Daily Log'!$R$18:$R$1017),0)","v":0},{"$f":"IFERROR($E239*SUMIF('Daily Log'!$T$18:$T$1017,$B239,'Daily Log'!$U$18:$U$1017),0)","v":0},{"$f":"IFERROR($E239*SUMIF('Daily Log'!$W$18:$W$1017,$B239,'Daily Log'!$X$18:$X$1017),0)","v":0},{"$f":"IFERROR($E239*SUMIF('Daily Log'!$Z$18:$Z$1017,$B239,'Daily Log'!$AA$18:$AA$1017),0)","v":0},{"$f":"IFERROR($E239*SUMIF('Daily Log'!$AC$18:$AC$1017,$B239,'Daily Log'!$AD$18:$AD$1017),0)","v":0},{"$f":"IFERROR($E239*SUMIF('Daily Log'!$AF$18:$AF$1017,$B239,'Daily Log'!$AG$18:$AG$1017),0)","v":0},{"$f":"IFERROR($E239*SUMIF('Daily Log'!$AI$18:$AI$1017,$B239,'Daily Log'!$AJ$18:$AJ$1017),0)","v":0},{"$f":"IFERROR($E239*SUMIF('Daily Log'!$AL$18:$AL$1017,$B239,'Daily Log'!$AM$18:$AM$1017),0)","v":0},{"$f":"IFERROR($E239*SUMIF('Daily Log'!$AO$18:$AO$1017,$B239,'Daily Log'!$AP$18:$AP$1017),0)","v":0},{"$f":"IFERROR($E239*SUMIF('Daily Log'!$AR$18:$AR$1017,$B239,'Daily Log'!$AS$18:$AS$1017),0)","v":0},{"$f":"IFERROR($E239*SUMIF('Daily Log'!$AU$18:$AU$1017,$B239,'Daily Log'!$AV$18:$AV$1017),0)","v":0},{"$f":"IFERROR($E239*SUMIF('Daily Log'!$AX$18:$AX$1017,$B239,'Daily Log'!$AY$18:$AY$1017),0)","v":0},{"$f":"IFERROR($E239*SUMIF('Daily Log'!$BA$18:$BA$1017,$B239,'Daily Log'!$BB$18:$BB$1017),0)","v":0},{"$f":"IFERROR($E239*SUMIF('Daily Log'!$BD$18:$BD$1017,$B239,'Daily Log'!$BE$18:$BE$1017),0)","v":0},{"$f":"IFERROR($E239*SUMIF('Daily Log'!$BG$18:$BG$1017,$B239,'Daily Log'!$BH$18:$BH$1017),0)","v":0},{"$f":"IFERROR($E239*SUMIF('Daily Log'!$BJ$18:$BJ$1017,$B239,'Daily Log'!$BK$18:$BK$1017),0)","v":0},{"$f":"IFERROR($E239*SUMIF('Daily Log'!$BM$18:$BM$1017,$B239,'Daily Log'!$BN$18:$BN$1017),0)","v":0},{"$f":"IFERROR($E239*SUMIF('Daily Log'!$BP$18:$BP$1017,$B239,'Daily Log'!$BQ$18:$BQ$1017),0)","v":0},{"$f":"IFERROR($E239*SUMIF('Daily Log'!$BS$18:$BS$1017,$B239,'Daily Log'!$BT$18:$BT$1017),0)","v":0},{"$f":"IFERROR($E239*SUMIF('Daily Log'!$BV$18:$BV$1017,$B239,'Daily Log'!$BW$18:$BW$1017),0)","v":0},{"$f":"IFERROR($E239*SUMIF('Daily Log'!$BY$18:$BY$1017,$B239,'Daily Log'!$BZ$18:$BZ$1017),0)","v":0},{"$f":"IFERROR($E239*SUMIF('Daily Log'!$CB$18:$CB$1017,$B239,'Daily Log'!$CC$18:$CC$1017),0)","v":0},{"$f":"IFERROR($E239*SUMIF('Daily Log'!$CE$18:$CE$1017,$B239,'Daily Log'!$CF$18:$CF$1017),0)","v":0},{"$f":"IFERROR($E239*SUMIF('Daily Log'!$CH$18:$CH$1017,$B239,'Daily Log'!$CI$18:$CI$1017),0)","v":0},{"$f":"IFERROR($E239*SUMIF('Daily Log'!$CK$18:$CK$1017,$B239,'Daily Log'!$CL$18:$CL$1017),0)","v":0},{"$f":"IFERROR($E239*SUMIF('Daily Log'!$CN$18:$CN$1017,$B239,'Daily Log'!$CO$18:$CO$1017),0)","v":0}]
[null,null,null,null,null,0,{"$f":"IFERROR($E240*SUMIF('Daily Log'!$B$18:$B$1017,$B240,'Daily Log'!$C$18:$C$1017),0)","v":0},{"$f":"IFERROR($E240*SUMIF('Daily Log'!$E$18:$E$1017,$B240,'Daily Log'!$F$18:$F$1017),0)","v":0},{"$f":"IFERROR($E240*SUMIF('Daily Log'!$H$18:$H$1017,$B240,'Daily Log'!$I$18:$I$1017),0)","v":0},{"$f":"IFERROR($E240*SUMIF('Daily Log'!$K$18:$K$1017,$B240,'Daily Log'!$L$18:$L$1017),0)","v":0},{"$f":"IFERROR($E240*SUMIF('Daily Log'!$N$18:$N$1017,$B240,'Daily Log'!$O$18:$O$1017),0)","v":0},{"$f":"IFERROR($E240*SUMIF('Daily Log'!$Q$18:$Q$1017,$B240,'Daily Log'!$R$18:$R$1017),0)","v":0},{"$f":"IFERROR($E240*SUMIF('Daily Log'!$T$18:$T$1017,$B240,'Daily Log'!$U$18:$U$1017),0)","v":0},{"$f":"IFERROR($E240*SUMIF('Daily Log'!$W$18:$W$1017,$B240,'Daily Log'!$X$18:$X$1017),0)","v":0},{"$f":"IFERROR($E240*SUMIF('Daily Log'!$Z$18:$Z$1017,$B240,'Daily Log'!$AA$18:$AA$1017),0)","v":0},{"$f":"IFERROR($E240*SUMIF('Daily Log'!$AC$18:$AC$1017,$B240,'Daily Log'!$AD$18:$AD$1017),0)","v":0},{"$f":"IFERROR($E240*SUMIF('Daily Log'!$AF$18:$AF$1017,$B240,'Daily Log'!$AG$18:$AG$1017),0)","v":0},{"$f":"IFERROR($E240*SUMIF('Daily Log'!$AI$18:$AI$1017,$B240,'Daily Log'!$AJ$18:$AJ$1017),0)","v":0},{"$f":"IFERROR($E240*SUMIF('Daily Log'!$AL$18:$AL$1017,$B240,'Daily Log'!$AM$18:$AM$1017),0)","v":0},{"$f":"IFERROR($E240*SUMIF('Daily Log'!$AO$18:$AO$1017,$B240,'Daily Log'!$AP$18:$AP$1017),0)","v":0},{"$f":"IFERROR($E240*SUMIF('Daily Log'!$AR$18:$AR$1017,$B240,'Daily Log'!$AS$18:$AS$1017),0)","v":0},{"$f":"IFERROR($E240*SUMIF('Daily Log'!$AU$18:$AU$1017,$B240,'Daily Log'!$AV$18:$AV$1017),0)","v":0},{"$f":"IFERROR($E240*SUMIF('Daily Log'!$AX$18:$AX$1017,$B240,'Daily Log'!$AY$18:$AY$1017),0)","v":0},{"$f":"IFERROR($E240*SUMIF('Daily Log'!$BA$18:$BA$1017,$B240,'Daily Log'!$BB$18:$BB$1017),0)","v":0},{"$f":"IFERROR($E240*SUMIF('Daily Log'!$BD$18:$BD$1017,$B240,'Daily Log'!$BE$18:$BE$1017),0)","v":0},{"$f":"IFERROR($E240*SUMIF('Daily Log'!$BG$18:$BG$1017,$B240,'Daily Log'!$BH$18:$BH$1017),0)","v":0},{"$f":"IFERROR($E240*SUMIF('Daily Log'!$BJ$18:$BJ$1017,$B240,'Daily Log'!$BK$18:$BK$1017),0)","v":0},{"$f":"IFERROR($E240*SUMIF('Daily Log'!$BM$18:$BM$1017,$B240,'Daily Log'!$BN$18:$BN$1017),0)","v":0},{"$f":"IFERROR($E240*SUMIF('Daily Log'!$BP$18:$BP$1017,$B240,'Daily Log'!$BQ$18:$BQ$1017),0)","v":0},{"$f":"IFERROR($E240*SUMIF('Daily Log'!$BS$18:$BS$1017,$B240,'Daily Log'!$BT$18:$BT$1017),0)","v":0},{"$f":"IFERROR($E240*SUMIF('Daily Log'!$BV$18:$BV$1017,$B240,'Daily Log'!$BW$18:$BW$1017),0)","v":0},{"$f":"IFERROR($E240*SUMIF('Daily Log'!$BY$18:$BY$1017,$B240,'Daily Log'!$BZ$18:$BZ$1017),0)","v":0},{"$f":"IFERROR($E240*SUMIF('Daily Log'!$CB$18:$CB$1017,$B240,'Daily Log'!$CC$18:$CC$1017),0)","v":0},{"$f":"IFERROR($E240*SUMIF('Daily Log'!$CE$18:$CE$1017,$B240,'Daily Log'!$CF$18:$CF$1017),0)","v":0},{"$f":"IFERROR($E240*SUMIF('Daily Log'!$CH$18:$CH$1017,$B240,'Daily Log'!$CI$18:$CI$1017),0)","v":0},{"$f":"IFERROR($E240*SUMIF('Daily Log'!$CK$18:$CK$1017,$B240,'Daily Log'!$CL$18:$CL$1017),0)","v":0},{"$f":"IFERROR($E240*SUMIF('Daily Log'!$CN$18:$CN$1017,$B240,'Daily Log'!$CO$18:$CO$1017),0)","v":0}]
[null,null,null,null,null,0,{"$f":"IFERROR($E241*SUMIF('Daily Log'!$B$18:$B$1017,$B241,'Daily Log'!$C$18:$C$1017),0)","v":0},{"$f":"IFERROR($E241*SUMIF('Daily Log'!$E$18:$E$1017,$B241,'Daily Log'!$F$18:$F$1017),0)","v":0},{"$f":"IFERROR($E241*SUMIF('Daily Log'!$H$18:$H$1017,$B241,'Daily Log'!$I$18:$I$1017),0)","v":0},{"$f":"IFERROR($E241*SUMIF('Daily Log'!$K$18:$K$1017,$B241,'Daily Log'!$L$18:$L$1017),0)","v":0},{"$f":"IFERROR($E241*SUMIF('Daily Log'!$N$18:$N$1017,$B241,'Daily Log'!$O$18:$O$1017),0)","v":0},{"$f":"IFERROR($E241*SUMIF('Daily Log'!$Q$18:$Q$1017,$B241,'Daily Log'!$R$18:$R$1017),0)","v":0},{"$f":"IFERROR($E241*SUMIF('Daily Log'!$T$18:$T$1017,$B241,'Daily Log'!$U$18:$U$1017),0)","v":0},{"$f":"IFERROR($E241*SUMIF('Daily Log'!$W$18:$W$1017,$B241,'Daily Log'!$X$18:$X$1017),0)","v":0},{"$f":"IFERROR($E241*SUMIF('Daily Log'!$Z$18:$Z$1017,$B241,'Daily Log'!$AA$18:$AA$1017),0)","v":0},{"$f":"IFERROR($E241*SUMIF('Daily Log'!$AC$18:$AC$1017,$B241,'Daily Log'!$AD$18:$AD$1017),0)","v":0},{"$f":"IFERROR($E241*SUMIF('Daily Log'!$AF$18:$AF$1017,$B241,'Daily Log'!$AG$18:$AG$1017),0)","v":0},{"$f":"IFERROR($E241*SUMIF('Daily Log'!$AI$18:$AI$1017,$B241,'Daily Log'!$AJ$18:$AJ$1017),0)","v":0},{"$f":"IFERROR($E241*SUMIF('Daily Log'!$AL$18:$AL$1017,$B241,'Daily Log'!$AM$18:$AM$1017),0)","v":0},{"$f":"IFERROR($E241*SUMIF('Daily Log'!$AO$18:$AO$1017,$B241,'Daily Log'!$AP$18:$AP$1017),0)","v":0},{"$f":"IFERROR($E241*SUMIF('Daily Log'!$AR$18:$AR$1017,$B241,'Daily Log'!$AS$18:$AS$1017),0)","v":0},{"$f":"IFERROR($E241*SUMIF('Daily Log'!$AU$18:$AU$1017,$B241,'Daily Log'!$AV$18:$AV$1017),0)","v":0},{"$f":"IFERROR($E241*SUMIF('Daily Log'!$AX$18:$AX$1017,$B241,'Daily Log'!$AY$18:$AY$1017),0)","v":0},{"$f":"IFERROR($E241*SUMIF('Daily Log'!$BA$18:$BA$1017,$B241,'Daily Log'!$BB$18:$BB$1017),0)","v":0},{"$f":"IFERROR($E241*SUMIF('Daily Log'!$BD$18:$BD$1017,$B241,'Daily Log'!$BE$18:$BE$1017),0)","v":0},{"$f":"IFERROR($E241*SUMIF('Daily Log'!$BG$18:$BG$1017,$B241,'Daily Log'!$BH$18:$BH$1017),0)","v":0},{"$f":"IFERROR($E241*SUMIF('Daily Log'!$BJ$18:$BJ$1017,$B241,'Daily Log'!$BK$18:$BK$1017),0)","v":0},{"$f":"IFERROR($E241*SUMIF('Daily Log'!$BM$18:$BM$1017,$B241,'Daily Log'!$BN$18:$BN$1017),0)","v":0},{"$f":"IFERROR($E241*SUMIF('Daily Log'!$BP$18:$BP$1017,$B241,'Daily Log'!$BQ$18:$BQ$1017),0)","v":0},{"$f":"IFERROR($E241*SUMIF('Daily Log'!$BS$18:$BS$1017,$B241,'Daily Log'!$BT$18:$BT$1017),0)","v":0},{"$f":"IFERROR($E241*SUMIF('Daily Log'!$BV$18:$BV$1017,$B241,'Daily Log'!$BW$18:$BW$1017),0)","v":0},{"$f":"IFERROR($E241*SUMIF('Daily Log'!$BY$18:$BY$1017,$B241,'Daily Log'!$BZ$18:$BZ$1017),0)","v":0},{"$f":"IFERROR($E241*SUMIF('Daily Log'!$CB$18:$CB$1017,$B241,'Daily Log'!$CC$18:$CC$1017),0)","v":0},{"$f":"IFERROR($E241*SUMIF('Daily Log'!$CE$18:$CE$1017,$B241,'Daily Log'!$CF$18:$CF$1017),0)","v":0},{"$f":"IFERROR($E241*SUMIF('Daily Log'!$CH$18:$CH$1017,$B241,'Daily Log'!$CI$18:$CI$1017),0)","v":0},{"$f":"IFERROR($E241*SUMIF('Daily Log'!$CK$18:$CK$1017,$B241,'Daily Log'!$CL$18:$CL$1017),0)","v":0},{"$f":"IFERROR($E241*SUMIF('Daily Log'!$CN$18:$CN$1017,$B241,'Daily Log'!$CO$18:$CO$1017),0)","v":0}]
[null,null,null,null,null,0,{"$f":"IFERROR($E242*SUMIF('Daily Log'!$B$18:$B$1017,$B242,'Daily Log'!$C$18:$C$1017),0)","v":0},{"$f":"IFERROR($E242*SUMIF('Daily Log'!$E$18:$E$1017,$B242,'Daily Log'!$F$18:$F$1017),0)","v":0},{"$f":"IFERROR($E242*SUMIF('Daily Log'!$H$18:$H$1017,$B242,'Daily Log'!$I$18:$I$1017),0)","v":0},{"$f":"IFERROR($E242*SUMIF('Daily Log'!$K$18:$K$1017,$B242,'Daily Log'!$L$18:$L$1017),0)","v":0},{"$f":"IFERROR($E242*SUMIF('Daily Log'!$N$18:$N$1017,$B242,'Daily Log'!$O$18:$O$1017),0)","v":0},{"$f":"IFERROR($E242*SUMIF('Daily Log'!$Q$18:$Q$1017,$B242,'Daily Log'!$R$18:$R$1017),0)","v":0},{"$f":"IFERROR($E242*SUMIF('Daily Log'!$T$18:$T$1017,$B242,'Daily Log'!$U$18:$U$1017),0)","v":0},{"$f":"IFERROR($E242*SUMIF('Daily Log'!$W$18:$W$1017,$B242,'Daily Log'!$X$18:$X$1017),0)","v":0},{"$f":"IFERROR($E242*SUMIF('Daily Log'!$Z$18:$Z$1017,$B242,'Daily Log'!$AA$18:$AA$1017),0)","v":0},{"$f":"IFERROR($E242*SUMIF('Daily Log'!$AC$18:$AC$1017,$B242,'Daily Log'!$AD$18:$AD$1017),0)","v":0},{"$f":"IFERROR($E242*SUMIF('Daily Log'!$AF$18:$AF$1017,$B242,'Daily Log'!$AG$18:$AG$1017),0)","v":0},{"$f":"IFERROR($E242*SUMIF('Daily Log'!$AI$18:$AI$1017,$B242,'Daily Log'!$AJ$18:$AJ$1017),0)","v":0},{"$f":"IFERROR($E242*SUMIF('Daily Log'!$AL$18:$AL$1017,$B242,'Daily Log'!$AM$18:$AM$1017),0)","v":0},{"$f":"IFERROR($E242*SUMIF('Daily Log'!$AO$18:$AO$1017,$B242,'Daily Log'!$AP$18:$AP$1017),0)","v":0},{"$f":"IFERROR($E242*SUMIF('Daily Log'!$AR$18:$AR$1017,$B242,'Daily Log'!$AS$18:$AS$1017),0)","v":0},{"$f":"IFERROR($E242*SUMIF('Daily Log'!$AU$18:$AU$1017,$B242,'Daily Log'!$AV$18:$AV$1017),0)","v":0},{"$f":"IFERROR($E242*SUMIF('Daily Log'!$AX$18:$AX$1017,$B242,'Daily Log'!$AY$18:$AY$1017),0)","v":0},{"$f":"IFERROR($E242*SUMIF('Daily Log'!$BA$18:$BA$1017,$B242,'Daily Log'!$BB$18:$BB$1017),0)","v":0},{"$f":"IFERROR($E242*SUMIF('Daily Log'!$BD$18:$BD$1017,$B242,'Daily Log'!$BE$18:$BE$1017),0)","v":0},{"$f":"IFERROR($E242*SUMIF('Daily Log'!$BG$18:$BG$1017,$B242,'Daily Log'!$BH$18:$BH$1017),0)","v":0},{"$f":"IFERROR($E242*SUMIF('Daily Log'!$BJ$18:$BJ$1017,$B242,'Daily Log'!$BK$18:$BK$1017),0)","v":0},{"$f":"IFERROR($E242*SUMIF('Daily Log'!$BM$18:$BM$1017,$B242,'Daily Log'!$BN$18:$BN$1017),0)","v":0},{"$f":"IFERROR($E242*SUMIF('Daily Log'!$BP$18:$BP$1017,$B242,'Daily Log'!$BQ$18:$BQ$1017),0)","v":0},{"$f":"IFERROR($E242*SUMIF('Daily Log'!$BS$18:$BS$1017,$B242,'Daily Log'!$BT$18:$BT$1017),0)","v":0},{"$f":"IFERROR($E242*SUMIF('Daily Log'!$BV$18:$BV$1017,$B242,'Daily Log'!$BW$18:$BW$1017),0)","v":0},{"$f":"IFERROR($E242*SUMIF('Daily Log'!$BY$18:$BY$1017,$B242,'Daily Log'!$BZ$18:$BZ$1017),0)","v":0},{"$f":"IFERROR($E242*SUMIF('Daily Log'!$CB$18:$CB$1017,$B242,'Daily Log'!$CC$18:$CC$1017),0)","v":0},{"$f":"IFERROR($E242*SUMIF('Daily Log'!$CE$18:$CE$1017,$B242,'Daily Log'!$CF$18:$CF$1017),0)","v":0},{"$f":"IFERROR($E242*SUMIF('Daily Log'!$CH$18:$CH$1017,$B242,'Daily Log'!$CI$18:$CI$1017),0)","v":0},{"$f":"IFERROR($E242*SUMIF('Daily Log'!$CK$18:$CK$1017,$B242,'Daily Log'!$CL$18:$CL$1017),0)","v":0},{"$f":"IFERROR($E242*SUMIF('Daily Log'!$CN$18:$CN$1017,$B242,'Daily Log'!$CO$18:$CO$1017),0)","v":0}]
[null,null,null,null,null,0,{"$f":"IFERROR($E243*SUMIF('Daily Log'!$B$18:$B$1017,$B243,'Daily Log'!$C$18:$C$1017),0)","v":0},{"$f":"IFERROR($E243*SUMIF('Daily Log'!$E$18:$E$1017,$B243,'Daily Log'!$F$18:$F$1017),0)","v":0},{"$f":"IFERROR($E243*SUMIF('Daily Log'!$H$18:$H$1017,$B243,'Daily Log'!$I$18:$I$1017),0)","v":0},{"$f":"IFERROR($E243*SUMIF('Daily Log'!$K$18:$K$1017,$B243,'Daily Log'!$L$18:$L$1017),0)","v":0},{"$f":"IFERROR($E243*SUMIF('Daily Log'!$N$18:$N$1017,$B243,'Daily Log'!$O$18:$O$1017),0)","v":0},{"$f":"IFERROR($E243*SUMIF('Daily Log'!$Q$18:$Q$1017,$B243,'Daily Log'!$R$18:$R$1017),0)","v":0},{"$f":"IFERROR($E243*SUMIF('Daily Log'!$T$18:$T$1017,$B243,'Daily Log'!$U$18:$U$1017),0)","v":0},{"$f":"IFERROR($E243*SUMIF('Daily Log'!$W$18:$W$1017,$B243,'Daily Log'!$X$18:$X$1017),0)","v":0},{"$f":"IFERROR($E243*SUMIF('Daily Log'!$Z$18:$Z$1017,$B243,'Daily Log'!$AA$18:$AA$1017),0)","v":0},{"$f":"IFERROR($E243*SUMIF('Daily Log'!$AC$18:$AC$1017,$B243,'Daily Log'!$AD$18:$AD$1017),0)","v":0},{"$f":"IFERROR($E243*SUMIF('Daily Log'!$AF$18:$AF$1017,$B243,'Daily Log'!$AG$18:$AG$1017),0)","v":0},{"$f":"IFERROR($E243*SUMIF('Daily Log'!$AI$18:$AI$1017,$B243,'Daily Log'!$AJ$18:$AJ$1017),0)","v":0},{"$f":"IFERROR($E243*SUMIF('Daily Log'!$AL$18:$AL$1017,$B243,'Daily Log'!$AM$18:$AM$1017),0)","v":0},{"$f":"IFERROR($E243*SUMIF('Daily Log'!$AO$18:$AO$1017,$B243,'Daily Log'!$AP$18:$AP$1017),0)","v":0},{"$f":"IFERROR($E243*SUMIF('Daily Log'!$AR$18:$AR$1017,$B243,'Daily Log'!$AS$18:$AS$1017),0)","v":0},{"$f":"IFERROR($E243*SUMIF('Daily Log'!$AU$18:$AU$1017,$B243,'Daily Log'!$AV$18:$AV$1017),0)","v":0},{"$f":"IFERROR($E243*SUMIF('Daily Log'!$AX$18:$AX$1017,$B243,'Daily Log'!$AY$18:$AY$1017),0)","v":0},{"$f":"IFERROR($E243*SUMIF('Daily Log'!$BA$18:$BA$1017,$B243,'Daily Log'!$BB$18:$BB$1017),0)","v":0},{"$f":"IFERROR($E243*SUMIF('Daily Log'!$BD$18:$BD$1017,$B243,'Daily Log'!$BE$18:$BE$1017),0)","v":0},{"$f":"IFERROR($E243*SUMIF('Daily Log'!$BG$18:$BG$1017,$B243,'Daily Log'!$BH$18:$BH$1017),0)","v":0},{"$f":"IFERROR($E243*SUMIF('Daily Log'!$BJ$18:$BJ$1017,$B243,'Daily Log'!$BK$18:$BK$1017),0)","v":0},{"$f":"IFERROR($E243*SUMIF('Daily Log'!$BM$18:$BM$1017,$B243,'Daily Log'!$BN$18:$BN$1017),0)","v":0},{"$f":"IFERROR($E243*SUMIF('Daily Log'!$BP$18:$BP$1017,$B243,'Daily Log'!$BQ$18:$BQ$1017),0)","v":0},{"$f":"IFERROR($E243*SUMIF('Daily Log'!$BS$18:$BS$1017,$B243,'Daily Log'!$BT$18:$BT$1017),0)","v":0},{"$f":"IFERROR($E243*SUMIF('Daily Log'!$BV$18:$BV$1017,$B243,'Daily Log'!$BW$18:$BW$1017),0)","v":0},{"$f":"IFERROR($E243*SUMIF('Daily Log'!$BY$18:$BY$1017,$B243,'Daily Log'!$BZ$18:$BZ$1017),0)","v":0},{"$f":"IFERROR($E243*SUMIF('Daily Log'!$CB$18:$CB$1017,$B243,'Daily Log'!$CC$18:$CC$1017),0)","v":0},{"$f":"IFERROR($E243*SUMIF('Daily Log'!$CE$18:$CE$1017,$B243,'Daily Log'!$CF$18:$CF$1017),0)","v":0},{"$f":"IFERROR($E243*SUMIF('Daily Log'!$CH$18:$CH$1017,$B243,'Daily Log'!$CI$18:$CI$1017),0)","v":0},{"$f":"IFERROR($E243*SUMIF('Daily Log'!$CK$18:$CK$1017,$B243,'Daily Log'!$CL$18:$CL$1017),0)","v":0},{"$f":"IFERROR($E243*SUMIF('Daily Log'!$CN$18:$CN$1017,$B243,'Daily Log'!$CO$18:$CO$1017),0)","v":0}]
[null,null,null,null,null,0,{"$f":"IFERROR($E244*SUMIF('Daily Log'!$B$18:$B$1017,$B244,'Daily Log'!$C$18:$C$1017),0)","v":0},{"$f":"IFERROR($E244*SUMIF('Daily Log'!$E$18:$E$1017,$B244,'Daily Log'!$F$18:$F$1017),0)","v":0},{"$f":"IFERROR($E244*SUMIF('Daily Log'!$H$18:$H$1017,$B244,'Daily Log'!$I$18:$I$1017),0)","v":0},{"$f":"IFERROR($E244*SUMIF('Daily Log'!$K$18:$K$1017,$B244,'Daily Log'!$L$18:$L$1017),0)","v":0},{"$f":"IFERROR($E244*SUMIF('Daily Log'!$N$18:$N$1017,$B244,'Daily Log'!$O$18:$O$1017),0)","v":0},{"$f":"IFERROR($E244*SUMIF('Daily Log'!$Q$18:$Q$1017,$B244,'Daily Log'!$R$18:$R$1017),0)","v":0},{"$f":"IFERROR($E244*SUMIF('Daily Log'!$T$18:$T$1017,$B244,'Daily Log'!$U$18:$U$1017),0)","v":0},{"$f":"IFERROR($E244*SUMIF('Daily Log'!$W$18:$W$1017,$B244,'Daily Log'!$X$18:$X$1017),0)","v":0},{"$f":"IFERROR($E244*SUMIF('Daily Log'!$Z$18:$Z$1017,$B244,'Daily Log'!$AA$18:$AA$1017),0)","v":0},{"$f":"IFERROR($E244*SUMIF('Daily Log'!$AC$18:$AC$1017,$B244,'Daily Log'!$AD$18:$AD$1017),0)","v":0},{"$f":"IFERROR($E244*SUMIF('Daily Log'!$AF$18:$AF$1017,$B244,'Daily Log'!$AG$18:$AG$1017),0)","v":0},{"$f":"IFERROR($E244*SUMIF('Daily Log'!$AI$18:$AI$1017,$B244,'Daily Log'!$AJ$18:$AJ$1017),0)","v":0},{"$f":"IFERROR($E244*SUMIF('Daily Log'!$AL$18:$AL$1017,$B244,'Daily Log'!$AM$18:$AM$1017),0)","v":0},{"$f":"IFERROR($E244*SUMIF('Daily Log'!$AO$18:$AO$1017,$B244,'Daily Log'!$AP$18:$AP$1017),0)","v":0},{"$f":"IFERROR($E244*SUMIF('Daily Log'!$AR$18:$AR$1017,$B244,'Daily Log'!$AS$18:$AS$1017),0)","v":0},{"$f":"IFERROR($E244*SUMIF('Daily Log'!$AU$18:$AU$1017,$B244,'Daily Log'!$AV$18:$AV$1017),0)","v":0},{"$f":"IFERROR($E244*SUMIF('Daily Log'!$AX$18:$AX$1017,$B244,'Daily Log'!$AY$18:$AY$1017),0)","v":0},{"$f":"IFERROR($E244*SUMIF('Daily Log'!$BA$18:$BA$1017,$B244,'Daily Log'!$BB$18:$BB$1017),0)","v":0},{"$f":"IFERROR($E244*SUMIF('Daily Log'!$BD$18:$BD$1017,$B244,'Daily Log'!$BE$18:$BE$1017),0)","v":0},{"$f":"IFERROR($E244*SUMIF('Daily Log'!$BG$18:$BG$1017,$B244,'Daily Log'!$BH$18:$BH$1017),0)","v":0},{"$f":"IFERROR($E244*SUMIF('Daily Log'!$BJ$18:$BJ$1017,$B244,'Daily Log'!$BK$18:$BK$1017),0)","v":0},{"$f":"IFERROR($E244*SUMIF('Daily Log'!$BM$18:$BM$1017,$B244,'Daily Log'!$BN$18:$BN$1017),0)","v":0},{"$f":"IFERROR($E244*SUMIF('Daily Log'!$BP$18:$BP$1017,$B244,'Daily Log'!$BQ$18:$BQ$1017),0)","v":0},{"$f":"IFERROR($E244*SUMIF('Daily Log'!$BS$18:$BS$1017,$B244,'Daily Log'!$BT$18:$BT$1017),0)","v":0},{"$f":"IFERROR($E244*SUMIF('Daily Log'!$BV$18:$BV$1017,$B244,'Daily Log'!$BW$18:$BW$1017),0)","v":0},{"$f":"IFERROR($E244*SUMIF('Daily Log'!$BY$18:$BY$1017,$B244,'Daily Log'!$BZ$18:$BZ$1017),0)","v":0},{"$f":"IFERROR($E244*SUMIF('Daily Log'!$CB$18:$CB$1017,$B244,'Daily Log'!$CC$18:$CC$1017),0)","v":0},{"$f":"IFERROR($E244*SUMIF('Daily Log'!$CE$18:$CE$1017,$B244,'Daily Log'!$CF$18:$CF$1017),0)","v":0},{"$f":"IFERROR($E244*SUMIF('Daily Log'!$CH$18:$CH$1017,$B244,'Daily Log'!$CI$18:$CI$1017),0)","v":0},{"$f":"IFERROR($E244*SUMIF('Daily Log'!$CK$18:$CK$1017,$B244,'Daily Log'!$CL$18:$CL$1017),0)","v":0},{"$f":"IFERROR($E244*SUMIF('Daily Log'!$CN$18:$CN$1017,$B244,'Daily Log'!$CO$18:$CO$1017),0)","v":0}]
[null,null,null,null,null,0,{"$f":"IFERROR($E245*SUMIF('Daily Log'!$B$18:$B$1017,$B245,'Daily Log'!$C$18:$C$1017),0)","v":0},{"$f":"IFERROR($E245*SUMIF('Daily Log'!$E$18:$E$1017,$B245,'Daily Log'!$F$18:$F$1017),0)","v":0},{"$f":"IFERROR($E245*SUMIF('Daily Log'!$H$18:$H$1017,$B245,'Daily Log'!$I$18:$I$1017),0)","v":0},{"$f":"IFERROR($E245*SUMIF('Daily Log'!$K$18:$K$1017,$B245,'Daily Log'!$L$18:$L$1017),0)","v":0},{"$f":"IFERROR($E245*SUMIF('Daily Log'!$N$18:$N$1017,$B245,'Daily Log'!$O$18:$O$1017),0)","v":0},{"$f":"IFERROR($E245*SUMIF('Daily Log'!$Q$18:$Q$1017,$B245,'Daily Log'!$R$18:$R$1017),0)","v":0},{"$f":"IFERROR($E245*SUMIF('Daily Log'!$T$18:$T$1017,$B245,'Daily Log'!$U$18:$U$1017),0)","v":0},{"$f":"IFERROR($E245*SUMIF('Daily Log'!$W$18:$W$1017,$B245,'Daily Log'!$X$18:$X$1017),0)","v":0},{"$f":"IFERROR($E245*SUMIF('Daily Log'!$Z$18:$Z$1017,$B245,'Daily Log'!$AA$18:$AA$1017),0)","v":0},{"$f":"IFERROR($E245*SUMIF('Daily Log'!$AC$18:$AC$1017,$B245,'Daily Log'!$AD$18:$AD$1017),0)","v":0},{"$f":"IFERROR($E245*SUMIF('Daily Log'!$AF$18:$AF$1017,$B245,'Daily Log'!$AG$18:$AG$1017),0)","v":0},{"$f":"IFERROR($E245*SUMIF('Daily Log'!$AI$18:$AI$1017,$B245,'Daily Log'!$AJ$18:$AJ$1017),0)","v":0},{"$f":"IFERROR($E245*SUMIF('Daily Log'!$AL$18:$AL$1017,$B245,'Daily Log'!$AM$18:$AM$1017),0)","v":0},{"$f":"IFERROR($E245*SUMIF('Daily Log'!$AO$18:$AO$1017,$B245,'Daily Log'!$AP$18:$AP$1017),0)","v":0},{"$f":"IFERROR($E245*SUMIF('Daily Log'!$AR$18:$AR$1017,$B245,'Daily Log'!$AS$18:$AS$1017),0)","v":0},{"$f":"IFERROR($E245*SUMIF('Daily Log'!$AU$18:$AU$1017,$B245,'Daily Log'!$AV$18:$AV$1017),0)","v":0},{"$f":"IFERROR($E245*SUMIF('Daily Log'!$AX$18:$AX$1017,$B245,'Daily Log'!$AY$18:$AY$1017),0)","v":0},{"$f":"IFERROR($E245*SUMIF('Daily Log'!$BA$18:$BA$1017,$B245,'Daily Log'!$BB$18:$BB$1017),0)","v":0},{"$f":"IFERROR($E245*SUMIF('Daily Log'!$BD$18:$BD$1017,$B245,'Daily Log'!$BE$18:$BE$1017),0)","v":0},{"$f":"IFERROR($E245*SUMIF('Daily Log'!$BG$18:$BG$1017,$B245,'Daily Log'!$BH$18:$BH$1017),0)","v":0},{"$f":"IFERROR($E245*SUMIF('Daily Log'!$BJ$18:$BJ$1017,$B245,'Daily Log'!$BK$18:$BK$1017),0)","v":0},{"$f":"IFERROR($E245*SUMIF('Daily Log'!$BM$18:$BM$1017,$B245,'Daily Log'!$BN$18:$BN$1017),0)","v":0},{"$f":"IFERROR($E245*SUMIF('Daily Log'!$BP$18:$BP$1017,$B245,'Daily Log'!$BQ$18:$BQ$1017),0)","v":0},{"$f":"IFERROR($E245*SUMIF('Daily Log'!$BS$18:$BS$1017,$B245,'Daily Log'!$BT$18:$BT$1017),0)","v":0},{"$f":"IFERROR($E245*SUMIF('Daily Log'!$BV$18:$BV$1017,$B245,'Daily Log'!$BW$18:$BW$1017),0)","v":0},{"$f":"IFERROR($E245*SUMIF('Daily Log'!$BY$18:$BY$1017,$B245,'Daily Log'!$BZ$18:$BZ$1017),0)","v":0},{"$f":"IFERROR($E245*SUMIF('Daily Log'!$CB$18:$CB$1017,$B245,'Daily Log'!$CC$18:$CC$1017),0)","v":0},{"$f":"IFERROR($E245*SUMIF('Daily Log'!$CE$18:$CE$1017,$B245,'Daily Log'!$CF$18:$CF$1017),0)","v":0},{"$f":"IFERROR($E245*SUMIF('Daily Log'!$CH$18:$CH$1017,$B245,'Daily Log'!$CI$18:$CI$1017),0)","v":0},{"$f":"IFERROR($E245*SUMIF('Daily Log'!$CK$18:$CK$1017,$B245,'Daily Log'!$CL$18:$CL$1017),0)","v":0},{"$f":"IFERROR($E245*SUMIF('Daily Log'!$CN$18:$CN$1017,$B245,'Daily Log'!$CO$18:$CO$1017),0)","v":0}]
[null,null,null,null,null,0,{"$f":"IFERROR($E246*SUMIF('Daily Log'!$B$18:$B$1017,$B246,'Daily Log'!$C$18:$C$1017),0)","v":0},{"$f":"IFERROR($E246*SUMIF('Daily Log'!$E$18:$E$1017,$B246,'Daily Log'!$F$18:$F$1017),0)","v":0},{"$f":"IFERROR($E246*SUMIF('Daily Log'!$H$18:$H$1017,$B246,'Daily Log'!$I$18:$I$1017),0)","v":0},{"$f":"IFERROR($E246*SUMIF('Daily Log'!$K$18:$K$1017,$B246,'Daily Log'!$L$18:$L$1017),0)","v":0},{"$f":"IFERROR($E246*SUMIF('Daily Log'!$N$18:$N$1017,$B246,'Daily Log'!$O$18:$O$1017),0)","v":0},{"$f":"IFERROR($E246*SUMIF('Daily Log'!$Q$18:$Q$1017,$B246,'Daily Log'!$R$18:$R$1017),0)","v":0},{"$f":"IFERROR($E246*SUMIF('Daily Log'!$T$18:$T$1017,$B246,'Daily Log'!$U$18:$U$1017),0)","v":0},{"$f":"IFERROR($E246*SUMIF('Daily Log'!$W$18:$W$1017,$B246,'Daily Log'!$X$18:$X$1017),0)","v":0},{"$f":"IFERROR($E246*SUMIF('Daily Log'!$Z$18:$Z$1017,$B246,'Daily Log'!$AA$18:$AA$1017),0)","v":0},{"$f":"IFERROR($E246*SUMIF('Daily Log'!$AC$18:$AC$1017,$B246,'Daily Log'!$AD$18:$AD$1017),0)","v":0},{"$f":"IFERROR($E246*SUMIF('Daily Log'!$AF$18:$AF$1017,$B246,'Daily Log'!$AG$18:$AG$1017),0)","v":0},{"$f":"IFERROR($E246*SUMIF('Daily Log'!$AI$18:$AI$1017,$B246,'Daily Log'!$AJ$18:$AJ$1017),0)","v":0},{"$f":"IFERROR($E246*SUMIF('Daily Log'!$AL$18:$AL$1017,$B246,'Daily Log'!$AM$18:$AM$1017),0)","v":0},{"$f":"IFERROR($E246*SUMIF('Daily Log'!$AO$18:$AO$1017,$B246,'Daily Log'!$AP$18:$AP$1017),0)","v":0},{"$f":"IFERROR($E246*SUMIF('Daily Log'!$AR$18:$AR$1017,$B246,'Daily Log'!$AS$18:$AS$1017),0)","v":0},{"$f":"IFERROR($E246*SUMIF('Daily Log'!$AU$18:$AU$1017,$B246,'Daily Log'!$AV$18:$AV$1017),0)","v":0},{"$f":"IFERROR($E246*SUMIF('Daily Log'!$AX$18:$AX$1017,$B246,'Daily Log'!$AY$18:$AY$1017),0)","v":0},{"$f":"IFERROR($E246*SUMIF('Daily Log'!$BA$18:$BA$1017,$B246,'Daily Log'!$BB$18:$BB$1017),0)","v":0},{"$f":"IFERROR($E246*SUMIF('Daily Log'!$BD$18:$BD$1017,$B246,'Daily Log'!$BE$18:$BE$1017),0)","v":0},{"$f":"IFERROR($E246*SUMIF('Daily Log'!$BG$18:$BG$1017,$B246,'Daily Log'!$BH$18:$BH$1017),0)","v":0},{"$f":"IFERROR($E246*SUMIF('Daily Log'!$BJ$18:$BJ$1017,$B246,'Daily Log'!$BK$18:$BK$1017),0)","v":0},{"$f":"IFERROR($E246*SUMIF('Daily Log'!$BM$18:$BM$1017,$B246,'Daily Log'!$BN$18:$BN$1017),0)","v":0},{"$f":"IFERROR($E246*SUMIF('Daily Log'!$BP$18:$BP$1017,$B246,'Daily Log'!$BQ$18:$BQ$1017),0)","v":0},{"$f":"IFERROR($E246*SUMIF('Daily Log'!$BS$18:$BS$1017,$B246,'Daily Log'!$BT$18:$BT$1017),0)","v":0},{"$f":"IFERROR($E246*SUMIF('Daily Log'!$BV$18:$BV$1017,$B246,'Daily Log'!$BW$18:$BW$1017),0)","v":0},{"$f":"IFERROR($E246*SUMIF('Daily Log'!$BY$18:$BY$1017,$B246,'Daily Log'!$BZ$18:$BZ$1017),0)","v":0},{"$f":"IFERROR($E246*SUMIF('Daily Log'!$CB$18:$CB$1017,$B246,'Daily Log'!$CC$18:$CC$1017),0)","v":0},{"$f":"IFERROR($E246*SUMIF('Daily Log'!$CE$18:$CE$1017,$B246,'Daily Log'!$CF$18:$CF$1017),0)","v":0},{"$f":"IFERROR($E246*SUMIF('Daily Log'!$CH$18:$CH$1017,$B246,'Daily Log'!$CI$18:$CI$1017),0)","v":0},{"$f":"IFERROR($E246*SUMIF('Daily Log'!$CK$18:$CK$1017,$B246,'Daily Log'!$CL$18:$CL$1017),0)","v":0},{"$f":"IFERROR($E246*SUMIF('Daily Log'!$CN$18:$CN$1017,$B246,'Daily Log'!$CO$18:$CO$1017),0)","v":0}]
[null,null,null,null,null,0,{"$f":"IFERROR($E247*SUMIF('Daily Log'!$B$18:$B$1017,$B247,'Daily Log'!$C$18:$C$1017),0)","v":0},{"$f":"IFERROR($E247*SUMIF('Daily Log'!$E$18:$E$1017,$B247,'Daily Log'!$F$18:$F$1017),0)","v":0},{"$f":"IFERROR($E247*SUMIF('Daily Log'!$H$18:$H$1017,$B247,'Daily Log'!$I$18:$I$1017),0)","v":0},{"$f":"IFERROR($E247*SUMIF('Daily Log'!$K$18:$K$1017,$B247,'Daily Log'!$L$18:$L$1017),0)","v":0},{"$f":"IFERROR($E247*SUMIF('Daily Log'!$N$18:$N$1017,$B247,'Daily Log'!$O$18:$O$1017),0)","v":0},{"$f":"IFERROR($E247*SUMIF('Daily Log'!$Q$18:$Q$1017,$B247,'Daily Log'!$R$18:$R$1017),0)","v":0},{"$f":"IFERROR($E247*SUMIF('Daily Log'!$T$18:$T$1017,$B247,'Daily Log'!$U$18:$U$1017),0)","v":0},{"$f":"IFERROR($E247*SUMIF('Daily Log'!$W$18:$W$1017,$B247,'Daily Log'!$X$18:$X$1017),0)","v":0},{"$f":"IFERROR($E247*SUMIF('Daily Log'!$Z$18:$Z$1017,$B247,'Daily Log'!$AA$18:$AA$1017),0)","v":0},{"$f":"IFERROR($E247*SUMIF('Daily Log'!$AC$18:$AC$1017,$B247,'Daily Log'!$AD$18:$AD$1017),0)","v":0},{"$f":"IFERROR($E247*SUMIF('Daily Log'!$AF$18:$AF$1017,$B247,'Daily Log'!$AG$18:$AG$1017),0)","v":0},{"$f":"IFERROR($E247*SUMIF('Daily Log'!$AI$18:$AI$1017,$B247,'Daily Log'!$AJ$18:$AJ$1017),0)","v":0},{"$f":"IFERROR($E247*SUMIF('Daily Log'!$AL$18:$AL$1017,$B247,'Daily Log'!$AM$18:$AM$1017),0)","v":0},{"$f":"IFERROR($E247*SUMIF('Daily Log'!$AO$18:$AO$1017,$B247,'Daily Log'!$AP$18:$AP$1017),0)","v":0},{"$f":"IFERROR($E247*SUMIF('Daily Log'!$AR$18:$AR$1017,$B247,'Daily Log'!$AS$18:$AS$1017),0)","v":0},{"$f":"IFERROR($E247*SUMIF('Daily Log'!$AU$18:$AU$1017,$B247,'Daily Log'!$AV$18:$AV$1017),0)","v":0},{"$f":"IFERROR($E247*SUMIF('Daily Log'!$AX$18:$AX$1017,$B247,'Daily Log'!$AY$18:$AY$1017),0)","v":0},{"$f":"IFERROR($E247*SUMIF('Daily Log'!$BA$18:$BA$1017,$B247,'Daily Log'!$BB$18:$BB$1017),0)","v":0},{"$f":"IFERROR($E247*SUMIF('Daily Log'!$BD$18:$BD$1017,$B247,'Daily Log'!$BE$18:$BE$1017),0)","v":0},{"$f":"IFERROR($E247*SUMIF('Daily Log'!$BG$18:$BG$1017,$B247,'Daily Log'!$BH$18:$BH$1017),0)","v":0},{"$f":"IFERROR($E247*SUMIF('Daily Log'!$BJ$18:$BJ$1017,$B247,'Daily Log'!$BK$18:$BK$1017),0)","v":0},{"$f":"IFERROR($E247*SUMIF('Daily Log'!$BM$18:$BM$1017,$B247,'Daily Log'!$BN$18:$BN$1017),0)","v":0},{"$f":"IFERROR($E247*SUMIF('Daily Log'!$BP$18:$BP$1017,$B247,'Daily Log'!$BQ$18:$BQ$1017),0)","v":0},{"$f":"IFERROR($E247*SUMIF('Daily Log'!$BS$18:$BS$1017,$B247,'Daily Log'!$BT$18:$BT$1017),0)","v":0},{"$f":"IFERROR($E247*SUMIF('Daily Log'!$BV$18:$BV$1017,$B247,'Daily Log'!$BW$18:$BW$1017),0)","v":0},{"$f":"IFERROR($E247*SUMIF('Daily Log'!$BY$18:$BY$1017,$B247,'Daily Log'!$BZ$18:$BZ$1017),0)","v":0},{"$f":"IFERROR($E247*SUMIF('Daily Log'!$CB$18:$CB$1017,$B247,'Daily Log'!$CC$18:$CC$1017),0)","v":0},{"$f":"IFERROR($E247*SUMIF('Daily Log'!$CE$18:$CE$1017,$B247,'Daily Log'!$CF$18:$CF$1017),0)","v":0},{"$f":"IFERROR($E247*SUMIF('Daily Log'!$CH$18:$CH$1017,$B247,'Daily Log'!$CI$18:$CI$1017),0)","v":0},{"$f":"IFERROR($E247*SUMIF('Daily Log'!$CK$18:$CK$1017,$B247,'Daily Log'!$CL$18:$CL$1017),0)","v":0},{"$f":"IFERROR($E247*SUMIF('Daily Log'!$CN$18:$CN$1017,$B247,'Daily Log'!$CO$18:$CO$1017),0)","v":0}]
[null,null,null,null,null,0,{"$f":"IFERROR($E248*SUMIF('Daily Log'!$B$18:$B$1017,$B248,'Daily Log'!$C$18:$C$1017),0)","v":0},{"$f":"IFERROR($E248*SUMIF('Daily Log'!$E$18:$E$1017,$B248,'Daily Log'!$F$18:$F$1017),0)","v":0},{"$f":"IFERROR($E248*SUMIF('Daily Log'!$H$18:$H$1017,$B248,'Daily Log'!$I$18:$I$1017),0)","v":0},{"$f":"IFERROR($E248*SUMIF('Daily Log'!$K$18:$K$1017,$B248,'Daily Log'!$L$18:$L$1017),0)","v":0},{"$f":"IFERROR($E248*SUMIF('Daily Log'!$N$18:$N$1017,$B248,'Daily Log'!$O$18:$O$1017),0)","v":0},{"$f":"IFERROR($E248*SUMIF('Daily Log'!$Q$18:$Q$1017,$B248,'Daily Log'!$R$18:$R$1017),0)","v":0},{"$f":"IFERROR($E248*SUMIF('Daily Log'!$T$18:$T$1017,$B248,'Daily Log'!$U$18:$U$1017),0)","v":0},{"$f":"IFERROR($E248*SUMIF('Daily Log'!$W$18:$W$1017,$B248,'Daily Log'!$X$18:$X$1017),0)","v":0},{"$f":"IFERROR($E248*SUMIF('Daily Log'!$Z$18:$Z$1017,$B248,'Daily Log'!$AA$18:$AA$1017),0)","v":0},{"$f":"IFERROR($E248*SUMIF('Daily Log'!$AC$18:$AC$1017,$B248,'Daily Log'!$AD$18:$AD$1017),0)","v":0},{"$f":"IFERROR($E248*SUMIF('Daily Log'!$AF$18:$AF$1017,$B248,'Daily Log'!$AG$18:$AG$1017),0)","v":0},{"$f":"IFERROR($E248*SUMIF('Daily Log'!$AI$18:$AI$1017,$B248,'Daily Log'!$AJ$18:$AJ$1017),0)","v":0},{"$f":"IFERROR($E248*SUMIF('Daily Log'!$AL$18:$AL$1017,$B248,'Daily Log'!$AM$18:$AM$1017),0)","v":0},{"$f":"IFERROR($E248*SUMIF('Daily Log'!$AO$18:$AO$1017,$B248,'Daily Log'!$AP$18:$AP$1017),0)","v":0},{"$f":"IFERROR($E248*SUMIF('Daily Log'!$AR$18:$AR$1017,$B248,'Daily Log'!$AS$18:$AS$1017),0)","v":0},{"$f":"IFERROR($E248*SUMIF('Daily Log'!$AU$18:$AU$1017,$B248,'Daily Log'!$AV$18:$AV$1017),0)","v":0},{"$f":"IFERROR($E248*SUMIF('Daily Log'!$AX$18:$AX$1017,$B248,'Daily Log'!$AY$18:$AY$1017),0)","v":0},{"$f":"IFERROR($E248*SUMIF('Daily Log'!$BA$18:$BA$1017,$B248,'Daily Log'!$BB$18:$BB$1017),0)","v":0},{"$f":"IFERROR($E248*SUMIF('Daily Log'!$BD$18:$BD$1017,$B248,'Daily Log'!$BE$18:$BE$1017),0)","v":0},{"$f":"IFERROR($E248*SUMIF('Daily Log'!$BG$18:$BG$1017,$B248,'Daily Log'!$BH$18:$BH$1017),0)","v":0},{"$f":"IFERROR($E248*SUMIF('Daily Log'!$BJ$18:$BJ$1017,$B248,'Daily Log'!$BK$18:$BK$1017),0)","v":0},{"$f":"IFERROR($E248*SUMIF('Daily Log'!$BM$18:$BM$1017,$B248,'Daily Log'!$BN$18:$BN$1017),0)","v":0},{"$f":"IFERROR($E248*SUMIF('Daily Log'!$BP$18:$BP$1017,$B248,'Daily Log'!$BQ$18:$BQ$1017),0)","v":0},{"$f":"IFERROR($E248*SUMIF('Daily Log'!$BS$18:$BS$1017,$B248,'Daily Log'!$BT$18:$BT$1017),0)","v":0},{"$f":"IFERROR($E248*SUMIF('Daily Log'!$BV$18:$BV$1017,$B248,'Daily Log'!$BW$18:$BW$1017),0)","v":0},{"$f":"IFERROR($E248*SUMIF('Daily Log'!$BY$18:$BY$1017,$B248,'Daily Log'!$BZ$18:$BZ$1017),0)","v":0},{"$f":"IFERROR($E248*SUMIF('Daily Log'!$CB$18:$CB$1017,$B248,'Daily Log'!$CC$18:$CC$1017),0)","v":0},{"$f":"IFERROR($E248*SUMIF('Daily Log'!$CE$18:$CE$1017,$B248,'Daily Log'!$CF$18:$CF$1017),0)","v":0},{"$f":"IFERROR($E248*SUMIF('Daily Log'!$CH$18:$CH$1017,$B248,'Daily Log'!$CI$18:$CI$1017),0)","v":0},{"$f":"IFERROR($E248*SUMIF('Daily Log'!$CK$18:$CK$1017,$B248,'Daily Log'!$CL$18:$CL$1017),0)","v":0},{"$f":"IFERROR($E248*SUMIF('Daily Log'!$CN$18:$CN$1017,$B248,'Daily Log'!$CO$18:$CO$1017),0)","v":0}]
[null,null,null,null,null,0,{"$f":"IFERROR($E249*SUMIF('Daily Log'!$B$18:$B$1017,$B249,'Daily Log'!$C$18:$C$1017),0)","v":0},{"$f":"IFERROR($E249*SUMIF('Daily Log'!$E$18:$E$1017,$B249,'Daily Log'!$F$18:$F$1017),0)","v":0},{"$f":"IFERROR($E249*SUMIF('Daily Log'!$H$18:$H$1017,$B249,'Daily Log'!$I$18:$I$1017),0)","v":0},{"$f":"IFERROR($E249*SUMIF('Daily Log'!$K$18:$K$1017,$B249,'Daily Log'!$L$18:$L$1017),0)","v":0},{"$f":"IFERROR($E249*SUMIF('Daily Log'!$N$18:$N$1017,$B249,'Daily Log'!$O$18:$O$1017),0)","v":0},{"$f":"IFERROR($E249*SUMIF('Daily Log'!$Q$18:$Q$1017,$B249,'Daily Log'!$R$18:$R$1017),0)","v":0},{"$f":"IFERROR($E249*SUMIF('Daily Log'!$T$18:$T$1017,$B249,'Daily Log'!$U$18:$U$1017),0)","v":0},{"$f":"IFERROR($E249*SUMIF('Daily Log'!$W$18:$W$1017,$B249,'Daily Log'!$X$18:$X$1017),0)","v":0},{"$f":"IFERROR($E249*SUMIF('Daily Log'!$Z$18:$Z$1017,$B249,'Daily Log'!$AA$18:$AA$1017),0)","v":0},{"$f":"IFERROR($E249*SUMIF('Daily Log'!$AC$18:$AC$1017,$B249,'Daily Log'!$AD$18:$AD$1017),0)","v":0},{"$f":"IFERROR($E249*SUMIF('Daily Log'!$AF$18:$AF$1017,$B249,'Daily Log'!$AG$18:$AG$1017),0)","v":0},{"$f":"IFERROR($E249*SUMIF('Daily Log'!$AI$18:$AI$1017,$B249,'Daily Log'!$AJ$18:$AJ$1017),0)","v":0},{"$f":"IFERROR($E249*SUMIF('Daily Log'!$AL$18:$AL$1017,$B249,'Daily Log'!$AM$18:$AM$1017),0)","v":0},{"$f":"IFERROR($E249*SUMIF('Daily Log'!$AO$18:$AO$1017,$B249,'Daily Log'!$AP$18:$AP$1017),0)","v":0},{"$f":"IFERROR($E249*SUMIF('Daily Log'!$AR$18:$AR$1017,$B249,'Daily Log'!$AS$18:$AS$1017),0)","v":0},{"$f":"IFERROR($E249*SUMIF('Daily Log'!$AU$18:$AU$1017,$B249,'Daily Log'!$AV$18:$AV$1017),0)","v":0},{"$f":"IFERROR($E249*SUMIF('Daily Log'!$AX$18:$AX$1017,$B249,'Daily Log'!$AY$18:$AY$1017),0)","v":0},{"$f":"IFERROR($E249*SUMIF('Daily Log'!$BA$18:$BA$1017,$B249,'Daily Log'!$BB$18:$BB$1017),0)","v":0},{"$f":"IFERROR($E249*SUMIF('Daily Log'!$BD$18:$BD$1017,$B249,'Daily Log'!$BE$18:$BE$1017),0)","v":0},{"$f":"IFERROR($E249*SUMIF('Daily Log'!$BG$18:$BG$1017,$B249,'Daily Log'!$BH$18:$BH$1017),0)","v":0},{"$f":"IFERROR($E249*SUMIF('Daily Log'!$BJ$18:$BJ$1017,$B249,'Daily Log'!$BK$18:$BK$1017),0)","v":0},{"$f":"IFERROR($E249*SUMIF('Daily Log'!$BM$18:$BM$1017,$B249,'Daily Log'!$BN$18:$BN$1017),0)","v":0},{"$f":"IFERROR($E249*SUMIF('Daily Log'!$BP$18:$BP$1017,$B249,'Daily Log'!$BQ$18:$BQ$1017),0)","v":0},{"$f":"IFERROR($E249*SUMIF('Daily Log'!$BS$18:$BS$1017,$B249,'Daily Log'!$BT$18:$BT$1017),0)","v":0},{"$f":"IFERROR($E249*SUMIF('Daily Log'!$BV$18:$BV$1017,$B249,'Daily Log'!$BW$18:$BW$1017),0)","v":0},{"$f":"IFERROR($E249*SUMIF('Daily Log'!$BY$18:$BY$1017,$B249,'Daily Log'!$BZ$18:$BZ$1017),0)","v":0},{"$f":"IFERROR($E249*SUMIF('Daily Log'!$CB$18:$CB$1017,$B249,'Daily Log'!$CC$18:$CC$1017),0)","v":0},{"$f":"IFERROR($E249*SUMIF('Daily Log'!$CE$18:$CE$1017,$B249,'Daily Log'!$CF$18:$CF$1017),0)","v":0},{"$f":"IFERROR($E249*SUMIF('Daily Log'!$CH$18:$CH$1017,$B249,'Daily Log'!$CI$18:$CI$1017),0)","v":0},{"$f":"IFERROR($E249*SUMIF('Daily Log'!$CK$18:$CK$1017,$B249,'Daily Log'!$CL$18:$CL$1017),0)","v":0},{"$f":"IFERROR($E249*SUMIF('Daily Log'!$CN$18:$CN$1017,$B249,'Daily Log'!$CO$18:$CO$1017),0)","v":0}]
[null,null,null,null,null,0,{"$f":"IFERROR($E250*SUMIF('Daily Log'!$B$18:$B$1017,$B250,'Daily Log'!$C$18:$C$1017),0)","v":0},{"$f":"IFERROR($E250*SUMIF('Daily Log'!$E$18:$E$1017,$B250,'Daily Log'!$F$18:$F$1017),0)","v":0},{"$f":"IFERROR($E250*SUMIF('Daily Log'!$H$18:$H$1017,$B250,'Daily Log'!$I$18:$I$1017),0)","v":0},{"$f":"IFERROR($E250*SUMIF('Daily Log'!$K$18:$K$1017,$B250,'Daily Log'!$L$18:$L$1017),0)","v":0},{"$f":"IFERROR($E250*SUMIF('Daily Log'!$N$18:$N$1017,$B250,'Daily Log'!$O$18:$O$1017),0)","v":0},{"$f":"IFERROR($E250*SUMIF('Daily Log'!$Q$18:$Q$1017,$B250,'Daily Log'!$R$18:$R$1017),0)","v":0},{"$f":"IFERROR($E250*SUMIF('Daily Log'!$T$18:$T$1017,$B250,'Daily Log'!$U$18:$U$1017),0)","v":0},{"$f":"IFERROR($E250*SUMIF('Daily Log'!$W$18:$W$1017,$B250,'Daily Log'!$X$18:$X$1017),0)","v":0},{"$f":"IFERROR($E250*SUMIF('Daily Log'!$Z$18:$Z$1017,$B250,'Daily Log'!$AA$18:$AA$1017),0)","v":0},{"$f":"IFERROR($E250*SUMIF('Daily Log'!$AC$18:$AC$1017,$B250,'Daily Log'!$AD$18:$AD$1017),0)","v":0},{"$f":"IFERROR($E250*SUMIF('Daily Log'!$AF$18:$AF$1017,$B250,'Daily Log'!$AG$18:$AG$1017),0)","v":0},{"$f":"IFERROR($E250*SUMIF('Daily Log'!$AI$18:$AI$1017,$B250,'Daily Log'!$AJ$18:$AJ$1017),0)","v":0},{"$f":"IFERROR($E250*SUMIF('Daily Log'!$AL$18:$AL$1017,$B250,'Daily Log'!$AM$18:$AM$1017),0)","v":0},{"$f":"IFERROR($E250*SUMIF('Daily Log'!$AO$18:$AO$1017,$B250,'Daily Log'!$AP$18:$AP$1017),0)","v":0},{"$f":"IFERROR($E250*SUMIF('Daily Log'!$AR$18:$AR$1017,$B250,'Daily Log'!$AS$18:$AS$1017),0)","v":0},{"$f":"IFERROR($E250*SUMIF('Daily Log'!$AU$18:$AU$1017,$B250,'Daily Log'!$AV$18:$AV$1017),0)","v":0},{"$f":"IFERROR($E250*SUMIF('Daily Log'!$AX$18:$AX$1017,$B250,'Daily Log'!$AY$18:$AY$1017),0)","v":0},{"$f":"IFERROR($E250*SUMIF('Daily Log'!$BA$18:$BA$1017,$B250,'Daily Log'!$BB$18:$BB$1017),0)","v":0},{"$f":"IFERROR($E250*SUMIF('Daily Log'!$BD$18:$BD$1017,$B250,'Daily Log'!$BE$18:$BE$1017),0)","v":0},{"$f":"IFERROR($E250*SUMIF('Daily Log'!$BG$18:$BG$1017,$B250,'Daily Log'!$BH$18:$BH$1017),0)","v":0},{"$f":"IFERROR($E250*SUMIF('Daily Log'!$BJ$18:$BJ$1017,$B250,'Daily Log'!$BK$18:$BK$1017),0)","v":0},{"$f":"IFERROR($E250*SUMIF('Daily Log'!$BM$18:$BM$1017,$B250,'Daily Log'!$BN$18:$BN$1017),0)","v":0},{"$f":"IFERROR($E250*SUMIF('Daily Log'!$BP$18:$BP$1017,$B250,'Daily Log'!$BQ$18:$BQ$1017),0)","v":0},{"$f":"IFERROR($E250*SUMIF('Daily Log'!$BS$18:$BS$1017,$B250,'Daily Log'!$BT$18:$BT$1017),0)","v":0},{"$f":"IFERROR($E250*SUMIF('Daily Log'!$BV$18:$BV$1017,$B250,'Daily Log'!$BW$18:$BW$1017),0)","v":0},{"$f":"IFERROR($E250*SUMIF('Daily Log'!$BY$18:$BY$1017,$B250,'Daily Log'!$BZ$18:$BZ$1017),0)","v":0},{"$f":"IFERROR($E250*SUMIF('Daily Log'!$CB$18:$CB$1017,$B250,'Daily Log'!$CC$18:$CC$1017),0)","v":0},{"$f":"IFERROR($E250*SUMIF('Daily Log'!$CE$18:$CE$1017,$B250,'Daily Log'!$CF$18:$CF$1017),0)","v":0},{"$f":"IFERROR($E250*SUMIF('Daily Log'!$CH$18:$CH$1017,$B250,'Daily Log'!$CI$18:$CI$1017),0)","v":0},{"$f":"IFERROR($E250*SUMIF('Daily Log'!$CK$18:$CK$1017,$B250,'Daily Log'!$CL$18:$CL$1017),0)","v":0},{"$f":"IFERROR($E250*SUMIF('Daily Log'!$CN$18:$CN$1017,$B250,'Daily Log'!$CO$18:$CO$1017),0)","v":0}]
[null,null,null,null,null,0,{"$f":"IFERROR($E251*SUMIF('Daily Log'!$B$18:$B$1017,$B251,'Daily Log'!$C$18:$C$1017),0)","v":0},{"$f":"IFERROR($E251*SUMIF('Daily Log'!$E$18:$E$1017,$B251,'Daily Log'!$F$18:$F$1017),0)","v":0},{"$f":"IFERROR($E251*SUMIF('Daily Log'!$H$18:$H$1017,$B251,'Daily Log'!$I$18:$I$1017),0)","v":0},{"$f":"IFERROR($E251*SUMIF('Daily Log'!$K$18:$K$1017,$B251,'Daily Log'!$L$18:$L$1017),0)","v":0},{"$f":"IFERROR($E251*SUMIF('Daily Log'!$N$18:$N$1017,$B251,'Daily Log'!$O$18:$O$1017),0)","v":0},{"$f":"IFERROR($E251*SUMIF('Daily Log'!$Q$18:$Q$1017,$B251,'Daily Log'!$R$18:$R$1017),0)","v":0},{"$f":"IFERROR($E251*SUMIF('Daily Log'!$T$18:$T$1017,$B251,'Daily Log'!$U$18:$U$1017),0)","v":0},{"$f":"IFERROR($E251*SUMIF('Daily Log'!$W$18:$W$1017,$B251,'Daily Log'!$X$18:$X$1017),0)","v":0},{"$f":"IFERROR($E251*SUMIF('Daily Log'!$Z$18:$Z$1017,$B251,'Daily Log'!$AA$18:$AA$1017),0)","v":0},{"$f":"IFERROR($E251*SUMIF('Daily Log'!$AC$18:$AC$1017,$B251,'Daily Log'!$AD$18:$AD$1017),0)","v":0},{"$f":"IFERROR($E251*SUMIF('Daily Log'!$AF$18:$AF$1017,$B251,'Daily Log'!$AG$18:$AG$1017),0)","v":0},{"$f":"IFERROR($E251*SUMIF('Daily Log'!$AI$18:$AI$1017,$B251,'Daily Log'!$AJ$18:$AJ$1017),0)","v":0},{"$f":"IFERROR($E251*SUMIF('Daily Log'!$AL$18:$AL$1017,$B251,'Daily Log'!$AM$18:$AM$1017),0)","v":0},{"$f":"IFERROR($E251*SUMIF('Daily Log'!$AO$18:$AO$1017,$B251,'Daily Log'!$AP$18:$AP$1017),0)","v":0},{"$f":"IFERROR($E251*SUMIF('Daily Log'!$AR$18:$AR$1017,$B251,'Daily Log'!$AS$18:$AS$1017),0)","v":0},{"$f":"IFERROR($E251*SUMIF('Daily Log'!$AU$18:$AU$1017,$B251,'Daily Log'!$AV$18:$AV$1017),0)","v":0},{"$f":"IFERROR($E251*SUMIF('Daily Log'!$AX$18:$AX$1017,$B251,'Daily Log'!$AY$18:$AY$1017),0)","v":0},{"$f":"IFERROR($E251*SUMIF('Daily Log'!$BA$18:$BA$1017,$B251,'Daily Log'!$BB$18:$BB$1017),0)","v":0},{"$f":"IFERROR($E251*SUMIF('Daily Log'!$BD$18:$BD$1017,$B251,'Daily Log'!$BE$18:$BE$1017),0)","v":0},{"$f":"IFERROR($E251*SUMIF('Daily Log'!$BG$18:$BG$1017,$B251,'Daily Log'!$BH$18:$BH$1017),0)","v":0},{"$f":"IFERROR($E251*SUMIF('Daily Log'!$BJ$18:$BJ$1017,$B251,'Daily Log'!$BK$18:$BK$1017),0)","v":0},{"$f":"IFERROR($E251*SUMIF('Daily Log'!$BM$18:$BM$1017,$B251,'Daily Log'!$BN$18:$BN$1017),0)","v":0},{"$f":"IFERROR($E251*SUMIF('Daily Log'!$BP$18:$BP$1017,$B251,'Daily Log'!$BQ$18:$BQ$1017),0)","v":0},{"$f":"IFERROR($E251*SUMIF('Daily Log'!$BS$18:$BS$1017,$B251,'Daily Log'!$BT$18:$BT$1017),0)","v":0},{"$f":"IFERROR($E251*SUMIF('Daily Log'!$BV$18:$BV$1017,$B251,'Daily Log'!$BW$18:$BW$1017),0)","v":0},{"$f":"IFERROR($E251*SUMIF('Daily Log'!$BY$18:$BY$1017,$B251,'Daily Log'!$BZ$18:$BZ$1017),0)","v":0},{"$f":"IFERROR($E251*SUMIF('Daily Log'!$CB$18:$CB$1017,$B251,'Daily Log'!$CC$18:$CC$1017),0)","v":0},{"$f":"IFERROR($E251*SUMIF('Daily Log'!$CE$18:$CE$1017,$B251,'Daily Log'!$CF$18:$CF$1017),0)","v":0},{"$f":"IFERROR($E251*SUMIF('Daily Log'!$CH$18:$CH$1017,$B251,'Daily Log'!$CI$18:$CI$1017),0)","v":0},{"$f":"IFERROR($E251*SUMIF('Daily Log'!$CK$18:$CK$1017,$B251,'Daily Log'!$CL$18:$CL$1017),0)","v":0},{"$f":"IFERROR($E251*SUMIF('Daily Log'!$CN$18:$CN$1017,$B251,'Daily Log'!$CO$18:$CO$1017),0)","v":0}]
[null,null,null,null,null,0,{"$f":"IFERROR($E252*SUMIF('Daily Log'!$B$18:$B$1017,$B252,'Daily Log'!$C$18:$C$1017),0)","v":0},{"$f":"IFERROR($E252*SUMIF('Daily Log'!$E$18:$E$1017,$B252,'Daily Log'!$F$18:$F$1017),0)","v":0},{"$f":"IFERROR($E252*SUMIF('Daily Log'!$H$18:$H$1017,$B252,'Daily Log'!$I$18:$I$1017),0)","v":0},{"$f":"IFERROR($E252*SUMIF('Daily Log'!$K$18:$K$1017,$B252,'Daily Log'!$L$18:$L$1017),0)","v":0},{"$f":"IFERROR($E252*SUMIF('Daily Log'!$N$18:$N$1017,$B252,'Daily Log'!$O$18:$O$1017),0)","v":0},{"$f":"IFERROR($E252*SUMIF('Daily Log'!$Q$18:$Q$1017,$B252,'Daily Log'!$R$18:$R$1017),0)","v":0},{"$f":"IFERROR($E252*SUMIF('Daily Log'!$T$18:$T$1017,$B252,'Daily Log'!$U$18:$U$1017),0)","v":0},{"$f":"IFERROR($E252*SUMIF('Daily Log'!$W$18:$W$1017,$B252,'Daily Log'!$X$18:$X$1017),0)","v":0},{"$f":"IFERROR($E252*SUMIF('Daily Log'!$Z$18:$Z$1017,$B252,'Daily Log'!$AA$18:$AA$1017),0)","v":0},{"$f":"IFERROR($E252*SUMIF('Daily Log'!$AC$18:$AC$1017,$B252,'Daily Log'!$AD$18:$AD$1017),0)","v":0},{"$f":"IFERROR($E252*SUMIF('Daily Log'!$AF$18:$AF$1017,$B252,'Daily Log'!$AG$18:$AG$1017),0)","v":0},{"$f":"IFERROR($E252*SUMIF('Daily Log'!$AI$18:$AI$1017,$B252,'Daily Log'!$AJ$18:$AJ$1017),0)","v":0},{"$f":"IFERROR($E252*SUMIF('Daily Log'!$AL$18:$AL$1017,$B252,'Daily Log'!$AM$18:$AM$1017),0)","v":0},{"$f":"IFERROR($E252*SUMIF('Daily Log'!$AO$18:$AO$1017,$B252,'Daily Log'!$AP$18:$AP$1017),0)","v":0},{"$f":"IFERROR($E252*SUMIF('Daily Log'!$AR$18:$AR$1017,$B252,'Daily Log'!$AS$18:$AS$1017),0)","v":0},{"$f":"IFERROR($E252*SUMIF('Daily Log'!$AU$18:$AU$1017,$B252,'Daily Log'!$AV$18:$AV$1017),0)","v":0},{"$f":"IFERROR($E252*SUMIF('Daily Log'!$AX$18:$AX$1017,$B252,'Daily Log'!$AY$18:$AY$1017),0)","v":0},{"$f":"IFERROR($E252*SUMIF('Daily Log'!$BA$18:$BA$1017,$B252,'Daily Log'!$BB$18:$BB$1017),0)","v":0},{"$f":"IFERROR($E252*SUMIF('Daily Log'!$BD$18:$BD$1017,$B252,'Daily Log'!$BE$18:$BE$1017),0)","v":0},{"$f":"IFERROR($E252*SUMIF('Daily Log'!$BG$18:$BG$1017,$B252,'Daily Log'!$BH$18:$BH$1017),0)","v":0},{"$f":"IFERROR($E252*SUMIF('Daily Log'!$BJ$18:$BJ$1017,$B252,'Daily Log'!$BK$18:$BK$1017),0)","v":0},{"$f":"IFERROR($E252*SUMIF('Daily Log'!$BM$18:$BM$1017,$B252,'Daily Log'!$BN$18:$BN$1017),0)","v":0},{"$f":"IFERROR($E252*SUMIF('Daily Log'!$BP$18:$BP$1017,$B252,'Daily Log'!$BQ$18:$BQ$1017),0)","v":0},{"$f":"IFERROR($E252*SUMIF('Daily Log'!$BS$18:$BS$1017,$B252,'Daily Log'!$BT$18:$BT$1017),0)","v":0},{"$f":"IFERROR($E252*SUMIF('Daily Log'!$BV$18:$BV$1017,$B252,'Daily Log'!$BW$18:$BW$1017),0)","v":0},{"$f":"IFERROR($E252*SUMIF('Daily Log'!$BY$18:$BY$1017,$B252,'Daily Log'!$BZ$18:$BZ$1017),0)","v":0},{"$f":"IFERROR($E252*SUMIF('Daily Log'!$CB$18:$CB$1017,$B252,'Daily Log'!$CC$18:$CC$1017),0)","v":0},{"$f":"IFERROR($E252*SUMIF('Daily Log'!$CE$18:$CE$1017,$B252,'Daily Log'!$CF$18:$CF$1017),0)","v":0},{"$f":"IFERROR($E252*SUMIF('Daily Log'!$CH$18:$CH$1017,$B252,'Daily Log'!$CI$18:$CI$1017),0)","v":0},{"$f":"IFERROR($E252*SUMIF('Daily Log'!$CK$18:$CK$1017,$B252,'Daily Log'!$CL$18:$CL$1017),0)","v":0},{"$f":"IFERROR($E252*SUMIF('Daily Log'!$CN$18:$CN$1017,$B252,'Daily Log'!$CO$18:$CO$1017),0)","v":0}]
[null,null,null,null,null,{"$f":"SUM($G253:$AK253)","v":0},{"$f":"IFERROR($E253*SUMIF('Daily Log'!$B$18:$B$1017,$B253,'Daily Log'!$C$18:$C$1017),0)","v":0},{"$f":"IFERROR($E253*SUMIF('Daily Log'!$E$18:$E$1017,$B253,'Daily Log'!$F$18:$F$1017),0)","v":0},{"$f":"IFERROR($E253*SUMIF('Daily Log'!$H$18:$H$1017,$B253,'Daily Log'!$I$18:$I$1017),0)","v":0},{"$f":"IFERROR($E253*SUMIF('Daily Log'!$K$18:$K$1017,$B253,'Daily Log'!$L$18:$L$1017),0)","v":0},{"$f":"IFERROR($E253*SUMIF('Daily Log'!$N$18:$N$1017,$B253,'Daily Log'!$O$18:$O$1017),0)","v":0},{"$f":"IFERROR($E253*SUMIF('Daily Log'!$Q$18:$Q$1017,$B253,'Daily Log'!$R$18:$R$1017),0)","v":0},{"$f":"IFERROR($E253*SUMIF('Daily Log'!$T$18:$T$1017,$B253,'Daily Log'!$U$18:$U$1017),0)","v":0},{"$f":"IFERROR($E253*SUMIF('Daily Log'!$W$18:$W$1017,$B253,'Daily Log'!$X$18:$X$1017),0)","v":0},{"$f":"IFERROR($E253*SUMIF('Daily Log'!$Z$18:$Z$1017,$B253,'Daily Log'!$AA$18:$AA$1017),0)","v":0},{"$f":"IFERROR($E253*SUMIF('Daily Log'!$AC$18:$AC$1017,$B253,'Daily Log'!$AD$18:$AD$1017),0)","v":0},{"$f":"IFERROR($E253*SUMIF('Daily Log'!$AF$18:$AF$1017,$B253,'Daily Log'!$AG$18:$AG$1017),0)","v":0},{"$f":"IFERROR($E253*SUMIF('Daily Log'!$AI$18:$AI$1017,$B253,'Daily Log'!$AJ$18:$AJ$1017),0)","v":0},{"$f":"IFERROR($E253*SUMIF('Daily Log'!$AL$18:$AL$1017,$B253,'Daily Log'!$AM$18:$AM$1017),0)","v":0},{"$f":"IFERROR($E253*SUMIF('Daily Log'!$AO$18:$AO$1017,$B253,'Daily Log'!$AP$18:$AP$1017),0)","v":0},{"$f":"IFERROR($E253*SUMIF('Daily Log'!$AR$18:$AR$1017,$B253,'Daily Log'!$AS$18:$AS$1017),0)","v":0},{"$f":"IFERROR($E253*SUMIF('Daily Log'!$AU$18:$AU$1017,$B253,'Daily Log'!$AV$18:$AV$1017),0)","v":0},{"$f":"IFERROR($E253*SUMIF('Daily Log'!$AX$18:$AX$1017,$B253,'Daily Log'!$AY$18:$AY$1017),0)","v":0},{"$f":"IFERROR($E253*SUMIF('Daily Log'!$BA$18:$BA$1017,$B253,'Daily Log'!$BB$18:$BB$1017),0)","v":0},{"$f":"IFERROR($E253*SUMIF('Daily Log'!$BD$18:$BD$1017,$B253,'Daily Log'!$BE$18:$BE$1017),0)","v":0},{"$f":"IFERROR($E253*SUMIF('Daily Log'!$BG$18:$BG$1017,$B253,'Daily Log'!$BH$18:$BH$1017),0)","v":0},{"$f":"IFERROR($E253*SUMIF('Daily Log'!$BJ$18:$BJ$1017,$B253,'Daily Log'!$BK$18:$BK$1017),0)","v":0},{"$f":"IFERROR($E253*SUMIF('Daily Log'!$BM$18:$BM$1017,$B253,'Daily Log'!$BN$18:$BN$1017),0)","v":0},{"$f":"IFERROR($E253*SUMIF('Daily Log'!$BP$18:$BP$1017,$B253,'Daily Log'!$BQ$18:$BQ$1017),0)","v":0},{"$f":"IFERROR($E253*SUMIF('Daily Log'!$BS$18:$BS$1017,$B253,'Daily Log'!$BT$18:$BT$1017),0)","v":0},{"$f":"IFERROR($E253*SUMIF('Daily Log'!$BV$18:$BV$1017,$B253,'Daily Log'!$BW$18:$BW$1017),0)","v":0},{"$f":"IFERROR($E253*SUMIF('Daily Log'!$BY$18:$BY$1017,$B253,'Daily Log'!$BZ$18:$BZ$1017),0)","v":0},{"$f":"IFERROR($E253*SUMIF('Daily Log'!$CB$18:$CB$1017,$B253,'Daily Log'!$CC$18:$CC$1017),0)","v":0},{"$f":"IFERROR($E253*SUMIF('Daily Log'!$CE$18:$CE$1017,$B253,'Daily Log'!$CF$18:$CF$1017),0)","v":0},{"$f":"IFERROR($E253*SUMIF('Daily Log'!$CH$18:$CH$1017,$B253,'Daily Log'!$CI$18:$CI$1017),0)","v":0},{"$f":"IFERROR($E253*SUMIF('Daily Log'!$CK$18:$CK$1017,$B253,'Daily Log'!$CL$18:$CL$1017),0)","v":0},{"$f":"IFERROR($E253*SUMIF('Daily Log'!$CN$18:$CN$1017,$B253,'Daily Log'!$CO$18:$CO$1017),0)","v":0}]
[null,null,null,null,null,0,{"$f":"IFERROR($E254*SUMIF('Daily Log'!$B$18:$B$1017,$B254,'Daily Log'!$C$18:$C$1017),0)","v":0},{"$f":"IFERROR($E254*SUMIF('Daily Log'!$E$18:$E$1017,$B254,'Daily Log'!$F$18:$F$1017),0)","v":0},{"$f":"IFERROR($E254*SUMIF('Daily Log'!$H$18:$H$1017,$B254,'Daily Log'!$I$18:$I$1017),0)","v":0},{"$f":"IFERROR($E254*SUMIF('Daily Log'!$K$18:$K$1017,$B254,'Daily Log'!$L$18:$L$1017),0)","v":0},{"$f":"IFERROR($E254*SUMIF('Daily Log'!$N$18:$N$1017,$B254,'Daily Log'!$O$18:$O$1017),0)","v":0},{"$f":"IFERROR($E254*SUMIF('Daily Log'!$Q$18:$Q$1017,$B254,'Daily Log'!$R$18:$R$1017),0)","v":0},{"$f":"IFERROR($E254*SUMIF('Daily Log'!$T$18:$T$1017,$B254,'Daily Log'!$U$18:$U$1017),0)","v":0},{"$f":"IFERROR($E254*SUMIF('Daily Log'!$W$18:$W$1017,$B254,'Daily Log'!$X$18:$X$1017),0)","v":0},{"$f":"IFERROR($E254*SUMIF('Daily Log'!$Z$18:$Z$1017,$B254,'Daily Log'!$AA$18:$AA$1017),0)","v":0},{"$f":"IFERROR($E254*SUMIF('Daily Log'!$AC$18:$AC$1017,$B254,'Daily Log'!$AD$18:$AD$1017),0)","v":0},{"$f":"IFERROR($E254*SUMIF('Daily Log'!$AF$18:$AF$1017,$B254,'Daily Log'!$AG$18:$AG$1017),0)","v":0},{"$f":"IFERROR($E254*SUMIF('Daily Log'!$AI$18:$AI$1017,$B254,'Daily Log'!$AJ$18:$AJ$1017),0)","v":0},{"$f":"IFERROR($E254*SUMIF('Daily Log'!$AL$18:$AL$1017,$B254,'Daily Log'!$AM$18:$AM$1017),0)","v":0},{"$f":"IFERROR($E254*SUMIF('Daily Log'!$AO$18:$AO$1017,$B254,'Daily Log'!$AP$18:$AP$1017),0)","v":0},{"$f":"IFERROR($E254*SUMIF('Daily Log'!$AR$18:$AR$1017,$B254,'Daily Log'!$AS$18:$AS$1017),0)","v":0},{"$f":"IFERROR($E254*SUMIF('Daily Log'!$AU$18:$AU$1017,$B254,'Daily Log'!$AV$18:$AV$1017),0)","v":0},{"$f":"IFERROR($E254*SUMIF('Daily Log'!$AX$18:$AX$1017,$B254,'Daily Log'!$AY$18:$AY$1017),0)","v":0},{"$f":"IFERROR($E254*SUMIF('Daily Log'!$BA$18:$BA$1017,$B254,'Daily Log'!$BB$18:$BB$1017),0)","v":0},{"$f":"IFERROR($E254*SUMIF('Daily Log'!$BD$18:$BD$1017,$B254,'Daily Log'!$BE$18:$BE$1017),0)","v":0},{"$f":"IFERROR($E254*SUMIF('Daily Log'!$BG$18:$BG$1017,$B254,'Daily Log'!$BH$18:$BH$1017),0)","v":0},{"$f":"IFERROR($E254*SUMIF('Daily Log'!$BJ$18:$BJ$1017,$B254,'Daily Log'!$BK$18:$BK$1017),0)","v":0},{"$f":"IFERROR($E254*SUMIF('Daily Log'!$BM$18:$BM$1017,$B254,'Daily Log'!$BN$18:$BN$1017),0)","v":0},{"$f":"IFERROR($E254*SUMIF('Daily Log'!$BP$18:$BP$1017,$B254,'Daily Log'!$BQ$18:$BQ$1017),0)","v":0},{"$f":"IFERROR($E254*SUMIF('Daily Log'!$BS$18:$BS$1017,$B254,'Daily Log'!$BT$18:$BT$1017),0)","v":0},{"$f":"IFERROR($E254*SUMIF('Daily Log'!$BV$18:$BV$1017,$B254,'Daily Log'!$BW$18:$BW$1017),0)","v":0},{"$f":"IFERROR($E254*SUMIF('Daily Log'!$BY$18:$BY$1017,$B254,'Daily Log'!$BZ$18:$BZ$1017),0)","v":0},{"$f":"IFERROR($E254*SUMIF('Daily Log'!$CB$18:$CB$1017,$B254,'Daily Log'!$CC$18:$CC$1017),0)","v":0},{"$f":"IFERROR($E254*SUMIF('Daily Log'!$CE$18:$CE$1017,$B254,'Daily Log'!$CF$18:$CF$1017),0)","v":0},{"$f":"IFERROR($E254*SUMIF('Daily Log'!$CH$18:$CH$1017,$B254,'Daily Log'!$CI$18:$CI$1017),0)","v":0},{"$f":"IFERROR($E254*SUMIF('Daily Log'!$CK$18:$CK$1017,$B254,'Daily Log'!$CL$18:$CL$1017),0)","v":0},{"$f":"IFERROR($E254*SUMIF('Daily Log'!$CN$18:$CN$1017,$B254,'Daily Log'!$CO$18:$CO$1017),0)","v":0}]
[null,null,null,null,null,0,{"$f":"IFERROR($E255*SUMIF('Daily Log'!$B$18:$B$1017,$B255,'Daily Log'!$C$18:$C$1017),0)","v":0},{"$f":"IFERROR($E255*SUMIF('Daily Log'!$E$18:$E$1017,$B255,'Daily Log'!$F$18:$F$1017),0)","v":0},{"$f":"IFERROR($E255*SUMIF('Daily Log'!$H$18:$H$1017,$B255,'Daily Log'!$I$18:$I$1017),0)","v":0},{"$f":"IFERROR($E255*SUMIF('Daily Log'!$K$18:$K$1017,$B255,'Daily Log'!$L$18:$L$1017),0)","v":0},{"$f":"IFERROR($E255*SUMIF('Daily Log'!$N$18:$N$1017,$B255,'Daily Log'!$O$18:$O$1017),0)","v":0},{"$f":"IFERROR($E255*SUMIF('Daily Log'!$Q$18:$Q$1017,$B255,'Daily Log'!$R$18:$R$1017),0)","v":0},{"$f":"IFERROR($E255*SUMIF('Daily Log'!$T$18:$T$1017,$B255,'Daily Log'!$U$18:$U$1017),0)","v":0},{"$f":"IFERROR($E255*SUMIF('Daily Log'!$W$18:$W$1017,$B255,'Daily Log'!$X$18:$X$1017),0)","v":0},{"$f":"IFERROR($E255*SUMIF('Daily Log'!$Z$18:$Z$1017,$B255,'Daily Log'!$AA$18:$AA$1017),0)","v":0},{"$f":"IFERROR($E255*SUMIF('Daily Log'!$AC$18:$AC$1017,$B255,'Daily Log'!$AD$18:$AD$1017),0)","v":0},{"$f":"IFERROR($E255*SUMIF('Daily Log'!$AF$18:$AF$1017,$B255,'Daily Log'!$AG$18:$AG$1017),0)","v":0},{"$f":"IFERROR($E255*SUMIF('Daily Log'!$AI$18:$AI$1017,$B255,'Daily Log'!$AJ$18:$AJ$1017),0)","v":0},{"$f":"IFERROR($E255*SUMIF('Daily Log'!$AL$18:$AL$1017,$B255,'Daily Log'!$AM$18:$AM$1017),0)","v":0},{"$f":"IFERROR($E255*SUMIF('Daily Log'!$AO$18:$AO$1017,$B255,'Daily Log'!$AP$18:$AP$1017),0)","v":0},{"$f":"IFERROR($E255*SUMIF('Daily Log'!$AR$18:$AR$1017,$B255,'Daily Log'!$AS$18:$AS$1017),0)","v":0},{"$f":"IFERROR($E255*SUMIF('Daily Log'!$AU$18:$AU$1017,$B255,'Daily Log'!$AV$18:$AV$1017),0)","v":0},{"$f":"IFERROR($E255*SUMIF('Daily Log'!$AX$18:$AX$1017,$B255,'Daily Log'!$AY$18:$AY$1017),0)","v":0},{"$f":"IFERROR($E255*SUMIF('Daily Log'!$BA$18:$BA$1017,$B255,'Daily Log'!$BB$18:$BB$1017),0)","v":0},{"$f":"IFERROR($E255*SUMIF('Daily Log'!$BD$18:$BD$1017,$B255,'Daily Log'!$BE$18:$BE$1017),0)","v":0},{"$f":"IFERROR($E255*SUMIF('Daily Log'!$BG$18:$BG$1017,$B255,'Daily Log'!$BH$18:$BH$1017),0)","v":0},{"$f":"IFERROR($E255*SUMIF('Daily Log'!$BJ$18:$BJ$1017,$B255,'Daily Log'!$BK$18:$BK$1017),0)","v":0},{"$f":"IFERROR($E255*SUMIF('Daily Log'!$BM$18:$BM$1017,$B255,'Daily Log'!$BN$18:$BN$1017),0)","v":0},{"$f":"IFERROR($E255*SUMIF('Daily Log'!$BP$18:$BP$1017,$B255,'Daily Log'!$BQ$18:$BQ$1017),0)","v":0},{"$f":"IFERROR($E255*SUMIF('Daily Log'!$BS$18:$BS$1017,$B255,'Daily Log'!$BT$18:$BT$1017),0)","v":0},{"$f":"IFERROR($E255*SUMIF('Daily Log'!$BV$18:$BV$1017,$B255,'Daily Log'!$BW$18:$BW$1017),0)","v":0},{"$f":"IFERROR($E255*SUMIF('Daily Log'!$BY$18:$BY$1017,$B255,'Daily Log'!$BZ$18:$BZ$1017),0)","v":0},{"$f":"IFERROR($E255*SUMIF('Daily Log'!$CB$18:$CB$1017,$B255,'Daily Log'!$CC$18:$CC$1017),0)","v":0},{"$f":"IFERROR($E255*SUMIF('Daily Log'!$CE$18:$CE$1017,$B255,'Daily Log'!$CF$18:$CF$1017),0)","v":0},{"$f":"IFERROR($E255*SUMIF('Daily Log'!$CH$18:$CH$1017,$B255,'Daily Log'!$CI$18:$CI$1017),0)","v":0},{"$f":"IFERROR($E255*SUMIF('Daily Log'!$CK$18:$CK$1017,$B255,'Daily Log'!$CL$18:$CL$1017),0)","v":0},{"$f":"IFERROR($E255*SUMIF('Daily Log'!$CN$18:$CN$1017,$B255,'Daily Log'!$CO$18:$CO$1017),0)","v":0}]
[null,null,null,null,null,0,{"$f":"IFERROR($E256*SUMIF('Daily Log'!$B$18:$B$1017,$B256,'Daily Log'!$C$18:$C$1017),0)","v":0},{"$f":"IFERROR($E256*SUMIF('Daily Log'!$E$18:$E$1017,$B256,'Daily Log'!$F$18:$F$1017),0)","v":0},{"$f":"IFERROR($E256*SUMIF('Daily Log'!$H$18:$H$1017,$B256,'Daily Log'!$I$18:$I$1017),0)","v":0},{"$f":"IFERROR($E256*SUMIF('Daily Log'!$K$18:$K$1017,$B256,'Daily Log'!$L$18:$L$1017),0)","v":0},{"$f":"IFERROR($E256*SUMIF('Daily Log'!$N$18:$N$1017,$B256,'Daily Log'!$O$18:$O$1017),0)","v":0},{"$f":"IFERROR($E256*SUMIF('Daily Log'!$Q$18:$Q$1017,$B256,'Daily Log'!$R$18:$R$1017),0)","v":0},{"$f":"IFERROR($E256*SUMIF('Daily Log'!$T$18:$T$1017,$B256,'Daily Log'!$U$18:$U$1017),0)","v":0},{"$f":"IFERROR($E256*SUMIF('Daily Log'!$W$18:$W$1017,$B256,'Daily Log'!$X$18:$X$1017),0)","v":0},{"$f":"IFERROR($E256*SUMIF('Daily Log'!$Z$18:$Z$1017,$B256,'Daily Log'!$AA$18:$AA$1017),0)","v":0},{"$f":"IFERROR($E256*SUMIF('Daily Log'!$AC$18:$AC$1017,$B256,'Daily Log'!$AD$18:$AD$1017),0)","v":0},{"$f":"IFERROR($E256*SUMIF('Daily Log'!$AF$18:$AF$1017,$B256,'Daily Log'!$AG$18:$AG$1017),0)","v":0},{"$f":"IFERROR($E256*SUMIF('Daily Log'!$AI$18:$AI$1017,$B256,'Daily Log'!$AJ$18:$AJ$1017),0)","v":0},{"$f":"IFERROR($E256*SUMIF('Daily Log'!$AL$18:$AL$1017,$B256,'Daily Log'!$AM$18:$AM$1017),0)","v":0},{"$f":"IFERROR($E256*SUMIF('Daily Log'!$AO$18:$AO$1017,$B256,'Daily Log'!$AP$18:$AP$1017),0)","v":0},{"$f":"IFERROR($E256*SUMIF('Daily Log'!$AR$18:$AR$1017,$B256,'Daily Log'!$AS$18:$AS$1017),0)","v":0},{"$f":"IFERROR($E256*SUMIF('Daily Log'!$AU$18:$AU$1017,$B256,'Daily Log'!$AV$18:$AV$1017),0)","v":0},{"$f":"IFERROR($E256*SUMIF('Daily Log'!$AX$18:$AX$1017,$B256,'Daily Log'!$AY$18:$AY$1017),0)","v":0},{"$f":"IFERROR($E256*SUMIF('Daily Log'!$BA$18:$BA$1017,$B256,'Daily Log'!$BB$18:$BB$1017),0)","v":0},{"$f":"IFERROR($E256*SUMIF('Daily Log'!$BD$18:$BD$1017,$B256,'Daily Log'!$BE$18:$BE$1017),0)","v":0},{"$f":"IFERROR($E256*SUMIF('Daily Log'!$BG$18:$BG$1017,$B256,'Daily Log'!$BH$18:$BH$1017),0)","v":0},{"$f":"IFERROR($E256*SUMIF('Daily Log'!$BJ$18:$BJ$1017,$B256,'Daily Log'!$BK$18:$BK$1017),0)","v":0},{"$f":"IFERROR($E256*SUMIF('Daily Log'!$BM$18:$BM$1017,$B256,'Daily Log'!$BN$18:$BN$1017),0)","v":0},{"$f":"IFERROR($E256*SUMIF('Daily Log'!$BP$18:$BP$1017,$B256,'Daily Log'!$BQ$18:$BQ$1017),0)","v":0},{"$f":"IFERROR($E256*SUMIF('Daily Log'!$BS$18:$BS$1017,$B256,'Daily Log'!$BT$18:$BT$1017),0)","v":0},{"$f":"IFERROR($E256*SUMIF('Daily Log'!$BV$18:$BV$1017,$B256,'Daily Log'!$BW$18:$BW$1017),0)","v":0},{"$f":"IFERROR($E256*SUMIF('Daily Log'!$BY$18:$BY$1017,$B256,'Daily Log'!$BZ$18:$BZ$1017),0)","v":0},{"$f":"IFERROR($E256*SUMIF('Daily Log'!$CB$18:$CB$1017,$B256,'Daily Log'!$CC$18:$CC$1017),0)","v":0},{"$f":"IFERROR($E256*SUMIF('Daily Log'!$CE$18:$CE$1017,$B256,'Daily Log'!$CF$18:$CF$1017),0)","v":0},{"$f":"IFERROR($E256*SUMIF('Daily Log'!$CH$18:$CH$1017,$B256,'Daily Log'!$CI$18:$CI$1017),0)","v":0},{"$f":"IFERROR($E256*SUMIF('Daily Log'!$CK$18:$CK$1017,$B256,'Daily Log'!$CL$18:$CL$1017),0)","v":0},{"$f":"IFERROR($E256*SUMIF('Daily Log'!$CN$18:$CN$1017,$B256,'Daily Log'!$CO$18:$CO$1017),0)","v":0}]
[null,"ZBR03 GUI EX BKT",null,"BEER",4,52,{"$f":"IFERROR($E257*SUMIF('Daily Log'!$B$18:$B$1017,$B257,'Daily Log'!$C$18:$C$1017),0)","v":0},{"$f":"IFERROR($E257*SUMIF('Daily Log'!$E$18:$E$1017,$B257,'Daily Log'!$F$18:$F$1017),0)","v":0},{"$f":"IFERROR($E257*SUMIF('Daily Log'!$H$18:$H$1017,$B257,'Daily Log'!$I$18:$I$1017),0)","v":0},{"$f":"IFERROR($E257*SUMIF('Daily Log'!$K$18:$K$1017,$B257,'Daily Log'!$L$18:$L$1017),0)","v":32},{"$f":"IFERROR($E257*SUMIF('Daily Log'!$N$18:$N$1017,$B257,'Daily Log'!$O$18:$O$1017),0)","v":0},{"$f":"IFERROR($E257*SUMIF('Daily Log'!$Q$18:$Q$1017,$B257,'Daily Log'!$R$18:$R$1017),0)","v":0},{"$f":"IFERROR($E257*SUMIF('Daily Log'!$T$18:$T$1017,$B257,'Daily Log'!$U$18:$U$1017),0)","v":0},{"$f":"IFERROR($E257*SUMIF('Daily Log'!$W$18:$W$1017,$B257,'Daily Log'!$X$18:$X$1017),0)","v":0},{"$f":"IFERROR($E257*SUMIF('Daily Log'!$Z$18:$Z$1017,$B257,'Daily Log'!$AA$18:$AA$1017),0)","v":0},{"$f":"IFERROR($E257*SUMIF('Daily Log'!$AC$18:$AC$1017,$B257,'Daily Log'!$AD$18:$AD$1017),0)","v":0},{"$f":"IFERROR($E257*SUMIF('Daily Log'!$AF$18:$AF$1017,$B257,'Daily Log'!$AG$18:$AG$1017),0)","v":0},{"$f":"IFERROR($E257*SUMIF('Daily Log'!$AI$18:$AI$1017,$B257,'Daily Log'!$AJ$18:$AJ$1017),0)","v":0},{"$f":"IFERROR($E257*SUMIF('Daily Log'!$AL$18:$AL$1017,$B257,'Daily Log'!$AM$18:$AM$1017),0)","v":0},{"$f":"IFERROR($E257*SUMIF('Daily Log'!$AO$18:$AO$1017,$B257,'Daily Log'!$AP$18:$AP$1017),0)","v":0},{"$f":"IFERROR($E257*SUMIF('Daily Log'!$AR$18:$AR$1017,$B257,'Daily Log'!$AS$18:$AS$1017),0)","v":0},{"$f":"IFERROR($E257*SUMIF('Daily Log'!$AU$18:$AU$1017,$B257,'Daily Log'!$AV$18:$AV$1017),0)","v":0},{"$f":"IFERROR($E257*SUMIF('Daily Log'!$AX$18:$AX$1017,$B257,'Daily Log'!$AY$18:$AY$1017),0)","v":4},{"$f":"IFERROR($E257*SUMIF('Daily Log'!$BA$18:$BA$1017,$B257,'Daily Log'!$BB$18:$BB$1017),0)","v":4},{"$f":"IFERROR($E257*SUMIF('Daily Log'!$BD$18:$BD$1017,$B257,'Daily Log'!$BE$18:$BE$1017),0)","v":0},{"$f":"IFERROR($E257*SUMIF('Daily Log'!$BG$18:$BG$1017,$B257,'Daily Log'!$BH$18:$BH$1017),0)","v":0},{"$f":"IFERROR($E257*SUMIF('Daily Log'!$BJ$18:$BJ$1017,$B257,'Daily Log'!$BK$18:$BK$1017),0)","v":0},{"$f":"IFERROR($E257*SUMIF('Daily Log'!$BM$18:$BM$1017,$B257,'Daily Log'!$BN$18:$BN$1017),0)","v":0},{"$f":"IFERROR($E257*SUMIF('Daily Log'!$BP$18:$BP$1017,$B257,'Daily Log'!$BQ$18:$BQ$1017),0)","v":0},{"$f":"IFERROR($E257*SUMIF('Daily Log'!$BS$18:$BS$1017,$B257,'Daily Log'!$BT$18:$BT$1017),0)","v":0},{"$f":"IFERROR($E257*SUMIF('Daily Log'!$BV$18:$BV$1017,$B257,'Daily Log'!$BW$18:$BW$1017),0)","v":0},{"$f":"IFERROR($E257*SUMIF('Daily Log'!$BY$18:$BY$1017,$B257,'Daily Log'!$BZ$18:$BZ$1017),0)","v":0},{"$f":"IFERROR($E257*SUMIF('Daily Log'!$CB$18:$CB$1017,$B257,'Daily Log'!$CC$18:$CC$1017),0)","v":12},{"$f":"IFERROR($E257*SUMIF('Daily Log'!$CE$18:$CE$1017,$B257,'Daily Log'!$CF$18:$CF$1017),0)","v":0},{"$f":"IFERROR($E257*SUMIF('Daily Log'!$CH$18:$CH$1017,$B257,'Daily Log'!$CI$18:$CI$1017),0)","v":0},{"$f":"IFERROR($E257*SUMIF('Daily Log'!$CK$18:$CK$1017,$B257,'Daily Log'!$CL$18:$CL$1017),0)","v":0},{"$f":"IFERROR($E257*SUMIF('Daily Log'!$CN$18:$CN$1017,$B257,'Daily Log'!$CO$18:$CO$1017),0)","v":0}]
[null,null,null,null,null,null,{"$f":"IFERROR($E258*SUMIF('Daily Log'!$B$18:$B$1017,$B258,'Daily Log'!$C$18:$C$1017),0)","v":0},{"$f":"IFERROR($E258*SUMIF('Daily Log'!$E$18:$E$1017,$B258,'Daily Log'!$F$18:$F$1017),0)","v":0},{"$f":"IFERROR($E258*SUMIF('Daily Log'!$H$18:$H$1017,$B258,'Daily Log'!$I$18:$I$1017),0)","v":0},{"$f":"IFERROR($E258*SUMIF('Daily Log'!$K$18:$K$1017,$B258,'Daily Log'!$L$18:$L$1017),0)","v":0},{"$f":"IFERROR($E258*SUMIF('Daily Log'!$N$18:$N$1017,$B258,'Daily Log'!$O$18:$O$1017),0)","v":0},{"$f":"IFERROR($E258*SUMIF('Daily Log'!$Q$18:$Q$1017,$B258,'Daily Log'!$R$18:$R$1017),0)","v":0},{"$f":"IFERROR($E258*SUMIF('Daily Log'!$T$18:$T$1017,$B258,'Daily Log'!$U$18:$U$1017),0)","v":0},{"$f":"IFERROR($E258*SUMIF('Daily Log'!$W$18:$W$1017,$B258,'Daily Log'!$X$18:$X$1017),0)","v":0},{"$f":"IFERROR($E258*SUMIF('Daily Log'!$Z$18:$Z$1017,$B258,'Daily Log'!$AA$18:$AA$1017),0)","v":0},{"$f":"IFERROR($E258*SUMIF('Daily Log'!$AC$18:$AC$1017,$B258,'Daily Log'!$AD$18:$AD$1017),0)","v":0},{"$f":"IFERROR($E258*SUMIF('Daily Log'!$AF$18:$AF$1017,$B258,'Daily Log'!$AG$18:$AG$1017),0)","v":0},{"$f":"IFERROR($E258*SUMIF('Daily Log'!$AI$18:$AI$1017,$B258,'Daily Log'!$AJ$18:$AJ$1017),0)","v":0},{"$f":"IFERROR($E258*SUMIF('Daily Log'!$AL$18:$AL$1017,$B258,'Daily Log'!$AM$18:$AM$1017),0)","v":0},{"$f":"IFERROR($E258*SUMIF('Daily Log'!$AO$18:$AO$1017,$B258,'Daily Log'!$AP$18:$AP$1017),0)","v":0},{"$f":"IFERROR($E258*SUMIF('Daily Log'!$AR$18:$AR$1017,$B258,'Daily Log'!$AS$18:$AS$1017),0)","v":0},{"$f":"IFERROR($E258*SUMIF('Daily Log'!$AU$18:$AU$1017,$B258,'Daily Log'!$AV$18:$AV$1017),0)","v":0},{"$f":"IFERROR($E258*SUMIF('Daily Log'!$AX$18:$AX$1017,$B258,'Daily Log'!$AY$18:$AY$1017),0)","v":0},{"$f":"IFERROR($E258*SUMIF('Daily Log'!$BA$18:$BA$1017,$B258,'Daily Log'!$BB$18:$BB$1017),0)","v":0},{"$f":"IFERROR($E258*SUMIF('Daily Log'!$BD$18:$BD$1017,$B258,'Daily Log'!$BE$18:$BE$1017),0)","v":0},{"$f":"IFERROR($E258*SUMIF('Daily Log'!$BG$18:$BG$1017,$B258,'Daily Log'!$BH$18:$BH$1017),0)","v":0},{"$f":"IFERROR($E258*SUMIF('Daily Log'!$BJ$18:$BJ$1017,$B258,'Daily Log'!$BK$18:$BK$1017),0)","v":0},{"$f":"IFERROR($E258*SUMIF('Daily Log'!$BM$18:$BM$1017,$B258,'Daily Log'!$BN$18:$BN$1017),0)","v":0},{"$f":"IFERROR($E258*SUMIF('Daily Log'!$BP$18:$BP$1017,$B258,'Daily Log'!$BQ$18:$BQ$1017),0)","v":0},{"$f":"IFERROR($E258*SUMIF('Daily Log'!$BS$18:$BS$1017,$B258,'Daily Log'!$BT$18:$BT$1017),0)","v":0},{"$f":"IFERROR($E258*SUMIF('Daily Log'!$BV$18:$BV$1017,$B258,'Daily Log'!$BW$18:$BW$1017),0)","v":0},{"$f":"IFERROR($E258*SUMIF('Daily Log'!$BY$18:$BY$1017,$B258,'Daily Log'!$BZ$18:$BZ$1017),0)","v":0},{"$f":"IFERROR($E258*SUMIF('Daily Log'!$CB$18:$CB$1017,$B258,'Daily Log'!$CC$18:$CC$1017),0)","v":0},{"$f":"IFERROR($E258*SUMIF('Daily Log'!$CE$18:$CE$1017,$B258,'Daily Log'!$CF$18:$CF$1017),0)","v":0},{"$f":"IFERROR($E258*SUMIF('Daily Log'!$CH$18:$CH$1017,$B258,'Daily Log'!$CI$18:$CI$1017),0)","v":0},{"$f":"IFERROR($E258*SUMIF('Daily Log'!$CK$18:$CK$1017,$B258,'Daily Log'!$CL$18:$CL$1017),0)","v":0},{"$f":"IFERROR($E258*SUMIF('Daily Log'!$CN$18:$CN$1017,$B258,'Daily Log'!$CO$18:$CO$1017),0)","v":0}]
[null,null,null,null,null,null,{"$f":"IFERROR($E259*SUMIF('Daily Log'!$B$18:$B$1017,$B259,'Daily Log'!$C$18:$C$1017),0)","v":0},{"$f":"IFERROR($E259*SUMIF('Daily Log'!$E$18:$E$1017,$B259,'Daily Log'!$F$18:$F$1017),0)","v":0},{"$f":"IFERROR($E259*SUMIF('Daily Log'!$H$18:$H$1017,$B259,'Daily Log'!$I$18:$I$1017),0)","v":0},{"$f":"IFERROR($E259*SUMIF('Daily Log'!$K$18:$K$1017,$B259,'Daily Log'!$L$18:$L$1017),0)","v":0},{"$f":"IFERROR($E259*SUMIF('Daily Log'!$N$18:$N$1017,$B259,'Daily Log'!$O$18:$O$1017),0)","v":0},{"$f":"IFERROR($E259*SUMIF('Daily Log'!$Q$18:$Q$1017,$B259,'Daily Log'!$R$18:$R$1017),0)","v":0},{"$f":"IFERROR($E259*SUMIF('Daily Log'!$T$18:$T$1017,$B259,'Daily Log'!$U$18:$U$1017),0)","v":0},{"$f":"IFERROR($E259*SUMIF('Daily Log'!$W$18:$W$1017,$B259,'Daily Log'!$X$18:$X$1017),0)","v":0},{"$f":"IFERROR($E259*SUMIF('Daily Log'!$Z$18:$Z$1017,$B259,'Daily Log'!$AA$18:$AA$1017),0)","v":0},{"$f":"IFERROR($E259*SUMIF('Daily Log'!$AC$18:$AC$1017,$B259,'Daily Log'!$AD$18:$AD$1017),0)","v":0},{"$f":"IFERROR($E259*SUMIF('Daily Log'!$AF$18:$AF$1017,$B259,'Daily Log'!$AG$18:$AG$1017),0)","v":0},{"$f":"IFERROR($E259*SUMIF('Daily Log'!$AI$18:$AI$1017,$B259,'Daily Log'!$AJ$18:$AJ$1017),0)","v":0},{"$f":"IFERROR($E259*SUMIF('Daily Log'!$AL$18:$AL$1017,$B259,'Daily Log'!$AM$18:$AM$1017),0)","v":0},{"$f":"IFERROR($E259*SUMIF('Daily Log'!$AO$18:$AO$1017,$B259,'Daily Log'!$AP$18:$AP$1017),0)","v":0},{"$f":"IFERROR($E259*SUMIF('Daily Log'!$AR$18:$AR$1017,$B259,'Daily Log'!$AS$18:$AS$1017),0)","v":0},{"$f":"IFERROR($E259*SUMIF('Daily Log'!$AU$18:$AU$1017,$B259,'Daily Log'!$AV$18:$AV$1017),0)","v":0},{"$f":"IFERROR($E259*SUMIF('Daily Log'!$AX$18:$AX$1017,$B259,'Daily Log'!$AY$18:$AY$1017),0)","v":0},{"$f":"IFERROR($E259*SUMIF('Daily Log'!$BA$18:$BA$1017,$B259,'Daily Log'!$BB$18:$BB$1017),0)","v":0},{"$f":"IFERROR($E259*SUMIF('Daily Log'!$BD$18:$BD$1017,$B259,'Daily Log'!$BE$18:$BE$1017),0)","v":0},{"$f":"IFERROR($E259*SUMIF('Daily Log'!$BG$18:$BG$1017,$B259,'Daily Log'!$BH$18:$BH$1017),0)","v":0},{"$f":"IFERROR($E259*SUMIF('Daily Log'!$BJ$18:$BJ$1017,$B259,'Daily Log'!$BK$18:$BK$1017),0)","v":0},{"$f":"IFERROR($E259*SUMIF('Daily Log'!$BM$18:$BM$1017,$B259,'Daily Log'!$BN$18:$BN$1017),0)","v":0},{"$f":"IFERROR($E259*SUMIF('Daily Log'!$BP$18:$BP$1017,$B259,'Daily Log'!$BQ$18:$BQ$1017),0)","v":0},{"$f":"IFERROR($E259*SUMIF('Daily Log'!$BS$18:$BS$1017,$B259,'Daily Log'!$BT$18:$BT$1017),0)","v":0},{"$f":"IFERROR($E259*SUMIF('Daily Log'!$BV$18:$BV$1017,$B259,'Daily Log'!$BW$18:$BW$1017),0)","v":0},{"$f":"IFERROR($E259*SUMIF('Daily Log'!$BY$18:$BY$1017,$B259,'Daily Log'!$BZ$18:$BZ$1017),0)","v":0},{"$f":"IFERROR($E259*SUMIF('Daily Log'!$CB$18:$CB$1017,$B259,'Daily Log'!$CC$18:$CC$1017),0)","v":0},{"$f":"IFERROR($E259*SUMIF('Daily Log'!$CE$18:$CE$1017,$B259,'Daily Log'!$CF$18:$CF$1017),0)","v":0},{"$f":"IFERROR($E259*SUMIF('Daily Log'!$CH$18:$CH$1017,$B259,'Daily Log'!$CI$18:$CI$1017),0)","v":0},{"$f":"IFERROR($E259*SUMIF('Daily Log'!$CK$18:$CK$1017,$B259,'Daily Log'!$CL$18:$CL$1017),0)","v":0},{"$f":"IFERROR($E259*SUMIF('Daily Log'!$CN$18:$CN$1017,$B259,'Daily Log'!$CO$18:$CO$1017),0)","v":0}]
[null,null,null,null,null,null,{"$f":"IFERROR($E260*SUMIF('Daily Log'!$B$18:$B$1017,$B260,'Daily Log'!$C$18:$C$1017),0)","v":0},{"$f":"IFERROR($E260*SUMIF('Daily Log'!$E$18:$E$1017,$B260,'Daily Log'!$F$18:$F$1017),0)","v":0},{"$f":"IFERROR($E260*SUMIF('Daily Log'!$H$18:$H$1017,$B260,'Daily Log'!$I$18:$I$1017),0)","v":0},{"$f":"IFERROR($E260*SUMIF('Daily Log'!$K$18:$K$1017,$B260,'Daily Log'!$L$18:$L$1017),0)","v":0},{"$f":"IFERROR($E260*SUMIF('Daily Log'!$N$18:$N$1017,$B260,'Daily Log'!$O$18:$O$1017),0)","v":0},{"$f":"IFERROR($E260*SUMIF('Daily Log'!$Q$18:$Q$1017,$B260,'Daily Log'!$R$18:$R$1017),0)","v":0},{"$f":"IFERROR($E260*SUMIF('Daily Log'!$T$18:$T$1017,$B260,'Daily Log'!$U$18:$U$1017),0)","v":0},{"$f":"IFERROR($E260*SUMIF('Daily Log'!$W$18:$W$1017,$B260,'Daily Log'!$X$18:$X$1017),0)","v":0},{"$f":"IFERROR($E260*SUMIF('Daily Log'!$Z$18:$Z$1017,$B260,'Daily Log'!$AA$18:$AA$1017),0)","v":0},{"$f":"IFERROR($E260*SUMIF('Daily Log'!$AC$18:$AC$1017,$B260,'Daily Log'!$AD$18:$AD$1017),0)","v":0},{"$f":"IFERROR($E260*SUMIF('Daily Log'!$AF$18:$AF$1017,$B260,'Daily Log'!$AG$18:$AG$1017),0)","v":0},{"$f":"IFERROR($E260*SUMIF('Daily Log'!$AI$18:$AI$1017,$B260,'Daily Log'!$AJ$18:$AJ$1017),0)","v":0},{"$f":"IFERROR($E260*SUMIF('Daily Log'!$AL$18:$AL$1017,$B260,'Daily Log'!$AM$18:$AM$1017),0)","v":0},{"$f":"IFERROR($E260*SUMIF('Daily Log'!$AO$18:$AO$1017,$B260,'Daily Log'!$AP$18:$AP$1017),0)","v":0},{"$f":"IFERROR($E260*SUMIF('Daily Log'!$AR$18:$AR$1017,$B260,'Daily Log'!$AS$18:$AS$1017),0)","v":0},{"$f":"IFERROR($E260*SUMIF('Daily Log'!$AU$18:$AU$1017,$B260,'Daily Log'!$AV$18:$AV$1017),0)","v":0},{"$f":"IFERROR($E260*SUMIF('Daily Log'!$AX$18:$AX$1017,$B260,'Daily Log'!$AY$18:$AY$1017),0)","v":0},{"$f":"IFERROR($E260*SUMIF('Daily Log'!$BA$18:$BA$1017,$B260,'Daily Log'!$BB$18:$BB$1017),0)","v":0},{"$f":"IFERROR($E260*SUMIF('Daily Log'!$BD$18:$BD$1017,$B260,'Daily Log'!$BE$18:$BE$1017),0)","v":0},{"$f":"IFERROR($E260*SUMIF('Daily Log'!$BG$18:$BG$1017,$B260,'Daily Log'!$BH$18:$BH$1017),0)","v":0},{"$f":"IFERROR($E260*SUMIF('Daily Log'!$BJ$18:$BJ$1017,$B260,'Daily Log'!$BK$18:$BK$1017),0)","v":0},{"$f":"IFERROR($E260*SUMIF('Daily Log'!$BM$18:$BM$1017,$B260,'Daily Log'!$BN$18:$BN$1017),0)","v":0},{"$f":"IFERROR($E260*SUMIF('Daily Log'!$BP$18:$BP$1017,$B260,'Daily Log'!$BQ$18:$BQ$1017),0)","v":0},{"$f":"IFERROR($E260*SUMIF('Daily Log'!$BS$18:$BS$1017,$B260,'Daily Log'!$BT$18:$BT$1017),0)","v":0},{"$f":"IFERROR($E260*SUMIF('Daily Log'!$BV$18:$BV$1017,$B260,'Daily Log'!$BW$18:$BW$1017),0)","v":0},{"$f":"IFERROR($E260*SUMIF('Daily Log'!$BY$18:$BY$1017,$B260,'Daily Log'!$BZ$18:$BZ$1017),0)","v":0},{"$f":"IFERROR($E260*SUMIF('Daily Log'!$CB$18:$CB$1017,$B260,'Daily Log'!$CC$18:$CC$1017),0)","v":0},{"$f":"IFERROR($E260*SUMIF('Daily Log'!$CE$18:$CE$1017,$B260,'Daily Log'!$CF$18:$CF$1017),0)","v":0},{"$f":"IFERROR($E260*SUMIF('Daily Log'!$CH$18:$CH$1017,$B260,'Daily Log'!$CI$18:$CI$1017),0)","v":0},{"$f":"IFERROR($E260*SUMIF('Daily Log'!$CK$18:$CK$1017,$B260,'Daily Log'!$CL$18:$CL$1017),0)","v":0},{"$f":"IFERROR($E260*SUMIF('Daily Log'!$CN$18:$CN$1017,$B260,'Daily Log'!$CO$18:$CO$1017),0)","v":0}]
[null,null,null,null,null,null,{"$f":"IFERROR($E261*SUMIF('Daily Log'!$B$18:$B$1017,$B261,'Daily Log'!$C$18:$C$1017),0)","v":0},{"$f":"IFERROR($E261*SUMIF('Daily Log'!$E$18:$E$1017,$B261,'Daily Log'!$F$18:$F$1017),0)","v":0},{"$f":"IFERROR($E261*SUMIF('Daily Log'!$H$18:$H$1017,$B261,'Daily Log'!$I$18:$I$1017),0)","v":0},{"$f":"IFERROR($E261*SUMIF('Daily Log'!$K$18:$K$1017,$B261,'Daily Log'!$L$18:$L$1017),0)","v":0},{"$f":"IFERROR($E261*SUMIF('Daily Log'!$N$18:$N$1017,$B261,'Daily Log'!$O$18:$O$1017),0)","v":0},{"$f":"IFERROR($E261*SUMIF('Daily Log'!$Q$18:$Q$1017,$B261,'Daily Log'!$R$18:$R$1017),0)","v":0},{"$f":"IFERROR($E261*SUMIF('Daily Log'!$T$18:$T$1017,$B261,'Daily Log'!$U$18:$U$1017),0)","v":0},{"$f":"IFERROR($E261*SUMIF('Daily Log'!$W$18:$W$1017,$B261,'Daily Log'!$X$18:$X$1017),0)","v":0},{"$f":"IFERROR($E261*SUMIF('Daily Log'!$Z$18:$Z$1017,$B261,'Daily Log'!$AA$18:$AA$1017),0)","v":0},{"$f":"IFERROR($E261*SUMIF('Daily Log'!$AC$18:$AC$1017,$B261,'Daily Log'!$AD$18:$AD$1017),0)","v":0},{"$f":"IFERROR($E261*SUMIF('Daily Log'!$AF$18:$AF$1017,$B261,'Daily Log'!$AG$18:$AG$1017),0)","v":0},{"$f":"IFERROR($E261*SUMIF('Daily Log'!$AI$18:$AI$1017,$B261,'Daily Log'!$AJ$18:$AJ$1017),0)","v":0},{"$f":"IFERROR($E261*SUMIF('Daily Log'!$AL$18:$AL$1017,$B261,'Daily Log'!$AM$18:$AM$1017),0)","v":0},{"$f":"IFERROR($E261*SUMIF('Daily Log'!$AO$18:$AO$1017,$B261,'Daily Log'!$AP$18:$AP$1017),0)","v":0},{"$f":"IFERROR($E261*SUMIF('Daily Log'!$AR$18:$AR$1017,$B261,'Daily Log'!$AS$18:$AS$1017),0)","v":0},{"$f":"IFERROR($E261*SUMIF('Daily Log'!$AU$18:$AU$1017,$B261,'Daily Log'!$AV$18:$AV$1017),0)","v":0},{"$f":"IFERROR($E261*SUMIF('Daily Log'!$AX$18:$AX$1017,$B261,'Daily Log'!$AY$18:$AY$1017),0)","v":0},{"$f":"IFERROR($E261*SUMIF('Daily Log'!$BA$18:$BA$1017,$B261,'Daily Log'!$BB$18:$BB$1017),0)","v":0},{"$f":"IFERROR($E261*SUMIF('Daily Log'!$BD$18:$BD$1017,$B261,'Daily Log'!$BE$18:$BE$1017),0)","v":0},{"$f":"IFERROR($E261*SUMIF('Daily Log'!$BG$18:$BG$1017,$B261,'Daily Log'!$BH$18:$BH$1017),0)","v":0},{"$f":"IFERROR($E261*SUMIF('Daily Log'!$BJ$18:$BJ$1017,$B261,'Daily Log'!$BK$18:$BK$1017),0)","v":0},{"$f":"IFERROR($E261*SUMIF('Daily Log'!$BM$18:$BM$1017,$B261,'Daily Log'!$BN$18:$BN$1017),0)","v":0},{"$f":"IFERROR($E261*SUMIF('Daily Log'!$BP$18:$BP$1017,$B261,'Daily Log'!$BQ$18:$BQ$1017),0)","v":0},{"$f":"IFERROR($E261*SUMIF('Daily Log'!$BS$18:$BS$1017,$B261,'Daily Log'!$BT$18:$BT$1017),0)","v":0},{"$f":"IFERROR($E261*SUMIF('Daily Log'!$BV$18:$BV$1017,$B261,'Daily Log'!$BW$18:$BW$1017),0)","v":0},{"$f":"IFERROR($E261*SUMIF('Daily Log'!$BY$18:$BY$1017,$B261,'Daily Log'!$BZ$18:$BZ$1017),0)","v":0},{"$f":"IFERROR($E261*SUMIF('Daily Log'!$CB$18:$CB$1017,$B261,'Daily Log'!$CC$18:$CC$1017),0)","v":0},{"$f":"IFERROR($E261*SUMIF('Daily Log'!$CE$18:$CE$1017,$B261,'Daily Log'!$CF$18:$CF$1017),0)","v":0},{"$f":"IFERROR($E261*SUMIF('Daily Log'!$CH$18:$CH$1017,$B261,'Daily Log'!$CI$18:$CI$1017),0)","v":0},{"$f":"IFERROR($E261*SUMIF('Daily Log'!$CK$18:$CK$1017,$B261,'Daily Log'!$CL$18:$CL$1017),0)","v":0},{"$f":"IFERROR($E261*SUMIF('Daily Log'!$CN$18:$CN$1017,$B261,'Daily Log'!$CO$18:$CO$1017),0)","v":0}]
[null,null,null,null,null,null,{"$f":"IFERROR($E262*SUMIF('Daily Log'!$B$18:$B$1017,$B262,'Daily Log'!$C$18:$C$1017),0)","v":0},{"$f":"IFERROR($E262*SUMIF('Daily Log'!$E$18:$E$1017,$B262,'Daily Log'!$F$18:$F$1017),0)","v":0},{"$f":"IFERROR($E262*SUMIF('Daily Log'!$H$18:$H$1017,$B262,'Daily Log'!$I$18:$I$1017),0)","v":0},{"$f":"IFERROR($E262*SUMIF('Daily Log'!$K$18:$K$1017,$B262,'Daily Log'!$L$18:$L$1017),0)","v":0},{"$f":"IFERROR($E262*SUMIF('Daily Log'!$N$18:$N$1017,$B262,'Daily Log'!$O$18:$O$1017),0)","v":0},{"$f":"IFERROR($E262*SUMIF('Daily Log'!$Q$18:$Q$1017,$B262,'Daily Log'!$R$18:$R$1017),0)","v":0},{"$f":"IFERROR($E262*SUMIF('Daily Log'!$T$18:$T$1017,$B262,'Daily Log'!$U$18:$U$1017),0)","v":0},{"$f":"IFERROR($E262*SUMIF('Daily Log'!$W$18:$W$1017,$B262,'Daily Log'!$X$18:$X$1017),0)","v":0},{"$f":"IFERROR($E262*SUMIF('Daily Log'!$Z$18:$Z$1017,$B262,'Daily Log'!$AA$18:$AA$1017),0)","v":0},{"$f":"IFERROR($E262*SUMIF('Daily Log'!$AC$18:$AC$1017,$B262,'Daily Log'!$AD$18:$AD$1017),0)","v":0},{"$f":"IFERROR($E262*SUMIF('Daily Log'!$AF$18:$AF$1017,$B262,'Daily Log'!$AG$18:$AG$1017),0)","v":0},{"$f":"IFERROR($E262*SUMIF('Daily Log'!$AI$18:$AI$1017,$B262,'Daily Log'!$AJ$18:$AJ$1017),0)","v":0},{"$f":"IFERROR($E262*SUMIF('Daily Log'!$AL$18:$AL$1017,$B262,'Daily Log'!$AM$18:$AM$1017),0)","v":0},{"$f":"IFERROR($E262*SUMIF('Daily Log'!$AO$18:$AO$1017,$B262,'Daily Log'!$AP$18:$AP$1017),0)","v":0},{"$f":"IFERROR($E262*SUMIF('Daily Log'!$AR$18:$AR$1017,$B262,'Daily Log'!$AS$18:$AS$1017),0)","v":0},{"$f":"IFERROR($E262*SUMIF('Daily Log'!$AU$18:$AU$1017,$B262,'Daily Log'!$AV$18:$AV$1017),0)","v":0},{"$f":"IFERROR($E262*SUMIF('Daily Log'!$AX$18:$AX$1017,$B262,'Daily Log'!$AY$18:$AY$1017),0)","v":0},{"$f":"IFERROR($E262*SUMIF('Daily Log'!$BA$18:$BA$1017,$B262,'Daily Log'!$BB$18:$BB$1017),0)","v":0},{"$f":"IFERROR($E262*SUMIF('Daily Log'!$BD$18:$BD$1017,$B262,'Daily Log'!$BE$18:$BE$1017),0)","v":0},{"$f":"IFERROR($E262*SUMIF('Daily Log'!$BG$18:$BG$1017,$B262,'Daily Log'!$BH$18:$BH$1017),0)","v":0},{"$f":"IFERROR($E262*SUMIF('Daily Log'!$BJ$18:$BJ$1017,$B262,'Daily Log'!$BK$18:$BK$1017),0)","v":0},{"$f":"IFERROR($E262*SUMIF('Daily Log'!$BM$18:$BM$1017,$B262,'Daily Log'!$BN$18:$BN$1017),0)","v":0},{"$f":"IFERROR($E262*SUMIF('Daily Log'!$BP$18:$BP$1017,$B262,'Daily Log'!$BQ$18:$BQ$1017),0)","v":0},{"$f":"IFERROR($E262*SUMIF('Daily Log'!$BS$18:$BS$1017,$B262,'Daily Log'!$BT$18:$BT$1017),0)","v":0},{"$f":"IFERROR($E262*SUMIF('Daily Log'!$BV$18:$BV$1017,$B262,'Daily Log'!$BW$18:$BW$1017),0)","v":0},{"$f":"IFERROR($E262*SUMIF('Daily Log'!$BY$18:$BY$1017,$B262,'Daily Log'!$BZ$18:$BZ$1017),0)","v":0},{"$f":"IFERROR($E262*SUMIF('Daily Log'!$CB$18:$CB$1017,$B262,'Daily Log'!$CC$18:$CC$1017),0)","v":0},{"$f":"IFERROR($E262*SUMIF('Daily Log'!$CE$18:$CE$1017,$B262,'Daily Log'!$CF$18:$CF$1017),0)","v":0},{"$f":"IFERROR($E262*SUMIF('Daily Log'!$CH$18:$CH$1017,$B262,'Daily Log'!$CI$18:$CI$1017),0)","v":0},{"$f":"IFERROR($E262*SUMIF('Daily Log'!$CK$18:$CK$1017,$B262,'Daily Log'!$CL$18:$CL$1017),0)","v":0},{"$f":"IFERROR($E262*SUMIF('Daily Log'!$CN$18:$CN$1017,$B262,'Daily Log'!$CO$18:$CO$1017),0)","v":0}]
[null,null,null,null,null,null,{"$f":"IFERROR($E263*SUMIF('Daily Log'!$B$18:$B$1017,$B263,'Daily Log'!$C$18:$C$1017),0)","v":0},{"$f":"IFERROR($E263*SUMIF('Daily Log'!$E$18:$E$1017,$B263,'Daily Log'!$F$18:$F$1017),0)","v":0},{"$f":"IFERROR($E263*SUMIF('Daily Log'!$H$18:$H$1017,$B263,'Daily Log'!$I$18:$I$1017),0)","v":0},{"$f":"IFERROR($E263*SUMIF('Daily Log'!$K$18:$K$1017,$B263,'Daily Log'!$L$18:$L$1017),0)","v":0},{"$f":"IFERROR($E263*SUMIF('Daily Log'!$N$18:$N$1017,$B263,'Daily Log'!$O$18:$O$1017),0)","v":0},{"$f":"IFERROR($E263*SUMIF('Daily Log'!$Q$18:$Q$1017,$B263,'Daily Log'!$R$18:$R$1017),0)","v":0},{"$f":"IFERROR($E263*SUMIF('Daily Log'!$T$18:$T$1017,$B263,'Daily Log'!$U$18:$U$1017),0)","v":0},{"$f":"IFERROR($E263*SUMIF('Daily Log'!$W$18:$W$1017,$B263,'Daily Log'!$X$18:$X$1017),0)","v":0},{"$f":"IFERROR($E263*SUMIF('Daily Log'!$Z$18:$Z$1017,$B263,'Daily Log'!$AA$18:$AA$1017),0)","v":0},{"$f":"IFERROR($E263*SUMIF('Daily Log'!$AC$18:$AC$1017,$B263,'Daily Log'!$AD$18:$AD$1017),0)","v":0},{"$f":"IFERROR($E263*SUMIF('Daily Log'!$AF$18:$AF$1017,$B263,'Daily Log'!$AG$18:$AG$1017),0)","v":0},{"$f":"IFERROR($E263*SUMIF('Daily Log'!$AI$18:$AI$1017,$B263,'Daily Log'!$AJ$18:$AJ$1017),0)","v":0},{"$f":"IFERROR($E263*SUMIF('Daily Log'!$AL$18:$AL$1017,$B263,'Daily Log'!$AM$18:$AM$1017),0)","v":0},{"$f":"IFERROR($E263*SUMIF('Daily Log'!$AO$18:$AO$1017,$B263,'Daily Log'!$AP$18:$AP$1017),0)","v":0},{"$f":"IFERROR($E263*SUMIF('Daily Log'!$AR$18:$AR$1017,$B263,'Daily Log'!$AS$18:$AS$1017),0)","v":0},{"$f":"IFERROR($E263*SUMIF('Daily Log'!$AU$18:$AU$1017,$B263,'Daily Log'!$AV$18:$AV$1017),0)","v":0},{"$f":"IFERROR($E263*SUMIF('Daily Log'!$AX$18:$AX$1017,$B263,'Daily Log'!$AY$18:$AY$1017),0)","v":0},{"$f":"IFERROR($E263*SUMIF('Daily Log'!$BA$18:$BA$1017,$B263,'Daily Log'!$BB$18:$BB$1017),0)","v":0},{"$f":"IFERROR($E263*SUMIF('Daily Log'!$BD$18:$BD$1017,$B263,'Daily Log'!$BE$18:$BE$1017),0)","v":0},{"$f":"IFERROR($E263*SUMIF('Daily Log'!$BG$18:$BG$1017,$B263,'Daily Log'!$BH$18:$BH$1017),0)","v":0},{"$f":"IFERROR($E263*SUMIF('Daily Log'!$BJ$18:$BJ$1017,$B263,'Daily Log'!$BK$18:$BK$1017),0)","v":0},{"$f":"IFERROR($E263*SUMIF('Daily Log'!$BM$18:$BM$1017,$B263,'Daily Log'!$BN$18:$BN$1017),0)","v":0},{"$f":"IFERROR($E263*SUMIF('Daily Log'!$BP$18:$BP$1017,$B263,'Daily Log'!$BQ$18:$BQ$1017),0)","v":0},{"$f":"IFERROR($E263*SUMIF('Daily Log'!$BS$18:$BS$1017,$B263,'Daily Log'!$BT$18:$BT$1017),0)","v":0},{"$f":"IFERROR($E263*SUMIF('Daily Log'!$BV$18:$BV$1017,$B263,'Daily Log'!$BW$18:$BW$1017),0)","v":0},{"$f":"IFERROR($E263*SUMIF('Daily Log'!$BY$18:$BY$1017,$B263,'Daily Log'!$BZ$18:$BZ$1017),0)","v":0},{"$f":"IFERROR($E263*SUMIF('Daily Log'!$CB$18:$CB$1017,$B263,'Daily Log'!$CC$18:$CC$1017),0)","v":0},{"$f":"IFERROR($E263*SUMIF('Daily Log'!$CE$18:$CE$1017,$B263,'Daily Log'!$CF$18:$CF$1017),0)","v":0},{"$f":"IFERROR($E263*SUMIF('Daily Log'!$CH$18:$CH$1017,$B263,'Daily Log'!$CI$18:$CI$1017),0)","v":0},{"$f":"IFERROR($E263*SUMIF('Daily Log'!$CK$18:$CK$1017,$B263,'Daily Log'!$CL$18:$CL$1017),0)","v":0},{"$f":"IFERROR($E263*SUMIF('Daily Log'!$CN$18:$CN$1017,$B263,'Daily Log'!$CO$18:$CO$1017),0)","v":0}]
[null,null,null,null,null,null,{"$f":"IFERROR($E264*SUMIF('Daily Log'!$B$18:$B$1017,$B264,'Daily Log'!$C$18:$C$1017),0)","v":0},{"$f":"IFERROR($E264*SUMIF('Daily Log'!$E$18:$E$1017,$B264,'Daily Log'!$F$18:$F$1017),0)","v":0},{"$f":"IFERROR($E264*SUMIF('Daily Log'!$H$18:$H$1017,$B264,'Daily Log'!$I$18:$I$1017),0)","v":0},{"$f":"IFERROR($E264*SUMIF('Daily Log'!$K$18:$K$1017,$B264,'Daily Log'!$L$18:$L$1017),0)","v":0},{"$f":"IFERROR($E264*SUMIF('Daily Log'!$N$18:$N$1017,$B264,'Daily Log'!$O$18:$O$1017),0)","v":0},{"$f":"IFERROR($E264*SUMIF('Daily Log'!$Q$18:$Q$1017,$B264,'Daily Log'!$R$18:$R$1017),0)","v":0},{"$f":"IFERROR($E264*SUMIF('Daily Log'!$T$18:$T$1017,$B264,'Daily Log'!$U$18:$U$1017),0)","v":0},{"$f":"IFERROR($E264*SUMIF('Daily Log'!$W$18:$W$1017,$B264,'Daily Log'!$X$18:$X$1017),0)","v":0},{"$f":"IFERROR($E264*SUMIF('Daily Log'!$Z$18:$Z$1017,$B264,'Daily Log'!$AA$18:$AA$1017),0)","v":0},{"$f":"IFERROR($E264*SUMIF('Daily Log'!$AC$18:$AC$1017,$B264,'Daily Log'!$AD$18:$AD$1017),0)","v":0},{"$f":"IFERROR($E264*SUMIF('Daily Log'!$AF$18:$AF$1017,$B264,'Daily Log'!$AG$18:$AG$1017),0)","v":0},{"$f":"IFERROR($E264*SUMIF('Daily Log'!$AI$18:$AI$1017,$B264,'Daily Log'!$AJ$18:$AJ$1017),0)","v":0},{"$f":"IFERROR($E264*SUMIF('Daily Log'!$AL$18:$AL$1017,$B264,'Daily Log'!$AM$18:$AM$1017),0)","v":0},{"$f":"IFERROR($E264*SUMIF('Daily Log'!$AO$18:$AO$1017,$B264,'Daily Log'!$AP$18:$AP$1017),0)","v":0},{"$f":"IFERROR($E264*SUMIF('Daily Log'!$AR$18:$AR$1017,$B264,'Daily Log'!$AS$18:$AS$1017),0)","v":0},{"$f":"IFERROR($E264*SUMIF('Daily Log'!$AU$18:$AU$1017,$B264,'Daily Log'!$AV$18:$AV$1017),0)","v":0},{"$f":"IFERROR($E264*SUMIF('Daily Log'!$AX$18:$AX$1017,$B264,'Daily Log'!$AY$18:$AY$1017),0)","v":0},{"$f":"IFERROR($E264*SUMIF('Daily Log'!$BA$18:$BA$1017,$B264,'Daily Log'!$BB$18:$BB$1017),0)","v":0},{"$f":"IFERROR($E264*SUMIF('Daily Log'!$BD$18:$BD$1017,$B264,'Daily Log'!$BE$18:$BE$1017),0)","v":0},{"$f":"IFERROR($E264*SUMIF('Daily Log'!$BG$18:$BG$1017,$B264,'Daily Log'!$BH$18:$BH$1017),0)","v":0},{"$f":"IFERROR($E264*SUMIF('Daily Log'!$BJ$18:$BJ$1017,$B264,'Daily Log'!$BK$18:$BK$1017),0)","v":0},{"$f":"IFERROR($E264*SUMIF('Daily Log'!$BM$18:$BM$1017,$B264,'Daily Log'!$BN$18:$BN$1017),0)","v":0},{"$f":"IFERROR($E264*SUMIF('Daily Log'!$BP$18:$BP$1017,$B264,'Daily Log'!$BQ$18:$BQ$1017),0)","v":0},{"$f":"IFERROR($E264*SUMIF('Daily Log'!$BS$18:$BS$1017,$B264,'Daily Log'!$BT$18:$BT$1017),0)","v":0},{"$f":"IFERROR($E264*SUMIF('Daily Log'!$BV$18:$BV$1017,$B264,'Daily Log'!$BW$18:$BW$1017),0)","v":0},{"$f":"IFERROR($E264*SUMIF('Daily Log'!$BY$18:$BY$1017,$B264,'Daily Log'!$BZ$18:$BZ$1017),0)","v":0},{"$f":"IFERROR($E264*SUMIF('Daily Log'!$CB$18:$CB$1017,$B264,'Daily Log'!$CC$18:$CC$1017),0)","v":0},{"$f":"IFERROR($E264*SUMIF('Daily Log'!$CE$18:$CE$1017,$B264,'Daily Log'!$CF$18:$CF$1017),0)","v":0},{"$f":"IFERROR($E264*SUMIF('Daily Log'!$CH$18:$CH$1017,$B264,'Daily Log'!$CI$18:$CI$1017),0)","v":0},{"$f":"IFERROR($E264*SUMIF('Daily Log'!$CK$18:$CK$1017,$B264,'Daily Log'!$CL$18:$CL$1017),0)","v":0},{"$f":"IFERROR($E264*SUMIF('Daily Log'!$CN$18:$CN$1017,$B264,'Daily Log'!$CO$18:$CO$1017),0)","v":0}]
[null,null,null,null,null,null,{"$f":"IFERROR($E265*SUMIF('Daily Log'!$B$18:$B$1017,$B265,'Daily Log'!$C$18:$C$1017),0)","v":0},{"$f":"IFERROR($E265*SUMIF('Daily Log'!$E$18:$E$1017,$B265,'Daily Log'!$F$18:$F$1017),0)","v":0},{"$f":"IFERROR($E265*SUMIF('Daily Log'!$H$18:$H$1017,$B265,'Daily Log'!$I$18:$I$1017),0)","v":0},{"$f":"IFERROR($E265*SUMIF('Daily Log'!$K$18:$K$1017,$B265,'Daily Log'!$L$18:$L$1017),0)","v":0},{"$f":"IFERROR($E265*SUMIF('Daily Log'!$N$18:$N$1017,$B265,'Daily Log'!$O$18:$O$1017),0)","v":0},{"$f":"IFERROR($E265*SUMIF('Daily Log'!$Q$18:$Q$1017,$B265,'Daily Log'!$R$18:$R$1017),0)","v":0},{"$f":"IFERROR($E265*SUMIF('Daily Log'!$T$18:$T$1017,$B265,'Daily Log'!$U$18:$U$1017),0)","v":0},{"$f":"IFERROR($E265*SUMIF('Daily Log'!$W$18:$W$1017,$B265,'Daily Log'!$X$18:$X$1017),0)","v":0},{"$f":"IFERROR($E265*SUMIF('Daily Log'!$Z$18:$Z$1017,$B265,'Daily Log'!$AA$18:$AA$1017),0)","v":0},{"$f":"IFERROR($E265*SUMIF('Daily Log'!$AC$18:$AC$1017,$B265,'Daily Log'!$AD$18:$AD$1017),0)","v":0},{"$f":"IFERROR($E265*SUMIF('Daily Log'!$AF$18:$AF$1017,$B265,'Daily Log'!$AG$18:$AG$1017),0)","v":0},{"$f":"IFERROR($E265*SUMIF('Daily Log'!$AI$18:$AI$1017,$B265,'Daily Log'!$AJ$18:$AJ$1017),0)","v":0},{"$f":"IFERROR($E265*SUMIF('Daily Log'!$AL$18:$AL$1017,$B265,'Daily Log'!$AM$18:$AM$1017),0)","v":0},{"$f":"IFERROR($E265*SUMIF('Daily Log'!$AO$18:$AO$1017,$B265,'Daily Log'!$AP$18:$AP$1017),0)","v":0},{"$f":"IFERROR($E265*SUMIF('Daily Log'!$AR$18:$AR$1017,$B265,'Daily Log'!$AS$18:$AS$1017),0)","v":0},{"$f":"IFERROR($E265*SUMIF('Daily Log'!$AU$18:$AU$1017,$B265,'Daily Log'!$AV$18:$AV$1017),0)","v":0},{"$f":"IFERROR($E265*SUMIF('Daily Log'!$AX$18:$AX$1017,$B265,'Daily Log'!$AY$18:$AY$1017),0)","v":0},{"$f":"IFERROR($E265*SUMIF('Daily Log'!$BA$18:$BA$1017,$B265,'Daily Log'!$BB$18:$BB$1017),0)","v":0},{"$f":"IFERROR($E265*SUMIF('Daily Log'!$BD$18:$BD$1017,$B265,'Daily Log'!$BE$18:$BE$1017),0)","v":0},{"$f":"IFERROR($E265*SUMIF('Daily Log'!$BG$18:$BG$1017,$B265,'Daily Log'!$BH$18:$BH$1017),0)","v":0},{"$f":"IFERROR($E265*SUMIF('Daily Log'!$BJ$18:$BJ$1017,$B265,'Daily Log'!$BK$18:$BK$1017),0)","v":0},{"$f":"IFERROR($E265*SUMIF('Daily Log'!$BM$18:$BM$1017,$B265,'Daily Log'!$BN$18:$BN$1017),0)","v":0},{"$f":"IFERROR($E265*SUMIF('Daily Log'!$BP$18:$BP$1017,$B265,'Daily Log'!$BQ$18:$BQ$1017),0)","v":0},{"$f":"IFERROR($E265*SUMIF('Daily Log'!$BS$18:$BS$1017,$B265,'Daily Log'!$BT$18:$BT$1017),0)","v":0},{"$f":"IFERROR($E265*SUMIF('Daily Log'!$BV$18:$BV$1017,$B265,'Daily Log'!$BW$18:$BW$1017),0)","v":0},{"$f":"IFERROR($E265*SUMIF('Daily Log'!$BY$18:$BY$1017,$B265,'Daily Log'!$BZ$18:$BZ$1017),0)","v":0},{"$f":"IFERROR($E265*SUMIF('Daily Log'!$CB$18:$CB$1017,$B265,'Daily Log'!$CC$18:$CC$1017),0)","v":0},{"$f":"IFERROR($E265*SUMIF('Daily Log'!$CE$18:$CE$1017,$B265,'Daily Log'!$CF$18:$CF$1017),0)","v":0},{"$f":"IFERROR($E265*SUMIF('Daily Log'!$CH$18:$CH$1017,$B265,'Daily Log'!$CI$18:$CI$1017),0)","v":0},{"$f":"IFERROR($E265*SUMIF('Daily Log'!$CK$18:$CK$1017,$B265,'Daily Log'!$CL$18:$CL$1017),0)","v":0},{"$f":"IFERROR($E265*SUMIF('Daily Log'!$CN$18:$CN$1017,$B265,'Daily Log'!$CO$18:$CO$1017),0)","v":0}]
[null,null,null,null,null,null,{"$f":"IFERROR($E266*SUMIF('Daily Log'!$B$18:$B$1017,$B266,'Daily Log'!$C$18:$C$1017),0)","v":0},{"$f":"IFERROR($E266*SUMIF('Daily Log'!$E$18:$E$1017,$B266,'Daily Log'!$F$18:$F$1017),0)","v":0},{"$f":"IFERROR($E266*SUMIF('Daily Log'!$H$18:$H$1017,$B266,'Daily Log'!$I$18:$I$1017),0)","v":0},{"$f":"IFERROR($E266*SUMIF('Daily Log'!$K$18:$K$1017,$B266,'Daily Log'!$L$18:$L$1017),0)","v":0},{"$f":"IFERROR($E266*SUMIF('Daily Log'!$N$18:$N$1017,$B266,'Daily Log'!$O$18:$O$1017),0)","v":0},{"$f":"IFERROR($E266*SUMIF('Daily Log'!$Q$18:$Q$1017,$B266,'Daily Log'!$R$18:$R$1017),0)","v":0},{"$f":"IFERROR($E266*SUMIF('Daily Log'!$T$18:$T$1017,$B266,'Daily Log'!$U$18:$U$1017),0)","v":0},{"$f":"IFERROR($E266*SUMIF('Daily Log'!$W$18:$W$1017,$B266,'Daily Log'!$X$18:$X$1017),0)","v":0},{"$f":"IFERROR($E266*SUMIF('Daily Log'!$Z$18:$Z$1017,$B266,'Daily Log'!$AA$18:$AA$1017),0)","v":0},{"$f":"IFERROR($E266*SUMIF('Daily Log'!$AC$18:$AC$1017,$B266,'Daily Log'!$AD$18:$AD$1017),0)","v":0},{"$f":"IFERROR($E266*SUMIF('Daily Log'!$AF$18:$AF$1017,$B266,'Daily Log'!$AG$18:$AG$1017),0)","v":0},{"$f":"IFERROR($E266*SUMIF('Daily Log'!$AI$18:$AI$1017,$B266,'Daily Log'!$AJ$18:$AJ$1017),0)","v":0},{"$f":"IFERROR($E266*SUMIF('Daily Log'!$AL$18:$AL$1017,$B266,'Daily Log'!$AM$18:$AM$1017),0)","v":0},{"$f":"IFERROR($E266*SUMIF('Daily Log'!$AO$18:$AO$1017,$B266,'Daily Log'!$AP$18:$AP$1017),0)","v":0},{"$f":"IFERROR($E266*SUMIF('Daily Log'!$AR$18:$AR$1017,$B266,'Daily Log'!$AS$18:$AS$1017),0)","v":0},{"$f":"IFERROR($E266*SUMIF('Daily Log'!$AU$18:$AU$1017,$B266,'Daily Log'!$AV$18:$AV$1017),0)","v":0},{"$f":"IFERROR($E266*SUMIF('Daily Log'!$AX$18:$AX$1017,$B266,'Daily Log'!$AY$18:$AY$1017),0)","v":0},{"$f":"IFERROR($E266*SUMIF('Daily Log'!$BA$18:$BA$1017,$B266,'Daily Log'!$BB$18:$BB$1017),0)","v":0},{"$f":"IFERROR($E266*SUMIF('Daily Log'!$BD$18:$BD$1017,$B266,'Daily Log'!$BE$18:$BE$1017),0)","v":0},{"$f":"IFERROR($E266*SUMIF('Daily Log'!$BG$18:$BG$1017,$B266,'Daily Log'!$BH$18:$BH$1017),0)","v":0},{"$f":"IFERROR($E266*SUMIF('Daily Log'!$BJ$18:$BJ$1017,$B266,'Daily Log'!$BK$18:$BK$1017),0)","v":0},{"$f":"IFERROR($E266*SUMIF('Daily Log'!$BM$18:$BM$1017,$B266,'Daily Log'!$BN$18:$BN$1017),0)","v":0},{"$f":"IFERROR($E266*SUMIF('Daily Log'!$BP$18:$BP$1017,$B266,'Daily Log'!$BQ$18:$BQ$1017),0)","v":0},{"$f":"IFERROR($E266*SUMIF('Daily Log'!$BS$18:$BS$1017,$B266,'Daily Log'!$BT$18:$BT$1017),0)","v":0},{"$f":"IFERROR($E266*SUMIF('Daily Log'!$BV$18:$BV$1017,$B266,'Daily Log'!$BW$18:$BW$1017),0)","v":0},{"$f":"IFERROR($E266*SUMIF('Daily Log'!$BY$18:$BY$1017,$B266,'Daily Log'!$BZ$18:$BZ$1017),0)","v":0},{"$f":"IFERROR($E266*SUMIF('Daily Log'!$CB$18:$CB$1017,$B266,'Daily Log'!$CC$18:$CC$1017),0)","v":0},{"$f":"IFERROR($E266*SUMIF('Daily Log'!$CE$18:$CE$1017,$B266,'Daily Log'!$CF$18:$CF$1017),0)","v":0},{"$f":"IFERROR($E266*SUMIF('Daily Log'!$CH$18:$CH$1017,$B266,'Daily Log'!$CI$18:$CI$1017),0)","v":0},{"$f":"IFERROR($E266*SUMIF('Daily Log'!$CK$18:$CK$1017,$B266,'Daily Log'!$CL$18:$CL$1017),0)","v":0},{"$f":"IFERROR($E266*SUMIF('Daily Log'!$CN$18:$CN$1017,$B266,'Daily Log'!$CO$18:$CO$1017),0)","v":0}]
[null,null,null,null,null,null,{"$f":"IFERROR($E267*SUMIF('Daily Log'!$B$18:$B$1017,$B267,'Daily Log'!$C$18:$C$1017),0)","v":0},{"$f":"IFERROR($E267*SUMIF('Daily Log'!$E$18:$E$1017,$B267,'Daily Log'!$F$18:$F$1017),0)","v":0},{"$f":"IFERROR($E267*SUMIF('Daily Log'!$H$18:$H$1017,$B267,'Daily Log'!$I$18:$I$1017),0)","v":0},{"$f":"IFERROR($E267*SUMIF('Daily Log'!$K$18:$K$1017,$B267,'Daily Log'!$L$18:$L$1017),0)","v":0},{"$f":"IFERROR($E267*SUMIF('Daily Log'!$N$18:$N$1017,$B267,'Daily Log'!$O$18:$O$1017),0)","v":0},{"$f":"IFERROR($E267*SUMIF('Daily Log'!$Q$18:$Q$1017,$B267,'Daily Log'!$R$18:$R$1017),0)","v":0},{"$f":"IFERROR($E267*SUMIF('Daily Log'!$T$18:$T$1017,$B267,'Daily Log'!$U$18:$U$1017),0)","v":0},{"$f":"IFERROR($E267*SUMIF('Daily Log'!$W$18:$W$1017,$B267,'Daily Log'!$X$18:$X$1017),0)","v":0},{"$f":"IFERROR($E267*SUMIF('Daily Log'!$Z$18:$Z$1017,$B267,'Daily Log'!$AA$18:$AA$1017),0)","v":0},{"$f":"IFERROR($E267*SUMIF('Daily Log'!$AC$18:$AC$1017,$B267,'Daily Log'!$AD$18:$AD$1017),0)","v":0},{"$f":"IFERROR($E267*SUMIF('Daily Log'!$AF$18:$AF$1017,$B267,'Daily Log'!$AG$18:$AG$1017),0)","v":0},{"$f":"IFERROR($E267*SUMIF('Daily Log'!$AI$18:$AI$1017,$B267,'Daily Log'!$AJ$18:$AJ$1017),0)","v":0},{"$f":"IFERROR($E267*SUMIF('Daily Log'!$AL$18:$AL$1017,$B267,'Daily Log'!$AM$18:$AM$1017),0)","v":0},{"$f":"IFERROR($E267*SUMIF('Daily Log'!$AO$18:$AO$1017,$B267,'Daily Log'!$AP$18:$AP$1017),0)","v":0},{"$f":"IFERROR($E267*SUMIF('Daily Log'!$AR$18:$AR$1017,$B267,'Daily Log'!$AS$18:$AS$1017),0)","v":0},{"$f":"IFERROR($E267*SUMIF('Daily Log'!$AU$18:$AU$1017,$B267,'Daily Log'!$AV$18:$AV$1017),0)","v":0},{"$f":"IFERROR($E267*SUMIF('Daily Log'!$AX$18:$AX$1017,$B267,'Daily Log'!$AY$18:$AY$1017),0)","v":0},{"$f":"IFERROR($E267*SUMIF('Daily Log'!$BA$18:$BA$1017,$B267,'Daily Log'!$BB$18:$BB$1017),0)","v":0},{"$f":"IFERROR($E267*SUMIF('Daily Log'!$BD$18:$BD$1017,$B267,'Daily Log'!$BE$18:$BE$1017),0)","v":0},{"$f":"IFERROR($E267*SUMIF('Daily Log'!$BG$18:$BG$1017,$B267,'Daily Log'!$BH$18:$BH$1017),0)","v":0},{"$f":"IFERROR($E267*SUMIF('Daily Log'!$BJ$18:$BJ$1017,$B267,'Daily Log'!$BK$18:$BK$1017),0)","v":0},{"$f":"IFERROR($E267*SUMIF('Daily Log'!$BM$18:$BM$1017,$B267,'Daily Log'!$BN$18:$BN$1017),0)","v":0},{"$f":"IFERROR($E267*SUMIF('Daily Log'!$BP$18:$BP$1017,$B267,'Daily Log'!$BQ$18:$BQ$1017),0)","v":0},{"$f":"IFERROR($E267*SUMIF('Daily Log'!$BS$18:$BS$1017,$B267,'Daily Log'!$BT$18:$BT$1017),0)","v":0},{"$f":"IFERROR($E267*SUMIF('Daily Log'!$BV$18:$BV$1017,$B267,'Daily Log'!$BW$18:$BW$1017),0)","v":0},{"$f":"IFERROR($E267*SUMIF('Daily Log'!$BY$18:$BY$1017,$B267,'Daily Log'!$BZ$18:$BZ$1017),0)","v":0},{"$f":"IFERROR($E267*SUMIF('Daily Log'!$CB$18:$CB$1017,$B267,'Daily Log'!$CC$18:$CC$1017),0)","v":0},{"$f":"IFERROR($E267*SUMIF('Daily Log'!$CE$18:$CE$1017,$B267,'Daily Log'!$CF$18:$CF$1017),0)","v":0},{"$f":"IFERROR($E267*SUMIF('Daily Log'!$CH$18:$CH$1017,$B267,'Daily Log'!$CI$18:$CI$1017),0)","v":0},{"$f":"IFERROR($E267*SUMIF('Daily Log'!$CK$18:$CK$1017,$B267,'Daily Log'!$CL$18:$CL$1017),0)","v":0},{"$f":"IFERROR($E267*SUMIF('Daily Log'!$CN$18:$CN$1017,$B267,'Daily Log'!$CO$18:$CO$1017),0)","v":0}]
[null,null,null,null,null,null,{"$f":"IFERROR($E268*SUMIF('Daily Log'!$B$18:$B$1017,$B268,'Daily Log'!$C$18:$C$1017),0)","v":0},{"$f":"IFERROR($E268*SUMIF('Daily Log'!$E$18:$E$1017,$B268,'Daily Log'!$F$18:$F$1017),0)","v":0},{"$f":"IFERROR($E268*SUMIF('Daily Log'!$H$18:$H$1017,$B268,'Daily Log'!$I$18:$I$1017),0)","v":0},{"$f":"IFERROR($E268*SUMIF('Daily Log'!$K$18:$K$1017,$B268,'Daily Log'!$L$18:$L$1017),0)","v":0},{"$f":"IFERROR($E268*SUMIF('Daily Log'!$N$18:$N$1017,$B268,'Daily Log'!$O$18:$O$1017),0)","v":0},{"$f":"IFERROR($E268*SUMIF('Daily Log'!$Q$18:$Q$1017,$B268,'Daily Log'!$R$18:$R$1017),0)","v":0},{"$f":"IFERROR($E268*SUMIF('Daily Log'!$T$18:$T$1017,$B268,'Daily Log'!$U$18:$U$1017),0)","v":0},{"$f":"IFERROR($E268*SUMIF('Daily Log'!$W$18:$W$1017,$B268,'Daily Log'!$X$18:$X$1017),0)","v":0},{"$f":"IFERROR($E268*SUMIF('Daily Log'!$Z$18:$Z$1017,$B268,'Daily Log'!$AA$18:$AA$1017),0)","v":0},{"$f":"IFERROR($E268*SUMIF('Daily Log'!$AC$18:$AC$1017,$B268,'Daily Log'!$AD$18:$AD$1017),0)","v":0},{"$f":"IFERROR($E268*SUMIF('Daily Log'!$AF$18:$AF$1017,$B268,'Daily Log'!$AG$18:$AG$1017),0)","v":0},{"$f":"IFERROR($E268*SUMIF('Daily Log'!$AI$18:$AI$1017,$B268,'Daily Log'!$AJ$18:$AJ$1017),0)","v":0},{"$f":"IFERROR($E268*SUMIF('Daily Log'!$AL$18:$AL$1017,$B268,'Daily Log'!$AM$18:$AM$1017),0)","v":0},{"$f":"IFERROR($E268*SUMIF('Daily Log'!$AO$18:$AO$1017,$B268,'Daily Log'!$AP$18:$AP$1017),0)","v":0},{"$f":"IFERROR($E268*SUMIF('Daily Log'!$AR$18:$AR$1017,$B268,'Daily Log'!$AS$18:$AS$1017),0)","v":0},{"$f":"IFERROR($E268*SUMIF('Daily Log'!$AU$18:$AU$1017,$B268,'Daily Log'!$AV$18:$AV$1017),0)","v":0},{"$f":"IFERROR($E268*SUMIF('Daily Log'!$AX$18:$AX$1017,$B268,'Daily Log'!$AY$18:$AY$1017),0)","v":0},{"$f":"IFERROR($E268*SUMIF('Daily Log'!$BA$18:$BA$1017,$B268,'Daily Log'!$BB$18:$BB$1017),0)","v":0},{"$f":"IFERROR($E268*SUMIF('Daily Log'!$BD$18:$BD$1017,$B268,'Daily Log'!$BE$18:$BE$1017),0)","v":0},{"$f":"IFERROR($E268*SUMIF('Daily Log'!$BG$18:$BG$1017,$B268,'Daily Log'!$BH$18:$BH$1017),0)","v":0},{"$f":"IFERROR($E268*SUMIF('Daily Log'!$BJ$18:$BJ$1017,$B268,'Daily Log'!$BK$18:$BK$1017),0)","v":0},{"$f":"IFERROR($E268*SUMIF('Daily Log'!$BM$18:$BM$1017,$B268,'Daily Log'!$BN$18:$BN$1017),0)","v":0},{"$f":"IFERROR($E268*SUMIF('Daily Log'!$BP$18:$BP$1017,$B268,'Daily Log'!$BQ$18:$BQ$1017),0)","v":0},{"$f":"IFERROR($E268*SUMIF('Daily Log'!$BS$18:$BS$1017,$B268,'Daily Log'!$BT$18:$BT$1017),0)","v":0},{"$f":"IFERROR($E268*SUMIF('Daily Log'!$BV$18:$BV$1017,$B268,'Daily Log'!$BW$18:$BW$1017),0)","v":0},{"$f":"IFERROR($E268*SUMIF('Daily Log'!$BY$18:$BY$1017,$B268,'Daily Log'!$BZ$18:$BZ$1017),0)","v":0},{"$f":"IFERROR($E268*SUMIF('Daily Log'!$CB$18:$CB$1017,$B268,'Daily Log'!$CC$18:$CC$1017),0)","v":0},{"$f":"IFERROR($E268*SUMIF('Daily Log'!$CE$18:$CE$1017,$B268,'Daily Log'!$CF$18:$CF$1017),0)","v":0},{"$f":"IFERROR($E268*SUMIF('Daily Log'!$CH$18:$CH$1017,$B268,'Daily Log'!$CI$18:$CI$1017),0)","v":0},{"$f":"IFERROR($E268*SUMIF('Daily Log'!$CK$18:$CK$1017,$B268,'Daily Log'!$CL$18:$CL$1017),0)","v":0},{"$f":"IFERROR($E268*SUMIF('Daily Log'!$CN$18:$CN$1017,$B268,'Daily Log'!$CO$18:$CO$1017),0)","v":0}]
[null,null,null,null,null,null,{"$f":"IFERROR($E269*SUMIF('Daily Log'!$B$18:$B$1017,$B269,'Daily Log'!$C$18:$C$1017),0)","v":0},{"$f":"IFERROR($E269*SUMIF('Daily Log'!$E$18:$E$1017,$B269,'Daily Log'!$F$18:$F$1017),0)","v":0},{"$f":"IFERROR($E269*SUMIF('Daily Log'!$H$18:$H$1017,$B269,'Daily Log'!$I$18:$I$1017),0)","v":0},{"$f":"IFERROR($E269*SUMIF('Daily Log'!$K$18:$K$1017,$B269,'Daily Log'!$L$18:$L$1017),0)","v":0},{"$f":"IFERROR($E269*SUMIF('Daily Log'!$N$18:$N$1017,$B269,'Daily Log'!$O$18:$O$1017),0)","v":0},{"$f":"IFERROR($E269*SUMIF('Daily Log'!$Q$18:$Q$1017,$B269,'Daily Log'!$R$18:$R$1017),0)","v":0},{"$f":"IFERROR($E269*SUMIF('Daily Log'!$T$18:$T$1017,$B269,'Daily Log'!$U$18:$U$1017),0)","v":0},{"$f":"IFERROR($E269*SUMIF('Daily Log'!$W$18:$W$1017,$B269,'Daily Log'!$X$18:$X$1017),0)","v":0},{"$f":"IFERROR($E269*SUMIF('Daily Log'!$Z$18:$Z$1017,$B269,'Daily Log'!$AA$18:$AA$1017),0)","v":0},{"$f":"IFERROR($E269*SUMIF('Daily Log'!$AC$18:$AC$1017,$B269,'Daily Log'!$AD$18:$AD$1017),0)","v":0},{"$f":"IFERROR($E269*SUMIF('Daily Log'!$AF$18:$AF$1017,$B269,'Daily Log'!$AG$18:$AG$1017),0)","v":0},{"$f":"IFERROR($E269*SUMIF('Daily Log'!$AI$18:$AI$1017,$B269,'Daily Log'!$AJ$18:$AJ$1017),0)","v":0},{"$f":"IFERROR($E269*SUMIF('Daily Log'!$AL$18:$AL$1017,$B269,'Daily Log'!$AM$18:$AM$1017),0)","v":0},{"$f":"IFERROR($E269*SUMIF('Daily Log'!$AO$18:$AO$1017,$B269,'Daily Log'!$AP$18:$AP$1017),0)","v":0},{"$f":"IFERROR($E269*SUMIF('Daily Log'!$AR$18:$AR$1017,$B269,'Daily Log'!$AS$18:$AS$1017),0)","v":0},{"$f":"IFERROR($E269*SUMIF('Daily Log'!$AU$18:$AU$1017,$B269,'Daily Log'!$AV$18:$AV$1017),0)","v":0},{"$f":"IFERROR($E269*SUMIF('Daily Log'!$AX$18:$AX$1017,$B269,'Daily Log'!$AY$18:$AY$1017),0)","v":0},{"$f":"IFERROR($E269*SUMIF('Daily Log'!$BA$18:$BA$1017,$B269,'Daily Log'!$BB$18:$BB$1017),0)","v":0},{"$f":"IFERROR($E269*SUMIF('Daily Log'!$BD$18:$BD$1017,$B269,'Daily Log'!$BE$18:$BE$1017),0)","v":0},{"$f":"IFERROR($E269*SUMIF('Daily Log'!$BG$18:$BG$1017,$B269,'Daily Log'!$BH$18:$BH$1017),0)","v":0},{"$f":"IFERROR($E269*SUMIF('Daily Log'!$BJ$18:$BJ$1017,$B269,'Daily Log'!$BK$18:$BK$1017),0)","v":0},{"$f":"IFERROR($E269*SUMIF('Daily Log'!$BM$18:$BM$1017,$B269,'Daily Log'!$BN$18:$BN$1017),0)","v":0},{"$f":"IFERROR($E269*SUMIF('Daily Log'!$BP$18:$BP$1017,$B269,'Daily Log'!$BQ$18:$BQ$1017),0)","v":0},{"$f":"IFERROR($E269*SUMIF('Daily Log'!$BS$18:$BS$1017,$B269,'Daily Log'!$BT$18:$BT$1017),0)","v":0},{"$f":"IFERROR($E269*SUMIF('Daily Log'!$BV$18:$BV$1017,$B269,'Daily Log'!$BW$18:$BW$1017),0)","v":0},{"$f":"IFERROR($E269*SUMIF('Daily Log'!$BY$18:$BY$1017,$B269,'Daily Log'!$BZ$18:$BZ$1017),0)","v":0},{"$f":"IFERROR($E269*SUMIF('Daily Log'!$CB$18:$CB$1017,$B269,'Daily Log'!$CC$18:$CC$1017),0)","v":0},{"$f":"IFERROR($E269*SUMIF('Daily Log'!$CE$18:$CE$1017,$B269,'Daily Log'!$CF$18:$CF$1017),0)","v":0},{"$f":"IFERROR($E269*SUMIF('Daily Log'!$CH$18:$CH$1017,$B269,'Daily Log'!$CI$18:$CI$1017),0)","v":0},{"$f":"IFERROR($E269*SUMIF('Daily Log'!$CK$18:$CK$1017,$B269,'Daily Log'!$CL$18:$CL$1017),0)","v":0},{"$f":"IFERROR($E269*SUMIF('Daily Log'!$CN$18:$CN$1017,$B269,'Daily Log'!$CO$18:$CO$1017),0)","v":0}]
[null,null,null,null,null,null,{"$f":"IFERROR($E270*SUMIF('Daily Log'!$B$18:$B$1017,$B270,'Daily Log'!$C$18:$C$1017),0)","v":0},{"$f":"IFERROR($E270*SUMIF('Daily Log'!$E$18:$E$1017,$B270,'Daily Log'!$F$18:$F$1017),0)","v":0},{"$f":"IFERROR($E270*SUMIF('Daily Log'!$H$18:$H$1017,$B270,'Daily Log'!$I$18:$I$1017),0)","v":0},{"$f":"IFERROR($E270*SUMIF('Daily Log'!$K$18:$K$1017,$B270,'Daily Log'!$L$18:$L$1017),0)","v":0},{"$f":"IFERROR($E270*SUMIF('Daily Log'!$N$18:$N$1017,$B270,'Daily Log'!$O$18:$O$1017),0)","v":0},{"$f":"IFERROR($E270*SUMIF('Daily Log'!$Q$18:$Q$1017,$B270,'Daily Log'!$R$18:$R$1017),0)","v":0},{"$f":"IFERROR($E270*SUMIF('Daily Log'!$T$18:$T$1017,$B270,'Daily Log'!$U$18:$U$1017),0)","v":0},{"$f":"IFERROR($E270*SUMIF('Daily Log'!$W$18:$W$1017,$B270,'Daily Log'!$X$18:$X$1017),0)","v":0},{"$f":"IFERROR($E270*SUMIF('Daily Log'!$Z$18:$Z$1017,$B270,'Daily Log'!$AA$18:$AA$1017),0)","v":0},{"$f":"IFERROR($E270*SUMIF('Daily Log'!$AC$18:$AC$1017,$B270,'Daily Log'!$AD$18:$AD$1017),0)","v":0},{"$f":"IFERROR($E270*SUMIF('Daily Log'!$AF$18:$AF$1017,$B270,'Daily Log'!$AG$18:$AG$1017),0)","v":0},{"$f":"IFERROR($E270*SUMIF('Daily Log'!$AI$18:$AI$1017,$B270,'Daily Log'!$AJ$18:$AJ$1017),0)","v":0},{"$f":"IFERROR($E270*SUMIF('Daily Log'!$AL$18:$AL$1017,$B270,'Daily Log'!$AM$18:$AM$1017),0)","v":0},{"$f":"IFERROR($E270*SUMIF('Daily Log'!$AO$18:$AO$1017,$B270,'Daily Log'!$AP$18:$AP$1017),0)","v":0},{"$f":"IFERROR($E270*SUMIF('Daily Log'!$AR$18:$AR$1017,$B270,'Daily Log'!$AS$18:$AS$1017),0)","v":0},{"$f":"IFERROR($E270*SUMIF('Daily Log'!$AU$18:$AU$1017,$B270,'Daily Log'!$AV$18:$AV$1017),0)","v":0},{"$f":"IFERROR($E270*SUMIF('Daily Log'!$AX$18:$AX$1017,$B270,'Daily Log'!$AY$18:$AY$1017),0)","v":0},{"$f":"IFERROR($E270*SUMIF('Daily Log'!$BA$18:$BA$1017,$B270,'Daily Log'!$BB$18:$BB$1017),0)","v":0},{"$f":"IFERROR($E270*SUMIF('Daily Log'!$BD$18:$BD$1017,$B270,'Daily Log'!$BE$18:$BE$1017),0)","v":0},{"$f":"IFERROR($E270*SUMIF('Daily Log'!$BG$18:$BG$1017,$B270,'Daily Log'!$BH$18:$BH$1017),0)","v":0},{"$f":"IFERROR($E270*SUMIF('Daily Log'!$BJ$18:$BJ$1017,$B270,'Daily Log'!$BK$18:$BK$1017),0)","v":0},{"$f":"IFERROR($E270*SUMIF('Daily Log'!$BM$18:$BM$1017,$B270,'Daily Log'!$BN$18:$BN$1017),0)","v":0},{"$f":"IFERROR($E270*SUMIF('Daily Log'!$BP$18:$BP$1017,$B270,'Daily Log'!$BQ$18:$BQ$1017),0)","v":0},{"$f":"IFERROR($E270*SUMIF('Daily Log'!$BS$18:$BS$1017,$B270,'Daily Log'!$BT$18:$BT$1017),0)","v":0},{"$f":"IFERROR($E270*SUMIF('Daily Log'!$BV$18:$BV$1017,$B270,'Daily Log'!$BW$18:$BW$1017),0)","v":0},{"$f":"IFERROR($E270*SUMIF('Daily Log'!$BY$18:$BY$1017,$B270,'Daily Log'!$BZ$18:$BZ$1017),0)","v":0},{"$f":"IFERROR($E270*SUMIF('Daily Log'!$CB$18:$CB$1017,$B270,'Daily Log'!$CC$18:$CC$1017),0)","v":0},{"$f":"IFERROR($E270*SUMIF('Daily Log'!$CE$18:$CE$1017,$B270,'Daily Log'!$CF$18:$CF$1017),0)","v":0},{"$f":"IFERROR($E270*SUMIF('Daily Log'!$CH$18:$CH$1017,$B270,'Daily Log'!$CI$18:$CI$1017),0)","v":0},{"$f":"IFERROR($E270*SUMIF('Daily Log'!$CK$18:$CK$1017,$B270,'Daily Log'!$CL$18:$CL$1017),0)","v":0},{"$f":"IFERROR($E270*SUMIF('Daily Log'!$CN$18:$CN$1017,$B270,'Daily Log'!$CO$18:$CO$1017),0)","v":0}]
[null,null,null,null,null,null,{"$f":"IFERROR($E271*SUMIF('Daily Log'!$B$18:$B$1017,$B271,'Daily Log'!$C$18:$C$1017),0)","v":0},{"$f":"IFERROR($E271*SUMIF('Daily Log'!$E$18:$E$1017,$B271,'Daily Log'!$F$18:$F$1017),0)","v":0},{"$f":"IFERROR($E271*SUMIF('Daily Log'!$H$18:$H$1017,$B271,'Daily Log'!$I$18:$I$1017),0)","v":0},{"$f":"IFERROR($E271*SUMIF('Daily Log'!$K$18:$K$1017,$B271,'Daily Log'!$L$18:$L$1017),0)","v":0},{"$f":"IFERROR($E271*SUMIF('Daily Log'!$N$18:$N$1017,$B271,'Daily Log'!$O$18:$O$1017),0)","v":0},{"$f":"IFERROR($E271*SUMIF('Daily Log'!$Q$18:$Q$1017,$B271,'Daily Log'!$R$18:$R$1017),0)","v":0},{"$f":"IFERROR($E271*SUMIF('Daily Log'!$T$18:$T$1017,$B271,'Daily Log'!$U$18:$U$1017),0)","v":0},{"$f":"IFERROR($E271*SUMIF('Daily Log'!$W$18:$W$1017,$B271,'Daily Log'!$X$18:$X$1017),0)","v":0},{"$f":"IFERROR($E271*SUMIF('Daily Log'!$Z$18:$Z$1017,$B271,'Daily Log'!$AA$18:$AA$1017),0)","v":0},{"$f":"IFERROR($E271*SUMIF('Daily Log'!$AC$18:$AC$1017,$B271,'Daily Log'!$AD$18:$AD$1017),0)","v":0},{"$f":"IFERROR($E271*SUMIF('Daily Log'!$AF$18:$AF$1017,$B271,'Daily Log'!$AG$18:$AG$1017),0)","v":0},{"$f":"IFERROR($E271*SUMIF('Daily Log'!$AI$18:$AI$1017,$B271,'Daily Log'!$AJ$18:$AJ$1017),0)","v":0},{"$f":"IFERROR($E271*SUMIF('Daily Log'!$AL$18:$AL$1017,$B271,'Daily Log'!$AM$18:$AM$1017),0)","v":0},{"$f":"IFERROR($E271*SUMIF('Daily Log'!$AO$18:$AO$1017,$B271,'Daily Log'!$AP$18:$AP$1017),0)","v":0},{"$f":"IFERROR($E271*SUMIF('Daily Log'!$AR$18:$AR$1017,$B271,'Daily Log'!$AS$18:$AS$1017),0)","v":0},{"$f":"IFERROR($E271*SUMIF('Daily Log'!$AU$18:$AU$1017,$B271,'Daily Log'!$AV$18:$AV$1017),0)","v":0},{"$f":"IFERROR($E271*SUMIF('Daily Log'!$AX$18:$AX$1017,$B271,'Daily Log'!$AY$18:$AY$1017),0)","v":0},{"$f":"IFERROR($E271*SUMIF('Daily Log'!$BA$18:$BA$1017,$B271,'Daily Log'!$BB$18:$BB$1017),0)","v":0},{"$f":"IFERROR($E271*SUMIF('Daily Log'!$BD$18:$BD$1017,$B271,'Daily Log'!$BE$18:$BE$1017),0)","v":0},{"$f":"IFERROR($E271*SUMIF('Daily Log'!$BG$18:$BG$1017,$B271,'Daily Log'!$BH$18:$BH$1017),0)","v":0},{"$f":"IFERROR($E271*SUMIF('Daily Log'!$BJ$18:$BJ$1017,$B271,'Daily Log'!$BK$18:$BK$1017),0)","v":0},{"$f":"IFERROR($E271*SUMIF('Daily Log'!$BM$18:$BM$1017,$B271,'Daily Log'!$BN$18:$BN$1017),0)","v":0},{"$f":"IFERROR($E271*SUMIF('Daily Log'!$BP$18:$BP$1017,$B271,'Daily Log'!$BQ$18:$BQ$1017),0)","v":0},{"$f":"IFERROR($E271*SUMIF('Daily Log'!$BS$18:$BS$1017,$B271,'Daily Log'!$BT$18:$BT$1017),0)","v":0},{"$f":"IFERROR($E271*SUMIF('Daily Log'!$BV$18:$BV$1017,$B271,'Daily Log'!$BW$18:$BW$1017),0)","v":0},{"$f":"IFERROR($E271*SUMIF('Daily Log'!$BY$18:$BY$1017,$B271,'Daily Log'!$BZ$18:$BZ$1017),0)","v":0},{"$f":"IFERROR($E271*SUMIF('Daily Log'!$CB$18:$CB$1017,$B271,'Daily Log'!$CC$18:$CC$1017),0)","v":0},{"$f":"IFERROR($E271*SUMIF('Daily Log'!$CE$18:$CE$1017,$B271,'Daily Log'!$CF$18:$CF$1017),0)","v":0},{"$f":"IFERROR($E271*SUMIF('Daily Log'!$CH$18:$CH$1017,$B271,'Daily Log'!$CI$18:$CI$1017),0)","v":0},{"$f":"IFERROR($E271*SUMIF('Daily Log'!$CK$18:$CK$1017,$B271,'Daily Log'!$CL$18:$CL$1017),0)","v":0},{"$f":"IFERROR($E271*SUMIF('Daily Log'!$CN$18:$CN$1017,$B271,'Daily Log'!$CO$18:$CO$1017),0)","v":0}]
[null,null,null,null,null,null,{"$f":"IFERROR($E272*SUMIF('Daily Log'!$B$18:$B$1017,$B272,'Daily Log'!$C$18:$C$1017),0)","v":0},{"$f":"IFERROR($E272*SUMIF('Daily Log'!$E$18:$E$1017,$B272,'Daily Log'!$F$18:$F$1017),0)","v":0},{"$f":"IFERROR($E272*SUMIF('Daily Log'!$H$18:$H$1017,$B272,'Daily Log'!$I$18:$I$1017),0)","v":0},{"$f":"IFERROR($E272*SUMIF('Daily Log'!$K$18:$K$1017,$B272,'Daily Log'!$L$18:$L$1017),0)","v":0},{"$f":"IFERROR($E272*SUMIF('Daily Log'!$N$18:$N$1017,$B272,'Daily Log'!$O$18:$O$1017),0)","v":0},{"$f":"IFERROR($E272*SUMIF('Daily Log'!$Q$18:$Q$1017,$B272,'Daily Log'!$R$18:$R$1017),0)","v":0},{"$f":"IFERROR($E272*SUMIF('Daily Log'!$T$18:$T$1017,$B272,'Daily Log'!$U$18:$U$1017),0)","v":0},{"$f":"IFERROR($E272*SUMIF('Daily Log'!$W$18:$W$1017,$B272,'Daily Log'!$X$18:$X$1017),0)","v":0},{"$f":"IFERROR($E272*SUMIF('Daily Log'!$Z$18:$Z$1017,$B272,'Daily Log'!$AA$18:$AA$1017),0)","v":0},{"$f":"IFERROR($E272*SUMIF('Daily Log'!$AC$18:$AC$1017,$B272,'Daily Log'!$AD$18:$AD$1017),0)","v":0},{"$f":"IFERROR($E272*SUMIF('Daily Log'!$AF$18:$AF$1017,$B272,'Daily Log'!$AG$18:$AG$1017),0)","v":0},{"$f":"IFERROR($E272*SUMIF('Daily Log'!$AI$18:$AI$1017,$B272,'Daily Log'!$AJ$18:$AJ$1017),0)","v":0},{"$f":"IFERROR($E272*SUMIF('Daily Log'!$AL$18:$AL$1017,$B272,'Daily Log'!$AM$18:$AM$1017),0)","v":0},{"$f":"IFERROR($E272*SUMIF('Daily Log'!$AO$18:$AO$1017,$B272,'Daily Log'!$AP$18:$AP$1017),0)","v":0},{"$f":"IFERROR($E272*SUMIF('Daily Log'!$AR$18:$AR$1017,$B272,'Daily Log'!$AS$18:$AS$1017),0)","v":0},{"$f":"IFERROR($E272*SUMIF('Daily Log'!$AU$18:$AU$1017,$B272,'Daily Log'!$AV$18:$AV$1017),0)","v":0},{"$f":"IFERROR($E272*SUMIF('Daily Log'!$AX$18:$AX$1017,$B272,'Daily Log'!$AY$18:$AY$1017),0)","v":0},{"$f":"IFERROR($E272*SUMIF('Daily Log'!$BA$18:$BA$1017,$B272,'Daily Log'!$BB$18:$BB$1017),0)","v":0},{"$f":"IFERROR($E272*SUMIF('Daily Log'!$BD$18:$BD$1017,$B272,'Daily Log'!$BE$18:$BE$1017),0)","v":0},{"$f":"IFERROR($E272*SUMIF('Daily Log'!$BG$18:$BG$1017,$B272,'Daily Log'!$BH$18:$BH$1017),0)","v":0},{"$f":"IFERROR($E272*SUMIF('Daily Log'!$BJ$18:$BJ$1017,$B272,'Daily Log'!$BK$18:$BK$1017),0)","v":0},{"$f":"IFERROR($E272*SUMIF('Daily Log'!$BM$18:$BM$1017,$B272,'Daily Log'!$BN$18:$BN$1017),0)","v":0},{"$f":"IFERROR($E272*SUMIF('Daily Log'!$BP$18:$BP$1017,$B272,'Daily Log'!$BQ$18:$BQ$1017),0)","v":0},{"$f":"IFERROR($E272*SUMIF('Daily Log'!$BS$18:$BS$1017,$B272,'Daily Log'!$BT$18:$BT$1017),0)","v":0},{"$f":"IFERROR($E272*SUMIF('Daily Log'!$BV$18:$BV$1017,$B272,'Daily Log'!$BW$18:$BW$1017),0)","v":0},{"$f":"IFERROR($E272*SUMIF('Daily Log'!$BY$18:$BY$1017,$B272,'Daily Log'!$BZ$18:$BZ$1017),0)","v":0},{"$f":"IFERROR($E272*SUMIF('Daily Log'!$CB$18:$CB$1017,$B272,'Daily Log'!$CC$18:$CC$1017),0)","v":0},{"$f":"IFERROR($E272*SUMIF('Daily Log'!$CE$18:$CE$1017,$B272,'Daily Log'!$CF$18:$CF$1017),0)","v":0},{"$f":"IFERROR($E272*SUMIF('Daily Log'!$CH$18:$CH$1017,$B272,'Daily Log'!$CI$18:$CI$1017),0)","v":0},{"$f":"IFERROR($E272*SUMIF('Daily Log'!$CK$18:$CK$1017,$B272,'Daily Log'!$CL$18:$CL$1017),0)","v":0},{"$f":"IFERROR($E272*SUMIF('Daily Log'!$CN$18:$CN$1017,$B272,'Daily Log'!$CO$18:$CO$1017),0)","v":0}]
[null,null,null,null,null,null,{"$f":"IFERROR($E273*SUMIF('Daily Log'!$B$18:$B$1017,$B273,'Daily Log'!$C$18:$C$1017),0)","v":0},{"$f":"IFERROR($E273*SUMIF('Daily Log'!$E$18:$E$1017,$B273,'Daily Log'!$F$18:$F$1017),0)","v":0},{"$f":"IFERROR($E273*SUMIF('Daily Log'!$H$18:$H$1017,$B273,'Daily Log'!$I$18:$I$1017),0)","v":0},{"$f":"IFERROR($E273*SUMIF('Daily Log'!$K$18:$K$1017,$B273,'Daily Log'!$L$18:$L$1017),0)","v":0},{"$f":"IFERROR($E273*SUMIF('Daily Log'!$N$18:$N$1017,$B273,'Daily Log'!$O$18:$O$1017),0)","v":0},{"$f":"IFERROR($E273*SUMIF('Daily Log'!$Q$18:$Q$1017,$B273,'Daily Log'!$R$18:$R$1017),0)","v":0},{"$f":"IFERROR($E273*SUMIF('Daily Log'!$T$18:$T$1017,$B273,'Daily Log'!$U$18:$U$1017),0)","v":0},{"$f":"IFERROR($E273*SUMIF('Daily Log'!$W$18:$W$1017,$B273,'Daily Log'!$X$18:$X$1017),0)","v":0},{"$f":"IFERROR($E273*SUMIF('Daily Log'!$Z$18:$Z$1017,$B273,'Daily Log'!$AA$18:$AA$1017),0)","v":0},{"$f":"IFERROR($E273*SUMIF('Daily Log'!$AC$18:$AC$1017,$B273,'Daily Log'!$AD$18:$AD$1017),0)","v":0},{"$f":"IFERROR($E273*SUMIF('Daily Log'!$AF$18:$AF$1017,$B273,'Daily Log'!$AG$18:$AG$1017),0)","v":0},{"$f":"IFERROR($E273*SUMIF('Daily Log'!$AI$18:$AI$1017,$B273,'Daily Log'!$AJ$18:$AJ$1017),0)","v":0},{"$f":"IFERROR($E273*SUMIF('Daily Log'!$AL$18:$AL$1017,$B273,'Daily Log'!$AM$18:$AM$1017),0)","v":0},{"$f":"IFERROR($E273*SUMIF('Daily Log'!$AO$18:$AO$1017,$B273,'Daily Log'!$AP$18:$AP$1017),0)","v":0},{"$f":"IFERROR($E273*SUMIF('Daily Log'!$AR$18:$AR$1017,$B273,'Daily Log'!$AS$18:$AS$1017),0)","v":0},{"$f":"IFERROR($E273*SUMIF('Daily Log'!$AU$18:$AU$1017,$B273,'Daily Log'!$AV$18:$AV$1017),0)","v":0},{"$f":"IFERROR($E273*SUMIF('Daily Log'!$AX$18:$AX$1017,$B273,'Daily Log'!$AY$18:$AY$1017),0)","v":0},{"$f":"IFERROR($E273*SUMIF('Daily Log'!$BA$18:$BA$1017,$B273,'Daily Log'!$BB$18:$BB$1017),0)","v":0},{"$f":"IFERROR($E273*SUMIF('Daily Log'!$BD$18:$BD$1017,$B273,'Daily Log'!$BE$18:$BE$1017),0)","v":0},{"$f":"IFERROR($E273*SUMIF('Daily Log'!$BG$18:$BG$1017,$B273,'Daily Log'!$BH$18:$BH$1017),0)","v":0},{"$f":"IFERROR($E273*SUMIF('Daily Log'!$BJ$18:$BJ$1017,$B273,'Daily Log'!$BK$18:$BK$1017),0)","v":0},{"$f":"IFERROR($E273*SUMIF('Daily Log'!$BM$18:$BM$1017,$B273,'Daily Log'!$BN$18:$BN$1017),0)","v":0},{"$f":"IFERROR($E273*SUMIF('Daily Log'!$BP$18:$BP$1017,$B273,'Daily Log'!$BQ$18:$BQ$1017),0)","v":0},{"$f":"IFERROR($E273*SUMIF('Daily Log'!$BS$18:$BS$1017,$B273,'Daily Log'!$BT$18:$BT$1017),0)","v":0},{"$f":"IFERROR($E273*SUMIF('Daily Log'!$BV$18:$BV$1017,$B273,'Daily Log'!$BW$18:$BW$1017),0)","v":0},{"$f":"IFERROR($E273*SUMIF('Daily Log'!$BY$18:$BY$1017,$B273,'Daily Log'!$BZ$18:$BZ$1017),0)","v":0},{"$f":"IFERROR($E273*SUMIF('Daily Log'!$CB$18:$CB$1017,$B273,'Daily Log'!$CC$18:$CC$1017),0)","v":0},{"$f":"IFERROR($E273*SUMIF('Daily Log'!$CE$18:$CE$1017,$B273,'Daily Log'!$CF$18:$CF$1017),0)","v":0},{"$f":"IFERROR($E273*SUMIF('Daily Log'!$CH$18:$CH$1017,$B273,'Daily Log'!$CI$18:$CI$1017),0)","v":0},{"$f":"IFERROR($E273*SUMIF('Daily Log'!$CK$18:$CK$1017,$B273,'Daily Log'!$CL$18:$CL$1017),0)","v":0},{"$f":"IFERROR($E273*SUMIF('Daily Log'!$CN$18:$CN$1017,$B273,'Daily Log'!$CO$18:$CO$1017),0)","v":0}]
[null,null,null,null,null,null,{"$f":"IFERROR($E274*SUMIF('Daily Log'!$B$18:$B$1017,$B274,'Daily Log'!$C$18:$C$1017),0)","v":0},{"$f":"IFERROR($E274*SUMIF('Daily Log'!$E$18:$E$1017,$B274,'Daily Log'!$F$18:$F$1017),0)","v":0},{"$f":"IFERROR($E274*SUMIF('Daily Log'!$H$18:$H$1017,$B274,'Daily Log'!$I$18:$I$1017),0)","v":0},{"$f":"IFERROR($E274*SUMIF('Daily Log'!$K$18:$K$1017,$B274,'Daily Log'!$L$18:$L$1017),0)","v":0},{"$f":"IFERROR($E274*SUMIF('Daily Log'!$N$18:$N$1017,$B274,'Daily Log'!$O$18:$O$1017),0)","v":0},{"$f":"IFERROR($E274*SUMIF('Daily Log'!$Q$18:$Q$1017,$B274,'Daily Log'!$R$18:$R$1017),0)","v":0},{"$f":"IFERROR($E274*SUMIF('Daily Log'!$T$18:$T$1017,$B274,'Daily Log'!$U$18:$U$1017),0)","v":0},{"$f":"IFERROR($E274*SUMIF('Daily Log'!$W$18:$W$1017,$B274,'Daily Log'!$X$18:$X$1017),0)","v":0},{"$f":"IFERROR($E274*SUMIF('Daily Log'!$Z$18:$Z$1017,$B274,'Daily Log'!$AA$18:$AA$1017),0)","v":0},{"$f":"IFERROR($E274*SUMIF('Daily Log'!$AC$18:$AC$1017,$B274,'Daily Log'!$AD$18:$AD$1017),0)","v":0},{"$f":"IFERROR($E274*SUMIF('Daily Log'!$AF$18:$AF$1017,$B274,'Daily Log'!$AG$18:$AG$1017),0)","v":0},{"$f":"IFERROR($E274*SUMIF('Daily Log'!$AI$18:$AI$1017,$B274,'Daily Log'!$AJ$18:$AJ$1017),0)","v":0},{"$f":"IFERROR($E274*SUMIF('Daily Log'!$AL$18:$AL$1017,$B274,'Daily Log'!$AM$18:$AM$1017),0)","v":0},{"$f":"IFERROR($E274*SUMIF('Daily Log'!$AO$18:$AO$1017,$B274,'Daily Log'!$AP$18:$AP$1017),0)","v":0},{"$f":"IFERROR($E274*SUMIF('Daily Log'!$AR$18:$AR$1017,$B274,'Daily Log'!$AS$18:$AS$1017),0)","v":0},{"$f":"IFERROR($E274*SUMIF('Daily Log'!$AU$18:$AU$1017,$B274,'Daily Log'!$AV$18:$AV$1017),0)","v":0},{"$f":"IFERROR($E274*SUMIF('Daily Log'!$AX$18:$AX$1017,$B274,'Daily Log'!$AY$18:$AY$1017),0)","v":0},{"$f":"IFERROR($E274*SUMIF('Daily Log'!$BA$18:$BA$1017,$B274,'Daily Log'!$BB$18:$BB$1017),0)","v":0},{"$f":"IFERROR($E274*SUMIF('Daily Log'!$BD$18:$BD$1017,$B274,'Daily Log'!$BE$18:$BE$1017),0)","v":0},{"$f":"IFERROR($E274*SUMIF('Daily Log'!$BG$18:$BG$1017,$B274,'Daily Log'!$BH$18:$BH$1017),0)","v":0},{"$f":"IFERROR($E274*SUMIF('Daily Log'!$BJ$18:$BJ$1017,$B274,'Daily Log'!$BK$18:$BK$1017),0)","v":0},{"$f":"IFERROR($E274*SUMIF('Daily Log'!$BM$18:$BM$1017,$B274,'Daily Log'!$BN$18:$BN$1017),0)","v":0},{"$f":"IFERROR($E274*SUMIF('Daily Log'!$BP$18:$BP$1017,$B274,'Daily Log'!$BQ$18:$BQ$1017),0)","v":0},{"$f":"IFERROR($E274*SUMIF('Daily Log'!$BS$18:$BS$1017,$B274,'Daily Log'!$BT$18:$BT$1017),0)","v":0},{"$f":"IFERROR($E274*SUMIF('Daily Log'!$BV$18:$BV$1017,$B274,'Daily Log'!$BW$18:$BW$1017),0)","v":0},{"$f":"IFERROR($E274*SUMIF('Daily Log'!$BY$18:$BY$1017,$B274,'Daily Log'!$BZ$18:$BZ$1017),0)","v":0},{"$f":"IFERROR($E274*SUMIF('Daily Log'!$CB$18:$CB$1017,$B274,'Daily Log'!$CC$18:$CC$1017),0)","v":0},{"$f":"IFERROR($E274*SUMIF('Daily Log'!$CE$18:$CE$1017,$B274,'Daily Log'!$CF$18:$CF$1017),0)","v":0},{"$f":"IFERROR($E274*SUMIF('Daily Log'!$CH$18:$CH$1017,$B274,'Daily Log'!$CI$18:$CI$1017),0)","v":0},{"$f":"IFERROR($E274*SUMIF('Daily Log'!$CK$18:$CK$1017,$B274,'Daily Log'!$CL$18:$CL$1017),0)","v":0},{"$f":"IFERROR($E274*SUMIF('Daily Log'!$CN$18:$CN$1017,$B274,'Daily Log'!$CO$18:$CO$1017),0)","v":0}]
[null,null,null,null,null,null,{"$f":"IFERROR($E275*SUMIF('Daily Log'!$B$18:$B$1017,$B275,'Daily Log'!$C$18:$C$1017),0)","v":0},{"$f":"IFERROR($E275*SUMIF('Daily Log'!$E$18:$E$1017,$B275,'Daily Log'!$F$18:$F$1017),0)","v":0},{"$f":"IFERROR($E275*SUMIF('Daily Log'!$H$18:$H$1017,$B275,'Daily Log'!$I$18:$I$1017),0)","v":0},{"$f":"IFERROR($E275*SUMIF('Daily Log'!$K$18:$K$1017,$B275,'Daily Log'!$L$18:$L$1017),0)","v":0},{"$f":"IFERROR($E275*SUMIF('Daily Log'!$N$18:$N$1017,$B275,'Daily Log'!$O$18:$O$1017),0)","v":0},{"$f":"IFERROR($E275*SUMIF('Daily Log'!$Q$18:$Q$1017,$B275,'Daily Log'!$R$18:$R$1017),0)","v":0},{"$f":"IFERROR($E275*SUMIF('Daily Log'!$T$18:$T$1017,$B275,'Daily Log'!$U$18:$U$1017),0)","v":0},{"$f":"IFERROR($E275*SUMIF('Daily Log'!$W$18:$W$1017,$B275,'Daily Log'!$X$18:$X$1017),0)","v":0},{"$f":"IFERROR($E275*SUMIF('Daily Log'!$Z$18:$Z$1017,$B275,'Daily Log'!$AA$18:$AA$1017),0)","v":0},{"$f":"IFERROR($E275*SUMIF('Daily Log'!$AC$18:$AC$1017,$B275,'Daily Log'!$AD$18:$AD$1017),0)","v":0},{"$f":"IFERROR($E275*SUMIF('Daily Log'!$AF$18:$AF$1017,$B275,'Daily Log'!$AG$18:$AG$1017),0)","v":0},{"$f":"IFERROR($E275*SUMIF('Daily Log'!$AI$18:$AI$1017,$B275,'Daily Log'!$AJ$18:$AJ$1017),0)","v":0},{"$f":"IFERROR($E275*SUMIF('Daily Log'!$AL$18:$AL$1017,$B275,'Daily Log'!$AM$18:$AM$1017),0)","v":0},{"$f":"IFERROR($E275*SUMIF('Daily Log'!$AO$18:$AO$1017,$B275,'Daily Log'!$AP$18:$AP$1017),0)","v":0},{"$f":"IFERROR($E275*SUMIF('Daily Log'!$AR$18:$AR$1017,$B275,'Daily Log'!$AS$18:$AS$1017),0)","v":0},{"$f":"IFERROR($E275*SUMIF('Daily Log'!$AU$18:$AU$1017,$B275,'Daily Log'!$AV$18:$AV$1017),0)","v":0},{"$f":"IFERROR($E275*SUMIF('Daily Log'!$AX$18:$AX$1017,$B275,'Daily Log'!$AY$18:$AY$1017),0)","v":0},{"$f":"IFERROR($E275*SUMIF('Daily Log'!$BA$18:$BA$1017,$B275,'Daily Log'!$BB$18:$BB$1017),0)","v":0},{"$f":"IFERROR($E275*SUMIF('Daily Log'!$BD$18:$BD$1017,$B275,'Daily Log'!$BE$18:$BE$1017),0)","v":0},{"$f":"IFERROR($E275*SUMIF('Daily Log'!$BG$18:$BG$1017,$B275,'Daily Log'!$BH$18:$BH$1017),0)","v":0},{"$f":"IFERROR($E275*SUMIF('Daily Log'!$BJ$18:$BJ$1017,$B275,'Daily Log'!$BK$18:$BK$1017),0)","v":0},{"$f":"IFERROR($E275*SUMIF('Daily Log'!$BM$18:$BM$1017,$B275,'Daily Log'!$BN$18:$BN$1017),0)","v":0},{"$f":"IFERROR($E275*SUMIF('Daily Log'!$BP$18:$BP$1017,$B275,'Daily Log'!$BQ$18:$BQ$1017),0)","v":0},{"$f":"IFERROR($E275*SUMIF('Daily Log'!$BS$18:$BS$1017,$B275,'Daily Log'!$BT$18:$BT$1017),0)","v":0},{"$f":"IFERROR($E275*SUMIF('Daily Log'!$BV$18:$BV$1017,$B275,'Daily Log'!$BW$18:$BW$1017),0)","v":0},{"$f":"IFERROR($E275*SUMIF('Daily Log'!$BY$18:$BY$1017,$B275,'Daily Log'!$BZ$18:$BZ$1017),0)","v":0},{"$f":"IFERROR($E275*SUMIF('Daily Log'!$CB$18:$CB$1017,$B275,'Daily Log'!$CC$18:$CC$1017),0)","v":0},{"$f":"IFERROR($E275*SUMIF('Daily Log'!$CE$18:$CE$1017,$B275,'Daily Log'!$CF$18:$CF$1017),0)","v":0},{"$f":"IFERROR($E275*SUMIF('Daily Log'!$CH$18:$CH$1017,$B275,'Daily Log'!$CI$18:$CI$1017),0)","v":0},{"$f":"IFERROR($E275*SUMIF('Daily Log'!$CK$18:$CK$1017,$B275,'Daily Log'!$CL$18:$CL$1017),0)","v":0},{"$f":"IFERROR($E275*SUMIF('Daily Log'!$CN$18:$CN$1017,$B275,'Daily Log'!$CO$18:$CO$1017),0)","v":0}]
[null,null,null,null,null,null,{"$f":"IFERROR($E276*SUMIF('Daily Log'!$B$18:$B$1017,$B276,'Daily Log'!$C$18:$C$1017),0)","v":0},{"$f":"IFERROR($E276*SUMIF('Daily Log'!$E$18:$E$1017,$B276,'Daily Log'!$F$18:$F$1017),0)","v":0},{"$f":"IFERROR($E276*SUMIF('Daily Log'!$H$18:$H$1017,$B276,'Daily Log'!$I$18:$I$1017),0)","v":0},{"$f":"IFERROR($E276*SUMIF('Daily Log'!$K$18:$K$1017,$B276,'Daily Log'!$L$18:$L$1017),0)","v":0},{"$f":"IFERROR($E276*SUMIF('Daily Log'!$N$18:$N$1017,$B276,'Daily Log'!$O$18:$O$1017),0)","v":0},{"$f":"IFERROR($E276*SUMIF('Daily Log'!$Q$18:$Q$1017,$B276,'Daily Log'!$R$18:$R$1017),0)","v":0},{"$f":"IFERROR($E276*SUMIF('Daily Log'!$T$18:$T$1017,$B276,'Daily Log'!$U$18:$U$1017),0)","v":0},{"$f":"IFERROR($E276*SUMIF('Daily Log'!$W$18:$W$1017,$B276,'Daily Log'!$X$18:$X$1017),0)","v":0},{"$f":"IFERROR($E276*SUMIF('Daily Log'!$Z$18:$Z$1017,$B276,'Daily Log'!$AA$18:$AA$1017),0)","v":0},{"$f":"IFERROR($E276*SUMIF('Daily Log'!$AC$18:$AC$1017,$B276,'Daily Log'!$AD$18:$AD$1017),0)","v":0},{"$f":"IFERROR($E276*SUMIF('Daily Log'!$AF$18:$AF$1017,$B276,'Daily Log'!$AG$18:$AG$1017),0)","v":0},{"$f":"IFERROR($E276*SUMIF('Daily Log'!$AI$18:$AI$1017,$B276,'Daily Log'!$AJ$18:$AJ$1017),0)","v":0},{"$f":"IFERROR($E276*SUMIF('Daily Log'!$AL$18:$AL$1017,$B276,'Daily Log'!$AM$18:$AM$1017),0)","v":0},{"$f":"IFERROR($E276*SUMIF('Daily Log'!$AO$18:$AO$1017,$B276,'Daily Log'!$AP$18:$AP$1017),0)","v":0},{"$f":"IFERROR($E276*SUMIF('Daily Log'!$AR$18:$AR$1017,$B276,'Daily Log'!$AS$18:$AS$1017),0)","v":0},{"$f":"IFERROR($E276*SUMIF('Daily Log'!$AU$18:$AU$1017,$B276,'Daily Log'!$AV$18:$AV$1017),0)","v":0},{"$f":"IFERROR($E276*SUMIF('Daily Log'!$AX$18:$AX$1017,$B276,'Daily Log'!$AY$18:$AY$1017),0)","v":0},{"$f":"IFERROR($E276*SUMIF('Daily Log'!$BA$18:$BA$1017,$B276,'Daily Log'!$BB$18:$BB$1017),0)","v":0},{"$f":"IFERROR($E276*SUMIF('Daily Log'!$BD$18:$BD$1017,$B276,'Daily Log'!$BE$18:$BE$1017),0)","v":0},{"$f":"IFERROR($E276*SUMIF('Daily Log'!$BG$18:$BG$1017,$B276,'Daily Log'!$BH$18:$BH$1017),0)","v":0},{"$f":"IFERROR($E276*SUMIF('Daily Log'!$BJ$18:$BJ$1017,$B276,'Daily Log'!$BK$18:$BK$1017),0)","v":0},{"$f":"IFERROR($E276*SUMIF('Daily Log'!$BM$18:$BM$1017,$B276,'Daily Log'!$BN$18:$BN$1017),0)","v":0},{"$f":"IFERROR($E276*SUMIF('Daily Log'!$BP$18:$BP$1017,$B276,'Daily Log'!$BQ$18:$BQ$1017),0)","v":0},{"$f":"IFERROR($E276*SUMIF('Daily Log'!$BS$18:$BS$1017,$B276,'Daily Log'!$BT$18:$BT$1017),0)","v":0},{"$f":"IFERROR($E276*SUMIF('Daily Log'!$BV$18:$BV$1017,$B276,'Daily Log'!$BW$18:$BW$1017),0)","v":0},{"$f":"IFERROR($E276*SUMIF('Daily Log'!$BY$18:$BY$1017,$B276,'Daily Log'!$BZ$18:$BZ$1017),0)","v":0},{"$f":"IFERROR($E276*SUMIF('Daily Log'!$CB$18:$CB$1017,$B276,'Daily Log'!$CC$18:$CC$1017),0)","v":0},{"$f":"IFERROR($E276*SUMIF('Daily Log'!$CE$18:$CE$1017,$B276,'Daily Log'!$CF$18:$CF$1017),0)","v":0},{"$f":"IFERROR($E276*SUMIF('Daily Log'!$CH$18:$CH$1017,$B276,'Daily Log'!$CI$18:$CI$1017),0)","v":0},{"$f":"IFERROR($E276*SUMIF('Daily Log'!$CK$18:$CK$1017,$B276,'Daily Log'!$CL$18:$CL$1017),0)","v":0},{"$f":"IFERROR($E276*SUMIF('Daily Log'!$CN$18:$CN$1017,$B276,'Daily Log'!$CO$18:$CO$1017),0)","v":0}]
[null,null,null,null,null,null,{"$f":"IFERROR($E277*SUMIF('Daily Log'!$B$18:$B$1017,$B277,'Daily Log'!$C$18:$C$1017),0)","v":0},{"$f":"IFERROR($E277*SUMIF('Daily Log'!$E$18:$E$1017,$B277,'Daily Log'!$F$18:$F$1017),0)","v":0},{"$f":"IFERROR($E277*SUMIF('Daily Log'!$H$18:$H$1017,$B277,'Daily Log'!$I$18:$I$1017),0)","v":0},{"$f":"IFERROR($E277*SUMIF('Daily Log'!$K$18:$K$1017,$B277,'Daily Log'!$L$18:$L$1017),0)","v":0},{"$f":"IFERROR($E277*SUMIF('Daily Log'!$N$18:$N$1017,$B277,'Daily Log'!$O$18:$O$1017),0)","v":0},{"$f":"IFERROR($E277*SUMIF('Daily Log'!$Q$18:$Q$1017,$B277,'Daily Log'!$R$18:$R$1017),0)","v":0},{"$f":"IFERROR($E277*SUMIF('Daily Log'!$T$18:$T$1017,$B277,'Daily Log'!$U$18:$U$1017),0)","v":0},{"$f":"IFERROR($E277*SUMIF('Daily Log'!$W$18:$W$1017,$B277,'Daily Log'!$X$18:$X$1017),0)","v":0},{"$f":"IFERROR($E277*SUMIF('Daily Log'!$Z$18:$Z$1017,$B277,'Daily Log'!$AA$18:$AA$1017),0)","v":0},{"$f":"IFERROR($E277*SUMIF('Daily Log'!$AC$18:$AC$1017,$B277,'Daily Log'!$AD$18:$AD$1017),0)","v":0},{"$f":"IFERROR($E277*SUMIF('Daily Log'!$AF$18:$AF$1017,$B277,'Daily Log'!$AG$18:$AG$1017),0)","v":0},{"$f":"IFERROR($E277*SUMIF('Daily Log'!$AI$18:$AI$1017,$B277,'Daily Log'!$AJ$18:$AJ$1017),0)","v":0},{"$f":"IFERROR($E277*SUMIF('Daily Log'!$AL$18:$AL$1017,$B277,'Daily Log'!$AM$18:$AM$1017),0)","v":0},{"$f":"IFERROR($E277*SUMIF('Daily Log'!$AO$18:$AO$1017,$B277,'Daily Log'!$AP$18:$AP$1017),0)","v":0},{"$f":"IFERROR($E277*SUMIF('Daily Log'!$AR$18:$AR$1017,$B277,'Daily Log'!$AS$18:$AS$1017),0)","v":0},{"$f":"IFERROR($E277*SUMIF('Daily Log'!$AU$18:$AU$1017,$B277,'Daily Log'!$AV$18:$AV$1017),0)","v":0},{"$f":"IFERROR($E277*SUMIF('Daily Log'!$AX$18:$AX$1017,$B277,'Daily Log'!$AY$18:$AY$1017),0)","v":0},{"$f":"IFERROR($E277*SUMIF('Daily Log'!$BA$18:$BA$1017,$B277,'Daily Log'!$BB$18:$BB$1017),0)","v":0},{"$f":"IFERROR($E277*SUMIF('Daily Log'!$BD$18:$BD$1017,$B277,'Daily Log'!$BE$18:$BE$1017),0)","v":0},{"$f":"IFERROR($E277*SUMIF('Daily Log'!$BG$18:$BG$1017,$B277,'Daily Log'!$BH$18:$BH$1017),0)","v":0},{"$f":"IFERROR($E277*SUMIF('Daily Log'!$BJ$18:$BJ$1017,$B277,'Daily Log'!$BK$18:$BK$1017),0)","v":0},{"$f":"IFERROR($E277*SUMIF('Daily Log'!$BM$18:$BM$1017,$B277,'Daily Log'!$BN$18:$BN$1017),0)","v":0},{"$f":"IFERROR($E277*SUMIF('Daily Log'!$BP$18:$BP$1017,$B277,'Daily Log'!$BQ$18:$BQ$1017),0)","v":0},{"$f":"IFERROR($E277*SUMIF('Daily Log'!$BS$18:$BS$1017,$B277,'Daily Log'!$BT$18:$BT$1017),0)","v":0},{"$f":"IFERROR($E277*SUMIF('Daily Log'!$BV$18:$BV$1017,$B277,'Daily Log'!$BW$18:$BW$1017),0)","v":0},{"$f":"IFERROR($E277*SUMIF('Daily Log'!$BY$18:$BY$1017,$B277,'Daily Log'!$BZ$18:$BZ$1017),0)","v":0},{"$f":"IFERROR($E277*SUMIF('Daily Log'!$CB$18:$CB$1017,$B277,'Daily Log'!$CC$18:$CC$1017),0)","v":0},{"$f":"IFERROR($E277*SUMIF('Daily Log'!$CE$18:$CE$1017,$B277,'Daily Log'!$CF$18:$CF$1017),0)","v":0},{"$f":"IFERROR($E277*SUMIF('Daily Log'!$CH$18:$CH$1017,$B277,'Daily Log'!$CI$18:$CI$1017),0)","v":0},{"$f":"IFERROR($E277*SUMIF('Daily Log'!$CK$18:$CK$1017,$B277,'Daily Log'!$CL$18:$CL$1017),0)","v":0},{"$f":"IFERROR($E277*SUMIF('Daily Log'!$CN$18:$CN$1017,$B277,'Daily Log'!$CO$18:$CO$1017),0)","v":0}]
[null,null,null,null,null,null,{"$f":"IFERROR($E278*SUMIF('Daily Log'!$B$18:$B$1017,$B278,'Daily Log'!$C$18:$C$1017),0)","v":0},{"$f":"IFERROR($E278*SUMIF('Daily Log'!$E$18:$E$1017,$B278,'Daily Log'!$F$18:$F$1017),0)","v":0},{"$f":"IFERROR($E278*SUMIF('Daily Log'!$H$18:$H$1017,$B278,'Daily Log'!$I$18:$I$1017),0)","v":0},{"$f":"IFERROR($E278*SUMIF('Daily Log'!$K$18:$K$1017,$B278,'Daily Log'!$L$18:$L$1017),0)","v":0},{"$f":"IFERROR($E278*SUMIF('Daily Log'!$N$18:$N$1017,$B278,'Daily Log'!$O$18:$O$1017),0)","v":0},{"$f":"IFERROR($E278*SUMIF('Daily Log'!$Q$18:$Q$1017,$B278,'Daily Log'!$R$18:$R$1017),0)","v":0},{"$f":"IFERROR($E278*SUMIF('Daily Log'!$T$18:$T$1017,$B278,'Daily Log'!$U$18:$U$1017),0)","v":0},{"$f":"IFERROR($E278*SUMIF('Daily Log'!$W$18:$W$1017,$B278,'Daily Log'!$X$18:$X$1017),0)","v":0},{"$f":"IFERROR($E278*SUMIF('Daily Log'!$Z$18:$Z$1017,$B278,'Daily Log'!$AA$18:$AA$1017),0)","v":0},{"$f":"IFERROR($E278*SUMIF('Daily Log'!$AC$18:$AC$1017,$B278,'Daily Log'!$AD$18:$AD$1017),0)","v":0},{"$f":"IFERROR($E278*SUMIF('Daily Log'!$AF$18:$AF$1017,$B278,'Daily Log'!$AG$18:$AG$1017),0)","v":0},{"$f":"IFERROR($E278*SUMIF('Daily Log'!$AI$18:$AI$1017,$B278,'Daily Log'!$AJ$18:$AJ$1017),0)","v":0},{"$f":"IFERROR($E278*SUMIF('Daily Log'!$AL$18:$AL$1017,$B278,'Daily Log'!$AM$18:$AM$1017),0)","v":0},{"$f":"IFERROR($E278*SUMIF('Daily Log'!$AO$18:$AO$1017,$B278,'Daily Log'!$AP$18:$AP$1017),0)","v":0},{"$f":"IFERROR($E278*SUMIF('Daily Log'!$AR$18:$AR$1017,$B278,'Daily Log'!$AS$18:$AS$1017),0)","v":0},{"$f":"IFERROR($E278*SUMIF('Daily Log'!$AU$18:$AU$1017,$B278,'Daily Log'!$AV$18:$AV$1017),0)","v":0},{"$f":"IFERROR($E278*SUMIF('Daily Log'!$AX$18:$AX$1017,$B278,'Daily Log'!$AY$18:$AY$1017),0)","v":0},{"$f":"IFERROR($E278*SUMIF('Daily Log'!$BA$18:$BA$1017,$B278,'Daily Log'!$BB$18:$BB$1017),0)","v":0},{"$f":"IFERROR($E278*SUMIF('Daily Log'!$BD$18:$BD$1017,$B278,'Daily Log'!$BE$18:$BE$1017),0)","v":0},{"$f":"IFERROR($E278*SUMIF('Daily Log'!$BG$18:$BG$1017,$B278,'Daily Log'!$BH$18:$BH$1017),0)","v":0},{"$f":"IFERROR($E278*SUMIF('Daily Log'!$BJ$18:$BJ$1017,$B278,'Daily Log'!$BK$18:$BK$1017),0)","v":0},{"$f":"IFERROR($E278*SUMIF('Daily Log'!$BM$18:$BM$1017,$B278,'Daily Log'!$BN$18:$BN$1017),0)","v":0},{"$f":"IFERROR($E278*SUMIF('Daily Log'!$BP$18:$BP$1017,$B278,'Daily Log'!$BQ$18:$BQ$1017),0)","v":0},{"$f":"IFERROR($E278*SUMIF('Daily Log'!$BS$18:$BS$1017,$B278,'Daily Log'!$BT$18:$BT$1017),0)","v":0},{"$f":"IFERROR($E278*SUMIF('Daily Log'!$BV$18:$BV$1017,$B278,'Daily Log'!$BW$18:$BW$1017),0)","v":0},{"$f":"IFERROR($E278*SUMIF('Daily Log'!$BY$18:$BY$1017,$B278,'Daily Log'!$BZ$18:$BZ$1017),0)","v":0},{"$f":"IFERROR($E278*SUMIF('Daily Log'!$CB$18:$CB$1017,$B278,'Daily Log'!$CC$18:$CC$1017),0)","v":0},{"$f":"IFERROR($E278*SUMIF('Daily Log'!$CE$18:$CE$1017,$B278,'Daily Log'!$CF$18:$CF$1017),0)","v":0},{"$f":"IFERROR($E278*SUMIF('Daily Log'!$CH$18:$CH$1017,$B278,'Daily Log'!$CI$18:$CI$1017),0)","v":0},{"$f":"IFERROR($E278*SUMIF('Daily Log'!$CK$18:$CK$1017,$B278,'Daily Log'!$CL$18:$CL$1017),0)","v":0},{"$f":"IFERROR($E278*SUMIF('Daily Log'!$CN$18:$CN$1017,$B278,'Daily Log'!$CO$18:$CO$1017),0)","v":0}]
[null,null,null,null,null,null,{"$f":"IFERROR($E279*SUMIF('Daily Log'!$B$18:$B$1017,$B279,'Daily Log'!$C$18:$C$1017),0)","v":0},{"$f":"IFERROR($E279*SUMIF('Daily Log'!$E$18:$E$1017,$B279,'Daily Log'!$F$18:$F$1017),0)","v":0},{"$f":"IFERROR($E279*SUMIF('Daily Log'!$H$18:$H$1017,$B279,'Daily Log'!$I$18:$I$1017),0)","v":0},{"$f":"IFERROR($E279*SUMIF('Daily Log'!$K$18:$K$1017,$B279,'Daily Log'!$L$18:$L$1017),0)","v":0},{"$f":"IFERROR($E279*SUMIF('Daily Log'!$N$18:$N$1017,$B279,'Daily Log'!$O$18:$O$1017),0)","v":0},{"$f":"IFERROR($E279*SUMIF('Daily Log'!$Q$18:$Q$1017,$B279,'Daily Log'!$R$18:$R$1017),0)","v":0},{"$f":"IFERROR($E279*SUMIF('Daily Log'!$T$18:$T$1017,$B279,'Daily Log'!$U$18:$U$1017),0)","v":0},{"$f":"IFERROR($E279*SUMIF('Daily Log'!$W$18:$W$1017,$B279,'Daily Log'!$X$18:$X$1017),0)","v":0},{"$f":"IFERROR($E279*SUMIF('Daily Log'!$Z$18:$Z$1017,$B279,'Daily Log'!$AA$18:$AA$1017),0)","v":0},{"$f":"IFERROR($E279*SUMIF('Daily Log'!$AC$18:$AC$1017,$B279,'Daily Log'!$AD$18:$AD$1017),0)","v":0},{"$f":"IFERROR($E279*SUMIF('Daily Log'!$AF$18:$AF$1017,$B279,'Daily Log'!$AG$18:$AG$1017),0)","v":0},{"$f":"IFERROR($E279*SUMIF('Daily Log'!$AI$18:$AI$1017,$B279,'Daily Log'!$AJ$18:$AJ$1017),0)","v":0},{"$f":"IFERROR($E279*SUMIF('Daily Log'!$AL$18:$AL$1017,$B279,'Daily Log'!$AM$18:$AM$1017),0)","v":0},{"$f":"IFERROR($E279*SUMIF('Daily Log'!$AO$18:$AO$1017,$B279,'Daily Log'!$AP$18:$AP$1017),0)","v":0},{"$f":"IFERROR($E279*SUMIF('Daily Log'!$AR$18:$AR$1017,$B279,'Daily Log'!$AS$18:$AS$1017),0)","v":0},{"$f":"IFERROR($E279*SUMIF('Daily Log'!$AU$18:$AU$1017,$B279,'Daily Log'!$AV$18:$AV$1017),0)","v":0},{"$f":"IFERROR($E279*SUMIF('Daily Log'!$AX$18:$AX$1017,$B279,'Daily Log'!$AY$18:$AY$1017),0)","v":0},{"$f":"IFERROR($E279*SUMIF('Daily Log'!$BA$18:$BA$1017,$B279,'Daily Log'!$BB$18:$BB$1017),0)","v":0},{"$f":"IFERROR($E279*SUMIF('Daily Log'!$BD$18:$BD$1017,$B279,'Daily Log'!$BE$18:$BE$1017),0)","v":0},{"$f":"IFERROR($E279*SUMIF('Daily Log'!$BG$18:$BG$1017,$B279,'Daily Log'!$BH$18:$BH$1017),0)","v":0},{"$f":"IFERROR($E279*SUMIF('Daily Log'!$BJ$18:$BJ$1017,$B279,'Daily Log'!$BK$18:$BK$1017),0)","v":0},{"$f":"IFERROR($E279*SUMIF('Daily Log'!$BM$18:$BM$1017,$B279,'Daily Log'!$BN$18:$BN$1017),0)","v":0},{"$f":"IFERROR($E279*SUMIF('Daily Log'!$BP$18:$BP$1017,$B279,'Daily Log'!$BQ$18:$BQ$1017),0)","v":0},{"$f":"IFERROR($E279*SUMIF('Daily Log'!$BS$18:$BS$1017,$B279,'Daily Log'!$BT$18:$BT$1017),0)","v":0},{"$f":"IFERROR($E279*SUMIF('Daily Log'!$BV$18:$BV$1017,$B279,'Daily Log'!$BW$18:$BW$1017),0)","v":0},{"$f":"IFERROR($E279*SUMIF('Daily Log'!$BY$18:$BY$1017,$B279,'Daily Log'!$BZ$18:$BZ$1017),0)","v":0},{"$f":"IFERROR($E279*SUMIF('Daily Log'!$CB$18:$CB$1017,$B279,'Daily Log'!$CC$18:$CC$1017),0)","v":0},{"$f":"IFERROR($E279*SUMIF('Daily Log'!$CE$18:$CE$1017,$B279,'Daily Log'!$CF$18:$CF$1017),0)","v":0},{"$f":"IFERROR($E279*SUMIF('Daily Log'!$CH$18:$CH$1017,$B279,'Daily Log'!$CI$18:$CI$1017),0)","v":0},{"$f":"IFERROR($E279*SUMIF('Daily Log'!$CK$18:$CK$1017,$B279,'Daily Log'!$CL$18:$CL$1017),0)","v":0},{"$f":"IFERROR($E279*SUMIF('Daily Log'!$CN$18:$CN$1017,$B279,'Daily Log'!$CO$18:$CO$1017),0)","v":0}]
[null,null,null,null,null,null,{"$f":"IFERROR($E280*SUMIF('Daily Log'!$B$18:$B$1017,$B280,'Daily Log'!$C$18:$C$1017),0)","v":0},{"$f":"IFERROR($E280*SUMIF('Daily Log'!$E$18:$E$1017,$B280,'Daily Log'!$F$18:$F$1017),0)","v":0},{"$f":"IFERROR($E280*SUMIF('Daily Log'!$H$18:$H$1017,$B280,'Daily Log'!$I$18:$I$1017),0)","v":0},{"$f":"IFERROR($E280*SUMIF('Daily Log'!$K$18:$K$1017,$B280,'Daily Log'!$L$18:$L$1017),0)","v":0},{"$f":"IFERROR($E280*SUMIF('Daily Log'!$N$18:$N$1017,$B280,'Daily Log'!$O$18:$O$1017),0)","v":0},{"$f":"IFERROR($E280*SUMIF('Daily Log'!$Q$18:$Q$1017,$B280,'Daily Log'!$R$18:$R$1017),0)","v":0},{"$f":"IFERROR($E280*SUMIF('Daily Log'!$T$18:$T$1017,$B280,'Daily Log'!$U$18:$U$1017),0)","v":0},{"$f":"IFERROR($E280*SUMIF('Daily Log'!$W$18:$W$1017,$B280,'Daily Log'!$X$18:$X$1017),0)","v":0},{"$f":"IFERROR($E280*SUMIF('Daily Log'!$Z$18:$Z$1017,$B280,'Daily Log'!$AA$18:$AA$1017),0)","v":0},{"$f":"IFERROR($E280*SUMIF('Daily Log'!$AC$18:$AC$1017,$B280,'Daily Log'!$AD$18:$AD$1017),0)","v":0},{"$f":"IFERROR($E280*SUMIF('Daily Log'!$AF$18:$AF$1017,$B280,'Daily Log'!$AG$18:$AG$1017),0)","v":0},{"$f":"IFERROR($E280*SUMIF('Daily Log'!$AI$18:$AI$1017,$B280,'Daily Log'!$AJ$18:$AJ$1017),0)","v":0},{"$f":"IFERROR($E280*SUMIF('Daily Log'!$AL$18:$AL$1017,$B280,'Daily Log'!$AM$18:$AM$1017),0)","v":0},{"$f":"IFERROR($E280*SUMIF('Daily Log'!$AO$18:$AO$1017,$B280,'Daily Log'!$AP$18:$AP$1017),0)","v":0},{"$f":"IFERROR($E280*SUMIF('Daily Log'!$AR$18:$AR$1017,$B280,'Daily Log'!$AS$18:$AS$1017),0)","v":0},{"$f":"IFERROR($E280*SUMIF('Daily Log'!$AU$18:$AU$1017,$B280,'Daily Log'!$AV$18:$AV$1017),0)","v":0},{"$f":"IFERROR($E280*SUMIF('Daily Log'!$AX$18:$AX$1017,$B280,'Daily Log'!$AY$18:$AY$1017),0)","v":0},{"$f":"IFERROR($E280*SUMIF('Daily Log'!$BA$18:$BA$1017,$B280,'Daily Log'!$BB$18:$BB$1017),0)","v":0},{"$f":"IFERROR($E280*SUMIF('Daily Log'!$BD$18:$BD$1017,$B280,'Daily Log'!$BE$18:$BE$1017),0)","v":0},{"$f":"IFERROR($E280*SUMIF('Daily Log'!$BG$18:$BG$1017,$B280,'Daily Log'!$BH$18:$BH$1017),0)","v":0},{"$f":"IFERROR($E280*SUMIF('Daily Log'!$BJ$18:$BJ$1017,$B280,'Daily Log'!$BK$18:$BK$1017),0)","v":0},{"$f":"IFERROR($E280*SUMIF('Daily Log'!$BM$18:$BM$1017,$B280,'Daily Log'!$BN$18:$BN$1017),0)","v":0},{"$f":"IFERROR($E280*SUMIF('Daily Log'!$BP$18:$BP$1017,$B280,'Daily Log'!$BQ$18:$BQ$1017),0)","v":0},{"$f":"IFERROR($E280*SUMIF('Daily Log'!$BS$18:$BS$1017,$B280,'Daily Log'!$BT$18:$BT$1017),0)","v":0},{"$f":"IFERROR($E280*SUMIF('Daily Log'!$BV$18:$BV$1017,$B280,'Daily Log'!$BW$18:$BW$1017),0)","v":0},{"$f":"IFERROR($E280*SUMIF('Daily Log'!$BY$18:$BY$1017,$B280,'Daily Log'!$BZ$18:$BZ$1017),0)","v":0},{"$f":"IFERROR($E280*SUMIF('Daily Log'!$CB$18:$CB$1017,$B280,'Daily Log'!$CC$18:$CC$1017),0)","v":0},{"$f":"IFERROR($E280*SUMIF('Daily Log'!$CE$18:$CE$1017,$B280,'Daily Log'!$CF$18:$CF$1017),0)","v":0},{"$f":"IFERROR($E280*SUMIF('Daily Log'!$CH$18:$CH$1017,$B280,'Daily Log'!$CI$18:$CI$1017),0)","v":0},{"$f":"IFERROR($E280*SUMIF('Daily Log'!$CK$18:$CK$1017,$B280,'Daily Log'!$CL$18:$CL$1017),0)","v":0},{"$f":"IFERROR($E280*SUMIF('Daily Log'!$CN$18:$CN$1017,$B280,'Daily Log'!$CO$18:$CO$1017),0)","v":0}]
[null,null,null,null,null,null,{"$f":"IFERROR($E281*SUMIF('Daily Log'!$B$18:$B$1017,$B281,'Daily Log'!$C$18:$C$1017),0)","v":0},{"$f":"IFERROR($E281*SUMIF('Daily Log'!$E$18:$E$1017,$B281,'Daily Log'!$F$18:$F$1017),0)","v":0},{"$f":"IFERROR($E281*SUMIF('Daily Log'!$H$18:$H$1017,$B281,'Daily Log'!$I$18:$I$1017),0)","v":0},{"$f":"IFERROR($E281*SUMIF('Daily Log'!$K$18:$K$1017,$B281,'Daily Log'!$L$18:$L$1017),0)","v":0},{"$f":"IFERROR($E281*SUMIF('Daily Log'!$N$18:$N$1017,$B281,'Daily Log'!$O$18:$O$1017),0)","v":0},{"$f":"IFERROR($E281*SUMIF('Daily Log'!$Q$18:$Q$1017,$B281,'Daily Log'!$R$18:$R$1017),0)","v":0},{"$f":"IFERROR($E281*SUMIF('Daily Log'!$T$18:$T$1017,$B281,'Daily Log'!$U$18:$U$1017),0)","v":0},{"$f":"IFERROR($E281*SUMIF('Daily Log'!$W$18:$W$1017,$B281,'Daily Log'!$X$18:$X$1017),0)","v":0},{"$f":"IFERROR($E281*SUMIF('Daily Log'!$Z$18:$Z$1017,$B281,'Daily Log'!$AA$18:$AA$1017),0)","v":0},{"$f":"IFERROR($E281*SUMIF('Daily Log'!$AC$18:$AC$1017,$B281,'Daily Log'!$AD$18:$AD$1017),0)","v":0},{"$f":"IFERROR($E281*SUMIF('Daily Log'!$AF$18:$AF$1017,$B281,'Daily Log'!$AG$18:$AG$1017),0)","v":0},{"$f":"IFERROR($E281*SUMIF('Daily Log'!$AI$18:$AI$1017,$B281,'Daily Log'!$AJ$18:$AJ$1017),0)","v":0},{"$f":"IFERROR($E281*SUMIF('Daily Log'!$AL$18:$AL$1017,$B281,'Daily Log'!$AM$18:$AM$1017),0)","v":0},{"$f":"IFERROR($E281*SUMIF('Daily Log'!$AO$18:$AO$1017,$B281,'Daily Log'!$AP$18:$AP$1017),0)","v":0},{"$f":"IFERROR($E281*SUMIF('Daily Log'!$AR$18:$AR$1017,$B281,'Daily Log'!$AS$18:$AS$1017),0)","v":0},{"$f":"IFERROR($E281*SUMIF('Daily Log'!$AU$18:$AU$1017,$B281,'Daily Log'!$AV$18:$AV$1017),0)","v":0},{"$f":"IFERROR($E281*SUMIF('Daily Log'!$AX$18:$AX$1017,$B281,'Daily Log'!$AY$18:$AY$1017),0)","v":0},{"$f":"IFERROR($E281*SUMIF('Daily Log'!$BA$18:$BA$1017,$B281,'Daily Log'!$BB$18:$BB$1017),0)","v":0},{"$f":"IFERROR($E281*SUMIF('Daily Log'!$BD$18:$BD$1017,$B281,'Daily Log'!$BE$18:$BE$1017),0)","v":0},{"$f":"IFERROR($E281*SUMIF('Daily Log'!$BG$18:$BG$1017,$B281,'Daily Log'!$BH$18:$BH$1017),0)","v":0},{"$f":"IFERROR($E281*SUMIF('Daily Log'!$BJ$18:$BJ$1017,$B281,'Daily Log'!$BK$18:$BK$1017),0)","v":0},{"$f":"IFERROR($E281*SUMIF('Daily Log'!$BM$18:$BM$1017,$B281,'Daily Log'!$BN$18:$BN$1017),0)","v":0},{"$f":"IFERROR($E281*SUMIF('Daily Log'!$BP$18:$BP$1017,$B281,'Daily Log'!$BQ$18:$BQ$1017),0)","v":0},{"$f":"IFERROR($E281*SUMIF('Daily Log'!$BS$18:$BS$1017,$B281,'Daily Log'!$BT$18:$BT$1017),0)","v":0},{"$f":"IFERROR($E281*SUMIF('Daily Log'!$BV$18:$BV$1017,$B281,'Daily Log'!$BW$18:$BW$1017),0)","v":0},{"$f":"IFERROR($E281*SUMIF('Daily Log'!$BY$18:$BY$1017,$B281,'Daily Log'!$BZ$18:$BZ$1017),0)","v":0},{"$f":"IFERROR($E281*SUMIF('Daily Log'!$CB$18:$CB$1017,$B281,'Daily Log'!$CC$18:$CC$1017),0)","v":0},{"$f":"IFERROR($E281*SUMIF('Daily Log'!$CE$18:$CE$1017,$B281,'Daily Log'!$CF$18:$CF$1017),0)","v":0},{"$f":"IFERROR($E281*SUMIF('Daily Log'!$CH$18:$CH$1017,$B281,'Daily Log'!$CI$18:$CI$1017),0)","v":0},{"$f":"IFERROR($E281*SUMIF('Daily Log'!$CK$18:$CK$1017,$B281,'Daily Log'!$CL$18:$CL$1017),0)","v":0},{"$f":"IFERROR($E281*SUMIF('Daily Log'!$CN$18:$CN$1017,$B281,'Daily Log'!$CO$18:$CO$1017),0)","v":0}]
[null,null,null,null,null,null,{"$f":"IFERROR($E282*SUMIF('Daily Log'!$B$18:$B$1017,$B282,'Daily Log'!$C$18:$C$1017),0)","v":0},{"$f":"IFERROR($E282*SUMIF('Daily Log'!$E$18:$E$1017,$B282,'Daily Log'!$F$18:$F$1017),0)","v":0},{"$f":"IFERROR($E282*SUMIF('Daily Log'!$H$18:$H$1017,$B282,'Daily Log'!$I$18:$I$1017),0)","v":0},{"$f":"IFERROR($E282*SUMIF('Daily Log'!$K$18:$K$1017,$B282,'Daily Log'!$L$18:$L$1017),0)","v":0},{"$f":"IFERROR($E282*SUMIF('Daily Log'!$N$18:$N$1017,$B282,'Daily Log'!$O$18:$O$1017),0)","v":0},{"$f":"IFERROR($E282*SUMIF('Daily Log'!$Q$18:$Q$1017,$B282,'Daily Log'!$R$18:$R$1017),0)","v":0},{"$f":"IFERROR($E282*SUMIF('Daily Log'!$T$18:$T$1017,$B282,'Daily Log'!$U$18:$U$1017),0)","v":0},{"$f":"IFERROR($E282*SUMIF('Daily Log'!$W$18:$W$1017,$B282,'Daily Log'!$X$18:$X$1017),0)","v":0},{"$f":"IFERROR($E282*SUMIF('Daily Log'!$Z$18:$Z$1017,$B282,'Daily Log'!$AA$18:$AA$1017),0)","v":0},{"$f":"IFERROR($E282*SUMIF('Daily Log'!$AC$18:$AC$1017,$B282,'Daily Log'!$AD$18:$AD$1017),0)","v":0},{"$f":"IFERROR($E282*SUMIF('Daily Log'!$AF$18:$AF$1017,$B282,'Daily Log'!$AG$18:$AG$1017),0)","v":0},{"$f":"IFERROR($E282*SUMIF('Daily Log'!$AI$18:$AI$1017,$B282,'Daily Log'!$AJ$18:$AJ$1017),0)","v":0},{"$f":"IFERROR($E282*SUMIF('Daily Log'!$AL$18:$AL$1017,$B282,'Daily Log'!$AM$18:$AM$1017),0)","v":0},{"$f":"IFERROR($E282*SUMIF('Daily Log'!$AO$18:$AO$1017,$B282,'Daily Log'!$AP$18:$AP$1017),0)","v":0},{"$f":"IFERROR($E282*SUMIF('Daily Log'!$AR$18:$AR$1017,$B282,'Daily Log'!$AS$18:$AS$1017),0)","v":0},{"$f":"IFERROR($E282*SUMIF('Daily Log'!$AU$18:$AU$1017,$B282,'Daily Log'!$AV$18:$AV$1017),0)","v":0},{"$f":"IFERROR($E282*SUMIF('Daily Log'!$AX$18:$AX$1017,$B282,'Daily Log'!$AY$18:$AY$1017),0)","v":0},{"$f":"IFERROR($E282*SUMIF('Daily Log'!$BA$18:$BA$1017,$B282,'Daily Log'!$BB$18:$BB$1017),0)","v":0},{"$f":"IFERROR($E282*SUMIF('Daily Log'!$BD$18:$BD$1017,$B282,'Daily Log'!$BE$18:$BE$1017),0)","v":0},{"$f":"IFERROR($E282*SUMIF('Daily Log'!$BG$18:$BG$1017,$B282,'Daily Log'!$BH$18:$BH$1017),0)","v":0},{"$f":"IFERROR($E282*SUMIF('Daily Log'!$BJ$18:$BJ$1017,$B282,'Daily Log'!$BK$18:$BK$1017),0)","v":0},{"$f":"IFERROR($E282*SUMIF('Daily Log'!$BM$18:$BM$1017,$B282,'Daily Log'!$BN$18:$BN$1017),0)","v":0},{"$f":"IFERROR($E282*SUMIF('Daily Log'!$BP$18:$BP$1017,$B282,'Daily Log'!$BQ$18:$BQ$1017),0)","v":0},{"$f":"IFERROR($E282*SUMIF('Daily Log'!$BS$18:$BS$1017,$B282,'Daily Log'!$BT$18:$BT$1017),0)","v":0},{"$f":"IFERROR($E282*SUMIF('Daily Log'!$BV$18:$BV$1017,$B282,'Daily Log'!$BW$18:$BW$1017),0)","v":0},{"$f":"IFERROR($E282*SUMIF('Daily Log'!$BY$18:$BY$1017,$B282,'Daily Log'!$BZ$18:$BZ$1017),0)","v":0},{"$f":"IFERROR($E282*SUMIF('Daily Log'!$CB$18:$CB$1017,$B282,'Daily Log'!$CC$18:$CC$1017),0)","v":0},{"$f":"IFERROR($E282*SUMIF('Daily Log'!$CE$18:$CE$1017,$B282,'Daily Log'!$CF$18:$CF$1017),0)","v":0},{"$f":"IFERROR($E282*SUMIF('Daily Log'!$CH$18:$CH$1017,$B282,'Daily Log'!$CI$18:$CI$1017),0)","v":0},{"$f":"IFERROR($E282*SUMIF('Daily Log'!$CK$18:$CK$1017,$B282,'Daily Log'!$CL$18:$CL$1017),0)","v":0},{"$f":"IFERROR($E282*SUMIF('Daily Log'!$CN$18:$CN$1017,$B282,'Daily Log'!$CO$18:$CO$1017),0)","v":0}]
[null,null,null,null,null,null,{"$f":"IFERROR($E283*SUMIF('Daily Log'!$B$18:$B$1017,$B283,'Daily Log'!$C$18:$C$1017),0)","v":0},{"$f":"IFERROR($E283*SUMIF('Daily Log'!$E$18:$E$1017,$B283,'Daily Log'!$F$18:$F$1017),0)","v":0},{"$f":"IFERROR($E283*SUMIF('Daily Log'!$H$18:$H$1017,$B283,'Daily Log'!$I$18:$I$1017),0)","v":0},{"$f":"IFERROR($E283*SUMIF('Daily Log'!$K$18:$K$1017,$B283,'Daily Log'!$L$18:$L$1017),0)","v":0},{"$f":"IFERROR($E283*SUMIF('Daily Log'!$N$18:$N$1017,$B283,'Daily Log'!$O$18:$O$1017),0)","v":0},{"$f":"IFERROR($E283*SUMIF('Daily Log'!$Q$18:$Q$1017,$B283,'Daily Log'!$R$18:$R$1017),0)","v":0},{"$f":"IFERROR($E283*SUMIF('Daily Log'!$T$18:$T$1017,$B283,'Daily Log'!$U$18:$U$1017),0)","v":0},{"$f":"IFERROR($E283*SUMIF('Daily Log'!$W$18:$W$1017,$B283,'Daily Log'!$X$18:$X$1017),0)","v":0},{"$f":"IFERROR($E283*SUMIF('Daily Log'!$Z$18:$Z$1017,$B283,'Daily Log'!$AA$18:$AA$1017),0)","v":0},{"$f":"IFERROR($E283*SUMIF('Daily Log'!$AC$18:$AC$1017,$B283,'Daily Log'!$AD$18:$AD$1017),0)","v":0},{"$f":"IFERROR($E283*SUMIF('Daily Log'!$AF$18:$AF$1017,$B283,'Daily Log'!$AG$18:$AG$1017),0)","v":0},{"$f":"IFERROR($E283*SUMIF('Daily Log'!$AI$18:$AI$1017,$B283,'Daily Log'!$AJ$18:$AJ$1017),0)","v":0},{"$f":"IFERROR($E283*SUMIF('Daily Log'!$AL$18:$AL$1017,$B283,'Daily Log'!$AM$18:$AM$1017),0)","v":0},{"$f":"IFERROR($E283*SUMIF('Daily Log'!$AO$18:$AO$1017,$B283,'Daily Log'!$AP$18:$AP$1017),0)","v":0},{"$f":"IFERROR($E283*SUMIF('Daily Log'!$AR$18:$AR$1017,$B283,'Daily Log'!$AS$18:$AS$1017),0)","v":0},{"$f":"IFERROR($E283*SUMIF('Daily Log'!$AU$18:$AU$1017,$B283,'Daily Log'!$AV$18:$AV$1017),0)","v":0},{"$f":"IFERROR($E283*SUMIF('Daily Log'!$AX$18:$AX$1017,$B283,'Daily Log'!$AY$18:$AY$1017),0)","v":0},{"$f":"IFERROR($E283*SUMIF('Daily Log'!$BA$18:$BA$1017,$B283,'Daily Log'!$BB$18:$BB$1017),0)","v":0},{"$f":"IFERROR($E283*SUMIF('Daily Log'!$BD$18:$BD$1017,$B283,'Daily Log'!$BE$18:$BE$1017),0)","v":0},{"$f":"IFERROR($E283*SUMIF('Daily Log'!$BG$18:$BG$1017,$B283,'Daily Log'!$BH$18:$BH$1017),0)","v":0},{"$f":"IFERROR($E283*SUMIF('Daily Log'!$BJ$18:$BJ$1017,$B283,'Daily Log'!$BK$18:$BK$1017),0)","v":0},{"$f":"IFERROR($E283*SUMIF('Daily Log'!$BM$18:$BM$1017,$B283,'Daily Log'!$BN$18:$BN$1017),0)","v":0},{"$f":"IFERROR($E283*SUMIF('Daily Log'!$BP$18:$BP$1017,$B283,'Daily Log'!$BQ$18:$BQ$1017),0)","v":0},{"$f":"IFERROR($E283*SUMIF('Daily Log'!$BS$18:$BS$1017,$B283,'Daily Log'!$BT$18:$BT$1017),0)","v":0},{"$f":"IFERROR($E283*SUMIF('Daily Log'!$BV$18:$BV$1017,$B283,'Daily Log'!$BW$18:$BW$1017),0)","v":0},{"$f":"IFERROR($E283*SUMIF('Daily Log'!$BY$18:$BY$1017,$B283,'Daily Log'!$BZ$18:$BZ$1017),0)","v":0},{"$f":"IFERROR($E283*SUMIF('Daily Log'!$CB$18:$CB$1017,$B283,'Daily Log'!$CC$18:$CC$1017),0)","v":0},{"$f":"IFERROR($E283*SUMIF('Daily Log'!$CE$18:$CE$1017,$B283,'Daily Log'!$CF$18:$CF$1017),0)","v":0},{"$f":"IFERROR($E283*SUMIF('Daily Log'!$CH$18:$CH$1017,$B283,'Daily Log'!$CI$18:$CI$1017),0)","v":0},{"$f":"IFERROR($E283*SUMIF('Daily Log'!$CK$18:$CK$1017,$B283,'Daily Log'!$CL$18:$CL$1017),0)","v":0},{"$f":"IFERROR($E283*SUMIF('Daily Log'!$CN$18:$CN$1017,$B283,'Daily Log'!$CO$18:$CO$1017),0)","v":0}]
[null,null,null,null,null,null,{"$f":"IFERROR($E284*SUMIF('Daily Log'!$B$18:$B$1017,$B284,'Daily Log'!$C$18:$C$1017),0)","v":0},{"$f":"IFERROR($E284*SUMIF('Daily Log'!$E$18:$E$1017,$B284,'Daily Log'!$F$18:$F$1017),0)","v":0},{"$f":"IFERROR($E284*SUMIF('Daily Log'!$H$18:$H$1017,$B284,'Daily Log'!$I$18:$I$1017),0)","v":0},{"$f":"IFERROR($E284*SUMIF('Daily Log'!$K$18:$K$1017,$B284,'Daily Log'!$L$18:$L$1017),0)","v":0},{"$f":"IFERROR($E284*SUMIF('Daily Log'!$N$18:$N$1017,$B284,'Daily Log'!$O$18:$O$1017),0)","v":0},{"$f":"IFERROR($E284*SUMIF('Daily Log'!$Q$18:$Q$1017,$B284,'Daily Log'!$R$18:$R$1017),0)","v":0},{"$f":"IFERROR($E284*SUMIF('Daily Log'!$T$18:$T$1017,$B284,'Daily Log'!$U$18:$U$1017),0)","v":0},{"$f":"IFERROR($E284*SUMIF('Daily Log'!$W$18:$W$1017,$B284,'Daily Log'!$X$18:$X$1017),0)","v":0},{"$f":"IFERROR($E284*SUMIF('Daily Log'!$Z$18:$Z$1017,$B284,'Daily Log'!$AA$18:$AA$1017),0)","v":0},{"$f":"IFERROR($E284*SUMIF('Daily Log'!$AC$18:$AC$1017,$B284,'Daily Log'!$AD$18:$AD$1017),0)","v":0},{"$f":"IFERROR($E284*SUMIF('Daily Log'!$AF$18:$AF$1017,$B284,'Daily Log'!$AG$18:$AG$1017),0)","v":0},{"$f":"IFERROR($E284*SUMIF('Daily Log'!$AI$18:$AI$1017,$B284,'Daily Log'!$AJ$18:$AJ$1017),0)","v":0},{"$f":"IFERROR($E284*SUMIF('Daily Log'!$AL$18:$AL$1017,$B284,'Daily Log'!$AM$18:$AM$1017),0)","v":0},{"$f":"IFERROR($E284*SUMIF('Daily Log'!$AO$18:$AO$1017,$B284,'Daily Log'!$AP$18:$AP$1017),0)","v":0},{"$f":"IFERROR($E284*SUMIF('Daily Log'!$AR$18:$AR$1017,$B284,'Daily Log'!$AS$18:$AS$1017),0)","v":0},{"$f":"IFERROR($E284*SUMIF('Daily Log'!$AU$18:$AU$1017,$B284,'Daily Log'!$AV$18:$AV$1017),0)","v":0},{"$f":"IFERROR($E284*SUMIF('Daily Log'!$AX$18:$AX$1017,$B284,'Daily Log'!$AY$18:$AY$1017),0)","v":0},{"$f":"IFERROR($E284*SUMIF('Daily Log'!$BA$18:$BA$1017,$B284,'Daily Log'!$BB$18:$BB$1017),0)","v":0},{"$f":"IFERROR($E284*SUMIF('Daily Log'!$BD$18:$BD$1017,$B284,'Daily Log'!$BE$18:$BE$1017),0)","v":0},{"$f":"IFERROR($E284*SUMIF('Daily Log'!$BG$18:$BG$1017,$B284,'Daily Log'!$BH$18:$BH$1017),0)","v":0},{"$f":"IFERROR($E284*SUMIF('Daily Log'!$BJ$18:$BJ$1017,$B284,'Daily Log'!$BK$18:$BK$1017),0)","v":0},{"$f":"IFERROR($E284*SUMIF('Daily Log'!$BM$18:$BM$1017,$B284,'Daily Log'!$BN$18:$BN$1017),0)","v":0},{"$f":"IFERROR($E284*SUMIF('Daily Log'!$BP$18:$BP$1017,$B284,'Daily Log'!$BQ$18:$BQ$1017),0)","v":0},{"$f":"IFERROR($E284*SUMIF('Daily Log'!$BS$18:$BS$1017,$B284,'Daily Log'!$BT$18:$BT$1017),0)","v":0},{"$f":"IFERROR($E284*SUMIF('Daily Log'!$BV$18:$BV$1017,$B284,'Daily Log'!$BW$18:$BW$1017),0)","v":0},{"$f":"IFERROR($E284*SUMIF('Daily Log'!$BY$18:$BY$1017,$B284,'Daily Log'!$BZ$18:$BZ$1017),0)","v":0},{"$f":"IFERROR($E284*SUMIF('Daily Log'!$CB$18:$CB$1017,$B284,'Daily Log'!$CC$18:$CC$1017),0)","v":0},{"$f":"IFERROR($E284*SUMIF('Daily Log'!$CE$18:$CE$1017,$B284,'Daily Log'!$CF$18:$CF$1017),0)","v":0},{"$f":"IFERROR($E284*SUMIF('Daily Log'!$CH$18:$CH$1017,$B284,'Daily Log'!$CI$18:$CI$1017),0)","v":0},{"$f":"IFERROR($E284*SUMIF('Daily Log'!$CK$18:$CK$1017,$B284,'Daily Log'!$CL$18:$CL$1017),0)","v":0},{"$f":"IFERROR($E284*SUMIF('Daily Log'!$CN$18:$CN$1017,$B284,'Daily Log'!$CO$18:$CO$1017),0)","v":0}]
[null,null,null,null,null,null,{"$f":"IFERROR($E285*SUMIF('Daily Log'!$B$18:$B$1017,$B285,'Daily Log'!$C$18:$C$1017),0)","v":0},{"$f":"IFERROR($E285*SUMIF('Daily Log'!$E$18:$E$1017,$B285,'Daily Log'!$F$18:$F$1017),0)","v":0},{"$f":"IFERROR($E285*SUMIF('Daily Log'!$H$18:$H$1017,$B285,'Daily Log'!$I$18:$I$1017),0)","v":0},{"$f":"IFERROR($E285*SUMIF('Daily Log'!$K$18:$K$1017,$B285,'Daily Log'!$L$18:$L$1017),0)","v":0},{"$f":"IFERROR($E285*SUMIF('Daily Log'!$N$18:$N$1017,$B285,'Daily Log'!$O$18:$O$1017),0)","v":0},{"$f":"IFERROR($E285*SUMIF('Daily Log'!$Q$18:$Q$1017,$B285,'Daily Log'!$R$18:$R$1017),0)","v":0},{"$f":"IFERROR($E285*SUMIF('Daily Log'!$T$18:$T$1017,$B285,'Daily Log'!$U$18:$U$1017),0)","v":0},{"$f":"IFERROR($E285*SUMIF('Daily Log'!$W$18:$W$1017,$B285,'Daily Log'!$X$18:$X$1017),0)","v":0},{"$f":"IFERROR($E285*SUMIF('Daily Log'!$Z$18:$Z$1017,$B285,'Daily Log'!$AA$18:$AA$1017),0)","v":0},{"$f":"IFERROR($E285*SUMIF('Daily Log'!$AC$18:$AC$1017,$B285,'Daily Log'!$AD$18:$AD$1017),0)","v":0},{"$f":"IFERROR($E285*SUMIF('Daily Log'!$AF$18:$AF$1017,$B285,'Daily Log'!$AG$18:$AG$1017),0)","v":0},{"$f":"IFERROR($E285*SUMIF('Daily Log'!$AI$18:$AI$1017,$B285,'Daily Log'!$AJ$18:$AJ$1017),0)","v":0},{"$f":"IFERROR($E285*SUMIF('Daily Log'!$AL$18:$AL$1017,$B285,'Daily Log'!$AM$18:$AM$1017),0)","v":0},{"$f":"IFERROR($E285*SUMIF('Daily Log'!$AO$18:$AO$1017,$B285,'Daily Log'!$AP$18:$AP$1017),0)","v":0},{"$f":"IFERROR($E285*SUMIF('Daily Log'!$AR$18:$AR$1017,$B285,'Daily Log'!$AS$18:$AS$1017),0)","v":0},{"$f":"IFERROR($E285*SUMIF('Daily Log'!$AU$18:$AU$1017,$B285,'Daily Log'!$AV$18:$AV$1017),0)","v":0},{"$f":"IFERROR($E285*SUMIF('Daily Log'!$AX$18:$AX$1017,$B285,'Daily Log'!$AY$18:$AY$1017),0)","v":0},{"$f":"IFERROR($E285*SUMIF('Daily Log'!$BA$18:$BA$1017,$B285,'Daily Log'!$BB$18:$BB$1017),0)","v":0},{"$f":"IFERROR($E285*SUMIF('Daily Log'!$BD$18:$BD$1017,$B285,'Daily Log'!$BE$18:$BE$1017),0)","v":0},{"$f":"IFERROR($E285*SUMIF('Daily Log'!$BG$18:$BG$1017,$B285,'Daily Log'!$BH$18:$BH$1017),0)","v":0},{"$f":"IFERROR($E285*SUMIF('Daily Log'!$BJ$18:$BJ$1017,$B285,'Daily Log'!$BK$18:$BK$1017),0)","v":0},{"$f":"IFERROR($E285*SUMIF('Daily Log'!$BM$18:$BM$1017,$B285,'Daily Log'!$BN$18:$BN$1017),0)","v":0},{"$f":"IFERROR($E285*SUMIF('Daily Log'!$BP$18:$BP$1017,$B285,'Daily Log'!$BQ$18:$BQ$1017),0)","v":0},{"$f":"IFERROR($E285*SUMIF('Daily Log'!$BS$18:$BS$1017,$B285,'Daily Log'!$BT$18:$BT$1017),0)","v":0},{"$f":"IFERROR($E285*SUMIF('Daily Log'!$BV$18:$BV$1017,$B285,'Daily Log'!$BW$18:$BW$1017),0)","v":0},{"$f":"IFERROR($E285*SUMIF('Daily Log'!$BY$18:$BY$1017,$B285,'Daily Log'!$BZ$18:$BZ$1017),0)","v":0},{"$f":"IFERROR($E285*SUMIF('Daily Log'!$CB$18:$CB$1017,$B285,'Daily Log'!$CC$18:$CC$1017),0)","v":0},{"$f":"IFERROR($E285*SUMIF('Daily Log'!$CE$18:$CE$1017,$B285,'Daily Log'!$CF$18:$CF$1017),0)","v":0},{"$f":"IFERROR($E285*SUMIF('Daily Log'!$CH$18:$CH$1017,$B285,'Daily Log'!$CI$18:$CI$1017),0)","v":0},{"$f":"IFERROR($E285*SUMIF('Daily Log'!$CK$18:$CK$1017,$B285,'Daily Log'!$CL$18:$CL$1017),0)","v":0},{"$f":"IFERROR($E285*SUMIF('Daily Log'!$CN$18:$CN$1017,$B285,'Daily Log'!$CO$18:$CO$1017),0)","v":0}]
[null,null,null,null,null,null,{"$f":"IFERROR($E286*SUMIF('Daily Log'!$B$18:$B$1017,$B286,'Daily Log'!$C$18:$C$1017),0)","v":0},{"$f":"IFERROR($E286*SUMIF('Daily Log'!$E$18:$E$1017,$B286,'Daily Log'!$F$18:$F$1017),0)","v":0},{"$f":"IFERROR($E286*SUMIF('Daily Log'!$H$18:$H$1017,$B286,'Daily Log'!$I$18:$I$1017),0)","v":0},{"$f":"IFERROR($E286*SUMIF('Daily Log'!$K$18:$K$1017,$B286,'Daily Log'!$L$18:$L$1017),0)","v":0},{"$f":"IFERROR($E286*SUMIF('Daily Log'!$N$18:$N$1017,$B286,'Daily Log'!$O$18:$O$1017),0)","v":0},{"$f":"IFERROR($E286*SUMIF('Daily Log'!$Q$18:$Q$1017,$B286,'Daily Log'!$R$18:$R$1017),0)","v":0},{"$f":"IFERROR($E286*SUMIF('Daily Log'!$T$18:$T$1017,$B286,'Daily Log'!$U$18:$U$1017),0)","v":0},{"$f":"IFERROR($E286*SUMIF('Daily Log'!$W$18:$W$1017,$B286,'Daily Log'!$X$18:$X$1017),0)","v":0},{"$f":"IFERROR($E286*SUMIF('Daily Log'!$Z$18:$Z$1017,$B286,'Daily Log'!$AA$18:$AA$1017),0)","v":0},{"$f":"IFERROR($E286*SUMIF('Daily Log'!$AC$18:$AC$1017,$B286,'Daily Log'!$AD$18:$AD$1017),0)","v":0},{"$f":"IFERROR($E286*SUMIF('Daily Log'!$AF$18:$AF$1017,$B286,'Daily Log'!$AG$18:$AG$1017),0)","v":0},{"$f":"IFERROR($E286*SUMIF('Daily Log'!$AI$18:$AI$1017,$B286,'Daily Log'!$AJ$18:$AJ$1017),0)","v":0},{"$f":"IFERROR($E286*SUMIF('Daily Log'!$AL$18:$AL$1017,$B286,'Daily Log'!$AM$18:$AM$1017),0)","v":0},{"$f":"IFERROR($E286*SUMIF('Daily Log'!$AO$18:$AO$1017,$B286,'Daily Log'!$AP$18:$AP$1017),0)","v":0},{"$f":"IFERROR($E286*SUMIF('Daily Log'!$AR$18:$AR$1017,$B286,'Daily Log'!$AS$18:$AS$1017),0)","v":0},{"$f":"IFERROR($E286*SUMIF('Daily Log'!$AU$18:$AU$1017,$B286,'Daily Log'!$AV$18:$AV$1017),0)","v":0},{"$f":"IFERROR($E286*SUMIF('Daily Log'!$AX$18:$AX$1017,$B286,'Daily Log'!$AY$18:$AY$1017),0)","v":0},{"$f":"IFERROR($E286*SUMIF('Daily Log'!$BA$18:$BA$1017,$B286,'Daily Log'!$BB$18:$BB$1017),0)","v":0},{"$f":"IFERROR($E286*SUMIF('Daily Log'!$BD$18:$BD$1017,$B286,'Daily Log'!$BE$18:$BE$1017),0)","v":0},{"$f":"IFERROR($E286*SUMIF('Daily Log'!$BG$18:$BG$1017,$B286,'Daily Log'!$BH$18:$BH$1017),0)","v":0},{"$f":"IFERROR($E286*SUMIF('Daily Log'!$BJ$18:$BJ$1017,$B286,'Daily Log'!$BK$18:$BK$1017),0)","v":0},{"$f":"IFERROR($E286*SUMIF('Daily Log'!$BM$18:$BM$1017,$B286,'Daily Log'!$BN$18:$BN$1017),0)","v":0},{"$f":"IFERROR($E286*SUMIF('Daily Log'!$BP$18:$BP$1017,$B286,'Daily Log'!$BQ$18:$BQ$1017),0)","v":0},{"$f":"IFERROR($E286*SUMIF('Daily Log'!$BS$18:$BS$1017,$B286,'Daily Log'!$BT$18:$BT$1017),0)","v":0},{"$f":"IFERROR($E286*SUMIF('Daily Log'!$BV$18:$BV$1017,$B286,'Daily Log'!$BW$18:$BW$1017),0)","v":0},{"$f":"IFERROR($E286*SUMIF('Daily Log'!$BY$18:$BY$1017,$B286,'Daily Log'!$BZ$18:$BZ$1017),0)","v":0},{"$f":"IFERROR($E286*SUMIF('Daily Log'!$CB$18:$CB$1017,$B286,'Daily Log'!$CC$18:$CC$1017),0)","v":0},{"$f":"IFERROR($E286*SUMIF('Daily Log'!$CE$18:$CE$1017,$B286,'Daily Log'!$CF$18:$CF$1017),0)","v":0},{"$f":"IFERROR($E286*SUMIF('Daily Log'!$CH$18:$CH$1017,$B286,'Daily Log'!$CI$18:$CI$1017),0)","v":0},{"$f":"IFERROR($E286*SUMIF('Daily Log'!$CK$18:$CK$1017,$B286,'Daily Log'!$CL$18:$CL$1017),0)","v":0},{"$f":"IFERROR($E286*SUMIF('Daily Log'!$CN$18:$CN$1017,$B286,'Daily Log'!$CO$18:$CO$1017),0)","v":0}]
[null,null,null,null,null,null,{"$f":"IFERROR($E287*SUMIF('Daily Log'!$B$18:$B$1017,$B287,'Daily Log'!$C$18:$C$1017),0)","v":0},{"$f":"IFERROR($E287*SUMIF('Daily Log'!$E$18:$E$1017,$B287,'Daily Log'!$F$18:$F$1017),0)","v":0},{"$f":"IFERROR($E287*SUMIF('Daily Log'!$H$18:$H$1017,$B287,'Daily Log'!$I$18:$I$1017),0)","v":0},{"$f":"IFERROR($E287*SUMIF('Daily Log'!$K$18:$K$1017,$B287,'Daily Log'!$L$18:$L$1017),0)","v":0},{"$f":"IFERROR($E287*SUMIF('Daily Log'!$N$18:$N$1017,$B287,'Daily Log'!$O$18:$O$1017),0)","v":0},{"$f":"IFERROR($E287*SUMIF('Daily Log'!$Q$18:$Q$1017,$B287,'Daily Log'!$R$18:$R$1017),0)","v":0},{"$f":"IFERROR($E287*SUMIF('Daily Log'!$T$18:$T$1017,$B287,'Daily Log'!$U$18:$U$1017),0)","v":0},{"$f":"IFERROR($E287*SUMIF('Daily Log'!$W$18:$W$1017,$B287,'Daily Log'!$X$18:$X$1017),0)","v":0},{"$f":"IFERROR($E287*SUMIF('Daily Log'!$Z$18:$Z$1017,$B287,'Daily Log'!$AA$18:$AA$1017),0)","v":0},{"$f":"IFERROR($E287*SUMIF('Daily Log'!$AC$18:$AC$1017,$B287,'Daily Log'!$AD$18:$AD$1017),0)","v":0},{"$f":"IFERROR($E287*SUMIF('Daily Log'!$AF$18:$AF$1017,$B287,'Daily Log'!$AG$18:$AG$1017),0)","v":0},{"$f":"IFERROR($E287*SUMIF('Daily Log'!$AI$18:$AI$1017,$B287,'Daily Log'!$AJ$18:$AJ$1017),0)","v":0},{"$f":"IFERROR($E287*SUMIF('Daily Log'!$AL$18:$AL$1017,$B287,'Daily Log'!$AM$18:$AM$1017),0)","v":0},{"$f":"IFERROR($E287*SUMIF('Daily Log'!$AO$18:$AO$1017,$B287,'Daily Log'!$AP$18:$AP$1017),0)","v":0},{"$f":"IFERROR($E287*SUMIF('Daily Log'!$AR$18:$AR$1017,$B287,'Daily Log'!$AS$18:$AS$1017),0)","v":0},{"$f":"IFERROR($E287*SUMIF('Daily Log'!$AU$18:$AU$1017,$B287,'Daily Log'!$AV$18:$AV$1017),0)","v":0},{"$f":"IFERROR($E287*SUMIF('Daily Log'!$AX$18:$AX$1017,$B287,'Daily Log'!$AY$18:$AY$1017),0)","v":0},{"$f":"IFERROR($E287*SUMIF('Daily Log'!$BA$18:$BA$1017,$B287,'Daily Log'!$BB$18:$BB$1017),0)","v":0},{"$f":"IFERROR($E287*SUMIF('Daily Log'!$BD$18:$BD$1017,$B287,'Daily Log'!$BE$18:$BE$1017),0)","v":0},{"$f":"IFERROR($E287*SUMIF('Daily Log'!$BG$18:$BG$1017,$B287,'Daily Log'!$BH$18:$BH$1017),0)","v":0},{"$f":"IFERROR($E287*SUMIF('Daily Log'!$BJ$18:$BJ$1017,$B287,'Daily Log'!$BK$18:$BK$1017),0)","v":0},{"$f":"IFERROR($E287*SUMIF('Daily Log'!$BM$18:$BM$1017,$B287,'Daily Log'!$BN$18:$BN$1017),0)","v":0},{"$f":"IFERROR($E287*SUMIF('Daily Log'!$BP$18:$BP$1017,$B287,'Daily Log'!$BQ$18:$BQ$1017),0)","v":0},{"$f":"IFERROR($E287*SUMIF('Daily Log'!$BS$18:$BS$1017,$B287,'Daily Log'!$BT$18:$BT$1017),0)","v":0},{"$f":"IFERROR($E287*SUMIF('Daily Log'!$BV$18:$BV$1017,$B287,'Daily Log'!$BW$18:$BW$1017),0)","v":0},{"$f":"IFERROR($E287*SUMIF('Daily Log'!$BY$18:$BY$1017,$B287,'Daily Log'!$BZ$18:$BZ$1017),0)","v":0},{"$f":"IFERROR($E287*SUMIF('Daily Log'!$CB$18:$CB$1017,$B287,'Daily Log'!$CC$18:$CC$1017),0)","v":0},{"$f":"IFERROR($E287*SUMIF('Daily Log'!$CE$18:$CE$1017,$B287,'Daily Log'!$CF$18:$CF$1017),0)","v":0},{"$f":"IFERROR($E287*SUMIF('Daily Log'!$CH$18:$CH$1017,$B287,'Daily Log'!$CI$18:$CI$1017),0)","v":0},{"$f":"IFERROR($E287*SUMIF('Daily Log'!$CK$18:$CK$1017,$B287,'Daily Log'!$CL$18:$CL$1017),0)","v":0},{"$f":"IFERROR($E287*SUMIF('Daily Log'!$CN$18:$CN$1017,$B287,'Daily Log'!$CO$18:$CO$1017),0)","v":0}]
[null,null,null,null,null,null,{"$f":"IFERROR($E288*SUMIF('Daily Log'!$B$18:$B$1017,$B288,'Daily Log'!$C$18:$C$1017),0)","v":0},{"$f":"IFERROR($E288*SUMIF('Daily Log'!$E$18:$E$1017,$B288,'Daily Log'!$F$18:$F$1017),0)","v":0},{"$f":"IFERROR($E288*SUMIF('Daily Log'!$H$18:$H$1017,$B288,'Daily Log'!$I$18:$I$1017),0)","v":0},{"$f":"IFERROR($E288*SUMIF('Daily Log'!$K$18:$K$1017,$B288,'Daily Log'!$L$18:$L$1017),0)","v":0},{"$f":"IFERROR($E288*SUMIF('Daily Log'!$N$18:$N$1017,$B288,'Daily Log'!$O$18:$O$1017),0)","v":0},{"$f":"IFERROR($E288*SUMIF('Daily Log'!$Q$18:$Q$1017,$B288,'Daily Log'!$R$18:$R$1017),0)","v":0},{"$f":"IFERROR($E288*SUMIF('Daily Log'!$T$18:$T$1017,$B288,'Daily Log'!$U$18:$U$1017),0)","v":0},{"$f":"IFERROR($E288*SUMIF('Daily Log'!$W$18:$W$1017,$B288,'Daily Log'!$X$18:$X$1017),0)","v":0},{"$f":"IFERROR($E288*SUMIF('Daily Log'!$Z$18:$Z$1017,$B288,'Daily Log'!$AA$18:$AA$1017),0)","v":0},{"$f":"IFERROR($E288*SUMIF('Daily Log'!$AC$18:$AC$1017,$B288,'Daily Log'!$AD$18:$AD$1017),0)","v":0},{"$f":"IFERROR($E288*SUMIF('Daily Log'!$AF$18:$AF$1017,$B288,'Daily Log'!$AG$18:$AG$1017),0)","v":0},{"$f":"IFERROR($E288*SUMIF('Daily Log'!$AI$18:$AI$1017,$B288,'Daily Log'!$AJ$18:$AJ$1017),0)","v":0},{"$f":"IFERROR($E288*SUMIF('Daily Log'!$AL$18:$AL$1017,$B288,'Daily Log'!$AM$18:$AM$1017),0)","v":0},{"$f":"IFERROR($E288*SUMIF('Daily Log'!$AO$18:$AO$1017,$B288,'Daily Log'!$AP$18:$AP$1017),0)","v":0},{"$f":"IFERROR($E288*SUMIF('Daily Log'!$AR$18:$AR$1017,$B288,'Daily Log'!$AS$18:$AS$1017),0)","v":0},{"$f":"IFERROR($E288*SUMIF('Daily Log'!$AU$18:$AU$1017,$B288,'Daily Log'!$AV$18:$AV$1017),0)","v":0},{"$f":"IFERROR($E288*SUMIF('Daily Log'!$AX$18:$AX$1017,$B288,'Daily Log'!$AY$18:$AY$1017),0)","v":0},{"$f":"IFERROR($E288*SUMIF('Daily Log'!$BA$18:$BA$1017,$B288,'Daily Log'!$BB$18:$BB$1017),0)","v":0},{"$f":"IFERROR($E288*SUMIF('Daily Log'!$BD$18:$BD$1017,$B288,'Daily Log'!$BE$18:$BE$1017),0)","v":0},{"$f":"IFERROR($E288*SUMIF('Daily Log'!$BG$18:$BG$1017,$B288,'Daily Log'!$BH$18:$BH$1017),0)","v":0},{"$f":"IFERROR($E288*SUMIF('Daily Log'!$BJ$18:$BJ$1017,$B288,'Daily Log'!$BK$18:$BK$1017),0)","v":0},{"$f":"IFERROR($E288*SUMIF('Daily Log'!$BM$18:$BM$1017,$B288,'Daily Log'!$BN$18:$BN$1017),0)","v":0},{"$f":"IFERROR($E288*SUMIF('Daily Log'!$BP$18:$BP$1017,$B288,'Daily Log'!$BQ$18:$BQ$1017),0)","v":0},{"$f":"IFERROR($E288*SUMIF('Daily Log'!$BS$18:$BS$1017,$B288,'Daily Log'!$BT$18:$BT$1017),0)","v":0},{"$f":"IFERROR($E288*SUMIF('Daily Log'!$BV$18:$BV$1017,$B288,'Daily Log'!$BW$18:$BW$1017),0)","v":0},{"$f":"IFERROR($E288*SUMIF('Daily Log'!$BY$18:$BY$1017,$B288,'Daily Log'!$BZ$18:$BZ$1017),0)","v":0},{"$f":"IFERROR($E288*SUMIF('Daily Log'!$CB$18:$CB$1017,$B288,'Daily Log'!$CC$18:$CC$1017),0)","v":0},{"$f":"IFERROR($E288*SUMIF('Daily Log'!$CE$18:$CE$1017,$B288,'Daily Log'!$CF$18:$CF$1017),0)","v":0},{"$f":"IFERROR($E288*SUMIF('Daily Log'!$CH$18:$CH$1017,$B288,'Daily Log'!$CI$18:$CI$1017),0)","v":0},{"$f":"IFERROR($E288*SUMIF('Daily Log'!$CK$18:$CK$1017,$B288,'Daily Log'!$CL$18:$CL$1017),0)","v":0},{"$f":"IFERROR($E288*SUMIF('Daily Log'!$CN$18:$CN$1017,$B288,'Daily Log'!$CO$18:$CO$1017),0)","v":0}]
[null,null,null,null,null,null,{"$f":"IFERROR($E289*SUMIF('Daily Log'!$B$18:$B$1017,$B289,'Daily Log'!$C$18:$C$1017),0)","v":0},{"$f":"IFERROR($E289*SUMIF('Daily Log'!$E$18:$E$1017,$B289,'Daily Log'!$F$18:$F$1017),0)","v":0},{"$f":"IFERROR($E289*SUMIF('Daily Log'!$H$18:$H$1017,$B289,'Daily Log'!$I$18:$I$1017),0)","v":0},{"$f":"IFERROR($E289*SUMIF('Daily Log'!$K$18:$K$1017,$B289,'Daily Log'!$L$18:$L$1017),0)","v":0},{"$f":"IFERROR($E289*SUMIF('Daily Log'!$N$18:$N$1017,$B289,'Daily Log'!$O$18:$O$1017),0)","v":0},{"$f":"IFERROR($E289*SUMIF('Daily Log'!$Q$18:$Q$1017,$B289,'Daily Log'!$R$18:$R$1017),0)","v":0},{"$f":"IFERROR($E289*SUMIF('Daily Log'!$T$18:$T$1017,$B289,'Daily Log'!$U$18:$U$1017),0)","v":0},{"$f":"IFERROR($E289*SUMIF('Daily Log'!$W$18:$W$1017,$B289,'Daily Log'!$X$18:$X$1017),0)","v":0},{"$f":"IFERROR($E289*SUMIF('Daily Log'!$Z$18:$Z$1017,$B289,'Daily Log'!$AA$18:$AA$1017),0)","v":0},{"$f":"IFERROR($E289*SUMIF('Daily Log'!$AC$18:$AC$1017,$B289,'Daily Log'!$AD$18:$AD$1017),0)","v":0},{"$f":"IFERROR($E289*SUMIF('Daily Log'!$AF$18:$AF$1017,$B289,'Daily Log'!$AG$18:$AG$1017),0)","v":0},{"$f":"IFERROR($E289*SUMIF('Daily Log'!$AI$18:$AI$1017,$B289,'Daily Log'!$AJ$18:$AJ$1017),0)","v":0},{"$f":"IFERROR($E289*SUMIF('Daily Log'!$AL$18:$AL$1017,$B289,'Daily Log'!$AM$18:$AM$1017),0)","v":0},{"$f":"IFERROR($E289*SUMIF('Daily Log'!$AO$18:$AO$1017,$B289,'Daily Log'!$AP$18:$AP$1017),0)","v":0},{"$f":"IFERROR($E289*SUMIF('Daily Log'!$AR$18:$AR$1017,$B289,'Daily Log'!$AS$18:$AS$1017),0)","v":0},{"$f":"IFERROR($E289*SUMIF('Daily Log'!$AU$18:$AU$1017,$B289,'Daily Log'!$AV$18:$AV$1017),0)","v":0},{"$f":"IFERROR($E289*SUMIF('Daily Log'!$AX$18:$AX$1017,$B289,'Daily Log'!$AY$18:$AY$1017),0)","v":0},{"$f":"IFERROR($E289*SUMIF('Daily Log'!$BA$18:$BA$1017,$B289,'Daily Log'!$BB$18:$BB$1017),0)","v":0},{"$f":"IFERROR($E289*SUMIF('Daily Log'!$BD$18:$BD$1017,$B289,'Daily Log'!$BE$18:$BE$1017),0)","v":0},{"$f":"IFERROR($E289*SUMIF('Daily Log'!$BG$18:$BG$1017,$B289,'Daily Log'!$BH$18:$BH$1017),0)","v":0},{"$f":"IFERROR($E289*SUMIF('Daily Log'!$BJ$18:$BJ$1017,$B289,'Daily Log'!$BK$18:$BK$1017),0)","v":0},{"$f":"IFERROR($E289*SUMIF('Daily Log'!$BM$18:$BM$1017,$B289,'Daily Log'!$BN$18:$BN$1017),0)","v":0},{"$f":"IFERROR($E289*SUMIF('Daily Log'!$BP$18:$BP$1017,$B289,'Daily Log'!$BQ$18:$BQ$1017),0)","v":0},{"$f":"IFERROR($E289*SUMIF('Daily Log'!$BS$18:$BS$1017,$B289,'Daily Log'!$BT$18:$BT$1017),0)","v":0},{"$f":"IFERROR($E289*SUMIF('Daily Log'!$BV$18:$BV$1017,$B289,'Daily Log'!$BW$18:$BW$1017),0)","v":0},{"$f":"IFERROR($E289*SUMIF('Daily Log'!$BY$18:$BY$1017,$B289,'Daily Log'!$BZ$18:$BZ$1017),0)","v":0},{"$f":"IFERROR($E289*SUMIF('Daily Log'!$CB$18:$CB$1017,$B289,'Daily Log'!$CC$18:$CC$1017),0)","v":0},{"$f":"IFERROR($E289*SUMIF('Daily Log'!$CE$18:$CE$1017,$B289,'Daily Log'!$CF$18:$CF$1017),0)","v":0},{"$f":"IFERROR($E289*SUMIF('Daily Log'!$CH$18:$CH$1017,$B289,'Daily Log'!$CI$18:$CI$1017),0)","v":0},{"$f":"IFERROR($E289*SUMIF('Daily Log'!$CK$18:$CK$1017,$B289,'Daily Log'!$CL$18:$CL$1017),0)","v":0},{"$f":"IFERROR($E289*SUMIF('Daily Log'!$CN$18:$CN$1017,$B289,'Daily Log'!$CO$18:$CO$1017),0)","v":0}]

{"sheet":"Daily Log","index":2,"n_rows":1017,"n_cols":96,"rows_kept":1017,"cut":false,"hidden":false,"merged":[[5,2,5,4],[7,2,7,4],[9,2,9,4]]}
[]
[]
[null,null,"DAILY LOG OF PRODUCT SALES"]
[]
[]
[null,"OUTLET",{"$f":"[1]Summary!C6","v":"CCS"}]
[]
[null,"YEAR",{"$f":"[1]Summary!C8","v":"2014"}]
[]
[null,"MONTH",{"$f":"[2]Summary!C10","v":"APRIL"}]
[]
[]
[]
[{"$f":"IFERROR(INDEX($CR$18:$CR$48,MAX($B$17:$CO$17),1),\"\")","v":""},{"$f":"\"DATE  \"&TEXT([3]Summary!G27,\"DD / MM / YYYY\")","v":"DATE  01 / 03 / 2014"},null,null,{"$f":"\"DATE  \"&TEXT([3]Summary!H27,\"DD / MM / YYYY\")","v":"DATE  02 / 03 / 2014"},null,null,{"$f":"\"DATE  \"&TEXT([3]Summary!I27,\"DD / MM / YYYY\")","v":"DATE  03 / 03 / 2014"},null,null,{"$f":"\"DATE  \"&TEXT([3]Summary!J27,\"DD / MM / YYYY\")","v":"DATE  04 / 03 / 2014"},null,null,{"$f":"\"DATE  \"&TEXT([4]Summary!K27,\"DD / MM / YYYY\")","v":"DATE  05 / 02 / 2014"},null,null,{"$f":"\"DATE  \"&TEXT([4]Summary!L27,\"DD / MM / YYYY\")","v":"DATE  06 / 02 / 2014"},null,null,{"$f":"\"DATE  \"&TEXT([4]Summary!M27,\"DD / MM / YYYY\")","v":"DATE  07 / 02 / 2014"},null,null,{"$f":"\"DATE  \"&TEXT([4]Summary!N27,\"DD / MM / YYYY\")","v":"DATE  08 / 02 / 2014"},null,null,{"$f":"\"DATE  \"&TEXT([4]Summary!O27,\"DD / MM / YYYY\")","v":"DATE  09 / 02 / 2014"},null,null,{"$f":"\"DATE  \"&TEXT([4]Summary!P27,\"DD / MM / YYYY\")","v":"DATE  10 / 02 / 2014"},null,null,{"$f":"\"DATE  \"&TEXT([4]Summary!Q27,\"DD / MM / YYYY\")","v":"DATE  11 / 02 / 2014"},null,null,{"$f":"\"DATE  \"&TEXT([4]Summary!R27,\"DD / MM / YYYY\")","v":"DATE  12 / 02 / 2014"},null,null,{"$f":"\"DATE  \"&TEXT([4]Summary!S27,\"DD / MM / YYYY\")","v":"DATE  13 / 02 / 2014"},null,null,{"$f":"\"DATE  \"&TEXT([4]Summary!T27,\"DD / MM / YYYY\")","v":"DATE  14 / 02 / 2014"},null,null,{"$f":"\"DATE  \"&TEXT([4]Summary!U27,\"DD / MM / YYYY\")","v":"DATE  15 / 02 / 2014"},null,null,{"$f":"\"DATE  \"&TEXT([4]Summary!V27,\"DD / MM / YYYY\")","v":"DATE  16 / 02 / 2014"},null,null,{"$f":"\"DATE  \"&TEXT([4]Summary!W27,\"DD / MM / YYYY\")","v":"DATE  17 / 02 / 2014"},null,null,{"$f":"\"DATE  \"&TEXT([5]Summary!X27,\"DD / MM / YYYY\")","v":"DATE  18 / 12 / 2013"},null,null,{"$f":"\"DATE  \"&TEXT([5]Summary!Y27,\"DD / MM / YYYY\")","v":"DATE  19 / 12 / 2013"},null,null,{"$f":"\"DATE  \"&TEXT([5]Summary!Z27,\"DD / MM / YYYY\")","v":"DATE  20 / 12 / 2013"},null,null,{"$f":"\"DATE  \"&TEXT([5]Summary!AA27,\"DD / MM / YYYY\")","v":"DATE  21 / 12 / 2013"},null,null,{"$f":"\"DATE  \"&TEXT([5]Summary!AB27,\"DD / MM / YYYY\")","v":"DATE  22 / 12 / 2013"},null,null,{"$f":"\"DATE  \"&TEXT([5]Summary!AC27,\"DD / MM / YYYY\")","v":"DATE  23 / 12 / 2013"},null,null,{"$f":"\"DATE  \"&TEXT([5]Summary!AD27,\"DD / MM / YYYY\")","v":"DATE  24 / 12 / 2013"},null,null,{"$f":"\"DATE  \"&TEXT([5]Summary!AE27,\"DD / MM / YYYY\")","v":"DATE  25 / 12 / 2013"},null,null,{"$f":"\"DATE  \"&TEXT([5]Summary!AF27,\"DD / MM / YYYY\")","v":"DATE  26 / 12 / 2013"},null,null,{"$f":"\"DATE  \"&TEXT([5]Summary!AG27,\"DD / MM / YYYY\")","v":"DATE  27 / 12 / 2013"},null,null,{"$f":"\"DATE  \"&TEXT([5]Summary!AH27,\"DD / MM / YYYY\")","v":"DATE  28 / 12 / 2013"},null,null,{"$f":"\"DATE  \"&TEXT([5]Summary!AI27,\"DD / MM / YYYY\")","v":"DATE  29 / 12 / 2013"},null,null,{"$f":"\"DATE  \"&TEXT([5]Summary!AJ27,\"DD / MM / YYYY\")","v":"DATE  30 / 12 / 2013"},null,null,{"$f":"\"DATE  \"&TEXT([5]Summary!AK27,\"DD / MM / YYYY\")","v":"DATE  31 / 12 / 2013"},null,null,"COLUMN"]
[]
[null,"PRODUCT","QUANTITY",null,"PRODUCT","QUANTITY",null,"PRODUCT","QUANTITY",null,"PRODUCT","QUANTITY",null,"PRODUCT","QUANTITY",null,"PRODUCT","QUANTITY",null,"PRODUCT","QUANTITY",null,"PRODUCT","QUANTITY",null,"PRODUCT","QUANTITY",null,"PRODUCT","QUANTITY",null,"PRODUCT","QUANTITY",null,"PRODUCT","QUANTITY",null,"PRODUCT","QUANTITY",null,"PRODUCT","QUANTITY",null,"PRODUCT","QUANTITY",null,"PRODUCT","QUANTITY",null,"PRODUCT","QUANTITY",null,"PRODUCT","QUANTITY",null,"PRODUCT","QUANTITY",null,"PRODUCT","QUANTITY",null,"PRODUCT","QUANTITY",null,"PRODUCT","QUANTITY",null,"PRODUCT","QUANTITY",null,"PRODUCT","QUANTITY",null,"PRODUCT","QUANTITY",null,"PRODUCT","QUANTITY",null,"PRODUCT","QUANTITY",null,"PRODUCT","QUANTITY",null,"PRODUCT","QUANTITY",null,"PRODUCT","QUANTITY",null,"PRODUCT","QUANTITY",null,"MONTH","COLUMN"]
[null,{"$f":"IF(#REF!<>\"\",1,0)","v":{"$error":"#REF!"}},null,null,{"$f":"IF(E18<>\"\",2,0)","v":2},null,null,{"$f":"IF(#REF!<>\"\",3,0)","v":{"$error":"#REF!"}},null,null,{"$f":"IF(#REF!<>\"\",4,0)","v":{"$error":"#REF!"}},null,null,{"$f":"IF(#REF!<>\"\",5,0)","v":{"$error":"#REF!"}},null,null,{"$f":"IF(Q18<>\"\",6,0)","v":6},null,null,{"$f":"IF(T18<>\"\",7,0)","v":7},null,null,{"$f":"IF(W18<>\"\",8,0)","v":8},null,null,{"$f":"IF(Z18<>\"\",9,0)","v":9},null,null,{"$f":"IF(AC18<>\"\",10,0)","v":10},null,null,{"$f":"IF(AF18<>\"\",11,0)","v":11},null,null,{"$f":"IF(AI18<>\"\",12,0)","v":12},null,null,{"$f":"IF(#REF!<>\"\",13,0)","v":{"$error":"#REF!"}},null,null,{"$f":"IF(AO18<>\"\",14,0)","v":14},null,null,{"$f":"IF(AR18<>\"\",15,0)","v":15},null,null,{"$f":"IF(AU18<>\"\",16,0)","v":16},null,null,{"$f":"IF(AX18<>\"\",17,0)","v":17},null,null,{"$f":"IF(BA18<>\"\",18,0)","v":18},null,null,{"$f":"IF(BD18<>\"\",19,0)","v":19},null,null,{"$f":"IF(BG18<>\"\",20,0)","v":20},null,null,{"$f":"IF(BJ18<>\"\",21,0)","v":21},null,null,{"$f":"IF(BM18<>\"\",22,0)","v":22},null,null,{"$f":"IF(BP18<>\"\",23,0)","v":23},null,null,{"$f":"IF(BS18<>\"\",24,0)","v":24},null,null,{"$f":"IF(#REF!<>\"\",25,0)","v":{"$error":"#REF!"}},null,null,{"$f":"IF(#REF!<>\"\",26,0)","v":{"$error":"#REF!"}},null,null,{"$f":"IF(#REF!<>\"\",26,0)","v":{"$error":"#REF!"}},null,null,{"$f":"IF(CE18<>\"\",28,0)","v":28},null,null,{"$f":"IF(CH18<>\"\",29,0)","v":29},null,null,{"$f":"IF(#REF!<>\"\",30,0)","v":{"$error":"#REF!"}},null,null,{"$f":"IF(CN18<>\"\",31,0)","v":0}]
[null,"AA02 1202:FREN FRIES",5,null,"AA02 1202:FREN FRIES",1,null,"AA02 1202:FREN FRIES",3,null,"AA02 1202:FREN FRIES",4,null,"AA02 1202:FREN FRIES",9,null,"AA03 1203:GOLD MR",2,null,"AA02 1202:FREN FRIES",2,null,"AA03 1203:GOLD MR",1,null,"AA02 1202:FREN FRIES",1,null,"AA03 1203:GOLD MR",1,null,"AA02 1202:FREN FRIES",2,null,"AA02 1202:FREN FRIES",1,null,"AA02 1202:FREN FRIES",6,null,"AA02 1202:FREN FRIES",2,null,"AA02 1202:FREN FRIES",3,null,"AA02 1202:FREN FRIES",8,null,"AA02 1202:FREN FRIES",2,null,"AA02 1202:FREN FRIES",2,null,"AA02 1202:FREN FRIES",7,null,"AA02 1202:FREN FRIES",5,null,"AA02 1202:FREN FRIES",3,null,"AA02 1202:FREN FRIES",2,null,"AA02 1202:FREN FRIES",3,null,"AA32 1302:NUGGET",2,null,"AA02 1202:FREN FRIES",4,null,"AA02 1202:FREN FRIES",2,null,"AA02 1202:FREN FRIES",2,null,"AA02 1202:FREN FRIES",1,null,"AA02 1202:FREN FRIES",1,null,"AA02 1202:FREN FRIES",3]
[null,"AA32 1302:NUGGET",1,null,"AA03 1203:GOLD MR",1,null,"AA32 1302:NUGGET",1,null,"AA32 1302:NUGGET",1,null,"AA07 1207:SAUSG",1,null,"AA07 1207:SAUSG",2,null,"AA32 1302:NUGGET",0,null,"AA07 1207:SAUSG",1,null,"AA03 1203:GOLD MR",1,null,"AA32 1302:NUGGET",1,null,"AA07 1207:SAUSG",1,null,"AA04 1204:FSH BALL",1,null,"AA03 1203:GOLD MR",1,null,"AA04 1204:FSH BALL",1,null,"AA04 1204:FSH BALL",2,null,"AA03 1203:GOLD MR",1,null,"AA07 1207:SAUSG",1,null,"AA03 1203:GOLD MR",1,null,"AA04 1204:FSH BALL",1,null,"AA03 1203:GOLD MR",2,null,"AA07 1207:SAUSG",1,null,"AA33 1303:CHK WING",1,null,"AA03 1203:GOLD MR",1,null,"AA33 1303:CHK WING",2,null,"AA06 1206:SPRING RL",1,null,"AA03 1203:GOLD MR",0,null,"AA32 1302:NUGGET",0,null,"AA07 1207:SAUSG",1,null,"AA06 1206:SPRING RL",1,null,"AA03 1203:GOLD MR",1]
[null,"AA33 1303:CHK WING",1,null,"AA33 1303:CHK WING",1,null,"AA39 1309:MC S.FRIES",1,null,"AA33 1303:CHK WING",1,null,"AA32 1302:NUGGET",3,null,"AA32 1302:NUGGET",2,null,"AA33 1303:CHK WING",1,null,"AA33 1303:CHK WING",3,null,"AA04 1204:FSH BALL",1,null,"AA33 1303:CHK WING",0,null,"AA33 1303:CHK WING",2,null,"AA06 1206:SPRING RL",1,null,"AA04 1204:FSH BALL",1,null,"AA06 1206:SPRING RL",1,null,"AA32 1302:NUGGET",1,null,"AA04 1204:FSH BALL",2,null,"AA33 1303:CHK WING",2,null,"AA07 1207:SAUSG",1,null,"AA32 1302:NUGGET",1,null,"AA07 1207:SAUSG",1,null,"AA32 1302:NUGGET",3,null,"AA39 1309:MC S.FRIES",1,null,"AA07 1207:SAUSG",1,null,"AS01 1401:SET 990",4,null,"AA32 1302:NUGGET",6,null,"AA32 1302:NUGGET",1,null,"AA33 1303:CHK WING",1,null,"AA39 1309:MC S.FRIES",1,null,"AA32 1302:NUGGET",2,null,"AA32 1302:NUGGET",1]
[null,"AA37 1307:CALAMARI",1,null,"AF04 91204:FSH BALL",1,null,"AF01 91201:SFD STICK",1,null,"AF02 91202:FREN FRIES",4,null,"AA33 1303:CHK WING",1,null,"AA33 1303:CHK WING",1,null,"AA41 1311:MC HSH BRW",2,null,"AA34 1304:IKAN BILIS",1,null,"AA07 1207:SAUSG",2,null,"AA37 1307:CALAMARI",0,null,"AF02 91202:FREN FRIES",1,null,"AA32 1302:NUGGET",1,null,"AA07 1207:SAUSG",0,null,"AA07 1207:SAUSG",1,null,"AA37 1307:CALAMARI",1,null,"AA32 1302:NUGGET",2,null,"AA41 1311:MC HSH BRW",1,null,"AA32 1302:NUGGET",1,null,"AA33 1303:CHK WING",3,null,"AA32 1302:NUGGET",5,null,"AA33 1303:CHK WING",1,null,"AA41 1311:MC HSH BRW",1,null,"AA32 1302:NUGGET",2,null,"AS02 1402:SET 1390",3,null,"AA33 1303:CHK WING",4,null,"AA33 1303:CHK WING",2,null,"AF02 91202:FREN FRIES",7,null,"AF02 91202:FREN FRIES",2,null,"AA33 1303:CHK WING",1,null,"AA33 1303:CHK WING",2]
[null,"AF03 91203:GOLD MR",1,null,"AF07 91207:SAUSG",1,null,"AF32 91302:NUGGET",1,null,"AF03 91203:GOLD MR",1,null,"AA37 1307:CALAMARI",0,null,"AA34 1304:IKAN BILIS",1,null,"AF02 91202:FREN FRIES",1,null,"AA36 1306:DF WING",1,null,"AA32 1302:NUGGET",3,null,"AA38 1308:MC RING",1,null,"AF33 91303:CHK WING",2,null,"AA33 1303:CHK WING",1,null,"AA32 1302:NUGGET",2,null,"AA32 1302:NUGGET",4,null,"AS01 1401:SET 990",5,null,"AA33 1303:CHK WING",3,null,"AF02 91202:FREN FRIES",1,null,"AA33 1303:CHK WING",1,null,"AA34 1304:IKAN BILIS",1,null,"AA33 1303:CHK WING",2,null,"AF02 91202:FREN FRIES",1,null,"AF02 91202:FREN FRIES",1,null,"AA33 1303:CHK WING",1,null,"BH01 5001:HEI BTL",2,null,"AA36 1306:DF WING",1,null,"AA39 1309:MC S.FRIES",1,null,"AF04 91204:FSH BALL",2,null,"AF32 91302:NUGGET",2,null,"AA39 1309:MC S.FRIES",1,null,"AA36 1306:DF WING",1]
[null,"AF32 91302:NUGGET",1,null,"AF32 91302:NUGGET",1,null,"AF33 91303:CHK WING",2,null,"AF06 91206:SPRING RL",1,null,"AA39 1309:MC S.FRIES",2,null,"AA39 1309:MC S.FRIES",2,null,"AF07 91207:SAUSG",1,null,"AA39 1309:MC S.FRIES",1,null,"AA34 1304:IKAN BILIS",1,null,"AA41 1311:MC HSH BRW",1,null,"AS01 1401:SET 990",6,null,"AF02 91202:FREN FRIES",1,null,"AA37 1307:CALAMARI",0,null,"AA38 1308:MC RING",1,null,"AS02 1402:SET 1390",1,null,"AA37 1307:CALAMARI",1,null,"AS01 1401:SET 990",6,null,"AF36 91306:DF WING",1,null,"AA38 1308:MC RING",1,null,"AA36 1306:DF WING",1,null,"AF32 91302:NUGGET",2,null,"AF33 91303:CHK WING",3,null,"AA34 1304:IKAN BILIS",1,null,"BH02 5002:HEI BKT",1,null,"AA37 1307:CALAMARI",1,null,"AA41 1311:MC HSH BRW",1,null,"AF06 91206:SPRING RL",1,null,"AF33 91303:CHK WING",5,null,"AF33 91303:CHK WING",2,null,"AA37 1307:CALAMARI",1]
[null,"AF33 91303:CHK WING",1,null,"AF33 91303:CHK WING",6,null,"AF37 91307:CALAMARI",1,null,"AF07 91207:SAUSG",2,null,"AF02 91202:FREN FRIES",1,null,"AF07 91207:SAUSG",1,null,"AF33 91303:CHK WING",1,null,"AA41 1311:MC HSH BRW",1,null,"AF07 91207:SAUSG",1,null,"AF32 91302:NUGGET",1,null,"AS02 1402:SET 1390",4,null,"AF03 91203:GOLD MR",1,null,"AA38 1308:MC RING",1,null,"AF04 91204:FSH BALL",1,null,"BN01 8201:HOE BTL",1,null,"AA38 1308:MC RING",1,null,"BG02 6002:GUI BKT",2,null,"AF38 91308:MC RING",1,null,"AA40 1310:MC HP SMIL",1,null,"AA41 1311:MC HSH BRW",1,null,"AF33 91303:CHK WING",2,null,"AF37 91307:CALAMARI",1,null,"AA39 1309:MC S.FRIES",1,null,"BT01 7001:TIG BTL",5,null,"AA41 1311:MC HSH BRW",1,null,"AF02 91202:FREN FRIES",1,null,"AF07 91207:SAUSG",2,null,"AF37 91307:CALAMARI",1,null,"AF36 91306:DF WING",1,null,"AA39 1309:MC S.FRIES",1]
[null,"AS01 1401:SET 990",2,null,"AF37 91307:CALAMARI",1,null,"AF39 91309:MC S.FRIES",null,null,"AF32 91302:NUGGET",6,null,"AF04 91204:FSH BALL",2,null,"AF33 91303:CHK WING",1,null,"AS01 1401:SET 990",5,null,"AS01 1401:SET 990",3,null,"AF32 91302:NUGGET",1,null,"AF33 91303:CHK WING",4,null,"BG02 6002:GUI BKT",2,null,"AF33 91303:CHK WING",3,null,"AA39 1309:MC S.FRIES",1,null,"AF32 91302:NUGGET",1,null,"BN02 8202:HOE BKT",1,null,"AF03 91203:GOLD MR",1,null,"BT02 7002:TIG BKT",8,null,"AF39 91309:MC S.FRIES",1,null,"AA41 1311:MC HSH BRW",1,null,"AF33 91303:CHK WING",2,null,"AF38 91308:MC RING",1,null,"AF38 91308:MC RING",1,null,"AF01 91201:SFD STICK",1,null,"BT02 7002:TIG BKT",21,null,"AF03 91203:GOLD MR",1,null,"AF32 91302:NUGGET",1,null,"AF32 91302:NUGGET",10,null,"AS01 1401:SET 990",2,null,"AS01 1401:SET 990",2,null,"AF33 91303:CHK WING",2]
[null,"AS02 1402:SET 1390",3,null,"AF38 91308:MC RING",1,null,"AS01 1401:SET 990",1,null,"AF33 91303:CHK WING",2,null,"AF06 91206:SPRING RL",0,null,"AF35 91305:THAI RL",1,null,"AS02 1402:SET 1390",4,null,"AS02 1402:SET 1390",3,null,"AS01 1401:SET 990",2,null,"AF34 91304:IKAN BILIS",1,null,"BH01 5001:HEI BTL",1,null,"AF39 91309:MC S.FRIES",1,null,"AF02 91202:FREN FRIES",1,null,"AF36 91306:DF WING",2,null,"BT01 7001:TIG BTL",3,null,"AF41 91311:MC HSH BRW",1,null,"BT03 7003:TIG RND",5,null,"AS01 1401:SET 990",4,null,"AF03 91203:GOLD MR",1,null,"AF37 91307:CALAMARI",1,null,"AS01 1401:SET 990",4,null,"AF39 91309:MC S.FRIES",1,null,"AS01 1401:SET 990",3,null,"BT03 7003:TIG RND",2,null,"AF04 91204:FSH BALL",1,null,"AF33 91303:CHK WING",4,null,"AF33 91303:CHK WING",7,null,"BT02 7002:TIG BKT",20,null,"AS02 1402:SET 1390",1,null,"AF39 91309:MC S.FRIES",1]
[null,"BG02 6002:GUI BKT",1,null,"AF41 91311:MC HSH BRW",1,null,"AS02 1402:SET 1390",3,null,"AF36 91306:DF WING",1,null,"AF07 91207:SAUSG",1,null,"AF41 91311:MC HSH BRW",2,null,"BH02 5002:HEI BKT",1,null,"BG02 6002:GUI BKT",1,null,"AS02 1402:SET 1390",4,null,"AF41 91311:MC HSH BRW",1,null,"BT02 7002:TIG BKT",12,null,"AF41 91311:MC HSH BRW",1,null,"AF04 91204:FSH BALL",1,null,"AS01 1401:SET 990",2,null,"BT02 7002:TIG BKT",6,null,"AS01 1401:SET 990",4,null,"BY01 8001:SOME BTL",1,null,"AS02 1402:SET 1390",7,null,"AF32 91302:NUGGET",1,null,"AS01 1401:SET 990",3,null,"AS02 1402:SET 1390",7,null,"AS01 1401:SET 990",2,null,"AS02 1402:SET 1390",1,null,"BW01 8101:STRONG BTL",1,null,"AF06 91206:SPRING RL",3,null,"AF36 91306:DF WING",1,null,"AF36 91306:DF WING",1,null,"BT04 7004:TIG 2+1",5,null,"BG02 6002:GUI BKT",3,null,"AS01 1401:SET 990",6]
[null,"BH02 5002:HEI BKT",3,null,"AS01 1401:SET 990",2,null,"BG01 6001:GUI BTL",2,null,"AF37 91307:CALAMARI",1,null,"AF32 91302:NUGGET",3,null,"AS01 1401:SET 990",4,null,"BH03 5003:HEI RND",3,null,"BT01 7001:TIG BTL",1,null,"BG01 6001:GUI BTL",2,null,"AS01 1401:SET 990",2,null,"BT03 7003:TIG RND",1,null,"AS01 1401:SET 990",5,null,"AF06 91206:SPRING RL",1,null,"AS02 1402:SET 1390",2,null,"BT03 7003:TIG RND",1,null,"AS02 1402:SET 1390",3,null,"CD03 81104:S&S CHK",1,null,"BG01 6001:GUI BTL",2,null,"AF33 91303:CHK WING",3,null,"AS02 1402:SET 1390",3,null,"BG01 6001:GUI BTL",2,null,"AS02 1402:SET 1390",2,null,"BH02 5002:HEI BKT",18,null,"CF01 92001:MILO(C)",15,null,"AS01 1401:SET 990",6,null,"AF37 91307:CALAMARI",2,null,"AF37 91307:CALAMARI",2,null,"BY02 8002:SOME BKT",1,null,"BH03 5003:HEI RND",1,null,"AS02 1402:SET 1390",2]
[null,"BT01 7001:TIG BTL",2,null,"AS02 1402:SET 1390",4,null,"BH02 5002:HEI BKT",3,null,"AF38 91308:MC RING",1,null,"AF33 91303:CHK WING",2,null,"AS02 1402:SET 1390",6,null,"BH04 5004:HEI 3+1",0,null,"BT02 7002:TIG BKT",16,null,"BH02 5002:HEI BKT",13,null,"AS02 1402:SET 1390",4,null,"CF01 92001:MILO(C)",34,null,"AS02 1402:SET 1390",7,null,"AF32 91302:NUGGET",1,null,"BG03 6003:GUI RND",1,null,"CF01 92001:MILO(C)",23,null,"BH01 5001:HEI BTL",1,null,"CF01 92001:MILO(C)",18,null,"BG02 6002:GUI BKT",1,null,"AF37 91307:CALAMARI",1,null,"BT01 7001:TIG BTL",1,null,"BH02 5002:HEI BKT",1,null,"BG01 6001:GUI BTL",1,null,"BH04 5004:HEI 3+1",4,null,"CF02 92003:NESCAFE(C)",10,null,"AS02 1402:SET 1390",2,null,"AS01 1401:SET 990",3,null,"AF38 91308:MC RING",4,null,"CF01 92001:MILO(C)",17,null,"BT02 7002:TIG BKT",16,null,"BG01 6001:GUI BTL",2]
[null,"BT02 7002:TIG BKT",25,null,"BH02 5002:HEI BKT",9,null,"BT01 7001:TIG BTL",2,null,"AF39 91309:MC S.FRIES",4,null,"AF35 91305:THAI RL",1,null,"BH02 5002:HEI BKT",2,null,"BT01 7001:TIG BTL",2,null,"BT03 7003:TIG RND",5,null,"BH04 5004:HEI 3+1",3,null,"BG02 6002:GUI BKT",2,null,"CF02 92003:NESCAFE(C)",10,null,"BG02 6002:GUI BKT",0,null,"AF33 91303:CHK WING",3,null,"BT02 7002:TIG BKT",19,null,"CF02 92003:NESCAFE(C)",9,null,"BH02 5002:HEI BKT",21,null,"CF02 92003:NESCAFE(C)",11,null,"BH02 5002:HEI BKT",3,null,"AS02 1402:SET 1390",4,null,"BT03 7003:TIG RND",1,null,"BH03 5003:HEI RND",1,null,"BH01 5001:HEI BTL",2,null,"BT02 7002:TIG BKT",6,null,"CF03 92005:TEA(C)",5,null,"BG02 6002:GUI BKT",1,null,"AS02 1402:SET 1390",3,null,"AF39 91309:MC S.FRIES",1,null,"CF02 92003:NESCAFE(C)",3,null,"BT03 7003:TIG RND",1,null,"BH01 5001:HEI BTL",2]
[null,"BT03 7003:TIG RND",3,null,"BH04 5004:HEI 3+1",2,null,"BT02 7002:TIG BKT",16,null,"AF41 91311:MC HSH BRW",1,null,"AS01 1401:SET 990",5,null,"BT02 7002:TIG BKT",9,null,"BT02 7002:TIG BKT",17,null,"BY02 8002:SOME BKT",1,null,"BT02 7002:TIG BKT",13,null,"BT02 7002:TIG BKT",2,null,"CF03 92005:TEA(C)",10,null,"BG03 6003:GUI RND",1,null,"AF34 91304:IKAN BILIS",2,null,"BT04 7004:TIG 2+1",6,null,"CF03 92005:TEA(C)",9,null,"BH04 5004:HEI 3+1",5,null,"CF03 92005:TEA(C)",14,null,"BT01 7001:TIG BTL",2,null,"BG03 6003:GUI RND",2,null,"CA03 2025:PEPSI",1,null,"BT01 7001:TIG BTL",1,null,"BH02 5002:HEI BKT",1,null,"BT03 7003:TIG RND",1,null,"CF04 92007:LMN TEA(C)",32,null,"BH02 5002:HEI BKT",1,null,"BG01 6001:GUI BTL",3,null,"AF40 91310:MC HP SMIL",1,null,"CF03 92005:TEA(C)",6,null,"BY02 8002:SOME BKT",1,null,"BT01 7001:TIG BTL",1]
[null,"CF01 92001:MILO(C)",25,null,"BT02 7002:TIG BKT",7,null,"BT03 7003:TIG RND",3,null,"AS01 1401:SET 990",7,null,"AS02 1402:SET 1390",5,null,"BT03 7003:TIG RND",4,null,"BT03 7003:TIG RND",0,null,"CD07 81108:SBL F.MEE",1,null,"CF01 92001:MILO(C)",14,null,"BT03 7003:TIG RND",2,null,"CF04 92007:LMN TEA(C)",53,null,"BH02 5002:HEI BKT",2,null,"AF38 91308:MC RING",1,null,"CF01 92001:MILO(C)",5,null,"CF04 92007:LMN TEA(C)",36,null,"BT01 7001:TIG BTL",5,null,"CF04 92007:LMN TEA(C)",25,null,"BT02 7002:TIG BKT",8,null,"BH01 5001:HEI BTL",1,null,"CB05 2009:GRN TEA(C)",4,null,"BT02 7002:TIG BKT",17,null,"BH03 5003:HEI RND",1,null,"CD05 81106:HK F.RICE",1,null,"CF05 92009:GRN TEA(C)",54,null,"BH03 5003:HEI RND",1,null,"BH01 5001:HEI BTL",4,null,"AF41 91311:MC HSH BRW",1,null,"CF04 92007:LMN TEA(C)",22,null,"CF01 92001:MILO(C)",30,null,"BT02 7002:TIG BKT",17]
[null,"CF02 92003:NESCAFE(C)",3,null,"CF01 92001:MILO(C)",27,null,"CF01 92001:MILO(C)",27,null,"AS02 1402:SET 1390",4,null,"BH01 5001:HEI BTL",2,null,"BY02 8002:SOME BKT",1,null,"BT04 7004:TIG 2+1",5,null,"CF01 92001:MILO(C)",14,null,"CF02 92003:NESCAFE(C)",5,null,"CD01 81101:THAI CHK",1,null,"CF05 92009:GRN TEA(C)",62,null,"BT02 7002:TIG BKT",14,null,"AS01 1401:SET 990",3,null,"CF02 92003:NESCAFE(C)",4,null,"CF05 92009:GRN TEA(C)",32,null,"BT02 7002:TIG BKT",14,null,"CF05 92009:GRN TEA(C)",42,null,"BT03 7003:TIG RND",1,null,"BH02 5002:HEI BKT",2,null,"CF01 92001:MILO(C)",35,null,"BT04 7004:TIG 2+1",5,null,"BT02 7002:TIG BKT",14,null,"CF01 92001:MILO(C)",17,null,"CF06 92011:HNY GT(C)",40,null,"BT02 7002:TIG BKT",15,null,"BH02 5002:HEI BKT",5,null,"AS01 1401:SET 990",5,null,"CF05 92009:GRN TEA(C)",56,null,"CF02 92003:NESCAFE(C)",9,null,"BT03 7003:TIG RND",4]
[null,"CF03 92005:TEA(C)",19,null,"CF02 92003:NESCAFE(C)",8,null,"CF02 92003:NESCAFE(C)",3,null,"BG02 6002:GUI BKT",3,null,"BH02 5002:HEI BKT",3,null,"CA01 2023:7 UP",1,null,"BY01 8001:SOME BTL",1,null,"CF02 92003:NESCAFE(C)",3,null,"CF03 92005:TEA(C)",7,null,"CD09 81110:NISSIN",1,null,"CF06 92011:HNY GT(C)",51,null,"BT03 7003:TIG RND",4,null,"AS02 1402:SET 1390",1,null,"CF03 92005:TEA(C)",17,null,"CF06 92011:HNY GT(C)",34,null,"BT03 7003:TIG RND",2,null,"CF06 92011:HNY GT(C)",41,null,"CF01 92001:MILO(C)",28,null,"BN02 8202:HOE BKT",2,null,"CF02 92003:NESCAFE(C)",10,null,"CF01 92001:MILO(C)",34,null,"BT03 7003:TIG RND",4,null,"CF02 92003:NESCAFE(C)",4,null,"CF07 92013:HONEY(C)",13,null,"BT03 7003:TIG RND",3,null,"BT01 7001:TIG BTL",4,null,"AS02 1402:SET 1390",4,null,"CF06 92011:HNY GT(C)",28,null,"CF03 92005:TEA(C)",6,null,"CF01 92001:MILO(C)",27]
[null,"CF04 92007:LMN TEA(C)",41,null,"CF03 92005:TEA(C)",23,null,"CF03 92005:TEA(C)",8,null,"BH02 5002:HEI BKT",3,null,"BT01 7001:TIG BTL",1,null,"CF01 92001:MILO(C)",39,null,"CB04 2007:LMN TEA(C)",2,null,"CF03 92005:TEA(C)",13,null,"CF04 92007:LMN TEA(C)",26,null,"CF01 92001:MILO(C)",27,null,"CF07 92013:HONEY(C)",23,null,"CF01 92001:MILO(C)",27,null,"BH02 5002:HEI BKT",2,null,"CF04 92007:LMN TEA(C)",14,null,"CF07 92013:HONEY(C)",6,null,"BY02 8002:SOME BKT",1,null,"CF07 92013:HONEY(C)",13,null,"CF02 92003:NESCAFE(C)",7,null,"BT01 7001:TIG BTL",1,null,"CF03 92005:TEA(C)",7,null,"CF02 92003:NESCAFE(C)",4,null,"CF01 92001:MILO(C)",27,null,"CF03 92005:TEA(C)",16,null,"CF08 92015:HNY LMN(C)",77,null,"BY01 8001:SOME BTL",2,null,"BT02 7002:TIG BKT",10,null,"BH03 5003:HEI RND",1,null,"CF07 92013:HONEY(C)",19,null,"CF04 92007:LMN TEA(C)",27,null,"CF02 92003:NESCAFE(C)",8]
[null,"CF05 92009:GRN TEA(C)",61,null,"CF04 92007:LMN TEA(C)",28,null,"CF04 92007:LMN TEA(C)",35,null,"BH03 5003:HEI RND",6,null,"BT02 7002:TIG BKT",29,null,"CF02 92003:NESCAFE(C)",10,null,"CF01 92001:MILO(C)",23,null,"CF04 92007:LMN TEA(C)",30,null,"CF05 92009:GRN TEA(C)",54,null,"CF02 92003:NESCAFE(C)",10,null,"CF08 92015:HNY LMN(C)",99,null,"CF02 92003:NESCAFE(C)",8,null,"BT02 7002:TIG BKT",6,null,"CF05 92009:GRN TEA(C)",56,null,"CF08 92015:HNY LMN(C)",63,null,"CF01 92001:MILO(C)",25,null,"CF08 92015:HNY LMN(C)",78,null,"CF03 92005:TEA(C)",5,null,"BT02 7002:TIG BKT",12,null,"CF04 92007:LMN TEA(C)",31,null,"CF03 92005:TEA(C)",7,null,"CF02 92003:NESCAFE(C)",8,null,"CF04 92007:LMN TEA(C)",9,null,"CG01 92023:7 UP",11,null,"BY02 8002:SOME BKT",1,null,"BT03 7003:TIG RND",7,null,"BT01 7001:TIG BTL",6,null,"CF08 92015:HNY LMN(C)",82,null,"CF05 92009:GRN TEA(C)",46,null,"CF03 92005:TEA(C)",12]
[null,"CF06 92011:HNY GT(C)",38,null,"CF05 92009:GRN TEA(C)",29,null,"CF05 92009:GRN TEA(C)",40,null,"BN02 8202:HOE BKT",1,null,"BT03 7003:TIG RND",5,null,"CF03 92005:TEA(C)",17,null,"CF02 92003:NESCAFE(C)",7,null,"CF05 92009:GRN TEA(C)",57,null,"CF06 92011:HNY GT(C)",24,null,"CF03 92005:TEA(C)",14,null,"CG01 92023:7 UP",15,null,"CF03 92005:TEA(C)",20,null,"BT03 7003:TIG RND",1,null,"CF06 92011:HNY GT(C)",37,null,"CG01 92023:7 UP",14,null,"CF02 92003:NESCAFE(C)",3,null,"CG01 92023:7 UP",18,null,"CF04 92007:LMN TEA(C)",24,null,"BT03 7003:TIG RND",5,null,"CF05 92009:GRN TEA(C)",54,null,"CF04 92007:LMN TEA(C)",16,null,"CF03 92005:TEA(C)",15,null,"CF05 92009:GRN TEA(C)",44,null,"CG02 92024:7UP REVIVE",2,null,"CB04 2007:LMN TEA(C)",1,null,"CD05 81106:HK F.RICE",1,null,"BT02 7002:TIG BKT",11,null,"CG01 92023:7 UP",1,null,"CF06 92011:HNY GT(C)",22,null,"CF04 92007:LMN TEA(C)",54]
[null,"CF07 92013:HONEY(C)",22,null,"CF06 92011:HNY GT(C)",61,null,"CF06 92011:HNY GT(C)",38,null,"BT02 7002:TIG BKT",13,null,"BY01 8001:SOME BTL",1,null,"CF04 92007:LMN TEA(C)",60,null,"CF03 92005:TEA(C)",15,null,"CF06 92011:HNY GT(C)",37,null,"CF07 92013:HONEY(C)",16,null,"CF04 92007:LMN TEA(C)",23,null,"CG02 92024:7UP REVIVE",6,null,"CF04 92007:LMN TEA(C)",57,null,"BW02 8102:STRONG BKT",1,null,"CF07 92013:HONEY(C)",14,null,"CG02 92024:7UP REVIVE",1,null,"CF03 92005:TEA(C)",5,null,"CG03 92025:PEPSI",13,null,"CF05 92009:GRN TEA(C)",49,null,"CB02 2003:NESCAFE(C)",1,null,"CF06 92011:HNY GT(C)",55,null,"CF05 92009:GRN TEA(C)",40,null,"CF04 92007:LMN TEA(C)",18,null,"CF06 92011:HNY GT(C)",25,null,"CG03 92025:PEPSI",12,null,"CB08 2015:HNY LMN(C)",1,null,"CF01 92001:MILO(C)",23,null,"BT03 7003:TIG RND",1,null,"CG02 92024:7UP REVIVE",1,null,"CF07 92013:HONEY(C)",10,null,"CF05 92009:GRN TEA(C)",71]
[null,"CF08 92015:HNY LMN(C)",118,null,"CF07 92013:HONEY(C)",8,null,"CF07 92013:HONEY(C)",12,null,"BY02 8002:SOME BKT",1,null,"BY02 8002:SOME BKT",1,null,"CF05 92009:GRN TEA(C)",71,null,"CF04 92007:LMN TEA(C)",35,null,"CF07 92013:HONEY(C)",10,null,"CF08 92015:HNY LMN(C)",54,null,"CF05 92009:GRN TEA(C)",34,null,"CG03 92025:PEPSI",15,null,"CF05 92009:GRN TEA(C)",84,null,"BY02 8002:SOME BKT",1,null,"CF08 92015:HNY LMN(C)",54,null,"CG03 92025:PEPSI",36,null,"CF04 92007:LMN TEA(C)",29,null,"CH01 82008:LEMON TEA",1,null,"CF06 92011:HNY GT(C)",50,null,"CD01 81101:THAI CHK",1,null,"CF07 92013:HONEY(C)",10,null,"CF06 92011:HNY GT(C)",23,null,"CF05 92009:GRN TEA(C)",47,null,"CF07 92013:HONEY(C)",9,null,"CH01 82008:LEMON TEA",1,null,"CD01 81101:THAI CHK",1,null,"CF02 92003:NESCAFE(C)",18,null,"BY01 8001:SOME BTL",1,null,"CG03 92025:PEPSI",33,null,"CF08 92015:HNY LMN(C)",85,null,"CF06 92011:HNY GT(C)",29]
[null,"CG01 92023:7 UP",4,null,"CF08 92015:HNY LMN(C)",111,null,"CF08 92015:HNY LMN(C)",91,null,"CF01 92001:MILO(C)",26,null,"CA03 2025:PEPSI",1,null,"CF06 92011:HNY GT(C)",58,null,"CF05 92009:GRN TEA(C)",28,null,"CF08 92015:HNY LMN(C)",82,null,"CG01 92023:7 UP",17,null,"CF06 92011:HNY GT(C)",46,null,"CH02 82010:GRN TEA",1,null,"CF06 92011:HNY GT(C)",81,null,"CB04 2007:LMN TEA(C)",1,null,"CG01 92023:7 UP",11,null,"CH02 82010:GRN TEA",1,null,"CF05 92009:GRN TEA(C)",37,null,"CH02 82010:GRN TEA",1,null,"CF07 92013:HONEY(C)",26,null,"CD02 81102:MAMITE CHK",1,null,"CF08 92015:HNY LMN(C)",91,null,"CF07 92013:HONEY(C)",19,null,"CF06 92011:HNY GT(C)",44,null,"CF08 92015:HNY LMN(C)",87,null,"CH02 82010:GRN TEA",1,null,"CD10 81111:VEG RICE",1,null,"CF03 92005:TEA(C)",22,null,"CB08 2015:HNY LMN(C)",1,null,"CH02 82010:GRN TEA",1,null,"CG01 92023:7 UP",11,null,"CF07 92013:HONEY(C)",16]
[null,"CG02 92024:7UP REVIVE",4,null,"CG01 92023:7 UP",3,null,"CG01 92023:7 UP",4,null,"CF02 92003:NESCAFE(C)",6,null,"CD02 81102:MAMITE CHK",1,null,"CF07 92013:HONEY(C)",23,null,"CF06 92011:HNY GT(C)",41,null,"CG01 92023:7 UP",5,null,"CG02 92024:7UP REVIVE",1,null,"CF07 92013:HONEY(C)",14,null,"CH03 82028:CHRY TEA",1,null,"CF07 92013:HONEY(C)",14,null,"CB08 2015:HNY LMN(C)",1,null,"CG03 92025:PEPSI",38,null,"CH03 82028:CHRY TEA",1,null,"CF06 92011:HNY GT(C)",60,null,"CH10 82026:BM WATER",2,null,"CF08 92015:HNY LMN(C)",96,null,"CD05 81106:HK F.RICE",1,null,"CG01 92023:7 UP",7,null,"CF08 92015:HNY LMN(C)",98,null,"CF07 92013:HONEY(C)",15,null,"CG01 92023:7 UP",6,null,"CH03 82028:CHRY TEA",1,null,"CF01 92001:MILO(C)",29,null,"CF04 92007:LMN TEA(C)",54,null,"CF01 92001:MILO(C)",21,null,"CM05 80005:CHEE SAUSG",0,null,"CG02 92024:7UP REVIVE",1,null,"CF08 92015:HNY LMN(C)",102]
[null,"CG03 92025:PEPSI",10,null,"CG02 92024:7UP REVIVE",1,null,"CG02 92024:7UP REVIVE",2,null,"CF03 92005:TEA(C)",14,null,"CD03 81104:S&S CHK",1,null,"CF08 92015:HNY LMN(C)",157,null,"CF07 92013:HONEY(C)",11,null,"CG02 92024:7UP REVIVE",1,null,"CG03 92025:PEPSI",27,null,"CF08 92015:HNY LMN(C)",84,null,"CH06 82023:7 UP",1,null,"CF08 92015:HNY LMN(C)",161,null,"CD02 81102:MAMITE CHK",1,null,"CH01 82008:LEMON TEA",1,null,"CH08 82025:PEPSI",1,null,"CF07 92013:HONEY(C)",19,null,"CL02 LOK PACKAGE B",1,null,"CG01 92023:7 UP",18,null,"CD12 81103:MGL CHK",1,null,"CG02 92024:7UP REVIVE",2,null,"CG01 92023:7 UP",9,null,"CF08 92015:HNY LMN(C)",97,null,"CG02 92024:7UP REVIVE",15,null,"CH04 82029:SOYA",1,null,"CF02 92003:NESCAFE(C)",2,null,"CF05 92009:GRN TEA(C)",93,null,"CF02 92003:NESCAFE(C)",13,null,"CM33 82003:COC SAUSG",1,null,"CG03 92025:PEPSI",22,null,"CG01 92023:7 UP",14]
[null,"CH01 82008:LEMON TEA",2,null,"CG03 92025:PEPSI",14,null,"CG03 92025:PEPSI",12,null,"CF04 92007:LMN TEA(C)",47,null,"CD04 81105:BUTTER CHK",2,null,"CG01 92023:7 UP",13,null,"CF08 92015:HNY LMN(C)",68,null,"CG03 92025:PEPSI",18,null,"CH01 82008:LEMON TEA",2,null,"CG01 92023:7 UP",4,null,"CH09 82105:RIBENA",4,null,"CG01 92023:7 UP",14,null,"CD05 81106:HK F.RICE",1,null,"CH02 82010:GRN TEA",1,null,"CH10 82026:BM WATER",2,null,"CF08 92015:HNY LMN(C)",67,null,"CM01 80001:COC SAUSG",2,null,"CG02 92024:7UP REVIVE",2,null,"CF01 92001:MILO(C)",30,null,"CG03 92025:PEPSI",37,null,"CG02 92024:7UP REVIVE",2,null,"CG01 92023:7 UP",6,null,"CG03 92025:PEPSI",25,null,"CH08 82025:PEPSI",2,null,"CF03 92005:TEA(C)",10,null,"CF06 92011:HNY GT(C)",39,null,"CF03 92005:TEA(C)",15,null,"CM34 82004:CHEE SAUSG",2,null,"CH03 82028:CHRY TEA",1,null,"CG03 92025:PEPSI",55]
[null,"CH02 82010:GRN TEA",2,null,"CH01 82008:LEMON TEA",1,null,"CH03 82028:CHRY TEA",1,null,"CF05 92009:GRN TEA(C)",62,null,"CF01 92001:MILO(C)",28,null,"CG02 92024:7UP REVIVE",1,null,"CG01 92023:7 UP",8,null,"CH02 82010:GRN TEA",2,null,"CH02 82010:GRN TEA",2,null,"CG02 92024:7UP REVIVE",4,null,"CH10 82026:BM WATER",1,null,"CG02 92024:7UP REVIVE",5,null,"CF01 92001:MILO(C)",29,null,"CH04 82029:SOYA",2,null,"CM01 80001:COC SAUSG",1,null,"CG01 92023:7 UP",10,null,"CM03 80003:CHK KIDNEY",1,null,"CG03 92025:PEPSI",9,null,"CF02 92003:NESCAFE(C)",14,null,"CH01 82008:LEMON TEA",5,null,"CG03 92025:PEPSI",25,null,"CG02 92024:7UP REVIVE",2,null,"CH03 82028:CHRY TEA",1,null,"CH09 82105:RIBENA",2,null,"CF04 92007:LMN TEA(C)",42,null,"CF07 92013:HONEY(C)",12,null,"CF04 92007:LMN TEA(C)",66,null,"CM35 82005:BP SAUSG",1,null,"CH10 82026:BM WATER",1,null,"CH01 82008:LEMON TEA",2]
[null,"CH03 82028:CHRY TEA",1,null,"CH02 82010:GRN TEA",1,null,"CH04 82029:SOYA",1,null,"CF06 92011:HNY GT(C)",61,null,"CF02 92003:NESCAFE(C)",8,null,"CG03 92025:PEPSI",69,null,"CG03 92025:PEPSI",36,null,"CH03 82028:CHRY TEA",1,null,"CL02 LOK PACKAGE B",1,null,"CG03 92025:PEPSI",15,null,"CJ01 86001:GUI BTL",1,null,"CG03 92025:PEPSI",64,null,"CF02 92003:NESCAFE(C)",11,null,"CH09 82105:RIBENA",1,null,"CM05 80005:CHEE SAUSG",2,null,"CG02 92024:7UP REVIVE",3,null,"CM05 80005:CHEE SAUSG",3,null,"CH02 82010:GRN TEA",1,null,"CF03 92005:TEA(C)",12,null,"CH02 82010:GRN TEA",2,null,"CH03 82028:CHRY TEA",2,null,"CG03 92025:PEPSI",16,null,"CH09 82105:RIBENA",3,null,"CH10 82026:BM WATER",1,null,"CF05 92009:GRN TEA(C)",55,null,"CF08 92015:HNY LMN(C)",109,null,"CF05 92009:GRN TEA(C)",66,null,"CO32 82027:QUAIL EGGS",1,null,"CJ01 86001:GUI BTL",0,null,"CH06 82023:7 UP",2]
[null,"CH04 82029:SOYA",1,null,"CH10 82026:BM WATER",1,null,"CH09 82105:RIBENA",1,null,"CF07 92013:HONEY(C)",17,null,"CF03 92005:TEA(C)",6,null,"CH02 82010:GRN TEA",2,null,"CH02 82010:GRN TEA",1,null,"CH04 82029:SOYA",4,null,"CM01 80001:COC SAUSG",1,null,"CH04 82029:SOYA",3,null,"CJ02 86002:GUI BKT",1,null,"CH04 82029:SOYA",1,null,"CF03 92005:TEA(C)",17,null,"CL01 LOK PACKAGE A",1,null,"CM10 80010:CHK WING",2,null,"CG03 92025:PEPSI",23,null,"CM06 80006:BP SAUSG",1,null,"CL12 LOK SET 2",1,null,"CF04 92007:LMN TEA(C)",60,null,"CH04 82029:SOYA",1,null,"CH07 82024:7 UP RV",1,null,"CJ01 86001:GUI BTL",1,null,"CH10 82026:BM WATER",3,null,"CL21 GRILLED SET",1,null,"CF06 92011:HNY GT(C)",55,null,"CG01 92023:7 UP",19,null,"CF06 92011:HNY GT(C)",62,null,"CO33 82028:WANTON",2,null,"CL21 GRILLED SET",1,null,"CH07 82024:7 UP RV",1]
[null,"CH06 82023:7 UP",1,null,"CL01 LOK PACKAGE A",1,null,"CK01 88101:STRONG BTL",1,null,"CF08 92015:HNY LMN(C)",118,null,"CF04 92007:LMN TEA(C)",59,null,"CH09 82105:RIBENA",1,null,"CH03 82028:CHRY TEA",1,null,"CH07 82024:7 UP RV",1,null,"CM03 80003:CHK KIDNEY",1,null,"CH05 82030:CINCAU",1,null,"CL02 LOK PACKAGE B",1,null,"CH05 82030:CINCAU",2,null,"CF04 92007:LMN TEA(C)",69,null,"CM01 80001:COC SAUSG",1,null,"CO04 80057:CRS BCURD",5,null,"CH10 82026:BM WATER",1,null,"CM08 80008:PANDAN CHK",1,null,"CL31 SET 1 + GRILLED",1,null,"CF05 92009:GRN TEA(C)",78,null,"CH06 82023:7 UP",1,null,"CL11 LOK SET 1",1,null,"CL21 GRILLED SET",1,null,"CL11 LOK SET 1",1,null,"CL31 SET 1 + GRILLED",1,null,"CF07 92013:HONEY(C)",8,null,"CG02 92024:7UP REVIVE",3,null,"CF07 92013:HONEY(C)",12,null,"CO35 82030:QC EGGS",1,null,"CM34 82004:CHEE SAUSG",8,null,"CH09 82105:RIBENA",1]
[null,"CH07 82024:7 UP RV",1,null,"CM01 80001:COC SAUSG",1,null,"CM05 80005:CHEE SAUSG",4,null,"CG01 92023:7 UP",18,null,"CF05 92009:GRN TEA(C)",75,null,"CM05 80005:CHEE SAUSG",4,null,"CH04 82029:SOYA",1,null,"CH08 82025:PEPSI",1,null,"CM04 80004:CHK LIVER",2,null,"CM05 80005:CHEE SAUSG",10,null,"CM01 80001:COC SAUSG",2,null,"CH10 82026:BM WATER",1,null,"CF05 92009:GRN TEA(C)",71,null,"CM04 80004:CHK LIVER",1,null,"CO05 80058:QUAIL EGGS",2,null,"CM01 80001:COC SAUSG",1,null,"CM10 80010:CHK WING",6,null,"CM33 82003:COC SAUSG",1,null,"CF06 92011:HNY GT(C)",94,null,"CH08 82025:PEPSI",1,null,"CL51 GRILLED + BEER",1,null,"CL31 SET 1 + GRILLED",1,null,"CL21 GRILLED SET",1,null,"CM32 82002:CHK LIVER",1,null,"CF08 92015:HNY LMN(C)",139,null,"CG03 92025:PEPSI",21,null,"CF08 92015:HNY LMN(C)",105,null,"CO38 82033:CHEE SF TF",2,null,"CM35 82005:BP SAUSG",3,null,"CI01 85001:HEI BTL",2]
[null,"CH09 82105:RIBENA",2,null,"CM04 80004:CHK LIVER",1,null,"CM06 80006:BP SAUSG",1,null,"CG02 92024:7UP REVIVE",2,null,"CF06 92011:HNY GT(C)",48,null,"CO05 80058:QUAIL EGGS",1,null,"CH09 82105:RIBENA",3,null,"CH09 82105:RIBENA",2,null,"CM05 80005:CHEE SAUSG",4,null,"CM06 80006:BP SAUSG",1,null,"CM02 80002:BEEF BAL",1,null,"CJ02 86002:GUI BKT",2,null,"CF06 92011:HNY GT(C)",51,null,"CM05 80005:CHEE SAUSG",2,null,"CO14 80067:CHEE SF TF",1,null,"CM03 80003:CHK KIDNEY",3,null,"CO04 80057:CRS BCURD",2,null,"CO31 82026:MINI BCURD",1,null,"CF07 92013:HONEY(C)",21,null,"CH10 82026:BM WATER",1,null,"CM33 82003:COC SAUSG",1,null,"CM32 82002:CHK LIVER",1,null,"CM03 80003:CHK KIDNEY",0,null,"CM33 82003:COC SAUSG",1,null,"CG01 92023:7 UP",15,null,"CH01 82008:LEMON TEA",1,null,"CG01 92023:7 UP",22,null,"CO39 82034:MINI BUN",2,null,"CM37 82007:CHK WING",3,null,"CL11 LOK SET 1",1]
[null,"CJ01 86001:GUI BTL",1,null,"CM08 80008:PANDAN CHK",1,null,"CM07 80007:SFL BBAL",1,null,"CG03 92025:PEPSI",33,null,"CF07 92013:HONEY(C)",20,null,"CP02 80012:WX RL S",1,null,"CM01 80001:COC SAUSG",2,null,"CH10 82026:BM WATER",2,null,"CM07 80007:SFL BBAL",1,null,"CM08 80008:PANDAN CHK",1,null,"CM03 80003:CHK KIDNEY",1,null,"CM01 80001:COC SAUSG",4,null,"CF07 92013:HONEY(C)",11,null,"CM06 80006:BP SAUSG",1,null,"CP01 80011:MT BAL S",1,null,"CM05 80005:CHEE SAUSG",2,null,"CO05 80058:QUAIL EGGS",3,null,"CO32 82027:QUAIL EGGS",1,null,"CF08 92015:HNY LMN(C)",170,null,"CL11 LOK SET 1",1,null,"CO32 82027:QUAIL EGGS",1,null,"CM33 82003:COC SAUSG",1,null,"CM04 80004:CHK LIVER",0,null,"CM34 82004:CHEE SAUSG",6,null,"CG02 92024:7UP REVIVE",3,null,"CH02 82010:GRN TEA",1,null,"CG02 92024:7UP REVIVE",11,null,"CP32 82009:MT BAL S",3,null,"CO31 82026:MINI BCURD",1,null,"CM31 82001:CHK KIDNEY",1]
[null,"CL01 LOK PACKAGE A",1,null,"CM10 80010:CHK WING",1,null,"CM08 80008:PANDAN CHK",3,null,"CH01 82008:LEMON TEA",3,null,"CF08 92015:HNY LMN(C)",145,null,"CU07 80029:FSH BAL S",7,null,"CM05 80005:CHEE SAUSG",5,null,"CL01 LOK PACKAGE A",2,null,"CM08 80008:PANDAN CHK",1,null,"CO04 80057:CRS BCURD",1,null,"CM05 80005:CHEE SAUSG",3,null,"CM05 80005:CHEE SAUSG",11,null,"CF08 92015:HNY LMN(C)",102,null,"CM10 80010:CHK WING",1,null,"CP02 80012:WX RL S",1,null,"CM10 80010:CHK WING",3,null,"CO06 80059:F WANTON",2,null,"CO36 82031:SPICE RL",2,null,"CG01 92023:7 UP",12,null,"CL12 LOK SET 2",2,null,"CO37 82032:BCURD RL",1,null,"CM34 82004:CHEE SAUSG",2,null,"CM32 82002:CHK LIVER",2,null,"CM36 82006:JPN CTICK",6,null,"CG03 92025:PEPSI",15,null,"CH05 82030:CINCAU",2,null,"CG03 92025:PEPSI",49,null,"CP33 82010:TW SAUSG",1,null,"CO32 82027:QUAIL EGGS",2,null,"CM33 82003:COC SAUSG",1]
[null,"CL02 LOK PACKAGE B",1,null,"CO04 80057:CRS BCURD",1,null,"CO04 80057:CRS BCURD",2,null,"CH04 82029:SOYA",2,null,"CG01 92023:7 UP",17,null,"CZ05 87005:TIG BKT P",1,null,"CO05 80058:QUAIL EGGS",1,null,"CM01 80001:COC SAUSG",2,null,"CM10 80010:CHK WING",5,null,"CO06 80059:F WANTON",2,null,"CM08 80008:PANDAN CHK",1,null,"CM06 80006:BP SAUSG",5,null,"CG01 92023:7 UP",13,null,"CO04 80057:CRS BCURD",3,null,"CP03 80013:SAUSG SLC",2,null,"CO04 80057:CRS BCURD",3,null,"CO08 80061:VEGE BAL",2,null,"CO37 82032:BCURD RL",1,null,"CG02 92024:7UP REVIVE",3,null,"CL21 GRILLED SET",1,null,"CU32 82017:FSH BAL S",1,null,"CO32 82027:QUAIL EGGS",1,null,"CM33 82003:COC SAUSG",1,null,"CM37 82007:CHK WING",5,null,"CH01 82008:LEMON TEA",2,null,"CH07 82024:7 UP RV",1,null,"CH01 82008:LEMON TEA",2,null,"CP36 82013:SIEW MAI",4,null,"CO38 82033:CHEE SF TF",3,null,"CM34 82004:CHEE SAUSG",1]
[null,"CM01 80001:COC SAUSG",3,null,"CO05 80058:QUAIL EGGS",1,null,"CO05 80058:QUAIL EGGS",1,null,"CH09 82105:RIBENA",4,null,"CG02 92024:7UP REVIVE",3,null,"CZ06 87006:TIG 2BKT P",1,null,"CO12 80065:QC EGGS",1,null,"CM02 80002:BEEF BAL",2,null,"CO04 80057:CRS BCURD",3,null,"CO10 80063:SF TF",1,null,"CM10 80010:CHK WING",2,null,"CM07 80007:SFL BBAL",1,null,"CG02 92024:7UP REVIVE",4,null,"CO10 80063:SF TF",1,null,"CP07 80017:TW SAUSG",3,null,"CO05 80058:QUAIL EGGS",2,null,"CO11 80064:SPRING RL",1,null,"CP33 82010:TW SAUSG",1,null,"CG03 92025:PEPSI",50,null,"CL31 SET 1 + GRILLED",1,null,"CW31 82022:WT SPIN",1,null,"CO35 82030:QC EGGS",1,null,"CM34 82004:CHEE SAUSG",2,null,"CO31 82026:MINI BCURD",7,null,"CH02 82010:GRN TEA",4,null,"CH09 82105:RIBENA",3,null,"CH02 82010:GRN TEA",3,null,"CU04 80026:CLAM",0,null,"CP32 82009:MT BAL S",2,null,"CM35 82005:BP SAUSG",1]
[null,"CM03 80003:CHK KIDNEY",1,null,"CO10 80063:SF TF",1,null,"CO06 80059:F WANTON",3,null,"CH10 82026:BM WATER",1,null,"CG03 92025:PEPSI",24,null,"DR11 TIDBITS",8,null,"CO14 80067:CHEE SF TF",4,null,"CM04 80004:CHK LIVER",2,null,"CO05 80058:QUAIL EGGS",1,null,"CP02 80012:WX RL S",1,null,"CO04 80057:CRS BCURD",3,null,"CN01 88201:HOE BTL",1,null,"CG03 92025:PEPSI",31,null,"CO12 80065:QC EGGS",1,null,"CP10 80020:SFL PBAL",1,null,"CO08 80061:VEGE BAL",1,null,"CP01 80011:MT BAL S",3,null,"CP38 82015:BC LBEAN",1,null,"CH01 82008:LEMON TEA",2,null,"CM31 82001:CHK KIDNEY",1,null,"CX02 81002:GVY CHK CP",1,null,"CO37 82032:BCURD RL",1,null,"CM35 82005:BP SAUSG",1,null,"CO32 82027:QUAIL EGGS",4,null,"CH03 82028:CHRY TEA",1,null,"CH10 82026:BM WATER",3,null,"CH08 82025:PEPSI",2,null,"CU31 82016:CLAM",1,null,"CP33 82010:TW SAUSG",2,null,"CM37 82007:CHK WING",1]
[null,"CM04 80004:CHK LIVER",1,null,"CP01 80011:MT BAL S",1,null,"CO08 80061:VEGE BAL",3,null,"CM01 80001:COC SAUSG",2,null,"CH01 82008:LEMON TEA",5,null,"HF01 92002:MILO(H)",24,null,"CP01 80011:MT BAL S",1,null,"CM05 80005:CHEE SAUSG",7,null,"CO06 80059:F WANTON",6,null,"CP03 80013:SAUSG SLC",1,null,"CO06 80059:F WANTON",1,null,"CO04 80057:CRS BCURD",2,null,"CH01 82008:LEMON TEA",1,null,"CO14 80067:CHEE SF TF",1,null,"CU12 80034:FSH BAL B",1,null,"CO10 80063:SF TF",1,null,"CP02 80012:WX RL S",1,null,"CU32 82017:FSH BAL S",1,null,"CH02 82010:GRN TEA",2,null,"CM33 82003:COC SAUSG",3,null,"CX03 81003:MR CKN CP",1,null,"CO39 82034:MINI BUN",1,null,"CM36 82006:JPN CTICK",3,null,"CO33 82028:WANTON",2,null,"CH04 82029:SOYA",1,null,"CJ02 86002:GUI BKT",2,null,"CL11 LOK SET 1",1,null,"CU36 82021:FZ FSH BAL",2,null,"CP34 82011:JPN PTICK",4,null,"CO32 82027:QUAIL EGGS",1]
[null,"CM05 80005:CHEE SAUSG",2,null,"CP02 80012:WX RL S",1,null,"CO12 80065:QC EGGS",3,null,"CM05 80005:CHEE SAUSG",6,null,"CH02 82010:GRN TEA",4,null,"HF02 92004:NESCAFE(H)",4,null,"CP02 80012:WX RL S",2,null,"CM08 80008:PANDAN CHK",2,null,"CO08 80061:VEGE BAL",3,null,"CP05 80015:MT BAL B",1,null,"CO08 80061:VEGE BAL",3,null,"CO06 80059:F WANTON",4,null,"CH04 82029:SOYA",1,null,"CP02 80012:WX RL S",1,null,"CU18 80040:FZ FSH BAL",1,null,"CO12 80065:QC EGGS",4,null,"CP03 80013:SAUSG SLC",2,null,"CU35 82020:SALMON BAL",1,null,"CH03 82028:CHRY TEA",2,null,"CM34 82004:CHEE SAUSG",1,null,"CX07 81007:CHK SALAD",1,null,"CP32 82009:MT BAL S",1,null,"CO31 82026:MINI BCURD",2,null,"CO35 82030:QC EGGS",2,null,"CH05 82030:CINCAU",3,null,"CL21 GRILLED SET",1,null,"CM31 82001:CHK KIDNEY",2,null,"CW33 82024:BROCCOLI",1,null,"CP35 82012:ROAST POK",3,null,"CO33 82028:WANTON",2]
[null,"CM08 80008:PANDAN CHK",1,null,"CP05 80015:MT BAL B",1,null,"CO13 80066:THAI RL",2,null,"CM06 80006:BP SAUSG",2,null,"CH03 82028:CHRY TEA",1,null,"HF03 92006:TEA(H)",3,null,"CP07 80017:TW SAUSG",3,null,"CM10 80010:CHK WING",5,null,"CO11 80064:SPRING RL",1,null,"CP10 80020:SFL PBAL",1,null,"CO10 80063:SF TF",2,null,"CO07 80060:LGP SAMOSA",2,null,"CH06 82023:7 UP",1,null,"CP05 80015:MT BAL B",1,null,"CU20 80042:CFSH BAL",1,null,"CO14 80067:CHEE SF TF",1,null,"CP07 80017:TW SAUSG",1,null,"CW31 82022:WT SPIN",1,null,"CH06 82023:7 UP",2,null,"CM35 82005:BP SAUSG",1,null,"DC04 81026:CLAM",2,null,"CP35 82012:ROAST POK",1,null,"CO32 82027:QUAIL EGGS",2,null,"CO36 82031:SPICE RL",3,null,"CH06 82023:7 UP",1,null,"CL31 SET 1 + GRILLED",1,null,"CM32 82002:CHK LIVER",1,null,"CX05 81005:FSH&CHIP",1,null,"CP37 82014:BC SHOOT",1,null,"CO36 82031:SPICE RL",1]
[null,"CM10 80010:CHK WING",1,null,"CP07 80017:TW SAUSG",2,null,"CO14 80067:CHEE SF TF",2,null,"CM10 80010:CHK WING",4,null,"CH05 82030:CINCAU",1,null,"HF04 92008:LMN TEA(H)",7,null,"CP10 80020:SFL PBAL",3,null,"CO04 80057:CRS BCURD",7,null,"CO12 80065:QC EGGS",2,null,"CU03 80025:SP FSH CAK",2,null,"CO11 80064:SPRING RL",1,null,"CO08 80061:VEGE BAL",1,null,"CI01 85001:HEI BTL",1,null,"CP07 80017:TW SAUSG",1,null,"CZ06 87006:TIG 2BKT P",1,null,"CP01 80011:MT BAL S",2,null,"CP08 80018:BACON",1,null,"CW32 82023:LONG BEAN",1,null,"CH08 82025:PEPSI",1,null,"CO31 82026:MINI BCURD",3,null,"DH01 DUNHILL",1,null,"CU31 82016:CLAM",4,null,"CO35 82030:QC EGGS",1,null,"CO37 82032:BCURD RL",1,null,"CH07 82024:7 UP RV",1,null,"CM31 82001:CHK KIDNEY",1,null,"CM33 82003:COC SAUSG",2,null,"CZ06 87006:TIG 2BKT P",1,null,"CW31 82022:WT SPIN",4,null,"CO37 82032:BCURD RL",1]
[null,"CO04 80057:CRS BCURD",1,null,"CU07 80029:FSH BAL S",1,null,"CP02 80012:WX RL S",2,null,"CO04 80057:CRS BCURD",4,null,"CH06 82023:7 UP",2,null,"HF05 92010:GRN TEA(H)",13,null,"CU01 80023:FSH WONTON",2,null,"CO05 80058:QUAIL EGGS",6,null,"CO13 80066:THAI RL",1,null,"CU04 80026:CLAM",2,null,"CO12 80065:QC EGGS",1,null,"CO10 80063:SF TF",4,null,"CM05 80005:CHEE SAUSG",5,null,"CU04 80026:CLAM",1,null,"DD02 81049:KANG KONG",1,null,"CP03 80013:SAUSG SLC",5,null,"CP10 80020:SFL PBAL",1,null,"CW34 82025:ABALO MR",1,null,"CH09 82105:RIBENA",2,null,"CO32 82027:QUAIL EGGS",3,null,"DH07 DUNHILL ICE",1,null,"CU32 82017:FSH BAL S",1,null,"CO36 82031:SPICE RL",3,null,"CO38 82033:CHEE SF TF",3,null,"CH09 82105:RIBENA",5,null,"CM33 82003:COC SAUSG",1,null,"CM34 82004:CHEE SAUSG",2,null,"DA36 83006:JPN CTICK",4,null,"CW33 82024:BROCCOLI",1,null,"CP31 82008:POK LIVER",1]
[null,"CO05 80058:QUAIL EGGS",5,null,"CU15 80037:CHEE SP FP",1,null,"CP03 80013:SAUSG SLC",1,null,"CO05 80058:QUAIL EGGS",3,null,"CH08 82025:PEPSI",1,null,"HF06 92012:HNY GT(H)",24,null,"CU03 80025:SP FSH CAK",1,null,"CO10 80063:SF TF",6,null,"CO14 80067:CHEE SF TF",1,null,"CU12 80034:FSH BAL B",1,null,"CO14 80067:CHEE SF TF",4,null,"CO12 80065:QC EGGS",3,null,"CO05 80058:QUAIL EGGS",1,null,"CU07 80029:FSH BAL S",1,null,"DE12 81065:QC EGGS",1,null,"CP05 80015:MT BAL B",0,null,"CU05 80027:WX FSH BAL",2,null,"CZ06 87006:TIG 2BKT P",2,null,"CH10 82026:BM WATER",5,null,"CO33 82028:WANTON",1,null,"HF01 92002:MILO(H)",16,null,"CW31 82022:WT SPIN",1,null,"CO37 82032:BCURD RL",2,null,"CP32 82009:MT BAL S",10,null,"CH10 82026:BM WATER",2,null,"CM36 82006:JPN CTICK",1,null,"CO31 82026:MINI BCURD",3,null,"DH07 DUNHILL ICE",2,null,"CW34 82025:ABALO MR",4,null,"CP35 82012:ROAST POK",2]
[null,"CO08 80061:VEGE BAL",1,null,"CW01 80048:BOTTOM MR",1,null,"CP05 80015:MT BAL B",2,null,"CO06 80059:F WANTON",1,null,"CH09 82105:RIBENA",3,null,"HF07 92014:HONEY(H)",20,null,"CU04 80026:CLAM",2,null,"CO12 80065:QC EGGS",2,null,"CP01 80011:MT BAL S",2,null,"CU14 80036:CRB CLAW",3,null,"CP01 80011:MT BAL S",2,null,"CO13 80066:THAI RL",1,null,"CO10 80063:SF TF",2,null,"CU10 80032:ABALO SLC",2,null,"DR11 TIDBITS",6,null,"CP07 80017:TW SAUSG",2,null,"CU07 80029:FSH BAL S",3,null,"DH01 DUNHILL",1,null,"CI01 85001:HEI BTL",2,null,"CO36 82031:SPICE RL",3,null,"HF02 92004:NESCAFE(H)",4,null,"CW34 82025:ABALO MR",1,null,"CO38 82033:CHEE SF TF",1,null,"CP33 82010:TW SAUSG",6,null,"CJ02 86002:GUI BKT",1,null,"CN02 88202:HOE BKT",1,null,"CO32 82027:QUAIL EGGS",3,null,"DR11 TIDBITS",6,null,"CZ06 87006:TIG 2BKT P",5,null,"CP36 82013:SIEW MAI",1]
[null,"CO10 80063:SF TF",2,null,"CW02 80049:KANG KONG",2,null,"CP07 80017:TW SAUSG",3,null,"CO10 80063:SF TF",2,null,"CH10 82026:BM WATER",1,null,"HF08 92016:HNY LMN(H)",61,null,"CU05 80027:WX FSH BAL",1,null,"CO14 80067:CHEE SF TF",1,null,"CP02 80012:WX RL S",3,null,"CU18 80040:FZ FSH BAL",1,null,"CP02 80012:WX RL S",1,null,"CO14 80067:CHEE SF TF",4,null,"CO11 80064:SPRING RL",2,null,"CW01 80048:BOTTOM MR",1,null,"DR12 FOC TIDBITS",1,null,"CU01 80023:FSH WONTON",1,null,"CU10 80032:ABALO SLC",7,null,"DH02 DUNHILL LITE",2,null,"CL11 LOK SET 1",1,null,"CO37 82032:BCURD RL",2,null,"HF04 92008:LMN TEA(H)",5,null,"CZ06 87006:TIG 2BKT P",6,null,"CP02 80012:WX RL S",0,null,"CP34 82011:JPN PTICK",6,null,"CL11 LOK SET 1",1,null,"CO31 82026:MINI BCURD",1,null,"CO33 82028:WANTON",2,null,"DR12 FOC TIDBITS",1,null,"DA35 83005:BP SAUSG",2,null,"CU31 82016:CLAM",2]
[null,"CO11 80064:SPRING RL",1,null,"CW04 80051:LONG BEAN",1,null,"CP12 80022:ENO BC ROL",3,null,"CO12 80065:QC EGGS",1,null,"CM05 80005:CHEE SAUSG",3,null,"HF09 92017:CHAMOMILE",7,null,"CW01 80048:BOTTOM MR",2,null,"CP01 80011:MT BAL S",3,null,"CP03 80013:SAUSG SLC",3,null,"CW02 80049:KANG KONG",2,null,"CP03 80013:SAUSG SLC",2,null,"CP01 80011:MT BAL S",8,null,"CO12 80065:QC EGGS",1,null,"CW02 80049:KANG KONG",2,null,"HF01 92002:MILO(H)",19,null,"CU16 80038:OTAK FSH",1,null,"CU13 80035:TPURA PRW",1,null,"DH03 DUNHILL MT",1,null,"CM31 82001:CHK KIDNEY",4,null,"CO38 82033:CHEE SF TF",1,null,"HF05 92010:GRN TEA(H)",14,null,"DH01 DUNHILL",1,null,"CP07 80017:TW SAUSG",0,null,"CP35 82012:ROAST POK",6,null,"CL12 LOK SET 2",2,null,"CO32 82027:QUAIL EGGS",3,null,"CO34 82029:SF TF",3,null,"HF01 92002:MILO(H)",13,null,"DD33 83024:BROCCOLI",1,null,"CU32 82017:FSH BAL S",3]
[null,"CO14 80067:CHEE SF TF",2,null,"CW05 80052:ABALO MR",2,null,"CU01 80023:FSH WONTON",2,null,"CO13 80066:THAI RL",3,null,"CM06 80006:BP SAUSG",3,null,"HF10 92018:DARJEELING",4,null,"CW03 80050:BROCCOLI",1,null,"CP02 80012:WX RL S",3,null,"CP05 80015:MT BAL B",3,null,"CW05 80052:ABALO MR",2,null,"CP05 80015:MT BAL B",3,null,"CP02 80012:WX RL S",2,null,"CO14 80067:CHEE SF TF",1,null,"CW04 80051:LONG BEAN",2,null,"HF02 92004:NESCAFE(H)",7,null,"CW01 80048:BOTTOM MR",1,null,"CU14 80036:CRB CLAW",1,null,"DH07 DUNHILL ICE",2,null,"CM33 82003:COC SAUSG",1,null,"CO39 82034:MINI BUN",1,null,"HF06 92012:HNY GT(H)",6,null,"DH02 DUNHILL LITE",5,null,"CP32 82009:MT BAL S",4,null,"CP36 82013:SIEW MAI",6,null,"CL31 SET 1 + GRILLED",1,null,"CO34 82029:SF TF",3,null,"CO36 82031:SPICE RL",3,null,"HF02 92004:NESCAFE(H)",5,null,"DE32 83027:QUAIL EGGS",2,null,"CU35 82020:SALMON BAL",1]
[null,"CP01 80011:MT BAL S",4,null,"CZ05 87005:TIG BKT P",1,null,"CU03 80025:SP FSH CAK",1,null,"CO14 80067:CHEE SF TF",4,null,"CM10 80010:CHK WING",6,null,"HF11 92019:EARL GREY",13,null,"CW05 80052:ABALO MR",1,null,"CP03 80013:SAUSG SLC",2,null,"CP07 80017:TW SAUSG",7,null,"CW06 80053:STAKE MR",2,null,"CP08 80018:BACON",1,null,"CP03 80013:SAUSG SLC",4,null,"CP07 80017:TW SAUSG",1,null,"CW05 80052:ABALO MR",2,null,"HF03 92006:TEA(H)",1,null,"CW05 80052:ABALO MR",1,null,"CU17 80039:SALMON BAL",1,null,"DR11 TIDBITS",24,null,"CM34 82004:CHEE SAUSG",5,null,"CP33 82010:TW SAUSG",1,null,"HF07 92014:HONEY(H)",22,null,"DR11 TIDBITS",4,null,"CP33 82010:TW SAUSG",9,null,"CP38 82015:BC LBEAN",4,null,"CL32 SET 2 + GRILLED",3,null,"CO35 82030:QC EGGS",2,null,"CO37 82032:BCURD RL",2,null,"HF04 92008:LMN TEA(H)",4,null,"DE35 83030:QC EGGS",1,null,"CU36 82021:FZ FSH BAL",2]
[null,"CP02 80012:WX RL S",3,null,"DH03 DUNHILL MT",1,null,"CU04 80026:CLAM",4,null,"CP02 80012:WX RL S",1,null,"CO04 80057:CRS BCURD",9,null,"HP03 H:MEMBER B'DAY",1,null,"CW06 80053:STAKE MR",1,null,"CP05 80015:MT BAL B",9,null,"CP08 80018:BACON",1,null,"CY02 88002:SOME BKT",1,null,"CP10 80020:SFL PBAL",1,null,"CP05 80015:MT BAL B",6,null,"CP10 80020:SFL PBAL",2,null,"CX01 81001:BP CKN CP",1,null,"HF04 92008:LMN TEA(H)",1,null,"CZ05 87005:TIG BKT P",2,null,"CU18 80040:FZ FSH BAL",1,null,"HF01 92002:MILO(H)",16,null,"CM36 82006:JPN CTICK",4,null,"CP35 82012:ROAST POK",4,null,"HF08 92016:HNY LMN(H)",77,null,"HB14 2022:MOCHA(H)",1,null,"CP34 82011:JPN PTICK",5,null,"CR02 88302:PAUL BKT",1,null,"CM05 80005:CHEE SAUSG",0,null,"CO36 82031:SPICE RL",1,null,"CO38 82033:CHEE SF TF",6,null,"HF05 92010:GRN TEA(H)",10,null,"DH03 DUNHILL MT",1,null,"CW31 82022:WT SPIN",5]
[null,"CP05 80015:MT BAL B",1,null,"HF01 92002:MILO(H)",6,null,"CU05 80027:WX FSH BAL",1,null,"CP03 80013:SAUSG SLC",1,null,"CO05 80058:QUAIL EGGS",5,null,"HP04 H:CHILDREN",3,null,"CZ06 87006:TIG 2BKT P",1,null,"CP07 80017:TW SAUSG",14,null,"CU03 80025:SP FSH CAK",1,null,"DH01 DUNHILL",1,null,"CU05 80027:WX FSH BAL",1,null,"CP07 80017:TW SAUSG",5,null,"CP12 80022:ENO BC ROL",1,null,"CX02 81002:GVY CHK CP",1,null,"HF05 92010:GRN TEA(H)",4,null,"CZ06 87006:TIG 2BKT P",5,null,"CW01 80048:BOTTOM MR",2,null,"HF02 92004:NESCAFE(H)",3,null,"CM37 82007:CHK WING",2,null,"CP37 82014:BC SHOOT",2,null,"HF09 92017:CHAMOMILE",3,null,"HF01 92002:MILO(H)",24,null,"CP35 82012:ROAST POK",2,null,"CU31 82016:CLAM",3,null,"CM31 82001:CHK KIDNEY",2,null,"CO37 82032:BCURD RL",3,null,"CP32 82009:MT BAL S",1,null,"HF06 92012:HNY GT(H)",12,null,"DH07 DUNHILL ICE",1,null,"CW33 82024:BROCCOLI",1]
[null,"CP07 80017:TW SAUSG",2,null,"HF03 92006:TEA(H)",1,null,"CU06 80028:XD FSH BAL",1,null,"CP05 80015:MT BAL B",1,null,"CO06 80059:F WANTON",6,null,"HP32 H:REGULAR",83,null,"DH01 DUNHILL",3,null,"CP10 80020:SFL PBAL",3,null,"CU07 80029:FSH BAL S",3,null,"DH02 DUNHILL LITE",2,null,"CU13 80035:TPURA PRW",1,null,"CP10 80020:SFL PBAL",6,null,"CU04 80026:CLAM",6,null,"CX03 81003:MR CKN CP",1,null,"HF06 92012:HNY GT(H)",7,null,"DB01 81011:MT BAL S",1,null,"CW02 80049:KANG KONG",3,null,"HF03 92006:TEA(H)",1,null,"CO32 82027:QUAIL EGGS",1,null,"CP38 82015:BC LBEAN",1,null,"HF10 92018:DARJEELING",1,null,"HF02 92004:NESCAFE(H)",4,null,"CP37 82014:BC SHOOT",3,null,"CU32 82017:FSH BAL S",4,null,"CM32 82002:CHK LIVER",1,null,"CP31 82008:POK LIVER",2,null,"CP33 82010:TW SAUSG",9,null,"HF07 92014:HONEY(H)",11,null,"DR11 TIDBITS",2,null,"CW34 82025:ABALO MR",1]
[null,"CP08 80018:BACON",1,null,"HF04 92008:LMN TEA(H)",3,null,"CU10 80032:ABALO SLC",5,null,"CP07 80017:TW SAUSG",3,null,"CO08 80061:VEGE BAL",2,null,"HP34 H:MEMBER",11,null,"DR11 TIDBITS",12,null,"CP12 80022:ENO BC ROL",3,null,"CU12 80034:FSH BAL B",3,null,"DH07 DUNHILL ICE",1,null,"CU23 80045:CTL FSH",2,null,"CP12 80022:ENO BC ROL",2,null,"CU07 80029:FSH BAL S",1,null,"CY02 88002:SOME BKT",1,null,"HF07 92014:HONEY(H)",7,null,"DB05 81015:MT BAL B",1,null,"CW03 80050:BROCCOLI",1,null,"HF04 92008:LMN TEA(H)",9,null,"CO33 82028:WANTON",7,null,"CU31 82016:CLAM",1,null,"HF11 92019:EARL GREY",5,null,"HF04 92008:LMN TEA(H)",2,null,"CP38 82015:BC LBEAN",4,null,"CU34 82019:CTL FSH",3,null,"CM33 82003:COC SAUSG",2,null,"CP32 82009:MT BAL S",1,null,"CP34 82011:JPN PTICK",1,null,"HF08 92016:HNY LMN(H)",29,null,"HF01 92002:MILO(H)",18,null,"CZ05 87005:TIG BKT P",2]
[null,"CU03 80025:SP FSH CAK",2,null,"HF05 92010:GRN TEA(H)",6,null,"CU14 80036:CRB CLAW",1,null,"CP10 80020:SFL PBAL",3,null,"CO10 80063:SF TF",4,null,"JF01 92501:GRAPE J",20,null,"HF01 92002:MILO(H)",21,null,"CU04 80026:CLAM",3,null,"CU13 80035:TPURA PRW",1,null,"DR11 TIDBITS",8,null,"CW01 80048:BOTTOM MR",1,null,"CR01 88301:PAUL BTL",1,null,"CU14 80036:CRB CLAW",1,null,"CZ01 87001:TIG BTL",1,null,"HF08 92016:HNY LMN(H)",31,null,"DC01 81023:FSH WONTON",1,null,"CW05 80052:ABALO MR",2,null,"HF05 92010:GRN TEA(H)",24,null,"CO34 82029:SF TF",1,null,"CU32 82017:FSH BAL S",2,null,"HP09 H:XTD M ROOM",1,null,"HF05 92010:GRN TEA(H)",11,null,"CU31 82016:CLAM",7,null,"CU35 82020:SALMON BAL",1,null,"CM34 82004:CHEE SAUSG",2,null,"CP33 82010:TW SAUSG",4,null,"CP36 82013:SIEW MAI",4,null,"HF10 92018:DARJEELING",1,null,"HF02 92004:NESCAFE(H)",6,null,"CZ06 87006:TIG 2BKT P",6]
[null,"CU07 80029:FSH BAL S",1,null,"HF06 92012:HNY GT(H)",6,null,"CU16 80038:OTAK FSH",2,null,"CU01 80023:FSH WONTON",1,null,"CO12 80065:QC EGGS",7,null,"JF02 92502:APPLE J",20,null,"HF02 92004:NESCAFE(H)",3,null,"CU07 80029:FSH BAL S",4,null,"CU14 80036:CRB CLAW",2,null,"HB02 2004:NESCAFE(H)",1,null,"CW03 80050:BROCCOLI",1,null,"CU04 80026:CLAM",3,null,"CU17 80039:SALMON BAL",1,null,"DA08 81008:PANDAN CHK",2,null,"HF09 92017:CHAMOMILE",1,null,"DH01 DUNHILL",2,null,"CY02 88002:SOME BKT",2,null,"HF06 92012:HNY GT(H)",17,null,"CO35 82030:QC EGGS",4,null,"CU35 82020:SALMON BAL",2,null,"HP21 H:STUDENT",32,null,"HF06 92012:HNY GT(H)",17,null,"CU32 82017:FSH BAL S",1,null,"CU36 82021:FZ FSH BAL",2,null,"CM35 82005:BP SAUSG",1,null,"CP34 82011:JPN PTICK",1,null,"CP37 82014:BC SHOOT",3,null,"HP21 H:STUDENT",39,null,"HF04 92008:LMN TEA(H)",2,null,"DH01 DUNHILL",2]
[null,"CU12 80034:FSH BAL B",1,null,"HF07 92014:HONEY(H)",9,null,"CU18 80040:FZ FSH BAL",1,null,"CU03 80025:SP FSH CAK",1,null,"CO13 80066:THAI RL",1,null,"JF03 92503:MANGO J",13,null,"HF03 92006:TEA(H)",3,null,"CU10 80032:ABALO SLC",3,null,"CU16 80038:OTAK FSH",1,null,"HF01 92002:MILO(H)",13,null,"CW05 80052:ABALO MR",2,null,"CU05 80027:WX FSH BAL",1,null,"CU18 80040:FZ FSH BAL",1,null,"DC04 81026:CLAM",1,null,"HF11 92019:EARL GREY",4,null,"DH03 DUNHILL MT",1,null,"CZ06 87006:TIG 2BKT P",4,null,"HF07 92014:HONEY(H)",23,null,"CO36 82031:SPICE RL",2,null,"CW31 82022:WT SPIN",3,null,"HP32 H:REGULAR",18,null,"HF07 92014:HONEY(H)",13,null,"CW02 80049:KANG KONG",0,null,"CW31 82022:WT SPIN",4,null,"CM36 82006:JPN CTICK",3,null,"CP36 82013:SIEW MAI",1,null,"CP38 82015:BC LBEAN",3,null,"HP32 H:REGULAR",21,null,"HF05 92010:GRN TEA(H)",11,null,"DH02 DUNHILL LITE",2]
[null,"CU13 80035:TPURA PRW",1,null,"HF08 92016:HNY LMN(H)",31,null,"CU23 80045:CTL FSH",3,null,"CU04 80026:CLAM",2,null,"CO14 80067:CHEE SF TF",1,null,"JF04 92504:PASSION J",32,null,"HF04 92008:LMN TEA(H)",1,null,"CU12 80034:FSH BAL B",1,null,"CU17 80039:SALMON BAL",1,null,"HF02 92004:NESCAFE(H)",4,null,"CW06 80053:STAKE MR",2,null,"CU10 80032:ABALO SLC",2,null,"CU23 80045:CTL FSH",1,null,"DC20 81042:CFSH BAL",3,null,"HP21 H:STUDENT",9,null,"DH07 DUNHILL ICE",1,null,"DH01 DUNHILL",1,null,"HF08 92016:HNY LMN(H)",44,null,"CO37 82032:BCURD RL",2,null,"CW32 82023:LONG BEAN",2,null,"HP34 H:MEMBER",5,null,"HF08 92016:HNY LMN(H)",60,null,"CW31 82022:WT SPIN",4,null,"CW34 82025:ABALO MR",6,null,"CM37 82007:CHK WING",5,null,"CP37 82014:BC SHOOT",2,null,"CU31 82016:CLAM",1,null,"HP34 H:MEMBER",2,null,"HF06 92012:HNY GT(H)",6,null,"DH03 DUNHILL MT",1]
[null,"CU16 80038:OTAK FSH",1,null,"HF09 92017:CHAMOMILE",8,null,"CW01 80048:BOTTOM MR",1,null,"CU06 80028:XD FSH BAL",3,null,"CP01 80011:MT BAL S",6,null,"JF05 92505:RIBENA J",22,null,"HF05 92010:GRN TEA(H)",11,null,"CU16 80038:OTAK FSH",3,null,"CU20 80042:CFSH BAL",1,null,"HF04 92008:LMN TEA(H)",2,null,"CY01 88001:SOME BTL",1,null,"CU14 80036:CRB CLAW",2,null,"CW02 80049:KANG KONG",1,null,"DD01 81048:BOTTOM MR",1,null,"HP32 H:REGULAR",11,null,"DR11 TIDBITS",16,null,"DH02 DUNHILL LITE",1,null,"HF09 92017:CHAMOMILE",11,null,"CO38 82033:CHEE SF TF",2,null,"CW33 82024:BROCCOLI",1,null,"JF01 92501:GRAPE J",12,null,"HF09 92017:CHAMOMILE",7,null,"CW33 82024:BROCCOLI",2,null,"CZ05 87005:TIG BKT P",3,null,"CO31 82026:MINI BCURD",8,null,"CU31 82016:CLAM",1,null,"CU32 82017:FSH BAL S",2,null,"JF01 92501:GRAPE J",9,null,"HF07 92014:HONEY(H)",8,null,"DH07 DUNHILL ICE",1]
[null,"CU18 80040:FZ FSH BAL",1,null,"HF11 92019:EARL GREY",5,null,"CW02 80049:KANG KONG",1,null,"CU12 80034:FSH BAL B",1,null,"CP02 80012:WX RL S",2,null,"KP04 K:CHILDREN",5,null,"HF06 92012:HNY GT(H)",6,null,"CU19 80041:SCLOP BAL",0,null,"CW01 80048:BOTTOM MR",2,null,"HF05 92010:GRN TEA(H)",6,null,"CY02 88002:SOME BKT",2,null,"CU16 80038:OTAK FSH",1,null,"CW05 80052:ABALO MR",3,null,"DD02 81049:KANG KONG",2,null,"HP33 H:MEMBER 30%",8,null,"DR12 FOC TIDBITS",5,null,"DR11 TIDBITS",6,null,"HF10 92018:DARJEELING",1,null,"CO39 82034:MINI BUN",2,null,"CW34 82025:ABALO MR",2,null,"JF02 92502:APPLE J",10,null,"HF11 92019:EARL GREY",9,null,"CW34 82025:ABALO MR",2,null,"CZ06 87006:TIG 2BKT P",8,null,"CO32 82027:QUAIL EGGS",3,null,"CU32 82017:FSH BAL S",1,null,"CU34 82019:CTL FSH",1,null,"JF02 92502:APPLE J",16,null,"HF08 92016:HNY LMN(H)",43,null,"DR11 TIDBITS",28]
[null,"CU20 80042:CFSH BAL",1,null,"HP21 H:STUDENT",63,null,"CW05 80052:ABALO MR",3,null,"CU15 80037:CHEE SP FP",1,null,"CP03 80013:SAUSG SLC",8,null,"KP36 K:MEMBER",2,null,"HF07 92014:HONEY(H)",4,null,"CU20 80042:CFSH BAL",1,null,"CW02 80049:KANG KONG",2,null,"HF06 92012:HNY GT(H)",17,null,"CZ05 87005:TIG BKT P",2,null,"CU17 80039:SALMON BAL",1,null,"CX07 81007:CHK SALAD",1,null,"DH07 DUNHILL ICE",1,null,"JF01 92501:GRAPE J",1,null,"HF01 92002:MILO(H)",23,null,"HB08 2016:HNY LMN(H)",1,null,"HF11 92019:EARL GREY",4,null,"CP32 82009:MT BAL S",17,null,"CZ02 87002:TIG BKT",2,null,"JF03 92503:MANGO J",7,null,"HP04 H:CHILDREN",1,null,"CX03 81003:MR CKN CP",1,null,"DH01 DUNHILL",1,null,"CO34 82029:SF TF",2,null,"CU35 82020:SALMON BAL",1,null,"CU35 82020:SALMON BAL",6,null,"JF03 92503:MANGO J",6,null,"HF09 92017:CHAMOMILE",1,null,"DR12 FOC TIDBITS",2]
[null,"CW01 80048:BOTTOM MR",1,null,"HP32 H:REGULAR",24,null,"CY01 88001:SOME BTL",2,null,"CU16 80038:OTAK FSH",1,null,"CP05 80015:MT BAL B",4,null,"KP38 K:LUNCH",88,null,"HF08 92016:HNY LMN(H)",47,null,"CU23 80045:CTL FSH",1,null,"CW03 80050:BROCCOLI",1,null,"HF07 92014:HONEY(H)",9,null,"CZ06 87006:TIG 2BKT P",1,null,"CW01 80048:BOTTOM MR",3,null,"CZ06 87006:TIG 2BKT P",1,null,"DR11 TIDBITS",8,null,"JF02 92502:APPLE J",1,null,"HF02 92004:NESCAFE(H)",1,null,"HF01 92002:MILO(H)",14,null,"HP04 H:CHILDREN",1,null,"CP33 82010:TW SAUSG",6,null,"DA32 83002:CHK LIVER",4,null,"JF04 92504:PASSION J",19,null,"HP21 H:STUDENT",21,null,"CX06 81006:SPAGHETTI",2,null,"DH02 DUNHILL LITE",1,null,"CO36 82031:SPICE RL",7,null,"CW31 82022:WT SPIN",3,null,"CW31 82022:WT SPIN",2,null,"JF04 92504:PASSION J",15,null,"HF11 92019:EARL GREY",1,null,"HF01 92002:MILO(H)",26]
[null,"CW02 80049:KANG KONG",2,null,"HP34 H:MEMBER",6,null,"CZ06 87006:TIG 2BKT P",7,null,"CU18 80040:FZ FSH BAL",1,null,"CP07 80017:TW SAUSG",4,null,"LC01 1101:THAI CHK",2,null,"HF09 92017:CHAMOMILE",6,null,"CW01 80048:BOTTOM MR",2,null,"CW05 80052:ABALO MR",3,null,"HF08 92016:HNY LMN(H)",46,null,"DC04 81026:CLAM",1,null,"CW02 80049:KANG KONG",2,null,"DD04 81051:LONG BEAN",3,null,"DR12 FOC TIDBITS",1,null,"JF03 92503:MANGO J",3,null,"HF03 92006:TEA(H)",2,null,"HF02 92004:NESCAFE(H)",2,null,"HP21 H:STUDENT",28,null,"CP34 82011:JPN PTICK",3,null,"DB31 83008:POK LIVER",3,null,"JF05 92505:RIBENA J",6,null,"HP32 H:REGULAR",24,null,"CZ05 87005:TIG BKT P",2,null,"DH03 DUNHILL MT",1,null,"CO37 82032:BCURD RL",2,null,"CW33 82024:BROCCOLI",2,null,"CW34 82025:ABALO MR",2,null,"JF05 92505:RIBENA J",19,null,"HP04 H:CHILDREN",1,null,"HF02 92004:NESCAFE(H)",5]
[null,"CW03 80050:BROCCOLI",1,null,"JF01 92501:GRAPE J",3,null,"DH01 DUNHILL",1,null,"CU23 80045:CTL FSH",2,null,"CP10 80020:SFL PBAL",2,null,"LC04 1104:S&S CHK",1,null,"HF11 92019:EARL GREY",5,null,"CW02 80049:KANG KONG",2,null,"CX03 81003:MR CKN CP",1,null,"HF09 92017:CHAMOMILE",1,null,"DD01 81048:BOTTOM MR",1,null,"CW05 80052:ABALO MR",8,null,"DE07 81060:LGP SAMOSA",1,null,"HB01 2002:MILO(H)",1,null,"JF04 92504:PASSION J",9,null,"HF04 92008:LMN TEA(H)",5,null,"HF03 92006:TEA(H)",2,null,"HP32 H:REGULAR",22,null,"CP36 82013:SIEW MAI",3,null,"DH07 DUNHILL ICE",1,null,"KG31 82101:SB GRIL FS",1,null,"HP33 H:MEMBER 30%",13,null,"CZ06 87006:TIG 2BKT P",2,null,"DR11 TIDBITS",6,null,"CO38 82033:CHEE SF TF",4,null,"CW34 82025:ABALO MR",5,null,"CZ06 87006:TIG 2BKT P",2,null,"KG35 82105:SB GRIL ST",1,null,"HP21 H:STUDENT",47,null,"HF04 92008:LMN TEA(H)",5]
[null,"CW04 80051:LONG BEAN",1,null,"JF02 92502:APPLE J",22,null,"DH07 DUNHILL ICE",2,null,"CW01 80048:BOTTOM MR",1,null,"CU01 80023:FSH WONTON",2,null,"LC05 1105:BUTTER CHK",2,null,"HP04 H:CHILDREN",1,null,"CW03 80050:BROCCOLI",3,null,"CY01 88001:SOME BTL",1,null,"HF11 92019:EARL GREY",1,null,"DD05 81052:ABALO MR",1,null,"CW06 80053:STAKE MR",9,null,"DH02 DUNHILL LITE",2,null,"HF01 92002:MILO(H)",6,null,"JF05 92505:RIBENA J",9,null,"HF05 92010:GRN TEA(H)",14,null,"HF04 92008:LMN TEA(H)",6,null,"HP34 H:MEMBER",3,null,"CP37 82014:BC SHOOT",8,null,"DR11 TIDBITS",8,null,"KG33 82103:SB SOTONG",1,null,"JF01 92501:GRAPE J",12,null,"DA36 83006:JPN CTICK",3,null,"HB13 2021:CHOCO(H)",1,null,"CO39 82034:MINI BUN",1,null,"CX06 81006:SPAGHETTI",1,null,"DD33 83024:BROCCOLI",1,null,"KG36 82106:KH GRN MUS",1,null,"HP32 H:REGULAR",12,null,"HF05 92010:GRN TEA(H)",15]
[null,"CW05 80052:ABALO MR",1,null,"JF03 92503:MANGO J",6,null,"DR11 TIDBITS",5,null,"CW02 80049:KANG KONG",4,null,"CU03 80025:SP FSH CAK",2,null,"LC06 1106:HK F.RICE",2,null,"HP21 H:STUDENT",17,null,"CW04 80051:LONG BEAN",4,null,"CZ05 87005:TIG BKT P",2,null,"HP21 H:STUDENT",26,null,"DE12 81065:QC EGGS",2,null,"CX02 81002:GVY CHK CP",1,null,"DR11 TIDBITS",17,null,"HF02 92004:NESCAFE(H)",4,null,"KP04 K:CHILDREN",1,null,"HF06 92012:HNY GT(H)",20,null,"HF05 92010:GRN TEA(H)",3,null,"HP36 H:4BP",1,null,"CP38 82015:BC LBEAN",4,null,"DR12 FOC TIDBITS",1,null,"KP35 K:REGULAR",4,null,"JF02 92502:APPLE J",18,null,"DA37 83007:CHK WING",3,null,"HF01 92002:MILO(H)",17,null,"CP32 82009:MT BAL S",1,null,"CY01 88001:SOME BTL",3,null,"DH01 DUNHILL",1,null,"KP04 K:CHILDREN",2,null,"HP33 H:MEMBER 30%",7,null,"HF06 92012:HNY GT(H)",17]
[null,"CW06 80053:STAKE MR",3,null,"JF04 92504:PASSION J",44,null,"HF01 92002:MILO(H)",22,null,"CW06 80053:STAKE MR",1,null,"CU04 80026:CLAM",2,null,"LC09 1109:BP UDON",1,null,"HP32 H:REGULAR",15,null,"CW05 80052:ABALO MR",6,null,"CZ06 87006:TIG 2BKT P",5,null,"HP32 H:REGULAR",22,null,"DH01 DUNHILL",1,null,"CZ05 87005:TIG BKT P",1,null,"HB12 2020:CAPPU(H)",2,null,"HF03 92006:TEA(H)",2,null,"KP35 K:REGULAR",2,null,"HF07 92014:HONEY(H)",15,null,"HF06 92012:HNY GT(H)",6,null,"JF01 92501:GRAPE J",9,null,"CU32 82017:FSH BAL S",7,null,"HF01 92002:MILO(H)",13,null,"KP38 K:LUNCH",34,null,"JF03 92503:MANGO J",8,null,"DB31 83008:POK LIVER",3,null,"HF02 92004:NESCAFE(H)",2,null,"CP33 82010:TW SAUSG",2,null,"CZ05 87005:TIG BKT P",1,null,"DH02 DUNHILL LITE",2,null,"KP35 K:REGULAR",4,null,"HP34 H:MEMBER",0,null,"HF07 92014:HONEY(H)",13]
[null,"CY02 88002:SOME BKT",1,null,"JF05 92505:RIBENA J",14,null,"HF02 92004:NESCAFE(H)",1,null,"CZ05 87005:TIG BKT P",1,null,"CU05 80027:WX FSH BAL",2,null,"LC10 1110:NISSIN",3,null,"HP34 H:MEMBER",9,null,"CW06 80053:STAKE MR",3,null,"DR11 TIDBITS",4,null,"HP36 H:4BP",1,null,"DH02 DUNHILL LITE",2,null,"CZ06 87006:TIG 2BKT P",6,null,"HF01 92002:MILO(H)",15,null,"HF04 92008:LMN TEA(H)",1,null,"KP38 K:LUNCH",33,null,"HF08 92016:HNY LMN(H)",37,null,"HF07 92014:HONEY(H)",8,null,"JF02 92502:APPLE J",11,null,"CU33 82018:FSH BAL B",2,null,"HF02 92004:NESCAFE(H)",8,null,"LC02 1102:MAMITE CHK",2,null,"JF04 92504:PASSION J",15,null,"DB34 83011:JPN PTICK",3,null,"HF03 92006:TEA(H)",4,null,"CP34 82011:JPN PTICK",2,null,"DH01 DUNHILL",3,null,"DH03 DUNHILL MT",4,null,"KP36 K:MEMBER",3,null,"JF01 92501:GRAPE J",11,null,"HF08 92016:HNY LMN(H)",81]
[null,"CZ05 87005:TIG BKT P",1,null,"KP35 K:REGULAR",3,null,"HF04 92008:LMN TEA(H)",7,null,"CZ06 87006:TIG 2BKT P",5,null,"CU07 80029:FSH BAL S",4,null,"LC15 1112:CHK NOODLE",1,null,"JF01 92501:GRAPE J",15,null,"CY01 88001:SOME BTL",1,null,"HB01 2002:MILO(H)",0,null,"JF01 92501:GRAPE J",12,null,"DR11 TIDBITS",10,null,"DD04 81051:LONG BEAN",2,null,"HF02 92004:NESCAFE(H)",10,null,"HF05 92010:GRN TEA(H)",12,null,"LC02 1102:MAMITE CHK",2,null,"HF09 92017:CHAMOMILE",1,null,"HF08 92016:HNY LMN(H)",34,null,"JF03 92503:MANGO J",9,null,"CU35 82020:SALMON BAL",2,null,"HF03 92006:TEA(H)",2,null,"LC04 1104:S&S CHK",1,null,"JF05 92505:RIBENA J",16,null,"DE33 83028:WANTON",3,null,"HF04 92008:LMN TEA(H)",6,null,"CP35 82012:ROAST POK",5,null,"DH02 DUNHILL LITE",2,null,"DH07 DUNHILL ICE",2,null,"KP38 K:LUNCH",37,null,"JF02 92502:APPLE J",10,null,"HF09 92017:CHAMOMILE",6]
[null,"CZ06 87006:TIG 2BKT P",10,null,"KP36 K:MEMBER",5,null,"HF05 92010:GRN TEA(H)",10,null,"DH01 DUNHILL",4,null,"CU10 80032:ABALO SLC",1,null,"LC16 1103:MGL CHK",1,null,"JF02 92502:APPLE J",16,null,"CZ05 87005:TIG BKT P",6,null,"HF01 92002:MILO(H)",8,null,"JF02 92502:APPLE J",17,null,"HF01 92002:MILO(H)",11,null,"DD06 81053:STAKE MR",1,null,"HF03 92006:TEA(H)",2,null,"HF06 92012:HNY GT(H)",9,null,"LC04 1104:S&S CHK",1,null,"HF11 92019:EARL GREY",2,null,"HF09 92017:CHAMOMILE",6,null,"JF04 92504:PASSION J",9,null,"CU36 82021:FZ FSH BAL",1,null,"HF04 92008:LMN TEA(H)",18,null,"LC05 1105:BUTTER CHK",2,null,"KG31 82101:SB GRIL FS",2,null,"DE35 83030:QC EGGS",2,null,"HF05 92010:GRN TEA(H)",9,null,"CP36 82013:SIEW MAI",2,null,"DH07 DUNHILL ICE",2,null,"DR11 TIDBITS",10,null,"LC01 1101:THAI CHK",1,null,"JF03 92503:MANGO J",3,null,"HF10 92018:DARJEELING",1]
[null,"DH01 DUNHILL",2,null,"KP38 K:LUNCH",39,null,"HF06 92012:HNY GT(H)",26,null,"DH03 DUNHILL MT",1,null,"CU14 80036:CRB CLAW",3,null,"LF01 91101:THAI CHK",2,null,"JF03 92503:MANGO J",11,null,"CZ06 87006:TIG 2BKT P",1,null,"HF02 92004:NESCAFE(H)",7,null,"JF03 92503:MANGO J",14,null,"HF02 92004:NESCAFE(H)",9,null,"DH02 DUNHILL LITE",1,null,"HF04 92008:LMN TEA(H)",10,null,"HF07 92014:HONEY(H)",1,null,"LC05 1105:BUTTER CHK",1,null,"HP21 H:STUDENT",34,null,"HF11 92019:EARL GREY",2,null,"JF05 92505:RIBENA J",23,null,"CW31 82022:WT SPIN",3,null,"HF05 92010:GRN TEA(H)",25,null,"LC07 1107:SBL F.RICE",1,null,"KG33 82103:SB SOTONG",2,null,"DH02 DUNHILL LITE",1,null,"HF06 92012:HNY GT(H)",20,null,"CP37 82014:BC SHOOT",3,null,"DR11 TIDBITS",27,null,"HF01 92002:MILO(H)",25,null,"LC04 1104:S&S CHK",1,null,"JF04 92504:PASSION J",14,null,"HF11 92019:EARL GREY",2]
[null,"DH02 DUNHILL LITE",1,null,"LC01 1101:THAI CHK",1,null,"HF07 92014:HONEY(H)",19,null,"DH07 DUNHILL ICE",2,null,"CU15 80037:CHEE SP FP",3,null,"LF02 91102:MAMITE CHK",3,null,"JF04 92504:PASSION J",14,null,"DH01 DUNHILL",3,null,"HF03 92006:TEA(H)",2,null,"JF04 92504:PASSION J",22,null,"HF03 92006:TEA(H)",2,null,"DR11 TIDBITS",18,null,"HF05 92010:GRN TEA(H)",15,null,"HF08 92016:HNY LMN(H)",35,null,"LC07 1107:SBL F.RICE",1,null,"HP32 H:REGULAR",19,null,"HP21 H:STUDENT",41,null,"KG31 82101:SB GRIL FS",1,null,"CW34 82025:ABALO MR",3,null,"HF06 92012:HNY GT(H)",13,null,"LC09 1109:BP UDON",2,null,"KP04 K:CHILDREN",2,null,"DR11 TIDBITS",4,null,"HF07 92014:HONEY(H)",5,null,"CP38 82015:BC LBEAN",2,null,"DR12 FOC TIDBITS",5,null,"HF02 92004:NESCAFE(H)",2,null,"LC05 1105:BUTTER CHK",4,null,"JF05 92505:RIBENA J",16,null,"HP22 H:ST PHE",26]
[null,"DH03 DUNHILL MT",1,null,"LC02 1102:MAMITE CHK",2,null,"HF08 92016:HNY LMN(H)",38,null,"DR11 TIDBITS",26,null,"CU16 80038:OTAK FSH",1,null,"LF04 91104:S&S CHK",2,null,"JF05 92505:RIBENA J",27,null,"DH02 DUNHILL LITE",1,null,"HF04 92008:LMN TEA(H)",2,null,"JF05 92505:RIBENA J",1,null,"HF04 92008:LMN TEA(H)",2,null,"DR12 FOC TIDBITS",1,null,"HF06 92012:HNY GT(H)",11,null,"HF10 92018:DARJEELING",4,null,"LC08 1108:SBL F.MEE",1,null,"HP34 H:MEMBER",19,null,"HP32 H:REGULAR",13,null,"KG32 82102:CTL WT SPI",1,null,"CX01 81001:BP CKN CP",1,null,"HF07 92014:HONEY(H)",5,null,"LC16 1103:MGL CHK",1,null,"KP35 K:REGULAR",1,null,"HF01 92002:MILO(H)",11,null,"HF08 92016:HNY LMN(H)",41,null,"CU31 82016:CLAM",3,null,"HF01 92002:MILO(H)",16,null,"HF03 92006:TEA(H)",1,null,"LC10 1110:NISSIN",1,null,"KG31 82101:SB GRIL FS",1,null,"HP32 H:REGULAR",14]
[null,"DR11 TIDBITS",12,null,"LC04 1104:S&S CHK",1,null,"HF09 92017:CHAMOMILE",2,null,"DR12 FOC TIDBITS",4,null,"CU17 80039:SALMON BAL",4,null,"LF05 91105:BUTTER CHK",6,null,"KP04 K:CHILDREN",2,null,"DR11 TIDBITS",16,null,"HF05 92010:GRN TEA(H)",12,null,"KP04 K:CHILDREN",2,null,"HF05 92010:GRN TEA(H)",15,null,"HB14 2022:MOCHA(H)",1,null,"HF07 92014:HONEY(H)",6,null,"HP21 H:STUDENT",25,null,"LC15 1112:CHK NOODLE",2,null,"JF01 92501:GRAPE J",8,null,"JF01 92501:GRAPE J",5,null,"KG33 82103:SB SOTONG",1,null,"CX03 81003:MR CKN CP",1,null,"HF08 92016:HNY LMN(H)",55,null,"LF01 91101:THAI CHK",1,null,"KP36 K:MEMBER",7,null,"HF03 92006:TEA(H)",2,null,"HF09 92017:CHAMOMILE",12,null,"CU32 82017:FSH BAL S",2,null,"HF02 92004:NESCAFE(H)",12,null,"HF04 92008:LMN TEA(H)",8,null,"LC11 1111:VEG RICE",1,null,"KG33 82103:SB SOTONG",1,null,"HP34 H:MEMBER",6]
[null,"DR12 FOC TIDBITS",3,null,"LC05 1105:BUTTER CHK",6,null,"HF11 92019:EARL GREY",4,null,"HB01 2002:MILO(H)",1,null,"CU18 80040:FZ FSH BAL",2,null,"LF06 91106:HK F.RICE",1,null,"KP38 K:LUNCH",28,null,"DR12 FOC TIDBITS",0,null,"HF06 92012:HNY GT(H)",18,null,"KP38 K:LUNCH",45,null,"HF06 92012:HNY GT(H)",14,null,"HF01 92002:MILO(H)",39,null,"HF08 92016:HNY LMN(H)",50,null,"HP32 H:REGULAR",8,null,"LF01 91101:THAI CHK",2,null,"JF02 92502:APPLE J",13,null,"JF02 92502:APPLE J",10,null,"KG34 82104:OYS OMEL",1,null,"CX05 81005:FSH&CHIP",1,null,"HF09 92017:CHAMOMILE",7,null,"LF02 91102:MAMITE CHK",2,null,"KP38 K:LUNCH",52,null,"HF04 92008:LMN TEA(H)",3,null,"HF10 92018:DARJEELING",2,null,"CU35 82020:SALMON BAL",5,null,"HF03 92006:TEA(H)",2,null,"HF05 92010:GRN TEA(H)",17,null,"LC15 1112:CHK NOODLE",1,null,"KG38 82108:SALTED F&S",1,null,"HP35 H:ST MEM PHE",0]
[null,"HF01 92002:MILO(H)",14,null,"LC06 1106:HK F.RICE",2,null,"HP21 H:STUDENT",30,null,"HB14 2022:MOCHA(H)",1,null,"CU19 80041:SCLOP BAL",1,null,"LF07 91107:SBL F.RICE",2,null,"LC01 1101:THAI CHK",2,null,"HF01 92002:MILO(H)",19,null,"HF07 92014:HONEY(H)",17,null,"LC01 1101:THAI CHK",2,null,"HF07 92014:HONEY(H)",22,null,"HF02 92004:NESCAFE(H)",11,null,"HF09 92017:CHAMOMILE",5,null,"HP34 H:MEMBER",10,null,"LF02 91102:MAMITE CHK",2,null,"JF03 92503:MANGO J",6,null,"JF03 92503:MANGO J",18,null,"KP35 K:REGULAR",1,null,"CX06 81006:SPAGHETTI",1,null,"HF11 92019:EARL GREY",1,null,"LF05 91105:BUTTER CHK",5,null,"LC01 1101:THAI CHK",1,null,"HF05 92010:GRN TEA(H)",17,null,"HF11 92019:EARL GREY",2,null,"CU36 82021:FZ FSH BAL",2,null,"HF04 92008:LMN TEA(H)",7,null,"HF06 92012:HNY GT(H)",13,null,"LC16 1103:MGL CHK",1,null,"KP35 K:REGULAR",1,null,"JF01 92501:GRAPE J",12]
[null,"HF02 92004:NESCAFE(H)",5,null,"LC07 1107:SBL F.RICE",2,null,"HP32 H:REGULAR",25,null,"HF01 92002:MILO(H)",14,null,"CU23 80045:CTL FSH",10,null,"LF09 91109:BP UDON",1,null,"LC04 1104:S&S CHK",2,null,"HF02 92004:NESCAFE(H)",4,null,"HF08 92016:HNY LMN(H)",43,null,"LC05 1105:BUTTER CHK",1,null,"HF08 92016:HNY LMN(H)",43,null,"HF03 92006:TEA(H)",3,null,"HF11 92019:EARL GREY",2,null,"JF01 92501:GRAPE J",21,null,"LF05 91105:BUTTER CHK",3,null,"JF04 92504:PASSION J",27,null,"JF04 92504:PASSION J",26,null,"KP38 K:LUNCH",34,null,"CX07 81007:CHK SALAD",1,null,"HP04 H:CHILDREN",5,null,"LF06 91106:HK F.RICE",1,null,"LC02 1102:MAMITE CHK",1,null,"HF06 92012:HNY GT(H)",10,null,"HP21 H:STUDENT",38,null,"CW31 82022:WT SPIN",5,null,"HF05 92010:GRN TEA(H)",9,null,"HF07 92014:HONEY(H)",6,null,"LF01 91101:THAI CHK",1,null,"KP38 K:LUNCH",35,null,"JF02 92502:APPLE J",20]
[null,"HF04 92008:LMN TEA(H)",10,null,"LC09 1109:BP UDON",2,null,"HP34 H:MEMBER",4,null,"HF02 92004:NESCAFE(H)",4,null,"CW01 80048:BOTTOM MR",3,null,"LF11 91111:VEG RICE",1,null,"LC05 1105:BUTTER CHK",2,null,"HF04 92008:LMN TEA(H)",4,null,"HF09 92017:CHAMOMILE",2,null,"LC06 1106:HK F.RICE",2,null,"HF09 92017:CHAMOMILE",3,null,"HF04 92008:LMN TEA(H)",14,null,"HP03 H:MEMBER B'DAY",1,null,"JF02 92502:APPLE J",12,null,"MC02 MIC COVER X 3",1,null,"JF05 92505:RIBENA J",11,null,"JF05 92505:RIBENA J",24,null,"LC02 1102:MAMITE CHK",1,null,"CZ02 87002:TIG BKT",1,null,"HP17 H:FREEHEAD",2,null,"LF09 91109:BP UDON",3,null,"LC04 1104:S&S CHK",1,null,"HF07 92014:HONEY(H)",17,null,"HP32 H:REGULAR",24,null,"CW32 82023:LONG BEAN",8,null,"HF06 92012:HNY GT(H)",15,null,"HF08 92016:HNY LMN(H)",47,null,"LF02 91102:MAMITE CHK",3,null,"LC02 1102:MAMITE CHK",2,null,"JF03 92503:MANGO J",9]
[null,"HF05 92010:GRN TEA(H)",8,null,"LC10 1110:NISSIN",1,null,"JF01 92501:GRAPE J",7,null,"HF03 92006:TEA(H)",3,null,"CW02 80049:KANG KONG",5,null,"LF15 91112:CHK NOODLE",1,null,"LC06 1106:HK F.RICE",1,null,"HF05 92010:GRN TEA(H)",10,null,"HF10 92018:DARJEELING",1,null,"LC07 1107:SBL F.RICE",1,null,"HP21 H:STUDENT",33,null,"HF05 92010:GRN TEA(H)",31,null,"HP08 H:XTD S ROOM",1,null,"JF03 92503:MANGO J",4,null,"MP21 M:MEMBER 30%",5,null,"KP04 K:CHILDREN",3,null,"KP04 K:CHILDREN",1,null,"LC05 1105:BUTTER CHK",1,null,"CZ06 87006:TIG 2BKT P",4,null,"HP32 H:REGULAR",61,null,"LF15 91112:CHK NOODLE",1,null,"LC05 1105:BUTTER CHK",5,null,"HF08 92016:HNY LMN(H)",72,null,"HP34 H:MEMBER",3,null,"CW33 82024:BROCCOLI",3,null,"HF07 92014:HONEY(H)",10,null,"HF09 92017:CHAMOMILE",5,null,"LF04 91104:S&S CHK",1,null,"LC05 1105:BUTTER CHK",3,null,"JF04 92504:PASSION J",24]
[null,"HF06 92012:HNY GT(H)",13,null,"LF01 91101:THAI CHK",1,null,"JF02 92502:APPLE J",21,null,"HF04 92008:LMN TEA(H)",10,null,"CW05 80052:ABALO MR",1,null,"LF16 91103:MGL CHK",2,null,"LC10 1110:NISSIN",2,null,"HF06 92012:HNY GT(H)",20,null,"HF11 92019:EARL GREY",1,null,"LC09 1109:BP UDON",2,null,"HP32 H:REGULAR",12,null,"HF06 92012:HNY GT(H)",24,null,"HP17 H:FREEHEAD",3,null,"JF04 92504:PASSION J",5,null,"MP25 M:LADIES",4,null,"KP35 K:REGULAR",4,null,"KP06 K:STAFF B'DAY",1,null,"LC06 1106:HK F.RICE",1,null,"DB32 83009:MT BAL S",2,null,"HP34 H:MEMBER",41,null,"LF16 91103:MGL CHK",3,null,"LC06 1106:HK F.RICE",2,null,"HF09 92017:CHAMOMILE",2,null,"HP36 H:4BP",1,null,"CW34 82025:ABALO MR",13,null,"HF08 92016:HNY LMN(H)",55,null,"HF10 92018:DARJEELING",1,null,"LF05 91105:BUTTER CHK",6,null,"LC07 1107:SBL F.RICE",1,null,"JF05 92505:RIBENA J",17]
[null,"HF07 92014:HONEY(H)",14,null,"LF05 91105:BUTTER CHK",4,null,"JF03 92503:MANGO J",3,null,"HF05 92010:GRN TEA(H)",36,null,"CW06 80053:STAKE MR",2,null,"MP17 M:FREEHEAD",1,null,"LC15 1112:CHK NOODLE",1,null,"HF07 92014:HONEY(H)",21,null,"HP21 H:STUDENT",18,null,"LC10 1110:NISSIN",1,null,"HP34 H:MEMBER",2,null,"HF07 92014:HONEY(H)",20,null,"HP32 H:REGULAR",101,null,"JF05 92505:RIBENA J",13,null,"MP35 M:REGULAR",4,null,"KP36 K:MEMBER",2,null,"KP09 K:XTD M ROOM",0,null,"LC07 1107:SBL F.RICE",2,null,"DB33 83010:TW SAUSG",2,null,"JF01 92501:GRAPE J",12,null,"MC02 MIC COVER X 3",1,null,"LC07 1107:SBL F.RICE",1,null,"HF11 92019:EARL GREY",1,null,"JF01 92501:GRAPE J",12,null,"CZ06 87006:TIG 2BKT P",5,null,"HF09 92017:CHAMOMILE",3,null,"HP03 H:MEMBER B'DAY",1,null,"LF06 91106:HK F.RICE",2,null,"LC09 1109:BP UDON",2,null,"KP35 K:REGULAR",2]
[null,"HF08 92016:HNY LMN(H)",51,null,"LF07 91107:SBL F.RICE",2,null,"JF04 92504:PASSION J",19,null,"HF06 92012:HNY GT(H)",34,null,"CX04 81004:CKN MARY",1,null,"MP25 M:LADIES",38,null,"LC16 1103:MGL CHK",1,null,"HF08 92016:HNY LMN(H)",70,null,"HP32 H:REGULAR",9,null,"LF02 91102:MAMITE CHK",4,null,"JF01 92501:GRAPE J",20,null,"HF08 92016:HNY LMN(H)",173,null,"HP34 H:MEMBER",9,null,"KP38 K:LUNCH",24,null,"NP03 N:MEMBER B'DAY",2,null,"KP38 K:LUNCH",41,null,"KP10 K:XTD B ROOM",0,null,"LC10 1110:NISSIN",1,null,"DC10 81032:ABALO SLC",1,null,"JF02 92502:APPLE J",20,null,"MP12 M:XTD SVIP ROOM",1,null,"LC08 1108:SBL F.MEE",1,null,"HP21 H:STUDENT",45,null,"JF02 92502:APPLE J",11,null,"DA31 83001:CHK KIDNEY",2,null,"HF10 92018:DARJEELING",1,null,"HP04 H:CHILDREN",1,null,"LF07 91107:SBL F.RICE",1,null,"LC16 1103:MGL CHK",1,null,"KP38 K:LUNCH",30]
[null,"HF09 92017:CHAMOMILE",5,null,"LF09 91109:BP UDON",2,null,"JF05 92505:RIBENA J",18,null,"HF07 92014:HONEY(H)",5,null,"CY02 88002:SOME BKT",1,null,"MP35 M:REGULAR",36,null,"LF04 91104:S&S CHK",1,null,"HF09 92017:CHAMOMILE",2,null,"JF01 92501:GRAPE J",8,null,"LF04 91104:S&S CHK",1,null,"JF02 92502:APPLE J",30,null,"HF09 92017:CHAMOMILE",9,null,"HP36 H:4BP",2,null,"LC02 1102:MAMITE CHK",1,null,"NP09 N:XTD M ROOM",1,null,"LC01 1101:THAI CHK",1,null,"KP36 K:MEMBER",3,null,"LF01 91101:THAI CHK",1,null,"DC23 81045:CTL FSH",2,null,"JF03 92503:MANGO J",12,null,"MP25 M:LADIES",16,null,"LC09 1109:BP UDON",3,null,"HP32 H:REGULAR",20,null,"JF03 92503:MANGO J",7,null,"DA32 83002:CHK LIVER",1,null,"HF11 92019:EARL GREY",4,null,"HP17 H:FREEHEAD",1,null,"LF09 91109:BP UDON",1,null,"LF02 91102:MAMITE CHK",2,null,"LC01 1101:THAI CHK",4]
[null,"HF11 92019:EARL GREY",8,null,"LF11 91111:VEG RICE",1,null,"KP06 K:STAFF B'DAY",1,null,"HF08 92016:HNY LMN(H)",68,null,"CZ05 87005:TIG BKT P",1,null,"MP37 M:4BP",2,null,"LF05 91105:BUTTER CHK",3,null,"HF10 92018:DARJEELING",3,null,"JF02 92502:APPLE J",13,null,"LF05 91105:BUTTER CHK",2,null,"JF03 92503:MANGO J",16,null,"HF11 92019:EARL GREY",7,null,"JF01 92501:GRAPE J",18,null,"LC06 1106:HK F.RICE",1,null,"NP17 N:FREEHEAD",1,null,"LC02 1102:MAMITE CHK",2,null,"KP38 K:LUNCH",40,null,"LF05 91105:BUTTER CHK",3,null,"DC31 83016:CLAM",3,null,"JF04 92504:PASSION J",20,null,"MP35 M:REGULAR",9,null,"LC10 1110:NISSIN",1,null,"HP34 H:MEMBER",3,null,"JF04 92504:PASSION J",22,null,"DC33 83018:FSH BAL B",3,null,"HP04 H:CHILDREN",4,null,"HP32 H:REGULAR",62,null,"LF11 91111:VEG RICE",2,null,"LF05 91105:BUTTER CHK",1,null,"LC02 1102:MAMITE CHK",2]
[null,"HP04 H:CHILDREN",1,null,"LF16 91103:MGL CHK",2,null,"KP35 K:REGULAR",1,null,"HF09 92017:CHAMOMILE",3,null,"CZ06 87006:TIG 2BKT P",13,null,"NP03 N:MEMBER B'DAY",1,null,"LF06 91106:HK F.RICE",1,null,"HF11 92019:EARL GREY",1,null,"JF03 92503:MANGO J",6,null,"LF06 91106:HK F.RICE",3,null,"JF04 92504:PASSION J",23,null,"HP04 H:CHILDREN",2,null,"JF02 92502:APPLE J",30,null,"LC07 1107:SBL F.RICE",1,null,"NP32 N:K DINNER",8,null,"LC04 1104:S&S CHK",2,null,"LC01 1101:THAI CHK",1,null,"LF06 91106:HK F.RICE",2,null,"DD33 83024:BROCCOLI",2,null,"JF05 92505:RIBENA J",35,null,"NP03 N:MEMBER B'DAY",7,null,"LC15 1112:CHK NOODLE",1,null,"JF01 92501:GRAPE J",6,null,"JF05 92505:RIBENA J",25,null,"DR11 TIDBITS",8,null,"HP17 H:FREEHEAD",1,null,"HP34 H:MEMBER",16,null,"LF15 91112:CHK NOODLE",1,null,"LF06 91106:HK F.RICE",2,null,"LC04 1104:S&S CHK",4]
[null,"HP21 H:STUDENT",26,null,"MC02 MIC COVER X 3",5,null,"KP38 K:LUNCH",29,null,"HF11 92019:EARL GREY",2,null,"DH02 DUNHILL LITE",2,null,"NP04 N:CHILDREN",1,null,"LF09 91109:BP UDON",4,null,"HP21 H:STUDENT",26,null,"JF04 92504:PASSION J",12,null,"LF07 91107:SBL F.RICE",3,null,"KP38 K:LUNCH",47,null,"HP08 H:XTD S ROOM",3,null,"JF03 92503:MANGO J",8,null,"LC09 1109:BP UDON",1,null,"NP33 N:MEMBER 30%",53,null,"LC05 1105:BUTTER CHK",7,null,"LC05 1105:BUTTER CHK",1,null,"LF07 91107:SBL F.RICE",2,null,"DD34 83025:ABALO MR",2,null,"JU02 2502:APPLE J",1,null,"NP12 N:XTD SVIP ROOM",2,null,"LC16 1103:MGL CHK",1,null,"JF02 92502:APPLE J",19,null,"KG31 82101:SB GRIL FS",2,null,"DR12 FOC TIDBITS",3,null,"HP32 H:REGULAR",74,null,"HP36 H:4BP",1,null,"LF16 91103:MGL CHK",1,null,"LF09 91109:BP UDON",2,null,"LC05 1105:BUTTER CHK",5]
[null,"HP25 H:SENIOR",7,null,"MP04 M:CHILDREN",1,null,"LC01 1101:THAI CHK",3,null,"HP21 H:STUDENT",54,null,"DH07 DUNHILL ICE",1,null,"NP09 N:XTD M ROOM",1,null,"LF11 91111:VEG RICE",1,null,"HP32 H:REGULAR",14,null,"JF05 92505:RIBENA J",5,null,"LF09 91109:BP UDON",2,null,"LC01 1101:THAI CHK",1,null,"HP32 H:REGULAR",82,null,"JF04 92504:PASSION J",29,null,"LC15 1112:CHK NOODLE",1,null,"NP35 N:REGULAR",36,null,"LC08 1108:SBL F.MEE",2,null,"LC06 1106:HK F.RICE",1,null,"LF08 91108:SBL F.MEE",1,null,"DE07 81060:LGP SAMOSA",2,null,"JU05 2505:RIBENA J",1,null,"NP17 N:FREEHEAD",10,null,"LF01 91101:THAI CHK",3,null,"JF03 92503:MANGO J",14,null,"KG33 82103:SB SOTONG",2,null,"HF01 92002:MILO(H)",28,null,"HP34 H:MEMBER",17,null,"JF01 92501:GRAPE J",16,null,"MC02 MIC COVER X 3",1,null,"LF11 91111:VEG RICE",2,null,"LC06 1106:HK F.RICE",1]
[null,"HP32 H:REGULAR",9,null,"MP06 M:STAFF B'DAY",1,null,"LC02 1102:MAMITE CHK",1,null,"HP32 H:REGULAR",31,null,"DR11 TIDBITS",28,null,"NP17 N:FREEHEAD",2,null,"LF15 91112:CHK NOODLE",1,null,"HP33 H:MEMBER 30%",13,null,"KP04 K:CHILDREN",4,null,"LF11 91111:VEG RICE",1,null,"LC02 1102:MAMITE CHK",4,null,"HP34 H:MEMBER",24,null,"JF05 92505:RIBENA J",25,null,"LF01 91101:THAI CHK",1,null,"NP36 N:MEMBER",8,null,"LC09 1109:BP UDON",1,null,"LC15 1112:CHK NOODLE",1,null,"MC02 MIC COVER X 3",1,null,"DE11 81064:SPRING RL",2,null,"KG31 82101:SB GRIL FS",2,null,"NP32 N:K DINNER",36,null,"LF02 91102:MAMITE CHK",3,null,"JF04 92504:PASSION J",6,null,"KG34 82104:OYS OMEL",1,null,"HF02 92004:NESCAFE(H)",3,null,"JF01 92501:GRAPE J",13,null,"JF02 92502:APPLE J",24,null,"MP03 M:MEMBER B'DAY",1,null,"LF15 91112:CHK NOODLE",1,null,"LC07 1107:SBL F.RICE",1]
[null,"HP33 H:MEMBER 30%",6,null,"MP25 M:LADIES",22,null,"LC04 1104:S&S CHK",1,null,"HP34 H:MEMBER",6,null,"DR12 FOC TIDBITS",2,null,"NP32 N:K DINNER",35,null,"MC02 MIC COVER X 3",1,null,"HP34 H:MEMBER",20,null,"KP35 K:REGULAR",3,null,"LF15 91112:CHK NOODLE",1,null,"LC04 1104:S&S CHK",1,null,"JF01 92501:GRAPE J",19,null,"KP04 K:CHILDREN",13,null,"LF02 91102:MAMITE CHK",1,null,"NP37 N:4BP",1,null,"LC10 1110:NISSIN",1,null,"LC16 1103:MGL CHK",4,null,"MP04 M:CHILDREN",1,null,"DE12 81065:QC EGGS",2,null,"KG33 82103:SB SOTONG",2,null,"NP35 N:REGULAR",53,null,"LF05 91105:BUTTER CHK",2,null,"JF05 92505:RIBENA J",9,null,"KG35 82105:SB GRIL ST",1,null,"HF03 92006:TEA(H)",1,null,"JF02 92502:APPLE J",17,null,"JF03 92503:MANGO J",13,null,"MP25 M:LADIES",29,null,"LF16 91103:MGL CHK",1,null,"LC09 1109:BP UDON",2]
[null,"HP34 H:MEMBER",0,null,"MP35 M:REGULAR",17,null,"LC05 1105:BUTTER CHK",3,null,"JF01 92501:GRAPE J",15,null,"HB13 2021:CHOCO(H)",1,null,"NP35 N:REGULAR",84,null,"MP06 M:STAFF B'DAY",1,null,"HP38 H:MEMBER 4BP",5,null,"KP38 K:LUNCH",23,null,"LF16 91103:MGL CHK",5,null,"LC05 1105:BUTTER CHK",4,null,"JF02 92502:APPLE J",25,null,"KP38 K:LUNCH",136,null,"LF05 91105:BUTTER CHK",2,null,"NP38 N:MEMBER 4BP",2,null,"LC11 1111:VEG RICE",1,null,"LF02 91102:MAMITE CHK",2,null,"MP35 M:REGULAR",22,null,"DH01 DUNHILL",1,null,"KG35 82105:SB GRIL ST",1,null,"NP36 N:MEMBER",23,null,"LF06 91106:HK F.RICE",4,null,"KG31 82101:SB GRIL FS",1,null,"KP04 K:CHILDREN",3,null,"HF04 92008:LMN TEA(H)",2,null,"JF03 92503:MANGO J",12,null,"JF04 92504:PASSION J",27,null,"MP35 M:REGULAR",29,null,"MC02 MIC COVER X 3",1,null,"LC11 1111:VEG RICE",1]
[null,"JF01 92501:GRAPE J",9,null,"NP03 N:MEMBER B'DAY",1,null,"LC06 1106:HK F.RICE",1,null,"JF02 92502:APPLE J",15,null,"HF01 92002:MILO(H)",28,null,"NP36 N:MEMBER",47,null,"MP25 M:LADIES",17,null,"JF01 92501:GRAPE J",8,null,"LC01 1101:THAI CHK",2,null,"MP25 M:LADIES",12,null,"LC06 1106:HK F.RICE",2,null,"JF03 92503:MANGO J",22,null,"LC02 1102:MAMITE CHK",1,null,"LF07 91107:SBL F.RICE",2,null,"OS01 FH VOUCHER(R)",4,null,"LC16 1103:MGL CHK",3,null,"LF05 91105:BUTTER CHK",4,null,"MP36 M:MEMBER",13,null,"DH02 DUNHILL LITE",1,null,"KP03 K:MEMBER B'DAY",1,null,"OS01 FH VOUCHER(R)",8,null,"LF07 91107:SBL F.RICE",1,null,"KG32 82102:CTL WT SPI",2,null,"KP35 K:REGULAR",1,null,"HF05 92010:GRN TEA(H)",15,null,"JF04 92504:PASSION J",24,null,"JF05 92505:RIBENA J",36,null,"NP03 N:MEMBER B'DAY",1,null,"MP04 M:CHILDREN",1,null,"LC15 1112:CHK NOODLE",2]
[null,"JF02 92502:APPLE J",11,null,"NP17 N:FREEHEAD",5,null,"LC07 1107:SBL F.RICE",2,null,"JF03 92503:MANGO J",17,null,"HF02 92004:NESCAFE(H)",5,null,"NP37 N:4BP",2,null,"MP31 M:CALENDAR 20%",3,null,"JF02 92502:APPLE J",12,null,"LC02 1102:MAMITE CHK",2,null,"MP35 M:REGULAR",19,null,"LC09 1109:BP UDON",3,null,"JF04 92504:PASSION J",29,null,"LC04 1104:S&S CHK",1,null,"LF09 91109:BP UDON",1,null,"OS12 RM10 VOUCHER(RB)",12,null,"LF01 91101:THAI CHK",1,null,"LF06 91106:HK F.RICE",2,null,"MP37 M:4BP",3,null,"DH07 DUNHILL ICE",1,null,"KP04 K:CHILDREN",2,null,"OS12 RM10 VOUCHER(RB)",24,null,"LF08 91108:SBL F.MEE",1,null,"KG33 82103:SB SOTONG",1,null,"KP38 K:LUNCH",47,null,"HF06 92012:HNY GT(H)",18,null,"JF05 92505:RIBENA J",24,null,"KG32 82102:CTL WT SPI",2,null,"NP10 N:XTD B ROOM",1,null,"MP25 M:LADIES",21,null,"LC16 1103:MGL CHK",1]
[null,"JF03 92503:MANGO J",8,null,"NP32 N:K DINNER",23,null,"LC10 1110:NISSIN",1,null,"JF04 92504:PASSION J",17,null,"HF03 92006:TEA(H)",1,null,"OS01 FH VOUCHER(R)",3,null,"MP35 M:REGULAR",11,null,"JF03 92503:MANGO J",9,null,"LC05 1105:BUTTER CHK",1,null,"MP36 M:MEMBER",2,null,"LC10 1110:NISSIN",1,null,"JF05 92505:RIBENA J",2,null,"LC05 1105:BUTTER CHK",4,null,"MC02 MIC COVER X 3",2,null,"OU02 LIGHTER",1,null,"LF02 91102:MAMITE CHK",1,null,"LF16 91103:MGL CHK",2,null,"NP03 N:MEMBER B'DAY",1,null,"DR11 TIDBITS",24,null,"KP35 K:REGULAR",1,null,"OX01 REGULAR MEM CARD",8,null,"LF09 91109:BP UDON",4,null,"KG34 82104:OYS OMEL",1,null,"LC01 1101:THAI CHK",2,null,"HF07 92014:HONEY(H)",12,null,"KG31 82101:SB GRIL FS",2,null,"KG33 82103:SB SOTONG",2,null,"NP17 N:FREEHEAD",4,null,"MP35 M:REGULAR",11,null,"LF01 91101:THAI CHK",0]
[null,"JF04 92504:PASSION J",10,null,"NP34 N:CALENDAR 20%",4,null,"LF04 91104:S&S CHK",1,null,"JF05 92505:RIBENA J",17,null,"HF04 92008:LMN TEA(H)",14,null,"OS12 RM10 VOUCHER(RB)",9,null,"NP03 N:MEMBER B'DAY",2,null,"JF04 92504:PASSION J",10,null,"LC06 1106:HK F.RICE",1,null,"NP04 N:CHILDREN",1,null,"LF02 91102:MAMITE CHK",3,null,"KP04 K:CHILDREN",4,null,"LC06 1106:HK F.RICE",3,null,"MP25 M:LADIES",16,null,"OX01 REGULAR MEM CARD",4,null,"LF05 91105:BUTTER CHK",2,null,"MC02 MIC COVER X 3",2,null,"NP04 N:CHILDREN",7,null,"HB13 2021:CHOCO(H)",1,null,"KP36 K:MEMBER",0,null,"RQ02 1602:ADD F.EGG",1,null,"LF15 91112:CHK NOODLE",1,null,"KG35 82105:SB GRIL ST",2,null,"LC02 1102:MAMITE CHK",3,null,"HF08 92016:HNY LMN(H)",83,null,"KG32 82102:CTL WT SPI",1,null,"KG34 82104:OYS OMEL",1,null,"NP32 N:K DINNER",19,null,"NP03 N:MEMBER B'DAY",1,null,"LF02 91102:MAMITE CHK",4]
[null,"JF05 92505:RIBENA J",16,null,"NP35 N:REGULAR",43,null,"LF05 91105:BUTTER CHK",4,null,"KP04 K:CHILDREN",2,null,"HF05 92010:GRN TEA(H)",39,null,"OX01 REGULAR MEM CARD",3,null,"NP09 N:XTD M ROOM",1,null,"JF05 92505:RIBENA J",21,null,"LC07 1107:SBL F.RICE",1,null,"NP17 N:FREEHEAD",1,null,"LF05 91105:BUTTER CHK",5,null,"KP35 K:REGULAR",3,null,"LC10 1110:NISSIN",1,null,"MP35 M:REGULAR",9,null,"RQ03 ADD SAUCE 1000",2,null,"LF06 91106:HK F.RICE",1,null,"MP09 M:XTD M ROOM",1,null,"NP17 N:FREEHEAD",4,null,"HF01 92002:MILO(H)",19,null,"KP38 K:LUNCH",83,null,"RQ07 ADD SAUCE C.PADI",1,null,"LF16 91103:MGL CHK",1,null,"KG39 82109:BUTTER F&S",1,null,"LC05 1105:BUTTER CHK",6,null,"HF09 92017:CHAMOMILE",8,null,"KG33 82103:SB SOTONG",2,null,"KG35 82105:SB GRIL ST",1,null,"NP34 N:CALENDAR 20%",2,null,"NP32 N:K DINNER",17,null,"LF04 91104:S&S CHK",1]
[null,"KP04 K:CHILDREN",1,null,"NP36 N:MEMBER",5,null,"LF07 91107:SBL F.RICE",1,null,"KP38 K:LUNCH",105,null,"HF06 92012:HNY GT(H)",51,null,"RQ07 ADD SAUCE C.PADI",2,null,"NP17 N:FREEHEAD",4,null,"KP35 K:REGULAR",2,null,"LC08 1108:SBL F.MEE",2,null,"NP32 N:K DINNER",21,null,"LF06 91106:HK F.RICE",5,null,"KP38 K:LUNCH",64,null,"LC16 1103:MGL CHK",2,null,"MP36 M:MEMBER",5,null,"RQ10 ADD SAUCE MAYO",4,null,"LF07 91107:SBL F.RICE",2,null,"MP25 M:LADIES",21,null,"NP32 N:K DINNER",25,null,"HF02 92004:NESCAFE(H)",3,null,"LC01 1101:THAI CHK",2,null,"RQ10 ADD SAUCE MAYO",1,null,"MC02 MIC COVER X 3",2,null,"KP35 K:REGULAR",4,null,"LC06 1106:HK F.RICE",2,null,"HF10 92018:DARJEELING",1,null,"KP04 K:CHILDREN",3,null,"KP04 K:CHILDREN",8,null,"NP35 N:REGULAR",39,null,"NP33 N:MEMBER 30%",40,null,"LF05 91105:BUTTER CHK",3]
[null,"KP38 K:LUNCH",36,null,"OS01 FH VOUCHER(R)",3,null,"LF08 91108:SBL F.MEE",1,null,"LC01 1101:THAI CHK",5,null,"HF07 92014:HONEY(H)",32,null,"RQ10 ADD SAUCE MAYO",3,null,"NP32 N:K DINNER",15,null,"KP38 K:LUNCH",17,null,"LC10 1110:NISSIN",1,null,"NP35 N:REGULAR",61,null,"LF07 91107:SBL F.RICE",3,null,"LC02 1102:MAMITE CHK",2,null,"LF01 91101:THAI CHK",4,null,"NP03 N:MEMBER B'DAY",1,null,"RQ12 ADD SAUCE MR",1,null,"LF10 91110:NISSIN",1,null,"MP35 M:REGULAR",22,null,"NP35 N:REGULAR",124,null,"HF03 92006:TEA(H)",4,null,"LC02 1102:MAMITE CHK",1,null,"RQ14 ADD SAUCE TARTAR",2,null,"MP25 M:LADIES",13,null,"KP36 K:MEMBER",4,null,"LC09 1109:BP UDON",2,null,"HF11 92019:EARL GREY",4,null,"KP35 K:REGULAR",1,null,"KP35 K:REGULAR",4,null,"NP36 N:MEMBER",12,null,"NP35 N:REGULAR",29,null,"LF06 91106:HK F.RICE",2]
[null,"LC01 1101:THAI CHK",2,null,"OS12 RM10 VOUCHER(RB)",9,null,"LF09 91109:BP UDON",2,null,"LC02 1102:MAMITE CHK",4,null,"HF08 92016:HNY LMN(H)",120,null,"RQ16 ADD SAUCE TOMATO",7,null,"NP34 N:CALENDAR 20%",3,null,"LC01 1101:THAI CHK",1,null,"LF02 91102:MAMITE CHK",1,null,"NP36 N:MEMBER",16,null,"LF08 91108:SBL F.MEE",3,null,"LC05 1105:BUTTER CHK",7,null,"LF02 91102:MAMITE CHK",5,null,"NP04 N:CHILDREN",2,null,"RQ14 ADD SAUCE TARTAR",6,null,"LF15 91112:CHK NOODLE",1,null,"MP36 M:MEMBER",1,null,"NP36 N:MEMBER",26,null,"HF04 92008:LMN TEA(H)",7,null,"LC05 1105:BUTTER CHK",2,null,"SF01 92601:GRAPE SO",3,null,"MP35 M:REGULAR",6,null,"KP38 K:LUNCH",18,null,"LC10 1110:NISSIN",1,null,"HP03 H:MEMBER B'DAY",2,null,"KP38 K:LUNCH",68,null,"KP38 K:LUNCH",149,null,"NP37 N:4BP",3,null,"NP36 N:MEMBER",4,null,"LF07 91107:SBL F.RICE",1]
[null,"LC02 1102:MAMITE CHK",3,null,"OX01 REGULAR MEM CARD",3,null,"LF10 91110:NISSIN",null,null,"LC04 1104:S&S CHK",2,null,"HF09 92017:CHAMOMILE",7,null,"SF02 92602:APPLE SO",5,null,"NP35 N:REGULAR",74,null,"LC02 1102:MAMITE CHK",1,null,"LF07 91107:SBL F.RICE",2,null,"NP37 N:4BP",2,null,"LF09 91109:BP UDON",1,null,"LC06 1106:HK F.RICE",5,null,"LF04 91104:S&S CHK",4,null,"NP17 N:FREEHEAD",2,null,"RQ16 ADD SAUCE TOMATO",1,null,"LF16 91103:MGL CHK",1,null,"NP03 N:MEMBER B'DAY",1,null,"NP37 N:4BP",8,null,"HF05 92010:GRN TEA(H)",23,null,"LC06 1106:HK F.RICE",3,null,"SF02 92602:APPLE SO",4,null,"NP06 N:STAFF B'DAY",1,null,"LC01 1101:THAI CHK",2,null,"LC15 1112:CHK NOODLE",1,null,"HP04 H:CHILDREN",4,null,"LC01 1101:THAI CHK",2,null,"LC01 1101:THAI CHK",1,null,"OS01 FH VOUCHER(R)",5,null,"NP38 N:MEMBER 4BP",1,null,"LF09 91109:BP UDON",1]
[null,"LC05 1105:BUTTER CHK",1,null,"RQ10 ADD SAUCE MAYO",1,null,"LF15 91112:CHK NOODLE",2,null,"LC05 1105:BUTTER CHK",3,null,"HF10 92018:DARJEELING",1,null,"SF04 92604:PASSION SO",2,null,"NP36 N:MEMBER",42,null,"LC05 1105:BUTTER CHK",4,null,"LF09 91109:BP UDON",1,null,"OS01 FH VOUCHER(R)",1,null,"LF10 91110:NISSIN",2,null,"LC07 1107:SBL F.RICE",1,null,"LF05 91105:BUTTER CHK",10,null,"NP32 N:K DINNER",10,null,"SF01 92601:GRAPE SO",4,null,"MC01 MIC COVER X 1",1,null,"NP04 N:CHILDREN",1,null,"OS01 FH VOUCHER(R)",4,null,"HF06 92012:HNY GT(H)",24,null,"LC07 1107:SBL F.RICE",3,null,"SF05 92605:RIBENA SO",7,null,"NP17 N:FREEHEAD",3,null,"LC02 1102:MAMITE CHK",2,null,"LF01 91101:THAI CHK",2,null,"HP21 H:STUDENT",30,null,"LC05 1105:BUTTER CHK",2,null,"LC05 1105:BUTTER CHK",3,null,"OS12 RM10 VOUCHER(RB)",15,null,"OS01 FH VOUCHER(R)",2,null,"LF11 91111:VEG RICE",1]
[null,"LC06 1106:HK F.RICE",3,null,"RQ14 ADD SAUCE TARTAR",1,null,"LF16 91103:MGL CHK",3,null,"LC06 1106:HK F.RICE",2,null,"HF11 92019:EARL GREY",5,null,"SF05 92605:RIBENA SO",7,null,"NP37 N:4BP",6,null,"LC06 1106:HK F.RICE",2,null,"LF10 91110:NISSIN",1,null,"OS12 RM10 VOUCHER(RB)",3,null,"LF15 91112:CHK NOODLE",1,null,"LC10 1110:NISSIN",2,null,"LF06 91106:HK F.RICE",7,null,"NP34 N:CALENDAR 20%",2,null,"SF02 92602:APPLE SO",3,null,"MC02 MIC COVER X 3",2,null,"NP17 N:FREEHEAD",4,null,"OS12 RM10 VOUCHER(RB)",12,null,"HF07 92014:HONEY(H)",28,null,"LC08 1108:SBL F.MEE",1,null,"WF01 91001:BP CHK CP",16,null,"NP32 N:K DINNER",11,null,"LC05 1105:BUTTER CHK",8,null,"LF02 91102:MAMITE CHK",2,null,"HP32 H:REGULAR",22,null,"LC06 1106:HK F.RICE",1,null,"LF01 91101:THAI CHK",10,null,"OX01 REGULAR MEM CARD",5,null,"OS12 RM10 VOUCHER(RB)",6,null,"LF15 91112:CHK NOODLE",0]
[null,"LC16 1103:MGL CHK",1,null,"SF01 92601:GRAPE SO",1,null,"MC02 MIC COVER X 3",1,null,"LC07 1107:SBL F.RICE",2,null,"HP03 H:MEMBER B'DAY",1,null,"SM06 2820:CAPPU SM",1,null,"OS01 FH VOUCHER(R)",3,null,"LC07 1107:SBL F.RICE",1,null,"LF15 91112:CHK NOODLE",2,null,"OU03 MISC FEE",1,null,"MP35 M:REGULAR",28,null,"LC11 1111:VEG RICE",1,null,"LF07 91107:SBL F.RICE",1,null,"NP35 N:REGULAR",41,null,"SF04 92604:PASSION SO",7,null,"MP17 M:FREEHEAD",2,null,"NP32 N:K DINNER",18,null,"OX01 REGULAR MEM CARD",5,null,"HF08 92016:HNY LMN(H)",66,null,"LC09 1109:BP UDON",0,null,"WF02 91002:GVY CHK CP",1,null,"NP33 N:MEMBER 30%",40,null,"LC09 1109:BP UDON",2,null,"LF04 91104:S&S CHK",4,null,"HP34 H:MEMBER",16,null,"LC09 1109:BP UDON",3,null,"LF02 91102:MAMITE CHK",6,null,"SF04 92604:PASSION SO",2,null,"OX01 REGULAR MEM CARD",2,null,"LF16 91103:MGL CHK",0]
[null,"LF01 91101:THAI CHK",2,null,"SF02 92602:APPLE SO",4,null,"MP25 M:LADIES",31,null,"LC09 1109:BP UDON",1,null,"HP04 H:CHILDREN",3,null,"WF01 91001:BP CHK CP",26,null,"OS12 RM10 VOUCHER(RB)",9,null,"LC10 1110:NISSIN",2,null,"LF16 91103:MGL CHK",1,null,"OX01 REGULAR MEM CARD",1,null,"MP36 M:MEMBER",7,null,"LC15 1112:CHK NOODLE",3,null,"LF08 91108:SBL F.MEE",1,null,"NP36 N:MEMBER",26,null,"SF05 92605:RIBENA SO",9,null,"MP25 M:LADIES",10,null,"NP35 N:REGULAR",56,null,"OX02 REGULAR REPLACE",1,null,"HF09 92017:CHAMOMILE",2,null,"LC15 1112:CHK NOODLE",1,null,"WF03 91003:MR CHK CP",7,null,"NP35 N:REGULAR",69,null,"LC15 1112:CHK NOODLE",1,null,"LF05 91105:BUTTER CHK",5,null,"JF01 92501:GRAPE J",12,null,"LC15 1112:CHK NOODLE",3,null,"LF04 91104:S&S CHK",1,null,"WF01 91001:BP CHK CP",6,null,"RQ07 ADD SAUCE C.PADI",1,null,"MC02 MIC COVER X 3",2]
[null,"LF02 91102:MAMITE CHK",2,null,"SF03 92603:MANGO SO",1,null,"MP35 M:REGULAR",27,null,"LC10 1110:NISSIN",2,null,"HP32 H:REGULAR",69,null,"WF02 91002:GVY CHK CP",9,null,"OX01 REGULAR MEM CARD",3,null,"LF02 91102:MAMITE CHK",3,null,"MP25 M:LADIES",18,null,"RQ01 1601:ADD RICE",1,null,"MP37 M:4BP",1,null,"LC16 1103:MGL CHK",1,null,"LF10 91110:NISSIN",6,null,"NP37 N:4BP",4,null,"WF01 91001:BP CHK CP",9,null,"MP35 M:REGULAR",7,null,"NP36 N:MEMBER",31,null,"OX23 ST MEM UPGRADE",1,null,"HF10 92018:DARJEELING",1,null,"LF01 91101:THAI CHK",3,null,"WF04 91004:CKN MARY",5,null,"NP36 N:MEMBER",6,null,"LC16 1103:MGL CHK",1,null,"LF06 91106:HK F.RICE",1,null,"JF02 92502:APPLE J",27,null,"LF01 91101:THAI CHK",4,null,"LF05 91105:BUTTER CHK",10,null,"WF03 91003:MR CHK CP",9,null,"RQ10 ADD SAUCE MAYO",1,null,"MP35 M:REGULAR",49]
[null,"LF05 91105:BUTTER CHK",1,null,"SF04 92604:PASSION SO",1,null,"NP04 N:CHILDREN",9,null,"LC15 1112:CHK NOODLE",3,null,"HP34 H:MEMBER",14,null,"WF03 91003:MR CHK CP",20,null,"RQ07 ADD SAUCE C.PADI",1,null,"LF05 91105:BUTTER CHK",1,null,"MP35 M:REGULAR",19,null,"RQ05 ADD SAUCE BP",1,null,"NP03 N:MEMBER B'DAY",1,null,"LF01 91101:THAI CHK",2,null,"LF11 91111:VEG RICE",2,null,"OS01 FH VOUCHER(R)",1,null,"WF02 91002:GVY CHK CP",2,null,"MP36 M:MEMBER",3,null,"NP37 N:4BP",3,null,"RQ03 ADD SAUCE 1000",1,null,"HF11 92019:EARL GREY",3,null,"LF02 91102:MAMITE CHK",5,null,"WF05 91005:FSH&CHIP",8,null,"NP37 N:4BP",1,null,"LF01 91101:THAI CHK",1,null,"LF07 91107:SBL F.RICE",1,null,"JF03 92503:MANGO J",11,null,"LF02 91102:MAMITE CHK",3,null,"LF06 91106:HK F.RICE",6,null,"WF04 91004:CKN MARY",5,null,"RQ16 ADD SAUCE TOMATO",4,null,"MP36 M:MEMBER",15]
[null,"LF15 91112:CHK NOODLE",1,null,"SF05 92605:RIBENA SO",5,null,"NP09 N:XTD M ROOM",1,null,"LC16 1103:MGL CHK",4,null,"JF01 92501:GRAPE J",17,null,"WF04 91004:CKN MARY",12,null,"RQ10 ADD SAUCE MAYO",2,null,"LF07 91107:SBL F.RICE",1,null,"NP03 N:MEMBER B'DAY",2,null,"RQ16 ADD SAUCE TOMATO",1,null,"NP04 N:CHILDREN",3,null,"LF02 91102:MAMITE CHK",10,null,"LF15 91112:CHK NOODLE",4,null,"OS12 RM10 VOUCHER(RB)",3,null,"WF03 91003:MR CHK CP",7,null,"NP04 N:CHILDREN",1,null,"OS01 FH VOUCHER(R)",5,null,"RQ07 ADD SAUCE C.PADI",1,null,"HP03 H:MEMBER B'DAY",1,null,"LF04 91104:S&S CHK",3,null,"WF06 91006:SPAGHETTI",9,null,"NP38 N:MEMBER 4BP",1,null,"LF02 91102:MAMITE CHK",2,null,"LF08 91108:SBL F.MEE",1,null,"JF04 92504:PASSION J",19,null,"LF04 91104:S&S CHK",2,null,"LF07 91107:SBL F.RICE",9,null,"WF05 91005:FSH&CHIP",5,null,"SF01 92601:GRAPE SO",2,null,"MP37 M:4BP",6]
[null,"LF16 91103:MGL CHK",2,null,"WF01 91001:BP CHK CP",7,null,"NP10 N:XTD B ROOM",2,null,"LF01 91101:THAI CHK",6,null,"JF02 92502:APPLE J",27,null,"WF05 91005:FSH&CHIP",17,null,"RQ16 ADD SAUCE TOMATO",3,null,"LF09 91109:BP UDON",1,null,"NP04 N:CHILDREN",2,null,"SF01 92601:GRAPE SO",2,null,"NP08 N:XTD S ROOM",1,null,"LF04 91104:S&S CHK",2,null,"LF16 91103:MGL CHK",3,null,"OX01 REGULAR MEM CARD",1,null,"WF04 91004:CKN MARY",5,null,"NP17 N:FREEHEAD",8,null,"OS12 RM10 VOUCHER(RB)",15,null,"RQ10 ADD SAUCE MAYO",3,null,"HP04 H:CHILDREN",1,null,"LF05 91105:BUTTER CHK",8,null,"WF07 91007:CHK SALAD",2,null,"OS01 FH VOUCHER(R)",4,null,"LF05 91105:BUTTER CHK",1,null,"LF11 91111:VEG RICE",2,null,"JF05 92505:RIBENA J",24,null,"LF05 91105:BUTTER CHK",6,null,"LF08 91108:SBL F.MEE",2,null,"WF07 91007:CHK SALAD",2,null,"SF02 92602:APPLE SO",4,null,"NP03 N:MEMBER B'DAY",0]
[null,"MP08 M:XTD S ROOM",1,null,"WF02 91002:GVY CHK CP",3,null,"NP11 N:XTD VIP ROOM",1,null,"LF02 91102:MAMITE CHK",3,null,"JF03 92503:MANGO J",15,null,"WF06 91006:SPAGHETTI",4,null,"SF01 92601:GRAPE SO",2,null,"LF15 91112:CHK NOODLE",2,null,"NP06 N:STAFF B'DAY",1,null,"SF02 92602:APPLE SO",3,null,"NP09 N:XTD M ROOM",2,null,"LF05 91105:BUTTER CHK",6,null,"MC02 MIC COVER X 3",2,null,"RQ07 ADD SAUCE C.PADI",3,null,"WF05 91005:FSH&CHIP",7,null,"NP32 N:K DINNER",14,null,"OU02 LIGHTER",2,null,"RQ14 ADD SAUCE TARTAR",2,null,"HP32 H:REGULAR",56,null,"LF06 91106:HK F.RICE",2,null,"WG01 92026:PLN WATER",15,null,"OS12 RM10 VOUCHER(RB)",12,null,"LF06 91106:HK F.RICE",1,null,"LF15 91112:CHK NOODLE",5,null,"KG31 82101:SB GRIL FS",4,null,"LF06 91106:HK F.RICE",2,null,"LF09 91109:BP UDON",2,null,"WG01 92026:PLN WATER",21,null,"SF03 92603:MANGO SO",2,null,"NP04 N:CHILDREN",1]
[null,"MP25 M:LADIES",18,null,"WF03 91003:MR CHK CP",8,null,"NP16 N:ST MEM B'DAY",1,null,"LF04 91104:S&S CHK",4,null,"JF04 92504:PASSION J",25,null,"WF07 91007:CHK SALAD",9,null,"SF03 92603:MANGO SO",1,null,"LF16 91103:MGL CHK",1,null,"NP17 N:FREEHEAD",1,null,"SF03 92603:MANGO SO",1,null,"NP10 N:XTD B ROOM",1,null,"LF06 91106:HK F.RICE",3,null,"MP25 M:LADIES",17,null,"RQ10 ADD SAUCE MAYO",2,null,"WF06 91006:SPAGHETTI",3,null,"NP35 N:REGULAR",90,null,"OX01 REGULAR MEM CARD",5,null,"RQ16 ADD SAUCE TOMATO",1,null,"HP34 H:MEMBER",22,null,"LF07 91107:SBL F.RICE",2,null,"WT01 1001:BP CKN CP",3,null,"OU02 LIGHTER",1,null,"LF11 91111:VEG RICE",1,null,"LF16 91103:MGL CHK",3,null,"KG33 82103:SB SOTONG",4,null,"LF09 91109:BP UDON",1,null,"LF10 91110:NISSIN",1,null,"WT05 1005:FSH&CHIP",1,null,"SF05 92605:RIBENA SO",6,null,"NP10 N:XTD B ROOM",2]
[null,"MP35 M:REGULAR",22,null,"WF04 91004:CKN MARY",5,null,"NP17 N:FREEHEAD",2,null,"LF05 91105:BUTTER CHK",8,null,"JF05 92505:RIBENA J",27,null,"WG01 92026:PLN WATER",27,null,"SF05 92605:RIBENA SO",2,null,"MC02 MIC COVER X 3",2,null,"NP32 N:K DINNER",16,null,"SF04 92604:PASSION SO",1,null,"NP17 N:FREEHEAD",3,null,"LF07 91107:SBL F.RICE",1,null,"MP35 M:REGULAR",6,null,"RQ14 ADD SAUCE TARTAR",1,null,"WF07 91007:CHK SALAD",1,null,"NP36 N:MEMBER",28,null,"RQ03 ADD SAUCE 1000",1,null,"SF01 92601:GRAPE SO",5,null,"JF01 92501:GRAPE J",18,null,"LF09 91109:BP UDON",2,null,"WT02 1002:GVY CHK CP",1,null,"OX01 REGULAR MEM CARD",4,null,"LF16 91103:MGL CHK",1,null,"MP25 M:LADIES",18,null,"KG34 82104:OYS OMEL",1,null,"LF10 91110:NISSIN",1,null,"LF11 91111:VEG RICE",1,null,"ZAA02 1202:FREN FRIES",2,null,"WF01 91001:BP CHK CP",13,null,"NP31 N:ST K DINNER",0]
[null,"MP37 M:4BP",2,null,"WF05 91005:FSH&CHIP",7,null,"NP32 N:K DINNER",46,null,"LF06 91106:HK F.RICE",4,null,"KP04 K:CHILDREN",4,null,"WT01 1001:BP CKN CP",4,null,"WF01 91001:BP CHK CP",4,null,"MP03 M:MEMBER B'DAY",2,null,"NP35 N:REGULAR",65,null,"WF01 91001:BP CHK CP",8,null,"NP32 N:K DINNER",18,null,"LF09 91109:BP UDON",3,null,"NP04 N:CHILDREN",3,null,"RQ16 ADD SAUCE TOMATO",4,null,"WG01 92026:PLN WATER",21,null,"NP37 N:4BP",3,null,"RQ10 ADD SAUCE MAYO",5,null,"SF02 92602:APPLE SO",2,null,"JF02 92502:APPLE J",32,null,"LF15 91112:CHK NOODLE",2,null,"WT03 1003:MR CKN CP",3,null,"RQ07 ADD SAUCE C.PADI",3,null,"MC02 MIC COVER X 3",2,null,"MP35 M:REGULAR",27,null,"KG38 82108:SALTED F&S",1,null,"LF15 91112:CHK NOODLE",1,null,"LF15 91112:CHK NOODLE",5,null,"ZAA04 1204:FSHBALL",1,null,"WF02 91002:GVY CHK CP",3,null,"NP32 N:K DINNER",33]
[null,"NP04 N:CHILDREN",3,null,"WF06 91006:SPAGHETTI",6,null,"NP35 N:REGULAR",36,null,"LF07 91107:SBL F.RICE",3,null,"KP35 K:REGULAR",1,null,"WT02 1002:GVY CHK CP",1,null,"WF02 91002:GVY CHK CP",5,null,"MP04 M:CHILDREN",1,null,"NP36 N:MEMBER",19,null,"WF02 91002:GVY CHK CP",2,null,"NP35 N:REGULAR",97,null,"LF15 91112:CHK NOODLE",3,null,"NP32 N:K DINNER",25,null,"SF04 92604:PASSION SO",7,null,"WT01 1001:BP CKN CP",2,null,"OS01 FH VOUCHER(R)",9,null,"RQ16 ADD SAUCE TOMATO",3,null,"SF03 92603:MANGO SO",2,null,"JF03 92503:MANGO J",18,null,"LF16 91103:MGL CHK",3,null,"WT06 1006:SPAGHETTI",1,null,"RQ10 ADD SAUCE MAYO",1,null,"MP25 M:LADIES",13,null,"MP37 M:4BP",1,null,"KP38 K:LUNCH",41,null,"MP17 M:FREEHEAD",1,null,"LF16 91103:MGL CHK",3,null,"ZAA07 1207:SAUSG",1,null,"WF03 91003:MR CHK CP",11,null,"NP35 N:REGULAR",132]
[null,"NP10 N:XTD B ROOM",1,null,"WF07 91007:CHK SALAD",2,null,"NP36 N:MEMBER",11,null,"LF08 91108:SBL F.MEE",1,null,"KP36 K:MEMBER",2,null,"WT03 1003:MR CKN CP",2,null,"WF03 91003:MR CHK CP",6,null,"MP21 M:MEMBER 30%",8,null,"NP37 N:4BP",2,null,"WF03 91003:MR CHK CP",10,null,"NP36 N:MEMBER",44,null,"LF16 91103:MGL CHK",1,null,"NP35 N:REGULAR",83,null,"SF05 92605:RIBENA SO",6,null,"WT03 1003:MR CKN CP",3,null,"OS12 RM10 VOUCHER(RB)",27,null,"SF01 92601:GRAPE SO",2,null,"SF04 92604:PASSION SO",3,null,"JF04 92504:PASSION J",31,null,"MC02 MIC COVER X 3",1,null,"WT07 1007:CHK SALAD",1,null,"RQ13 ADD SAUCE SAMBAL",1,null,"MP35 M:REGULAR",21,null,"NP03 N:MEMBER B'DAY",2,null,"LC01 1101:THAI CHK",2,null,"MP35 M:REGULAR",34,null,"MC02 MIC COVER X 3",1,null,"ZBC01 COLD",1,null,"WF04 91004:CKN MARY",2,null,"NP36 N:MEMBER",38]
[null,"NP17 N:FREEHEAD",1,null,"WG01 92026:PLN WATER",41,null,"NP37 N:4BP",2,null,"LF09 91109:BP UDON",2,null,"KP38 K:LUNCH",56,null,"WT06 1006:SPAGHETTI",2,null,"WF04 91004:CKN MARY",5,null,"MP25 M:LADIES",14,null,"OS01 FH VOUCHER(R)",1,null,"WF04 91004:CKN MARY",4,null,"NP37 N:4BP",4,null,"MC02 MIC COVER X 3",1,null,"NP36 N:MEMBER",16,null,"WF01 91001:BP CHK CP",7,null,"ZAA02 1202:FREN FRIES",6,null,"OU02 LIGHTER",1,null,"SF02 92602:APPLE SO",1,null,"SF05 92605:RIBENA SO",9,null,"JF05 92505:RIBENA J",60,null,"MP25 M:LADIES",12,null,"ZAA01 1201:SFD STICK",1,null,"RQ15 ADD SAUCE THAI",1,null,"NP17 N:FREEHEAD",2,null,"NP04 N:CHILDREN",3,null,"LC02 1102:MAMITE CHK",2,null,"MP36 M:MEMBER",21,null,"MP25 M:LADIES",20,null,"ZBC02 HOT",3,null,"WF05 91005:FSH&CHIP",5,null,"NP37 N:4BP",8]
[null,"NP32 N:K DINNER",14,null,"WT01 1001:BP CKN CP",1,null,"OS01 FH VOUCHER(R)",3,null,"LF11 91111:VEG RICE",2,null,"LC01 1101:THAI CHK",4,null,"ZAA02 1202:FREN FRIES",5,null,"WF05 91005:FSH&CHIP",3,null,"MP35 M:REGULAR",3,null,"OS12 RM10 VOUCHER(RB)",3,null,"WF05 91005:FSH&CHIP",10,null,"OS01 FH VOUCHER(R)",3,null,"MP35 M:REGULAR",30,null,"NP37 N:4BP",4,null,"WF02 91002:GVY CHK CP",2,null,"ZAA03 1203:GOLD MR",1,null,"OX01 REGULAR MEM CARD",9,null,"SF03 92603:MANGO SO",3,null,"WF01 91001:BP CHK CP",9,null,"KG32 82102:CTL WT SPI",1,null,"MP35 M:REGULAR",8,null,"ZAA02 1202:FREN FRIES",4,null,"RQ16 ADD SAUCE TOMATO",2,null,"NP32 N:K DINNER",16,null,"NP10 N:XTD B ROOM",1,null,"LC05 1105:BUTTER CHK",6,null,"MP37 M:4BP",1,null,"MP35 M:REGULAR",23,null,"ZBC03 WARM",14,null,"WF06 91006:SPAGHETTI",2,null,"OS01 FH VOUCHER(R)",2]
[null,"NP33 N:MEMBER 30%",61,null,"WT02 1002:GVY CHK CP",4,null,"OS11 RM2 VOUCHER(RB)",1,null,"LF15 91112:CHK NOODLE",2,null,"LC02 1102:MAMITE CHK",2,null,"ZAA03 1203:GOLD MR",2,null,"WF06 91006:SPAGHETTI",5,null,"NP03 N:MEMBER B'DAY",4,null,"OU02 LIGHTER",1,null,"WF06 91006:SPAGHETTI",4,null,"OS12 RM10 VOUCHER(RB)",9,null,"MP36 M:MEMBER",15,null,"OS01 FH VOUCHER(R)",2,null,"WF03 91003:MR CHK CP",9,null,"ZAA06 1206:SPRING RL",1,null,"RQ03 ADD SAUCE 1000",1,null,"SF04 92604:PASSION SO",1,null,"WF02 91002:GVY CHK CP",2,null,"KG34 82104:OYS OMEL",2,null,"MP36 M:MEMBER",3,null,"ZAA04 1204:FSHBALL",1,null,"SF02 92602:APPLE SO",5,null,"NP35 N:REGULAR",51,null,"NP17 N:FREEHEAD",1,null,"LC06 1106:HK F.RICE",3,null,"NP03 N:MEMBER B'DAY",3,null,"MP36 M:MEMBER",4,null,"ZBC04 LESS ICE",20,null,"WF07 91007:CHK SALAD",1,null,"OS12 RM10 VOUCHER(RB)",6]
[null,"NP35 N:REGULAR",65,null,"WT03 1003:MR CKN CP",2,null,"OS12 RM10 VOUCHER(RB)",9,null,"LF16 91103:MGL CHK",3,null,"LC05 1105:BUTTER CHK",2,null,"ZAA04 1204:FSHBALL",1,null,"WF07 91007:CHK SALAD",1,null,"NP08 N:XTD S ROOM",1,null,"OX01 REGULAR MEM CARD",1,null,"WG01 92026:PLN WATER",31,null,"OU02 LIGHTER",1,null,"MP37 M:4BP",2,null,"OS12 RM10 VOUCHER(RB)",6,null,"WF04 91004:CKN MARY",2,null,"ZAA07 1207:SAUSG",2,null,"RQ05 ADD SAUCE BP",4,null,"SF05 92605:RIBENA SO",6,null,"WF03 91003:MR CHK CP",15,null,"KG35 82105:SB GRIL ST",1,null,"NP03 N:MEMBER B'DAY",1,null,"ZAA07 1207:SAUSG",2,null,"SF04 92604:PASSION SO",2,null,"NP36 N:MEMBER",13,null,"NP32 N:K DINNER",39,null,"LC07 1107:SBL F.RICE",1,null,"NP04 N:CHILDREN",2,null,"MP37 M:4BP",1,null,"ZBC06 NO ICE",2,null,"WG01 92026:PLN WATER",22,null,"OX01 REGULAR MEM CARD",2]
[null,"NP36 N:MEMBER",5,null,"WT04 1004:CKN MARY",1,null,"OX01 REGULAR MEM CARD",3,null,"MC02 MIC COVER X 3",3,null,"LC06 1106:HK F.RICE",2,null,"ZAB02 1302:NUGGET",6,null,"WG01 92026:PLN WATER",35,null,"NP10 N:XTD B ROOM",1,null,"RQ10 ADD SAUCE MAYO",1,null,"WT01 1001:BP CKN CP",2,null,"OX01 REGULAR MEM CARD",4,null,"NP03 N:MEMBER B'DAY",4,null,"OX01 REGULAR MEM CARD",2,null,"WF05 91005:FSH&CHIP",1,null,"ZAB02 1302:NUGGET",1,null,"RQ10 ADD SAUCE MAYO",3,null,"WF01 91001:BP CHK CP",7,null,"WF04 91004:CKN MARY",5,null,"KP04 K:CHILDREN",7,null,"NP04 N:CHILDREN",4,null,"ZAB02 1302:NUGGET",6,null,"SF05 92605:RIBENA SO",3,null,"NP37 N:4BP",2,null,"NP35 N:REGULAR",48,null,"LC10 1110:NISSIN",2,null,"NP09 N:XTD M ROOM",0,null,"NP03 N:MEMBER B'DAY",3,null,"ZBC07 LESS SWEET",2,null,"WT01 1001:BP CKN CP",2,null,"RQ07 ADD SAUCE C.PADI",1]
[null,"NP37 N:4BP",3,null,"ZAA02 1202:FREN FRIES",1,null,"RQ07 ADD SAUCE C.PADI",3,null,"MP09 M:XTD M ROOM",1,null,"LC07 1107:SBL F.RICE",2,null,"ZAB03 1303:CHK WING",3,null,"WT01 1001:BP CKN CP",3,null,"NP17 N:FREEHEAD",1,null,"SF02 92602:APPLE SO",3,null,"WT02 1002:GVY CHK CP",2,null,"OX23 ST MEM UPGRADE",1,null,"NP04 N:CHILDREN",12,null,"RQ01 1601:ADD RICE",8,null,"WF07 91007:CHK SALAD",2,null,"ZAB09 1309:MC SPIRAL F",1,null,"RQ16 ADD SAUCE TOMATO",6,null,"WF02 91002:GVY CHK CP",6,null,"WF05 91005:FSH&CHIP",10,null,"KP35 K:REGULAR",8,null,"NP10 N:XTD B ROOM",1,null,"ZAB03 1303:CHK WING",6,null,"WF02 91002:GVY CHK CP",3,null,"OS01 FH VOUCHER(R)",3,null,"NP36 N:MEMBER",15,null,"LC15 1112:CHK NOODLE",1,null,"NP10 N:XTD B ROOM",1,null,"NP04 N:CHILDREN",1,null,"ZBC10 LESS LEMON",1,null,"WT06 1006:SPAGHETTI",1,null,"RQ10 ADD SAUCE MAYO",1]
[null,"NP38 N:MEMBER 4BP",1,null,"ZAA03 1203:GOLD MR",1,null,"RQ10 ADD SAUCE MAYO",1,null,"MP35 M:REGULAR",22,null,"LC09 1109:BP UDON",2,null,"ZAB09 1309:MC SPIRAL F",1,null,"WT02 1002:GVY CHK CP",3,null,"NP32 N:K DINNER",10,null,"SF03 92603:MANGO SO",1,null,"WT03 1003:MR CKN CP",1,null,"RQ01 1601:ADD RICE",1,null,"NP08 N:XTD S ROOM",1,null,"RQ02 1602:ADD F.EGG",1,null,"WG01 92026:PLN WATER",34,null,"ZBC01 COLD",2,null,"SF01 92601:GRAPE SO",3,null,"WF03 91003:MR CHK CP",9,null,"WF06 91006:SPAGHETTI",3,null,"KP38 K:LUNCH",110,null,"NP17 N:FREEHEAD",2,null,"ZAB06 1306:DF WING",1,null,"WF03 91003:MR CHK CP",13,null,"OS12 RM10 VOUCHER(RB)",9,null,"NP37 N:4BP",1,null,"LC16 1103:MGL CHK",1,null,"NP17 N:FREEHEAD",4,null,"NP09 N:XTD M ROOM",1,null,"ZBC13 JUG",4,null,"ZAA02 1202:FREN FRIES",3,null,"RQ16 ADD SAUCE TOMATO",8]
[null,"OS01 FH VOUCHER(R)",5,null,"ZAA04 1204:FSHBALL",1,null,"RQ16 ADD SAUCE TOMATO",2,null,"MP36 M:MEMBER",10,null,"LC10 1110:NISSIN",1,null,"ZAB11 1311:MC HASH BRW",2,null,"WT03 1003:MR CKN CP",3,null,"NP33 N:MEMBER 30%",60,null,"SF04 92604:PASSION SO",8,null,"WT04 1004:CKN MARY",1,null,"RQ03 ADD SAUCE 1000",3,null,"NP17 N:FREEHEAD",3,null,"RQ07 ADD SAUCE C.PADI",5,null,"WT01 1001:BP CKN CP",1,null,"ZBC02 HOT",7,null,"SF02 92602:APPLE SO",1,null,"WF04 91004:CKN MARY",6,null,"WF07 91007:CHK SALAD",3,null,"LC01 1101:THAI CHK",1,null,"NP32 N:K DINNER",39,null,"ZAB09 1309:MC SPIRAL F",1,null,"WF04 91004:CKN MARY",5,null,"OW04 PENALTY",1,null,"OS01 FH VOUCHER(R)",1,null,"LF01 91101:THAI CHK",1,null,"NP32 N:K DINNER",26,null,"NP17 N:FREEHEAD",1,null,"ZBC14 BEER GLASS",6,null,"ZAA03 1203:GOLD MR",1,null,"WF01 91001:BP CHK CP",13]
[null,"OS12 RM10 VOUCHER(RB)",15,null,"ZAA07 1207:SAUSG",1,null,"SF01 92601:GRAPE SO",3,null,"MP37 M:4BP",2,null,"LC11 1111:VEG RICE",1,null,"ZBC01 COLD",9,null,"WT04 1004:CKN MARY",1,null,"NP35 N:REGULAR",63,null,"SF05 92605:RIBENA SO",3,null,"WT06 1006:SPAGHETTI",1,null,"RQ07 ADD SAUCE C.PADI",6,null,"NP32 N:K DINNER",58,null,"RQ10 ADD SAUCE MAYO",1,null,"WT03 1003:MR CKN CP",2,null,"ZBC03 WARM",5,null,"SF03 92603:MANGO SO",1,null,"WF05 91005:FSH&CHIP",15,null,"WG01 92026:PLN WATER",29,null,"LC02 1102:MAMITE CHK",1,null,"NP35 N:REGULAR",55,null,"ZBC01 COLD",1,null,"WF05 91005:FSH&CHIP",10,null,"OX01 REGULAR MEM CARD",3,null,"OS12 RM10 VOUCHER(RB)",3,null,"LF02 91102:MAMITE CHK",2,null,"NP35 N:REGULAR",122,null,"NP32 N:K DINNER",38,null,"ZBC15 ICE BUCKET",6,null,"ZAB03 1303:CHK WING",1,null,"WF02 91002:GVY CHK CP",6]
[null,"OX01 REGULAR MEM CARD",5,null,"ZAB02 1302:NUGGET",1,null,"SF03 92603:MANGO SO",2,null,"NP03 N:MEMBER B'DAY",3,null,"LC15 1112:CHK NOODLE",1,null,"ZBC02 HOT",1,null,"WT05 1005:FSH&CHIP",4,null,"NP37 N:4BP",3,null,"SM03 2803:MANGO SM",1,null,"ZAA02 1202:FREN FRIES",2,null,"RQ10 ADD SAUCE MAYO",2,null,"NP35 N:REGULAR",146,null,"RQ16 ADD SAUCE TOMATO",8,null,"WT05 1005:FSH&CHIP",1,null,"ZBC04 LESS ICE",48,null,"SF05 92605:RIBENA SO",6,null,"WF06 91006:SPAGHETTI",3,null,"WT01 1001:BP CKN CP",2,null,"LC05 1105:BUTTER CHK",9,null,"NP36 N:MEMBER",16,null,"ZBC02 HOT",3,null,"WF06 91006:SPAGHETTI",1,null,"RQ15 ADD SAUCE THAI",2,null,"OU02 LIGHTER",1,null,"LF04 91104:S&S CHK",1,null,"NP36 N:MEMBER",33,null,"NP35 N:REGULAR",41,null,"ZBC17 REMARK - MORE SW",1,null,"ZAB04 1304:IKAN BILIS",1,null,"WF03 91003:MR CHK CP",12]
[null,"RQ10 ADD SAUCE MAYO",4,null,"ZAB03 1303:CHK WING",4,null,"SF05 92605:RIBENA SO",8,null,"NP04 N:CHILDREN",3,null,"LC16 1103:MGL CHK",3,null,"ZBC03 WARM",8,null,"WT06 1006:SPAGHETTI",2,null,"OS01 FH VOUCHER(R)",4,null,"WF01 91001:BP CHK CP",7,null,"ZAA06 1206:SPRING RL",1,null,"RQ16 ADD SAUCE TOMATO",4,null,"NP36 N:MEMBER",68,null,"SF05 92605:RIBENA SO",4,null,"ZAA02 1202:FREN FRIES",2,null,"ZBC05 MORE ICE",1,null,"WF01 91001:BP CHK CP",9,null,"WF07 91007:CHK SALAD",1,null,"WT03 1003:MR CKN CP",2,null,"LC06 1106:HK F.RICE",3,null,"NP37 N:4BP",4,null,"ZBC03 WARM",13,null,"WF07 91007:CHK SALAD",3,null,"SF03 92603:MANGO SO",1,null,"OX01 REGULAR MEM CARD",1,null,"LF05 91105:BUTTER CHK",6,null,"NP37 N:4BP",12,null,"NP36 N:MEMBER",27,null,"ZBC18 ADD LEMON",18,null,"ZAB08 1308 MC RING",0,null,"WF04 91004:CKN MARY",4]
[null,"RQ14 ADD SAUCE TARTAR",3,null,"ZAB06 1306:DF WING",1,null,"SM07 2821:CHOCO SM",1,null,"NP09 N:XTD M ROOM",3,null,"LF01 91101:THAI CHK",3,null,"ZBC04 LESS ICE",70,null,"WT07 1007:CHK SALAD",4,null,"OS12 RM10 VOUCHER(RB)",12,null,"WF02 91002:GVY CHK CP",1,null,"ZAA07 1207:SAUSG",1,null,"SF01 92601:GRAPE SO",3,null,"NP37 N:4BP",7,null,"WA01 2026:BM WATER",1,null,"ZAA04 1204:FSHBALL",1,null,"ZBC06 NO ICE",7,null,"WF02 91002:GVY CHK CP",2,null,"WG01 92026:PLN WATER",11,null,"WT05 1005:FSH&CHIP",1,null,"LC07 1107:SBL F.RICE",3,null,"OS01 FH VOUCHER(R)",4,null,"ZBC04 LESS ICE",39,null,"WG01 92026:PLN WATER",28,null,"SF04 92604:PASSION SO",4,null,"RQ05 ADD SAUCE BP",2,null,"LF06 91106:HK F.RICE",1,null,"OS01 FH VOUCHER(R)",6,null,"NP37 N:4BP",3,null,"ZBR01 TIG BKT",9,null,"ZAB09 1309:MC SPIRAL F",0,null,"WF05 91005:FSH&CHIP",8]
[null,"RQ16 ADD SAUCE TOMATO",1,null,"ZAB09 1309:MC SPIRAL F",1,null,"WA01 2026:BM WATER",1,null,"NP17 N:FREEHEAD",3,null,"LF02 91102:MAMITE CHK",2,null,"ZBC05 MORE ICE",1,null,"ZAA01 1201:SFD STICK",0,null,"OU03 MISC FEE",1,null,"WF03 91003:MR CHK CP",10,null,"ZAB03 1303:CHK WING",6,null,"SF02 92602:APPLE SO",8,null,"OS01 FH VOUCHER(R)",4,null,"WF01 91001:BP CHK CP",28,null,"ZAA07 1207:SAUSG",1,null,"ZBC07 LESS SWEET",7,null,"WF03 91003:MR CHK CP",12,null,"WT01 1001:BP CKN CP",6,null,"WT06 1006:SPAGHETTI",1,null,"LC08 1108:SBL F.MEE",1,null,"OS12 RM10 VOUCHER(RB)",12,null,"ZBC06 NO ICE",4,null,"WT01 1001:BP CKN CP",2,null,"SF05 92605:RIBENA SO",1,null,"RQ07 ADD SAUCE C.PADI",1,null,"LF07 91107:SBL F.RICE",1,null,"OS12 RM10 VOUCHER(RB)",18,null,"OU02 LIGHTER",1,null,"ZKC16 TAKE AWAY",1,null,"ZBC01 COLD",9,null,"WF06 91006:SPAGHETTI",2]
[null,"SF01 92601:GRAPE SO",1,null,"ZAB11 1311:MC HASH BRW",1,null,"WF01 91001:BP CHK CP",15,null,"NP32 N:K DINNER",48,null,"LF04 91104:S&S CHK",2,null,"ZBC06 NO ICE",9,null,"ZAA02 1202:FREN FRIES",5,null,"OX01 REGULAR MEM CARD",4,null,"WF04 91004:CKN MARY",5,null,"ZAB08 1308 MC RING",1,null,"SF03 92603:MANGO SO",1,null,"OS12 RM10 VOUCHER(RB)",12,null,"WF02 91002:GVY CHK CP",6,null,"ZAB02 1302:NUGGET",2,null,"ZBC09 NO SWEET",5,null,"WF04 91004:CKN MARY",11,null,"WT03 1003:MR CKN CP",2,null,"ZAA01 1201:SFD STICK",2,null,"LC09 1109:BP UDON",2,null,"OX01 REGULAR MEM CARD",4,null,"ZBC07 LESS SWEET",3,null,"WT03 1003:MR CKN CP",3,null,"WF01 91001:BP CHK CP",7,null,"RQ10 ADD SAUCE MAYO",2,null,"LF08 91108:SBL F.MEE",2,null,"OU02 LIGHTER",3,null,"RQ05 ADD SAUCE BP",1,null,"ZLB01 FRIED",7,null,"ZBC02 HOT",3,null,"WF07 91007:CHK SALAD",2]
[null,"SF02 92602:APPLE SO",1,null,"ZBC01 COLD",8,null,"WF02 91002:GVY CHK CP",6,null,"NP35 N:REGULAR",98,null,"LF05 91105:BUTTER CHK",7,null,"ZBC07 LESS SWEET",13,null,"ZAA03 1203:GOLD MR",1,null,"RQ02 1602:ADD F.EGG",1,null,"WF05 91005:FSH&CHIP",5,null,"ZAB09 1309:MC SPIRAL F",1,null,"SF04 92604:PASSION SO",5,null,"OX01 REGULAR MEM CARD",5,null,"WF03 91003:MR CHK CP",28,null,"ZAB03 1303:CHK WING",1,null,"ZBC10 LESS LEMON",1,null,"WF05 91005:FSH&CHIP",6,null,"ZAA02 1202:FREN FRIES",7,null,"ZAA02 1202:FREN FRIES",4,null,"LC10 1110:NISSIN",1,null,"OX02 REGULAR REPLACE",1,null,"ZBC09 NO SWEET",6,null,"WT05 1005:FSH&CHIP",2,null,"WF03 91003:MR CHK CP",8,null,"RQ13 ADD SAUCE SAMBAL",1,null,"LF09 91109:BP UDON",2,null,"OU03 MISC FEE",2,null,"RQ07 ADD SAUCE C.PADI",3,null,"ZLB02 GRILLED",3,null,"ZBC03 WARM",10,null,"WG01 92026:PLN WATER",32]
[null,"SF04 92604:PASSION SO",6,null,"ZBC02 HOT",1,null,"WF03 91003:MR CHK CP",14,null,"NP36 N:MEMBER",40,null,"LF06 91106:HK F.RICE",2,null,"ZBC09 NO SWEET",6,null,"ZAA06 1206:SPRING RL",2,null,"RQ16 ADD SAUCE TOMATO",3,null,"WF06 91006:SPAGHETTI",1,null,"ZBC01 COLD",1,null,"WA01 2026:BM WATER",1,null,"OX23 ST MEM UPGRADE",1,null,"WF04 91004:CKN MARY",12,null,"ZAB09 1309:MC SPIRAL F",1,null,"ZBC11 MORE LEMON",1,null,"WF06 91006:SPAGHETTI",1,null,"ZAA03 1203:GOLD MR",4,null,"ZAA07 1207:SAUSG",2,null,"LC11 1111:VEG RICE",1,null,"RQ01 1601:ADD RICE",1,null,"ZBC10 LESS LEMON",1,null,"WT06 1006:SPAGHETTI",1,null,"WF04 91004:CKN MARY",1,null,"RQ15 ADD SAUCE THAI",1,null,"LF10 91110:NISSIN",1,null,"OX01 REGULAR MEM CARD",7,null,"RQ10 ADD SAUCE MAYO",4,null,"ZLB03 BOILED",14,null,"ZBC04 LESS ICE",42,null,"WT01 1001:BP CKN CP",7]
[null,"SF05 92605:RIBENA SO",1,null,"ZBC03 WARM",18,null,"WF04 91004:CKN MARY",4,null,"NP37 N:4BP",11,null,"LF07 91107:SBL F.RICE",1,null,"ZBC10 LESS LEMON",3,null,"ZAA07 1207:SAUSG",2,null,"SF04 92604:PASSION SO",2,null,"WG01 92026:PLN WATER",18,null,"ZBC02 HOT",1,null,"WF01 91001:BP CHK CP",3,null,"RQ07 ADD SAUCE C.PADI",4,null,"WF05 91005:FSH&CHIP",17,null,"ZBC01 COLD",1,null,"ZBC12 EXTRA",1,null,"WF07 91007:CHK SALAD",1,null,"ZAA07 1207:SAUSG",1,null,"ZAB02 1302:NUGGET",1,null,"LC15 1112:CHK NOODLE",0,null,"RQ02 1602:ADD F.EGG",1,null,"ZBC11 MORE LEMON",3,null,"ZAA02 1202:FREN FRIES",1,null,"WF05 91005:FSH&CHIP",5,null,"RQ16 ADD SAUCE TOMATO",3,null,"LF11 91111:VEG RICE",1,null,"OX23 ST MEM UPGRADE",1,null,"RQ16 ADD SAUCE TOMATO",6,null,"ZZZZZ CHG ITEM",0,null,"ZBC06 NO ICE",3,null,"WT02 1002:GVY CHK CP",2]
[null,"WA01 2026:BM WATER",1,null,"ZBC04 LESS ICE",28,null,"WF05 91005:FSH&CHIP",9,null,"OS01 FH VOUCHER(R)",3,null,"LF09 91109:BP UDON",3,null,"ZBC11 MORE LEMON",3,null,"ZAB03 1303:CHK WING",4,null,"SF05 92605:RIBENA SO",3,null,"WT03 1003:MR CKN CP",3,null,"ZBC03 WARM",14,null,"WF02 91002:GVY CHK CP",4,null,"RQ14 ADD SAUCE TARTAR",1,null,"WF06 91006:SPAGHETTI",11,null,"ZBC02 HOT",8,null,"ZBC14 BEER GLASS",12,null,"WG01 92026:PLN WATER",16,null,"ZBC01 COLD",1,null,"ZAB03 1303:CHK WING",7,null,"LC16 1103:MGL CHK",1,null,"RQ10 ADD SAUCE MAYO",4,null,"ZBC12 EXTRA",3,null,"ZAA04 1204:FSHBALL",1,null,"WF06 91006:SPAGHETTI",3,null,"SF01 92601:GRAPE SO",2,null,"LF16 91103:MGL CHK",2,null,"RQ01 1601:ADD RICE",1,null,"SF01 92601:GRAPE SO",2,null,null,null,null,"ZBC07 LESS SWEET",2,null,"WT03 1003:MR CKN CP",3]
[null,"WF01 91001:BP CHK CP",12,null,"ZBC06 NO ICE",6,null,"WF06 91006:SPAGHETTI",2,null,"OS12 RM10 VOUCHER(RB)",9,null,"LF15 91112:CHK NOODLE",2,null,"ZBC13 JUG",17,null,"ZAB06 1306:DF WING",1,null,"WF01 91001:BP CHK CP",3,null,"WT05 1005:FSH&CHIP",3,null,"ZBC04 LESS ICE",17,null,"WF03 91003:MR CHK CP",12,null,"RQ15 ADD SAUCE THAI",2,null,"WF07 91007:CHK SALAD",4,null,"ZBC03 WARM",20,null,"ZBC15 ICE BUCKET",5,null,"WT01 1001:BP CKN CP",2,null,"ZBC02 HOT",2,null,"ZAB06 1306:DF WING",3,null,"LF01 91101:THAI CHK",5,null,"RQ13 ADD SAUCE SAMBAL",2,null,"ZBC13 JUG",1,null,"ZAA07 1207:SAUSG",2,null,"WF07 91007:CHK SALAD",2,null,"SF02 92602:APPLE SO",2,null,"MC02 MIC COVER X 3",1,null,"RQ10 ADD SAUCE MAYO",4,null,"SF02 92602:APPLE SO",2,null,null,null,null,"ZBC09 NO SWEET",1,null,"WT04 1004:CKN MARY",3]
[null,"WF02 91002:GVY CHK CP",2,null,"ZBC07 LESS SWEET",11,null,"WF07 91007:CHK SALAD",1,null,"OX01 REGULAR MEM CARD",3,null,"LF16 91103:MGL CHK",3,null,"ZBC14 BEER GLASS",12,null,"ZAB09 1309:MC SPIRAL F",2,null,"WF02 91002:GVY CHK CP",1,null,"ZAA01 1201:SFD STICK",0,null,"ZBC06 NO ICE",5,null,"WF04 91004:CKN MARY",6,null,"RQ16 ADD SAUCE TOMATO",4,null,"WG01 92026:PLN WATER",42,null,"ZBC04 LESS ICE",49,null,"ZBC17 REMARK - ICE",3,null,"WT02 1002:GVY CHK CP",1,null,"ZBC03 WARM",8,null,"ZAB08 1308 MC RING",1,null,"LF02 91102:MAMITE CHK",7,null,"RQ14 ADD SAUCE TARTAR",1,null,"ZBC14 BEER GLASS",6,null,"ZAB02 1302:NUGGET",1,null,"WG01 92026:PLN WATER",29,null,"SF04 92604:PASSION SO",3,null,"MP17 M:FREEHEAD",1,null,"RQ13 ADD SAUCE SAMBAL",1,null,"SF03 92603:MANGO SO",6,null,null,null,null,"ZBC11 MORE LEMON",6,null,"WT05 1005:FSH&CHIP",1]
[null,"WF03 91003:MR CHK CP",6,null,"ZBC09 NO SWEET",1,null,"WG01 92026:PLN WATER",28,null,"RQ03 ADD SAUCE 1000",3,null,"MC02 MIC COVER X 3",1,null,"ZBC15 ICE BUCKET",6,null,"ZAB10 1310:MC HP SMILE",1,null,"WF03 91003:MR CHK CP",6,null,"ZAA02 1202:FREN FRIES",1,null,"ZBC07 LESS SWEET",2,null,"WF05 91005:FSH&CHIP",5,null,"SF01 92601:GRAPE SO",4,null,"WT01 1001:BP CKN CP",2,null,"ZBC05 MORE ICE",3,null,"ZBC18 ADD LEMON",12,null,"WT03 1003:MR CKN CP",4,null,"ZBC04 LESS ICE",35,null,"ZAB09 1309:MC SPIRAL F",1,null,"LF05 91105:BUTTER CHK",6,null,"RQ16 ADD SAUCE TOMATO",3,null,"ZBC15 ICE BUCKET",2,null,"ZAB03 1303:CHK WING",1,null,"WT01 1001:BP CKN CP",1,null,"SF05 92605:RIBENA SO",6,null,"MP35 M:REGULAR",7,null,"RQ14 ADD SAUCE TARTAR",1,null,"SF04 92604:PASSION SO",5,null,null,null,null,"ZBC13 JUG",1,null,"WT06 1006:SPAGHETTI",1]
[null,"WF04 91004:CKN MARY",4,null,"ZBC11 MORE LEMON",1,null,"WT01 1001:BP CKN CP",1,null,"RQ05 ADD SAUCE BP",1,null,"MP03 M:MEMBER B'DAY",1,null,"ZBC17 REMARK - WITHOUT",2,null,"ZBC01 COLD",12,null,"WF04 91004:CKN MARY",2,null,"ZAA03 1203:GOLD MR",1,null,"ZBC09 NO SWEET",6,null,"WF06 91006:SPAGHETTI",1,null,"SF02 92602:APPLE SO",4,null,"WT03 1003:MR CKN CP",2,null,"ZBC06 NO ICE",10,null,"ZBM01 TIG MEM BKT",3,null,"ZAA01 1201:SFD STICK",1,null,"ZBC06 NO ICE",9,null,"ZAB11 1311:MC HASH BRW",1,null,"LF06 91106:HK F.RICE",4,null,"SF01 92601:GRAPE SO",4,null,"ZBC17 REMARK - KAO KAO",4,null,"ZAB09 1309:MC SPIRAL F",1,null,"WT03 1003:MR CKN CP",2,null,"WF01 91001:BP CHK CP",15,null,"MP36 M:MEMBER",4,null,"RQ16 ADD SAUCE TOMATO",4,null,"SF05 92605:RIBENA SO",3,null,null,null,null,"ZBC14 BEER GLASS",12,null,"ZAA02 1202:FREN FRIES",6]
[null,"WF05 91005:FSH&CHIP",9,null,"ZBC13 JUG",20,null,"WT03 1003:MR CKN CP",2,null,"RQ07 ADD SAUCE C.PADI",1,null,"MP10 M:XTD B ROOM",0,null,"ZBC18 ADD LEMON",16,null,"ZBC02 HOT",6,null,"WF05 91005:FSH&CHIP",2,null,"ZAA04 1204:FSHBALL",1,null,"ZBC11 MORE LEMON",1,null,"WF07 91007:CHK SALAD",8,null,"SF04 92604:PASSION SO",6,null,"WT06 1006:SPAGHETTI",2,null,"ZBC07 LESS SWEET",7,null,"ZBM02 HEI MEM EX BKT",3,null,"ZAA02 1202:FREN FRIES",1,null,"ZBC07 LESS SWEET",11,null,"ZBC01 COLD",1,null,"LF07 91107:SBL F.RICE",4,null,"SF02 92602:APPLE SO",3,null,"ZBC18 ADD LEMON",9,null,"ZAB11 1311:MC HASH BRW",1,null,"WT06 1006:SPAGHETTI",1,null,"WF02 91002:GVY CHK CP",8,null,"NP03 N:MEMBER B'DAY",1,null,"SF01 92601:GRAPE SO",5,null,"WF01 91001:BP CHK CP",20,null,null,null,null,"ZBC15 ICE BUCKET",7,null,"ZAA03 1203:GOLD MR",3]
[null,"WF06 91006:SPAGHETTI",3,null,"ZBC14 BEER GLASS",10,null,"WT06 1006:SPAGHETTI",1,null,"RQ10 ADD SAUCE MAYO",2,null,"MP35 M:REGULAR",36,null,"ZBR01 TIG BKT",12,null,"ZBC03 WARM",14,null,"WF06 91006:SPAGHETTI",1,null,"ZAA07 1207:SAUSG",1,null,"ZBC13 JUG",15,null,"WG01 92026:PLN WATER",74,null,"WF01 91001:BP CHK CP",24,null,"ZAA02 1202:FREN FRIES",5,null,"ZBC09 NO SWEET",7,null,"ZBR01 TIG BKT",3,null,"ZAA03 1203:GOLD MR",1,null,"ZBC08 MORE SWEET",1,null,"ZBC02 HOT",1,null,"LF08 91108:SBL F.MEE",1,null,"SF04 92604:PASSION SO",4,null,"ZKC16 TAKE AWAY",2,null,"ZBC01 COLD",3,null,"ZAA01 1201:SFD STICK",1,null,"WF03 91003:MR CHK CP",12,null,"NP04 N:CHILDREN",4,null,"SF02 92602:APPLE SO",9,null,"WF02 91002:GVY CHK CP",10,null,null,null,null,"ZBC17 REMARK - 4 GAO G",8,null,"ZAA06 1206:SPRING RL",1]
[null,"WF07 91007:CHK SALAD",3,null,"ZBC15 ICE BUCKET",4,null,"ZAA02 1202:FREN FRIES",1,null,"RQ12 ADD SAUCE MR",2,null,"MP36 M:MEMBER",11,null,"ZKC17 REMARK - SPLIT",2,null,"ZBC04 LESS ICE",39,null,"WF07 91007:CHK SALAD",3,null,"ZAB02 1302:NUGGET",2,null,"ZBC14 BEER GLASS",9,null,"WT01 1001:BP CKN CP",2,null,"WF02 91002:GVY CHK CP",5,null,"ZAA03 1203:GOLD MR",1,null,"ZBC10 LESS LEMON",1,null,"ZKC17 REMARK - DRY",2,null,"ZAA04 1204:FSHBALL",2,null,"ZBC09 NO SWEET",1,null,"ZBC03 WARM",11,null,"LF09 91109:BP UDON",2,null,"SF05 92605:RIBENA SO",6,null,"ZKC17 REMARK - SLIP SO",3,null,"ZBC02 HOT",2,null,"ZAA02 1202:FREN FRIES",1,null,"WF04 91004:CKN MARY",13,null,"NP08 N:XTD S ROOM",1,null,"SF03 92603:MANGO SO",2,null,"WF03 91003:MR CHK CP",18,null,null,null,null,"ZBC18 ADD LEMON",13,null,"ZAA07 1207:SAUSG",2]
[null,"WG01 92026:PLN WATER",36,null,"ZBC17 REMARK - NO SUGA",2,null,"ZAA03 1203:GOLD MR",1,null,"RQ16 ADD SAUCE TOMATO",4,null,"MP37 M:4BP",2,null,"ZZZZZ CHANGE TO CHARGE",0,null,"ZBC06 NO ICE",13,null,"WG01 92026:PLN WATER",24,null,"ZAB03 1303:CHK WING",4,null,"ZBC15 ICE BUCKET",2,null,"WT03 1003:MR CKN CP",5,null,"WF03 91003:MR CHK CP",23,null,"ZAB03 1303:CHK WING",1,null,"ZBC13 JUG",6,null,"ZZZZZ WRONG KEY",0,null,"ZAA06 1206:SPRING RL",1,null,"ZBC10 LESS LEMON",1,null,"ZBC04 LESS ICE",42,null,"LF10 91110:NISSIN",1,null,"WF01 91001:BP CHK CP",19,null,"ZZZZZ CHANGE MEM",0,null,"ZBC03 WARM",19,null,"ZAA03 1203:GOLD MR",2,null,"WF05 91005:FSH&CHIP",8,null,"NP17 N:FREEHEAD",3,null,"SF04 92604:PASSION SO",12,null,"WF04 91004:CKN MARY",7,null,null,null,null,"ZBM02 HEI MEM EX BKT",3,null,"ZAB02 1302:NUGGET",2]
[null,"WT01 1001:BP CKN CP",4,null,"ZBC18 ADD LEMON",3,null,"ZAB02 1302:NUGGET",2,null,"SF01 92601:GRAPE SO",6,null,"NP03 N:MEMBER B'DAY",3,null,null,null,null,"ZBC07 LESS SWEET",1,null,"WT02 1002:GVY CHK CP",1,null,"ZAB09 1309:MC SPIRAL F",1,null,"ZBC16 TAKE AWAY",1,null,"WT04 1004:CKN MARY",2,null,"WF04 91004:CKN MARY",8,null,"ZAB08 1308 MC RING",1,null,"ZBC14 BEER GLASS",7,null,null,null,null,"ZAA07 1207:SAUSG",2,null,"ZBC11 MORE LEMON",1,null,"ZBC06 NO ICE",7,null,"LF11 91111:VEG RICE",1,null,"WF02 91002:GVY CHK CP",5,null,null,null,null,"ZBC04 LESS ICE",41,null,"ZAA04 1204:FSHBALL",2,null,"WF06 91006:SPAGHETTI",5,null,"NP32 N:K DINNER",56,null,"WA01 2026:BM WATER",1,null,"WF05 91005:FSH&CHIP",13,null,null,null,null,"ZLB01 FRIED",34,null,"ZAB04 1304:IKAN BILIS",1]
[null,"WT03 1003:MR CKN CP",1,null,"ZKC16 TAKE AWAY",5,null,"ZAB03 1303:CHK WING",2,null,"SF02 92602:APPLE SO",3,null,"NP04 N:CHILDREN",2,null,null,null,null,"ZBC09 NO SWEET",3,null,"WT03 1003:MR CKN CP",1,null,"ZAB11 1311:MC HASH BRW",1,null,"ZBC17 REMARK - ADD ICE",1,null,"WT06 1006:SPAGHETTI",1,null,"WF05 91005:FSH&CHIP",12,null,"ZBC02 HOT",2,null,"ZBC15 ICE BUCKET",4,null,null,null,null,"ZAB02 1302:NUGGET",1,null,"ZBC14 BEER GLASS",2,null,"ZBC07 LESS SWEET",4,null,"LF15 91112:CHK NOODLE",3,null,"WF03 91003:MR CHK CP",28,null,null,null,null,"ZBC05 MORE ICE",2,null,"ZAB03 1303:CHK WING",1,null,"WF07 91007:CHK SALAD",2,null,"NP35 N:REGULAR",114,null,"WF01 91001:BP CHK CP",17,null,"WF06 91006:SPAGHETTI",9,null,null,null,null,"ZLB03 BOILED",7,null,"ZAB09 1309:MC SPIRAL F",1]
[null,"WT04 1004:CKN MARY",1,null,"ZKC17 REMARK - MORE",2,null,"ZAB06 1306:DF WING",1,null,"SF03 92603:MANGO SO",4,null,"NP10 N:XTD B ROOM",2,null,null,null,null,"ZBC11 MORE LEMON",1,null,"WT05 1005:FSH&CHIP",1,null,"ZBC01 COLD",2,null,"ZBC18 ADD LEMON",1,null,"ZAA02 1202:FREN FRIES",6,null,"WF06 91006:SPAGHETTI",8,null,"ZBC03 WARM",20,null,"ZBC17 REMARK - GAO GAO",3,null,null,null,null,"ZAB03 1303:CHK WING",1,null,"ZBC15 ICE BUCKET",4,null,"ZBC09 NO SWEET",3,null,"LF16 91103:MGL CHK",3,null,"WF04 91004:CKN MARY",8,null,null,null,null,"ZBC06 NO ICE",13,null,"ZAB07 1307: CALAMARI",1,null,"WG01 92026:PLN WATER",22,null,"NP36 N:MEMBER",41,null,"WF02 91002:GVY CHK CP",5,null,"WF07 91007:CHK SALAD",4,null,null,null,null,"ZZZZZ CUS CANCEL",0,null,"ZBC01 COLD",2]
[null,"ZAA02 1202:FREN FRIES",2,null,"ZZZZZ CHANGE REGULAR",0,null,"ZAB07 1307: CALAMARI",1,null,"SF04 92604:PASSION SO",7,null,"NP17 N:FREEHEAD",2,null,null,null,null,"ZBC12 EXTRA",1,null,"WT06 1006:SPAGHETTI",2,null,"ZBC03 WARM",18,null,"ZBR01 TIG BKT",9,null,"ZAA03 1203:GOLD MR",1,null,"WF07 91007:CHK SALAD",4,null,"ZBC04 LESS ICE",65,null,"ZBC18 ADD LEMON",19,null,null,null,null,"ZAB06 1306:DF WING",1,null,"ZBC18 ADD LEMON",6,null,"ZBC10 LESS LEMON",1,null,"MC02 MIC COVER X 3",4,null,"WF05 91005:FSH&CHIP",17,null,null,null,null,"ZBC07 LESS SWEET",6,null,"ZBC02 HOT",3,null,"WT01 1001:BP CKN CP",1,null,"NP37 N:4BP",4,null,"WF03 91003:MR CHK CP",20,null,"WG01 92026:PLN WATER",31,null,null,null,null,null,null,null,"ZBC02 HOT",2]
[null,"ZAA03 1203:GOLD MR",1,null,null,null,null,"ZBC01 COLD",6,null,"SF05 92605:RIBENA SO",4,null,"NP32 N:K DINNER",35,null,null,null,null,"ZBC13 JUG",7,null,"WT07 1007:CHK SALAD",1,null,"ZBC04 LESS ICE",40,null,"ZKC17 REMARK - NO RICE",1,null,"ZAA04 1204:FSHBALL",1,null,"WG01 92026:PLN WATER",34,null,"ZBC05 MORE ICE",1,null,"ZBR01 TIG BKT",12,null,null,null,null,"ZAB07 1307: CALAMARI",2,null,"ZBR01 TIG BKT",7,null,"ZBC13 JUG",5,null,"MP17 M:FREEHEAD",2,null,"WF06 91006:SPAGHETTI",9,null,null,null,null,"ZBC08 MORE SWEET",1,null,"ZBC03 WARM",15,null,"WT03 1003:MR CKN CP",1,null,"OS01 FH VOUCHER(R)",6,null,"WF04 91004:CKN MARY",3,null,"WT01 1001:BP CKN CP",1,null,null,null,null,null,null,null,"ZBC03 WARM",15]
[null,"ZAA06 1206:SPRING RL",0,null,null,null,null,"ZBC02 HOT",1,null,"SM07 2821:CHOCO SM",1,null,"NP35 N:REGULAR",177,null,null,null,null,"ZBC14 BEER GLASS",2,null,"ZAA02 1202:FREN FRIES",1,null,"ZBC06 NO ICE",10,null,"ZZZZZ APPLY MEM",0,null,"ZAA06 1206:SPRING RL",2,null,"WT01 1001:BP CKN CP",5,null,"ZBC06 NO ICE",12,null,"ZKC03 LESS SPICY",1,null,null,null,null,"ZAB11 1311:MC HASH BRW",1,null,"ZBR02 HEI EX BKT",1,null,"ZBC14 BEER GLASS",13,null,"MP35 M:REGULAR",40,null,"WF07 91007:CHK SALAD",2,null,null,null,null,"ZBC09 NO SWEET",2,null,"ZBC04 LESS ICE",16,null,"WT04 1004:CKN MARY",2,null,"OS12 RM10 VOUCHER(RB)",18,null,"WF05 91005:FSH&CHIP",10,null,"WT02 1002:GVY CHK CP",1,null,null,null,null,null,null,null,"ZBC04 LESS ICE",37]
[null,"ZAA07 1207:SAUSG",1,null,null,null,null,"ZBC03 WARM",14,null,"SO05 2605:RIBENA SO",1,null,"NP36 N:MEMBER",55,null,null,null,null,"ZBC15 ICE BUCKET",4,null,"ZAA04 1204:FSHBALL",2,null,"ZBC07 LESS SWEET",8,null,null,null,null,"ZAA07 1207:SAUSG",2,null,"WT02 1002:GVY CHK CP",2,null,"ZBC07 LESS SWEET",6,null,"ZZZZZ CUS CANCEL",0,null,null,null,null,"ZBC01 COLD",2,null,"ZBR03 GUI EX BKT",1,null,"ZBC15 ICE BUCKET",5,null,"MP36 M:MEMBER",13,null,"WG01 92026:PLN WATER",26,null,null,null,null,"ZBC10 LESS LEMON",2,null,"ZBC05 MORE ICE",2,null,"WT05 1005:FSH&CHIP",2,null,"OX01 REGULAR MEM CARD",6,null,"WF06 91006:SPAGHETTI",7,null,"WT06 1006:SPAGHETTI",2,null,null,null,null,null,null,null,"ZBC06 NO ICE",7]
[null,"ZAB02 1302:NUGGET",1,null,null,null,null,"ZBC04 LESS ICE",31,null,"WA01 2026:BM WATER",5,null,"NP37 N:4BP",12,null,null,null,null,"ZBC17 REMARK - MORE LE",1,null,"ZAA06 1206:SPRING RL",2,null,"ZBC09 NO SWEET",1,null,null,null,null,"ZAB02 1302:NUGGET",0,null,"WT03 1003:MR CKN CP",3,null,"ZBC09 NO SWEET",3,null,null,null,null,null,null,null,"ZBC02 HOT",1,null,"ZZZZZ WRONG KEY",0,null,"ZBC17 REMARK - LESS IC",6,null,"MP37 M:4BP",3,null,"WT01 1001:BP CKN CP",4,null,null,null,null,"ZBC11 MORE LEMON",1,null,"ZBC06 NO ICE",9,null,"ZAA02 1202:FREN FRIES",5,null,"RQ07 ADD SAUCE C.PADI",1,null,"WF07 91007:CHK SALAD",3,null,"ZAA02 1202:FREN FRIES",4,null,null,null,null,null,null,null,"ZBC07 LESS SWEET",3]
[null,"ZAB03 1303:CHK WING",2,null,null,null,null,"ZBC05 MORE ICE",2,null,"WF01 91001:BP CHK CP",18,null,"OS01 FH VOUCHER(R)",4,null,null,null,null,"ZBC18 ADD LEMON",11,null,"ZAA07 1207:SAUSG",1,null,"ZBC13 JUG",9,null,null,null,null,"ZAB03 1303:CHK WING",2,null,"WT04 1004:CKN MARY",1,null,"ZBC10 LESS LEMON",1,null,null,null,null,null,null,null,"ZBC03 WARM",7,null,null,null,null,"ZBC18 ADD LEMON",5,null,"NP03 N:MEMBER B'DAY",1,null,"WT03 1003:MR CKN CP",2,null,null,null,null,"ZBC14 BEER GLASS",2,null,"ZBC07 LESS SWEET",3,null,"ZAA03 1203:GOLD MR",1,null,"RQ10 ADD SAUCE MAYO",2,null,"WG01 92026:PLN WATER",42,null,"ZAA03 1203:GOLD MR",4,null,null,null,null,null,null,null,"ZBC09 NO SWEET",1]
[null,"ZAB06 1306:DF WING",1,null,null,null,null,"ZBC06 NO ICE",1,null,"WF02 91002:GVY CHK CP",4,null,"OS12 RM10 VOUCHER(RB)",12,null,null,null,null,"ZBR01 TIG BKT",15,null,"ZAB02 1302:NUGGET",2,null,"ZBC14 BEER GLASS",21,null,null,null,null,"ZAB05 1305:THAI RL",2,null,"WT06 1006:SPAGHETTI",2,null,"ZBC11 MORE LEMON",5,null,null,null,null,null,null,null,"ZBC04 LESS ICE",39,null,null,null,null,"ZBR01 TIG BKT",35,null,"NP04 N:CHILDREN",11,null,"WT04 1004:CKN MARY",1,null,null,null,null,"ZBC15 ICE BUCKET",6,null,"ZBC09 NO SWEET",2,null,"ZAA06 1206:SPRING RL",1,null,"RQ12 ADD SAUCE MR",1,null,"WT01 1001:BP CKN CP",2,null,"ZAA06 1206:SPRING RL",1,null,null,null,null,null,null,null,"ZBC10 LESS LEMON",2]
[null,"ZAB08 1308 MC RING",1,null,null,null,null,"ZBC07 LESS SWEET",5,null,"WF03 91003:MR CHK CP",27,null,"OX01 REGULAR MEM CARD",4,null,null,null,null,"ZBR02 HEI EX BKT",3,null,"ZAB03 1303:CHK WING",3,null,"ZBC15 ICE BUCKET",8,null,null,null,null,"ZAB06 1306:DF WING",1,null,"WT07 1007:CHK SALAD",1,null,"ZBC13 JUG",1,null,null,null,null,null,null,null,"ZBC06 NO ICE",9,null,null,null,null,"ZBR03 GUI EX BKT",1,null,"NP10 N:XTD B ROOM",1,null,"WT05 1005:FSH&CHIP",1,null,null,null,null,"ZBC17 REMARK - KAU KAU",6,null,"ZBC11 MORE LEMON",5,null,"ZAA07 1207:SAUSG",1,null,"RQ16 ADD SAUCE TOMATO",3,null,"WT02 1002:GVY CHK CP",1,null,"ZAA07 1207:SAUSG",1,null,null,null,null,null,null,null,"ZBC11 MORE LEMON",1]
[null,"ZAB11 1311:MC HASH BRW",1,null,null,null,null,"ZBC08 MORE SWEET",2,null,"WF04 91004:CKN MARY",8,null,"RQ03 ADD SAUCE 1000",1,null,null,null,null,"ZKC17 REMARK - NO CHK",1,null,"ZAB06 1306:DF WING",1,null,"ZBC17 REMARK - MORE HO",4,null,null,null,null,"ZAB08 1308 MC RING",1,null,"ZAA01 1201:SFD STICK",1,null,"ZBC15 ICE BUCKET",2,null,null,null,null,null,null,null,"ZBC07 LESS SWEET",4,null,null,null,null,"ZLB01 FRIED",2,null,"NP16 N:ST MEM B'DAY",0,null,"ZAA01 1201:SFD STICK",1,null,null,null,null,"ZBC18 ADD LEMON",10,null,"ZBC13 JUG",1,null,"ZAB03 1303:CHK WING",1,null,"SF01 92601:GRAPE SO",1,null,"WT03 1003:MR CKN CP",3,null,"ZAB02 1302:NUGGET",1,null,null,null,null,null,null,null,"ZBC13 JUG",6]
[null,"ZBC01 COLD",2,null,null,null,null,"ZBC09 NO SWEET",2,null,"WF05 91005:FSH&CHIP",19,null,"RQ07 ADD SAUCE C.PADI",1,null,null,null,null,"ZZZZZ WRONG KEY",0,null,"ZBC01 COLD",2,null,"ZBC18 ADD LEMON",10,null,null,null,null,"ZAB09 1309:MC SPIRAL F",1,null,"ZAA02 1202:FREN FRIES",4,null,"ZBC17 REMARK - ICEONLY",3,null,null,null,null,null,null,null,"ZBC08 MORE SWEET",2,null,null,null,null,"ZLB03 BOILED",1,null,"NP17 N:FREEHEAD",2,null,"ZAA02 1202:FREN FRIES",4,null,null,null,null,"ZBM02 HEI MEM EX BKT",3,null,"ZBC14 BEER GLASS",20,null,"ZAB04 1304:IKAN BILIS",1,null,"SF03 92603:MANGO SO",1,null,"WT04 1004:CKN MARY",2,null,"ZAB03 1303:CHK WING",3,null,null,null,null,null,null,null,"ZBC14 BEER GLASS",12]
[null,"ZBC03 WARM",10,null,null,null,null,"ZBC13 JUG",4,null,"WF06 91006:SPAGHETTI",10,null,"RQ10 ADD SAUCE MAYO",5,null,null,null,null,null,null,null,"ZBC02 HOT",5,null,"ZBR01 TIG BKT",6,null,null,null,null,"ZAB11 1311:MC HASH BRW",1,null,"ZAA03 1203:GOLD MR",2,null,"ZBC18 ADD LEMON",3,null,null,null,null,null,null,null,"ZBC09 NO SWEET",4,null,null,null,null,"ZRM01 REASON - 5912",1,null,"NP32 N:K DINNER",40,null,"ZAA07 1207:SAUSG",1,null,null,null,null,"ZBR01 TIG BKT",3,null,"ZBC15 ICE BUCKET",11,null,"ZAB05 1305:THAI RL",1,null,"SF05 92605:RIBENA SO",5,null,"WT06 1006:SPAGHETTI",1,null,"ZAB04 1304:IKAN BILIS",1,null,null,null,null,null,null,null,"ZBC15 ICE BUCKET",12]
[null,"ZBC04 LESS ICE",31,null,null,null,null,"ZBC14 BEER GLASS",9,null,"WF07 91007:CHK SALAD",4,null,"RQ13 ADD SAUCE SAMBAL",1,null,null,null,null,null,null,null,"ZBC03 WARM",14,null,null,null,null,null,null,null,"ZBC01 COLD",9,null,"ZAA04 1204:FSHBALL",2,null,"ZBR01 TIG BKT",17,null,null,null,null,null,null,null,"ZBC11 MORE LEMON",3,null,null,null,null,"ZZZZZ WRONG KEY",0,null,"NP35 N:REGULAR",160,null,"ZAB02 1302:NUGGET",2,null,null,null,null,"ZKC02 LESS SALTY",1,null,"ZBC17 REMARK - ICE ONL",4,null,"ZAB07 1307: CALAMARI",1,null,"WF01 91001:BP CHK CP",19,null,"ZAA01 1201:SFD STICK",1,null,"ZAB05 1305:THAI RL",1,null,null,null,null,null,null,null,"ZBC17 REMARK - KAU KAU",7]
[null,"ZBC06 NO ICE",6,null,null,null,null,"ZBC15 ICE BUCKET",11,null,"WG01 92026:PLN WATER",33,null,"RQ15 ADD SAUCE THAI",4,null,null,null,null,null,null,null,"ZBC04 LESS ICE",29,null,null,null,null,null,null,null,"ZBC02 HOT",15,null,"ZAA07 1207:SAUSG",1,null,"ZBR02 HEI EX BKT",1,null,null,null,null,null,null,null,"ZBC13 JUG",2,null,null,null,null,null,null,null,"NP36 N:MEMBER",61,null,"ZAB03 1303:CHK WING",2,null,null,null,null,"ZKC06 VEGE ONLY",1,null,"ZBC18 ADD LEMON",27,null,"ZAB09 1309:MC SPIRAL F",1,null,"WF02 91002:GVY CHK CP",7,null,"ZAA02 1202:FREN FRIES",3,null,"ZAB06 1306:DF WING",1,null,null,null,null,null,null,null,"ZBC18 ADD LEMON",12]
[null,"ZBC07 LESS SWEET",4,null,null,null,null,"ZBC17 REMARK - ICE ONL",3,null,"WT01 1001:BP CKN CP",6,null,"RQ16 ADD SAUCE TOMATO",4,null,null,null,null,null,null,null,"ZBC06 NO ICE",8,null,null,null,null,null,null,null,"ZBC03 WARM",18,null,"ZAB02 1302:NUGGET",2,null,"ZKC05 NO VEGE",1,null,null,null,null,null,null,null,"ZBC14 BEER GLASS",5,null,null,null,null,null,null,null,"NP37 N:4BP",9,null,"ZAB08 1308 MC RING",2,null,null,null,null,"ZKC17 REMARK - MORE DR",1,null,"ZBR01 TIG BKT",6,null,"ZAB11 1311:MC HASH BRW",1,null,"WF03 91003:MR CHK CP",20,null,"ZAA07 1207:SAUSG",2,null,"ZAB07 1307: CALAMARI",1,null,null,null,null,null,null,null,"ZBR01 TIG BKT",42]
[null,"ZBC09 NO SWEET",4,null,null,null,null,"ZBC18 ADD LEMON",8,null,"WT02 1002:GVY CHK CP",2,null,"SF02 92602:APPLE SO",5,null,null,null,null,null,null,null,"ZBC07 LESS SWEET",11,null,null,null,null,null,null,null,"ZBC04 LESS ICE",62,null,"ZAB03 1303:CHK WING",5,null,"ZKC17 REMARK - MORE",3,null,null,null,null,null,null,null,"ZBC15 ICE BUCKET",5,null,null,null,null,null,null,null,"OS01 FH VOUCHER(R)",5,null,"ZBC01 COLD",4,null,null,null,null,"ZLB01 FRIED",4,null,"ZLB01 FRIED",28,null,"ZBC02 HOT",3,null,"WF04 91004:CKN MARY",5,null,"ZAB03 1303:CHK WING",3,null,"ZBC01 COLD",3,null,null,null,null,null,null,null,"ZKC04 MORE SPICY",1]
[null,"ZBC13 JUG",8,null,null,null,null,"ZBR01 TIG BKT",6,null,"WT03 1003:MR CKN CP",4,null,"SF03 92603:MANGO SO",3,null,null,null,null,null,null,null,"ZBC08 MORE SWEET",1,null,null,null,null,null,null,null,"ZBC05 MORE ICE",1,null,"ZAB04 1304:IKAN BILIS",2,null,"ZZZZZ SOLD OUT",0,null,null,null,null,null,null,null,"ZBC17 REMARK - MORE LE",6,null,null,null,null,null,null,null,"OS11 RM2 VOUCHER(RB)",0,null,"ZBC02 HOT",1,null,null,null,null,"ZLB02 GRILLED",2,null,"ZLB02 GRILLED",11,null,"ZBC03 WARM",16,null,"WF05 91005:FSH&CHIP",10,null,"ZAB06 1306:DF WING",2,null,"ZBC02 HOT",4,null,null,null,null,null,null,null,"ZLB01 FRIED",6]
[null,"ZBC14 BEER GLASS",20,null,null,null,null,"ZKC06 VEGE ONLY",1,null,"WT05 1005:FSH&CHIP",2,null,"SF04 92604:PASSION SO",6,null,null,null,null,null,null,null,"ZBC09 NO SWEET",7,null,null,null,null,null,null,null,"ZBC06 NO ICE",4,null,"ZAB06 1306:DF WING",1,null,null,null,null,null,null,null,null,null,null,"ZBC18 ADD LEMON",8,null,null,null,null,null,null,null,"OS12 RM10 VOUCHER(RB)",15,null,"ZBC03 WARM",16,null,null,null,null,"ZLB03 BOILED",6,null,"ZLB03 BOILED",19,null,"ZBC04 LESS ICE",42,null,"WF06 91006:SPAGHETTI",7,null,"ZAB07 1307: CALAMARI",1,null,"ZBC03 WARM",27,null,null,null,null,null,null,null,"ZLB02 GRILLED",4]
[null,"ZBC15 ICE BUCKET",13,null,null,null,null,null,null,null,"WT06 1006:SPAGHETTI",3,null,"SF05 92605:RIBENA SO",1,null,null,null,null,null,null,null,"ZBC11 MORE LEMON",2,null,null,null,null,null,null,null,"ZBC07 LESS SWEET",10,null,"ZAB08 1308 MC RING",1,null,null,null,null,null,null,null,null,null,null,"ZBR01 TIG BKT",9,null,null,null,null,null,null,null,"OX01 REGULAR MEM CARD",7,null,"ZBC04 LESS ICE",57,null,null,null,null,"ZZZZZ WRONG KEY",0,null,"ZRM01 REASON - MISTAKE",3,null,"ZBC06 NO ICE",18,null,"WF07 91007:CHK SALAD",4,null,"ZBC01 COLD",13,null,"ZBC04 LESS ICE",39,null,null,null,null,null,null,null,"ZLB03 BOILED",14]
[null,"ZBC17 REMARK - 2 GLS I",4,null,null,null,null,null,null,null,"WT07 1007:CHK SALAD",2,null,"SM07 2821:CHOCO SM",1,null,null,null,null,null,null,null,"ZBC13 JUG",6,null,null,null,null,null,null,null,"ZBC08 MORE SWEET",2,null,"ZAB09 1309:MC SPIRAL F",2,null,null,null,null,null,null,null,null,null,null,"ZKC17 REMARK - MAYONAI",1,null,null,null,null,null,null,null,"OX02 REGULAR REPLACE",0,null,"ZBC05 MORE ICE",5,null,null,null,null,null,null,null,"ZZZZZ DOUBLE KEY",0,null,"ZBC07 LESS SWEET",5,null,"WG01 92026:PLN WATER",35,null,"ZBC02 HOT",6,null,"ZBC05 MORE ICE",1,null,null,null,null,null,null,null,"ZZZZZ WRONG KEY",0]
[null,"ZBC18 ADD LEMON",7,null,null,null,null,null,null,null,"ZAA02 1202:FREN FRIES",9,null,"WA01 2026:BM WATER",1,null,null,null,null,null,null,null,"ZBC14 BEER GLASS",19,null,null,null,null,null,null,null,"ZBC09 NO SWEET",7,null,"ZAB11 1311:MC HASH BRW",1,null,null,null,null,null,null,null,null,null,null,"ZZZZZ SOLD OUT",0,null,null,null,null,null,null,null,"OX23 ST MEM UPGRADE",2,null,"ZBC06 NO ICE",19,null,null,null,null,null,null,null,null,null,null,"ZBC09 NO SWEET",2,null,"WT01 1001:BP CKN CP",9,null,"ZBC03 WARM",18,null,"ZBC06 NO ICE",15]
[null,"ZBM02 HEI MEM EX BKT",3,null,null,null,null,null,null,null,"ZAA03 1203:GOLD MR",2,null,"WF01 91001:BP CHK CP",14,null,null,null,null,null,null,null,"ZBC15 ICE BUCKET",13,null,null,null,null,null,null,null,"ZBC13 JUG",2,null,"ZBC01 COLD",4,null,null,null,null,null,null,null,null,null,null,null,null,null,null,null,null,null,null,null,"RQ01 1601:ADD RICE",1,null,"ZBC07 LESS SWEET",7,null,null,null,null,null,null,null,null,null,null,"ZBC10 LESS LEMON",1,null,"WT02 1002:GVY CHK CP",0,null,"ZBC04 LESS ICE",63,null,"ZBC07 LESS SWEET",5]
[null,"ZBR01 TIG BKT",15,null,null,null,null,null,null,null,"ZAA04 1204:FSHBALL",1,null,"WF03 91003:MR CHK CP",18,null,null,null,null,null,null,null,"ZBC17 REMARK - NO SUGA",5,null,null,null,null,null,null,null,"ZBC14 BEER GLASS",12,null,"ZBC02 HOT",2,null,null,null,null,null,null,null,null,null,null,null,null,null,null,null,null,null,null,null,"RQ02 1602:ADD F.EGG",1,null,"ZBC09 NO SWEET",7,null,null,null,null,null,null,null,null,null,null,"ZBC13 JUG",1,null,"WT03 1003:MR CKN CP",5,null,"ZBC06 NO ICE",7,null,"ZBC09 NO SWEET",2]
[null,"ZZZZZ CHG ITEM",0,null,null,null,null,null,null,null,"ZAA07 1207:SAUSG",2,null,"WF04 91004:CKN MARY",6,null,null,null,null,null,null,null,"ZBC18 ADD LEMON",16,null,null,null,null,null,null,null,"ZBC15 ICE BUCKET",10,null,"ZBC03 WARM",15,null,null,null,null,null,null,null,null,null,null,null,null,null,null,null,null,null,null,null,"RQ03 ADD SAUCE 1000",1,null,"ZBC11 MORE LEMON",2,null,null,null,null,null,null,null,null,null,null,"ZBC14 BEER GLASS",8,null,"WT05 1005:FSH&CHIP",2,null,"ZBC07 LESS SWEET",10,null,"ZBC10 LESS LEMON",1]
[null,null,null,null,null,null,null,null,null,null,"ZAB03 1303:CHK WING",2,null,"WF05 91005:FSH&CHIP",10,null,null,null,null,null,null,null,"ZBM02 HEI MEM EX BKT",15,null,null,null,null,null,null,null,"ZBC17 REMARK - KITCHEN",2,null,"ZBC04 LESS ICE",50,null,null,null,null,null,null,null,null,null,null,null,null,null,null,null,null,null,null,null,"RQ07 ADD SAUCE C.PADI",6,null,"ZBC15 ICE BUCKET",3,null,null,null,null,null,null,null,null,null,null,"ZBC15 ICE BUCKET",10,null,"ZAA02 1202:FREN FRIES",4,null,"ZBC09 NO SWEET",2,null,"ZBC13 JUG",6]
[null,null,null,null,null,null,null,null,null,null,"ZAB06 1306:DF WING",2,null,"WF06 91006:SPAGHETTI",5,null,null,null,null,null,null,null,"ZBR01 TIG BKT",8,null,null,null,null,null,null,null,"ZBC18 ADD LEMON",24,null,"ZBC05 MORE ICE",1,null,null,null,null,null,null,null,null,null,null,null,null,null,null,null,null,null,null,null,"RQ10 ADD SAUCE MAYO",1,null,"ZBC17 REMARK - KAO KAO",4,null,null,null,null,null,null,null,null,null,null,"ZBC17 REMARK - LESS IC",3,null,"ZAA03 1203:GOLD MR",3,null,"ZBC14 BEER GLASS",29,null,"ZBC14 BEER GLASS",13]
[null,null,null,null,null,null,null,null,null,null,"ZAB07 1307: CALAMARI",2,null,"WF07 91007:CHK SALAD",3,null,null,null,null,null,null,null,"ZBR02 HEI EX BKT",1,null,null,null,null,null,null,null,"ZBR01 TIG BKT",15,null,"ZBC06 NO ICE",8,null,null,null,null,null,null,null,null,null,null,null,null,null,null,null,null,null,null,null,"RQ16 ADD SAUCE TOMATO",6,null,"ZBC18 ADD LEMON",11,null,null,null,null,null,null,null,null,null,null,"ZBC18 ADD LEMON",16,null,"ZAA04 1204:FSHBALL",1,null,"ZBC15 ICE BUCKET",16,null,"ZBC15 ICE BUCKET",8]
[null,null,null,null,null,null,null,null,null,null,"ZAB09 1309:MC SPIRAL F",1,null,"WG01 92026:PLN WATER",59,null,null,null,null,null,null,null,"ZKC17 REMARK - SPLIT",2,null,null,null,null,null,null,null,"ZKC17 REMARK - EX VEGE",1,null,"ZBC07 LESS SWEET",5,null,null,null,null,null,null,null,null,null,null,null,null,null,null,null,null,null,null,null,"SF01 92601:GRAPE SO",6,null,"ZBR01 TIG BKT",12,null,null,null,null,null,null,null,null,null,null,"ZBR01 TIG BKT",9,null,"ZAA06 1206:SPRING RL",1,null,"ZBC17 REMARK - NO SUGA",8,null,"ZBC17 REMARK - MORE LE",5]
[null,null,null,null,null,null,null,null,null,null,"ZAB11 1311:MC HASH BRW",1,null,"WT01 1001:BP CKN CP",2,null,null,null,null,null,null,null,"ZZZZZ WRONG KEY",0,null,null,null,null,null,null,null,"ZRM01 REASON - 5086",1,null,"ZBC08 MORE SWEET",1,null,null,null,null,null,null,null,null,null,null,null,null,null,null,null,null,null,null,null,"SF02 92602:APPLE SO",1,null,"ZKC17 REMARK - MORE BU",1,null,null,null,null,null,null,null,null,null,null,"ZKC16 TAKE AWAY",1,null,"ZAA07 1207:SAUSG",3,null,"ZBC18 ADD LEMON",16,null,"ZBC18 ADD LEMON",24]
[null,null,null,null,null,null,null,null,null,null,"ZBC01 COLD",3,null,"WT03 1003:MR CKN CP",3,null,null,null,null,null,null,null,null,null,null,null,null,null,null,null,null,"ZZZZZ WRONG KEY",0,null,"ZBC09 NO SWEET",2,null,null,null,null,null,null,null,null,null,null,null,null,null,null,null,null,null,null,null,"SF04 92604:PASSION SO",5,null,"ZLB01 FRIED",11,null,null,null,null,null,null,null,null,null,null,"ZKC17 REMARK - MORE",3,null,"ZAB02 1302:NUGGET",1,null,"ZBR01 TIG BKT",39,null,"ZBR01 TIG BKT",12]
[null,null,null,null,null,null,null,null,null,null,"ZBC02 HOT",7,null,"WT04 1004:CKN MARY",1,null,null,null,null,null,null,null,null,null,null,null,null,null,null,null,null,null,null,null,"ZBC13 JUG",10,null,null,null,null,null,null,null,null,null,null,null,null,null,null,null,null,null,null,null,"SM07 2821:CHOCO SM",1,null,"ZLB02 GRILLED",5,null,null,null,null,null,null,null,null,null,null,"ZLB01 FRIED",35,null,"ZAB06 1306:DF WING",1,null,"ZLB01 FRIED",18,null,"ZBR03 GUI EX BKT",3]
[null,null,null,null,null,null,null,null,null,null,"ZBC03 WARM",25,null,"WT05 1005:FSH&CHIP",2,null,null,null,null,null,null,null,null,null,null,null,null,null,null,null,null,null,null,null,"ZBC14 BEER GLASS",13,null,null,null,null,null,null,null,null,null,null,null,null,null,null,null,null,null,null,null,"WF01 91001:BP CHK CP",23,null,"ZLB03 BOILED",5,null,null,null,null,null,null,null,null,null,null,"ZLB02 GRILLED",29,null,"ZAB09 1309:MC SPIRAL F",2,null,"ZLB02 GRILLED",3,null,"ZKC17 REMARK - MORE SA",2]
[null,null,null,null,null,null,null,null,null,null,"ZBC04 LESS ICE",36,null,"WT06 1006:SPAGHETTI",3,null,null,null,null,null,null,null,null,null,null,null,null,null,null,null,null,null,null,null,"ZBC15 ICE BUCKET",8,null,null,null,null,null,null,null,null,null,null,null,null,null,null,null,null,null,null,null,"WF02 91002:GVY CHK CP",3,null,"ZZZZZ CHANGE REGULAR",0,null,null,null,null,null,null,null,null,null,null,"ZLB03 BOILED",33,null,"ZBC01 COLD",8,null,"ZLB03 BOILED",14,null,"ZLB01 FRIED",34]
[null,null,null,null,null,null,null,null,null,null,"ZBC05 MORE ICE",1,null,"ZAA02 1202:FREN FRIES",6,null,null,null,null,null,null,null,null,null,null,null,null,null,null,null,null,null,null,null,"ZBC17 REMARK - ICE ONL",5,null,null,null,null,null,null,null,null,null,null,null,null,null,null,null,null,null,null,null,"WF03 91003:MR CHK CP",39,null,null,null,null,null,null,null,null,null,null,null,null,null,"ZZZZZ CUS CANCEL",0,null,"ZBC02 HOT",3,null,"ZRM01 REASON - 5054",1,null,"ZLB02 GRILLED",5]
[null,null,null,null,null,null,null,null,null,null,"ZBC06 NO ICE",12,null,"ZAA03 1203:GOLD MR",1,null,null,null,null,null,null,null,null,null,null,null,null,null,null,null,null,null,null,null,"ZBC18 ADD LEMON",18,null,null,null,null,null,null,null,null,null,null,null,null,null,null,null,null,null,null,null,"WF04 91004:CKN MARY",11,null,null,null,null,null,null,null,null,null,null,null,null,null,null,null,null,"ZBC03 WARM",21,null,"ZZZZZ WRONG KEY",0,null,"ZLB03 BOILED",20]
[null,null,null,null,null,null,null,null,null,null,"ZBC07 LESS SWEET",9,null,"ZAA07 1207:SAUSG",3,null,null,null,null,null,null,null,null,null,null,null,null,null,null,null,null,null,null,null,"ZBR01 TIG BKT",27,null,null,null,null,null,null,null,null,null,null,null,null,null,null,null,null,null,null,null,"WF05 91005:FSH&CHIP",13,null,null,null,null,null,null,null,null,null,null,null,null,null,null,null,null,"ZBC04 LESS ICE",51,null,null,null,null,"ZZZZZ CUS CANCEL",0]
[null,null,null,null,null,null,null,null,null,null,"ZBC09 NO SWEET",4,null,"ZAB02 1302:NUGGET",4,null,null,null,null,null,null,null,null,null,null,null,null,null,null,null,null,null,null,null,"ZKC17 REMARK - VEGETAR",1,null,null,null,null,null,null,null,null,null,null,null,null,null,null,null,null,null,null,null,"WF06 91006:SPAGHETTI",13,null,null,null,null,null,null,null,null,null,null,null,null,null,null,null,null,"ZBC05 MORE ICE",1]
[null,null,null,null,null,null,null,null,null,null,"ZBC11 MORE LEMON",1,null,"ZAB03 1303:CHK WING",2,null,null,null,null,null,null,null,null,null,null,null,null,null,null,null,null,null,null,null,"ZRM01 REASON - 5099",1,null,null,null,null,null,null,null,null,null,null,null,null,null,null,null,null,null,null,null,"WF07 91007:CHK SALAD",5,null,null,null,null,null,null,null,null,null,null,null,null,null,null,null,null,"ZBC06 NO ICE",17]
[null,null,null,null,null,null,null,null,null,null,"ZBC13 JUG",6,null,"ZAB09 1309:MC SPIRAL F",4,null,null,null,null,null,null,null,null,null,null,null,null,null,null,null,null,null,null,null,"ZZZZZ CHANGE K DINNER",0,null,null,null,null,null,null,null,null,null,null,null,null,null,null,null,null,null,null,null,"WG01 92026:PLN WATER",26,null,null,null,null,null,null,null,null,null,null,null,null,null,null,null,null,"ZBC07 LESS SWEET",5]
[null,null,null,null,null,null,null,null,null,null,"ZBC14 BEER GLASS",7,null,"ZBC01 COLD",4,null,null,null,null,null,null,null,null,null,null,null,null,null,null,null,null,null,null,null,null,null,null,null,null,null,null,null,null,null,null,null,null,null,null,null,null,null,null,null,null,"WT01 1001:BP CKN CP",4,null,null,null,null,null,null,null,null,null,null,null,null,null,null,null,null,"ZBC09 NO SWEET",1]
[null,null,null,null,null,null,null,null,null,null,"ZBC15 ICE BUCKET",14,null,"ZBC02 HOT",10,null,null,null,null,null,null,null,null,null,null,null,null,null,null,null,null,null,null,null,null,null,null,null,null,null,null,null,null,null,null,null,null,null,null,null,null,null,null,null,null,"WT03 1003:MR CKN CP",8,null,null,null,null,null,null,null,null,null,null,null,null,null,null,null,null,"ZBC14 BEER GLASS",17]
[null,null,null,null,null,null,null,null,null,null,"ZBC17 REMARK - ICE ONL",3,null,"ZBC03 WARM",18,null,null,null,null,null,null,null,null,null,null,null,null,null,null,null,null,null,null,null,null,null,null,null,null,null,null,null,null,null,null,null,null,null,null,null,null,null,null,null,null,"WT05 1005:FSH&CHIP",2,null,null,null,null,null,null,null,null,null,null,null,null,null,null,null,null,"ZBC15 ICE BUCKET",9]
[null,null,null,null,null,null,null,null,null,null,"ZBC18 ADD LEMON",9,null,"ZBC04 LESS ICE",72,null,null,null,null,null,null,null,null,null,null,null,null,null,null,null,null,null,null,null,null,null,null,null,null,null,null,null,null,null,null,null,null,null,null,null,null,null,null,null,null,"WT06 1006:SPAGHETTI",1,null,null,null,null,null,null,null,null,null,null,null,null,null,null,null,null,"ZBC17 REMARK - ADD SAL",6]
[null,null,null,null,null,null,null,null,null,null,"ZBR01 TIG BKT",29,null,"ZBC05 MORE ICE",5,null,null,null,null,null,null,null,null,null,null,null,null,null,null,null,null,null,null,null,null,null,null,null,null,null,null,null,null,null,null,null,null,null,null,null,null,null,null,null,null,"ZAB02 1302:NUGGET",2,null,null,null,null,null,null,null,null,null,null,null,null,null,null,null,null,"ZBC18 ADD LEMON",8]
[null,null,null,null,null,null,null,null,null,null,"ZBR02 HEI EX BKT",2,null,"ZBC06 NO ICE",9,null,null,null,null,null,null,null,null,null,null,null,null,null,null,null,null,null,null,null,null,null,null,null,null,null,null,null,null,null,null,null,null,null,null,null,null,null,null,null,null,"ZAB03 1303:CHK WING",1,null,null,null,null,null,null,null,null,null,null,null,null,null,null,null,null,"ZBR01 TIG BKT",12]
[null,null,null,null,null,null,null,null,null,null,"ZBR03 GUI EX BKT",8,null,"ZBC07 LESS SWEET",17,null,null,null,null,null,null,null,null,null,null,null,null,null,null,null,null,null,null,null,null,null,null,null,null,null,null,null,null,null,null,null,null,null,null,null,null,null,null,null,null,"ZAB06 1306:DF WING",3,null,null,null,null,null,null,null,null,null,null,null,null,null,null,null,null,"ZLB01 FRIED",28]
[null,null,null,null,null,null,null,null,null,null,"ZKC17 REMARK - LESS RI",3,null,"ZBC09 NO SWEET",4,null,null,null,null,null,null,null,null,null,null,null,null,null,null,null,null,null,null,null,null,null,null,null,null,null,null,null,null,null,null,null,null,null,null,null,null,null,null,null,null,"ZAB09 1309:MC SPIRAL F",1,null,null,null,null,null,null,null,null,null,null,null,null,null,null,null,null,"ZLB02 GRILLED",12]
[null,null,null,null,null,null,null,null,null,null,"ZZZZZ CUS CANCEL",0,null,"ZBC13 JUG",12,null,null,null,null,null,null,null,null,null,null,null,null,null,null,null,null,null,null,null,null,null,null,null,null,null,null,null,null,null,null,null,null,null,null,null,null,null,null,null,null,"ZAB11 1311:MC HASH BRW",1,null,null,null,null,null,null,null,null,null,null,null,null,null,null,null,null,"ZLB03 BOILED",26]
[null,null,null,null,null,null,null,null,null,null,null,null,null,"ZBC14 BEER GLASS",7,null,null,null,null,null,null,null,null,null,null,null,null,null,null,null,null,null,null,null,null,null,null,null,null,null,null,null,null,null,null,null,null,null,null,null,null,null,null,null,null,"ZBC01 COLD",4,null,null,null,null,null,null,null,null,null,null,null,null,null,null,null,null,"ZZZZZ WRONG COUNT",0]
[null,null,null,null,null,null,null,null,null,null,null,null,null,"ZBC15 ICE BUCKET",13,null,null,null,null,null,null,null,null,null,null,null,null,null,null,null,null,null,null,null,null,null,null,null,null,null,null,null,null,null,null,null,null,null,null,null,null,null,null,null,null,"ZBC02 HOT",3]
[null,null,null,null,null,null,null,null,null,null,null,null,null,"ZBC17 REMARK - NO SUGA",6,null,null,null,null,null,null,null,null,null,null,null,null,null,null,null,null,null,null,null,null,null,null,null,null,null,null,null,null,null,null,null,null,null,null,null,null,null,null,null,null,"ZBC03 WARM",2]
[null,null,null,null,null,null,null,null,null,null,null,null,null,"ZBC18 ADD LEMON",6,null,null,null,null,null,null,null,null,null,null,null,null,null,null,null,null,null,null,null,null,null,null,null,null,null,null,null,null,null,null,null,null,null,null,null,null,null,null,null,null,"ZBC04 LESS ICE",92]
[null,null,null,null,null,null,null,null,null,null,null,null,null,"ZBR01 TIG BKT",39,null,null,null,null,null,null,null,null,null,null,null,null,null,null,null,null,null,null,null,null,null,null,null,null,null,null,null,null,null,null,null,null,null,null,null,null,null,null,null,null,"ZBC06 NO ICE",9]
[null,null,null,null,null,null,null,null,null,null,null,null,null,"ZBR02 HEI EX BKT",3,null,null,null,null,null,null,null,null,null,null,null,null,null,null,null,null,null,null,null,null,null,null,null,null,null,null,null,null,null,null,null,null,null,null,null,null,null,null,null,null,"ZBC07 LESS SWEET",4]
[null,null,null,null,null,null,null,null,null,null,null,null,null,"ZKC06 VEGE ONLY",1,null,null,null,null,null,null,null,null,null,null,null,null,null,null,null,null,null,null,null,null,null,null,null,null,null,null,null,null,null,null,null,null,null,null,null,null,null,null,null,null,"ZBC09 NO SWEET",2]
[null,null,null,null,null,null,null,null,null,null,null,null,null,"ZZZZZ SOLD OUT",0,null,null,null,null,null,null,null,null,null,null,null,null,null,null,null,null,null,null,null,null,null,null,null,null,null,null,null,null,null,null,null,null,null,null,null,null,null,null,null,null,"ZBC13 JUG",5]
[null,null,null,null,null,null,null,null,null,null,null,null,null,null,null,null,null,null,null,null,null,null,null,null,null,null,null,null,null,null,null,null,null,null,null,null,null,null,null,null,null,null,null,null,null,null,null,null,null,null,null,null,null,null,null,"ZBC14 BEER GLASS",30]
[null,null,null,null,null,null,null,null,null,null,null,null,null,null,null,null,null,null,null,null,null,null,null,null,null,null,null,null,null,null,null,null,null,null,null,null,null,null,null,null,null,null,null,null,null,null,null,null,null,null,null,null,null,null,null,"ZBC15 ICE BUCKET",8]
[null,null,null,null,null,null,null,null,null,null,null,null,null,null,null,null,null,null,null,null,null,null,null,null,null,null,null,null,null,null,null,null,null,null,null,null,null,null,null,null,null,null,null,null,null,null,null,null,null,null,null,null,null,null,null,"ZBC17 REMARK - ALAN",4]
[null,null,null,null,null,null,null,null,null,null,null,null,null,null,null,null,null,null,null,null,null,null,null,null,null,null,null,null,null,null,null,null,null,null,null,null,null,null,null,null,null,null,null,null,null,null,null,null,null,null,null,null,null,null,null,"ZBC18 ADD LEMON",12]
[null,null,null,null,null,null,null,null,null,null,null,null,null,null,null,null,null,null,null,null,null,null,null,null,null,null,null,null,null,null,null,null,null,null,null,null,null,null,null,null,null,null,null,null,null,null,null,null,null,null,null,null,null,null,null,"ZBR01 TIG BKT",36]
[null,null,null,null,null,null,null,null,null,null,null,null,null,null,null,null,null,null,null,null,null,null,null,null,null,null,null,null,null,null,null,null,null,null,null,null,null,null,null,null,null,null,null,null,null,null,null,null,null,null,null,null,null,null,null,"ZKC03 LESS SPICY",1]
[null,null,null,null,null,null,null,null,null,null,null,null,null,null,null,null,null,null,null,null,null,null,null,null,null,null,null,null,null,null,null,null,null,null,null,null,null,null,null,null,null,null,null,null,null,null,null,null,null,null,null,null,null,null,null,"ZKC17 REMARK - SLIP",2]
[null,null,null,null,null,null,null,null,null,null,null,null,null,null,null,null,null,null,null,null,null,null,null,null,null,null,null,null,null,null,null,null,null,null,null,null,null,null,null,null,null,null,null,null,null,null,null,null,null,null,null,null,null,null,null,"ZLB01 FRIED",38]
[null,null,null,null,null,null,null,null,null,null,null,null,null,null,null,null,null,null,null,null,null,null,null,null,null,null,null,null,null,null,null,null,null,null,null,null,null,null,null,null,null,null,null,null,null,null,null,null,null,null,null,null,null,null,null,"ZLB02 GRILLED",16]
[null,null,null,null,null,null,null,null,null,null,null,null,null,null,null,null,null,null,null,null,null,null,null,null,null,null,null,null,null,null,null,null,null,null,null,null,null,null,null,null,null,null,null,null,null,null,null,null,null,null,null,null,null,null,null,"ZLB03 BOILED",37]
[null,null,null,null,null,null,null,null,null,null,null,null,null,null,null,null,null,null,null,null,null,null,null,null,null,null,null,null,null,null,null,null,null,null,null,null,null,null,null,null,null,null,null,null,null,null,null,null,null,null,null,null,null,null,null,"ZRM01 REASON - 5001",2]
[null,null,null,null,null,null,null,null,null,null,null,null,null,null,null,null,null,null,null,null,null,null,null,null,null,null,null,null,null,null,null,null,null,null,null,null,null,null,null,null,null,null,null,null,null,null,null,null,null,null,null,null,null,null,null,"ZZZZZ CHG ITEM",0]
[]
[]
[]
[]
[]
[]
[]
[]
[]
[]
[]
[]
[]
[]
[]
[]
[]
[]
[]
[]
[]
[]
[]
[]
[]
[]
[]
[]
[]
[]
[]
[]
[]
[]
[]
[]
[]
[]
[]
[]
[]
[]
[]
[]
[]
[]
[]
[]
[]
[]
[]
[]
[]
[]
[]
[]
[]
[]
[]
[]
[]
[]
[]
[]
[]
[]
[]
[]
[]
[]
[]
[]
[]
[]
[]
[]
[]
[]
[]
[]
[]
[]
[]
[]
[]
[]
[]
[]
[]
[]
[]
[]
[]
[]
[]
[]
[]
[]
[]
[]
[]
[]
[]
[]
[]
[]
[]
[]
[]
[]
[]
[]
[]
[]
[]
[]
[]
[]
[]
[]
[]
[]
[]
[]
[]
[]
[]
[]
[]
[]
[]
[]
[]
[]
[]
[]
[]
[]
[]
[]
[]
[]
[]
[]
[]
[]
[]
[]
[]
[]
[{"$f":"IFERROR(IF(INDIRECT($A$14&ROW())<>\"\",COUNTIF([1]Summary!$B$30:$B$713,INDIRECT($A$14&ROW())),\"\"),\"\")","v":""}]
[{"$f":"IFERROR(IF(INDIRECT($A$14&ROW())<>\"\",COUNTIF([1]Summary!$B$30:$B$713,INDIRECT($A$14&ROW())),\"\"),\"\")","v":""}]
[{"$f":"IFERROR(IF(INDIRECT($A$14&ROW())<>\"\",COUNTIF([1]Summary!$B$30:$B$713,INDIRECT($A$14&ROW())),\"\"),\"\")","v":""}]
[{"$f":"IFERROR(IF(INDIRECT($A$14&ROW())<>\"\",COUNTIF([1]Summary!$B$30:$B$713,INDIRECT($A$14&ROW())),\"\"),\"\")","v":""}]
[{"$f":"IFERROR(IF(INDIRECT($A$14&ROW())<>\"\",COUNTIF([1]Summary!$B$30:$B$713,INDIRECT($A$14&ROW())),\"\"),\"\")","v":""}]
[{"$f":"IFERROR(IF(INDIRECT($A$14&ROW())<>\"\",COUNTIF([1]Summary!$B$30:$B$713,INDIRECT($A$14&ROW())),\"\"),\"\")","v":""}]
[{"$f":"IFERROR(IF(INDIRECT($A$14&ROW())<>\"\",COUNTIF([1]Summary!$B$30:$B$713,INDIRECT($A$14&ROW())),\"\"),\"\")","v":""}]
[{"$f":"IFERROR(IF(INDIRECT($A$14&ROW())<>\"\",COUNTIF([1]Summary!$B$30:$B$713,INDIRECT($A$14&ROW())),\"\"),\"\")","v":""}]
[{"$f":"IFERROR(IF(INDIRECT($A$14&ROW())<>\"\",COUNTIF([1]Summary!$B$30:$B$713,INDIRECT($A$14&ROW())),\"\"),\"\")","v":""}]
[{"$f":"IFERROR(IF(INDIRECT($A$14&ROW())<>\"\",COUNTIF([1]Summary!$B$30:$B$713,INDIRECT($A$14&ROW())),\"\"),\"\")","v":""}]
[{"$f":"IFERROR(IF(INDIRECT($A$14&ROW())<>\"\",COUNTIF([1]Summary!$B$30:$B$713,INDIRECT($A$14&ROW())),\"\"),\"\")","v":""}]
[{"$f":"IFERROR(IF(INDIRECT($A$14&ROW())<>\"\",COUNTIF([1]Summary!$B$30:$B$713,INDIRECT($A$14&ROW())),\"\"),\"\")","v":""}]
[{"$f":"IFERROR(IF(INDIRECT($A$14&ROW())<>\"\",COUNTIF([1]Summary!$B$30:$B$713,INDIRECT($A$14&ROW())),\"\"),\"\")","v":""}]
[{"$f":"IFERROR(IF(INDIRECT($A$14&ROW())<>\"\",COUNTIF([1]Summary!$B$30:$B$713,INDIRECT($A$14&ROW())),\"\"),\"\")","v":""}]
[{"$f":"IFERROR(IF(INDIRECT($A$14&ROW())<>\"\",COUNTIF([1]Summary!$B$30:$B$713,INDIRECT($A$14&ROW())),\"\"),\"\")","v":""}]
[{"$f":"IFERROR(IF(INDIRECT($A$14&ROW())<>\"\",COUNTIF([1]Summary!$B$30:$B$713,INDIRECT($A$14&ROW())),\"\"),\"\")","v":""}]
[{"$f":"IFERROR(IF(INDIRECT($A$14&ROW())<>\"\",COUNTIF([1]Summary!$B$30:$B$713,INDIRECT($A$14&ROW())),\"\"),\"\")","v":""}]
[{"$f":"IFERROR(IF(INDIRECT($A$14&ROW())<>\"\",COUNTIF([1]Summary!$B$30:$B$713,INDIRECT($A$14&ROW())),\"\"),\"\")","v":""}]
[{"$f":"IFERROR(IF(INDIRECT($A$14&ROW())<>\"\",COUNTIF([1]Summary!$B$30:$B$713,INDIRECT($A$14&ROW())),\"\"),\"\")","v":""}]
[{"$f":"IFERROR(IF(INDIRECT($A$14&ROW())<>\"\",COUNTIF([1]Summary!$B$30:$B$713,INDIRECT($A$14&ROW())),\"\"),\"\")","v":""}]
[{"$f":"IFERROR(IF(INDIRECT($A$14&ROW())<>\"\",COUNTIF([1]Summary!$B$30:$B$713,INDIRECT($A$14&ROW())),\"\"),\"\")","v":""}]
[{"$f":"IFERROR(IF(INDIRECT($A$14&ROW())<>\"\",COUNTIF([1]Summary!$B$30:$B$713,INDIRECT($A$14&ROW())),\"\"),\"\")","v":""}]
[{"$f":"IFERROR(IF(INDIRECT($A$14&ROW())<>\"\",COUNTIF([1]Summary!$B$30:$B$713,INDIRECT($A$14&ROW())),\"\"),\"\")","v":""}]
[{"$f":"IFERROR(IF(INDIRECT($A$14&ROW())<>\"\",COUNTIF([1]Summary!$B$30:$B$713,INDIRECT($A$14&ROW())),\"\"),\"\")","v":""}]
[{"$f":"IFERROR(IF(INDIRECT($A$14&ROW())<>\"\",COUNTIF([1]Summary!$B$30:$B$713,INDIRECT($A$14&ROW())),\"\"),\"\")","v":""}]
[{"$f":"IFERROR(IF(INDIRECT($A$14&ROW())<>\"\",COUNTIF([1]Summary!$B$30:$B$713,INDIRECT($A$14&ROW())),\"\"),\"\")","v":""}]
[{"$f":"IFERROR(IF(INDIRECT($A$14&ROW())<>\"\",COUNTIF([1]Summary!$B$30:$B$713,INDIRECT($A$14&ROW())),\"\"),\"\")","v":""}]
[{"$f":"IFERROR(IF(INDIRECT($A$14&ROW())<>\"\",COUNTIF([1]Summary!$B$30:$B$713,INDIRECT($A$14&ROW())),\"\"),\"\")","v":""}]
[{"$f":"IFERROR(IF(INDIRECT($A$14&ROW())<>\"\",COUNTIF([1]Summary!$B$30:$B$713,INDIRECT($A$14&ROW())),\"\"),\"\")","v":""}]
[{"$f":"IFERROR(IF(INDIRECT($A$14&ROW())<>\"\",COUNTIF([1]Summary!$B$30:$B$713,INDIRECT($A$14&ROW())),\"\"),\"\")","v":""}]
[{"$f":"IFERROR(IF(INDIRECT($A$14&ROW())<>\"\",COUNTIF([1]Summary!$B$30:$B$713,INDIRECT($A$14&ROW())),\"\"),\"\")","v":""}]
[{"$f":"IFERROR(IF(INDIRECT($A$14&ROW())<>\"\",COUNTIF([1]Summary!$B$30:$B$713,INDIRECT($A$14&ROW())),\"\"),\"\")","v":""}]
[{"$f":"IFERROR(IF(INDIRECT($A$14&ROW())<>\"\",COUNTIF([1]Summary!$B$30:$B$713,INDIRECT($A$14&ROW())),\"\"),\"\")","v":""}]
[{"$f":"IFERROR(IF(INDIRECT($A$14&ROW())<>\"\",COUNTIF([1]Summary!$B$30:$B$713,INDIRECT($A$14&ROW())),\"\"),\"\")","v":""}]
[{"$f":"IFERROR(IF(INDIRECT($A$14&ROW())<>\"\",COUNTIF([1]Summary!$B$30:$B$713,INDIRECT($A$14&ROW())),\"\"),\"\")","v":""}]
[{"$f":"IFERROR(IF(INDIRECT($A$14&ROW())<>\"\",COUNTIF([1]Summary!$B$30:$B$713,INDIRECT($A$14&ROW())),\"\"),\"\")","v":""}]
[{"$f":"IFERROR(IF(INDIRECT($A$14&ROW())<>\"\",COUNTIF([1]Summary!$B$30:$B$713,INDIRECT($A$14&ROW())),\"\"),\"\")","v":""}]
[{"$f":"IFERROR(IF(INDIRECT($A$14&ROW())<>\"\",COUNTIF([1]Summary!$B$30:$B$713,INDIRECT($A$14&ROW())),\"\"),\"\")","v":""}]
[{"$f":"IFERROR(IF(INDIRECT($A$14&ROW())<>\"\",COUNTIF([1]Summary!$B$30:$B$713,INDIRECT($A$14&ROW())),\"\"),\"\")","v":""}]
[{"$f":"IFERROR(IF(INDIRECT($A$14&ROW())<>\"\",COUNTIF([1]Summary!$B$30:$B$713,INDIRECT($A$14&ROW())),\"\"),\"\")","v":""}]
[{"$f":"IFERROR(IF(INDIRECT($A$14&ROW())<>\"\",COUNTIF([1]Summary!$B$30:$B$713,INDIRECT($A$14&ROW())),\"\"),\"\")","v":""}]
[{"$f":"IFERROR(IF(INDIRECT($A$14&ROW())<>\"\",COUNTIF([1]Summary!$B$30:$B$713,INDIRECT($A$14&ROW())),\"\"),\"\")","v":""}]
[{"$f":"IFERROR(IF(INDIRECT($A$14&ROW())<>\"\",COUNTIF([1]Summary!$B$30:$B$713,INDIRECT($A$14&ROW())),\"\"),\"\")","v":""}]
[{"$f":"IFERROR(IF(INDIRECT($A$14&ROW())<>\"\",COUNTIF([1]Summary!$B$30:$B$713,INDIRECT($A$14&ROW())),\"\"),\"\")","v":""}]
[{"$f":"IFERROR(IF(INDIRECT($A$14&ROW())<>\"\",COUNTIF([1]Summary!$B$30:$B$713,INDIRECT($A$14&ROW())),\"\"),\"\")","v":""}]
[{"$f":"IFERROR(IF(INDIRECT($A$14&ROW())<>\"\",COUNTIF([1]Summary!$B$30:$B$713,INDIRECT($A$14&ROW())),\"\"),\"\")","v":""}]
[{"$f":"IFERROR(IF(INDIRECT($A$14&ROW())<>\"\",COUNTIF([1]Summary!$B$30:$B$713,INDIRECT($A$14&ROW())),\"\"),\"\")","v":""}]
[{"$f":"IFERROR(IF(INDIRECT($A$14&ROW())<>\"\",COUNTIF([1]Summary!$B$30:$B$713,INDIRECT($A$14&ROW())),\"\"),\"\")","v":""}]
[{"$f":"IFERROR(IF(INDIRECT($A$14&ROW())<>\"\",COUNTIF([1]Summary!$B$30:$B$713,INDIRECT($A$14&ROW())),\"\"),\"\")","v":""}]
[{"$f":"IFERROR(IF(INDIRECT($A$14&ROW())<>\"\",COUNTIF([1]Summary!$B$30:$B$713,INDIRECT($A$14&ROW())),\"\"),\"\")","v":""}]
[{"$f":"IFERROR(IF(INDIRECT($A$14&ROW())<>\"\",COUNTIF([1]Summary!$B$30:$B$713,INDIRECT($A$14&ROW())),\"\"),\"\")","v":""}]
[{"$f":"IFERROR(IF(INDIRECT($A$14&ROW())<>\"\",COUNTIF([1]Summary!$B$30:$B$713,INDIRECT($A$14&ROW())),\"\"),\"\")","v":""}]
[{"$f":"IFERROR(IF(INDIRECT($A$14&ROW())<>\"\",COUNTIF([1]Summary!$B$30:$B$713,INDIRECT($A$14&ROW())),\"\"),\"\")","v":""}]
[{"$f":"IFERROR(IF(INDIRECT($A$14&ROW())<>\"\",COUNTIF([1]Summary!$B$30:$B$713,INDIRECT($A$14&ROW())),\"\"),\"\")","v":""}]
[{"$f":"IFERROR(IF(INDIRECT($A$14&ROW())<>\"\",COUNTIF([1]Summary!$B$30:$B$713,INDIRECT($A$14&ROW())),\"\"),\"\")","v":""}]
[{"$f":"IFERROR(IF(INDIRECT($A$14&ROW())<>\"\",COUNTIF([1]Summary!$B$30:$B$713,INDIRECT($A$14&ROW())),\"\"),\"\")","v":""}]
[{"$f":"IFERROR(IF(INDIRECT($A$14&ROW())<>\"\",COUNTIF([1]Summary!$B$30:$B$713,INDIRECT($A$14&ROW())),\"\"),\"\")","v":""}]
[{"$f":"IFERROR(IF(INDIRECT($A$14&ROW())<>\"\",COUNTIF([1]Summary!$B$30:$B$713,INDIRECT($A$14&ROW())),\"\"),\"\")","v":""}]
[{"$f":"IFERROR(IF(INDIRECT($A$14&ROW())<>\"\",COUNTIF([1]Summary!$B$30:$B$713,INDIRECT($A$14&ROW())),\"\"),\"\")","v":""}]
[{"$f":"IFERROR(IF(INDIRECT($A$14&ROW())<>\"\",COUNTIF([1]Summary!$B$30:$B$713,INDIRECT($A$14&ROW())),\"\"),\"\")","v":""}]
[{"$f":"IFERROR(IF(INDIRECT($A$14&ROW())<>\"\",COUNTIF([1]Summary!$B$30:$B$713,INDIRECT($A$14&ROW())),\"\"),\"\")","v":""}]
[{"$f":"IFERROR(IF(INDIRECT($A$14&ROW())<>\"\",COUNTIF([1]Summary!$B$30:$B$713,INDIRECT($A$14&ROW())),\"\"),\"\")","v":""}]
[{"$f":"IFERROR(IF(INDIRECT($A$14&ROW())<>\"\",COUNTIF([1]Summary!$B$30:$B$713,INDIRECT($A$14&ROW())),\"\"),\"\")","v":""}]
[{"$f":"IFERROR(IF(INDIRECT($A$14&ROW())<>\"\",COUNTIF([1]Summary!$B$30:$B$713,INDIRECT($A$14&ROW())),\"\"),\"\")","v":""}]
[{"$f":"IFERROR(IF(INDIRECT($A$14&ROW())<>\"\",COUNTIF([1]Summary!$B$30:$B$713,INDIRECT($A$14&ROW())),\"\"),\"\")","v":""}]
[{"$f":"IFERROR(IF(INDIRECT($A$14&ROW())<>\"\",COUNTIF([1]Summary!$B$30:$B$713,INDIRECT($A$14&ROW())),\"\"),\"\")","v":""}]
[{"$f":"IFERROR(IF(INDIRECT($A$14&ROW())<>\"\",COUNTIF([1]Summary!$B$30:$B$713,INDIRECT($A$14&ROW())),\"\"),\"\")","v":""}]
[{"$f":"IFERROR(IF(INDIRECT($A$14&ROW())<>\"\",COUNTIF([1]Summary!$B$30:$B$713,INDIRECT($A$14&ROW())),\"\"),\"\")","v":""}]
[{"$f":"IFERROR(IF(INDIRECT($A$14&ROW())<>\"\",COUNTIF([1]Summary!$B$30:$B$713,INDIRECT($A$14&ROW())),\"\"),\"\")","v":""}]
[{"$f":"IFERROR(IF(INDIRECT($A$14&ROW())<>\"\",COUNTIF([1]Summary!$B$30:$B$713,INDIRECT($A$14&ROW())),\"\"),\"\")","v":""}]
[{"$f":"IFERROR(IF(INDIRECT($A$14&ROW())<>\"\",COUNTIF([1]Summary!$B$30:$B$713,INDIRECT($A$14&ROW())),\"\"),\"\")","v":""}]
[{"$f":"IFERROR(IF(INDIRECT($A$14&ROW())<>\"\",COUNTIF([1]Summary!$B$30:$B$713,INDIRECT($A$14&ROW())),\"\"),\"\")","v":""}]
[{"$f":"IFERROR(IF(INDIRECT($A$14&ROW())<>\"\",COUNTIF([1]Summary!$B$30:$B$713,INDIRECT($A$14&ROW())),\"\"),\"\")","v":""}]
[{"$f":"IFERROR(IF(INDIRECT($A$14&ROW())<>\"\",COUNTIF([1]Summary!$B$30:$B$713,INDIRECT($A$14&ROW())),\"\"),\"\")","v":""}]
[{"$f":"IFERROR(IF(INDIRECT($A$14&ROW())<>\"\",COUNTIF([1]Summary!$B$30:$B$713,INDIRECT($A$14&ROW())),\"\"),\"\")","v":""}]
[{"$f":"IFERROR(IF(INDIRECT($A$14&ROW())<>\"\",COUNTIF([1]Summary!$B$30:$B$713,INDIRECT($A$14&ROW())),\"\"),\"\")","v":""}]
[{"$f":"IFERROR(IF(INDIRECT($A$14&ROW())<>\"\",COUNTIF([1]Summary!$B$30:$B$713,INDIRECT($A$14&ROW())),\"\"),\"\")","v":""}]
[{"$f":"IFERROR(IF(INDIRECT($A$14&ROW())<>\"\",COUNTIF([1]Summary!$B$30:$B$713,INDIRECT($A$14&ROW())),\"\"),\"\")","v":""}]
[{"$f":"IFERROR(IF(INDIRECT($A$14&ROW())<>\"\",COUNTIF([1]Summary!$B$30:$B$713,INDIRECT($A$14&ROW())),\"\"),\"\")","v":""}]
[{"$f":"IFERROR(IF(INDIRECT($A$14&ROW())<>\"\",COUNTIF([1]Summary!$B$30:$B$713,INDIRECT($A$14&ROW())),\"\"),\"\")","v":""}]
[{"$f":"IFERROR(IF(INDIRECT($A$14&ROW())<>\"\",COUNTIF([1]Summary!$B$30:$B$713,INDIRECT($A$14&ROW())),\"\"),\"\")","v":""}]
[{"$f":"IFERROR(IF(INDIRECT($A$14&ROW())<>\"\",COUNTIF([1]Summary!$B$30:$B$713,INDIRECT($A$14&ROW())),\"\"),\"\")","v":""}]
[{"$f":"IFERROR(IF(INDIRECT($A$14&ROW())<>\"\",COUNTIF([1]Summary!$B$30:$B$713,INDIRECT($A$14&ROW())),\"\"),\"\")","v":""}]
[{"$f":"IFERROR(IF(INDIRECT($A$14&ROW())<>\"\",COUNTIF([1]Summary!$B$30:$B$713,INDIRECT($A$14&ROW())),\"\"),\"\")","v":""}]
[{"$f":"IFERROR(IF(INDIRECT($A$14&ROW())<>\"\",COUNTIF([1]Summary!$B$30:$B$713,INDIRECT($A$14&ROW())),\"\"),\"\")","v":""}]
[{"$f":"IFERROR(IF(INDIRECT($A$14&ROW())<>\"\",COUNTIF([1]Summary!$B$30:$B$713,INDIRECT($A$14&ROW())),\"\"),\"\")","v":""}]
[{"$f":"IFERROR(IF(INDIRECT($A$14&ROW())<>\"\",COUNTIF([1]Summary!$B$30:$B$713,INDIRECT($A$14&ROW())),\"\"),\"\")","v":""}]
[{"$f":"IFERROR(IF(INDIRECT($A$14&ROW())<>\"\",COUNTIF([1]Summary!$B$30:$B$713,INDIRECT($A$14&ROW())),\"\"),\"\")","v":""}]
[{"$f":"IFERROR(IF(INDIRECT($A$14&ROW())<>\"\",COUNTIF([1]Summary!$B$30:$B$713,INDIRECT($A$14&ROW())),\"\"),\"\")","v":""}]
[{"$f":"IFERROR(IF(INDIRECT($A$14&ROW())<>\"\",COUNTIF([1]Summary!$B$30:$B$713,INDIRECT($A$14&ROW())),\"\"),\"\")","v":""}]
[{"$f":"IFERROR(IF(INDIRECT($A$14&ROW())<>\"\",COUNTIF([1]Summary!$B$30:$B$713,INDIRECT($A$14&ROW())),\"\"),\"\")","v":""}]
[{"$f":"IFERROR(IF(INDIRECT($A$14&ROW())<>\"\",COUNTIF([1]Summary!$B$30:$B$713,INDIRECT($A$14&ROW())),\"\"),\"\")","v":""}]
[{"$f":"IFERROR(IF(INDIRECT($A$14&ROW())<>\"\",COUNTIF([1]Summary!$B$30:$B$713,INDIRECT($A$14&ROW())),\"\"),\"\")","v":""}]
[{"$f":"IFERROR(IF(INDIRECT($A$14&ROW())<>\"\",COUNTIF([1]Summary!$B$30:$B$713,INDIRECT($A$14&ROW())),\"\"),\"\")","v":""}]
[{"$f":"IFERROR(IF(INDIRECT($A$14&ROW())<>\"\",COUNTIF([1]Summary!$B$30:$B$713,INDIRECT($A$14&ROW())),\"\"),\"\")","v":""}]
[{"$f":"IFERROR(IF(INDIRECT($A$14&ROW())<>\"\",COUNTIF([1]Summary!$B$30:$B$713,INDIRECT($A$14&ROW())),\"\"),\"\")","v":""}]
[{"$f":"IFERROR(IF(INDIRECT($A$14&ROW())<>\"\",COUNTIF([1]Summary!$B$30:$B$713,INDIRECT($A$14&ROW())),\"\"),\"\")","v":""}]
[{"$f":"IFERROR(IF(INDIRECT($A$14&ROW())<>\"\",COUNTIF([1]Summary!$B$30:$B$713,INDIRECT($A$14&ROW())),\"\"),\"\")","v":""}]
[{"$f":"IFERROR(IF(INDIRECT($A$14&ROW())<>\"\",COUNTIF([1]Summary!$B$30:$B$713,INDIRECT($A$14&ROW())),\"\"),\"\")","v":""}]
[{"$f":"IFERROR(IF(INDIRECT($A$14&ROW())<>\"\",COUNTIF([1]Summary!$B$30:$B$713,INDIRECT($A$14&ROW())),\"\"),\"\")","v":""}]
[{"$f":"IFERROR(IF(INDIRECT($A$14&ROW())<>\"\",COUNTIF([1]Summary!$B$30:$B$713,INDIRECT($A$14&ROW())),\"\"),\"\")","v":""}]
[{"$f":"IFERROR(IF(INDIRECT($A$14&ROW())<>\"\",COUNTIF([1]Summary!$B$30:$B$713,INDIRECT($A$14&ROW())),\"\"),\"\")","v":""}]
[{"$f":"IFERROR(IF(INDIRECT($A$14&ROW())<>\"\",COUNTIF([1]Summary!$B$30:$B$713,INDIRECT($A$14&ROW())),\"\"),\"\")","v":""}]
[{"$f":"IFERROR(IF(INDIRECT($A$14&ROW())<>\"\",COUNTIF([1]Summary!$B$30:$B$713,INDIRECT($A$14&ROW())),\"\"),\"\")","v":""}]
[{"$f":"IFERROR(IF(INDIRECT($A$14&ROW())<>\"\",COUNTIF([1]Summary!$B$30:$B$713,INDIRECT($A$14&ROW())),\"\"),\"\")","v":""}]
[{"$f":"IFERROR(IF(INDIRECT($A$14&ROW())<>\"\",COUNTIF([1]Summary!$B$30:$B$713,INDIRECT($A$14&ROW())),\"\"),\"\")","v":""}]
[{"$f":"IFERROR(IF(INDIRECT($A$14&ROW())<>\"\",COUNTIF([1]Summary!$B$30:$B$713,INDIRECT($A$14&ROW())),\"\"),\"\")","v":""}]
[{"$f":"IFERROR(IF(INDIRECT($A$14&ROW())<>\"\",COUNTIF([1]Summary!$B$30:$B$713,INDIRECT($A$14&ROW())),\"\"),\"\")","v":""}]
[{"$f":"IFERROR(IF(INDIRECT($A$14&ROW())<>\"\",COUNTIF([1]Summary!$B$30:$B$713,INDIRECT($A$14&ROW())),\"\"),\"\")","v":""}]
[{"$f":"IFERROR(IF(INDIRECT($A$14&ROW())<>\"\",COUNTIF([1]Summary!$B$30:$B$713,INDIRECT($A$14&ROW())),\"\"),\"\")","v":""}]
[{"$f":"IFERROR(IF(INDIRECT($A$14&ROW())<>\"\",COUNTIF([1]Summary!$B$30:$B$713,INDIRECT($A$14&ROW())),\"\"),\"\")","v":""}]
[{"$f":"IFERROR(IF(INDIRECT($A$14&ROW())<>\"\",COUNTIF([1]Summary!$B$30:$B$713,INDIRECT($A$14&ROW())),\"\"),\"\")","v":""}]
[{"$f":"IFERROR(IF(INDIRECT($A$14&ROW())<>\"\",COUNTIF([1]Summary!$B$30:$B$713,INDIRECT($A$14&ROW())),\"\"),\"\")","v":""}]
[{"$f":"IFERROR(IF(INDIRECT($A$14&ROW())<>\"\",COUNTIF([1]Summary!$B$30:$B$713,INDIRECT($A$14&ROW())),\"\"),\"\")","v":""}]
[{"$f":"IFERROR(IF(INDIRECT($A$14&ROW())<>\"\",COUNTIF([1]Summary!$B$30:$B$713,INDIRECT($A$14&ROW())),\"\"),\"\")","v":""}]
[{"$f":"IFERROR(IF(INDIRECT($A$14&ROW())<>\"\",COUNTIF([1]Summary!$B$30:$B$713,INDIRECT($A$14&ROW())),\"\"),\"\")","v":""}]
[{"$f":"IFERROR(IF(INDIRECT($A$14&ROW())<>\"\",COUNTIF([1]Summary!$B$30:$B$713,INDIRECT($A$14&ROW())),\"\"),\"\")","v":""}]
[{"$f":"IFERROR(IF(INDIRECT($A$14&ROW())<>\"\",COUNTIF([1]Summary!$B$30:$B$713,INDIRECT($A$14&ROW())),\"\"),\"\")","v":""}]
[{"$f":"IFERROR(IF(INDIRECT($A$14&ROW())<>\"\",COUNTIF([1]Summary!$B$30:$B$713,INDIRECT($A$14&ROW())),\"\"),\"\")","v":""}]
[{"$f":"IFERROR(IF(INDIRECT($A$14&ROW())<>\"\",COUNTIF([1]Summary!$B$30:$B$713,INDIRECT($A$14&ROW())),\"\"),\"\")","v":""}]
[{"$f":"IFERROR(IF(INDIRECT($A$14&ROW())<>\"\",COUNTIF([1]Summary!$B$30:$B$713,INDIRECT($A$14&ROW())),\"\"),\"\")","v":""}]
[{"$f":"IFERROR(IF(INDIRECT($A$14&ROW())<>\"\",COUNTIF([1]Summary!$B$30:$B$713,INDIRECT($A$14&ROW())),\"\"),\"\")","v":""}]
[{"$f":"IFERROR(IF(INDIRECT($A$14&ROW())<>\"\",COUNTIF([1]Summary!$B$30:$B$713,INDIRECT($A$14&ROW())),\"\"),\"\")","v":""}]
[{"$f":"IFERROR(IF(INDIRECT($A$14&ROW())<>\"\",COUNTIF([1]Summary!$B$30:$B$713,INDIRECT($A$14&ROW())),\"\"),\"\")","v":""}]
[{"$f":"IFERROR(IF(INDIRECT($A$14&ROW())<>\"\",COUNTIF([1]Summary!$B$30:$B$713,INDIRECT($A$14&ROW())),\"\"),\"\")","v":""}]
[{"$f":"IFERROR(IF(INDIRECT($A$14&ROW())<>\"\",COUNTIF([1]Summary!$B$30:$B$713,INDIRECT($A$14&ROW())),\"\"),\"\")","v":""}]
[{"$f":"IFERROR(IF(INDIRECT($A$14&ROW())<>\"\",COUNTIF([1]Summary!$B$30:$B$713,INDIRECT($A$14&ROW())),\"\"),\"\")","v":""}]
[{"$f":"IFERROR(IF(INDIRECT($A$14&ROW())<>\"\",COUNTIF([1]Summary!$B$30:$B$713,INDIRECT($A$14&ROW())),\"\"),\"\")","v":""}]
[{"$f":"IFERROR(IF(INDIRECT($A$14&ROW())<>\"\",COUNTIF([1]Summary!$B$30:$B$713,INDIRECT($A$14&ROW())),\"\"),\"\")","v":""}]
[{"$f":"IFERROR(IF(INDIRECT($A$14&ROW())<>\"\",COUNTIF([1]Summary!$B$30:$B$713,INDIRECT($A$14&ROW())),\"\"),\"\")","v":""}]
[{"$f":"IFERROR(IF(INDIRECT($A$14&ROW())<>\"\",COUNTIF([1]Summary!$B$30:$B$713,INDIRECT($A$14&ROW())),\"\"),\"\")","v":""}]
[{"$f":"IFERROR(IF(INDIRECT($A$14&ROW())<>\"\",COUNTIF([1]Summary!$B$30:$B$713,INDIRECT($A$14&ROW())),\"\"),\"\")","v":""}]
[{"$f":"IFERROR(IF(INDIRECT($A$14&ROW())<>\"\",COUNTIF([1]Summary!$B$30:$B$713,INDIRECT($A$14&ROW())),\"\"),\"\")","v":""}]
[{"$f":"IFERROR(IF(INDIRECT($A$14&ROW())<>\"\",COUNTIF([1]Summary!$B$30:$B$713,INDIRECT($A$14&ROW())),\"\"),\"\")","v":""}]
[{"$f":"IFERROR(IF(INDIRECT($A$14&ROW())<>\"\",COUNTIF([1]Summary!$B$30:$B$713,INDIRECT($A$14&ROW())),\"\"),\"\")","v":""}]
[{"$f":"IFERROR(IF(INDIRECT($A$14&ROW())<>\"\",COUNTIF([1]Summary!$B$30:$B$713,INDIRECT($A$14&ROW())),\"\"),\"\")","v":""}]
[{"$f":"IFERROR(IF(INDIRECT($A$14&ROW())<>\"\",COUNTIF([1]Summary!$B$30:$B$713,INDIRECT($A$14&ROW())),\"\"),\"\")","v":""}]
[{"$f":"IFERROR(IF(INDIRECT($A$14&ROW())<>\"\",COUNTIF([1]Summary!$B$30:$B$713,INDIRECT($A$14&ROW())),\"\"),\"\")","v":""}]
[{"$f":"IFERROR(IF(INDIRECT($A$14&ROW())<>\"\",COUNTIF([1]Summary!$B$30:$B$713,INDIRECT($A$14&ROW())),\"\"),\"\")","v":""}]
[{"$f":"IFERROR(IF(INDIRECT($A$14&ROW())<>\"\",COUNTIF([1]Summary!$B$30:$B$713,INDIRECT($A$14&ROW())),\"\"),\"\")","v":""}]
[{"$f":"IFERROR(IF(INDIRECT($A$14&ROW())<>\"\",COUNTIF([1]Summary!$B$30:$B$713,INDIRECT($A$14&ROW())),\"\"),\"\")","v":""}]
[{"$f":"IFERROR(IF(INDIRECT($A$14&ROW())<>\"\",COUNTIF([1]Summary!$B$30:$B$713,INDIRECT($A$14&ROW())),\"\"),\"\")","v":""}]
[{"$f":"IFERROR(IF(INDIRECT($A$14&ROW())<>\"\",COUNTIF([1]Summary!$B$30:$B$713,INDIRECT($A$14&ROW())),\"\"),\"\")","v":""}]
[{"$f":"IFERROR(IF(INDIRECT($A$14&ROW())<>\"\",COUNTIF([1]Summary!$B$30:$B$713,INDIRECT($A$14&ROW())),\"\"),\"\")","v":""}]
[{"$f":"IFERROR(IF(INDIRECT($A$14&ROW())<>\"\",COUNTIF([1]Summary!$B$30:$B$713,INDIRECT($A$14&ROW())),\"\"),\"\")","v":""}]
[{"$f":"IFERROR(IF(INDIRECT($A$14&ROW())<>\"\",COUNTIF([1]Summary!$B$30:$B$713,INDIRECT($A$14&ROW())),\"\"),\"\")","v":""}]
[{"$f":"IFERROR(IF(INDIRECT($A$14&ROW())<>\"\",COUNTIF([1]Summary!$B$30:$B$713,INDIRECT($A$14&ROW())),\"\"),\"\")","v":""}]
[{"$f":"IFERROR(IF(INDIRECT($A$14&ROW())<>\"\",COUNTIF([1]Summary!$B$30:$B$713,INDIRECT($A$14&ROW())),\"\"),\"\")","v":""}]
[{"$f":"IFERROR(IF(INDIRECT($A$14&ROW())<>\"\",COUNTIF([1]Summary!$B$30:$B$713,INDIRECT($A$14&ROW())),\"\"),\"\")","v":""}]
[{"$f":"IFERROR(IF(INDIRECT($A$14&ROW())<>\"\",COUNTIF([1]Summary!$B$30:$B$713,INDIRECT($A$14&ROW())),\"\"),\"\")","v":""}]
[{"$f":"IFERROR(IF(INDIRECT($A$14&ROW())<>\"\",COUNTIF([1]Summary!$B$30:$B$713,INDIRECT($A$14&ROW())),\"\"),\"\")","v":""}]
[{"$f":"IFERROR(IF(INDIRECT($A$14&ROW())<>\"\",COUNTIF([1]Summary!$B$30:$B$713,INDIRECT($A$14&ROW())),\"\"),\"\")","v":""}]
[{"$f":"IFERROR(IF(INDIRECT($A$14&ROW())<>\"\",COUNTIF([1]Summary!$B$30:$B$713,INDIRECT($A$14&ROW())),\"\"),\"\")","v":""}]
[{"$f":"IFERROR(IF(INDIRECT($A$14&ROW())<>\"\",COUNTIF([1]Summary!$B$30:$B$713,INDIRECT($A$14&ROW())),\"\"),\"\")","v":""}]
[{"$f":"IFERROR(IF(INDIRECT($A$14&ROW())<>\"\",COUNTIF([1]Summary!$B$30:$B$713,INDIRECT($A$14&ROW())),\"\"),\"\")","v":""}]
[{"$f":"IFERROR(IF(INDIRECT($A$14&ROW())<>\"\",COUNTIF([1]Summary!$B$30:$B$713,INDIRECT($A$14&ROW())),\"\"),\"\")","v":""}]
[{"$f":"IFERROR(IF(INDIRECT($A$14&ROW())<>\"\",COUNTIF([1]Summary!$B$30:$B$713,INDIRECT($A$14&ROW())),\"\"),\"\")","v":""}]
[{"$f":"IFERROR(IF(INDIRECT($A$14&ROW())<>\"\",COUNTIF([1]Summary!$B$30:$B$713,INDIRECT($A$14&ROW())),\"\"),\"\")","v":""}]
[{"$f":"IFERROR(IF(INDIRECT($A$14&ROW())<>\"\",COUNTIF([1]Summary!$B$30:$B$713,INDIRECT($A$14&ROW())),\"\"),\"\")","v":""}]
[{"$f":"IFERROR(IF(INDIRECT($A$14&ROW())<>\"\",COUNTIF([1]Summary!$B$30:$B$713,INDIRECT($A$14&ROW())),\"\"),\"\")","v":""}]
[{"$f":"IFERROR(IF(INDIRECT($A$14&ROW())<>\"\",COUNTIF([1]Summary!$B$30:$B$713,INDIRECT($A$14&ROW())),\"\"),\"\")","v":""}]
[{"$f":"IFERROR(IF(INDIRECT($A$14&ROW())<>\"\",COUNTIF([1]Summary!$B$30:$B$713,INDIRECT($A$14&ROW())),\"\"),\"\")","v":""}]
[{"$f":"IFERROR(IF(INDIRECT($A$14&ROW())<>\"\",COUNTIF([1]Summary!$B$30:$B$713,INDIRECT($A$14&ROW())),\"\"),\"\")","v":""}]
[{"$f":"IFERROR(IF(INDIRECT($A$14&ROW())<>\"\",COUNTIF([1]Summary!$B$30:$B$713,INDIRECT($A$14&ROW())),\"\"),\"\")","v":""}]
[{"$f":"IFERROR(IF(INDIRECT($A$14&ROW())<>\"\",COUNTIF([1]Summary!$B$30:$B$713,INDIRECT($A$14&ROW())),\"\"),\"\")","v":""}]
[{"$f":"IFERROR(IF(INDIRECT($A$14&ROW())<>\"\",COUNTIF([1]Summary!$B$30:$B$713,INDIRECT($A$14&ROW())),\"\"),\"\")","v":""}]
[{"$f":"IFERROR(IF(INDIRECT($A$14&ROW())<>\"\",COUNTIF([1]Summary!$B$30:$B$713,INDIRECT($A$14&ROW())),\"\"),\"\")","v":""}]
[{"$f":"IFERROR(IF(INDIRECT($A$14&ROW())<>\"\",COUNTIF([1]Summary!$B$30:$B$713,INDIRECT($A$14&ROW())),\"\"),\"\")","v":""}]
[{"$f":"IFERROR(IF(INDIRECT($A$14&ROW())<>\"\",COUNTIF([1]Summary!$B$30:$B$713,INDIRECT($A$14&ROW())),\"\"),\"\")","v":""}]
[{"$f":"IFERROR(IF(INDIRECT($A$14&ROW())<>\"\",COUNTIF([1]Summary!$B$30:$B$713,INDIRECT($A$14&ROW())),\"\"),\"\")","v":""}]
[{"$f":"IFERROR(IF(INDIRECT($A$14&ROW())<>\"\",COUNTIF([1]Summary!$B$30:$B$713,INDIRECT($A$14&ROW())),\"\"),\"\")","v":""}]
[{"$f":"IFERROR(IF(INDIRECT($A$14&ROW())<>\"\",COUNTIF([1]Summary!$B$30:$B$713,INDIRECT($A$14&ROW())),\"\"),\"\")","v":""}]
[{"$f":"IFERROR(IF(INDIRECT($A$14&ROW())<>\"\",COUNTIF([1]Summary!$B$30:$B$713,INDIRECT($A$14&ROW())),\"\"),\"\")","v":""}]
[{"$f":"IFERROR(IF(INDIRECT($A$14&ROW())<>\"\",COUNTIF([1]Summary!$B$30:$B$713,INDIRECT($A$14&ROW())),\"\"),\"\")","v":""}]
[{"$f":"IFERROR(IF(INDIRECT($A$14&ROW())<>\"\",COUNTIF([1]Summary!$B$30:$B$713,INDIRECT($A$14&ROW())),\"\"),\"\")","v":""}]
[{"$f":"IFERROR(IF(INDIRECT($A$14&ROW())<>\"\",COUNTIF([1]Summary!$B$30:$B$713,INDIRECT($A$14&ROW())),\"\"),\"\")","v":""}]
[{"$f":"IFERROR(IF(INDIRECT($A$14&ROW())<>\"\",COUNTIF([1]Summary!$B$30:$B$713,INDIRECT($A$14&ROW())),\"\"),\"\")","v":""}]
[{"$f":"IFERROR(IF(INDIRECT($A$14&ROW())<>\"\",COUNTIF([1]Summary!$B$30:$B$713,INDIRECT($A$14&ROW())),\"\"),\"\")","v":""}]
[{"$f":"IFERROR(IF(INDIRECT($A$14&ROW())<>\"\",COUNTIF([1]Summary!$B$30:$B$713,INDIRECT($A$14&ROW())),\"\"),\"\")","v":""}]
[{"$f":"IFERROR(IF(INDIRECT($A$14&ROW())<>\"\",COUNTIF([1]Summary!$B$30:$B$713,INDIRECT($A$14&ROW())),\"\"),\"\")","v":""}]
[{"$f":"IFERROR(IF(INDIRECT($A$14&ROW())<>\"\",COUNTIF([1]Summary!$B$30:$B$713,INDIRECT($A$14&ROW())),\"\"),\"\")","v":""}]
[{"$f":"IFERROR(IF(INDIRECT($A$14&ROW())<>\"\",COUNTIF([1]Summary!$B$30:$B$713,INDIRECT($A$14&ROW())),\"\"),\"\")","v":""}]
[{"$f":"IFERROR(IF(INDIRECT($A$14&ROW())<>\"\",COUNTIF([1]Summary!$B$30:$B$713,INDIRECT($A$14&ROW())),\"\"),\"\")","v":""}]
[{"$f":"IFERROR(IF(INDIRECT($A$14&ROW())<>\"\",COUNTIF([1]Summary!$B$30:$B$713,INDIRECT($A$14&ROW())),\"\"),\"\")","v":""}]
[{"$f":"IFERROR(IF(INDIRECT($A$14&ROW())<>\"\",COUNTIF([1]Summary!$B$30:$B$713,INDIRECT($A$14&ROW())),\"\"),\"\")","v":""}]
[{"$f":"IFERROR(IF(INDIRECT($A$14&ROW())<>\"\",COUNTIF([1]Summary!$B$30:$B$713,INDIRECT($A$14&ROW())),\"\"),\"\")","v":""}]
[{"$f":"IFERROR(IF(INDIRECT($A$14&ROW())<>\"\",COUNTIF([1]Summary!$B$30:$B$713,INDIRECT($A$14&ROW())),\"\"),\"\")","v":""}]
[{"$f":"IFERROR(IF(INDIRECT($A$14&ROW())<>\"\",COUNTIF([1]Summary!$B$30:$B$713,INDIRECT($A$14&ROW())),\"\"),\"\")","v":""}]
[{"$f":"IFERROR(IF(INDIRECT($A$14&ROW())<>\"\",COUNTIF([1]Summary!$B$30:$B$713,INDIRECT($A$14&ROW())),\"\"),\"\")","v":""}]
[{"$f":"IFERROR(IF(INDIRECT($A$14&ROW())<>\"\",COUNTIF([1]Summary!$B$30:$B$713,INDIRECT($A$14&ROW())),\"\"),\"\")","v":""}]
[{"$f":"IFERROR(IF(INDIRECT($A$14&ROW())<>\"\",COUNTIF([1]Summary!$B$30:$B$713,INDIRECT($A$14&ROW())),\"\"),\"\")","v":""}]
[{"$f":"IFERROR(IF(INDIRECT($A$14&ROW())<>\"\",COUNTIF([1]Summary!$B$30:$B$713,INDIRECT($A$14&ROW())),\"\"),\"\")","v":""}]
[{"$f":"IFERROR(IF(INDIRECT($A$14&ROW())<>\"\",COUNTIF([1]Summary!$B$30:$B$713,INDIRECT($A$14&ROW())),\"\"),\"\")","v":""}]
[{"$f":"IFERROR(IF(INDIRECT($A$14&ROW())<>\"\",COUNTIF([1]Summary!$B$30:$B$713,INDIRECT($A$14&ROW())),\"\"),\"\")","v":""}]
[{"$f":"IFERROR(IF(INDIRECT($A$14&ROW())<>\"\",COUNTIF([1]Summary!$B$30:$B$713,INDIRECT($A$14&ROW())),\"\"),\"\")","v":""}]
[{"$f":"IFERROR(IF(INDIRECT($A$14&ROW())<>\"\",COUNTIF([1]Summary!$B$30:$B$713,INDIRECT($A$14&ROW())),\"\"),\"\")","v":""}]
[{"$f":"IFERROR(IF(INDIRECT($A$14&ROW())<>\"\",COUNTIF([1]Summary!$B$30:$B$713,INDIRECT($A$14&ROW())),\"\"),\"\")","v":""}]
[{"$f":"IFERROR(IF(INDIRECT($A$14&ROW())<>\"\",COUNTIF([1]Summary!$B$30:$B$713,INDIRECT($A$14&ROW())),\"\"),\"\")","v":""}]
[{"$f":"IFERROR(IF(INDIRECT($A$14&ROW())<>\"\",COUNTIF([1]Summary!$B$30:$B$713,INDIRECT($A$14&ROW())),\"\"),\"\")","v":""}]
[{"$f":"IFERROR(IF(INDIRECT($A$14&ROW())<>\"\",COUNTIF([1]Summary!$B$30:$B$713,INDIRECT($A$14&ROW())),\"\"),\"\")","v":""}]
[{"$f":"IFERROR(IF(INDIRECT($A$14&ROW())<>\"\",COUNTIF([1]Summary!$B$30:$B$713,INDIRECT($A$14&ROW())),\"\"),\"\")","v":""}]
[{"$f":"IFERROR(IF(INDIRECT($A$14&ROW())<>\"\",COUNTIF([1]Summary!$B$30:$B$713,INDIRECT($A$14&ROW())),\"\"),\"\")","v":""}]
[{"$f":"IFERROR(IF(INDIRECT($A$14&ROW())<>\"\",COUNTIF([1]Summary!$B$30:$B$713,INDIRECT($A$14&ROW())),\"\"),\"\")","v":""}]
[{"$f":"IFERROR(IF(INDIRECT($A$14&ROW())<>\"\",COUNTIF([1]Summary!$B$30:$B$713,INDIRECT($A$14&ROW())),\"\"),\"\")","v":""}]
[{"$f":"IFERROR(IF(INDIRECT($A$14&ROW())<>\"\",COUNTIF([1]Summary!$B$30:$B$713,INDIRECT($A$14&ROW())),\"\"),\"\")","v":""}]
[{"$f":"IFERROR(IF(INDIRECT($A$14&ROW())<>\"\",COUNTIF([1]Summary!$B$30:$B$713,INDIRECT($A$14&ROW())),\"\"),\"\")","v":""}]
[{"$f":"IFERROR(IF(INDIRECT($A$14&ROW())<>\"\",COUNTIF([1]Summary!$B$30:$B$713,INDIRECT($A$14&ROW())),\"\"),\"\")","v":""}]
[{"$f":"IFERROR(IF(INDIRECT($A$14&ROW())<>\"\",COUNTIF([1]Summary!$B$30:$B$713,INDIRECT($A$14&ROW())),\"\"),\"\")","v":""}]
[{"$f":"IFERROR(IF(INDIRECT($A$14&ROW())<>\"\",COUNTIF([1]Summary!$B$30:$B$713,INDIRECT($A$14&ROW())),\"\"),\"\")","v":""}]
[{"$f":"IFERROR(IF(INDIRECT($A$14&ROW())<>\"\",COUNTIF([1]Summary!$B$30:$B$713,INDIRECT($A$14&ROW())),\"\"),\"\")","v":""}]
[{"$f":"IFERROR(IF(INDIRECT($A$14&ROW())<>\"\",COUNTIF([1]Summary!$B$30:$B$713,INDIRECT($A$14&ROW())),\"\"),\"\")","v":""}]
[{"$f":"IFERROR(IF(INDIRECT($A$14&ROW())<>\"\",COUNTIF([1]Summary!$B$30:$B$713,INDIRECT($A$14&ROW())),\"\"),\"\")","v":""}]
[{"$f":"IFERROR(IF(INDIRECT($A$14&ROW())<>\"\",COUNTIF([1]Summary!$B$30:$B$713,INDIRECT($A$14&ROW())),\"\"),\"\")","v":""}]
[{"$f":"IFERROR(IF(INDIRECT($A$14&ROW())<>\"\",COUNTIF([1]Summary!$B$30:$B$713,INDIRECT($A$14&ROW())),\"\"),\"\")","v":""}]
[{"$f":"IFERROR(IF(INDIRECT($A$14&ROW())<>\"\",COUNTIF([1]Summary!$B$30:$B$713,INDIRECT($A$14&ROW())),\"\"),\"\")","v":""}]
[{"$f":"IFERROR(IF(INDIRECT($A$14&ROW())<>\"\",COUNTIF([1]Summary!$B$30:$B$713,INDIRECT($A$14&ROW())),\"\"),\"\")","v":""}]
[{"$f":"IFERROR(IF(INDIRECT($A$14&ROW())<>\"\",COUNTIF([1]Summary!$B$30:$B$713,INDIRECT($A$14&ROW())),\"\"),\"\")","v":""}]
[{"$f":"IFERROR(IF(INDIRECT($A$14&ROW())<>\"\",COUNTIF([1]Summary!$B$30:$B$713,INDIRECT($A$14&ROW())),\"\"),\"\")","v":""}]
[{"$f":"IFERROR(IF(INDIRECT($A$14&ROW())<>\"\",COUNTIF([1]Summary!$B$30:$B$713,INDIRECT($A$14&ROW())),\"\"),\"\")","v":""}]
[{"$f":"IFERROR(IF(INDIRECT($A$14&ROW())<>\"\",COUNTIF([1]Summary!$B$30:$B$713,INDIRECT($A$14&ROW())),\"\"),\"\")","v":""}]
[{"$f":"IFERROR(IF(INDIRECT($A$14&ROW())<>\"\",COUNTIF([1]Summary!$B$30:$B$713,INDIRECT($A$14&ROW())),\"\"),\"\")","v":""}]
[{"$f":"IFERROR(IF(INDIRECT($A$14&ROW())<>\"\",COUNTIF([1]Summary!$B$30:$B$713,INDIRECT($A$14&ROW())),\"\"),\"\")","v":""}]
[{"$f":"IFERROR(IF(INDIRECT($A$14&ROW())<>\"\",COUNTIF([1]Summary!$B$30:$B$713,INDIRECT($A$14&ROW())),\"\"),\"\")","v":""}]
[{"$f":"IFERROR(IF(INDIRECT($A$14&ROW())<>\"\",COUNTIF([1]Summary!$B$30:$B$713,INDIRECT($A$14&ROW())),\"\"),\"\")","v":""}]
[{"$f":"IFERROR(IF(INDIRECT($A$14&ROW())<>\"\",COUNTIF([1]Summary!$B$30:$B$713,INDIRECT($A$14&ROW())),\"\"),\"\")","v":""}]
[{"$f":"IFERROR(IF(INDIRECT($A$14&ROW())<>\"\",COUNTIF([1]Summary!$B$30:$B$713,INDIRECT($A$14&ROW())),\"\"),\"\")","v":""}]
[{"$f":"IFERROR(IF(INDIRECT($A$14&ROW())<>\"\",COUNTIF([1]Summary!$B$30:$B$713,INDIRECT($A$14&ROW())),\"\"),\"\")","v":""}]
[{"$f":"IFERROR(IF(INDIRECT($A$14&ROW())<>\"\",COUNTIF([1]Summary!$B$30:$B$713,INDIRECT($A$14&ROW())),\"\"),\"\")","v":""}]
[{"$f":"IFERROR(IF(INDIRECT($A$14&ROW())<>\"\",COUNTIF([1]Summary!$B$30:$B$713,INDIRECT($A$14&ROW())),\"\"),\"\")","v":""}]
[{"$f":"IFERROR(IF(INDIRECT($A$14&ROW())<>\"\",COUNTIF([1]Summary!$B$30:$B$713,INDIRECT($A$14&ROW())),\"\"),\"\")","v":""}]
[{"$f":"IFERROR(IF(INDIRECT($A$14&ROW())<>\"\",COUNTIF([1]Summary!$B$30:$B$713,INDIRECT($A$14&ROW())),\"\"),\"\")","v":""}]
[{"$f":"IFERROR(IF(INDIRECT($A$14&ROW())<>\"\",COUNTIF([1]Summary!$B$30:$B$713,INDIRECT($A$14&ROW())),\"\"),\"\")","v":""}]
[{"$f":"IFERROR(IF(INDIRECT($A$14&ROW())<>\"\",COUNTIF([1]Summary!$B$30:$B$713,INDIRECT($A$14&ROW())),\"\"),\"\")","v":""}]
[{"$f":"IFERROR(IF(INDIRECT($A$14&ROW())<>\"\",COUNTIF([1]Summary!$B$30:$B$713,INDIRECT($A$14&ROW())),\"\"),\"\")","v":""}]
[{"$f":"IFERROR(IF(INDIRECT($A$14&ROW())<>\"\",COUNTIF([1]Summary!$B$30:$B$713,INDIRECT($A$14&ROW())),\"\"),\"\")","v":""}]
[{"$f":"IFERROR(IF(INDIRECT($A$14&ROW())<>\"\",COUNTIF([1]Summary!$B$30:$B$713,INDIRECT($A$14&ROW())),\"\"),\"\")","v":""}]
[{"$f":"IFERROR(IF(INDIRECT($A$14&ROW())<>\"\",COUNTIF([1]Summary!$B$30:$B$713,INDIRECT($A$14&ROW())),\"\"),\"\")","v":""}]
[{"$f":"IFERROR(IF(INDIRECT($A$14&ROW())<>\"\",COUNTIF([1]Summary!$B$30:$B$713,INDIRECT($A$14&ROW())),\"\"),\"\")","v":""}]
[{"$f":"IFERROR(IF(INDIRECT($A$14&ROW())<>\"\",COUNTIF([1]Summary!$B$30:$B$713,INDIRECT($A$14&ROW())),\"\"),\"\")","v":""}]
[{"$f":"IFERROR(IF(INDIRECT($A$14&ROW())<>\"\",COUNTIF([1]Summary!$B$30:$B$713,INDIRECT($A$14&ROW())),\"\"),\"\")","v":""}]
[{"$f":"IFERROR(IF(INDIRECT($A$14&ROW())<>\"\",COUNTIF([1]Summary!$B$30:$B$713,INDIRECT($A$14&ROW())),\"\"),\"\")","v":""}]
[{"$f":"IFERROR(IF(INDIRECT($A$14&ROW())<>\"\",COUNTIF([1]Summary!$B$30:$B$713,INDIRECT($A$14&ROW())),\"\"),\"\")","v":""}]
[{"$f":"IFERROR(IF(INDIRECT($A$14&ROW())<>\"\",COUNTIF([1]Summary!$B$30:$B$713,INDIRECT($A$14&ROW())),\"\"),\"\")","v":""}]
[{"$f":"IFERROR(IF(INDIRECT($A$14&ROW())<>\"\",COUNTIF([1]Summary!$B$30:$B$713,INDIRECT($A$14&ROW())),\"\"),\"\")","v":""}]
[{"$f":"IFERROR(IF(INDIRECT($A$14&ROW())<>\"\",COUNTIF([1]Summary!$B$30:$B$713,INDIRECT($A$14&ROW())),\"\"),\"\")","v":""}]
[{"$f":"IFERROR(IF(INDIRECT($A$14&ROW())<>\"\",COUNTIF([1]Summary!$B$30:$B$713,INDIRECT($A$14&ROW())),\"\"),\"\")","v":""}]
[{"$f":"IFERROR(IF(INDIRECT($A$14&ROW())<>\"\",COUNTIF([1]Summary!$B$30:$B$713,INDIRECT($A$14&ROW())),\"\"),\"\")","v":""}]
[{"$f":"IFERROR(IF(INDIRECT($A$14&ROW())<>\"\",COUNTIF([1]Summary!$B$30:$B$713,INDIRECT($A$14&ROW())),\"\"),\"\")","v":""}]
[{"$f":"IFERROR(IF(INDIRECT($A$14&ROW())<>\"\",COUNTIF([1]Summary!$B$30:$B$713,INDIRECT($A$14&ROW())),\"\"),\"\")","v":""}]
[{"$f":"IFERROR(IF(INDIRECT($A$14&ROW())<>\"\",COUNTIF([1]Summary!$B$30:$B$713,INDIRECT($A$14&ROW())),\"\"),\"\")","v":""}]
[{"$f":"IFERROR(IF(INDIRECT($A$14&ROW())<>\"\",COUNTIF([1]Summary!$B$30:$B$713,INDIRECT($A$14&ROW())),\"\"),\"\")","v":""}]
[{"$f":"IFERROR(IF(INDIRECT($A$14&ROW())<>\"\",COUNTIF([1]Summary!$B$30:$B$713,INDIRECT($A$14&ROW())),\"\"),\"\")","v":""}]
[{"$f":"IFERROR(IF(INDIRECT($A$14&ROW())<>\"\",COUNTIF([1]Summary!$B$30:$B$713,INDIRECT($A$14&ROW())),\"\"),\"\")","v":""}]
[{"$f":"IFERROR(IF(INDIRECT($A$14&ROW())<>\"\",COUNTIF([1]Summary!$B$30:$B$713,INDIRECT($A$14&ROW())),\"\"),\"\")","v":""}]
[{"$f":"IFERROR(IF(INDIRECT($A$14&ROW())<>\"\",COUNTIF([1]Summary!$B$30:$B$713,INDIRECT($A$14&ROW())),\"\"),\"\")","v":""}]
[{"$f":"IFERROR(IF(INDIRECT($A$14&ROW())<>\"\",COUNTIF([1]Summary!$B$30:$B$713,INDIRECT($A$14&ROW())),\"\"),\"\")","v":""}]
[{"$f":"IFERROR(IF(INDIRECT($A$14&ROW())<>\"\",COUNTIF([1]Summary!$B$30:$B$713,INDIRECT($A$14&ROW())),\"\"),\"\")","v":""}]
[{"$f":"IFERROR(IF(INDIRECT($A$14&ROW())<>\"\",COUNTIF([1]Summary!$B$30:$B$713,INDIRECT($A$14&ROW())),\"\"),\"\")","v":""}]
[{"$f":"IFERROR(IF(INDIRECT($A$14&ROW())<>\"\",COUNTIF([1]Summary!$B$30:$B$713,INDIRECT($A$14&ROW())),\"\"),\"\")","v":""}]
[{"$f":"IFERROR(IF(INDIRECT($A$14&ROW())<>\"\",COUNTIF([1]Summary!$B$30:$B$713,INDIRECT($A$14&ROW())),\"\"),\"\")","v":""}]
[{"$f":"IFERROR(IF(INDIRECT($A$14&ROW())<>\"\",COUNTIF([1]Summary!$B$30:$B$713,INDIRECT($A$14&ROW())),\"\"),\"\")","v":""}]
[{"$f":"IFERROR(IF(INDIRECT($A$14&ROW())<>\"\",COUNTIF([1]Summary!$B$30:$B$713,INDIRECT($A$14&ROW())),\"\"),\"\")","v":""}]
[{"$f":"IFERROR(IF(INDIRECT($A$14&ROW())<>\"\",COUNTIF([1]Summary!$B$30:$B$713,INDIRECT($A$14&ROW())),\"\"),\"\")","v":""}]
[{"$f":"IFERROR(IF(INDIRECT($A$14&ROW())<>\"\",COUNTIF([1]Summary!$B$30:$B$713,INDIRECT($A$14&ROW())),\"\"),\"\")","v":""}]
[{"$f":"IFERROR(IF(INDIRECT($A$14&ROW())<>\"\",COUNTIF([1]Summary!$B$30:$B$713,INDIRECT($A$14&ROW())),\"\"),\"\")","v":""}]
[{"$f":"IFERROR(IF(INDIRECT($A$14&ROW())<>\"\",COUNTIF([1]Summary!$B$30:$B$713,INDIRECT($A$14&ROW())),\"\"),\"\")","v":""}]
[{"$f":"IFERROR(IF(INDIRECT($A$14&ROW())<>\"\",COUNTIF([1]Summary!$B$30:$B$713,INDIRECT($A$14&ROW())),\"\"),\"\")","v":""}]
[{"$f":"IFERROR(IF(INDIRECT($A$14&ROW())<>\"\",COUNTIF([1]Summary!$B$30:$B$713,INDIRECT($A$14&ROW())),\"\"),\"\")","v":""}]
[{"$f":"IFERROR(IF(INDIRECT($A$14&ROW())<>\"\",COUNTIF([1]Summary!$B$30:$B$713,INDIRECT($A$14&ROW())),\"\"),\"\")","v":""}]
[{"$f":"IFERROR(IF(INDIRECT($A$14&ROW())<>\"\",COUNTIF([1]Summary!$B$30:$B$713,INDIRECT($A$14&ROW())),\"\"),\"\")","v":""}]
[{"$f":"IFERROR(IF(INDIRECT($A$14&ROW())<>\"\",COUNTIF([1]Summary!$B$30:$B$713,INDIRECT($A$14&ROW())),\"\"),\"\")","v":""}]
[{"$f":"IFERROR(IF(INDIRECT($A$14&ROW())<>\"\",COUNTIF([1]Summary!$B$30:$B$713,INDIRECT($A$14&ROW())),\"\"),\"\")","v":""}]
[{"$f":"IFERROR(IF(INDIRECT($A$14&ROW())<>\"\",COUNTIF([1]Summary!$B$30:$B$713,INDIRECT($A$14&ROW())),\"\"),\"\")","v":""}]
[{"$f":"IFERROR(IF(INDIRECT($A$14&ROW())<>\"\",COUNTIF([1]Summary!$B$30:$B$713,INDIRECT($A$14&ROW())),\"\"),\"\")","v":""}]
[{"$f":"IFERROR(IF(INDIRECT($A$14&ROW())<>\"\",COUNTIF([1]Summary!$B$30:$B$713,INDIRECT($A$14&ROW())),\"\"),\"\")","v":""}]
[{"$f":"IFERROR(IF(INDIRECT($A$14&ROW())<>\"\",COUNTIF([1]Summary!$B$30:$B$713,INDIRECT($A$14&ROW())),\"\"),\"\")","v":""}]
[{"$f":"IFERROR(IF(INDIRECT($A$14&ROW())<>\"\",COUNTIF([1]Summary!$B$30:$B$713,INDIRECT($A$14&ROW())),\"\"),\"\")","v":""}]
[{"$f":"IFERROR(IF(INDIRECT($A$14&ROW())<>\"\",COUNTIF([1]Summary!$B$30:$B$713,INDIRECT($A$14&ROW())),\"\"),\"\")","v":""}]
[{"$f":"IFERROR(IF(INDIRECT($A$14&ROW())<>\"\",COUNTIF([1]Summary!$B$30:$B$713,INDIRECT($A$14&ROW())),\"\"),\"\")","v":""}]
[{"$f":"IFERROR(IF(INDIRECT($A$14&ROW())<>\"\",COUNTIF([1]Summary!$B$30:$B$713,INDIRECT($A$14&ROW())),\"\"),\"\")","v":""}]
[{"$f":"IFERROR(IF(INDIRECT($A$14&ROW())<>\"\",COUNTIF([1]Summary!$B$30:$B$713,INDIRECT($A$14&ROW())),\"\"),\"\")","v":""}]
[{"$f":"IFERROR(IF(INDIRECT($A$14&ROW())<>\"\",COUNTIF([1]Summary!$B$30:$B$713,INDIRECT($A$14&ROW())),\"\"),\"\")","v":""}]
[{"$f":"IFERROR(IF(INDIRECT($A$14&ROW())<>\"\",COUNTIF([1]Summary!$B$30:$B$713,INDIRECT($A$14&ROW())),\"\"),\"\")","v":""}]
[{"$f":"IFERROR(IF(INDIRECT($A$14&ROW())<>\"\",COUNTIF([1]Summary!$B$30:$B$713,INDIRECT($A$14&ROW())),\"\"),\"\")","v":""}]
[{"$f":"IFERROR(IF(INDIRECT($A$14&ROW())<>\"\",COUNTIF([1]Summary!$B$30:$B$713,INDIRECT($A$14&ROW())),\"\"),\"\")","v":""}]
[{"$f":"IFERROR(IF(INDIRECT($A$14&ROW())<>\"\",COUNTIF([1]Summary!$B$30:$B$713,INDIRECT($A$14&ROW())),\"\"),\"\")","v":""}]
[{"$f":"IFERROR(IF(INDIRECT($A$14&ROW())<>\"\",COUNTIF([1]Summary!$B$30:$B$713,INDIRECT($A$14&ROW())),\"\"),\"\")","v":""}]
[{"$f":"IFERROR(IF(INDIRECT($A$14&ROW())<>\"\",COUNTIF([1]Summary!$B$30:$B$713,INDIRECT($A$14&ROW())),\"\"),\"\")","v":""}]
[{"$f":"IFERROR(IF(INDIRECT($A$14&ROW())<>\"\",COUNTIF([1]Summary!$B$30:$B$713,INDIRECT($A$14&ROW())),\"\"),\"\")","v":""}]
[{"$f":"IFERROR(IF(INDIRECT($A$14&ROW())<>\"\",COUNTIF([1]Summary!$B$30:$B$713,INDIRECT($A$14&ROW())),\"\"),\"\")","v":""}]
[{"$f":"IFERROR(IF(INDIRECT($A$14&ROW())<>\"\",COUNTIF([1]Summary!$B$30:$B$713,INDIRECT($A$14&ROW())),\"\"),\"\")","v":""}]
[{"$f":"IFERROR(IF(INDIRECT($A$14&ROW())<>\"\",COUNTIF([1]Summary!$B$30:$B$713,INDIRECT($A$14&ROW())),\"\"),\"\")","v":""}]
[{"$f":"IFERROR(IF(INDIRECT($A$14&ROW())<>\"\",COUNTIF([1]Summary!$B$30:$B$713,INDIRECT($A$14&ROW())),\"\"),\"\")","v":""}]
[{"$f":"IFERROR(IF(INDIRECT($A$14&ROW())<>\"\",COUNTIF([1]Summary!$B$30:$B$713,INDIRECT($A$14&ROW())),\"\"),\"\")","v":""}]
[{"$f":"IFERROR(IF(INDIRECT($A$14&ROW())<>\"\",COUNTIF([1]Summary!$B$30:$B$713,INDIRECT($A$14&ROW())),\"\"),\"\")","v":""}]
[{"$f":"IFERROR(IF(INDIRECT($A$14&ROW())<>\"\",COUNTIF([1]Summary!$B$30:$B$713,INDIRECT($A$14&ROW())),\"\"),\"\")","v":""}]
[{"$f":"IFERROR(IF(INDIRECT($A$14&ROW())<>\"\",COUNTIF([1]Summary!$B$30:$B$713,INDIRECT($A$14&ROW())),\"\"),\"\")","v":""}]
[{"$f":"IFERROR(IF(INDIRECT($A$14&ROW())<>\"\",COUNTIF([1]Summary!$B$30:$B$713,INDIRECT($A$14&ROW())),\"\"),\"\")","v":""}]
[{"$f":"IFERROR(IF(INDIRECT($A$14&ROW())<>\"\",COUNTIF([1]Summary!$B$30:$B$713,INDIRECT($A$14&ROW())),\"\"),\"\")","v":""}]
[{"$f":"IFERROR(IF(INDIRECT($A$14&ROW())<>\"\",COUNTIF([1]Summary!$B$30:$B$713,INDIRECT($A$14&ROW())),\"\"),\"\")","v":""}]
[{"$f":"IFERROR(IF(INDIRECT($A$14&ROW())<>\"\",COUNTIF([1]Summary!$B$30:$B$713,INDIRECT($A$14&ROW())),\"\"),\"\")","v":""}]
[{"$f":"IFERROR(IF(INDIRECT($A$14&ROW())<>\"\",COUNTIF([1]Summary!$B$30:$B$713,INDIRECT($A$14&ROW())),\"\"),\"\")","v":""}]
[{"$f":"IFERROR(IF(INDIRECT($A$14&ROW())<>\"\",COUNTIF([1]Summary!$B$30:$B$713,INDIRECT($A$14&ROW())),\"\"),\"\")","v":""}]
[{"$f":"IFERROR(IF(INDIRECT($A$14&ROW())<>\"\",COUNTIF([1]Summary!$B$30:$B$713,INDIRECT($A$14&ROW())),\"\"),\"\")","v":""}]
[{"$f":"IFERROR(IF(INDIRECT($A$14&ROW())<>\"\",COUNTIF([1]Summary!$B$30:$B$713,INDIRECT($A$14&ROW())),\"\"),\"\")","v":""}]
[{"$f":"IFERROR(IF(INDIRECT($A$14&ROW())<>\"\",COUNTIF([1]Summary!$B$30:$B$713,INDIRECT($A$14&ROW())),\"\"),\"\")","v":""}]
[{"$f":"IFERROR(IF(INDIRECT($A$14&ROW())<>\"\",COUNTIF([1]Summary!$B$30:$B$713,INDIRECT($A$14&ROW())),\"\"),\"\")","v":""}]
[{"$f":"IFERROR(IF(INDIRECT($A$14&ROW())<>\"\",COUNTIF([1]Summary!$B$30:$B$713,INDIRECT($A$14&ROW())),\"\"),\"\")","v":""}]
[{"$f":"IFERROR(IF(INDIRECT($A$14&ROW())<>\"\",COUNTIF([1]Summary!$B$30:$B$713,INDIRECT($A$14&ROW())),\"\"),\"\")","v":""}]
[{"$f":"IFERROR(IF(INDIRECT($A$14&ROW())<>\"\",COUNTIF([1]Summary!$B$30:$B$713,INDIRECT($A$14&ROW())),\"\"),\"\")","v":""}]
[{"$f":"IFERROR(IF(INDIRECT($A$14&ROW())<>\"\",COUNTIF([1]Summary!$B$30:$B$713,INDIRECT($A$14&ROW())),\"\"),\"\")","v":""}]
[{"$f":"IFERROR(IF(INDIRECT($A$14&ROW())<>\"\",COUNTIF([1]Summary!$B$30:$B$713,INDIRECT($A$14&ROW())),\"\"),\"\")","v":""}]
[{"$f":"IFERROR(IF(INDIRECT($A$14&ROW())<>\"\",COUNTIF([1]Summary!$B$30:$B$713,INDIRECT($A$14&ROW())),\"\"),\"\")","v":""}]
[{"$f":"IFERROR(IF(INDIRECT($A$14&ROW())<>\"\",COUNTIF([1]Summary!$B$30:$B$713,INDIRECT($A$14&ROW())),\"\"),\"\")","v":""}]
[{"$f":"IFERROR(IF(INDIRECT($A$14&ROW())<>\"\",COUNTIF([1]Summary!$B$30:$B$713,INDIRECT($A$14&ROW())),\"\"),\"\")","v":""}]
[{"$f":"IFERROR(IF(INDIRECT($A$14&ROW())<>\"\",COUNTIF([1]Summary!$B$30:$B$713,INDIRECT($A$14&ROW())),\"\"),\"\")","v":""}]
[{"$f":"IFERROR(IF(INDIRECT($A$14&ROW())<>\"\",COUNTIF([1]Summary!$B$30:$B$713,INDIRECT($A$14&ROW())),\"\"),\"\")","v":""}]
[{"$f":"IFERROR(IF(INDIRECT($A$14&ROW())<>\"\",COUNTIF([1]Summary!$B$30:$B$713,INDIRECT($A$14&ROW())),\"\"),\"\")","v":""}]
[{"$f":"IFERROR(IF(INDIRECT($A$14&ROW())<>\"\",COUNTIF([1]Summary!$B$30:$B$713,INDIRECT($A$14&ROW())),\"\"),\"\")","v":""}]
[{"$f":"IFERROR(IF(INDIRECT($A$14&ROW())<>\"\",COUNTIF([1]Summary!$B$30:$B$713,INDIRECT($A$14&ROW())),\"\"),\"\")","v":""}]
[{"$f":"IFERROR(IF(INDIRECT($A$14&ROW())<>\"\",COUNTIF([1]Summary!$B$30:$B$713,INDIRECT($A$14&ROW())),\"\"),\"\")","v":""}]
[{"$f":"IFERROR(IF(INDIRECT($A$14&ROW())<>\"\",COUNTIF([1]Summary!$B$30:$B$713,INDIRECT($A$14&ROW())),\"\"),\"\")","v":""}]
[{"$f":"IFERROR(IF(INDIRECT($A$14&ROW())<>\"\",COUNTIF([1]Summary!$B$30:$B$713,INDIRECT($A$14&ROW())),\"\"),\"\")","v":""}]
[{"$f":"IFERROR(IF(INDIRECT($A$14&ROW())<>\"\",COUNTIF([1]Summary!$B$30:$B$713,INDIRECT($A$14&ROW())),\"\"),\"\")","v":""}]
[{"$f":"IFERROR(IF(INDIRECT($A$14&ROW())<>\"\",COUNTIF([1]Summary!$B$30:$B$713,INDIRECT($A$14&ROW())),\"\"),\"\")","v":""}]
[{"$f":"IFERROR(IF(INDIRECT($A$14&ROW())<>\"\",COUNTIF([1]Summary!$B$30:$B$713,INDIRECT($A$14&ROW())),\"\"),\"\")","v":""}]
[{"$f":"IFERROR(IF(INDIRECT($A$14&ROW())<>\"\",COUNTIF([1]Summary!$B$30:$B$713,INDIRECT($A$14&ROW())),\"\"),\"\")","v":""}]
[{"$f":"IFERROR(IF(INDIRECT($A$14&ROW())<>\"\",COUNTIF([1]Summary!$B$30:$B$713,INDIRECT($A$14&ROW())),\"\"),\"\")","v":""}]
[{"$f":"IFERROR(IF(INDIRECT($A$14&ROW())<>\"\",COUNTIF([1]Summary!$B$30:$B$713,INDIRECT($A$14&ROW())),\"\"),\"\")","v":""}]
[{"$f":"IFERROR(IF(INDIRECT($A$14&ROW())<>\"\",COUNTIF([1]Summary!$B$30:$B$713,INDIRECT($A$14&ROW())),\"\"),\"\")","v":""}]
[{"$f":"IFERROR(IF(INDIRECT($A$14&ROW())<>\"\",COUNTIF([1]Summary!$B$30:$B$713,INDIRECT($A$14&ROW())),\"\"),\"\")","v":""}]
[{"$f":"IFERROR(IF(INDIRECT($A$14&ROW())<>\"\",COUNTIF([1]Summary!$B$30:$B$713,INDIRECT($A$14&ROW())),\"\"),\"\")","v":""}]
[{"$f":"IFERROR(IF(INDIRECT($A$14&ROW())<>\"\",COUNTIF([1]Summary!$B$30:$B$713,INDIRECT($A$14&ROW())),\"\"),\"\")","v":""}]
[{"$f":"IFERROR(IF(INDIRECT($A$14&ROW())<>\"\",COUNTIF([1]Summary!$B$30:$B$713,INDIRECT($A$14&ROW())),\"\"),\"\")","v":""}]
[{"$f":"IFERROR(IF(INDIRECT($A$14&ROW())<>\"\",COUNTIF([1]Summary!$B$30:$B$713,INDIRECT($A$14&ROW())),\"\"),\"\")","v":""}]
[{"$f":"IFERROR(IF(INDIRECT($A$14&ROW())<>\"\",COUNTIF([1]Summary!$B$30:$B$713,INDIRECT($A$14&ROW())),\"\"),\"\")","v":""}]
[{"$f":"IFERROR(IF(INDIRECT($A$14&ROW())<>\"\",COUNTIF([1]Summary!$B$30:$B$713,INDIRECT($A$14&ROW())),\"\"),\"\")","v":""}]
[{"$f":"IFERROR(IF(INDIRECT($A$14&ROW())<>\"\",COUNTIF([1]Summary!$B$30:$B$713,INDIRECT($A$14&ROW())),\"\"),\"\")","v":""}]
[{"$f":"IFERROR(IF(INDIRECT($A$14&ROW())<>\"\",COUNTIF([1]Summary!$B$30:$B$713,INDIRECT($A$14&ROW())),\"\"),\"\")","v":""}]
[{"$f":"IFERROR(IF(INDIRECT($A$14&ROW())<>\"\",COUNTIF([1]Summary!$B$30:$B$713,INDIRECT($A$14&ROW())),\"\"),\"\")","v":""}]
[{"$f":"IFERROR(IF(INDIRECT($A$14&ROW())<>\"\",COUNTIF([1]Summary!$B$30:$B$713,INDIRECT($A$14&ROW())),\"\"),\"\")","v":""}]
[{"$f":"IFERROR(IF(INDIRECT($A$14&ROW())<>\"\",COUNTIF([1]Summary!$B$30:$B$713,INDIRECT($A$14&ROW())),\"\"),\"\")","v":""}]
[{"$f":"IFERROR(IF(INDIRECT($A$14&ROW())<>\"\",COUNTIF([1]Summary!$B$30:$B$713,INDIRECT($A$14&ROW())),\"\"),\"\")","v":""}]
[{"$f":"IFERROR(IF(INDIRECT($A$14&ROW())<>\"\",COUNTIF([1]Summary!$B$30:$B$713,INDIRECT($A$14&ROW())),\"\"),\"\")","v":""}]
[{"$f":"IFERROR(IF(INDIRECT($A$14&ROW())<>\"\",COUNTIF([1]Summary!$B$30:$B$713,INDIRECT($A$14&ROW())),\"\"),\"\")","v":""}]
[{"$f":"IFERROR(IF(INDIRECT($A$14&ROW())<>\"\",COUNTIF([1]Summary!$B$30:$B$713,INDIRECT($A$14&ROW())),\"\"),\"\")","v":""}]
[{"$f":"IFERROR(IF(INDIRECT($A$14&ROW())<>\"\",COUNTIF([1]Summary!$B$30:$B$713,INDIRECT($A$14&ROW())),\"\"),\"\")","v":""}]
[{"$f":"IFERROR(IF(INDIRECT($A$14&ROW())<>\"\",COUNTIF([1]Summary!$B$30:$B$713,INDIRECT($A$14&ROW())),\"\"),\"\")","v":""}]
[{"$f":"IFERROR(IF(INDIRECT($A$14&ROW())<>\"\",COUNTIF([1]Summary!$B$30:$B$713,INDIRECT($A$14&ROW())),\"\"),\"\")","v":""}]
[{"$f":"IFERROR(IF(INDIRECT($A$14&ROW())<>\"\",COUNTIF([1]Summary!$B$30:$B$713,INDIRECT($A$14&ROW())),\"\"),\"\")","v":""}]
[{"$f":"IFERROR(IF(INDIRECT($A$14&ROW())<>\"\",COUNTIF([1]Summary!$B$30:$B$713,INDIRECT($A$14&ROW())),\"\"),\"\")","v":""}]
[{"$f":"IFERROR(IF(INDIRECT($A$14&ROW())<>\"\",COUNTIF([1]Summary!$B$30:$B$713,INDIRECT($A$14&ROW())),\"\"),\"\")","v":""}]
[{"$f":"IFERROR(IF(INDIRECT($A$14&ROW())<>\"\",COUNTIF([1]Summary!$B$30:$B$713,INDIRECT($A$14&ROW())),\"\"),\"\")","v":""}]
[{"$f":"IFERROR(IF(INDIRECT($A$14&ROW())<>\"\",COUNTIF([1]Summary!$B$30:$B$713,INDIRECT($A$14&ROW())),\"\"),\"\")","v":""}]
[{"$f":"IFERROR(IF(INDIRECT($A$14&ROW())<>\"\",COUNTIF([1]Summary!$B$30:$B$713,INDIRECT($A$14&ROW())),\"\"),\"\")","v":""}]
[{"$f":"IFERROR(IF(INDIRECT($A$14&ROW())<>\"\",COUNTIF([1]Summary!$B$30:$B$713,INDIRECT($A$14&ROW())),\"\"),\"\")","v":""}]
[{"$f":"IFERROR(IF(INDIRECT($A$14&ROW())<>\"\",COUNTIF([1]Summary!$B$30:$B$713,INDIRECT($A$14&ROW())),\"\"),\"\")","v":""}]
[{"$f":"IFERROR(IF(INDIRECT($A$14&ROW())<>\"\",COUNTIF([1]Summary!$B$30:$B$713,INDIRECT($A$14&ROW())),\"\"),\"\")","v":""}]
[{"$f":"IFERROR(IF(INDIRECT($A$14&ROW())<>\"\",COUNTIF([1]Summary!$B$30:$B$713,INDIRECT($A$14&ROW())),\"\"),\"\")","v":""}]
[{"$f":"IFERROR(IF(INDIRECT($A$14&ROW())<>\"\",COUNTIF([1]Summary!$B$30:$B$713,INDIRECT($A$14&ROW())),\"\"),\"\")","v":""}]
[{"$f":"IFERROR(IF(INDIRECT($A$14&ROW())<>\"\",COUNTIF([1]Summary!$B$30:$B$713,INDIRECT($A$14&ROW())),\"\"),\"\")","v":""}]
[{"$f":"IFERROR(IF(INDIRECT($A$14&ROW())<>\"\",COUNTIF([1]Summary!$B$30:$B$713,INDIRECT($A$14&ROW())),\"\"),\"\")","v":""}]
[{"$f":"IFERROR(IF(INDIRECT($A$14&ROW())<>\"\",COUNTIF([1]Summary!$B$30:$B$713,INDIRECT($A$14&ROW())),\"\"),\"\")","v":""}]
[{"$f":"IFERROR(IF(INDIRECT($A$14&ROW())<>\"\",COUNTIF([1]Summary!$B$30:$B$713,INDIRECT($A$14&ROW())),\"\"),\"\")","v":""}]
[{"$f":"IFERROR(IF(INDIRECT($A$14&ROW())<>\"\",COUNTIF([1]Summary!$B$30:$B$713,INDIRECT($A$14&ROW())),\"\"),\"\")","v":""}]
[{"$f":"IFERROR(IF(INDIRECT($A$14&ROW())<>\"\",COUNTIF([1]Summary!$B$30:$B$713,INDIRECT($A$14&ROW())),\"\"),\"\")","v":""}]
[{"$f":"IFERROR(IF(INDIRECT($A$14&ROW())<>\"\",COUNTIF([1]Summary!$B$30:$B$713,INDIRECT($A$14&ROW())),\"\"),\"\")","v":""}]
[{"$f":"IFERROR(IF(INDIRECT($A$14&ROW())<>\"\",COUNTIF([1]Summary!$B$30:$B$713,INDIRECT($A$14&ROW())),\"\"),\"\")","v":""}]
[{"$f":"IFERROR(IF(INDIRECT($A$14&ROW())<>\"\",COUNTIF([1]Summary!$B$30:$B$713,INDIRECT($A$14&ROW())),\"\"),\"\")","v":""}]
[{"$f":"IFERROR(IF(INDIRECT($A$14&ROW())<>\"\",COUNTIF([1]Summary!$B$30:$B$713,INDIRECT($A$14&ROW())),\"\"),\"\")","v":""}]
[{"$f":"IFERROR(IF(INDIRECT($A$14&ROW())<>\"\",COUNTIF([1]Summary!$B$30:$B$713,INDIRECT($A$14&ROW())),\"\"),\"\")","v":""}]
[{"$f":"IFERROR(IF(INDIRECT($A$14&ROW())<>\"\",COUNTIF([1]Summary!$B$30:$B$713,INDIRECT($A$14&ROW())),\"\"),\"\")","v":""}]
[{"$f":"IFERROR(IF(INDIRECT($A$14&ROW())<>\"\",COUNTIF([1]Summary!$B$30:$B$713,INDIRECT($A$14&ROW())),\"\"),\"\")","v":""}]
[{"$f":"IFERROR(IF(INDIRECT($A$14&ROW())<>\"\",COUNTIF([1]Summary!$B$30:$B$713,INDIRECT($A$14&ROW())),\"\"),\"\")","v":""}]
[{"$f":"IFERROR(IF(INDIRECT($A$14&ROW())<>\"\",COUNTIF([1]Summary!$B$30:$B$713,INDIRECT($A$14&ROW())),\"\"),\"\")","v":""}]
[{"$f":"IFERROR(IF(INDIRECT($A$14&ROW())<>\"\",COUNTIF([1]Summary!$B$30:$B$713,INDIRECT($A$14&ROW())),\"\"),\"\")","v":""}]
[{"$f":"IFERROR(IF(INDIRECT($A$14&ROW())<>\"\",COUNTIF([1]Summary!$B$30:$B$713,INDIRECT($A$14&ROW())),\"\"),\"\")","v":""}]
[{"$f":"IFERROR(IF(INDIRECT($A$14&ROW())<>\"\",COUNTIF([1]Summary!$B$30:$B$713,INDIRECT($A$14&ROW())),\"\"),\"\")","v":""}]
[{"$f":"IFERROR(IF(INDIRECT($A$14&ROW())<>\"\",COUNTIF([1]Summary!$B$30:$B$713,INDIRECT($A$14&ROW())),\"\"),\"\")","v":""}]
[{"$f":"IFERROR(IF(INDIRECT($A$14&ROW())<>\"\",COUNTIF([1]Summary!$B$30:$B$713,INDIRECT($A$14&ROW())),\"\"),\"\")","v":""}]
[{"$f":"IFERROR(IF(INDIRECT($A$14&ROW())<>\"\",COUNTIF([1]Summary!$B$30:$B$713,INDIRECT($A$14&ROW())),\"\"),\"\")","v":""}]
[{"$f":"IFERROR(IF(INDIRECT($A$14&ROW())<>\"\",COUNTIF([1]Summary!$B$30:$B$713,INDIRECT($A$14&ROW())),\"\"),\"\")","v":""}]
[{"$f":"IFERROR(IF(INDIRECT($A$14&ROW())<>\"\",COUNTIF([1]Summary!$B$30:$B$713,INDIRECT($A$14&ROW())),\"\"),\"\")","v":""}]
[{"$f":"IFERROR(IF(INDIRECT($A$14&ROW())<>\"\",COUNTIF([1]Summary!$B$30:$B$713,INDIRECT($A$14&ROW())),\"\"),\"\")","v":""}]
[{"$f":"IFERROR(IF(INDIRECT($A$14&ROW())<>\"\",COUNTIF([1]Summary!$B$30:$B$713,INDIRECT($A$14&ROW())),\"\"),\"\")","v":""}]
[{"$f":"IFERROR(IF(INDIRECT($A$14&ROW())<>\"\",COUNTIF([1]Summary!$B$30:$B$713,INDIRECT($A$14&ROW())),\"\"),\"\")","v":""}]
[{"$f":"IFERROR(IF(INDIRECT($A$14&ROW())<>\"\",COUNTIF([1]Summary!$B$30:$B$713,INDIRECT($A$14&ROW())),\"\"),\"\")","v":""}]
[{"$f":"IFERROR(IF(INDIRECT($A$14&ROW())<>\"\",COUNTIF([1]Summary!$B$30:$B$713,INDIRECT($A$14&ROW())),\"\"),\"\")","v":""}]
[{"$f":"IFERROR(IF(INDIRECT($A$14&ROW())<>\"\",COUNTIF([1]Summary!$B$30:$B$713,INDIRECT($A$14&ROW())),\"\"),\"\")","v":""}]
[{"$f":"IFERROR(IF(INDIRECT($A$14&ROW())<>\"\",COUNTIF([1]Summary!$B$30:$B$713,INDIRECT($A$14&ROW())),\"\"),\"\")","v":""}]
[{"$f":"IFERROR(IF(INDIRECT($A$14&ROW())<>\"\",COUNTIF([1]Summary!$B$30:$B$713,INDIRECT($A$14&ROW())),\"\"),\"\")","v":""}]
[{"$f":"IFERROR(IF(INDIRECT($A$14&ROW())<>\"\",COUNTIF([1]Summary!$B$30:$B$713,INDIRECT($A$14&ROW())),\"\"),\"\")","v":""}]
[{"$f":"IFERROR(IF(INDIRECT($A$14&ROW())<>\"\",COUNTIF([1]Summary!$B$30:$B$713,INDIRECT($A$14&ROW())),\"\"),\"\")","v":""}]
[{"$f":"IFERROR(IF(INDIRECT($A$14&ROW())<>\"\",COUNTIF([1]Summary!$B$30:$B$713,INDIRECT($A$14&ROW())),\"\"),\"\")","v":""}]
[{"$f":"IFERROR(IF(INDIRECT($A$14&ROW())<>\"\",COUNTIF([1]Summary!$B$30:$B$713,INDIRECT($A$14&ROW())),\"\"),\"\")","v":""}]
[{"$f":"IFERROR(IF(INDIRECT($A$14&ROW())<>\"\",COUNTIF([1]Summary!$B$30:$B$713,INDIRECT($A$14&ROW())),\"\"),\"\")","v":""}]
[{"$f":"IFERROR(IF(INDIRECT($A$14&ROW())<>\"\",COUNTIF([1]Summary!$B$30:$B$713,INDIRECT($A$14&ROW())),\"\"),\"\")","v":""}]
[{"$f":"IFERROR(IF(INDIRECT($A$14&ROW())<>\"\",COUNTIF([1]Summary!$B$30:$B$713,INDIRECT($A$14&ROW())),\"\"),\"\")","v":""}]
[{"$f":"IFERROR(IF(INDIRECT($A$14&ROW())<>\"\",COUNTIF([1]Summary!$B$30:$B$713,INDIRECT($A$14&ROW())),\"\"),\"\")","v":""}]
[{"$f":"IFERROR(IF(INDIRECT($A$14&ROW())<>\"\",COUNTIF([1]Summary!$B$30:$B$713,INDIRECT($A$14&ROW())),\"\"),\"\")","v":""}]
[{"$f":"IFERROR(IF(INDIRECT($A$14&ROW())<>\"\",COUNTIF([1]Summary!$B$30:$B$713,INDIRECT($A$14&ROW())),\"\"),\"\")","v":""}]
[{"$f":"IFERROR(IF(INDIRECT($A$14&ROW())<>\"\",COUNTIF([1]Summary!$B$30:$B$713,INDIRECT($A$14&ROW())),\"\"),\"\")","v":""}]
[{"$f":"IFERROR(IF(INDIRECT($A$14&ROW())<>\"\",COUNTIF([1]Summary!$B$30:$B$713,INDIRECT($A$14&ROW())),\"\"),\"\")","v":""}]
[{"$f":"IFERROR(IF(INDIRECT($A$14&ROW())<>\"\",COUNTIF([1]Summary!$B$30:$B$713,INDIRECT($A$14&ROW())),\"\"),\"\")","v":""}]
[{"$f":"IFERROR(IF(INDIRECT($A$14&ROW())<>\"\",COUNTIF([1]Summary!$B$30:$B$713,INDIRECT($A$14&ROW())),\"\"),\"\")","v":""}]
[{"$f":"IFERROR(IF(INDIRECT($A$14&ROW())<>\"\",COUNTIF([1]Summary!$B$30:$B$713,INDIRECT($A$14&ROW())),\"\"),\"\")","v":""}]
[{"$f":"IFERROR(IF(INDIRECT($A$14&ROW())<>\"\",COUNTIF([1]Summary!$B$30:$B$713,INDIRECT($A$14&ROW())),\"\"),\"\")","v":""}]
[{"$f":"IFERROR(IF(INDIRECT($A$14&ROW())<>\"\",COUNTIF([1]Summary!$B$30:$B$713,INDIRECT($A$14&ROW())),\"\"),\"\")","v":""}]
[{"$f":"IFERROR(IF(INDIRECT($A$14&ROW())<>\"\",COUNTIF([1]Summary!$B$30:$B$713,INDIRECT($A$14&ROW())),\"\"),\"\")","v":""}]
[{"$f":"IFERROR(IF(INDIRECT($A$14&ROW())<>\"\",COUNTIF([1]Summary!$B$30:$B$713,INDIRECT($A$14&ROW())),\"\"),\"\")","v":""}]
[{"$f":"IFERROR(IF(INDIRECT($A$14&ROW())<>\"\",COUNTIF([1]Summary!$B$30:$B$713,INDIRECT($A$14&ROW())),\"\"),\"\")","v":""}]
[{"$f":"IFERROR(IF(INDIRECT($A$14&ROW())<>\"\",COUNTIF([1]Summary!$B$30:$B$713,INDIRECT($A$14&ROW())),\"\"),\"\")","v":""}]
[{"$f":"IFERROR(IF(INDIRECT($A$14&ROW())<>\"\",COUNTIF([1]Summary!$B$30:$B$713,INDIRECT($A$14&ROW())),\"\"),\"\")","v":""}]
[{"$f":"IFERROR(IF(INDIRECT($A$14&ROW())<>\"\",COUNTIF([1]Summary!$B$30:$B$713,INDIRECT($A$14&ROW())),\"\"),\"\")","v":""}]
[{"$f":"IFERROR(IF(INDIRECT($A$14&ROW())<>\"\",COUNTIF([1]Summary!$B$30:$B$713,INDIRECT($A$14&ROW())),\"\"),\"\")","v":""}]
[{"$f":"IFERROR(IF(INDIRECT($A$14&ROW())<>\"\",COUNTIF([1]Summary!$B$30:$B$713,INDIRECT($A$14&ROW())),\"\"),\"\")","v":""}]
[{"$f":"IFERROR(IF(INDIRECT($A$14&ROW())<>\"\",COUNTIF([1]Summary!$B$30:$B$713,INDIRECT($A$14&ROW())),\"\"),\"\")","v":""}]
[{"$f":"IFERROR(IF(INDIRECT($A$14&ROW())<>\"\",COUNTIF([1]Summary!$B$30:$B$713,INDIRECT($A$14&ROW())),\"\"),\"\")","v":""}]
[{"$f":"IFERROR(IF(INDIRECT($A$14&ROW())<>\"\",COUNTIF([1]Summary!$B$30:$B$713,INDIRECT($A$14&ROW())),\"\"),\"\")","v":""}]
[{"$f":"IFERROR(IF(INDIRECT($A$14&ROW())<>\"\",COUNTIF([1]Summary!$B$30:$B$713,INDIRECT($A$14&ROW())),\"\"),\"\")","v":""}]
[{"$f":"IFERROR(IF(INDIRECT($A$14&ROW())<>\"\",COUNTIF([1]Summary!$B$30:$B$713,INDIRECT($A$14&ROW())),\"\"),\"\")","v":""}]
[{"$f":"IFERROR(IF(INDIRECT($A$14&ROW())<>\"\",COUNTIF([1]Summary!$B$30:$B$713,INDIRECT($A$14&ROW())),\"\"),\"\")","v":""}]
[{"$f":"IFERROR(IF(INDIRECT($A$14&ROW())<>\"\",COUNTIF([1]Summary!$B$30:$B$713,INDIRECT($A$14&ROW())),\"\"),\"\")","v":""}]
[{"$f":"IFERROR(IF(INDIRECT($A$14&ROW())<>\"\",COUNTIF([1]Summary!$B$30:$B$713,INDIRECT($A$14&ROW())),\"\"),\"\")","v":""}]
[{"$f":"IFERROR(IF(INDIRECT($A$14&ROW())<>\"\",COUNTIF([1]Summary!$B$30:$B$713,INDIRECT($A$14&ROW())),\"\"),\"\")","v":""}]
[{"$f":"IFERROR(IF(INDIRECT($A$14&ROW())<>\"\",COUNTIF([1]Summary!$B$30:$B$713,INDIRECT($A$14&ROW())),\"\"),\"\")","v":""}]
[{"$f":"IFERROR(IF(INDIRECT($A$14&ROW())<>\"\",COUNTIF([1]Summary!$B$30:$B$713,INDIRECT($A$14&ROW())),\"\"),\"\")","v":""}]
[{"$f":"IFERROR(IF(INDIRECT($A$14&ROW())<>\"\",COUNTIF([1]Summary!$B$30:$B$713,INDIRECT($A$14&ROW())),\"\"),\"\")","v":""}]
[{"$f":"IFERROR(IF(INDIRECT($A$14&ROW())<>\"\",COUNTIF([1]Summary!$B$30:$B$713,INDIRECT($A$14&ROW())),\"\"),\"\")","v":""}]
[{"$f":"IFERROR(IF(INDIRECT($A$14&ROW())<>\"\",COUNTIF([1]Summary!$B$30:$B$713,INDIRECT($A$14&ROW())),\"\"),\"\")","v":""}]
[{"$f":"IFERROR(IF(INDIRECT($A$14&ROW())<>\"\",COUNTIF([1]Summary!$B$30:$B$713,INDIRECT($A$14&ROW())),\"\"),\"\")","v":""}]
[{"$f":"IFERROR(IF(INDIRECT($A$14&ROW())<>\"\",COUNTIF([1]Summary!$B$30:$B$713,INDIRECT($A$14&ROW())),\"\"),\"\")","v":""}]
[{"$f":"IFERROR(IF(INDIRECT($A$14&ROW())<>\"\",COUNTIF([1]Summary!$B$30:$B$713,INDIRECT($A$14&ROW())),\"\"),\"\")","v":""}]
[{"$f":"IFERROR(IF(INDIRECT($A$14&ROW())<>\"\",COUNTIF([1]Summary!$B$30:$B$713,INDIRECT($A$14&ROW())),\"\"),\"\")","v":""}]
[{"$f":"IFERROR(IF(INDIRECT($A$14&ROW())<>\"\",COUNTIF([1]Summary!$B$30:$B$713,INDIRECT($A$14&ROW())),\"\"),\"\")","v":""}]
[{"$f":"IFERROR(IF(INDIRECT($A$14&ROW())<>\"\",COUNTIF([1]Summary!$B$30:$B$713,INDIRECT($A$14&ROW())),\"\"),\"\")","v":""}]
[{"$f":"IFERROR(IF(INDIRECT($A$14&ROW())<>\"\",COUNTIF([1]Summary!$B$30:$B$713,INDIRECT($A$14&ROW())),\"\"),\"\")","v":""}]
[{"$f":"IFERROR(IF(INDIRECT($A$14&ROW())<>\"\",COUNTIF([1]Summary!$B$30:$B$713,INDIRECT($A$14&ROW())),\"\"),\"\")","v":""}]
[{"$f":"IFERROR(IF(INDIRECT($A$14&ROW())<>\"\",COUNTIF([1]Summary!$B$30:$B$713,INDIRECT($A$14&ROW())),\"\"),\"\")","v":""}]
[{"$f":"IFERROR(IF(INDIRECT($A$14&ROW())<>\"\",COUNTIF([1]Summary!$B$30:$B$713,INDIRECT($A$14&ROW())),\"\"),\"\")","v":""}]
[{"$f":"IFERROR(IF(INDIRECT($A$14&ROW())<>\"\",COUNTIF([1]Summary!$B$30:$B$713,INDIRECT($A$14&ROW())),\"\"),\"\")","v":""}]
[{"$f":"IFERROR(IF(INDIRECT($A$14&ROW())<>\"\",COUNTIF([1]Summary!$B$30:$B$713,INDIRECT($A$14&ROW())),\"\"),\"\")","v":""}]
[{"$f":"IFERROR(IF(INDIRECT($A$14&ROW())<>\"\",COUNTIF([1]Summary!$B$30:$B$713,INDIRECT($A$14&ROW())),\"\"),\"\")","v":""}]
[{"$f":"IFERROR(IF(INDIRECT($A$14&ROW())<>\"\",COUNTIF([1]Summary!$B$30:$B$713,INDIRECT($A$14&ROW())),\"\"),\"\")","v":""}]
[{"$f":"IFERROR(IF(INDIRECT($A$14&ROW())<>\"\",COUNTIF([1]Summary!$B$30:$B$713,INDIRECT($A$14&ROW())),\"\"),\"\")","v":""}]
[{"$f":"IFERROR(IF(INDIRECT($A$14&ROW())<>\"\",COUNTIF([1]Summary!$B$30:$B$713,INDIRECT($A$14&ROW())),\"\"),\"\")","v":""}]
[{"$f":"IFERROR(IF(INDIRECT($A$14&ROW())<>\"\",COUNTIF([1]Summary!$B$30:$B$713,INDIRECT($A$14&ROW())),\"\"),\"\")","v":""}]
[{"$f":"IFERROR(IF(INDIRECT($A$14&ROW())<>\"\",COUNTIF([1]Summary!$B$30:$B$713,INDIRECT($A$14&ROW())),\"\"),\"\")","v":""}]
[{"$f":"IFERROR(IF(INDIRECT($A$14&ROW())<>\"\",COUNTIF([1]Summary!$B$30:$B$713,INDIRECT($A$14&ROW())),\"\"),\"\")","v":""}]
[{"$f":"IFERROR(IF(INDIRECT($A$14&ROW())<>\"\",COUNTIF([1]Summary!$B$30:$B$713,INDIRECT($A$14&ROW())),\"\"),\"\")","v":""}]
[{"$f":"IFERROR(IF(INDIRECT($A$14&ROW())<>\"\",COUNTIF([1]Summary!$B$30:$B$713,INDIRECT($A$14&ROW())),\"\"),\"\")","v":""}]
[{"$f":"IFERROR(IF(INDIRECT($A$14&ROW())<>\"\",COUNTIF([1]Summary!$B$30:$B$713,INDIRECT($A$14&ROW())),\"\"),\"\")","v":""}]
[{"$f":"IFERROR(IF(INDIRECT($A$14&ROW())<>\"\",COUNTIF([1]Summary!$B$30:$B$713,INDIRECT($A$14&ROW())),\"\"),\"\")","v":""}]
[{"$f":"IFERROR(IF(INDIRECT($A$14&ROW())<>\"\",COUNTIF([1]Summary!$B$30:$B$713,INDIRECT($A$14&ROW())),\"\"),\"\")","v":""}]
[{"$f":"IFERROR(IF(INDIRECT($A$14&ROW())<>\"\",COUNTIF([1]Summary!$B$30:$B$713,INDIRECT($A$14&ROW())),\"\"),\"\")","v":""}]
[{"$f":"IFERROR(IF(INDIRECT($A$14&ROW())<>\"\",COUNTIF([1]Summary!$B$30:$B$713,INDIRECT($A$14&ROW())),\"\"),\"\")","v":""}]
[{"$f":"IFERROR(IF(INDIRECT($A$14&ROW())<>\"\",COUNTIF([1]Summary!$B$30:$B$713,INDIRECT($A$14&ROW())),\"\"),\"\")","v":""}]
[{"$f":"IFERROR(IF(INDIRECT($A$14&ROW())<>\"\",COUNTIF([1]Summary!$B$30:$B$713,INDIRECT($A$14&ROW())),\"\"),\"\")","v":""}]
[{"$f":"IFERROR(IF(INDIRECT($A$14&ROW())<>\"\",COUNTIF([1]Summary!$B$30:$B$713,INDIRECT($A$14&ROW())),\"\"),\"\")","v":""}]
[{"$f":"IFERROR(IF(INDIRECT($A$14&ROW())<>\"\",COUNTIF([1]Summary!$B$30:$B$713,INDIRECT($A$14&ROW())),\"\"),\"\")","v":""}]
[{"$f":"IFERROR(IF(INDIRECT($A$14&ROW())<>\"\",COUNTIF([1]Summary!$B$30:$B$713,INDIRECT($A$14&ROW())),\"\"),\"\")","v":""}]
[{"$f":"IFERROR(IF(INDIRECT($A$14&ROW())<>\"\",COUNTIF([1]Summary!$B$30:$B$713,INDIRECT($A$14&ROW())),\"\"),\"\")","v":""}]
[{"$f":"IFERROR(IF(INDIRECT($A$14&ROW())<>\"\",COUNTIF([1]Summary!$B$30:$B$713,INDIRECT($A$14&ROW())),\"\"),\"\")","v":""}]
[{"$f":"IFERROR(IF(INDIRECT($A$14&ROW())<>\"\",COUNTIF([1]Summary!$B$30:$B$713,INDIRECT($A$14&ROW())),\"\"),\"\")","v":""}]
[{"$f":"IFERROR(IF(INDIRECT($A$14&ROW())<>\"\",COUNTIF([1]Summary!$B$30:$B$713,INDIRECT($A$14&ROW())),\"\"),\"\")","v":""}]
[{"$f":"IFERROR(IF(INDIRECT($A$14&ROW())<>\"\",COUNTIF([1]Summary!$B$30:$B$713,INDIRECT($A$14&ROW())),\"\"),\"\")","v":""}]
[{"$f":"IFERROR(IF(INDIRECT($A$14&ROW())<>\"\",COUNTIF([1]Summary!$B$30:$B$713,INDIRECT($A$14&ROW())),\"\"),\"\")","v":""}]
[{"$f":"IFERROR(IF(INDIRECT($A$14&ROW())<>\"\",COUNTIF([1]Summary!$B$30:$B$713,INDIRECT($A$14&ROW())),\"\"),\"\")","v":""}]
[{"$f":"IFERROR(IF(INDIRECT($A$14&ROW())<>\"\",COUNTIF([1]Summary!$B$30:$B$713,INDIRECT($A$14&ROW())),\"\"),\"\")","v":""}]
[{"$f":"IFERROR(IF(INDIRECT($A$14&ROW())<>\"\",COUNTIF([1]Summary!$B$30:$B$713,INDIRECT($A$14&ROW())),\"\"),\"\")","v":""}]
[{"$f":"IFERROR(IF(INDIRECT($A$14&ROW())<>\"\",COUNTIF([1]Summary!$B$30:$B$713,INDIRECT($A$14&ROW())),\"\"),\"\")","v":""}]
[{"$f":"IFERROR(IF(INDIRECT($A$14&ROW())<>\"\",COUNTIF([1]Summary!$B$30:$B$713,INDIRECT($A$14&ROW())),\"\"),\"\")","v":""}]
[{"$f":"IFERROR(IF(INDIRECT($A$14&ROW())<>\"\",COUNTIF([1]Summary!$B$30:$B$713,INDIRECT($A$14&ROW())),\"\"),\"\")","v":""}]
[{"$f":"IFERROR(IF(INDIRECT($A$14&ROW())<>\"\",COUNTIF([1]Summary!$B$30:$B$713,INDIRECT($A$14&ROW())),\"\"),\"\")","v":""}]
[{"$f":"IFERROR(IF(INDIRECT($A$14&ROW())<>\"\",COUNTIF([1]Summary!$B$30:$B$713,INDIRECT($A$14&ROW())),\"\"),\"\")","v":""}]
[{"$f":"IFERROR(IF(INDIRECT($A$14&ROW())<>\"\",COUNTIF([1]Summary!$B$30:$B$713,INDIRECT($A$14&ROW())),\"\"),\"\")","v":""}]
[{"$f":"IFERROR(IF(INDIRECT($A$14&ROW())<>\"\",COUNTIF([1]Summary!$B$30:$B$713,INDIRECT($A$14&ROW())),\"\"),\"\")","v":""}]
[{"$f":"IFERROR(IF(INDIRECT($A$14&ROW())<>\"\",COUNTIF([1]Summary!$B$30:$B$713,INDIRECT($A$14&ROW())),\"\"),\"\")","v":""}]
[{"$f":"IFERROR(IF(INDIRECT($A$14&ROW())<>\"\",COUNTIF([1]Summary!$B$30:$B$713,INDIRECT($A$14&ROW())),\"\"),\"\")","v":""}]
[{"$f":"IFERROR(IF(INDIRECT($A$14&ROW())<>\"\",COUNTIF([1]Summary!$B$30:$B$713,INDIRECT($A$14&ROW())),\"\"),\"\")","v":""}]
[{"$f":"IFERROR(IF(INDIRECT($A$14&ROW())<>\"\",COUNTIF([1]Summary!$B$30:$B$713,INDIRECT($A$14&ROW())),\"\"),\"\")","v":""}]
[{"$f":"IFERROR(IF(INDIRECT($A$14&ROW())<>\"\",COUNTIF([1]Summary!$B$30:$B$713,INDIRECT($A$14&ROW())),\"\"),\"\")","v":""}]
[{"$f":"IFERROR(IF(INDIRECT($A$14&ROW())<>\"\",COUNTIF([1]Summary!$B$30:$B$713,INDIRECT($A$14&ROW())),\"\"),\"\")","v":""}]
[{"$f":"IFERROR(IF(INDIRECT($A$14&ROW())<>\"\",COUNTIF([1]Summary!$B$30:$B$713,INDIRECT($A$14&ROW())),\"\"),\"\")","v":""}]
[{"$f":"IFERROR(IF(INDIRECT($A$14&ROW())<>\"\",COUNTIF([1]Summary!$B$30:$B$713,INDIRECT($A$14&ROW())),\"\"),\"\")","v":""}]
[{"$f":"IFERROR(IF(INDIRECT($A$14&ROW())<>\"\",COUNTIF([1]Summary!$B$30:$B$713,INDIRECT($A$14&ROW())),\"\"),\"\")","v":""}]
[{"$f":"IFERROR(IF(INDIRECT($A$14&ROW())<>\"\",COUNTIF([1]Summary!$B$30:$B$713,INDIRECT($A$14&ROW())),\"\"),\"\")","v":""}]
[{"$f":"IFERROR(IF(INDIRECT($A$14&ROW())<>\"\",COUNTIF([1]Summary!$B$30:$B$713,INDIRECT($A$14&ROW())),\"\"),\"\")","v":""}]
[{"$f":"IFERROR(IF(INDIRECT($A$14&ROW())<>\"\",COUNTIF([1]Summary!$B$30:$B$713,INDIRECT($A$14&ROW())),\"\"),\"\")","v":""}]
[{"$f":"IFERROR(IF(INDIRECT($A$14&ROW())<>\"\",COUNTIF([1]Summary!$B$30:$B$713,INDIRECT($A$14&ROW())),\"\"),\"\")","v":""}]
[{"$f":"IFERROR(IF(INDIRECT($A$14&ROW())<>\"\",COUNTIF([1]Summary!$B$30:$B$713,INDIRECT($A$14&ROW())),\"\"),\"\")","v":""}]
[{"$f":"IFERROR(IF(INDIRECT($A$14&ROW())<>\"\",COUNTIF([1]Summary!$B$30:$B$713,INDIRECT($A$14&ROW())),\"\"),\"\")","v":""}]
[{"$f":"IFERROR(IF(INDIRECT($A$14&ROW())<>\"\",COUNTIF([1]Summary!$B$30:$B$713,INDIRECT($A$14&ROW())),\"\"),\"\")","v":""}]
[{"$f":"IFERROR(IF(INDIRECT($A$14&ROW())<>\"\",COUNTIF([1]Summary!$B$30:$B$713,INDIRECT($A$14&ROW())),\"\"),\"\")","v":""}]
[{"$f":"IFERROR(IF(INDIRECT($A$14&ROW())<>\"\",COUNTIF([1]Summary!$B$30:$B$713,INDIRECT($A$14&ROW())),\"\"),\"\")","v":""}]
[{"$f":"IFERROR(IF(INDIRECT($A$14&ROW())<>\"\",COUNTIF([1]Summary!$B$30:$B$713,INDIRECT($A$14&ROW())),\"\"),\"\")","v":""}]
[{"$f":"IFERROR(IF(INDIRECT($A$14&ROW())<>\"\",COUNTIF([1]Summary!$B$30:$B$713,INDIRECT($A$14&ROW())),\"\"),\"\")","v":""}]
[{"$f":"IFERROR(IF(INDIRECT($A$14&ROW())<>\"\",COUNTIF([1]Summary!$B$30:$B$713,INDIRECT($A$14&ROW())),\"\"),\"\")","v":""}]
[{"$f":"IFERROR(IF(INDIRECT($A$14&ROW())<>\"\",COUNTIF([1]Summary!$B$30:$B$713,INDIRECT($A$14&ROW())),\"\"),\"\")","v":""}]
[{"$f":"IFERROR(IF(INDIRECT($A$14&ROW())<>\"\",COUNTIF([1]Summary!$B$30:$B$713,INDIRECT($A$14&ROW())),\"\"),\"\")","v":""}]
[{"$f":"IFERROR(IF(INDIRECT($A$14&ROW())<>\"\",COUNTIF([1]Summary!$B$30:$B$713,INDIRECT($A$14&ROW())),\"\"),\"\")","v":""}]
[{"$f":"IFERROR(IF(INDIRECT($A$14&ROW())<>\"\",COUNTIF([1]Summary!$B$30:$B$713,INDIRECT($A$14&ROW())),\"\"),\"\")","v":""}]
[{"$f":"IFERROR(IF(INDIRECT($A$14&ROW())<>\"\",COUNTIF([1]Summary!$B$30:$B$713,INDIRECT($A$14&ROW())),\"\"),\"\")","v":""}]
[{"$f":"IFERROR(IF(INDIRECT($A$14&ROW())<>\"\",COUNTIF([1]Summary!$B$30:$B$713,INDIRECT($A$14&ROW())),\"\"),\"\")","v":""}]
[{"$f":"IFERROR(IF(INDIRECT($A$14&ROW())<>\"\",COUNTIF([1]Summary!$B$30:$B$713,INDIRECT($A$14&ROW())),\"\"),\"\")","v":""}]
[{"$f":"IFERROR(IF(INDIRECT($A$14&ROW())<>\"\",COUNTIF([1]Summary!$B$30:$B$713,INDIRECT($A$14&ROW())),\"\"),\"\")","v":""}]
[{"$f":"IFERROR(IF(INDIRECT($A$14&ROW())<>\"\",COUNTIF([1]Summary!$B$30:$B$713,INDIRECT($A$14&ROW())),\"\"),\"\")","v":""}]
[{"$f":"IFERROR(IF(INDIRECT($A$14&ROW())<>\"\",COUNTIF([1]Summary!$B$30:$B$713,INDIRECT($A$14&ROW())),\"\"),\"\")","v":""}]
[{"$f":"IFERROR(IF(INDIRECT($A$14&ROW())<>\"\",COUNTIF([1]Summary!$B$30:$B$713,INDIRECT($A$14&ROW())),\"\"),\"\")","v":""}]
[{"$f":"IFERROR(IF(INDIRECT($A$14&ROW())<>\"\",COUNTIF([1]Summary!$B$30:$B$713,INDIRECT($A$14&ROW())),\"\"),\"\")","v":""}]
[{"$f":"IFERROR(IF(INDIRECT($A$14&ROW())<>\"\",COUNTIF([1]Summary!$B$30:$B$713,INDIRECT($A$14&ROW())),\"\"),\"\")","v":""}]
[{"$f":"IFERROR(IF(INDIRECT($A$14&ROW())<>\"\",COUNTIF([1]Summary!$B$30:$B$713,INDIRECT($A$14&ROW())),\"\"),\"\")","v":""}]
[{"$f":"IFERROR(IF(INDIRECT($A$14&ROW())<>\"\",COUNTIF([1]Summary!$B$30:$B$713,INDIRECT($A$14&ROW())),\"\"),\"\")","v":""}]
[{"$f":"IFERROR(IF(INDIRECT($A$14&ROW())<>\"\",COUNTIF([1]Summary!$B$30:$B$713,INDIRECT($A$14&ROW())),\"\"),\"\")","v":""}]
[{"$f":"IFERROR(IF(INDIRECT($A$14&ROW())<>\"\",COUNTIF([1]Summary!$B$30:$B$713,INDIRECT($A$14&ROW())),\"\"),\"\")","v":""}]
[{"$f":"IFERROR(IF(INDIRECT($A$14&ROW())<>\"\",COUNTIF([1]Summary!$B$30:$B$713,INDIRECT($A$14&ROW())),\"\"),\"\")","v":""}]
[{"$f":"IFERROR(IF(INDIRECT($A$14&ROW())<>\"\",COUNTIF([1]Summary!$B$30:$B$713,INDIRECT($A$14&ROW())),\"\"),\"\")","v":""}]
[{"$f":"IFERROR(IF(INDIRECT($A$14&ROW())<>\"\",COUNTIF([1]Summary!$B$30:$B$713,INDIRECT($A$14&ROW())),\"\"),\"\")","v":""}]
[{"$f":"IFERROR(IF(INDIRECT($A$14&ROW())<>\"\",COUNTIF([1]Summary!$B$30:$B$713,INDIRECT($A$14&ROW())),\"\"),\"\")","v":""}]
[{"$f":"IFERROR(IF(INDIRECT($A$14&ROW())<>\"\",COUNTIF([1]Summary!$B$30:$B$713,INDIRECT($A$14&ROW())),\"\"),\"\")","v":""}]
[{"$f":"IFERROR(IF(INDIRECT($A$14&ROW())<>\"\",COUNTIF([1]Summary!$B$30:$B$713,INDIRECT($A$14&ROW())),\"\"),\"\")","v":""}]
[{"$f":"IFERROR(IF(INDIRECT($A$14&ROW())<>\"\",COUNTIF([1]Summary!$B$30:$B$713,INDIRECT($A$14&ROW())),\"\"),\"\")","v":""}]
[{"$f":"IFERROR(IF(INDIRECT($A$14&ROW())<>\"\",COUNTIF([1]Summary!$B$30:$B$713,INDIRECT($A$14&ROW())),\"\"),\"\")","v":""}]
[{"$f":"IFERROR(IF(INDIRECT($A$14&ROW())<>\"\",COUNTIF([1]Summary!$B$30:$B$713,INDIRECT($A$14&ROW())),\"\"),\"\")","v":""}]
[{"$f":"IFERROR(IF(INDIRECT($A$14&ROW())<>\"\",COUNTIF([1]Summary!$B$30:$B$713,INDIRECT($A$14&ROW())),\"\"),\"\")","v":""}]
[{"$f":"IFERROR(IF(INDIRECT($A$14&ROW())<>\"\",COUNTIF([1]Summary!$B$30:$B$713,INDIRECT($A$14&ROW())),\"\"),\"\")","v":""}]
[{"$f":"IFERROR(IF(INDIRECT($A$14&ROW())<>\"\",COUNTIF([1]Summary!$B$30:$B$713,INDIRECT($A$14&ROW())),\"\"),\"\")","v":""}]
[{"$f":"IFERROR(IF(INDIRECT($A$14&ROW())<>\"\",COUNTIF([1]Summary!$B$30:$B$713,INDIRECT($A$14&ROW())),\"\"),\"\")","v":""}]
[{"$f":"IFERROR(IF(INDIRECT($A$14&ROW())<>\"\",COUNTIF([1]Summary!$B$30:$B$713,INDIRECT($A$14&ROW())),\"\"),\"\")","v":""}]
[{"$f":"IFERROR(IF(INDIRECT($A$14&ROW())<>\"\",COUNTIF([1]Summary!$B$30:$B$713,INDIRECT($A$14&ROW())),\"\"),\"\")","v":""}]
[{"$f":"IFERROR(IF(INDIRECT($A$14&ROW())<>\"\",COUNTIF([1]Summary!$B$30:$B$713,INDIRECT($A$14&ROW())),\"\"),\"\")","v":""}]
[{"$f":"IFERROR(IF(INDIRECT($A$14&ROW())<>\"\",COUNTIF([1]Summary!$B$30:$B$713,INDIRECT($A$14&ROW())),\"\"),\"\")","v":""}]
[{"$f":"IFERROR(IF(INDIRECT($A$14&ROW())<>\"\",COUNTIF([1]Summary!$B$30:$B$713,INDIRECT($A$14&ROW())),\"\"),\"\")","v":""}]
[{"$f":"IFERROR(IF(INDIRECT($A$14&ROW())<>\"\",COUNTIF([1]Summary!$B$30:$B$713,INDIRECT($A$14&ROW())),\"\"),\"\")","v":""}]
[{"$f":"IFERROR(IF(INDIRECT($A$14&ROW())<>\"\",COUNTIF([1]Summary!$B$30:$B$713,INDIRECT($A$14&ROW())),\"\"),\"\")","v":""}]
[{"$f":"IFERROR(IF(INDIRECT($A$14&ROW())<>\"\",COUNTIF([1]Summary!$B$30:$B$713,INDIRECT($A$14&ROW())),\"\"),\"\")","v":""}]
[{"$f":"IFERROR(IF(INDIRECT($A$14&ROW())<>\"\",COUNTIF([1]Summary!$B$30:$B$713,INDIRECT($A$14&ROW())),\"\"),\"\")","v":""}]
[{"$f":"IFERROR(IF(INDIRECT($A$14&ROW())<>\"\",COUNTIF([1]Summary!$B$30:$B$713,INDIRECT($A$14&ROW())),\"\"),\"\")","v":""}]
[{"$f":"IFERROR(IF(INDIRECT($A$14&ROW())<>\"\",COUNTIF([1]Summary!$B$30:$B$713,INDIRECT($A$14&ROW())),\"\"),\"\")","v":""}]
[{"$f":"IFERROR(IF(INDIRECT($A$14&ROW())<>\"\",COUNTIF([1]Summary!$B$30:$B$713,INDIRECT($A$14&ROW())),\"\"),\"\")","v":""}]
[{"$f":"IFERROR(IF(INDIRECT($A$14&ROW())<>\"\",COUNTIF([1]Summary!$B$30:$B$713,INDIRECT($A$14&ROW())),\"\"),\"\")","v":""}]
[{"$f":"IFERROR(IF(INDIRECT($A$14&ROW())<>\"\",COUNTIF([1]Summary!$B$30:$B$713,INDIRECT($A$14&ROW())),\"\"),\"\")","v":""}]
[{"$f":"IFERROR(IF(INDIRECT($A$14&ROW())<>\"\",COUNTIF([1]Summary!$B$30:$B$713,INDIRECT($A$14&ROW())),\"\"),\"\")","v":""}]
[{"$f":"IFERROR(IF(INDIRECT($A$14&ROW())<>\"\",COUNTIF([1]Summary!$B$30:$B$713,INDIRECT($A$14&ROW())),\"\"),\"\")","v":""}]
[{"$f":"IFERROR(IF(INDIRECT($A$14&ROW())<>\"\",COUNTIF([1]Summary!$B$30:$B$713,INDIRECT($A$14&ROW())),\"\"),\"\")","v":""}]
[{"$f":"IFERROR(IF(INDIRECT($A$14&ROW())<>\"\",COUNTIF([1]Summary!$B$30:$B$713,INDIRECT($A$14&ROW())),\"\"),\"\")","v":""}]
[{"$f":"IFERROR(IF(INDIRECT($A$14&ROW())<>\"\",COUNTIF([1]Summary!$B$30:$B$713,INDIRECT($A$14&ROW())),\"\"),\"\")","v":""}]
[{"$f":"IFERROR(IF(INDIRECT($A$14&ROW())<>\"\",COUNTIF([1]Summary!$B$30:$B$713,INDIRECT($A$14&ROW())),\"\"),\"\")","v":""}]
[{"$f":"IFERROR(IF(INDIRECT($A$14&ROW())<>\"\",COUNTIF([1]Summary!$B$30:$B$713,INDIRECT($A$14&ROW())),\"\"),\"\")","v":""}]
[{"$f":"IFERROR(IF(INDIRECT($A$14&ROW())<>\"\",COUNTIF([1]Summary!$B$30:$B$713,INDIRECT($A$14&ROW())),\"\"),\"\")","v":""}]
[{"$f":"IFERROR(IF(INDIRECT($A$14&ROW())<>\"\",COUNTIF([1]Summary!$B$30:$B$713,INDIRECT($A$14&ROW())),\"\"),\"\")","v":""}]
[{"$f":"IFERROR(IF(INDIRECT($A$14&ROW())<>\"\",COUNTIF([1]Summary!$B$30:$B$713,INDIRECT($A$14&ROW())),\"\"),\"\")","v":""}]
[{"$f":"IFERROR(IF(INDIRECT($A$14&ROW())<>\"\",COUNTIF([1]Summary!$B$30:$B$713,INDIRECT($A$14&ROW())),\"\"),\"\")","v":""}]
[{"$f":"IFERROR(IF(INDIRECT($A$14&ROW())<>\"\",COUNTIF([1]Summary!$B$30:$B$713,INDIRECT($A$14&ROW())),\"\"),\"\")","v":""}]
[{"$f":"IFERROR(IF(INDIRECT($A$14&ROW())<>\"\",COUNTIF([1]Summary!$B$30:$B$713,INDIRECT($A$14&ROW())),\"\"),\"\")","v":""}]
[{"$f":"IFERROR(IF(INDIRECT($A$14&ROW())<>\"\",COUNTIF([1]Summary!$B$30:$B$713,INDIRECT($A$14&ROW())),\"\"),\"\")","v":""}]
[{"$f":"IFERROR(IF(INDIRECT($A$14&ROW())<>\"\",COUNTIF([1]Summary!$B$30:$B$713,INDIRECT($A$14&ROW())),\"\"),\"\")","v":""}]
[{"$f":"IFERROR(IF(INDIRECT($A$14&ROW())<>\"\",COUNTIF([1]Summary!$B$30:$B$713,INDIRECT($A$14&ROW())),\"\"),\"\")","v":""}]
[{"$f":"IFERROR(IF(INDIRECT($A$14&ROW())<>\"\",COUNTIF([1]Summary!$B$30:$B$713,INDIRECT($A$14&ROW())),\"\"),\"\")","v":""}]
[{"$f":"IFERROR(IF(INDIRECT($A$14&ROW())<>\"\",COUNTIF([1]Summary!$B$30:$B$713,INDIRECT($A$14&ROW())),\"\"),\"\")","v":""}]
[{"$f":"IFERROR(IF(INDIRECT($A$14&ROW())<>\"\",COUNTIF([1]Summary!$B$30:$B$713,INDIRECT($A$14&ROW())),\"\"),\"\")","v":""}]
[{"$f":"IFERROR(IF(INDIRECT($A$14&ROW())<>\"\",COUNTIF([1]Summary!$B$30:$B$713,INDIRECT($A$14&ROW())),\"\"),\"\")","v":""}]
[{"$f":"IFERROR(IF(INDIRECT($A$14&ROW())<>\"\",COUNTIF([1]Summary!$B$30:$B$713,INDIRECT($A$14&ROW())),\"\"),\"\")","v":""}]
[{"$f":"IFERROR(IF(INDIRECT($A$14&ROW())<>\"\",COUNTIF([1]Summary!$B$30:$B$713,INDIRECT($A$14&ROW())),\"\"),\"\")","v":""}]
[{"$f":"IFERROR(IF(INDIRECT($A$14&ROW())<>\"\",COUNTIF([1]Summary!$B$30:$B$713,INDIRECT($A$14&ROW())),\"\"),\"\")","v":""}]
[{"$f":"IFERROR(IF(INDIRECT($A$14&ROW())<>\"\",COUNTIF([1]Summary!$B$30:$B$713,INDIRECT($A$14&ROW())),\"\"),\"\")","v":""}]
[{"$f":"IFERROR(IF(INDIRECT($A$14&ROW())<>\"\",COUNTIF([1]Summary!$B$30:$B$713,INDIRECT($A$14&ROW())),\"\"),\"\")","v":""}]
[{"$f":"IFERROR(IF(INDIRECT($A$14&ROW())<>\"\",COUNTIF([1]Summary!$B$30:$B$713,INDIRECT($A$14&ROW())),\"\"),\"\")","v":""}]
[{"$f":"IFERROR(IF(INDIRECT($A$14&ROW())<>\"\",COUNTIF([1]Summary!$B$30:$B$713,INDIRECT($A$14&ROW())),\"\"),\"\")","v":""}]
[{"$f":"IFERROR(IF(INDIRECT($A$14&ROW())<>\"\",COUNTIF([1]Summary!$B$30:$B$713,INDIRECT($A$14&ROW())),\"\"),\"\")","v":""}]
[{"$f":"IFERROR(IF(INDIRECT($A$14&ROW())<>\"\",COUNTIF([1]Summary!$B$30:$B$713,INDIRECT($A$14&ROW())),\"\"),\"\")","v":""}]
[{"$f":"IFERROR(IF(INDIRECT($A$14&ROW())<>\"\",COUNTIF([1]Summary!$B$30:$B$713,INDIRECT($A$14&ROW())),\"\"),\"\")","v":""}]
[{"$f":"IFERROR(IF(INDIRECT($A$14&ROW())<>\"\",COUNTIF([1]Summary!$B$30:$B$713,INDIRECT($A$14&ROW())),\"\"),\"\")","v":""}]
[{"$f":"IFERROR(IF(INDIRECT($A$14&ROW())<>\"\",COUNTIF([1]Summary!$B$30:$B$713,INDIRECT($A$14&ROW())),\"\"),\"\")","v":""}]
[{"$f":"IFERROR(IF(INDIRECT($A$14&ROW())<>\"\",COUNTIF([1]Summary!$B$30:$B$713,INDIRECT($A$14&ROW())),\"\"),\"\")","v":""}]
[{"$f":"IFERROR(IF(INDIRECT($A$14&ROW())<>\"\",COUNTIF([1]Summary!$B$30:$B$713,INDIRECT($A$14&ROW())),\"\"),\"\")","v":""}]
[{"$f":"IFERROR(IF(INDIRECT($A$14&ROW())<>\"\",COUNTIF([1]Summary!$B$30:$B$713,INDIRECT($A$14&ROW())),\"\"),\"\")","v":""}]
[{"$f":"IFERROR(IF(INDIRECT($A$14&ROW())<>\"\",COUNTIF([1]Summary!$B$30:$B$713,INDIRECT($A$14&ROW())),\"\"),\"\")","v":""}]
[{"$f":"IFERROR(IF(INDIRECT($A$14&ROW())<>\"\",COUNTIF([1]Summary!$B$30:$B$713,INDIRECT($A$14&ROW())),\"\"),\"\")","v":""}]
[{"$f":"IFERROR(IF(INDIRECT($A$14&ROW())<>\"\",COUNTIF([1]Summary!$B$30:$B$713,INDIRECT($A$14&ROW())),\"\"),\"\")","v":""}]
[{"$f":"IFERROR(IF(INDIRECT($A$14&ROW())<>\"\",COUNTIF([1]Summary!$B$30:$B$713,INDIRECT($A$14&ROW())),\"\"),\"\")","v":""}]
[{"$f":"IFERROR(IF(INDIRECT($A$14&ROW())<>\"\",COUNTIF([1]Summary!$B$30:$B$713,INDIRECT($A$14&ROW())),\"\"),\"\")","v":""}]
[{"$f":"IFERROR(IF(INDIRECT($A$14&ROW())<>\"\",COUNTIF([1]Summary!$B$30:$B$713,INDIRECT($A$14&ROW())),\"\"),\"\")","v":""}]
[{"$f":"IFERROR(IF(INDIRECT($A$14&ROW())<>\"\",COUNTIF([1]Summary!$B$30:$B$713,INDIRECT($A$14&ROW())),\"\"),\"\")","v":""}]
[{"$f":"IFERROR(IF(INDIRECT($A$14&ROW())<>\"\",COUNTIF([1]Summary!$B$30:$B$713,INDIRECT($A$14&ROW())),\"\"),\"\")","v":""}]
[{"$f":"IFERROR(IF(INDIRECT($A$14&ROW())<>\"\",COUNTIF([1]Summary!$B$30:$B$713,INDIRECT($A$14&ROW())),\"\"),\"\")","v":""}]
[{"$f":"IFERROR(IF(INDIRECT($A$14&ROW())<>\"\",COUNTIF([1]Summary!$B$30:$B$713,INDIRECT($A$14&ROW())),\"\"),\"\")","v":""}]
[{"$f":"IFERROR(IF(INDIRECT($A$14&ROW())<>\"\",COUNTIF([1]Summary!$B$30:$B$713,INDIRECT($A$14&ROW())),\"\"),\"\")","v":""}]
[{"$f":"IFERROR(IF(INDIRECT($A$14&ROW())<>\"\",COUNTIF([1]Summary!$B$30:$B$713,INDIRECT($A$14&ROW())),\"\"),\"\")","v":""}]
[{"$f":"IFERROR(IF(INDIRECT($A$14&ROW())<>\"\",COUNTIF([1]Summary!$B$30:$B$713,INDIRECT($A$14&ROW())),\"\"),\"\")","v":""}]
[{"$f":"IFERROR(IF(INDIRECT($A$14&ROW())<>\"\",COUNTIF([1]Summary!$B$30:$B$713,INDIRECT($A$14&ROW())),\"\"),\"\")","v":""}]
[{"$f":"IFERROR(IF(INDIRECT($A$14&ROW())<>\"\",COUNTIF([1]Summary!$B$30:$B$713,INDIRECT($A$14&ROW())),\"\"),\"\")","v":""}]
[{"$f":"IFERROR(IF(INDIRECT($A$14&ROW())<>\"\",COUNTIF([1]Summary!$B$30:$B$713,INDIRECT($A$14&ROW())),\"\"),\"\")","v":""}]
[{"$f":"IFERROR(IF(INDIRECT($A$14&ROW())<>\"\",COUNTIF([1]Summary!$B$30:$B$713,INDIRECT($A$14&ROW())),\"\"),\"\")","v":""}]
[{"$f":"IFERROR(IF(INDIRECT($A$14&ROW())<>\"\",COUNTIF([1]Summary!$B$30:$B$713,INDIRECT($A$14&ROW())),\"\"),\"\")","v":""}]
[{"$f":"IFERROR(IF(INDIRECT($A$14&ROW())<>\"\",COUNTIF([1]Summary!$B$30:$B$713,INDIRECT($A$14&ROW())),\"\"),\"\")","v":""}]
[{"$f":"IFERROR(IF(INDIRECT($A$14&ROW())<>\"\",COUNTIF([1]Summary!$B$30:$B$713,INDIRECT($A$14&ROW())),\"\"),\"\")","v":""}]
[{"$f":"IFERROR(IF(INDIRECT($A$14&ROW())<>\"\",COUNTIF([1]Summary!$B$30:$B$713,INDIRECT($A$14&ROW())),\"\"),\"\")","v":""}]
[{"$f":"IFERROR(IF(INDIRECT($A$14&ROW())<>\"\",COUNTIF([1]Summary!$B$30:$B$713,INDIRECT($A$14&ROW())),\"\"),\"\")","v":""}]
[{"$f":"IFERROR(IF(INDIRECT($A$14&ROW())<>\"\",COUNTIF([1]Summary!$B$30:$B$713,INDIRECT($A$14&ROW())),\"\"),\"\")","v":""}]
[{"$f":"IFERROR(IF(INDIRECT($A$14&ROW())<>\"\",COUNTIF([1]Summary!$B$30:$B$713,INDIRECT($A$14&ROW())),\"\"),\"\")","v":""}]
[{"$f":"IFERROR(IF(INDIRECT($A$14&ROW())<>\"\",COUNTIF([1]Summary!$B$30:$B$713,INDIRECT($A$14&ROW())),\"\"),\"\")","v":""}]
[{"$f":"IFERROR(IF(INDIRECT($A$14&ROW())<>\"\",COUNTIF([1]Summary!$B$30:$B$713,INDIRECT($A$14&ROW())),\"\"),\"\")","v":""}]
[{"$f":"IFERROR(IF(INDIRECT($A$14&ROW())<>\"\",COUNTIF([1]Summary!$B$30:$B$713,INDIRECT($A$14&ROW())),\"\"),\"\")","v":""}]
[{"$f":"IFERROR(IF(INDIRECT($A$14&ROW())<>\"\",COUNTIF([1]Summary!$B$30:$B$713,INDIRECT($A$14&ROW())),\"\"),\"\")","v":""}]
[{"$f":"IFERROR(IF(INDIRECT($A$14&ROW())<>\"\",COUNTIF([1]Summary!$B$30:$B$713,INDIRECT($A$14&ROW())),\"\"),\"\")","v":""}]
[{"$f":"IFERROR(IF(INDIRECT($A$14&ROW())<>\"\",COUNTIF([1]Summary!$B$30:$B$713,INDIRECT($A$14&ROW())),\"\"),\"\")","v":""}]
[{"$f":"IFERROR(IF(INDIRECT($A$14&ROW())<>\"\",COUNTIF([1]Summary!$B$30:$B$713,INDIRECT($A$14&ROW())),\"\"),\"\")","v":""}]
[{"$f":"IFERROR(IF(INDIRECT($A$14&ROW())<>\"\",COUNTIF([1]Summary!$B$30:$B$713,INDIRECT($A$14&ROW())),\"\"),\"\")","v":""}]
[{"$f":"IFERROR(IF(INDIRECT($A$14&ROW())<>\"\",COUNTIF([1]Summary!$B$30:$B$713,INDIRECT($A$14&ROW())),\"\"),\"\")","v":""}]
[{"$f":"IFERROR(IF(INDIRECT($A$14&ROW())<>\"\",COUNTIF([1]Summary!$B$30:$B$713,INDIRECT($A$14&ROW())),\"\"),\"\")","v":""}]
[{"$f":"IFERROR(IF(INDIRECT($A$14&ROW())<>\"\",COUNTIF([1]Summary!$B$30:$B$713,INDIRECT($A$14&ROW())),\"\"),\"\")","v":""}]
[{"$f":"IFERROR(IF(INDIRECT($A$14&ROW())<>\"\",COUNTIF([1]Summary!$B$30:$B$713,INDIRECT($A$14&ROW())),\"\"),\"\")","v":""}]
[{"$f":"IFERROR(IF(INDIRECT($A$14&ROW())<>\"\",COUNTIF([1]Summary!$B$30:$B$713,INDIRECT($A$14&ROW())),\"\"),\"\")","v":""}]
[{"$f":"IFERROR(IF(INDIRECT($A$14&ROW())<>\"\",COUNTIF([1]Summary!$B$30:$B$713,INDIRECT($A$14&ROW())),\"\"),\"\")","v":""}]
[{"$f":"IFERROR(IF(INDIRECT($A$14&ROW())<>\"\",COUNTIF([1]Summary!$B$30:$B$713,INDIRECT($A$14&ROW())),\"\"),\"\")","v":""}]
[{"$f":"IFERROR(IF(INDIRECT($A$14&ROW())<>\"\",COUNTIF([1]Summary!$B$30:$B$713,INDIRECT($A$14&ROW())),\"\"),\"\")","v":""}]
[{"$f":"IFERROR(IF(INDIRECT($A$14&ROW())<>\"\",COUNTIF([1]Summary!$B$30:$B$713,INDIRECT($A$14&ROW())),\"\"),\"\")","v":""}]
[{"$f":"IFERROR(IF(INDIRECT($A$14&ROW())<>\"\",COUNTIF([1]Summary!$B$30:$B$713,INDIRECT($A$14&ROW())),\"\"),\"\")","v":""}]
[{"$f":"IFERROR(IF(INDIRECT($A$14&ROW())<>\"\",COUNTIF([1]Summary!$B$30:$B$713,INDIRECT($A$14&ROW())),\"\"),\"\")","v":""}]
[{"$f":"IFERROR(IF(INDIRECT($A$14&ROW())<>\"\",COUNTIF([1]Summary!$B$30:$B$713,INDIRECT($A$14&ROW())),\"\"),\"\")","v":""}]
[{"$f":"IFERROR(IF(INDIRECT($A$14&ROW())<>\"\",COUNTIF([1]Summary!$B$30:$B$713,INDIRECT($A$14&ROW())),\"\"),\"\")","v":""}]
[{"$f":"IFERROR(IF(INDIRECT($A$14&ROW())<>\"\",COUNTIF([1]Summary!$B$30:$B$713,INDIRECT($A$14&ROW())),\"\"),\"\")","v":""}]
[{"$f":"IFERROR(IF(INDIRECT($A$14&ROW())<>\"\",COUNTIF([1]Summary!$B$30:$B$713,INDIRECT($A$14&ROW())),\"\"),\"\")","v":""}]
[{"$f":"IFERROR(IF(INDIRECT($A$14&ROW())<>\"\",COUNTIF([1]Summary!$B$30:$B$713,INDIRECT($A$14&ROW())),\"\"),\"\")","v":""}]
[{"$f":"IFERROR(IF(INDIRECT($A$14&ROW())<>\"\",COUNTIF([1]Summary!$B$30:$B$713,INDIRECT($A$14&ROW())),\"\"),\"\")","v":""}]
[{"$f":"IFERROR(IF(INDIRECT($A$14&ROW())<>\"\",COUNTIF([1]Summary!$B$30:$B$713,INDIRECT($A$14&ROW())),\"\"),\"\")","v":""}]
[{"$f":"IFERROR(IF(INDIRECT($A$14&ROW())<>\"\",COUNTIF([1]Summary!$B$30:$B$713,INDIRECT($A$14&ROW())),\"\"),\"\")","v":""}]
[{"$f":"IFERROR(IF(INDIRECT($A$14&ROW())<>\"\",COUNTIF([1]Summary!$B$30:$B$713,INDIRECT($A$14&ROW())),\"\"),\"\")","v":""}]
[{"$f":"IFERROR(IF(INDIRECT($A$14&ROW())<>\"\",COUNTIF([1]Summary!$B$30:$B$713,INDIRECT($A$14&ROW())),\"\"),\"\")","v":""}]
[{"$f":"IFERROR(IF(INDIRECT($A$14&ROW())<>\"\",COUNTIF([1]Summary!$B$30:$B$713,INDIRECT($A$14&ROW())),\"\"),\"\")","v":""}]
[{"$f":"IFERROR(IF(INDIRECT($A$14&ROW())<>\"\",COUNTIF([1]Summary!$B$30:$B$713,INDIRECT($A$14&ROW())),\"\"),\"\")","v":""}]
[{"$f":"IFERROR(IF(INDIRECT($A$14&ROW())<>\"\",COUNTIF([1]Summary!$B$30:$B$713,INDIRECT($A$14&ROW())),\"\"),\"\")","v":""}]
[{"$f":"IFERROR(IF(INDIRECT($A$14&ROW())<>\"\",COUNTIF([1]Summary!$B$30:$B$713,INDIRECT($A$14&ROW())),\"\"),\"\")","v":""}]
[{"$f":"IFERROR(IF(INDIRECT($A$14&ROW())<>\"\",COUNTIF([1]Summary!$B$30:$B$713,INDIRECT($A$14&ROW())),\"\"),\"\")","v":""}]
[{"$f":"IFERROR(IF(INDIRECT($A$14&ROW())<>\"\",COUNTIF([1]Summary!$B$30:$B$713,INDIRECT($A$14&ROW())),\"\"),\"\")","v":""}]
[{"$f":"IFERROR(IF(INDIRECT($A$14&ROW())<>\"\",COUNTIF([1]Summary!$B$30:$B$713,INDIRECT($A$14&ROW())),\"\"),\"\")","v":""}]
[{"$f":"IFERROR(IF(INDIRECT($A$14&ROW())<>\"\",COUNTIF([1]Summary!$B$30:$B$713,INDIRECT($A$14&ROW())),\"\"),\"\")","v":""}]
[{"$f":"IFERROR(IF(INDIRECT($A$14&ROW())<>\"\",COUNTIF([1]Summary!$B$30:$B$713,INDIRECT($A$14&ROW())),\"\"),\"\")","v":""}]
[{"$f":"IFERROR(IF(INDIRECT($A$14&ROW())<>\"\",COUNTIF([1]Summary!$B$30:$B$713,INDIRECT($A$14&ROW())),\"\"),\"\")","v":""}]
[{"$f":"IFERROR(IF(INDIRECT($A$14&ROW())<>\"\",COUNTIF([1]Summary!$B$30:$B$713,INDIRECT($A$14&ROW())),\"\"),\"\")","v":""}]
[{"$f":"IFERROR(IF(INDIRECT($A$14&ROW())<>\"\",COUNTIF([1]Summary!$B$30:$B$713,INDIRECT($A$14&ROW())),\"\"),\"\")","v":""}]
[{"$f":"IFERROR(IF(INDIRECT($A$14&ROW())<>\"\",COUNTIF([1]Summary!$B$30:$B$713,INDIRECT($A$14&ROW())),\"\"),\"\")","v":""}]

{"sheet":"SERVINGS","index":3,"n_rows":119,"n_cols":13,"rows_kept":119,"cut":false,"hidden":true,"merged":[[5,10,5,11],[91,10,91,11],[110,10,110,11]]}
[]
["MONHTLY : TOTAL SERVINGS OF BEVERAGE"]
[]
[]
[]
[null,null,null,null,null,null,null,null,null,null,"USAGE"]
["Item","Servings","Item","Servings","Item","Servings","TOTAL","UOM",null,"MATERIAL ","PORTION","TOTAL","UOM"]
[null,null,null,null,null,null,null,null,null,"Q","Q","Q"]
["FREE FLOW DRINKS",null,"SIDE ORDER",null,"STAFF DRINK "]
["SYRUP ",null,"SYRUP ",null,"SYRUP "]
["JF01 92501:GRAPE J",{"$f":"SUMIF(Summary!B30:B195,SERVINGS!A11,Summary!F30:F194)","v":360},"JU01 2501:GRAPE J",{"$f":"VLOOKUP(C11,Summary!$B$30:$XFD$224,5,FALSE)","v":0},null,null,{"$f":"+F11+D11+B11","v":360},"GLASS",null,"SYRUP CHAMPAGNE GRAPE",35.71,{"$f":"+K11*G11","v":12855.6},"ML"]
["SF01 92601:GRAPE SO",{"$f":"SUMIF(Summary!B31:B196,SERVINGS!A12,Summary!F31:F195)","v":61},"SO01 2601:GRAPE SO",{"$f":"VLOOKUP(C12,Summary!$B$30:$XFD$224,5,FALSE)","v":0},null,null,61,"GLASS",null,"SYRUP CHAMPAGNE GRAPE",40,{"$f":"+K12*G12","v":2440},"ML"]
["JF02 92502:APPLE J",{"$f":"SUMIF(Summary!B32:B197,SERVINGS!A13,Summary!F32:F196)","v":530},"JU02 2502:APPLE J",{"$f":"VLOOKUP(C13,Summary!$B$30:$XFD$224,5,FALSE)","v":1},null,null,531,"GLASS",null,"SYRUP GREEN APPLE",35.71,18962.010000000002,"ML"]
["SF02 92602:APPLE SO",{"$f":"SUMIF(Summary!B33:B198,SERVINGS!A14,Summary!F33:F197)","v":73},"SO02 2602:APPLE SO",{"$f":"VLOOKUP(C14,Summary!$B$30:$XFD$224,5,FALSE)","v":0},null,null,73,"GLASS",null,"SYRUP GREEN APPLE",40,2920,"ML"]
["JF04 92504:PASSION J",{"$f":"SUMIF(Summary!B34:B199,SERVINGS!A15,Summary!F34:F198)","v":598},"JU04 2504:PASSION J",{"$f":"VLOOKUP(C15,Summary!$B$30:$XFD$224,5,FALSE)","v":0},null,null,598,"GLASS",null,"SYRUP PASSION FRUIT",35.71,21354.58,"ML"]
["SF04 92604:PASSION SO",{"$f":"SUMIF(Summary!B35:B200,SERVINGS!A16,Summary!F35:F199)","v":99},"SO04 2604:PASSION SO",{"$f":"VLOOKUP(C16,Summary!$B$30:$XFD$224,5,FALSE)","v":0},null,null,99,"GLASS",null,"SYRUP PASSION FRUIT",40,3960,"ML"]
["JF03 92503:MANGO J",{"$f":"SUMIF(Summary!B36:B201,SERVINGS!A17,Summary!F36:F200)","v":308},"JU03 2503:MANGO J",{"$f":"VLOOKUP(C17,Summary!$B$30:$XFD$224,5,FALSE)","v":0},null,null,308,"GLASS",null,"SYRUP MANGO",35.71,10998.68,"ML"]
["SF03 92603:MANGO SO",{"$f":"SUMIF(Summary!B37:B202,SERVINGS!A18,Summary!F37:F201)","v":32},"SO03 2603:MANGO SO",{"$f":"VLOOKUP(C18,Summary!$B$30:$XFD$224,5,FALSE)","v":0},null,null,32,"GLASS",null,"SYRUP MANGO",40,1280,"ML"]
["JF05 92505:RIBENA J",{"$f":"SUMIF(Summary!B38:B203,SERVINGS!A19,Summary!F38:F202)","v":562},"JU05 2505:RIBENA J",{"$f":"VLOOKUP(C19,Summary!$B$30:$XFD$224,5,FALSE)","v":1},null,null,563,"GLASS",null,"SYRUP RIBENA",50,28150,"ML"]
["SF05 92605:RIBENA SO",{"$f":"SUMIF(Summary!B39:B204,SERVINGS!A20,Summary!F39:F203)","v":222},"SO05 2605:RIBENA SO",{"$f":"VLOOKUP(C20,Summary!$B$30:$XFD$224,5,FALSE)","v":1},null,null,{"$f":"+F20+D20+B20","v":223},"GLASS",null,"SYRUP RIBENA",60,13380,"ML"]
[]
["COLD BEVERAGE",null,"COLD BEVERAGE",null,"COLD BEVERAGE"]
["CF01 92001:MILO(C)",{"$f":"SUMIF(Summary!B42:B207,SERVINGS!A23,Summary!F42:F206)","v":744},"CB01 2001:MILO(C)",{"$f":"VLOOKUP(C23,Summary!$B$30:$XFD$174,5,FALSE)","v":0},null,null,{"$f":"+F23+D23+B23","v":744},"GLASS",null,"POWDER MILO",55.5,{"$f":"+K23*G23","v":41292},"GM"]
["CF02 92003:NESCAFE(C)",{"$f":"SUMIF(Summary!B43:B208,SERVINGS!A24,Summary!F43:F207)","v":229},"CB02 2003:NESCAFE(C)",{"$f":"VLOOKUP(C24,Summary!$B$30:$XFD$174,5,FALSE)","v":1},null,null,230,"GLASS",null,"POWDER NESCAFE ICE",45,{"$f":"+K24*G24","v":10350},"GM"]
["CF03 92005:TEA(C)",{"$f":"SUMIF(Summary!B44:B209,SERVINGS!A25,Summary!F44:F208)","v":366},"CB03 2005:TEA(C)",{"$f":"VLOOKUP(C25,Summary!$B$30:$XFD$174,5,FALSE)","v":0},null,null,366,"GLASS",null,"TEA BAG LIPTON RED CATERING",0.14000000000000001,{"$f":"+K25*G25","v":51.24},"PKT"]
["CF04 92007:LMN TEA(C)",{"$f":"SUMIF(Summary!B45:B211,SERVINGS!A26,Summary!F45:F209)","v":1122},"CB04 2007:LMN TEA(C)",{"$f":"VLOOKUP(C26,Summary!$B$30:$XFD$174,5,FALSE)","v":4},null,null,1126,"GLASS",null,"TEA BAG LIPTON RED CATERING",0.14000000000000001,{"$f":"+K26*G26","v":157.64000000000001},"PKT"]
["CF07 92013:HONEY(C)",{"$f":"SUMIF(Summary!B46:B212,SERVINGS!A27,Summary!F46:F211)","v":443},"CB07 2013:HONEY (C)",{"$f":"VLOOKUP(C27,Summary!$B$30:$XFD$174,5,FALSE)","v":0},null,null,443,"GLASS",null,"SYRUP HONEY ",28.57,{"$f":"+K27*G27","v":12656.51},"ML"]
["CF08 92015:HNY LMN(C)",{"$f":"SUMIF(Summary!B47:B213,SERVINGS!A28,Summary!F47:F212)","v":2990},"CB08 2015:HNY LMN(C)",{"$f":"VLOOKUP(C28,Summary!$B$30:$XFD$174,5,FALSE)","v":3},null,null,2993,"GLASS",null,"SYRUP HONEY ",28.57,{"$f":"+K28*$G$28","v":85510.01},"ML"]
[null,null,null,null,null,null,null,null,null,"POWDER LIME",4,{"$f":"+K29*$G$28","v":11972},"GM"]
["CF05 92009:GRN TEA(C)",{"$f":"SUMIF(Summary!B49:B215,SERVINGS!A30,Summary!F49:F214)","v":1648},"CB05 2009:GRN TEA(C)",{"$f":"VLOOKUP(C30,Summary!$B$30:$XFD$174,5,FALSE)","v":4},null,null,{"$f":"+F30+D30+B30","v":1652},"GLASS",null,"TEA BAG JASMINE GREEN",7.0000000000000007E-2,{"$f":"+K30*G30","v":115.64000000000001},"PKT"]
["CF06 92011:HNY GT(C)",{"$f":"SUMIF(Summary!B50:B216,SERVINGS!A31,Summary!F50:F215)","v":1373},"CB06 2011:HNY GT(C)",{"$f":"VLOOKUP(C31,Summary!$B$30:$XFD$174,5,FALSE)","v":0},null,null,{"$f":"+F31+D31+B31","v":1373},"GLASS",null,"TEA BAG JASMINE GREEN",7.0000000000000007E-2,{"$f":"+K31*$G$31","v":96.110000000000014},"PKT"]
[null,null,null,null,null,null,null,null,null,"SYRUP HONEY ",20,{"$f":"+K32*$G$31","v":27460},"ML"]
[]
["HOT BEVERAGE",null,"HOT BEVERAGE",null,"HOT BEVERAGE"]
["HF01 92002:MILO(H)",{"$f":"SUMIF(Summary!B54:B220,SERVINGS!A35,Summary!F54:F219)","v":538},"HB01 2002:MILO(H)",{"$f":"VLOOKUP(C35,Summary!$B$30:$XFD$224,5,FALSE)","v":2},null,null,{"$f":"+F35+D35+B35","v":540},"GLASS",null,"POWDER MILO",45,{"$f":"+K35*G35","v":24300},"GM"]
["HF02 92004:NESCAFE(H)",{"$f":"SUMIF(Summary!B55:B221,SERVINGS!A36,Summary!F55:F220)","v":138},"HB02 2004:NESCAFE(H)",{"$f":"VLOOKUP(C36,Summary!$B$30:$XFD$224,5,FALSE)","v":1},null,null,139,"GLASS",null,"POWDER NESCAFE WHITE",60.3,{"$f":"+K36*G36","v":8381.6999999999989},"GM"]
["HF03 92006:TEA(H)",{"$f":"SUMIF(Summary!B56:B222,SERVINGS!A37,Summary!F56:F221)","v":44},"HB03 2006:TEA(H)",{"$f":"VLOOKUP(C37,Summary!$B$30:$XFD$224,5,FALSE)","v":0},null,null,44,"GLASS",null,"TEA BAG LIPTON RED CATERING",0.19,{"$f":"+K37*G37","v":8.36},"PKT"]
["HF04 92008:LMN TEA(H)",{"$f":"SUMIF(Summary!B57:B223,SERVINGS!A38,Summary!F57:F222)","v":177},"HB04 2008:LMN TEA(H)",{"$f":"VLOOKUP(C38,Summary!$B$30:$XFD$224,5,FALSE)","v":0},null,null,177,"GLASS",null,"TEA BAG LIPTON RED CATERING",0.19,33.630000000000003,"PKT"]
["HF07 92014:HONEY(H)",{"$f":"SUMIF(Summary!B58:B224,SERVINGS!A39,Summary!F58:F223)","v":402},"HB07 2014:HONEY(H)",{"$f":"VLOOKUP(C39,Summary!$B$30:$XFD$224,5,FALSE)","v":0},null,null,402,"GLASS",null,"SYRUP HONEY ",25,{"$f":"+K39*G39","v":10050},"ML"]
["HF08 92016:HNY LMN(H)",{"$f":"SUMIF(Summary!B59:B225,SERVINGS!A40,Summary!F59:F224)","v":1731},"HB08 2016:HNY LMN(H)",{"$f":"VLOOKUP(C40,Summary!$B$30:$XFD$224,5,FALSE)","v":1},null,null,1732,"GLASS",null,"SYRUP HONEY ",25,{"$f":"+K40*G40","v":43300},"ML"]
["HF05 92010:GRN TEA(H)",{"$f":"SUMIF(Summary!B60:B226,SERVINGS!A41,Summary!F60:F225)","v":445},"HB05 2010:GRN TEA(H)",{"$f":"VLOOKUP(C41,Summary!$B$30:$XFD$224,5,FALSE)","v":0},null,null,445,"GLASS",null,"TEA BAG JASMINE GREEN",0.09,40.049999999999997,"PKT"]
["HF06 92012:HNY GT(H)",{"$f":"SUMIF(Summary!B61:B227,SERVINGS!A42,Summary!F61:F226)","v":494},"HB06 2012:HNY GT(H)",{"$f":"VLOOKUP(C42,Summary!$B$30:$XFD$224,5,FALSE)","v":0},null,null,494,"GLASS",null,"TEA BAG JASMINE GREEN",0.09,{"$f":"+K42*$G$42","v":44.46},"PKT"]
[null,null,null,null,null,null,null,null,null,"SYRUP HONEY ",25,{"$f":"+K43*$G$42","v":12350},"ML"]
[null,null,"HB12 2020:CAPPU(H)",{"$f":"VLOOKUP(C44,Summary!$B$30:$XFD$224,5,FALSE)","v":2},null,null,{"$f":"+F44+D44+B44","v":2},"GLASS",null,"POWDER CAPPUCCINO",74.7,{"$f":"+K44*$G$44","v":149.4},"GM"]
[null,null,null,null,null,null,null,null,null,"POWDER DAIRY CREAMER",15,{"$f":"+K45*$G$44","v":30},"GM"]
[null,null,"HB13 2021:CHOCO(H)",{"$f":"VLOOKUP(C46,Summary!$B$30:$XFD$224,5,FALSE)","v":3},null,null,{"$f":"+F46+D46+B46","v":3},"GLASS",null,"POWDER CHOCOLATE",74.7,{"$f":"+K46*$G$46","v":224.10000000000002},"GM"]
[null,null,null,null,null,null,null,null,null,"POWDER DAIRY CREAMER",15,{"$f":"+K47*$G$46","v":45},"GM"]
[null,null,"HB14 2022:MOCHA(H)",{"$f":"VLOOKUP(C48,Summary!$B$30:$XFD$224,5,FALSE)","v":3},null,null,{"$f":"+F48+D48+B48","v":3},"GLASS",null,"POWDER MOCHA",60.3,{"$f":"+K48*$G$48","v":180.89999999999998},"GM"]
[null,null,null,null,null,null,null,null,null,"POWDER DAIRY CREAMER",15,{"$f":"+K49*$G$48","v":45},"GM"]
[]
[null,null,"SMOOTHIES"]
[null,null,"SM01 2801:GRAPE SM",{"$f":"VLOOKUP(C52,Summary!$B$30:$XFD$224,5,FALSE)","v":0},null,null,{"$f":"+F52+D52+B52","v":0},"GLASS",null,"SYRUP CHAMPAGNE GRAPE",80,{"$f":"+K52*$G$52","v":0},"ML"]
[null,null,null,null,null,null,null,null,null,"POWDER DAIRY CREAMER",20,{"$f":"+K53*$G$52","v":0},"GM"]
[null,null,"SM02 2802:APPLE SM",{"$f":"VLOOKUP(C54,Summary!$B$30:$XFD$224,5,FALSE)","v":0},null,null,{"$f":"+F54+D54+B54","v":0},"GLASS",null,"SYRUP GREEN APPLE",80,{"$f":"+K54*$G$54","v":0},"ML"]
[null,null,null,null,null,null,null,null,null,"POWDER DAIRY CREAMER",20,{"$f":"+K55*$G$54","v":0},"GM"]
[null,null,"SM04 2804:PASSION SM",{"$f":"VLOOKUP(C56,Summary!$B$30:$XFD$224,5,FALSE)","v":0},null,null,{"$f":"+F56+D56+B56","v":0},"GLASS",null,"SYRUP PASSION FRUIT",80,{"$f":"+K56*$G$56","v":0},"ML"]
[null,null,null,null,null,null,null,null,null,"POWDER DAIRY CREAMER",20,{"$f":"+K57*$G$56","v":0},"GM"]
[null,null,"SM03 2803:MANGO SM",{"$f":"VLOOKUP(C58,Summary!$B$30:$XFD$224,5,FALSE)","v":1},null,null,{"$f":"+F58+D58+B58","v":1},"GLASS",null,"SYRUP MANGO",100,{"$f":"+K58*$G$58","v":100},"ML"]
[null,null,null,null,null,null,null,null,null,"POWDER DAIRY CREAMER",20,{"$f":"+K59*$G$58","v":20},"GM"]
[null,null,"SM05 2805:RIBENA SM",{"$f":"VLOOKUP(C60,Summary!$B$30:$XFD$224,5,FALSE)","v":0},null,null,{"$f":"+F60+D60+B60","v":0},"GLASS",null,"SYRUP RIBENA",100,{"$f":"+K60*$G$60","v":0},"ML"]
[null,null,null,null,null,null,null,null,null,"POWDER DAIRY CREAMER",20,{"$f":"+K61*$G$60","v":0},"GM"]
[null,null,"SM06 2820:CAPPU SM",{"$f":"VLOOKUP(C62,Summary!$B$30:$XFD$224,5,FALSE)","v":1},null,null,{"$f":"+F62+D62+B62","v":1},"GLASS",null,"POWDER CAPPUCCINO",39.6,{"$f":"+K62*$G$62","v":39.6},"GM"]
[null,null,null,null,null,null,null,null,null,"POWDER DAIRY CREAMER",20,{"$f":"+K63*$G$62","v":20},"GM"]
[null,null,"SM07 2821:CHOCO SM",{"$f":"VLOOKUP(C64,Summary!$B$30:$XFD$224,5,FALSE)","v":4},null,null,{"$f":"+F64+D64+B64","v":4},"GLASS",null,"POWDER CHOCOLATE",39.6,{"$f":"+K64*$G$64","v":158.4},"GM"]
[null,null,null,null,null,null,null,null,null,"POWDER DAIRY CREAMER",20,{"$f":"+K65*$G$64","v":80},"GM"]
[null,null,"SM08 2822:MOCHA SM",{"$f":"VLOOKUP(C66,Summary!$B$30:$XFD$224,5,FALSE)","v":0},null,null,{"$f":"+F66+D66+B66","v":0},"GLASS",null,"POWDER MOCHA",39.6,{"$f":"+K66*$G$66","v":0},"GM"]
[null,null,null,null,null,null,null,null,null,"POWDER DAIRY CREAMER",20,{"$f":"+K67*$G$66","v":0},"GM"]
[null,null,"DRINKS IN JUG"]
[null,null,"JD01 2923:7 UP JUG"]
[null,null,"JD02 2910:GRN TEA JUG",{"$f":"VLOOKUP(C70,Summary!$B$30:$XFD$324,5,FALSE)","v":0},null,null,{"$f":"(+F70+D70+B70)*4","v":0},"GLASS",null,"BIB 7UP",1,{"$f":"+K70*G70","v":0},"GLASS"]
[null,null,"JD02 2910:GRN TEA JUG",{"$f":"VLOOKUP(C71,Summary!$B$30:$XFD$324,5,FALSE)","v":0},null,null,{"$f":"(+F71+D71+B71)*4","v":0},"GLASS",null,"TEA BAG JASMINE GREEN",7.0000000000000007E-2,{"$f":"+K71*G71","v":0},"PKT"]
[null,null,"JU05 2505:RIBENA J",{"$f":"VLOOKUP(C72,Summary!$B$30:$XFD$324,5,FALSE)","v":1},null,null,{"$f":"(+F72+D72+B72)*4","v":4},"GLASS",null,"BIB PEPSI",1,{"$f":"+K72*G72","v":4},"GLASS"]
[null,null,"JU05 2505:RIBENA J",{"$f":"VLOOKUP(C73,Summary!$B$30:$XFD$324,5,FALSE)","v":1},null,null,{"$f":"(+F73+D73+B73)*4","v":4},"GLASS",null,"SYRUP RIBENA",50,{"$f":"+K73*G73","v":200},"ML"]
[]
[null,null,"MINERAL WATER "]
[null,null,"WA01 2026:BM WATER",{"$f":"VLOOKUP(C76,Summary!$B$30:$XFD$324,5,FALSE)","v":11},null,null,{"$f":"+F76+D76+B76","v":11},"GLASS",null,"MINERAL WATER ",1,{"$f":"+K76*G76","v":11},"BTL"]
[]
["TEA & SOFT DRINKS",null,"TEA & SOFT DRINKS"]
["HF11 92019:EARL GREY",{"$f":"VLOOKUP(A79,Summary!$B$30:$XFD$174,5,FALSE)","v":98},"HB11 2019:EARL GREY",{"$f":"VLOOKUP(C79,Summary!$B$30:$XFD$324,5,FALSE)","v":0},null,null,{"$f":"+F79+D79+B79","v":98},"GLASS",null,"TEA BAG LIPTON EARLGREY",1,{"$f":"+K79*G79","v":98},"BAG"]
["HF09 92017:CHAMOMILE",{"$f":"VLOOKUP(A80,Summary!$B$30:$XFD$174,5,FALSE)","v":135},"HB09 2017:CHAMOMILE",{"$f":"VLOOKUP(C80,Summary!$B$30:$XFD$324,5,FALSE)","v":0},null,null,135,"GLASS",null,"TEA BAG LIPTON CHAMOMILE",1,135,"BAG"]
["HF10 92018:DARJEELING",{"$f":"VLOOKUP(A81,Summary!$B$30:$XFD$174,5,FALSE)","v":23},"HB10 2018:DARJEELING",{"$f":"VLOOKUP(C81,Summary!$B$30:$XFD$324,5,FALSE)","v":0},null,null,23,"GLASS",null,"TEA BAG LIPTON DARJEELING ",1,23,"BAG"]
["CG03 92025:PEPSI",{"$f":"VLOOKUP(A82,Summary!$B$30:$XFD$174,5,FALSE)","v":847},"CA03 2025:PEPSI",{"$f":"VLOOKUP(C82,Summary!$B$30:$XFD$324,5,FALSE)","v":2},null,null,849,"GLASS",null,"BIB PEPSI",1,849,"GLASS"]
["CG01 92023:7 UP",{"$f":"VLOOKUP(A83,Summary!$B$30:$XFD$174,5,FALSE)","v":339},"CA01 2023:7 UP",{"$f":"VLOOKUP(C83,Summary!$B$30:$XFD$324,5,FALSE)","v":1},null,null,340,"GLASS",null,"BIB 7UP",1,340,"GLASS"]
["CG02 92024:7UP REVIVE",{"$f":"VLOOKUP(A84,Summary!$B$30:$XFD$174,5,FALSE)","v":85},"CA02 2024:7UP REVIVE",{"$f":"VLOOKUP(C84,Summary!$B$30:$XFD$324,5,FALSE)","v":0},null,null,85,"GLASS",null,"BIB 7UP REVIVE",1,85,"GLASS"]
[]
[]
["NET CUSTOMER SERVINGS",null,null,null,null,null,{"$f":"SUM(G10:G84)","v":17311},"GLASS",null,null,null,{"$f":"SUBTOTAL(9,L17:L58)","v":342752.43}]
[]
["** EXCLUDE COCKTAIL AND MINERAL WATER , INCLUDING STAFF DRINKS"]
[]
[]
[null,null,null,null,null,null,null,null,null,null,"USAGE"]
["Item","Servings","Item","Servings","Item","Servings","TOTAL","UOM",null,"MATERIAL ","PORTION","TOTAL","UOM"]
[null,null,null,null,null,null,null,null,null,"Q","Q","Q"]
[null,null,"SIDE ORDER",null,"STAFF DRINK "]
[null,null,"SYRUP ",null,"SYRUP "]
[null,null,"CH01 82008:LEMON TEA",{"$f":"VLOOKUP(C97,Summary!$B$30:$XFD$224,5,FALSE)","v":31},null,null,{"$f":"+F97+D97+B97","v":31},"CANNED",null,"LIPTON ICE TEA -LEMON",1,{"$f":"+K97*G97","v":31},{"$f":"+H97","v":"CANNED"}]
[null,null,"CH02 82010:GRN TEA",{"$f":"VLOOKUP(C98,Summary!$B$30:$XFD$224,5,FALSE)","v":33},null,null,33,"BTL",null,"LIPTON ICE TEA -CLEAR GREEN",1,{"$f":"+K98*G98","v":33},{"$f":"+H98","v":"BTL"}]
[null,null,"CH03 82028:CHRY TEA",{"$f":"VLOOKUP(C99,Summary!$B$30:$XFD$224,5,FALSE)","v":15},null,null,15,"CANNED",null,"CHILL CHRYSANTHEMUM",1,15,"CANNED"]
[null,null,"CH04 82029:SOYA",{"$f":"VLOOKUP(C100,Summary!$B$30:$XFD$224,5,FALSE)","v":19},null,null,{"$f":"+F100+D100+B100","v":19},"CANNED",null,"CHILL SOYA BEAN",1,19,"CANNED"]
[null,null,"CH05 82030:CINCAU",{"$f":"VLOOKUP(C101,Summary!$B$30:$XFD$224,5,FALSE)","v":9},null,null,9,"CANNED",null,"CHILL CINCAU",1,9,"CANNED"]
[null,null,"CH06 82023:7 UP",{"$f":"VLOOKUP(C102,Summary!$B$30:$XFD$224,5,FALSE)","v":11},null,null,11,"CANNED",null,"7UP",1,{"$f":"+K102*G102","v":11},{"$f":"+H102","v":"CANNED"}]
[null,null,"CH07 82024:7 UP RV",{"$f":"VLOOKUP(C103,Summary!$B$30:$XFD$224,5,FALSE)","v":6},null,null,6,"CANNED",null,"REVIVE REGULAR ",1,6,"CANNED"]
[null,null,"CH08 82025:PEPSI",{"$f":"VLOOKUP(C104,Summary!$B$30:$XFD$224,5,FALSE)","v":9},null,null,9,"CANNED",null,"PEPSI COLA",1,9,"CANNED"]
[null,null,"CH09 82105:RIBENA",{"$f":"VLOOKUP(C105,Summary!$B$30:$XFD$224,5,FALSE)","v":37},null,null,37,"PKT",null,"RIBENA MOBILE ",1,37,"PKT"]
[null,null,"CH10 82026:BM WATER",{"$f":"VLOOKUP(C106,Summary!$B$30:$XFD$224,5,FALSE)","v":28},null,null,28,"BTL",null,"MINERAL WATER ",1,28,"BTL"]
[]
[]
["NET CUSTOMER SERVINGS",null,null,null,null,null,{"$f":"SUM(G97:G108)","v":198}]
[]
[null,null,null,null,null,null,null,null,null,null,"USAGE"]
["Item","Servings","Item","Servings","Item","Servings","TOTAL","UOM",null,"MATERIAL ","PORTION","TOTAL","UOM"]
[null,null,null,null,null,null,null,null,null,"Q","Q","Q"]
[null,null,null,null,"STAFF DRINK "]
[null,null,"DH01 DUNHILL",{"$f":"VLOOKUP(C115,Summary!$B$30:$XFD$324,5,FALSE)","v":29},null,null,{"$f":"+F115+D115+B115","v":29},"PKT",null,"DUNHILL KING",1,{"$f":"+K115*G115","v":29},{"$f":"+H115","v":"PKT"}]
[null,null,"DH02 DUNHILL LITE",{"$f":"VLOOKUP(C116,Summary!$B$30:$XFD$324,5,FALSE)","v":28},null,null,{"$f":"+F116+D116+B116","v":28},"PKT",null,"DUNHILL LIGHTS KING",1,28,{"$f":"+H116","v":"PKT"}]
[null,null,"DH03 DUNHILL MT",{"$f":"VLOOKUP(C117,Summary!$B$30:$XFD$324,5,FALSE)","v":12},null,null,12,"PKT",null,"DUNHILL MENTHOL KING",1,12,{"$f":"+H117","v":"PKT"}]
[null,null,"DH07 DUNHILL ICE",{"$f":"VLOOKUP(C118,Summary!$B$30:$XFD$324,5,FALSE)","v":21},null,null,21,"PKT",null,"DUNHILL ICE",1,21,"PKT"]
[null,null,"DH05 DUNHILL BOOST",{"$f":"VLOOKUP(C119,Summary!$B$30:$XFD$324,5,FALSE)","v":0},27,null,0,"PKT",null," DUNHILL BOOST",1,0,"PKT"]

{"sheet":"STOCK ANALYSIS","index":4,"n_rows":80,"n_cols":21,"rows_kept":80,"cut":false,"hidden":false,"merged":[[9,3,9,4],[6,3,6,4],[74,3,77,10],[16,19,17,19],[16,20,17,20],[12,1,12,20]]}
[]
[]
[null,null,"MONTHLY BAR STOCK SUMMARY "]
[null,null,"每月吧台货物总结表"]
[]
[]
[null,null,"OUTLET BAR ","CCS"]
[null,null,"分行吧台"]
[]
[null,null,"YEAR / MONTH","APRIL 2014"]
[null,null,"年/月"]
[]
[]
[null,"ITEM","PRODUCT DESCRIPTION","PRICE","UOM","FOR CCS BAR DEPARTMENT "]
[null,"项目","食材产品","价格","单位","A","B","C","D","E","F",null,"G","H","I","I * (a)","I * (b)","J","K","L","M"]
[null,null,null,null,null,null,null,null,null,null,"=C+D+E",null,"=A+B-F",null,"=H-G","=H-G",null,"=I / G","=UP*I","=UP*F","=I / F"]
[null,null,null,null,null,"OPENING","PURCHASE","USAGE ","DISPOSED","USAGE ","TOTAL",null,"BOOKING","STOCK ","DIFF.","DIFF.","UOM","DIFF.","LOSS/GAIN","USAGE BY SALES IN MONTH","STOCK DIFF OVER USAGE "]
[null,null,null,null,null,"STOCK",null,"IN FFD / SO","STOCK","IN OTHER ","USAGE ",null,"INVENTORY","TAKE "]
[null,null,null,null,null,"上月存货","购买数量","用量","本月抛弃","其他用途","总用量",null,"账面存货","本月点货","差异","差异","单位","%差异","盈亏 (RM)","用量花费             (RM)"]
[]
[null,"MAIN BEVERAGE MATERIAL 主要饮料的食材"]
[null,1,"SYRUP CHAMPAGNE GRAPE",{"$f":"SUMIF(DATABASE!$E$22:$E$75,'STOCK ANALYSIS'!C22,DATABASE!$F$22:$F$75)","v":5.7499999999999999E-3},"ML 公升",14035.246666666666,{"$f":"SUMIF('PURCHASE SUMMARY'!$E$19:$E$75,C22,'PURCHASE SUMMARY'!$L$19:$L$75)","v":20000},{"$f":"SUMIF('TOTAL USAGE ON BEVERAGES'!$A$8:$A$48,'STOCK ANALYSIS'!C22,'TOTAL USAGE ON BEVERAGES'!$B$8:$B$48)","v":15295.6},{"$f":"SUMIF('DISPOSAL(CONVERT)'!$C$16:$C$47,C22,'DISPOSAL(CONVERT)'!$AK$16:$AK$48)","v":0},null,{"$f":"J22+H22+I22","v":15295.6},{"$f":"+K22/4000","v":3.8239000000000001},{"$f":"+F22+G22-K22","v":18739.646666666667},{"$f":"SUMIF('CLOSING STOCK FORM -ADJUSTMENT'!$E$22:$E$88,C22,'CLOSING STOCK FORM -ADJUSTMENT'!$K$22:$K$89)","v":19328.673333333332},{"$f":"+N22-M22","v":589.02666666666482},{"$f":"+O22/4000","v":0.1472566666666662},"DRUM",{"$f":"IF(M22=0,\"\",O22/M22)","v":3.143211166912778E-2},{"$f":"+O22*D22","v":3.3869033333333225},{"$f":"+K22*D22","v":87.949700000000007},{"$f":"IF(K22=0,\"\",O22/K22)","v":3.8509549587245014E-2}]
[null,2,"SYRUP GREEN APPLE",{"$f":"SUMIF(DATABASE!$E$22:$E$75,'STOCK ANALYSIS'!C23,DATABASE!$F$22:$F$75)","v":5.7499999999999999E-3},"ML 公升",7701.1399999999994,{"$f":"SUMIF('PURCHASE SUMMARY'!$E$19:$E$75,C23,'PURCHASE SUMMARY'!$L$19:$L$75)","v":20000},{"$f":"SUMIF('TOTAL USAGE ON BEVERAGES'!$A$8:$A$48,'STOCK ANALYSIS'!C23,'TOTAL USAGE ON BEVERAGES'!$B$8:$B$48)","v":21882.010000000002},{"$f":"SUMIF('DISPOSAL(CONVERT)'!$C$16:$C$47,C23,'DISPOSAL(CONVERT)'!$AK$16:$AK$48)","v":0},null,{"$f":"J23+H23+I23","v":21882.010000000002},{"$f":"+K23/4000","v":5.4705025000000003},5819.1299999999974,{"$f":"SUMIF('CLOSING STOCK FORM -ADJUSTMENT'!$E$22:$E$88,C23,'CLOSING STOCK FORM -ADJUSTMENT'!$K$22:$K$89)","v":16735.71},{"$f":"+N23-M23","v":10916.580000000002},{"$f":"+O23/4000","v":2.7291450000000004},{"$f":"+Q22","v":"DRUM"},1.8759814611462549,62.77033500000001,125.82155750000001,0.49888378627009133]
[null,3,"SYRUP PASSION FRUIT",{"$f":"SUMIF(DATABASE!$E$22:$E$75,'STOCK ANALYSIS'!C24,DATABASE!$F$22:$F$75)","v":5.7499999999999999E-3},"ML 公升",5735.8466666666664,{"$f":"SUMIF('PURCHASE SUMMARY'!$E$19:$E$75,C24,'PURCHASE SUMMARY'!$L$19:$L$75)","v":44000},{"$f":"SUMIF('TOTAL USAGE ON BEVERAGES'!$A$8:$A$48,'STOCK ANALYSIS'!C24,'TOTAL USAGE ON BEVERAGES'!$B$8:$B$48)","v":25314.58},{"$f":"SUMIF('DISPOSAL(CONVERT)'!$C$16:$C$47,C24,'DISPOSAL(CONVERT)'!$AK$16:$AK$48)","v":0},null,25314.58,{"$f":"+K24/4000","v":6.3286450000000007},24421.266666666663,{"$f":"SUMIF('CLOSING STOCK FORM -ADJUSTMENT'!$E$22:$E$88,C24,'CLOSING STOCK FORM -ADJUSTMENT'!$K$22:$K$89)","v":20553.516666666666},-3867.7499999999964,{"$f":"+O24/4000","v":-0.96693749999999912},{"$f":"+Q23","v":"DRUM"},-0.15837630589731888,-22.23956249999998,145.55883500000002,-0.1527874450218015]
[null,4,"SYRUP HONEY ",{"$f":"+DATABASE!F27","v":8.9999999999999993E-3},"ML 公升",58628.273333333338,{"$f":"SUMIF('PURCHASE SUMMARY'!$E$19:$E$75,C25,'PURCHASE SUMMARY'!$L$19:$L$75)","v":140000},{"$f":"SUMIF('TOTAL USAGE ON BEVERAGES'!$A$8:$A$48,'STOCK ANALYSIS'!C25,'TOTAL USAGE ON BEVERAGES'!$B$8:$B$48)","v":191326.52},{"$f":"SUMIF('DISPOSAL(CONVERT)'!$C$16:$C$47,C25,'DISPOSAL(CONVERT)'!$AK$16:$AK$48)","v":0},null,{"$f":"J25+H25+I25","v":191326.52},{"$f":"+K25/2000","v":95.663259999999994},7301.7533333333558,{"$f":"SUMIF('CLOSING STOCK FORM -ADJUSTMENT'!$E$22:$E$88,C25,'CLOSING STOCK FORM -ADJUSTMENT'!$K$22:$K$89)","v":20763.333333333332},{"$f":"+N25-M25","v":13461.579999999976},{"$f":"+O25/2000","v":6.7307899999999883},"DRUM",1.8436092518417861,121.15421999999978,1721.9386799999997,7.0359195369256583E-2]
[null,5,"SYRUP MANGO",{"$f":"+DATABASE!F26","v":5.7499999999999999E-3},"ML 公升",10047.296666666667,{"$f":"SUMIF('PURCHASE SUMMARY'!$E$19:$E$75,C26,'PURCHASE SUMMARY'!$L$19:$L$75)","v":28000},{"$f":"SUMIF('TOTAL USAGE ON BEVERAGES'!$A$8:$A$48,'STOCK ANALYSIS'!C26,'TOTAL USAGE ON BEVERAGES'!$B$8:$B$48)","v":12378.68},{"$f":"SUMIF('DISPOSAL(CONVERT)'!$C$16:$C$47,C26,'DISPOSAL(CONVERT)'!$AK$16:$AK$48)","v":0},null,12378.68,{"$f":"+K26/4000","v":3.0946700000000003},25668.616666666669,{"$f":"SUMIF('CLOSING STOCK FORM -ADJUSTMENT'!$E$22:$E$88,C26,'CLOSING STOCK FORM -ADJUSTMENT'!$K$22:$K$89)","v":23149.686666666668},-2518.9300000000003,{"$f":"+O26/4000","v":-0.62973250000000003},"DRUM",-9.8132674335780989E-2,-14.483847500000001,71.177409999999995,-0.2034893865904927]
[null,6,"SYRUP RIBENA",{"$f":"SUMIF(DATABASE!$E$22:$E$75,'STOCK ANALYSIS'!C27,DATABASE!$F$22:$F$75)","v":0.01},"ML 公升",9626.6666666666679,{"$f":"+'PURCHASE SUMMARY'!L76+'PURCHASE SUMMARY'!L27","v":72000},{"$f":"SUMIF('TOTAL USAGE ON BEVERAGES'!$A$8:$A$48,'STOCK ANALYSIS'!C27,'TOTAL USAGE ON BEVERAGES'!$B$8:$B$48)","v":41730},0,null,41730,{"$f":"+K27/1000","v":41.73},39896.666666666672,{"$f":"SUMIF('CLOSING STOCK FORM -ADJUSTMENT'!$E$22:$E$89,C27,'CLOSING STOCK FORM -ADJUSTMENT'!$K$22:$K$89)","v":48196.666666666672},8300,{"$f":"+O27/1000","v":8.3000000000000007},"BTL",0.20803743002757119,83,417.3,0.19889767553318954]
[null,7,"TEA BAG JASMINE GREEN",{"$f":"SUMIF(DATABASE!$E$22:$E$75,'STOCK ANALYSIS'!C28,DATABASE!$F$22:$F$75)","v":0.75},"BAG 袋",51.691800000000001,{"$f":"SUMIF('PURCHASE SUMMARY'!$E$19:$E$75,C28,'PURCHASE SUMMARY'!$L$19:$L$75)","v":456},{"$f":"SUMIF('TOTAL USAGE ON BEVERAGES'!$A$8:$A$48,'STOCK ANALYSIS'!C28,'TOTAL USAGE ON BEVERAGES'!$B$8:$B$48)","v":296.26},{"$f":"SUMIF('DISPOSAL(CONVERT)'!$C$16:$C$47,C28,'DISPOSAL(CONVERT)'!$AK$16:$AK$48)","v":1.9656000000000002},null,{"$f":"J28+H28+I28","v":298.22559999999999},{"$f":"+K28/24","v":12.426066666666665},209.46620000000001,{"$f":"SUMIF('CLOSING STOCK FORM -ADJUSTMENT'!$E$22:$E$88,C28,'CLOSING STOCK FORM -ADJUSTMENT'!$K$22:$K$89)","v":174.55119999999999},{"$f":"+N28-M28","v":-34.91500000000002},{"$f":"+O28","v":-34.91500000000002},"BAG",-0.16668560369166968,-26.186250000000015,223.66919999999999,-0.11707579765117422]
[null,8,"TEA BAG LIPTON CHAMOMILE",{"$f":"SUMIF(DATABASE!$E$22:$E$75,'STOCK ANALYSIS'!C29,DATABASE!$F$22:$F$75)","v":0.46},"BAG 袋",37,{"$f":"SUMIF('PURCHASE SUMMARY'!$E$19:$E$75,C29,'PURCHASE SUMMARY'!$L$19:$L$75)","v":125},{"$f":"SUMIF('TOTAL USAGE ON BEVERAGES'!$A$8:$A$48,'STOCK ANALYSIS'!C29,'TOTAL USAGE ON BEVERAGES'!$B$8:$B$48)","v":135},{"$f":"SUMIF('DISPOSAL(CONVERT)'!$C$16:$C$47,C29,'DISPOSAL(CONVERT)'!$AK$16:$AK$48)","v":0},null,135,{"$f":"+K29/25","v":5.4},27,{"$f":"SUMIF('CLOSING STOCK FORM -ADJUSTMENT'!$E$22:$E$88,C29,'CLOSING STOCK FORM -ADJUSTMENT'!$K$22:$K$89)","v":3},-24,{"$f":"+O29/25","v":-0.96},"BOX",-0.88888888888888884,-11.040000000000001,62.1,-0.17777777777777778]
[null,{"$f":"+B29+1","v":9},"TEA BAG LIPTON DARJEELING ",{"$f":"SUMIF(DATABASE!$E$22:$E$75,'STOCK ANALYSIS'!C30,DATABASE!$F$22:$F$75)","v":0.46},"BAG 袋",83,{"$f":"SUMIF('PURCHASE SUMMARY'!$E$19:$E$75,C30,'PURCHASE SUMMARY'!$L$19:$L$75)","v":0},{"$f":"SUMIF('TOTAL USAGE ON BEVERAGES'!$A$8:$A$48,'STOCK ANALYSIS'!C30,'TOTAL USAGE ON BEVERAGES'!$B$8:$B$48)","v":23},{"$f":"SUMIF('DISPOSAL(CONVERT)'!$C$16:$C$47,C30,'DISPOSAL(CONVERT)'!$AK$16:$AK$48)","v":0},null,23,{"$f":"+K30/25","v":0.92},60,{"$f":"SUMIF('CLOSING STOCK FORM -ADJUSTMENT'!$E$22:$E$88,C30,'CLOSING STOCK FORM -ADJUSTMENT'!$K$22:$K$89)","v":10},-50,{"$f":"+O30/25","v":-2},"BOX",-0.83333333333333337,-23,10.58,-2.1739130434782608]
[null,{"$f":"+B30+1","v":10},"TEA BAG LIPTON EARLGREY",{"$f":"SUMIF(DATABASE!$E$22:$E$75,'STOCK ANALYSIS'!C31,DATABASE!$F$22:$F$75)","v":0.46},"BAG 袋",11,{"$f":"SUMIF('PURCHASE SUMMARY'!$E$19:$E$75,C31,'PURCHASE SUMMARY'!$L$19:$L$75)","v":100},{"$f":"SUMIF('TOTAL USAGE ON BEVERAGES'!$A$8:$A$48,'STOCK ANALYSIS'!C31,'TOTAL USAGE ON BEVERAGES'!$B$8:$B$48)","v":98},{"$f":"SUMIF('DISPOSAL(CONVERT)'!$C$16:$C$47,C31,'DISPOSAL(CONVERT)'!$AK$16:$AK$48)","v":0},null,98,3.92,13,{"$f":"SUMIF('CLOSING STOCK FORM -ADJUSTMENT'!$E$22:$E$88,C31,'CLOSING STOCK FORM -ADJUSTMENT'!$K$22:$K$89)","v":13},0,0,"BOX",0,0,45.080000000000005,0]
[null,11,"TEA BAG LIPTON RED CATERING",{"$f":"SUMIF(DATABASE!$E$22:$E$75,'STOCK ANALYSIS'!C32,DATABASE!$F$22:$F$75)","v":0.32500000000000001},"BAG 袋",517.05804999999998,{"$f":"SUMIF('PURCHASE SUMMARY'!$E$19:$E$75,C32,'PURCHASE SUMMARY'!$L$19:$L$75)","v":240},{"$f":"SUMIF('TOTAL USAGE ON BEVERAGES'!$A$8:$A$48,'STOCK ANALYSIS'!C32,'TOTAL USAGE ON BEVERAGES'!$B$8:$B$48)","v":250.87},{"$f":"SUMIF('DISPOSAL(CONVERT)'!$C$16:$C$47,C32,'DISPOSAL(CONVERT)'!$AK$16:$AK$48)","v":8.2564499999999992},null,259.12644999999998,{"$f":"+K32/(12*20)","v":1.0796935416666666},497.9316,{"$f":"SUMIF('CLOSING STOCK FORM -ADJUSTMENT'!$E$22:$E$88,C32,'CLOSING STOCK FORM -ADJUSTMENT'!$K$22:$K$89)","v":486.28604999999999},-11.645550000000014,{"$f":"+O32","v":-11.645550000000014},"BAG",-2.3387850861443647E-2,-3.7848037500000049,84.216096249999993,-4.4941571962260181E-2]
[null,12,"POWDER CAPPUCCINO",{"$f":"SUMIF(DATABASE!$E$22:$E$75,'STOCK ANALYSIS'!C33,DATABASE!$F$22:$F$75)","v":2.1000000000000001E-2},"GM 克",1375,{"$f":"SUMIF('PURCHASE SUMMARY'!$E$19:$E$75,C33,'PURCHASE SUMMARY'!$L$19:$L$75)","v":0},{"$f":"SUMIF('TOTAL USAGE ON BEVERAGES'!$A$8:$A$48,'STOCK ANALYSIS'!C33,'TOTAL USAGE ON BEVERAGES'!$B$8:$B$48)","v":189},{"$f":"SUMIF('DISPOSAL(CONVERT)'!$C$16:$C$47,C33,'DISPOSAL(CONVERT)'!$AK$16:$AK$48)","v":0},null,{"$f":"J33+H33+I33","v":189},{"$f":"+K33/1000","v":0.189},1186,{"$f":"SUMIF('CLOSING STOCK FORM -ADJUSTMENT'!$E$22:$E$88,C33,'CLOSING STOCK FORM -ADJUSTMENT'!$K$22:$K$89)","v":425},{"$f":"+N33-M33","v":-761},{"$f":"+O33/1000","v":-0.76100000000000001},"PKT",-0.64165261382799321,-15.981000000000002,3.9690000000000003,-4.0264550264550261]
[null,13,"POWDER CHOCOLATE",{"$f":"SUMIF(DATABASE!$E$22:$E$75,'STOCK ANALYSIS'!C34,DATABASE!$F$22:$F$75)","v":0.02},"GM 克",1785,{"$f":"SUMIF('PURCHASE SUMMARY'!$E$19:$E$75,C34,'PURCHASE SUMMARY'!$L$19:$L$75)","v":0},{"$f":"SUMIF('TOTAL USAGE ON BEVERAGES'!$A$8:$A$48,'STOCK ANALYSIS'!C34,'TOTAL USAGE ON BEVERAGES'!$B$8:$B$48)","v":382.5},{"$f":"SUMIF('DISPOSAL(CONVERT)'!$C$16:$C$47,C34,'DISPOSAL(CONVERT)'!$AK$16:$AK$48)","v":0},null,382.5,{"$f":"+K34/1000","v":0.38250000000000001},1402.5,{"$f":"SUMIF('CLOSING STOCK FORM -ADJUSTMENT'!$E$22:$E$88,C34,'CLOSING STOCK FORM -ADJUSTMENT'!$K$22:$K$89)","v":1035},-367.5,{"$f":"+O34/1000","v":-0.36749999999999999},"PKT",-0.26203208556149732,-7.3500000000000005,7.65,-0.96078431372549022]
[null,14,"POWDER MOCHA",{"$f":"SUMIF(DATABASE!$E$22:$E$75,'STOCK ANALYSIS'!C35,DATABASE!$F$22:$F$75)","v":2.1000000000000001E-2},"GM 克",1805,{"$f":"SUMIF('PURCHASE SUMMARY'!$E$19:$E$75,C35,'PURCHASE SUMMARY'!$L$19:$L$75)","v":0},{"$f":"SUMIF('TOTAL USAGE ON BEVERAGES'!$A$8:$A$48,'STOCK ANALYSIS'!C35,'TOTAL USAGE ON BEVERAGES'!$B$8:$B$48)","v":180.89999999999998},{"$f":"SUMIF('DISPOSAL(CONVERT)'!$C$16:$C$47,C35,'DISPOSAL(CONVERT)'!$AK$16:$AK$48)","v":0},null,180.89999999999998,0.18089999999999998,1624.1,{"$f":"SUMIF('CLOSING STOCK FORM -ADJUSTMENT'!$E$22:$E$88,C35,'CLOSING STOCK FORM -ADJUSTMENT'!$K$22:$K$89)","v":1265},-359.09999999999991,-0.35909999999999992,"PKT",-0.2211070746875192,-7.5410999999999984,3.7988999999999997,-1.9850746268656714]
[null,15,"POWDER MILO",{"$f":"SUMIF(DATABASE!$E$22:$E$75,'STOCK ANALYSIS'!C36,DATABASE!$F$22:$F$75)","v":1.546875E-2},"GM 克",46091.89,{"$f":"SUMIF('PURCHASE SUMMARY'!$E$19:$E$75,C36,'PURCHASE SUMMARY'!$L$19:$L$75)","v":57600},{"$f":"SUMIF('TOTAL USAGE ON BEVERAGES'!$A$8:$A$48,'STOCK ANALYSIS'!C36,'TOTAL USAGE ON BEVERAGES'!$B$8:$B$48)","v":65592},{"$f":"SUMIF('DISPOSAL(CONVERT)'!$C$16:$C$47,C36,'DISPOSAL(CONVERT)'!$AK$16:$AK$48)","v":0},null,65592,{"$f":"+K36/3500","v":18.740571428571428},38099.89,{"$f":"SUMIF('CLOSING STOCK FORM -ADJUSTMENT'!$E$22:$E$88,C36,'CLOSING STOCK FORM -ADJUSTMENT'!$K$22:$K$89)","v":38743.620000000003},643.7300000000032,{"$f":"+O36/3500","v":0.18392285714285805},"PKT",1.6895849305601753E-2,9.9576984375000492,1014.62625,9.8141541651421398E-3]
[null,16,"POWDER NESCAFE ICE",{"$f":"SUMIF(DATABASE!$E$22:$E$75,'STOCK ANALYSIS'!C37,DATABASE!$F$22:$F$75)","v":1.9213333333333332E-2},"GM 克",1760,{"$f":"SUMIF('PURCHASE SUMMARY'!$E$19:$E$75,C37,'PURCHASE SUMMARY'!$L$19:$L$75)","v":10500},{"$f":"SUMIF('TOTAL USAGE ON BEVERAGES'!$A$8:$A$48,'STOCK ANALYSIS'!C37,'TOTAL USAGE ON BEVERAGES'!$B$8:$B$48)","v":10350},{"$f":"SUMIF('DISPOSAL(CONVERT)'!$C$16:$C$47,C37,'DISPOSAL(CONVERT)'!$AK$16:$AK$48)","v":0},null,10350,{"$f":"+K37/750","v":13.8},1910,{"$f":"SUMIF('CLOSING STOCK FORM -ADJUSTMENT'!$E$22:$E$88,C37,'CLOSING STOCK FORM -ADJUSTMENT'!$K$22:$K$89)","v":1080},-830,{"$f":"+O37/750","v":-1.1066666666666667},"PKT",-0.43455497382198954,-15.947066666666666,198.85799999999998,-8.0193236714975843E-2]
[null,17,"POWDER NESCAFE WHITE",{"$f":"SUMIF(DATABASE!$E$22:$E$75,'STOCK ANALYSIS'!C38,DATABASE!$F$22:$F$75)","v":2.0210000000000002E-2},"GM 克",1180,{"$f":"SUMIF('PURCHASE SUMMARY'!$E$19:$E$75,C38,'PURCHASE SUMMARY'!$L$19:$L$75)","v":10000},{"$f":"SUMIF('TOTAL USAGE ON BEVERAGES'!$A$8:$A$48,'STOCK ANALYSIS'!C38,'TOTAL USAGE ON BEVERAGES'!$B$8:$B$48)","v":8381.6999999999989},{"$f":"SUMIF('DISPOSAL(CONVERT)'!$C$16:$C$47,C38,'DISPOSAL(CONVERT)'!$AK$16:$AK$48)","v":0},null,8381.6999999999989,{"$f":"+K38/1000","v":8.3816999999999986},2798.3000000000011,{"$f":"SUMIF('CLOSING STOCK FORM -ADJUSTMENT'!$E$22:$E$88,C38,'CLOSING STOCK FORM -ADJUSTMENT'!$K$22:$K$89)","v":1395},-1403.3000000000011,{"$f":"+O38/1000","v":-1.4033000000000011},"PKT",-0.50148304327627513,-28.360693000000026,169.39415700000001,-0.16742426953959236]
[null,18,"POWDER DAIRY CREAMER",{"$f":"SUMIF(DATABASE!$E$22:$E$75,'STOCK ANALYSIS'!C39,DATABASE!$F$22:$F$75)","v":8.9999999999999993E-3},"GM 克",5935,{"$f":"SUMIF('PURCHASE SUMMARY'!$E$19:$E$75,C39,'PURCHASE SUMMARY'!$L$19:$L$75)","v":0},{"$f":"SUMIF('TOTAL USAGE ON BEVERAGES'!$A$8:$A$48,'STOCK ANALYSIS'!C39,'TOTAL USAGE ON BEVERAGES'!$B$8:$B$48)","v":240},{"$f":"SUMIF('DISPOSAL(CONVERT)'!$C$16:$C$47,C39,'DISPOSAL(CONVERT)'!$AK$16:$AK$48)","v":0},null,240,{"$f":"+K39/2000","v":0.12},5695,{"$f":"SUMIF('CLOSING STOCK FORM -ADJUSTMENT'!$E$22:$E$88,C39,'CLOSING STOCK FORM -ADJUSTMENT'!$K$22:$K$89)","v":5200},-495,{"$f":"+O39/2000","v":-0.2475},"PKT",-8.6918349429323971E-2,-4.4550000000000001,2.1599999999999997,-2.0625]
[null,19,"MINERAL WATER ",{"$f":"SUMIF(DATABASE!$E$22:$E$75,'STOCK ANALYSIS'!C40,DATABASE!$F$22:$F$75)","v":0.58330000000000004},"BTL 瓶",93,{"$f":"SUMIF('PURCHASE SUMMARY'!$E$19:$E$75,C40,'PURCHASE SUMMARY'!$L$19:$L$75)","v":0},{"$f":"SUMIF('TOTAL USAGE ON BEVERAGES'!$A$8:$A$48,'STOCK ANALYSIS'!C40,'TOTAL USAGE ON BEVERAGES'!$B$8:$B$48)","v":39},{"$f":"SUMIF('DISPOSAL(CONVERT)'!$C$16:$C$47,C40,'DISPOSAL(CONVERT)'!$AK$16:$AK$48)","v":0},null,39,{"$f":"+K40","v":39},54,{"$f":"SUMIF('CLOSING STOCK FORM -ADJUSTMENT'!$E$22:$E$88,C40,'CLOSING STOCK FORM -ADJUSTMENT'!$K$22:$K$89)","v":54},0,{"$f":"+O40","v":0},"BTL",{"$f":"IF(M40=0,\"\",O40/M40)","v":0},0,22.748700000000003,0]
[null,20,"BIB PEPSI",0.51990000000000003,"GLS 杯",320,{"$f":"SUMIF('PURCHASE SUMMARY'!$E$19:$E$75,C41,'PURCHASE SUMMARY'!$L$19:$L$75)","v":640},{"$f":"SUMIF('TOTAL USAGE ON BEVERAGES'!$A$8:$A$48,'STOCK ANALYSIS'!C41,'TOTAL USAGE ON BEVERAGES'!$B$8:$B$48)","v":853},{"$f":"SUMIF('DISPOSAL(CONVERT)'!$C$16:$C$48,C41,'DISPOSAL(CONVERT)'!$AK$14:$AK$49)","v":0},null,{"$f":"J41+H41+I41","v":853},{"$f":"+K41/320","v":2.6656249999999999},107,{"$f":"SUMIF('CLOSING STOCK FORM -ADJUSTMENT'!$E$22:$E$88,C41,'CLOSING STOCK FORM -ADJUSTMENT'!$K$22:$K$89)","v":0},{"$f":"+N41-M41","v":-107},{"$f":"+O41/320","v":-0.33437499999999998},"CASE",{"$f":"IF(M41=0,\"\",O41/M41)","v":-1},-55.629300000000001,443.47470000000004,-0.12543962485345839]
[null,21,"BIB 7UP",0.51990000000000003,"GLS 杯",320,{"$f":"SUMIF('PURCHASE SUMMARY'!$E$19:$E$75,C42,'PURCHASE SUMMARY'!$L$19:$L$75)","v":320},{"$f":"SUMIF('TOTAL USAGE ON BEVERAGES'!$A$8:$A$48,'STOCK ANALYSIS'!C42,'TOTAL USAGE ON BEVERAGES'!$B$8:$B$48)","v":340},{"$f":"SUMIF('DISPOSAL(CONVERT)'!$C$16:$C$48,C42,'DISPOSAL(CONVERT)'!$AK$14:$AK$49)","v":0},null,340,{"$f":"+K42/320","v":1.0625},300,{"$f":"SUMIF('CLOSING STOCK FORM -ADJUSTMENT'!$E$22:$E$88,C42,'CLOSING STOCK FORM -ADJUSTMENT'!$K$22:$K$89)","v":640},340,{"$f":"+O42/320","v":1.0625},"CASE",1.1333333333333333,176.76600000000002,176.76600000000002,1]
[null,22,"BIB 7UP REVIVE",0.51990000000000003,"GLS 杯",640,{"$f":"SUMIF('PURCHASE SUMMARY'!$E$19:$E$75,C43,'PURCHASE SUMMARY'!$L$19:$L$75)","v":0},{"$f":"SUMIF('TOTAL USAGE ON BEVERAGES'!$A$8:$A$48,'STOCK ANALYSIS'!C43,'TOTAL USAGE ON BEVERAGES'!$B$8:$B$48)","v":85},{"$f":"SUMIF('DISPOSAL(CONVERT)'!$C$16:$C$48,C43,'DISPOSAL(CONVERT)'!$AK$14:$AK$49)","v":0},null,85,0.265625,555,{"$f":"SUMIF('CLOSING STOCK FORM -ADJUSTMENT'!$E$22:$E$88,C43,'CLOSING STOCK FORM -ADJUSTMENT'!$K$22:$K$89)","v":640},85,0.265625,"CASE",0.15315315315315314,44.191500000000005,44.191500000000005,1]
[null,23,"LIPTON ICE TEA -LEMON",{"$f":"SUMIF(DATABASE!$E$22:$E$75,'STOCK ANALYSIS'!C44,DATABASE!$F$22:$F$75)","v":1.3415999999999999},"CAN 罐",47,{"$f":"SUMIF('PURCHASE SUMMARY'!$E$19:$E$75,C44,'PURCHASE SUMMARY'!$L$19:$L$75)","v":48},{"$f":"SUMIF('TOTAL USAGE ON BEVERAGES'!$A$8:$A$48,'STOCK ANALYSIS'!C44,'TOTAL USAGE ON BEVERAGES'!$B$8:$B$48)","v":31},{"$f":"SUMIF('DISPOSAL(CONVERT)'!$C$16:$C$48,C44,'DISPOSAL(CONVERT)'!$AK$14:$AK$49)","v":0},null,{"$f":"J44+H44+I44","v":31},{"$f":"+K44","v":31},64,{"$f":"SUMIF('CLOSING STOCK FORM -ADJUSTMENT'!$E$22:$E$88,C44,'CLOSING STOCK FORM -ADJUSTMENT'!$K$22:$K$89)","v":64},{"$f":"+N44-M44","v":0},{"$f":"+O44","v":0},"CAN",{"$f":"IF(M44=0,\"\",O44/M44)","v":0},0,41.589599999999997,0]
[null,24,"LIPTON ICE TEA -CLEAR GREEN",{"$f":"SUMIF(DATABASE!$E$22:$E$75,'STOCK ANALYSIS'!C45,DATABASE!$F$22:$F$75)","v":1.8708},"BTL 瓶",66,{"$f":"SUMIF('PURCHASE SUMMARY'!$E$19:$E$75,C45,'PURCHASE SUMMARY'!$L$19:$L$75)","v":24},{"$f":"SUMIF('TOTAL USAGE ON BEVERAGES'!$A$8:$A$48,'STOCK ANALYSIS'!C45,'TOTAL USAGE ON BEVERAGES'!$B$8:$B$48)","v":33},{"$f":"SUMIF('DISPOSAL(CONVERT)'!$C$16:$C$48,C45,'DISPOSAL(CONVERT)'!$AK$14:$AK$49)","v":0},null,33,{"$f":"+K45","v":33},57,{"$f":"SUMIF('CLOSING STOCK FORM -ADJUSTMENT'!$E$22:$E$88,C45,'CLOSING STOCK FORM -ADJUSTMENT'!$K$22:$K$89)","v":59},2,{"$f":"+O45","v":2},"BTL",3.5087719298245612E-2,3.7416,61.736400000000003,6.0606060606060608E-2]
[null,25,"CHILL CHRYSANTHEMUM",{"$f":"SUMIF(DATABASE!$E$22:$E$75,'STOCK ANALYSIS'!C46,DATABASE!$F$22:$F$75)","v":1.1333},"CAN 罐",35,{"$f":"SUMIF('PURCHASE SUMMARY'!$E$19:$E$75,C46,'PURCHASE SUMMARY'!$L$19:$L$75)","v":24},{"$f":"SUMIF('TOTAL USAGE ON BEVERAGES'!$A$8:$A$48,'STOCK ANALYSIS'!C46,'TOTAL USAGE ON BEVERAGES'!$B$8:$B$48)","v":15},{"$f":"SUMIF('DISPOSAL(CONVERT)'!$C$16:$C$48,C46,'DISPOSAL(CONVERT)'!$AK$14:$AK$49)","v":0},null,{"$f":"J46+H46+I46","v":15},15,44,{"$f":"SUMIF('CLOSING STOCK FORM -ADJUSTMENT'!$E$22:$E$88,C46,'CLOSING STOCK FORM -ADJUSTMENT'!$K$22:$K$89)","v":44},0,0,"CAN",0,0,16.999500000000001,0]
[null,26,"CHILL SOYA BEAN",{"$f":"SUMIF(DATABASE!$E$22:$E$75,'STOCK ANALYSIS'!C47,DATABASE!$F$22:$F$75)","v":1.1333},"CAN 罐",17,{"$f":"SUMIF('PURCHASE SUMMARY'!$E$19:$E$75,C47,'PURCHASE SUMMARY'!$L$19:$L$75)","v":48},{"$f":"SUMIF('TOTAL USAGE ON BEVERAGES'!$A$8:$A$48,'STOCK ANALYSIS'!C47,'TOTAL USAGE ON BEVERAGES'!$B$8:$B$48)","v":19},{"$f":"SUMIF('DISPOSAL(CONVERT)'!$C$16:$C$48,C47,'DISPOSAL(CONVERT)'!$AK$14:$AK$49)","v":0},null,{"$f":"J47+H47+I47","v":19},19,46,{"$f":"SUMIF('CLOSING STOCK FORM -ADJUSTMENT'!$E$22:$E$88,C47,'CLOSING STOCK FORM -ADJUSTMENT'!$K$22:$K$89)","v":46},0,0,"CAN",0,0,21.532699999999998,0]
[null,27,"CHILL CINCAU",{"$f":"SUMIF(DATABASE!$E$22:$E$75,'STOCK ANALYSIS'!C48,DATABASE!$F$22:$F$75)","v":1.2333000000000001},"CAN 罐",38,{"$f":"SUMIF('PURCHASE SUMMARY'!$E$19:$E$75,C48,'PURCHASE SUMMARY'!$L$19:$L$75)","v":24},{"$f":"SUMIF('TOTAL USAGE ON BEVERAGES'!$A$8:$A$48,'STOCK ANALYSIS'!C48,'TOTAL USAGE ON BEVERAGES'!$B$8:$B$48)","v":9},{"$f":"SUMIF('DISPOSAL(CONVERT)'!$C$16:$C$48,C48,'DISPOSAL(CONVERT)'!$AK$14:$AK$49)","v":0},null,9,9,53,{"$f":"SUMIF('CLOSING STOCK FORM -ADJUSTMENT'!$E$22:$E$88,C48,'CLOSING STOCK FORM -ADJUSTMENT'!$K$22:$K$89)","v":53},0,0,"CAN",0,0,11.0997,0]
[null,28,"REVIVE REGULAR ",{"$f":"SUMIF(DATABASE!$E$22:$E$75,'STOCK ANALYSIS'!C49,DATABASE!$F$22:$F$75)","v":1.2124999999999999},"CAN 罐",48,{"$f":"SUMIF('PURCHASE SUMMARY'!$E$19:$E$75,C49,'PURCHASE SUMMARY'!$L$19:$L$75)","v":24},{"$f":"SUMIF('TOTAL USAGE ON BEVERAGES'!$A$8:$A$48,'STOCK ANALYSIS'!C49,'TOTAL USAGE ON BEVERAGES'!$B$8:$B$48)","v":6},{"$f":"SUMIF('DISPOSAL(CONVERT)'!$C$16:$C$48,C49,'DISPOSAL(CONVERT)'!$AK$14:$AK$49)","v":0},null,6,6,66,{"$f":"SUMIF('CLOSING STOCK FORM -ADJUSTMENT'!$E$22:$E$88,C49,'CLOSING STOCK FORM -ADJUSTMENT'!$K$22:$K$89)","v":66},0,0,"CAN",0,0,7.2749999999999995,0]
[null,29,"PEPSI COLA",{"$f":"SUMIF(DATABASE!$E$22:$E$75,'STOCK ANALYSIS'!C50,DATABASE!$F$22:$F$75)","v":1.2124999999999999},"CAN 罐",47,{"$f":"SUMIF('PURCHASE SUMMARY'!$E$19:$E$75,C50,'PURCHASE SUMMARY'!$L$19:$L$75)","v":24},{"$f":"SUMIF('TOTAL USAGE ON BEVERAGES'!$A$8:$A$48,'STOCK ANALYSIS'!C50,'TOTAL USAGE ON BEVERAGES'!$B$8:$B$48)","v":9},{"$f":"SUMIF('DISPOSAL(CONVERT)'!$C$16:$C$48,C50,'DISPOSAL(CONVERT)'!$AK$14:$AK$49)","v":0},null,9,9,62,{"$f":"SUMIF('CLOSING STOCK FORM -ADJUSTMENT'!$E$22:$E$88,C50,'CLOSING STOCK FORM -ADJUSTMENT'!$K$22:$K$89)","v":62},0,0,"CAN",0,0,10.9125,0]
[null,30,"7UP",{"$f":"SUMIF(DATABASE!$E$22:$E$75,'STOCK ANALYSIS'!C51,DATABASE!$F$22:$F$75)","v":1.2124999999999999},"CAN 罐",39,{"$f":"SUMIF('PURCHASE SUMMARY'!$E$19:$E$75,C51,'PURCHASE SUMMARY'!$L$19:$L$75)","v":24},{"$f":"SUMIF('TOTAL USAGE ON BEVERAGES'!$A$8:$A$48,'STOCK ANALYSIS'!C51,'TOTAL USAGE ON BEVERAGES'!$B$8:$B$48)","v":11},{"$f":"SUMIF('DISPOSAL(CONVERT)'!$C$16:$C$48,C51,'DISPOSAL(CONVERT)'!$AK$14:$AK$49)","v":0},null,11,11,52,{"$f":"SUMIF('CLOSING STOCK FORM -ADJUSTMENT'!$E$22:$E$88,C51,'CLOSING STOCK FORM -ADJUSTMENT'!$K$22:$K$89)","v":52},0,0,"CAN",0,0,13.337499999999999,0]
[null,31,"RIBENA MOBILE ",{"$f":"SUMIF(DATABASE!$E$22:$E$75,'STOCK ANALYSIS'!C52,DATABASE!$F$22:$F$75)","v":1.982},"PKT 包",24,{"$f":"SUMIF('PURCHASE SUMMARY'!$E$19:$E$75,C52,'PURCHASE SUMMARY'!$L$19:$L$75)","v":48},{"$f":"SUMIF('TOTAL USAGE ON BEVERAGES'!$A$8:$A$48,'STOCK ANALYSIS'!C52,'TOTAL USAGE ON BEVERAGES'!$B$8:$B$48)","v":37},{"$f":"SUMIF('DISPOSAL(CONVERT)'!$C$16:$C$48,C52,'DISPOSAL(CONVERT)'!$AK$14:$AK$49)","v":0},null,{"$f":"J52+H52+I52","v":37},37,35,{"$f":"SUMIF('CLOSING STOCK FORM -ADJUSTMENT'!$E$22:$E$88,C52,'CLOSING STOCK FORM -ADJUSTMENT'!$K$22:$K$89)","v":16},-19,-19,"PKT",-0.54285714285714282,-37.658000000000001,73.334000000000003,-0.51351351351351349]
[null,"GRAND TOTAL  ( FOR BEVERAGE MATERIAL ONLY ) -A ",null,null,null,null,null,null,null,null,null,null,null,null,null,null,null,null,{"$f":"SUM(S22:S52)","v":231.31163335416653},{"$f":"SUM(T22:T52)","v":5340.8455857499976},{"$f":"SUM(U22:U52)","v":-9.914299212618511}]
[null,"CIGARETTE 香烟"]
[null,{"$f":"+B52+1","v":32},"DUNHILL KING",{"$f":"SUMIF(DATABASE!$E$22:$E$75,'STOCK ANALYSIS'!C55,DATABASE!$F$22:$F$75)","v":11.0806},"PKT 包",15,{"$f":"SUMIF('PURCHASE SUMMARY'!$E$22:$E$75,C55,'PURCHASE SUMMARY'!$L$22:$L$76)","v":25},{"$f":"SUMIF('TOTAL USAGE ON BEVERAGES'!$A$8:$A$48,'STOCK ANALYSIS'!C55,'TOTAL USAGE ON BEVERAGES'!$B$8:$B$48)","v":29},{"$f":"SUMIF('DISPOSAL(CONVERT)'!$C$16:$C$48,C55,'DISPOSAL(CONVERT)'!$AK$14:$AK$49)","v":0},null,{"$f":"J55+H55+I55","v":29},null,{"$f":"+F55+G55-K55","v":11},{"$f":"SUMIF('CLOSING STOCK FORM -ADJUSTMENT'!$E$22:$E$88,C55,'CLOSING STOCK FORM -ADJUSTMENT'!$K$22:$K$89)","v":11},{"$f":"+N55-M55","v":0},{"$f":"+O55","v":0},"PKT",{"$f":"IF(M55=0,\"\",O55/M55)","v":0},{"$f":"+O55*D55","v":0},{"$f":"+K55*D55","v":321.3374},{"$f":"IF(K55=0,\"\",O55/K55)","v":0}]
[null,{"$f":"+B55+1","v":33},"DUNHILL LIGHTS KING",{"$f":"SUMIF(DATABASE!$E$22:$E$75,'STOCK ANALYSIS'!C56,DATABASE!$F$22:$F$75)","v":11.0806},"PKT 包",10,{"$f":"SUMIF('PURCHASE SUMMARY'!$E$22:$E$75,C56,'PURCHASE SUMMARY'!$L$22:$L$76)","v":20},{"$f":"SUMIF('TOTAL USAGE ON BEVERAGES'!$A$8:$A$48,'STOCK ANALYSIS'!C56,'TOTAL USAGE ON BEVERAGES'!$B$8:$B$48)","v":28},{"$f":"SUMIF('DISPOSAL(CONVERT)'!$C$16:$C$48,C56,'DISPOSAL(CONVERT)'!$AK$14:$AK$49)","v":0},null,{"$f":"J56+H56+I56","v":28},null,{"$f":"+F56+G56-K56","v":2},{"$f":"SUMIF('CLOSING STOCK FORM -ADJUSTMENT'!$E$22:$E$88,C56,'CLOSING STOCK FORM -ADJUSTMENT'!$K$22:$K$89)","v":2},0,0,"PKT",0,{"$f":"+O56*D56","v":0},{"$f":"+K56*D56","v":310.2568},{"$f":"IF(K56=0,\"\",O56/K56)","v":0}]
[null,34,"DUNHILL MENTHOL KING",{"$f":"SUMIF(DATABASE!$E$22:$E$75,'STOCK ANALYSIS'!C57,DATABASE!$F$22:$F$75)","v":11.0806},"PKT 包",17,{"$f":"SUMIF('PURCHASE SUMMARY'!$E$22:$E$75,C57,'PURCHASE SUMMARY'!$L$22:$L$76)","v":10},{"$f":"SUMIF('TOTAL USAGE ON BEVERAGES'!$A$8:$A$48,'STOCK ANALYSIS'!C57,'TOTAL USAGE ON BEVERAGES'!$B$8:$B$48)","v":12},{"$f":"SUMIF('DISPOSAL(CONVERT)'!$C$16:$C$48,C57,'DISPOSAL(CONVERT)'!$AK$14:$AK$49)","v":0},null,12,null,{"$f":"+F57+G57-K57","v":15},{"$f":"SUMIF('CLOSING STOCK FORM -ADJUSTMENT'!$E$22:$E$88,C57,'CLOSING STOCK FORM -ADJUSTMENT'!$K$22:$K$89)","v":15},0,0,"PKT",0,{"$f":"+O57*D57","v":0},{"$f":"+K57*D57","v":132.96719999999999},{"$f":"IF(K57=0,\"\",O57/K57)","v":0}]
[null,{"$f":"+B57+1","v":35},"DUNHILL ICE",{"$f":"SUMIF(DATABASE!$E$22:$E$75,'STOCK ANALYSIS'!C58,DATABASE!$F$22:$F$75)","v":11.0806},"PKT 包",13,{"$f":"SUMIF('PURCHASE SUMMARY'!$E$22:$E$75,C58,'PURCHASE SUMMARY'!$L$22:$L$76)","v":15},{"$f":"SUMIF('TOTAL USAGE ON BEVERAGES'!$A$8:$A$48,'STOCK ANALYSIS'!C58,'TOTAL USAGE ON BEVERAGES'!$B$8:$B$48)","v":21},{"$f":"SUMIF('DISPOSAL(CONVERT)'!$C$16:$C$48,C58,'DISPOSAL(CONVERT)'!$AK$14:$AK$49)","v":0},null,21,null,{"$f":"+F58+G58-K58","v":7},{"$f":"SUMIF('CLOSING STOCK FORM -ADJUSTMENT'!$E$22:$E$88,C58,'CLOSING STOCK FORM -ADJUSTMENT'!$K$22:$K$89)","v":7},0,0,"PKT",0,{"$f":"+O58*D58","v":0},{"$f":"+K58*D58","v":232.6926},{"$f":"IF(K58=0,\"\",O58/K58)","v":0}]
[]
[null,"TOTAL (CIGARETTE ONLY )  -B ",null,null,null,null,{"$f":"SUM(G55:G59)","v":70},{"$f":"SUM(H55:H59)","v":90},null,null,{"$f":"SUM(K55:K59)","v":90},null,{"$f":"SUM(M55:M59)","v":35},{"$f":"SUM(N55:N59)","v":35},null,null,null,null,{"$f":"SUM(S55:S59)","v":0},{"$f":"SUM(T55:T59)","v":997.25400000000002},{"$f":"SUM(U55:U59)","v":0}]
[null,"GRAND TOTAL  (A+B)",null,null,null,null,null,null,null,null,null,null,null,null,null,null,null,null,{"$f":"+S60+S53","v":231.31163335416653},{"$f":"+T60+T53","v":6338.0995857499975},{"$f":"+U60+U53","v":-9.914299212618511}]
[]
[]
[]
[null,null,"DESCRIPTION ",null,null,null,null,"MAR","APR"]
[null,null,"PERCENTAGE  ( STOCK LOSSES OVER USAGE )    ",null,null,null,null,5.7544747876045368E-2,{"$f":"+S61/T61","v":3.6495424255280941E-2}]
[null,null,"TOTAL HEADCOUNT                 ( PAX)",null,null,null,null,13126,9339]
[null,null,"AVERAGE EXPENSES PER PAX      ( RM )     ON BEVERAGE ONLY ",null,null,null,null,0.59242624858106041,{"$f":"+T53/I67","v":0.57188623897098168}]
[]
[null,null,"TOTAL SERVINGS ( ON BEVERAGE )  TO CUSTOMERS",null,null,null,null,24945,{"$f":"+SERVINGS!G109+SERVINGS!G87","v":17509}]
[null,null,"AVERAGE SERVINGS PER PAX  (GLASSES)",null,null,null,null,1.9004266341612068,{"$f":"+I70/I67","v":1.8748259985009101}]
[]
[null,null,"REMARK :"]
[null,null,"RECORD","REMARK "]
[]
[]
[]
[]
[]
[null,null,"**TOTAL SERVINGS (GLASS) :  INCLUDE STAFF DRINKS  & LOK LOK BAR BEVERAGE "]

{"sheet":"CLOSING STOCK FORM -ADJUSTMENT","index":5,"n_rows":96,"n_cols":13,"rows_kept":96,"cut":false,"hidden":true,"merged":[[12,1,12,12],[13,9,13,12],[86,6,86,8],[87,6,87,8],[88,6,88,8]]}
[]
[]
[null,null,"MONTHLY CLOSING STOCK"]
[null,null,"每月吧台存货表"]
[]
[]
[null,null,"OUTLET BAR ","CCS"]
[null,null,"分行吧台"]
[]
[null,null,"YEAR / MONTH","APRIL 2014"]
[null,null,"年/月"]
[]
[]
[null,"ITEM","CATEGORIES","SUPPLIER","PRODUCT DESCRIPTION","PRICE","UOM","PACK.SIZE",null,"FOR CCS BAR DEPARTMENT "]
[null,"项目","分类","供应商","食材产品","价格","单位","包装","A","B","C","D","E"]
[null,null,null,null,null,null,null,null,null,null,"(A) + (B)",null,"=UP*C"]
[null,null,null,null,null,null,null,null,"USAGE","QUANTITY","NETT QUANTITY ","UOM","TOTAL "]
[null,null,null,null,null,null,null,null,null,null,null,null,"CLOSING VALUE"]
[null,null,null,null,null,null,null,null,"用量","数量","净数量","单位","总存货价值"]
[]
[null,"MAIN BEVERAGE MATERIAL 主要饮料的食材"]
[null,1,"SRYUP","BEST FICTION ","SYRUP CHAMPAGNE GRAPE",{"$f":"SUMIF(DATABASE!$E$22:$E$75,E22,DATABASE!$F$22:$F$75)","v":5.7499999999999999E-3},"ML ","01drum × 4000ml",null,{"$f":"+'CLOSING STOCK (CONVERT)'!AK15","v":19328.673333333332},{"$f":"+I22+J22","v":19328.673333333332},{"$f":"+G22","v":"ML "},{"$f":"+K22*F22","v":111.13987166666666}]
[null,{"$f":"+B22+1","v":2},"SRYUP","BEST FICTION ","SYRUP GREEN APPLE",{"$f":"SUMIF(DATABASE!$E$22:$E$75,E23,DATABASE!$F$22:$F$75)","v":5.7499999999999999E-3},"ML ","01drum × 4000ml",null,{"$f":"+'CLOSING STOCK (CONVERT)'!AK16","v":16735.71},{"$f":"+I23+J23","v":16735.71},{"$f":"+G23","v":"ML "},{"$f":"+K23*F23","v":96.230332499999989}]
[null,{"$f":"+B23+1","v":3},"SRYUP","BEST FICTION ","SYRUP PASSION FRUIT",{"$f":"SUMIF(DATABASE!$E$22:$E$75,E24,DATABASE!$F$22:$F$75)","v":5.7499999999999999E-3},"ML ","01drum × 4000ml",null,{"$f":"+'CLOSING STOCK (CONVERT)'!AK17","v":20553.516666666666},20553.516666666666,"ML ",118.18272083333333]
[null,4,"SRYUP","BEST FICTION ","SYRUP HONEY ",{"$f":"+DATABASE!F25","v":9.4999999999999998E-3},"ML ","01drum × 2000ml",null,{"$f":"+'CLOSING STOCK (CONVERT)'!AK18","v":0},0,"ML ",0]
[null,5,"SRYUP","BEST FICTION ","SYRUP MANGO",{"$f":"+DATABASE!F26","v":5.7499999999999999E-3},"ML ","01drum × 4000ml",null,{"$f":"+'CLOSING STOCK (CONVERT)'!AK19","v":23149.686666666668},23149.686666666668,"ML ",133.11069833333335]
[null,6,"SRYUP","G&K","SYRUP HONEY ",{"$f":"+DATABASE!F27","v":8.9999999999999993E-3},"ML ","01drum × 2000ml",null,{"$f":"+'CLOSING STOCK (CONVERT)'!AK20","v":20763.333333333332},20763.333333333332,"ML ",186.86999999999998]
[null,7,"SRYUP","G&K","SYRUP MANGO",{"$f":"+DATABASE!F28","v":5.7499999999999999E-3},"ML ","01drum × 4000ml",null,{"$f":"+'CLOSING STOCK (CONVERT)'!AK21","v":0},0,"ML ",0]
[null,8,"SRYUP","TIEN SWEE","SYRUP RIBENA",{"$f":"SUMIF(DATABASE!$E$22:$E$75,E29,DATABASE!$F$22:$F$75)","v":0.01},"ML ","01ctn × 06btl × 1000ml",null,{"$f":"+'CLOSING STOCK (CONVERT)'!AK22","v":24196.666666666668},24196.666666666668,"ML ",241.9666666666667]
[null,9,"SRYUP","BEN MART","SYRUP RIBENA",{"$f":"23.9/2000","v":1.1949999999999999E-2},"ML ","01ctn × 06btl × 2000ml",null,null,24000,"ML ",{"$f":"+K30*F30","v":286.79999999999995}]
[null,10,"TEABAG","BEST FICTION","TEA BAG JASMINE GREEN",{"$f":"SUMIF(DATABASE!$E$22:$E$75,E31,DATABASE!$F$22:$F$75)","v":0.75},"BAG ","01pkt × 24bag",null,{"$f":"+'CLOSING STOCK (CONVERT)'!AK25","v":174.55119999999999},174.55119999999999,{"$f":"+G31","v":"BAG "},130.9134]
[null,11,"TEABAG","CHUAN HUAT ","TEA BAG LIPTON CHAMOMILE",{"$f":"SUMIF(DATABASE!$E$22:$E$75,E32,DATABASE!$F$22:$F$75)","v":0.46},"BAG ","01box × 25bag",null,{"$f":"+'CLOSING STOCK (CONVERT)'!AK26","v":3},3,{"$f":"+G32","v":"BAG "},1.3800000000000001]
[null,12,"TEABAG","CHUAN HUAT ","TEA BAG LIPTON DARJEELING ",{"$f":"SUMIF(DATABASE!$E$22:$E$75,E33,DATABASE!$F$22:$F$75)","v":0.46},"BAG ","01box × 25bag",null,{"$f":"+'CLOSING STOCK (CONVERT)'!AK27","v":10},10,"BAG ",4.6000000000000005]
[null,13,"TEABAG","CHUAN HUAT ","TEA BAG LIPTON EARLGREY",{"$f":"SUMIF(DATABASE!$E$22:$E$75,E34,DATABASE!$F$22:$F$75)","v":0.46},"BAG ","01box × 25bag",null,{"$f":"+'CLOSING STOCK (CONVERT)'!AK28","v":13},13,"BAG ",5.98]
[null,14,"TEABAG","CHUAN HUAT ","TEA BAG LIPTON RED CATERING",{"$f":"SUMIF(DATABASE!$E$22:$E$75,E35,DATABASE!$F$22:$F$75)","v":0.32500000000000001},"BAG ","01ctn × 12pkt × 20bag",null,{"$f":"+'CLOSING STOCK (CONVERT)'!AK29","v":486.28604999999999},486.28604999999999,"BAG ",158.04296625000001]
[null,15,"POWDER","BEST FICTION","POWDER CAPPUCCINO",{"$f":"SUMIF(DATABASE!$E$22:$E$75,E36,DATABASE!$F$22:$F$75)","v":2.1000000000000001E-2},"GM","01pkt × 1000g",null,{"$f":"+'CLOSING STOCK (CONVERT)'!AK32","v":425},425,"GM",8.9250000000000007]
[null,16,"POWDER","GOLDEN CHOICE ","POWDER CHOCOLATE",{"$f":"SUMIF(DATABASE!$E$22:$E$75,E37,DATABASE!$F$22:$F$75)","v":0.02},"GM","01pkt × 1000g",null,{"$f":"+'CLOSING STOCK (CONVERT)'!AK33","v":1035},1035,"GM",20.7]
[null,17,"POWDER","BEST FICTION","POWDER MOCHA",{"$f":"SUMIF(DATABASE!$E$22:$E$75,E38,DATABASE!$F$22:$F$75)","v":2.1000000000000001E-2},"GM","01pkt × 1000g",null,{"$f":"+'CLOSING STOCK (CONVERT)'!AK34","v":1265},1265,"GM",26.565000000000001]
[null,18,"POWDER","CHUAN HUAT ","POWDER LIME",{"$f":"SUMIF(DATABASE!$E$22:$E$75,E39,DATABASE!$F$22:$F$75)","v":2.375E-2},"GM","01ctn × 12pkt × 400g",null,{"$f":"+'CLOSING STOCK (CONVERT)'!AK35","v":9920},9920,"GM",235.6]
[null,19,"POWDER","SYKT.TEE SIANG","POWDER MILO",{"$f":"SUMIF(DATABASE!$E$22:$E$75,E40,DATABASE!$F$22:$F$75)","v":1.546875E-2},"GM","01ctn × 06pkt × 3200g",null,{"$f":"+'CLOSING STOCK (CONVERT)'!AK36","v":38743.620000000003},38743.620000000003,"GM",599.31537187499998]
[null,20,"POWDER","SYKT.TEE SIANG","POWDER NESCAFE ICE",{"$f":"SUMIF(DATABASE!$E$22:$E$75,E41,DATABASE!$F$22:$F$75)","v":1.9213333333333332E-2},"GM","01pkt × 750g",null,{"$f":"+'CLOSING STOCK (CONVERT)'!AK37","v":1080},1080,"GM",20.750399999999999]
[null,21,"POWDER","SYKT.TEE SIANG","POWDER NESCAFE WHITE",{"$f":"SUMIF(DATABASE!$E$22:$E$75,E42,DATABASE!$F$22:$F$75)","v":2.0210000000000002E-2},"GM","01pkt × 1000g",null,{"$f":"+'CLOSING STOCK (CONVERT)'!AK38","v":1395},1395,"GM",28.192950000000003]
[null,22,"CREAMER  & SUGAR","SYKT.TEE SIANG","SACHET DAIRY CREAMER",{"$f":"SUMIF(DATABASE!$E$22:$E$75,E43,DATABASE!$F$22:$F$75)","v":0.1134},"PCS","01ctn × 2pkt × 500pcs",null,{"$f":"+'CLOSING STOCK (CONVERT)'!AK41","v":594},594,"PCS",67.3596]
[null,23,"CREAMER  & SUGAR","SYKT.TEE SIANG","SACHET SUGAR WHITE",{"$f":"SUMIF(DATABASE!$E$22:$E$75,E44,DATABASE!$F$22:$F$75)","v":4.1500000000000002E-2},"PCS","01ctn × 10pkt × 200pcs",null,{"$f":"+'CLOSING STOCK (CONVERT)'!AK42","v":70},70,"PCS",2.9050000000000002]
[null,24,"CREAMER  & SUGAR","BEST FICTION","POWDER DAIRY CREAMER",{"$f":"SUMIF(DATABASE!$E$22:$E$75,E45,DATABASE!$F$22:$F$75)","v":8.9999999999999993E-3},"GM","01pkt × 2000g",null,{"$f":"+'CLOSING STOCK (CONVERT)'!AK43","v":5200},5200,"GM",46.8]
[null,25,"TIDBITS","S.C. TRADING","MIXED TIDBITS",{"$f":"SUMIF(DATABASE!$E$22:$E$75,E46,DATABASE!$F$22:$F$75)","v":1.0200000000000001E-2},"GM","01bag × 3500g",null,{"$f":"+'CLOSING STOCK (CONVERT)'!AK46","v":157},157,"GM",1.6014000000000002]
[null,26,"CANNED & BTL","PERMANIS SANDILAND ","LIPTON ICE TEA -LEMON",{"$f":"SUMIF(DATABASE!$E$22:$E$75,E47,DATABASE!$F$22:$F$75)","v":1.3415999999999999},"CANNED","01ctn × 24can × 300ml",null,103,64,"CANNED",85.862399999999994]
[null,27,"CANNED & BTL","PERMANIS SANDILAND ","LIPTON ICE TEA -CLEAR GREEN",{"$f":"SUMIF(DATABASE!$E$22:$E$75,E48,DATABASE!$F$22:$F$75)","v":1.8708},"BTL","01ctn × 24btl × 450ml",null,16,59,"BTL",110.3772]
[null,28,"CANNED & BTL","PERMANIS SANDILAND ","CHILL CHRYSANTHEMUM",{"$f":"SUMIF(DATABASE!$E$22:$E$75,E49,DATABASE!$F$22:$F$75)","v":1.1333},"CANNED","01ctn × 24can × 300ml",null,55,44,"CANNED",49.865200000000002]
[null,29,"CANNED & BTL","PERMANIS SANDILAND ","CHILL SOYA BEAN",{"$f":"SUMIF(DATABASE!$E$22:$E$75,E50,DATABASE!$F$22:$F$75)","v":1.1333},"CANNED","01ctn × 24can × 300ml",null,56,46,"CANNED",52.131799999999998]
[null,30,"CANNED & BTL","PERMANIS SANDILAND ","CHILL CINCAU",{"$f":"SUMIF(DATABASE!$E$22:$E$75,E51,DATABASE!$F$22:$F$75)","v":1.2333000000000001},"CANNED","01ctn × 24can × 300ml",null,61,53,"CANNED",65.364900000000006]
[null,31,"CANNED & BTL","PERMANIS SANDILAND ","REVIVE REGULAR ",{"$f":"SUMIF(DATABASE!$E$22:$E$75,E52,DATABASE!$F$22:$F$75)","v":1.2124999999999999},"CANNED","01ctn × 24can × 325ml",null,52,66,"CANNED",80.024999999999991]
[null,32,"CANNED & BTL","PERMANIS SANDILAND ","PEPSI COLA",{"$f":"SUMIF(DATABASE!$E$22:$E$75,E53,DATABASE!$F$22:$F$75)","v":1.2124999999999999},"CANNED","01ctn × 24can × 325ml",null,50,62,"CANNED",75.174999999999997]
[null,33,"CANNED & BTL","PERMANIS SANDILAND ","7UP",{"$f":"SUMIF(DATABASE!$E$22:$E$75,E54,DATABASE!$F$22:$F$75)","v":1.2124999999999999},"CANNED","01ctn × 24can × 325ml",null,38,52,"CANNED",63.05]
[null,34,"BEVERAGE ","TIEN SWEE","RIBENA MOBILE ",{"$f":"SUMIF(DATABASE!$E$22:$E$75,E55,DATABASE!$F$22:$F$75)","v":1.982},"PKT","01ctn × 24pkt × 300ml",null,38,16,"PKT",31.712]
[null,35,"MINERAL WATER ","PERMANIS SANDILAND ","MINERAL WATER ",{"$f":"SUMIF(DATABASE!$E$22:$E$75,E56,DATABASE!$F$22:$F$75)","v":0.58330000000000004},"BTL","01ctn × 24 btl ",null,{"$f":"76+33","v":109},{"$f":"35+19","v":54},"BTL",31.498200000000001]
[null,36,"SOFT DRINKS","PERMANIS SANDILAND ","BIB PEPSI",0.51990000000000003,"GLASS","01bib × 20lit",null,{"$f":"3*320","v":960},0,"GLASS",0]
[null,37,"SOFT DRINKS","PERMANIS SANDILAND ","BIB 7UP",0.51990000000000003,"GLASS","01bib × 20lit",null,{"$f":"320*2","v":640},640,"GLASS",332.73599999999999]
[null,38,"SOFT DRINKS","PERMANIS SANDILAND ","BIB 7UP REVIVE",0.51990000000000003,"GLASS","01bib × 20lit",null,960,640,"GLASS",332.73599999999999]
[null,39,"BEER","GAB","BEER GUINNESS",{"$f":"SUMIF(DATABASE!$E$22:$E$75,E60,DATABASE!$F$22:$F$75)","v":6.8103999999999996},"BTL","01ctn × 24btl",null,461,79,"BTL",538.02159999999992]
[null,40,"BEER","GAB","BEER HEINEKEN",{"$f":"SUMIF(DATABASE!$E$22:$E$75,E61,DATABASE!$F$22:$F$75)","v":8.1145999999999994},"BTL","01ctn × 24btl",null,605,257,"BTL",2085.4521999999997]
[null,41,"BEER","GAB","BEER TIGER",{"$f":"SUMIF(DATABASE!$E$22:$E$75,E62,DATABASE!$F$22:$F$75)","v":6},"BTL","01ctn × 24btl",null,1656,657,"BTL",3942]
[null,42,"BEER","GAB","STRONGBOW",{"$f":"SUMIF(DATABASE!$E$22:$E$75,E63,DATABASE!$F$22:$F$75)","v":9.7200000000000006},"BTL","01ctn × 24btl",null,40,33,"BTL",320.76000000000005]
[null,43,"BEER","GAB","PAULANAR",{"$f":"SUMIF(DATABASE!$E$22:$E$75,E64,DATABASE!$F$22:$F$75)","v":12},"BTL","01ctn × 24btl",null,48,28,"BTL",336]
[null,44,"BEER","LUEN HENG","SOMEBY APPLE CIDER",{"$f":"SUMIF(DATABASE!$E$22:$E$75,E65,DATABASE!$F$22:$F$75)","v":9.57},"BTL","01ctn × 24btl",null,32,33,"BTL",315.81]
[null,45,"BEER","LUEN HENG","HOEGAARDEN",{"$f":"SUMIF(DATABASE!$E$22:$E$75,E66,DATABASE!$F$22:$F$75)","v":10.95},"BTL","01ctn × 24btl",null,20,37,"BTL",{"$f":"+K66*F66","v":405.15}]
[null,46,"BEER -CUSTODY","GAB","BEER GUINNESS ",{"$f":"+F60","v":6.8103999999999996},"BTL","01ctn × 24btl",null,29,10,"BTL",{"$f":"-K67*F67","v":-68.103999999999999}]
[null,47,"BEER -CUSTODY","GAB","BEER HEINEKEN ",{"$f":"+F61","v":8.1145999999999994},"BTL","01ctn × 24btl",null,19,63,"BTL",{"$f":"-K68*F68","v":-511.21979999999996}]
[null,48,"BEER -CUSTODY","GAB","BEER TIGER ",6,"BTL","01ctn × 24btl",null,232,206,"BTL",-1236]
[null,49,"BEER -CUSTODY","GAB","STRONGBOW ",{"$f":"+F63","v":9.7200000000000006},"BTL","01ctn × 24btl",null,null,0,"BTL",0]
[null,50,"BEER -CUSTODY","GAB","PAULANAR",{"$f":"SUMIF(DATABASE!$E$22:$E$75,E71,DATABASE!$F$22:$F$75)","v":12},"BTL","01ctn × 24btl",null,null,0,"BTL",0]
[null,51,"BEER -CUSTODY","LUEN HENG","SOMEBY APPLE CIDER",{"$f":"SUMIF(DATABASE!$E$22:$E$75,E72,DATABASE!$F$22:$F$75)","v":9.57},"BTL","01ctn × 24btl",null,null,0,"BTL",0]
[null,52,"BEER -CUSTODY","LUEN HENG","HOEGAARDEN",{"$f":"SUMIF(DATABASE!$E$22:$E$75,E73,DATABASE!$F$22:$F$75)","v":10.95},"BTL","01ctn × 24btl",null,null,0,"BTL",0]
[null,53,"CIGARETTE","NEW FOO HING","DUNHILL KING",{"$f":"+'STOCK ANALYSIS'!D55","v":11.0806},"PKT","01pkt × 20s ",null,36,11,"PKT",{"$f":"+K74*F74","v":121.8866}]
[null,54,"CIGARETTE","NEW FOO HING","DUNHILL LIGHTS KING",{"$f":"+'STOCK ANALYSIS'!D56","v":11.0806},"PKT","01pkt × 20s ",null,21,2,"PKT",{"$f":"+K75*F75","v":22.161200000000001}]
[null,55,"CIGARETTE","NEW FOO HING","DUNHILL MENTHOL KING",{"$f":"+'STOCK ANALYSIS'!D57","v":11.0806},"PKT","01pkt × 20s ",null,34,15,"PKT",{"$f":"+K76*F76","v":166.209}]
[null,56,"CIGARETTE","NEW FOO HING","DUNHILL ICE",{"$f":"+'STOCK ANALYSIS'!D58","v":11.0806},"PKT","01pkt × 20s ",null,22,7,"PKT",{"$f":"+K77*F77","v":77.5642}]
[]
[null,"GRAND TOTAL ",null,null,null,null,null,null,null,null,null,null,{"$f":"SUM(M22:M78)","v":10360.156078125001}]
[]
[]
[null,null,"ITEMS","TOTAL (RM )"]
[null,1,{"$f":"+C22","v":"SRYUP"},{"$f":"SUMIF($C$22:$C$78,C83,$M$22:$M$78)","v":1174.3002900000001}]
[null,{"$f":"+B83+1","v":2},{"$f":"+C31","v":"TEABAG"},300.91636625000001]
[null,{"$f":"+B84+1","v":3},{"$f":"+C36","v":"POWDER"},940.04872187499996]
[null,4,{"$f":"+C43","v":"CREAMER  & SUGAR"},117.0646,null,null,"REMARK :"]
[null,5,"TIDBITS",1.6014000000000002]
[null,6,{"$f":"+C47","v":"CANNED & BTL"},581.85149999999987]
[null,7,{"$f":"+C55","v":"BEVERAGE "},31.712]
[null,8,{"$f":"+C56","v":"MINERAL WATER "},31.498200000000001]
[null,9,{"$f":"+C57","v":"SOFT DRINKS"},665.47199999999998]
[null,10,{"$f":"+C60","v":"BEER"},7943.1938]
[null,11,{"$f":"+C67","v":"BEER -CUSTODY"},-1815.3238000000001]
[null,12,{"$f":"+C74","v":"CIGARETTE"},387.82100000000003]
[]
[null,null,"TOTAL ",{"$f":"SUM(D83:D95)","v":10360.156078124999}]

{"sheet":"CLOSING STOCK FORM ","index":6,"n_rows":95,"n_cols":11,"rows_kept":95,"cut":false,"hidden":true,"merged":[[12,1,12,10]]}
[]
[]
[null,null,"MONTHLY CLOSING STOCK "]
[null,null,"每月吧台存货表"]
[]
[]
[null,null,"OUTLET BAR ","CCS"]
[null,null,"分行吧台"]
[]
[null,null,"YEAR / MONTH","December 2013"]
[null,null,"年/月"]
[]
[]
[null,"ITEM","CATEGORIES","SUPPLIER","PRODUCT DESCRIPTION","PRICE","UOM","PACK.SIZE","FOR CCS BAR DEPARTMENT "]
[null,"项目","分类","供应商","食材产品","价格","单位","包装","A","B","C"]
[null,null,null,null,null,null,null,null,null,null,"=UP*A"]
[null,null,null,null,null,null,null,null,"QUANTITY","UOM","TOTAL "]
[null,null,null,null,null,null,null,null,null,null,"CLOSING VALUE"]
[null,null,null,null,null,null,null,null,"数量","单位","总存货价值"]
[]
[null,"MAIN BEVERAGE MATERIAL 主要饮料的食材"]
[null,1,"SRYUP","BEST FICTION ","SYRUP CHAMPAGNE GRAPE",{"$f":"SUMIF(DATABASE!$E$22:$E$75,E22,DATABASE!$F$22:$F$75)","v":5.7499999999999999E-3},"ML ","01drum × 4000ml",{"$f":"+'CLOSING STOCK (CONVERT)'!AK15","v":19328.673333333332},{"$f":"+G22","v":"ML "},{"$f":"+I22*F22","v":111.13987166666666}]
[null,{"$f":"+B22+1","v":2},"SRYUP","BEST FICTION ","SYRUP GREEN APPLE",{"$f":"SUMIF(DATABASE!$E$22:$E$75,E23,DATABASE!$F$22:$F$75)","v":5.7499999999999999E-3},"ML ","01drum × 4000ml",{"$f":"+'CLOSING STOCK (CONVERT)'!AK16","v":16735.71},{"$f":"+G23","v":"ML "},{"$f":"+I23*F23","v":96.230332499999989}]
[null,{"$f":"+B23+1","v":3},"SRYUP","BEST FICTION ","SYRUP PASSION FRUIT",{"$f":"SUMIF(DATABASE!$E$22:$E$75,E24,DATABASE!$F$22:$F$75)","v":5.7499999999999999E-3},"ML ","01drum × 4000ml",{"$f":"+'CLOSING STOCK (CONVERT)'!AK17","v":20553.516666666666},"ML ",118.18272083333333]
[null,4,"SRYUP","BEST FICTION ","SYRUP HONEY ",{"$f":"+DATABASE!F25","v":9.4999999999999998E-3},"ML ","01drum × 2000ml",{"$f":"+'CLOSING STOCK (CONVERT)'!AK18","v":0},"ML ",0]
[null,5,"SRYUP","BEST FICTION ","SYRUP MANGO",{"$f":"+DATABASE!F26","v":5.7499999999999999E-3},"ML ","01drum × 4000ml",{"$f":"+'CLOSING STOCK (CONVERT)'!AK19","v":23149.686666666668},"ML ",133.11069833333335]
[null,6,"SRYUP","G&K","SYRUP HONEY ",{"$f":"+DATABASE!F27","v":8.9999999999999993E-3},"ML ","01drum × 2000ml",{"$f":"+'CLOSING STOCK (CONVERT)'!AK20","v":20763.333333333332},"ML ",186.86999999999998]
[null,7,"SRYUP","G&K","SYRUP MANGO",{"$f":"+DATABASE!F28","v":5.7499999999999999E-3},"ML ","01drum × 4000ml",{"$f":"+'CLOSING STOCK (CONVERT)'!AK21","v":0},"ML ",0]
[null,8,"SRYUP","TIEN SWEE","SYRUP RIBENA",{"$f":"SUMIF(DATABASE!$E$22:$E$75,E29,DATABASE!$F$22:$F$75)","v":0.01},"ML ","01ctn × 06btl × 1000ml",{"$f":"+'CLOSING STOCK (CONVERT)'!AK22","v":24196.666666666668},"ML ",241.9666666666667]
[null,9,"TEABAG","BEST FICTION","TEA BAG JASMINE GREEN",{"$f":"SUMIF(DATABASE!$E$22:$E$75,E30,DATABASE!$F$22:$F$75)","v":0.75},"BAG ","01pkt × 24bag",{"$f":"+'CLOSING STOCK (CONVERT)'!AK25","v":174.55119999999999},{"$f":"+G30","v":"BAG "},130.9134]
[null,10,"TEABAG","CHUAN HUAT ","TEA BAG LIPTON CHAMOMILE",{"$f":"SUMIF(DATABASE!$E$22:$E$75,E31,DATABASE!$F$22:$F$75)","v":0.46},"BAG ","01box × 25bag",{"$f":"+'CLOSING STOCK (CONVERT)'!AK26","v":3},{"$f":"+G31","v":"BAG "},1.3800000000000001]
[null,11,"TEABAG","CHUAN HUAT ","TEA BAG LIPTON DARJEELING ",{"$f":"SUMIF(DATABASE!$E$22:$E$75,E32,DATABASE!$F$22:$F$75)","v":0.46},"BAG ","01box × 25bag",{"$f":"+'CLOSING STOCK (CONVERT)'!AK27","v":10},"BAG ",4.6000000000000005]
[null,12,"TEABAG","CHUAN HUAT ","TEA BAG LIPTON EARLGREY",{"$f":"SUMIF(DATABASE!$E$22:$E$75,E33,DATABASE!$F$22:$F$75)","v":0.46},"BAG ","01box × 25bag",{"$f":"+'CLOSING STOCK (CONVERT)'!AK28","v":13},"BAG ",5.98]
[null,13,"TEABAG","CHUAN HUAT ","TEA BAG LIPTON RED CATERING",{"$f":"SUMIF(DATABASE!$E$22:$E$75,E34,DATABASE!$F$22:$F$75)","v":0.32500000000000001},"BAG ","01ctn × 12pkt × 20bag",{"$f":"+'CLOSING STOCK (CONVERT)'!AK29","v":486.28604999999999},"BAG ",158.04296625000001]
[null,14,"POWDER","BEST FICTION","POWDER CAPPUCCINO",{"$f":"SUMIF(DATABASE!$E$22:$E$75,E35,DATABASE!$F$22:$F$75)","v":2.1000000000000001E-2},"GM","01pkt × 1000g",{"$f":"+'CLOSING STOCK (CONVERT)'!AK32","v":425},"GM",8.9250000000000007]
[null,15,"POWDER","GOLDEN CHOICE ","POWDER CHOCOLATE",{"$f":"SUMIF(DATABASE!$E$22:$E$75,E36,DATABASE!$F$22:$F$75)","v":0.02},"GM","01pkt × 1000g",{"$f":"+'CLOSING STOCK (CONVERT)'!AK33","v":1035},"GM",20.7]
[null,16,"POWDER","BEST FICTION","POWDER MOCHA",{"$f":"SUMIF(DATABASE!$E$22:$E$75,E37,DATABASE!$F$22:$F$75)","v":2.1000000000000001E-2},"GM","01pkt × 1000g",{"$f":"+'CLOSING STOCK (CONVERT)'!AK34","v":1265},"GM",26.565000000000001]
[null,17,"POWDER","CHUAN HUAT ","POWDER LIME",{"$f":"SUMIF(DATABASE!$E$22:$E$75,E38,DATABASE!$F$22:$F$75)","v":2.375E-2},"GM","01ctn × 12pkt × 400g",{"$f":"+'CLOSING STOCK (CONVERT)'!AK35","v":9920},"GM",{"$f":"+I38*F38","v":235.6}]
[null,18,"POWDER","SYKT.TEE SIANG","POWDER MILO",{"$f":"SUMIF(DATABASE!$E$22:$E$75,E39,DATABASE!$F$22:$F$75)","v":1.546875E-2},"GM","01ctn × 06pkt × 3200g",{"$f":"+'CLOSING STOCK (CONVERT)'!AK36","v":38743.620000000003},"GM",599.31537187499998]
[null,19,"POWDER","SYKT.TEE SIANG","POWDER NESCAFE ICE",{"$f":"SUMIF(DATABASE!$E$22:$E$75,E40,DATABASE!$F$22:$F$75)","v":1.9213333333333332E-2},"GM","01pkt × 750g",{"$f":"+'CLOSING STOCK (CONVERT)'!AK37","v":1080},"GM",20.750399999999999]
[null,20,"POWDER","SYKT.TEE SIANG","POWDER NESCAFE WHITE",{"$f":"SUMIF(DATABASE!$E$22:$E$75,E41,DATABASE!$F$22:$F$75)","v":2.0210000000000002E-2},"GM","01pkt × 1000g",{"$f":"+'CLOSING STOCK (CONVERT)'!AK38","v":1395},"GM",28.192950000000003]
[null,{"$f":"+B41+1","v":21},"CREAMER  & SUGAR","SYKT.TEE SIANG","SACHET DAIRY CREAMER",{"$f":"SUMIF(DATABASE!$E$22:$E$75,E42,DATABASE!$F$22:$F$75)","v":0.1134},"PCS","01ctn × 2pkt × 500pcs",{"$f":"+'CLOSING STOCK (CONVERT)'!AK41","v":594},"PCS",67.3596]
[null,22,"CREAMER  & SUGAR","SYKT.TEE SIANG","SACHET SUGAR WHITE",{"$f":"SUMIF(DATABASE!$E$22:$E$75,E43,DATABASE!$F$22:$F$75)","v":4.1500000000000002E-2},"PCS","01ctn × 10pkt × 200pcs",{"$f":"+'CLOSING STOCK (CONVERT)'!AK42","v":70},"PCS",2.9050000000000002]
[null,23,"CREAMER  & SUGAR","BEST FICTION","POWDER DAIRY CREAMER",{"$f":"SUMIF(DATABASE!$E$22:$E$75,E44,DATABASE!$F$22:$F$75)","v":8.9999999999999993E-3},"GM","01pkt × 2000g",{"$f":"+'CLOSING STOCK (CONVERT)'!AK43","v":5200},"GM",46.8]
[null,24,"TIDBITS","S.C. TRADING","MIXED TIDBITS",{"$f":"SUMIF(DATABASE!$E$22:$E$75,E45,DATABASE!$F$22:$F$75)","v":1.0200000000000001E-2},"GM","01bag × 3500g",{"$f":"+'CLOSING STOCK (CONVERT)'!AK46","v":157},"GM",1.6014000000000002]
[null,25,"CANNED & BTL","PERMANIS SANDILAND ","LIPTON ICE TEA -LEMON",{"$f":"SUMIF(DATABASE!$E$22:$E$75,E46,DATABASE!$F$22:$F$75)","v":1.3415999999999999},"CANNED","01ctn × 24can × 300ml",13,"CANNED",17.440799999999999]
[null,26,"CANNED & BTL","PERMANIS SANDILAND ","LIPTON ICE TEA -CLEAR GREEN",{"$f":"SUMIF(DATABASE!$E$22:$E$75,E47,DATABASE!$F$22:$F$75)","v":1.8708},"BTL","01ctn × 24btl × 450ml",54,"BTL",101.0232]
[null,27,"CANNED & BTL","PERMANIS SANDILAND ","CHILL CHRYSANTHEMUM",{"$f":"SUMIF(DATABASE!$E$22:$E$75,E48,DATABASE!$F$22:$F$75)","v":1.1333},"CANNED","01ctn × 24can × 300ml",28,"CANNED",31.732399999999998]
[null,28,"CANNED & BTL","PERMANIS SANDILAND ","CHILL SOYA BEAN",{"$f":"SUMIF(DATABASE!$E$22:$E$75,E49,DATABASE!$F$22:$F$75)","v":1.1333},"CANNED","01ctn × 24can × 300ml",22,"CANNED",24.932600000000001]
[null,29,"CANNED & BTL","PERMANIS SANDILAND ","CHILL CINCAU",{"$f":"SUMIF(DATABASE!$E$22:$E$75,E50,DATABASE!$F$22:$F$75)","v":1.2333000000000001},"CANNED","01ctn × 24can × 300ml",51,"CANNED",62.898300000000006]
[null,30,"CANNED & BTL","PERMANIS SANDILAND ","REVIVE REGULAR ",{"$f":"SUMIF(DATABASE!$E$22:$E$75,E51,DATABASE!$F$22:$F$75)","v":1.2124999999999999},"CANNED","01ctn × 24can × 325ml",33,"CANNED",40.012499999999996]
[null,31,"CANNED & BTL","PERMANIS SANDILAND ","PEPSI COLA",{"$f":"SUMIF(DATABASE!$E$22:$E$75,E52,DATABASE!$F$22:$F$75)","v":1.2124999999999999},"CANNED","01ctn × 24can × 325ml",46,"CANNED",55.774999999999999]
[null,32,"CANNED & BTL","PERMANIS SANDILAND ","7UP",{"$f":"SUMIF(DATABASE!$E$22:$E$75,E53,DATABASE!$F$22:$F$75)","v":1.2124999999999999},"CANNED","01ctn × 24can × 325ml",23,"CANNED",27.887499999999999]
[null,33,"BEVERAGE ","TIEN SWEE","RIBENA MOBILE ",{"$f":"SUMIF(DATABASE!$E$22:$E$75,E54,DATABASE!$F$22:$F$75)","v":1.982},"PKT","01ctn × 24pkt × 300ml",{"$f":"31+24","v":55},"PKT",109.01]
[null,34,"MINERAL WATER ","PERMANIS SANDILAND ","MINERAL WATER ",{"$f":"SUMIF(DATABASE!$E$22:$E$75,E55,DATABASE!$F$22:$F$75)","v":0.58330000000000004},"BTL","01ctn × 24 btl ",56,"BTL",32.6648]
[null,35,"SOFT DRINKS","PERMANIS SANDILAND ","BIB PEPSI",{"$f":"SUMIF(DATABASE!$E$22:$E$75,E56,DATABASE!$F$22:$F$75)","v":166.37},"BIB","01bib × 20lit",2,"BIB",332.74]
[null,36,"SOFT DRINKS","PERMANIS SANDILAND ","BIB 7UP",{"$f":"SUMIF(DATABASE!$E$22:$E$75,E57,DATABASE!$F$22:$F$75)","v":166.37},"BIB","01bib × 20lit",2,"BIB",332.74]
[null,37,"SOFT DRINKS","PERMANIS SANDILAND ","BIB 7UP REVIVE",{"$f":"SUMIF(DATABASE!$E$22:$E$75,E58,DATABASE!$F$22:$F$75)","v":166.37},"BIB","01bib × 20lit",3,"BIB",499.11]
[null,38,"BEER","GAB","BEER GUINNESS",{"$f":"SUMIF(DATABASE!$E$22:$E$75,E59,DATABASE!$F$22:$F$75)","v":6.8103999999999996},"BTL","01ctn × 24btl",62,"BTL",422.2448]
[null,39,"BEER","GAB","BEER HEINEKEN",{"$f":"SUMIF(DATABASE!$E$22:$E$75,E60,DATABASE!$F$22:$F$75)","v":8.1145999999999994},"BTL","01ctn × 24btl",417,"BTL",3383.7882]
[null,40,"BEER","GAB","BEER TIGER",{"$f":"SUMIF(DATABASE!$E$22:$E$75,E61,DATABASE!$F$22:$F$75)","v":6},"BTL","01ctn × 24btl",312,"BTL",1872]
[null,41,"BEER","GAB","STRONGBOW",{"$f":"SUMIF(DATABASE!$E$22:$E$75,E62,DATABASE!$F$22:$F$75)","v":9.7200000000000006},"BTL","01ctn × 24btl",48,"BTL",466.56000000000006]
[null,42,"BEER","GAB","PAULANAR",{"$f":"SUMIF(DATABASE!$E$22:$E$75,E63,DATABASE!$F$22:$F$75)","v":12},"BTL","01ctn × 24btl",49,"BTL",588]
[null,43,"BEER","LUEN HENG","SOMEBY APPLE CIDER",{"$f":"SUMIF(DATABASE!$E$22:$E$75,E64,DATABASE!$F$22:$F$75)","v":9.57},"BTL","01ctn × 24btl",54,"BTL",516.78]
[null,44,"BEER","LUEN HENG","HOEGAARDEN",{"$f":"SUMIF(DATABASE!$E$22:$E$75,E65,DATABASE!$F$22:$F$75)","v":10.95},"BTL","01ctn × 24btl",49,"BTL",536.54999999999995]
[null,45,"BEER -CUSTODY","GAB","BEER GUINNESS ",{"$f":"+F59","v":6.8103999999999996},"BTL","01ctn × 24btl",23,"BTL",{"$f":"-(+I66*F66)","v":-156.63919999999999}]
[null,46,"BEER -CUSTODY","GAB","BEER HEINEKEN ",{"$f":"+F60","v":8.1145999999999994},"BTL","01ctn × 24btl",24,"BTL",{"$f":"-(+I67*F67)","v":-194.75039999999998}]
[null,47,"BEER -CUSTODY","GAB","BEER TIGER ",6,"BTL","01ctn × 24btl",198,"BTL",-1188]
[null,48,"BEER -CUSTODY","GAB","STRONGBOW ",{"$f":"+F62","v":9.7200000000000006},"BTL","01ctn × 24btl",0,"BTL",0]
[null,49,"BEER -CUSTODY","GAB","PAULANAR",{"$f":"SUMIF(DATABASE!$E$22:$E$75,E70,DATABASE!$F$22:$F$75)","v":12},"BTL","01ctn × 24btl",0,"BTL",0]
[null,50,"BEER -CUSTODY","LUEN HENG","SOMEBY APPLE CIDER",{"$f":"SUMIF(DATABASE!$E$22:$E$75,E71,DATABASE!$F$22:$F$75)","v":9.57},"BTL","01ctn × 24btl",0,"BTL",0]
[null,51,"BEER -CUSTODY","LUEN HENG","HOEGAARDEN",{"$f":"SUMIF(DATABASE!$E$22:$E$75,E72,DATABASE!$F$22:$F$75)","v":10.95},"BTL","01ctn × 24btl",0,"BTL",0]
[null,52,"CIGARETTE","NEW FOO HING","DUNHILL KING",{"$f":"SUMIF(DATABASE!$E$22:$E$75,E73,DATABASE!$F$22:$F$75)","v":11.0806},"PKT","01pkt × 20s ",7,"PKT",77.5642]
[null,53,"CIGARETTE","NEW FOO HING","DUNHILL LIGHTS KING",{"$f":"SUMIF(DATABASE!$E$22:$E$75,E74,DATABASE!$F$22:$F$75)","v":11.0806},"PKT","01pkt × 20s ",3,"PKT",33.241799999999998]
[null,54,"CIGARETTE","NEW FOO HING","DUNHILL MENTHOL LIGHTS KING",{"$f":"SUMIF(DATABASE!$E$22:$E$75,E75,DATABASE!$F$22:$F$75)","v":11.0806},"PKT","01pkt × 20s ",4,"PKT",44.322400000000002]
[null,55,"CIGARETTE","NEW FOO HING","DUNHILL ICE",{"$f":"SUMIF(DATABASE!$E$22:$E$75,E76,DATABASE!$F$22:$F$75)","v":11.0806},"PKT","01pkt × 20s ",31,"PKT",343.49860000000001]
[]
[null,"GRAND TOTAL ",null,null,null,null,null,null,null,null,{"$f":"SUM(K22:K77)","v":10660.258878125}]
[]
[]
[null,null,"ITEMS","TOTAL (RM )"]
[null,1,{"$f":"+C22","v":"SRYUP"},{"$f":"SUMIF($C$22:$C$77,C82,$K$22:$K$77)","v":887.50029000000006}]
[null,{"$f":"+B82+1","v":2},{"$f":"+C30","v":"TEABAG"},300.91636625000001]
[null,{"$f":"+B83+1","v":3},{"$f":"+C35","v":"POWDER"},940.04872187499996]
[null,4,{"$f":"+C42","v":"CREAMER  & SUGAR"},117.0646]
[null,5,"TIDBITS",1.6014000000000002]
[null,6,{"$f":"+C46","v":"CANNED & BTL"},361.70229999999998]
[null,7,{"$f":"+C54","v":"BEVERAGE "},109.01]
[null,8,{"$f":"+C55","v":"MINERAL WATER "},32.6648]
[null,9,{"$f":"+C56","v":"SOFT DRINKS"},1164.5900000000001]
[null,10,{"$f":"+C59","v":"BEER"},7785.9229999999998]
[null,11,{"$f":"+C66","v":"BEER -CUSTODY"},-1539.3896]
[null,12,{"$f":"+C73","v":"CIGARETTE"},498.62700000000001]
[]
[null,null,"TOTAL ",{"$f":"SUM(D82:D94)","v":10660.258878125}]

{"sheet":"DISPOSAL(CONVERT)","index":7,"n_rows":48,"n_cols":40,"rows_kept":48,"cut":false,"hidden":true,"merged":[[8,36,11,36],[8,39,11,39],[10,10,10,19],[11,10,11,11],[11,14,11,15],[11,18,11,19],[11,23,11,24],[11,28,11,29],[11,31,11,32],[4,4,5,9],[6,4,6,5],[6,6,6,7],[6,10,7,13],[7,4,7,5],[7,6,7,7],[0,1,0,3],[1,1,1,2],[2,1,2,2],[4,1,11,1],[4,2,11,2],[4,3,11,3]]}
[null,"MONTHLY DISPOSAL BAR DEPARTMENT "]
[null,{"$f":"+'CLOSING STOCK (CONVERT)'!B2:C2","v":"OUTLET     : CCS OUTLET "}]
[null,{"$f":"+'CLOSING STOCK (CONVERT)'!B3:D3","v":"APRIL 2014"}]
[]
[null,"SUPPLIER","TYPE OF INGREDIENT","UNIT PACKING","STOCK TAKE QUANTITY\n"]
[null,null,null,null,null,null,null,null,null,null,null,null,null,null,null,null,null,null,null,null,null,null,null,null,null,null,null,null,null,null,null,null,null,null,null,null,null,"WEIGHT","AMOUNT"]
[null,null,null,null,"ORIGINAL PACKING",null,"ORIGINAL PACKING",null,null,null,"ALTERNATIVE STORAGE",null,null,null,null,null,null,null,null,null,null,null,null,null,null,null,null,null,null,null,null,null,null,null,null,null,null,"PER ML","PER ML"]
[null,null,null,null,"( WHOLE )",null,"(PARTIAL )",null,null,null,null,null,null,null,null,null,null,null,null,null,null,null,null,null,null,null,null,null,null,null,null,null,null,null,null,null,null,"( DENSITY )","OF"]
[null,null,null,null,"QUANTITY","U.O.M.","QUANTITY","U.O.M.","FORMULA ","FORMULA ","DRUM",null,"FORMULA ","FORMULA ","DRUM",null,"FORMULA ","FORMULA ","JUG",null,"FORMULA ","FORMULA ","TOTAL","JUG",null,"FORMULA ","FORMULA ","FORMULA ","TUPPERWARE®",null,"FORMULA ",null,null,"FORMULA ","SQ.BTL","FORMULA ","TOTAL",null,"MIXTURE","UOM"]
[null,null,null,null,null,null,null,null,"(A)","(B)","5000 g",null,"(A)","(B)","3000 g",null,"(A)","(B)","4000 ml",null,"(A)","(B)",null,"2000 ml",null,"(A)","(B)","(B)","ROUND",null,"(A)","BOX",null,"(A)","FULL CAPACITY IN ml","(A)"]
[null,null,null,null,null,null,null,null,null,null,"WEIGHT OF EMPTY CONTAINER /JUG ( GM)"]
[]
[null,null,null,null,null,null,null,null,null,null,"NOS.","GRAM",null,null,"NOS.","GRAM",null,null,"NOS.","GRAM",null,null,null,"NOS.","GRAM",null,null,null,"NOS.","GRAM",null,"NOS.","GRAM",null,"NOS.","GRAM"]
[]
[null,"SYRUP "]
[null,"BEST FICTION","SYRUP CHAMPAGNE GRAPE","01drum × 4000ml",null,"drum",null,"ml",4000,{"$f":"+I16*E16","v":0},null,null,{"$f":"+L16-(K16*$K$12)","v":0},{"$f":"+M16/AL16","v":0},null,null,{"$f":"+P16-(O16*O12)","v":0},{"$f":"+Q16/AL16","v":0},null,null,{"$f":"+T16-(+S16*$S$12)","v":0},{"$f":"+U16/AL16","v":0},{"$f":"+V16*AM16","v":0},null,null,{"$f":"+Y16-(X16*$X$12)","v":0},{"$f":"+Z16*Z12","v":0},{"$f":"+AA16*AA12","v":0},null,null,{"$f":"+AD16*$AC$12","v":0},null,null,{"$f":"+AG16*$AF$12","v":0},null,{"$f":"+AI16*$AI$12","v":0},{"$f":"+AJ16+W16+N16+J16+AH16+AE16+AA16+Z16++R16","v":0},1.5,0.14299999999999999,"ML"]
[null,"BEST FICTION","SYRUP GREEN APPLE","01drum × 4000ml",null,"drum",null,"ml",4000,0,null,null,{"$f":"+L17-(K17*$K$12)","v":0},{"$f":"+M17/AL17","v":0},null,null,{"$f":"+P17-(O17*O12)","v":0},{"$f":"+Q17/AL17","v":0},null,null,{"$f":"+T17-(+S17*$S$12)","v":0},{"$f":"+U17/AL17","v":0},{"$f":"+V17*AM17","v":0},null,null,{"$f":"+Y17-(X17*$X$12)","v":0},{"$f":"+Z17*Z12","v":0},{"$f":"+AA17*AA12","v":0},null,null,{"$f":"+AD17*$AC$12","v":0},null,null,{"$f":"+AG17*$AF$12","v":0},null,{"$f":"+AI17*$AI$12","v":0},{"$f":"+AJ17+W17+N17+J17+AH17+AE17+AA17+Z17++R17","v":0},1.5,0.14299999999999999,"ML"]
[null,"BEST FICTION","SYRUP PASSION FRUIT JUICE","01drum × 4000ml",null,"drum",null,"ml",4000,0,null,null,0,{"$f":"+M18/AL18","v":0},null,null,{"$f":"+P18-(O18*O12)","v":0},{"$f":"+Q18/AL18","v":0},null,null,0,{"$f":"+U18/AL18","v":0},{"$f":"+V18*AM18","v":0},null,null,0,{"$f":"+Z18*Z12","v":0},{"$f":"+AA18*AA12","v":0},null,null,0,null,null,0,null,0,0,1.5,0.14299999999999999,"ML"]
[null,"BEST FICTION","SYRUP HONEY ","01drum × 2000ml",null,"drum",null,"ml",2000,0,null,null,0,{"$f":"+M19/AL19","v":0},null,null,{"$f":"+P19-(O19*O11)","v":0},{"$f":"+Q19/AL19","v":0},null,null,0,{"$f":"+U19/AL19","v":0},{"$f":"+V19*AM19","v":0},null,null,0,{"$f":"+Z19*Z11","v":0},{"$f":"+AA19*AA11","v":0},null,null,0,null,null,0,null,0,0,1.5,0.114,"ML"]
[null,"BEST FICTION","SYRUP MANGO","01drum × 4000ml",null,"drum",null,"ml",4000,{"$f":"+I20*E20","v":0},null,null,{"$f":"+L20-(K20*$K$12)","v":0},{"$f":"+M20/AL22","v":0},null,null,0,0,null,null,{"$f":"+T20-(+S20*$S$12)","v":0},{"$f":"+U20/AL22","v":0},{"$f":"+V20*AM22","v":0},null,null,{"$f":"+Y20-(X20*$X$12)","v":0},{"$f":"+Z20*Z13","v":0},{"$f":"+AA20*AA13","v":0},null,null,{"$f":"+AD20*$AC$12","v":0},null,null,{"$f":"+AG20*$AF$12","v":0},null,{"$f":"+AI20*$AI$12","v":0},{"$f":"+AJ20+W20+N20+J20+AH20+AE20+AA20+Z20++R20","v":0},1.5,0.14299999999999999,"ML"]
[null,"G&K FOOD TRADING ","SYRUP HONEY ","01drum × 2000ml",null,"drum",null,"ml",2000,0,null,null,0,{"$f":"+M21/AL21","v":0},null,null,{"$f":"+P21-(O21*O12)","v":0},{"$f":"+Q21/AL21","v":0},null,null,0,{"$f":"+U21/AL21","v":0},{"$f":"+V21*AM21","v":0},null,null,0,{"$f":"+Z21*Z12","v":0},{"$f":"+AA21*AA12","v":0},null,null,0,null,null,0,null,0,0,1.5,0.114,"ML"]
[null,"G&K FOOD TRADING ","SYRUP MANGO","01drum × 4000ml",null,"drum",null,"ml",4000,0,null,null,0,{"$f":"+M22/AL22","v":0},null,null,0,0,null,null,0,{"$f":"+U22/AL22","v":0},{"$f":"+V22*AM22","v":0},null,null,0,{"$f":"+Z22*Z12","v":0},{"$f":"+AA22*AA12","v":0},null,null,0,null,null,0,null,0,0,1.5,0.14299999999999999,"ML"]
[null,"TIEN SWEE TRADING","SYRUP RIBENA","01ctn × 06btl × 1000ml",null,"btl",null,"g",{"$f":"(+G23-65)/1.5","v":-43.333333333333336},{"$f":"(+E23*1000)+I23","v":-43.333333333333336},null,null,0,{"$f":"+M23/AL23","v":0},null,null,null,0,null,null,0,{"$f":"+U23/AL23","v":0},{"$f":"+V23*AM23","v":0},null,null,0,{"$f":"+Z23*Z12","v":0},{"$f":"+AA23*AA12","v":0},null,null,0,null,null,0,null,0,-43.333333333333336,1.5,0.2,"ML"]
[]
[null,"TEABAG",null,null,null,null,null,null,null,null,null,null,0,0]
[null,"BEST FICTION","TEA BAG JASMINE GREEN","01pkt × 24bag",null,"pkt",null,"bag",{"$f":"(+E26*24)+G26","v":0},0,null,null,0,0,null,null,{"$f":"+P26-(O26*#REF!)","v":{"$error":"#REF!"}},{"$f":"+Q26*M26","v":{"$error":"#REF!"}},null,7020,{"$f":"+T26-(+S26*$S$12)","v":7020},0.28000000000000003,{"$f":"(+U26*V26)/1000","v":1.9656000000000002},null,null,null,null,null,null,null,null,null,null,null,null,null,{"$f":"+AJ26+I26+W26","v":1.9656000000000002},null,null,"BAG"]
[null,"CHUAN HUAT ","TEA BAG LIPTON CHAMOMILE","01box × 25bag",null,"box",null,"bag",{"$f":"(+E27*25)+G27","v":0},0,null,null,0,0,null,null,{"$f":"+P27-(O27*O22)","v":0},0,null,null,{"$f":"+T27-(+S27*$S$12)","v":0},0,{"$f":"+V27*AM27","v":0},null,null,null,null,null,null,null,null,null,null,null,null,null,{"$f":"+AJ27+I27+W27","v":0},null,null,"BAG"]
[null,"CHUAN HUAT ","TEA BAG LIPTON DARJEELING ","01box × 25bag",null,"box",null,"bag",{"$f":"(+E28*25)+G28","v":0},0,null,null,0,0,null,null,{"$f":"+P28-(O28*O23)","v":0},0,null,null,0,0,{"$f":"+V28*AM28","v":0},null,null,null,null,null,null,null,null,null,null,null,null,null,0,null,null,"BAG"]
[null,"CHUAN HUAT ","TEA BAG LIPTON EARLGREY","01box × 25bag",null,"box",null,"bag",{"$f":"(+E29*25)+G29","v":0},0,null,null,0,0,null,null,{"$f":"+P29-(O29*O24)","v":0},0,null,null,{"$f":"+T29-(+S29*$S$12)","v":0},0,{"$f":"+V29*AM29","v":0},null,null,null,null,null,null,null,null,null,null,null,null,null,0,null,null,"BAG"]
[null,"CHUAN HUAT ","TEA BAG LIPTON RED CATERING","01ctn × 12pkt × 20bag",null,"ctn",null,"bag",{"$f":"+G30","v":0},0,null,null,0,0,null,null,{"$f":"+P30-(O30*O32)","v":0},0,null,14485,14485,0.56999999999999995,{"$f":"(+U30*V30)/1000","v":8.2564499999999992},null,null,null,null,null,null,null,null,null,null,null,null,null,8.2564499999999992,null,null,"BAG"]
[]
[null,"POWDER ( FOR BEVERAGE )"]
[null,"G&K FOOD TRADING ","POWDER CAPUCCINO","01pkt × 1000g",null,"pkt",null,"g",1000,{"$f":"(+I33*E33)+G33","v":0},null,null,0,0,null,null,0,{"$f":"+Q33*M33","v":0},null,null,0,0,{"$f":"+U33*Q33","v":0},null,null,{"$f":"+Y33-(X33*$X$12)","v":0},{"$f":"+Y33-(W33*W12)","v":0},{"$f":"+Z33-(X33*X12)","v":0},null,null,{"$f":"+AC33-(Y33*Y12)","v":0},null,null,{"$f":"+AG33-(AF33*AF12)","v":0},null,0,{"$f":"+AJ33+AH33+AE33+AA33+Z33+W33+V33+R33+U33+Q33+N33+M33+J33","v":0},null,null,"GM"]
[null,"GOLDEN CHOICE ","POWDER CHOCOLATE","01pkt × 1000g",null,"pkt",null,"g",1000,0,null,null,0,0,null,null,0,{"$f":"+Q34*M34","v":0},null,null,0,0,0,null,null,0,{"$f":"+Y34-(W34*W12)","v":0},{"$f":"+Z34-(X34*X12)","v":0},null,null,{"$f":"+AC34-(Y34*Y12)","v":0},null,null,{"$f":"+AG34-(AF34*AF12)","v":0},null,0,{"$f":"+AJ34+AH34+AE34+AA34+Z34+W34+V34+R34+U34+Q34+N34+M34+J34","v":0},null,null,"GM"]
[null,"G&K FOOD TRADING ","POWDER MOCHA","01pkt × 1000g",null,"pkt",null,"g",1000,0,null,null,0,0,null,null,{"$f":"+P35-(O35*O15)","v":0},0,null,null,0,0,0,null,null,{"$f":"+Y35-(X35*$X$12)","v":0},{"$f":"+Y35-(W35*W12)","v":0},{"$f":"+Z35-(X35*X12)","v":0},null,null,{"$f":"+AC35-(Y35*Y12)","v":0},null,null,{"$f":"+AG35-(AF35*AF12)","v":0},null,0,{"$f":"+AJ35+AH35+AE35+AA35+Z35+W35+V35+R35+U35+Q35+N35+M35+J35","v":0},null,null,"GM"]
[null,"CHUAN HUAT ","POWDER LIME","01ctn × 12pkt × 400g",null,"pkt",null,"bag",{"$f":"(+E36*400)","v":0},"g",null,null,0,0,null,null,{"$f":"+P36-(O36*O27)","v":0},{"$f":"+Q36*M36","v":0},null,null,null,null,{"$f":"IF($F36<>\"btl\",$H36,\"g\")","v":"bag"},null,null,{"$f":"+Y36-(X36*$X$12)","v":0},null,null,null,null,null,null,null,null,null,{"$f":"+AI36*AI12","v":0},{"$f":"+AJ36+I36","v":0},null,0.2,"GM"]
[null,"SYKT.TEE SIANG","POWDER MILO","01ctn × 06pkt × 3200g",null,"pkt",null,"g",3200,{"$f":"(+I37*E37)+G37","v":0},null,null,0,0,null,null,{"$f":"+P37-(O37*O16)","v":0},0,null,null,{"$f":"+T37-(+S37*S12)","v":0},0,{"$f":"+U37*AM37","v":0},null,null,0,null,null,null,null,{"$f":"+AD37-(AC37*AC12)","v":0},null,null,{"$f":"+AG37-(AF37*AF12)","v":0},null,0,{"$f":"+AJ37+AH37+AE37+AA37+Z37+W37+V37+R37+Q37+N37+M37+J37","v":0},null,0.222,"GM"]
[null,"SYKT.TEE SIANG","POWDER NESCAFE ICE","01pkt × 750g",null,"pkt",null,"g",720,{"$f":"(+I38*E38)+G38","v":0},null,null,0,0,null,null,{"$f":"+P38-(O38*O17)","v":0},0,null,null,{"$f":"+T38-(+S38*S12)","v":0},0,{"$f":"+U38*AM38","v":0},null,null,0,null,null,null,null,{"$f":"+AD38-(AC38*AC12)","v":0},null,null,{"$f":"+AG38-(AF38*AF12)","v":0},null,0,{"$f":"+AJ38+AH38+AE38+AA38+Z38+W38+V38+R38+Q38+N38+M38+J38","v":0},null,0.18,"GM"]
[null,"SYKT.TEE SIANG","POWDER NESCAFE WHITE","01pkt × 1000g",null,"pkt",null,"g",1000,{"$f":"(+I39*E39)+G39","v":0},null,null,0,0,null,null,{"$f":"+P39-(O39*O18)","v":0},0,null,null,{"$f":"+T39-(+S39*S12)","v":0},0,{"$f":"+U39*AM39","v":0},null,null,0,0,0,null,null,{"$f":"+AD39-(AC39*AC12)","v":0},null,null,{"$f":"+AG39-(AF39*AF12)","v":0},null,0,{"$f":"+AJ39+AH39+AE39+AA39+Z39+W39+V39+R39+Q39+N39+M39+J39","v":0},null,null,"GM"]
[]
[null,"SUGAR & CREAMER ",null,null,null,null,null,null,null,null,null,null,0,0,null,null,{"$f":"+P41-(O41*O34)","v":0},0]
[null,"SYKT.TEE SIANG","SACHET DAIRY CREAMER","01ctn × 2pkt × 500pcs",null,"pkt",null,"pcs",{"$f":"(+E42*500)+G42","v":0},"pcs",null,null,0,0,null,null,{"$f":"+P42-(O42*O35)","v":0},0,null,null,null,null,{"$f":"IF($F42<>\"btl\",$H42,\"g\")","v":"pcs"},null,null,null,null,null,null,null,null,null,null,null,null,null,{"$f":"+AJ42+I42","v":0},null,null,"PCS"]
[null,"SYKT.TEE SIANG","SACHET SUGAR WHITE","01ctn × 10pkt × 200pcs",null,"pkt",null,"pcs",{"$f":"(+E43*200)+G43","v":0},"pcs",null,null,0,0,null,null,{"$f":"+P43-(O43*O37)","v":0},0,null,null,null,null,{"$f":"IF($F43<>\"btl\",$H43,\"g\")","v":"pcs"},null,null,null,null,null,null,null,null,null,null,null,null,null,{"$f":"+AJ43+I43","v":0},null,null,"PCS"]
[null,"FUN HUT F&B","POWDER DAIRY CREAMER","01pkt × 1000g",null,"pkt",null,"g",1000,{"$f":"(+I44*E44)+G44","v":0},null,null,0,0,null,null,{"$f":"+P44-(O44*O12)","v":0},{"$f":"+Q44*M44","v":0},null,null,0,0,{"$f":"+U44*Q44","v":0},null,null,{"$f":"+Y44-(X44*$X$12)","v":0},{"$f":"+Y44-(W44*W12)","v":0},{"$f":"+Z44-(X44*X12)","v":0},null,null,{"$f":"+AC44-(Y44*Y12)","v":0},null,null,{"$f":"+AG44-(AF44*AF12)","v":0},null,0,{"$f":"+AJ44+W44+N44+J44+R44+AA44+AE44+AH44","v":0},null,null,"GM"]
[null,null,null,null,null,null,null,null,null,null,null,null,null,null,null,null,{"$f":"+P45-(O45*O25)","v":0},0]
[null,"OTHERS",null,null,null,null,null,null,null,null,null,null,null,null,null,null,{"$f":"+P46-(O46*O26)","v":0},0]
[null,"S.C. TRADING","MIXED TIDBITS","01bag × 3500g",null,"bag",null,"g",{"$f":"(+E47*3500)","v":0},{"$f":"IF($F47<>\"btl\",$H47,\"g\")","v":"g"},null,null,0,0,null,null,{"$f":"+P47-(O47*O28)","v":0},0,null,null,null,null,{"$f":"IF($F47<>\"btl\",$H47,\"g\")","v":"g"},null,null,null,null,null,null,null,{"$f":"+AD47-(AC47*AC12)","v":0},null,null,0,null,0,{"$f":"+AJ47+I47+AH47+AE47","v":0},null,null,"GM"]
[null,null,null,null,null,null,null,null,null,null,null,null,null,null,null,null,{"$f":"+P48-(O48*O29)","v":0},0]

{"sheet":"CLOSING STOCK (CONVERT)","index":8,"n_rows":47,"n_cols":40,"rows_kept":47,"cut":false,"hidden":true,"merged":[[5,10,6,15],[7,36,10,36],[7,39,10,39],[9,10,9,19],[10,10,10,11],[10,14,10,15],[10,18,10,19],[10,23,10,24],[10,28,10,29],[10,31,10,32],[4,4,4,9],[5,4,5,5],[5,6,5,7],[6,4,6,5],[6,6,6,7],[0,1,0,3],[1,1,1,2],[4,1,10,1],[4,2,10,2],[4,3,10,3],[2,1,2,3]]}
[null,"MONTHLY CLOSING STOCK FOR BAR DEPARTMENT "]
[null,"OUTLET     : CCS OUTLET "]
[null,"APRIL 2014"]
[]
[null,null,null,null,null,null,null,null,null,null,null,null,null,null,null,null,null,null,null,null,null,null,null,null,null,null,null,null,null,null,null,null,null,null,null,null,null,"WEIGHT","AMOUNT"]
[null,null,null,null,"ORIGINAL PACKING",null,"ORIGINAL PACKING",null,null,null,"ALTERNATIVE STORAGE",null,null,null,null,null,null,null,null,null,null,null,null,null,null,null,null,null,null,null,null,null,null,null,null,null,null,"PER ML","PER ML"]
[null,null,null,null,"( WHOLE )",null,"(PARTIAL )",null,null,null,null,null,null,null,null,null,null,null,null,null,null,null,null,null,null,null,null,null,null,null,null,null,null,null,null,null,null,"( DENSITY )","OF"]
[null,null,null,null,"QUANTITY","U.O.M.","QUANTITY","U.O.M.","FORMULA ","FORMULA ","DRUM",null,"FORMULA ","FORMULA ","DRUM",null,"FORMULA ","FORMULA ","JUG",null,"FORMULA ","FORMULA ","TOTAL","JUG",null,"FORMULA ","FORMULA ","FORMULA ","TUPPERWARE®",null,"FORMULA ",null,null,"FORMULA ","SQ.BTL","FORMULA ","TOTAL",null,"MIXTURE","UOM"]
[null,null,null,null,null,null,null,null,"(A)","(B)","5000 g",null,"(A)","(B)","3000 g",null,"(A)","(B)","4000 ml",null,"(A)","(B)",null,"2000 ml",null,"(A)","(B)","(B)","ROUND",null,"(A)","BOX",null,"(A)","FULL CAPACITY IN ml","(A)"]
[null,null,null,null,null,null,null,null,null,null,"WEIGHT OF EMPTY CONTAINER /JUG ( GM)"]
[null,null,null,null,null,null,null,null,null,null,203,null,null,null,125,null,null,null,365,null,null,null,null,235,null,null,null,null,473,null,null,250,null,null,240]
[null,null,null,null,null,null,null,null,null,null,"NOS.","GRAM",null,null,"NOS.","GRAM",null,null,"NOS.","GRAM",null,null,null,"NOS.","GRAM",null,null,null,"NOS.","GRAM",null,"NOS.","GRAM",null,"NOS.","GRAM"]
[]
[null,"SYRUP "]
[null,"BEST FICTION","SYRUP CHAMPAGNE GRAPE","01drum × 4000ml",4,"drum",null,"ml",4000,{"$f":"+I15*E15","v":16000},1,4540,{"$f":"+L15-(K15*$K$11)","v":4337},{"$f":"+M15/AL15","v":2891.3333333333335},null,null,{"$f":"+P15-(O15*O11)","v":0},{"$f":"+Q15/AL15","v":0},1,2435,{"$f":"+T15-(+S15*$S$11)","v":2070},{"$f":"+U15/AL15","v":1380},{"$f":"+V15*AM15","v":197.33999999999997},null,null,{"$f":"+Y15-(X15*$X$11)","v":0},{"$f":"+Z15*Z11","v":0},{"$f":"+AA15*AA11","v":0},null,null,{"$f":"+AD15*$AC$11","v":0},null,null,{"$f":"+AG15*$AF$11","v":0},1,{"$f":"+AI15*$AI$11","v":240},{"$f":"+AJ15+W15+N15+J15+AH15+AE15+AA15+Z15++R15","v":19328.673333333332},1.5,0.14299999999999999,"ML"]
[null,"BEST FICTION","SYRUP GREEN APPLE","01drum × 4000ml",4,"drum",null,"ml",4000,16000,1,810,{"$f":"+L16-(K16*$K$11)","v":607},{"$f":"+M16/AL16","v":404.66666666666669},null,null,{"$f":"+P16-(O16*O11)","v":0},{"$f":"+Q16/AL16","v":0},1,1320,{"$f":"+T16-(+S16*$S$11)","v":955},{"$f":"+U16/AL16","v":636.66666666666663},{"$f":"+V16*AM16","v":91.043333333333322},null,null,{"$f":"+Y16-(X16*$X$11)","v":0},{"$f":"+Z16*Z11","v":0},{"$f":"+AA16*AA11","v":0},null,null,{"$f":"+AD16*$AC$11","v":0},null,null,{"$f":"+AG16*$AF$11","v":0},1,{"$f":"+AI16*$AI$11","v":240},{"$f":"+AJ16+W16+N16+J16+AH16+AE16+AA16+Z16++R16","v":16735.71},1.5,0.14299999999999999,"ML"]
[null,"BEST FICTION","SYRUP PASSION FRUIT JUICE","01drum × 4000ml",5,"drum",null,"ml",4000,20000,1,255,52,{"$f":"+M17/AL17","v":34.666666666666664},null,null,{"$f":"+P17-(O17*O11)","v":0},{"$f":"+Q17/AL17","v":0},1,3290,2925,{"$f":"+U17/AL17","v":1950},{"$f":"+V17*AM17","v":278.84999999999997},null,null,0,{"$f":"+Z17*Z11","v":0},{"$f":"+AA17*AA11","v":0},null,null,0,null,null,0,1,240,20553.516666666666,1.5,0.14299999999999999,"ML"]
[null,"BEST FICTION","SYRUP HONEY ","01drum × 2000ml",null,"drum",null,"ml",2000,0,null,null,0,{"$f":"+M18/AL18","v":0},null,null,{"$f":"+P18-(O18*O10)","v":0},{"$f":"+Q18/AL18","v":0},null,null,0,{"$f":"+U18/AL18","v":0},{"$f":"+V18*AM18","v":0},null,null,0,{"$f":"+Z18*Z10","v":0},{"$f":"+AA18*AA10","v":0},null,null,0,null,null,0,null,0,0,1.5,0.114,"ML"]
[null,"BEST FICTION","SYRUP MANGO","01drum × 4000ml",5,"drum",null,"ml",4000,20000,1,4180,{"$f":"+L19-(K19*$K$11)","v":3977},{"$f":"+M19/AL21","v":2651.3333333333335},null,null,0,0,1,3075,{"$f":"+T19-(+S19*$S$11)","v":2710},{"$f":"+U19/AL21","v":1806.6666666666667},{"$f":"+V19*AM21","v":258.3533333333333},null,null,{"$f":"+Y19-(X19*$X$11)","v":0},{"$f":"+Z19*Z12","v":0},{"$f":"+AA19*AA12","v":0},null,null,{"$f":"+AD19*$AC$11","v":0},null,null,{"$f":"+AG19*$AF$11","v":0},1,{"$f":"+AI19*$AI$11","v":240},23149.686666666668,1.5,0.14299999999999999,"ML"]
[null,"G&K FOOD TRADING ","SYRUP HONEY ","01drum × 2000ml",10,"drum",null,"ml",2000,20000,null,null,0,{"$f":"+M20/AL20","v":0},1,550,{"$f":"+P20-(O20*O11)","v":425},{"$f":"+Q20/AL20","v":283.33333333333331},null,null,0,{"$f":"+U20/AL20","v":0},{"$f":"+V20*AM20","v":0},null,null,0,{"$f":"+Z20*Z11","v":0},{"$f":"+AA20*AA11","v":0},null,null,0,null,null,0,2,480,20763.333333333332,1.5,0.114,"ML"]
[null,"G&K FOOD TRADING ","SYRUP MANGO","01drum × 4000ml",null,"drum",null,"ml",4000,0,null,null,0,{"$f":"+M21/AL21","v":0},null,null,0,0,null,null,0,{"$f":"+U21/AL21","v":0},{"$f":"+V21*AM21","v":0},null,null,0,{"$f":"+Z21*Z11","v":0},{"$f":"+AA21*AA11","v":0},null,null,0,null,null,0,null,0,0,1.5,0.14299999999999999,"ML"]
[null,"TIEN SWEE TRADING","SYRUP RIBENA","01ctn × 06btl × 1000ml",24,"btl",null,"g",{"$f":"(+G22-65)/1.5","v":-43.333333333333336},{"$f":"(+E22*1000)+I22","v":23956.666666666668},null,null,0,{"$f":"+M22/AL22","v":0},null,null,null,0,null,null,0,{"$f":"+U22/AL22","v":0},{"$f":"+V22*AM22","v":0},null,null,0,{"$f":"+Z22*Z11","v":0},{"$f":"+AA22*AA11","v":0},null,null,0,null,null,0,1,240,24196.666666666668,1.5,0.2,"ML"]
[]
[null,"TEABAG"]
[null,"BEST FICTION","TEA BAG JASMINE GREEN","01pkt × 24bag",6,"pkt",29,"bag",{"$f":"(+E25*24)+G25","v":173},0,null,null,0,0,null,null,{"$f":"+P25-(O25*#REF!)","v":{"$error":"#REF!"}},{"$f":"+Q25*M25","v":{"$error":"#REF!"}},2,{"$f":"2435+3835","v":6270},{"$f":"+T25-(+S25*$S$11)","v":5540},0.28000000000000003,{"$f":"(+U25*V25)/1000","v":1.5512000000000001},null,null,null,null,null,null,null,null,null,null,null,null,null,{"$f":"+AJ25+I25+W25","v":174.55119999999999},null,null,"BAG"]
[null,"CHUAN HUAT ","TEA BAG LIPTON CHAMOMILE","01box × 25bag",null,"box",3,"bag",{"$f":"(+E26*25)+G26","v":3},0,null,null,0,0,null,null,{"$f":"+P26-(O26*O21)","v":0},0,null,null,{"$f":"+T26-(+S26*$S$11)","v":0},0,{"$f":"+V26*AM26","v":0},null,null,null,null,null,null,null,null,null,null,null,null,null,{"$f":"+AJ26+I26+W26","v":3},null,null,"BAG"]
[null,"CHUAN HUAT ","TEA BAG LIPTON DARJEELING ","01box × 25bag",null,"box",10,"bag",{"$f":"(+E27*25)+G27","v":10},0,null,null,0,0,null,null,{"$f":"+P27-(O27*O22)","v":0},0,null,null,0,0,{"$f":"+V27*AM27","v":0},null,null,null,null,null,null,null,null,null,null,null,null,null,10,null,null,"BAG"]
[null,"CHUAN HUAT ","TEA BAG LIPTON EARLGREY","01box × 25bag",null,"box",13,"bag",{"$f":"(+E28*25)+G28","v":13},0,null,null,0,0,null,null,{"$f":"+P28-(O28*O23)","v":0},0,null,null,0,0,{"$f":"+V28*AM28","v":0},null,null,null,null,null,null,null,null,null,null,null,null,null,13,null,null,"BAG"]
[null,"CHUAN HUAT ","TEA BAG LIPTON RED CATERING","01ctn × 12pkt × 20bag",22,"pkt",43,"bag",{"$f":"+G29+(+E29*20)","v":483},0,null,null,0,0,null,null,{"$f":"+P29-(O29*O31)","v":0},0,1,6130,{"$f":"+T29-(+S29*$S$11)","v":5765},0.56999999999999995,{"$f":"(+U29*V29)/1000","v":3.2860499999999999},null,null,null,null,null,null,null,null,null,null,null,null,null,{"$f":"+AJ29+I29+W29","v":486.28604999999999},null,null,"BAG"]
[]
[null,"POWDER ( FOR BEVERAGE )"]
[null,"BEST FICTION","POWDER CAPPUCCINO","01pkt × 1000g",null,"pkt",null,"g",1000,{"$f":"(+I32*E32)+G32","v":0},null,null,0,0,null,null,0,{"$f":"+Q32*M32","v":0},null,null,0,0,{"$f":"+U32*Q32","v":0},null,null,{"$f":"+Y32-(X32*$X$11)","v":0},{"$f":"+Y32-(W32*W11)","v":0},{"$f":"+Z32-(X32*X11)","v":0},null,null,{"$f":"+AC32-(Y32*Y11)","v":0},1,675,{"$f":"+AG32-(AF32*AF11)","v":425},null,0,{"$f":"+AJ32+AH32+AE32+AA32+Z32+W32+V32+R32+U32+Q32+N32+M32+J32","v":425},null,null,"GM"]
[null,"GOLDEN CHOICE ","POWDER CHOCOLATE","01pkt × 1000g",1,"pkt",null,"g",1000,{"$f":"(+I33*E33)+G33","v":1000},null,null,0,0,null,null,0,{"$f":"+Q33*M33","v":0},null,null,0,0,0,null,null,0,{"$f":"+Y33-(W33*W11)","v":0},{"$f":"+Z33-(X33*X11)","v":0},null,null,{"$f":"+AC33-(Y33*Y11)","v":0},1,285,{"$f":"+AG33-(AF33*AF11)","v":35},null,0,{"$f":"+AJ33+AH33+AE33+AA33+Z33+W33+V33+R33+U33+Q33+N33+M33+J33","v":1035},null,null,"GM"]
[null,"BEST FICTION","POWDER MOCHA","01pkt × 1000g",1,"pkt",null,"g",1000,1000,null,null,0,0,null,null,{"$f":"+P34-(O34*O14)","v":0},0,null,null,0,0,0,null,null,{"$f":"+Y34-(X34*$X$11)","v":0},{"$f":"+Y34-(W34*W11)","v":0},{"$f":"+Z34-(X34*X11)","v":0},null,null,{"$f":"+AC34-(Y34*Y11)","v":0},1,515,{"$f":"+AG34-(AF34*AF11)","v":265},null,0,{"$f":"+AJ34+AH34+AE34+AA34+Z34+W34+V34+R34+U34+Q34+N34+M34+J34","v":1265},null,null,"GM"]
[null,"CHUAN HUAT ","POWDER LIME","01ctn × 12pkt × 400g",23,"pkt",null,"bag",{"$f":"(+E35*400)","v":9200},"g",null,null,0,0,null,null,{"$f":"+P35-(O35*O26)","v":0},{"$f":"+Q35*M35","v":0},null,null,null,null,{"$f":"IF($F35<>\"btl\",$H35,\"g\")","v":"bag"},1,800,{"$f":"+Y35-(X35*$X$11)","v":565},null,null,null,null,null,null,null,null,3,{"$f":"+AI35*AI11","v":720},{"$f":"+AJ35+I35","v":9920},null,0.2,"GM"]
[null,"SYKT.TEE SIANG","POWDER MILO","01ctn × 06pkt × 3500g",null,"pkt",38400,"g",3500,{"$f":"(+I36*E36)+G36","v":38400},null,null,0,0,null,null,{"$f":"+P36-(O36*O15)","v":0},0,1,1575,{"$f":"+T36-(+S36*S11)","v":1210},0,{"$f":"+U36*AM36","v":268.62},null,null,0,null,null,null,null,{"$f":"+AD36-(AC36*AC11)","v":0},1,325,{"$f":"+AG36-(AF36*AF11)","v":75},null,0,{"$f":"+AJ36+AH36+AE36+AA36+Z36+W36+V36+R36+Q36+N36+M36+J36","v":38743.620000000003},null,0.222,"GM"]
[null,"SYKT.TEE SIANG","POWDER NESCAFE ICE","01pkt × 750g",1,"pkt",null,"g",750,{"$f":"(+I37*E37)+G37","v":750},null,null,0,0,null,null,{"$f":"+P37-(O37*O16)","v":0},0,null,null,{"$f":"+T37-(+S37*S11)","v":0},0,{"$f":"+U37*AM37","v":0},null,null,0,null,null,null,null,{"$f":"+AD37-(AC37*AC11)","v":0},1,580,{"$f":"+AG37-(AF37*AF11)","v":330},null,0,{"$f":"+AJ37+AH37+AE37+AA37+Z37+W37+V37+R37+Q37+N37+M37+J37","v":1080},null,0.18,"GM"]
[null,"SYKT.TEE SIANG","POWDER NESCAFE WHITE","01pkt × 1000g",1,"pkt",null,"g",1000,{"$f":"(+I38*E38)+G38","v":1000},null,null,0,0,null,null,{"$f":"+P38-(O38*O17)","v":0},0,null,null,{"$f":"+T38-(+S38*S11)","v":0},0,{"$f":"+U38*AM38","v":0},null,null,0,0,0,null,null,{"$f":"+AD38-(AC38*AC11)","v":0},1,645,{"$f":"+AG38-(AF38*AF11)","v":395},null,0,{"$f":"+AJ38+AH38+AE38+AA38+Z38+W38+V38+R38+Q38+N38+M38+J38","v":1395},null,null,"GM"]
[]
[null,"SUGAR & CREAMER ",null,null,null,null,null,null,null,null,null,null,0,0,null,null,{"$f":"+P40-(O40*O33)","v":0},0]
[null,"SYKT.TEE SIANG","SACHET DAIRY CREAMER","01ctn × 2pkt × 500pcs",1,"pkt",94,"pcs",{"$f":"(+E41*500)+G41","v":594},"pcs",null,null,0,0,null,null,{"$f":"+P41-(O41*O34)","v":0},0,null,null,null,null,{"$f":"IF($F41<>\"btl\",$H41,\"g\")","v":"pcs"},null,null,null,null,null,null,null,null,null,null,null,null,null,{"$f":"+AJ41+I41","v":594},null,null,"PCS"]
[null,"SYKT.TEE SIANG","SACHET SUGAR WHITE","01ctn × 10pkt × 200pcs",null,"pkt",70,"pcs",{"$f":"(+E42*200)+G42","v":70},"pcs",null,null,0,0,null,null,{"$f":"+P42-(O42*O36)","v":0},0,null,null,null,null,{"$f":"IF($F42<>\"btl\",$H42,\"g\")","v":"pcs"},null,null,null,null,null,null,null,null,null,null,null,null,null,{"$f":"+AJ42+I42","v":70},null,null,"PCS"]
[null,"BEST FICTION","POWDER DAIRY CREAMER","01pkt × 2000g",2,"pkt",null,"g",2000,{"$f":"(+I43*E43)+G43","v":4000},null,null,0,0,null,null,{"$f":"+P43-(O43*O11)","v":0},{"$f":"+Q43*M43","v":0},null,null,0,0,{"$f":"+U43*Q43","v":0},null,null,{"$f":"+Y43-(X43*$X$11)","v":0},{"$f":"+Y43-(W43*W11)","v":0},{"$f":"+Z43-(X43*X11)","v":0},null,null,{"$f":"+AC43-(Y43*Y11)","v":0},1,1450,{"$f":"+AG43-(AF43*AF11)","v":1200},null,0,{"$f":"+AJ43+W43+N43+J43+R43+AA43+AE43+AH43","v":5200},null,null,"GM"]
[null,null,null,null,null,null,null,null,null,null,null,null,null,null,null,null,{"$f":"+P44-(O44*O24)","v":0},0]
[null,"OTHERS",null,null,null,null,null,null,null,null,null,null,null,null,null,null,{"$f":"+P45-(O45*O25)","v":0},0]
[null,"S.C. TRADING","MIXED TIDBITS","01bag × 3500g",null,"bag",null,"g",{"$f":"(+E46*3500)","v":0},{"$f":"IF($F46<>\"btl\",$H46,\"g\")","v":"g"},null,null,0,0,null,null,{"$f":"+P46-(O46*O27)","v":0},0,null,null,null,null,{"$f":"IF($F46<>\"btl\",$H46,\"g\")","v":"g"},null,null,null,null,null,1,630,{"$f":"+AD46-(AC46*AC11)","v":157},null,null,0,null,0,{"$f":"+AJ46+I46+AH46+AE46","v":157},null,null,"GM"]
[null,null,null,null,null,null,null,null,null,null,null,null,null,null,null,null,{"$f":"+P47-(O47*O28)","v":0},0]

{"sheet":"TOTAL USAGE ON BEVERAGES","index":9,"n_rows":48,"n_cols":3,"rows_kept":48,"cut":false,"hidden":true,"merged":[]}
[]
["MONHTLY : TOTAL MATERIAL USAGE ON BEVERAGES "]
[]
[]
[]
["MATERIAL ","TOTAL","UOM"]
["Q","Q"]
[]
["SYRUP CHAMPAGNE GRAPE",{"$f":"SUMIF(SERVINGS!$J$7:$J$199,A9,SERVINGS!$L$7:$L$199)","v":15295.6},"ML"]
["SYRUP GREEN APPLE",{"$f":"SUMIF(SERVINGS!$J$7:$J$199,A10,SERVINGS!$L$7:$L$199)","v":21882.010000000002},"ML"]
["SYRUP PASSION FRUIT",{"$f":"SUMIF(SERVINGS!$J$7:$J$199,A11,SERVINGS!$L$7:$L$199)","v":25314.58},"ML"]
["SYRUP HONEY ",{"$f":"SUMIF(SERVINGS!$J$7:$J$199,A12,SERVINGS!$L$7:$L$199)","v":191326.52},"ML"]
["SYRUP MANGO",{"$f":"SUMIF(SERVINGS!$J$7:$J$199,A13,SERVINGS!$L$7:$L$199)","v":12378.68},"ML"]
["SYRUP RIBENA",{"$f":"SUMIF(SERVINGS!$J$7:$J$199,A14,SERVINGS!$L$7:$L$199)","v":41730},"ML"]
["TEA BAG JASMINE GREEN",{"$f":"SUMIF(SERVINGS!$J$7:$J$199,A15,SERVINGS!$L$7:$L$199)","v":296.26},"BAG"]
["TEA BAG LIPTON CHAMOMILE",{"$f":"SUMIF(SERVINGS!$J$7:$J$199,A16,SERVINGS!$L$7:$L$199)","v":135},"BAG"]
["TEA BAG LIPTON DARJEELING ",{"$f":"SUMIF(SERVINGS!$J$7:$J$199,A17,SERVINGS!$L$7:$L$199)","v":23},"BAG"]
["TEA BAG LIPTON EARLGREY",{"$f":"SUMIF(SERVINGS!$J$7:$J$199,A18,SERVINGS!$L$7:$L$199)","v":98},"BAG"]
["TEA BAG LIPTON RED CATERING",{"$f":"SUMIF(SERVINGS!$J$7:$J$199,A19,SERVINGS!$L$7:$L$199)","v":250.87},"BAG"]
["BIB PEPSI",{"$f":"SUMIF(SERVINGS!$J$7:$J$199,A20,SERVINGS!$L$7:$L$199)","v":853},"GLASS"]
["BIB 7UP",{"$f":"SUMIF(SERVINGS!$J$7:$J$199,A21,SERVINGS!$L$7:$L$199)","v":340},"GLASS"]
["BIB 7UP REVIVE",{"$f":"SUMIF(SERVINGS!$J$7:$J$199,A22,SERVINGS!$L$7:$L$199)","v":85},"GLASS"]
["POWDER CAPPUCCINO",{"$f":"SUMIF(SERVINGS!$J$7:$J$199,A23,SERVINGS!$L$7:$L$199)","v":189},"GM"]
["POWDER CHOCOLATE",{"$f":"SUMIF(SERVINGS!$J$7:$J$199,A24,SERVINGS!$L$7:$L$199)","v":382.5},"GM"]
["POWDER MOCHA",{"$f":"SUMIF(SERVINGS!$J$7:$J$199,A25,SERVINGS!$L$7:$L$199)","v":180.89999999999998},"GM"]
["POWDER MILO",{"$f":"SUMIF(SERVINGS!$J$7:$J$199,A26,SERVINGS!$L$7:$L$199)","v":65592},"GM"]
["POWDER NESCAFE ICE",{"$f":"SUMIF(SERVINGS!$J$7:$J$199,A27,SERVINGS!$L$7:$L$199)","v":10350},"GM"]
["POWDER NESCAFE WHITE",{"$f":"SUMIF(SERVINGS!$J$7:$J$199,A28,SERVINGS!$L$7:$L$199)","v":8381.6999999999989},"GM"]
["POWDER DAIRY CREAMER",{"$f":"SUMIF(SERVINGS!$J$7:$J$199,A29,SERVINGS!$L$7:$L$199)","v":240},"GM"]
["LIPTON ICE TEA -LEMON",{"$f":"SUMIF(SERVINGS!$J$7:$J$199,A30,SERVINGS!$L$7:$L$199)","v":31},"CANNED"]
["LIPTON ICE TEA -CLEAR GREEN",{"$f":"SUMIF(SERVINGS!$J$7:$J$199,A31,SERVINGS!$L$7:$L$199)","v":33},"BTL"]
["CHILL CHRYSANTHEMUM",{"$f":"SUMIF(SERVINGS!$J$7:$J$199,A32,SERVINGS!$L$7:$L$199)","v":15},"CANNED"]
["CHILL SOYA BEAN",{"$f":"SUMIF(SERVINGS!$J$7:$J$199,A33,SERVINGS!$L$7:$L$199)","v":19},"CANNED"]
["CHILL CINCAU",{"$f":"SUMIF(SERVINGS!$J$7:$J$199,A34,SERVINGS!$L$7:$L$199)","v":9},"CANNED"]
["REVIVE REGULAR ",{"$f":"SUMIF(SERVINGS!$J$7:$J$199,A35,SERVINGS!$L$7:$L$199)","v":6},"CANNED"]
["PEPSI COLA",{"$f":"SUMIF(SERVINGS!$J$7:$J$199,A36,SERVINGS!$L$7:$L$199)","v":9},"CANNED"]
["7UP",{"$f":"SUMIF(SERVINGS!$J$7:$J$199,A37,SERVINGS!$L$7:$L$199)","v":11},"CANNED"]
["RIBENA MOBILE ",{"$f":"SUMIF(SERVINGS!$J$7:$J$199,A38,SERVINGS!$L$7:$L$199)","v":37},"PKT"]
["MINERAL WATER ",{"$f":"SUMIF(SERVINGS!$J$7:$J$199,A39,SERVINGS!$L$7:$L$199)","v":39},"BTL"]
["DUNHILL KING",{"$f":"SUMIF(SERVINGS!$J$7:$J$199,A40,SERVINGS!$L$7:$L$199)","v":29},"PKT"]
["DUNHILL LIGHTS KING",{"$f":"SUMIF(SERVINGS!$J$7:$J$199,A41,SERVINGS!$L$7:$L$199)","v":28},"PKT"]
["DUNHILL MENTHOL KING",{"$f":"SUMIF(SERVINGS!$J$7:$J$199,A42,SERVINGS!$L$7:$L$199)","v":12},"PKT"]
[" DUNHILL BOOST",{"$f":"SUMIF(SERVINGS!$J$7:$J$199,A43,SERVINGS!$L$7:$L$199)","v":0},"PKT"]
["DUNHILL MENTHOL SWITCH",{"$f":"SUMIF(SERVINGS!$J$7:$J$199,A44,SERVINGS!$L$7:$L$199)","v":0},"PKT"]
["DUNHILL ICE",{"$f":"SUMIF(SERVINGS!$J$7:$J$199,A45,SERVINGS!$L$7:$L$199)","v":21},"PKT"]
["KENT ORIGINAL",{"$f":"SUMIF(SERVINGS!$J$7:$J$199,A46,SERVINGS!$L$7:$L$199)","v":0},"PKT"]
["KENT FUTURA ",{"$f":"SUMIF(SERVINGS!$J$7:$J$199,A47,SERVINGS!$L$7:$L$199)","v":0},"PKT"]
["KENT NEO",{"$f":"SUMIF(SERVINGS!$J$7:$J$199,A48,SERVINGS!$L$7:$L$199)","v":0},"PKT"]

{"sheet":"PURCHASE SUMMARY","index":10,"n_rows":76,"n_cols":13,"rows_kept":76,"cut":false,"hidden":true,"merged":[[10,1,10,12]]}
[null,null,"MONTHLY PURCHASE SUMMARY "]
[null,null,"每月吧台购买交易"]
[]
[]
[null,null,"OUTLET BAR ","CCS"]
[null,null,"分行吧台"]
[]
[null,null,"YEAR / MONTH",{"$f":"'STOCK ANALYSIS'!D10:E10","v":"APRIL 2014"}]
[null,null,"年/月"]
[]
[]
[null,"ITEM","CATEGORIES","SUPPLIER","PRODUCT DESCRIPTION","PRICE","UOM","PACK.SIZE","PORTION","FOR CCS BAR DEPARTMENT "]
[null,"项目","分类","供应商","食材产品","价格","单位","包装 ","成分 ","A","B","C","D"]
[]
[null,null,null,null,null,null,null,null,null,"QUANTITY","UOM","QUANTITY","UOM"]
[]
[null,null,null,null,null,null,null,null,null,"数量","单位","数量","单位"]
[]
[null,"MAIN BEVERAGE MATERIAL 主要饮料的食材"]
[null,1,"SRYUP","BEST FICTION ","SYRUP CHAMPAGNE GRAPE",{"$f":"SUMIF(DATABASE!$E$22:$E$75,'PURCHASE SUMMARY'!E20,DATABASE!$F$22:$F$75)","v":5.7499999999999999E-3},"ML ","01drum × 4000ml",4000,5,"drum",{"$f":"+J20*I20","v":20000},"ML"]
[null,{"$f":"+B20+1","v":2},"SRYUP","BEST FICTION ","SYRUP GREEN APPLE",{"$f":"SUMIF(DATABASE!$E$22:$E$75,'PURCHASE SUMMARY'!E21,DATABASE!$F$22:$F$75)","v":5.7499999999999999E-3},"ML ","01drum × 4000ml",4000,5,"drum",{"$f":"+J21*I21","v":20000},"ML"]
[null,{"$f":"+B21+1","v":3},"SRYUP","BEST FICTION ","SYRUP PASSION FRUIT",{"$f":"SUMIF(DATABASE!$E$22:$E$75,'PURCHASE SUMMARY'!E22,DATABASE!$F$22:$F$75)","v":5.7499999999999999E-3},"ML ","01drum × 4000ml",4000,11,"drum",44000,"ML"]
[null,4,"SRYUP","BEST FICTION ","SYRUP HONEY ",{"$f":"SUMIF(DATABASE!$E$22:$E$75,'PURCHASE SUMMARY'!E23,DATABASE!$F$22:$F$75)","v":1.8499999999999999E-2},"ML ","01drum × 2000ml",2000,0,"drum",0,"ML"]
[null,5,"SRYUP","BEST FICTION ","SYRUP MANGO",{"$f":"SUMIF(DATABASE!$E$22:$E$75,'PURCHASE SUMMARY'!E24,DATABASE!$F$22:$F$75)","v":1.15E-2},"ML ","01drum × 4000ml",4000,7,"drum",28000,"ML"]
[null,6,"SRYUP","G&K","SYRUP HONEY ",{"$f":"SUMIF(DATABASE!$E$22:$E$75,'PURCHASE SUMMARY'!E25,DATABASE!$F$22:$F$75)","v":1.8499999999999999E-2},"ML ","01drum × 2000ml",2000,70,"drum",140000,"ML"]
[null,7,"SRYUP","G&K","SYRUP MANGO",{"$f":"SUMIF(DATABASE!$E$22:$E$75,'PURCHASE SUMMARY'!E26,DATABASE!$F$22:$F$75)","v":1.15E-2},"ML ","01drum × 4000ml",4000,0,"drum",0,"ML"]
[null,8,"SRYUP","TIEN SWEE","SYRUP RIBENA",{"$f":"SUMIF(DATABASE!$E$22:$E$75,'PURCHASE SUMMARY'!E27,DATABASE!$F$22:$F$75)","v":0.01},"ML ","01ctn × 06btl × 1000ml",1000,48,"btl",48000,"ML"]
[null,9,"TEABAG","BEST FICTION","TEA BAG JASMINE GREEN",{"$f":"SUMIF(DATABASE!$E$22:$E$75,'PURCHASE SUMMARY'!E28,DATABASE!$F$22:$F$75)","v":0.75},"BAG ","01pkt × 24bag",24,19,"pkt",456,"BAG"]
[null,10,"TEABAG","CHUAN HUAT ","TEA BAG LIPTON CHAMOMILE",{"$f":"SUMIF(DATABASE!$E$22:$E$75,'PURCHASE SUMMARY'!E29,DATABASE!$F$22:$F$75)","v":0.46},"BAG ","01box × 25bag",25,5,"box",125,"BAG"]
[null,11,"TEABAG","CHUAN HUAT ","TEA BAG LIPTON DARJEELING ",{"$f":"SUMIF(DATABASE!$E$22:$E$75,'PURCHASE SUMMARY'!E30,DATABASE!$F$22:$F$75)","v":0.46},"BAG ","01box × 25bag",25,0,"box",0,"BAG"]
[null,12,"TEABAG","CHUAN HUAT ","TEA BAG LIPTON EARLGREY",{"$f":"SUMIF(DATABASE!$E$22:$E$75,'PURCHASE SUMMARY'!E31,DATABASE!$F$22:$F$75)","v":0.46},"BAG ","01box × 25bag",25,4,"box",100,"BAG"]
[null,13,"TEABAG","CHUAN HUAT ","TEA BAG LIPTON RED CATERING",{"$f":"SUMIF(DATABASE!$E$22:$E$75,'PURCHASE SUMMARY'!E32,DATABASE!$F$22:$F$75)","v":0.32500000000000001},"BAG ","01ctn × 12pkt × 20bag",240,1,"ctn ",{"$f":"+J32*I32","v":240},"BAG"]
[null,14,"POWDER","BEST FICTION","POWDER CAPPUCCINO",{"$f":"SUMIF(DATABASE!$E$22:$E$75,'PURCHASE SUMMARY'!E33,DATABASE!$F$22:$F$75)","v":2.1000000000000001E-2},"GM","01pkt × 1000g",1000,0,"pkt",{"$f":"+J33*I33","v":0},"GM"]
[null,15,"POWDER","GOLDEN CHOICE ","POWDER CHOCOLATE",{"$f":"SUMIF(DATABASE!$E$22:$E$75,'PURCHASE SUMMARY'!E34,DATABASE!$F$22:$F$75)","v":0.02},"GM","01pkt × 1000g",1000,0,"pkt",{"$f":"+J34*I34","v":0},"GM"]
[null,16,"POWDER","BEST FICTION","POWDER MOCHA",{"$f":"SUMIF(DATABASE!$E$22:$E$75,'PURCHASE SUMMARY'!E35,DATABASE!$F$22:$F$75)","v":2.1000000000000001E-2},"GM","01pkt × 1000g",1000,0,"pkt",0,"GM"]
[null,17,"POWDER","CHUAN HUAT ","POWDER LIME",{"$f":"SUMIF(DATABASE!$E$22:$E$75,'PURCHASE SUMMARY'!E36,DATABASE!$F$22:$F$75)","v":2.375E-2},"GM","01ctn × 12pkt × 400g",{"$f":"400*12","v":4800},4,"ctn ",{"$f":"+J36*I36","v":19200},"GM"]
[null,18,"POWDER","SYKT.TEE SIANG","POWDER MILO",{"$f":"SUMIF(DATABASE!$E$22:$E$75,'PURCHASE SUMMARY'!E37,DATABASE!$F$22:$F$75)","v":1.546875E-2},"GM","01ctn × 06pkt × 3200g",{"$f":"3200*6","v":19200},3,"ctn",{"$f":"+J37*I37","v":57600},"GM"]
[null,19,"POWDER","SYKT.TEE SIANG","POWDER NESCAFE ICE",{"$f":"SUMIF(DATABASE!$E$22:$E$75,'PURCHASE SUMMARY'!E38,DATABASE!$F$22:$F$75)","v":1.9213333333333332E-2},"GM","01pkt × 750g",750,14,"pkt",{"$f":"+J38*I38","v":10500},"GM"]
[null,20,"POWDER","SYKT.TEE SIANG","POWDER NESCAFE WHITE",{"$f":"SUMIF(DATABASE!$E$22:$E$75,'PURCHASE SUMMARY'!E39,DATABASE!$F$22:$F$75)","v":2.0210000000000002E-2},"GM","01pkt × 1000g",1000,10,"pkt",10000,"GM"]
[null,21,"CREAMER  & SUGAR","SYKT.TEE SIANG","SACHET DAIRY CREAMER",{"$f":"SUMIF(DATABASE!$E$22:$E$75,'PURCHASE SUMMARY'!E40,DATABASE!$F$22:$F$75)","v":0.1134},"PCS","01ctn × 2pkt × 500pcs",500,0,"ctn ",0,"pcs"]
[null,22,"CREAMER  & SUGAR","SYKT.TEE SIANG","SACHET SUGAR WHITE",{"$f":"SUMIF(DATABASE!$E$22:$E$75,'PURCHASE SUMMARY'!E41,DATABASE!$F$22:$F$75)","v":4.1500000000000002E-2},"PCS","01ctn × 10pkt × 200pcs",2000,1,"ctn ",2000,"pcs"]
[null,23,"CREAMER  & SUGAR","BEST FICTION","POWDER DAIRY CREAMER",{"$f":"SUMIF(DATABASE!$E$22:$E$75,'PURCHASE SUMMARY'!E42,DATABASE!$F$22:$F$75)","v":8.9999999999999993E-3},"GM","01pkt × 2000g",2000,0,"pkt",0,"GM"]
[null,24,"CREAMER  & SUGAR","S.C. TRADING","MIXED TIDBITS",{"$f":"SUMIF(DATABASE!$E$22:$E$75,'PURCHASE SUMMARY'!E43,DATABASE!$F$22:$F$75)","v":1.0200000000000001E-2},"GM","01bag × 3500g",3500,12,"bag",42000,"GM"]
[null,25,"CANNED & BTL","PERMANIS SANDILAND ","LIPTON ICE TEA -LEMON",{"$f":"SUMIF(DATABASE!$E$22:$E$75,'PURCHASE SUMMARY'!E44,DATABASE!$F$22:$F$75)","v":1.3415999999999999},"CANNED","01ctn × 24can × 300ml",24,2,"ctn",{"$f":"+J44*I44","v":48},"CANNED"]
[null,26,"CANNED & BTL","PERMANIS SANDILAND ","LIPTON ICE TEA -CLEAR GREEN",{"$f":"SUMIF(DATABASE!$E$22:$E$75,'PURCHASE SUMMARY'!E45,DATABASE!$F$22:$F$75)","v":1.8708},"BTL","01ctn × 24btl × 450ml",24,1,"ctn",{"$f":"+J45*I45","v":24},"BTL"]
[null,27,"CANNED & BTL","PERMANIS SANDILAND ","CHILL CHRYSANTHEMUM",{"$f":"SUMIF(DATABASE!$E$22:$E$75,'PURCHASE SUMMARY'!E46,DATABASE!$F$22:$F$75)","v":1.1333},"CANNED","01ctn × 24can × 300ml",24,1,"ctn",24,"CANNED"]
[null,28,"CANNED & BTL","PERMANIS SANDILAND ","CHILL SOYA BEAN",{"$f":"SUMIF(DATABASE!$E$22:$E$75,'PURCHASE SUMMARY'!E47,DATABASE!$F$22:$F$75)","v":1.1333},"CANNED","01ctn × 24can × 300ml",24,2,"ctn",48,"CANNED"]
[null,29,"CANNED & BTL","PERMANIS SANDILAND ","CHILL CINCAU",{"$f":"SUMIF(DATABASE!$E$22:$E$75,'PURCHASE SUMMARY'!E48,DATABASE!$F$22:$F$75)","v":1.2333000000000001},"CANNED","01ctn × 24can × 300ml",24,1,"ctn",24,"CANNED"]
[null,30,"CANNED & BTL","PERMANIS SANDILAND ","REVIVE REGULAR ",{"$f":"SUMIF(DATABASE!$E$22:$E$75,'PURCHASE SUMMARY'!E49,DATABASE!$F$22:$F$75)","v":1.2124999999999999},"CANNED","01ctn × 24can × 325ml",24,1,"ctn",24,"CANNED"]
[null,31,"CANNED & BTL","PERMANIS SANDILAND ","PEPSI COLA",{"$f":"SUMIF(DATABASE!$E$22:$E$75,'PURCHASE SUMMARY'!E50,DATABASE!$F$22:$F$75)","v":1.2124999999999999},"CANNED","01ctn × 24can × 325ml",24,1,"ctn",24,"CANNED"]
[null,32,"CANNED & BTL","PERMANIS SANDILAND ","7UP",{"$f":"SUMIF(DATABASE!$E$22:$E$75,'PURCHASE SUMMARY'!E51,DATABASE!$F$22:$F$75)","v":1.2124999999999999},"CANNED","01ctn × 24can × 325ml",24,1,"ctn",{"$f":"+J51*I51","v":24},"CANNED"]
[null,33,"BEVERAGE ","TIEN SWEE","RIBENA MOBILE ",{"$f":"SUMIF(DATABASE!$E$22:$E$75,'PURCHASE SUMMARY'!E52,DATABASE!$F$22:$F$75)","v":1.982},"PKT","01ctn × 24pkt × 300ml",24,2,"ctn",48,"PKT"]
[null,34,"MINERAL WATER ","PERMANIS SANDILAND ","MINERAL WATER ",{"$f":"SUMIF(DATABASE!$E$22:$E$75,'PURCHASE SUMMARY'!E53,DATABASE!$F$22:$F$75)","v":0.58330000000000004},"BTL","01ctn × 24 btl ",24,0,"ctn",0,"BTL"]
[null,35,"SOFT DRINKS","PERMANIS SANDILAND ","BIB PEPSI",{"$f":"SUMIF(DATABASE!$E$22:$E$75,'PURCHASE SUMMARY'!E54,DATABASE!$F$22:$F$75)","v":166.37},"BIB","01bib × 20lit",320,2,"bib",640,"GLASS"]
[null,36,"SOFT DRINKS","PERMANIS SANDILAND ","BIB 7UP",{"$f":"SUMIF(DATABASE!$E$22:$E$75,'PURCHASE SUMMARY'!E55,DATABASE!$F$22:$F$75)","v":166.37},"BIB","01bib × 20lit",320,1,"bib",{"$f":"+J55*I55","v":320},"GLASS"]
[null,37,"SOFT DRINKS","PERMANIS SANDILAND ","BIB 7UP REVIVE",{"$f":"SUMIF(DATABASE!$E$22:$E$75,'PURCHASE SUMMARY'!E56,DATABASE!$F$22:$F$75)","v":166.37},"BIB","01bib × 20lit",320,0,"bib",0,"GLASS"]
[null,38,"BEER","GAB","BEER GUINNESS",{"$f":"SUMIF(DATABASE!$E$22:$E$75,'PURCHASE SUMMARY'!E57,DATABASE!$F$22:$F$75)","v":6.8103999999999996},"PINT","01ctn × 24btl",24,9,"ctn",216,"PINT"]
[null,39,"BEER","GAB","BEER HEINEKEN",{"$f":"SUMIF(DATABASE!$E$22:$E$75,'PURCHASE SUMMARY'!E58,DATABASE!$F$22:$F$75)","v":8.1145999999999994},"PINT","01ctn × 24btl",24,31,"ctn",744,"PINT"]
[null,40,"BEER","GAB","BEER TIGER",{"$f":"SUMIF(DATABASE!$E$22:$E$75,'PURCHASE SUMMARY'!E59,DATABASE!$F$22:$F$75)","v":6},"PINT","01ctn × 24btl",24,185,"ctn",4440,"PINT"]
[null,41,"BEER","GAB","STRONGBOW",{"$f":"SUMIF(DATABASE!$E$22:$E$75,'PURCHASE SUMMARY'!E60,DATABASE!$F$22:$F$75)","v":9.7200000000000006},"PINT","01ctn × 24btl",24,1,"ctn",24,"PINT"]
[null,42,"BEER","GAB","PAULANAR",{"$f":"SUMIF(DATABASE!$E$22:$E$75,'PURCHASE SUMMARY'!E61,DATABASE!$F$22:$F$75)","v":12},"PINT","01ctn × 24btl",24,0,"ctn",0,"PINT"]
[null,43,"BEER","LUEN HENG","SOMEBY APPLE CIDER",{"$f":"SUMIF(DATABASE!$E$22:$E$75,'PURCHASE SUMMARY'!E62,DATABASE!$F$22:$F$75)","v":9.57},"PINT","01ctn × 24btl",24,3,"ctn",72,"PINT"]
[null,44,"BEER","LUEN HENG","HOEGAARDEN",{"$f":"SUMIF(DATABASE!$E$22:$E$75,'PURCHASE SUMMARY'!E63,DATABASE!$F$22:$F$75)","v":10.95},"PINT","01ctn × 24btl",24,0,"ctn",0,"PINT"]
[null,45,"CIGARETTE","NEW FOO HING","DUNHILL KING",{"$f":"SUMIF(DATABASE!$E$22:$E$75,'PURCHASE SUMMARY'!E64,DATABASE!$F$22:$F$75)","v":11.0806},"PKT","01pkt × 20s ",10,2.5,"ctn",25,"pkt"]
[null,46,"CIGARETTE","NEW FOO HING","DUNHILL LIGHTS KING",{"$f":"SUMIF(DATABASE!$E$22:$E$75,'PURCHASE SUMMARY'!E65,DATABASE!$F$22:$F$75)","v":11.0806},"PKT","01pkt × 20s ",10,2,"ctn",20,"pkt"]
[null,47,"CIGARETTE","NEW FOO HING","DUNHILL MENTHOL LIGHTS KING",{"$f":"SUMIF(DATABASE!$E$22:$E$75,'PURCHASE SUMMARY'!E66,DATABASE!$F$22:$F$75)","v":11.0806},"PKT","01pkt × 20s ",10,null,"ctn",0,"pkt"]
[null,48,"CIGARETTE","NEW FOO HING","DUNHILL MENTHOL KING",{"$f":"SUMIF(DATABASE!$E$22:$E$75,'PURCHASE SUMMARY'!E67,DATABASE!$F$22:$F$75)","v":11.0806},"PKT","01pkt × 20s ",10,1,"ctn",10,"pkt"]
[null,{"$f":"+B67+1","v":49},"CIGARETTE","NEW FOO HING","DUNHILL MENTHOL BOOST",{"$f":"SUMIF(DATABASE!$E$22:$E$75,'PURCHASE SUMMARY'!E68,DATABASE!$F$22:$F$75)","v":11.0806},"PKT","01pkt × 20s ",10,null,"ctn",0,"pkt"]
[null,50,"CIGARETTE","NEW FOO HING","DUNHILL MENTHOL SWITCH",{"$f":"SUMIF(DATABASE!$E$22:$E$75,'PURCHASE SUMMARY'!E69,DATABASE!$F$22:$F$75)","v":11.0806},"PKT","01pkt × 20s ",10,null,"ctn",0,"pkt"]
[null,51,"CIGARETTE","NEW FOO HING","DUNHILL ICE",{"$f":"SUMIF(DATABASE!$E$22:$E$75,'PURCHASE SUMMARY'!E70,DATABASE!$F$22:$F$75)","v":11.0806},"PKT","01pkt × 20s ",10,1.5,"ctn",15,"pkt"]
[null,52,"CIGARETTE","NEW FOO HING","KENT NEO",{"$f":"SUMIF([6]DATABASE!$E$22:$E$75,E71,[6]DATABASE!$F$22:$F$75)","v":{"$error":"#VALUE!"}},"PKT","01pkt × 20s ",10,0,"ctn",0,"pkt"]
[null,53,"CIGARETTE","NEW FOO HING","KENT ORIGINAL",{"$f":"SUMIF([6]DATABASE!$E$22:$E$75,E72,[6]DATABASE!$F$22:$F$75)","v":{"$error":"#VALUE!"}},"PKT","01pkt × 20s ",10,0,"ctn",0,"pkt"]
[null,54,"CIGARETTE","NEW FOO HING","KENT FUTURA ",{"$f":"SUMIF([6]DATABASE!$E$22:$E$75,E73,[6]DATABASE!$F$22:$F$75)","v":{"$error":"#VALUE!"}},"PKT","01pkt × 20s ",10,0,"ctn",0,"pkt"]
[]
[null,{"$f":"+B74+1","v":1},"CIGARETTE","NEW FOO HING","KENT FUTURA ",{"$f":"SUMIF(DATABASE!$E$22:$E$75,E75,DATABASE!$F$22:$F$75)","v":11.0806},"PKT","01pkt × 20s ",10,null,"ctn",{"$f":"+J75*I75","v":0},"pkt"]
[null,52,"SRYUP","BEN MART","SYRUP RIBENA",1.2E-2,"BTL","01ctn × 06btl × 2000ml",2000,12,"btl",{"$f":"+J76*I76","v":24000},"ML"]

{"sheet":"Sheet1","index":11,"n_rows":0,"n_cols":0,"rows_kept":0,"cut":false,"hidden":true,"merged":[]}

{"sheet":"Sheet2","index":12,"n_rows":0,"n_cols":0,"rows_kept":0,"cut":false,"hidden":true,"merged":[]}