{"text_format":"1","workbook":"xlsx","n_sheets":13,"sheets":["DATABASE","Summary","Daily Log","SERVINGS","STOCK ANALYSIS","TOTAL USAGE ON BEVERAGES","CLOSING STOCK","CLOSING STOCK (CONVERT)","CLOSING STOCK -AFTER ADJUSTMENT","PURCHASE SUMMARY","DISPOSAL(CONVERT)","Sheet1","Sheet2"],"not_rendered":{"charts":0,"images":8,"macros":0,"external_links":3,"defined_names":12,"comments":0,"pivot_tables":0},"unopened":[],"bounds":{"document_bytes":16777216,"sheet_cells":100000,"rows_first":2000,"rows_last":500,"rows_between":2000,"halvings":0,"cell_chars":16384,"cell_head_chars":4096},"cells_cut":0,"cells_raw":0,"read":"whole","date_system":"1900"}

{"sheet":"DATABASE","index":0,"n_rows":76,"n_cols":8,"rows_kept":76,"cut":false,"hidden":true,"merged":[[12,1,12,7]]}
[]
[]
[null,null,"DATABASE"]
[null,null,"资料库"]
[]
[]
[null,null,"OUTLET BAR ","SBA"]
[null,null,"分行吧台"]
[]
[null,null,"YEAR / MONTH","AUGUST  2013"]
[null,null,"年/月"]
[]
[]
[null,"ITEM","CATEGORIES","SUPPLIER","PRODUCT DESCRIPTION","PRICE","UOM","PACK.SIZE"]
[null,"项目","分类","供应商","食材产品","价格","单位","包装"]
[]
[]
[]
[]
[]
[null,"MAIN BEVERAGE MATERIAL 主要饮料的食材"]
[null,1,"SRYUP","BEST FICTION ","SYRUP CHAMPAGNE GRAPE",5.7499999999999999E-3,"ML ","01drum × 4000ml"]
[null,{"$f":"+B22+1","v":2},"SRYUP","BEST FICTION ","SYRUP GREEN APPLE",5.7499999999999999E-3,"ML ","01drum × 4000ml"]
[null,{"$f":"+B23+1","v":3},"SRYUP","BEST FICTION ","SYRUP PASSION FRUIT ",5.7499999999999999E-3,"ML ","01drum × 4000ml"]
[null,4,"SRYUP","BEST FICTION ","SYRUP HONEY ",9.4999999999999998E-3,"ML ","01drum × 2000ml"]
[null,5,"SRYUP","BEST FICTION ","SYRUP MANGO",5.7499999999999999E-3,"ML ","01drum × 4000ml"]
[null,6,"SRYUP","G&K","SYRUP HONEY ",8.9999999999999993E-3,"ML ","01drum × 2000ml"]
[null,7,"SRYUP","G&K","SYRUP MANGO",5.7499999999999999E-3,"ML ","01drum × 4000ml"]
[null,8,"SRYUP","TIEN SWEE","SYRUP RIBENA",0.01,"ML ","01ctn × 06btl × 1000ml"]
[null,9,"TEABAG","BEST FICTION","TEA BAG JASMINE GREEN",0.75,"BAG ","01pkt × 24bag"]
[null,10,"TEABAG","CHUAN HUAT ","TEA BAG LIPTON CHAMOMILE",0.46,"BAG ","01box × 25bag"]
[null,11,"TEABAG","CHUAN HUAT ","TEA BAG LIPTON DARJEELING ",0.46,"BAG ","01box × 25bag"]
[null,12,"TEABAG","CHUAN HUAT ","TEA BAG LIPTON EARLGREY",0.46,"BAG ","01box × 25bag"]
[null,13,"TEABAG","CHUAN HUAT ","TEA BAG LIPTON RED CATERING",0.32500000000000001,"BAG ","01ctn × 12pkt × 20bag"]
[null,14,"POWDER","BEST FICTION","POWDER CAPPUCINO",2.1000000000000001E-2,"GM","01pkt × 1000g"]
[null,15,"POWDER","GOLDEN CHOICE ","POWDER CHOCOLATE",0.02,"GM","01pkt × 1000g"]
[null,16,"POWDER","BEST FICTION","POWDER MOCHA",2.1000000000000001E-2,"GM","01pkt × 1000g"]
[null,17,"POWDER","CHUAN HUAT ","POWDER LIME",2.375E-2,"GM","01ctn × 12pkt × 400g"]
[null,18,"POWDER","SYKT.TEE SIANG","POWDER MILO ",1.546875E-2,"GM","01ctn × 06pkt × 3200g"]
[null,19,"POWDER","SYKT.TEE SIANG","POWDER NESCAFE ICE",1.9213333333333332E-2,"GM","01pkt × 750g"]
[null,20,"POWDER","SYKT.TEE SIANG","POWDER NESCAFE WHITE",2.0210000000000002E-2,"GM","01pkt × 1000g"]
[null,21,"CREAMER  & SUGAR","SYKT.TEE SIANG","SACHET DAIRY CREAMER",0.1134,"PCS","01ctn × 2pkt × 500pcs"]
[null,22,"CREAMER  & SUGAR","SYKT.TEE SIANG","SACHET SUGAR WHITE",4.1500000000000002E-2,"PCS","01ctn × 10pkt × 200pcs"]
[null,23,"CREAMER  & SUGAR","BEST FICTION","POWDER DAIRY CREAMER",8.9999999999999993E-3,"GM","01pkt × 2000g"]
[null,24,"CREAMER  & SUGAR","S.C. TRADING","MIXED TIDBITS",1.03E-2,"GM","01bag × 3500g"]
[null,25,"CANNED & BTL","PERMANIS SANDILAND ","LIPTON ICE TEA -LEMON",1.3415999999999999,"CANNED","01ctn × 24can × 300ml"]
[null,26,"CANNED & BTL","PERMANIS SANDILAND ","LIPTON ICE TEA -CLEAR GREEN",1.8708,"BTL","01ctn × 24btl × 450ml"]
[null,27,"CANNED & BTL","PERMANIS SANDILAND ","CHILL CHRYSANTHEMUM",1.1333,"CANNED","01ctn × 24can × 300ml"]
[null,28,"CANNED & BTL","PERMANIS SANDILAND ","CHILL SOYA BEAN",1.1333,"CANNED","01ctn × 24can × 300ml"]
[null,29,"CANNED & BTL","PERMANIS SANDILAND ","CHILL CINCAU",1.2333000000000001,"CANNED","01ctn × 24can × 300ml"]
[null,30,"CANNED & BTL","PERMANIS SANDILAND ","REVIVE REGULAR ",1.2124999999999999,"CANNED","01ctn × 24can × 325ml"]
[null,31,"CANNED & BTL","PERMANIS SANDILAND ","PEPSI COLA",1.2124999999999999,"CANNED","01ctn × 24can × 325ml"]
[null,32,"CANNED & BTL","PERMANIS SANDILAND ","7UP",1.2124999999999999,"CANNED","01ctn × 24can × 325ml"]
[null,33,"BEVERAGE ","TIEN SWEE","RIBENA MOBILE ",1.982,"PKT","01ctn × 24pkt × 300ml"]
[null,34,"MINERAL WATER ","PERMANIS SANDILAND ","MINERAL WATER ",0.59899999999999998,"BTL","01ctn × 24 btl "]
[null,35,"MINERAL WATER ","TONG WOH ","MINERAL WATER ",0.56659999999999999,"BTL","01ctn × 24 btl "]
[null,36,"SOFT DRINKS","PERMANIS SANDILAND ","BIB PEPSI",166.37,"BIB","01bib × 20lit"]
[null,37,"SOFT DRINKS","PERMANIS SANDILAND ","BIB 7UP",166.37,"BIB","01bib × 20lit"]
[null,38,"SOFT DRINKS","PERMANIS SANDILAND ","BIB 7UP REVIVE",166.37,"BIB","01bib × 20lit"]
[null,39,"BEER","GAB","BEER GUINNESS",6.8103999999999996,"PINT","01ctn × 24btl"]
[null,40,"BEER","GAB","BEER HEINEKEN",8.1145999999999994,"PINT","01ctn × 24btl"]
[null,41,"BEER","GAB","BEER TIGER",6,"PINT","01ctn × 24btl"]
[null,42,"BEER","GAB","STRONGBOW",8.9625000000000004,"PINT","01ctn × 24btl"]
[null,43,"BEER","GAB","PAULANAR",12,"PINT","01ctn × 24btl"]
[null,44,"BEER","LUEN HENG","SOMEBY APPLE CIDER",9.5709999999999997,"PINT","01ctn × 24btl"]
[null,45,"BEER","LUEN HENG","HOEGAARDEN",10.95,"PINT","01ctn × 24btl"]
[null,46,"CIGARETTE","NEW FOO HING","DUNHILL KING",11.08,"PKT","01pkt × 20s "]
[null,47,"CIGARETTE","NEW FOO HING","DUNHILL LIGHTS KING",11.08,"PKT","01pkt × 20s "]
[null,48,"CIGARETTE","NEW FOO HING","DUNHILL MENTHOL LIGHTS KING",11.08,"PKT","01pkt × 20s "]
[null,49,"CIGARETTE","NEW FOO HING","DUNHILL MENTHOL KING",11.08,"PKT","01pkt × 20s "]
[null,50,"CIGARETTE","NEW FOO HING","DUNHILL MENTHOL BOOST",11.08,"PKT","01pkt × 20s "]
[null,51,"CIGARETTE","NEW FOO HING","DUNHILL MENTHOL SWITCH",11.08,"PKT","01pkt × 20s "]
[null,52,"CIGARETTE","NEW FOO HING","DUNHILL ICE",11.08,"PKT","01pkt × 20s "]
[null,53,"CIGARETTE","NEW FOO HING","KENT NEO",11.08,"PKT","01pkt × 20s "]
[null,54,"CIGARETTE","NEW FOO HING","KENT ORIGINAL",11.08,"PKT","01pkt × 20s "]
[null,55,"CIGARETTE","NEW FOO HING","KENT FUTURA ",11.08,"PKT","01pkt × 20s "]

{"sheet":"Summary","index":1,"n_rows":500,"n_cols":37,"rows_kept":500,"cut":false,"hidden":false,"merged":[[5,2,5,3],[7,2,7,3],[9,2,9,3],[28,1,28,2]]}
[]
[]
[null,null,"SUMMARY OF PRODUCT SALES IN MONTH"]
[]
[]
[null,"OUTLET",{"$f":"MID(CELL(\"FILENAME\",$A$1),FIND(\"[\",CELL(\"FILENAME\",$A$1))+1,3)","v":"SBA"}]
[]
[null,"YEAR",{"$f":"MID(CELL(\"FILENAME\",$A$1),FIND(\"[\",CELL(\"FILENAME\",$A$1))+4,4)","v":"2014"}]
[]
[null,"MONTH",{"$f":"INDEX($C$12:$C$23,MID(CELL(\"FILENAME\",$A$1),FIND(\"[\",CELL(\"FILENAME\",$A$1))+8,2),1)","v":"FEBRUARY"}]
[]
[null,"MONTH","JANUARY"]
[null,null,"FEBRUARY"]
[null,null,"MARCH"]
[null,null,"APRIL"]
[null,null,"MAY"]
[null,null,"JUNE"]
[null,null,"JULY"]
[null,null,"AUGUST"]
[null,null,"SEPTEMBER"]
[null,null,"OCTOBER"]
[null,null,"NOVEMBER"]
[null,null,"DECEMBER"]
[]
[]
[null,"PRODUCT",null,"CATEGORY","QTY","QUANTITIES SOLD IN MONTH"]
[null,null,null,null,"PER","TOTAL",{"$f":"DATE(C8,MID(CELL(\"FILENAME\",$A$1),FIND(\"[\",CELL(\"FILENAME\",$A$1))+8,2),1)","v":"2014-02-01"},{"$f":"IFERROR(IF(MONTH(G27+1)<=MONTH($G$27),G27+1,\"\"),\"\")","v":"2014-02-02"},{"$f":"IFERROR(IF(MONTH(H27+1)<=MONTH($G$27),H27+1,\"\"),\"\")","v":"2014-02-03"},"2014-02-04","2014-02-05","2014-02-06","2014-02-07","2014-02-08","2014-02-09","2014-02-10","2014-02-11","2014-02-12","2014-02-13","2014-02-14","2014-02-15","2014-02-16","2014-02-17","2014-02-18","2014-02-19","2014-02-20","2014-02-21","2014-02-22","2014-02-23","2014-02-24","2014-02-25","2014-02-26","2014-02-27","2014-02-28","","",""]
[null,null,null,null,"ITEM"]
[]
[null,"AA01 K : REGULAR",null,null,1,{"$f":"SUM($G30:$AK30)","v":0},{"$f":"IFERROR($E30*SUMIF('Daily Log'!$B$18:$B$1017,$B30,'Daily Log'!$C$18:$C$1017),0)","v":0},{"$f":"IFERROR($E30*SUMIF('Daily Log'!$E$18:$E$1017,$B30,'Daily Log'!$F$18:$F$1017),0)","v":0},{"$f":"IFERROR($E30*SUMIF('Daily Log'!$H$18:$H$1017,$B30,'Daily Log'!$I$18:$I$1017),0)","v":0},{"$f":"IFERROR($E30*SUMIF('Daily Log'!$K$18:$K$1017,$B30,'Daily Log'!$L$18:$L$1017),0)","v":0},{"$f":"IFERROR($E30*SUMIF('Daily Log'!$N$18:$N$1017,$B30,'Daily Log'!$O$18:$O$1017),0)","v":0},{"$f":"IFERROR($E30*SUMIF('Daily Log'!$Q$18:$Q$1017,$B30,'Daily Log'!$R$18:$R$1017),0)","v":0},{"$f":"IFERROR($E30*SUMIF('Daily Log'!$T$18:$T$1017,$B30,'Daily Log'!$U$18:$U$1017),0)","v":0},{"$f":"IFERROR($E30*SUMIF('Daily Log'!$W$18:$W$1017,$B30,'Daily Log'!$X$18:$X$1017),0)","v":0},{"$f":"IFERROR($E30*SUMIF('Daily Log'!$Z$18:$Z$1017,$B30,'Daily Log'!$AA$18:$AA$1017),0)","v":0},{"$f":"IFERROR($E30*SUMIF('Daily Log'!$AC$18:$AC$1017,$B30,'Daily Log'!$AD$18:$AD$1017),0)","v":0},{"$f":"IFERROR($E30*SUMIF('Daily Log'!$AF$18:$AF$1017,$B30,'Daily Log'!$AG$18:$AG$1017),0)","v":0},{"$f":"IFERROR($E30*SUMIF('Daily Log'!$AI$18:$AI$1017,$B30,'Daily Log'!$AJ$18:$AJ$1017),0)","v":0},{"$f":"IFERROR($E30*SUMIF('Daily Log'!$AL$18:$AL$1017,$B30,'Daily Log'!$AM$18:$AM$1017),0)","v":0},{"$f":"IFERROR($E30*SUMIF('Daily Log'!$AO$18:$AO$1017,$B30,'Daily Log'!$AP$18:$AP$1017),0)","v":0},{"$f":"IFERROR($E30*SUMIF('Daily Log'!$AR$18:$AR$1017,$B30,'Daily Log'!$AS$18:$AS$1017),0)","v":0},{"$f":"IFERROR($E30*SUMIF('Daily Log'!$AU$18:$AU$1017,$B30,'Daily Log'!$AV$18:$AV$1017),0)","v":0},{"$f":"IFERROR($E30*SUMIF('Daily Log'!$AX$18:$AX$1017,$B30,'Daily Log'!$AY$18:$AY$1017),0)","v":0},{"$f":"IFERROR($E30*SUMIF('Daily Log'!$BA$18:$BA$1017,$B30,'Daily Log'!$BB$18:$BB$1017),0)","v":0},{"$f":"IFERROR($E30*SUMIF('Daily Log'!$BD$18:$BD$1017,$B30,'Daily Log'!$BE$18:$BE$1017),0)","v":0},{"$f":"IFERROR($E30*SUMIF('Daily Log'!$BG$18:$BG$1017,$B30,'Daily Log'!$BH$18:$BH$1017),0)","v":0},{"$f":"IFERROR($E30*SUMIF('Daily Log'!$BJ$18:$BJ$1017,$B30,'Daily Log'!$BK$18:$BK$1017),0)","v":0},{"$f":"IFERROR($E30*SUMIF('Daily Log'!$BM$18:$BM$1017,$B30,'Daily Log'!$BN$18:$BN$1017),0)","v":0},{"$f":"IFERROR($E30*SUMIF('Daily Log'!$BP$18:$BP$1017,$B30,'Daily Log'!$BQ$18:$BQ$1017),0)","v":0},{"$f":"IFERROR($E30*SUMIF('Daily Log'!$BS$18:$BS$1017,$B30,'Daily Log'!$BT$18:$BT$1017),0)","v":0},{"$f":"IFERROR($E30*SUMIF('Daily Log'!$BV$18:$BV$1017,$B30,'Daily Log'!$BW$18:$BW$1017),0)","v":0},{"$f":"IFERROR($E30*SUMIF('Daily Log'!$BY$18:$BY$1017,$B30,'Daily Log'!$BZ$18:$BZ$1017),0)","v":0},{"$f":"IFERROR($E30*SUMIF('Daily Log'!$CB$18:$CB$1017,$B30,'Daily Log'!$CC$18:$CC$1017),0)","v":0},{"$f":"IFERROR($E30*SUMIF('Daily Log'!$CE$18:$CE$1017,$B30,'Daily Log'!$CF$18:$CF$1017),0)","v":0},{"$f":"IFERROR($E30*SUMIF('Daily Log'!$CH$18:$CH$1017,$B30,'Daily Log'!$CI$18:$CI$1017),0)","v":0},{"$f":"IFERROR($E30*SUMIF('Daily Log'!$CK$18:$CK$1017,$B30,'Daily Log'!$CL$18:$CL$1017),0)","v":0},{"$f":"IFERROR($E30*SUMIF('Daily Log'!$CN$18:$CN$1017,$B30,'Daily Log'!$CO$18:$CO$1017),0)","v":0}]
[null,"AA02 K : MEMBER",null,null,1,{"$f":"SUM($G31:$AK31)","v":0},{"$f":"IFERROR($E31*SUMIF('Daily Log'!$B$18:$B$1017,$B31,'Daily Log'!$C$18:$C$1017),0)","v":0},{"$f":"IFERROR($E31*SUMIF('Daily Log'!$E$18:$E$1017,$B31,'Daily Log'!$F$18:$F$1017),0)","v":0},{"$f":"IFERROR($E31*SUMIF('Daily Log'!$H$18:$H$1017,$B31,'Daily Log'!$I$18:$I$1017),0)","v":0},{"$f":"IFERROR($E31*SUMIF('Daily Log'!$K$18:$K$1017,$B31,'Daily Log'!$L$18:$L$1017),0)","v":0},{"$f":"IFERROR($E31*SUMIF('Daily Log'!$N$18:$N$1017,$B31,'Daily Log'!$O$18:$O$1017),0)","v":0},{"$f":"IFERROR($E31*SUMIF('Daily Log'!$Q$18:$Q$1017,$B31,'Daily Log'!$R$18:$R$1017),0)","v":0},{"$f":"IFERROR($E31*SUMIF('Daily Log'!$T$18:$T$1017,$B31,'Daily Log'!$U$18:$U$1017),0)","v":0},{"$f":"IFERROR($E31*SUMIF('Daily Log'!$W$18:$W$1017,$B31,'Daily Log'!$X$18:$X$1017),0)","v":0},{"$f":"IFERROR($E31*SUMIF('Daily Log'!$Z$18:$Z$1017,$B31,'Daily Log'!$AA$18:$AA$1017),0)","v":0},{"$f":"IFERROR($E31*SUMIF('Daily Log'!$AC$18:$AC$1017,$B31,'Daily Log'!$AD$18:$AD$1017),0)","v":0},{"$f":"IFERROR($E31*SUMIF('Daily Log'!$AF$18:$AF$1017,$B31,'Daily Log'!$AG$18:$AG$1017),0)","v":0},{"$f":"IFERROR($E31*SUMIF('Daily Log'!$AI$18:$AI$1017,$B31,'Daily Log'!$AJ$18:$AJ$1017),0)","v":0},{"$f":"IFERROR($E31*SUMIF('Daily Log'!$AL$18:$AL$1017,$B31,'Daily Log'!$AM$18:$AM$1017),0)","v":0},{"$f":"IFERROR($E31*SUMIF('Daily Log'!$AO$18:$AO$1017,$B31,'Daily Log'!$AP$18:$AP$1017),0)","v":0},{"$f":"IFERROR($E31*SUMIF('Daily Log'!$AR$18:$AR$1017,$B31,'Daily Log'!$AS$18:$AS$1017),0)","v":0},{"$f":"IFERROR($E31*SUMIF('Daily Log'!$AU$18:$AU$1017,$B31,'Daily Log'!$AV$18:$AV$1017),0)","v":0},{"$f":"IFERROR($E31*SUMIF('Daily Log'!$AX$18:$AX$1017,$B31,'Daily Log'!$AY$18:$AY$1017),0)","v":0},{"$f":"IFERROR($E31*SUMIF('Daily Log'!$BA$18:$BA$1017,$B31,'Daily Log'!$BB$18:$BB$1017),0)","v":0},{"$f":"IFERROR($E31*SUMIF('Daily Log'!$BD$18:$BD$1017,$B31,'Daily Log'!$BE$18:$BE$1017),0)","v":0},{"$f":"IFERROR($E31*SUMIF('Daily Log'!$BG$18:$BG$1017,$B31,'Daily Log'!$BH$18:$BH$1017),0)","v":0},{"$f":"IFERROR($E31*SUMIF('Daily Log'!$BJ$18:$BJ$1017,$B31,'Daily Log'!$BK$18:$BK$1017),0)","v":0},{"$f":"IFERROR($E31*SUMIF('Daily Log'!$BM$18:$BM$1017,$B31,'Daily Log'!$BN$18:$BN$1017),0)","v":0},{"$f":"IFERROR($E31*SUMIF('Daily Log'!$BP$18:$BP$1017,$B31,'Daily Log'!$BQ$18:$BQ$1017),0)","v":0},{"$f":"IFERROR($E31*SUMIF('Daily Log'!$BS$18:$BS$1017,$B31,'Daily Log'!$BT$18:$BT$1017),0)","v":0},{"$f":"IFERROR($E31*SUMIF('Daily Log'!$BV$18:$BV$1017,$B31,'Daily Log'!$BW$18:$BW$1017),0)","v":0},{"$f":"IFERROR($E31*SUMIF('Daily Log'!$BY$18:$BY$1017,$B31,'Daily Log'!$BZ$18:$BZ$1017),0)","v":0},{"$f":"IFERROR($E31*SUMIF('Daily Log'!$CB$18:$CB$1017,$B31,'Daily Log'!$CC$18:$CC$1017),0)","v":0},{"$f":"IFERROR($E31*SUMIF('Daily Log'!$CE$18:$CE$1017,$B31,'Daily Log'!$CF$18:$CF$1017),0)","v":0},{"$f":"IFERROR($E31*SUMIF('Daily Log'!$CH$18:$CH$1017,$B31,'Daily Log'!$CI$18:$CI$1017),0)","v":0},{"$f":"IFERROR($E31*SUMIF('Daily Log'!$CK$18:$CK$1017,$B31,'Daily Log'!$CL$18:$CL$1017),0)","v":0},{"$f":"IFERROR($E31*SUMIF('Daily Log'!$CN$18:$CN$1017,$B31,'Daily Log'!$CO$18:$CO$1017),0)","v":0}]
[null,"AA03 K : CARI MEMBER",null,null,1,0,{"$f":"IFERROR($E32*SUMIF('Daily Log'!$B$18:$B$1017,$B32,'Daily Log'!$C$18:$C$1017),0)","v":0},{"$f":"IFERROR($E32*SUMIF('Daily Log'!$E$18:$E$1017,$B32,'Daily Log'!$F$18:$F$1017),0)","v":0},{"$f":"IFERROR($E32*SUMIF('Daily Log'!$H$18:$H$1017,$B32,'Daily Log'!$I$18:$I$1017),0)","v":0},{"$f":"IFERROR($E32*SUMIF('Daily Log'!$K$18:$K$1017,$B32,'Daily Log'!$L$18:$L$1017),0)","v":0},{"$f":"IFERROR($E32*SUMIF('Daily Log'!$N$18:$N$1017,$B32,'Daily Log'!$O$18:$O$1017),0)","v":0},{"$f":"IFERROR($E32*SUMIF('Daily Log'!$Q$18:$Q$1017,$B32,'Daily Log'!$R$18:$R$1017),0)","v":0},{"$f":"IFERROR($E32*SUMIF('Daily Log'!$T$18:$T$1017,$B32,'Daily Log'!$U$18:$U$1017),0)","v":0},{"$f":"IFERROR($E32*SUMIF('Daily Log'!$W$18:$W$1017,$B32,'Daily Log'!$X$18:$X$1017),0)","v":0},{"$f":"IFERROR($E32*SUMIF('Daily Log'!$Z$18:$Z$1017,$B32,'Daily Log'!$AA$18:$AA$1017),0)","v":0},{"$f":"IFERROR($E32*SUMIF('Daily Log'!$AC$18:$AC$1017,$B32,'Daily Log'!$AD$18:$AD$1017),0)","v":0},{"$f":"IFERROR($E32*SUMIF('Daily Log'!$AF$18:$AF$1017,$B32,'Daily Log'!$AG$18:$AG$1017),0)","v":0},{"$f":"IFERROR($E32*SUMIF('Daily Log'!$AI$18:$AI$1017,$B32,'Daily Log'!$AJ$18:$AJ$1017),0)","v":0},{"$f":"IFERROR($E32*SUMIF('Daily Log'!$AL$18:$AL$1017,$B32,'Daily Log'!$AM$18:$AM$1017),0)","v":0},{"$f":"IFERROR($E32*SUMIF('Daily Log'!$AO$18:$AO$1017,$B32,'Daily Log'!$AP$18:$AP$1017),0)","v":0},{"$f":"IFERROR($E32*SUMIF('Daily Log'!$AR$18:$AR$1017,$B32,'Daily Log'!$AS$18:$AS$1017),0)","v":0},{"$f":"IFERROR($E32*SUMIF('Daily Log'!$AU$18:$AU$1017,$B32,'Daily Log'!$AV$18:$AV$1017),0)","v":0},{"$f":"IFERROR($E32*SUMIF('Daily Log'!$AX$18:$AX$1017,$B32,'Daily Log'!$AY$18:$AY$1017),0)","v":0},{"$f":"IFERROR($E32*SUMIF('Daily Log'!$BA$18:$BA$1017,$B32,'Daily Log'!$BB$18:$BB$1017),0)","v":0},{"$f":"IFERROR($E32*SUMIF('Daily Log'!$BD$18:$BD$1017,$B32,'Daily Log'!$BE$18:$BE$1017),0)","v":0},{"$f":"IFERROR($E32*SUMIF('Daily Log'!$BG$18:$BG$1017,$B32,'Daily Log'!$BH$18:$BH$1017),0)","v":0},{"$f":"IFERROR($E32*SUMIF('Daily Log'!$BJ$18:$BJ$1017,$B32,'Daily Log'!$BK$18:$BK$1017),0)","v":0},{"$f":"IFERROR($E32*SUMIF('Daily Log'!$BM$18:$BM$1017,$B32,'Daily Log'!$BN$18:$BN$1017),0)","v":0},{"$f":"IFERROR($E32*SUMIF('Daily Log'!$BP$18:$BP$1017,$B32,'Daily Log'!$BQ$18:$BQ$1017),0)","v":0},{"$f":"IFERROR($E32*SUMIF('Daily Log'!$BS$18:$BS$1017,$B32,'Daily Log'!$BT$18:$BT$1017),0)","v":0},{"$f":"IFERROR($E32*SUMIF('Daily Log'!$BV$18:$BV$1017,$B32,'Daily Log'!$BW$18:$BW$1017),0)","v":0},{"$f":"IFERROR($E32*SUMIF('Daily Log'!$BY$18:$BY$1017,$B32,'Daily Log'!$BZ$18:$BZ$1017),0)","v":0},{"$f":"IFERROR($E32*SUMIF('Daily Log'!$CB$18:$CB$1017,$B32,'Daily Log'!$CC$18:$CC$1017),0)","v":0},{"$f":"IFERROR($E32*SUMIF('Daily Log'!$CE$18:$CE$1017,$B32,'Daily Log'!$CF$18:$CF$1017),0)","v":0},{"$f":"IFERROR($E32*SUMIF('Daily Log'!$CH$18:$CH$1017,$B32,'Daily Log'!$CI$18:$CI$1017),0)","v":0},{"$f":"IFERROR($E32*SUMIF('Daily Log'!$CK$18:$CK$1017,$B32,'Daily Log'!$CL$18:$CL$1017),0)","v":0},{"$f":"IFERROR($E32*SUMIF('Daily Log'!$CN$18:$CN$1017,$B32,'Daily Log'!$CO$18:$CO$1017),0)","v":0}]
[null,"AA04 K-LUNCH",null,null,1,0,{"$f":"IFERROR($E33*SUMIF('Daily Log'!$B$18:$B$1017,$B33,'Daily Log'!$C$18:$C$1017),0)","v":0},{"$f":"IFERROR($E33*SUMIF('Daily Log'!$E$18:$E$1017,$B33,'Daily Log'!$F$18:$F$1017),0)","v":0},{"$f":"IFERROR($E33*SUMIF('Daily Log'!$H$18:$H$1017,$B33,'Daily Log'!$I$18:$I$1017),0)","v":0},{"$f":"IFERROR($E33*SUMIF('Daily Log'!$K$18:$K$1017,$B33,'Daily Log'!$L$18:$L$1017),0)","v":0},{"$f":"IFERROR($E33*SUMIF('Daily Log'!$N$18:$N$1017,$B33,'Daily Log'!$O$18:$O$1017),0)","v":0},{"$f":"IFERROR($E33*SUMIF('Daily Log'!$Q$18:$Q$1017,$B33,'Daily Log'!$R$18:$R$1017),0)","v":0},{"$f":"IFERROR($E33*SUMIF('Daily Log'!$T$18:$T$1017,$B33,'Daily Log'!$U$18:$U$1017),0)","v":0},{"$f":"IFERROR($E33*SUMIF('Daily Log'!$W$18:$W$1017,$B33,'Daily Log'!$X$18:$X$1017),0)","v":0},{"$f":"IFERROR($E33*SUMIF('Daily Log'!$Z$18:$Z$1017,$B33,'Daily Log'!$AA$18:$AA$1017),0)","v":0},{"$f":"IFERROR($E33*SUMIF('Daily Log'!$AC$18:$AC$1017,$B33,'Daily Log'!$AD$18:$AD$1017),0)","v":0},{"$f":"IFERROR($E33*SUMIF('Daily Log'!$AF$18:$AF$1017,$B33,'Daily Log'!$AG$18:$AG$1017),0)","v":0},{"$f":"IFERROR($E33*SUMIF('Daily Log'!$AI$18:$AI$1017,$B33,'Daily Log'!$AJ$18:$AJ$1017),0)","v":0},{"$f":"IFERROR($E33*SUMIF('Daily Log'!$AL$18:$AL$1017,$B33,'Daily Log'!$AM$18:$AM$1017),0)","v":0},{"$f":"IFERROR($E33*SUMIF('Daily Log'!$AO$18:$AO$1017,$B33,'Daily Log'!$AP$18:$AP$1017),0)","v":0},{"$f":"IFERROR($E33*SUMIF('Daily Log'!$AR$18:$AR$1017,$B33,'Daily Log'!$AS$18:$AS$1017),0)","v":0},{"$f":"IFERROR($E33*SUMIF('Daily Log'!$AU$18:$AU$1017,$B33,'Daily Log'!$AV$18:$AV$1017),0)","v":0},{"$f":"IFERROR($E33*SUMIF('Daily Log'!$AX$18:$AX$1017,$B33,'Daily Log'!$AY$18:$AY$1017),0)","v":0},{"$f":"IFERROR($E33*SUMIF('Daily Log'!$BA$18:$BA$1017,$B33,'Daily Log'!$BB$18:$BB$1017),0)","v":0},{"$f":"IFERROR($E33*SUMIF('Daily Log'!$BD$18:$BD$1017,$B33,'Daily Log'!$BE$18:$BE$1017),0)","v":0},{"$f":"IFERROR($E33*SUMIF('Daily Log'!$BG$18:$BG$1017,$B33,'Daily Log'!$BH$18:$BH$1017),0)","v":0},{"$f":"IFERROR($E33*SUMIF('Daily Log'!$BJ$18:$BJ$1017,$B33,'Daily Log'!$BK$18:$BK$1017),0)","v":0},{"$f":"IFERROR($E33*SUMIF('Daily Log'!$BM$18:$BM$1017,$B33,'Daily Log'!$BN$18:$BN$1017),0)","v":0},{"$f":"IFERROR($E33*SUMIF('Daily Log'!$BP$18:$BP$1017,$B33,'Daily Log'!$BQ$18:$BQ$1017),0)","v":0},{"$f":"IFERROR($E33*SUMIF('Daily Log'!$BS$18:$BS$1017,$B33,'Daily Log'!$BT$18:$BT$1017),0)","v":0},{"$f":"IFERROR($E33*SUMIF('Daily Log'!$BV$18:$BV$1017,$B33,'Daily Log'!$BW$18:$BW$1017),0)","v":0},{"$f":"IFERROR($E33*SUMIF('Daily Log'!$BY$18:$BY$1017,$B33,'Daily Log'!$BZ$18:$BZ$1017),0)","v":0},{"$f":"IFERROR($E33*SUMIF('Daily Log'!$CB$18:$CB$1017,$B33,'Daily Log'!$CC$18:$CC$1017),0)","v":0},{"$f":"IFERROR($E33*SUMIF('Daily Log'!$CE$18:$CE$1017,$B33,'Daily Log'!$CF$18:$CF$1017),0)","v":0},{"$f":"IFERROR($E33*SUMIF('Daily Log'!$CH$18:$CH$1017,$B33,'Daily Log'!$CI$18:$CI$1017),0)","v":0},{"$f":"IFERROR($E33*SUMIF('Daily Log'!$CK$18:$CK$1017,$B33,'Daily Log'!$CL$18:$CL$1017),0)","v":0},{"$f":"IFERROR($E33*SUMIF('Daily Log'!$CN$18:$CN$1017,$B33,'Daily Log'!$CO$18:$CO$1017),0)","v":0}]
[null,"AA05 K : CHILDREN",null,null,1,0,{"$f":"IFERROR($E34*SUMIF('Daily Log'!$B$18:$B$1017,$B34,'Daily Log'!$C$18:$C$1017),0)","v":0},{"$f":"IFERROR($E34*SUMIF('Daily Log'!$E$18:$E$1017,$B34,'Daily Log'!$F$18:$F$1017),0)","v":0},{"$f":"IFERROR($E34*SUMIF('Daily Log'!$H$18:$H$1017,$B34,'Daily Log'!$I$18:$I$1017),0)","v":0},{"$f":"IFERROR($E34*SUMIF('Daily Log'!$K$18:$K$1017,$B34,'Daily Log'!$L$18:$L$1017),0)","v":0},{"$f":"IFERROR($E34*SUMIF('Daily Log'!$N$18:$N$1017,$B34,'Daily Log'!$O$18:$O$1017),0)","v":0},{"$f":"IFERROR($E34*SUMIF('Daily Log'!$Q$18:$Q$1017,$B34,'Daily Log'!$R$18:$R$1017),0)","v":0},{"$f":"IFERROR($E34*SUMIF('Daily Log'!$T$18:$T$1017,$B34,'Daily Log'!$U$18:$U$1017),0)","v":0},{"$f":"IFERROR($E34*SUMIF('Daily Log'!$W$18:$W$1017,$B34,'Daily Log'!$X$18:$X$1017),0)","v":0},{"$f":"IFERROR($E34*SUMIF('Daily Log'!$Z$18:$Z$1017,$B34,'Daily Log'!$AA$18:$AA$1017),0)","v":0},{"$f":"IFERROR($E34*SUMIF('Daily Log'!$AC$18:$AC$1017,$B34,'Daily Log'!$AD$18:$AD$1017),0)","v":0},{"$f":"IFERROR($E34*SUMIF('Daily Log'!$AF$18:$AF$1017,$B34,'Daily Log'!$AG$18:$AG$1017),0)","v":0},{"$f":"IFERROR($E34*SUMIF('Daily Log'!$AI$18:$AI$1017,$B34,'Daily Log'!$AJ$18:$AJ$1017),0)","v":0},{"$f":"IFERROR($E34*SUMIF('Daily Log'!$AL$18:$AL$1017,$B34,'Daily Log'!$AM$18:$AM$1017),0)","v":0},{"$f":"IFERROR($E34*SUMIF('Daily Log'!$AO$18:$AO$1017,$B34,'Daily Log'!$AP$18:$AP$1017),0)","v":0},{"$f":"IFERROR($E34*SUMIF('Daily Log'!$AR$18:$AR$1017,$B34,'Daily Log'!$AS$18:$AS$1017),0)","v":0},{"$f":"IFERROR($E34*SUMIF('Daily Log'!$AU$18:$AU$1017,$B34,'Daily Log'!$AV$18:$AV$1017),0)","v":0},{"$f":"IFERROR($E34*SUMIF('Daily Log'!$AX$18:$AX$1017,$B34,'Daily Log'!$AY$18:$AY$1017),0)","v":0},{"$f":"IFERROR($E34*SUMIF('Daily Log'!$BA$18:$BA$1017,$B34,'Daily Log'!$BB$18:$BB$1017),0)","v":0},{"$f":"IFERROR($E34*SUMIF('Daily Log'!$BD$18:$BD$1017,$B34,'Daily Log'!$BE$18:$BE$1017),0)","v":0},{"$f":"IFERROR($E34*SUMIF('Daily Log'!$BG$18:$BG$1017,$B34,'Daily Log'!$BH$18:$BH$1017),0)","v":0},{"$f":"IFERROR($E34*SUMIF('Daily Log'!$BJ$18:$BJ$1017,$B34,'Daily Log'!$BK$18:$BK$1017),0)","v":0},{"$f":"IFERROR($E34*SUMIF('Daily Log'!$BM$18:$BM$1017,$B34,'Daily Log'!$BN$18:$BN$1017),0)","v":0},{"$f":"IFERROR($E34*SUMIF('Daily Log'!$BP$18:$BP$1017,$B34,'Daily Log'!$BQ$18:$BQ$1017),0)","v":0},{"$f":"IFERROR($E34*SUMIF('Daily Log'!$BS$18:$BS$1017,$B34,'Daily Log'!$BT$18:$BT$1017),0)","v":0},{"$f":"IFERROR($E34*SUMIF('Daily Log'!$BV$18:$BV$1017,$B34,'Daily Log'!$BW$18:$BW$1017),0)","v":0},{"$f":"IFERROR($E34*SUMIF('Daily Log'!$BY$18:$BY$1017,$B34,'Daily Log'!$BZ$18:$BZ$1017),0)","v":0},{"$f":"IFERROR($E34*SUMIF('Daily Log'!$CB$18:$CB$1017,$B34,'Daily Log'!$CC$18:$CC$1017),0)","v":0},{"$f":"IFERROR($E34*SUMIF('Daily Log'!$CE$18:$CE$1017,$B34,'Daily Log'!$CF$18:$CF$1017),0)","v":0},{"$f":"IFERROR($E34*SUMIF('Daily Log'!$CH$18:$CH$1017,$B34,'Daily Log'!$CI$18:$CI$1017),0)","v":0},{"$f":"IFERROR($E34*SUMIF('Daily Log'!$CK$18:$CK$1017,$B34,'Daily Log'!$CL$18:$CL$1017),0)","v":0},{"$f":"IFERROR($E34*SUMIF('Daily Log'!$CN$18:$CN$1017,$B34,'Daily Log'!$CO$18:$CO$1017),0)","v":0}]
[null,"AA06 K : MEMBER B'DAY",null,null,1,0,{"$f":"IFERROR($E35*SUMIF('Daily Log'!$B$18:$B$1017,$B35,'Daily Log'!$C$18:$C$1017),0)","v":0},{"$f":"IFERROR($E35*SUMIF('Daily Log'!$E$18:$E$1017,$B35,'Daily Log'!$F$18:$F$1017),0)","v":0},{"$f":"IFERROR($E35*SUMIF('Daily Log'!$H$18:$H$1017,$B35,'Daily Log'!$I$18:$I$1017),0)","v":0},{"$f":"IFERROR($E35*SUMIF('Daily Log'!$K$18:$K$1017,$B35,'Daily Log'!$L$18:$L$1017),0)","v":0},{"$f":"IFERROR($E35*SUMIF('Daily Log'!$N$18:$N$1017,$B35,'Daily Log'!$O$18:$O$1017),0)","v":0},{"$f":"IFERROR($E35*SUMIF('Daily Log'!$Q$18:$Q$1017,$B35,'Daily Log'!$R$18:$R$1017),0)","v":0},{"$f":"IFERROR($E35*SUMIF('Daily Log'!$T$18:$T$1017,$B35,'Daily Log'!$U$18:$U$1017),0)","v":0},{"$f":"IFERROR($E35*SUMIF('Daily Log'!$W$18:$W$1017,$B35,'Daily Log'!$X$18:$X$1017),0)","v":0},{"$f":"IFERROR($E35*SUMIF('Daily Log'!$Z$18:$Z$1017,$B35,'Daily Log'!$AA$18:$AA$1017),0)","v":0},{"$f":"IFERROR($E35*SUMIF('Daily Log'!$AC$18:$AC$1017,$B35,'Daily Log'!$AD$18:$AD$1017),0)","v":0},{"$f":"IFERROR($E35*SUMIF('Daily Log'!$AF$18:$AF$1017,$B35,'Daily Log'!$AG$18:$AG$1017),0)","v":0},{"$f":"IFERROR($E35*SUMIF('Daily Log'!$AI$18:$AI$1017,$B35,'Daily Log'!$AJ$18:$AJ$1017),0)","v":0},{"$f":"IFERROR($E35*SUMIF('Daily Log'!$AL$18:$AL$1017,$B35,'Daily Log'!$AM$18:$AM$1017),0)","v":0},{"$f":"IFERROR($E35*SUMIF('Daily Log'!$AO$18:$AO$1017,$B35,'Daily Log'!$AP$18:$AP$1017),0)","v":0},{"$f":"IFERROR($E35*SUMIF('Daily Log'!$AR$18:$AR$1017,$B35,'Daily Log'!$AS$18:$AS$1017),0)","v":0},{"$f":"IFERROR($E35*SUMIF('Daily Log'!$AU$18:$AU$1017,$B35,'Daily Log'!$AV$18:$AV$1017),0)","v":0},{"$f":"IFERROR($E35*SUMIF('Daily Log'!$AX$18:$AX$1017,$B35,'Daily Log'!$AY$18:$AY$1017),0)","v":0},{"$f":"IFERROR($E35*SUMIF('Daily Log'!$BA$18:$BA$1017,$B35,'Daily Log'!$BB$18:$BB$1017),0)","v":0},{"$f":"IFERROR($E35*SUMIF('Daily Log'!$BD$18:$BD$1017,$B35,'Daily Log'!$BE$18:$BE$1017),0)","v":0},{"$f":"IFERROR($E35*SUMIF('Daily Log'!$BG$18:$BG$1017,$B35,'Daily Log'!$BH$18:$BH$1017),0)","v":0},{"$f":"IFERROR($E35*SUMIF('Daily Log'!$BJ$18:$BJ$1017,$B35,'Daily Log'!$BK$18:$BK$1017),0)","v":0},{"$f":"IFERROR($E35*SUMIF('Daily Log'!$BM$18:$BM$1017,$B35,'Daily Log'!$BN$18:$BN$1017),0)","v":0},{"$f":"IFERROR($E35*SUMIF('Daily Log'!$BP$18:$BP$1017,$B35,'Daily Log'!$BQ$18:$BQ$1017),0)","v":0},{"$f":"IFERROR($E35*SUMIF('Daily Log'!$BS$18:$BS$1017,$B35,'Daily Log'!$BT$18:$BT$1017),0)","v":0},{"$f":"IFERROR($E35*SUMIF('Daily Log'!$BV$18:$BV$1017,$B35,'Daily Log'!$BW$18:$BW$1017),0)","v":0},{"$f":"IFERROR($E35*SUMIF('Daily Log'!$BY$18:$BY$1017,$B35,'Daily Log'!$BZ$18:$BZ$1017),0)","v":0},{"$f":"IFERROR($E35*SUMIF('Daily Log'!$CB$18:$CB$1017,$B35,'Daily Log'!$CC$18:$CC$1017),0)","v":0},{"$f":"IFERROR($E35*SUMIF('Daily Log'!$CE$18:$CE$1017,$B35,'Daily Log'!$CF$18:$CF$1017),0)","v":0},{"$f":"IFERROR($E35*SUMIF('Daily Log'!$CH$18:$CH$1017,$B35,'Daily Log'!$CI$18:$CI$1017),0)","v":0},{"$f":"IFERROR($E35*SUMIF('Daily Log'!$CK$18:$CK$1017,$B35,'Daily Log'!$CL$18:$CL$1017),0)","v":0},{"$f":"IFERROR($E35*SUMIF('Daily Log'!$CN$18:$CN$1017,$B35,'Daily Log'!$CO$18:$CO$1017),0)","v":0}]
[null,"AA07 K : STAFF B'DAY",null,null,1,0,{"$f":"IFERROR($E36*SUMIF('Daily Log'!$B$18:$B$1017,$B36,'Daily Log'!$C$18:$C$1017),0)","v":0},{"$f":"IFERROR($E36*SUMIF('Daily Log'!$E$18:$E$1017,$B36,'Daily Log'!$F$18:$F$1017),0)","v":0},{"$f":"IFERROR($E36*SUMIF('Daily Log'!$H$18:$H$1017,$B36,'Daily Log'!$I$18:$I$1017),0)","v":0},{"$f":"IFERROR($E36*SUMIF('Daily Log'!$K$18:$K$1017,$B36,'Daily Log'!$L$18:$L$1017),0)","v":0},{"$f":"IFERROR($E36*SUMIF('Daily Log'!$N$18:$N$1017,$B36,'Daily Log'!$O$18:$O$1017),0)","v":0},{"$f":"IFERROR($E36*SUMIF('Daily Log'!$Q$18:$Q$1017,$B36,'Daily Log'!$R$18:$R$1017),0)","v":0},{"$f":"IFERROR($E36*SUMIF('Daily Log'!$T$18:$T$1017,$B36,'Daily Log'!$U$18:$U$1017),0)","v":0},{"$f":"IFERROR($E36*SUMIF('Daily Log'!$W$18:$W$1017,$B36,'Daily Log'!$X$18:$X$1017),0)","v":0},{"$f":"IFERROR($E36*SUMIF('Daily Log'!$Z$18:$Z$1017,$B36,'Daily Log'!$AA$18:$AA$1017),0)","v":0},{"$f":"IFERROR($E36*SUMIF('Daily Log'!$AC$18:$AC$1017,$B36,'Daily Log'!$AD$18:$AD$1017),0)","v":0},{"$f":"IFERROR($E36*SUMIF('Daily Log'!$AF$18:$AF$1017,$B36,'Daily Log'!$AG$18:$AG$1017),0)","v":0},{"$f":"IFERROR($E36*SUMIF('Daily Log'!$AI$18:$AI$1017,$B36,'Daily Log'!$AJ$18:$AJ$1017),0)","v":0},{"$f":"IFERROR($E36*SUMIF('Daily Log'!$AL$18:$AL$1017,$B36,'Daily Log'!$AM$18:$AM$1017),0)","v":0},{"$f":"IFERROR($E36*SUMIF('Daily Log'!$AO$18:$AO$1017,$B36,'Daily Log'!$AP$18:$AP$1017),0)","v":0},{"$f":"IFERROR($E36*SUMIF('Daily Log'!$AR$18:$AR$1017,$B36,'Daily Log'!$AS$18:$AS$1017),0)","v":0},{"$f":"IFERROR($E36*SUMIF('Daily Log'!$AU$18:$AU$1017,$B36,'Daily Log'!$AV$18:$AV$1017),0)","v":0},{"$f":"IFERROR($E36*SUMIF('Daily Log'!$AX$18:$AX$1017,$B36,'Daily Log'!$AY$18:$AY$1017),0)","v":0},{"$f":"IFERROR($E36*SUMIF('Daily Log'!$BA$18:$BA$1017,$B36,'Daily Log'!$BB$18:$BB$1017),0)","v":0},{"$f":"IFERROR($E36*SUMIF('Daily Log'!$BD$18:$BD$1017,$B36,'Daily Log'!$BE$18:$BE$1017),0)","v":0},{"$f":"IFERROR($E36*SUMIF('Daily Log'!$BG$18:$BG$1017,$B36,'Daily Log'!$BH$18:$BH$1017),0)","v":0},{"$f":"IFERROR($E36*SUMIF('Daily Log'!$BJ$18:$BJ$1017,$B36,'Daily Log'!$BK$18:$BK$1017),0)","v":0},{"$f":"IFERROR($E36*SUMIF('Daily Log'!$BM$18:$BM$1017,$B36,'Daily Log'!$BN$18:$BN$1017),0)","v":0},{"$f":"IFERROR($E36*SUMIF('Daily Log'!$BP$18:$BP$1017,$B36,'Daily Log'!$BQ$18:$BQ$1017),0)","v":0},{"$f":"IFERROR($E36*SUMIF('Daily Log'!$BS$18:$BS$1017,$B36,'Daily Log'!$BT$18:$BT$1017),0)","v":0},{"$f":"IFERROR($E36*SUMIF('Daily Log'!$BV$18:$BV$1017,$B36,'Daily Log'!$BW$18:$BW$1017),0)","v":0},{"$f":"IFERROR($E36*SUMIF('Daily Log'!$BY$18:$BY$1017,$B36,'Daily Log'!$BZ$18:$BZ$1017),0)","v":0},{"$f":"IFERROR($E36*SUMIF('Daily Log'!$CB$18:$CB$1017,$B36,'Daily Log'!$CC$18:$CC$1017),0)","v":0},{"$f":"IFERROR($E36*SUMIF('Daily Log'!$CE$18:$CE$1017,$B36,'Daily Log'!$CF$18:$CF$1017),0)","v":0},{"$f":"IFERROR($E36*SUMIF('Daily Log'!$CH$18:$CH$1017,$B36,'Daily Log'!$CI$18:$CI$1017),0)","v":0},{"$f":"IFERROR($E36*SUMIF('Daily Log'!$CK$18:$CK$1017,$B36,'Daily Log'!$CL$18:$CL$1017),0)","v":0},{"$f":"IFERROR($E36*SUMIF('Daily Log'!$CN$18:$CN$1017,$B36,'Daily Log'!$CO$18:$CO$1017),0)","v":0}]
[null,"AA08 K : FOC HEAD",null,null,1,0,{"$f":"IFERROR($E37*SUMIF('Daily Log'!$B$18:$B$1017,$B37,'Daily Log'!$C$18:$C$1017),0)","v":0},{"$f":"IFERROR($E37*SUMIF('Daily Log'!$E$18:$E$1017,$B37,'Daily Log'!$F$18:$F$1017),0)","v":0},{"$f":"IFERROR($E37*SUMIF('Daily Log'!$H$18:$H$1017,$B37,'Daily Log'!$I$18:$I$1017),0)","v":0},{"$f":"IFERROR($E37*SUMIF('Daily Log'!$K$18:$K$1017,$B37,'Daily Log'!$L$18:$L$1017),0)","v":0},{"$f":"IFERROR($E37*SUMIF('Daily Log'!$N$18:$N$1017,$B37,'Daily Log'!$O$18:$O$1017),0)","v":0},{"$f":"IFERROR($E37*SUMIF('Daily Log'!$Q$18:$Q$1017,$B37,'Daily Log'!$R$18:$R$1017),0)","v":0},{"$f":"IFERROR($E37*SUMIF('Daily Log'!$T$18:$T$1017,$B37,'Daily Log'!$U$18:$U$1017),0)","v":0},{"$f":"IFERROR($E37*SUMIF('Daily Log'!$W$18:$W$1017,$B37,'Daily Log'!$X$18:$X$1017),0)","v":0},{"$f":"IFERROR($E37*SUMIF('Daily Log'!$Z$18:$Z$1017,$B37,'Daily Log'!$AA$18:$AA$1017),0)","v":0},{"$f":"IFERROR($E37*SUMIF('Daily Log'!$AC$18:$AC$1017,$B37,'Daily Log'!$AD$18:$AD$1017),0)","v":0},{"$f":"IFERROR($E37*SUMIF('Daily Log'!$AF$18:$AF$1017,$B37,'Daily Log'!$AG$18:$AG$1017),0)","v":0},{"$f":"IFERROR($E37*SUMIF('Daily Log'!$AI$18:$AI$1017,$B37,'Daily Log'!$AJ$18:$AJ$1017),0)","v":0},{"$f":"IFERROR($E37*SUMIF('Daily Log'!$AL$18:$AL$1017,$B37,'Daily Log'!$AM$18:$AM$1017),0)","v":0},{"$f":"IFERROR($E37*SUMIF('Daily Log'!$AO$18:$AO$1017,$B37,'Daily Log'!$AP$18:$AP$1017),0)","v":0},{"$f":"IFERROR($E37*SUMIF('Daily Log'!$AR$18:$AR$1017,$B37,'Daily Log'!$AS$18:$AS$1017),0)","v":0},{"$f":"IFERROR($E37*SUMIF('Daily Log'!$AU$18:$AU$1017,$B37,'Daily Log'!$AV$18:$AV$1017),0)","v":0},{"$f":"IFERROR($E37*SUMIF('Daily Log'!$AX$18:$AX$1017,$B37,'Daily Log'!$AY$18:$AY$1017),0)","v":0},{"$f":"IFERROR($E37*SUMIF('Daily Log'!$BA$18:$BA$1017,$B37,'Daily Log'!$BB$18:$BB$1017),0)","v":0},{"$f":"IFERROR($E37*SUMIF('Daily Log'!$BD$18:$BD$1017,$B37,'Daily Log'!$BE$18:$BE$1017),0)","v":0},{"$f":"IFERROR($E37*SUMIF('Daily Log'!$BG$18:$BG$1017,$B37,'Daily Log'!$BH$18:$BH$1017),0)","v":0},{"$f":"IFERROR($E37*SUMIF('Daily Log'!$BJ$18:$BJ$1017,$B37,'Daily Log'!$BK$18:$BK$1017),0)","v":0},{"$f":"IFERROR($E37*SUMIF('Daily Log'!$BM$18:$BM$1017,$B37,'Daily Log'!$BN$18:$BN$1017),0)","v":0},{"$f":"IFERROR($E37*SUMIF('Daily Log'!$BP$18:$BP$1017,$B37,'Daily Log'!$BQ$18:$BQ$1017),0)","v":0},{"$f":"IFERROR($E37*SUMIF('Daily Log'!$BS$18:$BS$1017,$B37,'Daily Log'!$BT$18:$BT$1017),0)","v":0},{"$f":"IFERROR($E37*SUMIF('Daily Log'!$BV$18:$BV$1017,$B37,'Daily Log'!$BW$18:$BW$1017),0)","v":0},{"$f":"IFERROR($E37*SUMIF('Daily Log'!$BY$18:$BY$1017,$B37,'Daily Log'!$BZ$18:$BZ$1017),0)","v":0},{"$f":"IFERROR($E37*SUMIF('Daily Log'!$CB$18:$CB$1017,$B37,'Daily Log'!$CC$18:$CC$1017),0)","v":0},{"$f":"IFERROR($E37*SUMIF('Daily Log'!$CE$18:$CE$1017,$B37,'Daily Log'!$CF$18:$CF$1017),0)","v":0},{"$f":"IFERROR($E37*SUMIF('Daily Log'!$CH$18:$CH$1017,$B37,'Daily Log'!$CI$18:$CI$1017),0)","v":0},{"$f":"IFERROR($E37*SUMIF('Daily Log'!$CK$18:$CK$1017,$B37,'Daily Log'!$CL$18:$CL$1017),0)","v":0},{"$f":"IFERROR($E37*SUMIF('Daily Log'!$CN$18:$CN$1017,$B37,'Daily Log'!$CO$18:$CO$1017),0)","v":0}]
[null,"AA09 K : FREEHEAD (B)",null,null,1,0,{"$f":"IFERROR($E38*SUMIF('Daily Log'!$B$18:$B$1017,$B38,'Daily Log'!$C$18:$C$1017),0)","v":0},{"$f":"IFERROR($E38*SUMIF('Daily Log'!$E$18:$E$1017,$B38,'Daily Log'!$F$18:$F$1017),0)","v":0},{"$f":"IFERROR($E38*SUMIF('Daily Log'!$H$18:$H$1017,$B38,'Daily Log'!$I$18:$I$1017),0)","v":0},{"$f":"IFERROR($E38*SUMIF('Daily Log'!$K$18:$K$1017,$B38,'Daily Log'!$L$18:$L$1017),0)","v":0},{"$f":"IFERROR($E38*SUMIF('Daily Log'!$N$18:$N$1017,$B38,'Daily Log'!$O$18:$O$1017),0)","v":0},{"$f":"IFERROR($E38*SUMIF('Daily Log'!$Q$18:$Q$1017,$B38,'Daily Log'!$R$18:$R$1017),0)","v":0},{"$f":"IFERROR($E38*SUMIF('Daily Log'!$T$18:$T$1017,$B38,'Daily Log'!$U$18:$U$1017),0)","v":0},{"$f":"IFERROR($E38*SUMIF('Daily Log'!$W$18:$W$1017,$B38,'Daily Log'!$X$18:$X$1017),0)","v":0},{"$f":"IFERROR($E38*SUMIF('Daily Log'!$Z$18:$Z$1017,$B38,'Daily Log'!$AA$18:$AA$1017),0)","v":0},{"$f":"IFERROR($E38*SUMIF('Daily Log'!$AC$18:$AC$1017,$B38,'Daily Log'!$AD$18:$AD$1017),0)","v":0},{"$f":"IFERROR($E38*SUMIF('Daily Log'!$AF$18:$AF$1017,$B38,'Daily Log'!$AG$18:$AG$1017),0)","v":0},{"$f":"IFERROR($E38*SUMIF('Daily Log'!$AI$18:$AI$1017,$B38,'Daily Log'!$AJ$18:$AJ$1017),0)","v":0},{"$f":"IFERROR($E38*SUMIF('Daily Log'!$AL$18:$AL$1017,$B38,'Daily Log'!$AM$18:$AM$1017),0)","v":0},{"$f":"IFERROR($E38*SUMIF('Daily Log'!$AO$18:$AO$1017,$B38,'Daily Log'!$AP$18:$AP$1017),0)","v":0},{"$f":"IFERROR($E38*SUMIF('Daily Log'!$AR$18:$AR$1017,$B38,'Daily Log'!$AS$18:$AS$1017),0)","v":0},{"$f":"IFERROR($E38*SUMIF('Daily Log'!$AU$18:$AU$1017,$B38,'Daily Log'!$AV$18:$AV$1017),0)","v":0},{"$f":"IFERROR($E38*SUMIF('Daily Log'!$AX$18:$AX$1017,$B38,'Daily Log'!$AY$18:$AY$1017),0)","v":0},{"$f":"IFERROR($E38*SUMIF('Daily Log'!$BA$18:$BA$1017,$B38,'Daily Log'!$BB$18:$BB$1017),0)","v":0},{"$f":"IFERROR($E38*SUMIF('Daily Log'!$BD$18:$BD$1017,$B38,'Daily Log'!$BE$18:$BE$1017),0)","v":0},{"$f":"IFERROR($E38*SUMIF('Daily Log'!$BG$18:$BG$1017,$B38,'Daily Log'!$BH$18:$BH$1017),0)","v":0},{"$f":"IFERROR($E38*SUMIF('Daily Log'!$BJ$18:$BJ$1017,$B38,'Daily Log'!$BK$18:$BK$1017),0)","v":0},{"$f":"IFERROR($E38*SUMIF('Daily Log'!$BM$18:$BM$1017,$B38,'Daily Log'!$BN$18:$BN$1017),0)","v":0},{"$f":"IFERROR($E38*SUMIF('Daily Log'!$BP$18:$BP$1017,$B38,'Daily Log'!$BQ$18:$BQ$1017),0)","v":0},{"$f":"IFERROR($E38*SUMIF('Daily Log'!$BS$18:$BS$1017,$B38,'Daily Log'!$BT$18:$BT$1017),0)","v":0},{"$f":"IFERROR($E38*SUMIF('Daily Log'!$BV$18:$BV$1017,$B38,'Daily Log'!$BW$18:$BW$1017),0)","v":0},{"$f":"IFERROR($E38*SUMIF('Daily Log'!$BY$18:$BY$1017,$B38,'Daily Log'!$BZ$18:$BZ$1017),0)","v":0},{"$f":"IFERROR($E38*SUMIF('Daily Log'!$CB$18:$CB$1017,$B38,'Daily Log'!$CC$18:$CC$1017),0)","v":0},{"$f":"IFERROR($E38*SUMIF('Daily Log'!$CE$18:$CE$1017,$B38,'Daily Log'!$CF$18:$CF$1017),0)","v":0},{"$f":"IFERROR($E38*SUMIF('Daily Log'!$CH$18:$CH$1017,$B38,'Daily Log'!$CI$18:$CI$1017),0)","v":0},{"$f":"IFERROR($E38*SUMIF('Daily Log'!$CK$18:$CK$1017,$B38,'Daily Log'!$CL$18:$CL$1017),0)","v":0},{"$f":"IFERROR($E38*SUMIF('Daily Log'!$CN$18:$CN$1017,$B38,'Daily Log'!$CO$18:$CO$1017),0)","v":0}]
[null,"AA10 Father",null,null,1,0,{"$f":"IFERROR($E39*SUMIF('Daily Log'!$B$18:$B$1017,$B39,'Daily Log'!$C$18:$C$1017),0)","v":0},{"$f":"IFERROR($E39*SUMIF('Daily Log'!$E$18:$E$1017,$B39,'Daily Log'!$F$18:$F$1017),0)","v":0},{"$f":"IFERROR($E39*SUMIF('Daily Log'!$H$18:$H$1017,$B39,'Daily Log'!$I$18:$I$1017),0)","v":0},{"$f":"IFERROR($E39*SUMIF('Daily Log'!$K$18:$K$1017,$B39,'Daily Log'!$L$18:$L$1017),0)","v":0},{"$f":"IFERROR($E39*SUMIF('Daily Log'!$N$18:$N$1017,$B39,'Daily Log'!$O$18:$O$1017),0)","v":0},{"$f":"IFERROR($E39*SUMIF('Daily Log'!$Q$18:$Q$1017,$B39,'Daily Log'!$R$18:$R$1017),0)","v":0},{"$f":"IFERROR($E39*SUMIF('Daily Log'!$T$18:$T$1017,$B39,'Daily Log'!$U$18:$U$1017),0)","v":0},{"$f":"IFERROR($E39*SUMIF('Daily Log'!$W$18:$W$1017,$B39,'Daily Log'!$X$18:$X$1017),0)","v":0},{"$f":"IFERROR($E39*SUMIF('Daily Log'!$Z$18:$Z$1017,$B39,'Daily Log'!$AA$18:$AA$1017),0)","v":0},{"$f":"IFERROR($E39*SUMIF('Daily Log'!$AC$18:$AC$1017,$B39,'Daily Log'!$AD$18:$AD$1017),0)","v":0},{"$f":"IFERROR($E39*SUMIF('Daily Log'!$AF$18:$AF$1017,$B39,'Daily Log'!$AG$18:$AG$1017),0)","v":0},{"$f":"IFERROR($E39*SUMIF('Daily Log'!$AI$18:$AI$1017,$B39,'Daily Log'!$AJ$18:$AJ$1017),0)","v":0},{"$f":"IFERROR($E39*SUMIF('Daily Log'!$AL$18:$AL$1017,$B39,'Daily Log'!$AM$18:$AM$1017),0)","v":0},{"$f":"IFERROR($E39*SUMIF('Daily Log'!$AO$18:$AO$1017,$B39,'Daily Log'!$AP$18:$AP$1017),0)","v":0},{"$f":"IFERROR($E39*SUMIF('Daily Log'!$AR$18:$AR$1017,$B39,'Daily Log'!$AS$18:$AS$1017),0)","v":0},{"$f":"IFERROR($E39*SUMIF('Daily Log'!$AU$18:$AU$1017,$B39,'Daily Log'!$AV$18:$AV$1017),0)","v":0},{"$f":"IFERROR($E39*SUMIF('Daily Log'!$AX$18:$AX$1017,$B39,'Daily Log'!$AY$18:$AY$1017),0)","v":0},{"$f":"IFERROR($E39*SUMIF('Daily Log'!$BA$18:$BA$1017,$B39,'Daily Log'!$BB$18:$BB$1017),0)","v":0},{"$f":"IFERROR($E39*SUMIF('Daily Log'!$BD$18:$BD$1017,$B39,'Daily Log'!$BE$18:$BE$1017),0)","v":0},{"$f":"IFERROR($E39*SUMIF('Daily Log'!$BG$18:$BG$1017,$B39,'Daily Log'!$BH$18:$BH$1017),0)","v":0},{"$f":"IFERROR($E39*SUMIF('Daily Log'!$BJ$18:$BJ$1017,$B39,'Daily Log'!$BK$18:$BK$1017),0)","v":0},{"$f":"IFERROR($E39*SUMIF('Daily Log'!$BM$18:$BM$1017,$B39,'Daily Log'!$BN$18:$BN$1017),0)","v":0},{"$f":"IFERROR($E39*SUMIF('Daily Log'!$BP$18:$BP$1017,$B39,'Daily Log'!$BQ$18:$BQ$1017),0)","v":0},{"$f":"IFERROR($E39*SUMIF('Daily Log'!$BS$18:$BS$1017,$B39,'Daily Log'!$BT$18:$BT$1017),0)","v":0},{"$f":"IFERROR($E39*SUMIF('Daily Log'!$BV$18:$BV$1017,$B39,'Daily Log'!$BW$18:$BW$1017),0)","v":0},{"$f":"IFERROR($E39*SUMIF('Daily Log'!$BY$18:$BY$1017,$B39,'Daily Log'!$BZ$18:$BZ$1017),0)","v":0},{"$f":"IFERROR($E39*SUMIF('Daily Log'!$CB$18:$CB$1017,$B39,'Daily Log'!$CC$18:$CC$1017),0)","v":0},{"$f":"IFERROR($E39*SUMIF('Daily Log'!$CE$18:$CE$1017,$B39,'Daily Log'!$CF$18:$CF$1017),0)","v":0},{"$f":"IFERROR($E39*SUMIF('Daily Log'!$CH$18:$CH$1017,$B39,'Daily Log'!$CI$18:$CI$1017),0)","v":0},{"$f":"IFERROR($E39*SUMIF('Daily Log'!$CK$18:$CK$1017,$B39,'Daily Log'!$CL$18:$CL$1017),0)","v":0},{"$f":"IFERROR($E39*SUMIF('Daily Log'!$CN$18:$CN$1017,$B39,'Daily Log'!$CO$18:$CO$1017),0)","v":0}]
[null,"AA11 K : FREEHEAD (R)",null,null,1,0,{"$f":"IFERROR($E40*SUMIF('Daily Log'!$B$18:$B$1017,$B40,'Daily Log'!$C$18:$C$1017),0)","v":0},{"$f":"IFERROR($E40*SUMIF('Daily Log'!$E$18:$E$1017,$B40,'Daily Log'!$F$18:$F$1017),0)","v":0},{"$f":"IFERROR($E40*SUMIF('Daily Log'!$H$18:$H$1017,$B40,'Daily Log'!$I$18:$I$1017),0)","v":0},{"$f":"IFERROR($E40*SUMIF('Daily Log'!$K$18:$K$1017,$B40,'Daily Log'!$L$18:$L$1017),0)","v":0},{"$f":"IFERROR($E40*SUMIF('Daily Log'!$N$18:$N$1017,$B40,'Daily Log'!$O$18:$O$1017),0)","v":0},{"$f":"IFERROR($E40*SUMIF('Daily Log'!$Q$18:$Q$1017,$B40,'Daily Log'!$R$18:$R$1017),0)","v":0},{"$f":"IFERROR($E40*SUMIF('Daily Log'!$T$18:$T$1017,$B40,'Daily Log'!$U$18:$U$1017),0)","v":0},{"$f":"IFERROR($E40*SUMIF('Daily Log'!$W$18:$W$1017,$B40,'Daily Log'!$X$18:$X$1017),0)","v":0},{"$f":"IFERROR($E40*SUMIF('Daily Log'!$Z$18:$Z$1017,$B40,'Daily Log'!$AA$18:$AA$1017),0)","v":0},{"$f":"IFERROR($E40*SUMIF('Daily Log'!$AC$18:$AC$1017,$B40,'Daily Log'!$AD$18:$AD$1017),0)","v":0},{"$f":"IFERROR($E40*SUMIF('Daily Log'!$AF$18:$AF$1017,$B40,'Daily Log'!$AG$18:$AG$1017),0)","v":0},{"$f":"IFERROR($E40*SUMIF('Daily Log'!$AI$18:$AI$1017,$B40,'Daily Log'!$AJ$18:$AJ$1017),0)","v":0},{"$f":"IFERROR($E40*SUMIF('Daily Log'!$AL$18:$AL$1017,$B40,'Daily Log'!$AM$18:$AM$1017),0)","v":0},{"$f":"IFERROR($E40*SUMIF('Daily Log'!$AO$18:$AO$1017,$B40,'Daily Log'!$AP$18:$AP$1017),0)","v":0},{"$f":"IFERROR($E40*SUMIF('Daily Log'!$AR$18:$AR$1017,$B40,'Daily Log'!$AS$18:$AS$1017),0)","v":0},{"$f":"IFERROR($E40*SUMIF('Daily Log'!$AU$18:$AU$1017,$B40,'Daily Log'!$AV$18:$AV$1017),0)","v":0},{"$f":"IFERROR($E40*SUMIF('Daily Log'!$AX$18:$AX$1017,$B40,'Daily Log'!$AY$18:$AY$1017),0)","v":0},{"$f":"IFERROR($E40*SUMIF('Daily Log'!$BA$18:$BA$1017,$B40,'Daily Log'!$BB$18:$BB$1017),0)","v":0},{"$f":"IFERROR($E40*SUMIF('Daily Log'!$BD$18:$BD$1017,$B40,'Daily Log'!$BE$18:$BE$1017),0)","v":0},{"$f":"IFERROR($E40*SUMIF('Daily Log'!$BG$18:$BG$1017,$B40,'Daily Log'!$BH$18:$BH$1017),0)","v":0},{"$f":"IFERROR($E40*SUMIF('Daily Log'!$BJ$18:$BJ$1017,$B40,'Daily Log'!$BK$18:$BK$1017),0)","v":0},{"$f":"IFERROR($E40*SUMIF('Daily Log'!$BM$18:$BM$1017,$B40,'Daily Log'!$BN$18:$BN$1017),0)","v":0},{"$f":"IFERROR($E40*SUMIF('Daily Log'!$BP$18:$BP$1017,$B40,'Daily Log'!$BQ$18:$BQ$1017),0)","v":0},{"$f":"IFERROR($E40*SUMIF('Daily Log'!$BS$18:$BS$1017,$B40,'Daily Log'!$BT$18:$BT$1017),0)","v":0},{"$f":"IFERROR($E40*SUMIF('Daily Log'!$BV$18:$BV$1017,$B40,'Daily Log'!$BW$18:$BW$1017),0)","v":0},{"$f":"IFERROR($E40*SUMIF('Daily Log'!$BY$18:$BY$1017,$B40,'Daily Log'!$BZ$18:$BZ$1017),0)","v":0},{"$f":"IFERROR($E40*SUMIF('Daily Log'!$CB$18:$CB$1017,$B40,'Daily Log'!$CC$18:$CC$1017),0)","v":0},{"$f":"IFERROR($E40*SUMIF('Daily Log'!$CE$18:$CE$1017,$B40,'Daily Log'!$CF$18:$CF$1017),0)","v":0},{"$f":"IFERROR($E40*SUMIF('Daily Log'!$CH$18:$CH$1017,$B40,'Daily Log'!$CI$18:$CI$1017),0)","v":0},{"$f":"IFERROR($E40*SUMIF('Daily Log'!$CK$18:$CK$1017,$B40,'Daily Log'!$CL$18:$CL$1017),0)","v":0},{"$f":"IFERROR($E40*SUMIF('Daily Log'!$CN$18:$CN$1017,$B40,'Daily Log'!$CO$18:$CO$1017),0)","v":0}]
[null,"AA12 K : 3+1",null,null,1,0,{"$f":"IFERROR($E41*SUMIF('Daily Log'!$B$18:$B$1017,$B41,'Daily Log'!$C$18:$C$1017),0)","v":0},{"$f":"IFERROR($E41*SUMIF('Daily Log'!$E$18:$E$1017,$B41,'Daily Log'!$F$18:$F$1017),0)","v":0},{"$f":"IFERROR($E41*SUMIF('Daily Log'!$H$18:$H$1017,$B41,'Daily Log'!$I$18:$I$1017),0)","v":0},{"$f":"IFERROR($E41*SUMIF('Daily Log'!$K$18:$K$1017,$B41,'Daily Log'!$L$18:$L$1017),0)","v":0},{"$f":"IFERROR($E41*SUMIF('Daily Log'!$N$18:$N$1017,$B41,'Daily Log'!$O$18:$O$1017),0)","v":0},{"$f":"IFERROR($E41*SUMIF('Daily Log'!$Q$18:$Q$1017,$B41,'Daily Log'!$R$18:$R$1017),0)","v":0},{"$f":"IFERROR($E41*SUMIF('Daily Log'!$T$18:$T$1017,$B41,'Daily Log'!$U$18:$U$1017),0)","v":0},{"$f":"IFERROR($E41*SUMIF('Daily Log'!$W$18:$W$1017,$B41,'Daily Log'!$X$18:$X$1017),0)","v":0},{"$f":"IFERROR($E41*SUMIF('Daily Log'!$Z$18:$Z$1017,$B41,'Daily Log'!$AA$18:$AA$1017),0)","v":0},{"$f":"IFERROR($E41*SUMIF('Daily Log'!$AC$18:$AC$1017,$B41,'Daily Log'!$AD$18:$AD$1017),0)","v":0},{"$f":"IFERROR($E41*SUMIF('Daily Log'!$AF$18:$AF$1017,$B41,'Daily Log'!$AG$18:$AG$1017),0)","v":0},{"$f":"IFERROR($E41*SUMIF('Daily Log'!$AI$18:$AI$1017,$B41,'Daily Log'!$AJ$18:$AJ$1017),0)","v":0},{"$f":"IFERROR($E41*SUMIF('Daily Log'!$AL$18:$AL$1017,$B41,'Daily Log'!$AM$18:$AM$1017),0)","v":0},{"$f":"IFERROR($E41*SUMIF('Daily Log'!$AO$18:$AO$1017,$B41,'Daily Log'!$AP$18:$AP$1017),0)","v":0},{"$f":"IFERROR($E41*SUMIF('Daily Log'!$AR$18:$AR$1017,$B41,'Daily Log'!$AS$18:$AS$1017),0)","v":0},{"$f":"IFERROR($E41*SUMIF('Daily Log'!$AU$18:$AU$1017,$B41,'Daily Log'!$AV$18:$AV$1017),0)","v":0},{"$f":"IFERROR($E41*SUMIF('Daily Log'!$AX$18:$AX$1017,$B41,'Daily Log'!$AY$18:$AY$1017),0)","v":0},{"$f":"IFERROR($E41*SUMIF('Daily Log'!$BA$18:$BA$1017,$B41,'Daily Log'!$BB$18:$BB$1017),0)","v":0},{"$f":"IFERROR($E41*SUMIF('Daily Log'!$BD$18:$BD$1017,$B41,'Daily Log'!$BE$18:$BE$1017),0)","v":0},{"$f":"IFERROR($E41*SUMIF('Daily Log'!$BG$18:$BG$1017,$B41,'Daily Log'!$BH$18:$BH$1017),0)","v":0},{"$f":"IFERROR($E41*SUMIF('Daily Log'!$BJ$18:$BJ$1017,$B41,'Daily Log'!$BK$18:$BK$1017),0)","v":0},{"$f":"IFERROR($E41*SUMIF('Daily Log'!$BM$18:$BM$1017,$B41,'Daily Log'!$BN$18:$BN$1017),0)","v":0},{"$f":"IFERROR($E41*SUMIF('Daily Log'!$BP$18:$BP$1017,$B41,'Daily Log'!$BQ$18:$BQ$1017),0)","v":0},{"$f":"IFERROR($E41*SUMIF('Daily Log'!$BS$18:$BS$1017,$B41,'Daily Log'!$BT$18:$BT$1017),0)","v":0},{"$f":"IFERROR($E41*SUMIF('Daily Log'!$BV$18:$BV$1017,$B41,'Daily Log'!$BW$18:$BW$1017),0)","v":0},{"$f":"IFERROR($E41*SUMIF('Daily Log'!$BY$18:$BY$1017,$B41,'Daily Log'!$BZ$18:$BZ$1017),0)","v":0},{"$f":"IFERROR($E41*SUMIF('Daily Log'!$CB$18:$CB$1017,$B41,'Daily Log'!$CC$18:$CC$1017),0)","v":0},{"$f":"IFERROR($E41*SUMIF('Daily Log'!$CE$18:$CE$1017,$B41,'Daily Log'!$CF$18:$CF$1017),0)","v":0},{"$f":"IFERROR($E41*SUMIF('Daily Log'!$CH$18:$CH$1017,$B41,'Daily Log'!$CI$18:$CI$1017),0)","v":0},{"$f":"IFERROR($E41*SUMIF('Daily Log'!$CK$18:$CK$1017,$B41,'Daily Log'!$CL$18:$CL$1017),0)","v":0},{"$f":"IFERROR($E41*SUMIF('Daily Log'!$CN$18:$CN$1017,$B41,'Daily Log'!$CO$18:$CO$1017),0)","v":0}]
[null,"AA13 K : PROMOTION",null,null,1,0,{"$f":"IFERROR($E42*SUMIF('Daily Log'!$B$18:$B$1017,$B42,'Daily Log'!$C$18:$C$1017),0)","v":0},{"$f":"IFERROR($E42*SUMIF('Daily Log'!$E$18:$E$1017,$B42,'Daily Log'!$F$18:$F$1017),0)","v":0},{"$f":"IFERROR($E42*SUMIF('Daily Log'!$H$18:$H$1017,$B42,'Daily Log'!$I$18:$I$1017),0)","v":0},{"$f":"IFERROR($E42*SUMIF('Daily Log'!$K$18:$K$1017,$B42,'Daily Log'!$L$18:$L$1017),0)","v":0},{"$f":"IFERROR($E42*SUMIF('Daily Log'!$N$18:$N$1017,$B42,'Daily Log'!$O$18:$O$1017),0)","v":0},{"$f":"IFERROR($E42*SUMIF('Daily Log'!$Q$18:$Q$1017,$B42,'Daily Log'!$R$18:$R$1017),0)","v":0},{"$f":"IFERROR($E42*SUMIF('Daily Log'!$T$18:$T$1017,$B42,'Daily Log'!$U$18:$U$1017),0)","v":0},{"$f":"IFERROR($E42*SUMIF('Daily Log'!$W$18:$W$1017,$B42,'Daily Log'!$X$18:$X$1017),0)","v":0},{"$f":"IFERROR($E42*SUMIF('Daily Log'!$Z$18:$Z$1017,$B42,'Daily Log'!$AA$18:$AA$1017),0)","v":0},{"$f":"IFERROR($E42*SUMIF('Daily Log'!$AC$18:$AC$1017,$B42,'Daily Log'!$AD$18:$AD$1017),0)","v":0},{"$f":"IFERROR($E42*SUMIF('Daily Log'!$AF$18:$AF$1017,$B42,'Daily Log'!$AG$18:$AG$1017),0)","v":0},{"$f":"IFERROR($E42*SUMIF('Daily Log'!$AI$18:$AI$1017,$B42,'Daily Log'!$AJ$18:$AJ$1017),0)","v":0},{"$f":"IFERROR($E42*SUMIF('Daily Log'!$AL$18:$AL$1017,$B42,'Daily Log'!$AM$18:$AM$1017),0)","v":0},{"$f":"IFERROR($E42*SUMIF('Daily Log'!$AO$18:$AO$1017,$B42,'Daily Log'!$AP$18:$AP$1017),0)","v":0},{"$f":"IFERROR($E42*SUMIF('Daily Log'!$AR$18:$AR$1017,$B42,'Daily Log'!$AS$18:$AS$1017),0)","v":0},{"$f":"IFERROR($E42*SUMIF('Daily Log'!$AU$18:$AU$1017,$B42,'Daily Log'!$AV$18:$AV$1017),0)","v":0},{"$f":"IFERROR($E42*SUMIF('Daily Log'!$AX$18:$AX$1017,$B42,'Daily Log'!$AY$18:$AY$1017),0)","v":0},{"$f":"IFERROR($E42*SUMIF('Daily Log'!$BA$18:$BA$1017,$B42,'Daily Log'!$BB$18:$BB$1017),0)","v":0},{"$f":"IFERROR($E42*SUMIF('Daily Log'!$BD$18:$BD$1017,$B42,'Daily Log'!$BE$18:$BE$1017),0)","v":0},{"$f":"IFERROR($E42*SUMIF('Daily Log'!$BG$18:$BG$1017,$B42,'Daily Log'!$BH$18:$BH$1017),0)","v":0},{"$f":"IFERROR($E42*SUMIF('Daily Log'!$BJ$18:$BJ$1017,$B42,'Daily Log'!$BK$18:$BK$1017),0)","v":0},{"$f":"IFERROR($E42*SUMIF('Daily Log'!$BM$18:$BM$1017,$B42,'Daily Log'!$BN$18:$BN$1017),0)","v":0},{"$f":"IFERROR($E42*SUMIF('Daily Log'!$BP$18:$BP$1017,$B42,'Daily Log'!$BQ$18:$BQ$1017),0)","v":0},{"$f":"IFERROR($E42*SUMIF('Daily Log'!$BS$18:$BS$1017,$B42,'Daily Log'!$BT$18:$BT$1017),0)","v":0},{"$f":"IFERROR($E42*SUMIF('Daily Log'!$BV$18:$BV$1017,$B42,'Daily Log'!$BW$18:$BW$1017),0)","v":0},{"$f":"IFERROR($E42*SUMIF('Daily Log'!$BY$18:$BY$1017,$B42,'Daily Log'!$BZ$18:$BZ$1017),0)","v":0},{"$f":"IFERROR($E42*SUMIF('Daily Log'!$CB$18:$CB$1017,$B42,'Daily Log'!$CC$18:$CC$1017),0)","v":0},{"$f":"IFERROR($E42*SUMIF('Daily Log'!$CE$18:$CE$1017,$B42,'Daily Log'!$CF$18:$CF$1017),0)","v":0},{"$f":"IFERROR($E42*SUMIF('Daily Log'!$CH$18:$CH$1017,$B42,'Daily Log'!$CI$18:$CI$1017),0)","v":0},{"$f":"IFERROR($E42*SUMIF('Daily Log'!$CK$18:$CK$1017,$B42,'Daily Log'!$CL$18:$CL$1017),0)","v":0},{"$f":"IFERROR($E42*SUMIF('Daily Log'!$CN$18:$CN$1017,$B42,'Daily Log'!$CO$18:$CO$1017),0)","v":0}]
[null,"AA14 K : PROMO+MEAL",null,null,1,0,{"$f":"IFERROR($E43*SUMIF('Daily Log'!$B$18:$B$1017,$B43,'Daily Log'!$C$18:$C$1017),0)","v":0},{"$f":"IFERROR($E43*SUMIF('Daily Log'!$E$18:$E$1017,$B43,'Daily Log'!$F$18:$F$1017),0)","v":0},{"$f":"IFERROR($E43*SUMIF('Daily Log'!$H$18:$H$1017,$B43,'Daily Log'!$I$18:$I$1017),0)","v":0},{"$f":"IFERROR($E43*SUMIF('Daily Log'!$K$18:$K$1017,$B43,'Daily Log'!$L$18:$L$1017),0)","v":0},{"$f":"IFERROR($E43*SUMIF('Daily Log'!$N$18:$N$1017,$B43,'Daily Log'!$O$18:$O$1017),0)","v":0},{"$f":"IFERROR($E43*SUMIF('Daily Log'!$Q$18:$Q$1017,$B43,'Daily Log'!$R$18:$R$1017),0)","v":0},{"$f":"IFERROR($E43*SUMIF('Daily Log'!$T$18:$T$1017,$B43,'Daily Log'!$U$18:$U$1017),0)","v":0},{"$f":"IFERROR($E43*SUMIF('Daily Log'!$W$18:$W$1017,$B43,'Daily Log'!$X$18:$X$1017),0)","v":0},{"$f":"IFERROR($E43*SUMIF('Daily Log'!$Z$18:$Z$1017,$B43,'Daily Log'!$AA$18:$AA$1017),0)","v":0},{"$f":"IFERROR($E43*SUMIF('Daily Log'!$AC$18:$AC$1017,$B43,'Daily Log'!$AD$18:$AD$1017),0)","v":0},{"$f":"IFERROR($E43*SUMIF('Daily Log'!$AF$18:$AF$1017,$B43,'Daily Log'!$AG$18:$AG$1017),0)","v":0},{"$f":"IFERROR($E43*SUMIF('Daily Log'!$AI$18:$AI$1017,$B43,'Daily Log'!$AJ$18:$AJ$1017),0)","v":0},{"$f":"IFERROR($E43*SUMIF('Daily Log'!$AL$18:$AL$1017,$B43,'Daily Log'!$AM$18:$AM$1017),0)","v":0},{"$f":"IFERROR($E43*SUMIF('Daily Log'!$AO$18:$AO$1017,$B43,'Daily Log'!$AP$18:$AP$1017),0)","v":0},{"$f":"IFERROR($E43*SUMIF('Daily Log'!$AR$18:$AR$1017,$B43,'Daily Log'!$AS$18:$AS$1017),0)","v":0},{"$f":"IFERROR($E43*SUMIF('Daily Log'!$AU$18:$AU$1017,$B43,'Daily Log'!$AV$18:$AV$1017),0)","v":0},{"$f":"IFERROR($E43*SUMIF('Daily Log'!$AX$18:$AX$1017,$B43,'Daily Log'!$AY$18:$AY$1017),0)","v":0},{"$f":"IFERROR($E43*SUMIF('Daily Log'!$BA$18:$BA$1017,$B43,'Daily Log'!$BB$18:$BB$1017),0)","v":0},{"$f":"IFERROR($E43*SUMIF('Daily Log'!$BD$18:$BD$1017,$B43,'Daily Log'!$BE$18:$BE$1017),0)","v":0},{"$f":"IFERROR($E43*SUMIF('Daily Log'!$BG$18:$BG$1017,$B43,'Daily Log'!$BH$18:$BH$1017),0)","v":0},{"$f":"IFERROR($E43*SUMIF('Daily Log'!$BJ$18:$BJ$1017,$B43,'Daily Log'!$BK$18:$BK$1017),0)","v":0},{"$f":"IFERROR($E43*SUMIF('Daily Log'!$BM$18:$BM$1017,$B43,'Daily Log'!$BN$18:$BN$1017),0)","v":0},{"$f":"IFERROR($E43*SUMIF('Daily Log'!$BP$18:$BP$1017,$B43,'Daily Log'!$BQ$18:$BQ$1017),0)","v":0},{"$f":"IFERROR($E43*SUMIF('Daily Log'!$BS$18:$BS$1017,$B43,'Daily Log'!$BT$18:$BT$1017),0)","v":0},{"$f":"IFERROR($E43*SUMIF('Daily Log'!$BV$18:$BV$1017,$B43,'Daily Log'!$BW$18:$BW$1017),0)","v":0},{"$f":"IFERROR($E43*SUMIF('Daily Log'!$BY$18:$BY$1017,$B43,'Daily Log'!$BZ$18:$BZ$1017),0)","v":0},{"$f":"IFERROR($E43*SUMIF('Daily Log'!$CB$18:$CB$1017,$B43,'Daily Log'!$CC$18:$CC$1017),0)","v":0},{"$f":"IFERROR($E43*SUMIF('Daily Log'!$CE$18:$CE$1017,$B43,'Daily Log'!$CF$18:$CF$1017),0)","v":0},{"$f":"IFERROR($E43*SUMIF('Daily Log'!$CH$18:$CH$1017,$B43,'Daily Log'!$CI$18:$CI$1017),0)","v":0},{"$f":"IFERROR($E43*SUMIF('Daily Log'!$CK$18:$CK$1017,$B43,'Daily Log'!$CL$18:$CL$1017),0)","v":0},{"$f":"IFERROR($E43*SUMIF('Daily Log'!$CN$18:$CN$1017,$B43,'Daily Log'!$CO$18:$CO$1017),0)","v":0}]
[null,"AA15 K : EVENT",null,null,1,0,{"$f":"IFERROR($E44*SUMIF('Daily Log'!$B$18:$B$1017,$B44,'Daily Log'!$C$18:$C$1017),0)","v":0},{"$f":"IFERROR($E44*SUMIF('Daily Log'!$E$18:$E$1017,$B44,'Daily Log'!$F$18:$F$1017),0)","v":0},{"$f":"IFERROR($E44*SUMIF('Daily Log'!$H$18:$H$1017,$B44,'Daily Log'!$I$18:$I$1017),0)","v":0},{"$f":"IFERROR($E44*SUMIF('Daily Log'!$K$18:$K$1017,$B44,'Daily Log'!$L$18:$L$1017),0)","v":0},{"$f":"IFERROR($E44*SUMIF('Daily Log'!$N$18:$N$1017,$B44,'Daily Log'!$O$18:$O$1017),0)","v":0},{"$f":"IFERROR($E44*SUMIF('Daily Log'!$Q$18:$Q$1017,$B44,'Daily Log'!$R$18:$R$1017),0)","v":0},{"$f":"IFERROR($E44*SUMIF('Daily Log'!$T$18:$T$1017,$B44,'Daily Log'!$U$18:$U$1017),0)","v":0},{"$f":"IFERROR($E44*SUMIF('Daily Log'!$W$18:$W$1017,$B44,'Daily Log'!$X$18:$X$1017),0)","v":0},{"$f":"IFERROR($E44*SUMIF('Daily Log'!$Z$18:$Z$1017,$B44,'Daily Log'!$AA$18:$AA$1017),0)","v":0},{"$f":"IFERROR($E44*SUMIF('Daily Log'!$AC$18:$AC$1017,$B44,'Daily Log'!$AD$18:$AD$1017),0)","v":0},{"$f":"IFERROR($E44*SUMIF('Daily Log'!$AF$18:$AF$1017,$B44,'Daily Log'!$AG$18:$AG$1017),0)","v":0},{"$f":"IFERROR($E44*SUMIF('Daily Log'!$AI$18:$AI$1017,$B44,'Daily Log'!$AJ$18:$AJ$1017),0)","v":0},{"$f":"IFERROR($E44*SUMIF('Daily Log'!$AL$18:$AL$1017,$B44,'Daily Log'!$AM$18:$AM$1017),0)","v":0},{"$f":"IFERROR($E44*SUMIF('Daily Log'!$AO$18:$AO$1017,$B44,'Daily Log'!$AP$18:$AP$1017),0)","v":0},{"$f":"IFERROR($E44*SUMIF('Daily Log'!$AR$18:$AR$1017,$B44,'Daily Log'!$AS$18:$AS$1017),0)","v":0},{"$f":"IFERROR($E44*SUMIF('Daily Log'!$AU$18:$AU$1017,$B44,'Daily Log'!$AV$18:$AV$1017),0)","v":0},{"$f":"IFERROR($E44*SUMIF('Daily Log'!$AX$18:$AX$1017,$B44,'Daily Log'!$AY$18:$AY$1017),0)","v":0},{"$f":"IFERROR($E44*SUMIF('Daily Log'!$BA$18:$BA$1017,$B44,'Daily Log'!$BB$18:$BB$1017),0)","v":0},{"$f":"IFERROR($E44*SUMIF('Daily Log'!$BD$18:$BD$1017,$B44,'Daily Log'!$BE$18:$BE$1017),0)","v":0},{"$f":"IFERROR($E44*SUMIF('Daily Log'!$BG$18:$BG$1017,$B44,'Daily Log'!$BH$18:$BH$1017),0)","v":0},{"$f":"IFERROR($E44*SUMIF('Daily Log'!$BJ$18:$BJ$1017,$B44,'Daily Log'!$BK$18:$BK$1017),0)","v":0},{"$f":"IFERROR($E44*SUMIF('Daily Log'!$BM$18:$BM$1017,$B44,'Daily Log'!$BN$18:$BN$1017),0)","v":0},{"$f":"IFERROR($E44*SUMIF('Daily Log'!$BP$18:$BP$1017,$B44,'Daily Log'!$BQ$18:$BQ$1017),0)","v":0},{"$f":"IFERROR($E44*SUMIF('Daily Log'!$BS$18:$BS$1017,$B44,'Daily Log'!$BT$18:$BT$1017),0)","v":0},{"$f":"IFERROR($E44*SUMIF('Daily Log'!$BV$18:$BV$1017,$B44,'Daily Log'!$BW$18:$BW$1017),0)","v":0},{"$f":"IFERROR($E44*SUMIF('Daily Log'!$BY$18:$BY$1017,$B44,'Daily Log'!$BZ$18:$BZ$1017),0)","v":0},{"$f":"IFERROR($E44*SUMIF('Daily Log'!$CB$18:$CB$1017,$B44,'Daily Log'!$CC$18:$CC$1017),0)","v":0},{"$f":"IFERROR($E44*SUMIF('Daily Log'!$CE$18:$CE$1017,$B44,'Daily Log'!$CF$18:$CF$1017),0)","v":0},{"$f":"IFERROR($E44*SUMIF('Daily Log'!$CH$18:$CH$1017,$B44,'Daily Log'!$CI$18:$CI$1017),0)","v":0},{"$f":"IFERROR($E44*SUMIF('Daily Log'!$CK$18:$CK$1017,$B44,'Daily Log'!$CL$18:$CL$1017),0)","v":0},{"$f":"IFERROR($E44*SUMIF('Daily Log'!$CN$18:$CN$1017,$B44,'Daily Log'!$CO$18:$CO$1017),0)","v":0}]
[null,"AA16 K : XTD S ROOM",null,null,1,0,{"$f":"IFERROR($E45*SUMIF('Daily Log'!$B$18:$B$1017,$B45,'Daily Log'!$C$18:$C$1017),0)","v":0},{"$f":"IFERROR($E45*SUMIF('Daily Log'!$E$18:$E$1017,$B45,'Daily Log'!$F$18:$F$1017),0)","v":0},{"$f":"IFERROR($E45*SUMIF('Daily Log'!$H$18:$H$1017,$B45,'Daily Log'!$I$18:$I$1017),0)","v":0},{"$f":"IFERROR($E45*SUMIF('Daily Log'!$K$18:$K$1017,$B45,'Daily Log'!$L$18:$L$1017),0)","v":0},{"$f":"IFERROR($E45*SUMIF('Daily Log'!$N$18:$N$1017,$B45,'Daily Log'!$O$18:$O$1017),0)","v":0},{"$f":"IFERROR($E45*SUMIF('Daily Log'!$Q$18:$Q$1017,$B45,'Daily Log'!$R$18:$R$1017),0)","v":0},{"$f":"IFERROR($E45*SUMIF('Daily Log'!$T$18:$T$1017,$B45,'Daily Log'!$U$18:$U$1017),0)","v":0},{"$f":"IFERROR($E45*SUMIF('Daily Log'!$W$18:$W$1017,$B45,'Daily Log'!$X$18:$X$1017),0)","v":0},{"$f":"IFERROR($E45*SUMIF('Daily Log'!$Z$18:$Z$1017,$B45,'Daily Log'!$AA$18:$AA$1017),0)","v":0},{"$f":"IFERROR($E45*SUMIF('Daily Log'!$AC$18:$AC$1017,$B45,'Daily Log'!$AD$18:$AD$1017),0)","v":0},{"$f":"IFERROR($E45*SUMIF('Daily Log'!$AF$18:$AF$1017,$B45,'Daily Log'!$AG$18:$AG$1017),0)","v":0},{"$f":"IFERROR($E45*SUMIF('Daily Log'!$AI$18:$AI$1017,$B45,'Daily Log'!$AJ$18:$AJ$1017),0)","v":0},{"$f":"IFERROR($E45*SUMIF('Daily Log'!$AL$18:$AL$1017,$B45,'Daily Log'!$AM$18:$AM$1017),0)","v":0},{"$f":"IFERROR($E45*SUMIF('Daily Log'!$AO$18:$AO$1017,$B45,'Daily Log'!$AP$18:$AP$1017),0)","v":0},{"$f":"IFERROR($E45*SUMIF('Daily Log'!$AR$18:$AR$1017,$B45,'Daily Log'!$AS$18:$AS$1017),0)","v":0},{"$f":"IFERROR($E45*SUMIF('Daily Log'!$AU$18:$AU$1017,$B45,'Daily Log'!$AV$18:$AV$1017),0)","v":0},{"$f":"IFERROR($E45*SUMIF('Daily Log'!$AX$18:$AX$1017,$B45,'Daily Log'!$AY$18:$AY$1017),0)","v":0},{"$f":"IFERROR($E45*SUMIF('Daily Log'!$BA$18:$BA$1017,$B45,'Daily Log'!$BB$18:$BB$1017),0)","v":0},{"$f":"IFERROR($E45*SUMIF('Daily Log'!$BD$18:$BD$1017,$B45,'Daily Log'!$BE$18:$BE$1017),0)","v":0},{"$f":"IFERROR($E45*SUMIF('Daily Log'!$BG$18:$BG$1017,$B45,'Daily Log'!$BH$18:$BH$1017),0)","v":0},{"$f":"IFERROR($E45*SUMIF('Daily Log'!$BJ$18:$BJ$1017,$B45,'Daily Log'!$BK$18:$BK$1017),0)","v":0},{"$f":"IFERROR($E45*SUMIF('Daily Log'!$BM$18:$BM$1017,$B45,'Daily Log'!$BN$18:$BN$1017),0)","v":0},{"$f":"IFERROR($E45*SUMIF('Daily Log'!$BP$18:$BP$1017,$B45,'Daily Log'!$BQ$18:$BQ$1017),0)","v":0},{"$f":"IFERROR($E45*SUMIF('Daily Log'!$BS$18:$BS$1017,$B45,'Daily Log'!$BT$18:$BT$1017),0)","v":0},{"$f":"IFERROR($E45*SUMIF('Daily Log'!$BV$18:$BV$1017,$B45,'Daily Log'!$BW$18:$BW$1017),0)","v":0},{"$f":"IFERROR($E45*SUMIF('Daily Log'!$BY$18:$BY$1017,$B45,'Daily Log'!$BZ$18:$BZ$1017),0)","v":0},{"$f":"IFERROR($E45*SUMIF('Daily Log'!$CB$18:$CB$1017,$B45,'Daily Log'!$CC$18:$CC$1017),0)","v":0},{"$f":"IFERROR($E45*SUMIF('Daily Log'!$CE$18:$CE$1017,$B45,'Daily Log'!$CF$18:$CF$1017),0)","v":0},{"$f":"IFERROR($E45*SUMIF('Daily Log'!$CH$18:$CH$1017,$B45,'Daily Log'!$CI$18:$CI$1017),0)","v":0},{"$f":"IFERROR($E45*SUMIF('Daily Log'!$CK$18:$CK$1017,$B45,'Daily Log'!$CL$18:$CL$1017),0)","v":0},{"$f":"IFERROR($E45*SUMIF('Daily Log'!$CN$18:$CN$1017,$B45,'Daily Log'!$CO$18:$CO$1017),0)","v":0}]
[null,"AA17 K : XTD M ROOM",null,null,1,0,{"$f":"IFERROR($E46*SUMIF('Daily Log'!$B$18:$B$1017,$B46,'Daily Log'!$C$18:$C$1017),0)","v":0},{"$f":"IFERROR($E46*SUMIF('Daily Log'!$E$18:$E$1017,$B46,'Daily Log'!$F$18:$F$1017),0)","v":0},{"$f":"IFERROR($E46*SUMIF('Daily Log'!$H$18:$H$1017,$B46,'Daily Log'!$I$18:$I$1017),0)","v":0},{"$f":"IFERROR($E46*SUMIF('Daily Log'!$K$18:$K$1017,$B46,'Daily Log'!$L$18:$L$1017),0)","v":0},{"$f":"IFERROR($E46*SUMIF('Daily Log'!$N$18:$N$1017,$B46,'Daily Log'!$O$18:$O$1017),0)","v":0},{"$f":"IFERROR($E46*SUMIF('Daily Log'!$Q$18:$Q$1017,$B46,'Daily Log'!$R$18:$R$1017),0)","v":0},{"$f":"IFERROR($E46*SUMIF('Daily Log'!$T$18:$T$1017,$B46,'Daily Log'!$U$18:$U$1017),0)","v":0},{"$f":"IFERROR($E46*SUMIF('Daily Log'!$W$18:$W$1017,$B46,'Daily Log'!$X$18:$X$1017),0)","v":0},{"$f":"IFERROR($E46*SUMIF('Daily Log'!$Z$18:$Z$1017,$B46,'Daily Log'!$AA$18:$AA$1017),0)","v":0},{"$f":"IFERROR($E46*SUMIF('Daily Log'!$AC$18:$AC$1017,$B46,'Daily Log'!$AD$18:$AD$1017),0)","v":0},{"$f":"IFERROR($E46*SUMIF('Daily Log'!$AF$18:$AF$1017,$B46,'Daily Log'!$AG$18:$AG$1017),0)","v":0},{"$f":"IFERROR($E46*SUMIF('Daily Log'!$AI$18:$AI$1017,$B46,'Daily Log'!$AJ$18:$AJ$1017),0)","v":0},{"$f":"IFERROR($E46*SUMIF('Daily Log'!$AL$18:$AL$1017,$B46,'Daily Log'!$AM$18:$AM$1017),0)","v":0},{"$f":"IFERROR($E46*SUMIF('Daily Log'!$AO$18:$AO$1017,$B46,'Daily Log'!$AP$18:$AP$1017),0)","v":0},{"$f":"IFERROR($E46*SUMIF('Daily Log'!$AR$18:$AR$1017,$B46,'Daily Log'!$AS$18:$AS$1017),0)","v":0},{"$f":"IFERROR($E46*SUMIF('Daily Log'!$AU$18:$AU$1017,$B46,'Daily Log'!$AV$18:$AV$1017),0)","v":0},{"$f":"IFERROR($E46*SUMIF('Daily Log'!$AX$18:$AX$1017,$B46,'Daily Log'!$AY$18:$AY$1017),0)","v":0},{"$f":"IFERROR($E46*SUMIF('Daily Log'!$BA$18:$BA$1017,$B46,'Daily Log'!$BB$18:$BB$1017),0)","v":0},{"$f":"IFERROR($E46*SUMIF('Daily Log'!$BD$18:$BD$1017,$B46,'Daily Log'!$BE$18:$BE$1017),0)","v":0},{"$f":"IFERROR($E46*SUMIF('Daily Log'!$BG$18:$BG$1017,$B46,'Daily Log'!$BH$18:$BH$1017),0)","v":0},{"$f":"IFERROR($E46*SUMIF('Daily Log'!$BJ$18:$BJ$1017,$B46,'Daily Log'!$BK$18:$BK$1017),0)","v":0},{"$f":"IFERROR($E46*SUMIF('Daily Log'!$BM$18:$BM$1017,$B46,'Daily Log'!$BN$18:$BN$1017),0)","v":0},{"$f":"IFERROR($E46*SUMIF('Daily Log'!$BP$18:$BP$1017,$B46,'Daily Log'!$BQ$18:$BQ$1017),0)","v":0},{"$f":"IFERROR($E46*SUMIF('Daily Log'!$BS$18:$BS$1017,$B46,'Daily Log'!$BT$18:$BT$1017),0)","v":0},{"$f":"IFERROR($E46*SUMIF('Daily Log'!$BV$18:$BV$1017,$B46,'Daily Log'!$BW$18:$BW$1017),0)","v":0},{"$f":"IFERROR($E46*SUMIF('Daily Log'!$BY$18:$BY$1017,$B46,'Daily Log'!$BZ$18:$BZ$1017),0)","v":0},{"$f":"IFERROR($E46*SUMIF('Daily Log'!$CB$18:$CB$1017,$B46,'Daily Log'!$CC$18:$CC$1017),0)","v":0},{"$f":"IFERROR($E46*SUMIF('Daily Log'!$CE$18:$CE$1017,$B46,'Daily Log'!$CF$18:$CF$1017),0)","v":0},{"$f":"IFERROR($E46*SUMIF('Daily Log'!$CH$18:$CH$1017,$B46,'Daily Log'!$CI$18:$CI$1017),0)","v":0},{"$f":"IFERROR($E46*SUMIF('Daily Log'!$CK$18:$CK$1017,$B46,'Daily Log'!$CL$18:$CL$1017),0)","v":0},{"$f":"IFERROR($E46*SUMIF('Daily Log'!$CN$18:$CN$1017,$B46,'Daily Log'!$CO$18:$CO$1017),0)","v":0}]
[null,"AA18 K : XTD B ROOM",null,null,1,0,{"$f":"IFERROR($E47*SUMIF('Daily Log'!$B$18:$B$1017,$B47,'Daily Log'!$C$18:$C$1017),0)","v":0},{"$f":"IFERROR($E47*SUMIF('Daily Log'!$E$18:$E$1017,$B47,'Daily Log'!$F$18:$F$1017),0)","v":0},{"$f":"IFERROR($E47*SUMIF('Daily Log'!$H$18:$H$1017,$B47,'Daily Log'!$I$18:$I$1017),0)","v":0},{"$f":"IFERROR($E47*SUMIF('Daily Log'!$K$18:$K$1017,$B47,'Daily Log'!$L$18:$L$1017),0)","v":0},{"$f":"IFERROR($E47*SUMIF('Daily Log'!$N$18:$N$1017,$B47,'Daily Log'!$O$18:$O$1017),0)","v":0},{"$f":"IFERROR($E47*SUMIF('Daily Log'!$Q$18:$Q$1017,$B47,'Daily Log'!$R$18:$R$1017),0)","v":0},{"$f":"IFERROR($E47*SUMIF('Daily Log'!$T$18:$T$1017,$B47,'Daily Log'!$U$18:$U$1017),0)","v":0},{"$f":"IFERROR($E47*SUMIF('Daily Log'!$W$18:$W$1017,$B47,'Daily Log'!$X$18:$X$1017),0)","v":0},{"$f":"IFERROR($E47*SUMIF('Daily Log'!$Z$18:$Z$1017,$B47,'Daily Log'!$AA$18:$AA$1017),0)","v":0},{"$f":"IFERROR($E47*SUMIF('Daily Log'!$AC$18:$AC$1017,$B47,'Daily Log'!$AD$18:$AD$1017),0)","v":0},{"$f":"IFERROR($E47*SUMIF('Daily Log'!$AF$18:$AF$1017,$B47,'Daily Log'!$AG$18:$AG$1017),0)","v":0},{"$f":"IFERROR($E47*SUMIF('Daily Log'!$AI$18:$AI$1017,$B47,'Daily Log'!$AJ$18:$AJ$1017),0)","v":0},{"$f":"IFERROR($E47*SUMIF('Daily Log'!$AL$18:$AL$1017,$B47,'Daily Log'!$AM$18:$AM$1017),0)","v":0},{"$f":"IFERROR($E47*SUMIF('Daily Log'!$AO$18:$AO$1017,$B47,'Daily Log'!$AP$18:$AP$1017),0)","v":0},{"$f":"IFERROR($E47*SUMIF('Daily Log'!$AR$18:$AR$1017,$B47,'Daily Log'!$AS$18:$AS$1017),0)","v":0},{"$f":"IFERROR($E47*SUMIF('Daily Log'!$AU$18:$AU$1017,$B47,'Daily Log'!$AV$18:$AV$1017),0)","v":0},{"$f":"IFERROR($E47*SUMIF('Daily Log'!$AX$18:$AX$1017,$B47,'Daily Log'!$AY$18:$AY$1017),0)","v":0},{"$f":"IFERROR($E47*SUMIF('Daily Log'!$BA$18:$BA$1017,$B47,'Daily Log'!$BB$18:$BB$1017),0)","v":0},{"$f":"IFERROR($E47*SUMIF('Daily Log'!$BD$18:$BD$1017,$B47,'Daily Log'!$BE$18:$BE$1017),0)","v":0},{"$f":"IFERROR($E47*SUMIF('Daily Log'!$BG$18:$BG$1017,$B47,'Daily Log'!$BH$18:$BH$1017),0)","v":0},{"$f":"IFERROR($E47*SUMIF('Daily Log'!$BJ$18:$BJ$1017,$B47,'Daily Log'!$BK$18:$BK$1017),0)","v":0},{"$f":"IFERROR($E47*SUMIF('Daily Log'!$BM$18:$BM$1017,$B47,'Daily Log'!$BN$18:$BN$1017),0)","v":0},{"$f":"IFERROR($E47*SUMIF('Daily Log'!$BP$18:$BP$1017,$B47,'Daily Log'!$BQ$18:$BQ$1017),0)","v":0},{"$f":"IFERROR($E47*SUMIF('Daily Log'!$BS$18:$BS$1017,$B47,'Daily Log'!$BT$18:$BT$1017),0)","v":0},{"$f":"IFERROR($E47*SUMIF('Daily Log'!$BV$18:$BV$1017,$B47,'Daily Log'!$BW$18:$BW$1017),0)","v":0},{"$f":"IFERROR($E47*SUMIF('Daily Log'!$BY$18:$BY$1017,$B47,'Daily Log'!$BZ$18:$BZ$1017),0)","v":0},{"$f":"IFERROR($E47*SUMIF('Daily Log'!$CB$18:$CB$1017,$B47,'Daily Log'!$CC$18:$CC$1017),0)","v":0},{"$f":"IFERROR($E47*SUMIF('Daily Log'!$CE$18:$CE$1017,$B47,'Daily Log'!$CF$18:$CF$1017),0)","v":0},{"$f":"IFERROR($E47*SUMIF('Daily Log'!$CH$18:$CH$1017,$B47,'Daily Log'!$CI$18:$CI$1017),0)","v":0},{"$f":"IFERROR($E47*SUMIF('Daily Log'!$CK$18:$CK$1017,$B47,'Daily Log'!$CL$18:$CL$1017),0)","v":0},{"$f":"IFERROR($E47*SUMIF('Daily Log'!$CN$18:$CN$1017,$B47,'Daily Log'!$CO$18:$CO$1017),0)","v":0}]
[null,"AA19 K : FOC HOUR",null,null,1,0,{"$f":"IFERROR($E48*SUMIF('Daily Log'!$B$18:$B$1017,$B48,'Daily Log'!$C$18:$C$1017),0)","v":0},{"$f":"IFERROR($E48*SUMIF('Daily Log'!$E$18:$E$1017,$B48,'Daily Log'!$F$18:$F$1017),0)","v":0},{"$f":"IFERROR($E48*SUMIF('Daily Log'!$H$18:$H$1017,$B48,'Daily Log'!$I$18:$I$1017),0)","v":0},{"$f":"IFERROR($E48*SUMIF('Daily Log'!$K$18:$K$1017,$B48,'Daily Log'!$L$18:$L$1017),0)","v":0},{"$f":"IFERROR($E48*SUMIF('Daily Log'!$N$18:$N$1017,$B48,'Daily Log'!$O$18:$O$1017),0)","v":0},{"$f":"IFERROR($E48*SUMIF('Daily Log'!$Q$18:$Q$1017,$B48,'Daily Log'!$R$18:$R$1017),0)","v":0},{"$f":"IFERROR($E48*SUMIF('Daily Log'!$T$18:$T$1017,$B48,'Daily Log'!$U$18:$U$1017),0)","v":0},{"$f":"IFERROR($E48*SUMIF('Daily Log'!$W$18:$W$1017,$B48,'Daily Log'!$X$18:$X$1017),0)","v":0},{"$f":"IFERROR($E48*SUMIF('Daily Log'!$Z$18:$Z$1017,$B48,'Daily Log'!$AA$18:$AA$1017),0)","v":0},{"$f":"IFERROR($E48*SUMIF('Daily Log'!$AC$18:$AC$1017,$B48,'Daily Log'!$AD$18:$AD$1017),0)","v":0},{"$f":"IFERROR($E48*SUMIF('Daily Log'!$AF$18:$AF$1017,$B48,'Daily Log'!$AG$18:$AG$1017),0)","v":0},{"$f":"IFERROR($E48*SUMIF('Daily Log'!$AI$18:$AI$1017,$B48,'Daily Log'!$AJ$18:$AJ$1017),0)","v":0},{"$f":"IFERROR($E48*SUMIF('Daily Log'!$AL$18:$AL$1017,$B48,'Daily Log'!$AM$18:$AM$1017),0)","v":0},{"$f":"IFERROR($E48*SUMIF('Daily Log'!$AO$18:$AO$1017,$B48,'Daily Log'!$AP$18:$AP$1017),0)","v":0},{"$f":"IFERROR($E48*SUMIF('Daily Log'!$AR$18:$AR$1017,$B48,'Daily Log'!$AS$18:$AS$1017),0)","v":0},{"$f":"IFERROR($E48*SUMIF('Daily Log'!$AU$18:$AU$1017,$B48,'Daily Log'!$AV$18:$AV$1017),0)","v":0},{"$f":"IFERROR($E48*SUMIF('Daily Log'!$AX$18:$AX$1017,$B48,'Daily Log'!$AY$18:$AY$1017),0)","v":0},{"$f":"IFERROR($E48*SUMIF('Daily Log'!$BA$18:$BA$1017,$B48,'Daily Log'!$BB$18:$BB$1017),0)","v":0},{"$f":"IFERROR($E48*SUMIF('Daily Log'!$BD$18:$BD$1017,$B48,'Daily Log'!$BE$18:$BE$1017),0)","v":0},{"$f":"IFERROR($E48*SUMIF('Daily Log'!$BG$18:$BG$1017,$B48,'Daily Log'!$BH$18:$BH$1017),0)","v":0},{"$f":"IFERROR($E48*SUMIF('Daily Log'!$BJ$18:$BJ$1017,$B48,'Daily Log'!$BK$18:$BK$1017),0)","v":0},{"$f":"IFERROR($E48*SUMIF('Daily Log'!$BM$18:$BM$1017,$B48,'Daily Log'!$BN$18:$BN$1017),0)","v":0},{"$f":"IFERROR($E48*SUMIF('Daily Log'!$BP$18:$BP$1017,$B48,'Daily Log'!$BQ$18:$BQ$1017),0)","v":0},{"$f":"IFERROR($E48*SUMIF('Daily Log'!$BS$18:$BS$1017,$B48,'Daily Log'!$BT$18:$BT$1017),0)","v":0},{"$f":"IFERROR($E48*SUMIF('Daily Log'!$BV$18:$BV$1017,$B48,'Daily Log'!$BW$18:$BW$1017),0)","v":0},{"$f":"IFERROR($E48*SUMIF('Daily Log'!$BY$18:$BY$1017,$B48,'Daily Log'!$BZ$18:$BZ$1017),0)","v":0},{"$f":"IFERROR($E48*SUMIF('Daily Log'!$CB$18:$CB$1017,$B48,'Daily Log'!$CC$18:$CC$1017),0)","v":0},{"$f":"IFERROR($E48*SUMIF('Daily Log'!$CE$18:$CE$1017,$B48,'Daily Log'!$CF$18:$CF$1017),0)","v":0},{"$f":"IFERROR($E48*SUMIF('Daily Log'!$CH$18:$CH$1017,$B48,'Daily Log'!$CI$18:$CI$1017),0)","v":0},{"$f":"IFERROR($E48*SUMIF('Daily Log'!$CK$18:$CK$1017,$B48,'Daily Log'!$CL$18:$CL$1017),0)","v":0},{"$f":"IFERROR($E48*SUMIF('Daily Log'!$CN$18:$CN$1017,$B48,'Daily Log'!$CO$18:$CO$1017),0)","v":0}]
[null,"AA20 K : GROUPON",null,null,1,0,{"$f":"IFERROR($E49*SUMIF('Daily Log'!$B$18:$B$1017,$B49,'Daily Log'!$C$18:$C$1017),0)","v":0},{"$f":"IFERROR($E49*SUMIF('Daily Log'!$E$18:$E$1017,$B49,'Daily Log'!$F$18:$F$1017),0)","v":0},{"$f":"IFERROR($E49*SUMIF('Daily Log'!$H$18:$H$1017,$B49,'Daily Log'!$I$18:$I$1017),0)","v":0},{"$f":"IFERROR($E49*SUMIF('Daily Log'!$K$18:$K$1017,$B49,'Daily Log'!$L$18:$L$1017),0)","v":0},{"$f":"IFERROR($E49*SUMIF('Daily Log'!$N$18:$N$1017,$B49,'Daily Log'!$O$18:$O$1017),0)","v":0},{"$f":"IFERROR($E49*SUMIF('Daily Log'!$Q$18:$Q$1017,$B49,'Daily Log'!$R$18:$R$1017),0)","v":0},{"$f":"IFERROR($E49*SUMIF('Daily Log'!$T$18:$T$1017,$B49,'Daily Log'!$U$18:$U$1017),0)","v":0},{"$f":"IFERROR($E49*SUMIF('Daily Log'!$W$18:$W$1017,$B49,'Daily Log'!$X$18:$X$1017),0)","v":0},{"$f":"IFERROR($E49*SUMIF('Daily Log'!$Z$18:$Z$1017,$B49,'Daily Log'!$AA$18:$AA$1017),0)","v":0},{"$f":"IFERROR($E49*SUMIF('Daily Log'!$AC$18:$AC$1017,$B49,'Daily Log'!$AD$18:$AD$1017),0)","v":0},{"$f":"IFERROR($E49*SUMIF('Daily Log'!$AF$18:$AF$1017,$B49,'Daily Log'!$AG$18:$AG$1017),0)","v":0},{"$f":"IFERROR($E49*SUMIF('Daily Log'!$AI$18:$AI$1017,$B49,'Daily Log'!$AJ$18:$AJ$1017),0)","v":0},{"$f":"IFERROR($E49*SUMIF('Daily Log'!$AL$18:$AL$1017,$B49,'Daily Log'!$AM$18:$AM$1017),0)","v":0},{"$f":"IFERROR($E49*SUMIF('Daily Log'!$AO$18:$AO$1017,$B49,'Daily Log'!$AP$18:$AP$1017),0)","v":0},{"$f":"IFERROR($E49*SUMIF('Daily Log'!$AR$18:$AR$1017,$B49,'Daily Log'!$AS$18:$AS$1017),0)","v":0},{"$f":"IFERROR($E49*SUMIF('Daily Log'!$AU$18:$AU$1017,$B49,'Daily Log'!$AV$18:$AV$1017),0)","v":0},{"$f":"IFERROR($E49*SUMIF('Daily Log'!$AX$18:$AX$1017,$B49,'Daily Log'!$AY$18:$AY$1017),0)","v":0},{"$f":"IFERROR($E49*SUMIF('Daily Log'!$BA$18:$BA$1017,$B49,'Daily Log'!$BB$18:$BB$1017),0)","v":0},{"$f":"IFERROR($E49*SUMIF('Daily Log'!$BD$18:$BD$1017,$B49,'Daily Log'!$BE$18:$BE$1017),0)","v":0},{"$f":"IFERROR($E49*SUMIF('Daily Log'!$BG$18:$BG$1017,$B49,'Daily Log'!$BH$18:$BH$1017),0)","v":0},{"$f":"IFERROR($E49*SUMIF('Daily Log'!$BJ$18:$BJ$1017,$B49,'Daily Log'!$BK$18:$BK$1017),0)","v":0},{"$f":"IFERROR($E49*SUMIF('Daily Log'!$BM$18:$BM$1017,$B49,'Daily Log'!$BN$18:$BN$1017),0)","v":0},{"$f":"IFERROR($E49*SUMIF('Daily Log'!$BP$18:$BP$1017,$B49,'Daily Log'!$BQ$18:$BQ$1017),0)","v":0},{"$f":"IFERROR($E49*SUMIF('Daily Log'!$BS$18:$BS$1017,$B49,'Daily Log'!$BT$18:$BT$1017),0)","v":0},{"$f":"IFERROR($E49*SUMIF('Daily Log'!$BV$18:$BV$1017,$B49,'Daily Log'!$BW$18:$BW$1017),0)","v":0},{"$f":"IFERROR($E49*SUMIF('Daily Log'!$BY$18:$BY$1017,$B49,'Daily Log'!$BZ$18:$BZ$1017),0)","v":0},{"$f":"IFERROR($E49*SUMIF('Daily Log'!$CB$18:$CB$1017,$B49,'Daily Log'!$CC$18:$CC$1017),0)","v":0},{"$f":"IFERROR($E49*SUMIF('Daily Log'!$CE$18:$CE$1017,$B49,'Daily Log'!$CF$18:$CF$1017),0)","v":0},{"$f":"IFERROR($E49*SUMIF('Daily Log'!$CH$18:$CH$1017,$B49,'Daily Log'!$CI$18:$CI$1017),0)","v":0},{"$f":"IFERROR($E49*SUMIF('Daily Log'!$CK$18:$CK$1017,$B49,'Daily Log'!$CL$18:$CL$1017),0)","v":0},{"$f":"IFERROR($E49*SUMIF('Daily Log'!$CN$18:$CN$1017,$B49,'Daily Log'!$CO$18:$CO$1017),0)","v":0}]
[null,"AA22 K : One FM 208",null,null,1,0,{"$f":"IFERROR($E50*SUMIF('Daily Log'!$B$18:$B$1017,$B50,'Daily Log'!$C$18:$C$1017),0)","v":0},{"$f":"IFERROR($E50*SUMIF('Daily Log'!$E$18:$E$1017,$B50,'Daily Log'!$F$18:$F$1017),0)","v":0},{"$f":"IFERROR($E50*SUMIF('Daily Log'!$H$18:$H$1017,$B50,'Daily Log'!$I$18:$I$1017),0)","v":0},{"$f":"IFERROR($E50*SUMIF('Daily Log'!$K$18:$K$1017,$B50,'Daily Log'!$L$18:$L$1017),0)","v":0},{"$f":"IFERROR($E50*SUMIF('Daily Log'!$N$18:$N$1017,$B50,'Daily Log'!$O$18:$O$1017),0)","v":0},{"$f":"IFERROR($E50*SUMIF('Daily Log'!$Q$18:$Q$1017,$B50,'Daily Log'!$R$18:$R$1017),0)","v":0},{"$f":"IFERROR($E50*SUMIF('Daily Log'!$T$18:$T$1017,$B50,'Daily Log'!$U$18:$U$1017),0)","v":0},{"$f":"IFERROR($E50*SUMIF('Daily Log'!$W$18:$W$1017,$B50,'Daily Log'!$X$18:$X$1017),0)","v":0},{"$f":"IFERROR($E50*SUMIF('Daily Log'!$Z$18:$Z$1017,$B50,'Daily Log'!$AA$18:$AA$1017),0)","v":0},{"$f":"IFERROR($E50*SUMIF('Daily Log'!$AC$18:$AC$1017,$B50,'Daily Log'!$AD$18:$AD$1017),0)","v":0},{"$f":"IFERROR($E50*SUMIF('Daily Log'!$AF$18:$AF$1017,$B50,'Daily Log'!$AG$18:$AG$1017),0)","v":0},{"$f":"IFERROR($E50*SUMIF('Daily Log'!$AI$18:$AI$1017,$B50,'Daily Log'!$AJ$18:$AJ$1017),0)","v":0},{"$f":"IFERROR($E50*SUMIF('Daily Log'!$AL$18:$AL$1017,$B50,'Daily Log'!$AM$18:$AM$1017),0)","v":0},{"$f":"IFERROR($E50*SUMIF('Daily Log'!$AO$18:$AO$1017,$B50,'Daily Log'!$AP$18:$AP$1017),0)","v":0},{"$f":"IFERROR($E50*SUMIF('Daily Log'!$AR$18:$AR$1017,$B50,'Daily Log'!$AS$18:$AS$1017),0)","v":0},{"$f":"IFERROR($E50*SUMIF('Daily Log'!$AU$18:$AU$1017,$B50,'Daily Log'!$AV$18:$AV$1017),0)","v":0},{"$f":"IFERROR($E50*SUMIF('Daily Log'!$AX$18:$AX$1017,$B50,'Daily Log'!$AY$18:$AY$1017),0)","v":0},{"$f":"IFERROR($E50*SUMIF('Daily Log'!$BA$18:$BA$1017,$B50,'Daily Log'!$BB$18:$BB$1017),0)","v":0},{"$f":"IFERROR($E50*SUMIF('Daily Log'!$BD$18:$BD$1017,$B50,'Daily Log'!$BE$18:$BE$1017),0)","v":0},{"$f":"IFERROR($E50*SUMIF('Daily Log'!$BG$18:$BG$1017,$B50,'Daily Log'!$BH$18:$BH$1017),0)","v":0},{"$f":"IFERROR($E50*SUMIF('Daily Log'!$BJ$18:$BJ$1017,$B50,'Daily Log'!$BK$18:$BK$1017),0)","v":0},{"$f":"IFERROR($E50*SUMIF('Daily Log'!$BM$18:$BM$1017,$B50,'Daily Log'!$BN$18:$BN$1017),0)","v":0},{"$f":"IFERROR($E50*SUMIF('Daily Log'!$BP$18:$BP$1017,$B50,'Daily Log'!$BQ$18:$BQ$1017),0)","v":0},{"$f":"IFERROR($E50*SUMIF('Daily Log'!$BS$18:$BS$1017,$B50,'Daily Log'!$BT$18:$BT$1017),0)","v":0},{"$f":"IFERROR($E50*SUMIF('Daily Log'!$BV$18:$BV$1017,$B50,'Daily Log'!$BW$18:$BW$1017),0)","v":0},{"$f":"IFERROR($E50*SUMIF('Daily Log'!$BY$18:$BY$1017,$B50,'Daily Log'!$BZ$18:$BZ$1017),0)","v":0},{"$f":"IFERROR($E50*SUMIF('Daily Log'!$CB$18:$CB$1017,$B50,'Daily Log'!$CC$18:$CC$1017),0)","v":0},{"$f":"IFERROR($E50*SUMIF('Daily Log'!$CE$18:$CE$1017,$B50,'Daily Log'!$CF$18:$CF$1017),0)","v":0},{"$f":"IFERROR($E50*SUMIF('Daily Log'!$CH$18:$CH$1017,$B50,'Daily Log'!$CI$18:$CI$1017),0)","v":0},{"$f":"IFERROR($E50*SUMIF('Daily Log'!$CK$18:$CK$1017,$B50,'Daily Log'!$CL$18:$CL$1017),0)","v":0},{"$f":"IFERROR($E50*SUMIF('Daily Log'!$CN$18:$CN$1017,$B50,'Daily Log'!$CO$18:$CO$1017),0)","v":0}]
[null,"AA23 K:Student Mem",null,null,1,0,{"$f":"IFERROR($E51*SUMIF('Daily Log'!$B$18:$B$1017,$B51,'Daily Log'!$C$18:$C$1017),0)","v":0},{"$f":"IFERROR($E51*SUMIF('Daily Log'!$E$18:$E$1017,$B51,'Daily Log'!$F$18:$F$1017),0)","v":0},{"$f":"IFERROR($E51*SUMIF('Daily Log'!$H$18:$H$1017,$B51,'Daily Log'!$I$18:$I$1017),0)","v":0},{"$f":"IFERROR($E51*SUMIF('Daily Log'!$K$18:$K$1017,$B51,'Daily Log'!$L$18:$L$1017),0)","v":0},{"$f":"IFERROR($E51*SUMIF('Daily Log'!$N$18:$N$1017,$B51,'Daily Log'!$O$18:$O$1017),0)","v":0},{"$f":"IFERROR($E51*SUMIF('Daily Log'!$Q$18:$Q$1017,$B51,'Daily Log'!$R$18:$R$1017),0)","v":0},{"$f":"IFERROR($E51*SUMIF('Daily Log'!$T$18:$T$1017,$B51,'Daily Log'!$U$18:$U$1017),0)","v":0},{"$f":"IFERROR($E51*SUMIF('Daily Log'!$W$18:$W$1017,$B51,'Daily Log'!$X$18:$X$1017),0)","v":0},{"$f":"IFERROR($E51*SUMIF('Daily Log'!$Z$18:$Z$1017,$B51,'Daily Log'!$AA$18:$AA$1017),0)","v":0},{"$f":"IFERROR($E51*SUMIF('Daily Log'!$AC$18:$AC$1017,$B51,'Daily Log'!$AD$18:$AD$1017),0)","v":0},{"$f":"IFERROR($E51*SUMIF('Daily Log'!$AF$18:$AF$1017,$B51,'Daily Log'!$AG$18:$AG$1017),0)","v":0},{"$f":"IFERROR($E51*SUMIF('Daily Log'!$AI$18:$AI$1017,$B51,'Daily Log'!$AJ$18:$AJ$1017),0)","v":0},{"$f":"IFERROR($E51*SUMIF('Daily Log'!$AL$18:$AL$1017,$B51,'Daily Log'!$AM$18:$AM$1017),0)","v":0},{"$f":"IFERROR($E51*SUMIF('Daily Log'!$AO$18:$AO$1017,$B51,'Daily Log'!$AP$18:$AP$1017),0)","v":0},{"$f":"IFERROR($E51*SUMIF('Daily Log'!$AR$18:$AR$1017,$B51,'Daily Log'!$AS$18:$AS$1017),0)","v":0},{"$f":"IFERROR($E51*SUMIF('Daily Log'!$AU$18:$AU$1017,$B51,'Daily Log'!$AV$18:$AV$1017),0)","v":0},{"$f":"IFERROR($E51*SUMIF('Daily Log'!$AX$18:$AX$1017,$B51,'Daily Log'!$AY$18:$AY$1017),0)","v":0},{"$f":"IFERROR($E51*SUMIF('Daily Log'!$BA$18:$BA$1017,$B51,'Daily Log'!$BB$18:$BB$1017),0)","v":0},{"$f":"IFERROR($E51*SUMIF('Daily Log'!$BD$18:$BD$1017,$B51,'Daily Log'!$BE$18:$BE$1017),0)","v":0},{"$f":"IFERROR($E51*SUMIF('Daily Log'!$BG$18:$BG$1017,$B51,'Daily Log'!$BH$18:$BH$1017),0)","v":0},{"$f":"IFERROR($E51*SUMIF('Daily Log'!$BJ$18:$BJ$1017,$B51,'Daily Log'!$BK$18:$BK$1017),0)","v":0},{"$f":"IFERROR($E51*SUMIF('Daily Log'!$BM$18:$BM$1017,$B51,'Daily Log'!$BN$18:$BN$1017),0)","v":0},{"$f":"IFERROR($E51*SUMIF('Daily Log'!$BP$18:$BP$1017,$B51,'Daily Log'!$BQ$18:$BQ$1017),0)","v":0},{"$f":"IFERROR($E51*SUMIF('Daily Log'!$BS$18:$BS$1017,$B51,'Daily Log'!$BT$18:$BT$1017),0)","v":0},{"$f":"IFERROR($E51*SUMIF('Daily Log'!$BV$18:$BV$1017,$B51,'Daily Log'!$BW$18:$BW$1017),0)","v":0},{"$f":"IFERROR($E51*SUMIF('Daily Log'!$BY$18:$BY$1017,$B51,'Daily Log'!$BZ$18:$BZ$1017),0)","v":0},{"$f":"IFERROR($E51*SUMIF('Daily Log'!$CB$18:$CB$1017,$B51,'Daily Log'!$CC$18:$CC$1017),0)","v":0},{"$f":"IFERROR($E51*SUMIF('Daily Log'!$CE$18:$CE$1017,$B51,'Daily Log'!$CF$18:$CF$1017),0)","v":0},{"$f":"IFERROR($E51*SUMIF('Daily Log'!$CH$18:$CH$1017,$B51,'Daily Log'!$CI$18:$CI$1017),0)","v":0},{"$f":"IFERROR($E51*SUMIF('Daily Log'!$CK$18:$CK$1017,$B51,'Daily Log'!$CL$18:$CL$1017),0)","v":0},{"$f":"IFERROR($E51*SUMIF('Daily Log'!$CN$18:$CN$1017,$B51,'Daily Log'!$CO$18:$CO$1017),0)","v":0}]
[null,"AA25 K : iGOT DIS 3+1",null,null,1,0,{"$f":"IFERROR($E52*SUMIF('Daily Log'!$B$18:$B$1017,$B52,'Daily Log'!$C$18:$C$1017),0)","v":0},{"$f":"IFERROR($E52*SUMIF('Daily Log'!$E$18:$E$1017,$B52,'Daily Log'!$F$18:$F$1017),0)","v":0},{"$f":"IFERROR($E52*SUMIF('Daily Log'!$H$18:$H$1017,$B52,'Daily Log'!$I$18:$I$1017),0)","v":0},{"$f":"IFERROR($E52*SUMIF('Daily Log'!$K$18:$K$1017,$B52,'Daily Log'!$L$18:$L$1017),0)","v":0},{"$f":"IFERROR($E52*SUMIF('Daily Log'!$N$18:$N$1017,$B52,'Daily Log'!$O$18:$O$1017),0)","v":0},{"$f":"IFERROR($E52*SUMIF('Daily Log'!$Q$18:$Q$1017,$B52,'Daily Log'!$R$18:$R$1017),0)","v":0},{"$f":"IFERROR($E52*SUMIF('Daily Log'!$T$18:$T$1017,$B52,'Daily Log'!$U$18:$U$1017),0)","v":0},{"$f":"IFERROR($E52*SUMIF('Daily Log'!$W$18:$W$1017,$B52,'Daily Log'!$X$18:$X$1017),0)","v":0},{"$f":"IFERROR($E52*SUMIF('Daily Log'!$Z$18:$Z$1017,$B52,'Daily Log'!$AA$18:$AA$1017),0)","v":0},{"$f":"IFERROR($E52*SUMIF('Daily Log'!$AC$18:$AC$1017,$B52,'Daily Log'!$AD$18:$AD$1017),0)","v":0},{"$f":"IFERROR($E52*SUMIF('Daily Log'!$AF$18:$AF$1017,$B52,'Daily Log'!$AG$18:$AG$1017),0)","v":0},{"$f":"IFERROR($E52*SUMIF('Daily Log'!$AI$18:$AI$1017,$B52,'Daily Log'!$AJ$18:$AJ$1017),0)","v":0},{"$f":"IFERROR($E52*SUMIF('Daily Log'!$AL$18:$AL$1017,$B52,'Daily Log'!$AM$18:$AM$1017),0)","v":0},{"$f":"IFERROR($E52*SUMIF('Daily Log'!$AO$18:$AO$1017,$B52,'Daily Log'!$AP$18:$AP$1017),0)","v":0},{"$f":"IFERROR($E52*SUMIF('Daily Log'!$AR$18:$AR$1017,$B52,'Daily Log'!$AS$18:$AS$1017),0)","v":0},{"$f":"IFERROR($E52*SUMIF('Daily Log'!$AU$18:$AU$1017,$B52,'Daily Log'!$AV$18:$AV$1017),0)","v":0},{"$f":"IFERROR($E52*SUMIF('Daily Log'!$AX$18:$AX$1017,$B52,'Daily Log'!$AY$18:$AY$1017),0)","v":0},{"$f":"IFERROR($E52*SUMIF('Daily Log'!$BA$18:$BA$1017,$B52,'Daily Log'!$BB$18:$BB$1017),0)","v":0},{"$f":"IFERROR($E52*SUMIF('Daily Log'!$BD$18:$BD$1017,$B52,'Daily Log'!$BE$18:$BE$1017),0)","v":0},{"$f":"IFERROR($E52*SUMIF('Daily Log'!$BG$18:$BG$1017,$B52,'Daily Log'!$BH$18:$BH$1017),0)","v":0},{"$f":"IFERROR($E52*SUMIF('Daily Log'!$BJ$18:$BJ$1017,$B52,'Daily Log'!$BK$18:$BK$1017),0)","v":0},{"$f":"IFERROR($E52*SUMIF('Daily Log'!$BM$18:$BM$1017,$B52,'Daily Log'!$BN$18:$BN$1017),0)","v":0},{"$f":"IFERROR($E52*SUMIF('Daily Log'!$BP$18:$BP$1017,$B52,'Daily Log'!$BQ$18:$BQ$1017),0)","v":0},{"$f":"IFERROR($E52*SUMIF('Daily Log'!$BS$18:$BS$1017,$B52,'Daily Log'!$BT$18:$BT$1017),0)","v":0},{"$f":"IFERROR($E52*SUMIF('Daily Log'!$BV$18:$BV$1017,$B52,'Daily Log'!$BW$18:$BW$1017),0)","v":0},{"$f":"IFERROR($E52*SUMIF('Daily Log'!$BY$18:$BY$1017,$B52,'Daily Log'!$BZ$18:$BZ$1017),0)","v":0},{"$f":"IFERROR($E52*SUMIF('Daily Log'!$CB$18:$CB$1017,$B52,'Daily Log'!$CC$18:$CC$1017),0)","v":0},{"$f":"IFERROR($E52*SUMIF('Daily Log'!$CE$18:$CE$1017,$B52,'Daily Log'!$CF$18:$CF$1017),0)","v":0},{"$f":"IFERROR($E52*SUMIF('Daily Log'!$CH$18:$CH$1017,$B52,'Daily Log'!$CI$18:$CI$1017),0)","v":0},{"$f":"IFERROR($E52*SUMIF('Daily Log'!$CK$18:$CK$1017,$B52,'Daily Log'!$CL$18:$CL$1017),0)","v":0},{"$f":"IFERROR($E52*SUMIF('Daily Log'!$CN$18:$CN$1017,$B52,'Daily Log'!$CO$18:$CO$1017),0)","v":0}]
[null,"AB01 H : REGULAR",null,null,1,0,{"$f":"IFERROR($E53*SUMIF('Daily Log'!$B$18:$B$1017,$B53,'Daily Log'!$C$18:$C$1017),0)","v":0},{"$f":"IFERROR($E53*SUMIF('Daily Log'!$E$18:$E$1017,$B53,'Daily Log'!$F$18:$F$1017),0)","v":0},{"$f":"IFERROR($E53*SUMIF('Daily Log'!$H$18:$H$1017,$B53,'Daily Log'!$I$18:$I$1017),0)","v":0},{"$f":"IFERROR($E53*SUMIF('Daily Log'!$K$18:$K$1017,$B53,'Daily Log'!$L$18:$L$1017),0)","v":0},{"$f":"IFERROR($E53*SUMIF('Daily Log'!$N$18:$N$1017,$B53,'Daily Log'!$O$18:$O$1017),0)","v":0},{"$f":"IFERROR($E53*SUMIF('Daily Log'!$Q$18:$Q$1017,$B53,'Daily Log'!$R$18:$R$1017),0)","v":0},{"$f":"IFERROR($E53*SUMIF('Daily Log'!$T$18:$T$1017,$B53,'Daily Log'!$U$18:$U$1017),0)","v":0},{"$f":"IFERROR($E53*SUMIF('Daily Log'!$W$18:$W$1017,$B53,'Daily Log'!$X$18:$X$1017),0)","v":0},{"$f":"IFERROR($E53*SUMIF('Daily Log'!$Z$18:$Z$1017,$B53,'Daily Log'!$AA$18:$AA$1017),0)","v":0},{"$f":"IFERROR($E53*SUMIF('Daily Log'!$AC$18:$AC$1017,$B53,'Daily Log'!$AD$18:$AD$1017),0)","v":0},{"$f":"IFERROR($E53*SUMIF('Daily Log'!$AF$18:$AF$1017,$B53,'Daily Log'!$AG$18:$AG$1017),0)","v":0},{"$f":"IFERROR($E53*SUMIF('Daily Log'!$AI$18:$AI$1017,$B53,'Daily Log'!$AJ$18:$AJ$1017),0)","v":0},{"$f":"IFERROR($E53*SUMIF('Daily Log'!$AL$18:$AL$1017,$B53,'Daily Log'!$AM$18:$AM$1017),0)","v":0},{"$f":"IFERROR($E53*SUMIF('Daily Log'!$AO$18:$AO$1017,$B53,'Daily Log'!$AP$18:$AP$1017),0)","v":0},{"$f":"IFERROR($E53*SUMIF('Daily Log'!$AR$18:$AR$1017,$B53,'Daily Log'!$AS$18:$AS$1017),0)","v":0},{"$f":"IFERROR($E53*SUMIF('Daily Log'!$AU$18:$AU$1017,$B53,'Daily Log'!$AV$18:$AV$1017),0)","v":0},{"$f":"IFERROR($E53*SUMIF('Daily Log'!$AX$18:$AX$1017,$B53,'Daily Log'!$AY$18:$AY$1017),0)","v":0},{"$f":"IFERROR($E53*SUMIF('Daily Log'!$BA$18:$BA$1017,$B53,'Daily Log'!$BB$18:$BB$1017),0)","v":0},{"$f":"IFERROR($E53*SUMIF('Daily Log'!$BD$18:$BD$1017,$B53,'Daily Log'!$BE$18:$BE$1017),0)","v":0},{"$f":"IFERROR($E53*SUMIF('Daily Log'!$BG$18:$BG$1017,$B53,'Daily Log'!$BH$18:$BH$1017),0)","v":0},{"$f":"IFERROR($E53*SUMIF('Daily Log'!$BJ$18:$BJ$1017,$B53,'Daily Log'!$BK$18:$BK$1017),0)","v":0},{"$f":"IFERROR($E53*SUMIF('Daily Log'!$BM$18:$BM$1017,$B53,'Daily Log'!$BN$18:$BN$1017),0)","v":0},{"$f":"IFERROR($E53*SUMIF('Daily Log'!$BP$18:$BP$1017,$B53,'Daily Log'!$BQ$18:$BQ$1017),0)","v":0},{"$f":"IFERROR($E53*SUMIF('Daily Log'!$BS$18:$BS$1017,$B53,'Daily Log'!$BT$18:$BT$1017),0)","v":0},{"$f":"IFERROR($E53*SUMIF('Daily Log'!$BV$18:$BV$1017,$B53,'Daily Log'!$BW$18:$BW$1017),0)","v":0},{"$f":"IFERROR($E53*SUMIF('Daily Log'!$BY$18:$BY$1017,$B53,'Daily Log'!$BZ$18:$BZ$1017),0)","v":0},{"$f":"IFERROR($E53*SUMIF('Daily Log'!$CB$18:$CB$1017,$B53,'Daily Log'!$CC$18:$CC$1017),0)","v":0},{"$f":"IFERROR($E53*SUMIF('Daily Log'!$CE$18:$CE$1017,$B53,'Daily Log'!$CF$18:$CF$1017),0)","v":0},{"$f":"IFERROR($E53*SUMIF('Daily Log'!$CH$18:$CH$1017,$B53,'Daily Log'!$CI$18:$CI$1017),0)","v":0},{"$f":"IFERROR($E53*SUMIF('Daily Log'!$CK$18:$CK$1017,$B53,'Daily Log'!$CL$18:$CL$1017),0)","v":0},{"$f":"IFERROR($E53*SUMIF('Daily Log'!$CN$18:$CN$1017,$B53,'Daily Log'!$CO$18:$CO$1017),0)","v":0}]
[null,"AB02 H : MEMBER",null,null,1,0,{"$f":"IFERROR($E54*SUMIF('Daily Log'!$B$18:$B$1017,$B54,'Daily Log'!$C$18:$C$1017),0)","v":0},{"$f":"IFERROR($E54*SUMIF('Daily Log'!$E$18:$E$1017,$B54,'Daily Log'!$F$18:$F$1017),0)","v":0},{"$f":"IFERROR($E54*SUMIF('Daily Log'!$H$18:$H$1017,$B54,'Daily Log'!$I$18:$I$1017),0)","v":0},{"$f":"IFERROR($E54*SUMIF('Daily Log'!$K$18:$K$1017,$B54,'Daily Log'!$L$18:$L$1017),0)","v":0},{"$f":"IFERROR($E54*SUMIF('Daily Log'!$N$18:$N$1017,$B54,'Daily Log'!$O$18:$O$1017),0)","v":0},{"$f":"IFERROR($E54*SUMIF('Daily Log'!$Q$18:$Q$1017,$B54,'Daily Log'!$R$18:$R$1017),0)","v":0},{"$f":"IFERROR($E54*SUMIF('Daily Log'!$T$18:$T$1017,$B54,'Daily Log'!$U$18:$U$1017),0)","v":0},{"$f":"IFERROR($E54*SUMIF('Daily Log'!$W$18:$W$1017,$B54,'Daily Log'!$X$18:$X$1017),0)","v":0},{"$f":"IFERROR($E54*SUMIF('Daily Log'!$Z$18:$Z$1017,$B54,'Daily Log'!$AA$18:$AA$1017),0)","v":0},{"$f":"IFERROR($E54*SUMIF('Daily Log'!$AC$18:$AC$1017,$B54,'Daily Log'!$AD$18:$AD$1017),0)","v":0},{"$f":"IFERROR($E54*SUMIF('Daily Log'!$AF$18:$AF$1017,$B54,'Daily Log'!$AG$18:$AG$1017),0)","v":0},{"$f":"IFERROR($E54*SUMIF('Daily Log'!$AI$18:$AI$1017,$B54,'Daily Log'!$AJ$18:$AJ$1017),0)","v":0},{"$f":"IFERROR($E54*SUMIF('Daily Log'!$AL$18:$AL$1017,$B54,'Daily Log'!$AM$18:$AM$1017),0)","v":0},{"$f":"IFERROR($E54*SUMIF('Daily Log'!$AO$18:$AO$1017,$B54,'Daily Log'!$AP$18:$AP$1017),0)","v":0},{"$f":"IFERROR($E54*SUMIF('Daily Log'!$AR$18:$AR$1017,$B54,'Daily Log'!$AS$18:$AS$1017),0)","v":0},{"$f":"IFERROR($E54*SUMIF('Daily Log'!$AU$18:$AU$1017,$B54,'Daily Log'!$AV$18:$AV$1017),0)","v":0},{"$f":"IFERROR($E54*SUMIF('Daily Log'!$AX$18:$AX$1017,$B54,'Daily Log'!$AY$18:$AY$1017),0)","v":0},{"$f":"IFERROR($E54*SUMIF('Daily Log'!$BA$18:$BA$1017,$B54,'Daily Log'!$BB$18:$BB$1017),0)","v":0},{"$f":"IFERROR($E54*SUMIF('Daily Log'!$BD$18:$BD$1017,$B54,'Daily Log'!$BE$18:$BE$1017),0)","v":0},{"$f":"IFERROR($E54*SUMIF('Daily Log'!$BG$18:$BG$1017,$B54,'Daily Log'!$BH$18:$BH$1017),0)","v":0},{"$f":"IFERROR($E54*SUMIF('Daily Log'!$BJ$18:$BJ$1017,$B54,'Daily Log'!$BK$18:$BK$1017),0)","v":0},{"$f":"IFERROR($E54*SUMIF('Daily Log'!$BM$18:$BM$1017,$B54,'Daily Log'!$BN$18:$BN$1017),0)","v":0},{"$f":"IFERROR($E54*SUMIF('Daily Log'!$BP$18:$BP$1017,$B54,'Daily Log'!$BQ$18:$BQ$1017),0)","v":0},{"$f":"IFERROR($E54*SUMIF('Daily Log'!$BS$18:$BS$1017,$B54,'Daily Log'!$BT$18:$BT$1017),0)","v":0},{"$f":"IFERROR($E54*SUMIF('Daily Log'!$BV$18:$BV$1017,$B54,'Daily Log'!$BW$18:$BW$1017),0)","v":0},{"$f":"IFERROR($E54*SUMIF('Daily Log'!$BY$18:$BY$1017,$B54,'Daily Log'!$BZ$18:$BZ$1017),0)","v":0},{"$f":"IFERROR($E54*SUMIF('Daily Log'!$CB$18:$CB$1017,$B54,'Daily Log'!$CC$18:$CC$1017),0)","v":0},{"$f":"IFERROR($E54*SUMIF('Daily Log'!$CE$18:$CE$1017,$B54,'Daily Log'!$CF$18:$CF$1017),0)","v":0},{"$f":"IFERROR($E54*SUMIF('Daily Log'!$CH$18:$CH$1017,$B54,'Daily Log'!$CI$18:$CI$1017),0)","v":0},{"$f":"IFERROR($E54*SUMIF('Daily Log'!$CK$18:$CK$1017,$B54,'Daily Log'!$CL$18:$CL$1017),0)","v":0},{"$f":"IFERROR($E54*SUMIF('Daily Log'!$CN$18:$CN$1017,$B54,'Daily Log'!$CO$18:$CO$1017),0)","v":0}]
[null,"AB03 H : MEMBER 30%",null,null,1,0,{"$f":"IFERROR($E55*SUMIF('Daily Log'!$B$18:$B$1017,$B55,'Daily Log'!$C$18:$C$1017),0)","v":0},{"$f":"IFERROR($E55*SUMIF('Daily Log'!$E$18:$E$1017,$B55,'Daily Log'!$F$18:$F$1017),0)","v":0},{"$f":"IFERROR($E55*SUMIF('Daily Log'!$H$18:$H$1017,$B55,'Daily Log'!$I$18:$I$1017),0)","v":0},{"$f":"IFERROR($E55*SUMIF('Daily Log'!$K$18:$K$1017,$B55,'Daily Log'!$L$18:$L$1017),0)","v":0},{"$f":"IFERROR($E55*SUMIF('Daily Log'!$N$18:$N$1017,$B55,'Daily Log'!$O$18:$O$1017),0)","v":0},{"$f":"IFERROR($E55*SUMIF('Daily Log'!$Q$18:$Q$1017,$B55,'Daily Log'!$R$18:$R$1017),0)","v":0},{"$f":"IFERROR($E55*SUMIF('Daily Log'!$T$18:$T$1017,$B55,'Daily Log'!$U$18:$U$1017),0)","v":0},{"$f":"IFERROR($E55*SUMIF('Daily Log'!$W$18:$W$1017,$B55,'Daily Log'!$X$18:$X$1017),0)","v":0},{"$f":"IFERROR($E55*SUMIF('Daily Log'!$Z$18:$Z$1017,$B55,'Daily Log'!$AA$18:$AA$1017),0)","v":0},{"$f":"IFERROR($E55*SUMIF('Daily Log'!$AC$18:$AC$1017,$B55,'Daily Log'!$AD$18:$AD$1017),0)","v":0},{"$f":"IFERROR($E55*SUMIF('Daily Log'!$AF$18:$AF$1017,$B55,'Daily Log'!$AG$18:$AG$1017),0)","v":0},{"$f":"IFERROR($E55*SUMIF('Daily Log'!$AI$18:$AI$1017,$B55,'Daily Log'!$AJ$18:$AJ$1017),0)","v":0},{"$f":"IFERROR($E55*SUMIF('Daily Log'!$AL$18:$AL$1017,$B55,'Daily Log'!$AM$18:$AM$1017),0)","v":0},{"$f":"IFERROR($E55*SUMIF('Daily Log'!$AO$18:$AO$1017,$B55,'Daily Log'!$AP$18:$AP$1017),0)","v":0},{"$f":"IFERROR($E55*SUMIF('Daily Log'!$AR$18:$AR$1017,$B55,'Daily Log'!$AS$18:$AS$1017),0)","v":0},{"$f":"IFERROR($E55*SUMIF('Daily Log'!$AU$18:$AU$1017,$B55,'Daily Log'!$AV$18:$AV$1017),0)","v":0},{"$f":"IFERROR($E55*SUMIF('Daily Log'!$AX$18:$AX$1017,$B55,'Daily Log'!$AY$18:$AY$1017),0)","v":0},{"$f":"IFERROR($E55*SUMIF('Daily Log'!$BA$18:$BA$1017,$B55,'Daily Log'!$BB$18:$BB$1017),0)","v":0},{"$f":"IFERROR($E55*SUMIF('Daily Log'!$BD$18:$BD$1017,$B55,'Daily Log'!$BE$18:$BE$1017),0)","v":0},{"$f":"IFERROR($E55*SUMIF('Daily Log'!$BG$18:$BG$1017,$B55,'Daily Log'!$BH$18:$BH$1017),0)","v":0},{"$f":"IFERROR($E55*SUMIF('Daily Log'!$BJ$18:$BJ$1017,$B55,'Daily Log'!$BK$18:$BK$1017),0)","v":0},{"$f":"IFERROR($E55*SUMIF('Daily Log'!$BM$18:$BM$1017,$B55,'Daily Log'!$BN$18:$BN$1017),0)","v":0},{"$f":"IFERROR($E55*SUMIF('Daily Log'!$BP$18:$BP$1017,$B55,'Daily Log'!$BQ$18:$BQ$1017),0)","v":0},{"$f":"IFERROR($E55*SUMIF('Daily Log'!$BS$18:$BS$1017,$B55,'Daily Log'!$BT$18:$BT$1017),0)","v":0},{"$f":"IFERROR($E55*SUMIF('Daily Log'!$BV$18:$BV$1017,$B55,'Daily Log'!$BW$18:$BW$1017),0)","v":0},{"$f":"IFERROR($E55*SUMIF('Daily Log'!$BY$18:$BY$1017,$B55,'Daily Log'!$BZ$18:$BZ$1017),0)","v":0},{"$f":"IFERROR($E55*SUMIF('Daily Log'!$CB$18:$CB$1017,$B55,'Daily Log'!$CC$18:$CC$1017),0)","v":0},{"$f":"IFERROR($E55*SUMIF('Daily Log'!$CE$18:$CE$1017,$B55,'Daily Log'!$CF$18:$CF$1017),0)","v":0},{"$f":"IFERROR($E55*SUMIF('Daily Log'!$CH$18:$CH$1017,$B55,'Daily Log'!$CI$18:$CI$1017),0)","v":0},{"$f":"IFERROR($E55*SUMIF('Daily Log'!$CK$18:$CK$1017,$B55,'Daily Log'!$CL$18:$CL$1017),0)","v":0},{"$f":"IFERROR($E55*SUMIF('Daily Log'!$CN$18:$CN$1017,$B55,'Daily Log'!$CO$18:$CO$1017),0)","v":0}]
[null,"AB04 H : CARI MEMBER",null,null,1,0,{"$f":"IFERROR($E56*SUMIF('Daily Log'!$B$18:$B$1017,$B56,'Daily Log'!$C$18:$C$1017),0)","v":0},{"$f":"IFERROR($E56*SUMIF('Daily Log'!$E$18:$E$1017,$B56,'Daily Log'!$F$18:$F$1017),0)","v":0},{"$f":"IFERROR($E56*SUMIF('Daily Log'!$H$18:$H$1017,$B56,'Daily Log'!$I$18:$I$1017),0)","v":0},{"$f":"IFERROR($E56*SUMIF('Daily Log'!$K$18:$K$1017,$B56,'Daily Log'!$L$18:$L$1017),0)","v":0},{"$f":"IFERROR($E56*SUMIF('Daily Log'!$N$18:$N$1017,$B56,'Daily Log'!$O$18:$O$1017),0)","v":0},{"$f":"IFERROR($E56*SUMIF('Daily Log'!$Q$18:$Q$1017,$B56,'Daily Log'!$R$18:$R$1017),0)","v":0},{"$f":"IFERROR($E56*SUMIF('Daily Log'!$T$18:$T$1017,$B56,'Daily Log'!$U$18:$U$1017),0)","v":0},{"$f":"IFERROR($E56*SUMIF('Daily Log'!$W$18:$W$1017,$B56,'Daily Log'!$X$18:$X$1017),0)","v":0},{"$f":"IFERROR($E56*SUMIF('Daily Log'!$Z$18:$Z$1017,$B56,'Daily Log'!$AA$18:$AA$1017),0)","v":0},{"$f":"IFERROR($E56*SUMIF('Daily Log'!$AC$18:$AC$1017,$B56,'Daily Log'!$AD$18:$AD$1017),0)","v":0},{"$f":"IFERROR($E56*SUMIF('Daily Log'!$AF$18:$AF$1017,$B56,'Daily Log'!$AG$18:$AG$1017),0)","v":0},{"$f":"IFERROR($E56*SUMIF('Daily Log'!$AI$18:$AI$1017,$B56,'Daily Log'!$AJ$18:$AJ$1017),0)","v":0},{"$f":"IFERROR($E56*SUMIF('Daily Log'!$AL$18:$AL$1017,$B56,'Daily Log'!$AM$18:$AM$1017),0)","v":0},{"$f":"IFERROR($E56*SUMIF('Daily Log'!$AO$18:$AO$1017,$B56,'Daily Log'!$AP$18:$AP$1017),0)","v":0},{"$f":"IFERROR($E56*SUMIF('Daily Log'!$AR$18:$AR$1017,$B56,'Daily Log'!$AS$18:$AS$1017),0)","v":0},{"$f":"IFERROR($E56*SUMIF('Daily Log'!$AU$18:$AU$1017,$B56,'Daily Log'!$AV$18:$AV$1017),0)","v":0},{"$f":"IFERROR($E56*SUMIF('Daily Log'!$AX$18:$AX$1017,$B56,'Daily Log'!$AY$18:$AY$1017),0)","v":0},{"$f":"IFERROR($E56*SUMIF('Daily Log'!$BA$18:$BA$1017,$B56,'Daily Log'!$BB$18:$BB$1017),0)","v":0},{"$f":"IFERROR($E56*SUMIF('Daily Log'!$BD$18:$BD$1017,$B56,'Daily Log'!$BE$18:$BE$1017),0)","v":0},{"$f":"IFERROR($E56*SUMIF('Daily Log'!$BG$18:$BG$1017,$B56,'Daily Log'!$BH$18:$BH$1017),0)","v":0},{"$f":"IFERROR($E56*SUMIF('Daily Log'!$BJ$18:$BJ$1017,$B56,'Daily Log'!$BK$18:$BK$1017),0)","v":0},{"$f":"IFERROR($E56*SUMIF('Daily Log'!$BM$18:$BM$1017,$B56,'Daily Log'!$BN$18:$BN$1017),0)","v":0},{"$f":"IFERROR($E56*SUMIF('Daily Log'!$BP$18:$BP$1017,$B56,'Daily Log'!$BQ$18:$BQ$1017),0)","v":0},{"$f":"IFERROR($E56*SUMIF('Daily Log'!$BS$18:$BS$1017,$B56,'Daily Log'!$BT$18:$BT$1017),0)","v":0},{"$f":"IFERROR($E56*SUMIF('Daily Log'!$BV$18:$BV$1017,$B56,'Daily Log'!$BW$18:$BW$1017),0)","v":0},{"$f":"IFERROR($E56*SUMIF('Daily Log'!$BY$18:$BY$1017,$B56,'Daily Log'!$BZ$18:$BZ$1017),0)","v":0},{"$f":"IFERROR($E56*SUMIF('Daily Log'!$CB$18:$CB$1017,$B56,'Daily Log'!$CC$18:$CC$1017),0)","v":0},{"$f":"IFERROR($E56*SUMIF('Daily Log'!$CE$18:$CE$1017,$B56,'Daily Log'!$CF$18:$CF$1017),0)","v":0},{"$f":"IFERROR($E56*SUMIF('Daily Log'!$CH$18:$CH$1017,$B56,'Daily Log'!$CI$18:$CI$1017),0)","v":0},{"$f":"IFERROR($E56*SUMIF('Daily Log'!$CK$18:$CK$1017,$B56,'Daily Log'!$CL$18:$CL$1017),0)","v":0},{"$f":"IFERROR($E56*SUMIF('Daily Log'!$CN$18:$CN$1017,$B56,'Daily Log'!$CO$18:$CO$1017),0)","v":0}]
[null,"AB05 H : STUDENT",null,null,1,0,{"$f":"IFERROR($E57*SUMIF('Daily Log'!$B$18:$B$1017,$B57,'Daily Log'!$C$18:$C$1017),0)","v":0},{"$f":"IFERROR($E57*SUMIF('Daily Log'!$E$18:$E$1017,$B57,'Daily Log'!$F$18:$F$1017),0)","v":0},{"$f":"IFERROR($E57*SUMIF('Daily Log'!$H$18:$H$1017,$B57,'Daily Log'!$I$18:$I$1017),0)","v":0},{"$f":"IFERROR($E57*SUMIF('Daily Log'!$K$18:$K$1017,$B57,'Daily Log'!$L$18:$L$1017),0)","v":0},{"$f":"IFERROR($E57*SUMIF('Daily Log'!$N$18:$N$1017,$B57,'Daily Log'!$O$18:$O$1017),0)","v":0},{"$f":"IFERROR($E57*SUMIF('Daily Log'!$Q$18:$Q$1017,$B57,'Daily Log'!$R$18:$R$1017),0)","v":0},{"$f":"IFERROR($E57*SUMIF('Daily Log'!$T$18:$T$1017,$B57,'Daily Log'!$U$18:$U$1017),0)","v":0},{"$f":"IFERROR($E57*SUMIF('Daily Log'!$W$18:$W$1017,$B57,'Daily Log'!$X$18:$X$1017),0)","v":0},{"$f":"IFERROR($E57*SUMIF('Daily Log'!$Z$18:$Z$1017,$B57,'Daily Log'!$AA$18:$AA$1017),0)","v":0},{"$f":"IFERROR($E57*SUMIF('Daily Log'!$AC$18:$AC$1017,$B57,'Daily Log'!$AD$18:$AD$1017),0)","v":0},{"$f":"IFERROR($E57*SUMIF('Daily Log'!$AF$18:$AF$1017,$B57,'Daily Log'!$AG$18:$AG$1017),0)","v":0},{"$f":"IFERROR($E57*SUMIF('Daily Log'!$AI$18:$AI$1017,$B57,'Daily Log'!$AJ$18:$AJ$1017),0)","v":0},{"$f":"IFERROR($E57*SUMIF('Daily Log'!$AL$18:$AL$1017,$B57,'Daily Log'!$AM$18:$AM$1017),0)","v":0},{"$f":"IFERROR($E57*SUMIF('Daily Log'!$AO$18:$AO$1017,$B57,'Daily Log'!$AP$18:$AP$1017),0)","v":0},{"$f":"IFERROR($E57*SUMIF('Daily Log'!$AR$18:$AR$1017,$B57,'Daily Log'!$AS$18:$AS$1017),0)","v":0},{"$f":"IFERROR($E57*SUMIF('Daily Log'!$AU$18:$AU$1017,$B57,'Daily Log'!$AV$18:$AV$1017),0)","v":0},{"$f":"IFERROR($E57*SUMIF('Daily Log'!$AX$18:$AX$1017,$B57,'Daily Log'!$AY$18:$AY$1017),0)","v":0},{"$f":"IFERROR($E57*SUMIF('Daily Log'!$BA$18:$BA$1017,$B57,'Daily Log'!$BB$18:$BB$1017),0)","v":0},{"$f":"IFERROR($E57*SUMIF('Daily Log'!$BD$18:$BD$1017,$B57,'Daily Log'!$BE$18:$BE$1017),0)","v":0},{"$f":"IFERROR($E57*SUMIF('Daily Log'!$BG$18:$BG$1017,$B57,'Daily Log'!$BH$18:$BH$1017),0)","v":0},{"$f":"IFERROR($E57*SUMIF('Daily Log'!$BJ$18:$BJ$1017,$B57,'Daily Log'!$BK$18:$BK$1017),0)","v":0},{"$f":"IFERROR($E57*SUMIF('Daily Log'!$BM$18:$BM$1017,$B57,'Daily Log'!$BN$18:$BN$1017),0)","v":0},{"$f":"IFERROR($E57*SUMIF('Daily Log'!$BP$18:$BP$1017,$B57,'Daily Log'!$BQ$18:$BQ$1017),0)","v":0},{"$f":"IFERROR($E57*SUMIF('Daily Log'!$BS$18:$BS$1017,$B57,'Daily Log'!$BT$18:$BT$1017),0)","v":0},{"$f":"IFERROR($E57*SUMIF('Daily Log'!$BV$18:$BV$1017,$B57,'Daily Log'!$BW$18:$BW$1017),0)","v":0},{"$f":"IFERROR($E57*SUMIF('Daily Log'!$BY$18:$BY$1017,$B57,'Daily Log'!$BZ$18:$BZ$1017),0)","v":0},{"$f":"IFERROR($E57*SUMIF('Daily Log'!$CB$18:$CB$1017,$B57,'Daily Log'!$CC$18:$CC$1017),0)","v":0},{"$f":"IFERROR($E57*SUMIF('Daily Log'!$CE$18:$CE$1017,$B57,'Daily Log'!$CF$18:$CF$1017),0)","v":0},{"$f":"IFERROR($E57*SUMIF('Daily Log'!$CH$18:$CH$1017,$B57,'Daily Log'!$CI$18:$CI$1017),0)","v":0},{"$f":"IFERROR($E57*SUMIF('Daily Log'!$CK$18:$CK$1017,$B57,'Daily Log'!$CL$18:$CL$1017),0)","v":0},{"$f":"IFERROR($E57*SUMIF('Daily Log'!$CN$18:$CN$1017,$B57,'Daily Log'!$CO$18:$CO$1017),0)","v":0}]
[null,"AB06 H : SENIOR",null,null,1,0,{"$f":"IFERROR($E58*SUMIF('Daily Log'!$B$18:$B$1017,$B58,'Daily Log'!$C$18:$C$1017),0)","v":0},{"$f":"IFERROR($E58*SUMIF('Daily Log'!$E$18:$E$1017,$B58,'Daily Log'!$F$18:$F$1017),0)","v":0},{"$f":"IFERROR($E58*SUMIF('Daily Log'!$H$18:$H$1017,$B58,'Daily Log'!$I$18:$I$1017),0)","v":0},{"$f":"IFERROR($E58*SUMIF('Daily Log'!$K$18:$K$1017,$B58,'Daily Log'!$L$18:$L$1017),0)","v":0},{"$f":"IFERROR($E58*SUMIF('Daily Log'!$N$18:$N$1017,$B58,'Daily Log'!$O$18:$O$1017),0)","v":0},{"$f":"IFERROR($E58*SUMIF('Daily Log'!$Q$18:$Q$1017,$B58,'Daily Log'!$R$18:$R$1017),0)","v":0},{"$f":"IFERROR($E58*SUMIF('Daily Log'!$T$18:$T$1017,$B58,'Daily Log'!$U$18:$U$1017),0)","v":0},{"$f":"IFERROR($E58*SUMIF('Daily Log'!$W$18:$W$1017,$B58,'Daily Log'!$X$18:$X$1017),0)","v":0},{"$f":"IFERROR($E58*SUMIF('Daily Log'!$Z$18:$Z$1017,$B58,'Daily Log'!$AA$18:$AA$1017),0)","v":0},{"$f":"IFERROR($E58*SUMIF('Daily Log'!$AC$18:$AC$1017,$B58,'Daily Log'!$AD$18:$AD$1017),0)","v":0},{"$f":"IFERROR($E58*SUMIF('Daily Log'!$AF$18:$AF$1017,$B58,'Daily Log'!$AG$18:$AG$1017),0)","v":0},{"$f":"IFERROR($E58*SUMIF('Daily Log'!$AI$18:$AI$1017,$B58,'Daily Log'!$AJ$18:$AJ$1017),0)","v":0},{"$f":"IFERROR($E58*SUMIF('Daily Log'!$AL$18:$AL$1017,$B58,'Daily Log'!$AM$18:$AM$1017),0)","v":0},{"$f":"IFERROR($E58*SUMIF('Daily Log'!$AO$18:$AO$1017,$B58,'Daily Log'!$AP$18:$AP$1017),0)","v":0},{"$f":"IFERROR($E58*SUMIF('Daily Log'!$AR$18:$AR$1017,$B58,'Daily Log'!$AS$18:$AS$1017),0)","v":0},{"$f":"IFERROR($E58*SUMIF('Daily Log'!$AU$18:$AU$1017,$B58,'Daily Log'!$AV$18:$AV$1017),0)","v":0},{"$f":"IFERROR($E58*SUMIF('Daily Log'!$AX$18:$AX$1017,$B58,'Daily Log'!$AY$18:$AY$1017),0)","v":0},{"$f":"IFERROR($E58*SUMIF('Daily Log'!$BA$18:$BA$1017,$B58,'Daily Log'!$BB$18:$BB$1017),0)","v":0},{"$f":"IFERROR($E58*SUMIF('Daily Log'!$BD$18:$BD$1017,$B58,'Daily Log'!$BE$18:$BE$1017),0)","v":0},{"$f":"IFERROR($E58*SUMIF('Daily Log'!$BG$18:$BG$1017,$B58,'Daily Log'!$BH$18:$BH$1017),0)","v":0},{"$f":"IFERROR($E58*SUMIF('Daily Log'!$BJ$18:$BJ$1017,$B58,'Daily Log'!$BK$18:$BK$1017),0)","v":0},{"$f":"IFERROR($E58*SUMIF('Daily Log'!$BM$18:$BM$1017,$B58,'Daily Log'!$BN$18:$BN$1017),0)","v":0},{"$f":"IFERROR($E58*SUMIF('Daily Log'!$BP$18:$BP$1017,$B58,'Daily Log'!$BQ$18:$BQ$1017),0)","v":0},{"$f":"IFERROR($E58*SUMIF('Daily Log'!$BS$18:$BS$1017,$B58,'Daily Log'!$BT$18:$BT$1017),0)","v":0},{"$f":"IFERROR($E58*SUMIF('Daily Log'!$BV$18:$BV$1017,$B58,'Daily Log'!$BW$18:$BW$1017),0)","v":0},{"$f":"IFERROR($E58*SUMIF('Daily Log'!$BY$18:$BY$1017,$B58,'Daily Log'!$BZ$18:$BZ$1017),0)","v":0},{"$f":"IFERROR($E58*SUMIF('Daily Log'!$CB$18:$CB$1017,$B58,'Daily Log'!$CC$18:$CC$1017),0)","v":0},{"$f":"IFERROR($E58*SUMIF('Daily Log'!$CE$18:$CE$1017,$B58,'Daily Log'!$CF$18:$CF$1017),0)","v":0},{"$f":"IFERROR($E58*SUMIF('Daily Log'!$CH$18:$CH$1017,$B58,'Daily Log'!$CI$18:$CI$1017),0)","v":0},{"$f":"IFERROR($E58*SUMIF('Daily Log'!$CK$18:$CK$1017,$B58,'Daily Log'!$CL$18:$CL$1017),0)","v":0},{"$f":"IFERROR($E58*SUMIF('Daily Log'!$CN$18:$CN$1017,$B58,'Daily Log'!$CO$18:$CO$1017),0)","v":0}]
[null,"AB07 H : CHILDREN",null,null,1,0,{"$f":"IFERROR($E59*SUMIF('Daily Log'!$B$18:$B$1017,$B59,'Daily Log'!$C$18:$C$1017),0)","v":0},{"$f":"IFERROR($E59*SUMIF('Daily Log'!$E$18:$E$1017,$B59,'Daily Log'!$F$18:$F$1017),0)","v":0},{"$f":"IFERROR($E59*SUMIF('Daily Log'!$H$18:$H$1017,$B59,'Daily Log'!$I$18:$I$1017),0)","v":0},{"$f":"IFERROR($E59*SUMIF('Daily Log'!$K$18:$K$1017,$B59,'Daily Log'!$L$18:$L$1017),0)","v":0},{"$f":"IFERROR($E59*SUMIF('Daily Log'!$N$18:$N$1017,$B59,'Daily Log'!$O$18:$O$1017),0)","v":0},{"$f":"IFERROR($E59*SUMIF('Daily Log'!$Q$18:$Q$1017,$B59,'Daily Log'!$R$18:$R$1017),0)","v":0},{"$f":"IFERROR($E59*SUMIF('Daily Log'!$T$18:$T$1017,$B59,'Daily Log'!$U$18:$U$1017),0)","v":0},{"$f":"IFERROR($E59*SUMIF('Daily Log'!$W$18:$W$1017,$B59,'Daily Log'!$X$18:$X$1017),0)","v":0},{"$f":"IFERROR($E59*SUMIF('Daily Log'!$Z$18:$Z$1017,$B59,'Daily Log'!$AA$18:$AA$1017),0)","v":0},{"$f":"IFERROR($E59*SUMIF('Daily Log'!$AC$18:$AC$1017,$B59,'Daily Log'!$AD$18:$AD$1017),0)","v":0},{"$f":"IFERROR($E59*SUMIF('Daily Log'!$AF$18:$AF$1017,$B59,'Daily Log'!$AG$18:$AG$1017),0)","v":0},{"$f":"IFERROR($E59*SUMIF('Daily Log'!$AI$18:$AI$1017,$B59,'Daily Log'!$AJ$18:$AJ$1017),0)","v":0},{"$f":"IFERROR($E59*SUMIF('Daily Log'!$AL$18:$AL$1017,$B59,'Daily Log'!$AM$18:$AM$1017),0)","v":0},{"$f":"IFERROR($E59*SUMIF('Daily Log'!$AO$18:$AO$1017,$B59,'Daily Log'!$AP$18:$AP$1017),0)","v":0},{"$f":"IFERROR($E59*SUMIF('Daily Log'!$AR$18:$AR$1017,$B59,'Daily Log'!$AS$18:$AS$1017),0)","v":0},{"$f":"IFERROR($E59*SUMIF('Daily Log'!$AU$18:$AU$1017,$B59,'Daily Log'!$AV$18:$AV$1017),0)","v":0},{"$f":"IFERROR($E59*SUMIF('Daily Log'!$AX$18:$AX$1017,$B59,'Daily Log'!$AY$18:$AY$1017),0)","v":0},{"$f":"IFERROR($E59*SUMIF('Daily Log'!$BA$18:$BA$1017,$B59,'Daily Log'!$BB$18:$BB$1017),0)","v":0},{"$f":"IFERROR($E59*SUMIF('Daily Log'!$BD$18:$BD$1017,$B59,'Daily Log'!$BE$18:$BE$1017),0)","v":0},{"$f":"IFERROR($E59*SUMIF('Daily Log'!$BG$18:$BG$1017,$B59,'Daily Log'!$BH$18:$BH$1017),0)","v":0},{"$f":"IFERROR($E59*SUMIF('Daily Log'!$BJ$18:$BJ$1017,$B59,'Daily Log'!$BK$18:$BK$1017),0)","v":0},{"$f":"IFERROR($E59*SUMIF('Daily Log'!$BM$18:$BM$1017,$B59,'Daily Log'!$BN$18:$BN$1017),0)","v":0},{"$f":"IFERROR($E59*SUMIF('Daily Log'!$BP$18:$BP$1017,$B59,'Daily Log'!$BQ$18:$BQ$1017),0)","v":0},{"$f":"IFERROR($E59*SUMIF('Daily Log'!$BS$18:$BS$1017,$B59,'Daily Log'!$BT$18:$BT$1017),0)","v":0},{"$f":"IFERROR($E59*SUMIF('Daily Log'!$BV$18:$BV$1017,$B59,'Daily Log'!$BW$18:$BW$1017),0)","v":0},{"$f":"IFERROR($E59*SUMIF('Daily Log'!$BY$18:$BY$1017,$B59,'Daily Log'!$BZ$18:$BZ$1017),0)","v":0},{"$f":"IFERROR($E59*SUMIF('Daily Log'!$CB$18:$CB$1017,$B59,'Daily Log'!$CC$18:$CC$1017),0)","v":0},{"$f":"IFERROR($E59*SUMIF('Daily Log'!$CE$18:$CE$1017,$B59,'Daily Log'!$CF$18:$CF$1017),0)","v":0},{"$f":"IFERROR($E59*SUMIF('Daily Log'!$CH$18:$CH$1017,$B59,'Daily Log'!$CI$18:$CI$1017),0)","v":0},{"$f":"IFERROR($E59*SUMIF('Daily Log'!$CK$18:$CK$1017,$B59,'Daily Log'!$CL$18:$CL$1017),0)","v":0},{"$f":"IFERROR($E59*SUMIF('Daily Log'!$CN$18:$CN$1017,$B59,'Daily Log'!$CO$18:$CO$1017),0)","v":0}]
[null,"AB08 H : MEMBER B'DAY",null,null,1,0,{"$f":"IFERROR($E60*SUMIF('Daily Log'!$B$18:$B$1017,$B60,'Daily Log'!$C$18:$C$1017),0)","v":0},{"$f":"IFERROR($E60*SUMIF('Daily Log'!$E$18:$E$1017,$B60,'Daily Log'!$F$18:$F$1017),0)","v":0},{"$f":"IFERROR($E60*SUMIF('Daily Log'!$H$18:$H$1017,$B60,'Daily Log'!$I$18:$I$1017),0)","v":0},{"$f":"IFERROR($E60*SUMIF('Daily Log'!$K$18:$K$1017,$B60,'Daily Log'!$L$18:$L$1017),0)","v":0},{"$f":"IFERROR($E60*SUMIF('Daily Log'!$N$18:$N$1017,$B60,'Daily Log'!$O$18:$O$1017),0)","v":0},{"$f":"IFERROR($E60*SUMIF('Daily Log'!$Q$18:$Q$1017,$B60,'Daily Log'!$R$18:$R$1017),0)","v":0},{"$f":"IFERROR($E60*SUMIF('Daily Log'!$T$18:$T$1017,$B60,'Daily Log'!$U$18:$U$1017),0)","v":0},{"$f":"IFERROR($E60*SUMIF('Daily Log'!$W$18:$W$1017,$B60,'Daily Log'!$X$18:$X$1017),0)","v":0},{"$f":"IFERROR($E60*SUMIF('Daily Log'!$Z$18:$Z$1017,$B60,'Daily Log'!$AA$18:$AA$1017),0)","v":0},{"$f":"IFERROR($E60*SUMIF('Daily Log'!$AC$18:$AC$1017,$B60,'Daily Log'!$AD$18:$AD$1017),0)","v":0},{"$f":"IFERROR($E60*SUMIF('Daily Log'!$AF$18:$AF$1017,$B60,'Daily Log'!$AG$18:$AG$1017),0)","v":0},{"$f":"IFERROR($E60*SUMIF('Daily Log'!$AI$18:$AI$1017,$B60,'Daily Log'!$AJ$18:$AJ$1017),0)","v":0},{"$f":"IFERROR($E60*SUMIF('Daily Log'!$AL$18:$AL$1017,$B60,'Daily Log'!$AM$18:$AM$1017),0)","v":0},{"$f":"IFERROR($E60*SUMIF('Daily Log'!$AO$18:$AO$1017,$B60,'Daily Log'!$AP$18:$AP$1017),0)","v":0},{"$f":"IFERROR($E60*SUMIF('Daily Log'!$AR$18:$AR$1017,$B60,'Daily Log'!$AS$18:$AS$1017),0)","v":0},{"$f":"IFERROR($E60*SUMIF('Daily Log'!$AU$18:$AU$1017,$B60,'Daily Log'!$AV$18:$AV$1017),0)","v":0},{"$f":"IFERROR($E60*SUMIF('Daily Log'!$AX$18:$AX$1017,$B60,'Daily Log'!$AY$18:$AY$1017),0)","v":0},{"$f":"IFERROR($E60*SUMIF('Daily Log'!$BA$18:$BA$1017,$B60,'Daily Log'!$BB$18:$BB$1017),0)","v":0},{"$f":"IFERROR($E60*SUMIF('Daily Log'!$BD$18:$BD$1017,$B60,'Daily Log'!$BE$18:$BE$1017),0)","v":0},{"$f":"IFERROR($E60*SUMIF('Daily Log'!$BG$18:$BG$1017,$B60,'Daily Log'!$BH$18:$BH$1017),0)","v":0},{"$f":"IFERROR($E60*SUMIF('Daily Log'!$BJ$18:$BJ$1017,$B60,'Daily Log'!$BK$18:$BK$1017),0)","v":0},{"$f":"IFERROR($E60*SUMIF('Daily Log'!$BM$18:$BM$1017,$B60,'Daily Log'!$BN$18:$BN$1017),0)","v":0},{"$f":"IFERROR($E60*SUMIF('Daily Log'!$BP$18:$BP$1017,$B60,'Daily Log'!$BQ$18:$BQ$1017),0)","v":0},{"$f":"IFERROR($E60*SUMIF('Daily Log'!$BS$18:$BS$1017,$B60,'Daily Log'!$BT$18:$BT$1017),0)","v":0},{"$f":"IFERROR($E60*SUMIF('Daily Log'!$BV$18:$BV$1017,$B60,'Daily Log'!$BW$18:$BW$1017),0)","v":0},{"$f":"IFERROR($E60*SUMIF('Daily Log'!$BY$18:$BY$1017,$B60,'Daily Log'!$BZ$18:$BZ$1017),0)","v":0},{"$f":"IFERROR($E60*SUMIF('Daily Log'!$CB$18:$CB$1017,$B60,'Daily Log'!$CC$18:$CC$1017),0)","v":0},{"$f":"IFERROR($E60*SUMIF('Daily Log'!$CE$18:$CE$1017,$B60,'Daily Log'!$CF$18:$CF$1017),0)","v":0},{"$f":"IFERROR($E60*SUMIF('Daily Log'!$CH$18:$CH$1017,$B60,'Daily Log'!$CI$18:$CI$1017),0)","v":0},{"$f":"IFERROR($E60*SUMIF('Daily Log'!$CK$18:$CK$1017,$B60,'Daily Log'!$CL$18:$CL$1017),0)","v":0},{"$f":"IFERROR($E60*SUMIF('Daily Log'!$CN$18:$CN$1017,$B60,'Daily Log'!$CO$18:$CO$1017),0)","v":0}]
[null,"AB09 H : STAFF B'DAY",null,null,1,0,{"$f":"IFERROR($E61*SUMIF('Daily Log'!$B$18:$B$1017,$B61,'Daily Log'!$C$18:$C$1017),0)","v":0},{"$f":"IFERROR($E61*SUMIF('Daily Log'!$E$18:$E$1017,$B61,'Daily Log'!$F$18:$F$1017),0)","v":0},{"$f":"IFERROR($E61*SUMIF('Daily Log'!$H$18:$H$1017,$B61,'Daily Log'!$I$18:$I$1017),0)","v":0},{"$f":"IFERROR($E61*SUMIF('Daily Log'!$K$18:$K$1017,$B61,'Daily Log'!$L$18:$L$1017),0)","v":0},{"$f":"IFERROR($E61*SUMIF('Daily Log'!$N$18:$N$1017,$B61,'Daily Log'!$O$18:$O$1017),0)","v":0},{"$f":"IFERROR($E61*SUMIF('Daily Log'!$Q$18:$Q$1017,$B61,'Daily Log'!$R$18:$R$1017),0)","v":0},{"$f":"IFERROR($E61*SUMIF('Daily Log'!$T$18:$T$1017,$B61,'Daily Log'!$U$18:$U$1017),0)","v":0},{"$f":"IFERROR($E61*SUMIF('Daily Log'!$W$18:$W$1017,$B61,'Daily Log'!$X$18:$X$1017),0)","v":0},{"$f":"IFERROR($E61*SUMIF('Daily Log'!$Z$18:$Z$1017,$B61,'Daily Log'!$AA$18:$AA$1017),0)","v":0},{"$f":"IFERROR($E61*SUMIF('Daily Log'!$AC$18:$AC$1017,$B61,'Daily Log'!$AD$18:$AD$1017),0)","v":0},{"$f":"IFERROR($E61*SUMIF('Daily Log'!$AF$18:$AF$1017,$B61,'Daily Log'!$AG$18:$AG$1017),0)","v":0},{"$f":"IFERROR($E61*SUMIF('Daily Log'!$AI$18:$AI$1017,$B61,'Daily Log'!$AJ$18:$AJ$1017),0)","v":0},{"$f":"IFERROR($E61*SUMIF('Daily Log'!$AL$18:$AL$1017,$B61,'Daily Log'!$AM$18:$AM$1017),0)","v":0},{"$f":"IFERROR($E61*SUMIF('Daily Log'!$AO$18:$AO$1017,$B61,'Daily Log'!$AP$18:$AP$1017),0)","v":0},{"$f":"IFERROR($E61*SUMIF('Daily Log'!$AR$18:$AR$1017,$B61,'Daily Log'!$AS$18:$AS$1017),0)","v":0},{"$f":"IFERROR($E61*SUMIF('Daily Log'!$AU$18:$AU$1017,$B61,'Daily Log'!$AV$18:$AV$1017),0)","v":0},{"$f":"IFERROR($E61*SUMIF('Daily Log'!$AX$18:$AX$1017,$B61,'Daily Log'!$AY$18:$AY$1017),0)","v":0},{"$f":"IFERROR($E61*SUMIF('Daily Log'!$BA$18:$BA$1017,$B61,'Daily Log'!$BB$18:$BB$1017),0)","v":0},{"$f":"IFERROR($E61*SUMIF('Daily Log'!$BD$18:$BD$1017,$B61,'Daily Log'!$BE$18:$BE$1017),0)","v":0},{"$f":"IFERROR($E61*SUMIF('Daily Log'!$BG$18:$BG$1017,$B61,'Daily Log'!$BH$18:$BH$1017),0)","v":0},{"$f":"IFERROR($E61*SUMIF('Daily Log'!$BJ$18:$BJ$1017,$B61,'Daily Log'!$BK$18:$BK$1017),0)","v":0},{"$f":"IFERROR($E61*SUMIF('Daily Log'!$BM$18:$BM$1017,$B61,'Daily Log'!$BN$18:$BN$1017),0)","v":0},{"$f":"IFERROR($E61*SUMIF('Daily Log'!$BP$18:$BP$1017,$B61,'Daily Log'!$BQ$18:$BQ$1017),0)","v":0},{"$f":"IFERROR($E61*SUMIF('Daily Log'!$BS$18:$BS$1017,$B61,'Daily Log'!$BT$18:$BT$1017),0)","v":0},{"$f":"IFERROR($E61*SUMIF('Daily Log'!$BV$18:$BV$1017,$B61,'Daily Log'!$BW$18:$BW$1017),0)","v":0},{"$f":"IFERROR($E61*SUMIF('Daily Log'!$BY$18:$BY$1017,$B61,'Daily Log'!$BZ$18:$BZ$1017),0)","v":0},{"$f":"IFERROR($E61*SUMIF('Daily Log'!$CB$18:$CB$1017,$B61,'Daily Log'!$CC$18:$CC$1017),0)","v":0},{"$f":"IFERROR($E61*SUMIF('Daily Log'!$CE$18:$CE$1017,$B61,'Daily Log'!$CF$18:$CF$1017),0)","v":0},{"$f":"IFERROR($E61*SUMIF('Daily Log'!$CH$18:$CH$1017,$B61,'Daily Log'!$CI$18:$CI$1017),0)","v":0},{"$f":"IFERROR($E61*SUMIF('Daily Log'!$CK$18:$CK$1017,$B61,'Daily Log'!$CL$18:$CL$1017),0)","v":0},{"$f":"IFERROR($E61*SUMIF('Daily Log'!$CN$18:$CN$1017,$B61,'Daily Log'!$CO$18:$CO$1017),0)","v":0}]
[null,"AB10 H : FOC HEAD",null,null,1,0,{"$f":"IFERROR($E62*SUMIF('Daily Log'!$B$18:$B$1017,$B62,'Daily Log'!$C$18:$C$1017),0)","v":0},{"$f":"IFERROR($E62*SUMIF('Daily Log'!$E$18:$E$1017,$B62,'Daily Log'!$F$18:$F$1017),0)","v":0},{"$f":"IFERROR($E62*SUMIF('Daily Log'!$H$18:$H$1017,$B62,'Daily Log'!$I$18:$I$1017),0)","v":0},{"$f":"IFERROR($E62*SUMIF('Daily Log'!$K$18:$K$1017,$B62,'Daily Log'!$L$18:$L$1017),0)","v":0},{"$f":"IFERROR($E62*SUMIF('Daily Log'!$N$18:$N$1017,$B62,'Daily Log'!$O$18:$O$1017),0)","v":0},{"$f":"IFERROR($E62*SUMIF('Daily Log'!$Q$18:$Q$1017,$B62,'Daily Log'!$R$18:$R$1017),0)","v":0},{"$f":"IFERROR($E62*SUMIF('Daily Log'!$T$18:$T$1017,$B62,'Daily Log'!$U$18:$U$1017),0)","v":0},{"$f":"IFERROR($E62*SUMIF('Daily Log'!$W$18:$W$1017,$B62,'Daily Log'!$X$18:$X$1017),0)","v":0},{"$f":"IFERROR($E62*SUMIF('Daily Log'!$Z$18:$Z$1017,$B62,'Daily Log'!$AA$18:$AA$1017),0)","v":0},{"$f":"IFERROR($E62*SUMIF('Daily Log'!$AC$18:$AC$1017,$B62,'Daily Log'!$AD$18:$AD$1017),0)","v":0},{"$f":"IFERROR($E62*SUMIF('Daily Log'!$AF$18:$AF$1017,$B62,'Daily Log'!$AG$18:$AG$1017),0)","v":0},{"$f":"IFERROR($E62*SUMIF('Daily Log'!$AI$18:$AI$1017,$B62,'Daily Log'!$AJ$18:$AJ$1017),0)","v":0},{"$f":"IFERROR($E62*SUMIF('Daily Log'!$AL$18:$AL$1017,$B62,'Daily Log'!$AM$18:$AM$1017),0)","v":0},{"$f":"IFERROR($E62*SUMIF('Daily Log'!$AO$18:$AO$1017,$B62,'Daily Log'!$AP$18:$AP$1017),0)","v":0},{"$f":"IFERROR($E62*SUMIF('Daily Log'!$AR$18:$AR$1017,$B62,'Daily Log'!$AS$18:$AS$1017),0)","v":0},{"$f":"IFERROR($E62*SUMIF('Daily Log'!$AU$18:$AU$1017,$B62,'Daily Log'!$AV$18:$AV$1017),0)","v":0},{"$f":"IFERROR($E62*SUMIF('Daily Log'!$AX$18:$AX$1017,$B62,'Daily Log'!$AY$18:$AY$1017),0)","v":0},{"$f":"IFERROR($E62*SUMIF('Daily Log'!$BA$18:$BA$1017,$B62,'Daily Log'!$BB$18:$BB$1017),0)","v":0},{"$f":"IFERROR($E62*SUMIF('Daily Log'!$BD$18:$BD$1017,$B62,'Daily Log'!$BE$18:$BE$1017),0)","v":0},{"$f":"IFERROR($E62*SUMIF('Daily Log'!$BG$18:$BG$1017,$B62,'Daily Log'!$BH$18:$BH$1017),0)","v":0},{"$f":"IFERROR($E62*SUMIF('Daily Log'!$BJ$18:$BJ$1017,$B62,'Daily Log'!$BK$18:$BK$1017),0)","v":0},{"$f":"IFERROR($E62*SUMIF('Daily Log'!$BM$18:$BM$1017,$B62,'Daily Log'!$BN$18:$BN$1017),0)","v":0},{"$f":"IFERROR($E62*SUMIF('Daily Log'!$BP$18:$BP$1017,$B62,'Daily Log'!$BQ$18:$BQ$1017),0)","v":0},{"$f":"IFERROR($E62*SUMIF('Daily Log'!$BS$18:$BS$1017,$B62,'Daily Log'!$BT$18:$BT$1017),0)","v":0},{"$f":"IFERROR($E62*SUMIF('Daily Log'!$BV$18:$BV$1017,$B62,'Daily Log'!$BW$18:$BW$1017),0)","v":0},{"$f":"IFERROR($E62*SUMIF('Daily Log'!$BY$18:$BY$1017,$B62,'Daily Log'!$BZ$18:$BZ$1017),0)","v":0},{"$f":"IFERROR($E62*SUMIF('Daily Log'!$CB$18:$CB$1017,$B62,'Daily Log'!$CC$18:$CC$1017),0)","v":0},{"$f":"IFERROR($E62*SUMIF('Daily Log'!$CE$18:$CE$1017,$B62,'Daily Log'!$CF$18:$CF$1017),0)","v":0},{"$f":"IFERROR($E62*SUMIF('Daily Log'!$CH$18:$CH$1017,$B62,'Daily Log'!$CI$18:$CI$1017),0)","v":0},{"$f":"IFERROR($E62*SUMIF('Daily Log'!$CK$18:$CK$1017,$B62,'Daily Log'!$CL$18:$CL$1017),0)","v":0},{"$f":"IFERROR($E62*SUMIF('Daily Log'!$CN$18:$CN$1017,$B62,'Daily Log'!$CO$18:$CO$1017),0)","v":0}]
[null,"AB11 H : FREEHEAD (B)",null,null,1,0,{"$f":"IFERROR($E63*SUMIF('Daily Log'!$B$18:$B$1017,$B63,'Daily Log'!$C$18:$C$1017),0)","v":0},{"$f":"IFERROR($E63*SUMIF('Daily Log'!$E$18:$E$1017,$B63,'Daily Log'!$F$18:$F$1017),0)","v":0},{"$f":"IFERROR($E63*SUMIF('Daily Log'!$H$18:$H$1017,$B63,'Daily Log'!$I$18:$I$1017),0)","v":0},{"$f":"IFERROR($E63*SUMIF('Daily Log'!$K$18:$K$1017,$B63,'Daily Log'!$L$18:$L$1017),0)","v":0},{"$f":"IFERROR($E63*SUMIF('Daily Log'!$N$18:$N$1017,$B63,'Daily Log'!$O$18:$O$1017),0)","v":0},{"$f":"IFERROR($E63*SUMIF('Daily Log'!$Q$18:$Q$1017,$B63,'Daily Log'!$R$18:$R$1017),0)","v":0},{"$f":"IFERROR($E63*SUMIF('Daily Log'!$T$18:$T$1017,$B63,'Daily Log'!$U$18:$U$1017),0)","v":0},{"$f":"IFERROR($E63*SUMIF('Daily Log'!$W$18:$W$1017,$B63,'Daily Log'!$X$18:$X$1017),0)","v":0},{"$f":"IFERROR($E63*SUMIF('Daily Log'!$Z$18:$Z$1017,$B63,'Daily Log'!$AA$18:$AA$1017),0)","v":0},{"$f":"IFERROR($E63*SUMIF('Daily Log'!$AC$18:$AC$1017,$B63,'Daily Log'!$AD$18:$AD$1017),0)","v":0},{"$f":"IFERROR($E63*SUMIF('Daily Log'!$AF$18:$AF$1017,$B63,'Daily Log'!$AG$18:$AG$1017),0)","v":0},{"$f":"IFERROR($E63*SUMIF('Daily Log'!$AI$18:$AI$1017,$B63,'Daily Log'!$AJ$18:$AJ$1017),0)","v":0},{"$f":"IFERROR($E63*SUMIF('Daily Log'!$AL$18:$AL$1017,$B63,'Daily Log'!$AM$18:$AM$1017),0)","v":0},{"$f":"IFERROR($E63*SUMIF('Daily Log'!$AO$18:$AO$1017,$B63,'Daily Log'!$AP$18:$AP$1017),0)","v":0},{"$f":"IFERROR($E63*SUMIF('Daily Log'!$AR$18:$AR$1017,$B63,'Daily Log'!$AS$18:$AS$1017),0)","v":0},{"$f":"IFERROR($E63*SUMIF('Daily Log'!$AU$18:$AU$1017,$B63,'Daily Log'!$AV$18:$AV$1017),0)","v":0},{"$f":"IFERROR($E63*SUMIF('Daily Log'!$AX$18:$AX$1017,$B63,'Daily Log'!$AY$18:$AY$1017),0)","v":0},{"$f":"IFERROR($E63*SUMIF('Daily Log'!$BA$18:$BA$1017,$B63,'Daily Log'!$BB$18:$BB$1017),0)","v":0},{"$f":"IFERROR($E63*SUMIF('Daily Log'!$BD$18:$BD$1017,$B63,'Daily Log'!$BE$18:$BE$1017),0)","v":0},{"$f":"IFERROR($E63*SUMIF('Daily Log'!$BG$18:$BG$1017,$B63,'Daily Log'!$BH$18:$BH$1017),0)","v":0},{"$f":"IFERROR($E63*SUMIF('Daily Log'!$BJ$18:$BJ$1017,$B63,'Daily Log'!$BK$18:$BK$1017),0)","v":0},{"$f":"IFERROR($E63*SUMIF('Daily Log'!$BM$18:$BM$1017,$B63,'Daily Log'!$BN$18:$BN$1017),0)","v":0},{"$f":"IFERROR($E63*SUMIF('Daily Log'!$BP$18:$BP$1017,$B63,'Daily Log'!$BQ$18:$BQ$1017),0)","v":0},{"$f":"IFERROR($E63*SUMIF('Daily Log'!$BS$18:$BS$1017,$B63,'Daily Log'!$BT$18:$BT$1017),0)","v":0},{"$f":"IFERROR($E63*SUMIF('Daily Log'!$BV$18:$BV$1017,$B63,'Daily Log'!$BW$18:$BW$1017),0)","v":0},{"$f":"IFERROR($E63*SUMIF('Daily Log'!$BY$18:$BY$1017,$B63,'Daily Log'!$BZ$18:$BZ$1017),0)","v":0},{"$f":"IFERROR($E63*SUMIF('Daily Log'!$CB$18:$CB$1017,$B63,'Daily Log'!$CC$18:$CC$1017),0)","v":0},{"$f":"IFERROR($E63*SUMIF('Daily Log'!$CE$18:$CE$1017,$B63,'Daily Log'!$CF$18:$CF$1017),0)","v":0},{"$f":"IFERROR($E63*SUMIF('Daily Log'!$CH$18:$CH$1017,$B63,'Daily Log'!$CI$18:$CI$1017),0)","v":0},{"$f":"IFERROR($E63*SUMIF('Daily Log'!$CK$18:$CK$1017,$B63,'Daily Log'!$CL$18:$CL$1017),0)","v":0},{"$f":"IFERROR($E63*SUMIF('Daily Log'!$CN$18:$CN$1017,$B63,'Daily Log'!$CO$18:$CO$1017),0)","v":0}]
[null,"AB12 Father",null,null,1,0,{"$f":"IFERROR($E64*SUMIF('Daily Log'!$B$18:$B$1017,$B64,'Daily Log'!$C$18:$C$1017),0)","v":0},{"$f":"IFERROR($E64*SUMIF('Daily Log'!$E$18:$E$1017,$B64,'Daily Log'!$F$18:$F$1017),0)","v":0},{"$f":"IFERROR($E64*SUMIF('Daily Log'!$H$18:$H$1017,$B64,'Daily Log'!$I$18:$I$1017),0)","v":0},{"$f":"IFERROR($E64*SUMIF('Daily Log'!$K$18:$K$1017,$B64,'Daily Log'!$L$18:$L$1017),0)","v":0},{"$f":"IFERROR($E64*SUMIF('Daily Log'!$N$18:$N$1017,$B64,'Daily Log'!$O$18:$O$1017),0)","v":0},{"$f":"IFERROR($E64*SUMIF('Daily Log'!$Q$18:$Q$1017,$B64,'Daily Log'!$R$18:$R$1017),0)","v":0},{"$f":"IFERROR($E64*SUMIF('Daily Log'!$T$18:$T$1017,$B64,'Daily Log'!$U$18:$U$1017),0)","v":0},{"$f":"IFERROR($E64*SUMIF('Daily Log'!$W$18:$W$1017,$B64,'Daily Log'!$X$18:$X$1017),0)","v":0},{"$f":"IFERROR($E64*SUMIF('Daily Log'!$Z$18:$Z$1017,$B64,'Daily Log'!$AA$18:$AA$1017),0)","v":0},{"$f":"IFERROR($E64*SUMIF('Daily Log'!$AC$18:$AC$1017,$B64,'Daily Log'!$AD$18:$AD$1017),0)","v":0},{"$f":"IFERROR($E64*SUMIF('Daily Log'!$AF$18:$AF$1017,$B64,'Daily Log'!$AG$18:$AG$1017),0)","v":0},{"$f":"IFERROR($E64*SUMIF('Daily Log'!$AI$18:$AI$1017,$B64,'Daily Log'!$AJ$18:$AJ$1017),0)","v":0},{"$f":"IFERROR($E64*SUMIF('Daily Log'!$AL$18:$AL$1017,$B64,'Daily Log'!$AM$18:$AM$1017),0)","v":0},{"$f":"IFERROR($E64*SUMIF('Daily Log'!$AO$18:$AO$1017,$B64,'Daily Log'!$AP$18:$AP$1017),0)","v":0},{"$f":"IFERROR($E64*SUMIF('Daily Log'!$AR$18:$AR$1017,$B64,'Daily Log'!$AS$18:$AS$1017),0)","v":0},{"$f":"IFERROR($E64*SUMIF('Daily Log'!$AU$18:$AU$1017,$B64,'Daily Log'!$AV$18:$AV$1017),0)","v":0},{"$f":"IFERROR($E64*SUMIF('Daily Log'!$AX$18:$AX$1017,$B64,'Daily Log'!$AY$18:$AY$1017),0)","v":0},{"$f":"IFERROR($E64*SUMIF('Daily Log'!$BA$18:$BA$1017,$B64,'Daily Log'!$BB$18:$BB$1017),0)","v":0},{"$f":"IFERROR($E64*SUMIF('Daily Log'!$BD$18:$BD$1017,$B64,'Daily Log'!$BE$18:$BE$1017),0)","v":0},{"$f":"IFERROR($E64*SUMIF('Daily Log'!$BG$18:$BG$1017,$B64,'Daily Log'!$BH$18:$BH$1017),0)","v":0},{"$f":"IFERROR($E64*SUMIF('Daily Log'!$BJ$18:$BJ$1017,$B64,'Daily Log'!$BK$18:$BK$1017),0)","v":0},{"$f":"IFERROR($E64*SUMIF('Daily Log'!$BM$18:$BM$1017,$B64,'Daily Log'!$BN$18:$BN$1017),0)","v":0},{"$f":"IFERROR($E64*SUMIF('Daily Log'!$BP$18:$BP$1017,$B64,'Daily Log'!$BQ$18:$BQ$1017),0)","v":0},{"$f":"IFERROR($E64*SUMIF('Daily Log'!$BS$18:$BS$1017,$B64,'Daily Log'!$BT$18:$BT$1017),0)","v":0},{"$f":"IFERROR($E64*SUMIF('Daily Log'!$BV$18:$BV$1017,$B64,'Daily Log'!$BW$18:$BW$1017),0)","v":0},{"$f":"IFERROR($E64*SUMIF('Daily Log'!$BY$18:$BY$1017,$B64,'Daily Log'!$BZ$18:$BZ$1017),0)","v":0},{"$f":"IFERROR($E64*SUMIF('Daily Log'!$CB$18:$CB$1017,$B64,'Daily Log'!$CC$18:$CC$1017),0)","v":0},{"$f":"IFERROR($E64*SUMIF('Daily Log'!$CE$18:$CE$1017,$B64,'Daily Log'!$CF$18:$CF$1017),0)","v":0},{"$f":"IFERROR($E64*SUMIF('Daily Log'!$CH$18:$CH$1017,$B64,'Daily Log'!$CI$18:$CI$1017),0)","v":0},{"$f":"IFERROR($E64*SUMIF('Daily Log'!$CK$18:$CK$1017,$B64,'Daily Log'!$CL$18:$CL$1017),0)","v":0},{"$f":"IFERROR($E64*SUMIF('Daily Log'!$CN$18:$CN$1017,$B64,'Daily Log'!$CO$18:$CO$1017),0)","v":0}]
[null,"AB13 H : FREEHEAD (R)",null,null,1,0,{"$f":"IFERROR($E65*SUMIF('Daily Log'!$B$18:$B$1017,$B65,'Daily Log'!$C$18:$C$1017),0)","v":0},{"$f":"IFERROR($E65*SUMIF('Daily Log'!$E$18:$E$1017,$B65,'Daily Log'!$F$18:$F$1017),0)","v":0},{"$f":"IFERROR($E65*SUMIF('Daily Log'!$H$18:$H$1017,$B65,'Daily Log'!$I$18:$I$1017),0)","v":0},{"$f":"IFERROR($E65*SUMIF('Daily Log'!$K$18:$K$1017,$B65,'Daily Log'!$L$18:$L$1017),0)","v":0},{"$f":"IFERROR($E65*SUMIF('Daily Log'!$N$18:$N$1017,$B65,'Daily Log'!$O$18:$O$1017),0)","v":0},{"$f":"IFERROR($E65*SUMIF('Daily Log'!$Q$18:$Q$1017,$B65,'Daily Log'!$R$18:$R$1017),0)","v":0},{"$f":"IFERROR($E65*SUMIF('Daily Log'!$T$18:$T$1017,$B65,'Daily Log'!$U$18:$U$1017),0)","v":0},{"$f":"IFERROR($E65*SUMIF('Daily Log'!$W$18:$W$1017,$B65,'Daily Log'!$X$18:$X$1017),0)","v":0},{"$f":"IFERROR($E65*SUMIF('Daily Log'!$Z$18:$Z$1017,$B65,'Daily Log'!$AA$18:$AA$1017),0)","v":0},{"$f":"IFERROR($E65*SUMIF('Daily Log'!$AC$18:$AC$1017,$B65,'Daily Log'!$AD$18:$AD$1017),0)","v":0},{"$f":"IFERROR($E65*SUMIF('Daily Log'!$AF$18:$AF$1017,$B65,'Daily Log'!$AG$18:$AG$1017),0)","v":0},{"$f":"IFERROR($E65*SUMIF('Daily Log'!$AI$18:$AI$1017,$B65,'Daily Log'!$AJ$18:$AJ$1017),0)","v":0},{"$f":"IFERROR($E65*SUMIF('Daily Log'!$AL$18:$AL$1017,$B65,'Daily Log'!$AM$18:$AM$1017),0)","v":0},{"$f":"IFERROR($E65*SUMIF('Daily Log'!$AO$18:$AO$1017,$B65,'Daily Log'!$AP$18:$AP$1017),0)","v":0},{"$f":"IFERROR($E65*SUMIF('Daily Log'!$AR$18:$AR$1017,$B65,'Daily Log'!$AS$18:$AS$1017),0)","v":0},{"$f":"IFERROR($E65*SUMIF('Daily Log'!$AU$18:$AU$1017,$B65,'Daily Log'!$AV$18:$AV$1017),0)","v":0},{"$f":"IFERROR($E65*SUMIF('Daily Log'!$AX$18:$AX$1017,$B65,'Daily Log'!$AY$18:$AY$1017),0)","v":0},{"$f":"IFERROR($E65*SUMIF('Daily Log'!$BA$18:$BA$1017,$B65,'Daily Log'!$BB$18:$BB$1017),0)","v":0},{"$f":"IFERROR($E65*SUMIF('Daily Log'!$BD$18:$BD$1017,$B65,'Daily Log'!$BE$18:$BE$1017),0)","v":0},{"$f":"IFERROR($E65*SUMIF('Daily Log'!$BG$18:$BG$1017,$B65,'Daily Log'!$BH$18:$BH$1017),0)","v":0},{"$f":"IFERROR($E65*SUMIF('Daily Log'!$BJ$18:$BJ$1017,$B65,'Daily Log'!$BK$18:$BK$1017),0)","v":0},{"$f":"IFERROR($E65*SUMIF('Daily Log'!$BM$18:$BM$1017,$B65,'Daily Log'!$BN$18:$BN$1017),0)","v":0},{"$f":"IFERROR($E65*SUMIF('Daily Log'!$BP$18:$BP$1017,$B65,'Daily Log'!$BQ$18:$BQ$1017),0)","v":0},{"$f":"IFERROR($E65*SUMIF('Daily Log'!$BS$18:$BS$1017,$B65,'Daily Log'!$BT$18:$BT$1017),0)","v":0},{"$f":"IFERROR($E65*SUMIF('Daily Log'!$BV$18:$BV$1017,$B65,'Daily Log'!$BW$18:$BW$1017),0)","v":0},{"$f":"IFERROR($E65*SUMIF('Daily Log'!$BY$18:$BY$1017,$B65,'Daily Log'!$BZ$18:$BZ$1017),0)","v":0},{"$f":"IFERROR($E65*SUMIF('Daily Log'!$CB$18:$CB$1017,$B65,'Daily Log'!$CC$18:$CC$1017),0)","v":0},{"$f":"IFERROR($E65*SUMIF('Daily Log'!$CE$18:$CE$1017,$B65,'Daily Log'!$CF$18:$CF$1017),0)","v":0},{"$f":"IFERROR($E65*SUMIF('Daily Log'!$CH$18:$CH$1017,$B65,'Daily Log'!$CI$18:$CI$1017),0)","v":0},{"$f":"IFERROR($E65*SUMIF('Daily Log'!$CK$18:$CK$1017,$B65,'Daily Log'!$CL$18:$CL$1017),0)","v":0},{"$f":"IFERROR($E65*SUMIF('Daily Log'!$CN$18:$CN$1017,$B65,'Daily Log'!$CO$18:$CO$1017),0)","v":0}]
[null,"AB14 H : 3+1",null,null,1,0,{"$f":"IFERROR($E66*SUMIF('Daily Log'!$B$18:$B$1017,$B66,'Daily Log'!$C$18:$C$1017),0)","v":0},{"$f":"IFERROR($E66*SUMIF('Daily Log'!$E$18:$E$1017,$B66,'Daily Log'!$F$18:$F$1017),0)","v":0},{"$f":"IFERROR($E66*SUMIF('Daily Log'!$H$18:$H$1017,$B66,'Daily Log'!$I$18:$I$1017),0)","v":0},{"$f":"IFERROR($E66*SUMIF('Daily Log'!$K$18:$K$1017,$B66,'Daily Log'!$L$18:$L$1017),0)","v":0},{"$f":"IFERROR($E66*SUMIF('Daily Log'!$N$18:$N$1017,$B66,'Daily Log'!$O$18:$O$1017),0)","v":0},{"$f":"IFERROR($E66*SUMIF('Daily Log'!$Q$18:$Q$1017,$B66,'Daily Log'!$R$18:$R$1017),0)","v":0},{"$f":"IFERROR($E66*SUMIF('Daily Log'!$T$18:$T$1017,$B66,'Daily Log'!$U$18:$U$1017),0)","v":0},{"$f":"IFERROR($E66*SUMIF('Daily Log'!$W$18:$W$1017,$B66,'Daily Log'!$X$18:$X$1017),0)","v":0},{"$f":"IFERROR($E66*SUMIF('Daily Log'!$Z$18:$Z$1017,$B66,'Daily Log'!$AA$18:$AA$1017),0)","v":0},{"$f":"IFERROR($E66*SUMIF('Daily Log'!$AC$18:$AC$1017,$B66,'Daily Log'!$AD$18:$AD$1017),0)","v":0},{"$f":"IFERROR($E66*SUMIF('Daily Log'!$AF$18:$AF$1017,$B66,'Daily Log'!$AG$18:$AG$1017),0)","v":0},{"$f":"IFERROR($E66*SUMIF('Daily Log'!$AI$18:$AI$1017,$B66,'Daily Log'!$AJ$18:$AJ$1017),0)","v":0},{"$f":"IFERROR($E66*SUMIF('Daily Log'!$AL$18:$AL$1017,$B66,'Daily Log'!$AM$18:$AM$1017),0)","v":0},{"$f":"IFERROR($E66*SUMIF('Daily Log'!$AO$18:$AO$1017,$B66,'Daily Log'!$AP$18:$AP$1017),0)","v":0},{"$f":"IFERROR($E66*SUMIF('Daily Log'!$AR$18:$AR$1017,$B66,'Daily Log'!$AS$18:$AS$1017),0)","v":0},{"$f":"IFERROR($E66*SUMIF('Daily Log'!$AU$18:$AU$1017,$B66,'Daily Log'!$AV$18:$AV$1017),0)","v":0},{"$f":"IFERROR($E66*SUMIF('Daily Log'!$AX$18:$AX$1017,$B66,'Daily Log'!$AY$18:$AY$1017),0)","v":0},{"$f":"IFERROR($E66*SUMIF('Daily Log'!$BA$18:$BA$1017,$B66,'Daily Log'!$BB$18:$BB$1017),0)","v":0},{"$f":"IFERROR($E66*SUMIF('Daily Log'!$BD$18:$BD$1017,$B66,'Daily Log'!$BE$18:$BE$1017),0)","v":0},{"$f":"IFERROR($E66*SUMIF('Daily Log'!$BG$18:$BG$1017,$B66,'Daily Log'!$BH$18:$BH$1017),0)","v":0},{"$f":"IFERROR($E66*SUMIF('Daily Log'!$BJ$18:$BJ$1017,$B66,'Daily Log'!$BK$18:$BK$1017),0)","v":0},{"$f":"IFERROR($E66*SUMIF('Daily Log'!$BM$18:$BM$1017,$B66,'Daily Log'!$BN$18:$BN$1017),0)","v":0},{"$f":"IFERROR($E66*SUMIF('Daily Log'!$BP$18:$BP$1017,$B66,'Daily Log'!$BQ$18:$BQ$1017),0)","v":0},{"$f":"IFERROR($E66*SUMIF('Daily Log'!$BS$18:$BS$1017,$B66,'Daily Log'!$BT$18:$BT$1017),0)","v":0},{"$f":"IFERROR($E66*SUMIF('Daily Log'!$BV$18:$BV$1017,$B66,'Daily Log'!$BW$18:$BW$1017),0)","v":0},{"$f":"IFERROR($E66*SUMIF('Daily Log'!$BY$18:$BY$1017,$B66,'Daily Log'!$BZ$18:$BZ$1017),0)","v":0},{"$f":"IFERROR($E66*SUMIF('Daily Log'!$CB$18:$CB$1017,$B66,'Daily Log'!$CC$18:$CC$1017),0)","v":0},{"$f":"IFERROR($E66*SUMIF('Daily Log'!$CE$18:$CE$1017,$B66,'Daily Log'!$CF$18:$CF$1017),0)","v":0},{"$f":"IFERROR($E66*SUMIF('Daily Log'!$CH$18:$CH$1017,$B66,'Daily Log'!$CI$18:$CI$1017),0)","v":0},{"$f":"IFERROR($E66*SUMIF('Daily Log'!$CK$18:$CK$1017,$B66,'Daily Log'!$CL$18:$CL$1017),0)","v":0},{"$f":"IFERROR($E66*SUMIF('Daily Log'!$CN$18:$CN$1017,$B66,'Daily Log'!$CO$18:$CO$1017),0)","v":0}]
[null,"AB15 H : PROMOTION",null,null,1,0,{"$f":"IFERROR($E67*SUMIF('Daily Log'!$B$18:$B$1017,$B67,'Daily Log'!$C$18:$C$1017),0)","v":0},{"$f":"IFERROR($E67*SUMIF('Daily Log'!$E$18:$E$1017,$B67,'Daily Log'!$F$18:$F$1017),0)","v":0},{"$f":"IFERROR($E67*SUMIF('Daily Log'!$H$18:$H$1017,$B67,'Daily Log'!$I$18:$I$1017),0)","v":0},{"$f":"IFERROR($E67*SUMIF('Daily Log'!$K$18:$K$1017,$B67,'Daily Log'!$L$18:$L$1017),0)","v":0},{"$f":"IFERROR($E67*SUMIF('Daily Log'!$N$18:$N$1017,$B67,'Daily Log'!$O$18:$O$1017),0)","v":0},{"$f":"IFERROR($E67*SUMIF('Daily Log'!$Q$18:$Q$1017,$B67,'Daily Log'!$R$18:$R$1017),0)","v":0},{"$f":"IFERROR($E67*SUMIF('Daily Log'!$T$18:$T$1017,$B67,'Daily Log'!$U$18:$U$1017),0)","v":0},{"$f":"IFERROR($E67*SUMIF('Daily Log'!$W$18:$W$1017,$B67,'Daily Log'!$X$18:$X$1017),0)","v":0},{"$f":"IFERROR($E67*SUMIF('Daily Log'!$Z$18:$Z$1017,$B67,'Daily Log'!$AA$18:$AA$1017),0)","v":0},{"$f":"IFERROR($E67*SUMIF('Daily Log'!$AC$18:$AC$1017,$B67,'Daily Log'!$AD$18:$AD$1017),0)","v":0},{"$f":"IFERROR($E67*SUMIF('Daily Log'!$AF$18:$AF$1017,$B67,'Daily Log'!$AG$18:$AG$1017),0)","v":0},{"$f":"IFERROR($E67*SUMIF('Daily Log'!$AI$18:$AI$1017,$B67,'Daily Log'!$AJ$18:$AJ$1017),0)","v":0},{"$f":"IFERROR($E67*SUMIF('Daily Log'!$AL$18:$AL$1017,$B67,'Daily Log'!$AM$18:$AM$1017),0)","v":0},{"$f":"IFERROR($E67*SUMIF('Daily Log'!$AO$18:$AO$1017,$B67,'Daily Log'!$AP$18:$AP$1017),0)","v":0},{"$f":"IFERROR($E67*SUMIF('Daily Log'!$AR$18:$AR$1017,$B67,'Daily Log'!$AS$18:$AS$1017),0)","v":0},{"$f":"IFERROR($E67*SUMIF('Daily Log'!$AU$18:$AU$1017,$B67,'Daily Log'!$AV$18:$AV$1017),0)","v":0},{"$f":"IFERROR($E67*SUMIF('Daily Log'!$AX$18:$AX$1017,$B67,'Daily Log'!$AY$18:$AY$1017),0)","v":0},{"$f":"IFERROR($E67*SUMIF('Daily Log'!$BA$18:$BA$1017,$B67,'Daily Log'!$BB$18:$BB$1017),0)","v":0},{"$f":"IFERROR($E67*SUMIF('Daily Log'!$BD$18:$BD$1017,$B67,'Daily Log'!$BE$18:$BE$1017),0)","v":0},{"$f":"IFERROR($E67*SUMIF('Daily Log'!$BG$18:$BG$1017,$B67,'Daily Log'!$BH$18:$BH$1017),0)","v":0},{"$f":"IFERROR($E67*SUMIF('Daily Log'!$BJ$18:$BJ$1017,$B67,'Daily Log'!$BK$18:$BK$1017),0)","v":0},{"$f":"IFERROR($E67*SUMIF('Daily Log'!$BM$18:$BM$1017,$B67,'Daily Log'!$BN$18:$BN$1017),0)","v":0},{"$f":"IFERROR($E67*SUMIF('Daily Log'!$BP$18:$BP$1017,$B67,'Daily Log'!$BQ$18:$BQ$1017),0)","v":0},{"$f":"IFERROR($E67*SUMIF('Daily Log'!$BS$18:$BS$1017,$B67,'Daily Log'!$BT$18:$BT$1017),0)","v":0},{"$f":"IFERROR($E67*SUMIF('Daily Log'!$BV$18:$BV$1017,$B67,'Daily Log'!$BW$18:$BW$1017),0)","v":0},{"$f":"IFERROR($E67*SUMIF('Daily Log'!$BY$18:$BY$1017,$B67,'Daily Log'!$BZ$18:$BZ$1017),0)","v":0},{"$f":"IFERROR($E67*SUMIF('Daily Log'!$CB$18:$CB$1017,$B67,'Daily Log'!$CC$18:$CC$1017),0)","v":0},{"$f":"IFERROR($E67*SUMIF('Daily Log'!$CE$18:$CE$1017,$B67,'Daily Log'!$CF$18:$CF$1017),0)","v":0},{"$f":"IFERROR($E67*SUMIF('Daily Log'!$CH$18:$CH$1017,$B67,'Daily Log'!$CI$18:$CI$1017),0)","v":0},{"$f":"IFERROR($E67*SUMIF('Daily Log'!$CK$18:$CK$1017,$B67,'Daily Log'!$CL$18:$CL$1017),0)","v":0},{"$f":"IFERROR($E67*SUMIF('Daily Log'!$CN$18:$CN$1017,$B67,'Daily Log'!$CO$18:$CO$1017),0)","v":0}]
[null,"AB16 H : EVENT",null,null,1,0,{"$f":"IFERROR($E68*SUMIF('Daily Log'!$B$18:$B$1017,$B68,'Daily Log'!$C$18:$C$1017),0)","v":0},{"$f":"IFERROR($E68*SUMIF('Daily Log'!$E$18:$E$1017,$B68,'Daily Log'!$F$18:$F$1017),0)","v":0},{"$f":"IFERROR($E68*SUMIF('Daily Log'!$H$18:$H$1017,$B68,'Daily Log'!$I$18:$I$1017),0)","v":0},{"$f":"IFERROR($E68*SUMIF('Daily Log'!$K$18:$K$1017,$B68,'Daily Log'!$L$18:$L$1017),0)","v":0},{"$f":"IFERROR($E68*SUMIF('Daily Log'!$N$18:$N$1017,$B68,'Daily Log'!$O$18:$O$1017),0)","v":0},{"$f":"IFERROR($E68*SUMIF('Daily Log'!$Q$18:$Q$1017,$B68,'Daily Log'!$R$18:$R$1017),0)","v":0},{"$f":"IFERROR($E68*SUMIF('Daily Log'!$T$18:$T$1017,$B68,'Daily Log'!$U$18:$U$1017),0)","v":0},{"$f":"IFERROR($E68*SUMIF('Daily Log'!$W$18:$W$1017,$B68,'Daily Log'!$X$18:$X$1017),0)","v":0},{"$f":"IFERROR($E68*SUMIF('Daily Log'!$Z$18:$Z$1017,$B68,'Daily Log'!$AA$18:$AA$1017),0)","v":0},{"$f":"IFERROR($E68*SUMIF('Daily Log'!$AC$18:$AC$1017,$B68,'Daily Log'!$AD$18:$AD$1017),0)","v":0},{"$f":"IFERROR($E68*SUMIF('Daily Log'!$AF$18:$AF$1017,$B68,'Daily Log'!$AG$18:$AG$1017),0)","v":0},{"$f":"IFERROR($E68*SUMIF('Daily Log'!$AI$18:$AI$1017,$B68,'Daily Log'!$AJ$18:$AJ$1017),0)","v":0},{"$f":"IFERROR($E68*SUMIF('Daily Log'!$AL$18:$AL$1017,$B68,'Daily Log'!$AM$18:$AM$1017),0)","v":0},{"$f":"IFERROR($E68*SUMIF('Daily Log'!$AO$18:$AO$1017,$B68,'Daily Log'!$AP$18:$AP$1017),0)","v":0},{"$f":"IFERROR($E68*SUMIF('Daily Log'!$AR$18:$AR$1017,$B68,'Daily Log'!$AS$18:$AS$1017),0)","v":0},{"$f":"IFERROR($E68*SUMIF('Daily Log'!$AU$18:$AU$1017,$B68,'Daily Log'!$AV$18:$AV$1017),0)","v":0},{"$f":"IFERROR($E68*SUMIF('Daily Log'!$AX$18:$AX$1017,$B68,'Daily Log'!$AY$18:$AY$1017),0)","v":0},{"$f":"IFERROR($E68*SUMIF('Daily Log'!$BA$18:$BA$1017,$B68,'Daily Log'!$BB$18:$BB$1017),0)","v":0},{"$f":"IFERROR($E68*SUMIF('Daily Log'!$BD$18:$BD$1017,$B68,'Daily Log'!$BE$18:$BE$1017),0)","v":0},{"$f":"IFERROR($E68*SUMIF('Daily Log'!$BG$18:$BG$1017,$B68,'Daily Log'!$BH$18:$BH$1017),0)","v":0},{"$f":"IFERROR($E68*SUMIF('Daily Log'!$BJ$18:$BJ$1017,$B68,'Daily Log'!$BK$18:$BK$1017),0)","v":0},{"$f":"IFERROR($E68*SUMIF('Daily Log'!$BM$18:$BM$1017,$B68,'Daily Log'!$BN$18:$BN$1017),0)","v":0},{"$f":"IFERROR($E68*SUMIF('Daily Log'!$BP$18:$BP$1017,$B68,'Daily Log'!$BQ$18:$BQ$1017),0)","v":0},{"$f":"IFERROR($E68*SUMIF('Daily Log'!$BS$18:$BS$1017,$B68,'Daily Log'!$BT$18:$BT$1017),0)","v":0},{"$f":"IFERROR($E68*SUMIF('Daily Log'!$BV$18:$BV$1017,$B68,'Daily Log'!$BW$18:$BW$1017),0)","v":0},{"$f":"IFERROR($E68*SUMIF('Daily Log'!$BY$18:$BY$1017,$B68,'Daily Log'!$BZ$18:$BZ$1017),0)","v":0},{"$f":"IFERROR($E68*SUMIF('Daily Log'!$CB$18:$CB$1017,$B68,'Daily Log'!$CC$18:$CC$1017),0)","v":0},{"$f":"IFERROR($E68*SUMIF('Daily Log'!$CE$18:$CE$1017,$B68,'Daily Log'!$CF$18:$CF$1017),0)","v":0},{"$f":"IFERROR($E68*SUMIF('Daily Log'!$CH$18:$CH$1017,$B68,'Daily Log'!$CI$18:$CI$1017),0)","v":0},{"$f":"IFERROR($E68*SUMIF('Daily Log'!$CK$18:$CK$1017,$B68,'Daily Log'!$CL$18:$CL$1017),0)","v":0},{"$f":"IFERROR($E68*SUMIF('Daily Log'!$CN$18:$CN$1017,$B68,'Daily Log'!$CO$18:$CO$1017),0)","v":0}]
[null,"AB17 H : XTD S ROOM",null,null,1,0,{"$f":"IFERROR($E69*SUMIF('Daily Log'!$B$18:$B$1017,$B69,'Daily Log'!$C$18:$C$1017),0)","v":0},{"$f":"IFERROR($E69*SUMIF('Daily Log'!$E$18:$E$1017,$B69,'Daily Log'!$F$18:$F$1017),0)","v":0},{"$f":"IFERROR($E69*SUMIF('Daily Log'!$H$18:$H$1017,$B69,'Daily Log'!$I$18:$I$1017),0)","v":0},{"$f":"IFERROR($E69*SUMIF('Daily Log'!$K$18:$K$1017,$B69,'Daily Log'!$L$18:$L$1017),0)","v":0},{"$f":"IFERROR($E69*SUMIF('Daily Log'!$N$18:$N$1017,$B69,'Daily Log'!$O$18:$O$1017),0)","v":0},{"$f":"IFERROR($E69*SUMIF('Daily Log'!$Q$18:$Q$1017,$B69,'Daily Log'!$R$18:$R$1017),0)","v":0},{"$f":"IFERROR($E69*SUMIF('Daily Log'!$T$18:$T$1017,$B69,'Daily Log'!$U$18:$U$1017),0)","v":0},{"$f":"IFERROR($E69*SUMIF('Daily Log'!$W$18:$W$1017,$B69,'Daily Log'!$X$18:$X$1017),0)","v":0},{"$f":"IFERROR($E69*SUMIF('Daily Log'!$Z$18:$Z$1017,$B69,'Daily Log'!$AA$18:$AA$1017),0)","v":0},{"$f":"IFERROR($E69*SUMIF('Daily Log'!$AC$18:$AC$1017,$B69,'Daily Log'!$AD$18:$AD$1017),0)","v":0},{"$f":"IFERROR($E69*SUMIF('Daily Log'!$AF$18:$AF$1017,$B69,'Daily Log'!$AG$18:$AG$1017),0)","v":0},{"$f":"IFERROR($E69*SUMIF('Daily Log'!$AI$18:$AI$1017,$B69,'Daily Log'!$AJ$18:$AJ$1017),0)","v":0},{"$f":"IFERROR($E69*SUMIF('Daily Log'!$AL$18:$AL$1017,$B69,'Daily Log'!$AM$18:$AM$1017),0)","v":0},{"$f":"IFERROR($E69*SUMIF('Daily Log'!$AO$18:$AO$1017,$B69,'Daily Log'!$AP$18:$AP$1017),0)","v":0},{"$f":"IFERROR($E69*SUMIF('Daily Log'!$AR$18:$AR$1017,$B69,'Daily Log'!$AS$18:$AS$1017),0)","v":0},{"$f":"IFERROR($E69*SUMIF('Daily Log'!$AU$18:$AU$1017,$B69,'Daily Log'!$AV$18:$AV$1017),0)","v":0},{"$f":"IFERROR($E69*SUMIF('Daily Log'!$AX$18:$AX$1017,$B69,'Daily Log'!$AY$18:$AY$1017),0)","v":0},{"$f":"IFERROR($E69*SUMIF('Daily Log'!$BA$18:$BA$1017,$B69,'Daily Log'!$BB$18:$BB$1017),0)","v":0},{"$f":"IFERROR($E69*SUMIF('Daily Log'!$BD$18:$BD$1017,$B69,'Daily Log'!$BE$18:$BE$1017),0)","v":0},{"$f":"IFERROR($E69*SUMIF('Daily Log'!$BG$18:$BG$1017,$B69,'Daily Log'!$BH$18:$BH$1017),0)","v":0},{"$f":"IFERROR($E69*SUMIF('Daily Log'!$BJ$18:$BJ$1017,$B69,'Daily Log'!$BK$18:$BK$1017),0)","v":0},{"$f":"IFERROR($E69*SUMIF('Daily Log'!$BM$18:$BM$1017,$B69,'Daily Log'!$BN$18:$BN$1017),0)","v":0},{"$f":"IFERROR($E69*SUMIF('Daily Log'!$BP$18:$BP$1017,$B69,'Daily Log'!$BQ$18:$BQ$1017),0)","v":0},{"$f":"IFERROR($E69*SUMIF('Daily Log'!$BS$18:$BS$1017,$B69,'Daily Log'!$BT$18:$BT$1017),0)","v":0},{"$f":"IFERROR($E69*SUMIF('Daily Log'!$BV$18:$BV$1017,$B69,'Daily Log'!$BW$18:$BW$1017),0)","v":0},{"$f":"IFERROR($E69*SUMIF('Daily Log'!$BY$18:$BY$1017,$B69,'Daily Log'!$BZ$18:$BZ$1017),0)","v":0},{"$f":"IFERROR($E69*SUMIF('Daily Log'!$CB$18:$CB$1017,$B69,'Daily Log'!$CC$18:$CC$1017),0)","v":0},{"$f":"IFERROR($E69*SUMIF('Daily Log'!$CE$18:$CE$1017,$B69,'Daily Log'!$CF$18:$CF$1017),0)","v":0},{"$f":"IFERROR($E69*SUMIF('Daily Log'!$CH$18:$CH$1017,$B69,'Daily Log'!$CI$18:$CI$1017),0)","v":0},{"$f":"IFERROR($E69*SUMIF('Daily Log'!$CK$18:$CK$1017,$B69,'Daily Log'!$CL$18:$CL$1017),0)","v":0},{"$f":"IFERROR($E69*SUMIF('Daily Log'!$CN$18:$CN$1017,$B69,'Daily Log'!$CO$18:$CO$1017),0)","v":0}]
[null,"AB18 H : XTD M ROOM",null,null,1,0,{"$f":"IFERROR($E70*SUMIF('Daily Log'!$B$18:$B$1017,$B70,'Daily Log'!$C$18:$C$1017),0)","v":0},{"$f":"IFERROR($E70*SUMIF('Daily Log'!$E$18:$E$1017,$B70,'Daily Log'!$F$18:$F$1017),0)","v":0},{"$f":"IFERROR($E70*SUMIF('Daily Log'!$H$18:$H$1017,$B70,'Daily Log'!$I$18:$I$1017),0)","v":0},{"$f":"IFERROR($E70*SUMIF('Daily Log'!$K$18:$K$1017,$B70,'Daily Log'!$L$18:$L$1017),0)","v":0},{"$f":"IFERROR($E70*SUMIF('Daily Log'!$N$18:$N$1017,$B70,'Daily Log'!$O$18:$O$1017),0)","v":0},{"$f":"IFERROR($E70*SUMIF('Daily Log'!$Q$18:$Q$1017,$B70,'Daily Log'!$R$18:$R$1017),0)","v":0},{"$f":"IFERROR($E70*SUMIF('Daily Log'!$T$18:$T$1017,$B70,'Daily Log'!$U$18:$U$1017),0)","v":0},{"$f":"IFERROR($E70*SUMIF('Daily Log'!$W$18:$W$1017,$B70,'Daily Log'!$X$18:$X$1017),0)","v":0},{"$f":"IFERROR($E70*SUMIF('Daily Log'!$Z$18:$Z$1017,$B70,'Daily Log'!$AA$18:$AA$1017),0)","v":0},{"$f":"IFERROR($E70*SUMIF('Daily Log'!$AC$18:$AC$1017,$B70,'Daily Log'!$AD$18:$AD$1017),0)","v":0},{"$f":"IFERROR($E70*SUMIF('Daily Log'!$AF$18:$AF$1017,$B70,'Daily Log'!$AG$18:$AG$1017),0)","v":0},{"$f":"IFERROR($E70*SUMIF('Daily Log'!$AI$18:$AI$1017,$B70,'Daily Log'!$AJ$18:$AJ$1017),0)","v":0},{"$f":"IFERROR($E70*SUMIF('Daily Log'!$AL$18:$AL$1017,$B70,'Daily Log'!$AM$18:$AM$1017),0)","v":0},{"$f":"IFERROR($E70*SUMIF('Daily Log'!$AO$18:$AO$1017,$B70,'Daily Log'!$AP$18:$AP$1017),0)","v":0},{"$f":"IFERROR($E70*SUMIF('Daily Log'!$AR$18:$AR$1017,$B70,'Daily Log'!$AS$18:$AS$1017),0)","v":0},{"$f":"IFERROR($E70*SUMIF('Daily Log'!$AU$18:$AU$1017,$B70,'Daily Log'!$AV$18:$AV$1017),0)","v":0},{"$f":"IFERROR($E70*SUMIF('Daily Log'!$AX$18:$AX$1017,$B70,'Daily Log'!$AY$18:$AY$1017),0)","v":0},{"$f":"IFERROR($E70*SUMIF('Daily Log'!$BA$18:$BA$1017,$B70,'Daily Log'!$BB$18:$BB$1017),0)","v":0},{"$f":"IFERROR($E70*SUMIF('Daily Log'!$BD$18:$BD$1017,$B70,'Daily Log'!$BE$18:$BE$1017),0)","v":0},{"$f":"IFERROR($E70*SUMIF('Daily Log'!$BG$18:$BG$1017,$B70,'Daily Log'!$BH$18:$BH$1017),0)","v":0},{"$f":"IFERROR($E70*SUMIF('Daily Log'!$BJ$18:$BJ$1017,$B70,'Daily Log'!$BK$18:$BK$1017),0)","v":0},{"$f":"IFERROR($E70*SUMIF('Daily Log'!$BM$18:$BM$1017,$B70,'Daily Log'!$BN$18:$BN$1017),0)","v":0},{"$f":"IFERROR($E70*SUMIF('Daily Log'!$BP$18:$BP$1017,$B70,'Daily Log'!$BQ$18:$BQ$1017),0)","v":0},{"$f":"IFERROR($E70*SUMIF('Daily Log'!$BS$18:$BS$1017,$B70,'Daily Log'!$BT$18:$BT$1017),0)","v":0},{"$f":"IFERROR($E70*SUMIF('Daily Log'!$BV$18:$BV$1017,$B70,'Daily Log'!$BW$18:$BW$1017),0)","v":0},{"$f":"IFERROR($E70*SUMIF('Daily Log'!$BY$18:$BY$1017,$B70,'Daily Log'!$BZ$18:$BZ$1017),0)","v":0},{"$f":"IFERROR($E70*SUMIF('Daily Log'!$CB$18:$CB$1017,$B70,'Daily Log'!$CC$18:$CC$1017),0)","v":0},{"$f":"IFERROR($E70*SUMIF('Daily Log'!$CE$18:$CE$1017,$B70,'Daily Log'!$CF$18:$CF$1017),0)","v":0},{"$f":"IFERROR($E70*SUMIF('Daily Log'!$CH$18:$CH$1017,$B70,'Daily Log'!$CI$18:$CI$1017),0)","v":0},{"$f":"IFERROR($E70*SUMIF('Daily Log'!$CK$18:$CK$1017,$B70,'Daily Log'!$CL$18:$CL$1017),0)","v":0},{"$f":"IFERROR($E70*SUMIF('Daily Log'!$CN$18:$CN$1017,$B70,'Daily Log'!$CO$18:$CO$1017),0)","v":0}]
[null,"AB19 H : XTD B ROOM",null,null,1,0,{"$f":"IFERROR($E71*SUMIF('Daily Log'!$B$18:$B$1017,$B71,'Daily Log'!$C$18:$C$1017),0)","v":0},{"$f":"IFERROR($E71*SUMIF('Daily Log'!$E$18:$E$1017,$B71,'Daily Log'!$F$18:$F$1017),0)","v":0},{"$f":"IFERROR($E71*SUMIF('Daily Log'!$H$18:$H$1017,$B71,'Daily Log'!$I$18:$I$1017),0)","v":0},{"$f":"IFERROR($E71*SUMIF('Daily Log'!$K$18:$K$1017,$B71,'Daily Log'!$L$18:$L$1017),0)","v":0},{"$f":"IFERROR($E71*SUMIF('Daily Log'!$N$18:$N$1017,$B71,'Daily Log'!$O$18:$O$1017),0)","v":0},{"$f":"IFERROR($E71*SUMIF('Daily Log'!$Q$18:$Q$1017,$B71,'Daily Log'!$R$18:$R$1017),0)","v":0},{"$f":"IFERROR($E71*SUMIF('Daily Log'!$T$18:$T$1017,$B71,'Daily Log'!$U$18:$U$1017),0)","v":0},{"$f":"IFERROR($E71*SUMIF('Daily Log'!$W$18:$W$1017,$B71,'Daily Log'!$X$18:$X$1017),0)","v":0},{"$f":"IFERROR($E71*SUMIF('Daily Log'!$Z$18:$Z$1017,$B71,'Daily Log'!$AA$18:$AA$1017),0)","v":0},{"$f":"IFERROR($E71*SUMIF('Daily Log'!$AC$18:$AC$1017,$B71,'Daily Log'!$AD$18:$AD$1017),0)","v":0},{"$f":"IFERROR($E71*SUMIF('Daily Log'!$AF$18:$AF$1017,$B71,'Daily Log'!$AG$18:$AG$1017),0)","v":0},{"$f":"IFERROR($E71*SUMIF('Daily Log'!$AI$18:$AI$1017,$B71,'Daily Log'!$AJ$18:$AJ$1017),0)","v":0},{"$f":"IFERROR($E71*SUMIF('Daily Log'!$AL$18:$AL$1017,$B71,'Daily Log'!$AM$18:$AM$1017),0)","v":0},{"$f":"IFERROR($E71*SUMIF('Daily Log'!$AO$18:$AO$1017,$B71,'Daily Log'!$AP$18:$AP$1017),0)","v":0},{"$f":"IFERROR($E71*SUMIF('Daily Log'!$AR$18:$AR$1017,$B71,'Daily Log'!$AS$18:$AS$1017),0)","v":0},{"$f":"IFERROR($E71*SUMIF('Daily Log'!$AU$18:$AU$1017,$B71,'Daily Log'!$AV$18:$AV$1017),0)","v":0},{"$f":"IFERROR($E71*SUMIF('Daily Log'!$AX$18:$AX$1017,$B71,'Daily Log'!$AY$18:$AY$1017),0)","v":0},{"$f":"IFERROR($E71*SUMIF('Daily Log'!$BA$18:$BA$1017,$B71,'Daily Log'!$BB$18:$BB$1017),0)","v":0},{"$f":"IFERROR($E71*SUMIF('Daily Log'!$BD$18:$BD$1017,$B71,'Daily Log'!$BE$18:$BE$1017),0)","v":0},{"$f":"IFERROR($E71*SUMIF('Daily Log'!$BG$18:$BG$1017,$B71,'Daily Log'!$BH$18:$BH$1017),0)","v":0},{"$f":"IFERROR($E71*SUMIF('Daily Log'!$BJ$18:$BJ$1017,$B71,'Daily Log'!$BK$18:$BK$1017),0)","v":0},{"$f":"IFERROR($E71*SUMIF('Daily Log'!$BM$18:$BM$1017,$B71,'Daily Log'!$BN$18:$BN$1017),0)","v":0},{"$f":"IFERROR($E71*SUMIF('Daily Log'!$BP$18:$BP$1017,$B71,'Daily Log'!$BQ$18:$BQ$1017),0)","v":0},{"$f":"IFERROR($E71*SUMIF('Daily Log'!$BS$18:$BS$1017,$B71,'Daily Log'!$BT$18:$BT$1017),0)","v":0},{"$f":"IFERROR($E71*SUMIF('Daily Log'!$BV$18:$BV$1017,$B71,'Daily Log'!$BW$18:$BW$1017),0)","v":0},{"$f":"IFERROR($E71*SUMIF('Daily Log'!$BY$18:$BY$1017,$B71,'Daily Log'!$BZ$18:$BZ$1017),0)","v":0},{"$f":"IFERROR($E71*SUMIF('Daily Log'!$CB$18:$CB$1017,$B71,'Daily Log'!$CC$18:$CC$1017),0)","v":0},{"$f":"IFERROR($E71*SUMIF('Daily Log'!$CE$18:$CE$1017,$B71,'Daily Log'!$CF$18:$CF$1017),0)","v":0},{"$f":"IFERROR($E71*SUMIF('Daily Log'!$CH$18:$CH$1017,$B71,'Daily Log'!$CI$18:$CI$1017),0)","v":0},{"$f":"IFERROR($E71*SUMIF('Daily Log'!$CK$18:$CK$1017,$B71,'Daily Log'!$CL$18:$CL$1017),0)","v":0},{"$f":"IFERROR($E71*SUMIF('Daily Log'!$CN$18:$CN$1017,$B71,'Daily Log'!$CO$18:$CO$1017),0)","v":0}]
[null,"AB20 H : FOC HOUR",null,null,1,0,{"$f":"IFERROR($E72*SUMIF('Daily Log'!$B$18:$B$1017,$B72,'Daily Log'!$C$18:$C$1017),0)","v":0},{"$f":"IFERROR($E72*SUMIF('Daily Log'!$E$18:$E$1017,$B72,'Daily Log'!$F$18:$F$1017),0)","v":0},{"$f":"IFERROR($E72*SUMIF('Daily Log'!$H$18:$H$1017,$B72,'Daily Log'!$I$18:$I$1017),0)","v":0},{"$f":"IFERROR($E72*SUMIF('Daily Log'!$K$18:$K$1017,$B72,'Daily Log'!$L$18:$L$1017),0)","v":0},{"$f":"IFERROR($E72*SUMIF('Daily Log'!$N$18:$N$1017,$B72,'Daily Log'!$O$18:$O$1017),0)","v":0},{"$f":"IFERROR($E72*SUMIF('Daily Log'!$Q$18:$Q$1017,$B72,'Daily Log'!$R$18:$R$1017),0)","v":0},{"$f":"IFERROR($E72*SUMIF('Daily Log'!$T$18:$T$1017,$B72,'Daily Log'!$U$18:$U$1017),0)","v":0},{"$f":"IFERROR($E72*SUMIF('Daily Log'!$W$18:$W$1017,$B72,'Daily Log'!$X$18:$X$1017),0)","v":0},{"$f":"IFERROR($E72*SUMIF('Daily Log'!$Z$18:$Z$1017,$B72,'Daily Log'!$AA$18:$AA$1017),0)","v":0},{"$f":"IFERROR($E72*SUMIF('Daily Log'!$AC$18:$AC$1017,$B72,'Daily Log'!$AD$18:$AD$1017),0)","v":0},{"$f":"IFERROR($E72*SUMIF('Daily Log'!$AF$18:$AF$1017,$B72,'Daily Log'!$AG$18:$AG$1017),0)","v":0},{"$f":"IFERROR($E72*SUMIF('Daily Log'!$AI$18:$AI$1017,$B72,'Daily Log'!$AJ$18:$AJ$1017),0)","v":0},{"$f":"IFERROR($E72*SUMIF('Daily Log'!$AL$18:$AL$1017,$B72,'Daily Log'!$AM$18:$AM$1017),0)","v":0},{"$f":"IFERROR($E72*SUMIF('Daily Log'!$AO$18:$AO$1017,$B72,'Daily Log'!$AP$18:$AP$1017),0)","v":0},{"$f":"IFERROR($E72*SUMIF('Daily Log'!$AR$18:$AR$1017,$B72,'Daily Log'!$AS$18:$AS$1017),0)","v":0},{"$f":"IFERROR($E72*SUMIF('Daily Log'!$AU$18:$AU$1017,$B72,'Daily Log'!$AV$18:$AV$1017),0)","v":0},{"$f":"IFERROR($E72*SUMIF('Daily Log'!$AX$18:$AX$1017,$B72,'Daily Log'!$AY$18:$AY$1017),0)","v":0},{"$f":"IFERROR($E72*SUMIF('Daily Log'!$BA$18:$BA$1017,$B72,'Daily Log'!$BB$18:$BB$1017),0)","v":0},{"$f":"IFERROR($E72*SUMIF('Daily Log'!$BD$18:$BD$1017,$B72,'Daily Log'!$BE$18:$BE$1017),0)","v":0},{"$f":"IFERROR($E72*SUMIF('Daily Log'!$BG$18:$BG$1017,$B72,'Daily Log'!$BH$18:$BH$1017),0)","v":0},{"$f":"IFERROR($E72*SUMIF('Daily Log'!$BJ$18:$BJ$1017,$B72,'Daily Log'!$BK$18:$BK$1017),0)","v":0},{"$f":"IFERROR($E72*SUMIF('Daily Log'!$BM$18:$BM$1017,$B72,'Daily Log'!$BN$18:$BN$1017),0)","v":0},{"$f":"IFERROR($E72*SUMIF('Daily Log'!$BP$18:$BP$1017,$B72,'Daily Log'!$BQ$18:$BQ$1017),0)","v":0},{"$f":"IFERROR($E72*SUMIF('Daily Log'!$BS$18:$BS$1017,$B72,'Daily Log'!$BT$18:$BT$1017),0)","v":0},{"$f":"IFERROR($E72*SUMIF('Daily Log'!$BV$18:$BV$1017,$B72,'Daily Log'!$BW$18:$BW$1017),0)","v":0},{"$f":"IFERROR($E72*SUMIF('Daily Log'!$BY$18:$BY$1017,$B72,'Daily Log'!$BZ$18:$BZ$1017),0)","v":0},{"$f":"IFERROR($E72*SUMIF('Daily Log'!$CB$18:$CB$1017,$B72,'Daily Log'!$CC$18:$CC$1017),0)","v":0},{"$f":"IFERROR($E72*SUMIF('Daily Log'!$CE$18:$CE$1017,$B72,'Daily Log'!$CF$18:$CF$1017),0)","v":0},{"$f":"IFERROR($E72*SUMIF('Daily Log'!$CH$18:$CH$1017,$B72,'Daily Log'!$CI$18:$CI$1017),0)","v":0},{"$f":"IFERROR($E72*SUMIF('Daily Log'!$CK$18:$CK$1017,$B72,'Daily Log'!$CL$18:$CL$1017),0)","v":0},{"$f":"IFERROR($E72*SUMIF('Daily Log'!$CN$18:$CN$1017,$B72,'Daily Log'!$CO$18:$CO$1017),0)","v":0}]
[null,"AB41 N : REGULAR",null,null,1,0,{"$f":"IFERROR($E73*SUMIF('Daily Log'!$B$18:$B$1017,$B73,'Daily Log'!$C$18:$C$1017),0)","v":0},{"$f":"IFERROR($E73*SUMIF('Daily Log'!$E$18:$E$1017,$B73,'Daily Log'!$F$18:$F$1017),0)","v":0},{"$f":"IFERROR($E73*SUMIF('Daily Log'!$H$18:$H$1017,$B73,'Daily Log'!$I$18:$I$1017),0)","v":0},{"$f":"IFERROR($E73*SUMIF('Daily Log'!$K$18:$K$1017,$B73,'Daily Log'!$L$18:$L$1017),0)","v":0},{"$f":"IFERROR($E73*SUMIF('Daily Log'!$N$18:$N$1017,$B73,'Daily Log'!$O$18:$O$1017),0)","v":0},{"$f":"IFERROR($E73*SUMIF('Daily Log'!$Q$18:$Q$1017,$B73,'Daily Log'!$R$18:$R$1017),0)","v":0},{"$f":"IFERROR($E73*SUMIF('Daily Log'!$T$18:$T$1017,$B73,'Daily Log'!$U$18:$U$1017),0)","v":0},{"$f":"IFERROR($E73*SUMIF('Daily Log'!$W$18:$W$1017,$B73,'Daily Log'!$X$18:$X$1017),0)","v":0},{"$f":"IFERROR($E73*SUMIF('Daily Log'!$Z$18:$Z$1017,$B73,'Daily Log'!$AA$18:$AA$1017),0)","v":0},{"$f":"IFERROR($E73*SUMIF('Daily Log'!$AC$18:$AC$1017,$B73,'Daily Log'!$AD$18:$AD$1017),0)","v":0},{"$f":"IFERROR($E73*SUMIF('Daily Log'!$AF$18:$AF$1017,$B73,'Daily Log'!$AG$18:$AG$1017),0)","v":0},{"$f":"IFERROR($E73*SUMIF('Daily Log'!$AI$18:$AI$1017,$B73,'Daily Log'!$AJ$18:$AJ$1017),0)","v":0},{"$f":"IFERROR($E73*SUMIF('Daily Log'!$AL$18:$AL$1017,$B73,'Daily Log'!$AM$18:$AM$1017),0)","v":0},{"$f":"IFERROR($E73*SUMIF('Daily Log'!$AO$18:$AO$1017,$B73,'Daily Log'!$AP$18:$AP$1017),0)","v":0},{"$f":"IFERROR($E73*SUMIF('Daily Log'!$AR$18:$AR$1017,$B73,'Daily Log'!$AS$18:$AS$1017),0)","v":0},{"$f":"IFERROR($E73*SUMIF('Daily Log'!$AU$18:$AU$1017,$B73,'Daily Log'!$AV$18:$AV$1017),0)","v":0},{"$f":"IFERROR($E73*SUMIF('Daily Log'!$AX$18:$AX$1017,$B73,'Daily Log'!$AY$18:$AY$1017),0)","v":0},{"$f":"IFERROR($E73*SUMIF('Daily Log'!$BA$18:$BA$1017,$B73,'Daily Log'!$BB$18:$BB$1017),0)","v":0},{"$f":"IFERROR($E73*SUMIF('Daily Log'!$BD$18:$BD$1017,$B73,'Daily Log'!$BE$18:$BE$1017),0)","v":0},{"$f":"IFERROR($E73*SUMIF('Daily Log'!$BG$18:$BG$1017,$B73,'Daily Log'!$BH$18:$BH$1017),0)","v":0},{"$f":"IFERROR($E73*SUMIF('Daily Log'!$BJ$18:$BJ$1017,$B73,'Daily Log'!$BK$18:$BK$1017),0)","v":0},{"$f":"IFERROR($E73*SUMIF('Daily Log'!$BM$18:$BM$1017,$B73,'Daily Log'!$BN$18:$BN$1017),0)","v":0},{"$f":"IFERROR($E73*SUMIF('Daily Log'!$BP$18:$BP$1017,$B73,'Daily Log'!$BQ$18:$BQ$1017),0)","v":0},{"$f":"IFERROR($E73*SUMIF('Daily Log'!$BS$18:$BS$1017,$B73,'Daily Log'!$BT$18:$BT$1017),0)","v":0},{"$f":"IFERROR($E73*SUMIF('Daily Log'!$BV$18:$BV$1017,$B73,'Daily Log'!$BW$18:$BW$1017),0)","v":0},{"$f":"IFERROR($E73*SUMIF('Daily Log'!$BY$18:$BY$1017,$B73,'Daily Log'!$BZ$18:$BZ$1017),0)","v":0},{"$f":"IFERROR($E73*SUMIF('Daily Log'!$CB$18:$CB$1017,$B73,'Daily Log'!$CC$18:$CC$1017),0)","v":0},{"$f":"IFERROR($E73*SUMIF('Daily Log'!$CE$18:$CE$1017,$B73,'Daily Log'!$CF$18:$CF$1017),0)","v":0},{"$f":"IFERROR($E73*SUMIF('Daily Log'!$CH$18:$CH$1017,$B73,'Daily Log'!$CI$18:$CI$1017),0)","v":0},{"$f":"IFERROR($E73*SUMIF('Daily Log'!$CK$18:$CK$1017,$B73,'Daily Log'!$CL$18:$CL$1017),0)","v":0},{"$f":"IFERROR($E73*SUMIF('Daily Log'!$CN$18:$CN$1017,$B73,'Daily Log'!$CO$18:$CO$1017),0)","v":0}]
[null,"AB42 N : MEMBER",null,null,1,0,{"$f":"IFERROR($E74*SUMIF('Daily Log'!$B$18:$B$1017,$B74,'Daily Log'!$C$18:$C$1017),0)","v":0},{"$f":"IFERROR($E74*SUMIF('Daily Log'!$E$18:$E$1017,$B74,'Daily Log'!$F$18:$F$1017),0)","v":0},{"$f":"IFERROR($E74*SUMIF('Daily Log'!$H$18:$H$1017,$B74,'Daily Log'!$I$18:$I$1017),0)","v":0},{"$f":"IFERROR($E74*SUMIF('Daily Log'!$K$18:$K$1017,$B74,'Daily Log'!$L$18:$L$1017),0)","v":0},{"$f":"IFERROR($E74*SUMIF('Daily Log'!$N$18:$N$1017,$B74,'Daily Log'!$O$18:$O$1017),0)","v":0},{"$f":"IFERROR($E74*SUMIF('Daily Log'!$Q$18:$Q$1017,$B74,'Daily Log'!$R$18:$R$1017),0)","v":0},{"$f":"IFERROR($E74*SUMIF('Daily Log'!$T$18:$T$1017,$B74,'Daily Log'!$U$18:$U$1017),0)","v":0},{"$f":"IFERROR($E74*SUMIF('Daily Log'!$W$18:$W$1017,$B74,'Daily Log'!$X$18:$X$1017),0)","v":0},{"$f":"IFERROR($E74*SUMIF('Daily Log'!$Z$18:$Z$1017,$B74,'Daily Log'!$AA$18:$AA$1017),0)","v":0},{"$f":"IFERROR($E74*SUMIF('Daily Log'!$AC$18:$AC$1017,$B74,'Daily Log'!$AD$18:$AD$1017),0)","v":0},{"$f":"IFERROR($E74*SUMIF('Daily Log'!$AF$18:$AF$1017,$B74,'Daily Log'!$AG$18:$AG$1017),0)","v":0},{"$f":"IFERROR($E74*SUMIF('Daily Log'!$AI$18:$AI$1017,$B74,'Daily Log'!$AJ$18:$AJ$1017),0)","v":0},{"$f":"IFERROR($E74*SUMIF('Daily Log'!$AL$18:$AL$1017,$B74,'Daily Log'!$AM$18:$AM$1017),0)","v":0},{"$f":"IFERROR($E74*SUMIF('Daily Log'!$AO$18:$AO$1017,$B74,'Daily Log'!$AP$18:$AP$1017),0)","v":0},{"$f":"IFERROR($E74*SUMIF('Daily Log'!$AR$18:$AR$1017,$B74,'Daily Log'!$AS$18:$AS$1017),0)","v":0},{"$f":"IFERROR($E74*SUMIF('Daily Log'!$AU$18:$AU$1017,$B74,'Daily Log'!$AV$18:$AV$1017),0)","v":0},{"$f":"IFERROR($E74*SUMIF('Daily Log'!$AX$18:$AX$1017,$B74,'Daily Log'!$AY$18:$AY$1017),0)","v":0},{"$f":"IFERROR($E74*SUMIF('Daily Log'!$BA$18:$BA$1017,$B74,'Daily Log'!$BB$18:$BB$1017),0)","v":0},{"$f":"IFERROR($E74*SUMIF('Daily Log'!$BD$18:$BD$1017,$B74,'Daily Log'!$BE$18:$BE$1017),0)","v":0},{"$f":"IFERROR($E74*SUMIF('Daily Log'!$BG$18:$BG$1017,$B74,'Daily Log'!$BH$18:$BH$1017),0)","v":0},{"$f":"IFERROR($E74*SUMIF('Daily Log'!$BJ$18:$BJ$1017,$B74,'Daily Log'!$BK$18:$BK$1017),0)","v":0},{"$f":"IFERROR($E74*SUMIF('Daily Log'!$BM$18:$BM$1017,$B74,'Daily Log'!$BN$18:$BN$1017),0)","v":0},{"$f":"IFERROR($E74*SUMIF('Daily Log'!$BP$18:$BP$1017,$B74,'Daily Log'!$BQ$18:$BQ$1017),0)","v":0},{"$f":"IFERROR($E74*SUMIF('Daily Log'!$BS$18:$BS$1017,$B74,'Daily Log'!$BT$18:$BT$1017),0)","v":0},{"$f":"IFERROR($E74*SUMIF('Daily Log'!$BV$18:$BV$1017,$B74,'Daily Log'!$BW$18:$BW$1017),0)","v":0},{"$f":"IFERROR($E74*SUMIF('Daily Log'!$BY$18:$BY$1017,$B74,'Daily Log'!$BZ$18:$BZ$1017),0)","v":0},{"$f":"IFERROR($E74*SUMIF('Daily Log'!$CB$18:$CB$1017,$B74,'Daily Log'!$CC$18:$CC$1017),0)","v":0},{"$f":"IFERROR($E74*SUMIF('Daily Log'!$CE$18:$CE$1017,$B74,'Daily Log'!$CF$18:$CF$1017),0)","v":0},{"$f":"IFERROR($E74*SUMIF('Daily Log'!$CH$18:$CH$1017,$B74,'Daily Log'!$CI$18:$CI$1017),0)","v":0},{"$f":"IFERROR($E74*SUMIF('Daily Log'!$CK$18:$CK$1017,$B74,'Daily Log'!$CL$18:$CL$1017),0)","v":0},{"$f":"IFERROR($E74*SUMIF('Daily Log'!$CN$18:$CN$1017,$B74,'Daily Log'!$CO$18:$CO$1017),0)","v":0}]
[null,"AB43 N : MEMBER 30%",null,null,1,0,{"$f":"IFERROR($E75*SUMIF('Daily Log'!$B$18:$B$1017,$B75,'Daily Log'!$C$18:$C$1017),0)","v":0},{"$f":"IFERROR($E75*SUMIF('Daily Log'!$E$18:$E$1017,$B75,'Daily Log'!$F$18:$F$1017),0)","v":0},{"$f":"IFERROR($E75*SUMIF('Daily Log'!$H$18:$H$1017,$B75,'Daily Log'!$I$18:$I$1017),0)","v":0},{"$f":"IFERROR($E75*SUMIF('Daily Log'!$K$18:$K$1017,$B75,'Daily Log'!$L$18:$L$1017),0)","v":0},{"$f":"IFERROR($E75*SUMIF('Daily Log'!$N$18:$N$1017,$B75,'Daily Log'!$O$18:$O$1017),0)","v":0},{"$f":"IFERROR($E75*SUMIF('Daily Log'!$Q$18:$Q$1017,$B75,'Daily Log'!$R$18:$R$1017),0)","v":0},{"$f":"IFERROR($E75*SUMIF('Daily Log'!$T$18:$T$1017,$B75,'Daily Log'!$U$18:$U$1017),0)","v":0},{"$f":"IFERROR($E75*SUMIF('Daily Log'!$W$18:$W$1017,$B75,'Daily Log'!$X$18:$X$1017),0)","v":0},{"$f":"IFERROR($E75*SUMIF('Daily Log'!$Z$18:$Z$1017,$B75,'Daily Log'!$AA$18:$AA$1017),0)","v":0},{"$f":"IFERROR($E75*SUMIF('Daily Log'!$AC$18:$AC$1017,$B75,'Daily Log'!$AD$18:$AD$1017),0)","v":0},{"$f":"IFERROR($E75*SUMIF('Daily Log'!$AF$18:$AF$1017,$B75,'Daily Log'!$AG$18:$AG$1017),0)","v":0},{"$f":"IFERROR($E75*SUMIF('Daily Log'!$AI$18:$AI$1017,$B75,'Daily Log'!$AJ$18:$AJ$1017),0)","v":0},{"$f":"IFERROR($E75*SUMIF('Daily Log'!$AL$18:$AL$1017,$B75,'Daily Log'!$AM$18:$AM$1017),0)","v":0},{"$f":"IFERROR($E75*SUMIF('Daily Log'!$AO$18:$AO$1017,$B75,'Daily Log'!$AP$18:$AP$1017),0)","v":0},{"$f":"IFERROR($E75*SUMIF('Daily Log'!$AR$18:$AR$1017,$B75,'Daily Log'!$AS$18:$AS$1017),0)","v":0},{"$f":"IFERROR($E75*SUMIF('Daily Log'!$AU$18:$AU$1017,$B75,'Daily Log'!$AV$18:$AV$1017),0)","v":0},{"$f":"IFERROR($E75*SUMIF('Daily Log'!$AX$18:$AX$1017,$B75,'Daily Log'!$AY$18:$AY$1017),0)","v":0},{"$f":"IFERROR($E75*SUMIF('Daily Log'!$BA$18:$BA$1017,$B75,'Daily Log'!$BB$18:$BB$1017),0)","v":0},{"$f":"IFERROR($E75*SUMIF('Daily Log'!$BD$18:$BD$1017,$B75,'Daily Log'!$BE$18:$BE$1017),0)","v":0},{"$f":"IFERROR($E75*SUMIF('Daily Log'!$BG$18:$BG$1017,$B75,'Daily Log'!$BH$18:$BH$1017),0)","v":0},{"$f":"IFERROR($E75*SUMIF('Daily Log'!$BJ$18:$BJ$1017,$B75,'Daily Log'!$BK$18:$BK$1017),0)","v":0},{"$f":"IFERROR($E75*SUMIF('Daily Log'!$BM$18:$BM$1017,$B75,'Daily Log'!$BN$18:$BN$1017),0)","v":0},{"$f":"IFERROR($E75*SUMIF('Daily Log'!$BP$18:$BP$1017,$B75,'Daily Log'!$BQ$18:$BQ$1017),0)","v":0},{"$f":"IFERROR($E75*SUMIF('Daily Log'!$BS$18:$BS$1017,$B75,'Daily Log'!$BT$18:$BT$1017),0)","v":0},{"$f":"IFERROR($E75*SUMIF('Daily Log'!$BV$18:$BV$1017,$B75,'Daily Log'!$BW$18:$BW$1017),0)","v":0},{"$f":"IFERROR($E75*SUMIF('Daily Log'!$BY$18:$BY$1017,$B75,'Daily Log'!$BZ$18:$BZ$1017),0)","v":0},{"$f":"IFERROR($E75*SUMIF('Daily Log'!$CB$18:$CB$1017,$B75,'Daily Log'!$CC$18:$CC$1017),0)","v":0},{"$f":"IFERROR($E75*SUMIF('Daily Log'!$CE$18:$CE$1017,$B75,'Daily Log'!$CF$18:$CF$1017),0)","v":0},{"$f":"IFERROR($E75*SUMIF('Daily Log'!$CH$18:$CH$1017,$B75,'Daily Log'!$CI$18:$CI$1017),0)","v":0},{"$f":"IFERROR($E75*SUMIF('Daily Log'!$CK$18:$CK$1017,$B75,'Daily Log'!$CL$18:$CL$1017),0)","v":0},{"$f":"IFERROR($E75*SUMIF('Daily Log'!$CN$18:$CN$1017,$B75,'Daily Log'!$CO$18:$CO$1017),0)","v":0}]
[null,"AB44 N : CARI MEMBER",null,null,1,0,{"$f":"IFERROR($E76*SUMIF('Daily Log'!$B$18:$B$1017,$B76,'Daily Log'!$C$18:$C$1017),0)","v":0},{"$f":"IFERROR($E76*SUMIF('Daily Log'!$E$18:$E$1017,$B76,'Daily Log'!$F$18:$F$1017),0)","v":0},{"$f":"IFERROR($E76*SUMIF('Daily Log'!$H$18:$H$1017,$B76,'Daily Log'!$I$18:$I$1017),0)","v":0},{"$f":"IFERROR($E76*SUMIF('Daily Log'!$K$18:$K$1017,$B76,'Daily Log'!$L$18:$L$1017),0)","v":0},{"$f":"IFERROR($E76*SUMIF('Daily Log'!$N$18:$N$1017,$B76,'Daily Log'!$O$18:$O$1017),0)","v":0},{"$f":"IFERROR($E76*SUMIF('Daily Log'!$Q$18:$Q$1017,$B76,'Daily Log'!$R$18:$R$1017),0)","v":0},{"$f":"IFERROR($E76*SUMIF('Daily Log'!$T$18:$T$1017,$B76,'Daily Log'!$U$18:$U$1017),0)","v":0},{"$f":"IFERROR($E76*SUMIF('Daily Log'!$W$18:$W$1017,$B76,'Daily Log'!$X$18:$X$1017),0)","v":0},{"$f":"IFERROR($E76*SUMIF('Daily Log'!$Z$18:$Z$1017,$B76,'Daily Log'!$AA$18:$AA$1017),0)","v":0},{"$f":"IFERROR($E76*SUMIF('Daily Log'!$AC$18:$AC$1017,$B76,'Daily Log'!$AD$18:$AD$1017),0)","v":0},{"$f":"IFERROR($E76*SUMIF('Daily Log'!$AF$18:$AF$1017,$B76,'Daily Log'!$AG$18:$AG$1017),0)","v":0},{"$f":"IFERROR($E76*SUMIF('Daily Log'!$AI$18:$AI$1017,$B76,'Daily Log'!$AJ$18:$AJ$1017),0)","v":0},{"$f":"IFERROR($E76*SUMIF('Daily Log'!$AL$18:$AL$1017,$B76,'Daily Log'!$AM$18:$AM$1017),0)","v":0},{"$f":"IFERROR($E76*SUMIF('Daily Log'!$AO$18:$AO$1017,$B76,'Daily Log'!$AP$18:$AP$1017),0)","v":0},{"$f":"IFERROR($E76*SUMIF('Daily Log'!$AR$18:$AR$1017,$B76,'Daily Log'!$AS$18:$AS$1017),0)","v":0},{"$f":"IFERROR($E76*SUMIF('Daily Log'!$AU$18:$AU$1017,$B76,'Daily Log'!$AV$18:$AV$1017),0)","v":0},{"$f":"IFERROR($E76*SUMIF('Daily Log'!$AX$18:$AX$1017,$B76,'Daily Log'!$AY$18:$AY$1017),0)","v":0},{"$f":"IFERROR($E76*SUMIF('Daily Log'!$BA$18:$BA$1017,$B76,'Daily Log'!$BB$18:$BB$1017),0)","v":0},{"$f":"IFERROR($E76*SUMIF('Daily Log'!$BD$18:$BD$1017,$B76,'Daily Log'!$BE$18:$BE$1017),0)","v":0},{"$f":"IFERROR($E76*SUMIF('Daily Log'!$BG$18:$BG$1017,$B76,'Daily Log'!$BH$18:$BH$1017),0)","v":0},{"$f":"IFERROR($E76*SUMIF('Daily Log'!$BJ$18:$BJ$1017,$B76,'Daily Log'!$BK$18:$BK$1017),0)","v":0},{"$f":"IFERROR($E76*SUMIF('Daily Log'!$BM$18:$BM$1017,$B76,'Daily Log'!$BN$18:$BN$1017),0)","v":0},{"$f":"IFERROR($E76*SUMIF('Daily Log'!$BP$18:$BP$1017,$B76,'Daily Log'!$BQ$18:$BQ$1017),0)","v":0},{"$f":"IFERROR($E76*SUMIF('Daily Log'!$BS$18:$BS$1017,$B76,'Daily Log'!$BT$18:$BT$1017),0)","v":0},{"$f":"IFERROR($E76*SUMIF('Daily Log'!$BV$18:$BV$1017,$B76,'Daily Log'!$BW$18:$BW$1017),0)","v":0},{"$f":"IFERROR($E76*SUMIF('Daily Log'!$BY$18:$BY$1017,$B76,'Daily Log'!$BZ$18:$BZ$1017),0)","v":0},{"$f":"IFERROR($E76*SUMIF('Daily Log'!$CB$18:$CB$1017,$B76,'Daily Log'!$CC$18:$CC$1017),0)","v":0},{"$f":"IFERROR($E76*SUMIF('Daily Log'!$CE$18:$CE$1017,$B76,'Daily Log'!$CF$18:$CF$1017),0)","v":0},{"$f":"IFERROR($E76*SUMIF('Daily Log'!$CH$18:$CH$1017,$B76,'Daily Log'!$CI$18:$CI$1017),0)","v":0},{"$f":"IFERROR($E76*SUMIF('Daily Log'!$CK$18:$CK$1017,$B76,'Daily Log'!$CL$18:$CL$1017),0)","v":0},{"$f":"IFERROR($E76*SUMIF('Daily Log'!$CN$18:$CN$1017,$B76,'Daily Log'!$CO$18:$CO$1017),0)","v":0}]
[null,"AB45 K-DINNER",null,null,1,0,{"$f":"IFERROR($E77*SUMIF('Daily Log'!$B$18:$B$1017,$B77,'Daily Log'!$C$18:$C$1017),0)","v":0},{"$f":"IFERROR($E77*SUMIF('Daily Log'!$E$18:$E$1017,$B77,'Daily Log'!$F$18:$F$1017),0)","v":0},{"$f":"IFERROR($E77*SUMIF('Daily Log'!$H$18:$H$1017,$B77,'Daily Log'!$I$18:$I$1017),0)","v":0},{"$f":"IFERROR($E77*SUMIF('Daily Log'!$K$18:$K$1017,$B77,'Daily Log'!$L$18:$L$1017),0)","v":0},{"$f":"IFERROR($E77*SUMIF('Daily Log'!$N$18:$N$1017,$B77,'Daily Log'!$O$18:$O$1017),0)","v":0},{"$f":"IFERROR($E77*SUMIF('Daily Log'!$Q$18:$Q$1017,$B77,'Daily Log'!$R$18:$R$1017),0)","v":0},{"$f":"IFERROR($E77*SUMIF('Daily Log'!$T$18:$T$1017,$B77,'Daily Log'!$U$18:$U$1017),0)","v":0},{"$f":"IFERROR($E77*SUMIF('Daily Log'!$W$18:$W$1017,$B77,'Daily Log'!$X$18:$X$1017),0)","v":0},{"$f":"IFERROR($E77*SUMIF('Daily Log'!$Z$18:$Z$1017,$B77,'Daily Log'!$AA$18:$AA$1017),0)","v":0},{"$f":"IFERROR($E77*SUMIF('Daily Log'!$AC$18:$AC$1017,$B77,'Daily Log'!$AD$18:$AD$1017),0)","v":0},{"$f":"IFERROR($E77*SUMIF('Daily Log'!$AF$18:$AF$1017,$B77,'Daily Log'!$AG$18:$AG$1017),0)","v":0},{"$f":"IFERROR($E77*SUMIF('Daily Log'!$AI$18:$AI$1017,$B77,'Daily Log'!$AJ$18:$AJ$1017),0)","v":0},{"$f":"IFERROR($E77*SUMIF('Daily Log'!$AL$18:$AL$1017,$B77,'Daily Log'!$AM$18:$AM$1017),0)","v":0},{"$f":"IFERROR($E77*SUMIF('Daily Log'!$AO$18:$AO$1017,$B77,'Daily Log'!$AP$18:$AP$1017),0)","v":0},{"$f":"IFERROR($E77*SUMIF('Daily Log'!$AR$18:$AR$1017,$B77,'Daily Log'!$AS$18:$AS$1017),0)","v":0},{"$f":"IFERROR($E77*SUMIF('Daily Log'!$AU$18:$AU$1017,$B77,'Daily Log'!$AV$18:$AV$1017),0)","v":0},{"$f":"IFERROR($E77*SUMIF('Daily Log'!$AX$18:$AX$1017,$B77,'Daily Log'!$AY$18:$AY$1017),0)","v":0},{"$f":"IFERROR($E77*SUMIF('Daily Log'!$BA$18:$BA$1017,$B77,'Daily Log'!$BB$18:$BB$1017),0)","v":0},{"$f":"IFERROR($E77*SUMIF('Daily Log'!$BD$18:$BD$1017,$B77,'Daily Log'!$BE$18:$BE$1017),0)","v":0},{"$f":"IFERROR($E77*SUMIF('Daily Log'!$BG$18:$BG$1017,$B77,'Daily Log'!$BH$18:$BH$1017),0)","v":0},{"$f":"IFERROR($E77*SUMIF('Daily Log'!$BJ$18:$BJ$1017,$B77,'Daily Log'!$BK$18:$BK$1017),0)","v":0},{"$f":"IFERROR($E77*SUMIF('Daily Log'!$BM$18:$BM$1017,$B77,'Daily Log'!$BN$18:$BN$1017),0)","v":0},{"$f":"IFERROR($E77*SUMIF('Daily Log'!$BP$18:$BP$1017,$B77,'Daily Log'!$BQ$18:$BQ$1017),0)","v":0},{"$f":"IFERROR($E77*SUMIF('Daily Log'!$BS$18:$BS$1017,$B77,'Daily Log'!$BT$18:$BT$1017),0)","v":0},{"$f":"IFERROR($E77*SUMIF('Daily Log'!$BV$18:$BV$1017,$B77,'Daily Log'!$BW$18:$BW$1017),0)","v":0},{"$f":"IFERROR($E77*SUMIF('Daily Log'!$BY$18:$BY$1017,$B77,'Daily Log'!$BZ$18:$BZ$1017),0)","v":0},{"$f":"IFERROR($E77*SUMIF('Daily Log'!$CB$18:$CB$1017,$B77,'Daily Log'!$CC$18:$CC$1017),0)","v":0},{"$f":"IFERROR($E77*SUMIF('Daily Log'!$CE$18:$CE$1017,$B77,'Daily Log'!$CF$18:$CF$1017),0)","v":0},{"$f":"IFERROR($E77*SUMIF('Daily Log'!$CH$18:$CH$1017,$B77,'Daily Log'!$CI$18:$CI$1017),0)","v":0},{"$f":"IFERROR($E77*SUMIF('Daily Log'!$CK$18:$CK$1017,$B77,'Daily Log'!$CL$18:$CL$1017),0)","v":0},{"$f":"IFERROR($E77*SUMIF('Daily Log'!$CN$18:$CN$1017,$B77,'Daily Log'!$CO$18:$CO$1017),0)","v":0}]
[null,"AB46 H : Student",null,null,1,0,{"$f":"IFERROR($E78*SUMIF('Daily Log'!$B$18:$B$1017,$B78,'Daily Log'!$C$18:$C$1017),0)","v":0},{"$f":"IFERROR($E78*SUMIF('Daily Log'!$E$18:$E$1017,$B78,'Daily Log'!$F$18:$F$1017),0)","v":0},{"$f":"IFERROR($E78*SUMIF('Daily Log'!$H$18:$H$1017,$B78,'Daily Log'!$I$18:$I$1017),0)","v":0},{"$f":"IFERROR($E78*SUMIF('Daily Log'!$K$18:$K$1017,$B78,'Daily Log'!$L$18:$L$1017),0)","v":0},{"$f":"IFERROR($E78*SUMIF('Daily Log'!$N$18:$N$1017,$B78,'Daily Log'!$O$18:$O$1017),0)","v":0},{"$f":"IFERROR($E78*SUMIF('Daily Log'!$Q$18:$Q$1017,$B78,'Daily Log'!$R$18:$R$1017),0)","v":0},{"$f":"IFERROR($E78*SUMIF('Daily Log'!$T$18:$T$1017,$B78,'Daily Log'!$U$18:$U$1017),0)","v":0},{"$f":"IFERROR($E78*SUMIF('Daily Log'!$W$18:$W$1017,$B78,'Daily Log'!$X$18:$X$1017),0)","v":0},{"$f":"IFERROR($E78*SUMIF('Daily Log'!$Z$18:$Z$1017,$B78,'Daily Log'!$AA$18:$AA$1017),0)","v":0},{"$f":"IFERROR($E78*SUMIF('Daily Log'!$AC$18:$AC$1017,$B78,'Daily Log'!$AD$18:$AD$1017),0)","v":0},{"$f":"IFERROR($E78*SUMIF('Daily Log'!$AF$18:$AF$1017,$B78,'Daily Log'!$AG$18:$AG$1017),0)","v":0},{"$f":"IFERROR($E78*SUMIF('Daily Log'!$AI$18:$AI$1017,$B78,'Daily Log'!$AJ$18:$AJ$1017),0)","v":0},{"$f":"IFERROR($E78*SUMIF('Daily Log'!$AL$18:$AL$1017,$B78,'Daily Log'!$AM$18:$AM$1017),0)","v":0},{"$f":"IFERROR($E78*SUMIF('Daily Log'!$AO$18:$AO$1017,$B78,'Daily Log'!$AP$18:$AP$1017),0)","v":0},{"$f":"IFERROR($E78*SUMIF('Daily Log'!$AR$18:$AR$1017,$B78,'Daily Log'!$AS$18:$AS$1017),0)","v":0},{"$f":"IFERROR($E78*SUMIF('Daily Log'!$AU$18:$AU$1017,$B78,'Daily Log'!$AV$18:$AV$1017),0)","v":0},{"$f":"IFERROR($E78*SUMIF('Daily Log'!$AX$18:$AX$1017,$B78,'Daily Log'!$AY$18:$AY$1017),0)","v":0},{"$f":"IFERROR($E78*SUMIF('Daily Log'!$BA$18:$BA$1017,$B78,'Daily Log'!$BB$18:$BB$1017),0)","v":0},{"$f":"IFERROR($E78*SUMIF('Daily Log'!$BD$18:$BD$1017,$B78,'Daily Log'!$BE$18:$BE$1017),0)","v":0},{"$f":"IFERROR($E78*SUMIF('Daily Log'!$BG$18:$BG$1017,$B78,'Daily Log'!$BH$18:$BH$1017),0)","v":0},{"$f":"IFERROR($E78*SUMIF('Daily Log'!$BJ$18:$BJ$1017,$B78,'Daily Log'!$BK$18:$BK$1017),0)","v":0},{"$f":"IFERROR($E78*SUMIF('Daily Log'!$BM$18:$BM$1017,$B78,'Daily Log'!$BN$18:$BN$1017),0)","v":0},{"$f":"IFERROR($E78*SUMIF('Daily Log'!$BP$18:$BP$1017,$B78,'Daily Log'!$BQ$18:$BQ$1017),0)","v":0},{"$f":"IFERROR($E78*SUMIF('Daily Log'!$BS$18:$BS$1017,$B78,'Daily Log'!$BT$18:$BT$1017),0)","v":0},{"$f":"IFERROR($E78*SUMIF('Daily Log'!$BV$18:$BV$1017,$B78,'Daily Log'!$BW$18:$BW$1017),0)","v":0},{"$f":"IFERROR($E78*SUMIF('Daily Log'!$BY$18:$BY$1017,$B78,'Daily Log'!$BZ$18:$BZ$1017),0)","v":0},{"$f":"IFERROR($E78*SUMIF('Daily Log'!$CB$18:$CB$1017,$B78,'Daily Log'!$CC$18:$CC$1017),0)","v":0},{"$f":"IFERROR($E78*SUMIF('Daily Log'!$CE$18:$CE$1017,$B78,'Daily Log'!$CF$18:$CF$1017),0)","v":0},{"$f":"IFERROR($E78*SUMIF('Daily Log'!$CH$18:$CH$1017,$B78,'Daily Log'!$CI$18:$CI$1017),0)","v":0},{"$f":"IFERROR($E78*SUMIF('Daily Log'!$CK$18:$CK$1017,$B78,'Daily Log'!$CL$18:$CL$1017),0)","v":0},{"$f":"IFERROR($E78*SUMIF('Daily Log'!$CN$18:$CN$1017,$B78,'Daily Log'!$CO$18:$CO$1017),0)","v":0}]
[null,"AB47 H : GROUPON",null,null,1,0,{"$f":"IFERROR($E79*SUMIF('Daily Log'!$B$18:$B$1017,$B79,'Daily Log'!$C$18:$C$1017),0)","v":0},{"$f":"IFERROR($E79*SUMIF('Daily Log'!$E$18:$E$1017,$B79,'Daily Log'!$F$18:$F$1017),0)","v":0},{"$f":"IFERROR($E79*SUMIF('Daily Log'!$H$18:$H$1017,$B79,'Daily Log'!$I$18:$I$1017),0)","v":0},{"$f":"IFERROR($E79*SUMIF('Daily Log'!$K$18:$K$1017,$B79,'Daily Log'!$L$18:$L$1017),0)","v":0},{"$f":"IFERROR($E79*SUMIF('Daily Log'!$N$18:$N$1017,$B79,'Daily Log'!$O$18:$O$1017),0)","v":0},{"$f":"IFERROR($E79*SUMIF('Daily Log'!$Q$18:$Q$1017,$B79,'Daily Log'!$R$18:$R$1017),0)","v":0},{"$f":"IFERROR($E79*SUMIF('Daily Log'!$T$18:$T$1017,$B79,'Daily Log'!$U$18:$U$1017),0)","v":0},{"$f":"IFERROR($E79*SUMIF('Daily Log'!$W$18:$W$1017,$B79,'Daily Log'!$X$18:$X$1017),0)","v":0},{"$f":"IFERROR($E79*SUMIF('Daily Log'!$Z$18:$Z$1017,$B79,'Daily Log'!$AA$18:$AA$1017),0)","v":0},{"$f":"IFERROR($E79*SUMIF('Daily Log'!$AC$18:$AC$1017,$B79,'Daily Log'!$AD$18:$AD$1017),0)","v":0},{"$f":"IFERROR($E79*SUMIF('Daily Log'!$AF$18:$AF$1017,$B79,'Daily Log'!$AG$18:$AG$1017),0)","v":0},{"$f":"IFERROR($E79*SUMIF('Daily Log'!$AI$18:$AI$1017,$B79,'Daily Log'!$AJ$18:$AJ$1017),0)","v":0},{"$f":"IFERROR($E79*SUMIF('Daily Log'!$AL$18:$AL$1017,$B79,'Daily Log'!$AM$18:$AM$1017),0)","v":0},{"$f":"IFERROR($E79*SUMIF('Daily Log'!$AO$18:$AO$1017,$B79,'Daily Log'!$AP$18:$AP$1017),0)","v":0},{"$f":"IFERROR($E79*SUMIF('Daily Log'!$AR$18:$AR$1017,$B79,'Daily Log'!$AS$18:$AS$1017),0)","v":0},{"$f":"IFERROR($E79*SUMIF('Daily Log'!$AU$18:$AU$1017,$B79,'Daily Log'!$AV$18:$AV$1017),0)","v":0},{"$f":"IFERROR($E79*SUMIF('Daily Log'!$AX$18:$AX$1017,$B79,'Daily Log'!$AY$18:$AY$1017),0)","v":0},{"$f":"IFERROR($E79*SUMIF('Daily Log'!$BA$18:$BA$1017,$B79,'Daily Log'!$BB$18:$BB$1017),0)","v":0},{"$f":"IFERROR($E79*SUMIF('Daily Log'!$BD$18:$BD$1017,$B79,'Daily Log'!$BE$18:$BE$1017),0)","v":0},{"$f":"IFERROR($E79*SUMIF('Daily Log'!$BG$18:$BG$1017,$B79,'Daily Log'!$BH$18:$BH$1017),0)","v":0},{"$f":"IFERROR($E79*SUMIF('Daily Log'!$BJ$18:$BJ$1017,$B79,'Daily Log'!$BK$18:$BK$1017),0)","v":0},{"$f":"IFERROR($E79*SUMIF('Daily Log'!$BM$18:$BM$1017,$B79,'Daily Log'!$BN$18:$BN$1017),0)","v":0},{"$f":"IFERROR($E79*SUMIF('Daily Log'!$BP$18:$BP$1017,$B79,'Daily Log'!$BQ$18:$BQ$1017),0)","v":0},{"$f":"IFERROR($E79*SUMIF('Daily Log'!$BS$18:$BS$1017,$B79,'Daily Log'!$BT$18:$BT$1017),0)","v":0},{"$f":"IFERROR($E79*SUMIF('Daily Log'!$BV$18:$BV$1017,$B79,'Daily Log'!$BW$18:$BW$1017),0)","v":0},{"$f":"IFERROR($E79*SUMIF('Daily Log'!$BY$18:$BY$1017,$B79,'Daily Log'!$BZ$18:$BZ$1017),0)","v":0},{"$f":"IFERROR($E79*SUMIF('Daily Log'!$CB$18:$CB$1017,$B79,'Daily Log'!$CC$18:$CC$1017),0)","v":0},{"$f":"IFERROR($E79*SUMIF('Daily Log'!$CE$18:$CE$1017,$B79,'Daily Log'!$CF$18:$CF$1017),0)","v":0},{"$f":"IFERROR($E79*SUMIF('Daily Log'!$CH$18:$CH$1017,$B79,'Daily Log'!$CI$18:$CI$1017),0)","v":0},{"$f":"IFERROR($E79*SUMIF('Daily Log'!$CK$18:$CK$1017,$B79,'Daily Log'!$CL$18:$CL$1017),0)","v":0},{"$f":"IFERROR($E79*SUMIF('Daily Log'!$CN$18:$CN$1017,$B79,'Daily Log'!$CO$18:$CO$1017),0)","v":0}]
[null,"AB49 H : One FM 208",null,null,1,0,{"$f":"IFERROR($E80*SUMIF('Daily Log'!$B$18:$B$1017,$B80,'Daily Log'!$C$18:$C$1017),0)","v":0},{"$f":"IFERROR($E80*SUMIF('Daily Log'!$E$18:$E$1017,$B80,'Daily Log'!$F$18:$F$1017),0)","v":0},{"$f":"IFERROR($E80*SUMIF('Daily Log'!$H$18:$H$1017,$B80,'Daily Log'!$I$18:$I$1017),0)","v":0},{"$f":"IFERROR($E80*SUMIF('Daily Log'!$K$18:$K$1017,$B80,'Daily Log'!$L$18:$L$1017),0)","v":0},{"$f":"IFERROR($E80*SUMIF('Daily Log'!$N$18:$N$1017,$B80,'Daily Log'!$O$18:$O$1017),0)","v":0},{"$f":"IFERROR($E80*SUMIF('Daily Log'!$Q$18:$Q$1017,$B80,'Daily Log'!$R$18:$R$1017),0)","v":0},{"$f":"IFERROR($E80*SUMIF('Daily Log'!$T$18:$T$1017,$B80,'Daily Log'!$U$18:$U$1017),0)","v":0},{"$f":"IFERROR($E80*SUMIF('Daily Log'!$W$18:$W$1017,$B80,'Daily Log'!$X$18:$X$1017),0)","v":0},{"$f":"IFERROR($E80*SUMIF('Daily Log'!$Z$18:$Z$1017,$B80,'Daily Log'!$AA$18:$AA$1017),0)","v":0},{"$f":"IFERROR($E80*SUMIF('Daily Log'!$AC$18:$AC$1017,$B80,'Daily Log'!$AD$18:$AD$1017),0)","v":0},{"$f":"IFERROR($E80*SUMIF('Daily Log'!$AF$18:$AF$1017,$B80,'Daily Log'!$AG$18:$AG$1017),0)","v":0},{"$f":"IFERROR($E80*SUMIF('Daily Log'!$AI$18:$AI$1017,$B80,'Daily Log'!$AJ$18:$AJ$1017),0)","v":0},{"$f":"IFERROR($E80*SUMIF('Daily Log'!$AL$18:$AL$1017,$B80,'Daily Log'!$AM$18:$AM$1017),0)","v":0},{"$f":"IFERROR($E80*SUMIF('Daily Log'!$AO$18:$AO$1017,$B80,'Daily Log'!$AP$18:$AP$1017),0)","v":0},{"$f":"IFERROR($E80*SUMIF('Daily Log'!$AR$18:$AR$1017,$B80,'Daily Log'!$AS$18:$AS$1017),0)","v":0},{"$f":"IFERROR($E80*SUMIF('Daily Log'!$AU$18:$AU$1017,$B80,'Daily Log'!$AV$18:$AV$1017),0)","v":0},{"$f":"IFERROR($E80*SUMIF('Daily Log'!$AX$18:$AX$1017,$B80,'Daily Log'!$AY$18:$AY$1017),0)","v":0},{"$f":"IFERROR($E80*SUMIF('Daily Log'!$BA$18:$BA$1017,$B80,'Daily Log'!$BB$18:$BB$1017),0)","v":0},{"$f":"IFERROR($E80*SUMIF('Daily Log'!$BD$18:$BD$1017,$B80,'Daily Log'!$BE$18:$BE$1017),0)","v":0},{"$f":"IFERROR($E80*SUMIF('Daily Log'!$BG$18:$BG$1017,$B80,'Daily Log'!$BH$18:$BH$1017),0)","v":0},{"$f":"IFERROR($E80*SUMIF('Daily Log'!$BJ$18:$BJ$1017,$B80,'Daily Log'!$BK$18:$BK$1017),0)","v":0},{"$f":"IFERROR($E80*SUMIF('Daily Log'!$BM$18:$BM$1017,$B80,'Daily Log'!$BN$18:$BN$1017),0)","v":0},{"$f":"IFERROR($E80*SUMIF('Daily Log'!$BP$18:$BP$1017,$B80,'Daily Log'!$BQ$18:$BQ$1017),0)","v":0},{"$f":"IFERROR($E80*SUMIF('Daily Log'!$BS$18:$BS$1017,$B80,'Daily Log'!$BT$18:$BT$1017),0)","v":0},{"$f":"IFERROR($E80*SUMIF('Daily Log'!$BV$18:$BV$1017,$B80,'Daily Log'!$BW$18:$BW$1017),0)","v":0},{"$f":"IFERROR($E80*SUMIF('Daily Log'!$BY$18:$BY$1017,$B80,'Daily Log'!$BZ$18:$BZ$1017),0)","v":0},{"$f":"IFERROR($E80*SUMIF('Daily Log'!$CB$18:$CB$1017,$B80,'Daily Log'!$CC$18:$CC$1017),0)","v":0},{"$f":"IFERROR($E80*SUMIF('Daily Log'!$CE$18:$CE$1017,$B80,'Daily Log'!$CF$18:$CF$1017),0)","v":0},{"$f":"IFERROR($E80*SUMIF('Daily Log'!$CH$18:$CH$1017,$B80,'Daily Log'!$CI$18:$CI$1017),0)","v":0},{"$f":"IFERROR($E80*SUMIF('Daily Log'!$CK$18:$CK$1017,$B80,'Daily Log'!$CL$18:$CL$1017),0)","v":0},{"$f":"IFERROR($E80*SUMIF('Daily Log'!$CN$18:$CN$1017,$B80,'Daily Log'!$CO$18:$CO$1017),0)","v":0}]
[null,"AB50 H:Student Mem",null,null,1,0,{"$f":"IFERROR($E81*SUMIF('Daily Log'!$B$18:$B$1017,$B81,'Daily Log'!$C$18:$C$1017),0)","v":0},{"$f":"IFERROR($E81*SUMIF('Daily Log'!$E$18:$E$1017,$B81,'Daily Log'!$F$18:$F$1017),0)","v":0},{"$f":"IFERROR($E81*SUMIF('Daily Log'!$H$18:$H$1017,$B81,'Daily Log'!$I$18:$I$1017),0)","v":0},{"$f":"IFERROR($E81*SUMIF('Daily Log'!$K$18:$K$1017,$B81,'Daily Log'!$L$18:$L$1017),0)","v":0},{"$f":"IFERROR($E81*SUMIF('Daily Log'!$N$18:$N$1017,$B81,'Daily Log'!$O$18:$O$1017),0)","v":0},{"$f":"IFERROR($E81*SUMIF('Daily Log'!$Q$18:$Q$1017,$B81,'Daily Log'!$R$18:$R$1017),0)","v":0},{"$f":"IFERROR($E81*SUMIF('Daily Log'!$T$18:$T$1017,$B81,'Daily Log'!$U$18:$U$1017),0)","v":0},{"$f":"IFERROR($E81*SUMIF('Daily Log'!$W$18:$W$1017,$B81,'Daily Log'!$X$18:$X$1017),0)","v":0},{"$f":"IFERROR($E81*SUMIF('Daily Log'!$Z$18:$Z$1017,$B81,'Daily Log'!$AA$18:$AA$1017),0)","v":0},{"$f":"IFERROR($E81*SUMIF('Daily Log'!$AC$18:$AC$1017,$B81,'Daily Log'!$AD$18:$AD$1017),0)","v":0},{"$f":"IFERROR($E81*SUMIF('Daily Log'!$AF$18:$AF$1017,$B81,'Daily Log'!$AG$18:$AG$1017),0)","v":0},{"$f":"IFERROR($E81*SUMIF('Daily Log'!$AI$18:$AI$1017,$B81,'Daily Log'!$AJ$18:$AJ$1017),0)","v":0},{"$f":"IFERROR($E81*SUMIF('Daily Log'!$AL$18:$AL$1017,$B81,'Daily Log'!$AM$18:$AM$1017),0)","v":0},{"$f":"IFERROR($E81*SUMIF('Daily Log'!$AO$18:$AO$1017,$B81,'Daily Log'!$AP$18:$AP$1017),0)","v":0},{"$f":"IFERROR($E81*SUMIF('Daily Log'!$AR$18:$AR$1017,$B81,'Daily Log'!$AS$18:$AS$1017),0)","v":0},{"$f":"IFERROR($E81*SUMIF('Daily Log'!$AU$18:$AU$1017,$B81,'Daily Log'!$AV$18:$AV$1017),0)","v":0},{"$f":"IFERROR($E81*SUMIF('Daily Log'!$AX$18:$AX$1017,$B81,'Daily Log'!$AY$18:$AY$1017),0)","v":0},{"$f":"IFERROR($E81*SUMIF('Daily Log'!$BA$18:$BA$1017,$B81,'Daily Log'!$BB$18:$BB$1017),0)","v":0},{"$f":"IFERROR($E81*SUMIF('Daily Log'!$BD$18:$BD$1017,$B81,'Daily Log'!$BE$18:$BE$1017),0)","v":0},{"$f":"IFERROR($E81*SUMIF('Daily Log'!$BG$18:$BG$1017,$B81,'Daily Log'!$BH$18:$BH$1017),0)","v":0},{"$f":"IFERROR($E81*SUMIF('Daily Log'!$BJ$18:$BJ$1017,$B81,'Daily Log'!$BK$18:$BK$1017),0)","v":0},{"$f":"IFERROR($E81*SUMIF('Daily Log'!$BM$18:$BM$1017,$B81,'Daily Log'!$BN$18:$BN$1017),0)","v":0},{"$f":"IFERROR($E81*SUMIF('Daily Log'!$BP$18:$BP$1017,$B81,'Daily Log'!$BQ$18:$BQ$1017),0)","v":0},{"$f":"IFERROR($E81*SUMIF('Daily Log'!$BS$18:$BS$1017,$B81,'Daily Log'!$BT$18:$BT$1017),0)","v":0},{"$f":"IFERROR($E81*SUMIF('Daily Log'!$BV$18:$BV$1017,$B81,'Daily Log'!$BW$18:$BW$1017),0)","v":0},{"$f":"IFERROR($E81*SUMIF('Daily Log'!$BY$18:$BY$1017,$B81,'Daily Log'!$BZ$18:$BZ$1017),0)","v":0},{"$f":"IFERROR($E81*SUMIF('Daily Log'!$CB$18:$CB$1017,$B81,'Daily Log'!$CC$18:$CC$1017),0)","v":0},{"$f":"IFERROR($E81*SUMIF('Daily Log'!$CE$18:$CE$1017,$B81,'Daily Log'!$CF$18:$CF$1017),0)","v":0},{"$f":"IFERROR($E81*SUMIF('Daily Log'!$CH$18:$CH$1017,$B81,'Daily Log'!$CI$18:$CI$1017),0)","v":0},{"$f":"IFERROR($E81*SUMIF('Daily Log'!$CK$18:$CK$1017,$B81,'Daily Log'!$CL$18:$CL$1017),0)","v":0},{"$f":"IFERROR($E81*SUMIF('Daily Log'!$CN$18:$CN$1017,$B81,'Daily Log'!$CO$18:$CO$1017),0)","v":0}]
[null,"AC01 N : REGULAR",null,null,1,0,{"$f":"IFERROR($E82*SUMIF('Daily Log'!$B$18:$B$1017,$B82,'Daily Log'!$C$18:$C$1017),0)","v":0},{"$f":"IFERROR($E82*SUMIF('Daily Log'!$E$18:$E$1017,$B82,'Daily Log'!$F$18:$F$1017),0)","v":0},{"$f":"IFERROR($E82*SUMIF('Daily Log'!$H$18:$H$1017,$B82,'Daily Log'!$I$18:$I$1017),0)","v":0},{"$f":"IFERROR($E82*SUMIF('Daily Log'!$K$18:$K$1017,$B82,'Daily Log'!$L$18:$L$1017),0)","v":0},{"$f":"IFERROR($E82*SUMIF('Daily Log'!$N$18:$N$1017,$B82,'Daily Log'!$O$18:$O$1017),0)","v":0},{"$f":"IFERROR($E82*SUMIF('Daily Log'!$Q$18:$Q$1017,$B82,'Daily Log'!$R$18:$R$1017),0)","v":0},{"$f":"IFERROR($E82*SUMIF('Daily Log'!$T$18:$T$1017,$B82,'Daily Log'!$U$18:$U$1017),0)","v":0},{"$f":"IFERROR($E82*SUMIF('Daily Log'!$W$18:$W$1017,$B82,'Daily Log'!$X$18:$X$1017),0)","v":0},{"$f":"IFERROR($E82*SUMIF('Daily Log'!$Z$18:$Z$1017,$B82,'Daily Log'!$AA$18:$AA$1017),0)","v":0},{"$f":"IFERROR($E82*SUMIF('Daily Log'!$AC$18:$AC$1017,$B82,'Daily Log'!$AD$18:$AD$1017),0)","v":0},{"$f":"IFERROR($E82*SUMIF('Daily Log'!$AF$18:$AF$1017,$B82,'Daily Log'!$AG$18:$AG$1017),0)","v":0},{"$f":"IFERROR($E82*SUMIF('Daily Log'!$AI$18:$AI$1017,$B82,'Daily Log'!$AJ$18:$AJ$1017),0)","v":0},{"$f":"IFERROR($E82*SUMIF('Daily Log'!$AL$18:$AL$1017,$B82,'Daily Log'!$AM$18:$AM$1017),0)","v":0},{"$f":"IFERROR($E82*SUMIF('Daily Log'!$AO$18:$AO$1017,$B82,'Daily Log'!$AP$18:$AP$1017),0)","v":0},{"$f":"IFERROR($E82*SUMIF('Daily Log'!$AR$18:$AR$1017,$B82,'Daily Log'!$AS$18:$AS$1017),0)","v":0},{"$f":"IFERROR($E82*SUMIF('Daily Log'!$AU$18:$AU$1017,$B82,'Daily Log'!$AV$18:$AV$1017),0)","v":0},{"$f":"IFERROR($E82*SUMIF('Daily Log'!$AX$18:$AX$1017,$B82,'Daily Log'!$AY$18:$AY$1017),0)","v":0},{"$f":"IFERROR($E82*SUMIF('Daily Log'!$BA$18:$BA$1017,$B82,'Daily Log'!$BB$18:$BB$1017),0)","v":0},{"$f":"IFERROR($E82*SUMIF('Daily Log'!$BD$18:$BD$1017,$B82,'Daily Log'!$BE$18:$BE$1017),0)","v":0},{"$f":"IFERROR($E82*SUMIF('Daily Log'!$BG$18:$BG$1017,$B82,'Daily Log'!$BH$18:$BH$1017),0)","v":0},{"$f":"IFERROR($E82*SUMIF('Daily Log'!$BJ$18:$BJ$1017,$B82,'Daily Log'!$BK$18:$BK$1017),0)","v":0},{"$f":"IFERROR($E82*SUMIF('Daily Log'!$BM$18:$BM$1017,$B82,'Daily Log'!$BN$18:$BN$1017),0)","v":0},{"$f":"IFERROR($E82*SUMIF('Daily Log'!$BP$18:$BP$1017,$B82,'Daily Log'!$BQ$18:$BQ$1017),0)","v":0},{"$f":"IFERROR($E82*SUMIF('Daily Log'!$BS$18:$BS$1017,$B82,'Daily Log'!$BT$18:$BT$1017),0)","v":0},{"$f":"IFERROR($E82*SUMIF('Daily Log'!$BV$18:$BV$1017,$B82,'Daily Log'!$BW$18:$BW$1017),0)","v":0},{"$f":"IFERROR($E82*SUMIF('Daily Log'!$BY$18:$BY$1017,$B82,'Daily Log'!$BZ$18:$BZ$1017),0)","v":0},{"$f":"IFERROR($E82*SUMIF('Daily Log'!$CB$18:$CB$1017,$B82,'Daily Log'!$CC$18:$CC$1017),0)","v":0},{"$f":"IFERROR($E82*SUMIF('Daily Log'!$CE$18:$CE$1017,$B82,'Daily Log'!$CF$18:$CF$1017),0)","v":0},{"$f":"IFERROR($E82*SUMIF('Daily Log'!$CH$18:$CH$1017,$B82,'Daily Log'!$CI$18:$CI$1017),0)","v":0},{"$f":"IFERROR($E82*SUMIF('Daily Log'!$CK$18:$CK$1017,$B82,'Daily Log'!$CL$18:$CL$1017),0)","v":0},{"$f":"IFERROR($E82*SUMIF('Daily Log'!$CN$18:$CN$1017,$B82,'Daily Log'!$CO$18:$CO$1017),0)","v":0}]
[null,"AC02 N : MEMBER",null,null,1,0,{"$f":"IFERROR($E83*SUMIF('Daily Log'!$B$18:$B$1017,$B83,'Daily Log'!$C$18:$C$1017),0)","v":0},{"$f":"IFERROR($E83*SUMIF('Daily Log'!$E$18:$E$1017,$B83,'Daily Log'!$F$18:$F$1017),0)","v":0},{"$f":"IFERROR($E83*SUMIF('Daily Log'!$H$18:$H$1017,$B83,'Daily Log'!$I$18:$I$1017),0)","v":0},{"$f":"IFERROR($E83*SUMIF('Daily Log'!$K$18:$K$1017,$B83,'Daily Log'!$L$18:$L$1017),0)","v":0},{"$f":"IFERROR($E83*SUMIF('Daily Log'!$N$18:$N$1017,$B83,'Daily Log'!$O$18:$O$1017),0)","v":0},{"$f":"IFERROR($E83*SUMIF('Daily Log'!$Q$18:$Q$1017,$B83,'Daily Log'!$R$18:$R$1017),0)","v":0},{"$f":"IFERROR($E83*SUMIF('Daily Log'!$T$18:$T$1017,$B83,'Daily Log'!$U$18:$U$1017),0)","v":0},{"$f":"IFERROR($E83*SUMIF('Daily Log'!$W$18:$W$1017,$B83,'Daily Log'!$X$18:$X$1017),0)","v":0},{"$f":"IFERROR($E83*SUMIF('Daily Log'!$Z$18:$Z$1017,$B83,'Daily Log'!$AA$18:$AA$1017),0)","v":0},{"$f":"IFERROR($E83*SUMIF('Daily Log'!$AC$18:$AC$1017,$B83,'Daily Log'!$AD$18:$AD$1017),0)","v":0},{"$f":"IFERROR($E83*SUMIF('Daily Log'!$AF$18:$AF$1017,$B83,'Daily Log'!$AG$18:$AG$1017),0)","v":0},{"$f":"IFERROR($E83*SUMIF('Daily Log'!$AI$18:$AI$1017,$B83,'Daily Log'!$AJ$18:$AJ$1017),0)","v":0},{"$f":"IFERROR($E83*SUMIF('Daily Log'!$AL$18:$AL$1017,$B83,'Daily Log'!$AM$18:$AM$1017),0)","v":0},{"$f":"IFERROR($E83*SUMIF('Daily Log'!$AO$18:$AO$1017,$B83,'Daily Log'!$AP$18:$AP$1017),0)","v":0},{"$f":"IFERROR($E83*SUMIF('Daily Log'!$AR$18:$AR$1017,$B83,'Daily Log'!$AS$18:$AS$1017),0)","v":0},{"$f":"IFERROR($E83*SUMIF('Daily Log'!$AU$18:$AU$1017,$B83,'Daily Log'!$AV$18:$AV$1017),0)","v":0},{"$f":"IFERROR($E83*SUMIF('Daily Log'!$AX$18:$AX$1017,$B83,'Daily Log'!$AY$18:$AY$1017),0)","v":0},{"$f":"IFERROR($E83*SUMIF('Daily Log'!$BA$18:$BA$1017,$B83,'Daily Log'!$BB$18:$BB$1017),0)","v":0},{"$f":"IFERROR($E83*SUMIF('Daily Log'!$BD$18:$BD$1017,$B83,'Daily Log'!$BE$18:$BE$1017),0)","v":0},{"$f":"IFERROR($E83*SUMIF('Daily Log'!$BG$18:$BG$1017,$B83,'Daily Log'!$BH$18:$BH$1017),0)","v":0},{"$f":"IFERROR($E83*SUMIF('Daily Log'!$BJ$18:$BJ$1017,$B83,'Daily Log'!$BK$18:$BK$1017),0)","v":0},{"$f":"IFERROR($E83*SUMIF('Daily Log'!$BM$18:$BM$1017,$B83,'Daily Log'!$BN$18:$BN$1017),0)","v":0},{"$f":"IFERROR($E83*SUMIF('Daily Log'!$BP$18:$BP$1017,$B83,'Daily Log'!$BQ$18:$BQ$1017),0)","v":0},{"$f":"IFERROR($E83*SUMIF('Daily Log'!$BS$18:$BS$1017,$B83,'Daily Log'!$BT$18:$BT$1017),0)","v":0},{"$f":"IFERROR($E83*SUMIF('Daily Log'!$BV$18:$BV$1017,$B83,'Daily Log'!$BW$18:$BW$1017),0)","v":0},{"$f":"IFERROR($E83*SUMIF('Daily Log'!$BY$18:$BY$1017,$B83,'Daily Log'!$BZ$18:$BZ$1017),0)","v":0},{"$f":"IFERROR($E83*SUMIF('Daily Log'!$CB$18:$CB$1017,$B83,'Daily Log'!$CC$18:$CC$1017),0)","v":0},{"$f":"IFERROR($E83*SUMIF('Daily Log'!$CE$18:$CE$1017,$B83,'Daily Log'!$CF$18:$CF$1017),0)","v":0},{"$f":"IFERROR($E83*SUMIF('Daily Log'!$CH$18:$CH$1017,$B83,'Daily Log'!$CI$18:$CI$1017),0)","v":0},{"$f":"IFERROR($E83*SUMIF('Daily Log'!$CK$18:$CK$1017,$B83,'Daily Log'!$CL$18:$CL$1017),0)","v":0},{"$f":"IFERROR($E83*SUMIF('Daily Log'!$CN$18:$CN$1017,$B83,'Daily Log'!$CO$18:$CO$1017),0)","v":0}]
[null,"AC03 N : MEMBER 30%",null,null,1,0,{"$f":"IFERROR($E84*SUMIF('Daily Log'!$B$18:$B$1017,$B84,'Daily Log'!$C$18:$C$1017),0)","v":0},{"$f":"IFERROR($E84*SUMIF('Daily Log'!$E$18:$E$1017,$B84,'Daily Log'!$F$18:$F$1017),0)","v":0},{"$f":"IFERROR($E84*SUMIF('Daily Log'!$H$18:$H$1017,$B84,'Daily Log'!$I$18:$I$1017),0)","v":0},{"$f":"IFERROR($E84*SUMIF('Daily Log'!$K$18:$K$1017,$B84,'Daily Log'!$L$18:$L$1017),0)","v":0},{"$f":"IFERROR($E84*SUMIF('Daily Log'!$N$18:$N$1017,$B84,'Daily Log'!$O$18:$O$1017),0)","v":0},{"$f":"IFERROR($E84*SUMIF('Daily Log'!$Q$18:$Q$1017,$B84,'Daily Log'!$R$18:$R$1017),0)","v":0},{"$f":"IFERROR($E84*SUMIF('Daily Log'!$T$18:$T$1017,$B84,'Daily Log'!$U$18:$U$1017),0)","v":0},{"$f":"IFERROR($E84*SUMIF('Daily Log'!$W$18:$W$1017,$B84,'Daily Log'!$X$18:$X$1017),0)","v":0},{"$f":"IFERROR($E84*SUMIF('Daily Log'!$Z$18:$Z$1017,$B84,'Daily Log'!$AA$18:$AA$1017),0)","v":0},{"$f":"IFERROR($E84*SUMIF('Daily Log'!$AC$18:$AC$1017,$B84,'Daily Log'!$AD$18:$AD$1017),0)","v":0},{"$f":"IFERROR($E84*SUMIF('Daily Log'!$AF$18:$AF$1017,$B84,'Daily Log'!$AG$18:$AG$1017),0)","v":0},{"$f":"IFERROR($E84*SUMIF('Daily Log'!$AI$18:$AI$1017,$B84,'Daily Log'!$AJ$18:$AJ$1017),0)","v":0},{"$f":"IFERROR($E84*SUMIF('Daily Log'!$AL$18:$AL$1017,$B84,'Daily Log'!$AM$18:$AM$1017),0)","v":0},{"$f":"IFERROR($E84*SUMIF('Daily Log'!$AO$18:$AO$1017,$B84,'Daily Log'!$AP$18:$AP$1017),0)","v":0},{"$f":"IFERROR($E84*SUMIF('Daily Log'!$AR$18:$AR$1017,$B84,'Daily Log'!$AS$18:$AS$1017),0)","v":0},{"$f":"IFERROR($E84*SUMIF('Daily Log'!$AU$18:$AU$1017,$B84,'Daily Log'!$AV$18:$AV$1017),0)","v":0},{"$f":"IFERROR($E84*SUMIF('Daily Log'!$AX$18:$AX$1017,$B84,'Daily Log'!$AY$18:$AY$1017),0)","v":0},{"$f":"IFERROR($E84*SUMIF('Daily Log'!$BA$18:$BA$1017,$B84,'Daily Log'!$BB$18:$BB$1017),0)","v":0},{"$f":"IFERROR($E84*SUMIF('Daily Log'!$BD$18:$BD$1017,$B84,'Daily Log'!$BE$18:$BE$1017),0)","v":0},{"$f":"IFERROR($E84*SUMIF('Daily Log'!$BG$18:$BG$1017,$B84,'Daily Log'!$BH$18:$BH$1017),0)","v":0},{"$f":"IFERROR($E84*SUMIF('Daily Log'!$BJ$18:$BJ$1017,$B84,'Daily Log'!$BK$18:$BK$1017),0)","v":0},{"$f":"IFERROR($E84*SUMIF('Daily Log'!$BM$18:$BM$1017,$B84,'Daily Log'!$BN$18:$BN$1017),0)","v":0},{"$f":"IFERROR($E84*SUMIF('Daily Log'!$BP$18:$BP$1017,$B84,'Daily Log'!$BQ$18:$BQ$1017),0)","v":0},{"$f":"IFERROR($E84*SUMIF('Daily Log'!$BS$18:$BS$1017,$B84,'Daily Log'!$BT$18:$BT$1017),0)","v":0},{"$f":"IFERROR($E84*SUMIF('Daily Log'!$BV$18:$BV$1017,$B84,'Daily Log'!$BW$18:$BW$1017),0)","v":0},{"$f":"IFERROR($E84*SUMIF('Daily Log'!$BY$18:$BY$1017,$B84,'Daily Log'!$BZ$18:$BZ$1017),0)","v":0},{"$f":"IFERROR($E84*SUMIF('Daily Log'!$CB$18:$CB$1017,$B84,'Daily Log'!$CC$18:$CC$1017),0)","v":0},{"$f":"IFERROR($E84*SUMIF('Daily Log'!$CE$18:$CE$1017,$B84,'Daily Log'!$CF$18:$CF$1017),0)","v":0},{"$f":"IFERROR($E84*SUMIF('Daily Log'!$CH$18:$CH$1017,$B84,'Daily Log'!$CI$18:$CI$1017),0)","v":0},{"$f":"IFERROR($E84*SUMIF('Daily Log'!$CK$18:$CK$1017,$B84,'Daily Log'!$CL$18:$CL$1017),0)","v":0},{"$f":"IFERROR($E84*SUMIF('Daily Log'!$CN$18:$CN$1017,$B84,'Daily Log'!$CO$18:$CO$1017),0)","v":0}]
[null,"AC04 N : CARI MEMBER",null,null,1,0,{"$f":"IFERROR($E85*SUMIF('Daily Log'!$B$18:$B$1017,$B85,'Daily Log'!$C$18:$C$1017),0)","v":0},{"$f":"IFERROR($E85*SUMIF('Daily Log'!$E$18:$E$1017,$B85,'Daily Log'!$F$18:$F$1017),0)","v":0},{"$f":"IFERROR($E85*SUMIF('Daily Log'!$H$18:$H$1017,$B85,'Daily Log'!$I$18:$I$1017),0)","v":0},{"$f":"IFERROR($E85*SUMIF('Daily Log'!$K$18:$K$1017,$B85,'Daily Log'!$L$18:$L$1017),0)","v":0},{"$f":"IFERROR($E85*SUMIF('Daily Log'!$N$18:$N$1017,$B85,'Daily Log'!$O$18:$O$1017),0)","v":0},{"$f":"IFERROR($E85*SUMIF('Daily Log'!$Q$18:$Q$1017,$B85,'Daily Log'!$R$18:$R$1017),0)","v":0},{"$f":"IFERROR($E85*SUMIF('Daily Log'!$T$18:$T$1017,$B85,'Daily Log'!$U$18:$U$1017),0)","v":0},{"$f":"IFERROR($E85*SUMIF('Daily Log'!$W$18:$W$1017,$B85,'Daily Log'!$X$18:$X$1017),0)","v":0},{"$f":"IFERROR($E85*SUMIF('Daily Log'!$Z$18:$Z$1017,$B85,'Daily Log'!$AA$18:$AA$1017),0)","v":0},{"$f":"IFERROR($E85*SUMIF('Daily Log'!$AC$18:$AC$1017,$B85,'Daily Log'!$AD$18:$AD$1017),0)","v":0},{"$f":"IFERROR($E85*SUMIF('Daily Log'!$AF$18:$AF$1017,$B85,'Daily Log'!$AG$18:$AG$1017),0)","v":0},{"$f":"IFERROR($E85*SUMIF('Daily Log'!$AI$18:$AI$1017,$B85,'Daily Log'!$AJ$18:$AJ$1017),0)","v":0},{"$f":"IFERROR($E85*SUMIF('Daily Log'!$AL$18:$AL$1017,$B85,'Daily Log'!$AM$18:$AM$1017),0)","v":0},{"$f":"IFERROR($E85*SUMIF('Daily Log'!$AO$18:$AO$1017,$B85,'Daily Log'!$AP$18:$AP$1017),0)","v":0},{"$f":"IFERROR($E85*SUMIF('Daily Log'!$AR$18:$AR$1017,$B85,'Daily Log'!$AS$18:$AS$1017),0)","v":0},{"$f":"IFERROR($E85*SUMIF('Daily Log'!$AU$18:$AU$1017,$B85,'Daily Log'!$AV$18:$AV$1017),0)","v":0},{"$f":"IFERROR($E85*SUMIF('Daily Log'!$AX$18:$AX$1017,$B85,'Daily Log'!$AY$18:$AY$1017),0)","v":0},{"$f":"IFERROR($E85*SUMIF('Daily Log'!$BA$18:$BA$1017,$B85,'Daily Log'!$BB$18:$BB$1017),0)","v":0},{"$f":"IFERROR($E85*SUMIF('Daily Log'!$BD$18:$BD$1017,$B85,'Daily Log'!$BE$18:$BE$1017),0)","v":0},{"$f":"IFERROR($E85*SUMIF('Daily Log'!$BG$18:$BG$1017,$B85,'Daily Log'!$BH$18:$BH$1017),0)","v":0},{"$f":"IFERROR($E85*SUMIF('Daily Log'!$BJ$18:$BJ$1017,$B85,'Daily Log'!$BK$18:$BK$1017),0)","v":0},{"$f":"IFERROR($E85*SUMIF('Daily Log'!$BM$18:$BM$1017,$B85,'Daily Log'!$BN$18:$BN$1017),0)","v":0},{"$f":"IFERROR($E85*SUMIF('Daily Log'!$BP$18:$BP$1017,$B85,'Daily Log'!$BQ$18:$BQ$1017),0)","v":0},{"$f":"IFERROR($E85*SUMIF('Daily Log'!$BS$18:$BS$1017,$B85,'Daily Log'!$BT$18:$BT$1017),0)","v":0},{"$f":"IFERROR($E85*SUMIF('Daily Log'!$BV$18:$BV$1017,$B85,'Daily Log'!$BW$18:$BW$1017),0)","v":0},{"$f":"IFERROR($E85*SUMIF('Daily Log'!$BY$18:$BY$1017,$B85,'Daily Log'!$BZ$18:$BZ$1017),0)","v":0},{"$f":"IFERROR($E85*SUMIF('Daily Log'!$CB$18:$CB$1017,$B85,'Daily Log'!$CC$18:$CC$1017),0)","v":0},{"$f":"IFERROR($E85*SUMIF('Daily Log'!$CE$18:$CE$1017,$B85,'Daily Log'!$CF$18:$CF$1017),0)","v":0},{"$f":"IFERROR($E85*SUMIF('Daily Log'!$CH$18:$CH$1017,$B85,'Daily Log'!$CI$18:$CI$1017),0)","v":0},{"$f":"IFERROR($E85*SUMIF('Daily Log'!$CK$18:$CK$1017,$B85,'Daily Log'!$CL$18:$CL$1017),0)","v":0},{"$f":"IFERROR($E85*SUMIF('Daily Log'!$CN$18:$CN$1017,$B85,'Daily Log'!$CO$18:$CO$1017),0)","v":0}]
[null,"AC05 K-DINNER",null,null,1,0,{"$f":"IFERROR($E86*SUMIF('Daily Log'!$B$18:$B$1017,$B86,'Daily Log'!$C$18:$C$1017),0)","v":0},{"$f":"IFERROR($E86*SUMIF('Daily Log'!$E$18:$E$1017,$B86,'Daily Log'!$F$18:$F$1017),0)","v":0},{"$f":"IFERROR($E86*SUMIF('Daily Log'!$H$18:$H$1017,$B86,'Daily Log'!$I$18:$I$1017),0)","v":0},{"$f":"IFERROR($E86*SUMIF('Daily Log'!$K$18:$K$1017,$B86,'Daily Log'!$L$18:$L$1017),0)","v":0},{"$f":"IFERROR($E86*SUMIF('Daily Log'!$N$18:$N$1017,$B86,'Daily Log'!$O$18:$O$1017),0)","v":0},{"$f":"IFERROR($E86*SUMIF('Daily Log'!$Q$18:$Q$1017,$B86,'Daily Log'!$R$18:$R$1017),0)","v":0},{"$f":"IFERROR($E86*SUMIF('Daily Log'!$T$18:$T$1017,$B86,'Daily Log'!$U$18:$U$1017),0)","v":0},{"$f":"IFERROR($E86*SUMIF('Daily Log'!$W$18:$W$1017,$B86,'Daily Log'!$X$18:$X$1017),0)","v":0},{"$f":"IFERROR($E86*SUMIF('Daily Log'!$Z$18:$Z$1017,$B86,'Daily Log'!$AA$18:$AA$1017),0)","v":0},{"$f":"IFERROR($E86*SUMIF('Daily Log'!$AC$18:$AC$1017,$B86,'Daily Log'!$AD$18:$AD$1017),0)","v":0},{"$f":"IFERROR($E86*SUMIF('Daily Log'!$AF$18:$AF$1017,$B86,'Daily Log'!$AG$18:$AG$1017),0)","v":0},{"$f":"IFERROR($E86*SUMIF('Daily Log'!$AI$18:$AI$1017,$B86,'Daily Log'!$AJ$18:$AJ$1017),0)","v":0},{"$f":"IFERROR($E86*SUMIF('Daily Log'!$AL$18:$AL$1017,$B86,'Daily Log'!$AM$18:$AM$1017),0)","v":0},{"$f":"IFERROR($E86*SUMIF('Daily Log'!$AO$18:$AO$1017,$B86,'Daily Log'!$AP$18:$AP$1017),0)","v":0},{"$f":"IFERROR($E86*SUMIF('Daily Log'!$AR$18:$AR$1017,$B86,'Daily Log'!$AS$18:$AS$1017),0)","v":0},{"$f":"IFERROR($E86*SUMIF('Daily Log'!$AU$18:$AU$1017,$B86,'Daily Log'!$AV$18:$AV$1017),0)","v":0},{"$f":"IFERROR($E86*SUMIF('Daily Log'!$AX$18:$AX$1017,$B86,'Daily Log'!$AY$18:$AY$1017),0)","v":0},{"$f":"IFERROR($E86*SUMIF('Daily Log'!$BA$18:$BA$1017,$B86,'Daily Log'!$BB$18:$BB$1017),0)","v":0},{"$f":"IFERROR($E86*SUMIF('Daily Log'!$BD$18:$BD$1017,$B86,'Daily Log'!$BE$18:$BE$1017),0)","v":0},{"$f":"IFERROR($E86*SUMIF('Daily Log'!$BG$18:$BG$1017,$B86,'Daily Log'!$BH$18:$BH$1017),0)","v":0},{"$f":"IFERROR($E86*SUMIF('Daily Log'!$BJ$18:$BJ$1017,$B86,'Daily Log'!$BK$18:$BK$1017),0)","v":0},{"$f":"IFERROR($E86*SUMIF('Daily Log'!$BM$18:$BM$1017,$B86,'Daily Log'!$BN$18:$BN$1017),0)","v":0},{"$f":"IFERROR($E86*SUMIF('Daily Log'!$BP$18:$BP$1017,$B86,'Daily Log'!$BQ$18:$BQ$1017),0)","v":0},{"$f":"IFERROR($E86*SUMIF('Daily Log'!$BS$18:$BS$1017,$B86,'Daily Log'!$BT$18:$BT$1017),0)","v":0},{"$f":"IFERROR($E86*SUMIF('Daily Log'!$BV$18:$BV$1017,$B86,'Daily Log'!$BW$18:$BW$1017),0)","v":0},{"$f":"IFERROR($E86*SUMIF('Daily Log'!$BY$18:$BY$1017,$B86,'Daily Log'!$BZ$18:$BZ$1017),0)","v":0},{"$f":"IFERROR($E86*SUMIF('Daily Log'!$CB$18:$CB$1017,$B86,'Daily Log'!$CC$18:$CC$1017),0)","v":0},{"$f":"IFERROR($E86*SUMIF('Daily Log'!$CE$18:$CE$1017,$B86,'Daily Log'!$CF$18:$CF$1017),0)","v":0},{"$f":"IFERROR($E86*SUMIF('Daily Log'!$CH$18:$CH$1017,$B86,'Daily Log'!$CI$18:$CI$1017),0)","v":0},{"$f":"IFERROR($E86*SUMIF('Daily Log'!$CK$18:$CK$1017,$B86,'Daily Log'!$CL$18:$CL$1017),0)","v":0},{"$f":"IFERROR($E86*SUMIF('Daily Log'!$CN$18:$CN$1017,$B86,'Daily Log'!$CO$18:$CO$1017),0)","v":0}]
[null,"AC06 N : CHILDREN",null,null,1,0,{"$f":"IFERROR($E87*SUMIF('Daily Log'!$B$18:$B$1017,$B87,'Daily Log'!$C$18:$C$1017),0)","v":0},{"$f":"IFERROR($E87*SUMIF('Daily Log'!$E$18:$E$1017,$B87,'Daily Log'!$F$18:$F$1017),0)","v":0},{"$f":"IFERROR($E87*SUMIF('Daily Log'!$H$18:$H$1017,$B87,'Daily Log'!$I$18:$I$1017),0)","v":0},{"$f":"IFERROR($E87*SUMIF('Daily Log'!$K$18:$K$1017,$B87,'Daily Log'!$L$18:$L$1017),0)","v":0},{"$f":"IFERROR($E87*SUMIF('Daily Log'!$N$18:$N$1017,$B87,'Daily Log'!$O$18:$O$1017),0)","v":0},{"$f":"IFERROR($E87*SUMIF('Daily Log'!$Q$18:$Q$1017,$B87,'Daily Log'!$R$18:$R$1017),0)","v":0},{"$f":"IFERROR($E87*SUMIF('Daily Log'!$T$18:$T$1017,$B87,'Daily Log'!$U$18:$U$1017),0)","v":0},{"$f":"IFERROR($E87*SUMIF('Daily Log'!$W$18:$W$1017,$B87,'Daily Log'!$X$18:$X$1017),0)","v":0},{"$f":"IFERROR($E87*SUMIF('Daily Log'!$Z$18:$Z$1017,$B87,'Daily Log'!$AA$18:$AA$1017),0)","v":0},{"$f":"IFERROR($E87*SUMIF('Daily Log'!$AC$18:$AC$1017,$B87,'Daily Log'!$AD$18:$AD$1017),0)","v":0},{"$f":"IFERROR($E87*SUMIF('Daily Log'!$AF$18:$AF$1017,$B87,'Daily Log'!$AG$18:$AG$1017),0)","v":0},{"$f":"IFERROR($E87*SUMIF('Daily Log'!$AI$18:$AI$1017,$B87,'Daily Log'!$AJ$18:$AJ$1017),0)","v":0},{"$f":"IFERROR($E87*SUMIF('Daily Log'!$AL$18:$AL$1017,$B87,'Daily Log'!$AM$18:$AM$1017),0)","v":0},{"$f":"IFERROR($E87*SUMIF('Daily Log'!$AO$18:$AO$1017,$B87,'Daily Log'!$AP$18:$AP$1017),0)","v":0},{"$f":"IFERROR($E87*SUMIF('Daily Log'!$AR$18:$AR$1017,$B87,'Daily Log'!$AS$18:$AS$1017),0)","v":0},{"$f":"IFERROR($E87*SUMIF('Daily Log'!$AU$18:$AU$1017,$B87,'Daily Log'!$AV$18:$AV$1017),0)","v":0},{"$f":"IFERROR($E87*SUMIF('Daily Log'!$AX$18:$AX$1017,$B87,'Daily Log'!$AY$18:$AY$1017),0)","v":0},{"$f":"IFERROR($E87*SUMIF('Daily Log'!$BA$18:$BA$1017,$B87,'Daily Log'!$BB$18:$BB$1017),0)","v":0},{"$f":"IFERROR($E87*SUMIF('Daily Log'!$BD$18:$BD$1017,$B87,'Daily Log'!$BE$18:$BE$1017),0)","v":0},{"$f":"IFERROR($E87*SUMIF('Daily Log'!$BG$18:$BG$1017,$B87,'Daily Log'!$BH$18:$BH$1017),0)","v":0},{"$f":"IFERROR($E87*SUMIF('Daily Log'!$BJ$18:$BJ$1017,$B87,'Daily Log'!$BK$18:$BK$1017),0)","v":0},{"$f":"IFERROR($E87*SUMIF('Daily Log'!$BM$18:$BM$1017,$B87,'Daily Log'!$BN$18:$BN$1017),0)","v":0},{"$f":"IFERROR($E87*SUMIF('Daily Log'!$BP$18:$BP$1017,$B87,'Daily Log'!$BQ$18:$BQ$1017),0)","v":0},{"$f":"IFERROR($E87*SUMIF('Daily Log'!$BS$18:$BS$1017,$B87,'Daily Log'!$BT$18:$BT$1017),0)","v":0},{"$f":"IFERROR($E87*SUMIF('Daily Log'!$BV$18:$BV$1017,$B87,'Daily Log'!$BW$18:$BW$1017),0)","v":0},{"$f":"IFERROR($E87*SUMIF('Daily Log'!$BY$18:$BY$1017,$B87,'Daily Log'!$BZ$18:$BZ$1017),0)","v":0},{"$f":"IFERROR($E87*SUMIF('Daily Log'!$CB$18:$CB$1017,$B87,'Daily Log'!$CC$18:$CC$1017),0)","v":0},{"$f":"IFERROR($E87*SUMIF('Daily Log'!$CE$18:$CE$1017,$B87,'Daily Log'!$CF$18:$CF$1017),0)","v":0},{"$f":"IFERROR($E87*SUMIF('Daily Log'!$CH$18:$CH$1017,$B87,'Daily Log'!$CI$18:$CI$1017),0)","v":0},{"$f":"IFERROR($E87*SUMIF('Daily Log'!$CK$18:$CK$1017,$B87,'Daily Log'!$CL$18:$CL$1017),0)","v":0},{"$f":"IFERROR($E87*SUMIF('Daily Log'!$CN$18:$CN$1017,$B87,'Daily Log'!$CO$18:$CO$1017),0)","v":0}]
[null,"AC07 N : MEMBER B'DAY",null,null,1,0,{"$f":"IFERROR($E88*SUMIF('Daily Log'!$B$18:$B$1017,$B88,'Daily Log'!$C$18:$C$1017),0)","v":0},{"$f":"IFERROR($E88*SUMIF('Daily Log'!$E$18:$E$1017,$B88,'Daily Log'!$F$18:$F$1017),0)","v":0},{"$f":"IFERROR($E88*SUMIF('Daily Log'!$H$18:$H$1017,$B88,'Daily Log'!$I$18:$I$1017),0)","v":0},{"$f":"IFERROR($E88*SUMIF('Daily Log'!$K$18:$K$1017,$B88,'Daily Log'!$L$18:$L$1017),0)","v":0},{"$f":"IFERROR($E88*SUMIF('Daily Log'!$N$18:$N$1017,$B88,'Daily Log'!$O$18:$O$1017),0)","v":0},{"$f":"IFERROR($E88*SUMIF('Daily Log'!$Q$18:$Q$1017,$B88,'Daily Log'!$R$18:$R$1017),0)","v":0},{"$f":"IFERROR($E88*SUMIF('Daily Log'!$T$18:$T$1017,$B88,'Daily Log'!$U$18:$U$1017),0)","v":0},{"$f":"IFERROR($E88*SUMIF('Daily Log'!$W$18:$W$1017,$B88,'Daily Log'!$X$18:$X$1017),0)","v":0},{"$f":"IFERROR($E88*SUMIF('Daily Log'!$Z$18:$Z$1017,$B88,'Daily Log'!$AA$18:$AA$1017),0)","v":0},{"$f":"IFERROR($E88*SUMIF('Daily Log'!$AC$18:$AC$1017,$B88,'Daily Log'!$AD$18:$AD$1017),0)","v":0},{"$f":"IFERROR($E88*SUMIF('Daily Log'!$AF$18:$AF$1017,$B88,'Daily Log'!$AG$18:$AG$1017),0)","v":0},{"$f":"IFERROR($E88*SUMIF('Daily Log'!$AI$18:$AI$1017,$B88,'Daily Log'!$AJ$18:$AJ$1017),0)","v":0},{"$f":"IFERROR($E88*SUMIF('Daily Log'!$AL$18:$AL$1017,$B88,'Daily Log'!$AM$18:$AM$1017),0)","v":0},{"$f":"IFERROR($E88*SUMIF('Daily Log'!$AO$18:$AO$1017,$B88,'Daily Log'!$AP$18:$AP$1017),0)","v":0},{"$f":"IFERROR($E88*SUMIF('Daily Log'!$AR$18:$AR$1017,$B88,'Daily Log'!$AS$18:$AS$1017),0)","v":0},{"$f":"IFERROR($E88*SUMIF('Daily Log'!$AU$18:$AU$1017,$B88,'Daily Log'!$AV$18:$AV$1017),0)","v":0},{"$f":"IFERROR($E88*SUMIF('Daily Log'!$AX$18:$AX$1017,$B88,'Daily Log'!$AY$18:$AY$1017),0)","v":0},{"$f":"IFERROR($E88*SUMIF('Daily Log'!$BA$18:$BA$1017,$B88,'Daily Log'!$BB$18:$BB$1017),0)","v":0},{"$f":"IFERROR($E88*SUMIF('Daily Log'!$BD$18:$BD$1017,$B88,'Daily Log'!$BE$18:$BE$1017),0)","v":0},{"$f":"IFERROR($E88*SUMIF('Daily Log'!$BG$18:$BG$1017,$B88,'Daily Log'!$BH$18:$BH$1017),0)","v":0},{"$f":"IFERROR($E88*SUMIF('Daily Log'!$BJ$18:$BJ$1017,$B88,'Daily Log'!$BK$18:$BK$1017),0)","v":0},{"$f":"IFERROR($E88*SUMIF('Daily Log'!$BM$18:$BM$1017,$B88,'Daily Log'!$BN$18:$BN$1017),0)","v":0},{"$f":"IFERROR($E88*SUMIF('Daily Log'!$BP$18:$BP$1017,$B88,'Daily Log'!$BQ$18:$BQ$1017),0)","v":0},{"$f":"IFERROR($E88*SUMIF('Daily Log'!$BS$18:$BS$1017,$B88,'Daily Log'!$BT$18:$BT$1017),0)","v":0},{"$f":"IFERROR($E88*SUMIF('Daily Log'!$BV$18:$BV$1017,$B88,'Daily Log'!$BW$18:$BW$1017),0)","v":0},{"$f":"IFERROR($E88*SUMIF('Daily Log'!$BY$18:$BY$1017,$B88,'Daily Log'!$BZ$18:$BZ$1017),0)","v":0},{"$f":"IFERROR($E88*SUMIF('Daily Log'!$CB$18:$CB$1017,$B88,'Daily Log'!$CC$18:$CC$1017),0)","v":0},{"$f":"IFERROR($E88*SUMIF('Daily Log'!$CE$18:$CE$1017,$B88,'Daily Log'!$CF$18:$CF$1017),0)","v":0},{"$f":"IFERROR($E88*SUMIF('Daily Log'!$CH$18:$CH$1017,$B88,'Daily Log'!$CI$18:$CI$1017),0)","v":0},{"$f":"IFERROR($E88*SUMIF('Daily Log'!$CK$18:$CK$1017,$B88,'Daily Log'!$CL$18:$CL$1017),0)","v":0},{"$f":"IFERROR($E88*SUMIF('Daily Log'!$CN$18:$CN$1017,$B88,'Daily Log'!$CO$18:$CO$1017),0)","v":0}]
[null,"AC08 N : STAFF B'DAY",null,null,1,0,{"$f":"IFERROR($E89*SUMIF('Daily Log'!$B$18:$B$1017,$B89,'Daily Log'!$C$18:$C$1017),0)","v":0},{"$f":"IFERROR($E89*SUMIF('Daily Log'!$E$18:$E$1017,$B89,'Daily Log'!$F$18:$F$1017),0)","v":0},{"$f":"IFERROR($E89*SUMIF('Daily Log'!$H$18:$H$1017,$B89,'Daily Log'!$I$18:$I$1017),0)","v":0},{"$f":"IFERROR($E89*SUMIF('Daily Log'!$K$18:$K$1017,$B89,'Daily Log'!$L$18:$L$1017),0)","v":0},{"$f":"IFERROR($E89*SUMIF('Daily Log'!$N$18:$N$1017,$B89,'Daily Log'!$O$18:$O$1017),0)","v":0},{"$f":"IFERROR($E89*SUMIF('Daily Log'!$Q$18:$Q$1017,$B89,'Daily Log'!$R$18:$R$1017),0)","v":0},{"$f":"IFERROR($E89*SUMIF('Daily Log'!$T$18:$T$1017,$B89,'Daily Log'!$U$18:$U$1017),0)","v":0},{"$f":"IFERROR($E89*SUMIF('Daily Log'!$W$18:$W$1017,$B89,'Daily Log'!$X$18:$X$1017),0)","v":0},{"$f":"IFERROR($E89*SUMIF('Daily Log'!$Z$18:$Z$1017,$B89,'Daily Log'!$AA$18:$AA$1017),0)","v":0},{"$f":"IFERROR($E89*SUMIF('Daily Log'!$AC$18:$AC$1017,$B89,'Daily Log'!$AD$18:$AD$1017),0)","v":0},{"$f":"IFERROR($E89*SUMIF('Daily Log'!$AF$18:$AF$1017,$B89,'Daily Log'!$AG$18:$AG$1017),0)","v":0},{"$f":"IFERROR($E89*SUMIF('Daily Log'!$AI$18:$AI$1017,$B89,'Daily Log'!$AJ$18:$AJ$1017),0)","v":0},{"$f":"IFERROR($E89*SUMIF('Daily Log'!$AL$18:$AL$1017,$B89,'Daily Log'!$AM$18:$AM$1017),0)","v":0},{"$f":"IFERROR($E89*SUMIF('Daily Log'!$AO$18:$AO$1017,$B89,'Daily Log'!$AP$18:$AP$1017),0)","v":0},{"$f":"IFERROR($E89*SUMIF('Daily Log'!$AR$18:$AR$1017,$B89,'Daily Log'!$AS$18:$AS$1017),0)","v":0},{"$f":"IFERROR($E89*SUMIF('Daily Log'!$AU$18:$AU$1017,$B89,'Daily Log'!$AV$18:$AV$1017),0)","v":0},{"$f":"IFERROR($E89*SUMIF('Daily Log'!$AX$18:$AX$1017,$B89,'Daily Log'!$AY$18:$AY$1017),0)","v":0},{"$f":"IFERROR($E89*SUMIF('Daily Log'!$BA$18:$BA$1017,$B89,'Daily Log'!$BB$18:$BB$1017),0)","v":0},{"$f":"IFERROR($E89*SUMIF('Daily Log'!$BD$18:$BD$1017,$B89,'Daily Log'!$BE$18:$BE$1017),0)","v":0},{"$f":"IFERROR($E89*SUMIF('Daily Log'!$BG$18:$BG$1017,$B89,'Daily Log'!$BH$18:$BH$1017),0)","v":0},{"$f":"IFERROR($E89*SUMIF('Daily Log'!$BJ$18:$BJ$1017,$B89,'Daily Log'!$BK$18:$BK$1017),0)","v":0},{"$f":"IFERROR($E89*SUMIF('Daily Log'!$BM$18:$BM$1017,$B89,'Daily Log'!$BN$18:$BN$1017),0)","v":0},{"$f":"IFERROR($E89*SUMIF('Daily Log'!$BP$18:$BP$1017,$B89,'Daily Log'!$BQ$18:$BQ$1017),0)","v":0},{"$f":"IFERROR($E89*SUMIF('Daily Log'!$BS$18:$BS$1017,$B89,'Daily Log'!$BT$18:$BT$1017),0)","v":0},{"$f":"IFERROR($E89*SUMIF('Daily Log'!$BV$18:$BV$1017,$B89,'Daily Log'!$BW$18:$BW$1017),0)","v":0},{"$f":"IFERROR($E89*SUMIF('Daily Log'!$BY$18:$BY$1017,$B89,'Daily Log'!$BZ$18:$BZ$1017),0)","v":0},{"$f":"IFERROR($E89*SUMIF('Daily Log'!$CB$18:$CB$1017,$B89,'Daily Log'!$CC$18:$CC$1017),0)","v":0},{"$f":"IFERROR($E89*SUMIF('Daily Log'!$CE$18:$CE$1017,$B89,'Daily Log'!$CF$18:$CF$1017),0)","v":0},{"$f":"IFERROR($E89*SUMIF('Daily Log'!$CH$18:$CH$1017,$B89,'Daily Log'!$CI$18:$CI$1017),0)","v":0},{"$f":"IFERROR($E89*SUMIF('Daily Log'!$CK$18:$CK$1017,$B89,'Daily Log'!$CL$18:$CL$1017),0)","v":0},{"$f":"IFERROR($E89*SUMIF('Daily Log'!$CN$18:$CN$1017,$B89,'Daily Log'!$CO$18:$CO$1017),0)","v":0}]
[null,"AC09 N : FOC HEAD",null,null,1,0,{"$f":"IFERROR($E90*SUMIF('Daily Log'!$B$18:$B$1017,$B90,'Daily Log'!$C$18:$C$1017),0)","v":0},{"$f":"IFERROR($E90*SUMIF('Daily Log'!$E$18:$E$1017,$B90,'Daily Log'!$F$18:$F$1017),0)","v":0},{"$f":"IFERROR($E90*SUMIF('Daily Log'!$H$18:$H$1017,$B90,'Daily Log'!$I$18:$I$1017),0)","v":0},{"$f":"IFERROR($E90*SUMIF('Daily Log'!$K$18:$K$1017,$B90,'Daily Log'!$L$18:$L$1017),0)","v":0},{"$f":"IFERROR($E90*SUMIF('Daily Log'!$N$18:$N$1017,$B90,'Daily Log'!$O$18:$O$1017),0)","v":0},{"$f":"IFERROR($E90*SUMIF('Daily Log'!$Q$18:$Q$1017,$B90,'Daily Log'!$R$18:$R$1017),0)","v":0},{"$f":"IFERROR($E90*SUMIF('Daily Log'!$T$18:$T$1017,$B90,'Daily Log'!$U$18:$U$1017),0)","v":0},{"$f":"IFERROR($E90*SUMIF('Daily Log'!$W$18:$W$1017,$B90,'Daily Log'!$X$18:$X$1017),0)","v":0},{"$f":"IFERROR($E90*SUMIF('Daily Log'!$Z$18:$Z$1017,$B90,'Daily Log'!$AA$18:$AA$1017),0)","v":0},{"$f":"IFERROR($E90*SUMIF('Daily Log'!$AC$18:$AC$1017,$B90,'Daily Log'!$AD$18:$AD$1017),0)","v":0},{"$f":"IFERROR($E90*SUMIF('Daily Log'!$AF$18:$AF$1017,$B90,'Daily Log'!$AG$18:$AG$1017),0)","v":0},{"$f":"IFERROR($E90*SUMIF('Daily Log'!$AI$18:$AI$1017,$B90,'Daily Log'!$AJ$18:$AJ$1017),0)","v":0},{"$f":"IFERROR($E90*SUMIF('Daily Log'!$AL$18:$AL$1017,$B90,'Daily Log'!$AM$18:$AM$1017),0)","v":0},{"$f":"IFERROR($E90*SUMIF('Daily Log'!$AO$18:$AO$1017,$B90,'Daily Log'!$AP$18:$AP$1017),0)","v":0},{"$f":"IFERROR($E90*SUMIF('Daily Log'!$AR$18:$AR$1017,$B90,'Daily Log'!$AS$18:$AS$1017),0)","v":0},{"$f":"IFERROR($E90*SUMIF('Daily Log'!$AU$18:$AU$1017,$B90,'Daily Log'!$AV$18:$AV$1017),0)","v":0},{"$f":"IFERROR($E90*SUMIF('Daily Log'!$AX$18:$AX$1017,$B90,'Daily Log'!$AY$18:$AY$1017),0)","v":0},{"$f":"IFERROR($E90*SUMIF('Daily Log'!$BA$18:$BA$1017,$B90,'Daily Log'!$BB$18:$BB$1017),0)","v":0},{"$f":"IFERROR($E90*SUMIF('Daily Log'!$BD$18:$BD$1017,$B90,'Daily Log'!$BE$18:$BE$1017),0)","v":0},{"$f":"IFERROR($E90*SUMIF('Daily Log'!$BG$18:$BG$1017,$B90,'Daily Log'!$BH$18:$BH$1017),0)","v":0},{"$f":"IFERROR($E90*SUMIF('Daily Log'!$BJ$18:$BJ$1017,$B90,'Daily Log'!$BK$18:$BK$1017),0)","v":0},{"$f":"IFERROR($E90*SUMIF('Daily Log'!$BM$18:$BM$1017,$B90,'Daily Log'!$BN$18:$BN$1017),0)","v":0},{"$f":"IFERROR($E90*SUMIF('Daily Log'!$BP$18:$BP$1017,$B90,'Daily Log'!$BQ$18:$BQ$1017),0)","v":0},{"$f":"IFERROR($E90*SUMIF('Daily Log'!$BS$18:$BS$1017,$B90,'Daily Log'!$BT$18:$BT$1017),0)","v":0},{"$f":"IFERROR($E90*SUMIF('Daily Log'!$BV$18:$BV$1017,$B90,'Daily Log'!$BW$18:$BW$1017),0)","v":0},{"$f":"IFERROR($E90*SUMIF('Daily Log'!$BY$18:$BY$1017,$B90,'Daily Log'!$BZ$18:$BZ$1017),0)","v":0},{"$f":"IFERROR($E90*SUMIF('Daily Log'!$CB$18:$CB$1017,$B90,'Daily Log'!$CC$18:$CC$1017),0)","v":0},{"$f":"IFERROR($E90*SUMIF('Daily Log'!$CE$18:$CE$1017,$B90,'Daily Log'!$CF$18:$CF$1017),0)","v":0},{"$f":"IFERROR($E90*SUMIF('Daily Log'!$CH$18:$CH$1017,$B90,'Daily Log'!$CI$18:$CI$1017),0)","v":0},{"$f":"IFERROR($E90*SUMIF('Daily Log'!$CK$18:$CK$1017,$B90,'Daily Log'!$CL$18:$CL$1017),0)","v":0},{"$f":"IFERROR($E90*SUMIF('Daily Log'!$CN$18:$CN$1017,$B90,'Daily Log'!$CO$18:$CO$1017),0)","v":0}]
[null,"AC10 N : FREEHEAD (B)",null,null,1,0,{"$f":"IFERROR($E91*SUMIF('Daily Log'!$B$18:$B$1017,$B91,'Daily Log'!$C$18:$C$1017),0)","v":0},{"$f":"IFERROR($E91*SUMIF('Daily Log'!$E$18:$E$1017,$B91,'Daily Log'!$F$18:$F$1017),0)","v":0},{"$f":"IFERROR($E91*SUMIF('Daily Log'!$H$18:$H$1017,$B91,'Daily Log'!$I$18:$I$1017),0)","v":0},{"$f":"IFERROR($E91*SUMIF('Daily Log'!$K$18:$K$1017,$B91,'Daily Log'!$L$18:$L$1017),0)","v":0},{"$f":"IFERROR($E91*SUMIF('Daily Log'!$N$18:$N$1017,$B91,'Daily Log'!$O$18:$O$1017),0)","v":0},{"$f":"IFERROR($E91*SUMIF('Daily Log'!$Q$18:$Q$1017,$B91,'Daily Log'!$R$18:$R$1017),0)","v":0},{"$f":"IFERROR($E91*SUMIF('Daily Log'!$T$18:$T$1017,$B91,'Daily Log'!$U$18:$U$1017),0)","v":0},{"$f":"IFERROR($E91*SUMIF('Daily Log'!$W$18:$W$1017,$B91,'Daily Log'!$X$18:$X$1017),0)","v":0},{"$f":"IFERROR($E91*SUMIF('Daily Log'!$Z$18:$Z$1017,$B91,'Daily Log'!$AA$18:$AA$1017),0)","v":0},{"$f":"IFERROR($E91*SUMIF('Daily Log'!$AC$18:$AC$1017,$B91,'Daily Log'!$AD$18:$AD$1017),0)","v":0},{"$f":"IFERROR($E91*SUMIF('Daily Log'!$AF$18:$AF$1017,$B91,'Daily Log'!$AG$18:$AG$1017),0)","v":0},{"$f":"IFERROR($E91*SUMIF('Daily Log'!$AI$18:$AI$1017,$B91,'Daily Log'!$AJ$18:$AJ$1017),0)","v":0},{"$f":"IFERROR($E91*SUMIF('Daily Log'!$AL$18:$AL$1017,$B91,'Daily Log'!$AM$18:$AM$1017),0)","v":0},{"$f":"IFERROR($E91*SUMIF('Daily Log'!$AO$18:$AO$1017,$B91,'Daily Log'!$AP$18:$AP$1017),0)","v":0},{"$f":"IFERROR($E91*SUMIF('Daily Log'!$AR$18:$AR$1017,$B91,'Daily Log'!$AS$18:$AS$1017),0)","v":0},{"$f":"IFERROR($E91*SUMIF('Daily Log'!$AU$18:$AU$1017,$B91,'Daily Log'!$AV$18:$AV$1017),0)","v":0},{"$f":"IFERROR($E91*SUMIF('Daily Log'!$AX$18:$AX$1017,$B91,'Daily Log'!$AY$18:$AY$1017),0)","v":0},{"$f":"IFERROR($E91*SUMIF('Daily Log'!$BA$18:$BA$1017,$B91,'Daily Log'!$BB$18:$BB$1017),0)","v":0},{"$f":"IFERROR($E91*SUMIF('Daily Log'!$BD$18:$BD$1017,$B91,'Daily Log'!$BE$18:$BE$1017),0)","v":0},{"$f":"IFERROR($E91*SUMIF('Daily Log'!$BG$18:$BG$1017,$B91,'Daily Log'!$BH$18:$BH$1017),0)","v":0},{"$f":"IFERROR($E91*SUMIF('Daily Log'!$BJ$18:$BJ$1017,$B91,'Daily Log'!$BK$18:$BK$1017),0)","v":0},{"$f":"IFERROR($E91*SUMIF('Daily Log'!$BM$18:$BM$1017,$B91,'Daily Log'!$BN$18:$BN$1017),0)","v":0},{"$f":"IFERROR($E91*SUMIF('Daily Log'!$BP$18:$BP$1017,$B91,'Daily Log'!$BQ$18:$BQ$1017),0)","v":0},{"$f":"IFERROR($E91*SUMIF('Daily Log'!$BS$18:$BS$1017,$B91,'Daily Log'!$BT$18:$BT$1017),0)","v":0},{"$f":"IFERROR($E91*SUMIF('Daily Log'!$BV$18:$BV$1017,$B91,'Daily Log'!$BW$18:$BW$1017),0)","v":0},{"$f":"IFERROR($E91*SUMIF('Daily Log'!$BY$18:$BY$1017,$B91,'Daily Log'!$BZ$18:$BZ$1017),0)","v":0},{"$f":"IFERROR($E91*SUMIF('Daily Log'!$CB$18:$CB$1017,$B91,'Daily Log'!$CC$18:$CC$1017),0)","v":0},{"$f":"IFERROR($E91*SUMIF('Daily Log'!$CE$18:$CE$1017,$B91,'Daily Log'!$CF$18:$CF$1017),0)","v":0},{"$f":"IFERROR($E91*SUMIF('Daily Log'!$CH$18:$CH$1017,$B91,'Daily Log'!$CI$18:$CI$1017),0)","v":0},{"$f":"IFERROR($E91*SUMIF('Daily Log'!$CK$18:$CK$1017,$B91,'Daily Log'!$CL$18:$CL$1017),0)","v":0},{"$f":"IFERROR($E91*SUMIF('Daily Log'!$CN$18:$CN$1017,$B91,'Daily Log'!$CO$18:$CO$1017),0)","v":0}]
[null,"AC11 Father",null,null,1,0,{"$f":"IFERROR($E92*SUMIF('Daily Log'!$B$18:$B$1017,$B92,'Daily Log'!$C$18:$C$1017),0)","v":0},{"$f":"IFERROR($E92*SUMIF('Daily Log'!$E$18:$E$1017,$B92,'Daily Log'!$F$18:$F$1017),0)","v":0},{"$f":"IFERROR($E92*SUMIF('Daily Log'!$H$18:$H$1017,$B92,'Daily Log'!$I$18:$I$1017),0)","v":0},{"$f":"IFERROR($E92*SUMIF('Daily Log'!$K$18:$K$1017,$B92,'Daily Log'!$L$18:$L$1017),0)","v":0},{"$f":"IFERROR($E92*SUMIF('Daily Log'!$N$18:$N$1017,$B92,'Daily Log'!$O$18:$O$1017),0)","v":0},{"$f":"IFERROR($E92*SUMIF('Daily Log'!$Q$18:$Q$1017,$B92,'Daily Log'!$R$18:$R$1017),0)","v":0},{"$f":"IFERROR($E92*SUMIF('Daily Log'!$T$18:$T$1017,$B92,'Daily Log'!$U$18:$U$1017),0)","v":0},{"$f":"IFERROR($E92*SUMIF('Daily Log'!$W$18:$W$1017,$B92,'Daily Log'!$X$18:$X$1017),0)","v":0},{"$f":"IFERROR($E92*SUMIF('Daily Log'!$Z$18:$Z$1017,$B92,'Daily Log'!$AA$18:$AA$1017),0)","v":0},{"$f":"IFERROR($E92*SUMIF('Daily Log'!$AC$18:$AC$1017,$B92,'Daily Log'!$AD$18:$AD$1017),0)","v":0},{"$f":"IFERROR($E92*SUMIF('Daily Log'!$AF$18:$AF$1017,$B92,'Daily Log'!$AG$18:$AG$1017),0)","v":0},{"$f":"IFERROR($E92*SUMIF('Daily Log'!$AI$18:$AI$1017,$B92,'Daily Log'!$AJ$18:$AJ$1017),0)","v":0},{"$f":"IFERROR($E92*SUMIF('Daily Log'!$AL$18:$AL$1017,$B92,'Daily Log'!$AM$18:$AM$1017),0)","v":0},{"$f":"IFERROR($E92*SUMIF('Daily Log'!$AO$18:$AO$1017,$B92,'Daily Log'!$AP$18:$AP$1017),0)","v":0},{"$f":"IFERROR($E92*SUMIF('Daily Log'!$AR$18:$AR$1017,$B92,'Daily Log'!$AS$18:$AS$1017),0)","v":0},{"$f":"IFERROR($E92*SUMIF('Daily Log'!$AU$18:$AU$1017,$B92,'Daily Log'!$AV$18:$AV$1017),0)","v":0},{"$f":"IFERROR($E92*SUMIF('Daily Log'!$AX$18:$AX$1017,$B92,'Daily Log'!$AY$18:$AY$1017),0)","v":0},{"$f":"IFERROR($E92*SUMIF('Daily Log'!$BA$18:$BA$1017,$B92,'Daily Log'!$BB$18:$BB$1017),0)","v":0},{"$f":"IFERROR($E92*SUMIF('Daily Log'!$BD$18:$BD$1017,$B92,'Daily Log'!$BE$18:$BE$1017),0)","v":0},{"$f":"IFERROR($E92*SUMIF('Daily Log'!$BG$18:$BG$1017,$B92,'Daily Log'!$BH$18:$BH$1017),0)","v":0},{"$f":"IFERROR($E92*SUMIF('Daily Log'!$BJ$18:$BJ$1017,$B92,'Daily Log'!$BK$18:$BK$1017),0)","v":0},{"$f":"IFERROR($E92*SUMIF('Daily Log'!$BM$18:$BM$1017,$B92,'Daily Log'!$BN$18:$BN$1017),0)","v":0},{"$f":"IFERROR($E92*SUMIF('Daily Log'!$BP$18:$BP$1017,$B92,'Daily Log'!$BQ$18:$BQ$1017),0)","v":0},{"$f":"IFERROR($E92*SUMIF('Daily Log'!$BS$18:$BS$1017,$B92,'Daily Log'!$BT$18:$BT$1017),0)","v":0},{"$f":"IFERROR($E92*SUMIF('Daily Log'!$BV$18:$BV$1017,$B92,'Daily Log'!$BW$18:$BW$1017),0)","v":0},{"$f":"IFERROR($E92*SUMIF('Daily Log'!$BY$18:$BY$1017,$B92,'Daily Log'!$BZ$18:$BZ$1017),0)","v":0},{"$f":"IFERROR($E92*SUMIF('Daily Log'!$CB$18:$CB$1017,$B92,'Daily Log'!$CC$18:$CC$1017),0)","v":0},{"$f":"IFERROR($E92*SUMIF('Daily Log'!$CE$18:$CE$1017,$B92,'Daily Log'!$CF$18:$CF$1017),0)","v":0},{"$f":"IFERROR($E92*SUMIF('Daily Log'!$CH$18:$CH$1017,$B92,'Daily Log'!$CI$18:$CI$1017),0)","v":0},{"$f":"IFERROR($E92*SUMIF('Daily Log'!$CK$18:$CK$1017,$B92,'Daily Log'!$CL$18:$CL$1017),0)","v":0},{"$f":"IFERROR($E92*SUMIF('Daily Log'!$CN$18:$CN$1017,$B92,'Daily Log'!$CO$18:$CO$1017),0)","v":0}]
[null,"AC12 N : FREEHEAD (R)",null,null,1,0,{"$f":"IFERROR($E93*SUMIF('Daily Log'!$B$18:$B$1017,$B93,'Daily Log'!$C$18:$C$1017),0)","v":0},{"$f":"IFERROR($E93*SUMIF('Daily Log'!$E$18:$E$1017,$B93,'Daily Log'!$F$18:$F$1017),0)","v":0},{"$f":"IFERROR($E93*SUMIF('Daily Log'!$H$18:$H$1017,$B93,'Daily Log'!$I$18:$I$1017),0)","v":0},{"$f":"IFERROR($E93*SUMIF('Daily Log'!$K$18:$K$1017,$B93,'Daily Log'!$L$18:$L$1017),0)","v":0},{"$f":"IFERROR($E93*SUMIF('Daily Log'!$N$18:$N$1017,$B93,'Daily Log'!$O$18:$O$1017),0)","v":0},{"$f":"IFERROR($E93*SUMIF('Daily Log'!$Q$18:$Q$1017,$B93,'Daily Log'!$R$18:$R$1017),0)","v":0},{"$f":"IFERROR($E93*SUMIF('Daily Log'!$T$18:$T$1017,$B93,'Daily Log'!$U$18:$U$1017),0)","v":0},{"$f":"IFERROR($E93*SUMIF('Daily Log'!$W$18:$W$1017,$B93,'Daily Log'!$X$18:$X$1017),0)","v":0},{"$f":"IFERROR($E93*SUMIF('Daily Log'!$Z$18:$Z$1017,$B93,'Daily Log'!$AA$18:$AA$1017),0)","v":0},{"$f":"IFERROR($E93*SUMIF('Daily Log'!$AC$18:$AC$1017,$B93,'Daily Log'!$AD$18:$AD$1017),0)","v":0},{"$f":"IFERROR($E93*SUMIF('Daily Log'!$AF$18:$AF$1017,$B93,'Daily Log'!$AG$18:$AG$1017),0)","v":0},{"$f":"IFERROR($E93*SUMIF('Daily Log'!$AI$18:$AI$1017,$B93,'Daily Log'!$AJ$18:$AJ$1017),0)","v":0},{"$f":"IFERROR($E93*SUMIF('Daily Log'!$AL$18:$AL$1017,$B93,'Daily Log'!$AM$18:$AM$1017),0)","v":0},{"$f":"IFERROR($E93*SUMIF('Daily Log'!$AO$18:$AO$1017,$B93,'Daily Log'!$AP$18:$AP$1017),0)","v":0},{"$f":"IFERROR($E93*SUMIF('Daily Log'!$AR$18:$AR$1017,$B93,'Daily Log'!$AS$18:$AS$1017),0)","v":0},{"$f":"IFERROR($E93*SUMIF('Daily Log'!$AU$18:$AU$1017,$B93,'Daily Log'!$AV$18:$AV$1017),0)","v":0},{"$f":"IFERROR($E93*SUMIF('Daily Log'!$AX$18:$AX$1017,$B93,'Daily Log'!$AY$18:$AY$1017),0)","v":0},{"$f":"IFERROR($E93*SUMIF('Daily Log'!$BA$18:$BA$1017,$B93,'Daily Log'!$BB$18:$BB$1017),0)","v":0},{"$f":"IFERROR($E93*SUMIF('Daily Log'!$BD$18:$BD$1017,$B93,'Daily Log'!$BE$18:$BE$1017),0)","v":0},{"$f":"IFERROR($E93*SUMIF('Daily Log'!$BG$18:$BG$1017,$B93,'Daily Log'!$BH$18:$BH$1017),0)","v":0},{"$f":"IFERROR($E93*SUMIF('Daily Log'!$BJ$18:$BJ$1017,$B93,'Daily Log'!$BK$18:$BK$1017),0)","v":0},{"$f":"IFERROR($E93*SUMIF('Daily Log'!$BM$18:$BM$1017,$B93,'Daily Log'!$BN$18:$BN$1017),0)","v":0},{"$f":"IFERROR($E93*SUMIF('Daily Log'!$BP$18:$BP$1017,$B93,'Daily Log'!$BQ$18:$BQ$1017),0)","v":0},{"$f":"IFERROR($E93*SUMIF('Daily Log'!$BS$18:$BS$1017,$B93,'Daily Log'!$BT$18:$BT$1017),0)","v":0},{"$f":"IFERROR($E93*SUMIF('Daily Log'!$BV$18:$BV$1017,$B93,'Daily Log'!$BW$18:$BW$1017),0)","v":0},{"$f":"IFERROR($E93*SUMIF('Daily Log'!$BY$18:$BY$1017,$B93,'Daily Log'!$BZ$18:$BZ$1017),0)","v":0},{"$f":"IFERROR($E93*SUMIF('Daily Log'!$CB$18:$CB$1017,$B93,'Daily Log'!$CC$18:$CC$1017),0)","v":0},{"$f":"IFERROR($E93*SUMIF('Daily Log'!$CE$18:$CE$1017,$B93,'Daily Log'!$CF$18:$CF$1017),0)","v":0},{"$f":"IFERROR($E93*SUMIF('Daily Log'!$CH$18:$CH$1017,$B93,'Daily Log'!$CI$18:$CI$1017),0)","v":0},{"$f":"IFERROR($E93*SUMIF('Daily Log'!$CK$18:$CK$1017,$B93,'Daily Log'!$CL$18:$CL$1017),0)","v":0},{"$f":"IFERROR($E93*SUMIF('Daily Log'!$CN$18:$CN$1017,$B93,'Daily Log'!$CO$18:$CO$1017),0)","v":0}]
[null,"AC13 N : 3+1",null,null,1,0,{"$f":"IFERROR($E94*SUMIF('Daily Log'!$B$18:$B$1017,$B94,'Daily Log'!$C$18:$C$1017),0)","v":0},{"$f":"IFERROR($E94*SUMIF('Daily Log'!$E$18:$E$1017,$B94,'Daily Log'!$F$18:$F$1017),0)","v":0},{"$f":"IFERROR($E94*SUMIF('Daily Log'!$H$18:$H$1017,$B94,'Daily Log'!$I$18:$I$1017),0)","v":0},{"$f":"IFERROR($E94*SUMIF('Daily Log'!$K$18:$K$1017,$B94,'Daily Log'!$L$18:$L$1017),0)","v":0},{"$f":"IFERROR($E94*SUMIF('Daily Log'!$N$18:$N$1017,$B94,'Daily Log'!$O$18:$O$1017),0)","v":0},{"$f":"IFERROR($E94*SUMIF('Daily Log'!$Q$18:$Q$1017,$B94,'Daily Log'!$R$18:$R$1017),0)","v":0},{"$f":"IFERROR($E94*SUMIF('Daily Log'!$T$18:$T$1017,$B94,'Daily Log'!$U$18:$U$1017),0)","v":0},{"$f":"IFERROR($E94*SUMIF('Daily Log'!$W$18:$W$1017,$B94,'Daily Log'!$X$18:$X$1017),0)","v":0},{"$f":"IFERROR($E94*SUMIF('Daily Log'!$Z$18:$Z$1017,$B94,'Daily Log'!$AA$18:$AA$1017),0)","v":0},{"$f":"IFERROR($E94*SUMIF('Daily Log'!$AC$18:$AC$1017,$B94,'Daily Log'!$AD$18:$AD$1017),0)","v":0},{"$f":"IFERROR($E94*SUMIF('Daily Log'!$AF$18:$AF$1017,$B94,'Daily Log'!$AG$18:$AG$1017),0)","v":0},{"$f":"IFERROR($E94*SUMIF('Daily Log'!$AI$18:$AI$1017,$B94,'Daily Log'!$AJ$18:$AJ$1017),0)","v":0},{"$f":"IFERROR($E94*SUMIF('Daily Log'!$AL$18:$AL$1017,$B94,'Daily Log'!$AM$18:$AM$1017),0)","v":0},{"$f":"IFERROR($E94*SUMIF('Daily Log'!$AO$18:$AO$1017,$B94,'Daily Log'!$AP$18:$AP$1017),0)","v":0},{"$f":"IFERROR($E94*SUMIF('Daily Log'!$AR$18:$AR$1017,$B94,'Daily Log'!$AS$18:$AS$1017),0)","v":0},{"$f":"IFERROR($E94*SUMIF('Daily Log'!$AU$18:$AU$1017,$B94,'Daily Log'!$AV$18:$AV$1017),0)","v":0},{"$f":"IFERROR($E94*SUMIF('Daily Log'!$AX$18:$AX$1017,$B94,'Daily Log'!$AY$18:$AY$1017),0)","v":0},{"$f":"IFERROR($E94*SUMIF('Daily Log'!$BA$18:$BA$1017,$B94,'Daily Log'!$BB$18:$BB$1017),0)","v":0},{"$f":"IFERROR($E94*SUMIF('Daily Log'!$BD$18:$BD$1017,$B94,'Daily Log'!$BE$18:$BE$1017),0)","v":0},{"$f":"IFERROR($E94*SUMIF('Daily Log'!$BG$18:$BG$1017,$B94,'Daily Log'!$BH$18:$BH$1017),0)","v":0},{"$f":"IFERROR($E94*SUMIF('Daily Log'!$BJ$18:$BJ$1017,$B94,'Daily Log'!$BK$18:$BK$1017),0)","v":0},{"$f":"IFERROR($E94*SUMIF('Daily Log'!$BM$18:$BM$1017,$B94,'Daily Log'!$BN$18:$BN$1017),0)","v":0},{"$f":"IFERROR($E94*SUMIF('Daily Log'!$BP$18:$BP$1017,$B94,'Daily Log'!$BQ$18:$BQ$1017),0)","v":0},{"$f":"IFERROR($E94*SUMIF('Daily Log'!$BS$18:$BS$1017,$B94,'Daily Log'!$BT$18:$BT$1017),0)","v":0},{"$f":"IFERROR($E94*SUMIF('Daily Log'!$BV$18:$BV$1017,$B94,'Daily Log'!$BW$18:$BW$1017),0)","v":0},{"$f":"IFERROR($E94*SUMIF('Daily Log'!$BY$18:$BY$1017,$B94,'Daily Log'!$BZ$18:$BZ$1017),0)","v":0},{"$f":"IFERROR($E94*SUMIF('Daily Log'!$CB$18:$CB$1017,$B94,'Daily Log'!$CC$18:$CC$1017),0)","v":0},{"$f":"IFERROR($E94*SUMIF('Daily Log'!$CE$18:$CE$1017,$B94,'Daily Log'!$CF$18:$CF$1017),0)","v":0},{"$f":"IFERROR($E94*SUMIF('Daily Log'!$CH$18:$CH$1017,$B94,'Daily Log'!$CI$18:$CI$1017),0)","v":0},{"$f":"IFERROR($E94*SUMIF('Daily Log'!$CK$18:$CK$1017,$B94,'Daily Log'!$CL$18:$CL$1017),0)","v":0},{"$f":"IFERROR($E94*SUMIF('Daily Log'!$CN$18:$CN$1017,$B94,'Daily Log'!$CO$18:$CO$1017),0)","v":0}]
[null,"AC14 N : PROMOTION",null,null,1,{"$f":"SUM($G95:$AK95)","v":0},{"$f":"IFERROR($E95*SUMIF('Daily Log'!$B$18:$B$1017,$B95,'Daily Log'!$C$18:$C$1017),0)","v":0},{"$f":"IFERROR($E95*SUMIF('Daily Log'!$E$18:$E$1017,$B95,'Daily Log'!$F$18:$F$1017),0)","v":0},{"$f":"IFERROR($E95*SUMIF('Daily Log'!$H$18:$H$1017,$B95,'Daily Log'!$I$18:$I$1017),0)","v":0},{"$f":"IFERROR($E95*SUMIF('Daily Log'!$K$18:$K$1017,$B95,'Daily Log'!$L$18:$L$1017),0)","v":0},{"$f":"IFERROR($E95*SUMIF('Daily Log'!$N$18:$N$1017,$B95,'Daily Log'!$O$18:$O$1017),0)","v":0},{"$f":"IFERROR($E95*SUMIF('Daily Log'!$Q$18:$Q$1017,$B95,'Daily Log'!$R$18:$R$1017),0)","v":0},{"$f":"IFERROR($E95*SUMIF('Daily Log'!$T$18:$T$1017,$B95,'Daily Log'!$U$18:$U$1017),0)","v":0},{"$f":"IFERROR($E95*SUMIF('Daily Log'!$W$18:$W$1017,$B95,'Daily Log'!$X$18:$X$1017),0)","v":0},{"$f":"IFERROR($E95*SUMIF('Daily Log'!$Z$18:$Z$1017,$B95,'Daily Log'!$AA$18:$AA$1017),0)","v":0},{"$f":"IFERROR($E95*SUMIF('Daily Log'!$AC$18:$AC$1017,$B95,'Daily Log'!$AD$18:$AD$1017),0)","v":0},{"$f":"IFERROR($E95*SUMIF('Daily Log'!$AF$18:$AF$1017,$B95,'Daily Log'!$AG$18:$AG$1017),0)","v":0},{"$f":"IFERROR($E95*SUMIF('Daily Log'!$AI$18:$AI$1017,$B95,'Daily Log'!$AJ$18:$AJ$1017),0)","v":0},{"$f":"IFERROR($E95*SUMIF('Daily Log'!$AL$18:$AL$1017,$B95,'Daily Log'!$AM$18:$AM$1017),0)","v":0},{"$f":"IFERROR($E95*SUMIF('Daily Log'!$AO$18:$AO$1017,$B95,'Daily Log'!$AP$18:$AP$1017),0)","v":0},{"$f":"IFERROR($E95*SUMIF('Daily Log'!$AR$18:$AR$1017,$B95,'Daily Log'!$AS$18:$AS$1017),0)","v":0},{"$f":"IFERROR($E95*SUMIF('Daily Log'!$AU$18:$AU$1017,$B95,'Daily Log'!$AV$18:$AV$1017),0)","v":0},{"$f":"IFERROR($E95*SUMIF('Daily Log'!$AX$18:$AX$1017,$B95,'Daily Log'!$AY$18:$AY$1017),0)","v":0},{"$f":"IFERROR($E95*SUMIF('Daily Log'!$BA$18:$BA$1017,$B95,'Daily Log'!$BB$18:$BB$1017),0)","v":0},{"$f":"IFERROR($E95*SUMIF('Daily Log'!$BD$18:$BD$1017,$B95,'Daily Log'!$BE$18:$BE$1017),0)","v":0},{"$f":"IFERROR($E95*SUMIF('Daily Log'!$BG$18:$BG$1017,$B95,'Daily Log'!$BH$18:$BH$1017),0)","v":0},{"$f":"IFERROR($E95*SUMIF('Daily Log'!$BJ$18:$BJ$1017,$B95,'Daily Log'!$BK$18:$BK$1017),0)","v":0},{"$f":"IFERROR($E95*SUMIF('Daily Log'!$BM$18:$BM$1017,$B95,'Daily Log'!$BN$18:$BN$1017),0)","v":0},{"$f":"IFERROR($E95*SUMIF('Daily Log'!$BP$18:$BP$1017,$B95,'Daily Log'!$BQ$18:$BQ$1017),0)","v":0},{"$f":"IFERROR($E95*SUMIF('Daily Log'!$BS$18:$BS$1017,$B95,'Daily Log'!$BT$18:$BT$1017),0)","v":0},{"$f":"IFERROR($E95*SUMIF('Daily Log'!$BV$18:$BV$1017,$B95,'Daily Log'!$BW$18:$BW$1017),0)","v":0},{"$f":"IFERROR($E95*SUMIF('Daily Log'!$BY$18:$BY$1017,$B95,'Daily Log'!$BZ$18:$BZ$1017),0)","v":0},{"$f":"IFERROR($E95*SUMIF('Daily Log'!$CB$18:$CB$1017,$B95,'Daily Log'!$CC$18:$CC$1017),0)","v":0},{"$f":"IFERROR($E95*SUMIF('Daily Log'!$CE$18:$CE$1017,$B95,'Daily Log'!$CF$18:$CF$1017),0)","v":0},{"$f":"IFERROR($E95*SUMIF('Daily Log'!$CH$18:$CH$1017,$B95,'Daily Log'!$CI$18:$CI$1017),0)","v":0},{"$f":"IFERROR($E95*SUMIF('Daily Log'!$CK$18:$CK$1017,$B95,'Daily Log'!$CL$18:$CL$1017),0)","v":0},{"$f":"IFERROR($E95*SUMIF('Daily Log'!$CN$18:$CN$1017,$B95,'Daily Log'!$CO$18:$CO$1017),0)","v":0}]
[null,"AC15 N : PROMO+MEAL",null,null,1,0,{"$f":"IFERROR($E96*SUMIF('Daily Log'!$B$18:$B$1017,$B96,'Daily Log'!$C$18:$C$1017),0)","v":0},{"$f":"IFERROR($E96*SUMIF('Daily Log'!$E$18:$E$1017,$B96,'Daily Log'!$F$18:$F$1017),0)","v":0},{"$f":"IFERROR($E96*SUMIF('Daily Log'!$H$18:$H$1017,$B96,'Daily Log'!$I$18:$I$1017),0)","v":0},{"$f":"IFERROR($E96*SUMIF('Daily Log'!$K$18:$K$1017,$B96,'Daily Log'!$L$18:$L$1017),0)","v":0},{"$f":"IFERROR($E96*SUMIF('Daily Log'!$N$18:$N$1017,$B96,'Daily Log'!$O$18:$O$1017),0)","v":0},{"$f":"IFERROR($E96*SUMIF('Daily Log'!$Q$18:$Q$1017,$B96,'Daily Log'!$R$18:$R$1017),0)","v":0},{"$f":"IFERROR($E96*SUMIF('Daily Log'!$T$18:$T$1017,$B96,'Daily Log'!$U$18:$U$1017),0)","v":0},{"$f":"IFERROR($E96*SUMIF('Daily Log'!$W$18:$W$1017,$B96,'Daily Log'!$X$18:$X$1017),0)","v":0},{"$f":"IFERROR($E96*SUMIF('Daily Log'!$Z$18:$Z$1017,$B96,'Daily Log'!$AA$18:$AA$1017),0)","v":0},{"$f":"IFERROR($E96*SUMIF('Daily Log'!$AC$18:$AC$1017,$B96,'Daily Log'!$AD$18:$AD$1017),0)","v":0},{"$f":"IFERROR($E96*SUMIF('Daily Log'!$AF$18:$AF$1017,$B96,'Daily Log'!$AG$18:$AG$1017),0)","v":0},{"$f":"IFERROR($E96*SUMIF('Daily Log'!$AI$18:$AI$1017,$B96,'Daily Log'!$AJ$18:$AJ$1017),0)","v":0},{"$f":"IFERROR($E96*SUMIF('Daily Log'!$AL$18:$AL$1017,$B96,'Daily Log'!$AM$18:$AM$1017),0)","v":0},{"$f":"IFERROR($E96*SUMIF('Daily Log'!$AO$18:$AO$1017,$B96,'Daily Log'!$AP$18:$AP$1017),0)","v":0},{"$f":"IFERROR($E96*SUMIF('Daily Log'!$AR$18:$AR$1017,$B96,'Daily Log'!$AS$18:$AS$1017),0)","v":0},{"$f":"IFERROR($E96*SUMIF('Daily Log'!$AU$18:$AU$1017,$B96,'Daily Log'!$AV$18:$AV$1017),0)","v":0},{"$f":"IFERROR($E96*SUMIF('Daily Log'!$AX$18:$AX$1017,$B96,'Daily Log'!$AY$18:$AY$1017),0)","v":0},{"$f":"IFERROR($E96*SUMIF('Daily Log'!$BA$18:$BA$1017,$B96,'Daily Log'!$BB$18:$BB$1017),0)","v":0},{"$f":"IFERROR($E96*SUMIF('Daily Log'!$BD$18:$BD$1017,$B96,'Daily Log'!$BE$18:$BE$1017),0)","v":0},{"$f":"IFERROR($E96*SUMIF('Daily Log'!$BG$18:$BG$1017,$B96,'Daily Log'!$BH$18:$BH$1017),0)","v":0},{"$f":"IFERROR($E96*SUMIF('Daily Log'!$BJ$18:$BJ$1017,$B96,'Daily Log'!$BK$18:$BK$1017),0)","v":0},{"$f":"IFERROR($E96*SUMIF('Daily Log'!$BM$18:$BM$1017,$B96,'Daily Log'!$BN$18:$BN$1017),0)","v":0},{"$f":"IFERROR($E96*SUMIF('Daily Log'!$BP$18:$BP$1017,$B96,'Daily Log'!$BQ$18:$BQ$1017),0)","v":0},{"$f":"IFERROR($E96*SUMIF('Daily Log'!$BS$18:$BS$1017,$B96,'Daily Log'!$BT$18:$BT$1017),0)","v":0},{"$f":"IFERROR($E96*SUMIF('Daily Log'!$BV$18:$BV$1017,$B96,'Daily Log'!$BW$18:$BW$1017),0)","v":0},{"$f":"IFERROR($E96*SUMIF('Daily Log'!$BY$18:$BY$1017,$B96,'Daily Log'!$BZ$18:$BZ$1017),0)","v":0},{"$f":"IFERROR($E96*SUMIF('Daily Log'!$CB$18:$CB$1017,$B96,'Daily Log'!$CC$18:$CC$1017),0)","v":0},{"$f":"IFERROR($E96*SUMIF('Daily Log'!$CE$18:$CE$1017,$B96,'Daily Log'!$CF$18:$CF$1017),0)","v":0},{"$f":"IFERROR($E96*SUMIF('Daily Log'!$CH$18:$CH$1017,$B96,'Daily Log'!$CI$18:$CI$1017),0)","v":0},{"$f":"IFERROR($E96*SUMIF('Daily Log'!$CK$18:$CK$1017,$B96,'Daily Log'!$CL$18:$CL$1017),0)","v":0},{"$f":"IFERROR($E96*SUMIF('Daily Log'!$CN$18:$CN$1017,$B96,'Daily Log'!$CO$18:$CO$1017),0)","v":0}]
[null,"AC16 N : EVENT",null,null,1,0,{"$f":"IFERROR($E97*SUMIF('Daily Log'!$B$18:$B$1017,$B97,'Daily Log'!$C$18:$C$1017),0)","v":0},{"$f":"IFERROR($E97*SUMIF('Daily Log'!$E$18:$E$1017,$B97,'Daily Log'!$F$18:$F$1017),0)","v":0},{"$f":"IFERROR($E97*SUMIF('Daily Log'!$H$18:$H$1017,$B97,'Daily Log'!$I$18:$I$1017),0)","v":0},{"$f":"IFERROR($E97*SUMIF('Daily Log'!$K$18:$K$1017,$B97,'Daily Log'!$L$18:$L$1017),0)","v":0},{"$f":"IFERROR($E97*SUMIF('Daily Log'!$N$18:$N$1017,$B97,'Daily Log'!$O$18:$O$1017),0)","v":0},{"$f":"IFERROR($E97*SUMIF('Daily Log'!$Q$18:$Q$1017,$B97,'Daily Log'!$R$18:$R$1017),0)","v":0},{"$f":"IFERROR($E97*SUMIF('Daily Log'!$T$18:$T$1017,$B97,'Daily Log'!$U$18:$U$1017),0)","v":0},{"$f":"IFERROR($E97*SUMIF('Daily Log'!$W$18:$W$1017,$B97,'Daily Log'!$X$18:$X$1017),0)","v":0},{"$f":"IFERROR($E97*SUMIF('Daily Log'!$Z$18:$Z$1017,$B97,'Daily Log'!$AA$18:$AA$1017),0)","v":0},{"$f":"IFERROR($E97*SUMIF('Daily Log'!$AC$18:$AC$1017,$B97,'Daily Log'!$AD$18:$AD$1017),0)","v":0},{"$f":"IFERROR($E97*SUMIF('Daily Log'!$AF$18:$AF$1017,$B97,'Daily Log'!$AG$18:$AG$1017),0)","v":0},{"$f":"IFERROR($E97*SUMIF('Daily Log'!$AI$18:$AI$1017,$B97,'Daily Log'!$AJ$18:$AJ$1017),0)","v":0},{"$f":"IFERROR($E97*SUMIF('Daily Log'!$AL$18:$AL$1017,$B97,'Daily Log'!$AM$18:$AM$1017),0)","v":0},{"$f":"IFERROR($E97*SUMIF('Daily Log'!$AO$18:$AO$1017,$B97,'Daily Log'!$AP$18:$AP$1017),0)","v":0},{"$f":"IFERROR($E97*SUMIF('Daily Log'!$AR$18:$AR$1017,$B97,'Daily Log'!$AS$18:$AS$1017),0)","v":0},{"$f":"IFERROR($E97*SUMIF('Daily Log'!$AU$18:$AU$1017,$B97,'Daily Log'!$AV$18:$AV$1017),0)","v":0},{"$f":"IFERROR($E97*SUMIF('Daily Log'!$AX$18:$AX$1017,$B97,'Daily Log'!$AY$18:$AY$1017),0)","v":0},{"$f":"IFERROR($E97*SUMIF('Daily Log'!$BA$18:$BA$1017,$B97,'Daily Log'!$BB$18:$BB$1017),0)","v":0},{"$f":"IFERROR($E97*SUMIF('Daily Log'!$BD$18:$BD$1017,$B97,'Daily Log'!$BE$18:$BE$1017),0)","v":0},{"$f":"IFERROR($E97*SUMIF('Daily Log'!$BG$18:$BG$1017,$B97,'Daily Log'!$BH$18:$BH$1017),0)","v":0},{"$f":"IFERROR($E97*SUMIF('Daily Log'!$BJ$18:$BJ$1017,$B97,'Daily Log'!$BK$18:$BK$1017),0)","v":0},{"$f":"IFERROR($E97*SUMIF('Daily Log'!$BM$18:$BM$1017,$B97,'Daily Log'!$BN$18:$BN$1017),0)","v":0},{"$f":"IFERROR($E97*SUMIF('Daily Log'!$BP$18:$BP$1017,$B97,'Daily Log'!$BQ$18:$BQ$1017),0)","v":0},{"$f":"IFERROR($E97*SUMIF('Daily Log'!$BS$18:$BS$1017,$B97,'Daily Log'!$BT$18:$BT$1017),0)","v":0},{"$f":"IFERROR($E97*SUMIF('Daily Log'!$BV$18:$BV$1017,$B97,'Daily Log'!$BW$18:$BW$1017),0)","v":0},{"$f":"IFERROR($E97*SUMIF('Daily Log'!$BY$18:$BY$1017,$B97,'Daily Log'!$BZ$18:$BZ$1017),0)","v":0},{"$f":"IFERROR($E97*SUMIF('Daily Log'!$CB$18:$CB$1017,$B97,'Daily Log'!$CC$18:$CC$1017),0)","v":0},{"$f":"IFERROR($E97*SUMIF('Daily Log'!$CE$18:$CE$1017,$B97,'Daily Log'!$CF$18:$CF$1017),0)","v":0},{"$f":"IFERROR($E97*SUMIF('Daily Log'!$CH$18:$CH$1017,$B97,'Daily Log'!$CI$18:$CI$1017),0)","v":0},{"$f":"IFERROR($E97*SUMIF('Daily Log'!$CK$18:$CK$1017,$B97,'Daily Log'!$CL$18:$CL$1017),0)","v":0},{"$f":"IFERROR($E97*SUMIF('Daily Log'!$CN$18:$CN$1017,$B97,'Daily Log'!$CO$18:$CO$1017),0)","v":0}]
[null,"AC17 N : XTD S ROOM",null,null,1,0,{"$f":"IFERROR($E98*SUMIF('Daily Log'!$B$18:$B$1017,$B98,'Daily Log'!$C$18:$C$1017),0)","v":0},{"$f":"IFERROR($E98*SUMIF('Daily Log'!$E$18:$E$1017,$B98,'Daily Log'!$F$18:$F$1017),0)","v":0},{"$f":"IFERROR($E98*SUMIF('Daily Log'!$H$18:$H$1017,$B98,'Daily Log'!$I$18:$I$1017),0)","v":0},{"$f":"IFERROR($E98*SUMIF('Daily Log'!$K$18:$K$1017,$B98,'Daily Log'!$L$18:$L$1017),0)","v":0},{"$f":"IFERROR($E98*SUMIF('Daily Log'!$N$18:$N$1017,$B98,'Daily Log'!$O$18:$O$1017),0)","v":0},{"$f":"IFERROR($E98*SUMIF('Daily Log'!$Q$18:$Q$1017,$B98,'Daily Log'!$R$18:$R$1017),0)","v":0},{"$f":"IFERROR($E98*SUMIF('Daily Log'!$T$18:$T$1017,$B98,'Daily Log'!$U$18:$U$1017),0)","v":0},{"$f":"IFERROR($E98*SUMIF('Daily Log'!$W$18:$W$1017,$B98,'Daily Log'!$X$18:$X$1017),0)","v":0},{"$f":"IFERROR($E98*SUMIF('Daily Log'!$Z$18:$Z$1017,$B98,'Daily Log'!$AA$18:$AA$1017),0)","v":0},{"$f":"IFERROR($E98*SUMIF('Daily Log'!$AC$18:$AC$1017,$B98,'Daily Log'!$AD$18:$AD$1017),0)","v":0},{"$f":"IFERROR($E98*SUMIF('Daily Log'!$AF$18:$AF$1017,$B98,'Daily Log'!$AG$18:$AG$1017),0)","v":0},{"$f":"IFERROR($E98*SUMIF('Daily Log'!$AI$18:$AI$1017,$B98,'Daily Log'!$AJ$18:$AJ$1017),0)","v":0},{"$f":"IFERROR($E98*SUMIF('Daily Log'!$AL$18:$AL$1017,$B98,'Daily Log'!$AM$18:$AM$1017),0)","v":0},{"$f":"IFERROR($E98*SUMIF('Daily Log'!$AO$18:$AO$1017,$B98,'Daily Log'!$AP$18:$AP$1017),0)","v":0},{"$f":"IFERROR($E98*SUMIF('Daily Log'!$AR$18:$AR$1017,$B98,'Daily Log'!$AS$18:$AS$1017),0)","v":0},{"$f":"IFERROR($E98*SUMIF('Daily Log'!$AU$18:$AU$1017,$B98,'Daily Log'!$AV$18:$AV$1017),0)","v":0},{"$f":"IFERROR($E98*SUMIF('Daily Log'!$AX$18:$AX$1017,$B98,'Daily Log'!$AY$18:$AY$1017),0)","v":0},{"$f":"IFERROR($E98*SUMIF('Daily Log'!$BA$18:$BA$1017,$B98,'Daily Log'!$BB$18:$BB$1017),0)","v":0},{"$f":"IFERROR($E98*SUMIF('Daily Log'!$BD$18:$BD$1017,$B98,'Daily Log'!$BE$18:$BE$1017),0)","v":0},{"$f":"IFERROR($E98*SUMIF('Daily Log'!$BG$18:$BG$1017,$B98,'Daily Log'!$BH$18:$BH$1017),0)","v":0},{"$f":"IFERROR($E98*SUMIF('Daily Log'!$BJ$18:$BJ$1017,$B98,'Daily Log'!$BK$18:$BK$1017),0)","v":0},{"$f":"IFERROR($E98*SUMIF('Daily Log'!$BM$18:$BM$1017,$B98,'Daily Log'!$BN$18:$BN$1017),0)","v":0},{"$f":"IFERROR($E98*SUMIF('Daily Log'!$BP$18:$BP$1017,$B98,'Daily Log'!$BQ$18:$BQ$1017),0)","v":0},{"$f":"IFERROR($E98*SUMIF('Daily Log'!$BS$18:$BS$1017,$B98,'Daily Log'!$BT$18:$BT$1017),0)","v":0},{"$f":"IFERROR($E98*SUMIF('Daily Log'!$BV$18:$BV$1017,$B98,'Daily Log'!$BW$18:$BW$1017),0)","v":0},{"$f":"IFERROR($E98*SUMIF('Daily Log'!$BY$18:$BY$1017,$B98,'Daily Log'!$BZ$18:$BZ$1017),0)","v":0},{"$f":"IFERROR($E98*SUMIF('Daily Log'!$CB$18:$CB$1017,$B98,'Daily Log'!$CC$18:$CC$1017),0)","v":0},{"$f":"IFERROR($E98*SUMIF('Daily Log'!$CE$18:$CE$1017,$B98,'Daily Log'!$CF$18:$CF$1017),0)","v":0},{"$f":"IFERROR($E98*SUMIF('Daily Log'!$CH$18:$CH$1017,$B98,'Daily Log'!$CI$18:$CI$1017),0)","v":0},{"$f":"IFERROR($E98*SUMIF('Daily Log'!$CK$18:$CK$1017,$B98,'Daily Log'!$CL$18:$CL$1017),0)","v":0},{"$f":"IFERROR($E98*SUMIF('Daily Log'!$CN$18:$CN$1017,$B98,'Daily Log'!$CO$18:$CO$1017),0)","v":0}]
[null,"AC18 N : XTD M ROOM",null,null,1,0,{"$f":"IFERROR($E99*SUMIF('Daily Log'!$B$18:$B$1017,$B99,'Daily Log'!$C$18:$C$1017),0)","v":0},{"$f":"IFERROR($E99*SUMIF('Daily Log'!$E$18:$E$1017,$B99,'Daily Log'!$F$18:$F$1017),0)","v":0},{"$f":"IFERROR($E99*SUMIF('Daily Log'!$H$18:$H$1017,$B99,'Daily Log'!$I$18:$I$1017),0)","v":0},{"$f":"IFERROR($E99*SUMIF('Daily Log'!$K$18:$K$1017,$B99,'Daily Log'!$L$18:$L$1017),0)","v":0},{"$f":"IFERROR($E99*SUMIF('Daily Log'!$N$18:$N$1017,$B99,'Daily Log'!$O$18:$O$1017),0)","v":0},{"$f":"IFERROR($E99*SUMIF('Daily Log'!$Q$18:$Q$1017,$B99,'Daily Log'!$R$18:$R$1017),0)","v":0},{"$f":"IFERROR($E99*SUMIF('Daily Log'!$T$18:$T$1017,$B99,'Daily Log'!$U$18:$U$1017),0)","v":0},{"$f":"IFERROR($E99*SUMIF('Daily Log'!$W$18:$W$1017,$B99,'Daily Log'!$X$18:$X$1017),0)","v":0},{"$f":"IFERROR($E99*SUMIF('Daily Log'!$Z$18:$Z$1017,$B99,'Daily Log'!$AA$18:$AA$1017),0)","v":0},{"$f":"IFERROR($E99*SUMIF('Daily Log'!$AC$18:$AC$1017,$B99,'Daily Log'!$AD$18:$AD$1017),0)","v":0},{"$f":"IFERROR($E99*SUMIF('Daily Log'!$AF$18:$AF$1017,$B99,'Daily Log'!$AG$18:$AG$1017),0)","v":0},{"$f":"IFERROR($E99*SUMIF('Daily Log'!$AI$18:$AI$1017,$B99,'Daily Log'!$AJ$18:$AJ$1017),0)","v":0},{"$f":"IFERROR($E99*SUMIF('Daily Log'!$AL$18:$AL$1017,$B99,'Daily Log'!$AM$18:$AM$1017),0)","v":0},{"$f":"IFERROR($E99*SUMIF('Daily Log'!$AO$18:$AO$1017,$B99,'Daily Log'!$AP$18:$AP$1017),0)","v":0},{"$f":"IFERROR($E99*SUMIF('Daily Log'!$AR$18:$AR$1017,$B99,'Daily Log'!$AS$18:$AS$1017),0)","v":0},{"$f":"IFERROR($E99*SUMIF('Daily Log'!$AU$18:$AU$1017,$B99,'Daily Log'!$AV$18:$AV$1017),0)","v":0},{"$f":"IFERROR($E99*SUMIF('Daily Log'!$AX$18:$AX$1017,$B99,'Daily Log'!$AY$18:$AY$1017),0)","v":0},{"$f":"IFERROR($E99*SUMIF('Daily Log'!$BA$18:$BA$1017,$B99,'Daily Log'!$BB$18:$BB$1017),0)","v":0},{"$f":"IFERROR($E99*SUMIF('Daily Log'!$BD$18:$BD$1017,$B99,'Daily Log'!$BE$18:$BE$1017),0)","v":0},{"$f":"IFERROR($E99*SUMIF('Daily Log'!$BG$18:$BG$1017,$B99,'Daily Log'!$BH$18:$BH$1017),0)","v":0},{"$f":"IFERROR($E99*SUMIF('Daily Log'!$BJ$18:$BJ$1017,$B99,'Daily Log'!$BK$18:$BK$1017),0)","v":0},{"$f":"IFERROR($E99*SUMIF('Daily Log'!$BM$18:$BM$1017,$B99,'Daily Log'!$BN$18:$BN$1017),0)","v":0},{"$f":"IFERROR($E99*SUMIF('Daily Log'!$BP$18:$BP$1017,$B99,'Daily Log'!$BQ$18:$BQ$1017),0)","v":0},{"$f":"IFERROR($E99*SUMIF('Daily Log'!$BS$18:$BS$1017,$B99,'Daily Log'!$BT$18:$BT$1017),0)","v":0},{"$f":"IFERROR($E99*SUMIF('Daily Log'!$BV$18:$BV$1017,$B99,'Daily Log'!$BW$18:$BW$1017),0)","v":0},{"$f":"IFERROR($E99*SUMIF('Daily Log'!$BY$18:$BY$1017,$B99,'Daily Log'!$BZ$18:$BZ$1017),0)","v":0},{"$f":"IFERROR($E99*SUMIF('Daily Log'!$CB$18:$CB$1017,$B99,'Daily Log'!$CC$18:$CC$1017),0)","v":0},{"$f":"IFERROR($E99*SUMIF('Daily Log'!$CE$18:$CE$1017,$B99,'Daily Log'!$CF$18:$CF$1017),0)","v":0},{"$f":"IFERROR($E99*SUMIF('Daily Log'!$CH$18:$CH$1017,$B99,'Daily Log'!$CI$18:$CI$1017),0)","v":0},{"$f":"IFERROR($E99*SUMIF('Daily Log'!$CK$18:$CK$1017,$B99,'Daily Log'!$CL$18:$CL$1017),0)","v":0},{"$f":"IFERROR($E99*SUMIF('Daily Log'!$CN$18:$CN$1017,$B99,'Daily Log'!$CO$18:$CO$1017),0)","v":0}]
[null,"AC19 N : XTD B ROOM",null,null,1,0,{"$f":"IFERROR($E100*SUMIF('Daily Log'!$B$18:$B$1017,$B100,'Daily Log'!$C$18:$C$1017),0)","v":0},{"$f":"IFERROR($E100*SUMIF('Daily Log'!$E$18:$E$1017,$B100,'Daily Log'!$F$18:$F$1017),0)","v":0},{"$f":"IFERROR($E100*SUMIF('Daily Log'!$H$18:$H$1017,$B100,'Daily Log'!$I$18:$I$1017),0)","v":0},{"$f":"IFERROR($E100*SUMIF('Daily Log'!$K$18:$K$1017,$B100,'Daily Log'!$L$18:$L$1017),0)","v":0},{"$f":"IFERROR($E100*SUMIF('Daily Log'!$N$18:$N$1017,$B100,'Daily Log'!$O$18:$O$1017),0)","v":0},{"$f":"IFERROR($E100*SUMIF('Daily Log'!$Q$18:$Q$1017,$B100,'Daily Log'!$R$18:$R$1017),0)","v":0},{"$f":"IFERROR($E100*SUMIF('Daily Log'!$T$18:$T$1017,$B100,'Daily Log'!$U$18:$U$1017),0)","v":0},{"$f":"IFERROR($E100*SUMIF('Daily Log'!$W$18:$W$1017,$B100,'Daily Log'!$X$18:$X$1017),0)","v":0},{"$f":"IFERROR($E100*SUMIF('Daily Log'!$Z$18:$Z$1017,$B100,'Daily Log'!$AA$18:$AA$1017),0)","v":0},{"$f":"IFERROR($E100*SUMIF('Daily Log'!$AC$18:$AC$1017,$B100,'Daily Log'!$AD$18:$AD$1017),0)","v":0},{"$f":"IFERROR($E100*SUMIF('Daily Log'!$AF$18:$AF$1017,$B100,'Daily Log'!$AG$18:$AG$1017),0)","v":0},{"$f":"IFERROR($E100*SUMIF('Daily Log'!$AI$18:$AI$1017,$B100,'Daily Log'!$AJ$18:$AJ$1017),0)","v":0},{"$f":"IFERROR($E100*SUMIF('Daily Log'!$AL$18:$AL$1017,$B100,'Daily Log'!$AM$18:$AM$1017),0)","v":0},{"$f":"IFERROR($E100*SUMIF('Daily Log'!$AO$18:$AO$1017,$B100,'Daily Log'!$AP$18:$AP$1017),0)","v":0},{"$f":"IFERROR($E100*SUMIF('Daily Log'!$AR$18:$AR$1017,$B100,'Daily Log'!$AS$18:$AS$1017),0)","v":0},{"$f":"IFERROR($E100*SUMIF('Daily Log'!$AU$18:$AU$1017,$B100,'Daily Log'!$AV$18:$AV$1017),0)","v":0},{"$f":"IFERROR($E100*SUMIF('Daily Log'!$AX$18:$AX$1017,$B100,'Daily Log'!$AY$18:$AY$1017),0)","v":0},{"$f":"IFERROR($E100*SUMIF('Daily Log'!$BA$18:$BA$1017,$B100,'Daily Log'!$BB$18:$BB$1017),0)","v":0},{"$f":"IFERROR($E100*SUMIF('Daily Log'!$BD$18:$BD$1017,$B100,'Daily Log'!$BE$18:$BE$1017),0)","v":0},{"$f":"IFERROR($E100*SUMIF('Daily Log'!$BG$18:$BG$1017,$B100,'Daily Log'!$BH$18:$BH$1017),0)","v":0},{"$f":"IFERROR($E100*SUMIF('Daily Log'!$BJ$18:$BJ$1017,$B100,'Daily Log'!$BK$18:$BK$1017),0)","v":0},{"$f":"IFERROR($E100*SUMIF('Daily Log'!$BM$18:$BM$1017,$B100,'Daily Log'!$BN$18:$BN$1017),0)","v":0},{"$f":"IFERROR($E100*SUMIF('Daily Log'!$BP$18:$BP$1017,$B100,'Daily Log'!$BQ$18:$BQ$1017),0)","v":0},{"$f":"IFERROR($E100*SUMIF('Daily Log'!$BS$18:$BS$1017,$B100,'Daily Log'!$BT$18:$BT$1017),0)","v":0},{"$f":"IFERROR($E100*SUMIF('Daily Log'!$BV$18:$BV$1017,$B100,'Daily Log'!$BW$18:$BW$1017),0)","v":0},{"$f":"IFERROR($E100*SUMIF('Daily Log'!$BY$18:$BY$1017,$B100,'Daily Log'!$BZ$18:$BZ$1017),0)","v":0},{"$f":"IFERROR($E100*SUMIF('Daily Log'!$CB$18:$CB$1017,$B100,'Daily Log'!$CC$18:$CC$1017),0)","v":0},{"$f":"IFERROR($E100*SUMIF('Daily Log'!$CE$18:$CE$1017,$B100,'Daily Log'!$CF$18:$CF$1017),0)","v":0},{"$f":"IFERROR($E100*SUMIF('Daily Log'!$CH$18:$CH$1017,$B100,'Daily Log'!$CI$18:$CI$1017),0)","v":0},{"$f":"IFERROR($E100*SUMIF('Daily Log'!$CK$18:$CK$1017,$B100,'Daily Log'!$CL$18:$CL$1017),0)","v":0},{"$f":"IFERROR($E100*SUMIF('Daily Log'!$CN$18:$CN$1017,$B100,'Daily Log'!$CO$18:$CO$1017),0)","v":0}]
[null,"AC20 N : FREE HOUR",null,null,1,0,{"$f":"IFERROR($E101*SUMIF('Daily Log'!$B$18:$B$1017,$B101,'Daily Log'!$C$18:$C$1017),0)","v":0},{"$f":"IFERROR($E101*SUMIF('Daily Log'!$E$18:$E$1017,$B101,'Daily Log'!$F$18:$F$1017),0)","v":0},{"$f":"IFERROR($E101*SUMIF('Daily Log'!$H$18:$H$1017,$B101,'Daily Log'!$I$18:$I$1017),0)","v":0},{"$f":"IFERROR($E101*SUMIF('Daily Log'!$K$18:$K$1017,$B101,'Daily Log'!$L$18:$L$1017),0)","v":0},{"$f":"IFERROR($E101*SUMIF('Daily Log'!$N$18:$N$1017,$B101,'Daily Log'!$O$18:$O$1017),0)","v":0},{"$f":"IFERROR($E101*SUMIF('Daily Log'!$Q$18:$Q$1017,$B101,'Daily Log'!$R$18:$R$1017),0)","v":0},{"$f":"IFERROR($E101*SUMIF('Daily Log'!$T$18:$T$1017,$B101,'Daily Log'!$U$18:$U$1017),0)","v":0},{"$f":"IFERROR($E101*SUMIF('Daily Log'!$W$18:$W$1017,$B101,'Daily Log'!$X$18:$X$1017),0)","v":0},{"$f":"IFERROR($E101*SUMIF('Daily Log'!$Z$18:$Z$1017,$B101,'Daily Log'!$AA$18:$AA$1017),0)","v":0},{"$f":"IFERROR($E101*SUMIF('Daily Log'!$AC$18:$AC$1017,$B101,'Daily Log'!$AD$18:$AD$1017),0)","v":0},{"$f":"IFERROR($E101*SUMIF('Daily Log'!$AF$18:$AF$1017,$B101,'Daily Log'!$AG$18:$AG$1017),0)","v":0},{"$f":"IFERROR($E101*SUMIF('Daily Log'!$AI$18:$AI$1017,$B101,'Daily Log'!$AJ$18:$AJ$1017),0)","v":0},{"$f":"IFERROR($E101*SUMIF('Daily Log'!$AL$18:$AL$1017,$B101,'Daily Log'!$AM$18:$AM$1017),0)","v":0},{"$f":"IFERROR($E101*SUMIF('Daily Log'!$AO$18:$AO$1017,$B101,'Daily Log'!$AP$18:$AP$1017),0)","v":0},{"$f":"IFERROR($E101*SUMIF('Daily Log'!$AR$18:$AR$1017,$B101,'Daily Log'!$AS$18:$AS$1017),0)","v":0},{"$f":"IFERROR($E101*SUMIF('Daily Log'!$AU$18:$AU$1017,$B101,'Daily Log'!$AV$18:$AV$1017),0)","v":0},{"$f":"IFERROR($E101*SUMIF('Daily Log'!$AX$18:$AX$1017,$B101,'Daily Log'!$AY$18:$AY$1017),0)","v":0},{"$f":"IFERROR($E101*SUMIF('Daily Log'!$BA$18:$BA$1017,$B101,'Daily Log'!$BB$18:$BB$1017),0)","v":0},{"$f":"IFERROR($E101*SUMIF('Daily Log'!$BD$18:$BD$1017,$B101,'Daily Log'!$BE$18:$BE$1017),0)","v":0},{"$f":"IFERROR($E101*SUMIF('Daily Log'!$BG$18:$BG$1017,$B101,'Daily Log'!$BH$18:$BH$1017),0)","v":0},{"$f":"IFERROR($E101*SUMIF('Daily Log'!$BJ$18:$BJ$1017,$B101,'Daily Log'!$BK$18:$BK$1017),0)","v":0},{"$f":"IFERROR($E101*SUMIF('Daily Log'!$BM$18:$BM$1017,$B101,'Daily Log'!$BN$18:$BN$1017),0)","v":0},{"$f":"IFERROR($E101*SUMIF('Daily Log'!$BP$18:$BP$1017,$B101,'Daily Log'!$BQ$18:$BQ$1017),0)","v":0},{"$f":"IFERROR($E101*SUMIF('Daily Log'!$BS$18:$BS$1017,$B101,'Daily Log'!$BT$18:$BT$1017),0)","v":0},{"$f":"IFERROR($E101*SUMIF('Daily Log'!$BV$18:$BV$1017,$B101,'Daily Log'!$BW$18:$BW$1017),0)","v":0},{"$f":"IFERROR($E101*SUMIF('Daily Log'!$BY$18:$BY$1017,$B101,'Daily Log'!$BZ$18:$BZ$1017),0)","v":0},{"$f":"IFERROR($E101*SUMIF('Daily Log'!$CB$18:$CB$1017,$B101,'Daily Log'!$CC$18:$CC$1017),0)","v":0},{"$f":"IFERROR($E101*SUMIF('Daily Log'!$CE$18:$CE$1017,$B101,'Daily Log'!$CF$18:$CF$1017),0)","v":0},{"$f":"IFERROR($E101*SUMIF('Daily Log'!$CH$18:$CH$1017,$B101,'Daily Log'!$CI$18:$CI$1017),0)","v":0},{"$f":"IFERROR($E101*SUMIF('Daily Log'!$CK$18:$CK$1017,$B101,'Daily Log'!$CL$18:$CL$1017),0)","v":0},{"$f":"IFERROR($E101*SUMIF('Daily Log'!$CN$18:$CN$1017,$B101,'Daily Log'!$CO$18:$CO$1017),0)","v":0}]
[null,"AC21 N : GROUPON",null,null,1,0,{"$f":"IFERROR($E102*SUMIF('Daily Log'!$B$18:$B$1017,$B102,'Daily Log'!$C$18:$C$1017),0)","v":0},{"$f":"IFERROR($E102*SUMIF('Daily Log'!$E$18:$E$1017,$B102,'Daily Log'!$F$18:$F$1017),0)","v":0},{"$f":"IFERROR($E102*SUMIF('Daily Log'!$H$18:$H$1017,$B102,'Daily Log'!$I$18:$I$1017),0)","v":0},{"$f":"IFERROR($E102*SUMIF('Daily Log'!$K$18:$K$1017,$B102,'Daily Log'!$L$18:$L$1017),0)","v":0},{"$f":"IFERROR($E102*SUMIF('Daily Log'!$N$18:$N$1017,$B102,'Daily Log'!$O$18:$O$1017),0)","v":0},{"$f":"IFERROR($E102*SUMIF('Daily Log'!$Q$18:$Q$1017,$B102,'Daily Log'!$R$18:$R$1017),0)","v":0},{"$f":"IFERROR($E102*SUMIF('Daily Log'!$T$18:$T$1017,$B102,'Daily Log'!$U$18:$U$1017),0)","v":0},{"$f":"IFERROR($E102*SUMIF('Daily Log'!$W$18:$W$1017,$B102,'Daily Log'!$X$18:$X$1017),0)","v":0},{"$f":"IFERROR($E102*SUMIF('Daily Log'!$Z$18:$Z$1017,$B102,'Daily Log'!$AA$18:$AA$1017),0)","v":0},{"$f":"IFERROR($E102*SUMIF('Daily Log'!$AC$18:$AC$1017,$B102,'Daily Log'!$AD$18:$AD$1017),0)","v":0},{"$f":"IFERROR($E102*SUMIF('Daily Log'!$AF$18:$AF$1017,$B102,'Daily Log'!$AG$18:$AG$1017),0)","v":0},{"$f":"IFERROR($E102*SUMIF('Daily Log'!$AI$18:$AI$1017,$B102,'Daily Log'!$AJ$18:$AJ$1017),0)","v":0},{"$f":"IFERROR($E102*SUMIF('Daily Log'!$AL$18:$AL$1017,$B102,'Daily Log'!$AM$18:$AM$1017),0)","v":0},{"$f":"IFERROR($E102*SUMIF('Daily Log'!$AO$18:$AO$1017,$B102,'Daily Log'!$AP$18:$AP$1017),0)","v":0},{"$f":"IFERROR($E102*SUMIF('Daily Log'!$AR$18:$AR$1017,$B102,'Daily Log'!$AS$18:$AS$1017),0)","v":0},{"$f":"IFERROR($E102*SUMIF('Daily Log'!$AU$18:$AU$1017,$B102,'Daily Log'!$AV$18:$AV$1017),0)","v":0},{"$f":"IFERROR($E102*SUMIF('Daily Log'!$AX$18:$AX$1017,$B102,'Daily Log'!$AY$18:$AY$1017),0)","v":0},{"$f":"IFERROR($E102*SUMIF('Daily Log'!$BA$18:$BA$1017,$B102,'Daily Log'!$BB$18:$BB$1017),0)","v":0},{"$f":"IFERROR($E102*SUMIF('Daily Log'!$BD$18:$BD$1017,$B102,'Daily Log'!$BE$18:$BE$1017),0)","v":0},{"$f":"IFERROR($E102*SUMIF('Daily Log'!$BG$18:$BG$1017,$B102,'Daily Log'!$BH$18:$BH$1017),0)","v":0},{"$f":"IFERROR($E102*SUMIF('Daily Log'!$BJ$18:$BJ$1017,$B102,'Daily Log'!$BK$18:$BK$1017),0)","v":0},{"$f":"IFERROR($E102*SUMIF('Daily Log'!$BM$18:$BM$1017,$B102,'Daily Log'!$BN$18:$BN$1017),0)","v":0},{"$f":"IFERROR($E102*SUMIF('Daily Log'!$BP$18:$BP$1017,$B102,'Daily Log'!$BQ$18:$BQ$1017),0)","v":0},{"$f":"IFERROR($E102*SUMIF('Daily Log'!$BS$18:$BS$1017,$B102,'Daily Log'!$BT$18:$BT$1017),0)","v":0},{"$f":"IFERROR($E102*SUMIF('Daily Log'!$BV$18:$BV$1017,$B102,'Daily Log'!$BW$18:$BW$1017),0)","v":0},{"$f":"IFERROR($E102*SUMIF('Daily Log'!$BY$18:$BY$1017,$B102,'Daily Log'!$BZ$18:$BZ$1017),0)","v":0},{"$f":"IFERROR($E102*SUMIF('Daily Log'!$CB$18:$CB$1017,$B102,'Daily Log'!$CC$18:$CC$1017),0)","v":0},{"$f":"IFERROR($E102*SUMIF('Daily Log'!$CE$18:$CE$1017,$B102,'Daily Log'!$CF$18:$CF$1017),0)","v":0},{"$f":"IFERROR($E102*SUMIF('Daily Log'!$CH$18:$CH$1017,$B102,'Daily Log'!$CI$18:$CI$1017),0)","v":0},{"$f":"IFERROR($E102*SUMIF('Daily Log'!$CK$18:$CK$1017,$B102,'Daily Log'!$CL$18:$CL$1017),0)","v":0},{"$f":"IFERROR($E102*SUMIF('Daily Log'!$CN$18:$CN$1017,$B102,'Daily Log'!$CO$18:$CO$1017),0)","v":0}]
[null,"AC23 N : One FM 208",null,null,1,0,{"$f":"IFERROR($E103*SUMIF('Daily Log'!$B$18:$B$1017,$B103,'Daily Log'!$C$18:$C$1017),0)","v":0},{"$f":"IFERROR($E103*SUMIF('Daily Log'!$E$18:$E$1017,$B103,'Daily Log'!$F$18:$F$1017),0)","v":0},{"$f":"IFERROR($E103*SUMIF('Daily Log'!$H$18:$H$1017,$B103,'Daily Log'!$I$18:$I$1017),0)","v":0},{"$f":"IFERROR($E103*SUMIF('Daily Log'!$K$18:$K$1017,$B103,'Daily Log'!$L$18:$L$1017),0)","v":0},{"$f":"IFERROR($E103*SUMIF('Daily Log'!$N$18:$N$1017,$B103,'Daily Log'!$O$18:$O$1017),0)","v":0},{"$f":"IFERROR($E103*SUMIF('Daily Log'!$Q$18:$Q$1017,$B103,'Daily Log'!$R$18:$R$1017),0)","v":0},{"$f":"IFERROR($E103*SUMIF('Daily Log'!$T$18:$T$1017,$B103,'Daily Log'!$U$18:$U$1017),0)","v":0},{"$f":"IFERROR($E103*SUMIF('Daily Log'!$W$18:$W$1017,$B103,'Daily Log'!$X$18:$X$1017),0)","v":0},{"$f":"IFERROR($E103*SUMIF('Daily Log'!$Z$18:$Z$1017,$B103,'Daily Log'!$AA$18:$AA$1017),0)","v":0},{"$f":"IFERROR($E103*SUMIF('Daily Log'!$AC$18:$AC$1017,$B103,'Daily Log'!$AD$18:$AD$1017),0)","v":0},{"$f":"IFERROR($E103*SUMIF('Daily Log'!$AF$18:$AF$1017,$B103,'Daily Log'!$AG$18:$AG$1017),0)","v":0},{"$f":"IFERROR($E103*SUMIF('Daily Log'!$AI$18:$AI$1017,$B103,'Daily Log'!$AJ$18:$AJ$1017),0)","v":0},{"$f":"IFERROR($E103*SUMIF('Daily Log'!$AL$18:$AL$1017,$B103,'Daily Log'!$AM$18:$AM$1017),0)","v":0},{"$f":"IFERROR($E103*SUMIF('Daily Log'!$AO$18:$AO$1017,$B103,'Daily Log'!$AP$18:$AP$1017),0)","v":0},{"$f":"IFERROR($E103*SUMIF('Daily Log'!$AR$18:$AR$1017,$B103,'Daily Log'!$AS$18:$AS$1017),0)","v":0},{"$f":"IFERROR($E103*SUMIF('Daily Log'!$AU$18:$AU$1017,$B103,'Daily Log'!$AV$18:$AV$1017),0)","v":0},{"$f":"IFERROR($E103*SUMIF('Daily Log'!$AX$18:$AX$1017,$B103,'Daily Log'!$AY$18:$AY$1017),0)","v":0},{"$f":"IFERROR($E103*SUMIF('Daily Log'!$BA$18:$BA$1017,$B103,'Daily Log'!$BB$18:$BB$1017),0)","v":0},{"$f":"IFERROR($E103*SUMIF('Daily Log'!$BD$18:$BD$1017,$B103,'Daily Log'!$BE$18:$BE$1017),0)","v":0},{"$f":"IFERROR($E103*SUMIF('Daily Log'!$BG$18:$BG$1017,$B103,'Daily Log'!$BH$18:$BH$1017),0)","v":0},{"$f":"IFERROR($E103*SUMIF('Daily Log'!$BJ$18:$BJ$1017,$B103,'Daily Log'!$BK$18:$BK$1017),0)","v":0},{"$f":"IFERROR($E103*SUMIF('Daily Log'!$BM$18:$BM$1017,$B103,'Daily Log'!$BN$18:$BN$1017),0)","v":0},{"$f":"IFERROR($E103*SUMIF('Daily Log'!$BP$18:$BP$1017,$B103,'Daily Log'!$BQ$18:$BQ$1017),0)","v":0},{"$f":"IFERROR($E103*SUMIF('Daily Log'!$BS$18:$BS$1017,$B103,'Daily Log'!$BT$18:$BT$1017),0)","v":0},{"$f":"IFERROR($E103*SUMIF('Daily Log'!$BV$18:$BV$1017,$B103,'Daily Log'!$BW$18:$BW$1017),0)","v":0},{"$f":"IFERROR($E103*SUMIF('Daily Log'!$BY$18:$BY$1017,$B103,'Daily Log'!$BZ$18:$BZ$1017),0)","v":0},{"$f":"IFERROR($E103*SUMIF('Daily Log'!$CB$18:$CB$1017,$B103,'Daily Log'!$CC$18:$CC$1017),0)","v":0},{"$f":"IFERROR($E103*SUMIF('Daily Log'!$CE$18:$CE$1017,$B103,'Daily Log'!$CF$18:$CF$1017),0)","v":0},{"$f":"IFERROR($E103*SUMIF('Daily Log'!$CH$18:$CH$1017,$B103,'Daily Log'!$CI$18:$CI$1017),0)","v":0},{"$f":"IFERROR($E103*SUMIF('Daily Log'!$CK$18:$CK$1017,$B103,'Daily Log'!$CL$18:$CL$1017),0)","v":0},{"$f":"IFERROR($E103*SUMIF('Daily Log'!$CN$18:$CN$1017,$B103,'Daily Log'!$CO$18:$CO$1017),0)","v":0}]
[null,"AC24 N:Student Mem",null,null,1,0,{"$f":"IFERROR($E104*SUMIF('Daily Log'!$B$18:$B$1017,$B104,'Daily Log'!$C$18:$C$1017),0)","v":0},{"$f":"IFERROR($E104*SUMIF('Daily Log'!$E$18:$E$1017,$B104,'Daily Log'!$F$18:$F$1017),0)","v":0},{"$f":"IFERROR($E104*SUMIF('Daily Log'!$H$18:$H$1017,$B104,'Daily Log'!$I$18:$I$1017),0)","v":0},{"$f":"IFERROR($E104*SUMIF('Daily Log'!$K$18:$K$1017,$B104,'Daily Log'!$L$18:$L$1017),0)","v":0},{"$f":"IFERROR($E104*SUMIF('Daily Log'!$N$18:$N$1017,$B104,'Daily Log'!$O$18:$O$1017),0)","v":0},{"$f":"IFERROR($E104*SUMIF('Daily Log'!$Q$18:$Q$1017,$B104,'Daily Log'!$R$18:$R$1017),0)","v":0},{"$f":"IFERROR($E104*SUMIF('Daily Log'!$T$18:$T$1017,$B104,'Daily Log'!$U$18:$U$1017),0)","v":0},{"$f":"IFERROR($E104*SUMIF('Daily Log'!$W$18:$W$1017,$B104,'Daily Log'!$X$18:$X$1017),0)","v":0},{"$f":"IFERROR($E104*SUMIF('Daily Log'!$Z$18:$Z$1017,$B104,'Daily Log'!$AA$18:$AA$1017),0)","v":0},{"$f":"IFERROR($E104*SUMIF('Daily Log'!$AC$18:$AC$1017,$B104,'Daily Log'!$AD$18:$AD$1017),0)","v":0},{"$f":"IFERROR($E104*SUMIF('Daily Log'!$AF$18:$AF$1017,$B104,'Daily Log'!$AG$18:$AG$1017),0)","v":0},{"$f":"IFERROR($E104*SUMIF('Daily Log'!$AI$18:$AI$1017,$B104,'Daily Log'!$AJ$18:$AJ$1017),0)","v":0},{"$f":"IFERROR($E104*SUMIF('Daily Log'!$AL$18:$AL$1017,$B104,'Daily Log'!$AM$18:$AM$1017),0)","v":0},{"$f":"IFERROR($E104*SUMIF('Daily Log'!$AO$18:$AO$1017,$B104,'Daily Log'!$AP$18:$AP$1017),0)","v":0},{"$f":"IFERROR($E104*SUMIF('Daily Log'!$AR$18:$AR$1017,$B104,'Daily Log'!$AS$18:$AS$1017),0)","v":0},{"$f":"IFERROR($E104*SUMIF('Daily Log'!$AU$18:$AU$1017,$B104,'Daily Log'!$AV$18:$AV$1017),0)","v":0},{"$f":"IFERROR($E104*SUMIF('Daily Log'!$AX$18:$AX$1017,$B104,'Daily Log'!$AY$18:$AY$1017),0)","v":0},{"$f":"IFERROR($E104*SUMIF('Daily Log'!$BA$18:$BA$1017,$B104,'Daily Log'!$BB$18:$BB$1017),0)","v":0},{"$f":"IFERROR($E104*SUMIF('Daily Log'!$BD$18:$BD$1017,$B104,'Daily Log'!$BE$18:$BE$1017),0)","v":0},{"$f":"IFERROR($E104*SUMIF('Daily Log'!$BG$18:$BG$1017,$B104,'Daily Log'!$BH$18:$BH$1017),0)","v":0},{"$f":"IFERROR($E104*SUMIF('Daily Log'!$BJ$18:$BJ$1017,$B104,'Daily Log'!$BK$18:$BK$1017),0)","v":0},{"$f":"IFERROR($E104*SUMIF('Daily Log'!$BM$18:$BM$1017,$B104,'Daily Log'!$BN$18:$BN$1017),0)","v":0},{"$f":"IFERROR($E104*SUMIF('Daily Log'!$BP$18:$BP$1017,$B104,'Daily Log'!$BQ$18:$BQ$1017),0)","v":0},{"$f":"IFERROR($E104*SUMIF('Daily Log'!$BS$18:$BS$1017,$B104,'Daily Log'!$BT$18:$BT$1017),0)","v":0},{"$f":"IFERROR($E104*SUMIF('Daily Log'!$BV$18:$BV$1017,$B104,'Daily Log'!$BW$18:$BW$1017),0)","v":0},{"$f":"IFERROR($E104*SUMIF('Daily Log'!$BY$18:$BY$1017,$B104,'Daily Log'!$BZ$18:$BZ$1017),0)","v":0},{"$f":"IFERROR($E104*SUMIF('Daily Log'!$CB$18:$CB$1017,$B104,'Daily Log'!$CC$18:$CC$1017),0)","v":0},{"$f":"IFERROR($E104*SUMIF('Daily Log'!$CE$18:$CE$1017,$B104,'Daily Log'!$CF$18:$CF$1017),0)","v":0},{"$f":"IFERROR($E104*SUMIF('Daily Log'!$CH$18:$CH$1017,$B104,'Daily Log'!$CI$18:$CI$1017),0)","v":0},{"$f":"IFERROR($E104*SUMIF('Daily Log'!$CK$18:$CK$1017,$B104,'Daily Log'!$CL$18:$CL$1017),0)","v":0},{"$f":"IFERROR($E104*SUMIF('Daily Log'!$CN$18:$CN$1017,$B104,'Daily Log'!$CO$18:$CO$1017),0)","v":0}]
[null,"AC27 N : iGOT DIS 3+1",null,null,1,0,{"$f":"IFERROR($E105*SUMIF('Daily Log'!$B$18:$B$1017,$B105,'Daily Log'!$C$18:$C$1017),0)","v":0},{"$f":"IFERROR($E105*SUMIF('Daily Log'!$E$18:$E$1017,$B105,'Daily Log'!$F$18:$F$1017),0)","v":0},{"$f":"IFERROR($E105*SUMIF('Daily Log'!$H$18:$H$1017,$B105,'Daily Log'!$I$18:$I$1017),0)","v":0},{"$f":"IFERROR($E105*SUMIF('Daily Log'!$K$18:$K$1017,$B105,'Daily Log'!$L$18:$L$1017),0)","v":0},{"$f":"IFERROR($E105*SUMIF('Daily Log'!$N$18:$N$1017,$B105,'Daily Log'!$O$18:$O$1017),0)","v":0},{"$f":"IFERROR($E105*SUMIF('Daily Log'!$Q$18:$Q$1017,$B105,'Daily Log'!$R$18:$R$1017),0)","v":0},{"$f":"IFERROR($E105*SUMIF('Daily Log'!$T$18:$T$1017,$B105,'Daily Log'!$U$18:$U$1017),0)","v":0},{"$f":"IFERROR($E105*SUMIF('Daily Log'!$W$18:$W$1017,$B105,'Daily Log'!$X$18:$X$1017),0)","v":0},{"$f":"IFERROR($E105*SUMIF('Daily Log'!$Z$18:$Z$1017,$B105,'Daily Log'!$AA$18:$AA$1017),0)","v":0},{"$f":"IFERROR($E105*SUMIF('Daily Log'!$AC$18:$AC$1017,$B105,'Daily Log'!$AD$18:$AD$1017),0)","v":0},{"$f":"IFERROR($E105*SUMIF('Daily Log'!$AF$18:$AF$1017,$B105,'Daily Log'!$AG$18:$AG$1017),0)","v":0},{"$f":"IFERROR($E105*SUMIF('Daily Log'!$AI$18:$AI$1017,$B105,'Daily Log'!$AJ$18:$AJ$1017),0)","v":0},{"$f":"IFERROR($E105*SUMIF('Daily Log'!$AL$18:$AL$1017,$B105,'Daily Log'!$AM$18:$AM$1017),0)","v":0},{"$f":"IFERROR($E105*SUMIF('Daily Log'!$AO$18:$AO$1017,$B105,'Daily Log'!$AP$18:$AP$1017),0)","v":0},{"$f":"IFERROR($E105*SUMIF('Daily Log'!$AR$18:$AR$1017,$B105,'Daily Log'!$AS$18:$AS$1017),0)","v":0},{"$f":"IFERROR($E105*SUMIF('Daily Log'!$AU$18:$AU$1017,$B105,'Daily Log'!$AV$18:$AV$1017),0)","v":0},{"$f":"IFERROR($E105*SUMIF('Daily Log'!$AX$18:$AX$1017,$B105,'Daily Log'!$AY$18:$AY$1017),0)","v":0},{"$f":"IFERROR($E105*SUMIF('Daily Log'!$BA$18:$BA$1017,$B105,'Daily Log'!$BB$18:$BB$1017),0)","v":0},{"$f":"IFERROR($E105*SUMIF('Daily Log'!$BD$18:$BD$1017,$B105,'Daily Log'!$BE$18:$BE$1017),0)","v":0},{"$f":"IFERROR($E105*SUMIF('Daily Log'!$BG$18:$BG$1017,$B105,'Daily Log'!$BH$18:$BH$1017),0)","v":0},{"$f":"IFERROR($E105*SUMIF('Daily Log'!$BJ$18:$BJ$1017,$B105,'Daily Log'!$BK$18:$BK$1017),0)","v":0},{"$f":"IFERROR($E105*SUMIF('Daily Log'!$BM$18:$BM$1017,$B105,'Daily Log'!$BN$18:$BN$1017),0)","v":0},{"$f":"IFERROR($E105*SUMIF('Daily Log'!$BP$18:$BP$1017,$B105,'Daily Log'!$BQ$18:$BQ$1017),0)","v":0},{"$f":"IFERROR($E105*SUMIF('Daily Log'!$BS$18:$BS$1017,$B105,'Daily Log'!$BT$18:$BT$1017),0)","v":0},{"$f":"IFERROR($E105*SUMIF('Daily Log'!$BV$18:$BV$1017,$B105,'Daily Log'!$BW$18:$BW$1017),0)","v":0},{"$f":"IFERROR($E105*SUMIF('Daily Log'!$BY$18:$BY$1017,$B105,'Daily Log'!$BZ$18:$BZ$1017),0)","v":0},{"$f":"IFERROR($E105*SUMIF('Daily Log'!$CB$18:$CB$1017,$B105,'Daily Log'!$CC$18:$CC$1017),0)","v":0},{"$f":"IFERROR($E105*SUMIF('Daily Log'!$CE$18:$CE$1017,$B105,'Daily Log'!$CF$18:$CF$1017),0)","v":0},{"$f":"IFERROR($E105*SUMIF('Daily Log'!$CH$18:$CH$1017,$B105,'Daily Log'!$CI$18:$CI$1017),0)","v":0},{"$f":"IFERROR($E105*SUMIF('Daily Log'!$CK$18:$CK$1017,$B105,'Daily Log'!$CL$18:$CL$1017),0)","v":0},{"$f":"IFERROR($E105*SUMIF('Daily Log'!$CN$18:$CN$1017,$B105,'Daily Log'!$CO$18:$CO$1017),0)","v":0}]
[null,"AC28 N: Student Diner",null,null,1,0,{"$f":"IFERROR($E106*SUMIF('Daily Log'!$B$18:$B$1017,$B106,'Daily Log'!$C$18:$C$1017),0)","v":0},{"$f":"IFERROR($E106*SUMIF('Daily Log'!$E$18:$E$1017,$B106,'Daily Log'!$F$18:$F$1017),0)","v":0},{"$f":"IFERROR($E106*SUMIF('Daily Log'!$H$18:$H$1017,$B106,'Daily Log'!$I$18:$I$1017),0)","v":0},{"$f":"IFERROR($E106*SUMIF('Daily Log'!$K$18:$K$1017,$B106,'Daily Log'!$L$18:$L$1017),0)","v":0},{"$f":"IFERROR($E106*SUMIF('Daily Log'!$N$18:$N$1017,$B106,'Daily Log'!$O$18:$O$1017),0)","v":0},{"$f":"IFERROR($E106*SUMIF('Daily Log'!$Q$18:$Q$1017,$B106,'Daily Log'!$R$18:$R$1017),0)","v":0},{"$f":"IFERROR($E106*SUMIF('Daily Log'!$T$18:$T$1017,$B106,'Daily Log'!$U$18:$U$1017),0)","v":0},{"$f":"IFERROR($E106*SUMIF('Daily Log'!$W$18:$W$1017,$B106,'Daily Log'!$X$18:$X$1017),0)","v":0},{"$f":"IFERROR($E106*SUMIF('Daily Log'!$Z$18:$Z$1017,$B106,'Daily Log'!$AA$18:$AA$1017),0)","v":0},{"$f":"IFERROR($E106*SUMIF('Daily Log'!$AC$18:$AC$1017,$B106,'Daily Log'!$AD$18:$AD$1017),0)","v":0},{"$f":"IFERROR($E106*SUMIF('Daily Log'!$AF$18:$AF$1017,$B106,'Daily Log'!$AG$18:$AG$1017),0)","v":0},{"$f":"IFERROR($E106*SUMIF('Daily Log'!$AI$18:$AI$1017,$B106,'Daily Log'!$AJ$18:$AJ$1017),0)","v":0},{"$f":"IFERROR($E106*SUMIF('Daily Log'!$AL$18:$AL$1017,$B106,'Daily Log'!$AM$18:$AM$1017),0)","v":0},{"$f":"IFERROR($E106*SUMIF('Daily Log'!$AO$18:$AO$1017,$B106,'Daily Log'!$AP$18:$AP$1017),0)","v":0},{"$f":"IFERROR($E106*SUMIF('Daily Log'!$AR$18:$AR$1017,$B106,'Daily Log'!$AS$18:$AS$1017),0)","v":0},{"$f":"IFERROR($E106*SUMIF('Daily Log'!$AU$18:$AU$1017,$B106,'Daily Log'!$AV$18:$AV$1017),0)","v":0},{"$f":"IFERROR($E106*SUMIF('Daily Log'!$AX$18:$AX$1017,$B106,'Daily Log'!$AY$18:$AY$1017),0)","v":0},{"$f":"IFERROR($E106*SUMIF('Daily Log'!$BA$18:$BA$1017,$B106,'Daily Log'!$BB$18:$BB$1017),0)","v":0},{"$f":"IFERROR($E106*SUMIF('Daily Log'!$BD$18:$BD$1017,$B106,'Daily Log'!$BE$18:$BE$1017),0)","v":0},{"$f":"IFERROR($E106*SUMIF('Daily Log'!$BG$18:$BG$1017,$B106,'Daily Log'!$BH$18:$BH$1017),0)","v":0},{"$f":"IFERROR($E106*SUMIF('Daily Log'!$BJ$18:$BJ$1017,$B106,'Daily Log'!$BK$18:$BK$1017),0)","v":0},{"$f":"IFERROR($E106*SUMIF('Daily Log'!$BM$18:$BM$1017,$B106,'Daily Log'!$BN$18:$BN$1017),0)","v":0},{"$f":"IFERROR($E106*SUMIF('Daily Log'!$BP$18:$BP$1017,$B106,'Daily Log'!$BQ$18:$BQ$1017),0)","v":0},{"$f":"IFERROR($E106*SUMIF('Daily Log'!$BS$18:$BS$1017,$B106,'Daily Log'!$BT$18:$BT$1017),0)","v":0},{"$f":"IFERROR($E106*SUMIF('Daily Log'!$BV$18:$BV$1017,$B106,'Daily Log'!$BW$18:$BW$1017),0)","v":0},{"$f":"IFERROR($E106*SUMIF('Daily Log'!$BY$18:$BY$1017,$B106,'Daily Log'!$BZ$18:$BZ$1017),0)","v":0},{"$f":"IFERROR($E106*SUMIF('Daily Log'!$CB$18:$CB$1017,$B106,'Daily Log'!$CC$18:$CC$1017),0)","v":0},{"$f":"IFERROR($E106*SUMIF('Daily Log'!$CE$18:$CE$1017,$B106,'Daily Log'!$CF$18:$CF$1017),0)","v":0},{"$f":"IFERROR($E106*SUMIF('Daily Log'!$CH$18:$CH$1017,$B106,'Daily Log'!$CI$18:$CI$1017),0)","v":0},{"$f":"IFERROR($E106*SUMIF('Daily Log'!$CK$18:$CK$1017,$B106,'Daily Log'!$CL$18:$CL$1017),0)","v":0},{"$f":"IFERROR($E106*SUMIF('Daily Log'!$CN$18:$CN$1017,$B106,'Daily Log'!$CO$18:$CO$1017),0)","v":0}]
[null,"AD01 M : REGULAR",null,null,1,0,{"$f":"IFERROR($E107*SUMIF('Daily Log'!$B$18:$B$1017,$B107,'Daily Log'!$C$18:$C$1017),0)","v":0},{"$f":"IFERROR($E107*SUMIF('Daily Log'!$E$18:$E$1017,$B107,'Daily Log'!$F$18:$F$1017),0)","v":0},{"$f":"IFERROR($E107*SUMIF('Daily Log'!$H$18:$H$1017,$B107,'Daily Log'!$I$18:$I$1017),0)","v":0},{"$f":"IFERROR($E107*SUMIF('Daily Log'!$K$18:$K$1017,$B107,'Daily Log'!$L$18:$L$1017),0)","v":0},{"$f":"IFERROR($E107*SUMIF('Daily Log'!$N$18:$N$1017,$B107,'Daily Log'!$O$18:$O$1017),0)","v":0},{"$f":"IFERROR($E107*SUMIF('Daily Log'!$Q$18:$Q$1017,$B107,'Daily Log'!$R$18:$R$1017),0)","v":0},{"$f":"IFERROR($E107*SUMIF('Daily Log'!$T$18:$T$1017,$B107,'Daily Log'!$U$18:$U$1017),0)","v":0},{"$f":"IFERROR($E107*SUMIF('Daily Log'!$W$18:$W$1017,$B107,'Daily Log'!$X$18:$X$1017),0)","v":0},{"$f":"IFERROR($E107*SUMIF('Daily Log'!$Z$18:$Z$1017,$B107,'Daily Log'!$AA$18:$AA$1017),0)","v":0},{"$f":"IFERROR($E107*SUMIF('Daily Log'!$AC$18:$AC$1017,$B107,'Daily Log'!$AD$18:$AD$1017),0)","v":0},{"$f":"IFERROR($E107*SUMIF('Daily Log'!$AF$18:$AF$1017,$B107,'Daily Log'!$AG$18:$AG$1017),0)","v":0},{"$f":"IFERROR($E107*SUMIF('Daily Log'!$AI$18:$AI$1017,$B107,'Daily Log'!$AJ$18:$AJ$1017),0)","v":0},{"$f":"IFERROR($E107*SUMIF('Daily Log'!$AL$18:$AL$1017,$B107,'Daily Log'!$AM$18:$AM$1017),0)","v":0},{"$f":"IFERROR($E107*SUMIF('Daily Log'!$AO$18:$AO$1017,$B107,'Daily Log'!$AP$18:$AP$1017),0)","v":0},{"$f":"IFERROR($E107*SUMIF('Daily Log'!$AR$18:$AR$1017,$B107,'Daily Log'!$AS$18:$AS$1017),0)","v":0},{"$f":"IFERROR($E107*SUMIF('Daily Log'!$AU$18:$AU$1017,$B107,'Daily Log'!$AV$18:$AV$1017),0)","v":0},{"$f":"IFERROR($E107*SUMIF('Daily Log'!$AX$18:$AX$1017,$B107,'Daily Log'!$AY$18:$AY$1017),0)","v":0},{"$f":"IFERROR($E107*SUMIF('Daily Log'!$BA$18:$BA$1017,$B107,'Daily Log'!$BB$18:$BB$1017),0)","v":0},{"$f":"IFERROR($E107*SUMIF('Daily Log'!$BD$18:$BD$1017,$B107,'Daily Log'!$BE$18:$BE$1017),0)","v":0},{"$f":"IFERROR($E107*SUMIF('Daily Log'!$BG$18:$BG$1017,$B107,'Daily Log'!$BH$18:$BH$1017),0)","v":0},{"$f":"IFERROR($E107*SUMIF('Daily Log'!$BJ$18:$BJ$1017,$B107,'Daily Log'!$BK$18:$BK$1017),0)","v":0},{"$f":"IFERROR($E107*SUMIF('Daily Log'!$BM$18:$BM$1017,$B107,'Daily Log'!$BN$18:$BN$1017),0)","v":0},{"$f":"IFERROR($E107*SUMIF('Daily Log'!$BP$18:$BP$1017,$B107,'Daily Log'!$BQ$18:$BQ$1017),0)","v":0},{"$f":"IFERROR($E107*SUMIF('Daily Log'!$BS$18:$BS$1017,$B107,'Daily Log'!$BT$18:$BT$1017),0)","v":0},{"$f":"IFERROR($E107*SUMIF('Daily Log'!$BV$18:$BV$1017,$B107,'Daily Log'!$BW$18:$BW$1017),0)","v":0},{"$f":"IFERROR($E107*SUMIF('Daily Log'!$BY$18:$BY$1017,$B107,'Daily Log'!$BZ$18:$BZ$1017),0)","v":0},{"$f":"IFERROR($E107*SUMIF('Daily Log'!$CB$18:$CB$1017,$B107,'Daily Log'!$CC$18:$CC$1017),0)","v":0},{"$f":"IFERROR($E107*SUMIF('Daily Log'!$CE$18:$CE$1017,$B107,'Daily Log'!$CF$18:$CF$1017),0)","v":0},{"$f":"IFERROR($E107*SUMIF('Daily Log'!$CH$18:$CH$1017,$B107,'Daily Log'!$CI$18:$CI$1017),0)","v":0},{"$f":"IFERROR($E107*SUMIF('Daily Log'!$CK$18:$CK$1017,$B107,'Daily Log'!$CL$18:$CL$1017),0)","v":0},{"$f":"IFERROR($E107*SUMIF('Daily Log'!$CN$18:$CN$1017,$B107,'Daily Log'!$CO$18:$CO$1017),0)","v":0}]
[null,"AD02 M : MEMBER",null,null,1,0,{"$f":"IFERROR($E108*SUMIF('Daily Log'!$B$18:$B$1017,$B108,'Daily Log'!$C$18:$C$1017),0)","v":0},{"$f":"IFERROR($E108*SUMIF('Daily Log'!$E$18:$E$1017,$B108,'Daily Log'!$F$18:$F$1017),0)","v":0},{"$f":"IFERROR($E108*SUMIF('Daily Log'!$H$18:$H$1017,$B108,'Daily Log'!$I$18:$I$1017),0)","v":0},{"$f":"IFERROR($E108*SUMIF('Daily Log'!$K$18:$K$1017,$B108,'Daily Log'!$L$18:$L$1017),0)","v":0},{"$f":"IFERROR($E108*SUMIF('Daily Log'!$N$18:$N$1017,$B108,'Daily Log'!$O$18:$O$1017),0)","v":0},{"$f":"IFERROR($E108*SUMIF('Daily Log'!$Q$18:$Q$1017,$B108,'Daily Log'!$R$18:$R$1017),0)","v":0},{"$f":"IFERROR($E108*SUMIF('Daily Log'!$T$18:$T$1017,$B108,'Daily Log'!$U$18:$U$1017),0)","v":0},{"$f":"IFERROR($E108*SUMIF('Daily Log'!$W$18:$W$1017,$B108,'Daily Log'!$X$18:$X$1017),0)","v":0},{"$f":"IFERROR($E108*SUMIF('Daily Log'!$Z$18:$Z$1017,$B108,'Daily Log'!$AA$18:$AA$1017),0)","v":0},{"$f":"IFERROR($E108*SUMIF('Daily Log'!$AC$18:$AC$1017,$B108,'Daily Log'!$AD$18:$AD$1017),0)","v":0},{"$f":"IFERROR($E108*SUMIF('Daily Log'!$AF$18:$AF$1017,$B108,'Daily Log'!$AG$18:$AG$1017),0)","v":0},{"$f":"IFERROR($E108*SUMIF('Daily Log'!$AI$18:$AI$1017,$B108,'Daily Log'!$AJ$18:$AJ$1017),0)","v":0},{"$f":"IFERROR($E108*SUMIF('Daily Log'!$AL$18:$AL$1017,$B108,'Daily Log'!$AM$18:$AM$1017),0)","v":0},{"$f":"IFERROR($E108*SUMIF('Daily Log'!$AO$18:$AO$1017,$B108,'Daily Log'!$AP$18:$AP$1017),0)","v":0},{"$f":"IFERROR($E108*SUMIF('Daily Log'!$AR$18:$AR$1017,$B108,'Daily Log'!$AS$18:$AS$1017),0)","v":0},{"$f":"IFERROR($E108*SUMIF('Daily Log'!$AU$18:$AU$1017,$B108,'Daily Log'!$AV$18:$AV$1017),0)","v":0},{"$f":"IFERROR($E108*SUMIF('Daily Log'!$AX$18:$AX$1017,$B108,'Daily Log'!$AY$18:$AY$1017),0)","v":0},{"$f":"IFERROR($E108*SUMIF('Daily Log'!$BA$18:$BA$1017,$B108,'Daily Log'!$BB$18:$BB$1017),0)","v":0},{"$f":"IFERROR($E108*SUMIF('Daily Log'!$BD$18:$BD$1017,$B108,'Daily Log'!$BE$18:$BE$1017),0)","v":0},{"$f":"IFERROR($E108*SUMIF('Daily Log'!$BG$18:$BG$1017,$B108,'Daily Log'!$BH$18:$BH$1017),0)","v":0},{"$f":"IFERROR($E108*SUMIF('Daily Log'!$BJ$18:$BJ$1017,$B108,'Daily Log'!$BK$18:$BK$1017),0)","v":0},{"$f":"IFERROR($E108*SUMIF('Daily Log'!$BM$18:$BM$1017,$B108,'Daily Log'!$BN$18:$BN$1017),0)","v":0},{"$f":"IFERROR($E108*SUMIF('Daily Log'!$BP$18:$BP$1017,$B108,'Daily Log'!$BQ$18:$BQ$1017),0)","v":0},{"$f":"IFERROR($E108*SUMIF('Daily Log'!$BS$18:$BS$1017,$B108,'Daily Log'!$BT$18:$BT$1017),0)","v":0},{"$f":"IFERROR($E108*SUMIF('Daily Log'!$BV$18:$BV$1017,$B108,'Daily Log'!$BW$18:$BW$1017),0)","v":0},{"$f":"IFERROR($E108*SUMIF('Daily Log'!$BY$18:$BY$1017,$B108,'Daily Log'!$BZ$18:$BZ$1017),0)","v":0},{"$f":"IFERROR($E108*SUMIF('Daily Log'!$CB$18:$CB$1017,$B108,'Daily Log'!$CC$18:$CC$1017),0)","v":0},{"$f":"IFERROR($E108*SUMIF('Daily Log'!$CE$18:$CE$1017,$B108,'Daily Log'!$CF$18:$CF$1017),0)","v":0},{"$f":"IFERROR($E108*SUMIF('Daily Log'!$CH$18:$CH$1017,$B108,'Daily Log'!$CI$18:$CI$1017),0)","v":0},{"$f":"IFERROR($E108*SUMIF('Daily Log'!$CK$18:$CK$1017,$B108,'Daily Log'!$CL$18:$CL$1017),0)","v":0},{"$f":"IFERROR($E108*SUMIF('Daily Log'!$CN$18:$CN$1017,$B108,'Daily Log'!$CO$18:$CO$1017),0)","v":0}]
[null,"AD03 M : MEMBER 30%",null,null,1,0,{"$f":"IFERROR($E109*SUMIF('Daily Log'!$B$18:$B$1017,$B109,'Daily Log'!$C$18:$C$1017),0)","v":0},{"$f":"IFERROR($E109*SUMIF('Daily Log'!$E$18:$E$1017,$B109,'Daily Log'!$F$18:$F$1017),0)","v":0},{"$f":"IFERROR($E109*SUMIF('Daily Log'!$H$18:$H$1017,$B109,'Daily Log'!$I$18:$I$1017),0)","v":0},{"$f":"IFERROR($E109*SUMIF('Daily Log'!$K$18:$K$1017,$B109,'Daily Log'!$L$18:$L$1017),0)","v":0},{"$f":"IFERROR($E109*SUMIF('Daily Log'!$N$18:$N$1017,$B109,'Daily Log'!$O$18:$O$1017),0)","v":0},{"$f":"IFERROR($E109*SUMIF('Daily Log'!$Q$18:$Q$1017,$B109,'Daily Log'!$R$18:$R$1017),0)","v":0},{"$f":"IFERROR($E109*SUMIF('Daily Log'!$T$18:$T$1017,$B109,'Daily Log'!$U$18:$U$1017),0)","v":0},{"$f":"IFERROR($E109*SUMIF('Daily Log'!$W$18:$W$1017,$B109,'Daily Log'!$X$18:$X$1017),0)","v":0},{"$f":"IFERROR($E109*SUMIF('Daily Log'!$Z$18:$Z$1017,$B109,'Daily Log'!$AA$18:$AA$1017),0)","v":0},{"$f":"IFERROR($E109*SUMIF('Daily Log'!$AC$18:$AC$1017,$B109,'Daily Log'!$AD$18:$AD$1017),0)","v":0},{"$f":"IFERROR($E109*SUMIF('Daily Log'!$AF$18:$AF$1017,$B109,'Daily Log'!$AG$18:$AG$1017),0)","v":0},{"$f":"IFERROR($E109*SUMIF('Daily Log'!$AI$18:$AI$1017,$B109,'Daily Log'!$AJ$18:$AJ$1017),0)","v":0},{"$f":"IFERROR($E109*SUMIF('Daily Log'!$AL$18:$AL$1017,$B109,'Daily Log'!$AM$18:$AM$1017),0)","v":0},{"$f":"IFERROR($E109*SUMIF('Daily Log'!$AO$18:$AO$1017,$B109,'Daily Log'!$AP$18:$AP$1017),0)","v":0},{"$f":"IFERROR($E109*SUMIF('Daily Log'!$AR$18:$AR$1017,$B109,'Daily Log'!$AS$18:$AS$1017),0)","v":0},{"$f":"IFERROR($E109*SUMIF('Daily Log'!$AU$18:$AU$1017,$B109,'Daily Log'!$AV$18:$AV$1017),0)","v":0},{"$f":"IFERROR($E109*SUMIF('Daily Log'!$AX$18:$AX$1017,$B109,'Daily Log'!$AY$18:$AY$1017),0)","v":0},{"$f":"IFERROR($E109*SUMIF('Daily Log'!$BA$18:$BA$1017,$B109,'Daily Log'!$BB$18:$BB$1017),0)","v":0},{"$f":"IFERROR($E109*SUMIF('Daily Log'!$BD$18:$BD$1017,$B109,'Daily Log'!$BE$18:$BE$1017),0)","v":0},{"$f":"IFERROR($E109*SUMIF('Daily Log'!$BG$18:$BG$1017,$B109,'Daily Log'!$BH$18:$BH$1017),0)","v":0},{"$f":"IFERROR($E109*SUMIF('Daily Log'!$BJ$18:$BJ$1017,$B109,'Daily Log'!$BK$18:$BK$1017),0)","v":0},{"$f":"IFERROR($E109*SUMIF('Daily Log'!$BM$18:$BM$1017,$B109,'Daily Log'!$BN$18:$BN$1017),0)","v":0},{"$f":"IFERROR($E109*SUMIF('Daily Log'!$BP$18:$BP$1017,$B109,'Daily Log'!$BQ$18:$BQ$1017),0)","v":0},{"$f":"IFERROR($E109*SUMIF('Daily Log'!$BS$18:$BS$1017,$B109,'Daily Log'!$BT$18:$BT$1017),0)","v":0},{"$f":"IFERROR($E109*SUMIF('Daily Log'!$BV$18:$BV$1017,$B109,'Daily Log'!$BW$18:$BW$1017),0)","v":0},{"$f":"IFERROR($E109*SUMIF('Daily Log'!$BY$18:$BY$1017,$B109,'Daily Log'!$BZ$18:$BZ$1017),0)","v":0},{"$f":"IFERROR($E109*SUMIF('Daily Log'!$CB$18:$CB$1017,$B109,'Daily Log'!$CC$18:$CC$1017),0)","v":0},{"$f":"IFERROR($E109*SUMIF('Daily Log'!$CE$18:$CE$1017,$B109,'Daily Log'!$CF$18:$CF$1017),0)","v":0},{"$f":"IFERROR($E109*SUMIF('Daily Log'!$CH$18:$CH$1017,$B109,'Daily Log'!$CI$18:$CI$1017),0)","v":0},{"$f":"IFERROR($E109*SUMIF('Daily Log'!$CK$18:$CK$1017,$B109,'Daily Log'!$CL$18:$CL$1017),0)","v":0},{"$f":"IFERROR($E109*SUMIF('Daily Log'!$CN$18:$CN$1017,$B109,'Daily Log'!$CO$18:$CO$1017),0)","v":0}]
[null,"AD04 M : CARI MEMBER",null,null,1,0,{"$f":"IFERROR($E110*SUMIF('Daily Log'!$B$18:$B$1017,$B110,'Daily Log'!$C$18:$C$1017),0)","v":0},{"$f":"IFERROR($E110*SUMIF('Daily Log'!$E$18:$E$1017,$B110,'Daily Log'!$F$18:$F$1017),0)","v":0},{"$f":"IFERROR($E110*SUMIF('Daily Log'!$H$18:$H$1017,$B110,'Daily Log'!$I$18:$I$1017),0)","v":0},{"$f":"IFERROR($E110*SUMIF('Daily Log'!$K$18:$K$1017,$B110,'Daily Log'!$L$18:$L$1017),0)","v":0},{"$f":"IFERROR($E110*SUMIF('Daily Log'!$N$18:$N$1017,$B110,'Daily Log'!$O$18:$O$1017),0)","v":0},{"$f":"IFERROR($E110*SUMIF('Daily Log'!$Q$18:$Q$1017,$B110,'Daily Log'!$R$18:$R$1017),0)","v":0},{"$f":"IFERROR($E110*SUMIF('Daily Log'!$T$18:$T$1017,$B110,'Daily Log'!$U$18:$U$1017),0)","v":0},{"$f":"IFERROR($E110*SUMIF('Daily Log'!$W$18:$W$1017,$B110,'Daily Log'!$X$18:$X$1017),0)","v":0},{"$f":"IFERROR($E110*SUMIF('Daily Log'!$Z$18:$Z$1017,$B110,'Daily Log'!$AA$18:$AA$1017),0)","v":0},{"$f":"IFERROR($E110*SUMIF('Daily Log'!$AC$18:$AC$1017,$B110,'Daily Log'!$AD$18:$AD$1017),0)","v":0},{"$f":"IFERROR($E110*SUMIF('Daily Log'!$AF$18:$AF$1017,$B110,'Daily Log'!$AG$18:$AG$1017),0)","v":0},{"$f":"IFERROR($E110*SUMIF('Daily Log'!$AI$18:$AI$1017,$B110,'Daily Log'!$AJ$18:$AJ$1017),0)","v":0},{"$f":"IFERROR($E110*SUMIF('Daily Log'!$AL$18:$AL$1017,$B110,'Daily Log'!$AM$18:$AM$1017),0)","v":0},{"$f":"IFERROR($E110*SUMIF('Daily Log'!$AO$18:$AO$1017,$B110,'Daily Log'!$AP$18:$AP$1017),0)","v":0},{"$f":"IFERROR($E110*SUMIF('Daily Log'!$AR$18:$AR$1017,$B110,'Daily Log'!$AS$18:$AS$1017),0)","v":0},{"$f":"IFERROR($E110*SUMIF('Daily Log'!$AU$18:$AU$1017,$B110,'Daily Log'!$AV$18:$AV$1017),0)","v":0},{"$f":"IFERROR($E110*SUMIF('Daily Log'!$AX$18:$AX$1017,$B110,'Daily Log'!$AY$18:$AY$1017),0)","v":0},{"$f":"IFERROR($E110*SUMIF('Daily Log'!$BA$18:$BA$1017,$B110,'Daily Log'!$BB$18:$BB$1017),0)","v":0},{"$f":"IFERROR($E110*SUMIF('Daily Log'!$BD$18:$BD$1017,$B110,'Daily Log'!$BE$18:$BE$1017),0)","v":0},{"$f":"IFERROR($E110*SUMIF('Daily Log'!$BG$18:$BG$1017,$B110,'Daily Log'!$BH$18:$BH$1017),0)","v":0},{"$f":"IFERROR($E110*SUMIF('Daily Log'!$BJ$18:$BJ$1017,$B110,'Daily Log'!$BK$18:$BK$1017),0)","v":0},{"$f":"IFERROR($E110*SUMIF('Daily Log'!$BM$18:$BM$1017,$B110,'Daily Log'!$BN$18:$BN$1017),0)","v":0},{"$f":"IFERROR($E110*SUMIF('Daily Log'!$BP$18:$BP$1017,$B110,'Daily Log'!$BQ$18:$BQ$1017),0)","v":0},{"$f":"IFERROR($E110*SUMIF('Daily Log'!$BS$18:$BS$1017,$B110,'Daily Log'!$BT$18:$BT$1017),0)","v":0},{"$f":"IFERROR($E110*SUMIF('Daily Log'!$BV$18:$BV$1017,$B110,'Daily Log'!$BW$18:$BW$1017),0)","v":0},{"$f":"IFERROR($E110*SUMIF('Daily Log'!$BY$18:$BY$1017,$B110,'Daily Log'!$BZ$18:$BZ$1017),0)","v":0},{"$f":"IFERROR($E110*SUMIF('Daily Log'!$CB$18:$CB$1017,$B110,'Daily Log'!$CC$18:$CC$1017),0)","v":0},{"$f":"IFERROR($E110*SUMIF('Daily Log'!$CE$18:$CE$1017,$B110,'Daily Log'!$CF$18:$CF$1017),0)","v":0},{"$f":"IFERROR($E110*SUMIF('Daily Log'!$CH$18:$CH$1017,$B110,'Daily Log'!$CI$18:$CI$1017),0)","v":0},{"$f":"IFERROR($E110*SUMIF('Daily Log'!$CK$18:$CK$1017,$B110,'Daily Log'!$CL$18:$CL$1017),0)","v":0},{"$f":"IFERROR($E110*SUMIF('Daily Log'!$CN$18:$CN$1017,$B110,'Daily Log'!$CO$18:$CO$1017),0)","v":0}]
[null,"AD05 M : LADIES",null,null,1,0,{"$f":"IFERROR($E111*SUMIF('Daily Log'!$B$18:$B$1017,$B111,'Daily Log'!$C$18:$C$1017),0)","v":0},{"$f":"IFERROR($E111*SUMIF('Daily Log'!$E$18:$E$1017,$B111,'Daily Log'!$F$18:$F$1017),0)","v":0},{"$f":"IFERROR($E111*SUMIF('Daily Log'!$H$18:$H$1017,$B111,'Daily Log'!$I$18:$I$1017),0)","v":0},{"$f":"IFERROR($E111*SUMIF('Daily Log'!$K$18:$K$1017,$B111,'Daily Log'!$L$18:$L$1017),0)","v":0},{"$f":"IFERROR($E111*SUMIF('Daily Log'!$N$18:$N$1017,$B111,'Daily Log'!$O$18:$O$1017),0)","v":0},{"$f":"IFERROR($E111*SUMIF('Daily Log'!$Q$18:$Q$1017,$B111,'Daily Log'!$R$18:$R$1017),0)","v":0},{"$f":"IFERROR($E111*SUMIF('Daily Log'!$T$18:$T$1017,$B111,'Daily Log'!$U$18:$U$1017),0)","v":0},{"$f":"IFERROR($E111*SUMIF('Daily Log'!$W$18:$W$1017,$B111,'Daily Log'!$X$18:$X$1017),0)","v":0},{"$f":"IFERROR($E111*SUMIF('Daily Log'!$Z$18:$Z$1017,$B111,'Daily Log'!$AA$18:$AA$1017),0)","v":0},{"$f":"IFERROR($E111*SUMIF('Daily Log'!$AC$18:$AC$1017,$B111,'Daily Log'!$AD$18:$AD$1017),0)","v":0},{"$f":"IFERROR($E111*SUMIF('Daily Log'!$AF$18:$AF$1017,$B111,'Daily Log'!$AG$18:$AG$1017),0)","v":0},{"$f":"IFERROR($E111*SUMIF('Daily Log'!$AI$18:$AI$1017,$B111,'Daily Log'!$AJ$18:$AJ$1017),0)","v":0},{"$f":"IFERROR($E111*SUMIF('Daily Log'!$AL$18:$AL$1017,$B111,'Daily Log'!$AM$18:$AM$1017),0)","v":0},{"$f":"IFERROR($E111*SUMIF('Daily Log'!$AO$18:$AO$1017,$B111,'Daily Log'!$AP$18:$AP$1017),0)","v":0},{"$f":"IFERROR($E111*SUMIF('Daily Log'!$AR$18:$AR$1017,$B111,'Daily Log'!$AS$18:$AS$1017),0)","v":0},{"$f":"IFERROR($E111*SUMIF('Daily Log'!$AU$18:$AU$1017,$B111,'Daily Log'!$AV$18:$AV$1017),0)","v":0},{"$f":"IFERROR($E111*SUMIF('Daily Log'!$AX$18:$AX$1017,$B111,'Daily Log'!$AY$18:$AY$1017),0)","v":0},{"$f":"IFERROR($E111*SUMIF('Daily Log'!$BA$18:$BA$1017,$B111,'Daily Log'!$BB$18:$BB$1017),0)","v":0},{"$f":"IFERROR($E111*SUMIF('Daily Log'!$BD$18:$BD$1017,$B111,'Daily Log'!$BE$18:$BE$1017),0)","v":0},{"$f":"IFERROR($E111*SUMIF('Daily Log'!$BG$18:$BG$1017,$B111,'Daily Log'!$BH$18:$BH$1017),0)","v":0},{"$f":"IFERROR($E111*SUMIF('Daily Log'!$BJ$18:$BJ$1017,$B111,'Daily Log'!$BK$18:$BK$1017),0)","v":0},{"$f":"IFERROR($E111*SUMIF('Daily Log'!$BM$18:$BM$1017,$B111,'Daily Log'!$BN$18:$BN$1017),0)","v":0},{"$f":"IFERROR($E111*SUMIF('Daily Log'!$BP$18:$BP$1017,$B111,'Daily Log'!$BQ$18:$BQ$1017),0)","v":0},{"$f":"IFERROR($E111*SUMIF('Daily Log'!$BS$18:$BS$1017,$B111,'Daily Log'!$BT$18:$BT$1017),0)","v":0},{"$f":"IFERROR($E111*SUMIF('Daily Log'!$BV$18:$BV$1017,$B111,'Daily Log'!$BW$18:$BW$1017),0)","v":0},{"$f":"IFERROR($E111*SUMIF('Daily Log'!$BY$18:$BY$1017,$B111,'Daily Log'!$BZ$18:$BZ$1017),0)","v":0},{"$f":"IFERROR($E111*SUMIF('Daily Log'!$CB$18:$CB$1017,$B111,'Daily Log'!$CC$18:$CC$1017),0)","v":0},{"$f":"IFERROR($E111*SUMIF('Daily Log'!$CE$18:$CE$1017,$B111,'Daily Log'!$CF$18:$CF$1017),0)","v":0},{"$f":"IFERROR($E111*SUMIF('Daily Log'!$CH$18:$CH$1017,$B111,'Daily Log'!$CI$18:$CI$1017),0)","v":0},{"$f":"IFERROR($E111*SUMIF('Daily Log'!$CK$18:$CK$1017,$B111,'Daily Log'!$CL$18:$CL$1017),0)","v":0},{"$f":"IFERROR($E111*SUMIF('Daily Log'!$CN$18:$CN$1017,$B111,'Daily Log'!$CO$18:$CO$1017),0)","v":0}]
[null,"AD06 M : CHILDREN",null,null,1,0,{"$f":"IFERROR($E112*SUMIF('Daily Log'!$B$18:$B$1017,$B112,'Daily Log'!$C$18:$C$1017),0)","v":0},{"$f":"IFERROR($E112*SUMIF('Daily Log'!$E$18:$E$1017,$B112,'Daily Log'!$F$18:$F$1017),0)","v":0},{"$f":"IFERROR($E112*SUMIF('Daily Log'!$H$18:$H$1017,$B112,'Daily Log'!$I$18:$I$1017),0)","v":0},{"$f":"IFERROR($E112*SUMIF('Daily Log'!$K$18:$K$1017,$B112,'Daily Log'!$L$18:$L$1017),0)","v":0},{"$f":"IFERROR($E112*SUMIF('Daily Log'!$N$18:$N$1017,$B112,'Daily Log'!$O$18:$O$1017),0)","v":0},{"$f":"IFERROR($E112*SUMIF('Daily Log'!$Q$18:$Q$1017,$B112,'Daily Log'!$R$18:$R$1017),0)","v":0},{"$f":"IFERROR($E112*SUMIF('Daily Log'!$T$18:$T$1017,$B112,'Daily Log'!$U$18:$U$1017),0)","v":0},{"$f":"IFERROR($E112*SUMIF('Daily Log'!$W$18:$W$1017,$B112,'Daily Log'!$X$18:$X$1017),0)","v":0},{"$f":"IFERROR($E112*SUMIF('Daily Log'!$Z$18:$Z$1017,$B112,'Daily Log'!$AA$18:$AA$1017),0)","v":0},{"$f":"IFERROR($E112*SUMIF('Daily Log'!$AC$18:$AC$1017,$B112,'Daily Log'!$AD$18:$AD$1017),0)","v":0},{"$f":"IFERROR($E112*SUMIF('Daily Log'!$AF$18:$AF$1017,$B112,'Daily Log'!$AG$18:$AG$1017),0)","v":0},{"$f":"IFERROR($E112*SUMIF('Daily Log'!$AI$18:$AI$1017,$B112,'Daily Log'!$AJ$18:$AJ$1017),0)","v":0},{"$f":"IFERROR($E112*SUMIF('Daily Log'!$AL$18:$AL$1017,$B112,'Daily Log'!$AM$18:$AM$1017),0)","v":0},{"$f":"IFERROR($E112*SUMIF('Daily Log'!$AO$18:$AO$1017,$B112,'Daily Log'!$AP$18:$AP$1017),0)","v":0},{"$f":"IFERROR($E112*SUMIF('Daily Log'!$AR$18:$AR$1017,$B112,'Daily Log'!$AS$18:$AS$1017),0)","v":0},{"$f":"IFERROR($E112*SUMIF('Daily Log'!$AU$18:$AU$1017,$B112,'Daily Log'!$AV$18:$AV$1017),0)","v":0},{"$f":"IFERROR($E112*SUMIF('Daily Log'!$AX$18:$AX$1017,$B112,'Daily Log'!$AY$18:$AY$1017),0)","v":0},{"$f":"IFERROR($E112*SUMIF('Daily Log'!$BA$18:$BA$1017,$B112,'Daily Log'!$BB$18:$BB$1017),0)","v":0},{"$f":"IFERROR($E112*SUMIF('Daily Log'!$BD$18:$BD$1017,$B112,'Daily Log'!$BE$18:$BE$1017),0)","v":0},{"$f":"IFERROR($E112*SUMIF('Daily Log'!$BG$18:$BG$1017,$B112,'Daily Log'!$BH$18:$BH$1017),0)","v":0},{"$f":"IFERROR($E112*SUMIF('Daily Log'!$BJ$18:$BJ$1017,$B112,'Daily Log'!$BK$18:$BK$1017),0)","v":0},{"$f":"IFERROR($E112*SUMIF('Daily Log'!$BM$18:$BM$1017,$B112,'Daily Log'!$BN$18:$BN$1017),0)","v":0},{"$f":"IFERROR($E112*SUMIF('Daily Log'!$BP$18:$BP$1017,$B112,'Daily Log'!$BQ$18:$BQ$1017),0)","v":0},{"$f":"IFERROR($E112*SUMIF('Daily Log'!$BS$18:$BS$1017,$B112,'Daily Log'!$BT$18:$BT$1017),0)","v":0},{"$f":"IFERROR($E112*SUMIF('Daily Log'!$BV$18:$BV$1017,$B112,'Daily Log'!$BW$18:$BW$1017),0)","v":0},{"$f":"IFERROR($E112*SUMIF('Daily Log'!$BY$18:$BY$1017,$B112,'Daily Log'!$BZ$18:$BZ$1017),0)","v":0},{"$f":"IFERROR($E112*SUMIF('Daily Log'!$CB$18:$CB$1017,$B112,'Daily Log'!$CC$18:$CC$1017),0)","v":0},{"$f":"IFERROR($E112*SUMIF('Daily Log'!$CE$18:$CE$1017,$B112,'Daily Log'!$CF$18:$CF$1017),0)","v":0},{"$f":"IFERROR($E112*SUMIF('Daily Log'!$CH$18:$CH$1017,$B112,'Daily Log'!$CI$18:$CI$1017),0)","v":0},{"$f":"IFERROR($E112*SUMIF('Daily Log'!$CK$18:$CK$1017,$B112,'Daily Log'!$CL$18:$CL$1017),0)","v":0},{"$f":"IFERROR($E112*SUMIF('Daily Log'!$CN$18:$CN$1017,$B112,'Daily Log'!$CO$18:$CO$1017),0)","v":0}]
[null,"AD07 M : MEMBER B'DAY",null,null,1,0,{"$f":"IFERROR($E113*SUMIF('Daily Log'!$B$18:$B$1017,$B113,'Daily Log'!$C$18:$C$1017),0)","v":0},{"$f":"IFERROR($E113*SUMIF('Daily Log'!$E$18:$E$1017,$B113,'Daily Log'!$F$18:$F$1017),0)","v":0},{"$f":"IFERROR($E113*SUMIF('Daily Log'!$H$18:$H$1017,$B113,'Daily Log'!$I$18:$I$1017),0)","v":0},{"$f":"IFERROR($E113*SUMIF('Daily Log'!$K$18:$K$1017,$B113,'Daily Log'!$L$18:$L$1017),0)","v":0},{"$f":"IFERROR($E113*SUMIF('Daily Log'!$N$18:$N$1017,$B113,'Daily Log'!$O$18:$O$1017),0)","v":0},{"$f":"IFERROR($E113*SUMIF('Daily Log'!$Q$18:$Q$1017,$B113,'Daily Log'!$R$18:$R$1017),0)","v":0},{"$f":"IFERROR($E113*SUMIF('Daily Log'!$T$18:$T$1017,$B113,'Daily Log'!$U$18:$U$1017),0)","v":0},{"$f":"IFERROR($E113*SUMIF('Daily Log'!$W$18:$W$1017,$B113,'Daily Log'!$X$18:$X$1017),0)","v":0},{"$f":"IFERROR($E113*SUMIF('Daily Log'!$Z$18:$Z$1017,$B113,'Daily Log'!$AA$18:$AA$1017),0)","v":0},{"$f":"IFERROR($E113*SUMIF('Daily Log'!$AC$18:$AC$1017,$B113,'Daily Log'!$AD$18:$AD$1017),0)","v":0},{"$f":"IFERROR($E113*SUMIF('Daily Log'!$AF$18:$AF$1017,$B113,'Daily Log'!$AG$18:$AG$1017),0)","v":0},{"$f":"IFERROR($E113*SUMIF('Daily Log'!$AI$18:$AI$1017,$B113,'Daily Log'!$AJ$18:$AJ$1017),0)","v":0},{"$f":"IFERROR($E113*SUMIF('Daily Log'!$AL$18:$AL$1017,$B113,'Daily Log'!$AM$18:$AM$1017),0)","v":0},{"$f":"IFERROR($E113*SUMIF('Daily Log'!$AO$18:$AO$1017,$B113,'Daily Log'!$AP$18:$AP$1017),0)","v":0},{"$f":"IFERROR($E113*SUMIF('Daily Log'!$AR$18:$AR$1017,$B113,'Daily Log'!$AS$18:$AS$1017),0)","v":0},{"$f":"IFERROR($E113*SUMIF('Daily Log'!$AU$18:$AU$1017,$B113,'Daily Log'!$AV$18:$AV$1017),0)","v":0},{"$f":"IFERROR($E113*SUMIF('Daily Log'!$AX$18:$AX$1017,$B113,'Daily Log'!$AY$18:$AY$1017),0)","v":0},{"$f":"IFERROR($E113*SUMIF('Daily Log'!$BA$18:$BA$1017,$B113,'Daily Log'!$BB$18:$BB$1017),0)","v":0},{"$f":"IFERROR($E113*SUMIF('Daily Log'!$BD$18:$BD$1017,$B113,'Daily Log'!$BE$18:$BE$1017),0)","v":0},{"$f":"IFERROR($E113*SUMIF('Daily Log'!$BG$18:$BG$1017,$B113,'Daily Log'!$BH$18:$BH$1017),0)","v":0},{"$f":"IFERROR($E113*SUMIF('Daily Log'!$BJ$18:$BJ$1017,$B113,'Daily Log'!$BK$18:$BK$1017),0)","v":0},{"$f":"IFERROR($E113*SUMIF('Daily Log'!$BM$18:$BM$1017,$B113,'Daily Log'!$BN$18:$BN$1017),0)","v":0},{"$f":"IFERROR($E113*SUMIF('Daily Log'!$BP$18:$BP$1017,$B113,'Daily Log'!$BQ$18:$BQ$1017),0)","v":0},{"$f":"IFERROR($E113*SUMIF('Daily Log'!$BS$18:$BS$1017,$B113,'Daily Log'!$BT$18:$BT$1017),0)","v":0},{"$f":"IFERROR($E113*SUMIF('Daily Log'!$BV$18:$BV$1017,$B113,'Daily Log'!$BW$18:$BW$1017),0)","v":0},{"$f":"IFERROR($E113*SUMIF('Daily Log'!$BY$18:$BY$1017,$B113,'Daily Log'!$BZ$18:$BZ$1017),0)","v":0},{"$f":"IFERROR($E113*SUMIF('Daily Log'!$CB$18:$CB$1017,$B113,'Daily Log'!$CC$18:$CC$1017),0)","v":0},{"$f":"IFERROR($E113*SUMIF('Daily Log'!$CE$18:$CE$1017,$B113,'Daily Log'!$CF$18:$CF$1017),0)","v":0},{"$f":"IFERROR($E113*SUMIF('Daily Log'!$CH$18:$CH$1017,$B113,'Daily Log'!$CI$18:$CI$1017),0)","v":0},{"$f":"IFERROR($E113*SUMIF('Daily Log'!$CK$18:$CK$1017,$B113,'Daily Log'!$CL$18:$CL$1017),0)","v":0},{"$f":"IFERROR($E113*SUMIF('Daily Log'!$CN$18:$CN$1017,$B113,'Daily Log'!$CO$18:$CO$1017),0)","v":0}]
[null,"AD08 M : STAFF B'DAY",null,null,1,0,{"$f":"IFERROR($E114*SUMIF('Daily Log'!$B$18:$B$1017,$B114,'Daily Log'!$C$18:$C$1017),0)","v":0},{"$f":"IFERROR($E114*SUMIF('Daily Log'!$E$18:$E$1017,$B114,'Daily Log'!$F$18:$F$1017),0)","v":0},{"$f":"IFERROR($E114*SUMIF('Daily Log'!$H$18:$H$1017,$B114,'Daily Log'!$I$18:$I$1017),0)","v":0},{"$f":"IFERROR($E114*SUMIF('Daily Log'!$K$18:$K$1017,$B114,'Daily Log'!$L$18:$L$1017),0)","v":0},{"$f":"IFERROR($E114*SUMIF('Daily Log'!$N$18:$N$1017,$B114,'Daily Log'!$O$18:$O$1017),0)","v":0},{"$f":"IFERROR($E114*SUMIF('Daily Log'!$Q$18:$Q$1017,$B114,'Daily Log'!$R$18:$R$1017),0)","v":0},{"$f":"IFERROR($E114*SUMIF('Daily Log'!$T$18:$T$1017,$B114,'Daily Log'!$U$18:$U$1017),0)","v":0},{"$f":"IFERROR($E114*SUMIF('Daily Log'!$W$18:$W$1017,$B114,'Daily Log'!$X$18:$X$1017),0)","v":0},{"$f":"IFERROR($E114*SUMIF('Daily Log'!$Z$18:$Z$1017,$B114,'Daily Log'!$AA$18:$AA$1017),0)","v":0},{"$f":"IFERROR($E114*SUMIF('Daily Log'!$AC$18:$AC$1017,$B114,'Daily Log'!$AD$18:$AD$1017),0)","v":0},{"$f":"IFERROR($E114*SUMIF('Daily Log'!$AF$18:$AF$1017,$B114,'Daily Log'!$AG$18:$AG$1017),0)","v":0},{"$f":"IFERROR($E114*SUMIF('Daily Log'!$AI$18:$AI$1017,$B114,'Daily Log'!$AJ$18:$AJ$1017),0)","v":0},{"$f":"IFERROR($E114*SUMIF('Daily Log'!$AL$18:$AL$1017,$B114,'Daily Log'!$AM$18:$AM$1017),0)","v":0},{"$f":"IFERROR($E114*SUMIF('Daily Log'!$AO$18:$AO$1017,$B114,'Daily Log'!$AP$18:$AP$1017),0)","v":0},{"$f":"IFERROR($E114*SUMIF('Daily Log'!$AR$18:$AR$1017,$B114,'Daily Log'!$AS$18:$AS$1017),0)","v":0},{"$f":"IFERROR($E114*SUMIF('Daily Log'!$AU$18:$AU$1017,$B114,'Daily Log'!$AV$18:$AV$1017),0)","v":0},{"$f":"IFERROR($E114*SUMIF('Daily Log'!$AX$18:$AX$1017,$B114,'Daily Log'!$AY$18:$AY$1017),0)","v":0},{"$f":"IFERROR($E114*SUMIF('Daily Log'!$BA$18:$BA$1017,$B114,'Daily Log'!$BB$18:$BB$1017),0)","v":0},{"$f":"IFERROR($E114*SUMIF('Daily Log'!$BD$18:$BD$1017,$B114,'Daily Log'!$BE$18:$BE$1017),0)","v":0},{"$f":"IFERROR($E114*SUMIF('Daily Log'!$BG$18:$BG$1017,$B114,'Daily Log'!$BH$18:$BH$1017),0)","v":0},{"$f":"IFERROR($E114*SUMIF('Daily Log'!$BJ$18:$BJ$1017,$B114,'Daily Log'!$BK$18:$BK$1017),0)","v":0},{"$f":"IFERROR($E114*SUMIF('Daily Log'!$BM$18:$BM$1017,$B114,'Daily Log'!$BN$18:$BN$1017),0)","v":0},{"$f":"IFERROR($E114*SUMIF('Daily Log'!$BP$18:$BP$1017,$B114,'Daily Log'!$BQ$18:$BQ$1017),0)","v":0},{"$f":"IFERROR($E114*SUMIF('Daily Log'!$BS$18:$BS$1017,$B114,'Daily Log'!$BT$18:$BT$1017),0)","v":0},{"$f":"IFERROR($E114*SUMIF('Daily Log'!$BV$18:$BV$1017,$B114,'Daily Log'!$BW$18:$BW$1017),0)","v":0},{"$f":"IFERROR($E114*SUMIF('Daily Log'!$BY$18:$BY$1017,$B114,'Daily Log'!$BZ$18:$BZ$1017),0)","v":0},{"$f":"IFERROR($E114*SUMIF('Daily Log'!$CB$18:$CB$1017,$B114,'Daily Log'!$CC$18:$CC$1017),0)","v":0},{"$f":"IFERROR($E114*SUMIF('Daily Log'!$CE$18:$CE$1017,$B114,'Daily Log'!$CF$18:$CF$1017),0)","v":0},{"$f":"IFERROR($E114*SUMIF('Daily Log'!$CH$18:$CH$1017,$B114,'Daily Log'!$CI$18:$CI$1017),0)","v":0},{"$f":"IFERROR($E114*SUMIF('Daily Log'!$CK$18:$CK$1017,$B114,'Daily Log'!$CL$18:$CL$1017),0)","v":0},{"$f":"IFERROR($E114*SUMIF('Daily Log'!$CN$18:$CN$1017,$B114,'Daily Log'!$CO$18:$CO$1017),0)","v":0}]
[null,"AD09 M : FREEHEAD (B)",null,null,1,0,{"$f":"IFERROR($E115*SUMIF('Daily Log'!$B$18:$B$1017,$B115,'Daily Log'!$C$18:$C$1017),0)","v":0},{"$f":"IFERROR($E115*SUMIF('Daily Log'!$E$18:$E$1017,$B115,'Daily Log'!$F$18:$F$1017),0)","v":0},{"$f":"IFERROR($E115*SUMIF('Daily Log'!$H$18:$H$1017,$B115,'Daily Log'!$I$18:$I$1017),0)","v":0},{"$f":"IFERROR($E115*SUMIF('Daily Log'!$K$18:$K$1017,$B115,'Daily Log'!$L$18:$L$1017),0)","v":0},{"$f":"IFERROR($E115*SUMIF('Daily Log'!$N$18:$N$1017,$B115,'Daily Log'!$O$18:$O$1017),0)","v":0},{"$f":"IFERROR($E115*SUMIF('Daily Log'!$Q$18:$Q$1017,$B115,'Daily Log'!$R$18:$R$1017),0)","v":0},{"$f":"IFERROR($E115*SUMIF('Daily Log'!$T$18:$T$1017,$B115,'Daily Log'!$U$18:$U$1017),0)","v":0},{"$f":"IFERROR($E115*SUMIF('Daily Log'!$W$18:$W$1017,$B115,'Daily Log'!$X$18:$X$1017),0)","v":0},{"$f":"IFERROR($E115*SUMIF('Daily Log'!$Z$18:$Z$1017,$B115,'Daily Log'!$AA$18:$AA$1017),0)","v":0},{"$f":"IFERROR($E115*SUMIF('Daily Log'!$AC$18:$AC$1017,$B115,'Daily Log'!$AD$18:$AD$1017),0)","v":0},{"$f":"IFERROR($E115*SUMIF('Daily Log'!$AF$18:$AF$1017,$B115,'Daily Log'!$AG$18:$AG$1017),0)","v":0},{"$f":"IFERROR($E115*SUMIF('Daily Log'!$AI$18:$AI$1017,$B115,'Daily Log'!$AJ$18:$AJ$1017),0)","v":0},{"$f":"IFERROR($E115*SUMIF('Daily Log'!$AL$18:$AL$1017,$B115,'Daily Log'!$AM$18:$AM$1017),0)","v":0},{"$f":"IFERROR($E115*SUMIF('Daily Log'!$AO$18:$AO$1017,$B115,'Daily Log'!$AP$18:$AP$1017),0)","v":0},{"$f":"IFERROR($E115*SUMIF('Daily Log'!$AR$18:$AR$1017,$B115,'Daily Log'!$AS$18:$AS$1017),0)","v":0},{"$f":"IFERROR($E115*SUMIF('Daily Log'!$AU$18:$AU$1017,$B115,'Daily Log'!$AV$18:$AV$1017),0)","v":0},{"$f":"IFERROR($E115*SUMIF('Daily Log'!$AX$18:$AX$1017,$B115,'Daily Log'!$AY$18:$AY$1017),0)","v":0},{"$f":"IFERROR($E115*SUMIF('Daily Log'!$BA$18:$BA$1017,$B115,'Daily Log'!$BB$18:$BB$1017),0)","v":0},{"$f":"IFERROR($E115*SUMIF('Daily Log'!$BD$18:$BD$1017,$B115,'Daily Log'!$BE$18:$BE$1017),0)","v":0},{"$f":"IFERROR($E115*SUMIF('Daily Log'!$BG$18:$BG$1017,$B115,'Daily Log'!$BH$18:$BH$1017),0)","v":0},{"$f":"IFERROR($E115*SUMIF('Daily Log'!$BJ$18:$BJ$1017,$B115,'Daily Log'!$BK$18:$BK$1017),0)","v":0},{"$f":"IFERROR($E115*SUMIF('Daily Log'!$BM$18:$BM$1017,$B115,'Daily Log'!$BN$18:$BN$1017),0)","v":0},{"$f":"IFERROR($E115*SUMIF('Daily Log'!$BP$18:$BP$1017,$B115,'Daily Log'!$BQ$18:$BQ$1017),0)","v":0},{"$f":"IFERROR($E115*SUMIF('Daily Log'!$BS$18:$BS$1017,$B115,'Daily Log'!$BT$18:$BT$1017),0)","v":0},{"$f":"IFERROR($E115*SUMIF('Daily Log'!$BV$18:$BV$1017,$B115,'Daily Log'!$BW$18:$BW$1017),0)","v":0},{"$f":"IFERROR($E115*SUMIF('Daily Log'!$BY$18:$BY$1017,$B115,'Daily Log'!$BZ$18:$BZ$1017),0)","v":0},{"$f":"IFERROR($E115*SUMIF('Daily Log'!$CB$18:$CB$1017,$B115,'Daily Log'!$CC$18:$CC$1017),0)","v":0},{"$f":"IFERROR($E115*SUMIF('Daily Log'!$CE$18:$CE$1017,$B115,'Daily Log'!$CF$18:$CF$1017),0)","v":0},{"$f":"IFERROR($E115*SUMIF('Daily Log'!$CH$18:$CH$1017,$B115,'Daily Log'!$CI$18:$CI$1017),0)","v":0},{"$f":"IFERROR($E115*SUMIF('Daily Log'!$CK$18:$CK$1017,$B115,'Daily Log'!$CL$18:$CL$1017),0)","v":0},{"$f":"IFERROR($E115*SUMIF('Daily Log'!$CN$18:$CN$1017,$B115,'Daily Log'!$CO$18:$CO$1017),0)","v":0}]
[null,"AD10 Father",null,null,1,0,{"$f":"IFERROR($E116*SUMIF('Daily Log'!$B$18:$B$1017,$B116,'Daily Log'!$C$18:$C$1017),0)","v":0},{"$f":"IFERROR($E116*SUMIF('Daily Log'!$E$18:$E$1017,$B116,'Daily Log'!$F$18:$F$1017),0)","v":0},{"$f":"IFERROR($E116*SUMIF('Daily Log'!$H$18:$H$1017,$B116,'Daily Log'!$I$18:$I$1017),0)","v":0},{"$f":"IFERROR($E116*SUMIF('Daily Log'!$K$18:$K$1017,$B116,'Daily Log'!$L$18:$L$1017),0)","v":0},{"$f":"IFERROR($E116*SUMIF('Daily Log'!$N$18:$N$1017,$B116,'Daily Log'!$O$18:$O$1017),0)","v":0},{"$f":"IFERROR($E116*SUMIF('Daily Log'!$Q$18:$Q$1017,$B116,'Daily Log'!$R$18:$R$1017),0)","v":0},{"$f":"IFERROR($E116*SUMIF('Daily Log'!$T$18:$T$1017,$B116,'Daily Log'!$U$18:$U$1017),0)","v":0},{"$f":"IFERROR($E116*SUMIF('Daily Log'!$W$18:$W$1017,$B116,'Daily Log'!$X$18:$X$1017),0)","v":0},{"$f":"IFERROR($E116*SUMIF('Daily Log'!$Z$18:$Z$1017,$B116,'Daily Log'!$AA$18:$AA$1017),0)","v":0},{"$f":"IFERROR($E116*SUMIF('Daily Log'!$AC$18:$AC$1017,$B116,'Daily Log'!$AD$18:$AD$1017),0)","v":0},{"$f":"IFERROR($E116*SUMIF('Daily Log'!$AF$18:$AF$1017,$B116,'Daily Log'!$AG$18:$AG$1017),0)","v":0},{"$f":"IFERROR($E116*SUMIF('Daily Log'!$AI$18:$AI$1017,$B116,'Daily Log'!$AJ$18:$AJ$1017),0)","v":0},{"$f":"IFERROR($E116*SUMIF('Daily Log'!$AL$18:$AL$1017,$B116,'Daily Log'!$AM$18:$AM$1017),0)","v":0},{"$f":"IFERROR($E116*SUMIF('Daily Log'!$AO$18:$AO$1017,$B116,'Daily Log'!$AP$18:$AP$1017),0)","v":0},{"$f":"IFERROR($E116*SUMIF('Daily Log'!$AR$18:$AR$1017,$B116,'Daily Log'!$AS$18:$AS$1017),0)","v":0},{"$f":"IFERROR($E116*SUMIF('Daily Log'!$AU$18:$AU$1017,$B116,'Daily Log'!$AV$18:$AV$1017),0)","v":0},{"$f":"IFERROR($E116*SUMIF('Daily Log'!$AX$18:$AX$1017,$B116,'Daily Log'!$AY$18:$AY$1017),0)","v":0},{"$f":"IFERROR($E116*SUMIF('Daily Log'!$BA$18:$BA$1017,$B116,'Daily Log'!$BB$18:$BB$1017),0)","v":0},{"$f":"IFERROR($E116*SUMIF('Daily Log'!$BD$18:$BD$1017,$B116,'Daily Log'!$BE$18:$BE$1017),0)","v":0},{"$f":"IFERROR($E116*SUMIF('Daily Log'!$BG$18:$BG$1017,$B116,'Daily Log'!$BH$18:$BH$1017),0)","v":0},{"$f":"IFERROR($E116*SUMIF('Daily Log'!$BJ$18:$BJ$1017,$B116,'Daily Log'!$BK$18:$BK$1017),0)","v":0},{"$f":"IFERROR($E116*SUMIF('Daily Log'!$BM$18:$BM$1017,$B116,'Daily Log'!$BN$18:$BN$1017),0)","v":0},{"$f":"IFERROR($E116*SUMIF('Daily Log'!$BP$18:$BP$1017,$B116,'Daily Log'!$BQ$18:$BQ$1017),0)","v":0},{"$f":"IFERROR($E116*SUMIF('Daily Log'!$BS$18:$BS$1017,$B116,'Daily Log'!$BT$18:$BT$1017),0)","v":0},{"$f":"IFERROR($E116*SUMIF('Daily Log'!$BV$18:$BV$1017,$B116,'Daily Log'!$BW$18:$BW$1017),0)","v":0},{"$f":"IFERROR($E116*SUMIF('Daily Log'!$BY$18:$BY$1017,$B116,'Daily Log'!$BZ$18:$BZ$1017),0)","v":0},{"$f":"IFERROR($E116*SUMIF('Daily Log'!$CB$18:$CB$1017,$B116,'Daily Log'!$CC$18:$CC$1017),0)","v":0},{"$f":"IFERROR($E116*SUMIF('Daily Log'!$CE$18:$CE$1017,$B116,'Daily Log'!$CF$18:$CF$1017),0)","v":0},{"$f":"IFERROR($E116*SUMIF('Daily Log'!$CH$18:$CH$1017,$B116,'Daily Log'!$CI$18:$CI$1017),0)","v":0},{"$f":"IFERROR($E116*SUMIF('Daily Log'!$CK$18:$CK$1017,$B116,'Daily Log'!$CL$18:$CL$1017),0)","v":0},{"$f":"IFERROR($E116*SUMIF('Daily Log'!$CN$18:$CN$1017,$B116,'Daily Log'!$CO$18:$CO$1017),0)","v":0}]
[null,"AD11 M : FREEHEAD (R)",null,null,1,0,{"$f":"IFERROR($E117*SUMIF('Daily Log'!$B$18:$B$1017,$B117,'Daily Log'!$C$18:$C$1017),0)","v":0},{"$f":"IFERROR($E117*SUMIF('Daily Log'!$E$18:$E$1017,$B117,'Daily Log'!$F$18:$F$1017),0)","v":0},{"$f":"IFERROR($E117*SUMIF('Daily Log'!$H$18:$H$1017,$B117,'Daily Log'!$I$18:$I$1017),0)","v":0},{"$f":"IFERROR($E117*SUMIF('Daily Log'!$K$18:$K$1017,$B117,'Daily Log'!$L$18:$L$1017),0)","v":0},{"$f":"IFERROR($E117*SUMIF('Daily Log'!$N$18:$N$1017,$B117,'Daily Log'!$O$18:$O$1017),0)","v":0},{"$f":"IFERROR($E117*SUMIF('Daily Log'!$Q$18:$Q$1017,$B117,'Daily Log'!$R$18:$R$1017),0)","v":0},{"$f":"IFERROR($E117*SUMIF('Daily Log'!$T$18:$T$1017,$B117,'Daily Log'!$U$18:$U$1017),0)","v":0},{"$f":"IFERROR($E117*SUMIF('Daily Log'!$W$18:$W$1017,$B117,'Daily Log'!$X$18:$X$1017),0)","v":0},{"$f":"IFERROR($E117*SUMIF('Daily Log'!$Z$18:$Z$1017,$B117,'Daily Log'!$AA$18:$AA$1017),0)","v":0},{"$f":"IFERROR($E117*SUMIF('Daily Log'!$AC$18:$AC$1017,$B117,'Daily Log'!$AD$18:$AD$1017),0)","v":0},{"$f":"IFERROR($E117*SUMIF('Daily Log'!$AF$18:$AF$1017,$B117,'Daily Log'!$AG$18:$AG$1017),0)","v":0},{"$f":"IFERROR($E117*SUMIF('Daily Log'!$AI$18:$AI$1017,$B117,'Daily Log'!$AJ$18:$AJ$1017),0)","v":0},{"$f":"IFERROR($E117*SUMIF('Daily Log'!$AL$18:$AL$1017,$B117,'Daily Log'!$AM$18:$AM$1017),0)","v":0},{"$f":"IFERROR($E117*SUMIF('Daily Log'!$AO$18:$AO$1017,$B117,'Daily Log'!$AP$18:$AP$1017),0)","v":0},{"$f":"IFERROR($E117*SUMIF('Daily Log'!$AR$18:$AR$1017,$B117,'Daily Log'!$AS$18:$AS$1017),0)","v":0},{"$f":"IFERROR($E117*SUMIF('Daily Log'!$AU$18:$AU$1017,$B117,'Daily Log'!$AV$18:$AV$1017),0)","v":0},{"$f":"IFERROR($E117*SUMIF('Daily Log'!$AX$18:$AX$1017,$B117,'Daily Log'!$AY$18:$AY$1017),0)","v":0},{"$f":"IFERROR($E117*SUMIF('Daily Log'!$BA$18:$BA$1017,$B117,'Daily Log'!$BB$18:$BB$1017),0)","v":0},{"$f":"IFERROR($E117*SUMIF('Daily Log'!$BD$18:$BD$1017,$B117,'Daily Log'!$BE$18:$BE$1017),0)","v":0},{"$f":"IFERROR($E117*SUMIF('Daily Log'!$BG$18:$BG$1017,$B117,'Daily Log'!$BH$18:$BH$1017),0)","v":0},{"$f":"IFERROR($E117*SUMIF('Daily Log'!$BJ$18:$BJ$1017,$B117,'Daily Log'!$BK$18:$BK$1017),0)","v":0},{"$f":"IFERROR($E117*SUMIF('Daily Log'!$BM$18:$BM$1017,$B117,'Daily Log'!$BN$18:$BN$1017),0)","v":0},{"$f":"IFERROR($E117*SUMIF('Daily Log'!$BP$18:$BP$1017,$B117,'Daily Log'!$BQ$18:$BQ$1017),0)","v":0},{"$f":"IFERROR($E117*SUMIF('Daily Log'!$BS$18:$BS$1017,$B117,'Daily Log'!$BT$18:$BT$1017),0)","v":0},{"$f":"IFERROR($E117*SUMIF('Daily Log'!$BV$18:$BV$1017,$B117,'Daily Log'!$BW$18:$BW$1017),0)","v":0},{"$f":"IFERROR($E117*SUMIF('Daily Log'!$BY$18:$BY$1017,$B117,'Daily Log'!$BZ$18:$BZ$1017),0)","v":0},{"$f":"IFERROR($E117*SUMIF('Daily Log'!$CB$18:$CB$1017,$B117,'Daily Log'!$CC$18:$CC$1017),0)","v":0},{"$f":"IFERROR($E117*SUMIF('Daily Log'!$CE$18:$CE$1017,$B117,'Daily Log'!$CF$18:$CF$1017),0)","v":0},{"$f":"IFERROR($E117*SUMIF('Daily Log'!$CH$18:$CH$1017,$B117,'Daily Log'!$CI$18:$CI$1017),0)","v":0},{"$f":"IFERROR($E117*SUMIF('Daily Log'!$CK$18:$CK$1017,$B117,'Daily Log'!$CL$18:$CL$1017),0)","v":0},{"$f":"IFERROR($E117*SUMIF('Daily Log'!$CN$18:$CN$1017,$B117,'Daily Log'!$CO$18:$CO$1017),0)","v":0}]
[null,"AD12 M : 3+1",null,null,1,0,{"$f":"IFERROR($E118*SUMIF('Daily Log'!$B$18:$B$1017,$B118,'Daily Log'!$C$18:$C$1017),0)","v":0},{"$f":"IFERROR($E118*SUMIF('Daily Log'!$E$18:$E$1017,$B118,'Daily Log'!$F$18:$F$1017),0)","v":0},{"$f":"IFERROR($E118*SUMIF('Daily Log'!$H$18:$H$1017,$B118,'Daily Log'!$I$18:$I$1017),0)","v":0},{"$f":"IFERROR($E118*SUMIF('Daily Log'!$K$18:$K$1017,$B118,'Daily Log'!$L$18:$L$1017),0)","v":0},{"$f":"IFERROR($E118*SUMIF('Daily Log'!$N$18:$N$1017,$B118,'Daily Log'!$O$18:$O$1017),0)","v":0},{"$f":"IFERROR($E118*SUMIF('Daily Log'!$Q$18:$Q$1017,$B118,'Daily Log'!$R$18:$R$1017),0)","v":0},{"$f":"IFERROR($E118*SUMIF('Daily Log'!$T$18:$T$1017,$B118,'Daily Log'!$U$18:$U$1017),0)","v":0},{"$f":"IFERROR($E118*SUMIF('Daily Log'!$W$18:$W$1017,$B118,'Daily Log'!$X$18:$X$1017),0)","v":0},{"$f":"IFERROR($E118*SUMIF('Daily Log'!$Z$18:$Z$1017,$B118,'Daily Log'!$AA$18:$AA$1017),0)","v":0},{"$f":"IFERROR($E118*SUMIF('Daily Log'!$AC$18:$AC$1017,$B118,'Daily Log'!$AD$18:$AD$1017),0)","v":0},{"$f":"IFERROR($E118*SUMIF('Daily Log'!$AF$18:$AF$1017,$B118,'Daily Log'!$AG$18:$AG$1017),0)","v":0},{"$f":"IFERROR($E118*SUMIF('Daily Log'!$AI$18:$AI$1017,$B118,'Daily Log'!$AJ$18:$AJ$1017),0)","v":0},{"$f":"IFERROR($E118*SUMIF('Daily Log'!$AL$18:$AL$1017,$B118,'Daily Log'!$AM$18:$AM$1017),0)","v":0},{"$f":"IFERROR($E118*SUMIF('Daily Log'!$AO$18:$AO$1017,$B118,'Daily Log'!$AP$18:$AP$1017),0)","v":0},{"$f":"IFERROR($E118*SUMIF('Daily Log'!$AR$18:$AR$1017,$B118,'Daily Log'!$AS$18:$AS$1017),0)","v":0},{"$f":"IFERROR($E118*SUMIF('Daily Log'!$AU$18:$AU$1017,$B118,'Daily Log'!$AV$18:$AV$1017),0)","v":0},{"$f":"IFERROR($E118*SUMIF('Daily Log'!$AX$18:$AX$1017,$B118,'Daily Log'!$AY$18:$AY$1017),0)","v":0},{"$f":"IFERROR($E118*SUMIF('Daily Log'!$BA$18:$BA$1017,$B118,'Daily Log'!$BB$18:$BB$1017),0)","v":0},{"$f":"IFERROR($E118*SUMIF('Daily Log'!$BD$18:$BD$1017,$B118,'Daily Log'!$BE$18:$BE$1017),0)","v":0},{"$f":"IFERROR($E118*SUMIF('Daily Log'!$BG$18:$BG$1017,$B118,'Daily Log'!$BH$18:$BH$1017),0)","v":0},{"$f":"IFERROR($E118*SUMIF('Daily Log'!$BJ$18:$BJ$1017,$B118,'Daily Log'!$BK$18:$BK$1017),0)","v":0},{"$f":"IFERROR($E118*SUMIF('Daily Log'!$BM$18:$BM$1017,$B118,'Daily Log'!$BN$18:$BN$1017),0)","v":0},{"$f":"IFERROR($E118*SUMIF('Daily Log'!$BP$18:$BP$1017,$B118,'Daily Log'!$BQ$18:$BQ$1017),0)","v":0},{"$f":"IFERROR($E118*SUMIF('Daily Log'!$BS$18:$BS$1017,$B118,'Daily Log'!$BT$18:$BT$1017),0)","v":0},{"$f":"IFERROR($E118*SUMIF('Daily Log'!$BV$18:$BV$1017,$B118,'Daily Log'!$BW$18:$BW$1017),0)","v":0},{"$f":"IFERROR($E118*SUMIF('Daily Log'!$BY$18:$BY$1017,$B118,'Daily Log'!$BZ$18:$BZ$1017),0)","v":0},{"$f":"IFERROR($E118*SUMIF('Daily Log'!$CB$18:$CB$1017,$B118,'Daily Log'!$CC$18:$CC$1017),0)","v":0},{"$f":"IFERROR($E118*SUMIF('Daily Log'!$CE$18:$CE$1017,$B118,'Daily Log'!$CF$18:$CF$1017),0)","v":0},{"$f":"IFERROR($E118*SUMIF('Daily Log'!$CH$18:$CH$1017,$B118,'Daily Log'!$CI$18:$CI$1017),0)","v":0},{"$f":"IFERROR($E118*SUMIF('Daily Log'!$CK$18:$CK$1017,$B118,'Daily Log'!$CL$18:$CL$1017),0)","v":0},{"$f":"IFERROR($E118*SUMIF('Daily Log'!$CN$18:$CN$1017,$B118,'Daily Log'!$CO$18:$CO$1017),0)","v":0}]
[null,"AD13 M : PROMOTION",null,null,1,0,{"$f":"IFERROR($E119*SUMIF('Daily Log'!$B$18:$B$1017,$B119,'Daily Log'!$C$18:$C$1017),0)","v":0},{"$f":"IFERROR($E119*SUMIF('Daily Log'!$E$18:$E$1017,$B119,'Daily Log'!$F$18:$F$1017),0)","v":0},{"$f":"IFERROR($E119*SUMIF('Daily Log'!$H$18:$H$1017,$B119,'Daily Log'!$I$18:$I$1017),0)","v":0},{"$f":"IFERROR($E119*SUMIF('Daily Log'!$K$18:$K$1017,$B119,'Daily Log'!$L$18:$L$1017),0)","v":0},{"$f":"IFERROR($E119*SUMIF('Daily Log'!$N$18:$N$1017,$B119,'Daily Log'!$O$18:$O$1017),0)","v":0},{"$f":"IFERROR($E119*SUMIF('Daily Log'!$Q$18:$Q$1017,$B119,'Daily Log'!$R$18:$R$1017),0)","v":0},{"$f":"IFERROR($E119*SUMIF('Daily Log'!$T$18:$T$1017,$B119,'Daily Log'!$U$18:$U$1017),0)","v":0},{"$f":"IFERROR($E119*SUMIF('Daily Log'!$W$18:$W$1017,$B119,'Daily Log'!$X$18:$X$1017),0)","v":0},{"$f":"IFERROR($E119*SUMIF('Daily Log'!$Z$18:$Z$1017,$B119,'Daily Log'!$AA$18:$AA$1017),0)","v":0},{"$f":"IFERROR($E119*SUMIF('Daily Log'!$AC$18:$AC$1017,$B119,'Daily Log'!$AD$18:$AD$1017),0)","v":0},{"$f":"IFERROR($E119*SUMIF('Daily Log'!$AF$18:$AF$1017,$B119,'Daily Log'!$AG$18:$AG$1017),0)","v":0},{"$f":"IFERROR($E119*SUMIF('Daily Log'!$AI$18:$AI$1017,$B119,'Daily Log'!$AJ$18:$AJ$1017),0)","v":0},{"$f":"IFERROR($E119*SUMIF('Daily Log'!$AL$18:$AL$1017,$B119,'Daily Log'!$AM$18:$AM$1017),0)","v":0},{"$f":"IFERROR($E119*SUMIF('Daily Log'!$AO$18:$AO$1017,$B119,'Daily Log'!$AP$18:$AP$1017),0)","v":0},{"$f":"IFERROR($E119*SUMIF('Daily Log'!$AR$18:$AR$1017,$B119,'Daily Log'!$AS$18:$AS$1017),0)","v":0},{"$f":"IFERROR($E119*SUMIF('Daily Log'!$AU$18:$AU$1017,$B119,'Daily Log'!$AV$18:$AV$1017),0)","v":0},{"$f":"IFERROR($E119*SUMIF('Daily Log'!$AX$18:$AX$1017,$B119,'Daily Log'!$AY$18:$AY$1017),0)","v":0},{"$f":"IFERROR($E119*SUMIF('Daily Log'!$BA$18:$BA$1017,$B119,'Daily Log'!$BB$18:$BB$1017),0)","v":0},{"$f":"IFERROR($E119*SUMIF('Daily Log'!$BD$18:$BD$1017,$B119,'Daily Log'!$BE$18:$BE$1017),0)","v":0},{"$f":"IFERROR($E119*SUMIF('Daily Log'!$BG$18:$BG$1017,$B119,'Daily Log'!$BH$18:$BH$1017),0)","v":0},{"$f":"IFERROR($E119*SUMIF('Daily Log'!$BJ$18:$BJ$1017,$B119,'Daily Log'!$BK$18:$BK$1017),0)","v":0},{"$f":"IFERROR($E119*SUMIF('Daily Log'!$BM$18:$BM$1017,$B119,'Daily Log'!$BN$18:$BN$1017),0)","v":0},{"$f":"IFERROR($E119*SUMIF('Daily Log'!$BP$18:$BP$1017,$B119,'Daily Log'!$BQ$18:$BQ$1017),0)","v":0},{"$f":"IFERROR($E119*SUMIF('Daily Log'!$BS$18:$BS$1017,$B119,'Daily Log'!$BT$18:$BT$1017),0)","v":0},{"$f":"IFERROR($E119*SUMIF('Daily Log'!$BV$18:$BV$1017,$B119,'Daily Log'!$BW$18:$BW$1017),0)","v":0},{"$f":"IFERROR($E119*SUMIF('Daily Log'!$BY$18:$BY$1017,$B119,'Daily Log'!$BZ$18:$BZ$1017),0)","v":0},{"$f":"IFERROR($E119*SUMIF('Daily Log'!$CB$18:$CB$1017,$B119,'Daily Log'!$CC$18:$CC$1017),0)","v":0},{"$f":"IFERROR($E119*SUMIF('Daily Log'!$CE$18:$CE$1017,$B119,'Daily Log'!$CF$18:$CF$1017),0)","v":0},{"$f":"IFERROR($E119*SUMIF('Daily Log'!$CH$18:$CH$1017,$B119,'Daily Log'!$CI$18:$CI$1017),0)","v":0},{"$f":"IFERROR($E119*SUMIF('Daily Log'!$CK$18:$CK$1017,$B119,'Daily Log'!$CL$18:$CL$1017),0)","v":0},{"$f":"IFERROR($E119*SUMIF('Daily Log'!$CN$18:$CN$1017,$B119,'Daily Log'!$CO$18:$CO$1017),0)","v":0}]
[null,"AD14 M : EVENT",null,null,1,0,{"$f":"IFERROR($E120*SUMIF('Daily Log'!$B$18:$B$1017,$B120,'Daily Log'!$C$18:$C$1017),0)","v":0},{"$f":"IFERROR($E120*SUMIF('Daily Log'!$E$18:$E$1017,$B120,'Daily Log'!$F$18:$F$1017),0)","v":0},{"$f":"IFERROR($E120*SUMIF('Daily Log'!$H$18:$H$1017,$B120,'Daily Log'!$I$18:$I$1017),0)","v":0},{"$f":"IFERROR($E120*SUMIF('Daily Log'!$K$18:$K$1017,$B120,'Daily Log'!$L$18:$L$1017),0)","v":0},{"$f":"IFERROR($E120*SUMIF('Daily Log'!$N$18:$N$1017,$B120,'Daily Log'!$O$18:$O$1017),0)","v":0},{"$f":"IFERROR($E120*SUMIF('Daily Log'!$Q$18:$Q$1017,$B120,'Daily Log'!$R$18:$R$1017),0)","v":0},{"$f":"IFERROR($E120*SUMIF('Daily Log'!$T$18:$T$1017,$B120,'Daily Log'!$U$18:$U$1017),0)","v":0},{"$f":"IFERROR($E120*SUMIF('Daily Log'!$W$18:$W$1017,$B120,'Daily Log'!$X$18:$X$1017),0)","v":0},{"$f":"IFERROR($E120*SUMIF('Daily Log'!$Z$18:$Z$1017,$B120,'Daily Log'!$AA$18:$AA$1017),0)","v":0},{"$f":"IFERROR($E120*SUMIF('Daily Log'!$AC$18:$AC$1017,$B120,'Daily Log'!$AD$18:$AD$1017),0)","v":0},{"$f":"IFERROR($E120*SUMIF('Daily Log'!$AF$18:$AF$1017,$B120,'Daily Log'!$AG$18:$AG$1017),0)","v":0},{"$f":"IFERROR($E120*SUMIF('Daily Log'!$AI$18:$AI$1017,$B120,'Daily Log'!$AJ$18:$AJ$1017),0)","v":0},{"$f":"IFERROR($E120*SUMIF('Daily Log'!$AL$18:$AL$1017,$B120,'Daily Log'!$AM$18:$AM$1017),0)","v":0},{"$f":"IFERROR($E120*SUMIF('Daily Log'!$AO$18:$AO$1017,$B120,'Daily Log'!$AP$18:$AP$1017),0)","v":0},{"$f":"IFERROR($E120*SUMIF('Daily Log'!$AR$18:$AR$1017,$B120,'Daily Log'!$AS$18:$AS$1017),0)","v":0},{"$f":"IFERROR($E120*SUMIF('Daily Log'!$AU$18:$AU$1017,$B120,'Daily Log'!$AV$18:$AV$1017),0)","v":0},{"$f":"IFERROR($E120*SUMIF('Daily Log'!$AX$18:$AX$1017,$B120,'Daily Log'!$AY$18:$AY$1017),0)","v":0},{"$f":"IFERROR($E120*SUMIF('Daily Log'!$BA$18:$BA$1017,$B120,'Daily Log'!$BB$18:$BB$1017),0)","v":0},{"$f":"IFERROR($E120*SUMIF('Daily Log'!$BD$18:$BD$1017,$B120,'Daily Log'!$BE$18:$BE$1017),0)","v":0},{"$f":"IFERROR($E120*SUMIF('Daily Log'!$BG$18:$BG$1017,$B120,'Daily Log'!$BH$18:$BH$1017),0)","v":0},{"$f":"IFERROR($E120*SUMIF('Daily Log'!$BJ$18:$BJ$1017,$B120,'Daily Log'!$BK$18:$BK$1017),0)","v":0},{"$f":"IFERROR($E120*SUMIF('Daily Log'!$BM$18:$BM$1017,$B120,'Daily Log'!$BN$18:$BN$1017),0)","v":0},{"$f":"IFERROR($E120*SUMIF('Daily Log'!$BP$18:$BP$1017,$B120,'Daily Log'!$BQ$18:$BQ$1017),0)","v":0},{"$f":"IFERROR($E120*SUMIF('Daily Log'!$BS$18:$BS$1017,$B120,'Daily Log'!$BT$18:$BT$1017),0)","v":0},{"$f":"IFERROR($E120*SUMIF('Daily Log'!$BV$18:$BV$1017,$B120,'Daily Log'!$BW$18:$BW$1017),0)","v":0},{"$f":"IFERROR($E120*SUMIF('Daily Log'!$BY$18:$BY$1017,$B120,'Daily Log'!$BZ$18:$BZ$1017),0)","v":0},{"$f":"IFERROR($E120*SUMIF('Daily Log'!$CB$18:$CB$1017,$B120,'Daily Log'!$CC$18:$CC$1017),0)","v":0},{"$f":"IFERROR($E120*SUMIF('Daily Log'!$CE$18:$CE$1017,$B120,'Daily Log'!$CF$18:$CF$1017),0)","v":0},{"$f":"IFERROR($E120*SUMIF('Daily Log'!$CH$18:$CH$1017,$B120,'Daily Log'!$CI$18:$CI$1017),0)","v":0},{"$f":"IFERROR($E120*SUMIF('Daily Log'!$CK$18:$CK$1017,$B120,'Daily Log'!$CL$18:$CL$1017),0)","v":0},{"$f":"IFERROR($E120*SUMIF('Daily Log'!$CN$18:$CN$1017,$B120,'Daily Log'!$CO$18:$CO$1017),0)","v":0}]
[null,"AD15 M : XTD S ROOM",null,null,1,0,{"$f":"IFERROR($E121*SUMIF('Daily Log'!$B$18:$B$1017,$B121,'Daily Log'!$C$18:$C$1017),0)","v":0},{"$f":"IFERROR($E121*SUMIF('Daily Log'!$E$18:$E$1017,$B121,'Daily Log'!$F$18:$F$1017),0)","v":0},{"$f":"IFERROR($E121*SUMIF('Daily Log'!$H$18:$H$1017,$B121,'Daily Log'!$I$18:$I$1017),0)","v":0},{"$f":"IFERROR($E121*SUMIF('Daily Log'!$K$18:$K$1017,$B121,'Daily Log'!$L$18:$L$1017),0)","v":0},{"$f":"IFERROR($E121*SUMIF('Daily Log'!$N$18:$N$1017,$B121,'Daily Log'!$O$18:$O$1017),0)","v":0},{"$f":"IFERROR($E121*SUMIF('Daily Log'!$Q$18:$Q$1017,$B121,'Daily Log'!$R$18:$R$1017),0)","v":0},{"$f":"IFERROR($E121*SUMIF('Daily Log'!$T$18:$T$1017,$B121,'Daily Log'!$U$18:$U$1017),0)","v":0},{"$f":"IFERROR($E121*SUMIF('Daily Log'!$W$18:$W$1017,$B121,'Daily Log'!$X$18:$X$1017),0)","v":0},{"$f":"IFERROR($E121*SUMIF('Daily Log'!$Z$18:$Z$1017,$B121,'Daily Log'!$AA$18:$AA$1017),0)","v":0},{"$f":"IFERROR($E121*SUMIF('Daily Log'!$AC$18:$AC$1017,$B121,'Daily Log'!$AD$18:$AD$1017),0)","v":0},{"$f":"IFERROR($E121*SUMIF('Daily Log'!$AF$18:$AF$1017,$B121,'Daily Log'!$AG$18:$AG$1017),0)","v":0},{"$f":"IFERROR($E121*SUMIF('Daily Log'!$AI$18:$AI$1017,$B121,'Daily Log'!$AJ$18:$AJ$1017),0)","v":0},{"$f":"IFERROR($E121*SUMIF('Daily Log'!$AL$18:$AL$1017,$B121,'Daily Log'!$AM$18:$AM$1017),0)","v":0},{"$f":"IFERROR($E121*SUMIF('Daily Log'!$AO$18:$AO$1017,$B121,'Daily Log'!$AP$18:$AP$1017),0)","v":0},{"$f":"IFERROR($E121*SUMIF('Daily Log'!$AR$18:$AR$1017,$B121,'Daily Log'!$AS$18:$AS$1017),0)","v":0},{"$f":"IFERROR($E121*SUMIF('Daily Log'!$AU$18:$AU$1017,$B121,'Daily Log'!$AV$18:$AV$1017),0)","v":0},{"$f":"IFERROR($E121*SUMIF('Daily Log'!$AX$18:$AX$1017,$B121,'Daily Log'!$AY$18:$AY$1017),0)","v":0},{"$f":"IFERROR($E121*SUMIF('Daily Log'!$BA$18:$BA$1017,$B121,'Daily Log'!$BB$18:$BB$1017),0)","v":0},{"$f":"IFERROR($E121*SUMIF('Daily Log'!$BD$18:$BD$1017,$B121,'Daily Log'!$BE$18:$BE$1017),0)","v":0},{"$f":"IFERROR($E121*SUMIF('Daily Log'!$BG$18:$BG$1017,$B121,'Daily Log'!$BH$18:$BH$1017),0)","v":0},{"$f":"IFERROR($E121*SUMIF('Daily Log'!$BJ$18:$BJ$1017,$B121,'Daily Log'!$BK$18:$BK$1017),0)","v":0},{"$f":"IFERROR($E121*SUMIF('Daily Log'!$BM$18:$BM$1017,$B121,'Daily Log'!$BN$18:$BN$1017),0)","v":0},{"$f":"IFERROR($E121*SUMIF('Daily Log'!$BP$18:$BP$1017,$B121,'Daily Log'!$BQ$18:$BQ$1017),0)","v":0},{"$f":"IFERROR($E121*SUMIF('Daily Log'!$BS$18:$BS$1017,$B121,'Daily Log'!$BT$18:$BT$1017),0)","v":0},{"$f":"IFERROR($E121*SUMIF('Daily Log'!$BV$18:$BV$1017,$B121,'Daily Log'!$BW$18:$BW$1017),0)","v":0},{"$f":"IFERROR($E121*SUMIF('Daily Log'!$BY$18:$BY$1017,$B121,'Daily Log'!$BZ$18:$BZ$1017),0)","v":0},{"$f":"IFERROR($E121*SUMIF('Daily Log'!$CB$18:$CB$1017,$B121,'Daily Log'!$CC$18:$CC$1017),0)","v":0},{"$f":"IFERROR($E121*SUMIF('Daily Log'!$CE$18:$CE$1017,$B121,'Daily Log'!$CF$18:$CF$1017),0)","v":0},{"$f":"IFERROR($E121*SUMIF('Daily Log'!$CH$18:$CH$1017,$B121,'Daily Log'!$CI$18:$CI$1017),0)","v":0},{"$f":"IFERROR($E121*SUMIF('Daily Log'!$CK$18:$CK$1017,$B121,'Daily Log'!$CL$18:$CL$1017),0)","v":0},{"$f":"IFERROR($E121*SUMIF('Daily Log'!$CN$18:$CN$1017,$B121,'Daily Log'!$CO$18:$CO$1017),0)","v":0}]
[null,"AD16 M : XTD M ROOM",null,null,1,0,{"$f":"IFERROR($E122*SUMIF('Daily Log'!$B$18:$B$1017,$B122,'Daily Log'!$C$18:$C$1017),0)","v":0},{"$f":"IFERROR($E122*SUMIF('Daily Log'!$E$18:$E$1017,$B122,'Daily Log'!$F$18:$F$1017),0)","v":0},{"$f":"IFERROR($E122*SUMIF('Daily Log'!$H$18:$H$1017,$B122,'Daily Log'!$I$18:$I$1017),0)","v":0},{"$f":"IFERROR($E122*SUMIF('Daily Log'!$K$18:$K$1017,$B122,'Daily Log'!$L$18:$L$1017),0)","v":0},{"$f":"IFERROR($E122*SUMIF('Daily Log'!$N$18:$N$1017,$B122,'Daily Log'!$O$18:$O$1017),0)","v":0},{"$f":"IFERROR($E122*SUMIF('Daily Log'!$Q$18:$Q$1017,$B122,'Daily Log'!$R$18:$R$1017),0)","v":0},{"$f":"IFERROR($E122*SUMIF('Daily Log'!$T$18:$T$1017,$B122,'Daily Log'!$U$18:$U$1017),0)","v":0},{"$f":"IFERROR($E122*SUMIF('Daily Log'!$W$18:$W$1017,$B122,'Daily Log'!$X$18:$X$1017),0)","v":0},{"$f":"IFERROR($E122*SUMIF('Daily Log'!$Z$18:$Z$1017,$B122,'Daily Log'!$AA$18:$AA$1017),0)","v":0},{"$f":"IFERROR($E122*SUMIF('Daily Log'!$AC$18:$AC$1017,$B122,'Daily Log'!$AD$18:$AD$1017),0)","v":0},{"$f":"IFERROR($E122*SUMIF('Daily Log'!$AF$18:$AF$1017,$B122,'Daily Log'!$AG$18:$AG$1017),0)","v":0},{"$f":"IFERROR($E122*SUMIF('Daily Log'!$AI$18:$AI$1017,$B122,'Daily Log'!$AJ$18:$AJ$1017),0)","v":0},{"$f":"IFERROR($E122*SUMIF('Daily Log'!$AL$18:$AL$1017,$B122,'Daily Log'!$AM$18:$AM$1017),0)","v":0},{"$f":"IFERROR($E122*SUMIF('Daily Log'!$AO$18:$AO$1017,$B122,'Daily Log'!$AP$18:$AP$1017),0)","v":0},{"$f":"IFERROR($E122*SUMIF('Daily Log'!$AR$18:$AR$1017,$B122,'Daily Log'!$AS$18:$AS$1017),0)","v":0},{"$f":"IFERROR($E122*SUMIF('Daily Log'!$AU$18:$AU$1017,$B122,'Daily Log'!$AV$18:$AV$1017),0)","v":0},{"$f":"IFERROR($E122*SUMIF('Daily Log'!$AX$18:$AX$1017,$B122,'Daily Log'!$AY$18:$AY$1017),0)","v":0},{"$f":"IFERROR($E122*SUMIF('Daily Log'!$BA$18:$BA$1017,$B122,'Daily Log'!$BB$18:$BB$1017),0)","v":0},{"$f":"IFERROR($E122*SUMIF('Daily Log'!$BD$18:$BD$1017,$B122,'Daily Log'!$BE$18:$BE$1017),0)","v":0},{"$f":"IFERROR($E122*SUMIF('Daily Log'!$BG$18:$BG$1017,$B122,'Daily Log'!$BH$18:$BH$1017),0)","v":0},{"$f":"IFERROR($E122*SUMIF('Daily Log'!$BJ$18:$BJ$1017,$B122,'Daily Log'!$BK$18:$BK$1017),0)","v":0},{"$f":"IFERROR($E122*SUMIF('Daily Log'!$BM$18:$BM$1017,$B122,'Daily Log'!$BN$18:$BN$1017),0)","v":0},{"$f":"IFERROR($E122*SUMIF('Daily Log'!$BP$18:$BP$1017,$B122,'Daily Log'!$BQ$18:$BQ$1017),0)","v":0},{"$f":"IFERROR($E122*SUMIF('Daily Log'!$BS$18:$BS$1017,$B122,'Daily Log'!$BT$18:$BT$1017),0)","v":0},{"$f":"IFERROR($E122*SUMIF('Daily Log'!$BV$18:$BV$1017,$B122,'Daily Log'!$BW$18:$BW$1017),0)","v":0},{"$f":"IFERROR($E122*SUMIF('Daily Log'!$BY$18:$BY$1017,$B122,'Daily Log'!$BZ$18:$BZ$1017),0)","v":0},{"$f":"IFERROR($E122*SUMIF('Daily Log'!$CB$18:$CB$1017,$B122,'Daily Log'!$CC$18:$CC$1017),0)","v":0},{"$f":"IFERROR($E122*SUMIF('Daily Log'!$CE$18:$CE$1017,$B122,'Daily Log'!$CF$18:$CF$1017),0)","v":0},{"$f":"IFERROR($E122*SUMIF('Daily Log'!$CH$18:$CH$1017,$B122,'Daily Log'!$CI$18:$CI$1017),0)","v":0},{"$f":"IFERROR($E122*SUMIF('Daily Log'!$CK$18:$CK$1017,$B122,'Daily Log'!$CL$18:$CL$1017),0)","v":0},{"$f":"IFERROR($E122*SUMIF('Daily Log'!$CN$18:$CN$1017,$B122,'Daily Log'!$CO$18:$CO$1017),0)","v":0}]
[null,"AD17 M : XTD B ROOM",null,null,1,0,{"$f":"IFERROR($E123*SUMIF('Daily Log'!$B$18:$B$1017,$B123,'Daily Log'!$C$18:$C$1017),0)","v":0},{"$f":"IFERROR($E123*SUMIF('Daily Log'!$E$18:$E$1017,$B123,'Daily Log'!$F$18:$F$1017),0)","v":0},{"$f":"IFERROR($E123*SUMIF('Daily Log'!$H$18:$H$1017,$B123,'Daily Log'!$I$18:$I$1017),0)","v":0},{"$f":"IFERROR($E123*SUMIF('Daily Log'!$K$18:$K$1017,$B123,'Daily Log'!$L$18:$L$1017),0)","v":0},{"$f":"IFERROR($E123*SUMIF('Daily Log'!$N$18:$N$1017,$B123,'Daily Log'!$O$18:$O$1017),0)","v":0},{"$f":"IFERROR($E123*SUMIF('Daily Log'!$Q$18:$Q$1017,$B123,'Daily Log'!$R$18:$R$1017),0)","v":0},{"$f":"IFERROR($E123*SUMIF('Daily Log'!$T$18:$T$1017,$B123,'Daily Log'!$U$18:$U$1017),0)","v":0},{"$f":"IFERROR($E123*SUMIF('Daily Log'!$W$18:$W$1017,$B123,'Daily Log'!$X$18:$X$1017),0)","v":0},{"$f":"IFERROR($E123*SUMIF('Daily Log'!$Z$18:$Z$1017,$B123,'Daily Log'!$AA$18:$AA$1017),0)","v":0},{"$f":"IFERROR($E123*SUMIF('Daily Log'!$AC$18:$AC$1017,$B123,'Daily Log'!$AD$18:$AD$1017),0)","v":0},{"$f":"IFERROR($E123*SUMIF('Daily Log'!$AF$18:$AF$1017,$B123,'Daily Log'!$AG$18:$AG$1017),0)","v":0},{"$f":"IFERROR($E123*SUMIF('Daily Log'!$AI$18:$AI$1017,$B123,'Daily Log'!$AJ$18:$AJ$1017),0)","v":0},{"$f":"IFERROR($E123*SUMIF('Daily Log'!$AL$18:$AL$1017,$B123,'Daily Log'!$AM$18:$AM$1017),0)","v":0},{"$f":"IFERROR($E123*SUMIF('Daily Log'!$AO$18:$AO$1017,$B123,'Daily Log'!$AP$18:$AP$1017),0)","v":0},{"$f":"IFERROR($E123*SUMIF('Daily Log'!$AR$18:$AR$1017,$B123,'Daily Log'!$AS$18:$AS$1017),0)","v":0},{"$f":"IFERROR($E123*SUMIF('Daily Log'!$AU$18:$AU$1017,$B123,'Daily Log'!$AV$18:$AV$1017),0)","v":0},{"$f":"IFERROR($E123*SUMIF('Daily Log'!$AX$18:$AX$1017,$B123,'Daily Log'!$AY$18:$AY$1017),0)","v":0},{"$f":"IFERROR($E123*SUMIF('Daily Log'!$BA$18:$BA$1017,$B123,'Daily Log'!$BB$18:$BB$1017),0)","v":0},{"$f":"IFERROR($E123*SUMIF('Daily Log'!$BD$18:$BD$1017,$B123,'Daily Log'!$BE$18:$BE$1017),0)","v":0},{"$f":"IFERROR($E123*SUMIF('Daily Log'!$BG$18:$BG$1017,$B123,'Daily Log'!$BH$18:$BH$1017),0)","v":0},{"$f":"IFERROR($E123*SUMIF('Daily Log'!$BJ$18:$BJ$1017,$B123,'Daily Log'!$BK$18:$BK$1017),0)","v":0},{"$f":"IFERROR($E123*SUMIF('Daily Log'!$BM$18:$BM$1017,$B123,'Daily Log'!$BN$18:$BN$1017),0)","v":0},{"$f":"IFERROR($E123*SUMIF('Daily Log'!$BP$18:$BP$1017,$B123,'Daily Log'!$BQ$18:$BQ$1017),0)","v":0},{"$f":"IFERROR($E123*SUMIF('Daily Log'!$BS$18:$BS$1017,$B123,'Daily Log'!$BT$18:$BT$1017),0)","v":0},{"$f":"IFERROR($E123*SUMIF('Daily Log'!$BV$18:$BV$1017,$B123,'Daily Log'!$BW$18:$BW$1017),0)","v":0},{"$f":"IFERROR($E123*SUMIF('Daily Log'!$BY$18:$BY$1017,$B123,'Daily Log'!$BZ$18:$BZ$1017),0)","v":0},{"$f":"IFERROR($E123*SUMIF('Daily Log'!$CB$18:$CB$1017,$B123,'Daily Log'!$CC$18:$CC$1017),0)","v":0},{"$f":"IFERROR($E123*SUMIF('Daily Log'!$CE$18:$CE$1017,$B123,'Daily Log'!$CF$18:$CF$1017),0)","v":0},{"$f":"IFERROR($E123*SUMIF('Daily Log'!$CH$18:$CH$1017,$B123,'Daily Log'!$CI$18:$CI$1017),0)","v":0},{"$f":"IFERROR($E123*SUMIF('Daily Log'!$CK$18:$CK$1017,$B123,'Daily Log'!$CL$18:$CL$1017),0)","v":0},{"$f":"IFERROR($E123*SUMIF('Daily Log'!$CN$18:$CN$1017,$B123,'Daily Log'!$CO$18:$CO$1017),0)","v":0}]
[null,"AD18 M : FOC HOUR",null,null,1,0,{"$f":"IFERROR($E124*SUMIF('Daily Log'!$B$18:$B$1017,$B124,'Daily Log'!$C$18:$C$1017),0)","v":0},{"$f":"IFERROR($E124*SUMIF('Daily Log'!$E$18:$E$1017,$B124,'Daily Log'!$F$18:$F$1017),0)","v":0},{"$f":"IFERROR($E124*SUMIF('Daily Log'!$H$18:$H$1017,$B124,'Daily Log'!$I$18:$I$1017),0)","v":0},{"$f":"IFERROR($E124*SUMIF('Daily Log'!$K$18:$K$1017,$B124,'Daily Log'!$L$18:$L$1017),0)","v":0},{"$f":"IFERROR($E124*SUMIF('Daily Log'!$N$18:$N$1017,$B124,'Daily Log'!$O$18:$O$1017),0)","v":0},{"$f":"IFERROR($E124*SUMIF('Daily Log'!$Q$18:$Q$1017,$B124,'Daily Log'!$R$18:$R$1017),0)","v":0},{"$f":"IFERROR($E124*SUMIF('Daily Log'!$T$18:$T$1017,$B124,'Daily Log'!$U$18:$U$1017),0)","v":0},{"$f":"IFERROR($E124*SUMIF('Daily Log'!$W$18:$W$1017,$B124,'Daily Log'!$X$18:$X$1017),0)","v":0},{"$f":"IFERROR($E124*SUMIF('Daily Log'!$Z$18:$Z$1017,$B124,'Daily Log'!$AA$18:$AA$1017),0)","v":0},{"$f":"IFERROR($E124*SUMIF('Daily Log'!$AC$18:$AC$1017,$B124,'Daily Log'!$AD$18:$AD$1017),0)","v":0},{"$f":"IFERROR($E124*SUMIF('Daily Log'!$AF$18:$AF$1017,$B124,'Daily Log'!$AG$18:$AG$1017),0)","v":0},{"$f":"IFERROR($E124*SUMIF('Daily Log'!$AI$18:$AI$1017,$B124,'Daily Log'!$AJ$18:$AJ$1017),0)","v":0},{"$f":"IFERROR($E124*SUMIF('Daily Log'!$AL$18:$AL$1017,$B124,'Daily Log'!$AM$18:$AM$1017),0)","v":0},{"$f":"IFERROR($E124*SUMIF('Daily Log'!$AO$18:$AO$1017,$B124,'Daily Log'!$AP$18:$AP$1017),0)","v":0},{"$f":"IFERROR($E124*SUMIF('Daily Log'!$AR$18:$AR$1017,$B124,'Daily Log'!$AS$18:$AS$1017),0)","v":0},{"$f":"IFERROR($E124*SUMIF('Daily Log'!$AU$18:$AU$1017,$B124,'Daily Log'!$AV$18:$AV$1017),0)","v":0},{"$f":"IFERROR($E124*SUMIF('Daily Log'!$AX$18:$AX$1017,$B124,'Daily Log'!$AY$18:$AY$1017),0)","v":0},{"$f":"IFERROR($E124*SUMIF('Daily Log'!$BA$18:$BA$1017,$B124,'Daily Log'!$BB$18:$BB$1017),0)","v":0},{"$f":"IFERROR($E124*SUMIF('Daily Log'!$BD$18:$BD$1017,$B124,'Daily Log'!$BE$18:$BE$1017),0)","v":0},{"$f":"IFERROR($E124*SUMIF('Daily Log'!$BG$18:$BG$1017,$B124,'Daily Log'!$BH$18:$BH$1017),0)","v":0},{"$f":"IFERROR($E124*SUMIF('Daily Log'!$BJ$18:$BJ$1017,$B124,'Daily Log'!$BK$18:$BK$1017),0)","v":0},{"$f":"IFERROR($E124*SUMIF('Daily Log'!$BM$18:$BM$1017,$B124,'Daily Log'!$BN$18:$BN$1017),0)","v":0},{"$f":"IFERROR($E124*SUMIF('Daily Log'!$BP$18:$BP$1017,$B124,'Daily Log'!$BQ$18:$BQ$1017),0)","v":0},{"$f":"IFERROR($E124*SUMIF('Daily Log'!$BS$18:$BS$1017,$B124,'Daily Log'!$BT$18:$BT$1017),0)","v":0},{"$f":"IFERROR($E124*SUMIF('Daily Log'!$BV$18:$BV$1017,$B124,'Daily Log'!$BW$18:$BW$1017),0)","v":0},{"$f":"IFERROR($E124*SUMIF('Daily Log'!$BY$18:$BY$1017,$B124,'Daily Log'!$BZ$18:$BZ$1017),0)","v":0},{"$f":"IFERROR($E124*SUMIF('Daily Log'!$CB$18:$CB$1017,$B124,'Daily Log'!$CC$18:$CC$1017),0)","v":0},{"$f":"IFERROR($E124*SUMIF('Daily Log'!$CE$18:$CE$1017,$B124,'Daily Log'!$CF$18:$CF$1017),0)","v":0},{"$f":"IFERROR($E124*SUMIF('Daily Log'!$CH$18:$CH$1017,$B124,'Daily Log'!$CI$18:$CI$1017),0)","v":0},{"$f":"IFERROR($E124*SUMIF('Daily Log'!$CK$18:$CK$1017,$B124,'Daily Log'!$CL$18:$CL$1017),0)","v":0},{"$f":"IFERROR($E124*SUMIF('Daily Log'!$CN$18:$CN$1017,$B124,'Daily Log'!$CO$18:$CO$1017),0)","v":0}]
[null,"AD19 M : GROUPON",null,null,1,0,{"$f":"IFERROR($E125*SUMIF('Daily Log'!$B$18:$B$1017,$B125,'Daily Log'!$C$18:$C$1017),0)","v":0},{"$f":"IFERROR($E125*SUMIF('Daily Log'!$E$18:$E$1017,$B125,'Daily Log'!$F$18:$F$1017),0)","v":0},{"$f":"IFERROR($E125*SUMIF('Daily Log'!$H$18:$H$1017,$B125,'Daily Log'!$I$18:$I$1017),0)","v":0},{"$f":"IFERROR($E125*SUMIF('Daily Log'!$K$18:$K$1017,$B125,'Daily Log'!$L$18:$L$1017),0)","v":0},{"$f":"IFERROR($E125*SUMIF('Daily Log'!$N$18:$N$1017,$B125,'Daily Log'!$O$18:$O$1017),0)","v":0},{"$f":"IFERROR($E125*SUMIF('Daily Log'!$Q$18:$Q$1017,$B125,'Daily Log'!$R$18:$R$1017),0)","v":0},{"$f":"IFERROR($E125*SUMIF('Daily Log'!$T$18:$T$1017,$B125,'Daily Log'!$U$18:$U$1017),0)","v":0},{"$f":"IFERROR($E125*SUMIF('Daily Log'!$W$18:$W$1017,$B125,'Daily Log'!$X$18:$X$1017),0)","v":0},{"$f":"IFERROR($E125*SUMIF('Daily Log'!$Z$18:$Z$1017,$B125,'Daily Log'!$AA$18:$AA$1017),0)","v":0},{"$f":"IFERROR($E125*SUMIF('Daily Log'!$AC$18:$AC$1017,$B125,'Daily Log'!$AD$18:$AD$1017),0)","v":0},{"$f":"IFERROR($E125*SUMIF('Daily Log'!$AF$18:$AF$1017,$B125,'Daily Log'!$AG$18:$AG$1017),0)","v":0},{"$f":"IFERROR($E125*SUMIF('Daily Log'!$AI$18:$AI$1017,$B125,'Daily Log'!$AJ$18:$AJ$1017),0)","v":0},{"$f":"IFERROR($E125*SUMIF('Daily Log'!$AL$18:$AL$1017,$B125,'Daily Log'!$AM$18:$AM$1017),0)","v":0},{"$f":"IFERROR($E125*SUMIF('Daily Log'!$AO$18:$AO$1017,$B125,'Daily Log'!$AP$18:$AP$1017),0)","v":0},{"$f":"IFERROR($E125*SUMIF('Daily Log'!$AR$18:$AR$1017,$B125,'Daily Log'!$AS$18:$AS$1017),0)","v":0},{"$f":"IFERROR($E125*SUMIF('Daily Log'!$AU$18:$AU$1017,$B125,'Daily Log'!$AV$18:$AV$1017),0)","v":0},{"$f":"IFERROR($E125*SUMIF('Daily Log'!$AX$18:$AX$1017,$B125,'Daily Log'!$AY$18:$AY$1017),0)","v":0},{"$f":"IFERROR($E125*SUMIF('Daily Log'!$BA$18:$BA$1017,$B125,'Daily Log'!$BB$18:$BB$1017),0)","v":0},{"$f":"IFERROR($E125*SUMIF('Daily Log'!$BD$18:$BD$1017,$B125,'Daily Log'!$BE$18:$BE$1017),0)","v":0},{"$f":"IFERROR($E125*SUMIF('Daily Log'!$BG$18:$BG$1017,$B125,'Daily Log'!$BH$18:$BH$1017),0)","v":0},{"$f":"IFERROR($E125*SUMIF('Daily Log'!$BJ$18:$BJ$1017,$B125,'Daily Log'!$BK$18:$BK$1017),0)","v":0},{"$f":"IFERROR($E125*SUMIF('Daily Log'!$BM$18:$BM$1017,$B125,'Daily Log'!$BN$18:$BN$1017),0)","v":0},{"$f":"IFERROR($E125*SUMIF('Daily Log'!$BP$18:$BP$1017,$B125,'Daily Log'!$BQ$18:$BQ$1017),0)","v":0},{"$f":"IFERROR($E125*SUMIF('Daily Log'!$BS$18:$BS$1017,$B125,'Daily Log'!$BT$18:$BT$1017),0)","v":0},{"$f":"IFERROR($E125*SUMIF('Daily Log'!$BV$18:$BV$1017,$B125,'Daily Log'!$BW$18:$BW$1017),0)","v":0},{"$f":"IFERROR($E125*SUMIF('Daily Log'!$BY$18:$BY$1017,$B125,'Daily Log'!$BZ$18:$BZ$1017),0)","v":0},{"$f":"IFERROR($E125*SUMIF('Daily Log'!$CB$18:$CB$1017,$B125,'Daily Log'!$CC$18:$CC$1017),0)","v":0},{"$f":"IFERROR($E125*SUMIF('Daily Log'!$CE$18:$CE$1017,$B125,'Daily Log'!$CF$18:$CF$1017),0)","v":0},{"$f":"IFERROR($E125*SUMIF('Daily Log'!$CH$18:$CH$1017,$B125,'Daily Log'!$CI$18:$CI$1017),0)","v":0},{"$f":"IFERROR($E125*SUMIF('Daily Log'!$CK$18:$CK$1017,$B125,'Daily Log'!$CL$18:$CL$1017),0)","v":0},{"$f":"IFERROR($E125*SUMIF('Daily Log'!$CN$18:$CN$1017,$B125,'Daily Log'!$CO$18:$CO$1017),0)","v":0}]
[null,"AD21 M : One FM 208",null,null,1,0,{"$f":"IFERROR($E126*SUMIF('Daily Log'!$B$18:$B$1017,$B126,'Daily Log'!$C$18:$C$1017),0)","v":0},{"$f":"IFERROR($E126*SUMIF('Daily Log'!$E$18:$E$1017,$B126,'Daily Log'!$F$18:$F$1017),0)","v":0},{"$f":"IFERROR($E126*SUMIF('Daily Log'!$H$18:$H$1017,$B126,'Daily Log'!$I$18:$I$1017),0)","v":0},{"$f":"IFERROR($E126*SUMIF('Daily Log'!$K$18:$K$1017,$B126,'Daily Log'!$L$18:$L$1017),0)","v":0},{"$f":"IFERROR($E126*SUMIF('Daily Log'!$N$18:$N$1017,$B126,'Daily Log'!$O$18:$O$1017),0)","v":0},{"$f":"IFERROR($E126*SUMIF('Daily Log'!$Q$18:$Q$1017,$B126,'Daily Log'!$R$18:$R$1017),0)","v":0},{"$f":"IFERROR($E126*SUMIF('Daily Log'!$T$18:$T$1017,$B126,'Daily Log'!$U$18:$U$1017),0)","v":0},{"$f":"IFERROR($E126*SUMIF('Daily Log'!$W$18:$W$1017,$B126,'Daily Log'!$X$18:$X$1017),0)","v":0},{"$f":"IFERROR($E126*SUMIF('Daily Log'!$Z$18:$Z$1017,$B126,'Daily Log'!$AA$18:$AA$1017),0)","v":0},{"$f":"IFERROR($E126*SUMIF('Daily Log'!$AC$18:$AC$1017,$B126,'Daily Log'!$AD$18:$AD$1017),0)","v":0},{"$f":"IFERROR($E126*SUMIF('Daily Log'!$AF$18:$AF$1017,$B126,'Daily Log'!$AG$18:$AG$1017),0)","v":0},{"$f":"IFERROR($E126*SUMIF('Daily Log'!$AI$18:$AI$1017,$B126,'Daily Log'!$AJ$18:$AJ$1017),0)","v":0},{"$f":"IFERROR($E126*SUMIF('Daily Log'!$AL$18:$AL$1017,$B126,'Daily Log'!$AM$18:$AM$1017),0)","v":0},{"$f":"IFERROR($E126*SUMIF('Daily Log'!$AO$18:$AO$1017,$B126,'Daily Log'!$AP$18:$AP$1017),0)","v":0},{"$f":"IFERROR($E126*SUMIF('Daily Log'!$AR$18:$AR$1017,$B126,'Daily Log'!$AS$18:$AS$1017),0)","v":0},{"$f":"IFERROR($E126*SUMIF('Daily Log'!$AU$18:$AU$1017,$B126,'Daily Log'!$AV$18:$AV$1017),0)","v":0},{"$f":"IFERROR($E126*SUMIF('Daily Log'!$AX$18:$AX$1017,$B126,'Daily Log'!$AY$18:$AY$1017),0)","v":0},{"$f":"IFERROR($E126*SUMIF('Daily Log'!$BA$18:$BA$1017,$B126,'Daily Log'!$BB$18:$BB$1017),0)","v":0},{"$f":"IFERROR($E126*SUMIF('Daily Log'!$BD$18:$BD$1017,$B126,'Daily Log'!$BE$18:$BE$1017),0)","v":0},{"$f":"IFERROR($E126*SUMIF('Daily Log'!$BG$18:$BG$1017,$B126,'Daily Log'!$BH$18:$BH$1017),0)","v":0},{"$f":"IFERROR($E126*SUMIF('Daily Log'!$BJ$18:$BJ$1017,$B126,'Daily Log'!$BK$18:$BK$1017),0)","v":0},{"$f":"IFERROR($E126*SUMIF('Daily Log'!$BM$18:$BM$1017,$B126,'Daily Log'!$BN$18:$BN$1017),0)","v":0},{"$f":"IFERROR($E126*SUMIF('Daily Log'!$BP$18:$BP$1017,$B126,'Daily Log'!$BQ$18:$BQ$1017),0)","v":0},{"$f":"IFERROR($E126*SUMIF('Daily Log'!$BS$18:$BS$1017,$B126,'Daily Log'!$BT$18:$BT$1017),0)","v":0},{"$f":"IFERROR($E126*SUMIF('Daily Log'!$BV$18:$BV$1017,$B126,'Daily Log'!$BW$18:$BW$1017),0)","v":0},{"$f":"IFERROR($E126*SUMIF('Daily Log'!$BY$18:$BY$1017,$B126,'Daily Log'!$BZ$18:$BZ$1017),0)","v":0},{"$f":"IFERROR($E126*SUMIF('Daily Log'!$CB$18:$CB$1017,$B126,'Daily Log'!$CC$18:$CC$1017),0)","v":0},{"$f":"IFERROR($E126*SUMIF('Daily Log'!$CE$18:$CE$1017,$B126,'Daily Log'!$CF$18:$CF$1017),0)","v":0},{"$f":"IFERROR($E126*SUMIF('Daily Log'!$CH$18:$CH$1017,$B126,'Daily Log'!$CI$18:$CI$1017),0)","v":0},{"$f":"IFERROR($E126*SUMIF('Daily Log'!$CK$18:$CK$1017,$B126,'Daily Log'!$CL$18:$CL$1017),0)","v":0},{"$f":"IFERROR($E126*SUMIF('Daily Log'!$CN$18:$CN$1017,$B126,'Daily Log'!$CO$18:$CO$1017),0)","v":0}]
[null,"AD22 M:Student Mem",null,null,1,0,{"$f":"IFERROR($E127*SUMIF('Daily Log'!$B$18:$B$1017,$B127,'Daily Log'!$C$18:$C$1017),0)","v":0},{"$f":"IFERROR($E127*SUMIF('Daily Log'!$E$18:$E$1017,$B127,'Daily Log'!$F$18:$F$1017),0)","v":0},{"$f":"IFERROR($E127*SUMIF('Daily Log'!$H$18:$H$1017,$B127,'Daily Log'!$I$18:$I$1017),0)","v":0},{"$f":"IFERROR($E127*SUMIF('Daily Log'!$K$18:$K$1017,$B127,'Daily Log'!$L$18:$L$1017),0)","v":0},{"$f":"IFERROR($E127*SUMIF('Daily Log'!$N$18:$N$1017,$B127,'Daily Log'!$O$18:$O$1017),0)","v":0},{"$f":"IFERROR($E127*SUMIF('Daily Log'!$Q$18:$Q$1017,$B127,'Daily Log'!$R$18:$R$1017),0)","v":0},{"$f":"IFERROR($E127*SUMIF('Daily Log'!$T$18:$T$1017,$B127,'Daily Log'!$U$18:$U$1017),0)","v":0},{"$f":"IFERROR($E127*SUMIF('Daily Log'!$W$18:$W$1017,$B127,'Daily Log'!$X$18:$X$1017),0)","v":0},{"$f":"IFERROR($E127*SUMIF('Daily Log'!$Z$18:$Z$1017,$B127,'Daily Log'!$AA$18:$AA$1017),0)","v":0},{"$f":"IFERROR($E127*SUMIF('Daily Log'!$AC$18:$AC$1017,$B127,'Daily Log'!$AD$18:$AD$1017),0)","v":0},{"$f":"IFERROR($E127*SUMIF('Daily Log'!$AF$18:$AF$1017,$B127,'Daily Log'!$AG$18:$AG$1017),0)","v":0},{"$f":"IFERROR($E127*SUMIF('Daily Log'!$AI$18:$AI$1017,$B127,'Daily Log'!$AJ$18:$AJ$1017),0)","v":0},{"$f":"IFERROR($E127*SUMIF('Daily Log'!$AL$18:$AL$1017,$B127,'Daily Log'!$AM$18:$AM$1017),0)","v":0},{"$f":"IFERROR($E127*SUMIF('Daily Log'!$AO$18:$AO$1017,$B127,'Daily Log'!$AP$18:$AP$1017),0)","v":0},{"$f":"IFERROR($E127*SUMIF('Daily Log'!$AR$18:$AR$1017,$B127,'Daily Log'!$AS$18:$AS$1017),0)","v":0},{"$f":"IFERROR($E127*SUMIF('Daily Log'!$AU$18:$AU$1017,$B127,'Daily Log'!$AV$18:$AV$1017),0)","v":0},{"$f":"IFERROR($E127*SUMIF('Daily Log'!$AX$18:$AX$1017,$B127,'Daily Log'!$AY$18:$AY$1017),0)","v":0},{"$f":"IFERROR($E127*SUMIF('Daily Log'!$BA$18:$BA$1017,$B127,'Daily Log'!$BB$18:$BB$1017),0)","v":0},{"$f":"IFERROR($E127*SUMIF('Daily Log'!$BD$18:$BD$1017,$B127,'Daily Log'!$BE$18:$BE$1017),0)","v":0},{"$f":"IFERROR($E127*SUMIF('Daily Log'!$BG$18:$BG$1017,$B127,'Daily Log'!$BH$18:$BH$1017),0)","v":0},{"$f":"IFERROR($E127*SUMIF('Daily Log'!$BJ$18:$BJ$1017,$B127,'Daily Log'!$BK$18:$BK$1017),0)","v":0},{"$f":"IFERROR($E127*SUMIF('Daily Log'!$BM$18:$BM$1017,$B127,'Daily Log'!$BN$18:$BN$1017),0)","v":0},{"$f":"IFERROR($E127*SUMIF('Daily Log'!$BP$18:$BP$1017,$B127,'Daily Log'!$BQ$18:$BQ$1017),0)","v":0},{"$f":"IFERROR($E127*SUMIF('Daily Log'!$BS$18:$BS$1017,$B127,'Daily Log'!$BT$18:$BT$1017),0)","v":0},{"$f":"IFERROR($E127*SUMIF('Daily Log'!$BV$18:$BV$1017,$B127,'Daily Log'!$BW$18:$BW$1017),0)","v":0},{"$f":"IFERROR($E127*SUMIF('Daily Log'!$BY$18:$BY$1017,$B127,'Daily Log'!$BZ$18:$BZ$1017),0)","v":0},{"$f":"IFERROR($E127*SUMIF('Daily Log'!$CB$18:$CB$1017,$B127,'Daily Log'!$CC$18:$CC$1017),0)","v":0},{"$f":"IFERROR($E127*SUMIF('Daily Log'!$CE$18:$CE$1017,$B127,'Daily Log'!$CF$18:$CF$1017),0)","v":0},{"$f":"IFERROR($E127*SUMIF('Daily Log'!$CH$18:$CH$1017,$B127,'Daily Log'!$CI$18:$CI$1017),0)","v":0},{"$f":"IFERROR($E127*SUMIF('Daily Log'!$CK$18:$CK$1017,$B127,'Daily Log'!$CL$18:$CL$1017),0)","v":0},{"$f":"IFERROR($E127*SUMIF('Daily Log'!$CN$18:$CN$1017,$B127,'Daily Log'!$CO$18:$CO$1017),0)","v":0}]
[null,"AD24 M : iGOT DIS 3+1",null,null,1,0,{"$f":"IFERROR($E128*SUMIF('Daily Log'!$B$18:$B$1017,$B128,'Daily Log'!$C$18:$C$1017),0)","v":0},{"$f":"IFERROR($E128*SUMIF('Daily Log'!$E$18:$E$1017,$B128,'Daily Log'!$F$18:$F$1017),0)","v":0},{"$f":"IFERROR($E128*SUMIF('Daily Log'!$H$18:$H$1017,$B128,'Daily Log'!$I$18:$I$1017),0)","v":0},{"$f":"IFERROR($E128*SUMIF('Daily Log'!$K$18:$K$1017,$B128,'Daily Log'!$L$18:$L$1017),0)","v":0},{"$f":"IFERROR($E128*SUMIF('Daily Log'!$N$18:$N$1017,$B128,'Daily Log'!$O$18:$O$1017),0)","v":0},{"$f":"IFERROR($E128*SUMIF('Daily Log'!$Q$18:$Q$1017,$B128,'Daily Log'!$R$18:$R$1017),0)","v":0},{"$f":"IFERROR($E128*SUMIF('Daily Log'!$T$18:$T$1017,$B128,'Daily Log'!$U$18:$U$1017),0)","v":0},{"$f":"IFERROR($E128*SUMIF('Daily Log'!$W$18:$W$1017,$B128,'Daily Log'!$X$18:$X$1017),0)","v":0},{"$f":"IFERROR($E128*SUMIF('Daily Log'!$Z$18:$Z$1017,$B128,'Daily Log'!$AA$18:$AA$1017),0)","v":0},{"$f":"IFERROR($E128*SUMIF('Daily Log'!$AC$18:$AC$1017,$B128,'Daily Log'!$AD$18:$AD$1017),0)","v":0},{"$f":"IFERROR($E128*SUMIF('Daily Log'!$AF$18:$AF$1017,$B128,'Daily Log'!$AG$18:$AG$1017),0)","v":0},{"$f":"IFERROR($E128*SUMIF('Daily Log'!$AI$18:$AI$1017,$B128,'Daily Log'!$AJ$18:$AJ$1017),0)","v":0},{"$f":"IFERROR($E128*SUMIF('Daily Log'!$AL$18:$AL$1017,$B128,'Daily Log'!$AM$18:$AM$1017),0)","v":0},{"$f":"IFERROR($E128*SUMIF('Daily Log'!$AO$18:$AO$1017,$B128,'Daily Log'!$AP$18:$AP$1017),0)","v":0},{"$f":"IFERROR($E128*SUMIF('Daily Log'!$AR$18:$AR$1017,$B128,'Daily Log'!$AS$18:$AS$1017),0)","v":0},{"$f":"IFERROR($E128*SUMIF('Daily Log'!$AU$18:$AU$1017,$B128,'Daily Log'!$AV$18:$AV$1017),0)","v":0},{"$f":"IFERROR($E128*SUMIF('Daily Log'!$AX$18:$AX$1017,$B128,'Daily Log'!$AY$18:$AY$1017),0)","v":0},{"$f":"IFERROR($E128*SUMIF('Daily Log'!$BA$18:$BA$1017,$B128,'Daily Log'!$BB$18:$BB$1017),0)","v":0},{"$f":"IFERROR($E128*SUMIF('Daily Log'!$BD$18:$BD$1017,$B128,'Daily Log'!$BE$18:$BE$1017),0)","v":0},{"$f":"IFERROR($E128*SUMIF('Daily Log'!$BG$18:$BG$1017,$B128,'Daily Log'!$BH$18:$BH$1017),0)","v":0},{"$f":"IFERROR($E128*SUMIF('Daily Log'!$BJ$18:$BJ$1017,$B128,'Daily Log'!$BK$18:$BK$1017),0)","v":0},{"$f":"IFERROR($E128*SUMIF('Daily Log'!$BM$18:$BM$1017,$B128,'Daily Log'!$BN$18:$BN$1017),0)","v":0},{"$f":"IFERROR($E128*SUMIF('Daily Log'!$BP$18:$BP$1017,$B128,'Daily Log'!$BQ$18:$BQ$1017),0)","v":0},{"$f":"IFERROR($E128*SUMIF('Daily Log'!$BS$18:$BS$1017,$B128,'Daily Log'!$BT$18:$BT$1017),0)","v":0},{"$f":"IFERROR($E128*SUMIF('Daily Log'!$BV$18:$BV$1017,$B128,'Daily Log'!$BW$18:$BW$1017),0)","v":0},{"$f":"IFERROR($E128*SUMIF('Daily Log'!$BY$18:$BY$1017,$B128,'Daily Log'!$BZ$18:$BZ$1017),0)","v":0},{"$f":"IFERROR($E128*SUMIF('Daily Log'!$CB$18:$CB$1017,$B128,'Daily Log'!$CC$18:$CC$1017),0)","v":0},{"$f":"IFERROR($E128*SUMIF('Daily Log'!$CE$18:$CE$1017,$B128,'Daily Log'!$CF$18:$CF$1017),0)","v":0},{"$f":"IFERROR($E128*SUMIF('Daily Log'!$CH$18:$CH$1017,$B128,'Daily Log'!$CI$18:$CI$1017),0)","v":0},{"$f":"IFERROR($E128*SUMIF('Daily Log'!$CK$18:$CK$1017,$B128,'Daily Log'!$CL$18:$CL$1017),0)","v":0},{"$f":"IFERROR($E128*SUMIF('Daily Log'!$CN$18:$CN$1017,$B128,'Daily Log'!$CO$18:$CO$1017),0)","v":0}]
[null,"AE01 EVE 4HRS SPECIAL",null,null,1,0,{"$f":"IFERROR($E129*SUMIF('Daily Log'!$B$18:$B$1017,$B129,'Daily Log'!$C$18:$C$1017),0)","v":0},{"$f":"IFERROR($E129*SUMIF('Daily Log'!$E$18:$E$1017,$B129,'Daily Log'!$F$18:$F$1017),0)","v":0},{"$f":"IFERROR($E129*SUMIF('Daily Log'!$H$18:$H$1017,$B129,'Daily Log'!$I$18:$I$1017),0)","v":0},{"$f":"IFERROR($E129*SUMIF('Daily Log'!$K$18:$K$1017,$B129,'Daily Log'!$L$18:$L$1017),0)","v":0},{"$f":"IFERROR($E129*SUMIF('Daily Log'!$N$18:$N$1017,$B129,'Daily Log'!$O$18:$O$1017),0)","v":0},{"$f":"IFERROR($E129*SUMIF('Daily Log'!$Q$18:$Q$1017,$B129,'Daily Log'!$R$18:$R$1017),0)","v":0},{"$f":"IFERROR($E129*SUMIF('Daily Log'!$T$18:$T$1017,$B129,'Daily Log'!$U$18:$U$1017),0)","v":0},{"$f":"IFERROR($E129*SUMIF('Daily Log'!$W$18:$W$1017,$B129,'Daily Log'!$X$18:$X$1017),0)","v":0},{"$f":"IFERROR($E129*SUMIF('Daily Log'!$Z$18:$Z$1017,$B129,'Daily Log'!$AA$18:$AA$1017),0)","v":0},{"$f":"IFERROR($E129*SUMIF('Daily Log'!$AC$18:$AC$1017,$B129,'Daily Log'!$AD$18:$AD$1017),0)","v":0},{"$f":"IFERROR($E129*SUMIF('Daily Log'!$AF$18:$AF$1017,$B129,'Daily Log'!$AG$18:$AG$1017),0)","v":0},{"$f":"IFERROR($E129*SUMIF('Daily Log'!$AI$18:$AI$1017,$B129,'Daily Log'!$AJ$18:$AJ$1017),0)","v":0},{"$f":"IFERROR($E129*SUMIF('Daily Log'!$AL$18:$AL$1017,$B129,'Daily Log'!$AM$18:$AM$1017),0)","v":0},{"$f":"IFERROR($E129*SUMIF('Daily Log'!$AO$18:$AO$1017,$B129,'Daily Log'!$AP$18:$AP$1017),0)","v":0},{"$f":"IFERROR($E129*SUMIF('Daily Log'!$AR$18:$AR$1017,$B129,'Daily Log'!$AS$18:$AS$1017),0)","v":0},{"$f":"IFERROR($E129*SUMIF('Daily Log'!$AU$18:$AU$1017,$B129,'Daily Log'!$AV$18:$AV$1017),0)","v":0},{"$f":"IFERROR($E129*SUMIF('Daily Log'!$AX$18:$AX$1017,$B129,'Daily Log'!$AY$18:$AY$1017),0)","v":0},{"$f":"IFERROR($E129*SUMIF('Daily Log'!$BA$18:$BA$1017,$B129,'Daily Log'!$BB$18:$BB$1017),0)","v":0},{"$f":"IFERROR($E129*SUMIF('Daily Log'!$BD$18:$BD$1017,$B129,'Daily Log'!$BE$18:$BE$1017),0)","v":0},{"$f":"IFERROR($E129*SUMIF('Daily Log'!$BG$18:$BG$1017,$B129,'Daily Log'!$BH$18:$BH$1017),0)","v":0},{"$f":"IFERROR($E129*SUMIF('Daily Log'!$BJ$18:$BJ$1017,$B129,'Daily Log'!$BK$18:$BK$1017),0)","v":0},{"$f":"IFERROR($E129*SUMIF('Daily Log'!$BM$18:$BM$1017,$B129,'Daily Log'!$BN$18:$BN$1017),0)","v":0},{"$f":"IFERROR($E129*SUMIF('Daily Log'!$BP$18:$BP$1017,$B129,'Daily Log'!$BQ$18:$BQ$1017),0)","v":0},{"$f":"IFERROR($E129*SUMIF('Daily Log'!$BS$18:$BS$1017,$B129,'Daily Log'!$BT$18:$BT$1017),0)","v":0},{"$f":"IFERROR($E129*SUMIF('Daily Log'!$BV$18:$BV$1017,$B129,'Daily Log'!$BW$18:$BW$1017),0)","v":0},{"$f":"IFERROR($E129*SUMIF('Daily Log'!$BY$18:$BY$1017,$B129,'Daily Log'!$BZ$18:$BZ$1017),0)","v":0},{"$f":"IFERROR($E129*SUMIF('Daily Log'!$CB$18:$CB$1017,$B129,'Daily Log'!$CC$18:$CC$1017),0)","v":0},{"$f":"IFERROR($E129*SUMIF('Daily Log'!$CE$18:$CE$1017,$B129,'Daily Log'!$CF$18:$CF$1017),0)","v":0},{"$f":"IFERROR($E129*SUMIF('Daily Log'!$CH$18:$CH$1017,$B129,'Daily Log'!$CI$18:$CI$1017),0)","v":0},{"$f":"IFERROR($E129*SUMIF('Daily Log'!$CK$18:$CK$1017,$B129,'Daily Log'!$CL$18:$CL$1017),0)","v":0},{"$f":"IFERROR($E129*SUMIF('Daily Log'!$CN$18:$CN$1017,$B129,'Daily Log'!$CO$18:$CO$1017),0)","v":0}]
[null,"AE02 EVE 4HRS MEMBER",null,null,1,0,{"$f":"IFERROR($E130*SUMIF('Daily Log'!$B$18:$B$1017,$B130,'Daily Log'!$C$18:$C$1017),0)","v":0},{"$f":"IFERROR($E130*SUMIF('Daily Log'!$E$18:$E$1017,$B130,'Daily Log'!$F$18:$F$1017),0)","v":0},{"$f":"IFERROR($E130*SUMIF('Daily Log'!$H$18:$H$1017,$B130,'Daily Log'!$I$18:$I$1017),0)","v":0},{"$f":"IFERROR($E130*SUMIF('Daily Log'!$K$18:$K$1017,$B130,'Daily Log'!$L$18:$L$1017),0)","v":0},{"$f":"IFERROR($E130*SUMIF('Daily Log'!$N$18:$N$1017,$B130,'Daily Log'!$O$18:$O$1017),0)","v":0},{"$f":"IFERROR($E130*SUMIF('Daily Log'!$Q$18:$Q$1017,$B130,'Daily Log'!$R$18:$R$1017),0)","v":0},{"$f":"IFERROR($E130*SUMIF('Daily Log'!$T$18:$T$1017,$B130,'Daily Log'!$U$18:$U$1017),0)","v":0},{"$f":"IFERROR($E130*SUMIF('Daily Log'!$W$18:$W$1017,$B130,'Daily Log'!$X$18:$X$1017),0)","v":0},{"$f":"IFERROR($E130*SUMIF('Daily Log'!$Z$18:$Z$1017,$B130,'Daily Log'!$AA$18:$AA$1017),0)","v":0},{"$f":"IFERROR($E130*SUMIF('Daily Log'!$AC$18:$AC$1017,$B130,'Daily Log'!$AD$18:$AD$1017),0)","v":0},{"$f":"IFERROR($E130*SUMIF('Daily Log'!$AF$18:$AF$1017,$B130,'Daily Log'!$AG$18:$AG$1017),0)","v":0},{"$f":"IFERROR($E130*SUMIF('Daily Log'!$AI$18:$AI$1017,$B130,'Daily Log'!$AJ$18:$AJ$1017),0)","v":0},{"$f":"IFERROR($E130*SUMIF('Daily Log'!$AL$18:$AL$1017,$B130,'Daily Log'!$AM$18:$AM$1017),0)","v":0},{"$f":"IFERROR($E130*SUMIF('Daily Log'!$AO$18:$AO$1017,$B130,'Daily Log'!$AP$18:$AP$1017),0)","v":0},{"$f":"IFERROR($E130*SUMIF('Daily Log'!$AR$18:$AR$1017,$B130,'Daily Log'!$AS$18:$AS$1017),0)","v":0},{"$f":"IFERROR($E130*SUMIF('Daily Log'!$AU$18:$AU$1017,$B130,'Daily Log'!$AV$18:$AV$1017),0)","v":0},{"$f":"IFERROR($E130*SUMIF('Daily Log'!$AX$18:$AX$1017,$B130,'Daily Log'!$AY$18:$AY$1017),0)","v":0},{"$f":"IFERROR($E130*SUMIF('Daily Log'!$BA$18:$BA$1017,$B130,'Daily Log'!$BB$18:$BB$1017),0)","v":0},{"$f":"IFERROR($E130*SUMIF('Daily Log'!$BD$18:$BD$1017,$B130,'Daily Log'!$BE$18:$BE$1017),0)","v":0},{"$f":"IFERROR($E130*SUMIF('Daily Log'!$BG$18:$BG$1017,$B130,'Daily Log'!$BH$18:$BH$1017),0)","v":0},{"$f":"IFERROR($E130*SUMIF('Daily Log'!$BJ$18:$BJ$1017,$B130,'Daily Log'!$BK$18:$BK$1017),0)","v":0},{"$f":"IFERROR($E130*SUMIF('Daily Log'!$BM$18:$BM$1017,$B130,'Daily Log'!$BN$18:$BN$1017),0)","v":0},{"$f":"IFERROR($E130*SUMIF('Daily Log'!$BP$18:$BP$1017,$B130,'Daily Log'!$BQ$18:$BQ$1017),0)","v":0},{"$f":"IFERROR($E130*SUMIF('Daily Log'!$BS$18:$BS$1017,$B130,'Daily Log'!$BT$18:$BT$1017),0)","v":0},{"$f":"IFERROR($E130*SUMIF('Daily Log'!$BV$18:$BV$1017,$B130,'Daily Log'!$BW$18:$BW$1017),0)","v":0},{"$f":"IFERROR($E130*SUMIF('Daily Log'!$BY$18:$BY$1017,$B130,'Daily Log'!$BZ$18:$BZ$1017),0)","v":0},{"$f":"IFERROR($E130*SUMIF('Daily Log'!$CB$18:$CB$1017,$B130,'Daily Log'!$CC$18:$CC$1017),0)","v":0},{"$f":"IFERROR($E130*SUMIF('Daily Log'!$CE$18:$CE$1017,$B130,'Daily Log'!$CF$18:$CF$1017),0)","v":0},{"$f":"IFERROR($E130*SUMIF('Daily Log'!$CH$18:$CH$1017,$B130,'Daily Log'!$CI$18:$CI$1017),0)","v":0},{"$f":"IFERROR($E130*SUMIF('Daily Log'!$CK$18:$CK$1017,$B130,'Daily Log'!$CL$18:$CL$1017),0)","v":0},{"$f":"IFERROR($E130*SUMIF('Daily Log'!$CN$18:$CN$1017,$B130,'Daily Log'!$CO$18:$CO$1017),0)","v":0}]
[null,"AE03 EVE 2HRS SPECIAL",null,null,1,0,{"$f":"IFERROR($E131*SUMIF('Daily Log'!$B$18:$B$1017,$B131,'Daily Log'!$C$18:$C$1017),0)","v":0},{"$f":"IFERROR($E131*SUMIF('Daily Log'!$E$18:$E$1017,$B131,'Daily Log'!$F$18:$F$1017),0)","v":0},{"$f":"IFERROR($E131*SUMIF('Daily Log'!$H$18:$H$1017,$B131,'Daily Log'!$I$18:$I$1017),0)","v":0},{"$f":"IFERROR($E131*SUMIF('Daily Log'!$K$18:$K$1017,$B131,'Daily Log'!$L$18:$L$1017),0)","v":0},{"$f":"IFERROR($E131*SUMIF('Daily Log'!$N$18:$N$1017,$B131,'Daily Log'!$O$18:$O$1017),0)","v":0},{"$f":"IFERROR($E131*SUMIF('Daily Log'!$Q$18:$Q$1017,$B131,'Daily Log'!$R$18:$R$1017),0)","v":0},{"$f":"IFERROR($E131*SUMIF('Daily Log'!$T$18:$T$1017,$B131,'Daily Log'!$U$18:$U$1017),0)","v":0},{"$f":"IFERROR($E131*SUMIF('Daily Log'!$W$18:$W$1017,$B131,'Daily Log'!$X$18:$X$1017),0)","v":0},{"$f":"IFERROR($E131*SUMIF('Daily Log'!$Z$18:$Z$1017,$B131,'Daily Log'!$AA$18:$AA$1017),0)","v":0},{"$f":"IFERROR($E131*SUMIF('Daily Log'!$AC$18:$AC$1017,$B131,'Daily Log'!$AD$18:$AD$1017),0)","v":0},{"$f":"IFERROR($E131*SUMIF('Daily Log'!$AF$18:$AF$1017,$B131,'Daily Log'!$AG$18:$AG$1017),0)","v":0},{"$f":"IFERROR($E131*SUMIF('Daily Log'!$AI$18:$AI$1017,$B131,'Daily Log'!$AJ$18:$AJ$1017),0)","v":0},{"$f":"IFERROR($E131*SUMIF('Daily Log'!$AL$18:$AL$1017,$B131,'Daily Log'!$AM$18:$AM$1017),0)","v":0},{"$f":"IFERROR($E131*SUMIF('Daily Log'!$AO$18:$AO$1017,$B131,'Daily Log'!$AP$18:$AP$1017),0)","v":0},{"$f":"IFERROR($E131*SUMIF('Daily Log'!$AR$18:$AR$1017,$B131,'Daily Log'!$AS$18:$AS$1017),0)","v":0},{"$f":"IFERROR($E131*SUMIF('Daily Log'!$AU$18:$AU$1017,$B131,'Daily Log'!$AV$18:$AV$1017),0)","v":0},{"$f":"IFERROR($E131*SUMIF('Daily Log'!$AX$18:$AX$1017,$B131,'Daily Log'!$AY$18:$AY$1017),0)","v":0},{"$f":"IFERROR($E131*SUMIF('Daily Log'!$BA$18:$BA$1017,$B131,'Daily Log'!$BB$18:$BB$1017),0)","v":0},{"$f":"IFERROR($E131*SUMIF('Daily Log'!$BD$18:$BD$1017,$B131,'Daily Log'!$BE$18:$BE$1017),0)","v":0},{"$f":"IFERROR($E131*SUMIF('Daily Log'!$BG$18:$BG$1017,$B131,'Daily Log'!$BH$18:$BH$1017),0)","v":0},{"$f":"IFERROR($E131*SUMIF('Daily Log'!$BJ$18:$BJ$1017,$B131,'Daily Log'!$BK$18:$BK$1017),0)","v":0},{"$f":"IFERROR($E131*SUMIF('Daily Log'!$BM$18:$BM$1017,$B131,'Daily Log'!$BN$18:$BN$1017),0)","v":0},{"$f":"IFERROR($E131*SUMIF('Daily Log'!$BP$18:$BP$1017,$B131,'Daily Log'!$BQ$18:$BQ$1017),0)","v":0},{"$f":"IFERROR($E131*SUMIF('Daily Log'!$BS$18:$BS$1017,$B131,'Daily Log'!$BT$18:$BT$1017),0)","v":0},{"$f":"IFERROR($E131*SUMIF('Daily Log'!$BV$18:$BV$1017,$B131,'Daily Log'!$BW$18:$BW$1017),0)","v":0},{"$f":"IFERROR($E131*SUMIF('Daily Log'!$BY$18:$BY$1017,$B131,'Daily Log'!$BZ$18:$BZ$1017),0)","v":0},{"$f":"IFERROR($E131*SUMIF('Daily Log'!$CB$18:$CB$1017,$B131,'Daily Log'!$CC$18:$CC$1017),0)","v":0},{"$f":"IFERROR($E131*SUMIF('Daily Log'!$CE$18:$CE$1017,$B131,'Daily Log'!$CF$18:$CF$1017),0)","v":0},{"$f":"IFERROR($E131*SUMIF('Daily Log'!$CH$18:$CH$1017,$B131,'Daily Log'!$CI$18:$CI$1017),0)","v":0},{"$f":"IFERROR($E131*SUMIF('Daily Log'!$CK$18:$CK$1017,$B131,'Daily Log'!$CL$18:$CL$1017),0)","v":0},{"$f":"IFERROR($E131*SUMIF('Daily Log'!$CN$18:$CN$1017,$B131,'Daily Log'!$CO$18:$CO$1017),0)","v":0}]
[null,"AE04 EVE 2HRS MEMBER",null,null,1,0,{"$f":"IFERROR($E132*SUMIF('Daily Log'!$B$18:$B$1017,$B132,'Daily Log'!$C$18:$C$1017),0)","v":0},{"$f":"IFERROR($E132*SUMIF('Daily Log'!$E$18:$E$1017,$B132,'Daily Log'!$F$18:$F$1017),0)","v":0},{"$f":"IFERROR($E132*SUMIF('Daily Log'!$H$18:$H$1017,$B132,'Daily Log'!$I$18:$I$1017),0)","v":0},{"$f":"IFERROR($E132*SUMIF('Daily Log'!$K$18:$K$1017,$B132,'Daily Log'!$L$18:$L$1017),0)","v":0},{"$f":"IFERROR($E132*SUMIF('Daily Log'!$N$18:$N$1017,$B132,'Daily Log'!$O$18:$O$1017),0)","v":0},{"$f":"IFERROR($E132*SUMIF('Daily Log'!$Q$18:$Q$1017,$B132,'Daily Log'!$R$18:$R$1017),0)","v":0},{"$f":"IFERROR($E132*SUMIF('Daily Log'!$T$18:$T$1017,$B132,'Daily Log'!$U$18:$U$1017),0)","v":0},{"$f":"IFERROR($E132*SUMIF('Daily Log'!$W$18:$W$1017,$B132,'Daily Log'!$X$18:$X$1017),0)","v":0},{"$f":"IFERROR($E132*SUMIF('Daily Log'!$Z$18:$Z$1017,$B132,'Daily Log'!$AA$18:$AA$1017),0)","v":0},{"$f":"IFERROR($E132*SUMIF('Daily Log'!$AC$18:$AC$1017,$B132,'Daily Log'!$AD$18:$AD$1017),0)","v":0},{"$f":"IFERROR($E132*SUMIF('Daily Log'!$AF$18:$AF$1017,$B132,'Daily Log'!$AG$18:$AG$1017),0)","v":0},{"$f":"IFERROR($E132*SUMIF('Daily Log'!$AI$18:$AI$1017,$B132,'Daily Log'!$AJ$18:$AJ$1017),0)","v":0},{"$f":"IFERROR($E132*SUMIF('Daily Log'!$AL$18:$AL$1017,$B132,'Daily Log'!$AM$18:$AM$1017),0)","v":0},{"$f":"IFERROR($E132*SUMIF('Daily Log'!$AO$18:$AO$1017,$B132,'Daily Log'!$AP$18:$AP$1017),0)","v":0},{"$f":"IFERROR($E132*SUMIF('Daily Log'!$AR$18:$AR$1017,$B132,'Daily Log'!$AS$18:$AS$1017),0)","v":0},{"$f":"IFERROR($E132*SUMIF('Daily Log'!$AU$18:$AU$1017,$B132,'Daily Log'!$AV$18:$AV$1017),0)","v":0},{"$f":"IFERROR($E132*SUMIF('Daily Log'!$AX$18:$AX$1017,$B132,'Daily Log'!$AY$18:$AY$1017),0)","v":0},{"$f":"IFERROR($E132*SUMIF('Daily Log'!$BA$18:$BA$1017,$B132,'Daily Log'!$BB$18:$BB$1017),0)","v":0},{"$f":"IFERROR($E132*SUMIF('Daily Log'!$BD$18:$BD$1017,$B132,'Daily Log'!$BE$18:$BE$1017),0)","v":0},{"$f":"IFERROR($E132*SUMIF('Daily Log'!$BG$18:$BG$1017,$B132,'Daily Log'!$BH$18:$BH$1017),0)","v":0},{"$f":"IFERROR($E132*SUMIF('Daily Log'!$BJ$18:$BJ$1017,$B132,'Daily Log'!$BK$18:$BK$1017),0)","v":0},{"$f":"IFERROR($E132*SUMIF('Daily Log'!$BM$18:$BM$1017,$B132,'Daily Log'!$BN$18:$BN$1017),0)","v":0},{"$f":"IFERROR($E132*SUMIF('Daily Log'!$BP$18:$BP$1017,$B132,'Daily Log'!$BQ$18:$BQ$1017),0)","v":0},{"$f":"IFERROR($E132*SUMIF('Daily Log'!$BS$18:$BS$1017,$B132,'Daily Log'!$BT$18:$BT$1017),0)","v":0},{"$f":"IFERROR($E132*SUMIF('Daily Log'!$BV$18:$BV$1017,$B132,'Daily Log'!$BW$18:$BW$1017),0)","v":0},{"$f":"IFERROR($E132*SUMIF('Daily Log'!$BY$18:$BY$1017,$B132,'Daily Log'!$BZ$18:$BZ$1017),0)","v":0},{"$f":"IFERROR($E132*SUMIF('Daily Log'!$CB$18:$CB$1017,$B132,'Daily Log'!$CC$18:$CC$1017),0)","v":0},{"$f":"IFERROR($E132*SUMIF('Daily Log'!$CE$18:$CE$1017,$B132,'Daily Log'!$CF$18:$CF$1017),0)","v":0},{"$f":"IFERROR($E132*SUMIF('Daily Log'!$CH$18:$CH$1017,$B132,'Daily Log'!$CI$18:$CI$1017),0)","v":0},{"$f":"IFERROR($E132*SUMIF('Daily Log'!$CK$18:$CK$1017,$B132,'Daily Log'!$CL$18:$CL$1017),0)","v":0},{"$f":"IFERROR($E132*SUMIF('Daily Log'!$CN$18:$CN$1017,$B132,'Daily Log'!$CO$18:$CO$1017),0)","v":0}]
[null,"AE05 COUNTDOWN 1P",null,null,1,0,{"$f":"IFERROR($E133*SUMIF('Daily Log'!$B$18:$B$1017,$B133,'Daily Log'!$C$18:$C$1017),0)","v":0},{"$f":"IFERROR($E133*SUMIF('Daily Log'!$E$18:$E$1017,$B133,'Daily Log'!$F$18:$F$1017),0)","v":0},{"$f":"IFERROR($E133*SUMIF('Daily Log'!$H$18:$H$1017,$B133,'Daily Log'!$I$18:$I$1017),0)","v":0},{"$f":"IFERROR($E133*SUMIF('Daily Log'!$K$18:$K$1017,$B133,'Daily Log'!$L$18:$L$1017),0)","v":0},{"$f":"IFERROR($E133*SUMIF('Daily Log'!$N$18:$N$1017,$B133,'Daily Log'!$O$18:$O$1017),0)","v":0},{"$f":"IFERROR($E133*SUMIF('Daily Log'!$Q$18:$Q$1017,$B133,'Daily Log'!$R$18:$R$1017),0)","v":0},{"$f":"IFERROR($E133*SUMIF('Daily Log'!$T$18:$T$1017,$B133,'Daily Log'!$U$18:$U$1017),0)","v":0},{"$f":"IFERROR($E133*SUMIF('Daily Log'!$W$18:$W$1017,$B133,'Daily Log'!$X$18:$X$1017),0)","v":0},{"$f":"IFERROR($E133*SUMIF('Daily Log'!$Z$18:$Z$1017,$B133,'Daily Log'!$AA$18:$AA$1017),0)","v":0},{"$f":"IFERROR($E133*SUMIF('Daily Log'!$AC$18:$AC$1017,$B133,'Daily Log'!$AD$18:$AD$1017),0)","v":0},{"$f":"IFERROR($E133*SUMIF('Daily Log'!$AF$18:$AF$1017,$B133,'Daily Log'!$AG$18:$AG$1017),0)","v":0},{"$f":"IFERROR($E133*SUMIF('Daily Log'!$AI$18:$AI$1017,$B133,'Daily Log'!$AJ$18:$AJ$1017),0)","v":0},{"$f":"IFERROR($E133*SUMIF('Daily Log'!$AL$18:$AL$1017,$B133,'Daily Log'!$AM$18:$AM$1017),0)","v":0},{"$f":"IFERROR($E133*SUMIF('Daily Log'!$AO$18:$AO$1017,$B133,'Daily Log'!$AP$18:$AP$1017),0)","v":0},{"$f":"IFERROR($E133*SUMIF('Daily Log'!$AR$18:$AR$1017,$B133,'Daily Log'!$AS$18:$AS$1017),0)","v":0},{"$f":"IFERROR($E133*SUMIF('Daily Log'!$AU$18:$AU$1017,$B133,'Daily Log'!$AV$18:$AV$1017),0)","v":0},{"$f":"IFERROR($E133*SUMIF('Daily Log'!$AX$18:$AX$1017,$B133,'Daily Log'!$AY$18:$AY$1017),0)","v":0},{"$f":"IFERROR($E133*SUMIF('Daily Log'!$BA$18:$BA$1017,$B133,'Daily Log'!$BB$18:$BB$1017),0)","v":0},{"$f":"IFERROR($E133*SUMIF('Daily Log'!$BD$18:$BD$1017,$B133,'Daily Log'!$BE$18:$BE$1017),0)","v":0},{"$f":"IFERROR($E133*SUMIF('Daily Log'!$BG$18:$BG$1017,$B133,'Daily Log'!$BH$18:$BH$1017),0)","v":0},{"$f":"IFERROR($E133*SUMIF('Daily Log'!$BJ$18:$BJ$1017,$B133,'Daily Log'!$BK$18:$BK$1017),0)","v":0},{"$f":"IFERROR($E133*SUMIF('Daily Log'!$BM$18:$BM$1017,$B133,'Daily Log'!$BN$18:$BN$1017),0)","v":0},{"$f":"IFERROR($E133*SUMIF('Daily Log'!$BP$18:$BP$1017,$B133,'Daily Log'!$BQ$18:$BQ$1017),0)","v":0},{"$f":"IFERROR($E133*SUMIF('Daily Log'!$BS$18:$BS$1017,$B133,'Daily Log'!$BT$18:$BT$1017),0)","v":0},{"$f":"IFERROR($E133*SUMIF('Daily Log'!$BV$18:$BV$1017,$B133,'Daily Log'!$BW$18:$BW$1017),0)","v":0},{"$f":"IFERROR($E133*SUMIF('Daily Log'!$BY$18:$BY$1017,$B133,'Daily Log'!$BZ$18:$BZ$1017),0)","v":0},{"$f":"IFERROR($E133*SUMIF('Daily Log'!$CB$18:$CB$1017,$B133,'Daily Log'!$CC$18:$CC$1017),0)","v":0},{"$f":"IFERROR($E133*SUMIF('Daily Log'!$CE$18:$CE$1017,$B133,'Daily Log'!$CF$18:$CF$1017),0)","v":0},{"$f":"IFERROR($E133*SUMIF('Daily Log'!$CH$18:$CH$1017,$B133,'Daily Log'!$CI$18:$CI$1017),0)","v":0},{"$f":"IFERROR($E133*SUMIF('Daily Log'!$CK$18:$CK$1017,$B133,'Daily Log'!$CL$18:$CL$1017),0)","v":0},{"$f":"IFERROR($E133*SUMIF('Daily Log'!$CN$18:$CN$1017,$B133,'Daily Log'!$CO$18:$CO$1017),0)","v":0}]
[null,"AE06 COUNTDOWN MEMBER",null,null,1,0,{"$f":"IFERROR($E134*SUMIF('Daily Log'!$B$18:$B$1017,$B134,'Daily Log'!$C$18:$C$1017),0)","v":0},{"$f":"IFERROR($E134*SUMIF('Daily Log'!$E$18:$E$1017,$B134,'Daily Log'!$F$18:$F$1017),0)","v":0},{"$f":"IFERROR($E134*SUMIF('Daily Log'!$H$18:$H$1017,$B134,'Daily Log'!$I$18:$I$1017),0)","v":0},{"$f":"IFERROR($E134*SUMIF('Daily Log'!$K$18:$K$1017,$B134,'Daily Log'!$L$18:$L$1017),0)","v":0},{"$f":"IFERROR($E134*SUMIF('Daily Log'!$N$18:$N$1017,$B134,'Daily Log'!$O$18:$O$1017),0)","v":0},{"$f":"IFERROR($E134*SUMIF('Daily Log'!$Q$18:$Q$1017,$B134,'Daily Log'!$R$18:$R$1017),0)","v":0},{"$f":"IFERROR($E134*SUMIF('Daily Log'!$T$18:$T$1017,$B134,'Daily Log'!$U$18:$U$1017),0)","v":0},{"$f":"IFERROR($E134*SUMIF('Daily Log'!$W$18:$W$1017,$B134,'Daily Log'!$X$18:$X$1017),0)","v":0},{"$f":"IFERROR($E134*SUMIF('Daily Log'!$Z$18:$Z$1017,$B134,'Daily Log'!$AA$18:$AA$1017),0)","v":0},{"$f":"IFERROR($E134*SUMIF('Daily Log'!$AC$18:$AC$1017,$B134,'Daily Log'!$AD$18:$AD$1017),0)","v":0},{"$f":"IFERROR($E134*SUMIF('Daily Log'!$AF$18:$AF$1017,$B134,'Daily Log'!$AG$18:$AG$1017),0)","v":0},{"$f":"IFERROR($E134*SUMIF('Daily Log'!$AI$18:$AI$1017,$B134,'Daily Log'!$AJ$18:$AJ$1017),0)","v":0},{"$f":"IFERROR($E134*SUMIF('Daily Log'!$AL$18:$AL$1017,$B134,'Daily Log'!$AM$18:$AM$1017),0)","v":0},{"$f":"IFERROR($E134*SUMIF('Daily Log'!$AO$18:$AO$1017,$B134,'Daily Log'!$AP$18:$AP$1017),0)","v":0},{"$f":"IFERROR($E134*SUMIF('Daily Log'!$AR$18:$AR$1017,$B134,'Daily Log'!$AS$18:$AS$1017),0)","v":0},{"$f":"IFERROR($E134*SUMIF('Daily Log'!$AU$18:$AU$1017,$B134,'Daily Log'!$AV$18:$AV$1017),0)","v":0},{"$f":"IFERROR($E134*SUMIF('Daily Log'!$AX$18:$AX$1017,$B134,'Daily Log'!$AY$18:$AY$1017),0)","v":0},{"$f":"IFERROR($E134*SUMIF('Daily Log'!$BA$18:$BA$1017,$B134,'Daily Log'!$BB$18:$BB$1017),0)","v":0},{"$f":"IFERROR($E134*SUMIF('Daily Log'!$BD$18:$BD$1017,$B134,'Daily Log'!$BE$18:$BE$1017),0)","v":0},{"$f":"IFERROR($E134*SUMIF('Daily Log'!$BG$18:$BG$1017,$B134,'Daily Log'!$BH$18:$BH$1017),0)","v":0},{"$f":"IFERROR($E134*SUMIF('Daily Log'!$BJ$18:$BJ$1017,$B134,'Daily Log'!$BK$18:$BK$1017),0)","v":0},{"$f":"IFERROR($E134*SUMIF('Daily Log'!$BM$18:$BM$1017,$B134,'Daily Log'!$BN$18:$BN$1017),0)","v":0},{"$f":"IFERROR($E134*SUMIF('Daily Log'!$BP$18:$BP$1017,$B134,'Daily Log'!$BQ$18:$BQ$1017),0)","v":0},{"$f":"IFERROR($E134*SUMIF('Daily Log'!$BS$18:$BS$1017,$B134,'Daily Log'!$BT$18:$BT$1017),0)","v":0},{"$f":"IFERROR($E134*SUMIF('Daily Log'!$BV$18:$BV$1017,$B134,'Daily Log'!$BW$18:$BW$1017),0)","v":0},{"$f":"IFERROR($E134*SUMIF('Daily Log'!$BY$18:$BY$1017,$B134,'Daily Log'!$BZ$18:$BZ$1017),0)","v":0},{"$f":"IFERROR($E134*SUMIF('Daily Log'!$CB$18:$CB$1017,$B134,'Daily Log'!$CC$18:$CC$1017),0)","v":0},{"$f":"IFERROR($E134*SUMIF('Daily Log'!$CE$18:$CE$1017,$B134,'Daily Log'!$CF$18:$CF$1017),0)","v":0},{"$f":"IFERROR($E134*SUMIF('Daily Log'!$CH$18:$CH$1017,$B134,'Daily Log'!$CI$18:$CI$1017),0)","v":0},{"$f":"IFERROR($E134*SUMIF('Daily Log'!$CK$18:$CK$1017,$B134,'Daily Log'!$CL$18:$CL$1017),0)","v":0},{"$f":"IFERROR($E134*SUMIF('Daily Log'!$CN$18:$CN$1017,$B134,'Daily Log'!$CO$18:$CO$1017),0)","v":0}]
[null,"AE07 4P NORM PACKAGE",null,null,1,0,{"$f":"IFERROR($E135*SUMIF('Daily Log'!$B$18:$B$1017,$B135,'Daily Log'!$C$18:$C$1017),0)","v":0},{"$f":"IFERROR($E135*SUMIF('Daily Log'!$E$18:$E$1017,$B135,'Daily Log'!$F$18:$F$1017),0)","v":0},{"$f":"IFERROR($E135*SUMIF('Daily Log'!$H$18:$H$1017,$B135,'Daily Log'!$I$18:$I$1017),0)","v":0},{"$f":"IFERROR($E135*SUMIF('Daily Log'!$K$18:$K$1017,$B135,'Daily Log'!$L$18:$L$1017),0)","v":0},{"$f":"IFERROR($E135*SUMIF('Daily Log'!$N$18:$N$1017,$B135,'Daily Log'!$O$18:$O$1017),0)","v":0},{"$f":"IFERROR($E135*SUMIF('Daily Log'!$Q$18:$Q$1017,$B135,'Daily Log'!$R$18:$R$1017),0)","v":0},{"$f":"IFERROR($E135*SUMIF('Daily Log'!$T$18:$T$1017,$B135,'Daily Log'!$U$18:$U$1017),0)","v":0},{"$f":"IFERROR($E135*SUMIF('Daily Log'!$W$18:$W$1017,$B135,'Daily Log'!$X$18:$X$1017),0)","v":0},{"$f":"IFERROR($E135*SUMIF('Daily Log'!$Z$18:$Z$1017,$B135,'Daily Log'!$AA$18:$AA$1017),0)","v":0},{"$f":"IFERROR($E135*SUMIF('Daily Log'!$AC$18:$AC$1017,$B135,'Daily Log'!$AD$18:$AD$1017),0)","v":0},{"$f":"IFERROR($E135*SUMIF('Daily Log'!$AF$18:$AF$1017,$B135,'Daily Log'!$AG$18:$AG$1017),0)","v":0},{"$f":"IFERROR($E135*SUMIF('Daily Log'!$AI$18:$AI$1017,$B135,'Daily Log'!$AJ$18:$AJ$1017),0)","v":0},{"$f":"IFERROR($E135*SUMIF('Daily Log'!$AL$18:$AL$1017,$B135,'Daily Log'!$AM$18:$AM$1017),0)","v":0},{"$f":"IFERROR($E135*SUMIF('Daily Log'!$AO$18:$AO$1017,$B135,'Daily Log'!$AP$18:$AP$1017),0)","v":0},{"$f":"IFERROR($E135*SUMIF('Daily Log'!$AR$18:$AR$1017,$B135,'Daily Log'!$AS$18:$AS$1017),0)","v":0},{"$f":"IFERROR($E135*SUMIF('Daily Log'!$AU$18:$AU$1017,$B135,'Daily Log'!$AV$18:$AV$1017),0)","v":0},{"$f":"IFERROR($E135*SUMIF('Daily Log'!$AX$18:$AX$1017,$B135,'Daily Log'!$AY$18:$AY$1017),0)","v":0},{"$f":"IFERROR($E135*SUMIF('Daily Log'!$BA$18:$BA$1017,$B135,'Daily Log'!$BB$18:$BB$1017),0)","v":0},{"$f":"IFERROR($E135*SUMIF('Daily Log'!$BD$18:$BD$1017,$B135,'Daily Log'!$BE$18:$BE$1017),0)","v":0},{"$f":"IFERROR($E135*SUMIF('Daily Log'!$BG$18:$BG$1017,$B135,'Daily Log'!$BH$18:$BH$1017),0)","v":0},{"$f":"IFERROR($E135*SUMIF('Daily Log'!$BJ$18:$BJ$1017,$B135,'Daily Log'!$BK$18:$BK$1017),0)","v":0},{"$f":"IFERROR($E135*SUMIF('Daily Log'!$BM$18:$BM$1017,$B135,'Daily Log'!$BN$18:$BN$1017),0)","v":0},{"$f":"IFERROR($E135*SUMIF('Daily Log'!$BP$18:$BP$1017,$B135,'Daily Log'!$BQ$18:$BQ$1017),0)","v":0},{"$f":"IFERROR($E135*SUMIF('Daily Log'!$BS$18:$BS$1017,$B135,'Daily Log'!$BT$18:$BT$1017),0)","v":0},{"$f":"IFERROR($E135*SUMIF('Daily Log'!$BV$18:$BV$1017,$B135,'Daily Log'!$BW$18:$BW$1017),0)","v":0},{"$f":"IFERROR($E135*SUMIF('Daily Log'!$BY$18:$BY$1017,$B135,'Daily Log'!$BZ$18:$BZ$1017),0)","v":0},{"$f":"IFERROR($E135*SUMIF('Daily Log'!$CB$18:$CB$1017,$B135,'Daily Log'!$CC$18:$CC$1017),0)","v":0},{"$f":"IFERROR($E135*SUMIF('Daily Log'!$CE$18:$CE$1017,$B135,'Daily Log'!$CF$18:$CF$1017),0)","v":0},{"$f":"IFERROR($E135*SUMIF('Daily Log'!$CH$18:$CH$1017,$B135,'Daily Log'!$CI$18:$CI$1017),0)","v":0},{"$f":"IFERROR($E135*SUMIF('Daily Log'!$CK$18:$CK$1017,$B135,'Daily Log'!$CL$18:$CL$1017),0)","v":0},{"$f":"IFERROR($E135*SUMIF('Daily Log'!$CN$18:$CN$1017,$B135,'Daily Log'!$CO$18:$CO$1017),0)","v":0}]
[null,"AE08 4P BEER PACKAGE",null,null,1,0,{"$f":"IFERROR($E136*SUMIF('Daily Log'!$B$18:$B$1017,$B136,'Daily Log'!$C$18:$C$1017),0)","v":0},{"$f":"IFERROR($E136*SUMIF('Daily Log'!$E$18:$E$1017,$B136,'Daily Log'!$F$18:$F$1017),0)","v":0},{"$f":"IFERROR($E136*SUMIF('Daily Log'!$H$18:$H$1017,$B136,'Daily Log'!$I$18:$I$1017),0)","v":0},{"$f":"IFERROR($E136*SUMIF('Daily Log'!$K$18:$K$1017,$B136,'Daily Log'!$L$18:$L$1017),0)","v":0},{"$f":"IFERROR($E136*SUMIF('Daily Log'!$N$18:$N$1017,$B136,'Daily Log'!$O$18:$O$1017),0)","v":0},{"$f":"IFERROR($E136*SUMIF('Daily Log'!$Q$18:$Q$1017,$B136,'Daily Log'!$R$18:$R$1017),0)","v":0},{"$f":"IFERROR($E136*SUMIF('Daily Log'!$T$18:$T$1017,$B136,'Daily Log'!$U$18:$U$1017),0)","v":0},{"$f":"IFERROR($E136*SUMIF('Daily Log'!$W$18:$W$1017,$B136,'Daily Log'!$X$18:$X$1017),0)","v":0},{"$f":"IFERROR($E136*SUMIF('Daily Log'!$Z$18:$Z$1017,$B136,'Daily Log'!$AA$18:$AA$1017),0)","v":0},{"$f":"IFERROR($E136*SUMIF('Daily Log'!$AC$18:$AC$1017,$B136,'Daily Log'!$AD$18:$AD$1017),0)","v":0},{"$f":"IFERROR($E136*SUMIF('Daily Log'!$AF$18:$AF$1017,$B136,'Daily Log'!$AG$18:$AG$1017),0)","v":0},{"$f":"IFERROR($E136*SUMIF('Daily Log'!$AI$18:$AI$1017,$B136,'Daily Log'!$AJ$18:$AJ$1017),0)","v":0},{"$f":"IFERROR($E136*SUMIF('Daily Log'!$AL$18:$AL$1017,$B136,'Daily Log'!$AM$18:$AM$1017),0)","v":0},{"$f":"IFERROR($E136*SUMIF('Daily Log'!$AO$18:$AO$1017,$B136,'Daily Log'!$AP$18:$AP$1017),0)","v":0},{"$f":"IFERROR($E136*SUMIF('Daily Log'!$AR$18:$AR$1017,$B136,'Daily Log'!$AS$18:$AS$1017),0)","v":0},{"$f":"IFERROR($E136*SUMIF('Daily Log'!$AU$18:$AU$1017,$B136,'Daily Log'!$AV$18:$AV$1017),0)","v":0},{"$f":"IFERROR($E136*SUMIF('Daily Log'!$AX$18:$AX$1017,$B136,'Daily Log'!$AY$18:$AY$1017),0)","v":0},{"$f":"IFERROR($E136*SUMIF('Daily Log'!$BA$18:$BA$1017,$B136,'Daily Log'!$BB$18:$BB$1017),0)","v":0},{"$f":"IFERROR($E136*SUMIF('Daily Log'!$BD$18:$BD$1017,$B136,'Daily Log'!$BE$18:$BE$1017),0)","v":0},{"$f":"IFERROR($E136*SUMIF('Daily Log'!$BG$18:$BG$1017,$B136,'Daily Log'!$BH$18:$BH$1017),0)","v":0},{"$f":"IFERROR($E136*SUMIF('Daily Log'!$BJ$18:$BJ$1017,$B136,'Daily Log'!$BK$18:$BK$1017),0)","v":0},{"$f":"IFERROR($E136*SUMIF('Daily Log'!$BM$18:$BM$1017,$B136,'Daily Log'!$BN$18:$BN$1017),0)","v":0},{"$f":"IFERROR($E136*SUMIF('Daily Log'!$BP$18:$BP$1017,$B136,'Daily Log'!$BQ$18:$BQ$1017),0)","v":0},{"$f":"IFERROR($E136*SUMIF('Daily Log'!$BS$18:$BS$1017,$B136,'Daily Log'!$BT$18:$BT$1017),0)","v":0},{"$f":"IFERROR($E136*SUMIF('Daily Log'!$BV$18:$BV$1017,$B136,'Daily Log'!$BW$18:$BW$1017),0)","v":0},{"$f":"IFERROR($E136*SUMIF('Daily Log'!$BY$18:$BY$1017,$B136,'Daily Log'!$BZ$18:$BZ$1017),0)","v":0},{"$f":"IFERROR($E136*SUMIF('Daily Log'!$CB$18:$CB$1017,$B136,'Daily Log'!$CC$18:$CC$1017),0)","v":0},{"$f":"IFERROR($E136*SUMIF('Daily Log'!$CE$18:$CE$1017,$B136,'Daily Log'!$CF$18:$CF$1017),0)","v":0},{"$f":"IFERROR($E136*SUMIF('Daily Log'!$CH$18:$CH$1017,$B136,'Daily Log'!$CI$18:$CI$1017),0)","v":0},{"$f":"IFERROR($E136*SUMIF('Daily Log'!$CK$18:$CK$1017,$B136,'Daily Log'!$CL$18:$CL$1017),0)","v":0},{"$f":"IFERROR($E136*SUMIF('Daily Log'!$CN$18:$CN$1017,$B136,'Daily Log'!$CO$18:$CO$1017),0)","v":0}]
[null,"AE09 PACKAGE ADD-ON",null,null,1,0,{"$f":"IFERROR($E137*SUMIF('Daily Log'!$B$18:$B$1017,$B137,'Daily Log'!$C$18:$C$1017),0)","v":0},{"$f":"IFERROR($E137*SUMIF('Daily Log'!$E$18:$E$1017,$B137,'Daily Log'!$F$18:$F$1017),0)","v":0},{"$f":"IFERROR($E137*SUMIF('Daily Log'!$H$18:$H$1017,$B137,'Daily Log'!$I$18:$I$1017),0)","v":0},{"$f":"IFERROR($E137*SUMIF('Daily Log'!$K$18:$K$1017,$B137,'Daily Log'!$L$18:$L$1017),0)","v":0},{"$f":"IFERROR($E137*SUMIF('Daily Log'!$N$18:$N$1017,$B137,'Daily Log'!$O$18:$O$1017),0)","v":0},{"$f":"IFERROR($E137*SUMIF('Daily Log'!$Q$18:$Q$1017,$B137,'Daily Log'!$R$18:$R$1017),0)","v":0},{"$f":"IFERROR($E137*SUMIF('Daily Log'!$T$18:$T$1017,$B137,'Daily Log'!$U$18:$U$1017),0)","v":0},{"$f":"IFERROR($E137*SUMIF('Daily Log'!$W$18:$W$1017,$B137,'Daily Log'!$X$18:$X$1017),0)","v":0},{"$f":"IFERROR($E137*SUMIF('Daily Log'!$Z$18:$Z$1017,$B137,'Daily Log'!$AA$18:$AA$1017),0)","v":0},{"$f":"IFERROR($E137*SUMIF('Daily Log'!$AC$18:$AC$1017,$B137,'Daily Log'!$AD$18:$AD$1017),0)","v":0},{"$f":"IFERROR($E137*SUMIF('Daily Log'!$AF$18:$AF$1017,$B137,'Daily Log'!$AG$18:$AG$1017),0)","v":0},{"$f":"IFERROR($E137*SUMIF('Daily Log'!$AI$18:$AI$1017,$B137,'Daily Log'!$AJ$18:$AJ$1017),0)","v":0},{"$f":"IFERROR($E137*SUMIF('Daily Log'!$AL$18:$AL$1017,$B137,'Daily Log'!$AM$18:$AM$1017),0)","v":0},{"$f":"IFERROR($E137*SUMIF('Daily Log'!$AO$18:$AO$1017,$B137,'Daily Log'!$AP$18:$AP$1017),0)","v":0},{"$f":"IFERROR($E137*SUMIF('Daily Log'!$AR$18:$AR$1017,$B137,'Daily Log'!$AS$18:$AS$1017),0)","v":0},{"$f":"IFERROR($E137*SUMIF('Daily Log'!$AU$18:$AU$1017,$B137,'Daily Log'!$AV$18:$AV$1017),0)","v":0},{"$f":"IFERROR($E137*SUMIF('Daily Log'!$AX$18:$AX$1017,$B137,'Daily Log'!$AY$18:$AY$1017),0)","v":0},{"$f":"IFERROR($E137*SUMIF('Daily Log'!$BA$18:$BA$1017,$B137,'Daily Log'!$BB$18:$BB$1017),0)","v":0},{"$f":"IFERROR($E137*SUMIF('Daily Log'!$BD$18:$BD$1017,$B137,'Daily Log'!$BE$18:$BE$1017),0)","v":0},{"$f":"IFERROR($E137*SUMIF('Daily Log'!$BG$18:$BG$1017,$B137,'Daily Log'!$BH$18:$BH$1017),0)","v":0},{"$f":"IFERROR($E137*SUMIF('Daily Log'!$BJ$18:$BJ$1017,$B137,'Daily Log'!$BK$18:$BK$1017),0)","v":0},{"$f":"IFERROR($E137*SUMIF('Daily Log'!$BM$18:$BM$1017,$B137,'Daily Log'!$BN$18:$BN$1017),0)","v":0},{"$f":"IFERROR($E137*SUMIF('Daily Log'!$BP$18:$BP$1017,$B137,'Daily Log'!$BQ$18:$BQ$1017),0)","v":0},{"$f":"IFERROR($E137*SUMIF('Daily Log'!$BS$18:$BS$1017,$B137,'Daily Log'!$BT$18:$BT$1017),0)","v":0},{"$f":"IFERROR($E137*SUMIF('Daily Log'!$BV$18:$BV$1017,$B137,'Daily Log'!$BW$18:$BW$1017),0)","v":0},{"$f":"IFERROR($E137*SUMIF('Daily Log'!$BY$18:$BY$1017,$B137,'Daily Log'!$BZ$18:$BZ$1017),0)","v":0},{"$f":"IFERROR($E137*SUMIF('Daily Log'!$CB$18:$CB$1017,$B137,'Daily Log'!$CC$18:$CC$1017),0)","v":0},{"$f":"IFERROR($E137*SUMIF('Daily Log'!$CE$18:$CE$1017,$B137,'Daily Log'!$CF$18:$CF$1017),0)","v":0},{"$f":"IFERROR($E137*SUMIF('Daily Log'!$CH$18:$CH$1017,$B137,'Daily Log'!$CI$18:$CI$1017),0)","v":0},{"$f":"IFERROR($E137*SUMIF('Daily Log'!$CK$18:$CK$1017,$B137,'Daily Log'!$CL$18:$CL$1017),0)","v":0},{"$f":"IFERROR($E137*SUMIF('Daily Log'!$CN$18:$CN$1017,$B137,'Daily Log'!$CO$18:$CO$1017),0)","v":0}]
[null,"AE10 ADD-ON MEMBER",null,null,1,0,{"$f":"IFERROR($E138*SUMIF('Daily Log'!$B$18:$B$1017,$B138,'Daily Log'!$C$18:$C$1017),0)","v":0},{"$f":"IFERROR($E138*SUMIF('Daily Log'!$E$18:$E$1017,$B138,'Daily Log'!$F$18:$F$1017),0)","v":0},{"$f":"IFERROR($E138*SUMIF('Daily Log'!$H$18:$H$1017,$B138,'Daily Log'!$I$18:$I$1017),0)","v":0},{"$f":"IFERROR($E138*SUMIF('Daily Log'!$K$18:$K$1017,$B138,'Daily Log'!$L$18:$L$1017),0)","v":0},{"$f":"IFERROR($E138*SUMIF('Daily Log'!$N$18:$N$1017,$B138,'Daily Log'!$O$18:$O$1017),0)","v":0},{"$f":"IFERROR($E138*SUMIF('Daily Log'!$Q$18:$Q$1017,$B138,'Daily Log'!$R$18:$R$1017),0)","v":0},{"$f":"IFERROR($E138*SUMIF('Daily Log'!$T$18:$T$1017,$B138,'Daily Log'!$U$18:$U$1017),0)","v":0},{"$f":"IFERROR($E138*SUMIF('Daily Log'!$W$18:$W$1017,$B138,'Daily Log'!$X$18:$X$1017),0)","v":0},{"$f":"IFERROR($E138*SUMIF('Daily Log'!$Z$18:$Z$1017,$B138,'Daily Log'!$AA$18:$AA$1017),0)","v":0},{"$f":"IFERROR($E138*SUMIF('Daily Log'!$AC$18:$AC$1017,$B138,'Daily Log'!$AD$18:$AD$1017),0)","v":0},{"$f":"IFERROR($E138*SUMIF('Daily Log'!$AF$18:$AF$1017,$B138,'Daily Log'!$AG$18:$AG$1017),0)","v":0},{"$f":"IFERROR($E138*SUMIF('Daily Log'!$AI$18:$AI$1017,$B138,'Daily Log'!$AJ$18:$AJ$1017),0)","v":0},{"$f":"IFERROR($E138*SUMIF('Daily Log'!$AL$18:$AL$1017,$B138,'Daily Log'!$AM$18:$AM$1017),0)","v":0},{"$f":"IFERROR($E138*SUMIF('Daily Log'!$AO$18:$AO$1017,$B138,'Daily Log'!$AP$18:$AP$1017),0)","v":0},{"$f":"IFERROR($E138*SUMIF('Daily Log'!$AR$18:$AR$1017,$B138,'Daily Log'!$AS$18:$AS$1017),0)","v":0},{"$f":"IFERROR($E138*SUMIF('Daily Log'!$AU$18:$AU$1017,$B138,'Daily Log'!$AV$18:$AV$1017),0)","v":0},{"$f":"IFERROR($E138*SUMIF('Daily Log'!$AX$18:$AX$1017,$B138,'Daily Log'!$AY$18:$AY$1017),0)","v":0},{"$f":"IFERROR($E138*SUMIF('Daily Log'!$BA$18:$BA$1017,$B138,'Daily Log'!$BB$18:$BB$1017),0)","v":0},{"$f":"IFERROR($E138*SUMIF('Daily Log'!$BD$18:$BD$1017,$B138,'Daily Log'!$BE$18:$BE$1017),0)","v":0},{"$f":"IFERROR($E138*SUMIF('Daily Log'!$BG$18:$BG$1017,$B138,'Daily Log'!$BH$18:$BH$1017),0)","v":0},{"$f":"IFERROR($E138*SUMIF('Daily Log'!$BJ$18:$BJ$1017,$B138,'Daily Log'!$BK$18:$BK$1017),0)","v":0},{"$f":"IFERROR($E138*SUMIF('Daily Log'!$BM$18:$BM$1017,$B138,'Daily Log'!$BN$18:$BN$1017),0)","v":0},{"$f":"IFERROR($E138*SUMIF('Daily Log'!$BP$18:$BP$1017,$B138,'Daily Log'!$BQ$18:$BQ$1017),0)","v":0},{"$f":"IFERROR($E138*SUMIF('Daily Log'!$BS$18:$BS$1017,$B138,'Daily Log'!$BT$18:$BT$1017),0)","v":0},{"$f":"IFERROR($E138*SUMIF('Daily Log'!$BV$18:$BV$1017,$B138,'Daily Log'!$BW$18:$BW$1017),0)","v":0},{"$f":"IFERROR($E138*SUMIF('Daily Log'!$BY$18:$BY$1017,$B138,'Daily Log'!$BZ$18:$BZ$1017),0)","v":0},{"$f":"IFERROR($E138*SUMIF('Daily Log'!$CB$18:$CB$1017,$B138,'Daily Log'!$CC$18:$CC$1017),0)","v":0},{"$f":"IFERROR($E138*SUMIF('Daily Log'!$CE$18:$CE$1017,$B138,'Daily Log'!$CF$18:$CF$1017),0)","v":0},{"$f":"IFERROR($E138*SUMIF('Daily Log'!$CH$18:$CH$1017,$B138,'Daily Log'!$CI$18:$CI$1017),0)","v":0},{"$f":"IFERROR($E138*SUMIF('Daily Log'!$CK$18:$CK$1017,$B138,'Daily Log'!$CL$18:$CL$1017),0)","v":0},{"$f":"IFERROR($E138*SUMIF('Daily Log'!$CN$18:$CN$1017,$B138,'Daily Log'!$CO$18:$CO$1017),0)","v":0}]
[null,"AE11 SMALL ROOM",null,null,1,0,{"$f":"IFERROR($E139*SUMIF('Daily Log'!$B$18:$B$1017,$B139,'Daily Log'!$C$18:$C$1017),0)","v":0},{"$f":"IFERROR($E139*SUMIF('Daily Log'!$E$18:$E$1017,$B139,'Daily Log'!$F$18:$F$1017),0)","v":0},{"$f":"IFERROR($E139*SUMIF('Daily Log'!$H$18:$H$1017,$B139,'Daily Log'!$I$18:$I$1017),0)","v":0},{"$f":"IFERROR($E139*SUMIF('Daily Log'!$K$18:$K$1017,$B139,'Daily Log'!$L$18:$L$1017),0)","v":0},{"$f":"IFERROR($E139*SUMIF('Daily Log'!$N$18:$N$1017,$B139,'Daily Log'!$O$18:$O$1017),0)","v":0},{"$f":"IFERROR($E139*SUMIF('Daily Log'!$Q$18:$Q$1017,$B139,'Daily Log'!$R$18:$R$1017),0)","v":0},{"$f":"IFERROR($E139*SUMIF('Daily Log'!$T$18:$T$1017,$B139,'Daily Log'!$U$18:$U$1017),0)","v":0},{"$f":"IFERROR($E139*SUMIF('Daily Log'!$W$18:$W$1017,$B139,'Daily Log'!$X$18:$X$1017),0)","v":0},{"$f":"IFERROR($E139*SUMIF('Daily Log'!$Z$18:$Z$1017,$B139,'Daily Log'!$AA$18:$AA$1017),0)","v":0},{"$f":"IFERROR($E139*SUMIF('Daily Log'!$AC$18:$AC$1017,$B139,'Daily Log'!$AD$18:$AD$1017),0)","v":0},{"$f":"IFERROR($E139*SUMIF('Daily Log'!$AF$18:$AF$1017,$B139,'Daily Log'!$AG$18:$AG$1017),0)","v":0},{"$f":"IFERROR($E139*SUMIF('Daily Log'!$AI$18:$AI$1017,$B139,'Daily Log'!$AJ$18:$AJ$1017),0)","v":0},{"$f":"IFERROR($E139*SUMIF('Daily Log'!$AL$18:$AL$1017,$B139,'Daily Log'!$AM$18:$AM$1017),0)","v":0},{"$f":"IFERROR($E139*SUMIF('Daily Log'!$AO$18:$AO$1017,$B139,'Daily Log'!$AP$18:$AP$1017),0)","v":0},{"$f":"IFERROR($E139*SUMIF('Daily Log'!$AR$18:$AR$1017,$B139,'Daily Log'!$AS$18:$AS$1017),0)","v":0},{"$f":"IFERROR($E139*SUMIF('Daily Log'!$AU$18:$AU$1017,$B139,'Daily Log'!$AV$18:$AV$1017),0)","v":0},{"$f":"IFERROR($E139*SUMIF('Daily Log'!$AX$18:$AX$1017,$B139,'Daily Log'!$AY$18:$AY$1017),0)","v":0},{"$f":"IFERROR($E139*SUMIF('Daily Log'!$BA$18:$BA$1017,$B139,'Daily Log'!$BB$18:$BB$1017),0)","v":0},{"$f":"IFERROR($E139*SUMIF('Daily Log'!$BD$18:$BD$1017,$B139,'Daily Log'!$BE$18:$BE$1017),0)","v":0},{"$f":"IFERROR($E139*SUMIF('Daily Log'!$BG$18:$BG$1017,$B139,'Daily Log'!$BH$18:$BH$1017),0)","v":0},{"$f":"IFERROR($E139*SUMIF('Daily Log'!$BJ$18:$BJ$1017,$B139,'Daily Log'!$BK$18:$BK$1017),0)","v":0},{"$f":"IFERROR($E139*SUMIF('Daily Log'!$BM$18:$BM$1017,$B139,'Daily Log'!$BN$18:$BN$1017),0)","v":0},{"$f":"IFERROR($E139*SUMIF('Daily Log'!$BP$18:$BP$1017,$B139,'Daily Log'!$BQ$18:$BQ$1017),0)","v":0},{"$f":"IFERROR($E139*SUMIF('Daily Log'!$BS$18:$BS$1017,$B139,'Daily Log'!$BT$18:$BT$1017),0)","v":0},{"$f":"IFERROR($E139*SUMIF('Daily Log'!$BV$18:$BV$1017,$B139,'Daily Log'!$BW$18:$BW$1017),0)","v":0},{"$f":"IFERROR($E139*SUMIF('Daily Log'!$BY$18:$BY$1017,$B139,'Daily Log'!$BZ$18:$BZ$1017),0)","v":0},{"$f":"IFERROR($E139*SUMIF('Daily Log'!$CB$18:$CB$1017,$B139,'Daily Log'!$CC$18:$CC$1017),0)","v":0},{"$f":"IFERROR($E139*SUMIF('Daily Log'!$CE$18:$CE$1017,$B139,'Daily Log'!$CF$18:$CF$1017),0)","v":0},{"$f":"IFERROR($E139*SUMIF('Daily Log'!$CH$18:$CH$1017,$B139,'Daily Log'!$CI$18:$CI$1017),0)","v":0},{"$f":"IFERROR($E139*SUMIF('Daily Log'!$CK$18:$CK$1017,$B139,'Daily Log'!$CL$18:$CL$1017),0)","v":0},{"$f":"IFERROR($E139*SUMIF('Daily Log'!$CN$18:$CN$1017,$B139,'Daily Log'!$CO$18:$CO$1017),0)","v":0}]
[null,"AE12 MEDIUM ROOM",null,null,1,0,{"$f":"IFERROR($E140*SUMIF('Daily Log'!$B$18:$B$1017,$B140,'Daily Log'!$C$18:$C$1017),0)","v":0},{"$f":"IFERROR($E140*SUMIF('Daily Log'!$E$18:$E$1017,$B140,'Daily Log'!$F$18:$F$1017),0)","v":0},{"$f":"IFERROR($E140*SUMIF('Daily Log'!$H$18:$H$1017,$B140,'Daily Log'!$I$18:$I$1017),0)","v":0},{"$f":"IFERROR($E140*SUMIF('Daily Log'!$K$18:$K$1017,$B140,'Daily Log'!$L$18:$L$1017),0)","v":0},{"$f":"IFERROR($E140*SUMIF('Daily Log'!$N$18:$N$1017,$B140,'Daily Log'!$O$18:$O$1017),0)","v":0},{"$f":"IFERROR($E140*SUMIF('Daily Log'!$Q$18:$Q$1017,$B140,'Daily Log'!$R$18:$R$1017),0)","v":0},{"$f":"IFERROR($E140*SUMIF('Daily Log'!$T$18:$T$1017,$B140,'Daily Log'!$U$18:$U$1017),0)","v":0},{"$f":"IFERROR($E140*SUMIF('Daily Log'!$W$18:$W$1017,$B140,'Daily Log'!$X$18:$X$1017),0)","v":0},{"$f":"IFERROR($E140*SUMIF('Daily Log'!$Z$18:$Z$1017,$B140,'Daily Log'!$AA$18:$AA$1017),0)","v":0},{"$f":"IFERROR($E140*SUMIF('Daily Log'!$AC$18:$AC$1017,$B140,'Daily Log'!$AD$18:$AD$1017),0)","v":0},{"$f":"IFERROR($E140*SUMIF('Daily Log'!$AF$18:$AF$1017,$B140,'Daily Log'!$AG$18:$AG$1017),0)","v":0},{"$f":"IFERROR($E140*SUMIF('Daily Log'!$AI$18:$AI$1017,$B140,'Daily Log'!$AJ$18:$AJ$1017),0)","v":0},{"$f":"IFERROR($E140*SUMIF('Daily Log'!$AL$18:$AL$1017,$B140,'Daily Log'!$AM$18:$AM$1017),0)","v":0},{"$f":"IFERROR($E140*SUMIF('Daily Log'!$AO$18:$AO$1017,$B140,'Daily Log'!$AP$18:$AP$1017),0)","v":0},{"$f":"IFERROR($E140*SUMIF('Daily Log'!$AR$18:$AR$1017,$B140,'Daily Log'!$AS$18:$AS$1017),0)","v":0},{"$f":"IFERROR($E140*SUMIF('Daily Log'!$AU$18:$AU$1017,$B140,'Daily Log'!$AV$18:$AV$1017),0)","v":0},{"$f":"IFERROR($E140*SUMIF('Daily Log'!$AX$18:$AX$1017,$B140,'Daily Log'!$AY$18:$AY$1017),0)","v":0},{"$f":"IFERROR($E140*SUMIF('Daily Log'!$BA$18:$BA$1017,$B140,'Daily Log'!$BB$18:$BB$1017),0)","v":0},{"$f":"IFERROR($E140*SUMIF('Daily Log'!$BD$18:$BD$1017,$B140,'Daily Log'!$BE$18:$BE$1017),0)","v":0},{"$f":"IFERROR($E140*SUMIF('Daily Log'!$BG$18:$BG$1017,$B140,'Daily Log'!$BH$18:$BH$1017),0)","v":0},{"$f":"IFERROR($E140*SUMIF('Daily Log'!$BJ$18:$BJ$1017,$B140,'Daily Log'!$BK$18:$BK$1017),0)","v":0},{"$f":"IFERROR($E140*SUMIF('Daily Log'!$BM$18:$BM$1017,$B140,'Daily Log'!$BN$18:$BN$1017),0)","v":0},{"$f":"IFERROR($E140*SUMIF('Daily Log'!$BP$18:$BP$1017,$B140,'Daily Log'!$BQ$18:$BQ$1017),0)","v":0},{"$f":"IFERROR($E140*SUMIF('Daily Log'!$BS$18:$BS$1017,$B140,'Daily Log'!$BT$18:$BT$1017),0)","v":0},{"$f":"IFERROR($E140*SUMIF('Daily Log'!$BV$18:$BV$1017,$B140,'Daily Log'!$BW$18:$BW$1017),0)","v":0},{"$f":"IFERROR($E140*SUMIF('Daily Log'!$BY$18:$BY$1017,$B140,'Daily Log'!$BZ$18:$BZ$1017),0)","v":0},{"$f":"IFERROR($E140*SUMIF('Daily Log'!$CB$18:$CB$1017,$B140,'Daily Log'!$CC$18:$CC$1017),0)","v":0},{"$f":"IFERROR($E140*SUMIF('Daily Log'!$CE$18:$CE$1017,$B140,'Daily Log'!$CF$18:$CF$1017),0)","v":0},{"$f":"IFERROR($E140*SUMIF('Daily Log'!$CH$18:$CH$1017,$B140,'Daily Log'!$CI$18:$CI$1017),0)","v":0},{"$f":"IFERROR($E140*SUMIF('Daily Log'!$CK$18:$CK$1017,$B140,'Daily Log'!$CL$18:$CL$1017),0)","v":0},{"$f":"IFERROR($E140*SUMIF('Daily Log'!$CN$18:$CN$1017,$B140,'Daily Log'!$CO$18:$CO$1017),0)","v":0}]
[null,"AE13 M.BIG ROOM",null,null,1,0,{"$f":"IFERROR($E141*SUMIF('Daily Log'!$B$18:$B$1017,$B141,'Daily Log'!$C$18:$C$1017),0)","v":0},{"$f":"IFERROR($E141*SUMIF('Daily Log'!$E$18:$E$1017,$B141,'Daily Log'!$F$18:$F$1017),0)","v":0},{"$f":"IFERROR($E141*SUMIF('Daily Log'!$H$18:$H$1017,$B141,'Daily Log'!$I$18:$I$1017),0)","v":0},{"$f":"IFERROR($E141*SUMIF('Daily Log'!$K$18:$K$1017,$B141,'Daily Log'!$L$18:$L$1017),0)","v":0},{"$f":"IFERROR($E141*SUMIF('Daily Log'!$N$18:$N$1017,$B141,'Daily Log'!$O$18:$O$1017),0)","v":0},{"$f":"IFERROR($E141*SUMIF('Daily Log'!$Q$18:$Q$1017,$B141,'Daily Log'!$R$18:$R$1017),0)","v":0},{"$f":"IFERROR($E141*SUMIF('Daily Log'!$T$18:$T$1017,$B141,'Daily Log'!$U$18:$U$1017),0)","v":0},{"$f":"IFERROR($E141*SUMIF('Daily Log'!$W$18:$W$1017,$B141,'Daily Log'!$X$18:$X$1017),0)","v":0},{"$f":"IFERROR($E141*SUMIF('Daily Log'!$Z$18:$Z$1017,$B141,'Daily Log'!$AA$18:$AA$1017),0)","v":0},{"$f":"IFERROR($E141*SUMIF('Daily Log'!$AC$18:$AC$1017,$B141,'Daily Log'!$AD$18:$AD$1017),0)","v":0},{"$f":"IFERROR($E141*SUMIF('Daily Log'!$AF$18:$AF$1017,$B141,'Daily Log'!$AG$18:$AG$1017),0)","v":0},{"$f":"IFERROR($E141*SUMIF('Daily Log'!$AI$18:$AI$1017,$B141,'Daily Log'!$AJ$18:$AJ$1017),0)","v":0},{"$f":"IFERROR($E141*SUMIF('Daily Log'!$AL$18:$AL$1017,$B141,'Daily Log'!$AM$18:$AM$1017),0)","v":0},{"$f":"IFERROR($E141*SUMIF('Daily Log'!$AO$18:$AO$1017,$B141,'Daily Log'!$AP$18:$AP$1017),0)","v":0},{"$f":"IFERROR($E141*SUMIF('Daily Log'!$AR$18:$AR$1017,$B141,'Daily Log'!$AS$18:$AS$1017),0)","v":0},{"$f":"IFERROR($E141*SUMIF('Daily Log'!$AU$18:$AU$1017,$B141,'Daily Log'!$AV$18:$AV$1017),0)","v":0},{"$f":"IFERROR($E141*SUMIF('Daily Log'!$AX$18:$AX$1017,$B141,'Daily Log'!$AY$18:$AY$1017),0)","v":0},{"$f":"IFERROR($E141*SUMIF('Daily Log'!$BA$18:$BA$1017,$B141,'Daily Log'!$BB$18:$BB$1017),0)","v":0},{"$f":"IFERROR($E141*SUMIF('Daily Log'!$BD$18:$BD$1017,$B141,'Daily Log'!$BE$18:$BE$1017),0)","v":0},{"$f":"IFERROR($E141*SUMIF('Daily Log'!$BG$18:$BG$1017,$B141,'Daily Log'!$BH$18:$BH$1017),0)","v":0},{"$f":"IFERROR($E141*SUMIF('Daily Log'!$BJ$18:$BJ$1017,$B141,'Daily Log'!$BK$18:$BK$1017),0)","v":0},{"$f":"IFERROR($E141*SUMIF('Daily Log'!$BM$18:$BM$1017,$B141,'Daily Log'!$BN$18:$BN$1017),0)","v":0},{"$f":"IFERROR($E141*SUMIF('Daily Log'!$BP$18:$BP$1017,$B141,'Daily Log'!$BQ$18:$BQ$1017),0)","v":0},{"$f":"IFERROR($E141*SUMIF('Daily Log'!$BS$18:$BS$1017,$B141,'Daily Log'!$BT$18:$BT$1017),0)","v":0},{"$f":"IFERROR($E141*SUMIF('Daily Log'!$BV$18:$BV$1017,$B141,'Daily Log'!$BW$18:$BW$1017),0)","v":0},{"$f":"IFERROR($E141*SUMIF('Daily Log'!$BY$18:$BY$1017,$B141,'Daily Log'!$BZ$18:$BZ$1017),0)","v":0},{"$f":"IFERROR($E141*SUMIF('Daily Log'!$CB$18:$CB$1017,$B141,'Daily Log'!$CC$18:$CC$1017),0)","v":0},{"$f":"IFERROR($E141*SUMIF('Daily Log'!$CE$18:$CE$1017,$B141,'Daily Log'!$CF$18:$CF$1017),0)","v":0},{"$f":"IFERROR($E141*SUMIF('Daily Log'!$CH$18:$CH$1017,$B141,'Daily Log'!$CI$18:$CI$1017),0)","v":0},{"$f":"IFERROR($E141*SUMIF('Daily Log'!$CK$18:$CK$1017,$B141,'Daily Log'!$CL$18:$CL$1017),0)","v":0},{"$f":"IFERROR($E141*SUMIF('Daily Log'!$CN$18:$CN$1017,$B141,'Daily Log'!$CO$18:$CO$1017),0)","v":0}]
[null,"AE14 BIG ROOM",null,null,1,0,{"$f":"IFERROR($E142*SUMIF('Daily Log'!$B$18:$B$1017,$B142,'Daily Log'!$C$18:$C$1017),0)","v":0},{"$f":"IFERROR($E142*SUMIF('Daily Log'!$E$18:$E$1017,$B142,'Daily Log'!$F$18:$F$1017),0)","v":0},{"$f":"IFERROR($E142*SUMIF('Daily Log'!$H$18:$H$1017,$B142,'Daily Log'!$I$18:$I$1017),0)","v":0},{"$f":"IFERROR($E142*SUMIF('Daily Log'!$K$18:$K$1017,$B142,'Daily Log'!$L$18:$L$1017),0)","v":0},{"$f":"IFERROR($E142*SUMIF('Daily Log'!$N$18:$N$1017,$B142,'Daily Log'!$O$18:$O$1017),0)","v":0},{"$f":"IFERROR($E142*SUMIF('Daily Log'!$Q$18:$Q$1017,$B142,'Daily Log'!$R$18:$R$1017),0)","v":0},{"$f":"IFERROR($E142*SUMIF('Daily Log'!$T$18:$T$1017,$B142,'Daily Log'!$U$18:$U$1017),0)","v":0},{"$f":"IFERROR($E142*SUMIF('Daily Log'!$W$18:$W$1017,$B142,'Daily Log'!$X$18:$X$1017),0)","v":0},{"$f":"IFERROR($E142*SUMIF('Daily Log'!$Z$18:$Z$1017,$B142,'Daily Log'!$AA$18:$AA$1017),0)","v":0},{"$f":"IFERROR($E142*SUMIF('Daily Log'!$AC$18:$AC$1017,$B142,'Daily Log'!$AD$18:$AD$1017),0)","v":0},{"$f":"IFERROR($E142*SUMIF('Daily Log'!$AF$18:$AF$1017,$B142,'Daily Log'!$AG$18:$AG$1017),0)","v":0},{"$f":"IFERROR($E142*SUMIF('Daily Log'!$AI$18:$AI$1017,$B142,'Daily Log'!$AJ$18:$AJ$1017),0)","v":0},{"$f":"IFERROR($E142*SUMIF('Daily Log'!$AL$18:$AL$1017,$B142,'Daily Log'!$AM$18:$AM$1017),0)","v":0},{"$f":"IFERROR($E142*SUMIF('Daily Log'!$AO$18:$AO$1017,$B142,'Daily Log'!$AP$18:$AP$1017),0)","v":0},{"$f":"IFERROR($E142*SUMIF('Daily Log'!$AR$18:$AR$1017,$B142,'Daily Log'!$AS$18:$AS$1017),0)","v":0},{"$f":"IFERROR($E142*SUMIF('Daily Log'!$AU$18:$AU$1017,$B142,'Daily Log'!$AV$18:$AV$1017),0)","v":0},{"$f":"IFERROR($E142*SUMIF('Daily Log'!$AX$18:$AX$1017,$B142,'Daily Log'!$AY$18:$AY$1017),0)","v":0},{"$f":"IFERROR($E142*SUMIF('Daily Log'!$BA$18:$BA$1017,$B142,'Daily Log'!$BB$18:$BB$1017),0)","v":0},{"$f":"IFERROR($E142*SUMIF('Daily Log'!$BD$18:$BD$1017,$B142,'Daily Log'!$BE$18:$BE$1017),0)","v":0},{"$f":"IFERROR($E142*SUMIF('Daily Log'!$BG$18:$BG$1017,$B142,'Daily Log'!$BH$18:$BH$1017),0)","v":0},{"$f":"IFERROR($E142*SUMIF('Daily Log'!$BJ$18:$BJ$1017,$B142,'Daily Log'!$BK$18:$BK$1017),0)","v":0},{"$f":"IFERROR($E142*SUMIF('Daily Log'!$BM$18:$BM$1017,$B142,'Daily Log'!$BN$18:$BN$1017),0)","v":0},{"$f":"IFERROR($E142*SUMIF('Daily Log'!$BP$18:$BP$1017,$B142,'Daily Log'!$BQ$18:$BQ$1017),0)","v":0},{"$f":"IFERROR($E142*SUMIF('Daily Log'!$BS$18:$BS$1017,$B142,'Daily Log'!$BT$18:$BT$1017),0)","v":0},{"$f":"IFERROR($E142*SUMIF('Daily Log'!$BV$18:$BV$1017,$B142,'Daily Log'!$BW$18:$BW$1017),0)","v":0},{"$f":"IFERROR($E142*SUMIF('Daily Log'!$BY$18:$BY$1017,$B142,'Daily Log'!$BZ$18:$BZ$1017),0)","v":0},{"$f":"IFERROR($E142*SUMIF('Daily Log'!$CB$18:$CB$1017,$B142,'Daily Log'!$CC$18:$CC$1017),0)","v":0},{"$f":"IFERROR($E142*SUMIF('Daily Log'!$CE$18:$CE$1017,$B142,'Daily Log'!$CF$18:$CF$1017),0)","v":0},{"$f":"IFERROR($E142*SUMIF('Daily Log'!$CH$18:$CH$1017,$B142,'Daily Log'!$CI$18:$CI$1017),0)","v":0},{"$f":"IFERROR($E142*SUMIF('Daily Log'!$CK$18:$CK$1017,$B142,'Daily Log'!$CL$18:$CL$1017),0)","v":0},{"$f":"IFERROR($E142*SUMIF('Daily Log'!$CN$18:$CN$1017,$B142,'Daily Log'!$CO$18:$CO$1017),0)","v":0}]
[null,"AE15 VIP ROOM",null,null,1,0,{"$f":"IFERROR($E143*SUMIF('Daily Log'!$B$18:$B$1017,$B143,'Daily Log'!$C$18:$C$1017),0)","v":0},{"$f":"IFERROR($E143*SUMIF('Daily Log'!$E$18:$E$1017,$B143,'Daily Log'!$F$18:$F$1017),0)","v":0},{"$f":"IFERROR($E143*SUMIF('Daily Log'!$H$18:$H$1017,$B143,'Daily Log'!$I$18:$I$1017),0)","v":0},{"$f":"IFERROR($E143*SUMIF('Daily Log'!$K$18:$K$1017,$B143,'Daily Log'!$L$18:$L$1017),0)","v":0},{"$f":"IFERROR($E143*SUMIF('Daily Log'!$N$18:$N$1017,$B143,'Daily Log'!$O$18:$O$1017),0)","v":0},{"$f":"IFERROR($E143*SUMIF('Daily Log'!$Q$18:$Q$1017,$B143,'Daily Log'!$R$18:$R$1017),0)","v":0},{"$f":"IFERROR($E143*SUMIF('Daily Log'!$T$18:$T$1017,$B143,'Daily Log'!$U$18:$U$1017),0)","v":0},{"$f":"IFERROR($E143*SUMIF('Daily Log'!$W$18:$W$1017,$B143,'Daily Log'!$X$18:$X$1017),0)","v":0},{"$f":"IFERROR($E143*SUMIF('Daily Log'!$Z$18:$Z$1017,$B143,'Daily Log'!$AA$18:$AA$1017),0)","v":0},{"$f":"IFERROR($E143*SUMIF('Daily Log'!$AC$18:$AC$1017,$B143,'Daily Log'!$AD$18:$AD$1017),0)","v":0},{"$f":"IFERROR($E143*SUMIF('Daily Log'!$AF$18:$AF$1017,$B143,'Daily Log'!$AG$18:$AG$1017),0)","v":0},{"$f":"IFERROR($E143*SUMIF('Daily Log'!$AI$18:$AI$1017,$B143,'Daily Log'!$AJ$18:$AJ$1017),0)","v":0},{"$f":"IFERROR($E143*SUMIF('Daily Log'!$AL$18:$AL$1017,$B143,'Daily Log'!$AM$18:$AM$1017),0)","v":0},{"$f":"IFERROR($E143*SUMIF('Daily Log'!$AO$18:$AO$1017,$B143,'Daily Log'!$AP$18:$AP$1017),0)","v":0},{"$f":"IFERROR($E143*SUMIF('Daily Log'!$AR$18:$AR$1017,$B143,'Daily Log'!$AS$18:$AS$1017),0)","v":0},{"$f":"IFERROR($E143*SUMIF('Daily Log'!$AU$18:$AU$1017,$B143,'Daily Log'!$AV$18:$AV$1017),0)","v":0},{"$f":"IFERROR($E143*SUMIF('Daily Log'!$AX$18:$AX$1017,$B143,'Daily Log'!$AY$18:$AY$1017),0)","v":0},{"$f":"IFERROR($E143*SUMIF('Daily Log'!$BA$18:$BA$1017,$B143,'Daily Log'!$BB$18:$BB$1017),0)","v":0},{"$f":"IFERROR($E143*SUMIF('Daily Log'!$BD$18:$BD$1017,$B143,'Daily Log'!$BE$18:$BE$1017),0)","v":0},{"$f":"IFERROR($E143*SUMIF('Daily Log'!$BG$18:$BG$1017,$B143,'Daily Log'!$BH$18:$BH$1017),0)","v":0},{"$f":"IFERROR($E143*SUMIF('Daily Log'!$BJ$18:$BJ$1017,$B143,'Daily Log'!$BK$18:$BK$1017),0)","v":0},{"$f":"IFERROR($E143*SUMIF('Daily Log'!$BM$18:$BM$1017,$B143,'Daily Log'!$BN$18:$BN$1017),0)","v":0},{"$f":"IFERROR($E143*SUMIF('Daily Log'!$BP$18:$BP$1017,$B143,'Daily Log'!$BQ$18:$BQ$1017),0)","v":0},{"$f":"IFERROR($E143*SUMIF('Daily Log'!$BS$18:$BS$1017,$B143,'Daily Log'!$BT$18:$BT$1017),0)","v":0},{"$f":"IFERROR($E143*SUMIF('Daily Log'!$BV$18:$BV$1017,$B143,'Daily Log'!$BW$18:$BW$1017),0)","v":0},{"$f":"IFERROR($E143*SUMIF('Daily Log'!$BY$18:$BY$1017,$B143,'Daily Log'!$BZ$18:$BZ$1017),0)","v":0},{"$f":"IFERROR($E143*SUMIF('Daily Log'!$CB$18:$CB$1017,$B143,'Daily Log'!$CC$18:$CC$1017),0)","v":0},{"$f":"IFERROR($E143*SUMIF('Daily Log'!$CE$18:$CE$1017,$B143,'Daily Log'!$CF$18:$CF$1017),0)","v":0},{"$f":"IFERROR($E143*SUMIF('Daily Log'!$CH$18:$CH$1017,$B143,'Daily Log'!$CI$18:$CI$1017),0)","v":0},{"$f":"IFERROR($E143*SUMIF('Daily Log'!$CK$18:$CK$1017,$B143,'Daily Log'!$CL$18:$CL$1017),0)","v":0},{"$f":"IFERROR($E143*SUMIF('Daily Log'!$CN$18:$CN$1017,$B143,'Daily Log'!$CO$18:$CO$1017),0)","v":0}]
[null,"AE16 VVIP ROOM",null,null,1,0,{"$f":"IFERROR($E144*SUMIF('Daily Log'!$B$18:$B$1017,$B144,'Daily Log'!$C$18:$C$1017),0)","v":0},{"$f":"IFERROR($E144*SUMIF('Daily Log'!$E$18:$E$1017,$B144,'Daily Log'!$F$18:$F$1017),0)","v":0},{"$f":"IFERROR($E144*SUMIF('Daily Log'!$H$18:$H$1017,$B144,'Daily Log'!$I$18:$I$1017),0)","v":0},{"$f":"IFERROR($E144*SUMIF('Daily Log'!$K$18:$K$1017,$B144,'Daily Log'!$L$18:$L$1017),0)","v":0},{"$f":"IFERROR($E144*SUMIF('Daily Log'!$N$18:$N$1017,$B144,'Daily Log'!$O$18:$O$1017),0)","v":0},{"$f":"IFERROR($E144*SUMIF('Daily Log'!$Q$18:$Q$1017,$B144,'Daily Log'!$R$18:$R$1017),0)","v":0},{"$f":"IFERROR($E144*SUMIF('Daily Log'!$T$18:$T$1017,$B144,'Daily Log'!$U$18:$U$1017),0)","v":0},{"$f":"IFERROR($E144*SUMIF('Daily Log'!$W$18:$W$1017,$B144,'Daily Log'!$X$18:$X$1017),0)","v":0},{"$f":"IFERROR($E144*SUMIF('Daily Log'!$Z$18:$Z$1017,$B144,'Daily Log'!$AA$18:$AA$1017),0)","v":0},{"$f":"IFERROR($E144*SUMIF('Daily Log'!$AC$18:$AC$1017,$B144,'Daily Log'!$AD$18:$AD$1017),0)","v":0},{"$f":"IFERROR($E144*SUMIF('Daily Log'!$AF$18:$AF$1017,$B144,'Daily Log'!$AG$18:$AG$1017),0)","v":0},{"$f":"IFERROR($E144*SUMIF('Daily Log'!$AI$18:$AI$1017,$B144,'Daily Log'!$AJ$18:$AJ$1017),0)","v":0},{"$f":"IFERROR($E144*SUMIF('Daily Log'!$AL$18:$AL$1017,$B144,'Daily Log'!$AM$18:$AM$1017),0)","v":0},{"$f":"IFERROR($E144*SUMIF('Daily Log'!$AO$18:$AO$1017,$B144,'Daily Log'!$AP$18:$AP$1017),0)","v":0},{"$f":"IFERROR($E144*SUMIF('Daily Log'!$AR$18:$AR$1017,$B144,'Daily Log'!$AS$18:$AS$1017),0)","v":0},{"$f":"IFERROR($E144*SUMIF('Daily Log'!$AU$18:$AU$1017,$B144,'Daily Log'!$AV$18:$AV$1017),0)","v":0},{"$f":"IFERROR($E144*SUMIF('Daily Log'!$AX$18:$AX$1017,$B144,'Daily Log'!$AY$18:$AY$1017),0)","v":0},{"$f":"IFERROR($E144*SUMIF('Daily Log'!$BA$18:$BA$1017,$B144,'Daily Log'!$BB$18:$BB$1017),0)","v":0},{"$f":"IFERROR($E144*SUMIF('Daily Log'!$BD$18:$BD$1017,$B144,'Daily Log'!$BE$18:$BE$1017),0)","v":0},{"$f":"IFERROR($E144*SUMIF('Daily Log'!$BG$18:$BG$1017,$B144,'Daily Log'!$BH$18:$BH$1017),0)","v":0},{"$f":"IFERROR($E144*SUMIF('Daily Log'!$BJ$18:$BJ$1017,$B144,'Daily Log'!$BK$18:$BK$1017),0)","v":0},{"$f":"IFERROR($E144*SUMIF('Daily Log'!$BM$18:$BM$1017,$B144,'Daily Log'!$BN$18:$BN$1017),0)","v":0},{"$f":"IFERROR($E144*SUMIF('Daily Log'!$BP$18:$BP$1017,$B144,'Daily Log'!$BQ$18:$BQ$1017),0)","v":0},{"$f":"IFERROR($E144*SUMIF('Daily Log'!$BS$18:$BS$1017,$B144,'Daily Log'!$BT$18:$BT$1017),0)","v":0},{"$f":"IFERROR($E144*SUMIF('Daily Log'!$BV$18:$BV$1017,$B144,'Daily Log'!$BW$18:$BW$1017),0)","v":0},{"$f":"IFERROR($E144*SUMIF('Daily Log'!$BY$18:$BY$1017,$B144,'Daily Log'!$BZ$18:$BZ$1017),0)","v":0},{"$f":"IFERROR($E144*SUMIF('Daily Log'!$CB$18:$CB$1017,$B144,'Daily Log'!$CC$18:$CC$1017),0)","v":0},{"$f":"IFERROR($E144*SUMIF('Daily Log'!$CE$18:$CE$1017,$B144,'Daily Log'!$CF$18:$CF$1017),0)","v":0},{"$f":"IFERROR($E144*SUMIF('Daily Log'!$CH$18:$CH$1017,$B144,'Daily Log'!$CI$18:$CI$1017),0)","v":0},{"$f":"IFERROR($E144*SUMIF('Daily Log'!$CK$18:$CK$1017,$B144,'Daily Log'!$CL$18:$CL$1017),0)","v":0},{"$f":"IFERROR($E144*SUMIF('Daily Log'!$CN$18:$CN$1017,$B144,'Daily Log'!$CO$18:$CO$1017),0)","v":0}]
["","AE17 S.ROOM MEM",null,null,1,0,{"$f":"IFERROR($E145*SUMIF('Daily Log'!$B$18:$B$1017,$B145,'Daily Log'!$C$18:$C$1017),0)","v":0},{"$f":"IFERROR($E145*SUMIF('Daily Log'!$E$18:$E$1017,$B145,'Daily Log'!$F$18:$F$1017),0)","v":0},{"$f":"IFERROR($E145*SUMIF('Daily Log'!$H$18:$H$1017,$B145,'Daily Log'!$I$18:$I$1017),0)","v":0},{"$f":"IFERROR($E145*SUMIF('Daily Log'!$K$18:$K$1017,$B145,'Daily Log'!$L$18:$L$1017),0)","v":0},{"$f":"IFERROR($E145*SUMIF('Daily Log'!$N$18:$N$1017,$B145,'Daily Log'!$O$18:$O$1017),0)","v":0},{"$f":"IFERROR($E145*SUMIF('Daily Log'!$Q$18:$Q$1017,$B145,'Daily Log'!$R$18:$R$1017),0)","v":0},{"$f":"IFERROR($E145*SUMIF('Daily Log'!$T$18:$T$1017,$B145,'Daily Log'!$U$18:$U$1017),0)","v":0},{"$f":"IFERROR($E145*SUMIF('Daily Log'!$W$18:$W$1017,$B145,'Daily Log'!$X$18:$X$1017),0)","v":0},{"$f":"IFERROR($E145*SUMIF('Daily Log'!$Z$18:$Z$1017,$B145,'Daily Log'!$AA$18:$AA$1017),0)","v":0},{"$f":"IFERROR($E145*SUMIF('Daily Log'!$AC$18:$AC$1017,$B145,'Daily Log'!$AD$18:$AD$1017),0)","v":0},{"$f":"IFERROR($E145*SUMIF('Daily Log'!$AF$18:$AF$1017,$B145,'Daily Log'!$AG$18:$AG$1017),0)","v":0},{"$f":"IFERROR($E145*SUMIF('Daily Log'!$AI$18:$AI$1017,$B145,'Daily Log'!$AJ$18:$AJ$1017),0)","v":0},{"$f":"IFERROR($E145*SUMIF('Daily Log'!$AL$18:$AL$1017,$B145,'Daily Log'!$AM$18:$AM$1017),0)","v":0},{"$f":"IFERROR($E145*SUMIF('Daily Log'!$AO$18:$AO$1017,$B145,'Daily Log'!$AP$18:$AP$1017),0)","v":0},{"$f":"IFERROR($E145*SUMIF('Daily Log'!$AR$18:$AR$1017,$B145,'Daily Log'!$AS$18:$AS$1017),0)","v":0},{"$f":"IFERROR($E145*SUMIF('Daily Log'!$AU$18:$AU$1017,$B145,'Daily Log'!$AV$18:$AV$1017),0)","v":0},{"$f":"IFERROR($E145*SUMIF('Daily Log'!$AX$18:$AX$1017,$B145,'Daily Log'!$AY$18:$AY$1017),0)","v":0},{"$f":"IFERROR($E145*SUMIF('Daily Log'!$BA$18:$BA$1017,$B145,'Daily Log'!$BB$18:$BB$1017),0)","v":0},{"$f":"IFERROR($E145*SUMIF('Daily Log'!$BD$18:$BD$1017,$B145,'Daily Log'!$BE$18:$BE$1017),0)","v":0},{"$f":"IFERROR($E145*SUMIF('Daily Log'!$BG$18:$BG$1017,$B145,'Daily Log'!$BH$18:$BH$1017),0)","v":0},{"$f":"IFERROR($E145*SUMIF('Daily Log'!$BJ$18:$BJ$1017,$B145,'Daily Log'!$BK$18:$BK$1017),0)","v":0},{"$f":"IFERROR($E145*SUMIF('Daily Log'!$BM$18:$BM$1017,$B145,'Daily Log'!$BN$18:$BN$1017),0)","v":0},{"$f":"IFERROR($E145*SUMIF('Daily Log'!$BP$18:$BP$1017,$B145,'Daily Log'!$BQ$18:$BQ$1017),0)","v":0},{"$f":"IFERROR($E145*SUMIF('Daily Log'!$BS$18:$BS$1017,$B145,'Daily Log'!$BT$18:$BT$1017),0)","v":0},{"$f":"IFERROR($E145*SUMIF('Daily Log'!$BV$18:$BV$1017,$B145,'Daily Log'!$BW$18:$BW$1017),0)","v":0},{"$f":"IFERROR($E145*SUMIF('Daily Log'!$BY$18:$BY$1017,$B145,'Daily Log'!$BZ$18:$BZ$1017),0)","v":0},{"$f":"IFERROR($E145*SUMIF('Daily Log'!$CB$18:$CB$1017,$B145,'Daily Log'!$CC$18:$CC$1017),0)","v":0},{"$f":"IFERROR($E145*SUMIF('Daily Log'!$CE$18:$CE$1017,$B145,'Daily Log'!$CF$18:$CF$1017),0)","v":0},{"$f":"IFERROR($E145*SUMIF('Daily Log'!$CH$18:$CH$1017,$B145,'Daily Log'!$CI$18:$CI$1017),0)","v":0},{"$f":"IFERROR($E145*SUMIF('Daily Log'!$CK$18:$CK$1017,$B145,'Daily Log'!$CL$18:$CL$1017),0)","v":0},{"$f":"IFERROR($E145*SUMIF('Daily Log'!$CN$18:$CN$1017,$B145,'Daily Log'!$CO$18:$CO$1017),0)","v":0}]
[null,"AE18 M.ROOM MEM",null,null,1,0,{"$f":"IFERROR($E146*SUMIF('Daily Log'!$B$18:$B$1017,$B146,'Daily Log'!$C$18:$C$1017),0)","v":0},{"$f":"IFERROR($E146*SUMIF('Daily Log'!$E$18:$E$1017,$B146,'Daily Log'!$F$18:$F$1017),0)","v":0},{"$f":"IFERROR($E146*SUMIF('Daily Log'!$H$18:$H$1017,$B146,'Daily Log'!$I$18:$I$1017),0)","v":0},{"$f":"IFERROR($E146*SUMIF('Daily Log'!$K$18:$K$1017,$B146,'Daily Log'!$L$18:$L$1017),0)","v":0},{"$f":"IFERROR($E146*SUMIF('Daily Log'!$N$18:$N$1017,$B146,'Daily Log'!$O$18:$O$1017),0)","v":0},{"$f":"IFERROR($E146*SUMIF('Daily Log'!$Q$18:$Q$1017,$B146,'Daily Log'!$R$18:$R$1017),0)","v":0},{"$f":"IFERROR($E146*SUMIF('Daily Log'!$T$18:$T$1017,$B146,'Daily Log'!$U$18:$U$1017),0)","v":0},{"$f":"IFERROR($E146*SUMIF('Daily Log'!$W$18:$W$1017,$B146,'Daily Log'!$X$18:$X$1017),0)","v":0},{"$f":"IFERROR($E146*SUMIF('Daily Log'!$Z$18:$Z$1017,$B146,'Daily Log'!$AA$18:$AA$1017),0)","v":0},{"$f":"IFERROR($E146*SUMIF('Daily Log'!$AC$18:$AC$1017,$B146,'Daily Log'!$AD$18:$AD$1017),0)","v":0},{"$f":"IFERROR($E146*SUMIF('Daily Log'!$AF$18:$AF$1017,$B146,'Daily Log'!$AG$18:$AG$1017),0)","v":0},{"$f":"IFERROR($E146*SUMIF('Daily Log'!$AI$18:$AI$1017,$B146,'Daily Log'!$AJ$18:$AJ$1017),0)","v":0},{"$f":"IFERROR($E146*SUMIF('Daily Log'!$AL$18:$AL$1017,$B146,'Daily Log'!$AM$18:$AM$1017),0)","v":0},{"$f":"IFERROR($E146*SUMIF('Daily Log'!$AO$18:$AO$1017,$B146,'Daily Log'!$AP$18:$AP$1017),0)","v":0},{"$f":"IFERROR($E146*SUMIF('Daily Log'!$AR$18:$AR$1017,$B146,'Daily Log'!$AS$18:$AS$1017),0)","v":0},{"$f":"IFERROR($E146*SUMIF('Daily Log'!$AU$18:$AU$1017,$B146,'Daily Log'!$AV$18:$AV$1017),0)","v":0},{"$f":"IFERROR($E146*SUMIF('Daily Log'!$AX$18:$AX$1017,$B146,'Daily Log'!$AY$18:$AY$1017),0)","v":0},{"$f":"IFERROR($E146*SUMIF('Daily Log'!$BA$18:$BA$1017,$B146,'Daily Log'!$BB$18:$BB$1017),0)","v":0},{"$f":"IFERROR($E146*SUMIF('Daily Log'!$BD$18:$BD$1017,$B146,'Daily Log'!$BE$18:$BE$1017),0)","v":0},{"$f":"IFERROR($E146*SUMIF('Daily Log'!$BG$18:$BG$1017,$B146,'Daily Log'!$BH$18:$BH$1017),0)","v":0},{"$f":"IFERROR($E146*SUMIF('Daily Log'!$BJ$18:$BJ$1017,$B146,'Daily Log'!$BK$18:$BK$1017),0)","v":0},{"$f":"IFERROR($E146*SUMIF('Daily Log'!$BM$18:$BM$1017,$B146,'Daily Log'!$BN$18:$BN$1017),0)","v":0},{"$f":"IFERROR($E146*SUMIF('Daily Log'!$BP$18:$BP$1017,$B146,'Daily Log'!$BQ$18:$BQ$1017),0)","v":0},{"$f":"IFERROR($E146*SUMIF('Daily Log'!$BS$18:$BS$1017,$B146,'Daily Log'!$BT$18:$BT$1017),0)","v":0},{"$f":"IFERROR($E146*SUMIF('Daily Log'!$BV$18:$BV$1017,$B146,'Daily Log'!$BW$18:$BW$1017),0)","v":0},{"$f":"IFERROR($E146*SUMIF('Daily Log'!$BY$18:$BY$1017,$B146,'Daily Log'!$BZ$18:$BZ$1017),0)","v":0},{"$f":"IFERROR($E146*SUMIF('Daily Log'!$CB$18:$CB$1017,$B146,'Daily Log'!$CC$18:$CC$1017),0)","v":0},{"$f":"IFERROR($E146*SUMIF('Daily Log'!$CE$18:$CE$1017,$B146,'Daily Log'!$CF$18:$CF$1017),0)","v":0},{"$f":"IFERROR($E146*SUMIF('Daily Log'!$CH$18:$CH$1017,$B146,'Daily Log'!$CI$18:$CI$1017),0)","v":0},{"$f":"IFERROR($E146*SUMIF('Daily Log'!$CK$18:$CK$1017,$B146,'Daily Log'!$CL$18:$CL$1017),0)","v":0},{"$f":"IFERROR($E146*SUMIF('Daily Log'!$CN$18:$CN$1017,$B146,'Daily Log'!$CO$18:$CO$1017),0)","v":0}]
[null,"AE19 M BIG ROOM MEM",null,null,1,0,{"$f":"IFERROR($E147*SUMIF('Daily Log'!$B$18:$B$1017,$B147,'Daily Log'!$C$18:$C$1017),0)","v":0},{"$f":"IFERROR($E147*SUMIF('Daily Log'!$E$18:$E$1017,$B147,'Daily Log'!$F$18:$F$1017),0)","v":0},{"$f":"IFERROR($E147*SUMIF('Daily Log'!$H$18:$H$1017,$B147,'Daily Log'!$I$18:$I$1017),0)","v":0},{"$f":"IFERROR($E147*SUMIF('Daily Log'!$K$18:$K$1017,$B147,'Daily Log'!$L$18:$L$1017),0)","v":0},{"$f":"IFERROR($E147*SUMIF('Daily Log'!$N$18:$N$1017,$B147,'Daily Log'!$O$18:$O$1017),0)","v":0},{"$f":"IFERROR($E147*SUMIF('Daily Log'!$Q$18:$Q$1017,$B147,'Daily Log'!$R$18:$R$1017),0)","v":0},{"$f":"IFERROR($E147*SUMIF('Daily Log'!$T$18:$T$1017,$B147,'Daily Log'!$U$18:$U$1017),0)","v":0},{"$f":"IFERROR($E147*SUMIF('Daily Log'!$W$18:$W$1017,$B147,'Daily Log'!$X$18:$X$1017),0)","v":0},{"$f":"IFERROR($E147*SUMIF('Daily Log'!$Z$18:$Z$1017,$B147,'Daily Log'!$AA$18:$AA$1017),0)","v":0},{"$f":"IFERROR($E147*SUMIF('Daily Log'!$AC$18:$AC$1017,$B147,'Daily Log'!$AD$18:$AD$1017),0)","v":0},{"$f":"IFERROR($E147*SUMIF('Daily Log'!$AF$18:$AF$1017,$B147,'Daily Log'!$AG$18:$AG$1017),0)","v":0},{"$f":"IFERROR($E147*SUMIF('Daily Log'!$AI$18:$AI$1017,$B147,'Daily Log'!$AJ$18:$AJ$1017),0)","v":0},{"$f":"IFERROR($E147*SUMIF('Daily Log'!$AL$18:$AL$1017,$B147,'Daily Log'!$AM$18:$AM$1017),0)","v":0},{"$f":"IFERROR($E147*SUMIF('Daily Log'!$AO$18:$AO$1017,$B147,'Daily Log'!$AP$18:$AP$1017),0)","v":0},{"$f":"IFERROR($E147*SUMIF('Daily Log'!$AR$18:$AR$1017,$B147,'Daily Log'!$AS$18:$AS$1017),0)","v":0},{"$f":"IFERROR($E147*SUMIF('Daily Log'!$AU$18:$AU$1017,$B147,'Daily Log'!$AV$18:$AV$1017),0)","v":0},{"$f":"IFERROR($E147*SUMIF('Daily Log'!$AX$18:$AX$1017,$B147,'Daily Log'!$AY$18:$AY$1017),0)","v":0},{"$f":"IFERROR($E147*SUMIF('Daily Log'!$BA$18:$BA$1017,$B147,'Daily Log'!$BB$18:$BB$1017),0)","v":0},{"$f":"IFERROR($E147*SUMIF('Daily Log'!$BD$18:$BD$1017,$B147,'Daily Log'!$BE$18:$BE$1017),0)","v":0},{"$f":"IFERROR($E147*SUMIF('Daily Log'!$BG$18:$BG$1017,$B147,'Daily Log'!$BH$18:$BH$1017),0)","v":0},{"$f":"IFERROR($E147*SUMIF('Daily Log'!$BJ$18:$BJ$1017,$B147,'Daily Log'!$BK$18:$BK$1017),0)","v":0},{"$f":"IFERROR($E147*SUMIF('Daily Log'!$BM$18:$BM$1017,$B147,'Daily Log'!$BN$18:$BN$1017),0)","v":0},{"$f":"IFERROR($E147*SUMIF('Daily Log'!$BP$18:$BP$1017,$B147,'Daily Log'!$BQ$18:$BQ$1017),0)","v":0},{"$f":"IFERROR($E147*SUMIF('Daily Log'!$BS$18:$BS$1017,$B147,'Daily Log'!$BT$18:$BT$1017),0)","v":0},{"$f":"IFERROR($E147*SUMIF('Daily Log'!$BV$18:$BV$1017,$B147,'Daily Log'!$BW$18:$BW$1017),0)","v":0},{"$f":"IFERROR($E147*SUMIF('Daily Log'!$BY$18:$BY$1017,$B147,'Daily Log'!$BZ$18:$BZ$1017),0)","v":0},{"$f":"IFERROR($E147*SUMIF('Daily Log'!$CB$18:$CB$1017,$B147,'Daily Log'!$CC$18:$CC$1017),0)","v":0},{"$f":"IFERROR($E147*SUMIF('Daily Log'!$CE$18:$CE$1017,$B147,'Daily Log'!$CF$18:$CF$1017),0)","v":0},{"$f":"IFERROR($E147*SUMIF('Daily Log'!$CH$18:$CH$1017,$B147,'Daily Log'!$CI$18:$CI$1017),0)","v":0},{"$f":"IFERROR($E147*SUMIF('Daily Log'!$CK$18:$CK$1017,$B147,'Daily Log'!$CL$18:$CL$1017),0)","v":0},{"$f":"IFERROR($E147*SUMIF('Daily Log'!$CN$18:$CN$1017,$B147,'Daily Log'!$CO$18:$CO$1017),0)","v":0}]
[null,"AE20 BIG ROOM MEM",null,null,1,0,{"$f":"IFERROR($E148*SUMIF('Daily Log'!$B$18:$B$1017,$B148,'Daily Log'!$C$18:$C$1017),0)","v":0},{"$f":"IFERROR($E148*SUMIF('Daily Log'!$E$18:$E$1017,$B148,'Daily Log'!$F$18:$F$1017),0)","v":0},{"$f":"IFERROR($E148*SUMIF('Daily Log'!$H$18:$H$1017,$B148,'Daily Log'!$I$18:$I$1017),0)","v":0},{"$f":"IFERROR($E148*SUMIF('Daily Log'!$K$18:$K$1017,$B148,'Daily Log'!$L$18:$L$1017),0)","v":0},{"$f":"IFERROR($E148*SUMIF('Daily Log'!$N$18:$N$1017,$B148,'Daily Log'!$O$18:$O$1017),0)","v":0},{"$f":"IFERROR($E148*SUMIF('Daily Log'!$Q$18:$Q$1017,$B148,'Daily Log'!$R$18:$R$1017),0)","v":0},{"$f":"IFERROR($E148*SUMIF('Daily Log'!$T$18:$T$1017,$B148,'Daily Log'!$U$18:$U$1017),0)","v":0},{"$f":"IFERROR($E148*SUMIF('Daily Log'!$W$18:$W$1017,$B148,'Daily Log'!$X$18:$X$1017),0)","v":0},{"$f":"IFERROR($E148*SUMIF('Daily Log'!$Z$18:$Z$1017,$B148,'Daily Log'!$AA$18:$AA$1017),0)","v":0},{"$f":"IFERROR($E148*SUMIF('Daily Log'!$AC$18:$AC$1017,$B148,'Daily Log'!$AD$18:$AD$1017),0)","v":0},{"$f":"IFERROR($E148*SUMIF('Daily Log'!$AF$18:$AF$1017,$B148,'Daily Log'!$AG$18:$AG$1017),0)","v":0},{"$f":"IFERROR($E148*SUMIF('Daily Log'!$AI$18:$AI$1017,$B148,'Daily Log'!$AJ$18:$AJ$1017),0)","v":0},{"$f":"IFERROR($E148*SUMIF('Daily Log'!$AL$18:$AL$1017,$B148,'Daily Log'!$AM$18:$AM$1017),0)","v":0},{"$f":"IFERROR($E148*SUMIF('Daily Log'!$AO$18:$AO$1017,$B148,'Daily Log'!$AP$18:$AP$1017),0)","v":0},{"$f":"IFERROR($E148*SUMIF('Daily Log'!$AR$18:$AR$1017,$B148,'Daily Log'!$AS$18:$AS$1017),0)","v":0},{"$f":"IFERROR($E148*SUMIF('Daily Log'!$AU$18:$AU$1017,$B148,'Daily Log'!$AV$18:$AV$1017),0)","v":0},{"$f":"IFERROR($E148*SUMIF('Daily Log'!$AX$18:$AX$1017,$B148,'Daily Log'!$AY$18:$AY$1017),0)","v":0},{"$f":"IFERROR($E148*SUMIF('Daily Log'!$BA$18:$BA$1017,$B148,'Daily Log'!$BB$18:$BB$1017),0)","v":0},{"$f":"IFERROR($E148*SUMIF('Daily Log'!$BD$18:$BD$1017,$B148,'Daily Log'!$BE$18:$BE$1017),0)","v":0},{"$f":"IFERROR($E148*SUMIF('Daily Log'!$BG$18:$BG$1017,$B148,'Daily Log'!$BH$18:$BH$1017),0)","v":0},{"$f":"IFERROR($E148*SUMIF('Daily Log'!$BJ$18:$BJ$1017,$B148,'Daily Log'!$BK$18:$BK$1017),0)","v":0},{"$f":"IFERROR($E148*SUMIF('Daily Log'!$BM$18:$BM$1017,$B148,'Daily Log'!$BN$18:$BN$1017),0)","v":0},{"$f":"IFERROR($E148*SUMIF('Daily Log'!$BP$18:$BP$1017,$B148,'Daily Log'!$BQ$18:$BQ$1017),0)","v":0},{"$f":"IFERROR($E148*SUMIF('Daily Log'!$BS$18:$BS$1017,$B148,'Daily Log'!$BT$18:$BT$1017),0)","v":0},{"$f":"IFERROR($E148*SUMIF('Daily Log'!$BV$18:$BV$1017,$B148,'Daily Log'!$BW$18:$BW$1017),0)","v":0},{"$f":"IFERROR($E148*SUMIF('Daily Log'!$BY$18:$BY$1017,$B148,'Daily Log'!$BZ$18:$BZ$1017),0)","v":0},{"$f":"IFERROR($E148*SUMIF('Daily Log'!$CB$18:$CB$1017,$B148,'Daily Log'!$CC$18:$CC$1017),0)","v":0},{"$f":"IFERROR($E148*SUMIF('Daily Log'!$CE$18:$CE$1017,$B148,'Daily Log'!$CF$18:$CF$1017),0)","v":0},{"$f":"IFERROR($E148*SUMIF('Daily Log'!$CH$18:$CH$1017,$B148,'Daily Log'!$CI$18:$CI$1017),0)","v":0},{"$f":"IFERROR($E148*SUMIF('Daily Log'!$CK$18:$CK$1017,$B148,'Daily Log'!$CL$18:$CL$1017),0)","v":0},{"$f":"IFERROR($E148*SUMIF('Daily Log'!$CN$18:$CN$1017,$B148,'Daily Log'!$CO$18:$CO$1017),0)","v":0}]
[null,"AE21 VIP ROOM MEM",null,null,1,0,{"$f":"IFERROR($E149*SUMIF('Daily Log'!$B$18:$B$1017,$B149,'Daily Log'!$C$18:$C$1017),0)","v":0},{"$f":"IFERROR($E149*SUMIF('Daily Log'!$E$18:$E$1017,$B149,'Daily Log'!$F$18:$F$1017),0)","v":0},{"$f":"IFERROR($E149*SUMIF('Daily Log'!$H$18:$H$1017,$B149,'Daily Log'!$I$18:$I$1017),0)","v":0},{"$f":"IFERROR($E149*SUMIF('Daily Log'!$K$18:$K$1017,$B149,'Daily Log'!$L$18:$L$1017),0)","v":0},{"$f":"IFERROR($E149*SUMIF('Daily Log'!$N$18:$N$1017,$B149,'Daily Log'!$O$18:$O$1017),0)","v":0},{"$f":"IFERROR($E149*SUMIF('Daily Log'!$Q$18:$Q$1017,$B149,'Daily Log'!$R$18:$R$1017),0)","v":0},{"$f":"IFERROR($E149*SUMIF('Daily Log'!$T$18:$T$1017,$B149,'Daily Log'!$U$18:$U$1017),0)","v":0},{"$f":"IFERROR($E149*SUMIF('Daily Log'!$W$18:$W$1017,$B149,'Daily Log'!$X$18:$X$1017),0)","v":0},{"$f":"IFERROR($E149*SUMIF('Daily Log'!$Z$18:$Z$1017,$B149,'Daily Log'!$AA$18:$AA$1017),0)","v":0},{"$f":"IFERROR($E149*SUMIF('Daily Log'!$AC$18:$AC$1017,$B149,'Daily Log'!$AD$18:$AD$1017),0)","v":0},{"$f":"IFERROR($E149*SUMIF('Daily Log'!$AF$18:$AF$1017,$B149,'Daily Log'!$AG$18:$AG$1017),0)","v":0},{"$f":"IFERROR($E149*SUMIF('Daily Log'!$AI$18:$AI$1017,$B149,'Daily Log'!$AJ$18:$AJ$1017),0)","v":0},{"$f":"IFERROR($E149*SUMIF('Daily Log'!$AL$18:$AL$1017,$B149,'Daily Log'!$AM$18:$AM$1017),0)","v":0},{"$f":"IFERROR($E149*SUMIF('Daily Log'!$AO$18:$AO$1017,$B149,'Daily Log'!$AP$18:$AP$1017),0)","v":0},{"$f":"IFERROR($E149*SUMIF('Daily Log'!$AR$18:$AR$1017,$B149,'Daily Log'!$AS$18:$AS$1017),0)","v":0},{"$f":"IFERROR($E149*SUMIF('Daily Log'!$AU$18:$AU$1017,$B149,'Daily Log'!$AV$18:$AV$1017),0)","v":0},{"$f":"IFERROR($E149*SUMIF('Daily Log'!$AX$18:$AX$1017,$B149,'Daily Log'!$AY$18:$AY$1017),0)","v":0},{"$f":"IFERROR($E149*SUMIF('Daily Log'!$BA$18:$BA$1017,$B149,'Daily Log'!$BB$18:$BB$1017),0)","v":0},{"$f":"IFERROR($E149*SUMIF('Daily Log'!$BD$18:$BD$1017,$B149,'Daily Log'!$BE$18:$BE$1017),0)","v":0},{"$f":"IFERROR($E149*SUMIF('Daily Log'!$BG$18:$BG$1017,$B149,'Daily Log'!$BH$18:$BH$1017),0)","v":0},{"$f":"IFERROR($E149*SUMIF('Daily Log'!$BJ$18:$BJ$1017,$B149,'Daily Log'!$BK$18:$BK$1017),0)","v":0},{"$f":"IFERROR($E149*SUMIF('Daily Log'!$BM$18:$BM$1017,$B149,'Daily Log'!$BN$18:$BN$1017),0)","v":0},{"$f":"IFERROR($E149*SUMIF('Daily Log'!$BP$18:$BP$1017,$B149,'Daily Log'!$BQ$18:$BQ$1017),0)","v":0},{"$f":"IFERROR($E149*SUMIF('Daily Log'!$BS$18:$BS$1017,$B149,'Daily Log'!$BT$18:$BT$1017),0)","v":0},{"$f":"IFERROR($E149*SUMIF('Daily Log'!$BV$18:$BV$1017,$B149,'Daily Log'!$BW$18:$BW$1017),0)","v":0},{"$f":"IFERROR($E149*SUMIF('Daily Log'!$BY$18:$BY$1017,$B149,'Daily Log'!$BZ$18:$BZ$1017),0)","v":0},{"$f":"IFERROR($E149*SUMIF('Daily Log'!$CB$18:$CB$1017,$B149,'Daily Log'!$CC$18:$CC$1017),0)","v":0},{"$f":"IFERROR($E149*SUMIF('Daily Log'!$CE$18:$CE$1017,$B149,'Daily Log'!$CF$18:$CF$1017),0)","v":0},{"$f":"IFERROR($E149*SUMIF('Daily Log'!$CH$18:$CH$1017,$B149,'Daily Log'!$CI$18:$CI$1017),0)","v":0},{"$f":"IFERROR($E149*SUMIF('Daily Log'!$CK$18:$CK$1017,$B149,'Daily Log'!$CL$18:$CL$1017),0)","v":0},{"$f":"IFERROR($E149*SUMIF('Daily Log'!$CN$18:$CN$1017,$B149,'Daily Log'!$CO$18:$CO$1017),0)","v":0}]
[null,"AE22 VVIP ROOM MEM",null,null,1,0,{"$f":"IFERROR($E150*SUMIF('Daily Log'!$B$18:$B$1017,$B150,'Daily Log'!$C$18:$C$1017),0)","v":0},{"$f":"IFERROR($E150*SUMIF('Daily Log'!$E$18:$E$1017,$B150,'Daily Log'!$F$18:$F$1017),0)","v":0},{"$f":"IFERROR($E150*SUMIF('Daily Log'!$H$18:$H$1017,$B150,'Daily Log'!$I$18:$I$1017),0)","v":0},{"$f":"IFERROR($E150*SUMIF('Daily Log'!$K$18:$K$1017,$B150,'Daily Log'!$L$18:$L$1017),0)","v":0},{"$f":"IFERROR($E150*SUMIF('Daily Log'!$N$18:$N$1017,$B150,'Daily Log'!$O$18:$O$1017),0)","v":0},{"$f":"IFERROR($E150*SUMIF('Daily Log'!$Q$18:$Q$1017,$B150,'Daily Log'!$R$18:$R$1017),0)","v":0},{"$f":"IFERROR($E150*SUMIF('Daily Log'!$T$18:$T$1017,$B150,'Daily Log'!$U$18:$U$1017),0)","v":0},{"$f":"IFERROR($E150*SUMIF('Daily Log'!$W$18:$W$1017,$B150,'Daily Log'!$X$18:$X$1017),0)","v":0},{"$f":"IFERROR($E150*SUMIF('Daily Log'!$Z$18:$Z$1017,$B150,'Daily Log'!$AA$18:$AA$1017),0)","v":0},{"$f":"IFERROR($E150*SUMIF('Daily Log'!$AC$18:$AC$1017,$B150,'Daily Log'!$AD$18:$AD$1017),0)","v":0},{"$f":"IFERROR($E150*SUMIF('Daily Log'!$AF$18:$AF$1017,$B150,'Daily Log'!$AG$18:$AG$1017),0)","v":0},{"$f":"IFERROR($E150*SUMIF('Daily Log'!$AI$18:$AI$1017,$B150,'Daily Log'!$AJ$18:$AJ$1017),0)","v":0},{"$f":"IFERROR($E150*SUMIF('Daily Log'!$AL$18:$AL$1017,$B150,'Daily Log'!$AM$18:$AM$1017),0)","v":0},{"$f":"IFERROR($E150*SUMIF('Daily Log'!$AO$18:$AO$1017,$B150,'Daily Log'!$AP$18:$AP$1017),0)","v":0},{"$f":"IFERROR($E150*SUMIF('Daily Log'!$AR$18:$AR$1017,$B150,'Daily Log'!$AS$18:$AS$1017),0)","v":0},{"$f":"IFERROR($E150*SUMIF('Daily Log'!$AU$18:$AU$1017,$B150,'Daily Log'!$AV$18:$AV$1017),0)","v":0},{"$f":"IFERROR($E150*SUMIF('Daily Log'!$AX$18:$AX$1017,$B150,'Daily Log'!$AY$18:$AY$1017),0)","v":0},{"$f":"IFERROR($E150*SUMIF('Daily Log'!$BA$18:$BA$1017,$B150,'Daily Log'!$BB$18:$BB$1017),0)","v":0},{"$f":"IFERROR($E150*SUMIF('Daily Log'!$BD$18:$BD$1017,$B150,'Daily Log'!$BE$18:$BE$1017),0)","v":0},{"$f":"IFERROR($E150*SUMIF('Daily Log'!$BG$18:$BG$1017,$B150,'Daily Log'!$BH$18:$BH$1017),0)","v":0},{"$f":"IFERROR($E150*SUMIF('Daily Log'!$BJ$18:$BJ$1017,$B150,'Daily Log'!$BK$18:$BK$1017),0)","v":0},{"$f":"IFERROR($E150*SUMIF('Daily Log'!$BM$18:$BM$1017,$B150,'Daily Log'!$BN$18:$BN$1017),0)","v":0},{"$f":"IFERROR($E150*SUMIF('Daily Log'!$BP$18:$BP$1017,$B150,'Daily Log'!$BQ$18:$BQ$1017),0)","v":0},{"$f":"IFERROR($E150*SUMIF('Daily Log'!$BS$18:$BS$1017,$B150,'Daily Log'!$BT$18:$BT$1017),0)","v":0},{"$f":"IFERROR($E150*SUMIF('Daily Log'!$BV$18:$BV$1017,$B150,'Daily Log'!$BW$18:$BW$1017),0)","v":0},{"$f":"IFERROR($E150*SUMIF('Daily Log'!$BY$18:$BY$1017,$B150,'Daily Log'!$BZ$18:$BZ$1017),0)","v":0},{"$f":"IFERROR($E150*SUMIF('Daily Log'!$CB$18:$CB$1017,$B150,'Daily Log'!$CC$18:$CC$1017),0)","v":0},{"$f":"IFERROR($E150*SUMIF('Daily Log'!$CE$18:$CE$1017,$B150,'Daily Log'!$CF$18:$CF$1017),0)","v":0},{"$f":"IFERROR($E150*SUMIF('Daily Log'!$CH$18:$CH$1017,$B150,'Daily Log'!$CI$18:$CI$1017),0)","v":0},{"$f":"IFERROR($E150*SUMIF('Daily Log'!$CK$18:$CK$1017,$B150,'Daily Log'!$CL$18:$CL$1017),0)","v":0},{"$f":"IFERROR($E150*SUMIF('Daily Log'!$CN$18:$CN$1017,$B150,'Daily Log'!$CO$18:$CO$1017),0)","v":0}]
[null,"AE23 CNY HEAD CHARGE",null,null,1,0,{"$f":"IFERROR($E151*SUMIF('Daily Log'!$B$18:$B$1017,$B151,'Daily Log'!$C$18:$C$1017),0)","v":0},{"$f":"IFERROR($E151*SUMIF('Daily Log'!$E$18:$E$1017,$B151,'Daily Log'!$F$18:$F$1017),0)","v":0},{"$f":"IFERROR($E151*SUMIF('Daily Log'!$H$18:$H$1017,$B151,'Daily Log'!$I$18:$I$1017),0)","v":0},{"$f":"IFERROR($E151*SUMIF('Daily Log'!$K$18:$K$1017,$B151,'Daily Log'!$L$18:$L$1017),0)","v":0},{"$f":"IFERROR($E151*SUMIF('Daily Log'!$N$18:$N$1017,$B151,'Daily Log'!$O$18:$O$1017),0)","v":0},{"$f":"IFERROR($E151*SUMIF('Daily Log'!$Q$18:$Q$1017,$B151,'Daily Log'!$R$18:$R$1017),0)","v":0},{"$f":"IFERROR($E151*SUMIF('Daily Log'!$T$18:$T$1017,$B151,'Daily Log'!$U$18:$U$1017),0)","v":0},{"$f":"IFERROR($E151*SUMIF('Daily Log'!$W$18:$W$1017,$B151,'Daily Log'!$X$18:$X$1017),0)","v":0},{"$f":"IFERROR($E151*SUMIF('Daily Log'!$Z$18:$Z$1017,$B151,'Daily Log'!$AA$18:$AA$1017),0)","v":0},{"$f":"IFERROR($E151*SUMIF('Daily Log'!$AC$18:$AC$1017,$B151,'Daily Log'!$AD$18:$AD$1017),0)","v":0},{"$f":"IFERROR($E151*SUMIF('Daily Log'!$AF$18:$AF$1017,$B151,'Daily Log'!$AG$18:$AG$1017),0)","v":0},{"$f":"IFERROR($E151*SUMIF('Daily Log'!$AI$18:$AI$1017,$B151,'Daily Log'!$AJ$18:$AJ$1017),0)","v":0},{"$f":"IFERROR($E151*SUMIF('Daily Log'!$AL$18:$AL$1017,$B151,'Daily Log'!$AM$18:$AM$1017),0)","v":0},{"$f":"IFERROR($E151*SUMIF('Daily Log'!$AO$18:$AO$1017,$B151,'Daily Log'!$AP$18:$AP$1017),0)","v":0},{"$f":"IFERROR($E151*SUMIF('Daily Log'!$AR$18:$AR$1017,$B151,'Daily Log'!$AS$18:$AS$1017),0)","v":0},{"$f":"IFERROR($E151*SUMIF('Daily Log'!$AU$18:$AU$1017,$B151,'Daily Log'!$AV$18:$AV$1017),0)","v":0},{"$f":"IFERROR($E151*SUMIF('Daily Log'!$AX$18:$AX$1017,$B151,'Daily Log'!$AY$18:$AY$1017),0)","v":0},{"$f":"IFERROR($E151*SUMIF('Daily Log'!$BA$18:$BA$1017,$B151,'Daily Log'!$BB$18:$BB$1017),0)","v":0},{"$f":"IFERROR($E151*SUMIF('Daily Log'!$BD$18:$BD$1017,$B151,'Daily Log'!$BE$18:$BE$1017),0)","v":0},{"$f":"IFERROR($E151*SUMIF('Daily Log'!$BG$18:$BG$1017,$B151,'Daily Log'!$BH$18:$BH$1017),0)","v":0},{"$f":"IFERROR($E151*SUMIF('Daily Log'!$BJ$18:$BJ$1017,$B151,'Daily Log'!$BK$18:$BK$1017),0)","v":0},{"$f":"IFERROR($E151*SUMIF('Daily Log'!$BM$18:$BM$1017,$B151,'Daily Log'!$BN$18:$BN$1017),0)","v":0},{"$f":"IFERROR($E151*SUMIF('Daily Log'!$BP$18:$BP$1017,$B151,'Daily Log'!$BQ$18:$BQ$1017),0)","v":0},{"$f":"IFERROR($E151*SUMIF('Daily Log'!$BS$18:$BS$1017,$B151,'Daily Log'!$BT$18:$BT$1017),0)","v":0},{"$f":"IFERROR($E151*SUMIF('Daily Log'!$BV$18:$BV$1017,$B151,'Daily Log'!$BW$18:$BW$1017),0)","v":0},{"$f":"IFERROR($E151*SUMIF('Daily Log'!$BY$18:$BY$1017,$B151,'Daily Log'!$BZ$18:$BZ$1017),0)","v":0},{"$f":"IFERROR($E151*SUMIF('Daily Log'!$CB$18:$CB$1017,$B151,'Daily Log'!$CC$18:$CC$1017),0)","v":0},{"$f":"IFERROR($E151*SUMIF('Daily Log'!$CE$18:$CE$1017,$B151,'Daily Log'!$CF$18:$CF$1017),0)","v":0},{"$f":"IFERROR($E151*SUMIF('Daily Log'!$CH$18:$CH$1017,$B151,'Daily Log'!$CI$18:$CI$1017),0)","v":0},{"$f":"IFERROR($E151*SUMIF('Daily Log'!$CK$18:$CK$1017,$B151,'Daily Log'!$CL$18:$CL$1017),0)","v":0},{"$f":"IFERROR($E151*SUMIF('Daily Log'!$CN$18:$CN$1017,$B151,'Daily Log'!$CO$18:$CO$1017),0)","v":0}]
[null,"AE24 CNY HEAD MEM",null,null,1,0,{"$f":"IFERROR($E152*SUMIF('Daily Log'!$B$18:$B$1017,$B152,'Daily Log'!$C$18:$C$1017),0)","v":0},{"$f":"IFERROR($E152*SUMIF('Daily Log'!$E$18:$E$1017,$B152,'Daily Log'!$F$18:$F$1017),0)","v":0},{"$f":"IFERROR($E152*SUMIF('Daily Log'!$H$18:$H$1017,$B152,'Daily Log'!$I$18:$I$1017),0)","v":0},{"$f":"IFERROR($E152*SUMIF('Daily Log'!$K$18:$K$1017,$B152,'Daily Log'!$L$18:$L$1017),0)","v":0},{"$f":"IFERROR($E152*SUMIF('Daily Log'!$N$18:$N$1017,$B152,'Daily Log'!$O$18:$O$1017),0)","v":0},{"$f":"IFERROR($E152*SUMIF('Daily Log'!$Q$18:$Q$1017,$B152,'Daily Log'!$R$18:$R$1017),0)","v":0},{"$f":"IFERROR($E152*SUMIF('Daily Log'!$T$18:$T$1017,$B152,'Daily Log'!$U$18:$U$1017),0)","v":0},{"$f":"IFERROR($E152*SUMIF('Daily Log'!$W$18:$W$1017,$B152,'Daily Log'!$X$18:$X$1017),0)","v":0},{"$f":"IFERROR($E152*SUMIF('Daily Log'!$Z$18:$Z$1017,$B152,'Daily Log'!$AA$18:$AA$1017),0)","v":0},{"$f":"IFERROR($E152*SUMIF('Daily Log'!$AC$18:$AC$1017,$B152,'Daily Log'!$AD$18:$AD$1017),0)","v":0},{"$f":"IFERROR($E152*SUMIF('Daily Log'!$AF$18:$AF$1017,$B152,'Daily Log'!$AG$18:$AG$1017),0)","v":0},{"$f":"IFERROR($E152*SUMIF('Daily Log'!$AI$18:$AI$1017,$B152,'Daily Log'!$AJ$18:$AJ$1017),0)","v":0},{"$f":"IFERROR($E152*SUMIF('Daily Log'!$AL$18:$AL$1017,$B152,'Daily Log'!$AM$18:$AM$1017),0)","v":0},{"$f":"IFERROR($E152*SUMIF('Daily Log'!$AO$18:$AO$1017,$B152,'Daily Log'!$AP$18:$AP$1017),0)","v":0},{"$f":"IFERROR($E152*SUMIF('Daily Log'!$AR$18:$AR$1017,$B152,'Daily Log'!$AS$18:$AS$1017),0)","v":0},{"$f":"IFERROR($E152*SUMIF('Daily Log'!$AU$18:$AU$1017,$B152,'Daily Log'!$AV$18:$AV$1017),0)","v":0},{"$f":"IFERROR($E152*SUMIF('Daily Log'!$AX$18:$AX$1017,$B152,'Daily Log'!$AY$18:$AY$1017),0)","v":0},{"$f":"IFERROR($E152*SUMIF('Daily Log'!$BA$18:$BA$1017,$B152,'Daily Log'!$BB$18:$BB$1017),0)","v":0},{"$f":"IFERROR($E152*SUMIF('Daily Log'!$BD$18:$BD$1017,$B152,'Daily Log'!$BE$18:$BE$1017),0)","v":0},{"$f":"IFERROR($E152*SUMIF('Daily Log'!$BG$18:$BG$1017,$B152,'Daily Log'!$BH$18:$BH$1017),0)","v":0},{"$f":"IFERROR($E152*SUMIF('Daily Log'!$BJ$18:$BJ$1017,$B152,'Daily Log'!$BK$18:$BK$1017),0)","v":0},{"$f":"IFERROR($E152*SUMIF('Daily Log'!$BM$18:$BM$1017,$B152,'Daily Log'!$BN$18:$BN$1017),0)","v":0},{"$f":"IFERROR($E152*SUMIF('Daily Log'!$BP$18:$BP$1017,$B152,'Daily Log'!$BQ$18:$BQ$1017),0)","v":0},{"$f":"IFERROR($E152*SUMIF('Daily Log'!$BS$18:$BS$1017,$B152,'Daily Log'!$BT$18:$BT$1017),0)","v":0},{"$f":"IFERROR($E152*SUMIF('Daily Log'!$BV$18:$BV$1017,$B152,'Daily Log'!$BW$18:$BW$1017),0)","v":0},{"$f":"IFERROR($E152*SUMIF('Daily Log'!$BY$18:$BY$1017,$B152,'Daily Log'!$BZ$18:$BZ$1017),0)","v":0},{"$f":"IFERROR($E152*SUMIF('Daily Log'!$CB$18:$CB$1017,$B152,'Daily Log'!$CC$18:$CC$1017),0)","v":0},{"$f":"IFERROR($E152*SUMIF('Daily Log'!$CE$18:$CE$1017,$B152,'Daily Log'!$CF$18:$CF$1017),0)","v":0},{"$f":"IFERROR($E152*SUMIF('Daily Log'!$CH$18:$CH$1017,$B152,'Daily Log'!$CI$18:$CI$1017),0)","v":0},{"$f":"IFERROR($E152*SUMIF('Daily Log'!$CK$18:$CK$1017,$B152,'Daily Log'!$CL$18:$CL$1017),0)","v":0},{"$f":"IFERROR($E152*SUMIF('Daily Log'!$CN$18:$CN$1017,$B152,'Daily Log'!$CO$18:$CO$1017),0)","v":0}]
[null,"AE25 CNY LUNCH PLATER",null,null,1,0,{"$f":"IFERROR($E153*SUMIF('Daily Log'!$B$18:$B$1017,$B153,'Daily Log'!$C$18:$C$1017),0)","v":0},{"$f":"IFERROR($E153*SUMIF('Daily Log'!$E$18:$E$1017,$B153,'Daily Log'!$F$18:$F$1017),0)","v":0},{"$f":"IFERROR($E153*SUMIF('Daily Log'!$H$18:$H$1017,$B153,'Daily Log'!$I$18:$I$1017),0)","v":0},{"$f":"IFERROR($E153*SUMIF('Daily Log'!$K$18:$K$1017,$B153,'Daily Log'!$L$18:$L$1017),0)","v":0},{"$f":"IFERROR($E153*SUMIF('Daily Log'!$N$18:$N$1017,$B153,'Daily Log'!$O$18:$O$1017),0)","v":0},{"$f":"IFERROR($E153*SUMIF('Daily Log'!$Q$18:$Q$1017,$B153,'Daily Log'!$R$18:$R$1017),0)","v":0},{"$f":"IFERROR($E153*SUMIF('Daily Log'!$T$18:$T$1017,$B153,'Daily Log'!$U$18:$U$1017),0)","v":0},{"$f":"IFERROR($E153*SUMIF('Daily Log'!$W$18:$W$1017,$B153,'Daily Log'!$X$18:$X$1017),0)","v":0},{"$f":"IFERROR($E153*SUMIF('Daily Log'!$Z$18:$Z$1017,$B153,'Daily Log'!$AA$18:$AA$1017),0)","v":0},{"$f":"IFERROR($E153*SUMIF('Daily Log'!$AC$18:$AC$1017,$B153,'Daily Log'!$AD$18:$AD$1017),0)","v":0},{"$f":"IFERROR($E153*SUMIF('Daily Log'!$AF$18:$AF$1017,$B153,'Daily Log'!$AG$18:$AG$1017),0)","v":0},{"$f":"IFERROR($E153*SUMIF('Daily Log'!$AI$18:$AI$1017,$B153,'Daily Log'!$AJ$18:$AJ$1017),0)","v":0},{"$f":"IFERROR($E153*SUMIF('Daily Log'!$AL$18:$AL$1017,$B153,'Daily Log'!$AM$18:$AM$1017),0)","v":0},{"$f":"IFERROR($E153*SUMIF('Daily Log'!$AO$18:$AO$1017,$B153,'Daily Log'!$AP$18:$AP$1017),0)","v":0},{"$f":"IFERROR($E153*SUMIF('Daily Log'!$AR$18:$AR$1017,$B153,'Daily Log'!$AS$18:$AS$1017),0)","v":0},{"$f":"IFERROR($E153*SUMIF('Daily Log'!$AU$18:$AU$1017,$B153,'Daily Log'!$AV$18:$AV$1017),0)","v":0},{"$f":"IFERROR($E153*SUMIF('Daily Log'!$AX$18:$AX$1017,$B153,'Daily Log'!$AY$18:$AY$1017),0)","v":0},{"$f":"IFERROR($E153*SUMIF('Daily Log'!$BA$18:$BA$1017,$B153,'Daily Log'!$BB$18:$BB$1017),0)","v":0},{"$f":"IFERROR($E153*SUMIF('Daily Log'!$BD$18:$BD$1017,$B153,'Daily Log'!$BE$18:$BE$1017),0)","v":0},{"$f":"IFERROR($E153*SUMIF('Daily Log'!$BG$18:$BG$1017,$B153,'Daily Log'!$BH$18:$BH$1017),0)","v":0},{"$f":"IFERROR($E153*SUMIF('Daily Log'!$BJ$18:$BJ$1017,$B153,'Daily Log'!$BK$18:$BK$1017),0)","v":0},{"$f":"IFERROR($E153*SUMIF('Daily Log'!$BM$18:$BM$1017,$B153,'Daily Log'!$BN$18:$BN$1017),0)","v":0},{"$f":"IFERROR($E153*SUMIF('Daily Log'!$BP$18:$BP$1017,$B153,'Daily Log'!$BQ$18:$BQ$1017),0)","v":0},{"$f":"IFERROR($E153*SUMIF('Daily Log'!$BS$18:$BS$1017,$B153,'Daily Log'!$BT$18:$BT$1017),0)","v":0},{"$f":"IFERROR($E153*SUMIF('Daily Log'!$BV$18:$BV$1017,$B153,'Daily Log'!$BW$18:$BW$1017),0)","v":0},{"$f":"IFERROR($E153*SUMIF('Daily Log'!$BY$18:$BY$1017,$B153,'Daily Log'!$BZ$18:$BZ$1017),0)","v":0},{"$f":"IFERROR($E153*SUMIF('Daily Log'!$CB$18:$CB$1017,$B153,'Daily Log'!$CC$18:$CC$1017),0)","v":0},{"$f":"IFERROR($E153*SUMIF('Daily Log'!$CE$18:$CE$1017,$B153,'Daily Log'!$CF$18:$CF$1017),0)","v":0},{"$f":"IFERROR($E153*SUMIF('Daily Log'!$CH$18:$CH$1017,$B153,'Daily Log'!$CI$18:$CI$1017),0)","v":0},{"$f":"IFERROR($E153*SUMIF('Daily Log'!$CK$18:$CK$1017,$B153,'Daily Log'!$CL$18:$CL$1017),0)","v":0},{"$f":"IFERROR($E153*SUMIF('Daily Log'!$CN$18:$CN$1017,$B153,'Daily Log'!$CO$18:$CO$1017),0)","v":0}]
[null,"AE26 CNY BEER PLATER",null,null,1,0,{"$f":"IFERROR($E154*SUMIF('Daily Log'!$B$18:$B$1017,$B154,'Daily Log'!$C$18:$C$1017),0)","v":0},{"$f":"IFERROR($E154*SUMIF('Daily Log'!$E$18:$E$1017,$B154,'Daily Log'!$F$18:$F$1017),0)","v":0},{"$f":"IFERROR($E154*SUMIF('Daily Log'!$H$18:$H$1017,$B154,'Daily Log'!$I$18:$I$1017),0)","v":0},{"$f":"IFERROR($E154*SUMIF('Daily Log'!$K$18:$K$1017,$B154,'Daily Log'!$L$18:$L$1017),0)","v":0},{"$f":"IFERROR($E154*SUMIF('Daily Log'!$N$18:$N$1017,$B154,'Daily Log'!$O$18:$O$1017),0)","v":0},{"$f":"IFERROR($E154*SUMIF('Daily Log'!$Q$18:$Q$1017,$B154,'Daily Log'!$R$18:$R$1017),0)","v":0},{"$f":"IFERROR($E154*SUMIF('Daily Log'!$T$18:$T$1017,$B154,'Daily Log'!$U$18:$U$1017),0)","v":0},{"$f":"IFERROR($E154*SUMIF('Daily Log'!$W$18:$W$1017,$B154,'Daily Log'!$X$18:$X$1017),0)","v":0},{"$f":"IFERROR($E154*SUMIF('Daily Log'!$Z$18:$Z$1017,$B154,'Daily Log'!$AA$18:$AA$1017),0)","v":0},{"$f":"IFERROR($E154*SUMIF('Daily Log'!$AC$18:$AC$1017,$B154,'Daily Log'!$AD$18:$AD$1017),0)","v":0},{"$f":"IFERROR($E154*SUMIF('Daily Log'!$AF$18:$AF$1017,$B154,'Daily Log'!$AG$18:$AG$1017),0)","v":0},{"$f":"IFERROR($E154*SUMIF('Daily Log'!$AI$18:$AI$1017,$B154,'Daily Log'!$AJ$18:$AJ$1017),0)","v":0},{"$f":"IFERROR($E154*SUMIF('Daily Log'!$AL$18:$AL$1017,$B154,'Daily Log'!$AM$18:$AM$1017),0)","v":0},{"$f":"IFERROR($E154*SUMIF('Daily Log'!$AO$18:$AO$1017,$B154,'Daily Log'!$AP$18:$AP$1017),0)","v":0},{"$f":"IFERROR($E154*SUMIF('Daily Log'!$AR$18:$AR$1017,$B154,'Daily Log'!$AS$18:$AS$1017),0)","v":0},{"$f":"IFERROR($E154*SUMIF('Daily Log'!$AU$18:$AU$1017,$B154,'Daily Log'!$AV$18:$AV$1017),0)","v":0},{"$f":"IFERROR($E154*SUMIF('Daily Log'!$AX$18:$AX$1017,$B154,'Daily Log'!$AY$18:$AY$1017),0)","v":0},{"$f":"IFERROR($E154*SUMIF('Daily Log'!$BA$18:$BA$1017,$B154,'Daily Log'!$BB$18:$BB$1017),0)","v":0},{"$f":"IFERROR($E154*SUMIF('Daily Log'!$BD$18:$BD$1017,$B154,'Daily Log'!$BE$18:$BE$1017),0)","v":0},{"$f":"IFERROR($E154*SUMIF('Daily Log'!$BG$18:$BG$1017,$B154,'Daily Log'!$BH$18:$BH$1017),0)","v":0},{"$f":"IFERROR($E154*SUMIF('Daily Log'!$BJ$18:$BJ$1017,$B154,'Daily Log'!$BK$18:$BK$1017),0)","v":0},{"$f":"IFERROR($E154*SUMIF('Daily Log'!$BM$18:$BM$1017,$B154,'Daily Log'!$BN$18:$BN$1017),0)","v":0},{"$f":"IFERROR($E154*SUMIF('Daily Log'!$BP$18:$BP$1017,$B154,'Daily Log'!$BQ$18:$BQ$1017),0)","v":0},{"$f":"IFERROR($E154*SUMIF('Daily Log'!$BS$18:$BS$1017,$B154,'Daily Log'!$BT$18:$BT$1017),0)","v":0},{"$f":"IFERROR($E154*SUMIF('Daily Log'!$BV$18:$BV$1017,$B154,'Daily Log'!$BW$18:$BW$1017),0)","v":0},{"$f":"IFERROR($E154*SUMIF('Daily Log'!$BY$18:$BY$1017,$B154,'Daily Log'!$BZ$18:$BZ$1017),0)","v":0},{"$f":"IFERROR($E154*SUMIF('Daily Log'!$CB$18:$CB$1017,$B154,'Daily Log'!$CC$18:$CC$1017),0)","v":0},{"$f":"IFERROR($E154*SUMIF('Daily Log'!$CE$18:$CE$1017,$B154,'Daily Log'!$CF$18:$CF$1017),0)","v":0},{"$f":"IFERROR($E154*SUMIF('Daily Log'!$CH$18:$CH$1017,$B154,'Daily Log'!$CI$18:$CI$1017),0)","v":0},{"$f":"IFERROR($E154*SUMIF('Daily Log'!$CK$18:$CK$1017,$B154,'Daily Log'!$CL$18:$CL$1017),0)","v":0},{"$f":"IFERROR($E154*SUMIF('Daily Log'!$CN$18:$CN$1017,$B154,'Daily Log'!$CO$18:$CO$1017),0)","v":0}]
[null,"AE28 S. XTD ROOM",null,null,1,0,{"$f":"IFERROR($E155*SUMIF('Daily Log'!$B$18:$B$1017,$B155,'Daily Log'!$C$18:$C$1017),0)","v":0},{"$f":"IFERROR($E155*SUMIF('Daily Log'!$E$18:$E$1017,$B155,'Daily Log'!$F$18:$F$1017),0)","v":0},{"$f":"IFERROR($E155*SUMIF('Daily Log'!$H$18:$H$1017,$B155,'Daily Log'!$I$18:$I$1017),0)","v":0},{"$f":"IFERROR($E155*SUMIF('Daily Log'!$K$18:$K$1017,$B155,'Daily Log'!$L$18:$L$1017),0)","v":0},{"$f":"IFERROR($E155*SUMIF('Daily Log'!$N$18:$N$1017,$B155,'Daily Log'!$O$18:$O$1017),0)","v":0},{"$f":"IFERROR($E155*SUMIF('Daily Log'!$Q$18:$Q$1017,$B155,'Daily Log'!$R$18:$R$1017),0)","v":0},{"$f":"IFERROR($E155*SUMIF('Daily Log'!$T$18:$T$1017,$B155,'Daily Log'!$U$18:$U$1017),0)","v":0},{"$f":"IFERROR($E155*SUMIF('Daily Log'!$W$18:$W$1017,$B155,'Daily Log'!$X$18:$X$1017),0)","v":0},{"$f":"IFERROR($E155*SUMIF('Daily Log'!$Z$18:$Z$1017,$B155,'Daily Log'!$AA$18:$AA$1017),0)","v":0},{"$f":"IFERROR($E155*SUMIF('Daily Log'!$AC$18:$AC$1017,$B155,'Daily Log'!$AD$18:$AD$1017),0)","v":0},{"$f":"IFERROR($E155*SUMIF('Daily Log'!$AF$18:$AF$1017,$B155,'Daily Log'!$AG$18:$AG$1017),0)","v":0},{"$f":"IFERROR($E155*SUMIF('Daily Log'!$AI$18:$AI$1017,$B155,'Daily Log'!$AJ$18:$AJ$1017),0)","v":0},{"$f":"IFERROR($E155*SUMIF('Daily Log'!$AL$18:$AL$1017,$B155,'Daily Log'!$AM$18:$AM$1017),0)","v":0},{"$f":"IFERROR($E155*SUMIF('Daily Log'!$AO$18:$AO$1017,$B155,'Daily Log'!$AP$18:$AP$1017),0)","v":0},{"$f":"IFERROR($E155*SUMIF('Daily Log'!$AR$18:$AR$1017,$B155,'Daily Log'!$AS$18:$AS$1017),0)","v":0},{"$f":"IFERROR($E155*SUMIF('Daily Log'!$AU$18:$AU$1017,$B155,'Daily Log'!$AV$18:$AV$1017),0)","v":0},{"$f":"IFERROR($E155*SUMIF('Daily Log'!$AX$18:$AX$1017,$B155,'Daily Log'!$AY$18:$AY$1017),0)","v":0},{"$f":"IFERROR($E155*SUMIF('Daily Log'!$BA$18:$BA$1017,$B155,'Daily Log'!$BB$18:$BB$1017),0)","v":0},{"$f":"IFERROR($E155*SUMIF('Daily Log'!$BD$18:$BD$1017,$B155,'Daily Log'!$BE$18:$BE$1017),0)","v":0},{"$f":"IFERROR($E155*SUMIF('Daily Log'!$BG$18:$BG$1017,$B155,'Daily Log'!$BH$18:$BH$1017),0)","v":0},{"$f":"IFERROR($E155*SUMIF('Daily Log'!$BJ$18:$BJ$1017,$B155,'Daily Log'!$BK$18:$BK$1017),0)","v":0},{"$f":"IFERROR($E155*SUMIF('Daily Log'!$BM$18:$BM$1017,$B155,'Daily Log'!$BN$18:$BN$1017),0)","v":0},{"$f":"IFERROR($E155*SUMIF('Daily Log'!$BP$18:$BP$1017,$B155,'Daily Log'!$BQ$18:$BQ$1017),0)","v":0},{"$f":"IFERROR($E155*SUMIF('Daily Log'!$BS$18:$BS$1017,$B155,'Daily Log'!$BT$18:$BT$1017),0)","v":0},{"$f":"IFERROR($E155*SUMIF('Daily Log'!$BV$18:$BV$1017,$B155,'Daily Log'!$BW$18:$BW$1017),0)","v":0},{"$f":"IFERROR($E155*SUMIF('Daily Log'!$BY$18:$BY$1017,$B155,'Daily Log'!$BZ$18:$BZ$1017),0)","v":0},{"$f":"IFERROR($E155*SUMIF('Daily Log'!$CB$18:$CB$1017,$B155,'Daily Log'!$CC$18:$CC$1017),0)","v":0},{"$f":"IFERROR($E155*SUMIF('Daily Log'!$CE$18:$CE$1017,$B155,'Daily Log'!$CF$18:$CF$1017),0)","v":0},{"$f":"IFERROR($E155*SUMIF('Daily Log'!$CH$18:$CH$1017,$B155,'Daily Log'!$CI$18:$CI$1017),0)","v":0},{"$f":"IFERROR($E155*SUMIF('Daily Log'!$CK$18:$CK$1017,$B155,'Daily Log'!$CL$18:$CL$1017),0)","v":0},{"$f":"IFERROR($E155*SUMIF('Daily Log'!$CN$18:$CN$1017,$B155,'Daily Log'!$CO$18:$CO$1017),0)","v":0}]
[null,"AE29 M. XTD ROOM",null,null,1,0,{"$f":"IFERROR($E156*SUMIF('Daily Log'!$B$18:$B$1017,$B156,'Daily Log'!$C$18:$C$1017),0)","v":0},{"$f":"IFERROR($E156*SUMIF('Daily Log'!$E$18:$E$1017,$B156,'Daily Log'!$F$18:$F$1017),0)","v":0},{"$f":"IFERROR($E156*SUMIF('Daily Log'!$H$18:$H$1017,$B156,'Daily Log'!$I$18:$I$1017),0)","v":0},{"$f":"IFERROR($E156*SUMIF('Daily Log'!$K$18:$K$1017,$B156,'Daily Log'!$L$18:$L$1017),0)","v":0},{"$f":"IFERROR($E156*SUMIF('Daily Log'!$N$18:$N$1017,$B156,'Daily Log'!$O$18:$O$1017),0)","v":0},{"$f":"IFERROR($E156*SUMIF('Daily Log'!$Q$18:$Q$1017,$B156,'Daily Log'!$R$18:$R$1017),0)","v":0},{"$f":"IFERROR($E156*SUMIF('Daily Log'!$T$18:$T$1017,$B156,'Daily Log'!$U$18:$U$1017),0)","v":0},{"$f":"IFERROR($E156*SUMIF('Daily Log'!$W$18:$W$1017,$B156,'Daily Log'!$X$18:$X$1017),0)","v":0},{"$f":"IFERROR($E156*SUMIF('Daily Log'!$Z$18:$Z$1017,$B156,'Daily Log'!$AA$18:$AA$1017),0)","v":0},{"$f":"IFERROR($E156*SUMIF('Daily Log'!$AC$18:$AC$1017,$B156,'Daily Log'!$AD$18:$AD$1017),0)","v":0},{"$f":"IFERROR($E156*SUMIF('Daily Log'!$AF$18:$AF$1017,$B156,'Daily Log'!$AG$18:$AG$1017),0)","v":0},{"$f":"IFERROR($E156*SUMIF('Daily Log'!$AI$18:$AI$1017,$B156,'Daily Log'!$AJ$18:$AJ$1017),0)","v":0},{"$f":"IFERROR($E156*SUMIF('Daily Log'!$AL$18:$AL$1017,$B156,'Daily Log'!$AM$18:$AM$1017),0)","v":0},{"$f":"IFERROR($E156*SUMIF('Daily Log'!$AO$18:$AO$1017,$B156,'Daily Log'!$AP$18:$AP$1017),0)","v":0},{"$f":"IFERROR($E156*SUMIF('Daily Log'!$AR$18:$AR$1017,$B156,'Daily Log'!$AS$18:$AS$1017),0)","v":0},{"$f":"IFERROR($E156*SUMIF('Daily Log'!$AU$18:$AU$1017,$B156,'Daily Log'!$AV$18:$AV$1017),0)","v":0},{"$f":"IFERROR($E156*SUMIF('Daily Log'!$AX$18:$AX$1017,$B156,'Daily Log'!$AY$18:$AY$1017),0)","v":0},{"$f":"IFERROR($E156*SUMIF('Daily Log'!$BA$18:$BA$1017,$B156,'Daily Log'!$BB$18:$BB$1017),0)","v":0},{"$f":"IFERROR($E156*SUMIF('Daily Log'!$BD$18:$BD$1017,$B156,'Daily Log'!$BE$18:$BE$1017),0)","v":0},{"$f":"IFERROR($E156*SUMIF('Daily Log'!$BG$18:$BG$1017,$B156,'Daily Log'!$BH$18:$BH$1017),0)","v":0},{"$f":"IFERROR($E156*SUMIF('Daily Log'!$BJ$18:$BJ$1017,$B156,'Daily Log'!$BK$18:$BK$1017),0)","v":0},{"$f":"IFERROR($E156*SUMIF('Daily Log'!$BM$18:$BM$1017,$B156,'Daily Log'!$BN$18:$BN$1017),0)","v":0},{"$f":"IFERROR($E156*SUMIF('Daily Log'!$BP$18:$BP$1017,$B156,'Daily Log'!$BQ$18:$BQ$1017),0)","v":0},{"$f":"IFERROR($E156*SUMIF('Daily Log'!$BS$18:$BS$1017,$B156,'Daily Log'!$BT$18:$BT$1017),0)","v":0},{"$f":"IFERROR($E156*SUMIF('Daily Log'!$BV$18:$BV$1017,$B156,'Daily Log'!$BW$18:$BW$1017),0)","v":0},{"$f":"IFERROR($E156*SUMIF('Daily Log'!$BY$18:$BY$1017,$B156,'Daily Log'!$BZ$18:$BZ$1017),0)","v":0},{"$f":"IFERROR($E156*SUMIF('Daily Log'!$CB$18:$CB$1017,$B156,'Daily Log'!$CC$18:$CC$1017),0)","v":0},{"$f":"IFERROR($E156*SUMIF('Daily Log'!$CE$18:$CE$1017,$B156,'Daily Log'!$CF$18:$CF$1017),0)","v":0},{"$f":"IFERROR($E156*SUMIF('Daily Log'!$CH$18:$CH$1017,$B156,'Daily Log'!$CI$18:$CI$1017),0)","v":0},{"$f":"IFERROR($E156*SUMIF('Daily Log'!$CK$18:$CK$1017,$B156,'Daily Log'!$CL$18:$CL$1017),0)","v":0},{"$f":"IFERROR($E156*SUMIF('Daily Log'!$CN$18:$CN$1017,$B156,'Daily Log'!$CO$18:$CO$1017),0)","v":0}]
[null,"AE30 M.BIG XTD ROOM",null,null,1,0,{"$f":"IFERROR($E157*SUMIF('Daily Log'!$B$18:$B$1017,$B157,'Daily Log'!$C$18:$C$1017),0)","v":0},{"$f":"IFERROR($E157*SUMIF('Daily Log'!$E$18:$E$1017,$B157,'Daily Log'!$F$18:$F$1017),0)","v":0},{"$f":"IFERROR($E157*SUMIF('Daily Log'!$H$18:$H$1017,$B157,'Daily Log'!$I$18:$I$1017),0)","v":0},{"$f":"IFERROR($E157*SUMIF('Daily Log'!$K$18:$K$1017,$B157,'Daily Log'!$L$18:$L$1017),0)","v":0},{"$f":"IFERROR($E157*SUMIF('Daily Log'!$N$18:$N$1017,$B157,'Daily Log'!$O$18:$O$1017),0)","v":0},{"$f":"IFERROR($E157*SUMIF('Daily Log'!$Q$18:$Q$1017,$B157,'Daily Log'!$R$18:$R$1017),0)","v":0},{"$f":"IFERROR($E157*SUMIF('Daily Log'!$T$18:$T$1017,$B157,'Daily Log'!$U$18:$U$1017),0)","v":0},{"$f":"IFERROR($E157*SUMIF('Daily Log'!$W$18:$W$1017,$B157,'Daily Log'!$X$18:$X$1017),0)","v":0},{"$f":"IFERROR($E157*SUMIF('Daily Log'!$Z$18:$Z$1017,$B157,'Daily Log'!$AA$18:$AA$1017),0)","v":0},{"$f":"IFERROR($E157*SUMIF('Daily Log'!$AC$18:$AC$1017,$B157,'Daily Log'!$AD$18:$AD$1017),0)","v":0},{"$f":"IFERROR($E157*SUMIF('Daily Log'!$AF$18:$AF$1017,$B157,'Daily Log'!$AG$18:$AG$1017),0)","v":0},{"$f":"IFERROR($E157*SUMIF('Daily Log'!$AI$18:$AI$1017,$B157,'Daily Log'!$AJ$18:$AJ$1017),0)","v":0},{"$f":"IFERROR($E157*SUMIF('Daily Log'!$AL$18:$AL$1017,$B157,'Daily Log'!$AM$18:$AM$1017),0)","v":0},{"$f":"IFERROR($E157*SUMIF('Daily Log'!$AO$18:$AO$1017,$B157,'Daily Log'!$AP$18:$AP$1017),0)","v":0},{"$f":"IFERROR($E157*SUMIF('Daily Log'!$AR$18:$AR$1017,$B157,'Daily Log'!$AS$18:$AS$1017),0)","v":0},{"$f":"IFERROR($E157*SUMIF('Daily Log'!$AU$18:$AU$1017,$B157,'Daily Log'!$AV$18:$AV$1017),0)","v":0},{"$f":"IFERROR($E157*SUMIF('Daily Log'!$AX$18:$AX$1017,$B157,'Daily Log'!$AY$18:$AY$1017),0)","v":0},{"$f":"IFERROR($E157*SUMIF('Daily Log'!$BA$18:$BA$1017,$B157,'Daily Log'!$BB$18:$BB$1017),0)","v":0},{"$f":"IFERROR($E157*SUMIF('Daily Log'!$BD$18:$BD$1017,$B157,'Daily Log'!$BE$18:$BE$1017),0)","v":0},{"$f":"IFERROR($E157*SUMIF('Daily Log'!$BG$18:$BG$1017,$B157,'Daily Log'!$BH$18:$BH$1017),0)","v":0},{"$f":"IFERROR($E157*SUMIF('Daily Log'!$BJ$18:$BJ$1017,$B157,'Daily Log'!$BK$18:$BK$1017),0)","v":0},{"$f":"IFERROR($E157*SUMIF('Daily Log'!$BM$18:$BM$1017,$B157,'Daily Log'!$BN$18:$BN$1017),0)","v":0},{"$f":"IFERROR($E157*SUMIF('Daily Log'!$BP$18:$BP$1017,$B157,'Daily Log'!$BQ$18:$BQ$1017),0)","v":0},{"$f":"IFERROR($E157*SUMIF('Daily Log'!$BS$18:$BS$1017,$B157,'Daily Log'!$BT$18:$BT$1017),0)","v":0},{"$f":"IFERROR($E157*SUMIF('Daily Log'!$BV$18:$BV$1017,$B157,'Daily Log'!$BW$18:$BW$1017),0)","v":0},{"$f":"IFERROR($E157*SUMIF('Daily Log'!$BY$18:$BY$1017,$B157,'Daily Log'!$BZ$18:$BZ$1017),0)","v":0},{"$f":"IFERROR($E157*SUMIF('Daily Log'!$CB$18:$CB$1017,$B157,'Daily Log'!$CC$18:$CC$1017),0)","v":0},{"$f":"IFERROR($E157*SUMIF('Daily Log'!$CE$18:$CE$1017,$B157,'Daily Log'!$CF$18:$CF$1017),0)","v":0},{"$f":"IFERROR($E157*SUMIF('Daily Log'!$CH$18:$CH$1017,$B157,'Daily Log'!$CI$18:$CI$1017),0)","v":0},{"$f":"IFERROR($E157*SUMIF('Daily Log'!$CK$18:$CK$1017,$B157,'Daily Log'!$CL$18:$CL$1017),0)","v":0},{"$f":"IFERROR($E157*SUMIF('Daily Log'!$CN$18:$CN$1017,$B157,'Daily Log'!$CO$18:$CO$1017),0)","v":0}]
[null,"AE31 BIG XTD ROOM",null,null,1,0,{"$f":"IFERROR($E158*SUMIF('Daily Log'!$B$18:$B$1017,$B158,'Daily Log'!$C$18:$C$1017),0)","v":0},{"$f":"IFERROR($E158*SUMIF('Daily Log'!$E$18:$E$1017,$B158,'Daily Log'!$F$18:$F$1017),0)","v":0},{"$f":"IFERROR($E158*SUMIF('Daily Log'!$H$18:$H$1017,$B158,'Daily Log'!$I$18:$I$1017),0)","v":0},{"$f":"IFERROR($E158*SUMIF('Daily Log'!$K$18:$K$1017,$B158,'Daily Log'!$L$18:$L$1017),0)","v":0},{"$f":"IFERROR($E158*SUMIF('Daily Log'!$N$18:$N$1017,$B158,'Daily Log'!$O$18:$O$1017),0)","v":0},{"$f":"IFERROR($E158*SUMIF('Daily Log'!$Q$18:$Q$1017,$B158,'Daily Log'!$R$18:$R$1017),0)","v":0},{"$f":"IFERROR($E158*SUMIF('Daily Log'!$T$18:$T$1017,$B158,'Daily Log'!$U$18:$U$1017),0)","v":0},{"$f":"IFERROR($E158*SUMIF('Daily Log'!$W$18:$W$1017,$B158,'Daily Log'!$X$18:$X$1017),0)","v":0},{"$f":"IFERROR($E158*SUMIF('Daily Log'!$Z$18:$Z$1017,$B158,'Daily Log'!$AA$18:$AA$1017),0)","v":0},{"$f":"IFERROR($E158*SUMIF('Daily Log'!$AC$18:$AC$1017,$B158,'Daily Log'!$AD$18:$AD$1017),0)","v":0},{"$f":"IFERROR($E158*SUMIF('Daily Log'!$AF$18:$AF$1017,$B158,'Daily Log'!$AG$18:$AG$1017),0)","v":0},{"$f":"IFERROR($E158*SUMIF('Daily Log'!$AI$18:$AI$1017,$B158,'Daily Log'!$AJ$18:$AJ$1017),0)","v":0},{"$f":"IFERROR($E158*SUMIF('Daily Log'!$AL$18:$AL$1017,$B158,'Daily Log'!$AM$18:$AM$1017),0)","v":0},{"$f":"IFERROR($E158*SUMIF('Daily Log'!$AO$18:$AO$1017,$B158,'Daily Log'!$AP$18:$AP$1017),0)","v":0},{"$f":"IFERROR($E158*SUMIF('Daily Log'!$AR$18:$AR$1017,$B158,'Daily Log'!$AS$18:$AS$1017),0)","v":0},{"$f":"IFERROR($E158*SUMIF('Daily Log'!$AU$18:$AU$1017,$B158,'Daily Log'!$AV$18:$AV$1017),0)","v":0},{"$f":"IFERROR($E158*SUMIF('Daily Log'!$AX$18:$AX$1017,$B158,'Daily Log'!$AY$18:$AY$1017),0)","v":0},{"$f":"IFERROR($E158*SUMIF('Daily Log'!$BA$18:$BA$1017,$B158,'Daily Log'!$BB$18:$BB$1017),0)","v":0},{"$f":"IFERROR($E158*SUMIF('Daily Log'!$BD$18:$BD$1017,$B158,'Daily Log'!$BE$18:$BE$1017),0)","v":0},{"$f":"IFERROR($E158*SUMIF('Daily Log'!$BG$18:$BG$1017,$B158,'Daily Log'!$BH$18:$BH$1017),0)","v":0},{"$f":"IFERROR($E158*SUMIF('Daily Log'!$BJ$18:$BJ$1017,$B158,'Daily Log'!$BK$18:$BK$1017),0)","v":0},{"$f":"IFERROR($E158*SUMIF('Daily Log'!$BM$18:$BM$1017,$B158,'Daily Log'!$BN$18:$BN$1017),0)","v":0},{"$f":"IFERROR($E158*SUMIF('Daily Log'!$BP$18:$BP$1017,$B158,'Daily Log'!$BQ$18:$BQ$1017),0)","v":0},{"$f":"IFERROR($E158*SUMIF('Daily Log'!$BS$18:$BS$1017,$B158,'Daily Log'!$BT$18:$BT$1017),0)","v":0},{"$f":"IFERROR($E158*SUMIF('Daily Log'!$BV$18:$BV$1017,$B158,'Daily Log'!$BW$18:$BW$1017),0)","v":0},{"$f":"IFERROR($E158*SUMIF('Daily Log'!$BY$18:$BY$1017,$B158,'Daily Log'!$BZ$18:$BZ$1017),0)","v":0},{"$f":"IFERROR($E158*SUMIF('Daily Log'!$CB$18:$CB$1017,$B158,'Daily Log'!$CC$18:$CC$1017),0)","v":0},{"$f":"IFERROR($E158*SUMIF('Daily Log'!$CE$18:$CE$1017,$B158,'Daily Log'!$CF$18:$CF$1017),0)","v":0},{"$f":"IFERROR($E158*SUMIF('Daily Log'!$CH$18:$CH$1017,$B158,'Daily Log'!$CI$18:$CI$1017),0)","v":0},{"$f":"IFERROR($E158*SUMIF('Daily Log'!$CK$18:$CK$1017,$B158,'Daily Log'!$CL$18:$CL$1017),0)","v":0},{"$f":"IFERROR($E158*SUMIF('Daily Log'!$CN$18:$CN$1017,$B158,'Daily Log'!$CO$18:$CO$1017),0)","v":0}]
[null,"AE32 VIP XTD ROOM",null,null,1,{"$f":"SUM($G159:$AK159)","v":0},{"$f":"IFERROR($E159*SUMIF('Daily Log'!$B$18:$B$1017,$B159,'Daily Log'!$C$18:$C$1017),0)","v":0},{"$f":"IFERROR($E159*SUMIF('Daily Log'!$E$18:$E$1017,$B159,'Daily Log'!$F$18:$F$1017),0)","v":0},{"$f":"IFERROR($E159*SUMIF('Daily Log'!$H$18:$H$1017,$B159,'Daily Log'!$I$18:$I$1017),0)","v":0},{"$f":"IFERROR($E159*SUMIF('Daily Log'!$K$18:$K$1017,$B159,'Daily Log'!$L$18:$L$1017),0)","v":0},{"$f":"IFERROR($E159*SUMIF('Daily Log'!$N$18:$N$1017,$B159,'Daily Log'!$O$18:$O$1017),0)","v":0},{"$f":"IFERROR($E159*SUMIF('Daily Log'!$Q$18:$Q$1017,$B159,'Daily Log'!$R$18:$R$1017),0)","v":0},{"$f":"IFERROR($E159*SUMIF('Daily Log'!$T$18:$T$1017,$B159,'Daily Log'!$U$18:$U$1017),0)","v":0},{"$f":"IFERROR($E159*SUMIF('Daily Log'!$W$18:$W$1017,$B159,'Daily Log'!$X$18:$X$1017),0)","v":0},{"$f":"IFERROR($E159*SUMIF('Daily Log'!$Z$18:$Z$1017,$B159,'Daily Log'!$AA$18:$AA$1017),0)","v":0},{"$f":"IFERROR($E159*SUMIF('Daily Log'!$AC$18:$AC$1017,$B159,'Daily Log'!$AD$18:$AD$1017),0)","v":0},{"$f":"IFERROR($E159*SUMIF('Daily Log'!$AF$18:$AF$1017,$B159,'Daily Log'!$AG$18:$AG$1017),0)","v":0},{"$f":"IFERROR($E159*SUMIF('Daily Log'!$AI$18:$AI$1017,$B159,'Daily Log'!$AJ$18:$AJ$1017),0)","v":0},{"$f":"IFERROR($E159*SUMIF('Daily Log'!$AL$18:$AL$1017,$B159,'Daily Log'!$AM$18:$AM$1017),0)","v":0},{"$f":"IFERROR($E159*SUMIF('Daily Log'!$AO$18:$AO$1017,$B159,'Daily Log'!$AP$18:$AP$1017),0)","v":0},{"$f":"IFERROR($E159*SUMIF('Daily Log'!$AR$18:$AR$1017,$B159,'Daily Log'!$AS$18:$AS$1017),0)","v":0},{"$f":"IFERROR($E159*SUMIF('Daily Log'!$AU$18:$AU$1017,$B159,'Daily Log'!$AV$18:$AV$1017),0)","v":0},{"$f":"IFERROR($E159*SUMIF('Daily Log'!$AX$18:$AX$1017,$B159,'Daily Log'!$AY$18:$AY$1017),0)","v":0},{"$f":"IFERROR($E159*SUMIF('Daily Log'!$BA$18:$BA$1017,$B159,'Daily Log'!$BB$18:$BB$1017),0)","v":0},{"$f":"IFERROR($E159*SUMIF('Daily Log'!$BD$18:$BD$1017,$B159,'Daily Log'!$BE$18:$BE$1017),0)","v":0},{"$f":"IFERROR($E159*SUMIF('Daily Log'!$BG$18:$BG$1017,$B159,'Daily Log'!$BH$18:$BH$1017),0)","v":0},{"$f":"IFERROR($E159*SUMIF('Daily Log'!$BJ$18:$BJ$1017,$B159,'Daily Log'!$BK$18:$BK$1017),0)","v":0},{"$f":"IFERROR($E159*SUMIF('Daily Log'!$BM$18:$BM$1017,$B159,'Daily Log'!$BN$18:$BN$1017),0)","v":0},{"$f":"IFERROR($E159*SUMIF('Daily Log'!$BP$18:$BP$1017,$B159,'Daily Log'!$BQ$18:$BQ$1017),0)","v":0},{"$f":"IFERROR($E159*SUMIF('Daily Log'!$BS$18:$BS$1017,$B159,'Daily Log'!$BT$18:$BT$1017),0)","v":0},{"$f":"IFERROR($E159*SUMIF('Daily Log'!$BV$18:$BV$1017,$B159,'Daily Log'!$BW$18:$BW$1017),0)","v":0},{"$f":"IFERROR($E159*SUMIF('Daily Log'!$BY$18:$BY$1017,$B159,'Daily Log'!$BZ$18:$BZ$1017),0)","v":0},{"$f":"IFERROR($E159*SUMIF('Daily Log'!$CB$18:$CB$1017,$B159,'Daily Log'!$CC$18:$CC$1017),0)","v":0},{"$f":"IFERROR($E159*SUMIF('Daily Log'!$CE$18:$CE$1017,$B159,'Daily Log'!$CF$18:$CF$1017),0)","v":0},{"$f":"IFERROR($E159*SUMIF('Daily Log'!$CH$18:$CH$1017,$B159,'Daily Log'!$CI$18:$CI$1017),0)","v":0},{"$f":"IFERROR($E159*SUMIF('Daily Log'!$CK$18:$CK$1017,$B159,'Daily Log'!$CL$18:$CL$1017),0)","v":0},{"$f":"IFERROR($E159*SUMIF('Daily Log'!$CN$18:$CN$1017,$B159,'Daily Log'!$CO$18:$CO$1017),0)","v":0}]
[null,"BG01 6001:GUI BTL",null,"BEER ",1,10,{"$f":"IFERROR($E160*SUMIF('Daily Log'!$B$18:$B$1017,$B160,'Daily Log'!$C$18:$C$1017),0)","v":0},{"$f":"IFERROR($E160*SUMIF('Daily Log'!$E$18:$E$1017,$B160,'Daily Log'!$F$18:$F$1017),0)","v":0},{"$f":"IFERROR($E160*SUMIF('Daily Log'!$H$18:$H$1017,$B160,'Daily Log'!$I$18:$I$1017),0)","v":0},{"$f":"IFERROR($E160*SUMIF('Daily Log'!$K$18:$K$1017,$B160,'Daily Log'!$L$18:$L$1017),0)","v":0},{"$f":"IFERROR($E160*SUMIF('Daily Log'!$N$18:$N$1017,$B160,'Daily Log'!$O$18:$O$1017),0)","v":0},{"$f":"IFERROR($E160*SUMIF('Daily Log'!$Q$18:$Q$1017,$B160,'Daily Log'!$R$18:$R$1017),0)","v":0},{"$f":"IFERROR($E160*SUMIF('Daily Log'!$T$18:$T$1017,$B160,'Daily Log'!$U$18:$U$1017),0)","v":0},{"$f":"IFERROR($E160*SUMIF('Daily Log'!$W$18:$W$1017,$B160,'Daily Log'!$X$18:$X$1017),0)","v":0},{"$f":"IFERROR($E160*SUMIF('Daily Log'!$Z$18:$Z$1017,$B160,'Daily Log'!$AA$18:$AA$1017),0)","v":0},{"$f":"IFERROR($E160*SUMIF('Daily Log'!$AC$18:$AC$1017,$B160,'Daily Log'!$AD$18:$AD$1017),0)","v":0},{"$f":"IFERROR($E160*SUMIF('Daily Log'!$AF$18:$AF$1017,$B160,'Daily Log'!$AG$18:$AG$1017),0)","v":0},{"$f":"IFERROR($E160*SUMIF('Daily Log'!$AI$18:$AI$1017,$B160,'Daily Log'!$AJ$18:$AJ$1017),0)","v":0},{"$f":"IFERROR($E160*SUMIF('Daily Log'!$AL$18:$AL$1017,$B160,'Daily Log'!$AM$18:$AM$1017),0)","v":0},{"$f":"IFERROR($E160*SUMIF('Daily Log'!$AO$18:$AO$1017,$B160,'Daily Log'!$AP$18:$AP$1017),0)","v":0},{"$f":"IFERROR($E160*SUMIF('Daily Log'!$AR$18:$AR$1017,$B160,'Daily Log'!$AS$18:$AS$1017),0)","v":0},{"$f":"IFERROR($E160*SUMIF('Daily Log'!$AU$18:$AU$1017,$B160,'Daily Log'!$AV$18:$AV$1017),0)","v":0},{"$f":"IFERROR($E160*SUMIF('Daily Log'!$AX$18:$AX$1017,$B160,'Daily Log'!$AY$18:$AY$1017),0)","v":0},{"$f":"IFERROR($E160*SUMIF('Daily Log'!$BA$18:$BA$1017,$B160,'Daily Log'!$BB$18:$BB$1017),0)","v":0},{"$f":"IFERROR($E160*SUMIF('Daily Log'!$BD$18:$BD$1017,$B160,'Daily Log'!$BE$18:$BE$1017),0)","v":0},{"$f":"IFERROR($E160*SUMIF('Daily Log'!$BG$18:$BG$1017,$B160,'Daily Log'!$BH$18:$BH$1017),0)","v":0},{"$f":"IFERROR($E160*SUMIF('Daily Log'!$BJ$18:$BJ$1017,$B160,'Daily Log'!$BK$18:$BK$1017),0)","v":0},{"$f":"IFERROR($E160*SUMIF('Daily Log'!$BM$18:$BM$1017,$B160,'Daily Log'!$BN$18:$BN$1017),0)","v":0},{"$f":"IFERROR($E160*SUMIF('Daily Log'!$BP$18:$BP$1017,$B160,'Daily Log'!$BQ$18:$BQ$1017),0)","v":0},{"$f":"IFERROR($E160*SUMIF('Daily Log'!$BS$18:$BS$1017,$B160,'Daily Log'!$BT$18:$BT$1017),0)","v":0},{"$f":"IFERROR($E160*SUMIF('Daily Log'!$BV$18:$BV$1017,$B160,'Daily Log'!$BW$18:$BW$1017),0)","v":0},{"$f":"IFERROR($E160*SUMIF('Daily Log'!$BY$18:$BY$1017,$B160,'Daily Log'!$BZ$18:$BZ$1017),0)","v":0},{"$f":"IFERROR($E160*SUMIF('Daily Log'!$CB$18:$CB$1017,$B160,'Daily Log'!$CC$18:$CC$1017),0)","v":0},{"$f":"IFERROR($E160*SUMIF('Daily Log'!$CE$18:$CE$1017,$B160,'Daily Log'!$CF$18:$CF$1017),0)","v":10},{"$f":"IFERROR($E160*SUMIF('Daily Log'!$CH$18:$CH$1017,$B160,'Daily Log'!$CI$18:$CI$1017),0)","v":0},{"$f":"IFERROR($E160*SUMIF('Daily Log'!$CK$18:$CK$1017,$B160,'Daily Log'!$CL$18:$CL$1017),0)","v":0},{"$f":"IFERROR($E160*SUMIF('Daily Log'!$CN$18:$CN$1017,$B160,'Daily Log'!$CO$18:$CO$1017),0)","v":0}]
[null,"BG02 6002:GUI BKT",null,"BEER ",4,56,{"$f":"IFERROR($E161*SUMIF('Daily Log'!$B$18:$B$1017,$B161,'Daily Log'!$C$18:$C$1017),0)","v":0},{"$f":"IFERROR($E161*SUMIF('Daily Log'!$E$18:$E$1017,$B161,'Daily Log'!$F$18:$F$1017),0)","v":0},{"$f":"IFERROR($E161*SUMIF('Daily Log'!$H$18:$H$1017,$B161,'Daily Log'!$I$18:$I$1017),0)","v":0},{"$f":"IFERROR($E161*SUMIF('Daily Log'!$K$18:$K$1017,$B161,'Daily Log'!$L$18:$L$1017),0)","v":0},{"$f":"IFERROR($E161*SUMIF('Daily Log'!$N$18:$N$1017,$B161,'Daily Log'!$O$18:$O$1017),0)","v":0},{"$f":"IFERROR($E161*SUMIF('Daily Log'!$Q$18:$Q$1017,$B161,'Daily Log'!$R$18:$R$1017),0)","v":0},{"$f":"IFERROR($E161*SUMIF('Daily Log'!$T$18:$T$1017,$B161,'Daily Log'!$U$18:$U$1017),0)","v":0},{"$f":"IFERROR($E161*SUMIF('Daily Log'!$W$18:$W$1017,$B161,'Daily Log'!$X$18:$X$1017),0)","v":0},{"$f":"IFERROR($E161*SUMIF('Daily Log'!$Z$18:$Z$1017,$B161,'Daily Log'!$AA$18:$AA$1017),0)","v":0},{"$f":"IFERROR($E161*SUMIF('Daily Log'!$AC$18:$AC$1017,$B161,'Daily Log'!$AD$18:$AD$1017),0)","v":0},{"$f":"IFERROR($E161*SUMIF('Daily Log'!$AF$18:$AF$1017,$B161,'Daily Log'!$AG$18:$AG$1017),0)","v":0},{"$f":"IFERROR($E161*SUMIF('Daily Log'!$AI$18:$AI$1017,$B161,'Daily Log'!$AJ$18:$AJ$1017),0)","v":0},{"$f":"IFERROR($E161*SUMIF('Daily Log'!$AL$18:$AL$1017,$B161,'Daily Log'!$AM$18:$AM$1017),0)","v":0},{"$f":"IFERROR($E161*SUMIF('Daily Log'!$AO$18:$AO$1017,$B161,'Daily Log'!$AP$18:$AP$1017),0)","v":0},{"$f":"IFERROR($E161*SUMIF('Daily Log'!$AR$18:$AR$1017,$B161,'Daily Log'!$AS$18:$AS$1017),0)","v":0},{"$f":"IFERROR($E161*SUMIF('Daily Log'!$AU$18:$AU$1017,$B161,'Daily Log'!$AV$18:$AV$1017),0)","v":0},{"$f":"IFERROR($E161*SUMIF('Daily Log'!$AX$18:$AX$1017,$B161,'Daily Log'!$AY$18:$AY$1017),0)","v":0},{"$f":"IFERROR($E161*SUMIF('Daily Log'!$BA$18:$BA$1017,$B161,'Daily Log'!$BB$18:$BB$1017),0)","v":0},{"$f":"IFERROR($E161*SUMIF('Daily Log'!$BD$18:$BD$1017,$B161,'Daily Log'!$BE$18:$BE$1017),0)","v":0},{"$f":"IFERROR($E161*SUMIF('Daily Log'!$BG$18:$BG$1017,$B161,'Daily Log'!$BH$18:$BH$1017),0)","v":0},{"$f":"IFERROR($E161*SUMIF('Daily Log'!$BJ$18:$BJ$1017,$B161,'Daily Log'!$BK$18:$BK$1017),0)","v":0},{"$f":"IFERROR($E161*SUMIF('Daily Log'!$BM$18:$BM$1017,$B161,'Daily Log'!$BN$18:$BN$1017),0)","v":0},{"$f":"IFERROR($E161*SUMIF('Daily Log'!$BP$18:$BP$1017,$B161,'Daily Log'!$BQ$18:$BQ$1017),0)","v":0},{"$f":"IFERROR($E161*SUMIF('Daily Log'!$BS$18:$BS$1017,$B161,'Daily Log'!$BT$18:$BT$1017),0)","v":0},{"$f":"IFERROR($E161*SUMIF('Daily Log'!$BV$18:$BV$1017,$B161,'Daily Log'!$BW$18:$BW$1017),0)","v":0},{"$f":"IFERROR($E161*SUMIF('Daily Log'!$BY$18:$BY$1017,$B161,'Daily Log'!$BZ$18:$BZ$1017),0)","v":0},{"$f":"IFERROR($E161*SUMIF('Daily Log'!$CB$18:$CB$1017,$B161,'Daily Log'!$CC$18:$CC$1017),0)","v":0},{"$f":"IFERROR($E161*SUMIF('Daily Log'!$CE$18:$CE$1017,$B161,'Daily Log'!$CF$18:$CF$1017),0)","v":56},{"$f":"IFERROR($E161*SUMIF('Daily Log'!$CH$18:$CH$1017,$B161,'Daily Log'!$CI$18:$CI$1017),0)","v":0},{"$f":"IFERROR($E161*SUMIF('Daily Log'!$CK$18:$CK$1017,$B161,'Daily Log'!$CL$18:$CL$1017),0)","v":0},{"$f":"IFERROR($E161*SUMIF('Daily Log'!$CN$18:$CN$1017,$B161,'Daily Log'!$CO$18:$CO$1017),0)","v":0}]
[null,"BG03 6003:GUI RND",null,"BEER ",12,72,{"$f":"IFERROR($E162*SUMIF('Daily Log'!$B$18:$B$1017,$B162,'Daily Log'!$C$18:$C$1017),0)","v":0},{"$f":"IFERROR($E162*SUMIF('Daily Log'!$E$18:$E$1017,$B162,'Daily Log'!$F$18:$F$1017),0)","v":0},{"$f":"IFERROR($E162*SUMIF('Daily Log'!$H$18:$H$1017,$B162,'Daily Log'!$I$18:$I$1017),0)","v":0},{"$f":"IFERROR($E162*SUMIF('Daily Log'!$K$18:$K$1017,$B162,'Daily Log'!$L$18:$L$1017),0)","v":0},{"$f":"IFERROR($E162*SUMIF('Daily Log'!$N$18:$N$1017,$B162,'Daily Log'!$O$18:$O$1017),0)","v":0},{"$f":"IFERROR($E162*SUMIF('Daily Log'!$Q$18:$Q$1017,$B162,'Daily Log'!$R$18:$R$1017),0)","v":0},{"$f":"IFERROR($E162*SUMIF('Daily Log'!$T$18:$T$1017,$B162,'Daily Log'!$U$18:$U$1017),0)","v":0},{"$f":"IFERROR($E162*SUMIF('Daily Log'!$W$18:$W$1017,$B162,'Daily Log'!$X$18:$X$1017),0)","v":0},{"$f":"IFERROR($E162*SUMIF('Daily Log'!$Z$18:$Z$1017,$B162,'Daily Log'!$AA$18:$AA$1017),0)","v":0},{"$f":"IFERROR($E162*SUMIF('Daily Log'!$AC$18:$AC$1017,$B162,'Daily Log'!$AD$18:$AD$1017),0)","v":0},{"$f":"IFERROR($E162*SUMIF('Daily Log'!$AF$18:$AF$1017,$B162,'Daily Log'!$AG$18:$AG$1017),0)","v":0},{"$f":"IFERROR($E162*SUMIF('Daily Log'!$AI$18:$AI$1017,$B162,'Daily Log'!$AJ$18:$AJ$1017),0)","v":0},{"$f":"IFERROR($E162*SUMIF('Daily Log'!$AL$18:$AL$1017,$B162,'Daily Log'!$AM$18:$AM$1017),0)","v":0},{"$f":"IFERROR($E162*SUMIF('Daily Log'!$AO$18:$AO$1017,$B162,'Daily Log'!$AP$18:$AP$1017),0)","v":0},{"$f":"IFERROR($E162*SUMIF('Daily Log'!$AR$18:$AR$1017,$B162,'Daily Log'!$AS$18:$AS$1017),0)","v":0},{"$f":"IFERROR($E162*SUMIF('Daily Log'!$AU$18:$AU$1017,$B162,'Daily Log'!$AV$18:$AV$1017),0)","v":0},{"$f":"IFERROR($E162*SUMIF('Daily Log'!$AX$18:$AX$1017,$B162,'Daily Log'!$AY$18:$AY$1017),0)","v":0},{"$f":"IFERROR($E162*SUMIF('Daily Log'!$BA$18:$BA$1017,$B162,'Daily Log'!$BB$18:$BB$1017),0)","v":0},{"$f":"IFERROR($E162*SUMIF('Daily Log'!$BD$18:$BD$1017,$B162,'Daily Log'!$BE$18:$BE$1017),0)","v":0},{"$f":"IFERROR($E162*SUMIF('Daily Log'!$BG$18:$BG$1017,$B162,'Daily Log'!$BH$18:$BH$1017),0)","v":0},{"$f":"IFERROR($E162*SUMIF('Daily Log'!$BJ$18:$BJ$1017,$B162,'Daily Log'!$BK$18:$BK$1017),0)","v":0},{"$f":"IFERROR($E162*SUMIF('Daily Log'!$BM$18:$BM$1017,$B162,'Daily Log'!$BN$18:$BN$1017),0)","v":0},{"$f":"IFERROR($E162*SUMIF('Daily Log'!$BP$18:$BP$1017,$B162,'Daily Log'!$BQ$18:$BQ$1017),0)","v":0},{"$f":"IFERROR($E162*SUMIF('Daily Log'!$BS$18:$BS$1017,$B162,'Daily Log'!$BT$18:$BT$1017),0)","v":0},{"$f":"IFERROR($E162*SUMIF('Daily Log'!$BV$18:$BV$1017,$B162,'Daily Log'!$BW$18:$BW$1017),0)","v":0},{"$f":"IFERROR($E162*SUMIF('Daily Log'!$BY$18:$BY$1017,$B162,'Daily Log'!$BZ$18:$BZ$1017),0)","v":0},{"$f":"IFERROR($E162*SUMIF('Daily Log'!$CB$18:$CB$1017,$B162,'Daily Log'!$CC$18:$CC$1017),0)","v":0},{"$f":"IFERROR($E162*SUMIF('Daily Log'!$CE$18:$CE$1017,$B162,'Daily Log'!$CF$18:$CF$1017),0)","v":72},{"$f":"IFERROR($E162*SUMIF('Daily Log'!$CH$18:$CH$1017,$B162,'Daily Log'!$CI$18:$CI$1017),0)","v":0},{"$f":"IFERROR($E162*SUMIF('Daily Log'!$CK$18:$CK$1017,$B162,'Daily Log'!$CL$18:$CL$1017),0)","v":0},{"$f":"IFERROR($E162*SUMIF('Daily Log'!$CN$18:$CN$1017,$B162,'Daily Log'!$CO$18:$CO$1017),0)","v":0}]
[null,"ZBR03 GUI EX BKT",null,"BEER ",4,12,{"$f":"IFERROR($E163*SUMIF('Daily Log'!$B$18:$B$1017,$B163,'Daily Log'!$C$18:$C$1017),0)","v":0},{"$f":"IFERROR($E163*SUMIF('Daily Log'!$E$18:$E$1017,$B163,'Daily Log'!$F$18:$F$1017),0)","v":0},{"$f":"IFERROR($E163*SUMIF('Daily Log'!$H$18:$H$1017,$B163,'Daily Log'!$I$18:$I$1017),0)","v":0},{"$f":"IFERROR($E163*SUMIF('Daily Log'!$K$18:$K$1017,$B163,'Daily Log'!$L$18:$L$1017),0)","v":0},{"$f":"IFERROR($E163*SUMIF('Daily Log'!$N$18:$N$1017,$B163,'Daily Log'!$O$18:$O$1017),0)","v":0},{"$f":"IFERROR($E163*SUMIF('Daily Log'!$Q$18:$Q$1017,$B163,'Daily Log'!$R$18:$R$1017),0)","v":0},{"$f":"IFERROR($E163*SUMIF('Daily Log'!$T$18:$T$1017,$B163,'Daily Log'!$U$18:$U$1017),0)","v":0},{"$f":"IFERROR($E163*SUMIF('Daily Log'!$W$18:$W$1017,$B163,'Daily Log'!$X$18:$X$1017),0)","v":0},{"$f":"IFERROR($E163*SUMIF('Daily Log'!$Z$18:$Z$1017,$B163,'Daily Log'!$AA$18:$AA$1017),0)","v":0},{"$f":"IFERROR($E163*SUMIF('Daily Log'!$AC$18:$AC$1017,$B163,'Daily Log'!$AD$18:$AD$1017),0)","v":0},{"$f":"IFERROR($E163*SUMIF('Daily Log'!$AF$18:$AF$1017,$B163,'Daily Log'!$AG$18:$AG$1017),0)","v":0},{"$f":"IFERROR($E163*SUMIF('Daily Log'!$AI$18:$AI$1017,$B163,'Daily Log'!$AJ$18:$AJ$1017),0)","v":0},{"$f":"IFERROR($E163*SUMIF('Daily Log'!$AL$18:$AL$1017,$B163,'Daily Log'!$AM$18:$AM$1017),0)","v":0},{"$f":"IFERROR($E163*SUMIF('Daily Log'!$AO$18:$AO$1017,$B163,'Daily Log'!$AP$18:$AP$1017),0)","v":0},{"$f":"IFERROR($E163*SUMIF('Daily Log'!$AR$18:$AR$1017,$B163,'Daily Log'!$AS$18:$AS$1017),0)","v":0},{"$f":"IFERROR($E163*SUMIF('Daily Log'!$AU$18:$AU$1017,$B163,'Daily Log'!$AV$18:$AV$1017),0)","v":0},{"$f":"IFERROR($E163*SUMIF('Daily Log'!$AX$18:$AX$1017,$B163,'Daily Log'!$AY$18:$AY$1017),0)","v":0},{"$f":"IFERROR($E163*SUMIF('Daily Log'!$BA$18:$BA$1017,$B163,'Daily Log'!$BB$18:$BB$1017),0)","v":0},{"$f":"IFERROR($E163*SUMIF('Daily Log'!$BD$18:$BD$1017,$B163,'Daily Log'!$BE$18:$BE$1017),0)","v":0},{"$f":"IFERROR($E163*SUMIF('Daily Log'!$BG$18:$BG$1017,$B163,'Daily Log'!$BH$18:$BH$1017),0)","v":0},{"$f":"IFERROR($E163*SUMIF('Daily Log'!$BJ$18:$BJ$1017,$B163,'Daily Log'!$BK$18:$BK$1017),0)","v":0},{"$f":"IFERROR($E163*SUMIF('Daily Log'!$BM$18:$BM$1017,$B163,'Daily Log'!$BN$18:$BN$1017),0)","v":0},{"$f":"IFERROR($E163*SUMIF('Daily Log'!$BP$18:$BP$1017,$B163,'Daily Log'!$BQ$18:$BQ$1017),0)","v":0},{"$f":"IFERROR($E163*SUMIF('Daily Log'!$BS$18:$BS$1017,$B163,'Daily Log'!$BT$18:$BT$1017),0)","v":0},{"$f":"IFERROR($E163*SUMIF('Daily Log'!$BV$18:$BV$1017,$B163,'Daily Log'!$BW$18:$BW$1017),0)","v":0},{"$f":"IFERROR($E163*SUMIF('Daily Log'!$BY$18:$BY$1017,$B163,'Daily Log'!$BZ$18:$BZ$1017),0)","v":0},{"$f":"IFERROR($E163*SUMIF('Daily Log'!$CB$18:$CB$1017,$B163,'Daily Log'!$CC$18:$CC$1017),0)","v":0},{"$f":"IFERROR($E163*SUMIF('Daily Log'!$CE$18:$CE$1017,$B163,'Daily Log'!$CF$18:$CF$1017),0)","v":12},{"$f":"IFERROR($E163*SUMIF('Daily Log'!$CH$18:$CH$1017,$B163,'Daily Log'!$CI$18:$CI$1017),0)","v":0},{"$f":"IFERROR($E163*SUMIF('Daily Log'!$CK$18:$CK$1017,$B163,'Daily Log'!$CL$18:$CL$1017),0)","v":0},{"$f":"IFERROR($E163*SUMIF('Daily Log'!$CN$18:$CN$1017,$B163,'Daily Log'!$CO$18:$CO$1017),0)","v":0}]
[null,"GUINNESS BEER TOTAL",null,"BEER",null,null,{"$f":"SUBTOTAL(9,G30:G162)","v":0},{"$f":"SUBTOTAL(9,H30:H162)","v":0},0,0,0,0,0,0,0,0,0,0,0,0,0,0,0,0,0,0,0,0,0,0,0,0,0,138,0,0,0]
[null,"BH01 5001:HEI BTL",null,"BEER ",1,14,{"$f":"IFERROR($E165*SUMIF('Daily Log'!$B$18:$B$1017,$B165,'Daily Log'!$C$18:$C$1017),0)","v":0},{"$f":"IFERROR($E165*SUMIF('Daily Log'!$E$18:$E$1017,$B165,'Daily Log'!$F$18:$F$1017),0)","v":0},{"$f":"IFERROR($E165*SUMIF('Daily Log'!$H$18:$H$1017,$B165,'Daily Log'!$I$18:$I$1017),0)","v":0},{"$f":"IFERROR($E165*SUMIF('Daily Log'!$K$18:$K$1017,$B165,'Daily Log'!$L$18:$L$1017),0)","v":0},{"$f":"IFERROR($E165*SUMIF('Daily Log'!$N$18:$N$1017,$B165,'Daily Log'!$O$18:$O$1017),0)","v":0},{"$f":"IFERROR($E165*SUMIF('Daily Log'!$Q$18:$Q$1017,$B165,'Daily Log'!$R$18:$R$1017),0)","v":0},{"$f":"IFERROR($E165*SUMIF('Daily Log'!$T$18:$T$1017,$B165,'Daily Log'!$U$18:$U$1017),0)","v":0},{"$f":"IFERROR($E165*SUMIF('Daily Log'!$W$18:$W$1017,$B165,'Daily Log'!$X$18:$X$1017),0)","v":0},{"$f":"IFERROR($E165*SUMIF('Daily Log'!$Z$18:$Z$1017,$B165,'Daily Log'!$AA$18:$AA$1017),0)","v":0},{"$f":"IFERROR($E165*SUMIF('Daily Log'!$AC$18:$AC$1017,$B165,'Daily Log'!$AD$18:$AD$1017),0)","v":0},{"$f":"IFERROR($E165*SUMIF('Daily Log'!$AF$18:$AF$1017,$B165,'Daily Log'!$AG$18:$AG$1017),0)","v":0},{"$f":"IFERROR($E165*SUMIF('Daily Log'!$AI$18:$AI$1017,$B165,'Daily Log'!$AJ$18:$AJ$1017),0)","v":0},{"$f":"IFERROR($E165*SUMIF('Daily Log'!$AL$18:$AL$1017,$B165,'Daily Log'!$AM$18:$AM$1017),0)","v":0},{"$f":"IFERROR($E165*SUMIF('Daily Log'!$AO$18:$AO$1017,$B165,'Daily Log'!$AP$18:$AP$1017),0)","v":0},{"$f":"IFERROR($E165*SUMIF('Daily Log'!$AR$18:$AR$1017,$B165,'Daily Log'!$AS$18:$AS$1017),0)","v":0},{"$f":"IFERROR($E165*SUMIF('Daily Log'!$AU$18:$AU$1017,$B165,'Daily Log'!$AV$18:$AV$1017),0)","v":0},{"$f":"IFERROR($E165*SUMIF('Daily Log'!$AX$18:$AX$1017,$B165,'Daily Log'!$AY$18:$AY$1017),0)","v":0},{"$f":"IFERROR($E165*SUMIF('Daily Log'!$BA$18:$BA$1017,$B165,'Daily Log'!$BB$18:$BB$1017),0)","v":0},{"$f":"IFERROR($E165*SUMIF('Daily Log'!$BD$18:$BD$1017,$B165,'Daily Log'!$BE$18:$BE$1017),0)","v":0},{"$f":"IFERROR($E165*SUMIF('Daily Log'!$BG$18:$BG$1017,$B165,'Daily Log'!$BH$18:$BH$1017),0)","v":0},{"$f":"IFERROR($E165*SUMIF('Daily Log'!$BJ$18:$BJ$1017,$B165,'Daily Log'!$BK$18:$BK$1017),0)","v":0},{"$f":"IFERROR($E165*SUMIF('Daily Log'!$BM$18:$BM$1017,$B165,'Daily Log'!$BN$18:$BN$1017),0)","v":0},{"$f":"IFERROR($E165*SUMIF('Daily Log'!$BP$18:$BP$1017,$B165,'Daily Log'!$BQ$18:$BQ$1017),0)","v":0},{"$f":"IFERROR($E165*SUMIF('Daily Log'!$BS$18:$BS$1017,$B165,'Daily Log'!$BT$18:$BT$1017),0)","v":0},{"$f":"IFERROR($E165*SUMIF('Daily Log'!$BV$18:$BV$1017,$B165,'Daily Log'!$BW$18:$BW$1017),0)","v":0},{"$f":"IFERROR($E165*SUMIF('Daily Log'!$BY$18:$BY$1017,$B165,'Daily Log'!$BZ$18:$BZ$1017),0)","v":0},{"$f":"IFERROR($E165*SUMIF('Daily Log'!$CB$18:$CB$1017,$B165,'Daily Log'!$CC$18:$CC$1017),0)","v":0},{"$f":"IFERROR($E165*SUMIF('Daily Log'!$CE$18:$CE$1017,$B165,'Daily Log'!$CF$18:$CF$1017),0)","v":14},{"$f":"IFERROR($E165*SUMIF('Daily Log'!$CH$18:$CH$1017,$B165,'Daily Log'!$CI$18:$CI$1017),0)","v":0},{"$f":"IFERROR($E165*SUMIF('Daily Log'!$CK$18:$CK$1017,$B165,'Daily Log'!$CL$18:$CL$1017),0)","v":0},{"$f":"IFERROR($E165*SUMIF('Daily Log'!$CN$18:$CN$1017,$B165,'Daily Log'!$CO$18:$CO$1017),0)","v":0}]
[null,"BH02 5002:HEI BKT",null,"BEER ",4,344,{"$f":"IFERROR($E166*SUMIF('Daily Log'!$B$18:$B$1017,$B166,'Daily Log'!$C$18:$C$1017),0)","v":0},{"$f":"IFERROR($E166*SUMIF('Daily Log'!$E$18:$E$1017,$B166,'Daily Log'!$F$18:$F$1017),0)","v":0},{"$f":"IFERROR($E166*SUMIF('Daily Log'!$H$18:$H$1017,$B166,'Daily Log'!$I$18:$I$1017),0)","v":0},{"$f":"IFERROR($E166*SUMIF('Daily Log'!$K$18:$K$1017,$B166,'Daily Log'!$L$18:$L$1017),0)","v":0},{"$f":"IFERROR($E166*SUMIF('Daily Log'!$N$18:$N$1017,$B166,'Daily Log'!$O$18:$O$1017),0)","v":0},{"$f":"IFERROR($E166*SUMIF('Daily Log'!$Q$18:$Q$1017,$B166,'Daily Log'!$R$18:$R$1017),0)","v":0},{"$f":"IFERROR($E166*SUMIF('Daily Log'!$T$18:$T$1017,$B166,'Daily Log'!$U$18:$U$1017),0)","v":0},{"$f":"IFERROR($E166*SUMIF('Daily Log'!$W$18:$W$1017,$B166,'Daily Log'!$X$18:$X$1017),0)","v":0},{"$f":"IFERROR($E166*SUMIF('Daily Log'!$Z$18:$Z$1017,$B166,'Daily Log'!$AA$18:$AA$1017),0)","v":0},{"$f":"IFERROR($E166*SUMIF('Daily Log'!$AC$18:$AC$1017,$B166,'Daily Log'!$AD$18:$AD$1017),0)","v":0},{"$f":"IFERROR($E166*SUMIF('Daily Log'!$AF$18:$AF$1017,$B166,'Daily Log'!$AG$18:$AG$1017),0)","v":0},{"$f":"IFERROR($E166*SUMIF('Daily Log'!$AI$18:$AI$1017,$B166,'Daily Log'!$AJ$18:$AJ$1017),0)","v":0},{"$f":"IFERROR($E166*SUMIF('Daily Log'!$AL$18:$AL$1017,$B166,'Daily Log'!$AM$18:$AM$1017),0)","v":0},{"$f":"IFERROR($E166*SUMIF('Daily Log'!$AO$18:$AO$1017,$B166,'Daily Log'!$AP$18:$AP$1017),0)","v":0},{"$f":"IFERROR($E166*SUMIF('Daily Log'!$AR$18:$AR$1017,$B166,'Daily Log'!$AS$18:$AS$1017),0)","v":0},{"$f":"IFERROR($E166*SUMIF('Daily Log'!$AU$18:$AU$1017,$B166,'Daily Log'!$AV$18:$AV$1017),0)","v":0},{"$f":"IFERROR($E166*SUMIF('Daily Log'!$AX$18:$AX$1017,$B166,'Daily Log'!$AY$18:$AY$1017),0)","v":0},{"$f":"IFERROR($E166*SUMIF('Daily Log'!$BA$18:$BA$1017,$B166,'Daily Log'!$BB$18:$BB$1017),0)","v":0},{"$f":"IFERROR($E166*SUMIF('Daily Log'!$BD$18:$BD$1017,$B166,'Daily Log'!$BE$18:$BE$1017),0)","v":0},{"$f":"IFERROR($E166*SUMIF('Daily Log'!$BG$18:$BG$1017,$B166,'Daily Log'!$BH$18:$BH$1017),0)","v":0},{"$f":"IFERROR($E166*SUMIF('Daily Log'!$BJ$18:$BJ$1017,$B166,'Daily Log'!$BK$18:$BK$1017),0)","v":0},{"$f":"IFERROR($E166*SUMIF('Daily Log'!$BM$18:$BM$1017,$B166,'Daily Log'!$BN$18:$BN$1017),0)","v":0},{"$f":"IFERROR($E166*SUMIF('Daily Log'!$BP$18:$BP$1017,$B166,'Daily Log'!$BQ$18:$BQ$1017),0)","v":0},{"$f":"IFERROR($E166*SUMIF('Daily Log'!$BS$18:$BS$1017,$B166,'Daily Log'!$BT$18:$BT$1017),0)","v":0},{"$f":"IFERROR($E166*SUMIF('Daily Log'!$BV$18:$BV$1017,$B166,'Daily Log'!$BW$18:$BW$1017),0)","v":0},{"$f":"IFERROR($E166*SUMIF('Daily Log'!$BY$18:$BY$1017,$B166,'Daily Log'!$BZ$18:$BZ$1017),0)","v":0},{"$f":"IFERROR($E166*SUMIF('Daily Log'!$CB$18:$CB$1017,$B166,'Daily Log'!$CC$18:$CC$1017),0)","v":0},{"$f":"IFERROR($E166*SUMIF('Daily Log'!$CE$18:$CE$1017,$B166,'Daily Log'!$CF$18:$CF$1017),0)","v":344},{"$f":"IFERROR($E166*SUMIF('Daily Log'!$CH$18:$CH$1017,$B166,'Daily Log'!$CI$18:$CI$1017),0)","v":0},{"$f":"IFERROR($E166*SUMIF('Daily Log'!$CK$18:$CK$1017,$B166,'Daily Log'!$CL$18:$CL$1017),0)","v":0},{"$f":"IFERROR($E166*SUMIF('Daily Log'!$CN$18:$CN$1017,$B166,'Daily Log'!$CO$18:$CO$1017),0)","v":0}]
[null,"BH03 5003:HEI RND",null,"BEER ",12,228,{"$f":"IFERROR($E167*SUMIF('Daily Log'!$B$18:$B$1017,$B167,'Daily Log'!$C$18:$C$1017),0)","v":0},{"$f":"IFERROR($E167*SUMIF('Daily Log'!$E$18:$E$1017,$B167,'Daily Log'!$F$18:$F$1017),0)","v":0},{"$f":"IFERROR($E167*SUMIF('Daily Log'!$H$18:$H$1017,$B167,'Daily Log'!$I$18:$I$1017),0)","v":0},{"$f":"IFERROR($E167*SUMIF('Daily Log'!$K$18:$K$1017,$B167,'Daily Log'!$L$18:$L$1017),0)","v":0},{"$f":"IFERROR($E167*SUMIF('Daily Log'!$N$18:$N$1017,$B167,'Daily Log'!$O$18:$O$1017),0)","v":0},{"$f":"IFERROR($E167*SUMIF('Daily Log'!$Q$18:$Q$1017,$B167,'Daily Log'!$R$18:$R$1017),0)","v":0},{"$f":"IFERROR($E167*SUMIF('Daily Log'!$T$18:$T$1017,$B167,'Daily Log'!$U$18:$U$1017),0)","v":0},{"$f":"IFERROR($E167*SUMIF('Daily Log'!$W$18:$W$1017,$B167,'Daily Log'!$X$18:$X$1017),0)","v":0},{"$f":"IFERROR($E167*SUMIF('Daily Log'!$Z$18:$Z$1017,$B167,'Daily Log'!$AA$18:$AA$1017),0)","v":0},{"$f":"IFERROR($E167*SUMIF('Daily Log'!$AC$18:$AC$1017,$B167,'Daily Log'!$AD$18:$AD$1017),0)","v":0},{"$f":"IFERROR($E167*SUMIF('Daily Log'!$AF$18:$AF$1017,$B167,'Daily Log'!$AG$18:$AG$1017),0)","v":0},{"$f":"IFERROR($E167*SUMIF('Daily Log'!$AI$18:$AI$1017,$B167,'Daily Log'!$AJ$18:$AJ$1017),0)","v":0},{"$f":"IFERROR($E167*SUMIF('Daily Log'!$AL$18:$AL$1017,$B167,'Daily Log'!$AM$18:$AM$1017),0)","v":0},{"$f":"IFERROR($E167*SUMIF('Daily Log'!$AO$18:$AO$1017,$B167,'Daily Log'!$AP$18:$AP$1017),0)","v":0},{"$f":"IFERROR($E167*SUMIF('Daily Log'!$AR$18:$AR$1017,$B167,'Daily Log'!$AS$18:$AS$1017),0)","v":0},{"$f":"IFERROR($E167*SUMIF('Daily Log'!$AU$18:$AU$1017,$B167,'Daily Log'!$AV$18:$AV$1017),0)","v":0},{"$f":"IFERROR($E167*SUMIF('Daily Log'!$AX$18:$AX$1017,$B167,'Daily Log'!$AY$18:$AY$1017),0)","v":0},{"$f":"IFERROR($E167*SUMIF('Daily Log'!$BA$18:$BA$1017,$B167,'Daily Log'!$BB$18:$BB$1017),0)","v":0},{"$f":"IFERROR($E167*SUMIF('Daily Log'!$BD$18:$BD$1017,$B167,'Daily Log'!$BE$18:$BE$1017),0)","v":0},{"$f":"IFERROR($E167*SUMIF('Daily Log'!$BG$18:$BG$1017,$B167,'Daily Log'!$BH$18:$BH$1017),0)","v":0},{"$f":"IFERROR($E167*SUMIF('Daily Log'!$BJ$18:$BJ$1017,$B167,'Daily Log'!$BK$18:$BK$1017),0)","v":0},{"$f":"IFERROR($E167*SUMIF('Daily Log'!$BM$18:$BM$1017,$B167,'Daily Log'!$BN$18:$BN$1017),0)","v":0},{"$f":"IFERROR($E167*SUMIF('Daily Log'!$BP$18:$BP$1017,$B167,'Daily Log'!$BQ$18:$BQ$1017),0)","v":0},{"$f":"IFERROR($E167*SUMIF('Daily Log'!$BS$18:$BS$1017,$B167,'Daily Log'!$BT$18:$BT$1017),0)","v":0},{"$f":"IFERROR($E167*SUMIF('Daily Log'!$BV$18:$BV$1017,$B167,'Daily Log'!$BW$18:$BW$1017),0)","v":0},{"$f":"IFERROR($E167*SUMIF('Daily Log'!$BY$18:$BY$1017,$B167,'Daily Log'!$BZ$18:$BZ$1017),0)","v":0},{"$f":"IFERROR($E167*SUMIF('Daily Log'!$CB$18:$CB$1017,$B167,'Daily Log'!$CC$18:$CC$1017),0)","v":0},{"$f":"IFERROR($E167*SUMIF('Daily Log'!$CE$18:$CE$1017,$B167,'Daily Log'!$CF$18:$CF$1017),0)","v":228},{"$f":"IFERROR($E167*SUMIF('Daily Log'!$CH$18:$CH$1017,$B167,'Daily Log'!$CI$18:$CI$1017),0)","v":0},{"$f":"IFERROR($E167*SUMIF('Daily Log'!$CK$18:$CK$1017,$B167,'Daily Log'!$CL$18:$CL$1017),0)","v":0},{"$f":"IFERROR($E167*SUMIF('Daily Log'!$CN$18:$CN$1017,$B167,'Daily Log'!$CO$18:$CO$1017),0)","v":0}]
[null,"ZBR02 HEI EX BKT",null,"BEER ",4,36,{"$f":"IFERROR($E168*SUMIF('Daily Log'!$B$18:$B$1017,$B168,'Daily Log'!$C$18:$C$1017),0)","v":0},{"$f":"IFERROR($E168*SUMIF('Daily Log'!$E$18:$E$1017,$B168,'Daily Log'!$F$18:$F$1017),0)","v":0},{"$f":"IFERROR($E168*SUMIF('Daily Log'!$H$18:$H$1017,$B168,'Daily Log'!$I$18:$I$1017),0)","v":0},{"$f":"IFERROR($E168*SUMIF('Daily Log'!$K$18:$K$1017,$B168,'Daily Log'!$L$18:$L$1017),0)","v":0},{"$f":"IFERROR($E168*SUMIF('Daily Log'!$N$18:$N$1017,$B168,'Daily Log'!$O$18:$O$1017),0)","v":0},{"$f":"IFERROR($E168*SUMIF('Daily Log'!$Q$18:$Q$1017,$B168,'Daily Log'!$R$18:$R$1017),0)","v":0},{"$f":"IFERROR($E168*SUMIF('Daily Log'!$T$18:$T$1017,$B168,'Daily Log'!$U$18:$U$1017),0)","v":0},{"$f":"IFERROR($E168*SUMIF('Daily Log'!$W$18:$W$1017,$B168,'Daily Log'!$X$18:$X$1017),0)","v":0},{"$f":"IFERROR($E168*SUMIF('Daily Log'!$Z$18:$Z$1017,$B168,'Daily Log'!$AA$18:$AA$1017),0)","v":0},{"$f":"IFERROR($E168*SUMIF('Daily Log'!$AC$18:$AC$1017,$B168,'Daily Log'!$AD$18:$AD$1017),0)","v":0},{"$f":"IFERROR($E168*SUMIF('Daily Log'!$AF$18:$AF$1017,$B168,'Daily Log'!$AG$18:$AG$1017),0)","v":0},{"$f":"IFERROR($E168*SUMIF('Daily Log'!$AI$18:$AI$1017,$B168,'Daily Log'!$AJ$18:$AJ$1017),0)","v":0},{"$f":"IFERROR($E168*SUMIF('Daily Log'!$AL$18:$AL$1017,$B168,'Daily Log'!$AM$18:$AM$1017),0)","v":0},{"$f":"IFERROR($E168*SUMIF('Daily Log'!$AO$18:$AO$1017,$B168,'Daily Log'!$AP$18:$AP$1017),0)","v":0},{"$f":"IFERROR($E168*SUMIF('Daily Log'!$AR$18:$AR$1017,$B168,'Daily Log'!$AS$18:$AS$1017),0)","v":0},{"$f":"IFERROR($E168*SUMIF('Daily Log'!$AU$18:$AU$1017,$B168,'Daily Log'!$AV$18:$AV$1017),0)","v":0},{"$f":"IFERROR($E168*SUMIF('Daily Log'!$AX$18:$AX$1017,$B168,'Daily Log'!$AY$18:$AY$1017),0)","v":0},{"$f":"IFERROR($E168*SUMIF('Daily Log'!$BA$18:$BA$1017,$B168,'Daily Log'!$BB$18:$BB$1017),0)","v":0},{"$f":"IFERROR($E168*SUMIF('Daily Log'!$BD$18:$BD$1017,$B168,'Daily Log'!$BE$18:$BE$1017),0)","v":0},{"$f":"IFERROR($E168*SUMIF('Daily Log'!$BG$18:$BG$1017,$B168,'Daily Log'!$BH$18:$BH$1017),0)","v":0},{"$f":"IFERROR($E168*SUMIF('Daily Log'!$BJ$18:$BJ$1017,$B168,'Daily Log'!$BK$18:$BK$1017),0)","v":0},{"$f":"IFERROR($E168*SUMIF('Daily Log'!$BM$18:$BM$1017,$B168,'Daily Log'!$BN$18:$BN$1017),0)","v":0},{"$f":"IFERROR($E168*SUMIF('Daily Log'!$BP$18:$BP$1017,$B168,'Daily Log'!$BQ$18:$BQ$1017),0)","v":0},{"$f":"IFERROR($E168*SUMIF('Daily Log'!$BS$18:$BS$1017,$B168,'Daily Log'!$BT$18:$BT$1017),0)","v":0},{"$f":"IFERROR($E168*SUMIF('Daily Log'!$BV$18:$BV$1017,$B168,'Daily Log'!$BW$18:$BW$1017),0)","v":0},{"$f":"IFERROR($E168*SUMIF('Daily Log'!$BY$18:$BY$1017,$B168,'Daily Log'!$BZ$18:$BZ$1017),0)","v":0},{"$f":"IFERROR($E168*SUMIF('Daily Log'!$CB$18:$CB$1017,$B168,'Daily Log'!$CC$18:$CC$1017),0)","v":0},{"$f":"IFERROR($E168*SUMIF('Daily Log'!$CE$18:$CE$1017,$B168,'Daily Log'!$CF$18:$CF$1017),0)","v":36},{"$f":"IFERROR($E168*SUMIF('Daily Log'!$CH$18:$CH$1017,$B168,'Daily Log'!$CI$18:$CI$1017),0)","v":0},{"$f":"IFERROR($E168*SUMIF('Daily Log'!$CK$18:$CK$1017,$B168,'Daily Log'!$CL$18:$CL$1017),0)","v":0},{"$f":"IFERROR($E168*SUMIF('Daily Log'!$CN$18:$CN$1017,$B168,'Daily Log'!$CO$18:$CO$1017),0)","v":0}]
[null,"ZBM02 HEI MEM EX BKT",null,"BEER ",4,0,{"$f":"IFERROR($E169*SUMIF('Daily Log'!$B$18:$B$1017,$B169,'Daily Log'!$C$18:$C$1017),0)","v":0},{"$f":"IFERROR($E169*SUMIF('Daily Log'!$E$18:$E$1017,$B169,'Daily Log'!$F$18:$F$1017),0)","v":0},{"$f":"IFERROR($E169*SUMIF('Daily Log'!$H$18:$H$1017,$B169,'Daily Log'!$I$18:$I$1017),0)","v":0},{"$f":"IFERROR($E169*SUMIF('Daily Log'!$K$18:$K$1017,$B169,'Daily Log'!$L$18:$L$1017),0)","v":0},{"$f":"IFERROR($E169*SUMIF('Daily Log'!$N$18:$N$1017,$B169,'Daily Log'!$O$18:$O$1017),0)","v":0},{"$f":"IFERROR($E169*SUMIF('Daily Log'!$Q$18:$Q$1017,$B169,'Daily Log'!$R$18:$R$1017),0)","v":0},{"$f":"IFERROR($E169*SUMIF('Daily Log'!$T$18:$T$1017,$B169,'Daily Log'!$U$18:$U$1017),0)","v":0},{"$f":"IFERROR($E169*SUMIF('Daily Log'!$W$18:$W$1017,$B169,'Daily Log'!$X$18:$X$1017),0)","v":0},{"$f":"IFERROR($E169*SUMIF('Daily Log'!$Z$18:$Z$1017,$B169,'Daily Log'!$AA$18:$AA$1017),0)","v":0},{"$f":"IFERROR($E169*SUMIF('Daily Log'!$AC$18:$AC$1017,$B169,'Daily Log'!$AD$18:$AD$1017),0)","v":0},{"$f":"IFERROR($E169*SUMIF('Daily Log'!$AF$18:$AF$1017,$B169,'Daily Log'!$AG$18:$AG$1017),0)","v":0},{"$f":"IFERROR($E169*SUMIF('Daily Log'!$AI$18:$AI$1017,$B169,'Daily Log'!$AJ$18:$AJ$1017),0)","v":0},{"$f":"IFERROR($E169*SUMIF('Daily Log'!$AL$18:$AL$1017,$B169,'Daily Log'!$AM$18:$AM$1017),0)","v":0},{"$f":"IFERROR($E169*SUMIF('Daily Log'!$AO$18:$AO$1017,$B169,'Daily Log'!$AP$18:$AP$1017),0)","v":0},{"$f":"IFERROR($E169*SUMIF('Daily Log'!$AR$18:$AR$1017,$B169,'Daily Log'!$AS$18:$AS$1017),0)","v":0},{"$f":"IFERROR($E169*SUMIF('Daily Log'!$AU$18:$AU$1017,$B169,'Daily Log'!$AV$18:$AV$1017),0)","v":0},{"$f":"IFERROR($E169*SUMIF('Daily Log'!$AX$18:$AX$1017,$B169,'Daily Log'!$AY$18:$AY$1017),0)","v":0},{"$f":"IFERROR($E169*SUMIF('Daily Log'!$BA$18:$BA$1017,$B169,'Daily Log'!$BB$18:$BB$1017),0)","v":0},{"$f":"IFERROR($E169*SUMIF('Daily Log'!$BD$18:$BD$1017,$B169,'Daily Log'!$BE$18:$BE$1017),0)","v":0},{"$f":"IFERROR($E169*SUMIF('Daily Log'!$BG$18:$BG$1017,$B169,'Daily Log'!$BH$18:$BH$1017),0)","v":0},{"$f":"IFERROR($E169*SUMIF('Daily Log'!$BJ$18:$BJ$1017,$B169,'Daily Log'!$BK$18:$BK$1017),0)","v":0},{"$f":"IFERROR($E169*SUMIF('Daily Log'!$BM$18:$BM$1017,$B169,'Daily Log'!$BN$18:$BN$1017),0)","v":0},{"$f":"IFERROR($E169*SUMIF('Daily Log'!$BP$18:$BP$1017,$B169,'Daily Log'!$BQ$18:$BQ$1017),0)","v":0},{"$f":"IFERROR($E169*SUMIF('Daily Log'!$BS$18:$BS$1017,$B169,'Daily Log'!$BT$18:$BT$1017),0)","v":0},{"$f":"IFERROR($E169*SUMIF('Daily Log'!$BV$18:$BV$1017,$B169,'Daily Log'!$BW$18:$BW$1017),0)","v":0},{"$f":"IFERROR($E169*SUMIF('Daily Log'!$BY$18:$BY$1017,$B169,'Daily Log'!$BZ$18:$BZ$1017),0)","v":0},{"$f":"IFERROR($E169*SUMIF('Daily Log'!$CB$18:$CB$1017,$B169,'Daily Log'!$CC$18:$CC$1017),0)","v":0},{"$f":"IFERROR($E169*SUMIF('Daily Log'!$CE$18:$CE$1017,$B169,'Daily Log'!$CF$18:$CF$1017),0)","v":0},{"$f":"IFERROR($E169*SUMIF('Daily Log'!$CH$18:$CH$1017,$B169,'Daily Log'!$CI$18:$CI$1017),0)","v":0},{"$f":"IFERROR($E169*SUMIF('Daily Log'!$CK$18:$CK$1017,$B169,'Daily Log'!$CL$18:$CL$1017),0)","v":0},{"$f":"IFERROR($E169*SUMIF('Daily Log'!$CN$18:$CN$1017,$B169,'Daily Log'!$CO$18:$CO$1017),0)","v":0}]
[null,"ZSB01 HEI BM BKT",null,"BEER ",4,0,{"$f":"IFERROR($E170*SUMIF('Daily Log'!$B$18:$B$1017,$B170,'Daily Log'!$C$18:$C$1017),0)","v":0},{"$f":"IFERROR($E170*SUMIF('Daily Log'!$E$18:$E$1017,$B170,'Daily Log'!$F$18:$F$1017),0)","v":0},{"$f":"IFERROR($E170*SUMIF('Daily Log'!$H$18:$H$1017,$B170,'Daily Log'!$I$18:$I$1017),0)","v":0},{"$f":"IFERROR($E170*SUMIF('Daily Log'!$K$18:$K$1017,$B170,'Daily Log'!$L$18:$L$1017),0)","v":0},{"$f":"IFERROR($E170*SUMIF('Daily Log'!$N$18:$N$1017,$B170,'Daily Log'!$O$18:$O$1017),0)","v":0},{"$f":"IFERROR($E170*SUMIF('Daily Log'!$Q$18:$Q$1017,$B170,'Daily Log'!$R$18:$R$1017),0)","v":0},{"$f":"IFERROR($E170*SUMIF('Daily Log'!$T$18:$T$1017,$B170,'Daily Log'!$U$18:$U$1017),0)","v":0},{"$f":"IFERROR($E170*SUMIF('Daily Log'!$W$18:$W$1017,$B170,'Daily Log'!$X$18:$X$1017),0)","v":0},{"$f":"IFERROR($E170*SUMIF('Daily Log'!$Z$18:$Z$1017,$B170,'Daily Log'!$AA$18:$AA$1017),0)","v":0},{"$f":"IFERROR($E170*SUMIF('Daily Log'!$AC$18:$AC$1017,$B170,'Daily Log'!$AD$18:$AD$1017),0)","v":0},{"$f":"IFERROR($E170*SUMIF('Daily Log'!$AF$18:$AF$1017,$B170,'Daily Log'!$AG$18:$AG$1017),0)","v":0},{"$f":"IFERROR($E170*SUMIF('Daily Log'!$AI$18:$AI$1017,$B170,'Daily Log'!$AJ$18:$AJ$1017),0)","v":0},{"$f":"IFERROR($E170*SUMIF('Daily Log'!$AL$18:$AL$1017,$B170,'Daily Log'!$AM$18:$AM$1017),0)","v":0},{"$f":"IFERROR($E170*SUMIF('Daily Log'!$AO$18:$AO$1017,$B170,'Daily Log'!$AP$18:$AP$1017),0)","v":0},{"$f":"IFERROR($E170*SUMIF('Daily Log'!$AR$18:$AR$1017,$B170,'Daily Log'!$AS$18:$AS$1017),0)","v":0},{"$f":"IFERROR($E170*SUMIF('Daily Log'!$AU$18:$AU$1017,$B170,'Daily Log'!$AV$18:$AV$1017),0)","v":0},{"$f":"IFERROR($E170*SUMIF('Daily Log'!$AX$18:$AX$1017,$B170,'Daily Log'!$AY$18:$AY$1017),0)","v":0},{"$f":"IFERROR($E170*SUMIF('Daily Log'!$BA$18:$BA$1017,$B170,'Daily Log'!$BB$18:$BB$1017),0)","v":0},{"$f":"IFERROR($E170*SUMIF('Daily Log'!$BD$18:$BD$1017,$B170,'Daily Log'!$BE$18:$BE$1017),0)","v":0},{"$f":"IFERROR($E170*SUMIF('Daily Log'!$BG$18:$BG$1017,$B170,'Daily Log'!$BH$18:$BH$1017),0)","v":0},{"$f":"IFERROR($E170*SUMIF('Daily Log'!$BJ$18:$BJ$1017,$B170,'Daily Log'!$BK$18:$BK$1017),0)","v":0},{"$f":"IFERROR($E170*SUMIF('Daily Log'!$BM$18:$BM$1017,$B170,'Daily Log'!$BN$18:$BN$1017),0)","v":0},{"$f":"IFERROR($E170*SUMIF('Daily Log'!$BP$18:$BP$1017,$B170,'Daily Log'!$BQ$18:$BQ$1017),0)","v":0},{"$f":"IFERROR($E170*SUMIF('Daily Log'!$BS$18:$BS$1017,$B170,'Daily Log'!$BT$18:$BT$1017),0)","v":0},{"$f":"IFERROR($E170*SUMIF('Daily Log'!$BV$18:$BV$1017,$B170,'Daily Log'!$BW$18:$BW$1017),0)","v":0},{"$f":"IFERROR($E170*SUMIF('Daily Log'!$BY$18:$BY$1017,$B170,'Daily Log'!$BZ$18:$BZ$1017),0)","v":0},{"$f":"IFERROR($E170*SUMIF('Daily Log'!$CB$18:$CB$1017,$B170,'Daily Log'!$CC$18:$CC$1017),0)","v":0},{"$f":"IFERROR($E170*SUMIF('Daily Log'!$CE$18:$CE$1017,$B170,'Daily Log'!$CF$18:$CF$1017),0)","v":0},{"$f":"IFERROR($E170*SUMIF('Daily Log'!$CH$18:$CH$1017,$B170,'Daily Log'!$CI$18:$CI$1017),0)","v":0},{"$f":"IFERROR($E170*SUMIF('Daily Log'!$CK$18:$CK$1017,$B170,'Daily Log'!$CL$18:$CL$1017),0)","v":0},{"$f":"IFERROR($E170*SUMIF('Daily Log'!$CN$18:$CN$1017,$B170,'Daily Log'!$CO$18:$CO$1017),0)","v":0}]
[null,"HEINEKEN BEER TOTAL",null,"BEER",null,null,{"$f":"SUBTOTAL(9,G165:G170)","v":0},{"$f":"SUBTOTAL(9,H165:H170)","v":0},0,0,0,0,0,0,0,0,0,0,0,0,0,0,0,0,0,0,0,0,0,0,0,0,0,622,0,0,0]
[null,"BN01 8201:HOE BTL",null,"BEER ",1,11,{"$f":"IFERROR($E172*SUMIF('Daily Log'!$B$18:$B$1017,$B172,'Daily Log'!$C$18:$C$1017),0)","v":0},{"$f":"IFERROR($E172*SUMIF('Daily Log'!$E$18:$E$1017,$B172,'Daily Log'!$F$18:$F$1017),0)","v":0},{"$f":"IFERROR($E172*SUMIF('Daily Log'!$H$18:$H$1017,$B172,'Daily Log'!$I$18:$I$1017),0)","v":0},{"$f":"IFERROR($E172*SUMIF('Daily Log'!$K$18:$K$1017,$B172,'Daily Log'!$L$18:$L$1017),0)","v":0},{"$f":"IFERROR($E172*SUMIF('Daily Log'!$N$18:$N$1017,$B172,'Daily Log'!$O$18:$O$1017),0)","v":0},{"$f":"IFERROR($E172*SUMIF('Daily Log'!$Q$18:$Q$1017,$B172,'Daily Log'!$R$18:$R$1017),0)","v":0},{"$f":"IFERROR($E172*SUMIF('Daily Log'!$T$18:$T$1017,$B172,'Daily Log'!$U$18:$U$1017),0)","v":0},{"$f":"IFERROR($E172*SUMIF('Daily Log'!$W$18:$W$1017,$B172,'Daily Log'!$X$18:$X$1017),0)","v":0},{"$f":"IFERROR($E172*SUMIF('Daily Log'!$Z$18:$Z$1017,$B172,'Daily Log'!$AA$18:$AA$1017),0)","v":0},{"$f":"IFERROR($E172*SUMIF('Daily Log'!$AC$18:$AC$1017,$B172,'Daily Log'!$AD$18:$AD$1017),0)","v":0},{"$f":"IFERROR($E172*SUMIF('Daily Log'!$AF$18:$AF$1017,$B172,'Daily Log'!$AG$18:$AG$1017),0)","v":0},{"$f":"IFERROR($E172*SUMIF('Daily Log'!$AI$18:$AI$1017,$B172,'Daily Log'!$AJ$18:$AJ$1017),0)","v":0},{"$f":"IFERROR($E172*SUMIF('Daily Log'!$AL$18:$AL$1017,$B172,'Daily Log'!$AM$18:$AM$1017),0)","v":0},{"$f":"IFERROR($E172*SUMIF('Daily Log'!$AO$18:$AO$1017,$B172,'Daily Log'!$AP$18:$AP$1017),0)","v":0},{"$f":"IFERROR($E172*SUMIF('Daily Log'!$AR$18:$AR$1017,$B172,'Daily Log'!$AS$18:$AS$1017),0)","v":0},{"$f":"IFERROR($E172*SUMIF('Daily Log'!$AU$18:$AU$1017,$B172,'Daily Log'!$AV$18:$AV$1017),0)","v":0},{"$f":"IFERROR($E172*SUMIF('Daily Log'!$AX$18:$AX$1017,$B172,'Daily Log'!$AY$18:$AY$1017),0)","v":0},{"$f":"IFERROR($E172*SUMIF('Daily Log'!$BA$18:$BA$1017,$B172,'Daily Log'!$BB$18:$BB$1017),0)","v":0},{"$f":"IFERROR($E172*SUMIF('Daily Log'!$BD$18:$BD$1017,$B172,'Daily Log'!$BE$18:$BE$1017),0)","v":0},{"$f":"IFERROR($E172*SUMIF('Daily Log'!$BG$18:$BG$1017,$B172,'Daily Log'!$BH$18:$BH$1017),0)","v":0},{"$f":"IFERROR($E172*SUMIF('Daily Log'!$BJ$18:$BJ$1017,$B172,'Daily Log'!$BK$18:$BK$1017),0)","v":0},{"$f":"IFERROR($E172*SUMIF('Daily Log'!$BM$18:$BM$1017,$B172,'Daily Log'!$BN$18:$BN$1017),0)","v":0},{"$f":"IFERROR($E172*SUMIF('Daily Log'!$BP$18:$BP$1017,$B172,'Daily Log'!$BQ$18:$BQ$1017),0)","v":0},{"$f":"IFERROR($E172*SUMIF('Daily Log'!$BS$18:$BS$1017,$B172,'Daily Log'!$BT$18:$BT$1017),0)","v":0},{"$f":"IFERROR($E172*SUMIF('Daily Log'!$BV$18:$BV$1017,$B172,'Daily Log'!$BW$18:$BW$1017),0)","v":0},{"$f":"IFERROR($E172*SUMIF('Daily Log'!$BY$18:$BY$1017,$B172,'Daily Log'!$BZ$18:$BZ$1017),0)","v":0},{"$f":"IFERROR($E172*SUMIF('Daily Log'!$CB$18:$CB$1017,$B172,'Daily Log'!$CC$18:$CC$1017),0)","v":0},{"$f":"IFERROR($E172*SUMIF('Daily Log'!$CE$18:$CE$1017,$B172,'Daily Log'!$CF$18:$CF$1017),0)","v":11},{"$f":"IFERROR($E172*SUMIF('Daily Log'!$CH$18:$CH$1017,$B172,'Daily Log'!$CI$18:$CI$1017),0)","v":0},{"$f":"IFERROR($E172*SUMIF('Daily Log'!$CK$18:$CK$1017,$B172,'Daily Log'!$CL$18:$CL$1017),0)","v":0},{"$f":"IFERROR($E172*SUMIF('Daily Log'!$CN$18:$CN$1017,$B172,'Daily Log'!$CO$18:$CO$1017),0)","v":0}]
[null,"BN02 8202:HOE BKT",null,"BEER ",4,48,{"$f":"IFERROR($E173*SUMIF('Daily Log'!$B$18:$B$1017,$B173,'Daily Log'!$C$18:$C$1017),0)","v":0},{"$f":"IFERROR($E173*SUMIF('Daily Log'!$E$18:$E$1017,$B173,'Daily Log'!$F$18:$F$1017),0)","v":0},{"$f":"IFERROR($E173*SUMIF('Daily Log'!$H$18:$H$1017,$B173,'Daily Log'!$I$18:$I$1017),0)","v":0},{"$f":"IFERROR($E173*SUMIF('Daily Log'!$K$18:$K$1017,$B173,'Daily Log'!$L$18:$L$1017),0)","v":0},{"$f":"IFERROR($E173*SUMIF('Daily Log'!$N$18:$N$1017,$B173,'Daily Log'!$O$18:$O$1017),0)","v":0},{"$f":"IFERROR($E173*SUMIF('Daily Log'!$Q$18:$Q$1017,$B173,'Daily Log'!$R$18:$R$1017),0)","v":0},{"$f":"IFERROR($E173*SUMIF('Daily Log'!$T$18:$T$1017,$B173,'Daily Log'!$U$18:$U$1017),0)","v":0},{"$f":"IFERROR($E173*SUMIF('Daily Log'!$W$18:$W$1017,$B173,'Daily Log'!$X$18:$X$1017),0)","v":0},{"$f":"IFERROR($E173*SUMIF('Daily Log'!$Z$18:$Z$1017,$B173,'Daily Log'!$AA$18:$AA$1017),0)","v":0},{"$f":"IFERROR($E173*SUMIF('Daily Log'!$AC$18:$AC$1017,$B173,'Daily Log'!$AD$18:$AD$1017),0)","v":0},{"$f":"IFERROR($E173*SUMIF('Daily Log'!$AF$18:$AF$1017,$B173,'Daily Log'!$AG$18:$AG$1017),0)","v":0},{"$f":"IFERROR($E173*SUMIF('Daily Log'!$AI$18:$AI$1017,$B173,'Daily Log'!$AJ$18:$AJ$1017),0)","v":0},{"$f":"IFERROR($E173*SUMIF('Daily Log'!$AL$18:$AL$1017,$B173,'Daily Log'!$AM$18:$AM$1017),0)","v":0},{"$f":"IFERROR($E173*SUMIF('Daily Log'!$AO$18:$AO$1017,$B173,'Daily Log'!$AP$18:$AP$1017),0)","v":0},{"$f":"IFERROR($E173*SUMIF('Daily Log'!$AR$18:$AR$1017,$B173,'Daily Log'!$AS$18:$AS$1017),0)","v":0},{"$f":"IFERROR($E173*SUMIF('Daily Log'!$AU$18:$AU$1017,$B173,'Daily Log'!$AV$18:$AV$1017),0)","v":0},{"$f":"IFERROR($E173*SUMIF('Daily Log'!$AX$18:$AX$1017,$B173,'Daily Log'!$AY$18:$AY$1017),0)","v":0},{"$f":"IFERROR($E173*SUMIF('Daily Log'!$BA$18:$BA$1017,$B173,'Daily Log'!$BB$18:$BB$1017),0)","v":0},{"$f":"IFERROR($E173*SUMIF('Daily Log'!$BD$18:$BD$1017,$B173,'Daily Log'!$BE$18:$BE$1017),0)","v":0},{"$f":"IFERROR($E173*SUMIF('Daily Log'!$BG$18:$BG$1017,$B173,'Daily Log'!$BH$18:$BH$1017),0)","v":0},{"$f":"IFERROR($E173*SUMIF('Daily Log'!$BJ$18:$BJ$1017,$B173,'Daily Log'!$BK$18:$BK$1017),0)","v":0},{"$f":"IFERROR($E173*SUMIF('Daily Log'!$BM$18:$BM$1017,$B173,'Daily Log'!$BN$18:$BN$1017),0)","v":0},{"$f":"IFERROR($E173*SUMIF('Daily Log'!$BP$18:$BP$1017,$B173,'Daily Log'!$BQ$18:$BQ$1017),0)","v":0},{"$f":"IFERROR($E173*SUMIF('Daily Log'!$BS$18:$BS$1017,$B173,'Daily Log'!$BT$18:$BT$1017),0)","v":0},{"$f":"IFERROR($E173*SUMIF('Daily Log'!$BV$18:$BV$1017,$B173,'Daily Log'!$BW$18:$BW$1017),0)","v":0},{"$f":"IFERROR($E173*SUMIF('Daily Log'!$BY$18:$BY$1017,$B173,'Daily Log'!$BZ$18:$BZ$1017),0)","v":0},{"$f":"IFERROR($E173*SUMIF('Daily Log'!$CB$18:$CB$1017,$B173,'Daily Log'!$CC$18:$CC$1017),0)","v":0},{"$f":"IFERROR($E173*SUMIF('Daily Log'!$CE$18:$CE$1017,$B173,'Daily Log'!$CF$18:$CF$1017),0)","v":48},{"$f":"IFERROR($E173*SUMIF('Daily Log'!$CH$18:$CH$1017,$B173,'Daily Log'!$CI$18:$CI$1017),0)","v":0},{"$f":"IFERROR($E173*SUMIF('Daily Log'!$CK$18:$CK$1017,$B173,'Daily Log'!$CL$18:$CL$1017),0)","v":0},{"$f":"IFERROR($E173*SUMIF('Daily Log'!$CN$18:$CN$1017,$B173,'Daily Log'!$CO$18:$CO$1017),0)","v":0}]
[null,"HOEGAARDEN TOTAL",null,"BEER",null,null,{"$f":"SUBTOTAL(9,G172:G173)","v":0},{"$f":"SUBTOTAL(9,H172:H173)","v":0},0,0,0,0,0,0,0,0,0,0,0,0,0,0,0,0,0,0,0,0,0,0,0,0,0,59,0,0,0]
[null,"BT01 7001:TIG BTL",null,"BEER ",1,{"$f":"SUM($G175:$AK175)","v":31},{"$f":"IFERROR($E175*SUMIF('Daily Log'!$B$18:$B$1017,$B175,'Daily Log'!$C$18:$C$1017),0)","v":0},{"$f":"IFERROR($E175*SUMIF('Daily Log'!$E$18:$E$1017,$B175,'Daily Log'!$F$18:$F$1017),0)","v":0},{"$f":"IFERROR($E175*SUMIF('Daily Log'!$H$18:$H$1017,$B175,'Daily Log'!$I$18:$I$1017),0)","v":0},{"$f":"IFERROR($E175*SUMIF('Daily Log'!$K$18:$K$1017,$B175,'Daily Log'!$L$18:$L$1017),0)","v":0},{"$f":"IFERROR($E175*SUMIF('Daily Log'!$N$18:$N$1017,$B175,'Daily Log'!$O$18:$O$1017),0)","v":0},{"$f":"IFERROR($E175*SUMIF('Daily Log'!$Q$18:$Q$1017,$B175,'Daily Log'!$R$18:$R$1017),0)","v":0},{"$f":"IFERROR($E175*SUMIF('Daily Log'!$T$18:$T$1017,$B175,'Daily Log'!$U$18:$U$1017),0)","v":0},{"$f":"IFERROR($E175*SUMIF('Daily Log'!$W$18:$W$1017,$B175,'Daily Log'!$X$18:$X$1017),0)","v":0},{"$f":"IFERROR($E175*SUMIF('Daily Log'!$Z$18:$Z$1017,$B175,'Daily Log'!$AA$18:$AA$1017),0)","v":0},{"$f":"IFERROR($E175*SUMIF('Daily Log'!$AC$18:$AC$1017,$B175,'Daily Log'!$AD$18:$AD$1017),0)","v":0},{"$f":"IFERROR($E175*SUMIF('Daily Log'!$AF$18:$AF$1017,$B175,'Daily Log'!$AG$18:$AG$1017),0)","v":0},{"$f":"IFERROR($E175*SUMIF('Daily Log'!$AI$18:$AI$1017,$B175,'Daily Log'!$AJ$18:$AJ$1017),0)","v":0},{"$f":"IFERROR($E175*SUMIF('Daily Log'!$AL$18:$AL$1017,$B175,'Daily Log'!$AM$18:$AM$1017),0)","v":0},{"$f":"IFERROR($E175*SUMIF('Daily Log'!$AO$18:$AO$1017,$B175,'Daily Log'!$AP$18:$AP$1017),0)","v":0},{"$f":"IFERROR($E175*SUMIF('Daily Log'!$AR$18:$AR$1017,$B175,'Daily Log'!$AS$18:$AS$1017),0)","v":0},{"$f":"IFERROR($E175*SUMIF('Daily Log'!$AU$18:$AU$1017,$B175,'Daily Log'!$AV$18:$AV$1017),0)","v":0},{"$f":"IFERROR($E175*SUMIF('Daily Log'!$AX$18:$AX$1017,$B175,'Daily Log'!$AY$18:$AY$1017),0)","v":0},{"$f":"IFERROR($E175*SUMIF('Daily Log'!$BA$18:$BA$1017,$B175,'Daily Log'!$BB$18:$BB$1017),0)","v":0},{"$f":"IFERROR($E175*SUMIF('Daily Log'!$BD$18:$BD$1017,$B175,'Daily Log'!$BE$18:$BE$1017),0)","v":0},{"$f":"IFERROR($E175*SUMIF('Daily Log'!$BG$18:$BG$1017,$B175,'Daily Log'!$BH$18:$BH$1017),0)","v":0},{"$f":"IFERROR($E175*SUMIF('Daily Log'!$BJ$18:$BJ$1017,$B175,'Daily Log'!$BK$18:$BK$1017),0)","v":0},{"$f":"IFERROR($E175*SUMIF('Daily Log'!$BM$18:$BM$1017,$B175,'Daily Log'!$BN$18:$BN$1017),0)","v":0},{"$f":"IFERROR($E175*SUMIF('Daily Log'!$BP$18:$BP$1017,$B175,'Daily Log'!$BQ$18:$BQ$1017),0)","v":0},{"$f":"IFERROR($E175*SUMIF('Daily Log'!$BS$18:$BS$1017,$B175,'Daily Log'!$BT$18:$BT$1017),0)","v":0},{"$f":"IFERROR($E175*SUMIF('Daily Log'!$BV$18:$BV$1017,$B175,'Daily Log'!$BW$18:$BW$1017),0)","v":0},{"$f":"IFERROR($E175*SUMIF('Daily Log'!$BY$18:$BY$1017,$B175,'Daily Log'!$BZ$18:$BZ$1017),0)","v":0},{"$f":"IFERROR($E175*SUMIF('Daily Log'!$CB$18:$CB$1017,$B175,'Daily Log'!$CC$18:$CC$1017),0)","v":0},{"$f":"IFERROR($E175*SUMIF('Daily Log'!$CE$18:$CE$1017,$B175,'Daily Log'!$CF$18:$CF$1017),0)","v":31},{"$f":"IFERROR($E175*SUMIF('Daily Log'!$CH$18:$CH$1017,$B175,'Daily Log'!$CI$18:$CI$1017),0)","v":0},{"$f":"IFERROR($E175*SUMIF('Daily Log'!$CK$18:$CK$1017,$B175,'Daily Log'!$CL$18:$CL$1017),0)","v":0},{"$f":"IFERROR($E175*SUMIF('Daily Log'!$CN$18:$CN$1017,$B175,'Daily Log'!$CO$18:$CO$1017),0)","v":0}]
[null,"BT02 7002:TIG BKT",null,"BEER ",4,{"$f":"SUM($G176:$AK176)","v":640},{"$f":"IFERROR($E176*SUMIF('Daily Log'!$B$18:$B$1017,$B176,'Daily Log'!$C$18:$C$1017),0)","v":0},{"$f":"IFERROR($E176*SUMIF('Daily Log'!$E$18:$E$1017,$B176,'Daily Log'!$F$18:$F$1017),0)","v":0},{"$f":"IFERROR($E176*SUMIF('Daily Log'!$H$18:$H$1017,$B176,'Daily Log'!$I$18:$I$1017),0)","v":0},{"$f":"IFERROR($E176*SUMIF('Daily Log'!$K$18:$K$1017,$B176,'Daily Log'!$L$18:$L$1017),0)","v":0},{"$f":"IFERROR($E176*SUMIF('Daily Log'!$N$18:$N$1017,$B176,'Daily Log'!$O$18:$O$1017),0)","v":0},{"$f":"IFERROR($E176*SUMIF('Daily Log'!$Q$18:$Q$1017,$B176,'Daily Log'!$R$18:$R$1017),0)","v":0},{"$f":"IFERROR($E176*SUMIF('Daily Log'!$T$18:$T$1017,$B176,'Daily Log'!$U$18:$U$1017),0)","v":0},{"$f":"IFERROR($E176*SUMIF('Daily Log'!$W$18:$W$1017,$B176,'Daily Log'!$X$18:$X$1017),0)","v":0},{"$f":"IFERROR($E176*SUMIF('Daily Log'!$Z$18:$Z$1017,$B176,'Daily Log'!$AA$18:$AA$1017),0)","v":0},{"$f":"IFERROR($E176*SUMIF('Daily Log'!$AC$18:$AC$1017,$B176,'Daily Log'!$AD$18:$AD$1017),0)","v":0},{"$f":"IFERROR($E176*SUMIF('Daily Log'!$AF$18:$AF$1017,$B176,'Daily Log'!$AG$18:$AG$1017),0)","v":0},{"$f":"IFERROR($E176*SUMIF('Daily Log'!$AI$18:$AI$1017,$B176,'Daily Log'!$AJ$18:$AJ$1017),0)","v":0},{"$f":"IFERROR($E176*SUMIF('Daily Log'!$AL$18:$AL$1017,$B176,'Daily Log'!$AM$18:$AM$1017),0)","v":0},{"$f":"IFERROR($E176*SUMIF('Daily Log'!$AO$18:$AO$1017,$B176,'Daily Log'!$AP$18:$AP$1017),0)","v":0},{"$f":"IFERROR($E176*SUMIF('Daily Log'!$AR$18:$AR$1017,$B176,'Daily Log'!$AS$18:$AS$1017),0)","v":0},{"$f":"IFERROR($E176*SUMIF('Daily Log'!$AU$18:$AU$1017,$B176,'Daily Log'!$AV$18:$AV$1017),0)","v":0},{"$f":"IFERROR($E176*SUMIF('Daily Log'!$AX$18:$AX$1017,$B176,'Daily Log'!$AY$18:$AY$1017),0)","v":0},{"$f":"IFERROR($E176*SUMIF('Daily Log'!$BA$18:$BA$1017,$B176,'Daily Log'!$BB$18:$BB$1017),0)","v":0},{"$f":"IFERROR($E176*SUMIF('Daily Log'!$BD$18:$BD$1017,$B176,'Daily Log'!$BE$18:$BE$1017),0)","v":0},{"$f":"IFERROR($E176*SUMIF('Daily Log'!$BG$18:$BG$1017,$B176,'Daily Log'!$BH$18:$BH$1017),0)","v":0},{"$f":"IFERROR($E176*SUMIF('Daily Log'!$BJ$18:$BJ$1017,$B176,'Daily Log'!$BK$18:$BK$1017),0)","v":0},{"$f":"IFERROR($E176*SUMIF('Daily Log'!$BM$18:$BM$1017,$B176,'Daily Log'!$BN$18:$BN$1017),0)","v":0},{"$f":"IFERROR($E176*SUMIF('Daily Log'!$BP$18:$BP$1017,$B176,'Daily Log'!$BQ$18:$BQ$1017),0)","v":0},{"$f":"IFERROR($E176*SUMIF('Daily Log'!$BS$18:$BS$1017,$B176,'Daily Log'!$BT$18:$BT$1017),0)","v":0},{"$f":"IFERROR($E176*SUMIF('Daily Log'!$BV$18:$BV$1017,$B176,'Daily Log'!$BW$18:$BW$1017),0)","v":0},{"$f":"IFERROR($E176*SUMIF('Daily Log'!$BY$18:$BY$1017,$B176,'Daily Log'!$BZ$18:$BZ$1017),0)","v":0},{"$f":"IFERROR($E176*SUMIF('Daily Log'!$CB$18:$CB$1017,$B176,'Daily Log'!$CC$18:$CC$1017),0)","v":0},{"$f":"IFERROR($E176*SUMIF('Daily Log'!$CE$18:$CE$1017,$B176,'Daily Log'!$CF$18:$CF$1017),0)","v":640},{"$f":"IFERROR($E176*SUMIF('Daily Log'!$CH$18:$CH$1017,$B176,'Daily Log'!$CI$18:$CI$1017),0)","v":0},{"$f":"IFERROR($E176*SUMIF('Daily Log'!$CK$18:$CK$1017,$B176,'Daily Log'!$CL$18:$CL$1017),0)","v":0},{"$f":"IFERROR($E176*SUMIF('Daily Log'!$CN$18:$CN$1017,$B176,'Daily Log'!$CO$18:$CO$1017),0)","v":0}]
[null,"BT03 7003:TIG RND",null,"BEER ",12,684,{"$f":"IFERROR($E177*SUMIF('Daily Log'!$B$18:$B$1017,$B177,'Daily Log'!$C$18:$C$1017),0)","v":0},{"$f":"IFERROR($E177*SUMIF('Daily Log'!$E$18:$E$1017,$B177,'Daily Log'!$F$18:$F$1017),0)","v":0},{"$f":"IFERROR($E177*SUMIF('Daily Log'!$H$18:$H$1017,$B177,'Daily Log'!$I$18:$I$1017),0)","v":0},{"$f":"IFERROR($E177*SUMIF('Daily Log'!$K$18:$K$1017,$B177,'Daily Log'!$L$18:$L$1017),0)","v":0},{"$f":"IFERROR($E177*SUMIF('Daily Log'!$N$18:$N$1017,$B177,'Daily Log'!$O$18:$O$1017),0)","v":0},{"$f":"IFERROR($E177*SUMIF('Daily Log'!$Q$18:$Q$1017,$B177,'Daily Log'!$R$18:$R$1017),0)","v":0},{"$f":"IFERROR($E177*SUMIF('Daily Log'!$T$18:$T$1017,$B177,'Daily Log'!$U$18:$U$1017),0)","v":0},{"$f":"IFERROR($E177*SUMIF('Daily Log'!$W$18:$W$1017,$B177,'Daily Log'!$X$18:$X$1017),0)","v":0},{"$f":"IFERROR($E177*SUMIF('Daily Log'!$Z$18:$Z$1017,$B177,'Daily Log'!$AA$18:$AA$1017),0)","v":0},{"$f":"IFERROR($E177*SUMIF('Daily Log'!$AC$18:$AC$1017,$B177,'Daily Log'!$AD$18:$AD$1017),0)","v":0},{"$f":"IFERROR($E177*SUMIF('Daily Log'!$AF$18:$AF$1017,$B177,'Daily Log'!$AG$18:$AG$1017),0)","v":0},{"$f":"IFERROR($E177*SUMIF('Daily Log'!$AI$18:$AI$1017,$B177,'Daily Log'!$AJ$18:$AJ$1017),0)","v":0},{"$f":"IFERROR($E177*SUMIF('Daily Log'!$AL$18:$AL$1017,$B177,'Daily Log'!$AM$18:$AM$1017),0)","v":0},{"$f":"IFERROR($E177*SUMIF('Daily Log'!$AO$18:$AO$1017,$B177,'Daily Log'!$AP$18:$AP$1017),0)","v":0},{"$f":"IFERROR($E177*SUMIF('Daily Log'!$AR$18:$AR$1017,$B177,'Daily Log'!$AS$18:$AS$1017),0)","v":0},{"$f":"IFERROR($E177*SUMIF('Daily Log'!$AU$18:$AU$1017,$B177,'Daily Log'!$AV$18:$AV$1017),0)","v":0},{"$f":"IFERROR($E177*SUMIF('Daily Log'!$AX$18:$AX$1017,$B177,'Daily Log'!$AY$18:$AY$1017),0)","v":0},{"$f":"IFERROR($E177*SUMIF('Daily Log'!$BA$18:$BA$1017,$B177,'Daily Log'!$BB$18:$BB$1017),0)","v":0},{"$f":"IFERROR($E177*SUMIF('Daily Log'!$BD$18:$BD$1017,$B177,'Daily Log'!$BE$18:$BE$1017),0)","v":0},{"$f":"IFERROR($E177*SUMIF('Daily Log'!$BG$18:$BG$1017,$B177,'Daily Log'!$BH$18:$BH$1017),0)","v":0},{"$f":"IFERROR($E177*SUMIF('Daily Log'!$BJ$18:$BJ$1017,$B177,'Daily Log'!$BK$18:$BK$1017),0)","v":0},{"$f":"IFERROR($E177*SUMIF('Daily Log'!$BM$18:$BM$1017,$B177,'Daily Log'!$BN$18:$BN$1017),0)","v":0},{"$f":"IFERROR($E177*SUMIF('Daily Log'!$BP$18:$BP$1017,$B177,'Daily Log'!$BQ$18:$BQ$1017),0)","v":0},{"$f":"IFERROR($E177*SUMIF('Daily Log'!$BS$18:$BS$1017,$B177,'Daily Log'!$BT$18:$BT$1017),0)","v":0},{"$f":"IFERROR($E177*SUMIF('Daily Log'!$BV$18:$BV$1017,$B177,'Daily Log'!$BW$18:$BW$1017),0)","v":0},{"$f":"IFERROR($E177*SUMIF('Daily Log'!$BY$18:$BY$1017,$B177,'Daily Log'!$BZ$18:$BZ$1017),0)","v":0},{"$f":"IFERROR($E177*SUMIF('Daily Log'!$CB$18:$CB$1017,$B177,'Daily Log'!$CC$18:$CC$1017),0)","v":0},{"$f":"IFERROR($E177*SUMIF('Daily Log'!$CE$18:$CE$1017,$B177,'Daily Log'!$CF$18:$CF$1017),0)","v":684},{"$f":"IFERROR($E177*SUMIF('Daily Log'!$CH$18:$CH$1017,$B177,'Daily Log'!$CI$18:$CI$1017),0)","v":0},{"$f":"IFERROR($E177*SUMIF('Daily Log'!$CK$18:$CK$1017,$B177,'Daily Log'!$CL$18:$CL$1017),0)","v":0},{"$f":"IFERROR($E177*SUMIF('Daily Log'!$CN$18:$CN$1017,$B177,'Daily Log'!$CO$18:$CO$1017),0)","v":0}]
[null,"BT06 7006:TIG RD BKT",null,"BEER ",4,0,{"$f":"IFERROR($E178*SUMIF('Daily Log'!$B$18:$B$1017,$B178,'Daily Log'!$C$18:$C$1017),0)","v":0},{"$f":"IFERROR($E178*SUMIF('Daily Log'!$E$18:$E$1017,$B178,'Daily Log'!$F$18:$F$1017),0)","v":0},{"$f":"IFERROR($E178*SUMIF('Daily Log'!$H$18:$H$1017,$B178,'Daily Log'!$I$18:$I$1017),0)","v":0},{"$f":"IFERROR($E178*SUMIF('Daily Log'!$K$18:$K$1017,$B178,'Daily Log'!$L$18:$L$1017),0)","v":0},{"$f":"IFERROR($E178*SUMIF('Daily Log'!$N$18:$N$1017,$B178,'Daily Log'!$O$18:$O$1017),0)","v":0},{"$f":"IFERROR($E178*SUMIF('Daily Log'!$Q$18:$Q$1017,$B178,'Daily Log'!$R$18:$R$1017),0)","v":0},{"$f":"IFERROR($E178*SUMIF('Daily Log'!$T$18:$T$1017,$B178,'Daily Log'!$U$18:$U$1017),0)","v":0},{"$f":"IFERROR($E178*SUMIF('Daily Log'!$W$18:$W$1017,$B178,'Daily Log'!$X$18:$X$1017),0)","v":0},{"$f":"IFERROR($E178*SUMIF('Daily Log'!$Z$18:$Z$1017,$B178,'Daily Log'!$AA$18:$AA$1017),0)","v":0},{"$f":"IFERROR($E178*SUMIF('Daily Log'!$AC$18:$AC$1017,$B178,'Daily Log'!$AD$18:$AD$1017),0)","v":0},{"$f":"IFERROR($E178*SUMIF('Daily Log'!$AF$18:$AF$1017,$B178,'Daily Log'!$AG$18:$AG$1017),0)","v":0},{"$f":"IFERROR($E178*SUMIF('Daily Log'!$AI$18:$AI$1017,$B178,'Daily Log'!$AJ$18:$AJ$1017),0)","v":0},{"$f":"IFERROR($E178*SUMIF('Daily Log'!$AL$18:$AL$1017,$B178,'Daily Log'!$AM$18:$AM$1017),0)","v":0},{"$f":"IFERROR($E178*SUMIF('Daily Log'!$AO$18:$AO$1017,$B178,'Daily Log'!$AP$18:$AP$1017),0)","v":0},{"$f":"IFERROR($E178*SUMIF('Daily Log'!$AR$18:$AR$1017,$B178,'Daily Log'!$AS$18:$AS$1017),0)","v":0},{"$f":"IFERROR($E178*SUMIF('Daily Log'!$AU$18:$AU$1017,$B178,'Daily Log'!$AV$18:$AV$1017),0)","v":0},{"$f":"IFERROR($E178*SUMIF('Daily Log'!$AX$18:$AX$1017,$B178,'Daily Log'!$AY$18:$AY$1017),0)","v":0},{"$f":"IFERROR($E178*SUMIF('Daily Log'!$BA$18:$BA$1017,$B178,'Daily Log'!$BB$18:$BB$1017),0)","v":0},{"$f":"IFERROR($E178*SUMIF('Daily Log'!$BD$18:$BD$1017,$B178,'Daily Log'!$BE$18:$BE$1017),0)","v":0},{"$f":"IFERROR($E178*SUMIF('Daily Log'!$BG$18:$BG$1017,$B178,'Daily Log'!$BH$18:$BH$1017),0)","v":0},{"$f":"IFERROR($E178*SUMIF('Daily Log'!$BJ$18:$BJ$1017,$B178,'Daily Log'!$BK$18:$BK$1017),0)","v":0},{"$f":"IFERROR($E178*SUMIF('Daily Log'!$BM$18:$BM$1017,$B178,'Daily Log'!$BN$18:$BN$1017),0)","v":0},{"$f":"IFERROR($E178*SUMIF('Daily Log'!$BP$18:$BP$1017,$B178,'Daily Log'!$BQ$18:$BQ$1017),0)","v":0},{"$f":"IFERROR($E178*SUMIF('Daily Log'!$BS$18:$BS$1017,$B178,'Daily Log'!$BT$18:$BT$1017),0)","v":0},{"$f":"IFERROR($E178*SUMIF('Daily Log'!$BV$18:$BV$1017,$B178,'Daily Log'!$BW$18:$BW$1017),0)","v":0},{"$f":"IFERROR($E178*SUMIF('Daily Log'!$BY$18:$BY$1017,$B178,'Daily Log'!$BZ$18:$BZ$1017),0)","v":0},{"$f":"IFERROR($E178*SUMIF('Daily Log'!$CB$18:$CB$1017,$B178,'Daily Log'!$CC$18:$CC$1017),0)","v":0},{"$f":"IFERROR($E178*SUMIF('Daily Log'!$CE$18:$CE$1017,$B178,'Daily Log'!$CF$18:$CF$1017),0)","v":0},{"$f":"IFERROR($E178*SUMIF('Daily Log'!$CH$18:$CH$1017,$B178,'Daily Log'!$CI$18:$CI$1017),0)","v":0},{"$f":"IFERROR($E178*SUMIF('Daily Log'!$CK$18:$CK$1017,$B178,'Daily Log'!$CL$18:$CL$1017),0)","v":0},{"$f":"IFERROR($E178*SUMIF('Daily Log'!$CN$18:$CN$1017,$B178,'Daily Log'!$CO$18:$CO$1017),0)","v":0}]
[null,"ZBR01 TIG BKT",null,"BEER",4,1044,{"$f":"IFERROR($E179*SUMIF('Daily Log'!$B$18:$B$1017,$B179,'Daily Log'!$C$18:$C$1017),0)","v":0},{"$f":"IFERROR($E179*SUMIF('Daily Log'!$E$18:$E$1017,$B179,'Daily Log'!$F$18:$F$1017),0)","v":0},{"$f":"IFERROR($E179*SUMIF('Daily Log'!$H$18:$H$1017,$B179,'Daily Log'!$I$18:$I$1017),0)","v":0},{"$f":"IFERROR($E179*SUMIF('Daily Log'!$K$18:$K$1017,$B179,'Daily Log'!$L$18:$L$1017),0)","v":0},{"$f":"IFERROR($E179*SUMIF('Daily Log'!$N$18:$N$1017,$B179,'Daily Log'!$O$18:$O$1017),0)","v":0},{"$f":"IFERROR($E179*SUMIF('Daily Log'!$Q$18:$Q$1017,$B179,'Daily Log'!$R$18:$R$1017),0)","v":0},{"$f":"IFERROR($E179*SUMIF('Daily Log'!$T$18:$T$1017,$B179,'Daily Log'!$U$18:$U$1017),0)","v":0},{"$f":"IFERROR($E179*SUMIF('Daily Log'!$W$18:$W$1017,$B179,'Daily Log'!$X$18:$X$1017),0)","v":0},{"$f":"IFERROR($E179*SUMIF('Daily Log'!$Z$18:$Z$1017,$B179,'Daily Log'!$AA$18:$AA$1017),0)","v":0},{"$f":"IFERROR($E179*SUMIF('Daily Log'!$AC$18:$AC$1017,$B179,'Daily Log'!$AD$18:$AD$1017),0)","v":0},{"$f":"IFERROR($E179*SUMIF('Daily Log'!$AF$18:$AF$1017,$B179,'Daily Log'!$AG$18:$AG$1017),0)","v":0},{"$f":"IFERROR($E179*SUMIF('Daily Log'!$AI$18:$AI$1017,$B179,'Daily Log'!$AJ$18:$AJ$1017),0)","v":0},{"$f":"IFERROR($E179*SUMIF('Daily Log'!$AL$18:$AL$1017,$B179,'Daily Log'!$AM$18:$AM$1017),0)","v":0},{"$f":"IFERROR($E179*SUMIF('Daily Log'!$AO$18:$AO$1017,$B179,'Daily Log'!$AP$18:$AP$1017),0)","v":0},{"$f":"IFERROR($E179*SUMIF('Daily Log'!$AR$18:$AR$1017,$B179,'Daily Log'!$AS$18:$AS$1017),0)","v":0},{"$f":"IFERROR($E179*SUMIF('Daily Log'!$AU$18:$AU$1017,$B179,'Daily Log'!$AV$18:$AV$1017),0)","v":0},{"$f":"IFERROR($E179*SUMIF('Daily Log'!$AX$18:$AX$1017,$B179,'Daily Log'!$AY$18:$AY$1017),0)","v":0},{"$f":"IFERROR($E179*SUMIF('Daily Log'!$BA$18:$BA$1017,$B179,'Daily Log'!$BB$18:$BB$1017),0)","v":0},{"$f":"IFERROR($E179*SUMIF('Daily Log'!$BD$18:$BD$1017,$B179,'Daily Log'!$BE$18:$BE$1017),0)","v":0},{"$f":"IFERROR($E179*SUMIF('Daily Log'!$BG$18:$BG$1017,$B179,'Daily Log'!$BH$18:$BH$1017),0)","v":0},{"$f":"IFERROR($E179*SUMIF('Daily Log'!$BJ$18:$BJ$1017,$B179,'Daily Log'!$BK$18:$BK$1017),0)","v":0},{"$f":"IFERROR($E179*SUMIF('Daily Log'!$BM$18:$BM$1017,$B179,'Daily Log'!$BN$18:$BN$1017),0)","v":0},{"$f":"IFERROR($E179*SUMIF('Daily Log'!$BP$18:$BP$1017,$B179,'Daily Log'!$BQ$18:$BQ$1017),0)","v":0},{"$f":"IFERROR($E179*SUMIF('Daily Log'!$BS$18:$BS$1017,$B179,'Daily Log'!$BT$18:$BT$1017),0)","v":0},{"$f":"IFERROR($E179*SUMIF('Daily Log'!$BV$18:$BV$1017,$B179,'Daily Log'!$BW$18:$BW$1017),0)","v":0},{"$f":"IFERROR($E179*SUMIF('Daily Log'!$BY$18:$BY$1017,$B179,'Daily Log'!$BZ$18:$BZ$1017),0)","v":0},{"$f":"IFERROR($E179*SUMIF('Daily Log'!$CB$18:$CB$1017,$B179,'Daily Log'!$CC$18:$CC$1017),0)","v":0},{"$f":"IFERROR($E179*SUMIF('Daily Log'!$CE$18:$CE$1017,$B179,'Daily Log'!$CF$18:$CF$1017),0)","v":1044},{"$f":"IFERROR($E179*SUMIF('Daily Log'!$CH$18:$CH$1017,$B179,'Daily Log'!$CI$18:$CI$1017),0)","v":0},{"$f":"IFERROR($E179*SUMIF('Daily Log'!$CK$18:$CK$1017,$B179,'Daily Log'!$CL$18:$CL$1017),0)","v":0},{"$f":"IFERROR($E179*SUMIF('Daily Log'!$CN$18:$CN$1017,$B179,'Daily Log'!$CO$18:$CO$1017),0)","v":0}]
[null,"TIGER BEER TOTAL",null,"BEER",null,null,{"$f":"SUBTOTAL(9,G175:G179)","v":0},{"$f":"SUBTOTAL(9,H175:H179)","v":0},0,0,0,0,0,0,0,0,0,0,0,0,0,0,0,0,0,0,0,0,0,0,0,0,0,2399,0,0,0]
[null,"BR01 8301:PAUL BTL",null,"BEER ",1,2,{"$f":"IFERROR($E181*SUMIF('Daily Log'!$B$18:$B$1017,$B181,'Daily Log'!$C$18:$C$1017),0)","v":0},{"$f":"IFERROR($E181*SUMIF('Daily Log'!$E$18:$E$1017,$B181,'Daily Log'!$F$18:$F$1017),0)","v":0},{"$f":"IFERROR($E181*SUMIF('Daily Log'!$H$18:$H$1017,$B181,'Daily Log'!$I$18:$I$1017),0)","v":0},{"$f":"IFERROR($E181*SUMIF('Daily Log'!$K$18:$K$1017,$B181,'Daily Log'!$L$18:$L$1017),0)","v":0},{"$f":"IFERROR($E181*SUMIF('Daily Log'!$N$18:$N$1017,$B181,'Daily Log'!$O$18:$O$1017),0)","v":0},{"$f":"IFERROR($E181*SUMIF('Daily Log'!$Q$18:$Q$1017,$B181,'Daily Log'!$R$18:$R$1017),0)","v":0},{"$f":"IFERROR($E181*SUMIF('Daily Log'!$T$18:$T$1017,$B181,'Daily Log'!$U$18:$U$1017),0)","v":0},{"$f":"IFERROR($E181*SUMIF('Daily Log'!$W$18:$W$1017,$B181,'Daily Log'!$X$18:$X$1017),0)","v":0},{"$f":"IFERROR($E181*SUMIF('Daily Log'!$Z$18:$Z$1017,$B181,'Daily Log'!$AA$18:$AA$1017),0)","v":0},{"$f":"IFERROR($E181*SUMIF('Daily Log'!$AC$18:$AC$1017,$B181,'Daily Log'!$AD$18:$AD$1017),0)","v":0},{"$f":"IFERROR($E181*SUMIF('Daily Log'!$AF$18:$AF$1017,$B181,'Daily Log'!$AG$18:$AG$1017),0)","v":0},{"$f":"IFERROR($E181*SUMIF('Daily Log'!$AI$18:$AI$1017,$B181,'Daily Log'!$AJ$18:$AJ$1017),0)","v":0},{"$f":"IFERROR($E181*SUMIF('Daily Log'!$AL$18:$AL$1017,$B181,'Daily Log'!$AM$18:$AM$1017),0)","v":0},{"$f":"IFERROR($E181*SUMIF('Daily Log'!$AO$18:$AO$1017,$B181,'Daily Log'!$AP$18:$AP$1017),0)","v":0},{"$f":"IFERROR($E181*SUMIF('Daily Log'!$AR$18:$AR$1017,$B181,'Daily Log'!$AS$18:$AS$1017),0)","v":0},{"$f":"IFERROR($E181*SUMIF('Daily Log'!$AU$18:$AU$1017,$B181,'Daily Log'!$AV$18:$AV$1017),0)","v":0},{"$f":"IFERROR($E181*SUMIF('Daily Log'!$AX$18:$AX$1017,$B181,'Daily Log'!$AY$18:$AY$1017),0)","v":0},{"$f":"IFERROR($E181*SUMIF('Daily Log'!$BA$18:$BA$1017,$B181,'Daily Log'!$BB$18:$BB$1017),0)","v":0},{"$f":"IFERROR($E181*SUMIF('Daily Log'!$BD$18:$BD$1017,$B181,'Daily Log'!$BE$18:$BE$1017),0)","v":0},{"$f":"IFERROR($E181*SUMIF('Daily Log'!$BG$18:$BG$1017,$B181,'Daily Log'!$BH$18:$BH$1017),0)","v":0},{"$f":"IFERROR($E181*SUMIF('Daily Log'!$BJ$18:$BJ$1017,$B181,'Daily Log'!$BK$18:$BK$1017),0)","v":0},{"$f":"IFERROR($E181*SUMIF('Daily Log'!$BM$18:$BM$1017,$B181,'Daily Log'!$BN$18:$BN$1017),0)","v":0},{"$f":"IFERROR($E181*SUMIF('Daily Log'!$BP$18:$BP$1017,$B181,'Daily Log'!$BQ$18:$BQ$1017),0)","v":0},{"$f":"IFERROR($E181*SUMIF('Daily Log'!$BS$18:$BS$1017,$B181,'Daily Log'!$BT$18:$BT$1017),0)","v":0},{"$f":"IFERROR($E181*SUMIF('Daily Log'!$BV$18:$BV$1017,$B181,'Daily Log'!$BW$18:$BW$1017),0)","v":0},{"$f":"IFERROR($E181*SUMIF('Daily Log'!$BY$18:$BY$1017,$B181,'Daily Log'!$BZ$18:$BZ$1017),0)","v":0},{"$f":"IFERROR($E181*SUMIF('Daily Log'!$CB$18:$CB$1017,$B181,'Daily Log'!$CC$18:$CC$1017),0)","v":0},{"$f":"IFERROR($E181*SUMIF('Daily Log'!$CE$18:$CE$1017,$B181,'Daily Log'!$CF$18:$CF$1017),0)","v":2},{"$f":"IFERROR($E181*SUMIF('Daily Log'!$CH$18:$CH$1017,$B181,'Daily Log'!$CI$18:$CI$1017),0)","v":0},{"$f":"IFERROR($E181*SUMIF('Daily Log'!$CK$18:$CK$1017,$B181,'Daily Log'!$CL$18:$CL$1017),0)","v":0},{"$f":"IFERROR($E181*SUMIF('Daily Log'!$CN$18:$CN$1017,$B181,'Daily Log'!$CO$18:$CO$1017),0)","v":0}]
[null,"BR02 8302:PAUL BKT",null,"BEER ",4,4,{"$f":"IFERROR($E182*SUMIF('Daily Log'!$B$18:$B$1017,$B182,'Daily Log'!$C$18:$C$1017),0)","v":0},{"$f":"IFERROR($E182*SUMIF('Daily Log'!$E$18:$E$1017,$B182,'Daily Log'!$F$18:$F$1017),0)","v":0},{"$f":"IFERROR($E182*SUMIF('Daily Log'!$H$18:$H$1017,$B182,'Daily Log'!$I$18:$I$1017),0)","v":0},{"$f":"IFERROR($E182*SUMIF('Daily Log'!$K$18:$K$1017,$B182,'Daily Log'!$L$18:$L$1017),0)","v":0},{"$f":"IFERROR($E182*SUMIF('Daily Log'!$N$18:$N$1017,$B182,'Daily Log'!$O$18:$O$1017),0)","v":0},{"$f":"IFERROR($E182*SUMIF('Daily Log'!$Q$18:$Q$1017,$B182,'Daily Log'!$R$18:$R$1017),0)","v":0},{"$f":"IFERROR($E182*SUMIF('Daily Log'!$T$18:$T$1017,$B182,'Daily Log'!$U$18:$U$1017),0)","v":0},{"$f":"IFERROR($E182*SUMIF('Daily Log'!$W$18:$W$1017,$B182,'Daily Log'!$X$18:$X$1017),0)","v":0},{"$f":"IFERROR($E182*SUMIF('Daily Log'!$Z$18:$Z$1017,$B182,'Daily Log'!$AA$18:$AA$1017),0)","v":0},{"$f":"IFERROR($E182*SUMIF('Daily Log'!$AC$18:$AC$1017,$B182,'Daily Log'!$AD$18:$AD$1017),0)","v":0},{"$f":"IFERROR($E182*SUMIF('Daily Log'!$AF$18:$AF$1017,$B182,'Daily Log'!$AG$18:$AG$1017),0)","v":0},{"$f":"IFERROR($E182*SUMIF('Daily Log'!$AI$18:$AI$1017,$B182,'Daily Log'!$AJ$18:$AJ$1017),0)","v":0},{"$f":"IFERROR($E182*SUMIF('Daily Log'!$AL$18:$AL$1017,$B182,'Daily Log'!$AM$18:$AM$1017),0)","v":0},{"$f":"IFERROR($E182*SUMIF('Daily Log'!$AO$18:$AO$1017,$B182,'Daily Log'!$AP$18:$AP$1017),0)","v":0},{"$f":"IFERROR($E182*SUMIF('Daily Log'!$AR$18:$AR$1017,$B182,'Daily Log'!$AS$18:$AS$1017),0)","v":0},{"$f":"IFERROR($E182*SUMIF('Daily Log'!$AU$18:$AU$1017,$B182,'Daily Log'!$AV$18:$AV$1017),0)","v":0},{"$f":"IFERROR($E182*SUMIF('Daily Log'!$AX$18:$AX$1017,$B182,'Daily Log'!$AY$18:$AY$1017),0)","v":0},{"$f":"IFERROR($E182*SUMIF('Daily Log'!$BA$18:$BA$1017,$B182,'Daily Log'!$BB$18:$BB$1017),0)","v":0},{"$f":"IFERROR($E182*SUMIF('Daily Log'!$BD$18:$BD$1017,$B182,'Daily Log'!$BE$18:$BE$1017),0)","v":0},{"$f":"IFERROR($E182*SUMIF('Daily Log'!$BG$18:$BG$1017,$B182,'Daily Log'!$BH$18:$BH$1017),0)","v":0},{"$f":"IFERROR($E182*SUMIF('Daily Log'!$BJ$18:$BJ$1017,$B182,'Daily Log'!$BK$18:$BK$1017),0)","v":0},{"$f":"IFERROR($E182*SUMIF('Daily Log'!$BM$18:$BM$1017,$B182,'Daily Log'!$BN$18:$BN$1017),0)","v":0},{"$f":"IFERROR($E182*SUMIF('Daily Log'!$BP$18:$BP$1017,$B182,'Daily Log'!$BQ$18:$BQ$1017),0)","v":0},{"$f":"IFERROR($E182*SUMIF('Daily Log'!$BS$18:$BS$1017,$B182,'Daily Log'!$BT$18:$BT$1017),0)","v":0},{"$f":"IFERROR($E182*SUMIF('Daily Log'!$BV$18:$BV$1017,$B182,'Daily Log'!$BW$18:$BW$1017),0)","v":0},{"$f":"IFERROR($E182*SUMIF('Daily Log'!$BY$18:$BY$1017,$B182,'Daily Log'!$BZ$18:$BZ$1017),0)","v":0},{"$f":"IFERROR($E182*SUMIF('Daily Log'!$CB$18:$CB$1017,$B182,'Daily Log'!$CC$18:$CC$1017),0)","v":0},{"$f":"IFERROR($E182*SUMIF('Daily Log'!$CE$18:$CE$1017,$B182,'Daily Log'!$CF$18:$CF$1017),0)","v":4},{"$f":"IFERROR($E182*SUMIF('Daily Log'!$CH$18:$CH$1017,$B182,'Daily Log'!$CI$18:$CI$1017),0)","v":0},{"$f":"IFERROR($E182*SUMIF('Daily Log'!$CK$18:$CK$1017,$B182,'Daily Log'!$CL$18:$CL$1017),0)","v":0},{"$f":"IFERROR($E182*SUMIF('Daily Log'!$CN$18:$CN$1017,$B182,'Daily Log'!$CO$18:$CO$1017),0)","v":0}]
[null,"PAULANAR TOTAL",null,"BEER",null,null,{"$f":"SUBTOTAL(9,G181:G182)","v":0},{"$f":"SUBTOTAL(9,H181:H182)","v":0},0,0,0,0,0,0,0,0,0,0,0,0,0,0,0,0,0,0,0,0,0,0,0,0,0,6,0,0,0]
[null,"BW01 8101:STRONG BTL",null,"BEER ",1,1,{"$f":"IFERROR($E184*SUMIF('Daily Log'!$B$18:$B$1017,$B184,'Daily Log'!$C$18:$C$1017),0)","v":0},{"$f":"IFERROR($E184*SUMIF('Daily Log'!$E$18:$E$1017,$B184,'Daily Log'!$F$18:$F$1017),0)","v":0},{"$f":"IFERROR($E184*SUMIF('Daily Log'!$H$18:$H$1017,$B184,'Daily Log'!$I$18:$I$1017),0)","v":0},{"$f":"IFERROR($E184*SUMIF('Daily Log'!$K$18:$K$1017,$B184,'Daily Log'!$L$18:$L$1017),0)","v":0},{"$f":"IFERROR($E184*SUMIF('Daily Log'!$N$18:$N$1017,$B184,'Daily Log'!$O$18:$O$1017),0)","v":0},{"$f":"IFERROR($E184*SUMIF('Daily Log'!$Q$18:$Q$1017,$B184,'Daily Log'!$R$18:$R$1017),0)","v":0},{"$f":"IFERROR($E184*SUMIF('Daily Log'!$T$18:$T$1017,$B184,'Daily Log'!$U$18:$U$1017),0)","v":0},{"$f":"IFERROR($E184*SUMIF('Daily Log'!$W$18:$W$1017,$B184,'Daily Log'!$X$18:$X$1017),0)","v":0},{"$f":"IFERROR($E184*SUMIF('Daily Log'!$Z$18:$Z$1017,$B184,'Daily Log'!$AA$18:$AA$1017),0)","v":0},{"$f":"IFERROR($E184*SUMIF('Daily Log'!$AC$18:$AC$1017,$B184,'Daily Log'!$AD$18:$AD$1017),0)","v":0},{"$f":"IFERROR($E184*SUMIF('Daily Log'!$AF$18:$AF$1017,$B184,'Daily Log'!$AG$18:$AG$1017),0)","v":0},{"$f":"IFERROR($E184*SUMIF('Daily Log'!$AI$18:$AI$1017,$B184,'Daily Log'!$AJ$18:$AJ$1017),0)","v":0},{"$f":"IFERROR($E184*SUMIF('Daily Log'!$AL$18:$AL$1017,$B184,'Daily Log'!$AM$18:$AM$1017),0)","v":0},{"$f":"IFERROR($E184*SUMIF('Daily Log'!$AO$18:$AO$1017,$B184,'Daily Log'!$AP$18:$AP$1017),0)","v":0},{"$f":"IFERROR($E184*SUMIF('Daily Log'!$AR$18:$AR$1017,$B184,'Daily Log'!$AS$18:$AS$1017),0)","v":0},{"$f":"IFERROR($E184*SUMIF('Daily Log'!$AU$18:$AU$1017,$B184,'Daily Log'!$AV$18:$AV$1017),0)","v":0},{"$f":"IFERROR($E184*SUMIF('Daily Log'!$AX$18:$AX$1017,$B184,'Daily Log'!$AY$18:$AY$1017),0)","v":0},{"$f":"IFERROR($E184*SUMIF('Daily Log'!$BA$18:$BA$1017,$B184,'Daily Log'!$BB$18:$BB$1017),0)","v":0},{"$f":"IFERROR($E184*SUMIF('Daily Log'!$BD$18:$BD$1017,$B184,'Daily Log'!$BE$18:$BE$1017),0)","v":0},{"$f":"IFERROR($E184*SUMIF('Daily Log'!$BG$18:$BG$1017,$B184,'Daily Log'!$BH$18:$BH$1017),0)","v":0},{"$f":"IFERROR($E184*SUMIF('Daily Log'!$BJ$18:$BJ$1017,$B184,'Daily Log'!$BK$18:$BK$1017),0)","v":0},{"$f":"IFERROR($E184*SUMIF('Daily Log'!$BM$18:$BM$1017,$B184,'Daily Log'!$BN$18:$BN$1017),0)","v":0},{"$f":"IFERROR($E184*SUMIF('Daily Log'!$BP$18:$BP$1017,$B184,'Daily Log'!$BQ$18:$BQ$1017),0)","v":0},{"$f":"IFERROR($E184*SUMIF('Daily Log'!$BS$18:$BS$1017,$B184,'Daily Log'!$BT$18:$BT$1017),0)","v":0},{"$f":"IFERROR($E184*SUMIF('Daily Log'!$BV$18:$BV$1017,$B184,'Daily Log'!$BW$18:$BW$1017),0)","v":0},{"$f":"IFERROR($E184*SUMIF('Daily Log'!$BY$18:$BY$1017,$B184,'Daily Log'!$BZ$18:$BZ$1017),0)","v":0},{"$f":"IFERROR($E184*SUMIF('Daily Log'!$CB$18:$CB$1017,$B184,'Daily Log'!$CC$18:$CC$1017),0)","v":0},{"$f":"IFERROR($E184*SUMIF('Daily Log'!$CE$18:$CE$1017,$B184,'Daily Log'!$CF$18:$CF$1017),0)","v":1},{"$f":"IFERROR($E184*SUMIF('Daily Log'!$CH$18:$CH$1017,$B184,'Daily Log'!$CI$18:$CI$1017),0)","v":0},{"$f":"IFERROR($E184*SUMIF('Daily Log'!$CK$18:$CK$1017,$B184,'Daily Log'!$CL$18:$CL$1017),0)","v":0},{"$f":"IFERROR($E184*SUMIF('Daily Log'!$CN$18:$CN$1017,$B184,'Daily Log'!$CO$18:$CO$1017),0)","v":0}]
[null,"BW02 8102:STRONG BKT",null,"BEER ",4,20,{"$f":"IFERROR($E185*SUMIF('Daily Log'!$B$18:$B$1017,$B185,'Daily Log'!$C$18:$C$1017),0)","v":0},{"$f":"IFERROR($E185*SUMIF('Daily Log'!$E$18:$E$1017,$B185,'Daily Log'!$F$18:$F$1017),0)","v":0},{"$f":"IFERROR($E185*SUMIF('Daily Log'!$H$18:$H$1017,$B185,'Daily Log'!$I$18:$I$1017),0)","v":0},{"$f":"IFERROR($E185*SUMIF('Daily Log'!$K$18:$K$1017,$B185,'Daily Log'!$L$18:$L$1017),0)","v":0},{"$f":"IFERROR($E185*SUMIF('Daily Log'!$N$18:$N$1017,$B185,'Daily Log'!$O$18:$O$1017),0)","v":0},{"$f":"IFERROR($E185*SUMIF('Daily Log'!$Q$18:$Q$1017,$B185,'Daily Log'!$R$18:$R$1017),0)","v":0},{"$f":"IFERROR($E185*SUMIF('Daily Log'!$T$18:$T$1017,$B185,'Daily Log'!$U$18:$U$1017),0)","v":0},{"$f":"IFERROR($E185*SUMIF('Daily Log'!$W$18:$W$1017,$B185,'Daily Log'!$X$18:$X$1017),0)","v":0},{"$f":"IFERROR($E185*SUMIF('Daily Log'!$Z$18:$Z$1017,$B185,'Daily Log'!$AA$18:$AA$1017),0)","v":0},{"$f":"IFERROR($E185*SUMIF('Daily Log'!$AC$18:$AC$1017,$B185,'Daily Log'!$AD$18:$AD$1017),0)","v":0},{"$f":"IFERROR($E185*SUMIF('Daily Log'!$AF$18:$AF$1017,$B185,'Daily Log'!$AG$18:$AG$1017),0)","v":0},{"$f":"IFERROR($E185*SUMIF('Daily Log'!$AI$18:$AI$1017,$B185,'Daily Log'!$AJ$18:$AJ$1017),0)","v":0},{"$f":"IFERROR($E185*SUMIF('Daily Log'!$AL$18:$AL$1017,$B185,'Daily Log'!$AM$18:$AM$1017),0)","v":0},{"$f":"IFERROR($E185*SUMIF('Daily Log'!$AO$18:$AO$1017,$B185,'Daily Log'!$AP$18:$AP$1017),0)","v":0},{"$f":"IFERROR($E185*SUMIF('Daily Log'!$AR$18:$AR$1017,$B185,'Daily Log'!$AS$18:$AS$1017),0)","v":0},{"$f":"IFERROR($E185*SUMIF('Daily Log'!$AU$18:$AU$1017,$B185,'Daily Log'!$AV$18:$AV$1017),0)","v":0},{"$f":"IFERROR($E185*SUMIF('Daily Log'!$AX$18:$AX$1017,$B185,'Daily Log'!$AY$18:$AY$1017),0)","v":0},{"$f":"IFERROR($E185*SUMIF('Daily Log'!$BA$18:$BA$1017,$B185,'Daily Log'!$BB$18:$BB$1017),0)","v":0},{"$f":"IFERROR($E185*SUMIF('Daily Log'!$BD$18:$BD$1017,$B185,'Daily Log'!$BE$18:$BE$1017),0)","v":0},{"$f":"IFERROR($E185*SUMIF('Daily Log'!$BG$18:$BG$1017,$B185,'Daily Log'!$BH$18:$BH$1017),0)","v":0},{"$f":"IFERROR($E185*SUMIF('Daily Log'!$BJ$18:$BJ$1017,$B185,'Daily Log'!$BK$18:$BK$1017),0)","v":0},{"$f":"IFERROR($E185*SUMIF('Daily Log'!$BM$18:$BM$1017,$B185,'Daily Log'!$BN$18:$BN$1017),0)","v":0},{"$f":"IFERROR($E185*SUMIF('Daily Log'!$BP$18:$BP$1017,$B185,'Daily Log'!$BQ$18:$BQ$1017),0)","v":0},{"$f":"IFERROR($E185*SUMIF('Daily Log'!$BS$18:$BS$1017,$B185,'Daily Log'!$BT$18:$BT$1017),0)","v":0},{"$f":"IFERROR($E185*SUMIF('Daily Log'!$BV$18:$BV$1017,$B185,'Daily Log'!$BW$18:$BW$1017),0)","v":0},{"$f":"IFERROR($E185*SUMIF('Daily Log'!$BY$18:$BY$1017,$B185,'Daily Log'!$BZ$18:$BZ$1017),0)","v":0},{"$f":"IFERROR($E185*SUMIF('Daily Log'!$CB$18:$CB$1017,$B185,'Daily Log'!$CC$18:$CC$1017),0)","v":0},{"$f":"IFERROR($E185*SUMIF('Daily Log'!$CE$18:$CE$1017,$B185,'Daily Log'!$CF$18:$CF$1017),0)","v":20},{"$f":"IFERROR($E185*SUMIF('Daily Log'!$CH$18:$CH$1017,$B185,'Daily Log'!$CI$18:$CI$1017),0)","v":0},{"$f":"IFERROR($E185*SUMIF('Daily Log'!$CK$18:$CK$1017,$B185,'Daily Log'!$CL$18:$CL$1017),0)","v":0},{"$f":"IFERROR($E185*SUMIF('Daily Log'!$CN$18:$CN$1017,$B185,'Daily Log'!$CO$18:$CO$1017),0)","v":0}]
[null,"STRONGBOW TOTAL",null,"BEER",null,null,{"$f":"SUBTOTAL(9,G184:G185)","v":0},{"$f":"SUBTOTAL(9,H184:H185)","v":0},0,0,0,0,0,0,0,0,0,0,0,0,0,0,0,0,0,0,0,0,0,0,0,0,0,21,0,0,0]
[null,"BY01 8001:SOME BTL",null,"BEER ",1,14,{"$f":"IFERROR($E187*SUMIF('Daily Log'!$B$18:$B$1017,$B187,'Daily Log'!$C$18:$C$1017),0)","v":0},{"$f":"IFERROR($E187*SUMIF('Daily Log'!$E$18:$E$1017,$B187,'Daily Log'!$F$18:$F$1017),0)","v":0},{"$f":"IFERROR($E187*SUMIF('Daily Log'!$H$18:$H$1017,$B187,'Daily Log'!$I$18:$I$1017),0)","v":0},{"$f":"IFERROR($E187*SUMIF('Daily Log'!$K$18:$K$1017,$B187,'Daily Log'!$L$18:$L$1017),0)","v":0},{"$f":"IFERROR($E187*SUMIF('Daily Log'!$N$18:$N$1017,$B187,'Daily Log'!$O$18:$O$1017),0)","v":0},{"$f":"IFERROR($E187*SUMIF('Daily Log'!$Q$18:$Q$1017,$B187,'Daily Log'!$R$18:$R$1017),0)","v":0},{"$f":"IFERROR($E187*SUMIF('Daily Log'!$T$18:$T$1017,$B187,'Daily Log'!$U$18:$U$1017),0)","v":0},{"$f":"IFERROR($E187*SUMIF('Daily Log'!$W$18:$W$1017,$B187,'Daily Log'!$X$18:$X$1017),0)","v":0},{"$f":"IFERROR($E187*SUMIF('Daily Log'!$Z$18:$Z$1017,$B187,'Daily Log'!$AA$18:$AA$1017),0)","v":0},{"$f":"IFERROR($E187*SUMIF('Daily Log'!$AC$18:$AC$1017,$B187,'Daily Log'!$AD$18:$AD$1017),0)","v":0},{"$f":"IFERROR($E187*SUMIF('Daily Log'!$AF$18:$AF$1017,$B187,'Daily Log'!$AG$18:$AG$1017),0)","v":0},{"$f":"IFERROR($E187*SUMIF('Daily Log'!$AI$18:$AI$1017,$B187,'Daily Log'!$AJ$18:$AJ$1017),0)","v":0},{"$f":"IFERROR($E187*SUMIF('Daily Log'!$AL$18:$AL$1017,$B187,'Daily Log'!$AM$18:$AM$1017),0)","v":0},{"$f":"IFERROR($E187*SUMIF('Daily Log'!$AO$18:$AO$1017,$B187,'Daily Log'!$AP$18:$AP$1017),0)","v":0},{"$f":"IFERROR($E187*SUMIF('Daily Log'!$AR$18:$AR$1017,$B187,'Daily Log'!$AS$18:$AS$1017),0)","v":0},{"$f":"IFERROR($E187*SUMIF('Daily Log'!$AU$18:$AU$1017,$B187,'Daily Log'!$AV$18:$AV$1017),0)","v":0},{"$f":"IFERROR($E187*SUMIF('Daily Log'!$AX$18:$AX$1017,$B187,'Daily Log'!$AY$18:$AY$1017),0)","v":0},{"$f":"IFERROR($E187*SUMIF('Daily Log'!$BA$18:$BA$1017,$B187,'Daily Log'!$BB$18:$BB$1017),0)","v":0},{"$f":"IFERROR($E187*SUMIF('Daily Log'!$BD$18:$BD$1017,$B187,'Daily Log'!$BE$18:$BE$1017),0)","v":0},{"$f":"IFERROR($E187*SUMIF('Daily Log'!$BG$18:$BG$1017,$B187,'Daily Log'!$BH$18:$BH$1017),0)","v":0},{"$f":"IFERROR($E187*SUMIF('Daily Log'!$BJ$18:$BJ$1017,$B187,'Daily Log'!$BK$18:$BK$1017),0)","v":0},{"$f":"IFERROR($E187*SUMIF('Daily Log'!$BM$18:$BM$1017,$B187,'Daily Log'!$BN$18:$BN$1017),0)","v":0},{"$f":"IFERROR($E187*SUMIF('Daily Log'!$BP$18:$BP$1017,$B187,'Daily Log'!$BQ$18:$BQ$1017),0)","v":0},{"$f":"IFERROR($E187*SUMIF('Daily Log'!$BS$18:$BS$1017,$B187,'Daily Log'!$BT$18:$BT$1017),0)","v":0},{"$f":"IFERROR($E187*SUMIF('Daily Log'!$BV$18:$BV$1017,$B187,'Daily Log'!$BW$18:$BW$1017),0)","v":0},{"$f":"IFERROR($E187*SUMIF('Daily Log'!$BY$18:$BY$1017,$B187,'Daily Log'!$BZ$18:$BZ$1017),0)","v":0},{"$f":"IFERROR($E187*SUMIF('Daily Log'!$CB$18:$CB$1017,$B187,'Daily Log'!$CC$18:$CC$1017),0)","v":0},{"$f":"IFERROR($E187*SUMIF('Daily Log'!$CE$18:$CE$1017,$B187,'Daily Log'!$CF$18:$CF$1017),0)","v":14},{"$f":"IFERROR($E187*SUMIF('Daily Log'!$CH$18:$CH$1017,$B187,'Daily Log'!$CI$18:$CI$1017),0)","v":0},{"$f":"IFERROR($E187*SUMIF('Daily Log'!$CK$18:$CK$1017,$B187,'Daily Log'!$CL$18:$CL$1017),0)","v":0},{"$f":"IFERROR($E187*SUMIF('Daily Log'!$CN$18:$CN$1017,$B187,'Daily Log'!$CO$18:$CO$1017),0)","v":0}]
[null,"BY02 8002:SOME BKT",null,"BEER ",4,68,{"$f":"IFERROR($E188*SUMIF('Daily Log'!$B$18:$B$1017,$B188,'Daily Log'!$C$18:$C$1017),0)","v":0},{"$f":"IFERROR($E188*SUMIF('Daily Log'!$E$18:$E$1017,$B188,'Daily Log'!$F$18:$F$1017),0)","v":0},{"$f":"IFERROR($E188*SUMIF('Daily Log'!$H$18:$H$1017,$B188,'Daily Log'!$I$18:$I$1017),0)","v":0},{"$f":"IFERROR($E188*SUMIF('Daily Log'!$K$18:$K$1017,$B188,'Daily Log'!$L$18:$L$1017),0)","v":0},{"$f":"IFERROR($E188*SUMIF('Daily Log'!$N$18:$N$1017,$B188,'Daily Log'!$O$18:$O$1017),0)","v":0},{"$f":"IFERROR($E188*SUMIF('Daily Log'!$Q$18:$Q$1017,$B188,'Daily Log'!$R$18:$R$1017),0)","v":0},{"$f":"IFERROR($E188*SUMIF('Daily Log'!$T$18:$T$1017,$B188,'Daily Log'!$U$18:$U$1017),0)","v":0},{"$f":"IFERROR($E188*SUMIF('Daily Log'!$W$18:$W$1017,$B188,'Daily Log'!$X$18:$X$1017),0)","v":0},{"$f":"IFERROR($E188*SUMIF('Daily Log'!$Z$18:$Z$1017,$B188,'Daily Log'!$AA$18:$AA$1017),0)","v":0},{"$f":"IFERROR($E188*SUMIF('Daily Log'!$AC$18:$AC$1017,$B188,'Daily Log'!$AD$18:$AD$1017),0)","v":0},{"$f":"IFERROR($E188*SUMIF('Daily Log'!$AF$18:$AF$1017,$B188,'Daily Log'!$AG$18:$AG$1017),0)","v":0},{"$f":"IFERROR($E188*SUMIF('Daily Log'!$AI$18:$AI$1017,$B188,'Daily Log'!$AJ$18:$AJ$1017),0)","v":0},{"$f":"IFERROR($E188*SUMIF('Daily Log'!$AL$18:$AL$1017,$B188,'Daily Log'!$AM$18:$AM$1017),0)","v":0},{"$f":"IFERROR($E188*SUMIF('Daily Log'!$AO$18:$AO$1017,$B188,'Daily Log'!$AP$18:$AP$1017),0)","v":0},{"$f":"IFERROR($E188*SUMIF('Daily Log'!$AR$18:$AR$1017,$B188,'Daily Log'!$AS$18:$AS$1017),0)","v":0},{"$f":"IFERROR($E188*SUMIF('Daily Log'!$AU$18:$AU$1017,$B188,'Daily Log'!$AV$18:$AV$1017),0)","v":0},{"$f":"IFERROR($E188*SUMIF('Daily Log'!$AX$18:$AX$1017,$B188,'Daily Log'!$AY$18:$AY$1017),0)","v":0},{"$f":"IFERROR($E188*SUMIF('Daily Log'!$BA$18:$BA$1017,$B188,'Daily Log'!$BB$18:$BB$1017),0)","v":0},{"$f":"IFERROR($E188*SUMIF('Daily Log'!$BD$18:$BD$1017,$B188,'Daily Log'!$BE$18:$BE$1017),0)","v":0},{"$f":"IFERROR($E188*SUMIF('Daily Log'!$BG$18:$BG$1017,$B188,'Daily Log'!$BH$18:$BH$1017),0)","v":0},{"$f":"IFERROR($E188*SUMIF('Daily Log'!$BJ$18:$BJ$1017,$B188,'Daily Log'!$BK$18:$BK$1017),0)","v":0},{"$f":"IFERROR($E188*SUMIF('Daily Log'!$BM$18:$BM$1017,$B188,'Daily Log'!$BN$18:$BN$1017),0)","v":0},{"$f":"IFERROR($E188*SUMIF('Daily Log'!$BP$18:$BP$1017,$B188,'Daily Log'!$BQ$18:$BQ$1017),0)","v":0},{"$f":"IFERROR($E188*SUMIF('Daily Log'!$BS$18:$BS$1017,$B188,'Daily Log'!$BT$18:$BT$1017),0)","v":0},{"$f":"IFERROR($E188*SUMIF('Daily Log'!$BV$18:$BV$1017,$B188,'Daily Log'!$BW$18:$BW$1017),0)","v":0},{"$f":"IFERROR($E188*SUMIF('Daily Log'!$BY$18:$BY$1017,$B188,'Daily Log'!$BZ$18:$BZ$1017),0)","v":0},{"$f":"IFERROR($E188*SUMIF('Daily Log'!$CB$18:$CB$1017,$B188,'Daily Log'!$CC$18:$CC$1017),0)","v":0},{"$f":"IFERROR($E188*SUMIF('Daily Log'!$CE$18:$CE$1017,$B188,'Daily Log'!$CF$18:$CF$1017),0)","v":68},{"$f":"IFERROR($E188*SUMIF('Daily Log'!$CH$18:$CH$1017,$B188,'Daily Log'!$CI$18:$CI$1017),0)","v":0},{"$f":"IFERROR($E188*SUMIF('Daily Log'!$CK$18:$CK$1017,$B188,'Daily Log'!$CL$18:$CL$1017),0)","v":0},{"$f":"IFERROR($E188*SUMIF('Daily Log'!$CN$18:$CN$1017,$B188,'Daily Log'!$CO$18:$CO$1017),0)","v":0}]
[null,"APPLE CIDER TOTAL",null,"BEER",null,null,{"$f":"SUBTOTAL(9,G187:G188)","v":0},{"$f":"SUBTOTAL(9,H187:H188)","v":0},0,0,0,0,0,0,0,0,0,0,0,0,0,0,0,0,0,0,0,0,0,0,0,0,0,82,0,0,0]
[null,"HF06 92012:HNY GT(H)",null,"SIDE ORDER-WESTERN CRUISE",1,{"$f":"SUM($G190:$AK190)","v":905},{"$f":"IFERROR($E190*SUMIF('Daily Log'!$B$18:$B$1017,$B190,'Daily Log'!$C$18:$C$1017),0)","v":0},{"$f":"IFERROR($E190*SUMIF('Daily Log'!$E$18:$E$1017,$B190,'Daily Log'!$F$18:$F$1017),0)","v":0},{"$f":"IFERROR($E190*SUMIF('Daily Log'!$H$18:$H$1017,$B190,'Daily Log'!$I$18:$I$1017),0)","v":0},{"$f":"IFERROR($E190*SUMIF('Daily Log'!$K$18:$K$1017,$B190,'Daily Log'!$L$18:$L$1017),0)","v":0},{"$f":"IFERROR($E190*SUMIF('Daily Log'!$N$18:$N$1017,$B190,'Daily Log'!$O$18:$O$1017),0)","v":0},{"$f":"IFERROR($E190*SUMIF('Daily Log'!$Q$18:$Q$1017,$B190,'Daily Log'!$R$18:$R$1017),0)","v":0},{"$f":"IFERROR($E190*SUMIF('Daily Log'!$T$18:$T$1017,$B190,'Daily Log'!$U$18:$U$1017),0)","v":0},{"$f":"IFERROR($E190*SUMIF('Daily Log'!$W$18:$W$1017,$B190,'Daily Log'!$X$18:$X$1017),0)","v":0},{"$f":"IFERROR($E190*SUMIF('Daily Log'!$Z$18:$Z$1017,$B190,'Daily Log'!$AA$18:$AA$1017),0)","v":0},{"$f":"IFERROR($E190*SUMIF('Daily Log'!$AC$18:$AC$1017,$B190,'Daily Log'!$AD$18:$AD$1017),0)","v":0},{"$f":"IFERROR($E190*SUMIF('Daily Log'!$AF$18:$AF$1017,$B190,'Daily Log'!$AG$18:$AG$1017),0)","v":0},{"$f":"IFERROR($E190*SUMIF('Daily Log'!$AI$18:$AI$1017,$B190,'Daily Log'!$AJ$18:$AJ$1017),0)","v":0},{"$f":"IFERROR($E190*SUMIF('Daily Log'!$AL$18:$AL$1017,$B190,'Daily Log'!$AM$18:$AM$1017),0)","v":0},{"$f":"IFERROR($E190*SUMIF('Daily Log'!$AO$18:$AO$1017,$B190,'Daily Log'!$AP$18:$AP$1017),0)","v":0},{"$f":"IFERROR($E190*SUMIF('Daily Log'!$AR$18:$AR$1017,$B190,'Daily Log'!$AS$18:$AS$1017),0)","v":0},{"$f":"IFERROR($E190*SUMIF('Daily Log'!$AU$18:$AU$1017,$B190,'Daily Log'!$AV$18:$AV$1017),0)","v":0},{"$f":"IFERROR($E190*SUMIF('Daily Log'!$AX$18:$AX$1017,$B190,'Daily Log'!$AY$18:$AY$1017),0)","v":0},{"$f":"IFERROR($E190*SUMIF('Daily Log'!$BA$18:$BA$1017,$B190,'Daily Log'!$BB$18:$BB$1017),0)","v":0},{"$f":"IFERROR($E190*SUMIF('Daily Log'!$BD$18:$BD$1017,$B190,'Daily Log'!$BE$18:$BE$1017),0)","v":0},{"$f":"IFERROR($E190*SUMIF('Daily Log'!$BG$18:$BG$1017,$B190,'Daily Log'!$BH$18:$BH$1017),0)","v":0},{"$f":"IFERROR($E190*SUMIF('Daily Log'!$BJ$18:$BJ$1017,$B190,'Daily Log'!$BK$18:$BK$1017),0)","v":0},{"$f":"IFERROR($E190*SUMIF('Daily Log'!$BM$18:$BM$1017,$B190,'Daily Log'!$BN$18:$BN$1017),0)","v":0},{"$f":"IFERROR($E190*SUMIF('Daily Log'!$BP$18:$BP$1017,$B190,'Daily Log'!$BQ$18:$BQ$1017),0)","v":0},{"$f":"IFERROR($E190*SUMIF('Daily Log'!$BS$18:$BS$1017,$B190,'Daily Log'!$BT$18:$BT$1017),0)","v":0},{"$f":"IFERROR($E190*SUMIF('Daily Log'!$BV$18:$BV$1017,$B190,'Daily Log'!$BW$18:$BW$1017),0)","v":0},{"$f":"IFERROR($E190*SUMIF('Daily Log'!$BY$18:$BY$1017,$B190,'Daily Log'!$BZ$18:$BZ$1017),0)","v":0},{"$f":"IFERROR($E190*SUMIF('Daily Log'!$CB$18:$CB$1017,$B190,'Daily Log'!$CC$18:$CC$1017),0)","v":0},{"$f":"IFERROR($E190*SUMIF('Daily Log'!$CE$18:$CE$1017,$B190,'Daily Log'!$CF$18:$CF$1017),0)","v":905},{"$f":"IFERROR($E190*SUMIF('Daily Log'!$CH$18:$CH$1017,$B190,'Daily Log'!$CI$18:$CI$1017),0)","v":0},{"$f":"IFERROR($E190*SUMIF('Daily Log'!$CK$18:$CK$1017,$B190,'Daily Log'!$CL$18:$CL$1017),0)","v":0},{"$f":"IFERROR($E190*SUMIF('Daily Log'!$CN$18:$CN$1017,$B190,'Daily Log'!$CO$18:$CO$1017),0)","v":0}]
[null,"HF07 92014:HONEY(H)",null,"SIDE ORDER-WESTERN CRUISE",1,449,{"$f":"IFERROR($E191*SUMIF('Daily Log'!$B$18:$B$1017,$B191,'Daily Log'!$C$18:$C$1017),0)","v":0},{"$f":"IFERROR($E191*SUMIF('Daily Log'!$E$18:$E$1017,$B191,'Daily Log'!$F$18:$F$1017),0)","v":0},{"$f":"IFERROR($E191*SUMIF('Daily Log'!$H$18:$H$1017,$B191,'Daily Log'!$I$18:$I$1017),0)","v":0},{"$f":"IFERROR($E191*SUMIF('Daily Log'!$K$18:$K$1017,$B191,'Daily Log'!$L$18:$L$1017),0)","v":0},{"$f":"IFERROR($E191*SUMIF('Daily Log'!$N$18:$N$1017,$B191,'Daily Log'!$O$18:$O$1017),0)","v":0},{"$f":"IFERROR($E191*SUMIF('Daily Log'!$Q$18:$Q$1017,$B191,'Daily Log'!$R$18:$R$1017),0)","v":0},{"$f":"IFERROR($E191*SUMIF('Daily Log'!$T$18:$T$1017,$B191,'Daily Log'!$U$18:$U$1017),0)","v":0},{"$f":"IFERROR($E191*SUMIF('Daily Log'!$W$18:$W$1017,$B191,'Daily Log'!$X$18:$X$1017),0)","v":0},{"$f":"IFERROR($E191*SUMIF('Daily Log'!$Z$18:$Z$1017,$B191,'Daily Log'!$AA$18:$AA$1017),0)","v":0},{"$f":"IFERROR($E191*SUMIF('Daily Log'!$AC$18:$AC$1017,$B191,'Daily Log'!$AD$18:$AD$1017),0)","v":0},{"$f":"IFERROR($E191*SUMIF('Daily Log'!$AF$18:$AF$1017,$B191,'Daily Log'!$AG$18:$AG$1017),0)","v":0},{"$f":"IFERROR($E191*SUMIF('Daily Log'!$AI$18:$AI$1017,$B191,'Daily Log'!$AJ$18:$AJ$1017),0)","v":0},{"$f":"IFERROR($E191*SUMIF('Daily Log'!$AL$18:$AL$1017,$B191,'Daily Log'!$AM$18:$AM$1017),0)","v":0},{"$f":"IFERROR($E191*SUMIF('Daily Log'!$AO$18:$AO$1017,$B191,'Daily Log'!$AP$18:$AP$1017),0)","v":0},{"$f":"IFERROR($E191*SUMIF('Daily Log'!$AR$18:$AR$1017,$B191,'Daily Log'!$AS$18:$AS$1017),0)","v":0},{"$f":"IFERROR($E191*SUMIF('Daily Log'!$AU$18:$AU$1017,$B191,'Daily Log'!$AV$18:$AV$1017),0)","v":0},{"$f":"IFERROR($E191*SUMIF('Daily Log'!$AX$18:$AX$1017,$B191,'Daily Log'!$AY$18:$AY$1017),0)","v":0},{"$f":"IFERROR($E191*SUMIF('Daily Log'!$BA$18:$BA$1017,$B191,'Daily Log'!$BB$18:$BB$1017),0)","v":0},{"$f":"IFERROR($E191*SUMIF('Daily Log'!$BD$18:$BD$1017,$B191,'Daily Log'!$BE$18:$BE$1017),0)","v":0},{"$f":"IFERROR($E191*SUMIF('Daily Log'!$BG$18:$BG$1017,$B191,'Daily Log'!$BH$18:$BH$1017),0)","v":0},{"$f":"IFERROR($E191*SUMIF('Daily Log'!$BJ$18:$BJ$1017,$B191,'Daily Log'!$BK$18:$BK$1017),0)","v":0},{"$f":"IFERROR($E191*SUMIF('Daily Log'!$BM$18:$BM$1017,$B191,'Daily Log'!$BN$18:$BN$1017),0)","v":0},{"$f":"IFERROR($E191*SUMIF('Daily Log'!$BP$18:$BP$1017,$B191,'Daily Log'!$BQ$18:$BQ$1017),0)","v":0},{"$f":"IFERROR($E191*SUMIF('Daily Log'!$BS$18:$BS$1017,$B191,'Daily Log'!$BT$18:$BT$1017),0)","v":0},{"$f":"IFERROR($E191*SUMIF('Daily Log'!$BV$18:$BV$1017,$B191,'Daily Log'!$BW$18:$BW$1017),0)","v":0},{"$f":"IFERROR($E191*SUMIF('Daily Log'!$BY$18:$BY$1017,$B191,'Daily Log'!$BZ$18:$BZ$1017),0)","v":0},{"$f":"IFERROR($E191*SUMIF('Daily Log'!$CB$18:$CB$1017,$B191,'Daily Log'!$CC$18:$CC$1017),0)","v":0},{"$f":"IFERROR($E191*SUMIF('Daily Log'!$CE$18:$CE$1017,$B191,'Daily Log'!$CF$18:$CF$1017),0)","v":449},{"$f":"IFERROR($E191*SUMIF('Daily Log'!$CH$18:$CH$1017,$B191,'Daily Log'!$CI$18:$CI$1017),0)","v":0},{"$f":"IFERROR($E191*SUMIF('Daily Log'!$CK$18:$CK$1017,$B191,'Daily Log'!$CL$18:$CL$1017),0)","v":0},{"$f":"IFERROR($E191*SUMIF('Daily Log'!$CN$18:$CN$1017,$B191,'Daily Log'!$CO$18:$CO$1017),0)","v":0}]
[null,"HF08 92016:HNY LMN(H)",null,"SIDE ORDER-WESTERN CRUISE",1,3269,{"$f":"IFERROR($E192*SUMIF('Daily Log'!$B$18:$B$1017,$B192,'Daily Log'!$C$18:$C$1017),0)","v":0},{"$f":"IFERROR($E192*SUMIF('Daily Log'!$E$18:$E$1017,$B192,'Daily Log'!$F$18:$F$1017),0)","v":0},{"$f":"IFERROR($E192*SUMIF('Daily Log'!$H$18:$H$1017,$B192,'Daily Log'!$I$18:$I$1017),0)","v":0},{"$f":"IFERROR($E192*SUMIF('Daily Log'!$K$18:$K$1017,$B192,'Daily Log'!$L$18:$L$1017),0)","v":0},{"$f":"IFERROR($E192*SUMIF('Daily Log'!$N$18:$N$1017,$B192,'Daily Log'!$O$18:$O$1017),0)","v":0},{"$f":"IFERROR($E192*SUMIF('Daily Log'!$Q$18:$Q$1017,$B192,'Daily Log'!$R$18:$R$1017),0)","v":0},{"$f":"IFERROR($E192*SUMIF('Daily Log'!$T$18:$T$1017,$B192,'Daily Log'!$U$18:$U$1017),0)","v":0},{"$f":"IFERROR($E192*SUMIF('Daily Log'!$W$18:$W$1017,$B192,'Daily Log'!$X$18:$X$1017),0)","v":0},{"$f":"IFERROR($E192*SUMIF('Daily Log'!$Z$18:$Z$1017,$B192,'Daily Log'!$AA$18:$AA$1017),0)","v":0},{"$f":"IFERROR($E192*SUMIF('Daily Log'!$AC$18:$AC$1017,$B192,'Daily Log'!$AD$18:$AD$1017),0)","v":0},{"$f":"IFERROR($E192*SUMIF('Daily Log'!$AF$18:$AF$1017,$B192,'Daily Log'!$AG$18:$AG$1017),0)","v":0},{"$f":"IFERROR($E192*SUMIF('Daily Log'!$AI$18:$AI$1017,$B192,'Daily Log'!$AJ$18:$AJ$1017),0)","v":0},{"$f":"IFERROR($E192*SUMIF('Daily Log'!$AL$18:$AL$1017,$B192,'Daily Log'!$AM$18:$AM$1017),0)","v":0},{"$f":"IFERROR($E192*SUMIF('Daily Log'!$AO$18:$AO$1017,$B192,'Daily Log'!$AP$18:$AP$1017),0)","v":0},{"$f":"IFERROR($E192*SUMIF('Daily Log'!$AR$18:$AR$1017,$B192,'Daily Log'!$AS$18:$AS$1017),0)","v":0},{"$f":"IFERROR($E192*SUMIF('Daily Log'!$AU$18:$AU$1017,$B192,'Daily Log'!$AV$18:$AV$1017),0)","v":0},{"$f":"IFERROR($E192*SUMIF('Daily Log'!$AX$18:$AX$1017,$B192,'Daily Log'!$AY$18:$AY$1017),0)","v":0},{"$f":"IFERROR($E192*SUMIF('Daily Log'!$BA$18:$BA$1017,$B192,'Daily Log'!$BB$18:$BB$1017),0)","v":0},{"$f":"IFERROR($E192*SUMIF('Daily Log'!$BD$18:$BD$1017,$B192,'Daily Log'!$BE$18:$BE$1017),0)","v":0},{"$f":"IFERROR($E192*SUMIF('Daily Log'!$BG$18:$BG$1017,$B192,'Daily Log'!$BH$18:$BH$1017),0)","v":0},{"$f":"IFERROR($E192*SUMIF('Daily Log'!$BJ$18:$BJ$1017,$B192,'Daily Log'!$BK$18:$BK$1017),0)","v":0},{"$f":"IFERROR($E192*SUMIF('Daily Log'!$BM$18:$BM$1017,$B192,'Daily Log'!$BN$18:$BN$1017),0)","v":0},{"$f":"IFERROR($E192*SUMIF('Daily Log'!$BP$18:$BP$1017,$B192,'Daily Log'!$BQ$18:$BQ$1017),0)","v":0},{"$f":"IFERROR($E192*SUMIF('Daily Log'!$BS$18:$BS$1017,$B192,'Daily Log'!$BT$18:$BT$1017),0)","v":0},{"$f":"IFERROR($E192*SUMIF('Daily Log'!$BV$18:$BV$1017,$B192,'Daily Log'!$BW$18:$BW$1017),0)","v":0},{"$f":"IFERROR($E192*SUMIF('Daily Log'!$BY$18:$BY$1017,$B192,'Daily Log'!$BZ$18:$BZ$1017),0)","v":0},{"$f":"IFERROR($E192*SUMIF('Daily Log'!$CB$18:$CB$1017,$B192,'Daily Log'!$CC$18:$CC$1017),0)","v":0},{"$f":"IFERROR($E192*SUMIF('Daily Log'!$CE$18:$CE$1017,$B192,'Daily Log'!$CF$18:$CF$1017),0)","v":3269},{"$f":"IFERROR($E192*SUMIF('Daily Log'!$CH$18:$CH$1017,$B192,'Daily Log'!$CI$18:$CI$1017),0)","v":0},{"$f":"IFERROR($E192*SUMIF('Daily Log'!$CK$18:$CK$1017,$B192,'Daily Log'!$CL$18:$CL$1017),0)","v":0},{"$f":"IFERROR($E192*SUMIF('Daily Log'!$CN$18:$CN$1017,$B192,'Daily Log'!$CO$18:$CO$1017),0)","v":0}]
[null,"HF09 92017:CHAMOMILE",null,"SIDE ORDER-WESTERN CRUISE",1,49,{"$f":"IFERROR($E193*SUMIF('Daily Log'!$B$18:$B$1017,$B193,'Daily Log'!$C$18:$C$1017),0)","v":0},{"$f":"IFERROR($E193*SUMIF('Daily Log'!$E$18:$E$1017,$B193,'Daily Log'!$F$18:$F$1017),0)","v":0},{"$f":"IFERROR($E193*SUMIF('Daily Log'!$H$18:$H$1017,$B193,'Daily Log'!$I$18:$I$1017),0)","v":0},{"$f":"IFERROR($E193*SUMIF('Daily Log'!$K$18:$K$1017,$B193,'Daily Log'!$L$18:$L$1017),0)","v":0},{"$f":"IFERROR($E193*SUMIF('Daily Log'!$N$18:$N$1017,$B193,'Daily Log'!$O$18:$O$1017),0)","v":0},{"$f":"IFERROR($E193*SUMIF('Daily Log'!$Q$18:$Q$1017,$B193,'Daily Log'!$R$18:$R$1017),0)","v":0},{"$f":"IFERROR($E193*SUMIF('Daily Log'!$T$18:$T$1017,$B193,'Daily Log'!$U$18:$U$1017),0)","v":0},{"$f":"IFERROR($E193*SUMIF('Daily Log'!$W$18:$W$1017,$B193,'Daily Log'!$X$18:$X$1017),0)","v":0},{"$f":"IFERROR($E193*SUMIF('Daily Log'!$Z$18:$Z$1017,$B193,'Daily Log'!$AA$18:$AA$1017),0)","v":0},{"$f":"IFERROR($E193*SUMIF('Daily Log'!$AC$18:$AC$1017,$B193,'Daily Log'!$AD$18:$AD$1017),0)","v":0},{"$f":"IFERROR($E193*SUMIF('Daily Log'!$AF$18:$AF$1017,$B193,'Daily Log'!$AG$18:$AG$1017),0)","v":0},{"$f":"IFERROR($E193*SUMIF('Daily Log'!$AI$18:$AI$1017,$B193,'Daily Log'!$AJ$18:$AJ$1017),0)","v":0},{"$f":"IFERROR($E193*SUMIF('Daily Log'!$AL$18:$AL$1017,$B193,'Daily Log'!$AM$18:$AM$1017),0)","v":0},{"$f":"IFERROR($E193*SUMIF('Daily Log'!$AO$18:$AO$1017,$B193,'Daily Log'!$AP$18:$AP$1017),0)","v":0},{"$f":"IFERROR($E193*SUMIF('Daily Log'!$AR$18:$AR$1017,$B193,'Daily Log'!$AS$18:$AS$1017),0)","v":0},{"$f":"IFERROR($E193*SUMIF('Daily Log'!$AU$18:$AU$1017,$B193,'Daily Log'!$AV$18:$AV$1017),0)","v":0},{"$f":"IFERROR($E193*SUMIF('Daily Log'!$AX$18:$AX$1017,$B193,'Daily Log'!$AY$18:$AY$1017),0)","v":0},{"$f":"IFERROR($E193*SUMIF('Daily Log'!$BA$18:$BA$1017,$B193,'Daily Log'!$BB$18:$BB$1017),0)","v":0},{"$f":"IFERROR($E193*SUMIF('Daily Log'!$BD$18:$BD$1017,$B193,'Daily Log'!$BE$18:$BE$1017),0)","v":0},{"$f":"IFERROR($E193*SUMIF('Daily Log'!$BG$18:$BG$1017,$B193,'Daily Log'!$BH$18:$BH$1017),0)","v":0},{"$f":"IFERROR($E193*SUMIF('Daily Log'!$BJ$18:$BJ$1017,$B193,'Daily Log'!$BK$18:$BK$1017),0)","v":0},{"$f":"IFERROR($E193*SUMIF('Daily Log'!$BM$18:$BM$1017,$B193,'Daily Log'!$BN$18:$BN$1017),0)","v":0},{"$f":"IFERROR($E193*SUMIF('Daily Log'!$BP$18:$BP$1017,$B193,'Daily Log'!$BQ$18:$BQ$1017),0)","v":0},{"$f":"IFERROR($E193*SUMIF('Daily Log'!$BS$18:$BS$1017,$B193,'Daily Log'!$BT$18:$BT$1017),0)","v":0},{"$f":"IFERROR($E193*SUMIF('Daily Log'!$BV$18:$BV$1017,$B193,'Daily Log'!$BW$18:$BW$1017),0)","v":0},{"$f":"IFERROR($E193*SUMIF('Daily Log'!$BY$18:$BY$1017,$B193,'Daily Log'!$BZ$18:$BZ$1017),0)","v":0},{"$f":"IFERROR($E193*SUMIF('Daily Log'!$CB$18:$CB$1017,$B193,'Daily Log'!$CC$18:$CC$1017),0)","v":0},{"$f":"IFERROR($E193*SUMIF('Daily Log'!$CE$18:$CE$1017,$B193,'Daily Log'!$CF$18:$CF$1017),0)","v":49},{"$f":"IFERROR($E193*SUMIF('Daily Log'!$CH$18:$CH$1017,$B193,'Daily Log'!$CI$18:$CI$1017),0)","v":0},{"$f":"IFERROR($E193*SUMIF('Daily Log'!$CK$18:$CK$1017,$B193,'Daily Log'!$CL$18:$CL$1017),0)","v":0},{"$f":"IFERROR($E193*SUMIF('Daily Log'!$CN$18:$CN$1017,$B193,'Daily Log'!$CO$18:$CO$1017),0)","v":0}]
[null,"DB05 1005:FISH&CHIP",null,"SIDE ORDER-WESTERN CRUISE",1,0,{"$f":"IFERROR($E194*SUMIF('Daily Log'!$B$18:$B$1017,$B194,'Daily Log'!$C$18:$C$1017),0)","v":0},{"$f":"IFERROR($E194*SUMIF('Daily Log'!$E$18:$E$1017,$B194,'Daily Log'!$F$18:$F$1017),0)","v":0},{"$f":"IFERROR($E194*SUMIF('Daily Log'!$H$18:$H$1017,$B194,'Daily Log'!$I$18:$I$1017),0)","v":0},{"$f":"IFERROR($E194*SUMIF('Daily Log'!$K$18:$K$1017,$B194,'Daily Log'!$L$18:$L$1017),0)","v":0},{"$f":"IFERROR($E194*SUMIF('Daily Log'!$N$18:$N$1017,$B194,'Daily Log'!$O$18:$O$1017),0)","v":0},{"$f":"IFERROR($E194*SUMIF('Daily Log'!$Q$18:$Q$1017,$B194,'Daily Log'!$R$18:$R$1017),0)","v":0},{"$f":"IFERROR($E194*SUMIF('Daily Log'!$T$18:$T$1017,$B194,'Daily Log'!$U$18:$U$1017),0)","v":0},{"$f":"IFERROR($E194*SUMIF('Daily Log'!$W$18:$W$1017,$B194,'Daily Log'!$X$18:$X$1017),0)","v":0},{"$f":"IFERROR($E194*SUMIF('Daily Log'!$Z$18:$Z$1017,$B194,'Daily Log'!$AA$18:$AA$1017),0)","v":0},{"$f":"IFERROR($E194*SUMIF('Daily Log'!$AC$18:$AC$1017,$B194,'Daily Log'!$AD$18:$AD$1017),0)","v":0},{"$f":"IFERROR($E194*SUMIF('Daily Log'!$AF$18:$AF$1017,$B194,'Daily Log'!$AG$18:$AG$1017),0)","v":0},{"$f":"IFERROR($E194*SUMIF('Daily Log'!$AI$18:$AI$1017,$B194,'Daily Log'!$AJ$18:$AJ$1017),0)","v":0},{"$f":"IFERROR($E194*SUMIF('Daily Log'!$AL$18:$AL$1017,$B194,'Daily Log'!$AM$18:$AM$1017),0)","v":0},{"$f":"IFERROR($E194*SUMIF('Daily Log'!$AO$18:$AO$1017,$B194,'Daily Log'!$AP$18:$AP$1017),0)","v":0},{"$f":"IFERROR($E194*SUMIF('Daily Log'!$AR$18:$AR$1017,$B194,'Daily Log'!$AS$18:$AS$1017),0)","v":0},{"$f":"IFERROR($E194*SUMIF('Daily Log'!$AU$18:$AU$1017,$B194,'Daily Log'!$AV$18:$AV$1017),0)","v":0},{"$f":"IFERROR($E194*SUMIF('Daily Log'!$AX$18:$AX$1017,$B194,'Daily Log'!$AY$18:$AY$1017),0)","v":0},{"$f":"IFERROR($E194*SUMIF('Daily Log'!$BA$18:$BA$1017,$B194,'Daily Log'!$BB$18:$BB$1017),0)","v":0},{"$f":"IFERROR($E194*SUMIF('Daily Log'!$BD$18:$BD$1017,$B194,'Daily Log'!$BE$18:$BE$1017),0)","v":0},{"$f":"IFERROR($E194*SUMIF('Daily Log'!$BG$18:$BG$1017,$B194,'Daily Log'!$BH$18:$BH$1017),0)","v":0},{"$f":"IFERROR($E194*SUMIF('Daily Log'!$BJ$18:$BJ$1017,$B194,'Daily Log'!$BK$18:$BK$1017),0)","v":0},{"$f":"IFERROR($E194*SUMIF('Daily Log'!$BM$18:$BM$1017,$B194,'Daily Log'!$BN$18:$BN$1017),0)","v":0},{"$f":"IFERROR($E194*SUMIF('Daily Log'!$BP$18:$BP$1017,$B194,'Daily Log'!$BQ$18:$BQ$1017),0)","v":0},{"$f":"IFERROR($E194*SUMIF('Daily Log'!$BS$18:$BS$1017,$B194,'Daily Log'!$BT$18:$BT$1017),0)","v":0},{"$f":"IFERROR($E194*SUMIF('Daily Log'!$BV$18:$BV$1017,$B194,'Daily Log'!$BW$18:$BW$1017),0)","v":0},{"$f":"IFERROR($E194*SUMIF('Daily Log'!$BY$18:$BY$1017,$B194,'Daily Log'!$BZ$18:$BZ$1017),0)","v":0},{"$f":"IFERROR($E194*SUMIF('Daily Log'!$CB$18:$CB$1017,$B194,'Daily Log'!$CC$18:$CC$1017),0)","v":0},{"$f":"IFERROR($E194*SUMIF('Daily Log'!$CE$18:$CE$1017,$B194,'Daily Log'!$CF$18:$CF$1017),0)","v":0},{"$f":"IFERROR($E194*SUMIF('Daily Log'!$CH$18:$CH$1017,$B194,'Daily Log'!$CI$18:$CI$1017),0)","v":0},{"$f":"IFERROR($E194*SUMIF('Daily Log'!$CK$18:$CK$1017,$B194,'Daily Log'!$CL$18:$CL$1017),0)","v":0},{"$f":"IFERROR($E194*SUMIF('Daily Log'!$CN$18:$CN$1017,$B194,'Daily Log'!$CO$18:$CO$1017),0)","v":0}]
[null,"DB06 1006:SPAGHETTI",null,"SIDE ORDER-WESTERN CRUISE",1,0,{"$f":"IFERROR($E195*SUMIF('Daily Log'!$B$18:$B$1017,$B195,'Daily Log'!$C$18:$C$1017),0)","v":0},{"$f":"IFERROR($E195*SUMIF('Daily Log'!$E$18:$E$1017,$B195,'Daily Log'!$F$18:$F$1017),0)","v":0},{"$f":"IFERROR($E195*SUMIF('Daily Log'!$H$18:$H$1017,$B195,'Daily Log'!$I$18:$I$1017),0)","v":0},{"$f":"IFERROR($E195*SUMIF('Daily Log'!$K$18:$K$1017,$B195,'Daily Log'!$L$18:$L$1017),0)","v":0},{"$f":"IFERROR($E195*SUMIF('Daily Log'!$N$18:$N$1017,$B195,'Daily Log'!$O$18:$O$1017),0)","v":0},{"$f":"IFERROR($E195*SUMIF('Daily Log'!$Q$18:$Q$1017,$B195,'Daily Log'!$R$18:$R$1017),0)","v":0},{"$f":"IFERROR($E195*SUMIF('Daily Log'!$T$18:$T$1017,$B195,'Daily Log'!$U$18:$U$1017),0)","v":0},{"$f":"IFERROR($E195*SUMIF('Daily Log'!$W$18:$W$1017,$B195,'Daily Log'!$X$18:$X$1017),0)","v":0},{"$f":"IFERROR($E195*SUMIF('Daily Log'!$Z$18:$Z$1017,$B195,'Daily Log'!$AA$18:$AA$1017),0)","v":0},{"$f":"IFERROR($E195*SUMIF('Daily Log'!$AC$18:$AC$1017,$B195,'Daily Log'!$AD$18:$AD$1017),0)","v":0},{"$f":"IFERROR($E195*SUMIF('Daily Log'!$AF$18:$AF$1017,$B195,'Daily Log'!$AG$18:$AG$1017),0)","v":0},{"$f":"IFERROR($E195*SUMIF('Daily Log'!$AI$18:$AI$1017,$B195,'Daily Log'!$AJ$18:$AJ$1017),0)","v":0},{"$f":"IFERROR($E195*SUMIF('Daily Log'!$AL$18:$AL$1017,$B195,'Daily Log'!$AM$18:$AM$1017),0)","v":0},{"$f":"IFERROR($E195*SUMIF('Daily Log'!$AO$18:$AO$1017,$B195,'Daily Log'!$AP$18:$AP$1017),0)","v":0},{"$f":"IFERROR($E195*SUMIF('Daily Log'!$AR$18:$AR$1017,$B195,'Daily Log'!$AS$18:$AS$1017),0)","v":0},{"$f":"IFERROR($E195*SUMIF('Daily Log'!$AU$18:$AU$1017,$B195,'Daily Log'!$AV$18:$AV$1017),0)","v":0},{"$f":"IFERROR($E195*SUMIF('Daily Log'!$AX$18:$AX$1017,$B195,'Daily Log'!$AY$18:$AY$1017),0)","v":0},{"$f":"IFERROR($E195*SUMIF('Daily Log'!$BA$18:$BA$1017,$B195,'Daily Log'!$BB$18:$BB$1017),0)","v":0},{"$f":"IFERROR($E195*SUMIF('Daily Log'!$BD$18:$BD$1017,$B195,'Daily Log'!$BE$18:$BE$1017),0)","v":0},{"$f":"IFERROR($E195*SUMIF('Daily Log'!$BG$18:$BG$1017,$B195,'Daily Log'!$BH$18:$BH$1017),0)","v":0},{"$f":"IFERROR($E195*SUMIF('Daily Log'!$BJ$18:$BJ$1017,$B195,'Daily Log'!$BK$18:$BK$1017),0)","v":0},{"$f":"IFERROR($E195*SUMIF('Daily Log'!$BM$18:$BM$1017,$B195,'Daily Log'!$BN$18:$BN$1017),0)","v":0},{"$f":"IFERROR($E195*SUMIF('Daily Log'!$BP$18:$BP$1017,$B195,'Daily Log'!$BQ$18:$BQ$1017),0)","v":0},{"$f":"IFERROR($E195*SUMIF('Daily Log'!$BS$18:$BS$1017,$B195,'Daily Log'!$BT$18:$BT$1017),0)","v":0},{"$f":"IFERROR($E195*SUMIF('Daily Log'!$BV$18:$BV$1017,$B195,'Daily Log'!$BW$18:$BW$1017),0)","v":0},{"$f":"IFERROR($E195*SUMIF('Daily Log'!$BY$18:$BY$1017,$B195,'Daily Log'!$BZ$18:$BZ$1017),0)","v":0},{"$f":"IFERROR($E195*SUMIF('Daily Log'!$CB$18:$CB$1017,$B195,'Daily Log'!$CC$18:$CC$1017),0)","v":0},{"$f":"IFERROR($E195*SUMIF('Daily Log'!$CE$18:$CE$1017,$B195,'Daily Log'!$CF$18:$CF$1017),0)","v":0},{"$f":"IFERROR($E195*SUMIF('Daily Log'!$CH$18:$CH$1017,$B195,'Daily Log'!$CI$18:$CI$1017),0)","v":0},{"$f":"IFERROR($E195*SUMIF('Daily Log'!$CK$18:$CK$1017,$B195,'Daily Log'!$CL$18:$CL$1017),0)","v":0},{"$f":"IFERROR($E195*SUMIF('Daily Log'!$CN$18:$CN$1017,$B195,'Daily Log'!$CO$18:$CO$1017),0)","v":0}]
[null,"DB07 1007:CHK SALAD",null,"SIDE ORDER-WESTERN CRUISE",1,0,{"$f":"IFERROR($E196*SUMIF('Daily Log'!$B$18:$B$1017,$B196,'Daily Log'!$C$18:$C$1017),0)","v":0},{"$f":"IFERROR($E196*SUMIF('Daily Log'!$E$18:$E$1017,$B196,'Daily Log'!$F$18:$F$1017),0)","v":0},{"$f":"IFERROR($E196*SUMIF('Daily Log'!$H$18:$H$1017,$B196,'Daily Log'!$I$18:$I$1017),0)","v":0},{"$f":"IFERROR($E196*SUMIF('Daily Log'!$K$18:$K$1017,$B196,'Daily Log'!$L$18:$L$1017),0)","v":0},{"$f":"IFERROR($E196*SUMIF('Daily Log'!$N$18:$N$1017,$B196,'Daily Log'!$O$18:$O$1017),0)","v":0},{"$f":"IFERROR($E196*SUMIF('Daily Log'!$Q$18:$Q$1017,$B196,'Daily Log'!$R$18:$R$1017),0)","v":0},{"$f":"IFERROR($E196*SUMIF('Daily Log'!$T$18:$T$1017,$B196,'Daily Log'!$U$18:$U$1017),0)","v":0},{"$f":"IFERROR($E196*SUMIF('Daily Log'!$W$18:$W$1017,$B196,'Daily Log'!$X$18:$X$1017),0)","v":0},{"$f":"IFERROR($E196*SUMIF('Daily Log'!$Z$18:$Z$1017,$B196,'Daily Log'!$AA$18:$AA$1017),0)","v":0},{"$f":"IFERROR($E196*SUMIF('Daily Log'!$AC$18:$AC$1017,$B196,'Daily Log'!$AD$18:$AD$1017),0)","v":0},{"$f":"IFERROR($E196*SUMIF('Daily Log'!$AF$18:$AF$1017,$B196,'Daily Log'!$AG$18:$AG$1017),0)","v":0},{"$f":"IFERROR($E196*SUMIF('Daily Log'!$AI$18:$AI$1017,$B196,'Daily Log'!$AJ$18:$AJ$1017),0)","v":0},{"$f":"IFERROR($E196*SUMIF('Daily Log'!$AL$18:$AL$1017,$B196,'Daily Log'!$AM$18:$AM$1017),0)","v":0},{"$f":"IFERROR($E196*SUMIF('Daily Log'!$AO$18:$AO$1017,$B196,'Daily Log'!$AP$18:$AP$1017),0)","v":0},{"$f":"IFERROR($E196*SUMIF('Daily Log'!$AR$18:$AR$1017,$B196,'Daily Log'!$AS$18:$AS$1017),0)","v":0},{"$f":"IFERROR($E196*SUMIF('Daily Log'!$AU$18:$AU$1017,$B196,'Daily Log'!$AV$18:$AV$1017),0)","v":0},{"$f":"IFERROR($E196*SUMIF('Daily Log'!$AX$18:$AX$1017,$B196,'Daily Log'!$AY$18:$AY$1017),0)","v":0},{"$f":"IFERROR($E196*SUMIF('Daily Log'!$BA$18:$BA$1017,$B196,'Daily Log'!$BB$18:$BB$1017),0)","v":0},{"$f":"IFERROR($E196*SUMIF('Daily Log'!$BD$18:$BD$1017,$B196,'Daily Log'!$BE$18:$BE$1017),0)","v":0},{"$f":"IFERROR($E196*SUMIF('Daily Log'!$BG$18:$BG$1017,$B196,'Daily Log'!$BH$18:$BH$1017),0)","v":0},{"$f":"IFERROR($E196*SUMIF('Daily Log'!$BJ$18:$BJ$1017,$B196,'Daily Log'!$BK$18:$BK$1017),0)","v":0},{"$f":"IFERROR($E196*SUMIF('Daily Log'!$BM$18:$BM$1017,$B196,'Daily Log'!$BN$18:$BN$1017),0)","v":0},{"$f":"IFERROR($E196*SUMIF('Daily Log'!$BP$18:$BP$1017,$B196,'Daily Log'!$BQ$18:$BQ$1017),0)","v":0},{"$f":"IFERROR($E196*SUMIF('Daily Log'!$BS$18:$BS$1017,$B196,'Daily Log'!$BT$18:$BT$1017),0)","v":0},{"$f":"IFERROR($E196*SUMIF('Daily Log'!$BV$18:$BV$1017,$B196,'Daily Log'!$BW$18:$BW$1017),0)","v":0},{"$f":"IFERROR($E196*SUMIF('Daily Log'!$BY$18:$BY$1017,$B196,'Daily Log'!$BZ$18:$BZ$1017),0)","v":0},{"$f":"IFERROR($E196*SUMIF('Daily Log'!$CB$18:$CB$1017,$B196,'Daily Log'!$CC$18:$CC$1017),0)","v":0},{"$f":"IFERROR($E196*SUMIF('Daily Log'!$CE$18:$CE$1017,$B196,'Daily Log'!$CF$18:$CF$1017),0)","v":0},{"$f":"IFERROR($E196*SUMIF('Daily Log'!$CH$18:$CH$1017,$B196,'Daily Log'!$CI$18:$CI$1017),0)","v":0},{"$f":"IFERROR($E196*SUMIF('Daily Log'!$CK$18:$CK$1017,$B196,'Daily Log'!$CL$18:$CL$1017),0)","v":0},{"$f":"IFERROR($E196*SUMIF('Daily Log'!$CN$18:$CN$1017,$B196,'Daily Log'!$CO$18:$CO$1017),0)","v":0}]
[null,"DC01 1101:THAI CHK",null,"SIDE ORDER-LOCAL DELIGHTS",1,0,{"$f":"IFERROR($E197*SUMIF('Daily Log'!$B$18:$B$1017,$B197,'Daily Log'!$C$18:$C$1017),0)","v":0},{"$f":"IFERROR($E197*SUMIF('Daily Log'!$E$18:$E$1017,$B197,'Daily Log'!$F$18:$F$1017),0)","v":0},{"$f":"IFERROR($E197*SUMIF('Daily Log'!$H$18:$H$1017,$B197,'Daily Log'!$I$18:$I$1017),0)","v":0},{"$f":"IFERROR($E197*SUMIF('Daily Log'!$K$18:$K$1017,$B197,'Daily Log'!$L$18:$L$1017),0)","v":0},{"$f":"IFERROR($E197*SUMIF('Daily Log'!$N$18:$N$1017,$B197,'Daily Log'!$O$18:$O$1017),0)","v":0},{"$f":"IFERROR($E197*SUMIF('Daily Log'!$Q$18:$Q$1017,$B197,'Daily Log'!$R$18:$R$1017),0)","v":0},{"$f":"IFERROR($E197*SUMIF('Daily Log'!$T$18:$T$1017,$B197,'Daily Log'!$U$18:$U$1017),0)","v":0},{"$f":"IFERROR($E197*SUMIF('Daily Log'!$W$18:$W$1017,$B197,'Daily Log'!$X$18:$X$1017),0)","v":0},{"$f":"IFERROR($E197*SUMIF('Daily Log'!$Z$18:$Z$1017,$B197,'Daily Log'!$AA$18:$AA$1017),0)","v":0},{"$f":"IFERROR($E197*SUMIF('Daily Log'!$AC$18:$AC$1017,$B197,'Daily Log'!$AD$18:$AD$1017),0)","v":0},{"$f":"IFERROR($E197*SUMIF('Daily Log'!$AF$18:$AF$1017,$B197,'Daily Log'!$AG$18:$AG$1017),0)","v":0},{"$f":"IFERROR($E197*SUMIF('Daily Log'!$AI$18:$AI$1017,$B197,'Daily Log'!$AJ$18:$AJ$1017),0)","v":0},{"$f":"IFERROR($E197*SUMIF('Daily Log'!$AL$18:$AL$1017,$B197,'Daily Log'!$AM$18:$AM$1017),0)","v":0},{"$f":"IFERROR($E197*SUMIF('Daily Log'!$AO$18:$AO$1017,$B197,'Daily Log'!$AP$18:$AP$1017),0)","v":0},{"$f":"IFERROR($E197*SUMIF('Daily Log'!$AR$18:$AR$1017,$B197,'Daily Log'!$AS$18:$AS$1017),0)","v":0},{"$f":"IFERROR($E197*SUMIF('Daily Log'!$AU$18:$AU$1017,$B197,'Daily Log'!$AV$18:$AV$1017),0)","v":0},{"$f":"IFERROR($E197*SUMIF('Daily Log'!$AX$18:$AX$1017,$B197,'Daily Log'!$AY$18:$AY$1017),0)","v":0},{"$f":"IFERROR($E197*SUMIF('Daily Log'!$BA$18:$BA$1017,$B197,'Daily Log'!$BB$18:$BB$1017),0)","v":0},{"$f":"IFERROR($E197*SUMIF('Daily Log'!$BD$18:$BD$1017,$B197,'Daily Log'!$BE$18:$BE$1017),0)","v":0},{"$f":"IFERROR($E197*SUMIF('Daily Log'!$BG$18:$BG$1017,$B197,'Daily Log'!$BH$18:$BH$1017),0)","v":0},{"$f":"IFERROR($E197*SUMIF('Daily Log'!$BJ$18:$BJ$1017,$B197,'Daily Log'!$BK$18:$BK$1017),0)","v":0},{"$f":"IFERROR($E197*SUMIF('Daily Log'!$BM$18:$BM$1017,$B197,'Daily Log'!$BN$18:$BN$1017),0)","v":0},{"$f":"IFERROR($E197*SUMIF('Daily Log'!$BP$18:$BP$1017,$B197,'Daily Log'!$BQ$18:$BQ$1017),0)","v":0},{"$f":"IFERROR($E197*SUMIF('Daily Log'!$BS$18:$BS$1017,$B197,'Daily Log'!$BT$18:$BT$1017),0)","v":0},{"$f":"IFERROR($E197*SUMIF('Daily Log'!$BV$18:$BV$1017,$B197,'Daily Log'!$BW$18:$BW$1017),0)","v":0},{"$f":"IFERROR($E197*SUMIF('Daily Log'!$BY$18:$BY$1017,$B197,'Daily Log'!$BZ$18:$BZ$1017),0)","v":0},{"$f":"IFERROR($E197*SUMIF('Daily Log'!$CB$18:$CB$1017,$B197,'Daily Log'!$CC$18:$CC$1017),0)","v":0},{"$f":"IFERROR($E197*SUMIF('Daily Log'!$CE$18:$CE$1017,$B197,'Daily Log'!$CF$18:$CF$1017),0)","v":0},{"$f":"IFERROR($E197*SUMIF('Daily Log'!$CH$18:$CH$1017,$B197,'Daily Log'!$CI$18:$CI$1017),0)","v":0},{"$f":"IFERROR($E197*SUMIF('Daily Log'!$CK$18:$CK$1017,$B197,'Daily Log'!$CL$18:$CL$1017),0)","v":0},{"$f":"IFERROR($E197*SUMIF('Daily Log'!$CN$18:$CN$1017,$B197,'Daily Log'!$CO$18:$CO$1017),0)","v":0}]
[null,"DC02 1102:MAMITE CHK",null,"SIDE ORDER-LOCAL DELIGHTS",1,0,{"$f":"IFERROR($E198*SUMIF('Daily Log'!$B$18:$B$1017,$B198,'Daily Log'!$C$18:$C$1017),0)","v":0},{"$f":"IFERROR($E198*SUMIF('Daily Log'!$E$18:$E$1017,$B198,'Daily Log'!$F$18:$F$1017),0)","v":0},{"$f":"IFERROR($E198*SUMIF('Daily Log'!$H$18:$H$1017,$B198,'Daily Log'!$I$18:$I$1017),0)","v":0},{"$f":"IFERROR($E198*SUMIF('Daily Log'!$K$18:$K$1017,$B198,'Daily Log'!$L$18:$L$1017),0)","v":0},{"$f":"IFERROR($E198*SUMIF('Daily Log'!$N$18:$N$1017,$B198,'Daily Log'!$O$18:$O$1017),0)","v":0},{"$f":"IFERROR($E198*SUMIF('Daily Log'!$Q$18:$Q$1017,$B198,'Daily Log'!$R$18:$R$1017),0)","v":0},{"$f":"IFERROR($E198*SUMIF('Daily Log'!$T$18:$T$1017,$B198,'Daily Log'!$U$18:$U$1017),0)","v":0},{"$f":"IFERROR($E198*SUMIF('Daily Log'!$W$18:$W$1017,$B198,'Daily Log'!$X$18:$X$1017),0)","v":0},{"$f":"IFERROR($E198*SUMIF('Daily Log'!$Z$18:$Z$1017,$B198,'Daily Log'!$AA$18:$AA$1017),0)","v":0},{"$f":"IFERROR($E198*SUMIF('Daily Log'!$AC$18:$AC$1017,$B198,'Daily Log'!$AD$18:$AD$1017),0)","v":0},{"$f":"IFERROR($E198*SUMIF('Daily Log'!$AF$18:$AF$1017,$B198,'Daily Log'!$AG$18:$AG$1017),0)","v":0},{"$f":"IFERROR($E198*SUMIF('Daily Log'!$AI$18:$AI$1017,$B198,'Daily Log'!$AJ$18:$AJ$1017),0)","v":0},{"$f":"IFERROR($E198*SUMIF('Daily Log'!$AL$18:$AL$1017,$B198,'Daily Log'!$AM$18:$AM$1017),0)","v":0},{"$f":"IFERROR($E198*SUMIF('Daily Log'!$AO$18:$AO$1017,$B198,'Daily Log'!$AP$18:$AP$1017),0)","v":0},{"$f":"IFERROR($E198*SUMIF('Daily Log'!$AR$18:$AR$1017,$B198,'Daily Log'!$AS$18:$AS$1017),0)","v":0},{"$f":"IFERROR($E198*SUMIF('Daily Log'!$AU$18:$AU$1017,$B198,'Daily Log'!$AV$18:$AV$1017),0)","v":0},{"$f":"IFERROR($E198*SUMIF('Daily Log'!$AX$18:$AX$1017,$B198,'Daily Log'!$AY$18:$AY$1017),0)","v":0},{"$f":"IFERROR($E198*SUMIF('Daily Log'!$BA$18:$BA$1017,$B198,'Daily Log'!$BB$18:$BB$1017),0)","v":0},{"$f":"IFERROR($E198*SUMIF('Daily Log'!$BD$18:$BD$1017,$B198,'Daily Log'!$BE$18:$BE$1017),0)","v":0},{"$f":"IFERROR($E198*SUMIF('Daily Log'!$BG$18:$BG$1017,$B198,'Daily Log'!$BH$18:$BH$1017),0)","v":0},{"$f":"IFERROR($E198*SUMIF('Daily Log'!$BJ$18:$BJ$1017,$B198,'Daily Log'!$BK$18:$BK$1017),0)","v":0},{"$f":"IFERROR($E198*SUMIF('Daily Log'!$BM$18:$BM$1017,$B198,'Daily Log'!$BN$18:$BN$1017),0)","v":0},{"$f":"IFERROR($E198*SUMIF('Daily Log'!$BP$18:$BP$1017,$B198,'Daily Log'!$BQ$18:$BQ$1017),0)","v":0},{"$f":"IFERROR($E198*SUMIF('Daily Log'!$BS$18:$BS$1017,$B198,'Daily Log'!$BT$18:$BT$1017),0)","v":0},{"$f":"IFERROR($E198*SUMIF('Daily Log'!$BV$18:$BV$1017,$B198,'Daily Log'!$BW$18:$BW$1017),0)","v":0},{"$f":"IFERROR($E198*SUMIF('Daily Log'!$BY$18:$BY$1017,$B198,'Daily Log'!$BZ$18:$BZ$1017),0)","v":0},{"$f":"IFERROR($E198*SUMIF('Daily Log'!$CB$18:$CB$1017,$B198,'Daily Log'!$CC$18:$CC$1017),0)","v":0},{"$f":"IFERROR($E198*SUMIF('Daily Log'!$CE$18:$CE$1017,$B198,'Daily Log'!$CF$18:$CF$1017),0)","v":0},{"$f":"IFERROR($E198*SUMIF('Daily Log'!$CH$18:$CH$1017,$B198,'Daily Log'!$CI$18:$CI$1017),0)","v":0},{"$f":"IFERROR($E198*SUMIF('Daily Log'!$CK$18:$CK$1017,$B198,'Daily Log'!$CL$18:$CL$1017),0)","v":0},{"$f":"IFERROR($E198*SUMIF('Daily Log'!$CN$18:$CN$1017,$B198,'Daily Log'!$CO$18:$CO$1017),0)","v":0}]
[null,"DC03 1103:KO PO CHK",null,"SIDE ORDER-LOCAL DELIGHTS",1,0,{"$f":"IFERROR($E199*SUMIF('Daily Log'!$B$18:$B$1017,$B199,'Daily Log'!$C$18:$C$1017),0)","v":0},{"$f":"IFERROR($E199*SUMIF('Daily Log'!$E$18:$E$1017,$B199,'Daily Log'!$F$18:$F$1017),0)","v":0},{"$f":"IFERROR($E199*SUMIF('Daily Log'!$H$18:$H$1017,$B199,'Daily Log'!$I$18:$I$1017),0)","v":0},{"$f":"IFERROR($E199*SUMIF('Daily Log'!$K$18:$K$1017,$B199,'Daily Log'!$L$18:$L$1017),0)","v":0},{"$f":"IFERROR($E199*SUMIF('Daily Log'!$N$18:$N$1017,$B199,'Daily Log'!$O$18:$O$1017),0)","v":0},{"$f":"IFERROR($E199*SUMIF('Daily Log'!$Q$18:$Q$1017,$B199,'Daily Log'!$R$18:$R$1017),0)","v":0},{"$f":"IFERROR($E199*SUMIF('Daily Log'!$T$18:$T$1017,$B199,'Daily Log'!$U$18:$U$1017),0)","v":0},{"$f":"IFERROR($E199*SUMIF('Daily Log'!$W$18:$W$1017,$B199,'Daily Log'!$X$18:$X$1017),0)","v":0},{"$f":"IFERROR($E199*SUMIF('Daily Log'!$Z$18:$Z$1017,$B199,'Daily Log'!$AA$18:$AA$1017),0)","v":0},{"$f":"IFERROR($E199*SUMIF('Daily Log'!$AC$18:$AC$1017,$B199,'Daily Log'!$AD$18:$AD$1017),0)","v":0},{"$f":"IFERROR($E199*SUMIF('Daily Log'!$AF$18:$AF$1017,$B199,'Daily Log'!$AG$18:$AG$1017),0)","v":0},{"$f":"IFERROR($E199*SUMIF('Daily Log'!$AI$18:$AI$1017,$B199,'Daily Log'!$AJ$18:$AJ$1017),0)","v":0},{"$f":"IFERROR($E199*SUMIF('Daily Log'!$AL$18:$AL$1017,$B199,'Daily Log'!$AM$18:$AM$1017),0)","v":0},{"$f":"IFERROR($E199*SUMIF('Daily Log'!$AO$18:$AO$1017,$B199,'Daily Log'!$AP$18:$AP$1017),0)","v":0},{"$f":"IFERROR($E199*SUMIF('Daily Log'!$AR$18:$AR$1017,$B199,'Daily Log'!$AS$18:$AS$1017),0)","v":0},{"$f":"IFERROR($E199*SUMIF('Daily Log'!$AU$18:$AU$1017,$B199,'Daily Log'!$AV$18:$AV$1017),0)","v":0},{"$f":"IFERROR($E199*SUMIF('Daily Log'!$AX$18:$AX$1017,$B199,'Daily Log'!$AY$18:$AY$1017),0)","v":0},{"$f":"IFERROR($E199*SUMIF('Daily Log'!$BA$18:$BA$1017,$B199,'Daily Log'!$BB$18:$BB$1017),0)","v":0},{"$f":"IFERROR($E199*SUMIF('Daily Log'!$BD$18:$BD$1017,$B199,'Daily Log'!$BE$18:$BE$1017),0)","v":0},{"$f":"IFERROR($E199*SUMIF('Daily Log'!$BG$18:$BG$1017,$B199,'Daily Log'!$BH$18:$BH$1017),0)","v":0},{"$f":"IFERROR($E199*SUMIF('Daily Log'!$BJ$18:$BJ$1017,$B199,'Daily Log'!$BK$18:$BK$1017),0)","v":0},{"$f":"IFERROR($E199*SUMIF('Daily Log'!$BM$18:$BM$1017,$B199,'Daily Log'!$BN$18:$BN$1017),0)","v":0},{"$f":"IFERROR($E199*SUMIF('Daily Log'!$BP$18:$BP$1017,$B199,'Daily Log'!$BQ$18:$BQ$1017),0)","v":0},{"$f":"IFERROR($E199*SUMIF('Daily Log'!$BS$18:$BS$1017,$B199,'Daily Log'!$BT$18:$BT$1017),0)","v":0},{"$f":"IFERROR($E199*SUMIF('Daily Log'!$BV$18:$BV$1017,$B199,'Daily Log'!$BW$18:$BW$1017),0)","v":0},{"$f":"IFERROR($E199*SUMIF('Daily Log'!$BY$18:$BY$1017,$B199,'Daily Log'!$BZ$18:$BZ$1017),0)","v":0},{"$f":"IFERROR($E199*SUMIF('Daily Log'!$CB$18:$CB$1017,$B199,'Daily Log'!$CC$18:$CC$1017),0)","v":0},{"$f":"IFERROR($E199*SUMIF('Daily Log'!$CE$18:$CE$1017,$B199,'Daily Log'!$CF$18:$CF$1017),0)","v":0},{"$f":"IFERROR($E199*SUMIF('Daily Log'!$CH$18:$CH$1017,$B199,'Daily Log'!$CI$18:$CI$1017),0)","v":0},{"$f":"IFERROR($E199*SUMIF('Daily Log'!$CK$18:$CK$1017,$B199,'Daily Log'!$CL$18:$CL$1017),0)","v":0},{"$f":"IFERROR($E199*SUMIF('Daily Log'!$CN$18:$CN$1017,$B199,'Daily Log'!$CO$18:$CO$1017),0)","v":0}]
[null,"DC04 1104:S&S CHK",null,"SIDE ORDER-LOCAL DELIGHTS",1,0,{"$f":"IFERROR($E200*SUMIF('Daily Log'!$B$18:$B$1017,$B200,'Daily Log'!$C$18:$C$1017),0)","v":0},{"$f":"IFERROR($E200*SUMIF('Daily Log'!$E$18:$E$1017,$B200,'Daily Log'!$F$18:$F$1017),0)","v":0},{"$f":"IFERROR($E200*SUMIF('Daily Log'!$H$18:$H$1017,$B200,'Daily Log'!$I$18:$I$1017),0)","v":0},{"$f":"IFERROR($E200*SUMIF('Daily Log'!$K$18:$K$1017,$B200,'Daily Log'!$L$18:$L$1017),0)","v":0},{"$f":"IFERROR($E200*SUMIF('Daily Log'!$N$18:$N$1017,$B200,'Daily Log'!$O$18:$O$1017),0)","v":0},{"$f":"IFERROR($E200*SUMIF('Daily Log'!$Q$18:$Q$1017,$B200,'Daily Log'!$R$18:$R$1017),0)","v":0},{"$f":"IFERROR($E200*SUMIF('Daily Log'!$T$18:$T$1017,$B200,'Daily Log'!$U$18:$U$1017),0)","v":0},{"$f":"IFERROR($E200*SUMIF('Daily Log'!$W$18:$W$1017,$B200,'Daily Log'!$X$18:$X$1017),0)","v":0},{"$f":"IFERROR($E200*SUMIF('Daily Log'!$Z$18:$Z$1017,$B200,'Daily Log'!$AA$18:$AA$1017),0)","v":0},{"$f":"IFERROR($E200*SUMIF('Daily Log'!$AC$18:$AC$1017,$B200,'Daily Log'!$AD$18:$AD$1017),0)","v":0},{"$f":"IFERROR($E200*SUMIF('Daily Log'!$AF$18:$AF$1017,$B200,'Daily Log'!$AG$18:$AG$1017),0)","v":0},{"$f":"IFERROR($E200*SUMIF('Daily Log'!$AI$18:$AI$1017,$B200,'Daily Log'!$AJ$18:$AJ$1017),0)","v":0},{"$f":"IFERROR($E200*SUMIF('Daily Log'!$AL$18:$AL$1017,$B200,'Daily Log'!$AM$18:$AM$1017),0)","v":0},{"$f":"IFERROR($E200*SUMIF('Daily Log'!$AO$18:$AO$1017,$B200,'Daily Log'!$AP$18:$AP$1017),0)","v":0},{"$f":"IFERROR($E200*SUMIF('Daily Log'!$AR$18:$AR$1017,$B200,'Daily Log'!$AS$18:$AS$1017),0)","v":0},{"$f":"IFERROR($E200*SUMIF('Daily Log'!$AU$18:$AU$1017,$B200,'Daily Log'!$AV$18:$AV$1017),0)","v":0},{"$f":"IFERROR($E200*SUMIF('Daily Log'!$AX$18:$AX$1017,$B200,'Daily Log'!$AY$18:$AY$1017),0)","v":0},{"$f":"IFERROR($E200*SUMIF('Daily Log'!$BA$18:$BA$1017,$B200,'Daily Log'!$BB$18:$BB$1017),0)","v":0},{"$f":"IFERROR($E200*SUMIF('Daily Log'!$BD$18:$BD$1017,$B200,'Daily Log'!$BE$18:$BE$1017),0)","v":0},{"$f":"IFERROR($E200*SUMIF('Daily Log'!$BG$18:$BG$1017,$B200,'Daily Log'!$BH$18:$BH$1017),0)","v":0},{"$f":"IFERROR($E200*SUMIF('Daily Log'!$BJ$18:$BJ$1017,$B200,'Daily Log'!$BK$18:$BK$1017),0)","v":0},{"$f":"IFERROR($E200*SUMIF('Daily Log'!$BM$18:$BM$1017,$B200,'Daily Log'!$BN$18:$BN$1017),0)","v":0},{"$f":"IFERROR($E200*SUMIF('Daily Log'!$BP$18:$BP$1017,$B200,'Daily Log'!$BQ$18:$BQ$1017),0)","v":0},{"$f":"IFERROR($E200*SUMIF('Daily Log'!$BS$18:$BS$1017,$B200,'Daily Log'!$BT$18:$BT$1017),0)","v":0},{"$f":"IFERROR($E200*SUMIF('Daily Log'!$BV$18:$BV$1017,$B200,'Daily Log'!$BW$18:$BW$1017),0)","v":0},{"$f":"IFERROR($E200*SUMIF('Daily Log'!$BY$18:$BY$1017,$B200,'Daily Log'!$BZ$18:$BZ$1017),0)","v":0},{"$f":"IFERROR($E200*SUMIF('Daily Log'!$CB$18:$CB$1017,$B200,'Daily Log'!$CC$18:$CC$1017),0)","v":0},{"$f":"IFERROR($E200*SUMIF('Daily Log'!$CE$18:$CE$1017,$B200,'Daily Log'!$CF$18:$CF$1017),0)","v":0},{"$f":"IFERROR($E200*SUMIF('Daily Log'!$CH$18:$CH$1017,$B200,'Daily Log'!$CI$18:$CI$1017),0)","v":0},{"$f":"IFERROR($E200*SUMIF('Daily Log'!$CK$18:$CK$1017,$B200,'Daily Log'!$CL$18:$CL$1017),0)","v":0},{"$f":"IFERROR($E200*SUMIF('Daily Log'!$CN$18:$CN$1017,$B200,'Daily Log'!$CO$18:$CO$1017),0)","v":0}]
[null,"DC05 1105:BUTTER CHK",null,"SIDE ORDER-LOCAL DELIGHTS",1,0,{"$f":"IFERROR($E201*SUMIF('Daily Log'!$B$18:$B$1017,$B201,'Daily Log'!$C$18:$C$1017),0)","v":0},{"$f":"IFERROR($E201*SUMIF('Daily Log'!$E$18:$E$1017,$B201,'Daily Log'!$F$18:$F$1017),0)","v":0},{"$f":"IFERROR($E201*SUMIF('Daily Log'!$H$18:$H$1017,$B201,'Daily Log'!$I$18:$I$1017),0)","v":0},{"$f":"IFERROR($E201*SUMIF('Daily Log'!$K$18:$K$1017,$B201,'Daily Log'!$L$18:$L$1017),0)","v":0},{"$f":"IFERROR($E201*SUMIF('Daily Log'!$N$18:$N$1017,$B201,'Daily Log'!$O$18:$O$1017),0)","v":0},{"$f":"IFERROR($E201*SUMIF('Daily Log'!$Q$18:$Q$1017,$B201,'Daily Log'!$R$18:$R$1017),0)","v":0},{"$f":"IFERROR($E201*SUMIF('Daily Log'!$T$18:$T$1017,$B201,'Daily Log'!$U$18:$U$1017),0)","v":0},{"$f":"IFERROR($E201*SUMIF('Daily Log'!$W$18:$W$1017,$B201,'Daily Log'!$X$18:$X$1017),0)","v":0},{"$f":"IFERROR($E201*SUMIF('Daily Log'!$Z$18:$Z$1017,$B201,'Daily Log'!$AA$18:$AA$1017),0)","v":0},{"$f":"IFERROR($E201*SUMIF('Daily Log'!$AC$18:$AC$1017,$B201,'Daily Log'!$AD$18:$AD$1017),0)","v":0},{"$f":"IFERROR($E201*SUMIF('Daily Log'!$AF$18:$AF$1017,$B201,'Daily Log'!$AG$18:$AG$1017),0)","v":0},{"$f":"IFERROR($E201*SUMIF('Daily Log'!$AI$18:$AI$1017,$B201,'Daily Log'!$AJ$18:$AJ$1017),0)","v":0},{"$f":"IFERROR($E201*SUMIF('Daily Log'!$AL$18:$AL$1017,$B201,'Daily Log'!$AM$18:$AM$1017),0)","v":0},{"$f":"IFERROR($E201*SUMIF('Daily Log'!$AO$18:$AO$1017,$B201,'Daily Log'!$AP$18:$AP$1017),0)","v":0},{"$f":"IFERROR($E201*SUMIF('Daily Log'!$AR$18:$AR$1017,$B201,'Daily Log'!$AS$18:$AS$1017),0)","v":0},{"$f":"IFERROR($E201*SUMIF('Daily Log'!$AU$18:$AU$1017,$B201,'Daily Log'!$AV$18:$AV$1017),0)","v":0},{"$f":"IFERROR($E201*SUMIF('Daily Log'!$AX$18:$AX$1017,$B201,'Daily Log'!$AY$18:$AY$1017),0)","v":0},{"$f":"IFERROR($E201*SUMIF('Daily Log'!$BA$18:$BA$1017,$B201,'Daily Log'!$BB$18:$BB$1017),0)","v":0},{"$f":"IFERROR($E201*SUMIF('Daily Log'!$BD$18:$BD$1017,$B201,'Daily Log'!$BE$18:$BE$1017),0)","v":0},{"$f":"IFERROR($E201*SUMIF('Daily Log'!$BG$18:$BG$1017,$B201,'Daily Log'!$BH$18:$BH$1017),0)","v":0},{"$f":"IFERROR($E201*SUMIF('Daily Log'!$BJ$18:$BJ$1017,$B201,'Daily Log'!$BK$18:$BK$1017),0)","v":0},{"$f":"IFERROR($E201*SUMIF('Daily Log'!$BM$18:$BM$1017,$B201,'Daily Log'!$BN$18:$BN$1017),0)","v":0},{"$f":"IFERROR($E201*SUMIF('Daily Log'!$BP$18:$BP$1017,$B201,'Daily Log'!$BQ$18:$BQ$1017),0)","v":0},{"$f":"IFERROR($E201*SUMIF('Daily Log'!$BS$18:$BS$1017,$B201,'Daily Log'!$BT$18:$BT$1017),0)","v":0},{"$f":"IFERROR($E201*SUMIF('Daily Log'!$BV$18:$BV$1017,$B201,'Daily Log'!$BW$18:$BW$1017),0)","v":0},{"$f":"IFERROR($E201*SUMIF('Daily Log'!$BY$18:$BY$1017,$B201,'Daily Log'!$BZ$18:$BZ$1017),0)","v":0},{"$f":"IFERROR($E201*SUMIF('Daily Log'!$CB$18:$CB$1017,$B201,'Daily Log'!$CC$18:$CC$1017),0)","v":0},{"$f":"IFERROR($E201*SUMIF('Daily Log'!$CE$18:$CE$1017,$B201,'Daily Log'!$CF$18:$CF$1017),0)","v":0},{"$f":"IFERROR($E201*SUMIF('Daily Log'!$CH$18:$CH$1017,$B201,'Daily Log'!$CI$18:$CI$1017),0)","v":0},{"$f":"IFERROR($E201*SUMIF('Daily Log'!$CK$18:$CK$1017,$B201,'Daily Log'!$CL$18:$CL$1017),0)","v":0},{"$f":"IFERROR($E201*SUMIF('Daily Log'!$CN$18:$CN$1017,$B201,'Daily Log'!$CO$18:$CO$1017),0)","v":0}]
[null,"DC06 1106:HK F.RICE",null,"SIDE ORDER-LOCAL DELIGHTS",1,0,{"$f":"IFERROR($E202*SUMIF('Daily Log'!$B$18:$B$1017,$B202,'Daily Log'!$C$18:$C$1017),0)","v":0},{"$f":"IFERROR($E202*SUMIF('Daily Log'!$E$18:$E$1017,$B202,'Daily Log'!$F$18:$F$1017),0)","v":0},{"$f":"IFERROR($E202*SUMIF('Daily Log'!$H$18:$H$1017,$B202,'Daily Log'!$I$18:$I$1017),0)","v":0},{"$f":"IFERROR($E202*SUMIF('Daily Log'!$K$18:$K$1017,$B202,'Daily Log'!$L$18:$L$1017),0)","v":0},{"$f":"IFERROR($E202*SUMIF('Daily Log'!$N$18:$N$1017,$B202,'Daily Log'!$O$18:$O$1017),0)","v":0},{"$f":"IFERROR($E202*SUMIF('Daily Log'!$Q$18:$Q$1017,$B202,'Daily Log'!$R$18:$R$1017),0)","v":0},{"$f":"IFERROR($E202*SUMIF('Daily Log'!$T$18:$T$1017,$B202,'Daily Log'!$U$18:$U$1017),0)","v":0},{"$f":"IFERROR($E202*SUMIF('Daily Log'!$W$18:$W$1017,$B202,'Daily Log'!$X$18:$X$1017),0)","v":0},{"$f":"IFERROR($E202*SUMIF('Daily Log'!$Z$18:$Z$1017,$B202,'Daily Log'!$AA$18:$AA$1017),0)","v":0},{"$f":"IFERROR($E202*SUMIF('Daily Log'!$AC$18:$AC$1017,$B202,'Daily Log'!$AD$18:$AD$1017),0)","v":0},{"$f":"IFERROR($E202*SUMIF('Daily Log'!$AF$18:$AF$1017,$B202,'Daily Log'!$AG$18:$AG$1017),0)","v":0},{"$f":"IFERROR($E202*SUMIF('Daily Log'!$AI$18:$AI$1017,$B202,'Daily Log'!$AJ$18:$AJ$1017),0)","v":0},{"$f":"IFERROR($E202*SUMIF('Daily Log'!$AL$18:$AL$1017,$B202,'Daily Log'!$AM$18:$AM$1017),0)","v":0},{"$f":"IFERROR($E202*SUMIF('Daily Log'!$AO$18:$AO$1017,$B202,'Daily Log'!$AP$18:$AP$1017),0)","v":0},{"$f":"IFERROR($E202*SUMIF('Daily Log'!$AR$18:$AR$1017,$B202,'Daily Log'!$AS$18:$AS$1017),0)","v":0},{"$f":"IFERROR($E202*SUMIF('Daily Log'!$AU$18:$AU$1017,$B202,'Daily Log'!$AV$18:$AV$1017),0)","v":0},{"$f":"IFERROR($E202*SUMIF('Daily Log'!$AX$18:$AX$1017,$B202,'Daily Log'!$AY$18:$AY$1017),0)","v":0},{"$f":"IFERROR($E202*SUMIF('Daily Log'!$BA$18:$BA$1017,$B202,'Daily Log'!$BB$18:$BB$1017),0)","v":0},{"$f":"IFERROR($E202*SUMIF('Daily Log'!$BD$18:$BD$1017,$B202,'Daily Log'!$BE$18:$BE$1017),0)","v":0},{"$f":"IFERROR($E202*SUMIF('Daily Log'!$BG$18:$BG$1017,$B202,'Daily Log'!$BH$18:$BH$1017),0)","v":0},{"$f":"IFERROR($E202*SUMIF('Daily Log'!$BJ$18:$BJ$1017,$B202,'Daily Log'!$BK$18:$BK$1017),0)","v":0},{"$f":"IFERROR($E202*SUMIF('Daily Log'!$BM$18:$BM$1017,$B202,'Daily Log'!$BN$18:$BN$1017),0)","v":0},{"$f":"IFERROR($E202*SUMIF('Daily Log'!$BP$18:$BP$1017,$B202,'Daily Log'!$BQ$18:$BQ$1017),0)","v":0},{"$f":"IFERROR($E202*SUMIF('Daily Log'!$BS$18:$BS$1017,$B202,'Daily Log'!$BT$18:$BT$1017),0)","v":0},{"$f":"IFERROR($E202*SUMIF('Daily Log'!$BV$18:$BV$1017,$B202,'Daily Log'!$BW$18:$BW$1017),0)","v":0},{"$f":"IFERROR($E202*SUMIF('Daily Log'!$BY$18:$BY$1017,$B202,'Daily Log'!$BZ$18:$BZ$1017),0)","v":0},{"$f":"IFERROR($E202*SUMIF('Daily Log'!$CB$18:$CB$1017,$B202,'Daily Log'!$CC$18:$CC$1017),0)","v":0},{"$f":"IFERROR($E202*SUMIF('Daily Log'!$CE$18:$CE$1017,$B202,'Daily Log'!$CF$18:$CF$1017),0)","v":0},{"$f":"IFERROR($E202*SUMIF('Daily Log'!$CH$18:$CH$1017,$B202,'Daily Log'!$CI$18:$CI$1017),0)","v":0},{"$f":"IFERROR($E202*SUMIF('Daily Log'!$CK$18:$CK$1017,$B202,'Daily Log'!$CL$18:$CL$1017),0)","v":0},{"$f":"IFERROR($E202*SUMIF('Daily Log'!$CN$18:$CN$1017,$B202,'Daily Log'!$CO$18:$CO$1017),0)","v":0}]
[null,"DC07 1107:SBL F.RICE",null,"SIDE ORDER-LOCAL DELIGHTS",1,0,{"$f":"IFERROR($E203*SUMIF('Daily Log'!$B$18:$B$1017,$B203,'Daily Log'!$C$18:$C$1017),0)","v":0},{"$f":"IFERROR($E203*SUMIF('Daily Log'!$E$18:$E$1017,$B203,'Daily Log'!$F$18:$F$1017),0)","v":0},{"$f":"IFERROR($E203*SUMIF('Daily Log'!$H$18:$H$1017,$B203,'Daily Log'!$I$18:$I$1017),0)","v":0},{"$f":"IFERROR($E203*SUMIF('Daily Log'!$K$18:$K$1017,$B203,'Daily Log'!$L$18:$L$1017),0)","v":0},{"$f":"IFERROR($E203*SUMIF('Daily Log'!$N$18:$N$1017,$B203,'Daily Log'!$O$18:$O$1017),0)","v":0},{"$f":"IFERROR($E203*SUMIF('Daily Log'!$Q$18:$Q$1017,$B203,'Daily Log'!$R$18:$R$1017),0)","v":0},{"$f":"IFERROR($E203*SUMIF('Daily Log'!$T$18:$T$1017,$B203,'Daily Log'!$U$18:$U$1017),0)","v":0},{"$f":"IFERROR($E203*SUMIF('Daily Log'!$W$18:$W$1017,$B203,'Daily Log'!$X$18:$X$1017),0)","v":0},{"$f":"IFERROR($E203*SUMIF('Daily Log'!$Z$18:$Z$1017,$B203,'Daily Log'!$AA$18:$AA$1017),0)","v":0},{"$f":"IFERROR($E203*SUMIF('Daily Log'!$AC$18:$AC$1017,$B203,'Daily Log'!$AD$18:$AD$1017),0)","v":0},{"$f":"IFERROR($E203*SUMIF('Daily Log'!$AF$18:$AF$1017,$B203,'Daily Log'!$AG$18:$AG$1017),0)","v":0},{"$f":"IFERROR($E203*SUMIF('Daily Log'!$AI$18:$AI$1017,$B203,'Daily Log'!$AJ$18:$AJ$1017),0)","v":0},{"$f":"IFERROR($E203*SUMIF('Daily Log'!$AL$18:$AL$1017,$B203,'Daily Log'!$AM$18:$AM$1017),0)","v":0},{"$f":"IFERROR($E203*SUMIF('Daily Log'!$AO$18:$AO$1017,$B203,'Daily Log'!$AP$18:$AP$1017),0)","v":0},{"$f":"IFERROR($E203*SUMIF('Daily Log'!$AR$18:$AR$1017,$B203,'Daily Log'!$AS$18:$AS$1017),0)","v":0},{"$f":"IFERROR($E203*SUMIF('Daily Log'!$AU$18:$AU$1017,$B203,'Daily Log'!$AV$18:$AV$1017),0)","v":0},{"$f":"IFERROR($E203*SUMIF('Daily Log'!$AX$18:$AX$1017,$B203,'Daily Log'!$AY$18:$AY$1017),0)","v":0},{"$f":"IFERROR($E203*SUMIF('Daily Log'!$BA$18:$BA$1017,$B203,'Daily Log'!$BB$18:$BB$1017),0)","v":0},{"$f":"IFERROR($E203*SUMIF('Daily Log'!$BD$18:$BD$1017,$B203,'Daily Log'!$BE$18:$BE$1017),0)","v":0},{"$f":"IFERROR($E203*SUMIF('Daily Log'!$BG$18:$BG$1017,$B203,'Daily Log'!$BH$18:$BH$1017),0)","v":0},{"$f":"IFERROR($E203*SUMIF('Daily Log'!$BJ$18:$BJ$1017,$B203,'Daily Log'!$BK$18:$BK$1017),0)","v":0},{"$f":"IFERROR($E203*SUMIF('Daily Log'!$BM$18:$BM$1017,$B203,'Daily Log'!$BN$18:$BN$1017),0)","v":0},{"$f":"IFERROR($E203*SUMIF('Daily Log'!$BP$18:$BP$1017,$B203,'Daily Log'!$BQ$18:$BQ$1017),0)","v":0},{"$f":"IFERROR($E203*SUMIF('Daily Log'!$BS$18:$BS$1017,$B203,'Daily Log'!$BT$18:$BT$1017),0)","v":0},{"$f":"IFERROR($E203*SUMIF('Daily Log'!$BV$18:$BV$1017,$B203,'Daily Log'!$BW$18:$BW$1017),0)","v":0},{"$f":"IFERROR($E203*SUMIF('Daily Log'!$BY$18:$BY$1017,$B203,'Daily Log'!$BZ$18:$BZ$1017),0)","v":0},{"$f":"IFERROR($E203*SUMIF('Daily Log'!$CB$18:$CB$1017,$B203,'Daily Log'!$CC$18:$CC$1017),0)","v":0},{"$f":"IFERROR($E203*SUMIF('Daily Log'!$CE$18:$CE$1017,$B203,'Daily Log'!$CF$18:$CF$1017),0)","v":0},{"$f":"IFERROR($E203*SUMIF('Daily Log'!$CH$18:$CH$1017,$B203,'Daily Log'!$CI$18:$CI$1017),0)","v":0},{"$f":"IFERROR($E203*SUMIF('Daily Log'!$CK$18:$CK$1017,$B203,'Daily Log'!$CL$18:$CL$1017),0)","v":0},{"$f":"IFERROR($E203*SUMIF('Daily Log'!$CN$18:$CN$1017,$B203,'Daily Log'!$CO$18:$CO$1017),0)","v":0}]
[null,"DC08 1108:SBL F.MEE",null,"SIDE ORDER-LOCAL DELIGHTS",1,0,{"$f":"IFERROR($E204*SUMIF('Daily Log'!$B$18:$B$1017,$B204,'Daily Log'!$C$18:$C$1017),0)","v":0},{"$f":"IFERROR($E204*SUMIF('Daily Log'!$E$18:$E$1017,$B204,'Daily Log'!$F$18:$F$1017),0)","v":0},{"$f":"IFERROR($E204*SUMIF('Daily Log'!$H$18:$H$1017,$B204,'Daily Log'!$I$18:$I$1017),0)","v":0},{"$f":"IFERROR($E204*SUMIF('Daily Log'!$K$18:$K$1017,$B204,'Daily Log'!$L$18:$L$1017),0)","v":0},{"$f":"IFERROR($E204*SUMIF('Daily Log'!$N$18:$N$1017,$B204,'Daily Log'!$O$18:$O$1017),0)","v":0},{"$f":"IFERROR($E204*SUMIF('Daily Log'!$Q$18:$Q$1017,$B204,'Daily Log'!$R$18:$R$1017),0)","v":0},{"$f":"IFERROR($E204*SUMIF('Daily Log'!$T$18:$T$1017,$B204,'Daily Log'!$U$18:$U$1017),0)","v":0},{"$f":"IFERROR($E204*SUMIF('Daily Log'!$W$18:$W$1017,$B204,'Daily Log'!$X$18:$X$1017),0)","v":0},{"$f":"IFERROR($E204*SUMIF('Daily Log'!$Z$18:$Z$1017,$B204,'Daily Log'!$AA$18:$AA$1017),0)","v":0},{"$f":"IFERROR($E204*SUMIF('Daily Log'!$AC$18:$AC$1017,$B204,'Daily Log'!$AD$18:$AD$1017),0)","v":0},{"$f":"IFERROR($E204*SUMIF('Daily Log'!$AF$18:$AF$1017,$B204,'Daily Log'!$AG$18:$AG$1017),0)","v":0},{"$f":"IFERROR($E204*SUMIF('Daily Log'!$AI$18:$AI$1017,$B204,'Daily Log'!$AJ$18:$AJ$1017),0)","v":0},{"$f":"IFERROR($E204*SUMIF('Daily Log'!$AL$18:$AL$1017,$B204,'Daily Log'!$AM$18:$AM$1017),0)","v":0},{"$f":"IFERROR($E204*SUMIF('Daily Log'!$AO$18:$AO$1017,$B204,'Daily Log'!$AP$18:$AP$1017),0)","v":0},{"$f":"IFERROR($E204*SUMIF('Daily Log'!$AR$18:$AR$1017,$B204,'Daily Log'!$AS$18:$AS$1017),0)","v":0},{"$f":"IFERROR($E204*SUMIF('Daily Log'!$AU$18:$AU$1017,$B204,'Daily Log'!$AV$18:$AV$1017),0)","v":0},{"$f":"IFERROR($E204*SUMIF('Daily Log'!$AX$18:$AX$1017,$B204,'Daily Log'!$AY$18:$AY$1017),0)","v":0},{"$f":"IFERROR($E204*SUMIF('Daily Log'!$BA$18:$BA$1017,$B204,'Daily Log'!$BB$18:$BB$1017),0)","v":0},{"$f":"IFERROR($E204*SUMIF('Daily Log'!$BD$18:$BD$1017,$B204,'Daily Log'!$BE$18:$BE$1017),0)","v":0},{"$f":"IFERROR($E204*SUMIF('Daily Log'!$BG$18:$BG$1017,$B204,'Daily Log'!$BH$18:$BH$1017),0)","v":0},{"$f":"IFERROR($E204*SUMIF('Daily Log'!$BJ$18:$BJ$1017,$B204,'Daily Log'!$BK$18:$BK$1017),0)","v":0},{"$f":"IFERROR($E204*SUMIF('Daily Log'!$BM$18:$BM$1017,$B204,'Daily Log'!$BN$18:$BN$1017),0)","v":0},{"$f":"IFERROR($E204*SUMIF('Daily Log'!$BP$18:$BP$1017,$B204,'Daily Log'!$BQ$18:$BQ$1017),0)","v":0},{"$f":"IFERROR($E204*SUMIF('Daily Log'!$BS$18:$BS$1017,$B204,'Daily Log'!$BT$18:$BT$1017),0)","v":0},{"$f":"IFERROR($E204*SUMIF('Daily Log'!$BV$18:$BV$1017,$B204,'Daily Log'!$BW$18:$BW$1017),0)","v":0},{"$f":"IFERROR($E204*SUMIF('Daily Log'!$BY$18:$BY$1017,$B204,'Daily Log'!$BZ$18:$BZ$1017),0)","v":0},{"$f":"IFERROR($E204*SUMIF('Daily Log'!$CB$18:$CB$1017,$B204,'Daily Log'!$CC$18:$CC$1017),0)","v":0},{"$f":"IFERROR($E204*SUMIF('Daily Log'!$CE$18:$CE$1017,$B204,'Daily Log'!$CF$18:$CF$1017),0)","v":0},{"$f":"IFERROR($E204*SUMIF('Daily Log'!$CH$18:$CH$1017,$B204,'Daily Log'!$CI$18:$CI$1017),0)","v":0},{"$f":"IFERROR($E204*SUMIF('Daily Log'!$CK$18:$CK$1017,$B204,'Daily Log'!$CL$18:$CL$1017),0)","v":0},{"$f":"IFERROR($E204*SUMIF('Daily Log'!$CN$18:$CN$1017,$B204,'Daily Log'!$CO$18:$CO$1017),0)","v":0}]
[null,"DC09 1109:BP UDON",null,"SIDE ORDER-LOCAL DELIGHTS",1,0,{"$f":"IFERROR($E205*SUMIF('Daily Log'!$B$18:$B$1017,$B205,'Daily Log'!$C$18:$C$1017),0)","v":0},{"$f":"IFERROR($E205*SUMIF('Daily Log'!$E$18:$E$1017,$B205,'Daily Log'!$F$18:$F$1017),0)","v":0},{"$f":"IFERROR($E205*SUMIF('Daily Log'!$H$18:$H$1017,$B205,'Daily Log'!$I$18:$I$1017),0)","v":0},{"$f":"IFERROR($E205*SUMIF('Daily Log'!$K$18:$K$1017,$B205,'Daily Log'!$L$18:$L$1017),0)","v":0},{"$f":"IFERROR($E205*SUMIF('Daily Log'!$N$18:$N$1017,$B205,'Daily Log'!$O$18:$O$1017),0)","v":0},{"$f":"IFERROR($E205*SUMIF('Daily Log'!$Q$18:$Q$1017,$B205,'Daily Log'!$R$18:$R$1017),0)","v":0},{"$f":"IFERROR($E205*SUMIF('Daily Log'!$T$18:$T$1017,$B205,'Daily Log'!$U$18:$U$1017),0)","v":0},{"$f":"IFERROR($E205*SUMIF('Daily Log'!$W$18:$W$1017,$B205,'Daily Log'!$X$18:$X$1017),0)","v":0},{"$f":"IFERROR($E205*SUMIF('Daily Log'!$Z$18:$Z$1017,$B205,'Daily Log'!$AA$18:$AA$1017),0)","v":0},{"$f":"IFERROR($E205*SUMIF('Daily Log'!$AC$18:$AC$1017,$B205,'Daily Log'!$AD$18:$AD$1017),0)","v":0},{"$f":"IFERROR($E205*SUMIF('Daily Log'!$AF$18:$AF$1017,$B205,'Daily Log'!$AG$18:$AG$1017),0)","v":0},{"$f":"IFERROR($E205*SUMIF('Daily Log'!$AI$18:$AI$1017,$B205,'Daily Log'!$AJ$18:$AJ$1017),0)","v":0},{"$f":"IFERROR($E205*SUMIF('Daily Log'!$AL$18:$AL$1017,$B205,'Daily Log'!$AM$18:$AM$1017),0)","v":0},{"$f":"IFERROR($E205*SUMIF('Daily Log'!$AO$18:$AO$1017,$B205,'Daily Log'!$AP$18:$AP$1017),0)","v":0},{"$f":"IFERROR($E205*SUMIF('Daily Log'!$AR$18:$AR$1017,$B205,'Daily Log'!$AS$18:$AS$1017),0)","v":0},{"$f":"IFERROR($E205*SUMIF('Daily Log'!$AU$18:$AU$1017,$B205,'Daily Log'!$AV$18:$AV$1017),0)","v":0},{"$f":"IFERROR($E205*SUMIF('Daily Log'!$AX$18:$AX$1017,$B205,'Daily Log'!$AY$18:$AY$1017),0)","v":0},{"$f":"IFERROR($E205*SUMIF('Daily Log'!$BA$18:$BA$1017,$B205,'Daily Log'!$BB$18:$BB$1017),0)","v":0},{"$f":"IFERROR($E205*SUMIF('Daily Log'!$BD$18:$BD$1017,$B205,'Daily Log'!$BE$18:$BE$1017),0)","v":0},{"$f":"IFERROR($E205*SUMIF('Daily Log'!$BG$18:$BG$1017,$B205,'Daily Log'!$BH$18:$BH$1017),0)","v":0},{"$f":"IFERROR($E205*SUMIF('Daily Log'!$BJ$18:$BJ$1017,$B205,'Daily Log'!$BK$18:$BK$1017),0)","v":0},{"$f":"IFERROR($E205*SUMIF('Daily Log'!$BM$18:$BM$1017,$B205,'Daily Log'!$BN$18:$BN$1017),0)","v":0},{"$f":"IFERROR($E205*SUMIF('Daily Log'!$BP$18:$BP$1017,$B205,'Daily Log'!$BQ$18:$BQ$1017),0)","v":0},{"$f":"IFERROR($E205*SUMIF('Daily Log'!$BS$18:$BS$1017,$B205,'Daily Log'!$BT$18:$BT$1017),0)","v":0},{"$f":"IFERROR($E205*SUMIF('Daily Log'!$BV$18:$BV$1017,$B205,'Daily Log'!$BW$18:$BW$1017),0)","v":0},{"$f":"IFERROR($E205*SUMIF('Daily Log'!$BY$18:$BY$1017,$B205,'Daily Log'!$BZ$18:$BZ$1017),0)","v":0},{"$f":"IFERROR($E205*SUMIF('Daily Log'!$CB$18:$CB$1017,$B205,'Daily Log'!$CC$18:$CC$1017),0)","v":0},{"$f":"IFERROR($E205*SUMIF('Daily Log'!$CE$18:$CE$1017,$B205,'Daily Log'!$CF$18:$CF$1017),0)","v":0},{"$f":"IFERROR($E205*SUMIF('Daily Log'!$CH$18:$CH$1017,$B205,'Daily Log'!$CI$18:$CI$1017),0)","v":0},{"$f":"IFERROR($E205*SUMIF('Daily Log'!$CK$18:$CK$1017,$B205,'Daily Log'!$CL$18:$CL$1017),0)","v":0},{"$f":"IFERROR($E205*SUMIF('Daily Log'!$CN$18:$CN$1017,$B205,'Daily Log'!$CO$18:$CO$1017),0)","v":0}]
[null,"DC10 1110:NISSIN",null,"SIDE ORDER-LOCAL DELIGHTS",1,0,{"$f":"IFERROR($E206*SUMIF('Daily Log'!$B$18:$B$1017,$B206,'Daily Log'!$C$18:$C$1017),0)","v":0},{"$f":"IFERROR($E206*SUMIF('Daily Log'!$E$18:$E$1017,$B206,'Daily Log'!$F$18:$F$1017),0)","v":0},{"$f":"IFERROR($E206*SUMIF('Daily Log'!$H$18:$H$1017,$B206,'Daily Log'!$I$18:$I$1017),0)","v":0},{"$f":"IFERROR($E206*SUMIF('Daily Log'!$K$18:$K$1017,$B206,'Daily Log'!$L$18:$L$1017),0)","v":0},{"$f":"IFERROR($E206*SUMIF('Daily Log'!$N$18:$N$1017,$B206,'Daily Log'!$O$18:$O$1017),0)","v":0},{"$f":"IFERROR($E206*SUMIF('Daily Log'!$Q$18:$Q$1017,$B206,'Daily Log'!$R$18:$R$1017),0)","v":0},{"$f":"IFERROR($E206*SUMIF('Daily Log'!$T$18:$T$1017,$B206,'Daily Log'!$U$18:$U$1017),0)","v":0},{"$f":"IFERROR($E206*SUMIF('Daily Log'!$W$18:$W$1017,$B206,'Daily Log'!$X$18:$X$1017),0)","v":0},{"$f":"IFERROR($E206*SUMIF('Daily Log'!$Z$18:$Z$1017,$B206,'Daily Log'!$AA$18:$AA$1017),0)","v":0},{"$f":"IFERROR($E206*SUMIF('Daily Log'!$AC$18:$AC$1017,$B206,'Daily Log'!$AD$18:$AD$1017),0)","v":0},{"$f":"IFERROR($E206*SUMIF('Daily Log'!$AF$18:$AF$1017,$B206,'Daily Log'!$AG$18:$AG$1017),0)","v":0},{"$f":"IFERROR($E206*SUMIF('Daily Log'!$AI$18:$AI$1017,$B206,'Daily Log'!$AJ$18:$AJ$1017),0)","v":0},{"$f":"IFERROR($E206*SUMIF('Daily Log'!$AL$18:$AL$1017,$B206,'Daily Log'!$AM$18:$AM$1017),0)","v":0},{"$f":"IFERROR($E206*SUMIF('Daily Log'!$AO$18:$AO$1017,$B206,'Daily Log'!$AP$18:$AP$1017),0)","v":0},{"$f":"IFERROR($E206*SUMIF('Daily Log'!$AR$18:$AR$1017,$B206,'Daily Log'!$AS$18:$AS$1017),0)","v":0},{"$f":"IFERROR($E206*SUMIF('Daily Log'!$AU$18:$AU$1017,$B206,'Daily Log'!$AV$18:$AV$1017),0)","v":0},{"$f":"IFERROR($E206*SUMIF('Daily Log'!$AX$18:$AX$1017,$B206,'Daily Log'!$AY$18:$AY$1017),0)","v":0},{"$f":"IFERROR($E206*SUMIF('Daily Log'!$BA$18:$BA$1017,$B206,'Daily Log'!$BB$18:$BB$1017),0)","v":0},{"$f":"IFERROR($E206*SUMIF('Daily Log'!$BD$18:$BD$1017,$B206,'Daily Log'!$BE$18:$BE$1017),0)","v":0},{"$f":"IFERROR($E206*SUMIF('Daily Log'!$BG$18:$BG$1017,$B206,'Daily Log'!$BH$18:$BH$1017),0)","v":0},{"$f":"IFERROR($E206*SUMIF('Daily Log'!$BJ$18:$BJ$1017,$B206,'Daily Log'!$BK$18:$BK$1017),0)","v":0},{"$f":"IFERROR($E206*SUMIF('Daily Log'!$BM$18:$BM$1017,$B206,'Daily Log'!$BN$18:$BN$1017),0)","v":0},{"$f":"IFERROR($E206*SUMIF('Daily Log'!$BP$18:$BP$1017,$B206,'Daily Log'!$BQ$18:$BQ$1017),0)","v":0},{"$f":"IFERROR($E206*SUMIF('Daily Log'!$BS$18:$BS$1017,$B206,'Daily Log'!$BT$18:$BT$1017),0)","v":0},{"$f":"IFERROR($E206*SUMIF('Daily Log'!$BV$18:$BV$1017,$B206,'Daily Log'!$BW$18:$BW$1017),0)","v":0},{"$f":"IFERROR($E206*SUMIF('Daily Log'!$BY$18:$BY$1017,$B206,'Daily Log'!$BZ$18:$BZ$1017),0)","v":0},{"$f":"IFERROR($E206*SUMIF('Daily Log'!$CB$18:$CB$1017,$B206,'Daily Log'!$CC$18:$CC$1017),0)","v":0},{"$f":"IFERROR($E206*SUMIF('Daily Log'!$CE$18:$CE$1017,$B206,'Daily Log'!$CF$18:$CF$1017),0)","v":0},{"$f":"IFERROR($E206*SUMIF('Daily Log'!$CH$18:$CH$1017,$B206,'Daily Log'!$CI$18:$CI$1017),0)","v":0},{"$f":"IFERROR($E206*SUMIF('Daily Log'!$CK$18:$CK$1017,$B206,'Daily Log'!$CL$18:$CL$1017),0)","v":0},{"$f":"IFERROR($E206*SUMIF('Daily Log'!$CN$18:$CN$1017,$B206,'Daily Log'!$CO$18:$CO$1017),0)","v":0}]
[null,"DC11 1111:VEG RICE",null,"SIDE ORDER-LOCAL DELIGHTS",1,0,{"$f":"IFERROR($E207*SUMIF('Daily Log'!$B$18:$B$1017,$B207,'Daily Log'!$C$18:$C$1017),0)","v":0},{"$f":"IFERROR($E207*SUMIF('Daily Log'!$E$18:$E$1017,$B207,'Daily Log'!$F$18:$F$1017),0)","v":0},{"$f":"IFERROR($E207*SUMIF('Daily Log'!$H$18:$H$1017,$B207,'Daily Log'!$I$18:$I$1017),0)","v":0},{"$f":"IFERROR($E207*SUMIF('Daily Log'!$K$18:$K$1017,$B207,'Daily Log'!$L$18:$L$1017),0)","v":0},{"$f":"IFERROR($E207*SUMIF('Daily Log'!$N$18:$N$1017,$B207,'Daily Log'!$O$18:$O$1017),0)","v":0},{"$f":"IFERROR($E207*SUMIF('Daily Log'!$Q$18:$Q$1017,$B207,'Daily Log'!$R$18:$R$1017),0)","v":0},{"$f":"IFERROR($E207*SUMIF('Daily Log'!$T$18:$T$1017,$B207,'Daily Log'!$U$18:$U$1017),0)","v":0},{"$f":"IFERROR($E207*SUMIF('Daily Log'!$W$18:$W$1017,$B207,'Daily Log'!$X$18:$X$1017),0)","v":0},{"$f":"IFERROR($E207*SUMIF('Daily Log'!$Z$18:$Z$1017,$B207,'Daily Log'!$AA$18:$AA$1017),0)","v":0},{"$f":"IFERROR($E207*SUMIF('Daily Log'!$AC$18:$AC$1017,$B207,'Daily Log'!$AD$18:$AD$1017),0)","v":0},{"$f":"IFERROR($E207*SUMIF('Daily Log'!$AF$18:$AF$1017,$B207,'Daily Log'!$AG$18:$AG$1017),0)","v":0},{"$f":"IFERROR($E207*SUMIF('Daily Log'!$AI$18:$AI$1017,$B207,'Daily Log'!$AJ$18:$AJ$1017),0)","v":0},{"$f":"IFERROR($E207*SUMIF('Daily Log'!$AL$18:$AL$1017,$B207,'Daily Log'!$AM$18:$AM$1017),0)","v":0},{"$f":"IFERROR($E207*SUMIF('Daily Log'!$AO$18:$AO$1017,$B207,'Daily Log'!$AP$18:$AP$1017),0)","v":0},{"$f":"IFERROR($E207*SUMIF('Daily Log'!$AR$18:$AR$1017,$B207,'Daily Log'!$AS$18:$AS$1017),0)","v":0},{"$f":"IFERROR($E207*SUMIF('Daily Log'!$AU$18:$AU$1017,$B207,'Daily Log'!$AV$18:$AV$1017),0)","v":0},{"$f":"IFERROR($E207*SUMIF('Daily Log'!$AX$18:$AX$1017,$B207,'Daily Log'!$AY$18:$AY$1017),0)","v":0},{"$f":"IFERROR($E207*SUMIF('Daily Log'!$BA$18:$BA$1017,$B207,'Daily Log'!$BB$18:$BB$1017),0)","v":0},{"$f":"IFERROR($E207*SUMIF('Daily Log'!$BD$18:$BD$1017,$B207,'Daily Log'!$BE$18:$BE$1017),0)","v":0},{"$f":"IFERROR($E207*SUMIF('Daily Log'!$BG$18:$BG$1017,$B207,'Daily Log'!$BH$18:$BH$1017),0)","v":0},{"$f":"IFERROR($E207*SUMIF('Daily Log'!$BJ$18:$BJ$1017,$B207,'Daily Log'!$BK$18:$BK$1017),0)","v":0},{"$f":"IFERROR($E207*SUMIF('Daily Log'!$BM$18:$BM$1017,$B207,'Daily Log'!$BN$18:$BN$1017),0)","v":0},{"$f":"IFERROR($E207*SUMIF('Daily Log'!$BP$18:$BP$1017,$B207,'Daily Log'!$BQ$18:$BQ$1017),0)","v":0},{"$f":"IFERROR($E207*SUMIF('Daily Log'!$BS$18:$BS$1017,$B207,'Daily Log'!$BT$18:$BT$1017),0)","v":0},{"$f":"IFERROR($E207*SUMIF('Daily Log'!$BV$18:$BV$1017,$B207,'Daily Log'!$BW$18:$BW$1017),0)","v":0},{"$f":"IFERROR($E207*SUMIF('Daily Log'!$BY$18:$BY$1017,$B207,'Daily Log'!$BZ$18:$BZ$1017),0)","v":0},{"$f":"IFERROR($E207*SUMIF('Daily Log'!$CB$18:$CB$1017,$B207,'Daily Log'!$CC$18:$CC$1017),0)","v":0},{"$f":"IFERROR($E207*SUMIF('Daily Log'!$CE$18:$CE$1017,$B207,'Daily Log'!$CF$18:$CF$1017),0)","v":0},{"$f":"IFERROR($E207*SUMIF('Daily Log'!$CH$18:$CH$1017,$B207,'Daily Log'!$CI$18:$CI$1017),0)","v":0},{"$f":"IFERROR($E207*SUMIF('Daily Log'!$CK$18:$CK$1017,$B207,'Daily Log'!$CL$18:$CL$1017),0)","v":0},{"$f":"IFERROR($E207*SUMIF('Daily Log'!$CN$18:$CN$1017,$B207,'Daily Log'!$CO$18:$CO$1017),0)","v":0}]
[null,"DC12 1112:NASI LEMAK",null,"SIDE ORDER-LOCAL DELIGHTS",1,0,{"$f":"IFERROR($E208*SUMIF('Daily Log'!$B$18:$B$1017,$B208,'Daily Log'!$C$18:$C$1017),0)","v":0},{"$f":"IFERROR($E208*SUMIF('Daily Log'!$E$18:$E$1017,$B208,'Daily Log'!$F$18:$F$1017),0)","v":0},{"$f":"IFERROR($E208*SUMIF('Daily Log'!$H$18:$H$1017,$B208,'Daily Log'!$I$18:$I$1017),0)","v":0},{"$f":"IFERROR($E208*SUMIF('Daily Log'!$K$18:$K$1017,$B208,'Daily Log'!$L$18:$L$1017),0)","v":0},{"$f":"IFERROR($E208*SUMIF('Daily Log'!$N$18:$N$1017,$B208,'Daily Log'!$O$18:$O$1017),0)","v":0},{"$f":"IFERROR($E208*SUMIF('Daily Log'!$Q$18:$Q$1017,$B208,'Daily Log'!$R$18:$R$1017),0)","v":0},{"$f":"IFERROR($E208*SUMIF('Daily Log'!$T$18:$T$1017,$B208,'Daily Log'!$U$18:$U$1017),0)","v":0},{"$f":"IFERROR($E208*SUMIF('Daily Log'!$W$18:$W$1017,$B208,'Daily Log'!$X$18:$X$1017),0)","v":0},{"$f":"IFERROR($E208*SUMIF('Daily Log'!$Z$18:$Z$1017,$B208,'Daily Log'!$AA$18:$AA$1017),0)","v":0},{"$f":"IFERROR($E208*SUMIF('Daily Log'!$AC$18:$AC$1017,$B208,'Daily Log'!$AD$18:$AD$1017),0)","v":0},{"$f":"IFERROR($E208*SUMIF('Daily Log'!$AF$18:$AF$1017,$B208,'Daily Log'!$AG$18:$AG$1017),0)","v":0},{"$f":"IFERROR($E208*SUMIF('Daily Log'!$AI$18:$AI$1017,$B208,'Daily Log'!$AJ$18:$AJ$1017),0)","v":0},{"$f":"IFERROR($E208*SUMIF('Daily Log'!$AL$18:$AL$1017,$B208,'Daily Log'!$AM$18:$AM$1017),0)","v":0},{"$f":"IFERROR($E208*SUMIF('Daily Log'!$AO$18:$AO$1017,$B208,'Daily Log'!$AP$18:$AP$1017),0)","v":0},{"$f":"IFERROR($E208*SUMIF('Daily Log'!$AR$18:$AR$1017,$B208,'Daily Log'!$AS$18:$AS$1017),0)","v":0},{"$f":"IFERROR($E208*SUMIF('Daily Log'!$AU$18:$AU$1017,$B208,'Daily Log'!$AV$18:$AV$1017),0)","v":0},{"$f":"IFERROR($E208*SUMIF('Daily Log'!$AX$18:$AX$1017,$B208,'Daily Log'!$AY$18:$AY$1017),0)","v":0},{"$f":"IFERROR($E208*SUMIF('Daily Log'!$BA$18:$BA$1017,$B208,'Daily Log'!$BB$18:$BB$1017),0)","v":0},{"$f":"IFERROR($E208*SUMIF('Daily Log'!$BD$18:$BD$1017,$B208,'Daily Log'!$BE$18:$BE$1017),0)","v":0},{"$f":"IFERROR($E208*SUMIF('Daily Log'!$BG$18:$BG$1017,$B208,'Daily Log'!$BH$18:$BH$1017),0)","v":0},{"$f":"IFERROR($E208*SUMIF('Daily Log'!$BJ$18:$BJ$1017,$B208,'Daily Log'!$BK$18:$BK$1017),0)","v":0},{"$f":"IFERROR($E208*SUMIF('Daily Log'!$BM$18:$BM$1017,$B208,'Daily Log'!$BN$18:$BN$1017),0)","v":0},{"$f":"IFERROR($E208*SUMIF('Daily Log'!$BP$18:$BP$1017,$B208,'Daily Log'!$BQ$18:$BQ$1017),0)","v":0},{"$f":"IFERROR($E208*SUMIF('Daily Log'!$BS$18:$BS$1017,$B208,'Daily Log'!$BT$18:$BT$1017),0)","v":0},{"$f":"IFERROR($E208*SUMIF('Daily Log'!$BV$18:$BV$1017,$B208,'Daily Log'!$BW$18:$BW$1017),0)","v":0},{"$f":"IFERROR($E208*SUMIF('Daily Log'!$BY$18:$BY$1017,$B208,'Daily Log'!$BZ$18:$BZ$1017),0)","v":0},{"$f":"IFERROR($E208*SUMIF('Daily Log'!$CB$18:$CB$1017,$B208,'Daily Log'!$CC$18:$CC$1017),0)","v":0},{"$f":"IFERROR($E208*SUMIF('Daily Log'!$CE$18:$CE$1017,$B208,'Daily Log'!$CF$18:$CF$1017),0)","v":0},{"$f":"IFERROR($E208*SUMIF('Daily Log'!$CH$18:$CH$1017,$B208,'Daily Log'!$CI$18:$CI$1017),0)","v":0},{"$f":"IFERROR($E208*SUMIF('Daily Log'!$CK$18:$CK$1017,$B208,'Daily Log'!$CL$18:$CL$1017),0)","v":0},{"$f":"IFERROR($E208*SUMIF('Daily Log'!$CN$18:$CN$1017,$B208,'Daily Log'!$CO$18:$CO$1017),0)","v":0}]
[null,"DC13 1113:KUEY TEOW",null,"SIDE ORDER-LOCAL DELIGHTS",1,{"$f":"SUM($G209:$AK209)","v":0},{"$f":"IFERROR($E209*SUMIF('Daily Log'!$B$18:$B$1017,$B209,'Daily Log'!$C$18:$C$1017),0)","v":0},{"$f":"IFERROR($E209*SUMIF('Daily Log'!$E$18:$E$1017,$B209,'Daily Log'!$F$18:$F$1017),0)","v":0},{"$f":"IFERROR($E209*SUMIF('Daily Log'!$H$18:$H$1017,$B209,'Daily Log'!$I$18:$I$1017),0)","v":0},{"$f":"IFERROR($E209*SUMIF('Daily Log'!$K$18:$K$1017,$B209,'Daily Log'!$L$18:$L$1017),0)","v":0},{"$f":"IFERROR($E209*SUMIF('Daily Log'!$N$18:$N$1017,$B209,'Daily Log'!$O$18:$O$1017),0)","v":0},{"$f":"IFERROR($E209*SUMIF('Daily Log'!$Q$18:$Q$1017,$B209,'Daily Log'!$R$18:$R$1017),0)","v":0},{"$f":"IFERROR($E209*SUMIF('Daily Log'!$T$18:$T$1017,$B209,'Daily Log'!$U$18:$U$1017),0)","v":0},{"$f":"IFERROR($E209*SUMIF('Daily Log'!$W$18:$W$1017,$B209,'Daily Log'!$X$18:$X$1017),0)","v":0},{"$f":"IFERROR($E209*SUMIF('Daily Log'!$Z$18:$Z$1017,$B209,'Daily Log'!$AA$18:$AA$1017),0)","v":0},{"$f":"IFERROR($E209*SUMIF('Daily Log'!$AC$18:$AC$1017,$B209,'Daily Log'!$AD$18:$AD$1017),0)","v":0},{"$f":"IFERROR($E209*SUMIF('Daily Log'!$AF$18:$AF$1017,$B209,'Daily Log'!$AG$18:$AG$1017),0)","v":0},{"$f":"IFERROR($E209*SUMIF('Daily Log'!$AI$18:$AI$1017,$B209,'Daily Log'!$AJ$18:$AJ$1017),0)","v":0},{"$f":"IFERROR($E209*SUMIF('Daily Log'!$AL$18:$AL$1017,$B209,'Daily Log'!$AM$18:$AM$1017),0)","v":0},{"$f":"IFERROR($E209*SUMIF('Daily Log'!$AO$18:$AO$1017,$B209,'Daily Log'!$AP$18:$AP$1017),0)","v":0},{"$f":"IFERROR($E209*SUMIF('Daily Log'!$AR$18:$AR$1017,$B209,'Daily Log'!$AS$18:$AS$1017),0)","v":0},{"$f":"IFERROR($E209*SUMIF('Daily Log'!$AU$18:$AU$1017,$B209,'Daily Log'!$AV$18:$AV$1017),0)","v":0},{"$f":"IFERROR($E209*SUMIF('Daily Log'!$AX$18:$AX$1017,$B209,'Daily Log'!$AY$18:$AY$1017),0)","v":0},{"$f":"IFERROR($E209*SUMIF('Daily Log'!$BA$18:$BA$1017,$B209,'Daily Log'!$BB$18:$BB$1017),0)","v":0},{"$f":"IFERROR($E209*SUMIF('Daily Log'!$BD$18:$BD$1017,$B209,'Daily Log'!$BE$18:$BE$1017),0)","v":0},{"$f":"IFERROR($E209*SUMIF('Daily Log'!$BG$18:$BG$1017,$B209,'Daily Log'!$BH$18:$BH$1017),0)","v":0},{"$f":"IFERROR($E209*SUMIF('Daily Log'!$BJ$18:$BJ$1017,$B209,'Daily Log'!$BK$18:$BK$1017),0)","v":0},{"$f":"IFERROR($E209*SUMIF('Daily Log'!$BM$18:$BM$1017,$B209,'Daily Log'!$BN$18:$BN$1017),0)","v":0},{"$f":"IFERROR($E209*SUMIF('Daily Log'!$BP$18:$BP$1017,$B209,'Daily Log'!$BQ$18:$BQ$1017),0)","v":0},{"$f":"IFERROR($E209*SUMIF('Daily Log'!$BS$18:$BS$1017,$B209,'Daily Log'!$BT$18:$BT$1017),0)","v":0},{"$f":"IFERROR($E209*SUMIF('Daily Log'!$BV$18:$BV$1017,$B209,'Daily Log'!$BW$18:$BW$1017),0)","v":0},{"$f":"IFERROR($E209*SUMIF('Daily Log'!$BY$18:$BY$1017,$B209,'Daily Log'!$BZ$18:$BZ$1017),0)","v":0},{"$f":"IFERROR($E209*SUMIF('Daily Log'!$CB$18:$CB$1017,$B209,'Daily Log'!$CC$18:$CC$1017),0)","v":0},{"$f":"IFERROR($E209*SUMIF('Daily Log'!$CE$18:$CE$1017,$B209,'Daily Log'!$CF$18:$CF$1017),0)","v":0},{"$f":"IFERROR($E209*SUMIF('Daily Log'!$CH$18:$CH$1017,$B209,'Daily Log'!$CI$18:$CI$1017),0)","v":0},{"$f":"IFERROR($E209*SUMIF('Daily Log'!$CK$18:$CK$1017,$B209,'Daily Log'!$CL$18:$CL$1017),0)","v":0},{"$f":"IFERROR($E209*SUMIF('Daily Log'!$CN$18:$CN$1017,$B209,'Daily Log'!$CO$18:$CO$1017),0)","v":0}]
[null,"DC14 1114:F.BALL MEE",null,"SIDE ORDER-LOCAL DELIGHTS",1,0,{"$f":"IFERROR($E210*SUMIF('Daily Log'!$B$18:$B$1017,$B210,'Daily Log'!$C$18:$C$1017),0)","v":0},{"$f":"IFERROR($E210*SUMIF('Daily Log'!$E$18:$E$1017,$B210,'Daily Log'!$F$18:$F$1017),0)","v":0},{"$f":"IFERROR($E210*SUMIF('Daily Log'!$H$18:$H$1017,$B210,'Daily Log'!$I$18:$I$1017),0)","v":0},{"$f":"IFERROR($E210*SUMIF('Daily Log'!$K$18:$K$1017,$B210,'Daily Log'!$L$18:$L$1017),0)","v":0},{"$f":"IFERROR($E210*SUMIF('Daily Log'!$N$18:$N$1017,$B210,'Daily Log'!$O$18:$O$1017),0)","v":0},{"$f":"IFERROR($E210*SUMIF('Daily Log'!$Q$18:$Q$1017,$B210,'Daily Log'!$R$18:$R$1017),0)","v":0},{"$f":"IFERROR($E210*SUMIF('Daily Log'!$T$18:$T$1017,$B210,'Daily Log'!$U$18:$U$1017),0)","v":0},{"$f":"IFERROR($E210*SUMIF('Daily Log'!$W$18:$W$1017,$B210,'Daily Log'!$X$18:$X$1017),0)","v":0},{"$f":"IFERROR($E210*SUMIF('Daily Log'!$Z$18:$Z$1017,$B210,'Daily Log'!$AA$18:$AA$1017),0)","v":0},{"$f":"IFERROR($E210*SUMIF('Daily Log'!$AC$18:$AC$1017,$B210,'Daily Log'!$AD$18:$AD$1017),0)","v":0},{"$f":"IFERROR($E210*SUMIF('Daily Log'!$AF$18:$AF$1017,$B210,'Daily Log'!$AG$18:$AG$1017),0)","v":0},{"$f":"IFERROR($E210*SUMIF('Daily Log'!$AI$18:$AI$1017,$B210,'Daily Log'!$AJ$18:$AJ$1017),0)","v":0},{"$f":"IFERROR($E210*SUMIF('Daily Log'!$AL$18:$AL$1017,$B210,'Daily Log'!$AM$18:$AM$1017),0)","v":0},{"$f":"IFERROR($E210*SUMIF('Daily Log'!$AO$18:$AO$1017,$B210,'Daily Log'!$AP$18:$AP$1017),0)","v":0},{"$f":"IFERROR($E210*SUMIF('Daily Log'!$AR$18:$AR$1017,$B210,'Daily Log'!$AS$18:$AS$1017),0)","v":0},{"$f":"IFERROR($E210*SUMIF('Daily Log'!$AU$18:$AU$1017,$B210,'Daily Log'!$AV$18:$AV$1017),0)","v":0},{"$f":"IFERROR($E210*SUMIF('Daily Log'!$AX$18:$AX$1017,$B210,'Daily Log'!$AY$18:$AY$1017),0)","v":0},{"$f":"IFERROR($E210*SUMIF('Daily Log'!$BA$18:$BA$1017,$B210,'Daily Log'!$BB$18:$BB$1017),0)","v":0},{"$f":"IFERROR($E210*SUMIF('Daily Log'!$BD$18:$BD$1017,$B210,'Daily Log'!$BE$18:$BE$1017),0)","v":0},{"$f":"IFERROR($E210*SUMIF('Daily Log'!$BG$18:$BG$1017,$B210,'Daily Log'!$BH$18:$BH$1017),0)","v":0},{"$f":"IFERROR($E210*SUMIF('Daily Log'!$BJ$18:$BJ$1017,$B210,'Daily Log'!$BK$18:$BK$1017),0)","v":0},{"$f":"IFERROR($E210*SUMIF('Daily Log'!$BM$18:$BM$1017,$B210,'Daily Log'!$BN$18:$BN$1017),0)","v":0},{"$f":"IFERROR($E210*SUMIF('Daily Log'!$BP$18:$BP$1017,$B210,'Daily Log'!$BQ$18:$BQ$1017),0)","v":0},{"$f":"IFERROR($E210*SUMIF('Daily Log'!$BS$18:$BS$1017,$B210,'Daily Log'!$BT$18:$BT$1017),0)","v":0},{"$f":"IFERROR($E210*SUMIF('Daily Log'!$BV$18:$BV$1017,$B210,'Daily Log'!$BW$18:$BW$1017),0)","v":0},{"$f":"IFERROR($E210*SUMIF('Daily Log'!$BY$18:$BY$1017,$B210,'Daily Log'!$BZ$18:$BZ$1017),0)","v":0},{"$f":"IFERROR($E210*SUMIF('Daily Log'!$CB$18:$CB$1017,$B210,'Daily Log'!$CC$18:$CC$1017),0)","v":0},{"$f":"IFERROR($E210*SUMIF('Daily Log'!$CE$18:$CE$1017,$B210,'Daily Log'!$CF$18:$CF$1017),0)","v":0},{"$f":"IFERROR($E210*SUMIF('Daily Log'!$CH$18:$CH$1017,$B210,'Daily Log'!$CI$18:$CI$1017),0)","v":0},{"$f":"IFERROR($E210*SUMIF('Daily Log'!$CK$18:$CK$1017,$B210,'Daily Log'!$CL$18:$CL$1017),0)","v":0},{"$f":"IFERROR($E210*SUMIF('Daily Log'!$CN$18:$CN$1017,$B210,'Daily Log'!$CO$18:$CO$1017),0)","v":0}]
[null,"DC15 1115:CHK NOODLE",null,"SIDE ORDER-LOCAL DELIGHTS",1,0,{"$f":"IFERROR($E211*SUMIF('Daily Log'!$B$18:$B$1017,$B211,'Daily Log'!$C$18:$C$1017),0)","v":0},{"$f":"IFERROR($E211*SUMIF('Daily Log'!$E$18:$E$1017,$B211,'Daily Log'!$F$18:$F$1017),0)","v":0},{"$f":"IFERROR($E211*SUMIF('Daily Log'!$H$18:$H$1017,$B211,'Daily Log'!$I$18:$I$1017),0)","v":0},{"$f":"IFERROR($E211*SUMIF('Daily Log'!$K$18:$K$1017,$B211,'Daily Log'!$L$18:$L$1017),0)","v":0},{"$f":"IFERROR($E211*SUMIF('Daily Log'!$N$18:$N$1017,$B211,'Daily Log'!$O$18:$O$1017),0)","v":0},{"$f":"IFERROR($E211*SUMIF('Daily Log'!$Q$18:$Q$1017,$B211,'Daily Log'!$R$18:$R$1017),0)","v":0},{"$f":"IFERROR($E211*SUMIF('Daily Log'!$T$18:$T$1017,$B211,'Daily Log'!$U$18:$U$1017),0)","v":0},{"$f":"IFERROR($E211*SUMIF('Daily Log'!$W$18:$W$1017,$B211,'Daily Log'!$X$18:$X$1017),0)","v":0},{"$f":"IFERROR($E211*SUMIF('Daily Log'!$Z$18:$Z$1017,$B211,'Daily Log'!$AA$18:$AA$1017),0)","v":0},{"$f":"IFERROR($E211*SUMIF('Daily Log'!$AC$18:$AC$1017,$B211,'Daily Log'!$AD$18:$AD$1017),0)","v":0},{"$f":"IFERROR($E211*SUMIF('Daily Log'!$AF$18:$AF$1017,$B211,'Daily Log'!$AG$18:$AG$1017),0)","v":0},{"$f":"IFERROR($E211*SUMIF('Daily Log'!$AI$18:$AI$1017,$B211,'Daily Log'!$AJ$18:$AJ$1017),0)","v":0},{"$f":"IFERROR($E211*SUMIF('Daily Log'!$AL$18:$AL$1017,$B211,'Daily Log'!$AM$18:$AM$1017),0)","v":0},{"$f":"IFERROR($E211*SUMIF('Daily Log'!$AO$18:$AO$1017,$B211,'Daily Log'!$AP$18:$AP$1017),0)","v":0},{"$f":"IFERROR($E211*SUMIF('Daily Log'!$AR$18:$AR$1017,$B211,'Daily Log'!$AS$18:$AS$1017),0)","v":0},{"$f":"IFERROR($E211*SUMIF('Daily Log'!$AU$18:$AU$1017,$B211,'Daily Log'!$AV$18:$AV$1017),0)","v":0},{"$f":"IFERROR($E211*SUMIF('Daily Log'!$AX$18:$AX$1017,$B211,'Daily Log'!$AY$18:$AY$1017),0)","v":0},{"$f":"IFERROR($E211*SUMIF('Daily Log'!$BA$18:$BA$1017,$B211,'Daily Log'!$BB$18:$BB$1017),0)","v":0},{"$f":"IFERROR($E211*SUMIF('Daily Log'!$BD$18:$BD$1017,$B211,'Daily Log'!$BE$18:$BE$1017),0)","v":0},{"$f":"IFERROR($E211*SUMIF('Daily Log'!$BG$18:$BG$1017,$B211,'Daily Log'!$BH$18:$BH$1017),0)","v":0},{"$f":"IFERROR($E211*SUMIF('Daily Log'!$BJ$18:$BJ$1017,$B211,'Daily Log'!$BK$18:$BK$1017),0)","v":0},{"$f":"IFERROR($E211*SUMIF('Daily Log'!$BM$18:$BM$1017,$B211,'Daily Log'!$BN$18:$BN$1017),0)","v":0},{"$f":"IFERROR($E211*SUMIF('Daily Log'!$BP$18:$BP$1017,$B211,'Daily Log'!$BQ$18:$BQ$1017),0)","v":0},{"$f":"IFERROR($E211*SUMIF('Daily Log'!$BS$18:$BS$1017,$B211,'Daily Log'!$BT$18:$BT$1017),0)","v":0},{"$f":"IFERROR($E211*SUMIF('Daily Log'!$BV$18:$BV$1017,$B211,'Daily Log'!$BW$18:$BW$1017),0)","v":0},{"$f":"IFERROR($E211*SUMIF('Daily Log'!$BY$18:$BY$1017,$B211,'Daily Log'!$BZ$18:$BZ$1017),0)","v":0},{"$f":"IFERROR($E211*SUMIF('Daily Log'!$CB$18:$CB$1017,$B211,'Daily Log'!$CC$18:$CC$1017),0)","v":0},{"$f":"IFERROR($E211*SUMIF('Daily Log'!$CE$18:$CE$1017,$B211,'Daily Log'!$CF$18:$CF$1017),0)","v":0},{"$f":"IFERROR($E211*SUMIF('Daily Log'!$CH$18:$CH$1017,$B211,'Daily Log'!$CI$18:$CI$1017),0)","v":0},{"$f":"IFERROR($E211*SUMIF('Daily Log'!$CK$18:$CK$1017,$B211,'Daily Log'!$CL$18:$CL$1017),0)","v":0},{"$f":"IFERROR($E211*SUMIF('Daily Log'!$CN$18:$CN$1017,$B211,'Daily Log'!$CO$18:$CO$1017),0)","v":0}]
[null,"DD01 1201:SFD STICK",null,"SIDE ORDER-APPETIZER",1,0,{"$f":"IFERROR($E212*SUMIF('Daily Log'!$B$18:$B$1017,$B212,'Daily Log'!$C$18:$C$1017),0)","v":0},{"$f":"IFERROR($E212*SUMIF('Daily Log'!$E$18:$E$1017,$B212,'Daily Log'!$F$18:$F$1017),0)","v":0},{"$f":"IFERROR($E212*SUMIF('Daily Log'!$H$18:$H$1017,$B212,'Daily Log'!$I$18:$I$1017),0)","v":0},{"$f":"IFERROR($E212*SUMIF('Daily Log'!$K$18:$K$1017,$B212,'Daily Log'!$L$18:$L$1017),0)","v":0},{"$f":"IFERROR($E212*SUMIF('Daily Log'!$N$18:$N$1017,$B212,'Daily Log'!$O$18:$O$1017),0)","v":0},{"$f":"IFERROR($E212*SUMIF('Daily Log'!$Q$18:$Q$1017,$B212,'Daily Log'!$R$18:$R$1017),0)","v":0},{"$f":"IFERROR($E212*SUMIF('Daily Log'!$T$18:$T$1017,$B212,'Daily Log'!$U$18:$U$1017),0)","v":0},{"$f":"IFERROR($E212*SUMIF('Daily Log'!$W$18:$W$1017,$B212,'Daily Log'!$X$18:$X$1017),0)","v":0},{"$f":"IFERROR($E212*SUMIF('Daily Log'!$Z$18:$Z$1017,$B212,'Daily Log'!$AA$18:$AA$1017),0)","v":0},{"$f":"IFERROR($E212*SUMIF('Daily Log'!$AC$18:$AC$1017,$B212,'Daily Log'!$AD$18:$AD$1017),0)","v":0},{"$f":"IFERROR($E212*SUMIF('Daily Log'!$AF$18:$AF$1017,$B212,'Daily Log'!$AG$18:$AG$1017),0)","v":0},{"$f":"IFERROR($E212*SUMIF('Daily Log'!$AI$18:$AI$1017,$B212,'Daily Log'!$AJ$18:$AJ$1017),0)","v":0},{"$f":"IFERROR($E212*SUMIF('Daily Log'!$AL$18:$AL$1017,$B212,'Daily Log'!$AM$18:$AM$1017),0)","v":0},{"$f":"IFERROR($E212*SUMIF('Daily Log'!$AO$18:$AO$1017,$B212,'Daily Log'!$AP$18:$AP$1017),0)","v":0},{"$f":"IFERROR($E212*SUMIF('Daily Log'!$AR$18:$AR$1017,$B212,'Daily Log'!$AS$18:$AS$1017),0)","v":0},{"$f":"IFERROR($E212*SUMIF('Daily Log'!$AU$18:$AU$1017,$B212,'Daily Log'!$AV$18:$AV$1017),0)","v":0},{"$f":"IFERROR($E212*SUMIF('Daily Log'!$AX$18:$AX$1017,$B212,'Daily Log'!$AY$18:$AY$1017),0)","v":0},{"$f":"IFERROR($E212*SUMIF('Daily Log'!$BA$18:$BA$1017,$B212,'Daily Log'!$BB$18:$BB$1017),0)","v":0},{"$f":"IFERROR($E212*SUMIF('Daily Log'!$BD$18:$BD$1017,$B212,'Daily Log'!$BE$18:$BE$1017),0)","v":0},{"$f":"IFERROR($E212*SUMIF('Daily Log'!$BG$18:$BG$1017,$B212,'Daily Log'!$BH$18:$BH$1017),0)","v":0},{"$f":"IFERROR($E212*SUMIF('Daily Log'!$BJ$18:$BJ$1017,$B212,'Daily Log'!$BK$18:$BK$1017),0)","v":0},{"$f":"IFERROR($E212*SUMIF('Daily Log'!$BM$18:$BM$1017,$B212,'Daily Log'!$BN$18:$BN$1017),0)","v":0},{"$f":"IFERROR($E212*SUMIF('Daily Log'!$BP$18:$BP$1017,$B212,'Daily Log'!$BQ$18:$BQ$1017),0)","v":0},{"$f":"IFERROR($E212*SUMIF('Daily Log'!$BS$18:$BS$1017,$B212,'Daily Log'!$BT$18:$BT$1017),0)","v":0},{"$f":"IFERROR($E212*SUMIF('Daily Log'!$BV$18:$BV$1017,$B212,'Daily Log'!$BW$18:$BW$1017),0)","v":0},{"$f":"IFERROR($E212*SUMIF('Daily Log'!$BY$18:$BY$1017,$B212,'Daily Log'!$BZ$18:$BZ$1017),0)","v":0},{"$f":"IFERROR($E212*SUMIF('Daily Log'!$CB$18:$CB$1017,$B212,'Daily Log'!$CC$18:$CC$1017),0)","v":0},{"$f":"IFERROR($E212*SUMIF('Daily Log'!$CE$18:$CE$1017,$B212,'Daily Log'!$CF$18:$CF$1017),0)","v":0},{"$f":"IFERROR($E212*SUMIF('Daily Log'!$CH$18:$CH$1017,$B212,'Daily Log'!$CI$18:$CI$1017),0)","v":0},{"$f":"IFERROR($E212*SUMIF('Daily Log'!$CK$18:$CK$1017,$B212,'Daily Log'!$CL$18:$CL$1017),0)","v":0},{"$f":"IFERROR($E212*SUMIF('Daily Log'!$CN$18:$CN$1017,$B212,'Daily Log'!$CO$18:$CO$1017),0)","v":0}]
[null,"DD02 1202:FREN FRIES",null,"SIDE ORDER-APPETIZER",1,0,{"$f":"IFERROR($E213*SUMIF('Daily Log'!$B$18:$B$1017,$B213,'Daily Log'!$C$18:$C$1017),0)","v":0},{"$f":"IFERROR($E213*SUMIF('Daily Log'!$E$18:$E$1017,$B213,'Daily Log'!$F$18:$F$1017),0)","v":0},{"$f":"IFERROR($E213*SUMIF('Daily Log'!$H$18:$H$1017,$B213,'Daily Log'!$I$18:$I$1017),0)","v":0},{"$f":"IFERROR($E213*SUMIF('Daily Log'!$K$18:$K$1017,$B213,'Daily Log'!$L$18:$L$1017),0)","v":0},{"$f":"IFERROR($E213*SUMIF('Daily Log'!$N$18:$N$1017,$B213,'Daily Log'!$O$18:$O$1017),0)","v":0},{"$f":"IFERROR($E213*SUMIF('Daily Log'!$Q$18:$Q$1017,$B213,'Daily Log'!$R$18:$R$1017),0)","v":0},{"$f":"IFERROR($E213*SUMIF('Daily Log'!$T$18:$T$1017,$B213,'Daily Log'!$U$18:$U$1017),0)","v":0},{"$f":"IFERROR($E213*SUMIF('Daily Log'!$W$18:$W$1017,$B213,'Daily Log'!$X$18:$X$1017),0)","v":0},{"$f":"IFERROR($E213*SUMIF('Daily Log'!$Z$18:$Z$1017,$B213,'Daily Log'!$AA$18:$AA$1017),0)","v":0},{"$f":"IFERROR($E213*SUMIF('Daily Log'!$AC$18:$AC$1017,$B213,'Daily Log'!$AD$18:$AD$1017),0)","v":0},{"$f":"IFERROR($E213*SUMIF('Daily Log'!$AF$18:$AF$1017,$B213,'Daily Log'!$AG$18:$AG$1017),0)","v":0},{"$f":"IFERROR($E213*SUMIF('Daily Log'!$AI$18:$AI$1017,$B213,'Daily Log'!$AJ$18:$AJ$1017),0)","v":0},{"$f":"IFERROR($E213*SUMIF('Daily Log'!$AL$18:$AL$1017,$B213,'Daily Log'!$AM$18:$AM$1017),0)","v":0},{"$f":"IFERROR($E213*SUMIF('Daily Log'!$AO$18:$AO$1017,$B213,'Daily Log'!$AP$18:$AP$1017),0)","v":0},{"$f":"IFERROR($E213*SUMIF('Daily Log'!$AR$18:$AR$1017,$B213,'Daily Log'!$AS$18:$AS$1017),0)","v":0},{"$f":"IFERROR($E213*SUMIF('Daily Log'!$AU$18:$AU$1017,$B213,'Daily Log'!$AV$18:$AV$1017),0)","v":0},{"$f":"IFERROR($E213*SUMIF('Daily Log'!$AX$18:$AX$1017,$B213,'Daily Log'!$AY$18:$AY$1017),0)","v":0},{"$f":"IFERROR($E213*SUMIF('Daily Log'!$BA$18:$BA$1017,$B213,'Daily Log'!$BB$18:$BB$1017),0)","v":0},{"$f":"IFERROR($E213*SUMIF('Daily Log'!$BD$18:$BD$1017,$B213,'Daily Log'!$BE$18:$BE$1017),0)","v":0},{"$f":"IFERROR($E213*SUMIF('Daily Log'!$BG$18:$BG$1017,$B213,'Daily Log'!$BH$18:$BH$1017),0)","v":0},{"$f":"IFERROR($E213*SUMIF('Daily Log'!$BJ$18:$BJ$1017,$B213,'Daily Log'!$BK$18:$BK$1017),0)","v":0},{"$f":"IFERROR($E213*SUMIF('Daily Log'!$BM$18:$BM$1017,$B213,'Daily Log'!$BN$18:$BN$1017),0)","v":0},{"$f":"IFERROR($E213*SUMIF('Daily Log'!$BP$18:$BP$1017,$B213,'Daily Log'!$BQ$18:$BQ$1017),0)","v":0},{"$f":"IFERROR($E213*SUMIF('Daily Log'!$BS$18:$BS$1017,$B213,'Daily Log'!$BT$18:$BT$1017),0)","v":0},{"$f":"IFERROR($E213*SUMIF('Daily Log'!$BV$18:$BV$1017,$B213,'Daily Log'!$BW$18:$BW$1017),0)","v":0},{"$f":"IFERROR($E213*SUMIF('Daily Log'!$BY$18:$BY$1017,$B213,'Daily Log'!$BZ$18:$BZ$1017),0)","v":0},{"$f":"IFERROR($E213*SUMIF('Daily Log'!$CB$18:$CB$1017,$B213,'Daily Log'!$CC$18:$CC$1017),0)","v":0},{"$f":"IFERROR($E213*SUMIF('Daily Log'!$CE$18:$CE$1017,$B213,'Daily Log'!$CF$18:$CF$1017),0)","v":0},{"$f":"IFERROR($E213*SUMIF('Daily Log'!$CH$18:$CH$1017,$B213,'Daily Log'!$CI$18:$CI$1017),0)","v":0},{"$f":"IFERROR($E213*SUMIF('Daily Log'!$CK$18:$CK$1017,$B213,'Daily Log'!$CL$18:$CL$1017),0)","v":0},{"$f":"IFERROR($E213*SUMIF('Daily Log'!$CN$18:$CN$1017,$B213,'Daily Log'!$CO$18:$CO$1017),0)","v":0}]
[null,"DD03 1203:GOLD MROOM",null,"SIDE ORDER-APPETIZER",1,0,{"$f":"IFERROR($E214*SUMIF('Daily Log'!$B$18:$B$1017,$B214,'Daily Log'!$C$18:$C$1017),0)","v":0},{"$f":"IFERROR($E214*SUMIF('Daily Log'!$E$18:$E$1017,$B214,'Daily Log'!$F$18:$F$1017),0)","v":0},{"$f":"IFERROR($E214*SUMIF('Daily Log'!$H$18:$H$1017,$B214,'Daily Log'!$I$18:$I$1017),0)","v":0},{"$f":"IFERROR($E214*SUMIF('Daily Log'!$K$18:$K$1017,$B214,'Daily Log'!$L$18:$L$1017),0)","v":0},{"$f":"IFERROR($E214*SUMIF('Daily Log'!$N$18:$N$1017,$B214,'Daily Log'!$O$18:$O$1017),0)","v":0},{"$f":"IFERROR($E214*SUMIF('Daily Log'!$Q$18:$Q$1017,$B214,'Daily Log'!$R$18:$R$1017),0)","v":0},{"$f":"IFERROR($E214*SUMIF('Daily Log'!$T$18:$T$1017,$B214,'Daily Log'!$U$18:$U$1017),0)","v":0},{"$f":"IFERROR($E214*SUMIF('Daily Log'!$W$18:$W$1017,$B214,'Daily Log'!$X$18:$X$1017),0)","v":0},{"$f":"IFERROR($E214*SUMIF('Daily Log'!$Z$18:$Z$1017,$B214,'Daily Log'!$AA$18:$AA$1017),0)","v":0},{"$f":"IFERROR($E214*SUMIF('Daily Log'!$AC$18:$AC$1017,$B214,'Daily Log'!$AD$18:$AD$1017),0)","v":0},{"$f":"IFERROR($E214*SUMIF('Daily Log'!$AF$18:$AF$1017,$B214,'Daily Log'!$AG$18:$AG$1017),0)","v":0},{"$f":"IFERROR($E214*SUMIF('Daily Log'!$AI$18:$AI$1017,$B214,'Daily Log'!$AJ$18:$AJ$1017),0)","v":0},{"$f":"IFERROR($E214*SUMIF('Daily Log'!$AL$18:$AL$1017,$B214,'Daily Log'!$AM$18:$AM$1017),0)","v":0},{"$f":"IFERROR($E214*SUMIF('Daily Log'!$AO$18:$AO$1017,$B214,'Daily Log'!$AP$18:$AP$1017),0)","v":0},{"$f":"IFERROR($E214*SUMIF('Daily Log'!$AR$18:$AR$1017,$B214,'Daily Log'!$AS$18:$AS$1017),0)","v":0},{"$f":"IFERROR($E214*SUMIF('Daily Log'!$AU$18:$AU$1017,$B214,'Daily Log'!$AV$18:$AV$1017),0)","v":0},{"$f":"IFERROR($E214*SUMIF('Daily Log'!$AX$18:$AX$1017,$B214,'Daily Log'!$AY$18:$AY$1017),0)","v":0},{"$f":"IFERROR($E214*SUMIF('Daily Log'!$BA$18:$BA$1017,$B214,'Daily Log'!$BB$18:$BB$1017),0)","v":0},{"$f":"IFERROR($E214*SUMIF('Daily Log'!$BD$18:$BD$1017,$B214,'Daily Log'!$BE$18:$BE$1017),0)","v":0},{"$f":"IFERROR($E214*SUMIF('Daily Log'!$BG$18:$BG$1017,$B214,'Daily Log'!$BH$18:$BH$1017),0)","v":0},{"$f":"IFERROR($E214*SUMIF('Daily Log'!$BJ$18:$BJ$1017,$B214,'Daily Log'!$BK$18:$BK$1017),0)","v":0},{"$f":"IFERROR($E214*SUMIF('Daily Log'!$BM$18:$BM$1017,$B214,'Daily Log'!$BN$18:$BN$1017),0)","v":0},{"$f":"IFERROR($E214*SUMIF('Daily Log'!$BP$18:$BP$1017,$B214,'Daily Log'!$BQ$18:$BQ$1017),0)","v":0},{"$f":"IFERROR($E214*SUMIF('Daily Log'!$BS$18:$BS$1017,$B214,'Daily Log'!$BT$18:$BT$1017),0)","v":0},{"$f":"IFERROR($E214*SUMIF('Daily Log'!$BV$18:$BV$1017,$B214,'Daily Log'!$BW$18:$BW$1017),0)","v":0},{"$f":"IFERROR($E214*SUMIF('Daily Log'!$BY$18:$BY$1017,$B214,'Daily Log'!$BZ$18:$BZ$1017),0)","v":0},{"$f":"IFERROR($E214*SUMIF('Daily Log'!$CB$18:$CB$1017,$B214,'Daily Log'!$CC$18:$CC$1017),0)","v":0},{"$f":"IFERROR($E214*SUMIF('Daily Log'!$CE$18:$CE$1017,$B214,'Daily Log'!$CF$18:$CF$1017),0)","v":0},{"$f":"IFERROR($E214*SUMIF('Daily Log'!$CH$18:$CH$1017,$B214,'Daily Log'!$CI$18:$CI$1017),0)","v":0},{"$f":"IFERROR($E214*SUMIF('Daily Log'!$CK$18:$CK$1017,$B214,'Daily Log'!$CL$18:$CL$1017),0)","v":0},{"$f":"IFERROR($E214*SUMIF('Daily Log'!$CN$18:$CN$1017,$B214,'Daily Log'!$CO$18:$CO$1017),0)","v":0}]
[null,"DD04 1204:FISHBALL",null,"SIDE ORDER-APPETIZER",1,0,{"$f":"IFERROR($E215*SUMIF('Daily Log'!$B$18:$B$1017,$B215,'Daily Log'!$C$18:$C$1017),0)","v":0},{"$f":"IFERROR($E215*SUMIF('Daily Log'!$E$18:$E$1017,$B215,'Daily Log'!$F$18:$F$1017),0)","v":0},{"$f":"IFERROR($E215*SUMIF('Daily Log'!$H$18:$H$1017,$B215,'Daily Log'!$I$18:$I$1017),0)","v":0},{"$f":"IFERROR($E215*SUMIF('Daily Log'!$K$18:$K$1017,$B215,'Daily Log'!$L$18:$L$1017),0)","v":0},{"$f":"IFERROR($E215*SUMIF('Daily Log'!$N$18:$N$1017,$B215,'Daily Log'!$O$18:$O$1017),0)","v":0},{"$f":"IFERROR($E215*SUMIF('Daily Log'!$Q$18:$Q$1017,$B215,'Daily Log'!$R$18:$R$1017),0)","v":0},{"$f":"IFERROR($E215*SUMIF('Daily Log'!$T$18:$T$1017,$B215,'Daily Log'!$U$18:$U$1017),0)","v":0},{"$f":"IFERROR($E215*SUMIF('Daily Log'!$W$18:$W$1017,$B215,'Daily Log'!$X$18:$X$1017),0)","v":0},{"$f":"IFERROR($E215*SUMIF('Daily Log'!$Z$18:$Z$1017,$B215,'Daily Log'!$AA$18:$AA$1017),0)","v":0},{"$f":"IFERROR($E215*SUMIF('Daily Log'!$AC$18:$AC$1017,$B215,'Daily Log'!$AD$18:$AD$1017),0)","v":0},{"$f":"IFERROR($E215*SUMIF('Daily Log'!$AF$18:$AF$1017,$B215,'Daily Log'!$AG$18:$AG$1017),0)","v":0},{"$f":"IFERROR($E215*SUMIF('Daily Log'!$AI$18:$AI$1017,$B215,'Daily Log'!$AJ$18:$AJ$1017),0)","v":0},{"$f":"IFERROR($E215*SUMIF('Daily Log'!$AL$18:$AL$1017,$B215,'Daily Log'!$AM$18:$AM$1017),0)","v":0},{"$f":"IFERROR($E215*SUMIF('Daily Log'!$AO$18:$AO$1017,$B215,'Daily Log'!$AP$18:$AP$1017),0)","v":0},{"$f":"IFERROR($E215*SUMIF('Daily Log'!$AR$18:$AR$1017,$B215,'Daily Log'!$AS$18:$AS$1017),0)","v":0},{"$f":"IFERROR($E215*SUMIF('Daily Log'!$AU$18:$AU$1017,$B215,'Daily Log'!$AV$18:$AV$1017),0)","v":0},{"$f":"IFERROR($E215*SUMIF('Daily Log'!$AX$18:$AX$1017,$B215,'Daily Log'!$AY$18:$AY$1017),0)","v":0},{"$f":"IFERROR($E215*SUMIF('Daily Log'!$BA$18:$BA$1017,$B215,'Daily Log'!$BB$18:$BB$1017),0)","v":0},{"$f":"IFERROR($E215*SUMIF('Daily Log'!$BD$18:$BD$1017,$B215,'Daily Log'!$BE$18:$BE$1017),0)","v":0},{"$f":"IFERROR($E215*SUMIF('Daily Log'!$BG$18:$BG$1017,$B215,'Daily Log'!$BH$18:$BH$1017),0)","v":0},{"$f":"IFERROR($E215*SUMIF('Daily Log'!$BJ$18:$BJ$1017,$B215,'Daily Log'!$BK$18:$BK$1017),0)","v":0},{"$f":"IFERROR($E215*SUMIF('Daily Log'!$BM$18:$BM$1017,$B215,'Daily Log'!$BN$18:$BN$1017),0)","v":0},{"$f":"IFERROR($E215*SUMIF('Daily Log'!$BP$18:$BP$1017,$B215,'Daily Log'!$BQ$18:$BQ$1017),0)","v":0},{"$f":"IFERROR($E215*SUMIF('Daily Log'!$BS$18:$BS$1017,$B215,'Daily Log'!$BT$18:$BT$1017),0)","v":0},{"$f":"IFERROR($E215*SUMIF('Daily Log'!$BV$18:$BV$1017,$B215,'Daily Log'!$BW$18:$BW$1017),0)","v":0},{"$f":"IFERROR($E215*SUMIF('Daily Log'!$BY$18:$BY$1017,$B215,'Daily Log'!$BZ$18:$BZ$1017),0)","v":0},{"$f":"IFERROR($E215*SUMIF('Daily Log'!$CB$18:$CB$1017,$B215,'Daily Log'!$CC$18:$CC$1017),0)","v":0},{"$f":"IFERROR($E215*SUMIF('Daily Log'!$CE$18:$CE$1017,$B215,'Daily Log'!$CF$18:$CF$1017),0)","v":0},{"$f":"IFERROR($E215*SUMIF('Daily Log'!$CH$18:$CH$1017,$B215,'Daily Log'!$CI$18:$CI$1017),0)","v":0},{"$f":"IFERROR($E215*SUMIF('Daily Log'!$CK$18:$CK$1017,$B215,'Daily Log'!$CL$18:$CL$1017),0)","v":0},{"$f":"IFERROR($E215*SUMIF('Daily Log'!$CN$18:$CN$1017,$B215,'Daily Log'!$CO$18:$CO$1017),0)","v":0}]
[null,"DD05 1205:RAINBOW RL",null,"SIDE ORDER-APPETIZER",1,0,{"$f":"IFERROR($E216*SUMIF('Daily Log'!$B$18:$B$1017,$B216,'Daily Log'!$C$18:$C$1017),0)","v":0},{"$f":"IFERROR($E216*SUMIF('Daily Log'!$E$18:$E$1017,$B216,'Daily Log'!$F$18:$F$1017),0)","v":0},{"$f":"IFERROR($E216*SUMIF('Daily Log'!$H$18:$H$1017,$B216,'Daily Log'!$I$18:$I$1017),0)","v":0},{"$f":"IFERROR($E216*SUMIF('Daily Log'!$K$18:$K$1017,$B216,'Daily Log'!$L$18:$L$1017),0)","v":0},{"$f":"IFERROR($E216*SUMIF('Daily Log'!$N$18:$N$1017,$B216,'Daily Log'!$O$18:$O$1017),0)","v":0},{"$f":"IFERROR($E216*SUMIF('Daily Log'!$Q$18:$Q$1017,$B216,'Daily Log'!$R$18:$R$1017),0)","v":0},{"$f":"IFERROR($E216*SUMIF('Daily Log'!$T$18:$T$1017,$B216,'Daily Log'!$U$18:$U$1017),0)","v":0},{"$f":"IFERROR($E216*SUMIF('Daily Log'!$W$18:$W$1017,$B216,'Daily Log'!$X$18:$X$1017),0)","v":0},{"$f":"IFERROR($E216*SUMIF('Daily Log'!$Z$18:$Z$1017,$B216,'Daily Log'!$AA$18:$AA$1017),0)","v":0},{"$f":"IFERROR($E216*SUMIF('Daily Log'!$AC$18:$AC$1017,$B216,'Daily Log'!$AD$18:$AD$1017),0)","v":0},{"$f":"IFERROR($E216*SUMIF('Daily Log'!$AF$18:$AF$1017,$B216,'Daily Log'!$AG$18:$AG$1017),0)","v":0},{"$f":"IFERROR($E216*SUMIF('Daily Log'!$AI$18:$AI$1017,$B216,'Daily Log'!$AJ$18:$AJ$1017),0)","v":0},{"$f":"IFERROR($E216*SUMIF('Daily Log'!$AL$18:$AL$1017,$B216,'Daily Log'!$AM$18:$AM$1017),0)","v":0},{"$f":"IFERROR($E216*SUMIF('Daily Log'!$AO$18:$AO$1017,$B216,'Daily Log'!$AP$18:$AP$1017),0)","v":0},{"$f":"IFERROR($E216*SUMIF('Daily Log'!$AR$18:$AR$1017,$B216,'Daily Log'!$AS$18:$AS$1017),0)","v":0},{"$f":"IFERROR($E216*SUMIF('Daily Log'!$AU$18:$AU$1017,$B216,'Daily Log'!$AV$18:$AV$1017),0)","v":0},{"$f":"IFERROR($E216*SUMIF('Daily Log'!$AX$18:$AX$1017,$B216,'Daily Log'!$AY$18:$AY$1017),0)","v":0},{"$f":"IFERROR($E216*SUMIF('Daily Log'!$BA$18:$BA$1017,$B216,'Daily Log'!$BB$18:$BB$1017),0)","v":0},{"$f":"IFERROR($E216*SUMIF('Daily Log'!$BD$18:$BD$1017,$B216,'Daily Log'!$BE$18:$BE$1017),0)","v":0},{"$f":"IFERROR($E216*SUMIF('Daily Log'!$BG$18:$BG$1017,$B216,'Daily Log'!$BH$18:$BH$1017),0)","v":0},{"$f":"IFERROR($E216*SUMIF('Daily Log'!$BJ$18:$BJ$1017,$B216,'Daily Log'!$BK$18:$BK$1017),0)","v":0},{"$f":"IFERROR($E216*SUMIF('Daily Log'!$BM$18:$BM$1017,$B216,'Daily Log'!$BN$18:$BN$1017),0)","v":0},{"$f":"IFERROR($E216*SUMIF('Daily Log'!$BP$18:$BP$1017,$B216,'Daily Log'!$BQ$18:$BQ$1017),0)","v":0},{"$f":"IFERROR($E216*SUMIF('Daily Log'!$BS$18:$BS$1017,$B216,'Daily Log'!$BT$18:$BT$1017),0)","v":0},{"$f":"IFERROR($E216*SUMIF('Daily Log'!$BV$18:$BV$1017,$B216,'Daily Log'!$BW$18:$BW$1017),0)","v":0},{"$f":"IFERROR($E216*SUMIF('Daily Log'!$BY$18:$BY$1017,$B216,'Daily Log'!$BZ$18:$BZ$1017),0)","v":0},{"$f":"IFERROR($E216*SUMIF('Daily Log'!$CB$18:$CB$1017,$B216,'Daily Log'!$CC$18:$CC$1017),0)","v":0},{"$f":"IFERROR($E216*SUMIF('Daily Log'!$CE$18:$CE$1017,$B216,'Daily Log'!$CF$18:$CF$1017),0)","v":0},{"$f":"IFERROR($E216*SUMIF('Daily Log'!$CH$18:$CH$1017,$B216,'Daily Log'!$CI$18:$CI$1017),0)","v":0},{"$f":"IFERROR($E216*SUMIF('Daily Log'!$CK$18:$CK$1017,$B216,'Daily Log'!$CL$18:$CL$1017),0)","v":0},{"$f":"IFERROR($E216*SUMIF('Daily Log'!$CN$18:$CN$1017,$B216,'Daily Log'!$CO$18:$CO$1017),0)","v":0}]
[null,"DD06 1206:SPRING RL",null,"SIDE ORDER-APPETIZER",1,0,{"$f":"IFERROR($E217*SUMIF('Daily Log'!$B$18:$B$1017,$B217,'Daily Log'!$C$18:$C$1017),0)","v":0},{"$f":"IFERROR($E217*SUMIF('Daily Log'!$E$18:$E$1017,$B217,'Daily Log'!$F$18:$F$1017),0)","v":0},{"$f":"IFERROR($E217*SUMIF('Daily Log'!$H$18:$H$1017,$B217,'Daily Log'!$I$18:$I$1017),0)","v":0},{"$f":"IFERROR($E217*SUMIF('Daily Log'!$K$18:$K$1017,$B217,'Daily Log'!$L$18:$L$1017),0)","v":0},{"$f":"IFERROR($E217*SUMIF('Daily Log'!$N$18:$N$1017,$B217,'Daily Log'!$O$18:$O$1017),0)","v":0},{"$f":"IFERROR($E217*SUMIF('Daily Log'!$Q$18:$Q$1017,$B217,'Daily Log'!$R$18:$R$1017),0)","v":0},{"$f":"IFERROR($E217*SUMIF('Daily Log'!$T$18:$T$1017,$B217,'Daily Log'!$U$18:$U$1017),0)","v":0},{"$f":"IFERROR($E217*SUMIF('Daily Log'!$W$18:$W$1017,$B217,'Daily Log'!$X$18:$X$1017),0)","v":0},{"$f":"IFERROR($E217*SUMIF('Daily Log'!$Z$18:$Z$1017,$B217,'Daily Log'!$AA$18:$AA$1017),0)","v":0},{"$f":"IFERROR($E217*SUMIF('Daily Log'!$AC$18:$AC$1017,$B217,'Daily Log'!$AD$18:$AD$1017),0)","v":0},{"$f":"IFERROR($E217*SUMIF('Daily Log'!$AF$18:$AF$1017,$B217,'Daily Log'!$AG$18:$AG$1017),0)","v":0},{"$f":"IFERROR($E217*SUMIF('Daily Log'!$AI$18:$AI$1017,$B217,'Daily Log'!$AJ$18:$AJ$1017),0)","v":0},{"$f":"IFERROR($E217*SUMIF('Daily Log'!$AL$18:$AL$1017,$B217,'Daily Log'!$AM$18:$AM$1017),0)","v":0},{"$f":"IFERROR($E217*SUMIF('Daily Log'!$AO$18:$AO$1017,$B217,'Daily Log'!$AP$18:$AP$1017),0)","v":0},{"$f":"IFERROR($E217*SUMIF('Daily Log'!$AR$18:$AR$1017,$B217,'Daily Log'!$AS$18:$AS$1017),0)","v":0},{"$f":"IFERROR($E217*SUMIF('Daily Log'!$AU$18:$AU$1017,$B217,'Daily Log'!$AV$18:$AV$1017),0)","v":0},{"$f":"IFERROR($E217*SUMIF('Daily Log'!$AX$18:$AX$1017,$B217,'Daily Log'!$AY$18:$AY$1017),0)","v":0},{"$f":"IFERROR($E217*SUMIF('Daily Log'!$BA$18:$BA$1017,$B217,'Daily Log'!$BB$18:$BB$1017),0)","v":0},{"$f":"IFERROR($E217*SUMIF('Daily Log'!$BD$18:$BD$1017,$B217,'Daily Log'!$BE$18:$BE$1017),0)","v":0},{"$f":"IFERROR($E217*SUMIF('Daily Log'!$BG$18:$BG$1017,$B217,'Daily Log'!$BH$18:$BH$1017),0)","v":0},{"$f":"IFERROR($E217*SUMIF('Daily Log'!$BJ$18:$BJ$1017,$B217,'Daily Log'!$BK$18:$BK$1017),0)","v":0},{"$f":"IFERROR($E217*SUMIF('Daily Log'!$BM$18:$BM$1017,$B217,'Daily Log'!$BN$18:$BN$1017),0)","v":0},{"$f":"IFERROR($E217*SUMIF('Daily Log'!$BP$18:$BP$1017,$B217,'Daily Log'!$BQ$18:$BQ$1017),0)","v":0},{"$f":"IFERROR($E217*SUMIF('Daily Log'!$BS$18:$BS$1017,$B217,'Daily Log'!$BT$18:$BT$1017),0)","v":0},{"$f":"IFERROR($E217*SUMIF('Daily Log'!$BV$18:$BV$1017,$B217,'Daily Log'!$BW$18:$BW$1017),0)","v":0},{"$f":"IFERROR($E217*SUMIF('Daily Log'!$BY$18:$BY$1017,$B217,'Daily Log'!$BZ$18:$BZ$1017),0)","v":0},{"$f":"IFERROR($E217*SUMIF('Daily Log'!$CB$18:$CB$1017,$B217,'Daily Log'!$CC$18:$CC$1017),0)","v":0},{"$f":"IFERROR($E217*SUMIF('Daily Log'!$CE$18:$CE$1017,$B217,'Daily Log'!$CF$18:$CF$1017),0)","v":0},{"$f":"IFERROR($E217*SUMIF('Daily Log'!$CH$18:$CH$1017,$B217,'Daily Log'!$CI$18:$CI$1017),0)","v":0},{"$f":"IFERROR($E217*SUMIF('Daily Log'!$CK$18:$CK$1017,$B217,'Daily Log'!$CL$18:$CL$1017),0)","v":0},{"$f":"IFERROR($E217*SUMIF('Daily Log'!$CN$18:$CN$1017,$B217,'Daily Log'!$CO$18:$CO$1017),0)","v":0}]
[null,"DD07 1207:SAUSAGE",null,"SIDE ORDER-APPETIZER",1,0,{"$f":"IFERROR($E218*SUMIF('Daily Log'!$B$18:$B$1017,$B218,'Daily Log'!$C$18:$C$1017),0)","v":0},{"$f":"IFERROR($E218*SUMIF('Daily Log'!$E$18:$E$1017,$B218,'Daily Log'!$F$18:$F$1017),0)","v":0},{"$f":"IFERROR($E218*SUMIF('Daily Log'!$H$18:$H$1017,$B218,'Daily Log'!$I$18:$I$1017),0)","v":0},{"$f":"IFERROR($E218*SUMIF('Daily Log'!$K$18:$K$1017,$B218,'Daily Log'!$L$18:$L$1017),0)","v":0},{"$f":"IFERROR($E218*SUMIF('Daily Log'!$N$18:$N$1017,$B218,'Daily Log'!$O$18:$O$1017),0)","v":0},{"$f":"IFERROR($E218*SUMIF('Daily Log'!$Q$18:$Q$1017,$B218,'Daily Log'!$R$18:$R$1017),0)","v":0},{"$f":"IFERROR($E218*SUMIF('Daily Log'!$T$18:$T$1017,$B218,'Daily Log'!$U$18:$U$1017),0)","v":0},{"$f":"IFERROR($E218*SUMIF('Daily Log'!$W$18:$W$1017,$B218,'Daily Log'!$X$18:$X$1017),0)","v":0},{"$f":"IFERROR($E218*SUMIF('Daily Log'!$Z$18:$Z$1017,$B218,'Daily Log'!$AA$18:$AA$1017),0)","v":0},{"$f":"IFERROR($E218*SUMIF('Daily Log'!$AC$18:$AC$1017,$B218,'Daily Log'!$AD$18:$AD$1017),0)","v":0},{"$f":"IFERROR($E218*SUMIF('Daily Log'!$AF$18:$AF$1017,$B218,'Daily Log'!$AG$18:$AG$1017),0)","v":0},{"$f":"IFERROR($E218*SUMIF('Daily Log'!$AI$18:$AI$1017,$B218,'Daily Log'!$AJ$18:$AJ$1017),0)","v":0},{"$f":"IFERROR($E218*SUMIF('Daily Log'!$AL$18:$AL$1017,$B218,'Daily Log'!$AM$18:$AM$1017),0)","v":0},{"$f":"IFERROR($E218*SUMIF('Daily Log'!$AO$18:$AO$1017,$B218,'Daily Log'!$AP$18:$AP$1017),0)","v":0},{"$f":"IFERROR($E218*SUMIF('Daily Log'!$AR$18:$AR$1017,$B218,'Daily Log'!$AS$18:$AS$1017),0)","v":0},{"$f":"IFERROR($E218*SUMIF('Daily Log'!$AU$18:$AU$1017,$B218,'Daily Log'!$AV$18:$AV$1017),0)","v":0},{"$f":"IFERROR($E218*SUMIF('Daily Log'!$AX$18:$AX$1017,$B218,'Daily Log'!$AY$18:$AY$1017),0)","v":0},{"$f":"IFERROR($E218*SUMIF('Daily Log'!$BA$18:$BA$1017,$B218,'Daily Log'!$BB$18:$BB$1017),0)","v":0},{"$f":"IFERROR($E218*SUMIF('Daily Log'!$BD$18:$BD$1017,$B218,'Daily Log'!$BE$18:$BE$1017),0)","v":0},{"$f":"IFERROR($E218*SUMIF('Daily Log'!$BG$18:$BG$1017,$B218,'Daily Log'!$BH$18:$BH$1017),0)","v":0},{"$f":"IFERROR($E218*SUMIF('Daily Log'!$BJ$18:$BJ$1017,$B218,'Daily Log'!$BK$18:$BK$1017),0)","v":0},{"$f":"IFERROR($E218*SUMIF('Daily Log'!$BM$18:$BM$1017,$B218,'Daily Log'!$BN$18:$BN$1017),0)","v":0},{"$f":"IFERROR($E218*SUMIF('Daily Log'!$BP$18:$BP$1017,$B218,'Daily Log'!$BQ$18:$BQ$1017),0)","v":0},{"$f":"IFERROR($E218*SUMIF('Daily Log'!$BS$18:$BS$1017,$B218,'Daily Log'!$BT$18:$BT$1017),0)","v":0},{"$f":"IFERROR($E218*SUMIF('Daily Log'!$BV$18:$BV$1017,$B218,'Daily Log'!$BW$18:$BW$1017),0)","v":0},{"$f":"IFERROR($E218*SUMIF('Daily Log'!$BY$18:$BY$1017,$B218,'Daily Log'!$BZ$18:$BZ$1017),0)","v":0},{"$f":"IFERROR($E218*SUMIF('Daily Log'!$CB$18:$CB$1017,$B218,'Daily Log'!$CC$18:$CC$1017),0)","v":0},{"$f":"IFERROR($E218*SUMIF('Daily Log'!$CE$18:$CE$1017,$B218,'Daily Log'!$CF$18:$CF$1017),0)","v":0},{"$f":"IFERROR($E218*SUMIF('Daily Log'!$CH$18:$CH$1017,$B218,'Daily Log'!$CI$18:$CI$1017),0)","v":0},{"$f":"IFERROR($E218*SUMIF('Daily Log'!$CK$18:$CK$1017,$B218,'Daily Log'!$CL$18:$CL$1017),0)","v":0},{"$f":"IFERROR($E218*SUMIF('Daily Log'!$CN$18:$CN$1017,$B218,'Daily Log'!$CO$18:$CO$1017),0)","v":0}]
[null,"DD08 1208:HOTDOG BUN",null,"SIDE ORDER-APPETIZER",1,0,{"$f":"IFERROR($E219*SUMIF('Daily Log'!$B$18:$B$1017,$B219,'Daily Log'!$C$18:$C$1017),0)","v":0},{"$f":"IFERROR($E219*SUMIF('Daily Log'!$E$18:$E$1017,$B219,'Daily Log'!$F$18:$F$1017),0)","v":0},{"$f":"IFERROR($E219*SUMIF('Daily Log'!$H$18:$H$1017,$B219,'Daily Log'!$I$18:$I$1017),0)","v":0},{"$f":"IFERROR($E219*SUMIF('Daily Log'!$K$18:$K$1017,$B219,'Daily Log'!$L$18:$L$1017),0)","v":0},{"$f":"IFERROR($E219*SUMIF('Daily Log'!$N$18:$N$1017,$B219,'Daily Log'!$O$18:$O$1017),0)","v":0},{"$f":"IFERROR($E219*SUMIF('Daily Log'!$Q$18:$Q$1017,$B219,'Daily Log'!$R$18:$R$1017),0)","v":0},{"$f":"IFERROR($E219*SUMIF('Daily Log'!$T$18:$T$1017,$B219,'Daily Log'!$U$18:$U$1017),0)","v":0},{"$f":"IFERROR($E219*SUMIF('Daily Log'!$W$18:$W$1017,$B219,'Daily Log'!$X$18:$X$1017),0)","v":0},{"$f":"IFERROR($E219*SUMIF('Daily Log'!$Z$18:$Z$1017,$B219,'Daily Log'!$AA$18:$AA$1017),0)","v":0},{"$f":"IFERROR($E219*SUMIF('Daily Log'!$AC$18:$AC$1017,$B219,'Daily Log'!$AD$18:$AD$1017),0)","v":0},{"$f":"IFERROR($E219*SUMIF('Daily Log'!$AF$18:$AF$1017,$B219,'Daily Log'!$AG$18:$AG$1017),0)","v":0},{"$f":"IFERROR($E219*SUMIF('Daily Log'!$AI$18:$AI$1017,$B219,'Daily Log'!$AJ$18:$AJ$1017),0)","v":0},{"$f":"IFERROR($E219*SUMIF('Daily Log'!$AL$18:$AL$1017,$B219,'Daily Log'!$AM$18:$AM$1017),0)","v":0},{"$f":"IFERROR($E219*SUMIF('Daily Log'!$AO$18:$AO$1017,$B219,'Daily Log'!$AP$18:$AP$1017),0)","v":0},{"$f":"IFERROR($E219*SUMIF('Daily Log'!$AR$18:$AR$1017,$B219,'Daily Log'!$AS$18:$AS$1017),0)","v":0},{"$f":"IFERROR($E219*SUMIF('Daily Log'!$AU$18:$AU$1017,$B219,'Daily Log'!$AV$18:$AV$1017),0)","v":0},{"$f":"IFERROR($E219*SUMIF('Daily Log'!$AX$18:$AX$1017,$B219,'Daily Log'!$AY$18:$AY$1017),0)","v":0},{"$f":"IFERROR($E219*SUMIF('Daily Log'!$BA$18:$BA$1017,$B219,'Daily Log'!$BB$18:$BB$1017),0)","v":0},{"$f":"IFERROR($E219*SUMIF('Daily Log'!$BD$18:$BD$1017,$B219,'Daily Log'!$BE$18:$BE$1017),0)","v":0},{"$f":"IFERROR($E219*SUMIF('Daily Log'!$BG$18:$BG$1017,$B219,'Daily Log'!$BH$18:$BH$1017),0)","v":0},{"$f":"IFERROR($E219*SUMIF('Daily Log'!$BJ$18:$BJ$1017,$B219,'Daily Log'!$BK$18:$BK$1017),0)","v":0},{"$f":"IFERROR($E219*SUMIF('Daily Log'!$BM$18:$BM$1017,$B219,'Daily Log'!$BN$18:$BN$1017),0)","v":0},{"$f":"IFERROR($E219*SUMIF('Daily Log'!$BP$18:$BP$1017,$B219,'Daily Log'!$BQ$18:$BQ$1017),0)","v":0},{"$f":"IFERROR($E219*SUMIF('Daily Log'!$BS$18:$BS$1017,$B219,'Daily Log'!$BT$18:$BT$1017),0)","v":0},{"$f":"IFERROR($E219*SUMIF('Daily Log'!$BV$18:$BV$1017,$B219,'Daily Log'!$BW$18:$BW$1017),0)","v":0},{"$f":"IFERROR($E219*SUMIF('Daily Log'!$BY$18:$BY$1017,$B219,'Daily Log'!$BZ$18:$BZ$1017),0)","v":0},{"$f":"IFERROR($E219*SUMIF('Daily Log'!$CB$18:$CB$1017,$B219,'Daily Log'!$CC$18:$CC$1017),0)","v":0},{"$f":"IFERROR($E219*SUMIF('Daily Log'!$CE$18:$CE$1017,$B219,'Daily Log'!$CF$18:$CF$1017),0)","v":0},{"$f":"IFERROR($E219*SUMIF('Daily Log'!$CH$18:$CH$1017,$B219,'Daily Log'!$CI$18:$CI$1017),0)","v":0},{"$f":"IFERROR($E219*SUMIF('Daily Log'!$CK$18:$CK$1017,$B219,'Daily Log'!$CL$18:$CL$1017),0)","v":0},{"$f":"IFERROR($E219*SUMIF('Daily Log'!$CN$18:$CN$1017,$B219,'Daily Log'!$CO$18:$CO$1017),0)","v":0}]
[null,"DD09 1209:SFD TOFU",null,"SIDE ORDER-APPETIZER",1,0,{"$f":"IFERROR($E220*SUMIF('Daily Log'!$B$18:$B$1017,$B220,'Daily Log'!$C$18:$C$1017),0)","v":0},{"$f":"IFERROR($E220*SUMIF('Daily Log'!$E$18:$E$1017,$B220,'Daily Log'!$F$18:$F$1017),0)","v":0},{"$f":"IFERROR($E220*SUMIF('Daily Log'!$H$18:$H$1017,$B220,'Daily Log'!$I$18:$I$1017),0)","v":0},{"$f":"IFERROR($E220*SUMIF('Daily Log'!$K$18:$K$1017,$B220,'Daily Log'!$L$18:$L$1017),0)","v":0},{"$f":"IFERROR($E220*SUMIF('Daily Log'!$N$18:$N$1017,$B220,'Daily Log'!$O$18:$O$1017),0)","v":0},{"$f":"IFERROR($E220*SUMIF('Daily Log'!$Q$18:$Q$1017,$B220,'Daily Log'!$R$18:$R$1017),0)","v":0},{"$f":"IFERROR($E220*SUMIF('Daily Log'!$T$18:$T$1017,$B220,'Daily Log'!$U$18:$U$1017),0)","v":0},{"$f":"IFERROR($E220*SUMIF('Daily Log'!$W$18:$W$1017,$B220,'Daily Log'!$X$18:$X$1017),0)","v":0},{"$f":"IFERROR($E220*SUMIF('Daily Log'!$Z$18:$Z$1017,$B220,'Daily Log'!$AA$18:$AA$1017),0)","v":0},{"$f":"IFERROR($E220*SUMIF('Daily Log'!$AC$18:$AC$1017,$B220,'Daily Log'!$AD$18:$AD$1017),0)","v":0},{"$f":"IFERROR($E220*SUMIF('Daily Log'!$AF$18:$AF$1017,$B220,'Daily Log'!$AG$18:$AG$1017),0)","v":0},{"$f":"IFERROR($E220*SUMIF('Daily Log'!$AI$18:$AI$1017,$B220,'Daily Log'!$AJ$18:$AJ$1017),0)","v":0},{"$f":"IFERROR($E220*SUMIF('Daily Log'!$AL$18:$AL$1017,$B220,'Daily Log'!$AM$18:$AM$1017),0)","v":0},{"$f":"IFERROR($E220*SUMIF('Daily Log'!$AO$18:$AO$1017,$B220,'Daily Log'!$AP$18:$AP$1017),0)","v":0},{"$f":"IFERROR($E220*SUMIF('Daily Log'!$AR$18:$AR$1017,$B220,'Daily Log'!$AS$18:$AS$1017),0)","v":0},{"$f":"IFERROR($E220*SUMIF('Daily Log'!$AU$18:$AU$1017,$B220,'Daily Log'!$AV$18:$AV$1017),0)","v":0},{"$f":"IFERROR($E220*SUMIF('Daily Log'!$AX$18:$AX$1017,$B220,'Daily Log'!$AY$18:$AY$1017),0)","v":0},{"$f":"IFERROR($E220*SUMIF('Daily Log'!$BA$18:$BA$1017,$B220,'Daily Log'!$BB$18:$BB$1017),0)","v":0},{"$f":"IFERROR($E220*SUMIF('Daily Log'!$BD$18:$BD$1017,$B220,'Daily Log'!$BE$18:$BE$1017),0)","v":0},{"$f":"IFERROR($E220*SUMIF('Daily Log'!$BG$18:$BG$1017,$B220,'Daily Log'!$BH$18:$BH$1017),0)","v":0},{"$f":"IFERROR($E220*SUMIF('Daily Log'!$BJ$18:$BJ$1017,$B220,'Daily Log'!$BK$18:$BK$1017),0)","v":0},{"$f":"IFERROR($E220*SUMIF('Daily Log'!$BM$18:$BM$1017,$B220,'Daily Log'!$BN$18:$BN$1017),0)","v":0},{"$f":"IFERROR($E220*SUMIF('Daily Log'!$BP$18:$BP$1017,$B220,'Daily Log'!$BQ$18:$BQ$1017),0)","v":0},{"$f":"IFERROR($E220*SUMIF('Daily Log'!$BS$18:$BS$1017,$B220,'Daily Log'!$BT$18:$BT$1017),0)","v":0},{"$f":"IFERROR($E220*SUMIF('Daily Log'!$BV$18:$BV$1017,$B220,'Daily Log'!$BW$18:$BW$1017),0)","v":0},{"$f":"IFERROR($E220*SUMIF('Daily Log'!$BY$18:$BY$1017,$B220,'Daily Log'!$BZ$18:$BZ$1017),0)","v":0},{"$f":"IFERROR($E220*SUMIF('Daily Log'!$CB$18:$CB$1017,$B220,'Daily Log'!$CC$18:$CC$1017),0)","v":0},{"$f":"IFERROR($E220*SUMIF('Daily Log'!$CE$18:$CE$1017,$B220,'Daily Log'!$CF$18:$CF$1017),0)","v":0},{"$f":"IFERROR($E220*SUMIF('Daily Log'!$CH$18:$CH$1017,$B220,'Daily Log'!$CI$18:$CI$1017),0)","v":0},{"$f":"IFERROR($E220*SUMIF('Daily Log'!$CK$18:$CK$1017,$B220,'Daily Log'!$CL$18:$CL$1017),0)","v":0},{"$f":"IFERROR($E220*SUMIF('Daily Log'!$CN$18:$CN$1017,$B220,'Daily Log'!$CO$18:$CO$1017),0)","v":0}]
[null,"DD10 1301:DUMPLING",null,"SIDE ORDER-APPETIZER",1,0,{"$f":"IFERROR($E221*SUMIF('Daily Log'!$B$18:$B$1017,$B221,'Daily Log'!$C$18:$C$1017),0)","v":0},{"$f":"IFERROR($E221*SUMIF('Daily Log'!$E$18:$E$1017,$B221,'Daily Log'!$F$18:$F$1017),0)","v":0},{"$f":"IFERROR($E221*SUMIF('Daily Log'!$H$18:$H$1017,$B221,'Daily Log'!$I$18:$I$1017),0)","v":0},{"$f":"IFERROR($E221*SUMIF('Daily Log'!$K$18:$K$1017,$B221,'Daily Log'!$L$18:$L$1017),0)","v":0},{"$f":"IFERROR($E221*SUMIF('Daily Log'!$N$18:$N$1017,$B221,'Daily Log'!$O$18:$O$1017),0)","v":0},{"$f":"IFERROR($E221*SUMIF('Daily Log'!$Q$18:$Q$1017,$B221,'Daily Log'!$R$18:$R$1017),0)","v":0},{"$f":"IFERROR($E221*SUMIF('Daily Log'!$T$18:$T$1017,$B221,'Daily Log'!$U$18:$U$1017),0)","v":0},{"$f":"IFERROR($E221*SUMIF('Daily Log'!$W$18:$W$1017,$B221,'Daily Log'!$X$18:$X$1017),0)","v":0},{"$f":"IFERROR($E221*SUMIF('Daily Log'!$Z$18:$Z$1017,$B221,'Daily Log'!$AA$18:$AA$1017),0)","v":0},{"$f":"IFERROR($E221*SUMIF('Daily Log'!$AC$18:$AC$1017,$B221,'Daily Log'!$AD$18:$AD$1017),0)","v":0},{"$f":"IFERROR($E221*SUMIF('Daily Log'!$AF$18:$AF$1017,$B221,'Daily Log'!$AG$18:$AG$1017),0)","v":0},{"$f":"IFERROR($E221*SUMIF('Daily Log'!$AI$18:$AI$1017,$B221,'Daily Log'!$AJ$18:$AJ$1017),0)","v":0},{"$f":"IFERROR($E221*SUMIF('Daily Log'!$AL$18:$AL$1017,$B221,'Daily Log'!$AM$18:$AM$1017),0)","v":0},{"$f":"IFERROR($E221*SUMIF('Daily Log'!$AO$18:$AO$1017,$B221,'Daily Log'!$AP$18:$AP$1017),0)","v":0},{"$f":"IFERROR($E221*SUMIF('Daily Log'!$AR$18:$AR$1017,$B221,'Daily Log'!$AS$18:$AS$1017),0)","v":0},{"$f":"IFERROR($E221*SUMIF('Daily Log'!$AU$18:$AU$1017,$B221,'Daily Log'!$AV$18:$AV$1017),0)","v":0},{"$f":"IFERROR($E221*SUMIF('Daily Log'!$AX$18:$AX$1017,$B221,'Daily Log'!$AY$18:$AY$1017),0)","v":0},{"$f":"IFERROR($E221*SUMIF('Daily Log'!$BA$18:$BA$1017,$B221,'Daily Log'!$BB$18:$BB$1017),0)","v":0},{"$f":"IFERROR($E221*SUMIF('Daily Log'!$BD$18:$BD$1017,$B221,'Daily Log'!$BE$18:$BE$1017),0)","v":0},{"$f":"IFERROR($E221*SUMIF('Daily Log'!$BG$18:$BG$1017,$B221,'Daily Log'!$BH$18:$BH$1017),0)","v":0},{"$f":"IFERROR($E221*SUMIF('Daily Log'!$BJ$18:$BJ$1017,$B221,'Daily Log'!$BK$18:$BK$1017),0)","v":0},{"$f":"IFERROR($E221*SUMIF('Daily Log'!$BM$18:$BM$1017,$B221,'Daily Log'!$BN$18:$BN$1017),0)","v":0},{"$f":"IFERROR($E221*SUMIF('Daily Log'!$BP$18:$BP$1017,$B221,'Daily Log'!$BQ$18:$BQ$1017),0)","v":0},{"$f":"IFERROR($E221*SUMIF('Daily Log'!$BS$18:$BS$1017,$B221,'Daily Log'!$BT$18:$BT$1017),0)","v":0},{"$f":"IFERROR($E221*SUMIF('Daily Log'!$BV$18:$BV$1017,$B221,'Daily Log'!$BW$18:$BW$1017),0)","v":0},{"$f":"IFERROR($E221*SUMIF('Daily Log'!$BY$18:$BY$1017,$B221,'Daily Log'!$BZ$18:$BZ$1017),0)","v":0},{"$f":"IFERROR($E221*SUMIF('Daily Log'!$CB$18:$CB$1017,$B221,'Daily Log'!$CC$18:$CC$1017),0)","v":0},{"$f":"IFERROR($E221*SUMIF('Daily Log'!$CE$18:$CE$1017,$B221,'Daily Log'!$CF$18:$CF$1017),0)","v":0},{"$f":"IFERROR($E221*SUMIF('Daily Log'!$CH$18:$CH$1017,$B221,'Daily Log'!$CI$18:$CI$1017),0)","v":0},{"$f":"IFERROR($E221*SUMIF('Daily Log'!$CK$18:$CK$1017,$B221,'Daily Log'!$CL$18:$CL$1017),0)","v":0},{"$f":"IFERROR($E221*SUMIF('Daily Log'!$CN$18:$CN$1017,$B221,'Daily Log'!$CO$18:$CO$1017),0)","v":0}]
[null,"DD11 1302:NUGGET",null,"SIDE ORDER-APPETIZER",1,0,{"$f":"IFERROR($E222*SUMIF('Daily Log'!$B$18:$B$1017,$B222,'Daily Log'!$C$18:$C$1017),0)","v":0},{"$f":"IFERROR($E222*SUMIF('Daily Log'!$E$18:$E$1017,$B222,'Daily Log'!$F$18:$F$1017),0)","v":0},{"$f":"IFERROR($E222*SUMIF('Daily Log'!$H$18:$H$1017,$B222,'Daily Log'!$I$18:$I$1017),0)","v":0},{"$f":"IFERROR($E222*SUMIF('Daily Log'!$K$18:$K$1017,$B222,'Daily Log'!$L$18:$L$1017),0)","v":0},{"$f":"IFERROR($E222*SUMIF('Daily Log'!$N$18:$N$1017,$B222,'Daily Log'!$O$18:$O$1017),0)","v":0},{"$f":"IFERROR($E222*SUMIF('Daily Log'!$Q$18:$Q$1017,$B222,'Daily Log'!$R$18:$R$1017),0)","v":0},{"$f":"IFERROR($E222*SUMIF('Daily Log'!$T$18:$T$1017,$B222,'Daily Log'!$U$18:$U$1017),0)","v":0},{"$f":"IFERROR($E222*SUMIF('Daily Log'!$W$18:$W$1017,$B222,'Daily Log'!$X$18:$X$1017),0)","v":0},{"$f":"IFERROR($E222*SUMIF('Daily Log'!$Z$18:$Z$1017,$B222,'Daily Log'!$AA$18:$AA$1017),0)","v":0},{"$f":"IFERROR($E222*SUMIF('Daily Log'!$AC$18:$AC$1017,$B222,'Daily Log'!$AD$18:$AD$1017),0)","v":0},{"$f":"IFERROR($E222*SUMIF('Daily Log'!$AF$18:$AF$1017,$B222,'Daily Log'!$AG$18:$AG$1017),0)","v":0},{"$f":"IFERROR($E222*SUMIF('Daily Log'!$AI$18:$AI$1017,$B222,'Daily Log'!$AJ$18:$AJ$1017),0)","v":0},{"$f":"IFERROR($E222*SUMIF('Daily Log'!$AL$18:$AL$1017,$B222,'Daily Log'!$AM$18:$AM$1017),0)","v":0},{"$f":"IFERROR($E222*SUMIF('Daily Log'!$AO$18:$AO$1017,$B222,'Daily Log'!$AP$18:$AP$1017),0)","v":0},{"$f":"IFERROR($E222*SUMIF('Daily Log'!$AR$18:$AR$1017,$B222,'Daily Log'!$AS$18:$AS$1017),0)","v":0},{"$f":"IFERROR($E222*SUMIF('Daily Log'!$AU$18:$AU$1017,$B222,'Daily Log'!$AV$18:$AV$1017),0)","v":0},{"$f":"IFERROR($E222*SUMIF('Daily Log'!$AX$18:$AX$1017,$B222,'Daily Log'!$AY$18:$AY$1017),0)","v":0},{"$f":"IFERROR($E222*SUMIF('Daily Log'!$BA$18:$BA$1017,$B222,'Daily Log'!$BB$18:$BB$1017),0)","v":0},{"$f":"IFERROR($E222*SUMIF('Daily Log'!$BD$18:$BD$1017,$B222,'Daily Log'!$BE$18:$BE$1017),0)","v":0},{"$f":"IFERROR($E222*SUMIF('Daily Log'!$BG$18:$BG$1017,$B222,'Daily Log'!$BH$18:$BH$1017),0)","v":0},{"$f":"IFERROR($E222*SUMIF('Daily Log'!$BJ$18:$BJ$1017,$B222,'Daily Log'!$BK$18:$BK$1017),0)","v":0},{"$f":"IFERROR($E222*SUMIF('Daily Log'!$BM$18:$BM$1017,$B222,'Daily Log'!$BN$18:$BN$1017),0)","v":0},{"$f":"IFERROR($E222*SUMIF('Daily Log'!$BP$18:$BP$1017,$B222,'Daily Log'!$BQ$18:$BQ$1017),0)","v":0},{"$f":"IFERROR($E222*SUMIF('Daily Log'!$BS$18:$BS$1017,$B222,'Daily Log'!$BT$18:$BT$1017),0)","v":0},{"$f":"IFERROR($E222*SUMIF('Daily Log'!$BV$18:$BV$1017,$B222,'Daily Log'!$BW$18:$BW$1017),0)","v":0},{"$f":"IFERROR($E222*SUMIF('Daily Log'!$BY$18:$BY$1017,$B222,'Daily Log'!$BZ$18:$BZ$1017),0)","v":0},{"$f":"IFERROR($E222*SUMIF('Daily Log'!$CB$18:$CB$1017,$B222,'Daily Log'!$CC$18:$CC$1017),0)","v":0},{"$f":"IFERROR($E222*SUMIF('Daily Log'!$CE$18:$CE$1017,$B222,'Daily Log'!$CF$18:$CF$1017),0)","v":0},{"$f":"IFERROR($E222*SUMIF('Daily Log'!$CH$18:$CH$1017,$B222,'Daily Log'!$CI$18:$CI$1017),0)","v":0},{"$f":"IFERROR($E222*SUMIF('Daily Log'!$CK$18:$CK$1017,$B222,'Daily Log'!$CL$18:$CL$1017),0)","v":0},{"$f":"IFERROR($E222*SUMIF('Daily Log'!$CN$18:$CN$1017,$B222,'Daily Log'!$CO$18:$CO$1017),0)","v":0}]
[null,"DD12 1303:CHK WING",null,"SIDE ORDER-APPETIZER",1,0,{"$f":"IFERROR($E223*SUMIF('Daily Log'!$B$18:$B$1017,$B223,'Daily Log'!$C$18:$C$1017),0)","v":0},{"$f":"IFERROR($E223*SUMIF('Daily Log'!$E$18:$E$1017,$B223,'Daily Log'!$F$18:$F$1017),0)","v":0},{"$f":"IFERROR($E223*SUMIF('Daily Log'!$H$18:$H$1017,$B223,'Daily Log'!$I$18:$I$1017),0)","v":0},{"$f":"IFERROR($E223*SUMIF('Daily Log'!$K$18:$K$1017,$B223,'Daily Log'!$L$18:$L$1017),0)","v":0},{"$f":"IFERROR($E223*SUMIF('Daily Log'!$N$18:$N$1017,$B223,'Daily Log'!$O$18:$O$1017),0)","v":0},{"$f":"IFERROR($E223*SUMIF('Daily Log'!$Q$18:$Q$1017,$B223,'Daily Log'!$R$18:$R$1017),0)","v":0},{"$f":"IFERROR($E223*SUMIF('Daily Log'!$T$18:$T$1017,$B223,'Daily Log'!$U$18:$U$1017),0)","v":0},{"$f":"IFERROR($E223*SUMIF('Daily Log'!$W$18:$W$1017,$B223,'Daily Log'!$X$18:$X$1017),0)","v":0},{"$f":"IFERROR($E223*SUMIF('Daily Log'!$Z$18:$Z$1017,$B223,'Daily Log'!$AA$18:$AA$1017),0)","v":0},{"$f":"IFERROR($E223*SUMIF('Daily Log'!$AC$18:$AC$1017,$B223,'Daily Log'!$AD$18:$AD$1017),0)","v":0},{"$f":"IFERROR($E223*SUMIF('Daily Log'!$AF$18:$AF$1017,$B223,'Daily Log'!$AG$18:$AG$1017),0)","v":0},{"$f":"IFERROR($E223*SUMIF('Daily Log'!$AI$18:$AI$1017,$B223,'Daily Log'!$AJ$18:$AJ$1017),0)","v":0},{"$f":"IFERROR($E223*SUMIF('Daily Log'!$AL$18:$AL$1017,$B223,'Daily Log'!$AM$18:$AM$1017),0)","v":0},{"$f":"IFERROR($E223*SUMIF('Daily Log'!$AO$18:$AO$1017,$B223,'Daily Log'!$AP$18:$AP$1017),0)","v":0},{"$f":"IFERROR($E223*SUMIF('Daily Log'!$AR$18:$AR$1017,$B223,'Daily Log'!$AS$18:$AS$1017),0)","v":0},{"$f":"IFERROR($E223*SUMIF('Daily Log'!$AU$18:$AU$1017,$B223,'Daily Log'!$AV$18:$AV$1017),0)","v":0},{"$f":"IFERROR($E223*SUMIF('Daily Log'!$AX$18:$AX$1017,$B223,'Daily Log'!$AY$18:$AY$1017),0)","v":0},{"$f":"IFERROR($E223*SUMIF('Daily Log'!$BA$18:$BA$1017,$B223,'Daily Log'!$BB$18:$BB$1017),0)","v":0},{"$f":"IFERROR($E223*SUMIF('Daily Log'!$BD$18:$BD$1017,$B223,'Daily Log'!$BE$18:$BE$1017),0)","v":0},{"$f":"IFERROR($E223*SUMIF('Daily Log'!$BG$18:$BG$1017,$B223,'Daily Log'!$BH$18:$BH$1017),0)","v":0},{"$f":"IFERROR($E223*SUMIF('Daily Log'!$BJ$18:$BJ$1017,$B223,'Daily Log'!$BK$18:$BK$1017),0)","v":0},{"$f":"IFERROR($E223*SUMIF('Daily Log'!$BM$18:$BM$1017,$B223,'Daily Log'!$BN$18:$BN$1017),0)","v":0},{"$f":"IFERROR($E223*SUMIF('Daily Log'!$BP$18:$BP$1017,$B223,'Daily Log'!$BQ$18:$BQ$1017),0)","v":0},{"$f":"IFERROR($E223*SUMIF('Daily Log'!$BS$18:$BS$1017,$B223,'Daily Log'!$BT$18:$BT$1017),0)","v":0},{"$f":"IFERROR($E223*SUMIF('Daily Log'!$BV$18:$BV$1017,$B223,'Daily Log'!$BW$18:$BW$1017),0)","v":0},{"$f":"IFERROR($E223*SUMIF('Daily Log'!$BY$18:$BY$1017,$B223,'Daily Log'!$BZ$18:$BZ$1017),0)","v":0},{"$f":"IFERROR($E223*SUMIF('Daily Log'!$CB$18:$CB$1017,$B223,'Daily Log'!$CC$18:$CC$1017),0)","v":0},{"$f":"IFERROR($E223*SUMIF('Daily Log'!$CE$18:$CE$1017,$B223,'Daily Log'!$CF$18:$CF$1017),0)","v":0},{"$f":"IFERROR($E223*SUMIF('Daily Log'!$CH$18:$CH$1017,$B223,'Daily Log'!$CI$18:$CI$1017),0)","v":0},{"$f":"IFERROR($E223*SUMIF('Daily Log'!$CK$18:$CK$1017,$B223,'Daily Log'!$CL$18:$CL$1017),0)","v":0},{"$f":"IFERROR($E223*SUMIF('Daily Log'!$CN$18:$CN$1017,$B223,'Daily Log'!$CO$18:$CO$1017),0)","v":0}]
[null,"DD13 1304:IKAN BILIS",null,"SIDE ORDER-APPETIZER",1,0,{"$f":"IFERROR($E224*SUMIF('Daily Log'!$B$18:$B$1017,$B224,'Daily Log'!$C$18:$C$1017),0)","v":0},{"$f":"IFERROR($E224*SUMIF('Daily Log'!$E$18:$E$1017,$B224,'Daily Log'!$F$18:$F$1017),0)","v":0},{"$f":"IFERROR($E224*SUMIF('Daily Log'!$H$18:$H$1017,$B224,'Daily Log'!$I$18:$I$1017),0)","v":0},{"$f":"IFERROR($E224*SUMIF('Daily Log'!$K$18:$K$1017,$B224,'Daily Log'!$L$18:$L$1017),0)","v":0},{"$f":"IFERROR($E224*SUMIF('Daily Log'!$N$18:$N$1017,$B224,'Daily Log'!$O$18:$O$1017),0)","v":0},{"$f":"IFERROR($E224*SUMIF('Daily Log'!$Q$18:$Q$1017,$B224,'Daily Log'!$R$18:$R$1017),0)","v":0},{"$f":"IFERROR($E224*SUMIF('Daily Log'!$T$18:$T$1017,$B224,'Daily Log'!$U$18:$U$1017),0)","v":0},{"$f":"IFERROR($E224*SUMIF('Daily Log'!$W$18:$W$1017,$B224,'Daily Log'!$X$18:$X$1017),0)","v":0},{"$f":"IFERROR($E224*SUMIF('Daily Log'!$Z$18:$Z$1017,$B224,'Daily Log'!$AA$18:$AA$1017),0)","v":0},{"$f":"IFERROR($E224*SUMIF('Daily Log'!$AC$18:$AC$1017,$B224,'Daily Log'!$AD$18:$AD$1017),0)","v":0},{"$f":"IFERROR($E224*SUMIF('Daily Log'!$AF$18:$AF$1017,$B224,'Daily Log'!$AG$18:$AG$1017),0)","v":0},{"$f":"IFERROR($E224*SUMIF('Daily Log'!$AI$18:$AI$1017,$B224,'Daily Log'!$AJ$18:$AJ$1017),0)","v":0},{"$f":"IFERROR($E224*SUMIF('Daily Log'!$AL$18:$AL$1017,$B224,'Daily Log'!$AM$18:$AM$1017),0)","v":0},{"$f":"IFERROR($E224*SUMIF('Daily Log'!$AO$18:$AO$1017,$B224,'Daily Log'!$AP$18:$AP$1017),0)","v":0},{"$f":"IFERROR($E224*SUMIF('Daily Log'!$AR$18:$AR$1017,$B224,'Daily Log'!$AS$18:$AS$1017),0)","v":0},{"$f":"IFERROR($E224*SUMIF('Daily Log'!$AU$18:$AU$1017,$B224,'Daily Log'!$AV$18:$AV$1017),0)","v":0},{"$f":"IFERROR($E224*SUMIF('Daily Log'!$AX$18:$AX$1017,$B224,'Daily Log'!$AY$18:$AY$1017),0)","v":0},{"$f":"IFERROR($E224*SUMIF('Daily Log'!$BA$18:$BA$1017,$B224,'Daily Log'!$BB$18:$BB$1017),0)","v":0},{"$f":"IFERROR($E224*SUMIF('Daily Log'!$BD$18:$BD$1017,$B224,'Daily Log'!$BE$18:$BE$1017),0)","v":0},{"$f":"IFERROR($E224*SUMIF('Daily Log'!$BG$18:$BG$1017,$B224,'Daily Log'!$BH$18:$BH$1017),0)","v":0},{"$f":"IFERROR($E224*SUMIF('Daily Log'!$BJ$18:$BJ$1017,$B224,'Daily Log'!$BK$18:$BK$1017),0)","v":0},{"$f":"IFERROR($E224*SUMIF('Daily Log'!$BM$18:$BM$1017,$B224,'Daily Log'!$BN$18:$BN$1017),0)","v":0},{"$f":"IFERROR($E224*SUMIF('Daily Log'!$BP$18:$BP$1017,$B224,'Daily Log'!$BQ$18:$BQ$1017),0)","v":0},{"$f":"IFERROR($E224*SUMIF('Daily Log'!$BS$18:$BS$1017,$B224,'Daily Log'!$BT$18:$BT$1017),0)","v":0},{"$f":"IFERROR($E224*SUMIF('Daily Log'!$BV$18:$BV$1017,$B224,'Daily Log'!$BW$18:$BW$1017),0)","v":0},{"$f":"IFERROR($E224*SUMIF('Daily Log'!$BY$18:$BY$1017,$B224,'Daily Log'!$BZ$18:$BZ$1017),0)","v":0},{"$f":"IFERROR($E224*SUMIF('Daily Log'!$CB$18:$CB$1017,$B224,'Daily Log'!$CC$18:$CC$1017),0)","v":0},{"$f":"IFERROR($E224*SUMIF('Daily Log'!$CE$18:$CE$1017,$B224,'Daily Log'!$CF$18:$CF$1017),0)","v":0},{"$f":"IFERROR($E224*SUMIF('Daily Log'!$CH$18:$CH$1017,$B224,'Daily Log'!$CI$18:$CI$1017),0)","v":0},{"$f":"IFERROR($E224*SUMIF('Daily Log'!$CK$18:$CK$1017,$B224,'Daily Log'!$CL$18:$CL$1017),0)","v":0},{"$f":"IFERROR($E224*SUMIF('Daily Log'!$CN$18:$CN$1017,$B224,'Daily Log'!$CO$18:$CO$1017),0)","v":0}]
[null,"DD14 1305:THAI RL",null,"SIDE ORDER-APPETIZER",1,0,{"$f":"IFERROR($E225*SUMIF('Daily Log'!$B$18:$B$1017,$B225,'Daily Log'!$C$18:$C$1017),0)","v":0},{"$f":"IFERROR($E225*SUMIF('Daily Log'!$E$18:$E$1017,$B225,'Daily Log'!$F$18:$F$1017),0)","v":0},{"$f":"IFERROR($E225*SUMIF('Daily Log'!$H$18:$H$1017,$B225,'Daily Log'!$I$18:$I$1017),0)","v":0},{"$f":"IFERROR($E225*SUMIF('Daily Log'!$K$18:$K$1017,$B225,'Daily Log'!$L$18:$L$1017),0)","v":0},{"$f":"IFERROR($E225*SUMIF('Daily Log'!$N$18:$N$1017,$B225,'Daily Log'!$O$18:$O$1017),0)","v":0},{"$f":"IFERROR($E225*SUMIF('Daily Log'!$Q$18:$Q$1017,$B225,'Daily Log'!$R$18:$R$1017),0)","v":0},{"$f":"IFERROR($E225*SUMIF('Daily Log'!$T$18:$T$1017,$B225,'Daily Log'!$U$18:$U$1017),0)","v":0},{"$f":"IFERROR($E225*SUMIF('Daily Log'!$W$18:$W$1017,$B225,'Daily Log'!$X$18:$X$1017),0)","v":0},{"$f":"IFERROR($E225*SUMIF('Daily Log'!$Z$18:$Z$1017,$B225,'Daily Log'!$AA$18:$AA$1017),0)","v":0},{"$f":"IFERROR($E225*SUMIF('Daily Log'!$AC$18:$AC$1017,$B225,'Daily Log'!$AD$18:$AD$1017),0)","v":0},{"$f":"IFERROR($E225*SUMIF('Daily Log'!$AF$18:$AF$1017,$B225,'Daily Log'!$AG$18:$AG$1017),0)","v":0},{"$f":"IFERROR($E225*SUMIF('Daily Log'!$AI$18:$AI$1017,$B225,'Daily Log'!$AJ$18:$AJ$1017),0)","v":0},{"$f":"IFERROR($E225*SUMIF('Daily Log'!$AL$18:$AL$1017,$B225,'Daily Log'!$AM$18:$AM$1017),0)","v":0},{"$f":"IFERROR($E225*SUMIF('Daily Log'!$AO$18:$AO$1017,$B225,'Daily Log'!$AP$18:$AP$1017),0)","v":0},{"$f":"IFERROR($E225*SUMIF('Daily Log'!$AR$18:$AR$1017,$B225,'Daily Log'!$AS$18:$AS$1017),0)","v":0},{"$f":"IFERROR($E225*SUMIF('Daily Log'!$AU$18:$AU$1017,$B225,'Daily Log'!$AV$18:$AV$1017),0)","v":0},{"$f":"IFERROR($E225*SUMIF('Daily Log'!$AX$18:$AX$1017,$B225,'Daily Log'!$AY$18:$AY$1017),0)","v":0},{"$f":"IFERROR($E225*SUMIF('Daily Log'!$BA$18:$BA$1017,$B225,'Daily Log'!$BB$18:$BB$1017),0)","v":0},{"$f":"IFERROR($E225*SUMIF('Daily Log'!$BD$18:$BD$1017,$B225,'Daily Log'!$BE$18:$BE$1017),0)","v":0},{"$f":"IFERROR($E225*SUMIF('Daily Log'!$BG$18:$BG$1017,$B225,'Daily Log'!$BH$18:$BH$1017),0)","v":0},{"$f":"IFERROR($E225*SUMIF('Daily Log'!$BJ$18:$BJ$1017,$B225,'Daily Log'!$BK$18:$BK$1017),0)","v":0},{"$f":"IFERROR($E225*SUMIF('Daily Log'!$BM$18:$BM$1017,$B225,'Daily Log'!$BN$18:$BN$1017),0)","v":0},{"$f":"IFERROR($E225*SUMIF('Daily Log'!$BP$18:$BP$1017,$B225,'Daily Log'!$BQ$18:$BQ$1017),0)","v":0},{"$f":"IFERROR($E225*SUMIF('Daily Log'!$BS$18:$BS$1017,$B225,'Daily Log'!$BT$18:$BT$1017),0)","v":0},{"$f":"IFERROR($E225*SUMIF('Daily Log'!$BV$18:$BV$1017,$B225,'Daily Log'!$BW$18:$BW$1017),0)","v":0},{"$f":"IFERROR($E225*SUMIF('Daily Log'!$BY$18:$BY$1017,$B225,'Daily Log'!$BZ$18:$BZ$1017),0)","v":0},{"$f":"IFERROR($E225*SUMIF('Daily Log'!$CB$18:$CB$1017,$B225,'Daily Log'!$CC$18:$CC$1017),0)","v":0},{"$f":"IFERROR($E225*SUMIF('Daily Log'!$CE$18:$CE$1017,$B225,'Daily Log'!$CF$18:$CF$1017),0)","v":0},{"$f":"IFERROR($E225*SUMIF('Daily Log'!$CH$18:$CH$1017,$B225,'Daily Log'!$CI$18:$CI$1017),0)","v":0},{"$f":"IFERROR($E225*SUMIF('Daily Log'!$CK$18:$CK$1017,$B225,'Daily Log'!$CL$18:$CL$1017),0)","v":0},{"$f":"IFERROR($E225*SUMIF('Daily Log'!$CN$18:$CN$1017,$B225,'Daily Log'!$CO$18:$CO$1017),0)","v":0}]
[null,"DD15 1306:SLVR FISH",null,"SIDE ORDER-APPETIZER",1,0,{"$f":"IFERROR($E226*SUMIF('Daily Log'!$B$18:$B$1017,$B226,'Daily Log'!$C$18:$C$1017),0)","v":0},{"$f":"IFERROR($E226*SUMIF('Daily Log'!$E$18:$E$1017,$B226,'Daily Log'!$F$18:$F$1017),0)","v":0},{"$f":"IFERROR($E226*SUMIF('Daily Log'!$H$18:$H$1017,$B226,'Daily Log'!$I$18:$I$1017),0)","v":0},{"$f":"IFERROR($E226*SUMIF('Daily Log'!$K$18:$K$1017,$B226,'Daily Log'!$L$18:$L$1017),0)","v":0},{"$f":"IFERROR($E226*SUMIF('Daily Log'!$N$18:$N$1017,$B226,'Daily Log'!$O$18:$O$1017),0)","v":0},{"$f":"IFERROR($E226*SUMIF('Daily Log'!$Q$18:$Q$1017,$B226,'Daily Log'!$R$18:$R$1017),0)","v":0},{"$f":"IFERROR($E226*SUMIF('Daily Log'!$T$18:$T$1017,$B226,'Daily Log'!$U$18:$U$1017),0)","v":0},{"$f":"IFERROR($E226*SUMIF('Daily Log'!$W$18:$W$1017,$B226,'Daily Log'!$X$18:$X$1017),0)","v":0},{"$f":"IFERROR($E226*SUMIF('Daily Log'!$Z$18:$Z$1017,$B226,'Daily Log'!$AA$18:$AA$1017),0)","v":0},{"$f":"IFERROR($E226*SUMIF('Daily Log'!$AC$18:$AC$1017,$B226,'Daily Log'!$AD$18:$AD$1017),0)","v":0},{"$f":"IFERROR($E226*SUMIF('Daily Log'!$AF$18:$AF$1017,$B226,'Daily Log'!$AG$18:$AG$1017),0)","v":0},{"$f":"IFERROR($E226*SUMIF('Daily Log'!$AI$18:$AI$1017,$B226,'Daily Log'!$AJ$18:$AJ$1017),0)","v":0},{"$f":"IFERROR($E226*SUMIF('Daily Log'!$AL$18:$AL$1017,$B226,'Daily Log'!$AM$18:$AM$1017),0)","v":0},{"$f":"IFERROR($E226*SUMIF('Daily Log'!$AO$18:$AO$1017,$B226,'Daily Log'!$AP$18:$AP$1017),0)","v":0},{"$f":"IFERROR($E226*SUMIF('Daily Log'!$AR$18:$AR$1017,$B226,'Daily Log'!$AS$18:$AS$1017),0)","v":0},{"$f":"IFERROR($E226*SUMIF('Daily Log'!$AU$18:$AU$1017,$B226,'Daily Log'!$AV$18:$AV$1017),0)","v":0},{"$f":"IFERROR($E226*SUMIF('Daily Log'!$AX$18:$AX$1017,$B226,'Daily Log'!$AY$18:$AY$1017),0)","v":0},{"$f":"IFERROR($E226*SUMIF('Daily Log'!$BA$18:$BA$1017,$B226,'Daily Log'!$BB$18:$BB$1017),0)","v":0},{"$f":"IFERROR($E226*SUMIF('Daily Log'!$BD$18:$BD$1017,$B226,'Daily Log'!$BE$18:$BE$1017),0)","v":0},{"$f":"IFERROR($E226*SUMIF('Daily Log'!$BG$18:$BG$1017,$B226,'Daily Log'!$BH$18:$BH$1017),0)","v":0},{"$f":"IFERROR($E226*SUMIF('Daily Log'!$BJ$18:$BJ$1017,$B226,'Daily Log'!$BK$18:$BK$1017),0)","v":0},{"$f":"IFERROR($E226*SUMIF('Daily Log'!$BM$18:$BM$1017,$B226,'Daily Log'!$BN$18:$BN$1017),0)","v":0},{"$f":"IFERROR($E226*SUMIF('Daily Log'!$BP$18:$BP$1017,$B226,'Daily Log'!$BQ$18:$BQ$1017),0)","v":0},{"$f":"IFERROR($E226*SUMIF('Daily Log'!$BS$18:$BS$1017,$B226,'Daily Log'!$BT$18:$BT$1017),0)","v":0},{"$f":"IFERROR($E226*SUMIF('Daily Log'!$BV$18:$BV$1017,$B226,'Daily Log'!$BW$18:$BW$1017),0)","v":0},{"$f":"IFERROR($E226*SUMIF('Daily Log'!$BY$18:$BY$1017,$B226,'Daily Log'!$BZ$18:$BZ$1017),0)","v":0},{"$f":"IFERROR($E226*SUMIF('Daily Log'!$CB$18:$CB$1017,$B226,'Daily Log'!$CC$18:$CC$1017),0)","v":0},{"$f":"IFERROR($E226*SUMIF('Daily Log'!$CE$18:$CE$1017,$B226,'Daily Log'!$CF$18:$CF$1017),0)","v":0},{"$f":"IFERROR($E226*SUMIF('Daily Log'!$CH$18:$CH$1017,$B226,'Daily Log'!$CI$18:$CI$1017),0)","v":0},{"$f":"IFERROR($E226*SUMIF('Daily Log'!$CK$18:$CK$1017,$B226,'Daily Log'!$CL$18:$CL$1017),0)","v":0},{"$f":"IFERROR($E226*SUMIF('Daily Log'!$CN$18:$CN$1017,$B226,'Daily Log'!$CO$18:$CO$1017),0)","v":0}]
[null,"DD16 McCain AlaCarte",null,"PLATTER",1,0,{"$f":"IFERROR($E227*SUMIF('Daily Log'!$B$18:$B$1017,$B227,'Daily Log'!$C$18:$C$1017),0)","v":0},{"$f":"IFERROR($E227*SUMIF('Daily Log'!$E$18:$E$1017,$B227,'Daily Log'!$F$18:$F$1017),0)","v":0},{"$f":"IFERROR($E227*SUMIF('Daily Log'!$H$18:$H$1017,$B227,'Daily Log'!$I$18:$I$1017),0)","v":0},{"$f":"IFERROR($E227*SUMIF('Daily Log'!$K$18:$K$1017,$B227,'Daily Log'!$L$18:$L$1017),0)","v":0},{"$f":"IFERROR($E227*SUMIF('Daily Log'!$N$18:$N$1017,$B227,'Daily Log'!$O$18:$O$1017),0)","v":0},{"$f":"IFERROR($E227*SUMIF('Daily Log'!$Q$18:$Q$1017,$B227,'Daily Log'!$R$18:$R$1017),0)","v":0},{"$f":"IFERROR($E227*SUMIF('Daily Log'!$T$18:$T$1017,$B227,'Daily Log'!$U$18:$U$1017),0)","v":0},{"$f":"IFERROR($E227*SUMIF('Daily Log'!$W$18:$W$1017,$B227,'Daily Log'!$X$18:$X$1017),0)","v":0},{"$f":"IFERROR($E227*SUMIF('Daily Log'!$Z$18:$Z$1017,$B227,'Daily Log'!$AA$18:$AA$1017),0)","v":0},{"$f":"IFERROR($E227*SUMIF('Daily Log'!$AC$18:$AC$1017,$B227,'Daily Log'!$AD$18:$AD$1017),0)","v":0},{"$f":"IFERROR($E227*SUMIF('Daily Log'!$AF$18:$AF$1017,$B227,'Daily Log'!$AG$18:$AG$1017),0)","v":0},{"$f":"IFERROR($E227*SUMIF('Daily Log'!$AI$18:$AI$1017,$B227,'Daily Log'!$AJ$18:$AJ$1017),0)","v":0},{"$f":"IFERROR($E227*SUMIF('Daily Log'!$AL$18:$AL$1017,$B227,'Daily Log'!$AM$18:$AM$1017),0)","v":0},{"$f":"IFERROR($E227*SUMIF('Daily Log'!$AO$18:$AO$1017,$B227,'Daily Log'!$AP$18:$AP$1017),0)","v":0},{"$f":"IFERROR($E227*SUMIF('Daily Log'!$AR$18:$AR$1017,$B227,'Daily Log'!$AS$18:$AS$1017),0)","v":0},{"$f":"IFERROR($E227*SUMIF('Daily Log'!$AU$18:$AU$1017,$B227,'Daily Log'!$AV$18:$AV$1017),0)","v":0},{"$f":"IFERROR($E227*SUMIF('Daily Log'!$AX$18:$AX$1017,$B227,'Daily Log'!$AY$18:$AY$1017),0)","v":0},{"$f":"IFERROR($E227*SUMIF('Daily Log'!$BA$18:$BA$1017,$B227,'Daily Log'!$BB$18:$BB$1017),0)","v":0},{"$f":"IFERROR($E227*SUMIF('Daily Log'!$BD$18:$BD$1017,$B227,'Daily Log'!$BE$18:$BE$1017),0)","v":0},{"$f":"IFERROR($E227*SUMIF('Daily Log'!$BG$18:$BG$1017,$B227,'Daily Log'!$BH$18:$BH$1017),0)","v":0},{"$f":"IFERROR($E227*SUMIF('Daily Log'!$BJ$18:$BJ$1017,$B227,'Daily Log'!$BK$18:$BK$1017),0)","v":0},{"$f":"IFERROR($E227*SUMIF('Daily Log'!$BM$18:$BM$1017,$B227,'Daily Log'!$BN$18:$BN$1017),0)","v":0},{"$f":"IFERROR($E227*SUMIF('Daily Log'!$BP$18:$BP$1017,$B227,'Daily Log'!$BQ$18:$BQ$1017),0)","v":0},{"$f":"IFERROR($E227*SUMIF('Daily Log'!$BS$18:$BS$1017,$B227,'Daily Log'!$BT$18:$BT$1017),0)","v":0},{"$f":"IFERROR($E227*SUMIF('Daily Log'!$BV$18:$BV$1017,$B227,'Daily Log'!$BW$18:$BW$1017),0)","v":0},{"$f":"IFERROR($E227*SUMIF('Daily Log'!$BY$18:$BY$1017,$B227,'Daily Log'!$BZ$18:$BZ$1017),0)","v":0},{"$f":"IFERROR($E227*SUMIF('Daily Log'!$CB$18:$CB$1017,$B227,'Daily Log'!$CC$18:$CC$1017),0)","v":0},{"$f":"IFERROR($E227*SUMIF('Daily Log'!$CE$18:$CE$1017,$B227,'Daily Log'!$CF$18:$CF$1017),0)","v":0},{"$f":"IFERROR($E227*SUMIF('Daily Log'!$CH$18:$CH$1017,$B227,'Daily Log'!$CI$18:$CI$1017),0)","v":0},{"$f":"IFERROR($E227*SUMIF('Daily Log'!$CK$18:$CK$1017,$B227,'Daily Log'!$CL$18:$CL$1017),0)","v":0},{"$f":"IFERROR($E227*SUMIF('Daily Log'!$CN$18:$CN$1017,$B227,'Daily Log'!$CO$18:$CO$1017),0)","v":0}]
[null,"DD17 McCain Beer",null,"PLATTER",1,0,{"$f":"IFERROR($E228*SUMIF('Daily Log'!$B$18:$B$1017,$B228,'Daily Log'!$C$18:$C$1017),0)","v":0},{"$f":"IFERROR($E228*SUMIF('Daily Log'!$E$18:$E$1017,$B228,'Daily Log'!$F$18:$F$1017),0)","v":0},{"$f":"IFERROR($E228*SUMIF('Daily Log'!$H$18:$H$1017,$B228,'Daily Log'!$I$18:$I$1017),0)","v":0},{"$f":"IFERROR($E228*SUMIF('Daily Log'!$K$18:$K$1017,$B228,'Daily Log'!$L$18:$L$1017),0)","v":0},{"$f":"IFERROR($E228*SUMIF('Daily Log'!$N$18:$N$1017,$B228,'Daily Log'!$O$18:$O$1017),0)","v":0},{"$f":"IFERROR($E228*SUMIF('Daily Log'!$Q$18:$Q$1017,$B228,'Daily Log'!$R$18:$R$1017),0)","v":0},{"$f":"IFERROR($E228*SUMIF('Daily Log'!$T$18:$T$1017,$B228,'Daily Log'!$U$18:$U$1017),0)","v":0},{"$f":"IFERROR($E228*SUMIF('Daily Log'!$W$18:$W$1017,$B228,'Daily Log'!$X$18:$X$1017),0)","v":0},{"$f":"IFERROR($E228*SUMIF('Daily Log'!$Z$18:$Z$1017,$B228,'Daily Log'!$AA$18:$AA$1017),0)","v":0},{"$f":"IFERROR($E228*SUMIF('Daily Log'!$AC$18:$AC$1017,$B228,'Daily Log'!$AD$18:$AD$1017),0)","v":0},{"$f":"IFERROR($E228*SUMIF('Daily Log'!$AF$18:$AF$1017,$B228,'Daily Log'!$AG$18:$AG$1017),0)","v":0},{"$f":"IFERROR($E228*SUMIF('Daily Log'!$AI$18:$AI$1017,$B228,'Daily Log'!$AJ$18:$AJ$1017),0)","v":0},{"$f":"IFERROR($E228*SUMIF('Daily Log'!$AL$18:$AL$1017,$B228,'Daily Log'!$AM$18:$AM$1017),0)","v":0},{"$f":"IFERROR($E228*SUMIF('Daily Log'!$AO$18:$AO$1017,$B228,'Daily Log'!$AP$18:$AP$1017),0)","v":0},{"$f":"IFERROR($E228*SUMIF('Daily Log'!$AR$18:$AR$1017,$B228,'Daily Log'!$AS$18:$AS$1017),0)","v":0},{"$f":"IFERROR($E228*SUMIF('Daily Log'!$AU$18:$AU$1017,$B228,'Daily Log'!$AV$18:$AV$1017),0)","v":0},{"$f":"IFERROR($E228*SUMIF('Daily Log'!$AX$18:$AX$1017,$B228,'Daily Log'!$AY$18:$AY$1017),0)","v":0},{"$f":"IFERROR($E228*SUMIF('Daily Log'!$BA$18:$BA$1017,$B228,'Daily Log'!$BB$18:$BB$1017),0)","v":0},{"$f":"IFERROR($E228*SUMIF('Daily Log'!$BD$18:$BD$1017,$B228,'Daily Log'!$BE$18:$BE$1017),0)","v":0},{"$f":"IFERROR($E228*SUMIF('Daily Log'!$BG$18:$BG$1017,$B228,'Daily Log'!$BH$18:$BH$1017),0)","v":0},{"$f":"IFERROR($E228*SUMIF('Daily Log'!$BJ$18:$BJ$1017,$B228,'Daily Log'!$BK$18:$BK$1017),0)","v":0},{"$f":"IFERROR($E228*SUMIF('Daily Log'!$BM$18:$BM$1017,$B228,'Daily Log'!$BN$18:$BN$1017),0)","v":0},{"$f":"IFERROR($E228*SUMIF('Daily Log'!$BP$18:$BP$1017,$B228,'Daily Log'!$BQ$18:$BQ$1017),0)","v":0},{"$f":"IFERROR($E228*SUMIF('Daily Log'!$BS$18:$BS$1017,$B228,'Daily Log'!$BT$18:$BT$1017),0)","v":0},{"$f":"IFERROR($E228*SUMIF('Daily Log'!$BV$18:$BV$1017,$B228,'Daily Log'!$BW$18:$BW$1017),0)","v":0},{"$f":"IFERROR($E228*SUMIF('Daily Log'!$BY$18:$BY$1017,$B228,'Daily Log'!$BZ$18:$BZ$1017),0)","v":0},{"$f":"IFERROR($E228*SUMIF('Daily Log'!$CB$18:$CB$1017,$B228,'Daily Log'!$CC$18:$CC$1017),0)","v":0},{"$f":"IFERROR($E228*SUMIF('Daily Log'!$CE$18:$CE$1017,$B228,'Daily Log'!$CF$18:$CF$1017),0)","v":0},{"$f":"IFERROR($E228*SUMIF('Daily Log'!$CH$18:$CH$1017,$B228,'Daily Log'!$CI$18:$CI$1017),0)","v":0},{"$f":"IFERROR($E228*SUMIF('Daily Log'!$CK$18:$CK$1017,$B228,'Daily Log'!$CL$18:$CL$1017),0)","v":0},{"$f":"IFERROR($E228*SUMIF('Daily Log'!$CN$18:$CN$1017,$B228,'Daily Log'!$CO$18:$CO$1017),0)","v":0}]
[null,"DE01 SET 990",null,"COMBO",1,0,{"$f":"IFERROR($E229*SUMIF('Daily Log'!$B$18:$B$1017,$B229,'Daily Log'!$C$18:$C$1017),0)","v":0},{"$f":"IFERROR($E229*SUMIF('Daily Log'!$E$18:$E$1017,$B229,'Daily Log'!$F$18:$F$1017),0)","v":0},{"$f":"IFERROR($E229*SUMIF('Daily Log'!$H$18:$H$1017,$B229,'Daily Log'!$I$18:$I$1017),0)","v":0},{"$f":"IFERROR($E229*SUMIF('Daily Log'!$K$18:$K$1017,$B229,'Daily Log'!$L$18:$L$1017),0)","v":0},{"$f":"IFERROR($E229*SUMIF('Daily Log'!$N$18:$N$1017,$B229,'Daily Log'!$O$18:$O$1017),0)","v":0},{"$f":"IFERROR($E229*SUMIF('Daily Log'!$Q$18:$Q$1017,$B229,'Daily Log'!$R$18:$R$1017),0)","v":0},{"$f":"IFERROR($E229*SUMIF('Daily Log'!$T$18:$T$1017,$B229,'Daily Log'!$U$18:$U$1017),0)","v":0},{"$f":"IFERROR($E229*SUMIF('Daily Log'!$W$18:$W$1017,$B229,'Daily Log'!$X$18:$X$1017),0)","v":0},{"$f":"IFERROR($E229*SUMIF('Daily Log'!$Z$18:$Z$1017,$B229,'Daily Log'!$AA$18:$AA$1017),0)","v":0},{"$f":"IFERROR($E229*SUMIF('Daily Log'!$AC$18:$AC$1017,$B229,'Daily Log'!$AD$18:$AD$1017),0)","v":0},{"$f":"IFERROR($E229*SUMIF('Daily Log'!$AF$18:$AF$1017,$B229,'Daily Log'!$AG$18:$AG$1017),0)","v":0},{"$f":"IFERROR($E229*SUMIF('Daily Log'!$AI$18:$AI$1017,$B229,'Daily Log'!$AJ$18:$AJ$1017),0)","v":0},{"$f":"IFERROR($E229*SUMIF('Daily Log'!$AL$18:$AL$1017,$B229,'Daily Log'!$AM$18:$AM$1017),0)","v":0},{"$f":"IFERROR($E229*SUMIF('Daily Log'!$AO$18:$AO$1017,$B229,'Daily Log'!$AP$18:$AP$1017),0)","v":0},{"$f":"IFERROR($E229*SUMIF('Daily Log'!$AR$18:$AR$1017,$B229,'Daily Log'!$AS$18:$AS$1017),0)","v":0},{"$f":"IFERROR($E229*SUMIF('Daily Log'!$AU$18:$AU$1017,$B229,'Daily Log'!$AV$18:$AV$1017),0)","v":0},{"$f":"IFERROR($E229*SUMIF('Daily Log'!$AX$18:$AX$1017,$B229,'Daily Log'!$AY$18:$AY$1017),0)","v":0},{"$f":"IFERROR($E229*SUMIF('Daily Log'!$BA$18:$BA$1017,$B229,'Daily Log'!$BB$18:$BB$1017),0)","v":0},{"$f":"IFERROR($E229*SUMIF('Daily Log'!$BD$18:$BD$1017,$B229,'Daily Log'!$BE$18:$BE$1017),0)","v":0},{"$f":"IFERROR($E229*SUMIF('Daily Log'!$BG$18:$BG$1017,$B229,'Daily Log'!$BH$18:$BH$1017),0)","v":0},{"$f":"IFERROR($E229*SUMIF('Daily Log'!$BJ$18:$BJ$1017,$B229,'Daily Log'!$BK$18:$BK$1017),0)","v":0},{"$f":"IFERROR($E229*SUMIF('Daily Log'!$BM$18:$BM$1017,$B229,'Daily Log'!$BN$18:$BN$1017),0)","v":0},{"$f":"IFERROR($E229*SUMIF('Daily Log'!$BP$18:$BP$1017,$B229,'Daily Log'!$BQ$18:$BQ$1017),0)","v":0},{"$f":"IFERROR($E229*SUMIF('Daily Log'!$BS$18:$BS$1017,$B229,'Daily Log'!$BT$18:$BT$1017),0)","v":0},{"$f":"IFERROR($E229*SUMIF('Daily Log'!$BV$18:$BV$1017,$B229,'Daily Log'!$BW$18:$BW$1017),0)","v":0},{"$f":"IFERROR($E229*SUMIF('Daily Log'!$BY$18:$BY$1017,$B229,'Daily Log'!$BZ$18:$BZ$1017),0)","v":0},{"$f":"IFERROR($E229*SUMIF('Daily Log'!$CB$18:$CB$1017,$B229,'Daily Log'!$CC$18:$CC$1017),0)","v":0},{"$f":"IFERROR($E229*SUMIF('Daily Log'!$CE$18:$CE$1017,$B229,'Daily Log'!$CF$18:$CF$1017),0)","v":0},{"$f":"IFERROR($E229*SUMIF('Daily Log'!$CH$18:$CH$1017,$B229,'Daily Log'!$CI$18:$CI$1017),0)","v":0},{"$f":"IFERROR($E229*SUMIF('Daily Log'!$CK$18:$CK$1017,$B229,'Daily Log'!$CL$18:$CL$1017),0)","v":0},{"$f":"IFERROR($E229*SUMIF('Daily Log'!$CN$18:$CN$1017,$B229,'Daily Log'!$CO$18:$CO$1017),0)","v":0}]
[null,"DF01 ADD RICE",null,"SIDE ORDER",1,0,{"$f":"IFERROR($E230*SUMIF('Daily Log'!$B$18:$B$1017,$B230,'Daily Log'!$C$18:$C$1017),0)","v":0},{"$f":"IFERROR($E230*SUMIF('Daily Log'!$E$18:$E$1017,$B230,'Daily Log'!$F$18:$F$1017),0)","v":0},{"$f":"IFERROR($E230*SUMIF('Daily Log'!$H$18:$H$1017,$B230,'Daily Log'!$I$18:$I$1017),0)","v":0},{"$f":"IFERROR($E230*SUMIF('Daily Log'!$K$18:$K$1017,$B230,'Daily Log'!$L$18:$L$1017),0)","v":0},{"$f":"IFERROR($E230*SUMIF('Daily Log'!$N$18:$N$1017,$B230,'Daily Log'!$O$18:$O$1017),0)","v":0},{"$f":"IFERROR($E230*SUMIF('Daily Log'!$Q$18:$Q$1017,$B230,'Daily Log'!$R$18:$R$1017),0)","v":0},{"$f":"IFERROR($E230*SUMIF('Daily Log'!$T$18:$T$1017,$B230,'Daily Log'!$U$18:$U$1017),0)","v":0},{"$f":"IFERROR($E230*SUMIF('Daily Log'!$W$18:$W$1017,$B230,'Daily Log'!$X$18:$X$1017),0)","v":0},{"$f":"IFERROR($E230*SUMIF('Daily Log'!$Z$18:$Z$1017,$B230,'Daily Log'!$AA$18:$AA$1017),0)","v":0},{"$f":"IFERROR($E230*SUMIF('Daily Log'!$AC$18:$AC$1017,$B230,'Daily Log'!$AD$18:$AD$1017),0)","v":0},{"$f":"IFERROR($E230*SUMIF('Daily Log'!$AF$18:$AF$1017,$B230,'Daily Log'!$AG$18:$AG$1017),0)","v":0},{"$f":"IFERROR($E230*SUMIF('Daily Log'!$AI$18:$AI$1017,$B230,'Daily Log'!$AJ$18:$AJ$1017),0)","v":0},{"$f":"IFERROR($E230*SUMIF('Daily Log'!$AL$18:$AL$1017,$B230,'Daily Log'!$AM$18:$AM$1017),0)","v":0},{"$f":"IFERROR($E230*SUMIF('Daily Log'!$AO$18:$AO$1017,$B230,'Daily Log'!$AP$18:$AP$1017),0)","v":0},{"$f":"IFERROR($E230*SUMIF('Daily Log'!$AR$18:$AR$1017,$B230,'Daily Log'!$AS$18:$AS$1017),0)","v":0},{"$f":"IFERROR($E230*SUMIF('Daily Log'!$AU$18:$AU$1017,$B230,'Daily Log'!$AV$18:$AV$1017),0)","v":0},{"$f":"IFERROR($E230*SUMIF('Daily Log'!$AX$18:$AX$1017,$B230,'Daily Log'!$AY$18:$AY$1017),0)","v":0},{"$f":"IFERROR($E230*SUMIF('Daily Log'!$BA$18:$BA$1017,$B230,'Daily Log'!$BB$18:$BB$1017),0)","v":0},{"$f":"IFERROR($E230*SUMIF('Daily Log'!$BD$18:$BD$1017,$B230,'Daily Log'!$BE$18:$BE$1017),0)","v":0},{"$f":"IFERROR($E230*SUMIF('Daily Log'!$BG$18:$BG$1017,$B230,'Daily Log'!$BH$18:$BH$1017),0)","v":0},{"$f":"IFERROR($E230*SUMIF('Daily Log'!$BJ$18:$BJ$1017,$B230,'Daily Log'!$BK$18:$BK$1017),0)","v":0},{"$f":"IFERROR($E230*SUMIF('Daily Log'!$BM$18:$BM$1017,$B230,'Daily Log'!$BN$18:$BN$1017),0)","v":0},{"$f":"IFERROR($E230*SUMIF('Daily Log'!$BP$18:$BP$1017,$B230,'Daily Log'!$BQ$18:$BQ$1017),0)","v":0},{"$f":"IFERROR($E230*SUMIF('Daily Log'!$BS$18:$BS$1017,$B230,'Daily Log'!$BT$18:$BT$1017),0)","v":0},{"$f":"IFERROR($E230*SUMIF('Daily Log'!$BV$18:$BV$1017,$B230,'Daily Log'!$BW$18:$BW$1017),0)","v":0},{"$f":"IFERROR($E230*SUMIF('Daily Log'!$BY$18:$BY$1017,$B230,'Daily Log'!$BZ$18:$BZ$1017),0)","v":0},{"$f":"IFERROR($E230*SUMIF('Daily Log'!$CB$18:$CB$1017,$B230,'Daily Log'!$CC$18:$CC$1017),0)","v":0},{"$f":"IFERROR($E230*SUMIF('Daily Log'!$CE$18:$CE$1017,$B230,'Daily Log'!$CF$18:$CF$1017),0)","v":0},{"$f":"IFERROR($E230*SUMIF('Daily Log'!$CH$18:$CH$1017,$B230,'Daily Log'!$CI$18:$CI$1017),0)","v":0},{"$f":"IFERROR($E230*SUMIF('Daily Log'!$CK$18:$CK$1017,$B230,'Daily Log'!$CL$18:$CL$1017),0)","v":0},{"$f":"IFERROR($E230*SUMIF('Daily Log'!$CN$18:$CN$1017,$B230,'Daily Log'!$CO$18:$CO$1017),0)","v":0}]
[null,"DF02 ADD F.EGG",null,"SIDE ORDER",1,0,{"$f":"IFERROR($E231*SUMIF('Daily Log'!$B$18:$B$1017,$B231,'Daily Log'!$C$18:$C$1017),0)","v":0},{"$f":"IFERROR($E231*SUMIF('Daily Log'!$E$18:$E$1017,$B231,'Daily Log'!$F$18:$F$1017),0)","v":0},{"$f":"IFERROR($E231*SUMIF('Daily Log'!$H$18:$H$1017,$B231,'Daily Log'!$I$18:$I$1017),0)","v":0},{"$f":"IFERROR($E231*SUMIF('Daily Log'!$K$18:$K$1017,$B231,'Daily Log'!$L$18:$L$1017),0)","v":0},{"$f":"IFERROR($E231*SUMIF('Daily Log'!$N$18:$N$1017,$B231,'Daily Log'!$O$18:$O$1017),0)","v":0},{"$f":"IFERROR($E231*SUMIF('Daily Log'!$Q$18:$Q$1017,$B231,'Daily Log'!$R$18:$R$1017),0)","v":0},{"$f":"IFERROR($E231*SUMIF('Daily Log'!$T$18:$T$1017,$B231,'Daily Log'!$U$18:$U$1017),0)","v":0},{"$f":"IFERROR($E231*SUMIF('Daily Log'!$W$18:$W$1017,$B231,'Daily Log'!$X$18:$X$1017),0)","v":0},{"$f":"IFERROR($E231*SUMIF('Daily Log'!$Z$18:$Z$1017,$B231,'Daily Log'!$AA$18:$AA$1017),0)","v":0},{"$f":"IFERROR($E231*SUMIF('Daily Log'!$AC$18:$AC$1017,$B231,'Daily Log'!$AD$18:$AD$1017),0)","v":0},{"$f":"IFERROR($E231*SUMIF('Daily Log'!$AF$18:$AF$1017,$B231,'Daily Log'!$AG$18:$AG$1017),0)","v":0},{"$f":"IFERROR($E231*SUMIF('Daily Log'!$AI$18:$AI$1017,$B231,'Daily Log'!$AJ$18:$AJ$1017),0)","v":0},{"$f":"IFERROR($E231*SUMIF('Daily Log'!$AL$18:$AL$1017,$B231,'Daily Log'!$AM$18:$AM$1017),0)","v":0},{"$f":"IFERROR($E231*SUMIF('Daily Log'!$AO$18:$AO$1017,$B231,'Daily Log'!$AP$18:$AP$1017),0)","v":0},{"$f":"IFERROR($E231*SUMIF('Daily Log'!$AR$18:$AR$1017,$B231,'Daily Log'!$AS$18:$AS$1017),0)","v":0},{"$f":"IFERROR($E231*SUMIF('Daily Log'!$AU$18:$AU$1017,$B231,'Daily Log'!$AV$18:$AV$1017),0)","v":0},{"$f":"IFERROR($E231*SUMIF('Daily Log'!$AX$18:$AX$1017,$B231,'Daily Log'!$AY$18:$AY$1017),0)","v":0},{"$f":"IFERROR($E231*SUMIF('Daily Log'!$BA$18:$BA$1017,$B231,'Daily Log'!$BB$18:$BB$1017),0)","v":0},{"$f":"IFERROR($E231*SUMIF('Daily Log'!$BD$18:$BD$1017,$B231,'Daily Log'!$BE$18:$BE$1017),0)","v":0},{"$f":"IFERROR($E231*SUMIF('Daily Log'!$BG$18:$BG$1017,$B231,'Daily Log'!$BH$18:$BH$1017),0)","v":0},{"$f":"IFERROR($E231*SUMIF('Daily Log'!$BJ$18:$BJ$1017,$B231,'Daily Log'!$BK$18:$BK$1017),0)","v":0},{"$f":"IFERROR($E231*SUMIF('Daily Log'!$BM$18:$BM$1017,$B231,'Daily Log'!$BN$18:$BN$1017),0)","v":0},{"$f":"IFERROR($E231*SUMIF('Daily Log'!$BP$18:$BP$1017,$B231,'Daily Log'!$BQ$18:$BQ$1017),0)","v":0},{"$f":"IFERROR($E231*SUMIF('Daily Log'!$BS$18:$BS$1017,$B231,'Daily Log'!$BT$18:$BT$1017),0)","v":0},{"$f":"IFERROR($E231*SUMIF('Daily Log'!$BV$18:$BV$1017,$B231,'Daily Log'!$BW$18:$BW$1017),0)","v":0},{"$f":"IFERROR($E231*SUMIF('Daily Log'!$BY$18:$BY$1017,$B231,'Daily Log'!$BZ$18:$BZ$1017),0)","v":0},{"$f":"IFERROR($E231*SUMIF('Daily Log'!$CB$18:$CB$1017,$B231,'Daily Log'!$CC$18:$CC$1017),0)","v":0},{"$f":"IFERROR($E231*SUMIF('Daily Log'!$CE$18:$CE$1017,$B231,'Daily Log'!$CF$18:$CF$1017),0)","v":0},{"$f":"IFERROR($E231*SUMIF('Daily Log'!$CH$18:$CH$1017,$B231,'Daily Log'!$CI$18:$CI$1017),0)","v":0},{"$f":"IFERROR($E231*SUMIF('Daily Log'!$CK$18:$CK$1017,$B231,'Daily Log'!$CL$18:$CL$1017),0)","v":0},{"$f":"IFERROR($E231*SUMIF('Daily Log'!$CN$18:$CN$1017,$B231,'Daily Log'!$CO$18:$CO$1017),0)","v":0}]
[null,"DF03 ADD SAUCE 1000",null,"SAUCE",1,0,{"$f":"IFERROR($E232*SUMIF('Daily Log'!$B$18:$B$1017,$B232,'Daily Log'!$C$18:$C$1017),0)","v":0},{"$f":"IFERROR($E232*SUMIF('Daily Log'!$E$18:$E$1017,$B232,'Daily Log'!$F$18:$F$1017),0)","v":0},{"$f":"IFERROR($E232*SUMIF('Daily Log'!$H$18:$H$1017,$B232,'Daily Log'!$I$18:$I$1017),0)","v":0},{"$f":"IFERROR($E232*SUMIF('Daily Log'!$K$18:$K$1017,$B232,'Daily Log'!$L$18:$L$1017),0)","v":0},{"$f":"IFERROR($E232*SUMIF('Daily Log'!$N$18:$N$1017,$B232,'Daily Log'!$O$18:$O$1017),0)","v":0},{"$f":"IFERROR($E232*SUMIF('Daily Log'!$Q$18:$Q$1017,$B232,'Daily Log'!$R$18:$R$1017),0)","v":0},{"$f":"IFERROR($E232*SUMIF('Daily Log'!$T$18:$T$1017,$B232,'Daily Log'!$U$18:$U$1017),0)","v":0},{"$f":"IFERROR($E232*SUMIF('Daily Log'!$W$18:$W$1017,$B232,'Daily Log'!$X$18:$X$1017),0)","v":0},{"$f":"IFERROR($E232*SUMIF('Daily Log'!$Z$18:$Z$1017,$B232,'Daily Log'!$AA$18:$AA$1017),0)","v":0},{"$f":"IFERROR($E232*SUMIF('Daily Log'!$AC$18:$AC$1017,$B232,'Daily Log'!$AD$18:$AD$1017),0)","v":0},{"$f":"IFERROR($E232*SUMIF('Daily Log'!$AF$18:$AF$1017,$B232,'Daily Log'!$AG$18:$AG$1017),0)","v":0},{"$f":"IFERROR($E232*SUMIF('Daily Log'!$AI$18:$AI$1017,$B232,'Daily Log'!$AJ$18:$AJ$1017),0)","v":0},{"$f":"IFERROR($E232*SUMIF('Daily Log'!$AL$18:$AL$1017,$B232,'Daily Log'!$AM$18:$AM$1017),0)","v":0},{"$f":"IFERROR($E232*SUMIF('Daily Log'!$AO$18:$AO$1017,$B232,'Daily Log'!$AP$18:$AP$1017),0)","v":0},{"$f":"IFERROR($E232*SUMIF('Daily Log'!$AR$18:$AR$1017,$B232,'Daily Log'!$AS$18:$AS$1017),0)","v":0},{"$f":"IFERROR($E232*SUMIF('Daily Log'!$AU$18:$AU$1017,$B232,'Daily Log'!$AV$18:$AV$1017),0)","v":0},{"$f":"IFERROR($E232*SUMIF('Daily Log'!$AX$18:$AX$1017,$B232,'Daily Log'!$AY$18:$AY$1017),0)","v":0},{"$f":"IFERROR($E232*SUMIF('Daily Log'!$BA$18:$BA$1017,$B232,'Daily Log'!$BB$18:$BB$1017),0)","v":0},{"$f":"IFERROR($E232*SUMIF('Daily Log'!$BD$18:$BD$1017,$B232,'Daily Log'!$BE$18:$BE$1017),0)","v":0},{"$f":"IFERROR($E232*SUMIF('Daily Log'!$BG$18:$BG$1017,$B232,'Daily Log'!$BH$18:$BH$1017),0)","v":0},{"$f":"IFERROR($E232*SUMIF('Daily Log'!$BJ$18:$BJ$1017,$B232,'Daily Log'!$BK$18:$BK$1017),0)","v":0},{"$f":"IFERROR($E232*SUMIF('Daily Log'!$BM$18:$BM$1017,$B232,'Daily Log'!$BN$18:$BN$1017),0)","v":0},{"$f":"IFERROR($E232*SUMIF('Daily Log'!$BP$18:$BP$1017,$B232,'Daily Log'!$BQ$18:$BQ$1017),0)","v":0},{"$f":"IFERROR($E232*SUMIF('Daily Log'!$BS$18:$BS$1017,$B232,'Daily Log'!$BT$18:$BT$1017),0)","v":0},{"$f":"IFERROR($E232*SUMIF('Daily Log'!$BV$18:$BV$1017,$B232,'Daily Log'!$BW$18:$BW$1017),0)","v":0},{"$f":"IFERROR($E232*SUMIF('Daily Log'!$BY$18:$BY$1017,$B232,'Daily Log'!$BZ$18:$BZ$1017),0)","v":0},{"$f":"IFERROR($E232*SUMIF('Daily Log'!$CB$18:$CB$1017,$B232,'Daily Log'!$CC$18:$CC$1017),0)","v":0},{"$f":"IFERROR($E232*SUMIF('Daily Log'!$CE$18:$CE$1017,$B232,'Daily Log'!$CF$18:$CF$1017),0)","v":0},{"$f":"IFERROR($E232*SUMIF('Daily Log'!$CH$18:$CH$1017,$B232,'Daily Log'!$CI$18:$CI$1017),0)","v":0},{"$f":"IFERROR($E232*SUMIF('Daily Log'!$CK$18:$CK$1017,$B232,'Daily Log'!$CL$18:$CL$1017),0)","v":0},{"$f":"IFERROR($E232*SUMIF('Daily Log'!$CN$18:$CN$1017,$B232,'Daily Log'!$CO$18:$CO$1017),0)","v":0}]
[null,"DF04 ADD SAUCE BOLO",null,"SAUCE",1,0,{"$f":"IFERROR($E233*SUMIF('Daily Log'!$B$18:$B$1017,$B233,'Daily Log'!$C$18:$C$1017),0)","v":0},{"$f":"IFERROR($E233*SUMIF('Daily Log'!$E$18:$E$1017,$B233,'Daily Log'!$F$18:$F$1017),0)","v":0},{"$f":"IFERROR($E233*SUMIF('Daily Log'!$H$18:$H$1017,$B233,'Daily Log'!$I$18:$I$1017),0)","v":0},{"$f":"IFERROR($E233*SUMIF('Daily Log'!$K$18:$K$1017,$B233,'Daily Log'!$L$18:$L$1017),0)","v":0},{"$f":"IFERROR($E233*SUMIF('Daily Log'!$N$18:$N$1017,$B233,'Daily Log'!$O$18:$O$1017),0)","v":0},{"$f":"IFERROR($E233*SUMIF('Daily Log'!$Q$18:$Q$1017,$B233,'Daily Log'!$R$18:$R$1017),0)","v":0},{"$f":"IFERROR($E233*SUMIF('Daily Log'!$T$18:$T$1017,$B233,'Daily Log'!$U$18:$U$1017),0)","v":0},{"$f":"IFERROR($E233*SUMIF('Daily Log'!$W$18:$W$1017,$B233,'Daily Log'!$X$18:$X$1017),0)","v":0},{"$f":"IFERROR($E233*SUMIF('Daily Log'!$Z$18:$Z$1017,$B233,'Daily Log'!$AA$18:$AA$1017),0)","v":0},{"$f":"IFERROR($E233*SUMIF('Daily Log'!$AC$18:$AC$1017,$B233,'Daily Log'!$AD$18:$AD$1017),0)","v":0},{"$f":"IFERROR($E233*SUMIF('Daily Log'!$AF$18:$AF$1017,$B233,'Daily Log'!$AG$18:$AG$1017),0)","v":0},{"$f":"IFERROR($E233*SUMIF('Daily Log'!$AI$18:$AI$1017,$B233,'Daily Log'!$AJ$18:$AJ$1017),0)","v":0},{"$f":"IFERROR($E233*SUMIF('Daily Log'!$AL$18:$AL$1017,$B233,'Daily Log'!$AM$18:$AM$1017),0)","v":0},{"$f":"IFERROR($E233*SUMIF('Daily Log'!$AO$18:$AO$1017,$B233,'Daily Log'!$AP$18:$AP$1017),0)","v":0},{"$f":"IFERROR($E233*SUMIF('Daily Log'!$AR$18:$AR$1017,$B233,'Daily Log'!$AS$18:$AS$1017),0)","v":0},{"$f":"IFERROR($E233*SUMIF('Daily Log'!$AU$18:$AU$1017,$B233,'Daily Log'!$AV$18:$AV$1017),0)","v":0},{"$f":"IFERROR($E233*SUMIF('Daily Log'!$AX$18:$AX$1017,$B233,'Daily Log'!$AY$18:$AY$1017),0)","v":0},{"$f":"IFERROR($E233*SUMIF('Daily Log'!$BA$18:$BA$1017,$B233,'Daily Log'!$BB$18:$BB$1017),0)","v":0},{"$f":"IFERROR($E233*SUMIF('Daily Log'!$BD$18:$BD$1017,$B233,'Daily Log'!$BE$18:$BE$1017),0)","v":0},{"$f":"IFERROR($E233*SUMIF('Daily Log'!$BG$18:$BG$1017,$B233,'Daily Log'!$BH$18:$BH$1017),0)","v":0},{"$f":"IFERROR($E233*SUMIF('Daily Log'!$BJ$18:$BJ$1017,$B233,'Daily Log'!$BK$18:$BK$1017),0)","v":0},{"$f":"IFERROR($E233*SUMIF('Daily Log'!$BM$18:$BM$1017,$B233,'Daily Log'!$BN$18:$BN$1017),0)","v":0},{"$f":"IFERROR($E233*SUMIF('Daily Log'!$BP$18:$BP$1017,$B233,'Daily Log'!$BQ$18:$BQ$1017),0)","v":0},{"$f":"IFERROR($E233*SUMIF('Daily Log'!$BS$18:$BS$1017,$B233,'Daily Log'!$BT$18:$BT$1017),0)","v":0},{"$f":"IFERROR($E233*SUMIF('Daily Log'!$BV$18:$BV$1017,$B233,'Daily Log'!$BW$18:$BW$1017),0)","v":0},{"$f":"IFERROR($E233*SUMIF('Daily Log'!$BY$18:$BY$1017,$B233,'Daily Log'!$BZ$18:$BZ$1017),0)","v":0},{"$f":"IFERROR($E233*SUMIF('Daily Log'!$CB$18:$CB$1017,$B233,'Daily Log'!$CC$18:$CC$1017),0)","v":0},{"$f":"IFERROR($E233*SUMIF('Daily Log'!$CE$18:$CE$1017,$B233,'Daily Log'!$CF$18:$CF$1017),0)","v":0},{"$f":"IFERROR($E233*SUMIF('Daily Log'!$CH$18:$CH$1017,$B233,'Daily Log'!$CI$18:$CI$1017),0)","v":0},{"$f":"IFERROR($E233*SUMIF('Daily Log'!$CK$18:$CK$1017,$B233,'Daily Log'!$CL$18:$CL$1017),0)","v":0},{"$f":"IFERROR($E233*SUMIF('Daily Log'!$CN$18:$CN$1017,$B233,'Daily Log'!$CO$18:$CO$1017),0)","v":0}]
[null,"DF05 ADD SAUCE BP",null,"SAUCE",1,0,{"$f":"IFERROR($E234*SUMIF('Daily Log'!$B$18:$B$1017,$B234,'Daily Log'!$C$18:$C$1017),0)","v":0},{"$f":"IFERROR($E234*SUMIF('Daily Log'!$E$18:$E$1017,$B234,'Daily Log'!$F$18:$F$1017),0)","v":0},{"$f":"IFERROR($E234*SUMIF('Daily Log'!$H$18:$H$1017,$B234,'Daily Log'!$I$18:$I$1017),0)","v":0},{"$f":"IFERROR($E234*SUMIF('Daily Log'!$K$18:$K$1017,$B234,'Daily Log'!$L$18:$L$1017),0)","v":0},{"$f":"IFERROR($E234*SUMIF('Daily Log'!$N$18:$N$1017,$B234,'Daily Log'!$O$18:$O$1017),0)","v":0},{"$f":"IFERROR($E234*SUMIF('Daily Log'!$Q$18:$Q$1017,$B234,'Daily Log'!$R$18:$R$1017),0)","v":0},{"$f":"IFERROR($E234*SUMIF('Daily Log'!$T$18:$T$1017,$B234,'Daily Log'!$U$18:$U$1017),0)","v":0},{"$f":"IFERROR($E234*SUMIF('Daily Log'!$W$18:$W$1017,$B234,'Daily Log'!$X$18:$X$1017),0)","v":0},{"$f":"IFERROR($E234*SUMIF('Daily Log'!$Z$18:$Z$1017,$B234,'Daily Log'!$AA$18:$AA$1017),0)","v":0},{"$f":"IFERROR($E234*SUMIF('Daily Log'!$AC$18:$AC$1017,$B234,'Daily Log'!$AD$18:$AD$1017),0)","v":0},{"$f":"IFERROR($E234*SUMIF('Daily Log'!$AF$18:$AF$1017,$B234,'Daily Log'!$AG$18:$AG$1017),0)","v":0},{"$f":"IFERROR($E234*SUMIF('Daily Log'!$AI$18:$AI$1017,$B234,'Daily Log'!$AJ$18:$AJ$1017),0)","v":0},{"$f":"IFERROR($E234*SUMIF('Daily Log'!$AL$18:$AL$1017,$B234,'Daily Log'!$AM$18:$AM$1017),0)","v":0},{"$f":"IFERROR($E234*SUMIF('Daily Log'!$AO$18:$AO$1017,$B234,'Daily Log'!$AP$18:$AP$1017),0)","v":0},{"$f":"IFERROR($E234*SUMIF('Daily Log'!$AR$18:$AR$1017,$B234,'Daily Log'!$AS$18:$AS$1017),0)","v":0},{"$f":"IFERROR($E234*SUMIF('Daily Log'!$AU$18:$AU$1017,$B234,'Daily Log'!$AV$18:$AV$1017),0)","v":0},{"$f":"IFERROR($E234*SUMIF('Daily Log'!$AX$18:$AX$1017,$B234,'Daily Log'!$AY$18:$AY$1017),0)","v":0},{"$f":"IFERROR($E234*SUMIF('Daily Log'!$BA$18:$BA$1017,$B234,'Daily Log'!$BB$18:$BB$1017),0)","v":0},{"$f":"IFERROR($E234*SUMIF('Daily Log'!$BD$18:$BD$1017,$B234,'Daily Log'!$BE$18:$BE$1017),0)","v":0},{"$f":"IFERROR($E234*SUMIF('Daily Log'!$BG$18:$BG$1017,$B234,'Daily Log'!$BH$18:$BH$1017),0)","v":0},{"$f":"IFERROR($E234*SUMIF('Daily Log'!$BJ$18:$BJ$1017,$B234,'Daily Log'!$BK$18:$BK$1017),0)","v":0},{"$f":"IFERROR($E234*SUMIF('Daily Log'!$BM$18:$BM$1017,$B234,'Daily Log'!$BN$18:$BN$1017),0)","v":0},{"$f":"IFERROR($E234*SUMIF('Daily Log'!$BP$18:$BP$1017,$B234,'Daily Log'!$BQ$18:$BQ$1017),0)","v":0},{"$f":"IFERROR($E234*SUMIF('Daily Log'!$BS$18:$BS$1017,$B234,'Daily Log'!$BT$18:$BT$1017),0)","v":0},{"$f":"IFERROR($E234*SUMIF('Daily Log'!$BV$18:$BV$1017,$B234,'Daily Log'!$BW$18:$BW$1017),0)","v":0},{"$f":"IFERROR($E234*SUMIF('Daily Log'!$BY$18:$BY$1017,$B234,'Daily Log'!$BZ$18:$BZ$1017),0)","v":0},{"$f":"IFERROR($E234*SUMIF('Daily Log'!$CB$18:$CB$1017,$B234,'Daily Log'!$CC$18:$CC$1017),0)","v":0},{"$f":"IFERROR($E234*SUMIF('Daily Log'!$CE$18:$CE$1017,$B234,'Daily Log'!$CF$18:$CF$1017),0)","v":0},{"$f":"IFERROR($E234*SUMIF('Daily Log'!$CH$18:$CH$1017,$B234,'Daily Log'!$CI$18:$CI$1017),0)","v":0},{"$f":"IFERROR($E234*SUMIF('Daily Log'!$CK$18:$CK$1017,$B234,'Daily Log'!$CL$18:$CL$1017),0)","v":0},{"$f":"IFERROR($E234*SUMIF('Daily Log'!$CN$18:$CN$1017,$B234,'Daily Log'!$CO$18:$CO$1017),0)","v":0}]
[null,"DF06 ADD SAUCE BUTTER",null,"SAUCE",1,0,{"$f":"IFERROR($E235*SUMIF('Daily Log'!$B$18:$B$1017,$B235,'Daily Log'!$C$18:$C$1017),0)","v":0},{"$f":"IFERROR($E235*SUMIF('Daily Log'!$E$18:$E$1017,$B235,'Daily Log'!$F$18:$F$1017),0)","v":0},{"$f":"IFERROR($E235*SUMIF('Daily Log'!$H$18:$H$1017,$B235,'Daily Log'!$I$18:$I$1017),0)","v":0},{"$f":"IFERROR($E235*SUMIF('Daily Log'!$K$18:$K$1017,$B235,'Daily Log'!$L$18:$L$1017),0)","v":0},{"$f":"IFERROR($E235*SUMIF('Daily Log'!$N$18:$N$1017,$B235,'Daily Log'!$O$18:$O$1017),0)","v":0},{"$f":"IFERROR($E235*SUMIF('Daily Log'!$Q$18:$Q$1017,$B235,'Daily Log'!$R$18:$R$1017),0)","v":0},{"$f":"IFERROR($E235*SUMIF('Daily Log'!$T$18:$T$1017,$B235,'Daily Log'!$U$18:$U$1017),0)","v":0},{"$f":"IFERROR($E235*SUMIF('Daily Log'!$W$18:$W$1017,$B235,'Daily Log'!$X$18:$X$1017),0)","v":0},{"$f":"IFERROR($E235*SUMIF('Daily Log'!$Z$18:$Z$1017,$B235,'Daily Log'!$AA$18:$AA$1017),0)","v":0},{"$f":"IFERROR($E235*SUMIF('Daily Log'!$AC$18:$AC$1017,$B235,'Daily Log'!$AD$18:$AD$1017),0)","v":0},{"$f":"IFERROR($E235*SUMIF('Daily Log'!$AF$18:$AF$1017,$B235,'Daily Log'!$AG$18:$AG$1017),0)","v":0},{"$f":"IFERROR($E235*SUMIF('Daily Log'!$AI$18:$AI$1017,$B235,'Daily Log'!$AJ$18:$AJ$1017),0)","v":0},{"$f":"IFERROR($E235*SUMIF('Daily Log'!$AL$18:$AL$1017,$B235,'Daily Log'!$AM$18:$AM$1017),0)","v":0},{"$f":"IFERROR($E235*SUMIF('Daily Log'!$AO$18:$AO$1017,$B235,'Daily Log'!$AP$18:$AP$1017),0)","v":0},{"$f":"IFERROR($E235*SUMIF('Daily Log'!$AR$18:$AR$1017,$B235,'Daily Log'!$AS$18:$AS$1017),0)","v":0},{"$f":"IFERROR($E235*SUMIF('Daily Log'!$AU$18:$AU$1017,$B235,'Daily Log'!$AV$18:$AV$1017),0)","v":0},{"$f":"IFERROR($E235*SUMIF('Daily Log'!$AX$18:$AX$1017,$B235,'Daily Log'!$AY$18:$AY$1017),0)","v":0},{"$f":"IFERROR($E235*SUMIF('Daily Log'!$BA$18:$BA$1017,$B235,'Daily Log'!$BB$18:$BB$1017),0)","v":0},{"$f":"IFERROR($E235*SUMIF('Daily Log'!$BD$18:$BD$1017,$B235,'Daily Log'!$BE$18:$BE$1017),0)","v":0},{"$f":"IFERROR($E235*SUMIF('Daily Log'!$BG$18:$BG$1017,$B235,'Daily Log'!$BH$18:$BH$1017),0)","v":0},{"$f":"IFERROR($E235*SUMIF('Daily Log'!$BJ$18:$BJ$1017,$B235,'Daily Log'!$BK$18:$BK$1017),0)","v":0},{"$f":"IFERROR($E235*SUMIF('Daily Log'!$BM$18:$BM$1017,$B235,'Daily Log'!$BN$18:$BN$1017),0)","v":0},{"$f":"IFERROR($E235*SUMIF('Daily Log'!$BP$18:$BP$1017,$B235,'Daily Log'!$BQ$18:$BQ$1017),0)","v":0},{"$f":"IFERROR($E235*SUMIF('Daily Log'!$BS$18:$BS$1017,$B235,'Daily Log'!$BT$18:$BT$1017),0)","v":0},{"$f":"IFERROR($E235*SUMIF('Daily Log'!$BV$18:$BV$1017,$B235,'Daily Log'!$BW$18:$BW$1017),0)","v":0},{"$f":"IFERROR($E235*SUMIF('Daily Log'!$BY$18:$BY$1017,$B235,'Daily Log'!$BZ$18:$BZ$1017),0)","v":0},{"$f":"IFERROR($E235*SUMIF('Daily Log'!$CB$18:$CB$1017,$B235,'Daily Log'!$CC$18:$CC$1017),0)","v":0},{"$f":"IFERROR($E235*SUMIF('Daily Log'!$CE$18:$CE$1017,$B235,'Daily Log'!$CF$18:$CF$1017),0)","v":0},{"$f":"IFERROR($E235*SUMIF('Daily Log'!$CH$18:$CH$1017,$B235,'Daily Log'!$CI$18:$CI$1017),0)","v":0},{"$f":"IFERROR($E235*SUMIF('Daily Log'!$CK$18:$CK$1017,$B235,'Daily Log'!$CL$18:$CL$1017),0)","v":0},{"$f":"IFERROR($E235*SUMIF('Daily Log'!$CN$18:$CN$1017,$B235,'Daily Log'!$CO$18:$CO$1017),0)","v":0}]
[null,"DF07 ADD SAUCE C.PADI",null,"SAUCE",1,0,{"$f":"IFERROR($E236*SUMIF('Daily Log'!$B$18:$B$1017,$B236,'Daily Log'!$C$18:$C$1017),0)","v":0},{"$f":"IFERROR($E236*SUMIF('Daily Log'!$E$18:$E$1017,$B236,'Daily Log'!$F$18:$F$1017),0)","v":0},{"$f":"IFERROR($E236*SUMIF('Daily Log'!$H$18:$H$1017,$B236,'Daily Log'!$I$18:$I$1017),0)","v":0},{"$f":"IFERROR($E236*SUMIF('Daily Log'!$K$18:$K$1017,$B236,'Daily Log'!$L$18:$L$1017),0)","v":0},{"$f":"IFERROR($E236*SUMIF('Daily Log'!$N$18:$N$1017,$B236,'Daily Log'!$O$18:$O$1017),0)","v":0},{"$f":"IFERROR($E236*SUMIF('Daily Log'!$Q$18:$Q$1017,$B236,'Daily Log'!$R$18:$R$1017),0)","v":0},{"$f":"IFERROR($E236*SUMIF('Daily Log'!$T$18:$T$1017,$B236,'Daily Log'!$U$18:$U$1017),0)","v":0},{"$f":"IFERROR($E236*SUMIF('Daily Log'!$W$18:$W$1017,$B236,'Daily Log'!$X$18:$X$1017),0)","v":0},{"$f":"IFERROR($E236*SUMIF('Daily Log'!$Z$18:$Z$1017,$B236,'Daily Log'!$AA$18:$AA$1017),0)","v":0},{"$f":"IFERROR($E236*SUMIF('Daily Log'!$AC$18:$AC$1017,$B236,'Daily Log'!$AD$18:$AD$1017),0)","v":0},{"$f":"IFERROR($E236*SUMIF('Daily Log'!$AF$18:$AF$1017,$B236,'Daily Log'!$AG$18:$AG$1017),0)","v":0},{"$f":"IFERROR($E236*SUMIF('Daily Log'!$AI$18:$AI$1017,$B236,'Daily Log'!$AJ$18:$AJ$1017),0)","v":0},{"$f":"IFERROR($E236*SUMIF('Daily Log'!$AL$18:$AL$1017,$B236,'Daily Log'!$AM$18:$AM$1017),0)","v":0},{"$f":"IFERROR($E236*SUMIF('Daily Log'!$AO$18:$AO$1017,$B236,'Daily Log'!$AP$18:$AP$1017),0)","v":0},{"$f":"IFERROR($E236*SUMIF('Daily Log'!$AR$18:$AR$1017,$B236,'Daily Log'!$AS$18:$AS$1017),0)","v":0},{"$f":"IFERROR($E236*SUMIF('Daily Log'!$AU$18:$AU$1017,$B236,'Daily Log'!$AV$18:$AV$1017),0)","v":0},{"$f":"IFERROR($E236*SUMIF('Daily Log'!$AX$18:$AX$1017,$B236,'Daily Log'!$AY$18:$AY$1017),0)","v":0},{"$f":"IFERROR($E236*SUMIF('Daily Log'!$BA$18:$BA$1017,$B236,'Daily Log'!$BB$18:$BB$1017),0)","v":0},{"$f":"IFERROR($E236*SUMIF('Daily Log'!$BD$18:$BD$1017,$B236,'Daily Log'!$BE$18:$BE$1017),0)","v":0},{"$f":"IFERROR($E236*SUMIF('Daily Log'!$BG$18:$BG$1017,$B236,'Daily Log'!$BH$18:$BH$1017),0)","v":0},{"$f":"IFERROR($E236*SUMIF('Daily Log'!$BJ$18:$BJ$1017,$B236,'Daily Log'!$BK$18:$BK$1017),0)","v":0},{"$f":"IFERROR($E236*SUMIF('Daily Log'!$BM$18:$BM$1017,$B236,'Daily Log'!$BN$18:$BN$1017),0)","v":0},{"$f":"IFERROR($E236*SUMIF('Daily Log'!$BP$18:$BP$1017,$B236,'Daily Log'!$BQ$18:$BQ$1017),0)","v":0},{"$f":"IFERROR($E236*SUMIF('Daily Log'!$BS$18:$BS$1017,$B236,'Daily Log'!$BT$18:$BT$1017),0)","v":0},{"$f":"IFERROR($E236*SUMIF('Daily Log'!$BV$18:$BV$1017,$B236,'Daily Log'!$BW$18:$BW$1017),0)","v":0},{"$f":"IFERROR($E236*SUMIF('Daily Log'!$BY$18:$BY$1017,$B236,'Daily Log'!$BZ$18:$BZ$1017),0)","v":0},{"$f":"IFERROR($E236*SUMIF('Daily Log'!$CB$18:$CB$1017,$B236,'Daily Log'!$CC$18:$CC$1017),0)","v":0},{"$f":"IFERROR($E236*SUMIF('Daily Log'!$CE$18:$CE$1017,$B236,'Daily Log'!$CF$18:$CF$1017),0)","v":0},{"$f":"IFERROR($E236*SUMIF('Daily Log'!$CH$18:$CH$1017,$B236,'Daily Log'!$CI$18:$CI$1017),0)","v":0},{"$f":"IFERROR($E236*SUMIF('Daily Log'!$CK$18:$CK$1017,$B236,'Daily Log'!$CL$18:$CL$1017),0)","v":0},{"$f":"IFERROR($E236*SUMIF('Daily Log'!$CN$18:$CN$1017,$B236,'Daily Log'!$CO$18:$CO$1017),0)","v":0}]
[null,"DF08 ADD SAUCE GS",null,"SAUCE",1,0,{"$f":"IFERROR($E237*SUMIF('Daily Log'!$B$18:$B$1017,$B237,'Daily Log'!$C$18:$C$1017),0)","v":0},{"$f":"IFERROR($E237*SUMIF('Daily Log'!$E$18:$E$1017,$B237,'Daily Log'!$F$18:$F$1017),0)","v":0},{"$f":"IFERROR($E237*SUMIF('Daily Log'!$H$18:$H$1017,$B237,'Daily Log'!$I$18:$I$1017),0)","v":0},{"$f":"IFERROR($E237*SUMIF('Daily Log'!$K$18:$K$1017,$B237,'Daily Log'!$L$18:$L$1017),0)","v":0},{"$f":"IFERROR($E237*SUMIF('Daily Log'!$N$18:$N$1017,$B237,'Daily Log'!$O$18:$O$1017),0)","v":0},{"$f":"IFERROR($E237*SUMIF('Daily Log'!$Q$18:$Q$1017,$B237,'Daily Log'!$R$18:$R$1017),0)","v":0},{"$f":"IFERROR($E237*SUMIF('Daily Log'!$T$18:$T$1017,$B237,'Daily Log'!$U$18:$U$1017),0)","v":0},{"$f":"IFERROR($E237*SUMIF('Daily Log'!$W$18:$W$1017,$B237,'Daily Log'!$X$18:$X$1017),0)","v":0},{"$f":"IFERROR($E237*SUMIF('Daily Log'!$Z$18:$Z$1017,$B237,'Daily Log'!$AA$18:$AA$1017),0)","v":0},{"$f":"IFERROR($E237*SUMIF('Daily Log'!$AC$18:$AC$1017,$B237,'Daily Log'!$AD$18:$AD$1017),0)","v":0},{"$f":"IFERROR($E237*SUMIF('Daily Log'!$AF$18:$AF$1017,$B237,'Daily Log'!$AG$18:$AG$1017),0)","v":0},{"$f":"IFERROR($E237*SUMIF('Daily Log'!$AI$18:$AI$1017,$B237,'Daily Log'!$AJ$18:$AJ$1017),0)","v":0},{"$f":"IFERROR($E237*SUMIF('Daily Log'!$AL$18:$AL$1017,$B237,'Daily Log'!$AM$18:$AM$1017),0)","v":0},{"$f":"IFERROR($E237*SUMIF('Daily Log'!$AO$18:$AO$1017,$B237,'Daily Log'!$AP$18:$AP$1017),0)","v":0},{"$f":"IFERROR($E237*SUMIF('Daily Log'!$AR$18:$AR$1017,$B237,'Daily Log'!$AS$18:$AS$1017),0)","v":0},{"$f":"IFERROR($E237*SUMIF('Daily Log'!$AU$18:$AU$1017,$B237,'Daily Log'!$AV$18:$AV$1017),0)","v":0},{"$f":"IFERROR($E237*SUMIF('Daily Log'!$AX$18:$AX$1017,$B237,'Daily Log'!$AY$18:$AY$1017),0)","v":0},{"$f":"IFERROR($E237*SUMIF('Daily Log'!$BA$18:$BA$1017,$B237,'Daily Log'!$BB$18:$BB$1017),0)","v":0},{"$f":"IFERROR($E237*SUMIF('Daily Log'!$BD$18:$BD$1017,$B237,'Daily Log'!$BE$18:$BE$1017),0)","v":0},{"$f":"IFERROR($E237*SUMIF('Daily Log'!$BG$18:$BG$1017,$B237,'Daily Log'!$BH$18:$BH$1017),0)","v":0},{"$f":"IFERROR($E237*SUMIF('Daily Log'!$BJ$18:$BJ$1017,$B237,'Daily Log'!$BK$18:$BK$1017),0)","v":0},{"$f":"IFERROR($E237*SUMIF('Daily Log'!$BM$18:$BM$1017,$B237,'Daily Log'!$BN$18:$BN$1017),0)","v":0},{"$f":"IFERROR($E237*SUMIF('Daily Log'!$BP$18:$BP$1017,$B237,'Daily Log'!$BQ$18:$BQ$1017),0)","v":0},{"$f":"IFERROR($E237*SUMIF('Daily Log'!$BS$18:$BS$1017,$B237,'Daily Log'!$BT$18:$BT$1017),0)","v":0},{"$f":"IFERROR($E237*SUMIF('Daily Log'!$BV$18:$BV$1017,$B237,'Daily Log'!$BW$18:$BW$1017),0)","v":0},{"$f":"IFERROR($E237*SUMIF('Daily Log'!$BY$18:$BY$1017,$B237,'Daily Log'!$BZ$18:$BZ$1017),0)","v":0},{"$f":"IFERROR($E237*SUMIF('Daily Log'!$CB$18:$CB$1017,$B237,'Daily Log'!$CC$18:$CC$1017),0)","v":0},{"$f":"IFERROR($E237*SUMIF('Daily Log'!$CE$18:$CE$1017,$B237,'Daily Log'!$CF$18:$CF$1017),0)","v":0},{"$f":"IFERROR($E237*SUMIF('Daily Log'!$CH$18:$CH$1017,$B237,'Daily Log'!$CI$18:$CI$1017),0)","v":0},{"$f":"IFERROR($E237*SUMIF('Daily Log'!$CK$18:$CK$1017,$B237,'Daily Log'!$CL$18:$CL$1017),0)","v":0},{"$f":"IFERROR($E237*SUMIF('Daily Log'!$CN$18:$CN$1017,$B237,'Daily Log'!$CO$18:$CO$1017),0)","v":0}]
[null,"DF09 ADD SAUCE MAYO",null,"SAUCE",1,0,{"$f":"IFERROR($E238*SUMIF('Daily Log'!$B$18:$B$1017,$B238,'Daily Log'!$C$18:$C$1017),0)","v":0},{"$f":"IFERROR($E238*SUMIF('Daily Log'!$E$18:$E$1017,$B238,'Daily Log'!$F$18:$F$1017),0)","v":0},{"$f":"IFERROR($E238*SUMIF('Daily Log'!$H$18:$H$1017,$B238,'Daily Log'!$I$18:$I$1017),0)","v":0},{"$f":"IFERROR($E238*SUMIF('Daily Log'!$K$18:$K$1017,$B238,'Daily Log'!$L$18:$L$1017),0)","v":0},{"$f":"IFERROR($E238*SUMIF('Daily Log'!$N$18:$N$1017,$B238,'Daily Log'!$O$18:$O$1017),0)","v":0},{"$f":"IFERROR($E238*SUMIF('Daily Log'!$Q$18:$Q$1017,$B238,'Daily Log'!$R$18:$R$1017),0)","v":0},{"$f":"IFERROR($E238*SUMIF('Daily Log'!$T$18:$T$1017,$B238,'Daily Log'!$U$18:$U$1017),0)","v":0},{"$f":"IFERROR($E238*SUMIF('Daily Log'!$W$18:$W$1017,$B238,'Daily Log'!$X$18:$X$1017),0)","v":0},{"$f":"IFERROR($E238*SUMIF('Daily Log'!$Z$18:$Z$1017,$B238,'Daily Log'!$AA$18:$AA$1017),0)","v":0},{"$f":"IFERROR($E238*SUMIF('Daily Log'!$AC$18:$AC$1017,$B238,'Daily Log'!$AD$18:$AD$1017),0)","v":0},{"$f":"IFERROR($E238*SUMIF('Daily Log'!$AF$18:$AF$1017,$B238,'Daily Log'!$AG$18:$AG$1017),0)","v":0},{"$f":"IFERROR($E238*SUMIF('Daily Log'!$AI$18:$AI$1017,$B238,'Daily Log'!$AJ$18:$AJ$1017),0)","v":0},{"$f":"IFERROR($E238*SUMIF('Daily Log'!$AL$18:$AL$1017,$B238,'Daily Log'!$AM$18:$AM$1017),0)","v":0},{"$f":"IFERROR($E238*SUMIF('Daily Log'!$AO$18:$AO$1017,$B238,'Daily Log'!$AP$18:$AP$1017),0)","v":0},{"$f":"IFERROR($E238*SUMIF('Daily Log'!$AR$18:$AR$1017,$B238,'Daily Log'!$AS$18:$AS$1017),0)","v":0},{"$f":"IFERROR($E238*SUMIF('Daily Log'!$AU$18:$AU$1017,$B238,'Daily Log'!$AV$18:$AV$1017),0)","v":0},{"$f":"IFERROR($E238*SUMIF('Daily Log'!$AX$18:$AX$1017,$B238,'Daily Log'!$AY$18:$AY$1017),0)","v":0},{"$f":"IFERROR($E238*SUMIF('Daily Log'!$BA$18:$BA$1017,$B238,'Daily Log'!$BB$18:$BB$1017),0)","v":0},{"$f":"IFERROR($E238*SUMIF('Daily Log'!$BD$18:$BD$1017,$B238,'Daily Log'!$BE$18:$BE$1017),0)","v":0},{"$f":"IFERROR($E238*SUMIF('Daily Log'!$BG$18:$BG$1017,$B238,'Daily Log'!$BH$18:$BH$1017),0)","v":0},{"$f":"IFERROR($E238*SUMIF('Daily Log'!$BJ$18:$BJ$1017,$B238,'Daily Log'!$BK$18:$BK$1017),0)","v":0},{"$f":"IFERROR($E238*SUMIF('Daily Log'!$BM$18:$BM$1017,$B238,'Daily Log'!$BN$18:$BN$1017),0)","v":0},{"$f":"IFERROR($E238*SUMIF('Daily Log'!$BP$18:$BP$1017,$B238,'Daily Log'!$BQ$18:$BQ$1017),0)","v":0},{"$f":"IFERROR($E238*SUMIF('Daily Log'!$BS$18:$BS$1017,$B238,'Daily Log'!$BT$18:$BT$1017),0)","v":0},{"$f":"IFERROR($E238*SUMIF('Daily Log'!$BV$18:$BV$1017,$B238,'Daily Log'!$BW$18:$BW$1017),0)","v":0},{"$f":"IFERROR($E238*SUMIF('Daily Log'!$BY$18:$BY$1017,$B238,'Daily Log'!$BZ$18:$BZ$1017),0)","v":0},{"$f":"IFERROR($E238*SUMIF('Daily Log'!$CB$18:$CB$1017,$B238,'Daily Log'!$CC$18:$CC$1017),0)","v":0},{"$f":"IFERROR($E238*SUMIF('Daily Log'!$CE$18:$CE$1017,$B238,'Daily Log'!$CF$18:$CF$1017),0)","v":0},{"$f":"IFERROR($E238*SUMIF('Daily Log'!$CH$18:$CH$1017,$B238,'Daily Log'!$CI$18:$CI$1017),0)","v":0},{"$f":"IFERROR($E238*SUMIF('Daily Log'!$CK$18:$CK$1017,$B238,'Daily Log'!$CL$18:$CL$1017),0)","v":0},{"$f":"IFERROR($E238*SUMIF('Daily Log'!$CN$18:$CN$1017,$B238,'Daily Log'!$CO$18:$CO$1017),0)","v":0}]
[null,"DF10 ADD SAUCE MMITE",null,"SAUCE",1,0,{"$f":"IFERROR($E239*SUMIF('Daily Log'!$B$18:$B$1017,$B239,'Daily Log'!$C$18:$C$1017),0)","v":0},{"$f":"IFERROR($E239*SUMIF('Daily Log'!$E$18:$E$1017,$B239,'Daily Log'!$F$18:$F$1017),0)","v":0},{"$f":"IFERROR($E239*SUMIF('Daily Log'!$H$18:$H$1017,$B239,'Daily Log'!$I$18:$I$1017),0)","v":0},{"$f":"IFERROR($E239*SUMIF('Daily Log'!$K$18:$K$1017,$B239,'Daily Log'!$L$18:$L$1017),0)","v":0},{"$f":"IFERROR($E239*SUMIF('Daily Log'!$N$18:$N$1017,$B239,'Daily Log'!$O$18:$O$1017),0)","v":0},{"$f":"IFERROR($E239*SUMIF('Daily Log'!$Q$18:$Q$1017,$B239,'Daily Log'!$R$18:$R$1017),0)","v":0},{"$f":"IFERROR($E239*SUMIF('Daily Log'!$T$18:$T$1017,$B239,'Daily Log'!$U$18:$U$1017),0)","v":0},{"$f":"IFERROR($E239*SUMIF('Daily Log'!$W$18:$W$1017,$B239,'Daily Log'!$X$18:$X$1017),0)","v":0},{"$f":"IFERROR($E239*SUMIF('Daily Log'!$Z$18:$Z$1017,$B239,'Daily Log'!$AA$18:$AA$1017),0)","v":0},{"$f":"IFERROR($E239*SUMIF('Daily Log'!$AC$18:$AC$1017,$B239,'Daily Log'!$AD$18:$AD$1017),0)","v":0},{"$f":"IFERROR($E239*SUMIF('Daily Log'!$AF$18:$AF$1017,$B239,'Daily Log'!$AG$18:$AG$1017),0)","v":0},{"$f":"IFERROR($E239*SUMIF('Daily Log'!$AI$18:$AI$1017,$B239,'Daily Log'!$AJ$18:$AJ$1017),0)","v":0},{"$f":"IFERROR($E239*SUMIF('Daily Log'!$AL$18:$AL$1017,$B239,'Daily Log'!$AM$18:$AM$1017),0)","v":0},{"$f":"IFERROR($E239*SUMIF('Daily Log'!$AO$18:$AO$1017,$B239,'Daily Log'!$AP$18:$AP$1017),0)","v":0},{"$f":"IFERROR($E239*SUMIF('Daily Log'!$AR$18:$AR$1017,$B239,'Daily Log'!$AS$18:$AS$1017),0)","v":0},{"$f":"IFERROR($E239*SUMIF('Daily Log'!$AU$18:$AU$1017,$B239,'Daily Log'!$AV$18:$AV$1017),0)","v":0},{"$f":"IFERROR($E239*SUMIF('Daily Log'!$AX$18:$AX$1017,$B239,'Daily Log'!$AY$18:$AY$1017),0)","v":0},{"$f":"IFERROR($E239*SUMIF('Daily Log'!$BA$18:$BA$1017,$B239,'Daily Log'!$BB$18:$BB$1017),0)","v":0},{"$f":"IFERROR($E239*SUMIF('Daily Log'!$BD$18:$BD$1017,$B239,'Daily Log'!$BE$18:$BE$1017),0)","v":0},{"$f":"IFERROR($E239*SUMIF('Daily Log'!$BG$18:$BG$1017,$B239,'Daily Log'!$BH$18:$BH$1017),0)","v":0},{"$f":"IFERROR($E239*SUMIF('Daily Log'!$BJ$18:$BJ$1017,$B239,'Daily Log'!$BK$18:$BK$1017),0)","v":0},{"$f":"IFERROR($E239*SUMIF('Daily Log'!$BM$18:$BM$1017,$B239,'Daily Log'!$BN$18:$BN$1017),0)","v":0},{"$f":"IFERROR($E239*SUMIF('Daily Log'!$BP$18:$BP$1017,$B239,'Daily Log'!$BQ$18:$BQ$1017),0)","v":0},{"$f":"IFERROR($E239*SUMIF('Daily Log'!$BS$18:$BS$1017,$B239,'Daily Log'!$BT$18:$BT$1017),0)","v":0},{"$f":"IFERROR($E239*SUMIF('Daily Log'!$BV$18:$BV$1017,$B239,'Daily Log'!$BW$18:$BW$1017),0)","v":0},{"$f":"IFERROR($E239*SUMIF('Daily Log'!$BY$18:$BY$1017,$B239,'Daily Log'!$BZ$18:$BZ$1017),0)","v":0},{"$f":"IFERROR($E239*SUMIF('Daily Log'!$CB$18:$CB$1017,$B239,'Daily Log'!$CC$18:$CC$1017),0)","v":0},{"$f":"IFERROR($E239*SUMIF('Daily Log'!$CE$18:$CE$1017,$B239,'Daily Log'!$CF$18:$CF$1017),0)","v":0},{"$f":"IFERROR($E239*SUMIF('Daily Log'!$CH$18:$CH$1017,$B239,'Daily Log'!$CI$18:$CI$1017),0)","v":0},{"$f":"IFERROR($E239*SUMIF('Daily Log'!$CK$18:$CK$1017,$B239,'Daily Log'!$CL$18:$CL$1017),0)","v":0},{"$f":"IFERROR($E239*SUMIF('Daily Log'!$CN$18:$CN$1017,$B239,'Daily Log'!$CO$18:$CO$1017),0)","v":0}]
[null,"DF11 ADD SAUCE MR",null,"SAUCE",1,0,{"$f":"IFERROR($E240*SUMIF('Daily Log'!$B$18:$B$1017,$B240,'Daily Log'!$C$18:$C$1017),0)","v":0},{"$f":"IFERROR($E240*SUMIF('Daily Log'!$E$18:$E$1017,$B240,'Daily Log'!$F$18:$F$1017),0)","v":0},{"$f":"IFERROR($E240*SUMIF('Daily Log'!$H$18:$H$1017,$B240,'Daily Log'!$I$18:$I$1017),0)","v":0},{"$f":"IFERROR($E240*SUMIF('Daily Log'!$K$18:$K$1017,$B240,'Daily Log'!$L$18:$L$1017),0)","v":0},{"$f":"IFERROR($E240*SUMIF('Daily Log'!$N$18:$N$1017,$B240,'Daily Log'!$O$18:$O$1017),0)","v":0},{"$f":"IFERROR($E240*SUMIF('Daily Log'!$Q$18:$Q$1017,$B240,'Daily Log'!$R$18:$R$1017),0)","v":0},{"$f":"IFERROR($E240*SUMIF('Daily Log'!$T$18:$T$1017,$B240,'Daily Log'!$U$18:$U$1017),0)","v":0},{"$f":"IFERROR($E240*SUMIF('Daily Log'!$W$18:$W$1017,$B240,'Daily Log'!$X$18:$X$1017),0)","v":0},{"$f":"IFERROR($E240*SUMIF('Daily Log'!$Z$18:$Z$1017,$B240,'Daily Log'!$AA$18:$AA$1017),0)","v":0},{"$f":"IFERROR($E240*SUMIF('Daily Log'!$AC$18:$AC$1017,$B240,'Daily Log'!$AD$18:$AD$1017),0)","v":0},{"$f":"IFERROR($E240*SUMIF('Daily Log'!$AF$18:$AF$1017,$B240,'Daily Log'!$AG$18:$AG$1017),0)","v":0},{"$f":"IFERROR($E240*SUMIF('Daily Log'!$AI$18:$AI$1017,$B240,'Daily Log'!$AJ$18:$AJ$1017),0)","v":0},{"$f":"IFERROR($E240*SUMIF('Daily Log'!$AL$18:$AL$1017,$B240,'Daily Log'!$AM$18:$AM$1017),0)","v":0},{"$f":"IFERROR($E240*SUMIF('Daily Log'!$AO$18:$AO$1017,$B240,'Daily Log'!$AP$18:$AP$1017),0)","v":0},{"$f":"IFERROR($E240*SUMIF('Daily Log'!$AR$18:$AR$1017,$B240,'Daily Log'!$AS$18:$AS$1017),0)","v":0},{"$f":"IFERROR($E240*SUMIF('Daily Log'!$AU$18:$AU$1017,$B240,'Daily Log'!$AV$18:$AV$1017),0)","v":0},{"$f":"IFERROR($E240*SUMIF('Daily Log'!$AX$18:$AX$1017,$B240,'Daily Log'!$AY$18:$AY$1017),0)","v":0},{"$f":"IFERROR($E240*SUMIF('Daily Log'!$BA$18:$BA$1017,$B240,'Daily Log'!$BB$18:$BB$1017),0)","v":0},{"$f":"IFERROR($E240*SUMIF('Daily Log'!$BD$18:$BD$1017,$B240,'Daily Log'!$BE$18:$BE$1017),0)","v":0},{"$f":"IFERROR($E240*SUMIF('Daily Log'!$BG$18:$BG$1017,$B240,'Daily Log'!$BH$18:$BH$1017),0)","v":0},{"$f":"IFERROR($E240*SUMIF('Daily Log'!$BJ$18:$BJ$1017,$B240,'Daily Log'!$BK$18:$BK$1017),0)","v":0},{"$f":"IFERROR($E240*SUMIF('Daily Log'!$BM$18:$BM$1017,$B240,'Daily Log'!$BN$18:$BN$1017),0)","v":0},{"$f":"IFERROR($E240*SUMIF('Daily Log'!$BP$18:$BP$1017,$B240,'Daily Log'!$BQ$18:$BQ$1017),0)","v":0},{"$f":"IFERROR($E240*SUMIF('Daily Log'!$BS$18:$BS$1017,$B240,'Daily Log'!$BT$18:$BT$1017),0)","v":0},{"$f":"IFERROR($E240*SUMIF('Daily Log'!$BV$18:$BV$1017,$B240,'Daily Log'!$BW$18:$BW$1017),0)","v":0},{"$f":"IFERROR($E240*SUMIF('Daily Log'!$BY$18:$BY$1017,$B240,'Daily Log'!$BZ$18:$BZ$1017),0)","v":0},{"$f":"IFERROR($E240*SUMIF('Daily Log'!$CB$18:$CB$1017,$B240,'Daily Log'!$CC$18:$CC$1017),0)","v":0},{"$f":"IFERROR($E240*SUMIF('Daily Log'!$CE$18:$CE$1017,$B240,'Daily Log'!$CF$18:$CF$1017),0)","v":0},{"$f":"IFERROR($E240*SUMIF('Daily Log'!$CH$18:$CH$1017,$B240,'Daily Log'!$CI$18:$CI$1017),0)","v":0},{"$f":"IFERROR($E240*SUMIF('Daily Log'!$CK$18:$CK$1017,$B240,'Daily Log'!$CL$18:$CL$1017),0)","v":0},{"$f":"IFERROR($E240*SUMIF('Daily Log'!$CN$18:$CN$1017,$B240,'Daily Log'!$CO$18:$CO$1017),0)","v":0}]
[null,"DF12 ADD SAUCE SAMBAL",null,"SAUCE",1,0,{"$f":"IFERROR($E241*SUMIF('Daily Log'!$B$18:$B$1017,$B241,'Daily Log'!$C$18:$C$1017),0)","v":0},{"$f":"IFERROR($E241*SUMIF('Daily Log'!$E$18:$E$1017,$B241,'Daily Log'!$F$18:$F$1017),0)","v":0},{"$f":"IFERROR($E241*SUMIF('Daily Log'!$H$18:$H$1017,$B241,'Daily Log'!$I$18:$I$1017),0)","v":0},{"$f":"IFERROR($E241*SUMIF('Daily Log'!$K$18:$K$1017,$B241,'Daily Log'!$L$18:$L$1017),0)","v":0},{"$f":"IFERROR($E241*SUMIF('Daily Log'!$N$18:$N$1017,$B241,'Daily Log'!$O$18:$O$1017),0)","v":0},{"$f":"IFERROR($E241*SUMIF('Daily Log'!$Q$18:$Q$1017,$B241,'Daily Log'!$R$18:$R$1017),0)","v":0},{"$f":"IFERROR($E241*SUMIF('Daily Log'!$T$18:$T$1017,$B241,'Daily Log'!$U$18:$U$1017),0)","v":0},{"$f":"IFERROR($E241*SUMIF('Daily Log'!$W$18:$W$1017,$B241,'Daily Log'!$X$18:$X$1017),0)","v":0},{"$f":"IFERROR($E241*SUMIF('Daily Log'!$Z$18:$Z$1017,$B241,'Daily Log'!$AA$18:$AA$1017),0)","v":0},{"$f":"IFERROR($E241*SUMIF('Daily Log'!$AC$18:$AC$1017,$B241,'Daily Log'!$AD$18:$AD$1017),0)","v":0},{"$f":"IFERROR($E241*SUMIF('Daily Log'!$AF$18:$AF$1017,$B241,'Daily Log'!$AG$18:$AG$1017),0)","v":0},{"$f":"IFERROR($E241*SUMIF('Daily Log'!$AI$18:$AI$1017,$B241,'Daily Log'!$AJ$18:$AJ$1017),0)","v":0},{"$f":"IFERROR($E241*SUMIF('Daily Log'!$AL$18:$AL$1017,$B241,'Daily Log'!$AM$18:$AM$1017),0)","v":0},{"$f":"IFERROR($E241*SUMIF('Daily Log'!$AO$18:$AO$1017,$B241,'Daily Log'!$AP$18:$AP$1017),0)","v":0},{"$f":"IFERROR($E241*SUMIF('Daily Log'!$AR$18:$AR$1017,$B241,'Daily Log'!$AS$18:$AS$1017),0)","v":0},{"$f":"IFERROR($E241*SUMIF('Daily Log'!$AU$18:$AU$1017,$B241,'Daily Log'!$AV$18:$AV$1017),0)","v":0},{"$f":"IFERROR($E241*SUMIF('Daily Log'!$AX$18:$AX$1017,$B241,'Daily Log'!$AY$18:$AY$1017),0)","v":0},{"$f":"IFERROR($E241*SUMIF('Daily Log'!$BA$18:$BA$1017,$B241,'Daily Log'!$BB$18:$BB$1017),0)","v":0},{"$f":"IFERROR($E241*SUMIF('Daily Log'!$BD$18:$BD$1017,$B241,'Daily Log'!$BE$18:$BE$1017),0)","v":0},{"$f":"IFERROR($E241*SUMIF('Daily Log'!$BG$18:$BG$1017,$B241,'Daily Log'!$BH$18:$BH$1017),0)","v":0},{"$f":"IFERROR($E241*SUMIF('Daily Log'!$BJ$18:$BJ$1017,$B241,'Daily Log'!$BK$18:$BK$1017),0)","v":0},{"$f":"IFERROR($E241*SUMIF('Daily Log'!$BM$18:$BM$1017,$B241,'Daily Log'!$BN$18:$BN$1017),0)","v":0},{"$f":"IFERROR($E241*SUMIF('Daily Log'!$BP$18:$BP$1017,$B241,'Daily Log'!$BQ$18:$BQ$1017),0)","v":0},{"$f":"IFERROR($E241*SUMIF('Daily Log'!$BS$18:$BS$1017,$B241,'Daily Log'!$BT$18:$BT$1017),0)","v":0},{"$f":"IFERROR($E241*SUMIF('Daily Log'!$BV$18:$BV$1017,$B241,'Daily Log'!$BW$18:$BW$1017),0)","v":0},{"$f":"IFERROR($E241*SUMIF('Daily Log'!$BY$18:$BY$1017,$B241,'Daily Log'!$BZ$18:$BZ$1017),0)","v":0},{"$f":"IFERROR($E241*SUMIF('Daily Log'!$CB$18:$CB$1017,$B241,'Daily Log'!$CC$18:$CC$1017),0)","v":0},{"$f":"IFERROR($E241*SUMIF('Daily Log'!$CE$18:$CE$1017,$B241,'Daily Log'!$CF$18:$CF$1017),0)","v":0},{"$f":"IFERROR($E241*SUMIF('Daily Log'!$CH$18:$CH$1017,$B241,'Daily Log'!$CI$18:$CI$1017),0)","v":0},{"$f":"IFERROR($E241*SUMIF('Daily Log'!$CK$18:$CK$1017,$B241,'Daily Log'!$CL$18:$CL$1017),0)","v":0},{"$f":"IFERROR($E241*SUMIF('Daily Log'!$CN$18:$CN$1017,$B241,'Daily Log'!$CO$18:$CO$1017),0)","v":0}]
[null,"DF13 ADD SAUCE THAI",null,"SAUCE",1,0,{"$f":"IFERROR($E242*SUMIF('Daily Log'!$B$18:$B$1017,$B242,'Daily Log'!$C$18:$C$1017),0)","v":0},{"$f":"IFERROR($E242*SUMIF('Daily Log'!$E$18:$E$1017,$B242,'Daily Log'!$F$18:$F$1017),0)","v":0},{"$f":"IFERROR($E242*SUMIF('Daily Log'!$H$18:$H$1017,$B242,'Daily Log'!$I$18:$I$1017),0)","v":0},{"$f":"IFERROR($E242*SUMIF('Daily Log'!$K$18:$K$1017,$B242,'Daily Log'!$L$18:$L$1017),0)","v":0},{"$f":"IFERROR($E242*SUMIF('Daily Log'!$N$18:$N$1017,$B242,'Daily Log'!$O$18:$O$1017),0)","v":0},{"$f":"IFERROR($E242*SUMIF('Daily Log'!$Q$18:$Q$1017,$B242,'Daily Log'!$R$18:$R$1017),0)","v":0},{"$f":"IFERROR($E242*SUMIF('Daily Log'!$T$18:$T$1017,$B242,'Daily Log'!$U$18:$U$1017),0)","v":0},{"$f":"IFERROR($E242*SUMIF('Daily Log'!$W$18:$W$1017,$B242,'Daily Log'!$X$18:$X$1017),0)","v":0},{"$f":"IFERROR($E242*SUMIF('Daily Log'!$Z$18:$Z$1017,$B242,'Daily Log'!$AA$18:$AA$1017),0)","v":0},{"$f":"IFERROR($E242*SUMIF('Daily Log'!$AC$18:$AC$1017,$B242,'Daily Log'!$AD$18:$AD$1017),0)","v":0},{"$f":"IFERROR($E242*SUMIF('Daily Log'!$AF$18:$AF$1017,$B242,'Daily Log'!$AG$18:$AG$1017),0)","v":0},{"$f":"IFERROR($E242*SUMIF('Daily Log'!$AI$18:$AI$1017,$B242,'Daily Log'!$AJ$18:$AJ$1017),0)","v":0},{"$f":"IFERROR($E242*SUMIF('Daily Log'!$AL$18:$AL$1017,$B242,'Daily Log'!$AM$18:$AM$1017),0)","v":0},{"$f":"IFERROR($E242*SUMIF('Daily Log'!$AO$18:$AO$1017,$B242,'Daily Log'!$AP$18:$AP$1017),0)","v":0},{"$f":"IFERROR($E242*SUMIF('Daily Log'!$AR$18:$AR$1017,$B242,'Daily Log'!$AS$18:$AS$1017),0)","v":0},{"$f":"IFERROR($E242*SUMIF('Daily Log'!$AU$18:$AU$1017,$B242,'Daily Log'!$AV$18:$AV$1017),0)","v":0},{"$f":"IFERROR($E242*SUMIF('Daily Log'!$AX$18:$AX$1017,$B242,'Daily Log'!$AY$18:$AY$1017),0)","v":0},{"$f":"IFERROR($E242*SUMIF('Daily Log'!$BA$18:$BA$1017,$B242,'Daily Log'!$BB$18:$BB$1017),0)","v":0},{"$f":"IFERROR($E242*SUMIF('Daily Log'!$BD$18:$BD$1017,$B242,'Daily Log'!$BE$18:$BE$1017),0)","v":0},{"$f":"IFERROR($E242*SUMIF('Daily Log'!$BG$18:$BG$1017,$B242,'Daily Log'!$BH$18:$BH$1017),0)","v":0},{"$f":"IFERROR($E242*SUMIF('Daily Log'!$BJ$18:$BJ$1017,$B242,'Daily Log'!$BK$18:$BK$1017),0)","v":0},{"$f":"IFERROR($E242*SUMIF('Daily Log'!$BM$18:$BM$1017,$B242,'Daily Log'!$BN$18:$BN$1017),0)","v":0},{"$f":"IFERROR($E242*SUMIF('Daily Log'!$BP$18:$BP$1017,$B242,'Daily Log'!$BQ$18:$BQ$1017),0)","v":0},{"$f":"IFERROR($E242*SUMIF('Daily Log'!$BS$18:$BS$1017,$B242,'Daily Log'!$BT$18:$BT$1017),0)","v":0},{"$f":"IFERROR($E242*SUMIF('Daily Log'!$BV$18:$BV$1017,$B242,'Daily Log'!$BW$18:$BW$1017),0)","v":0},{"$f":"IFERROR($E242*SUMIF('Daily Log'!$BY$18:$BY$1017,$B242,'Daily Log'!$BZ$18:$BZ$1017),0)","v":0},{"$f":"IFERROR($E242*SUMIF('Daily Log'!$CB$18:$CB$1017,$B242,'Daily Log'!$CC$18:$CC$1017),0)","v":0},{"$f":"IFERROR($E242*SUMIF('Daily Log'!$CE$18:$CE$1017,$B242,'Daily Log'!$CF$18:$CF$1017),0)","v":0},{"$f":"IFERROR($E242*SUMIF('Daily Log'!$CH$18:$CH$1017,$B242,'Daily Log'!$CI$18:$CI$1017),0)","v":0},{"$f":"IFERROR($E242*SUMIF('Daily Log'!$CK$18:$CK$1017,$B242,'Daily Log'!$CL$18:$CL$1017),0)","v":0},{"$f":"IFERROR($E242*SUMIF('Daily Log'!$CN$18:$CN$1017,$B242,'Daily Log'!$CO$18:$CO$1017),0)","v":0}]
[null,"DF14 ADD SAUCE TOMATO",null,"SAUCE",1,0,{"$f":"IFERROR($E243*SUMIF('Daily Log'!$B$18:$B$1017,$B243,'Daily Log'!$C$18:$C$1017),0)","v":0},{"$f":"IFERROR($E243*SUMIF('Daily Log'!$E$18:$E$1017,$B243,'Daily Log'!$F$18:$F$1017),0)","v":0},{"$f":"IFERROR($E243*SUMIF('Daily Log'!$H$18:$H$1017,$B243,'Daily Log'!$I$18:$I$1017),0)","v":0},{"$f":"IFERROR($E243*SUMIF('Daily Log'!$K$18:$K$1017,$B243,'Daily Log'!$L$18:$L$1017),0)","v":0},{"$f":"IFERROR($E243*SUMIF('Daily Log'!$N$18:$N$1017,$B243,'Daily Log'!$O$18:$O$1017),0)","v":0},{"$f":"IFERROR($E243*SUMIF('Daily Log'!$Q$18:$Q$1017,$B243,'Daily Log'!$R$18:$R$1017),0)","v":0},{"$f":"IFERROR($E243*SUMIF('Daily Log'!$T$18:$T$1017,$B243,'Daily Log'!$U$18:$U$1017),0)","v":0},{"$f":"IFERROR($E243*SUMIF('Daily Log'!$W$18:$W$1017,$B243,'Daily Log'!$X$18:$X$1017),0)","v":0},{"$f":"IFERROR($E243*SUMIF('Daily Log'!$Z$18:$Z$1017,$B243,'Daily Log'!$AA$18:$AA$1017),0)","v":0},{"$f":"IFERROR($E243*SUMIF('Daily Log'!$AC$18:$AC$1017,$B243,'Daily Log'!$AD$18:$AD$1017),0)","v":0},{"$f":"IFERROR($E243*SUMIF('Daily Log'!$AF$18:$AF$1017,$B243,'Daily Log'!$AG$18:$AG$1017),0)","v":0},{"$f":"IFERROR($E243*SUMIF('Daily Log'!$AI$18:$AI$1017,$B243,'Daily Log'!$AJ$18:$AJ$1017),0)","v":0},{"$f":"IFERROR($E243*SUMIF('Daily Log'!$AL$18:$AL$1017,$B243,'Daily Log'!$AM$18:$AM$1017),0)","v":0},{"$f":"IFERROR($E243*SUMIF('Daily Log'!$AO$18:$AO$1017,$B243,'Daily Log'!$AP$18:$AP$1017),0)","v":0},{"$f":"IFERROR($E243*SUMIF('Daily Log'!$AR$18:$AR$1017,$B243,'Daily Log'!$AS$18:$AS$1017),0)","v":0},{"$f":"IFERROR($E243*SUMIF('Daily Log'!$AU$18:$AU$1017,$B243,'Daily Log'!$AV$18:$AV$1017),0)","v":0},{"$f":"IFERROR($E243*SUMIF('Daily Log'!$AX$18:$AX$1017,$B243,'Daily Log'!$AY$18:$AY$1017),0)","v":0},{"$f":"IFERROR($E243*SUMIF('Daily Log'!$BA$18:$BA$1017,$B243,'Daily Log'!$BB$18:$BB$1017),0)","v":0},{"$f":"IFERROR($E243*SUMIF('Daily Log'!$BD$18:$BD$1017,$B243,'Daily Log'!$BE$18:$BE$1017),0)","v":0},{"$f":"IFERROR($E243*SUMIF('Daily Log'!$BG$18:$BG$1017,$B243,'Daily Log'!$BH$18:$BH$1017),0)","v":0},{"$f":"IFERROR($E243*SUMIF('Daily Log'!$BJ$18:$BJ$1017,$B243,'Daily Log'!$BK$18:$BK$1017),0)","v":0},{"$f":"IFERROR($E243*SUMIF('Daily Log'!$BM$18:$BM$1017,$B243,'Daily Log'!$BN$18:$BN$1017),0)","v":0},{"$f":"IFERROR($E243*SUMIF('Daily Log'!$BP$18:$BP$1017,$B243,'Daily Log'!$BQ$18:$BQ$1017),0)","v":0},{"$f":"IFERROR($E243*SUMIF('Daily Log'!$BS$18:$BS$1017,$B243,'Daily Log'!$BT$18:$BT$1017),0)","v":0},{"$f":"IFERROR($E243*SUMIF('Daily Log'!$BV$18:$BV$1017,$B243,'Daily Log'!$BW$18:$BW$1017),0)","v":0},{"$f":"IFERROR($E243*SUMIF('Daily Log'!$BY$18:$BY$1017,$B243,'Daily Log'!$BZ$18:$BZ$1017),0)","v":0},{"$f":"IFERROR($E243*SUMIF('Daily Log'!$CB$18:$CB$1017,$B243,'Daily Log'!$CC$18:$CC$1017),0)","v":0},{"$f":"IFERROR($E243*SUMIF('Daily Log'!$CE$18:$CE$1017,$B243,'Daily Log'!$CF$18:$CF$1017),0)","v":0},{"$f":"IFERROR($E243*SUMIF('Daily Log'!$CH$18:$CH$1017,$B243,'Daily Log'!$CI$18:$CI$1017),0)","v":0},{"$f":"IFERROR($E243*SUMIF('Daily Log'!$CK$18:$CK$1017,$B243,'Daily Log'!$CL$18:$CL$1017),0)","v":0},{"$f":"IFERROR($E243*SUMIF('Daily Log'!$CN$18:$CN$1017,$B243,'Daily Log'!$CO$18:$CO$1017),0)","v":0}]
[null,"DF15 ADD TATA SAUCE",null,"SAUCE",1,0,{"$f":"IFERROR($E244*SUMIF('Daily Log'!$B$18:$B$1017,$B244,'Daily Log'!$C$18:$C$1017),0)","v":0},{"$f":"IFERROR($E244*SUMIF('Daily Log'!$E$18:$E$1017,$B244,'Daily Log'!$F$18:$F$1017),0)","v":0},{"$f":"IFERROR($E244*SUMIF('Daily Log'!$H$18:$H$1017,$B244,'Daily Log'!$I$18:$I$1017),0)","v":0},{"$f":"IFERROR($E244*SUMIF('Daily Log'!$K$18:$K$1017,$B244,'Daily Log'!$L$18:$L$1017),0)","v":0},{"$f":"IFERROR($E244*SUMIF('Daily Log'!$N$18:$N$1017,$B244,'Daily Log'!$O$18:$O$1017),0)","v":0},{"$f":"IFERROR($E244*SUMIF('Daily Log'!$Q$18:$Q$1017,$B244,'Daily Log'!$R$18:$R$1017),0)","v":0},{"$f":"IFERROR($E244*SUMIF('Daily Log'!$T$18:$T$1017,$B244,'Daily Log'!$U$18:$U$1017),0)","v":0},{"$f":"IFERROR($E244*SUMIF('Daily Log'!$W$18:$W$1017,$B244,'Daily Log'!$X$18:$X$1017),0)","v":0},{"$f":"IFERROR($E244*SUMIF('Daily Log'!$Z$18:$Z$1017,$B244,'Daily Log'!$AA$18:$AA$1017),0)","v":0},{"$f":"IFERROR($E244*SUMIF('Daily Log'!$AC$18:$AC$1017,$B244,'Daily Log'!$AD$18:$AD$1017),0)","v":0},{"$f":"IFERROR($E244*SUMIF('Daily Log'!$AF$18:$AF$1017,$B244,'Daily Log'!$AG$18:$AG$1017),0)","v":0},{"$f":"IFERROR($E244*SUMIF('Daily Log'!$AI$18:$AI$1017,$B244,'Daily Log'!$AJ$18:$AJ$1017),0)","v":0},{"$f":"IFERROR($E244*SUMIF('Daily Log'!$AL$18:$AL$1017,$B244,'Daily Log'!$AM$18:$AM$1017),0)","v":0},{"$f":"IFERROR($E244*SUMIF('Daily Log'!$AO$18:$AO$1017,$B244,'Daily Log'!$AP$18:$AP$1017),0)","v":0},{"$f":"IFERROR($E244*SUMIF('Daily Log'!$AR$18:$AR$1017,$B244,'Daily Log'!$AS$18:$AS$1017),0)","v":0},{"$f":"IFERROR($E244*SUMIF('Daily Log'!$AU$18:$AU$1017,$B244,'Daily Log'!$AV$18:$AV$1017),0)","v":0},{"$f":"IFERROR($E244*SUMIF('Daily Log'!$AX$18:$AX$1017,$B244,'Daily Log'!$AY$18:$AY$1017),0)","v":0},{"$f":"IFERROR($E244*SUMIF('Daily Log'!$BA$18:$BA$1017,$B244,'Daily Log'!$BB$18:$BB$1017),0)","v":0},{"$f":"IFERROR($E244*SUMIF('Daily Log'!$BD$18:$BD$1017,$B244,'Daily Log'!$BE$18:$BE$1017),0)","v":0},{"$f":"IFERROR($E244*SUMIF('Daily Log'!$BG$18:$BG$1017,$B244,'Daily Log'!$BH$18:$BH$1017),0)","v":0},{"$f":"IFERROR($E244*SUMIF('Daily Log'!$BJ$18:$BJ$1017,$B244,'Daily Log'!$BK$18:$BK$1017),0)","v":0},{"$f":"IFERROR($E244*SUMIF('Daily Log'!$BM$18:$BM$1017,$B244,'Daily Log'!$BN$18:$BN$1017),0)","v":0},{"$f":"IFERROR($E244*SUMIF('Daily Log'!$BP$18:$BP$1017,$B244,'Daily Log'!$BQ$18:$BQ$1017),0)","v":0},{"$f":"IFERROR($E244*SUMIF('Daily Log'!$BS$18:$BS$1017,$B244,'Daily Log'!$BT$18:$BT$1017),0)","v":0},{"$f":"IFERROR($E244*SUMIF('Daily Log'!$BV$18:$BV$1017,$B244,'Daily Log'!$BW$18:$BW$1017),0)","v":0},{"$f":"IFERROR($E244*SUMIF('Daily Log'!$BY$18:$BY$1017,$B244,'Daily Log'!$BZ$18:$BZ$1017),0)","v":0},{"$f":"IFERROR($E244*SUMIF('Daily Log'!$CB$18:$CB$1017,$B244,'Daily Log'!$CC$18:$CC$1017),0)","v":0},{"$f":"IFERROR($E244*SUMIF('Daily Log'!$CE$18:$CE$1017,$B244,'Daily Log'!$CF$18:$CF$1017),0)","v":0},{"$f":"IFERROR($E244*SUMIF('Daily Log'!$CH$18:$CH$1017,$B244,'Daily Log'!$CI$18:$CI$1017),0)","v":0},{"$f":"IFERROR($E244*SUMIF('Daily Log'!$CK$18:$CK$1017,$B244,'Daily Log'!$CL$18:$CL$1017),0)","v":0},{"$f":"IFERROR($E244*SUMIF('Daily Log'!$CN$18:$CN$1017,$B244,'Daily Log'!$CO$18:$CO$1017),0)","v":0}]
[null,"DF16 ADD SAUCE CHEES",null,"SAUCE",1,0,{"$f":"IFERROR($E245*SUMIF('Daily Log'!$B$18:$B$1017,$B245,'Daily Log'!$C$18:$C$1017),0)","v":0},{"$f":"IFERROR($E245*SUMIF('Daily Log'!$E$18:$E$1017,$B245,'Daily Log'!$F$18:$F$1017),0)","v":0},{"$f":"IFERROR($E245*SUMIF('Daily Log'!$H$18:$H$1017,$B245,'Daily Log'!$I$18:$I$1017),0)","v":0},{"$f":"IFERROR($E245*SUMIF('Daily Log'!$K$18:$K$1017,$B245,'Daily Log'!$L$18:$L$1017),0)","v":0},{"$f":"IFERROR($E245*SUMIF('Daily Log'!$N$18:$N$1017,$B245,'Daily Log'!$O$18:$O$1017),0)","v":0},{"$f":"IFERROR($E245*SUMIF('Daily Log'!$Q$18:$Q$1017,$B245,'Daily Log'!$R$18:$R$1017),0)","v":0},{"$f":"IFERROR($E245*SUMIF('Daily Log'!$T$18:$T$1017,$B245,'Daily Log'!$U$18:$U$1017),0)","v":0},{"$f":"IFERROR($E245*SUMIF('Daily Log'!$W$18:$W$1017,$B245,'Daily Log'!$X$18:$X$1017),0)","v":0},{"$f":"IFERROR($E245*SUMIF('Daily Log'!$Z$18:$Z$1017,$B245,'Daily Log'!$AA$18:$AA$1017),0)","v":0},{"$f":"IFERROR($E245*SUMIF('Daily Log'!$AC$18:$AC$1017,$B245,'Daily Log'!$AD$18:$AD$1017),0)","v":0},{"$f":"IFERROR($E245*SUMIF('Daily Log'!$AF$18:$AF$1017,$B245,'Daily Log'!$AG$18:$AG$1017),0)","v":0},{"$f":"IFERROR($E245*SUMIF('Daily Log'!$AI$18:$AI$1017,$B245,'Daily Log'!$AJ$18:$AJ$1017),0)","v":0},{"$f":"IFERROR($E245*SUMIF('Daily Log'!$AL$18:$AL$1017,$B245,'Daily Log'!$AM$18:$AM$1017),0)","v":0},{"$f":"IFERROR($E245*SUMIF('Daily Log'!$AO$18:$AO$1017,$B245,'Daily Log'!$AP$18:$AP$1017),0)","v":0},{"$f":"IFERROR($E245*SUMIF('Daily Log'!$AR$18:$AR$1017,$B245,'Daily Log'!$AS$18:$AS$1017),0)","v":0},{"$f":"IFERROR($E245*SUMIF('Daily Log'!$AU$18:$AU$1017,$B245,'Daily Log'!$AV$18:$AV$1017),0)","v":0},{"$f":"IFERROR($E245*SUMIF('Daily Log'!$AX$18:$AX$1017,$B245,'Daily Log'!$AY$18:$AY$1017),0)","v":0},{"$f":"IFERROR($E245*SUMIF('Daily Log'!$BA$18:$BA$1017,$B245,'Daily Log'!$BB$18:$BB$1017),0)","v":0},{"$f":"IFERROR($E245*SUMIF('Daily Log'!$BD$18:$BD$1017,$B245,'Daily Log'!$BE$18:$BE$1017),0)","v":0},{"$f":"IFERROR($E245*SUMIF('Daily Log'!$BG$18:$BG$1017,$B245,'Daily Log'!$BH$18:$BH$1017),0)","v":0},{"$f":"IFERROR($E245*SUMIF('Daily Log'!$BJ$18:$BJ$1017,$B245,'Daily Log'!$BK$18:$BK$1017),0)","v":0},{"$f":"IFERROR($E245*SUMIF('Daily Log'!$BM$18:$BM$1017,$B245,'Daily Log'!$BN$18:$BN$1017),0)","v":0},{"$f":"IFERROR($E245*SUMIF('Daily Log'!$BP$18:$BP$1017,$B245,'Daily Log'!$BQ$18:$BQ$1017),0)","v":0},{"$f":"IFERROR($E245*SUMIF('Daily Log'!$BS$18:$BS$1017,$B245,'Daily Log'!$BT$18:$BT$1017),0)","v":0},{"$f":"IFERROR($E245*SUMIF('Daily Log'!$BV$18:$BV$1017,$B245,'Daily Log'!$BW$18:$BW$1017),0)","v":0},{"$f":"IFERROR($E245*SUMIF('Daily Log'!$BY$18:$BY$1017,$B245,'Daily Log'!$BZ$18:$BZ$1017),0)","v":0},{"$f":"IFERROR($E245*SUMIF('Daily Log'!$CB$18:$CB$1017,$B245,'Daily Log'!$CC$18:$CC$1017),0)","v":0},{"$f":"IFERROR($E245*SUMIF('Daily Log'!$CE$18:$CE$1017,$B245,'Daily Log'!$CF$18:$CF$1017),0)","v":0},{"$f":"IFERROR($E245*SUMIF('Daily Log'!$CH$18:$CH$1017,$B245,'Daily Log'!$CI$18:$CI$1017),0)","v":0},{"$f":"IFERROR($E245*SUMIF('Daily Log'!$CK$18:$CK$1017,$B245,'Daily Log'!$CL$18:$CL$1017),0)","v":0},{"$f":"IFERROR($E245*SUMIF('Daily Log'!$CN$18:$CN$1017,$B245,'Daily Log'!$CO$18:$CO$1017),0)","v":0}]
[null,"DG01 91001:BP CHK CP",null,"KLKD-WESTERN CRUISE",1,0,{"$f":"IFERROR($E246*SUMIF('Daily Log'!$B$18:$B$1017,$B246,'Daily Log'!$C$18:$C$1017),0)","v":0},{"$f":"IFERROR($E246*SUMIF('Daily Log'!$E$18:$E$1017,$B246,'Daily Log'!$F$18:$F$1017),0)","v":0},{"$f":"IFERROR($E246*SUMIF('Daily Log'!$H$18:$H$1017,$B246,'Daily Log'!$I$18:$I$1017),0)","v":0},{"$f":"IFERROR($E246*SUMIF('Daily Log'!$K$18:$K$1017,$B246,'Daily Log'!$L$18:$L$1017),0)","v":0},{"$f":"IFERROR($E246*SUMIF('Daily Log'!$N$18:$N$1017,$B246,'Daily Log'!$O$18:$O$1017),0)","v":0},{"$f":"IFERROR($E246*SUMIF('Daily Log'!$Q$18:$Q$1017,$B246,'Daily Log'!$R$18:$R$1017),0)","v":0},{"$f":"IFERROR($E246*SUMIF('Daily Log'!$T$18:$T$1017,$B246,'Daily Log'!$U$18:$U$1017),0)","v":0},{"$f":"IFERROR($E246*SUMIF('Daily Log'!$W$18:$W$1017,$B246,'Daily Log'!$X$18:$X$1017),0)","v":0},{"$f":"IFERROR($E246*SUMIF('Daily Log'!$Z$18:$Z$1017,$B246,'Daily Log'!$AA$18:$AA$1017),0)","v":0},{"$f":"IFERROR($E246*SUMIF('Daily Log'!$AC$18:$AC$1017,$B246,'Daily Log'!$AD$18:$AD$1017),0)","v":0},{"$f":"IFERROR($E246*SUMIF('Daily Log'!$AF$18:$AF$1017,$B246,'Daily Log'!$AG$18:$AG$1017),0)","v":0},{"$f":"IFERROR($E246*SUMIF('Daily Log'!$AI$18:$AI$1017,$B246,'Daily Log'!$AJ$18:$AJ$1017),0)","v":0},{"$f":"IFERROR($E246*SUMIF('Daily Log'!$AL$18:$AL$1017,$B246,'Daily Log'!$AM$18:$AM$1017),0)","v":0},{"$f":"IFERROR($E246*SUMIF('Daily Log'!$AO$18:$AO$1017,$B246,'Daily Log'!$AP$18:$AP$1017),0)","v":0},{"$f":"IFERROR($E246*SUMIF('Daily Log'!$AR$18:$AR$1017,$B246,'Daily Log'!$AS$18:$AS$1017),0)","v":0},{"$f":"IFERROR($E246*SUMIF('Daily Log'!$AU$18:$AU$1017,$B246,'Daily Log'!$AV$18:$AV$1017),0)","v":0},{"$f":"IFERROR($E246*SUMIF('Daily Log'!$AX$18:$AX$1017,$B246,'Daily Log'!$AY$18:$AY$1017),0)","v":0},{"$f":"IFERROR($E246*SUMIF('Daily Log'!$BA$18:$BA$1017,$B246,'Daily Log'!$BB$18:$BB$1017),0)","v":0},{"$f":"IFERROR($E246*SUMIF('Daily Log'!$BD$18:$BD$1017,$B246,'Daily Log'!$BE$18:$BE$1017),0)","v":0},{"$f":"IFERROR($E246*SUMIF('Daily Log'!$BG$18:$BG$1017,$B246,'Daily Log'!$BH$18:$BH$1017),0)","v":0},{"$f":"IFERROR($E246*SUMIF('Daily Log'!$BJ$18:$BJ$1017,$B246,'Daily Log'!$BK$18:$BK$1017),0)","v":0},{"$f":"IFERROR($E246*SUMIF('Daily Log'!$BM$18:$BM$1017,$B246,'Daily Log'!$BN$18:$BN$1017),0)","v":0},{"$f":"IFERROR($E246*SUMIF('Daily Log'!$BP$18:$BP$1017,$B246,'Daily Log'!$BQ$18:$BQ$1017),0)","v":0},{"$f":"IFERROR($E246*SUMIF('Daily Log'!$BS$18:$BS$1017,$B246,'Daily Log'!$BT$18:$BT$1017),0)","v":0},{"$f":"IFERROR($E246*SUMIF('Daily Log'!$BV$18:$BV$1017,$B246,'Daily Log'!$BW$18:$BW$1017),0)","v":0},{"$f":"IFERROR($E246*SUMIF('Daily Log'!$BY$18:$BY$1017,$B246,'Daily Log'!$BZ$18:$BZ$1017),0)","v":0},{"$f":"IFERROR($E246*SUMIF('Daily Log'!$CB$18:$CB$1017,$B246,'Daily Log'!$CC$18:$CC$1017),0)","v":0},{"$f":"IFERROR($E246*SUMIF('Daily Log'!$CE$18:$CE$1017,$B246,'Daily Log'!$CF$18:$CF$1017),0)","v":0},{"$f":"IFERROR($E246*SUMIF('Daily Log'!$CH$18:$CH$1017,$B246,'Daily Log'!$CI$18:$CI$1017),0)","v":0},{"$f":"IFERROR($E246*SUMIF('Daily Log'!$CK$18:$CK$1017,$B246,'Daily Log'!$CL$18:$CL$1017),0)","v":0},{"$f":"IFERROR($E246*SUMIF('Daily Log'!$CN$18:$CN$1017,$B246,'Daily Log'!$CO$18:$CO$1017),0)","v":0}]
[null,"DG02 91002:GVY CHK CP",null,"KLKD-WESTERN CRUISE",1,0,{"$f":"IFERROR($E247*SUMIF('Daily Log'!$B$18:$B$1017,$B247,'Daily Log'!$C$18:$C$1017),0)","v":0},{"$f":"IFERROR($E247*SUMIF('Daily Log'!$E$18:$E$1017,$B247,'Daily Log'!$F$18:$F$1017),0)","v":0},{"$f":"IFERROR($E247*SUMIF('Daily Log'!$H$18:$H$1017,$B247,'Daily Log'!$I$18:$I$1017),0)","v":0},{"$f":"IFERROR($E247*SUMIF('Daily Log'!$K$18:$K$1017,$B247,'Daily Log'!$L$18:$L$1017),0)","v":0},{"$f":"IFERROR($E247*SUMIF('Daily Log'!$N$18:$N$1017,$B247,'Daily Log'!$O$18:$O$1017),0)","v":0},{"$f":"IFERROR($E247*SUMIF('Daily Log'!$Q$18:$Q$1017,$B247,'Daily Log'!$R$18:$R$1017),0)","v":0},{"$f":"IFERROR($E247*SUMIF('Daily Log'!$T$18:$T$1017,$B247,'Daily Log'!$U$18:$U$1017),0)","v":0},{"$f":"IFERROR($E247*SUMIF('Daily Log'!$W$18:$W$1017,$B247,'Daily Log'!$X$18:$X$1017),0)","v":0},{"$f":"IFERROR($E247*SUMIF('Daily Log'!$Z$18:$Z$1017,$B247,'Daily Log'!$AA$18:$AA$1017),0)","v":0},{"$f":"IFERROR($E247*SUMIF('Daily Log'!$AC$18:$AC$1017,$B247,'Daily Log'!$AD$18:$AD$1017),0)","v":0},{"$f":"IFERROR($E247*SUMIF('Daily Log'!$AF$18:$AF$1017,$B247,'Daily Log'!$AG$18:$AG$1017),0)","v":0},{"$f":"IFERROR($E247*SUMIF('Daily Log'!$AI$18:$AI$1017,$B247,'Daily Log'!$AJ$18:$AJ$1017),0)","v":0},{"$f":"IFERROR($E247*SUMIF('Daily Log'!$AL$18:$AL$1017,$B247,'Daily Log'!$AM$18:$AM$1017),0)","v":0},{"$f":"IFERROR($E247*SUMIF('Daily Log'!$AO$18:$AO$1017,$B247,'Daily Log'!$AP$18:$AP$1017),0)","v":0},{"$f":"IFERROR($E247*SUMIF('Daily Log'!$AR$18:$AR$1017,$B247,'Daily Log'!$AS$18:$AS$1017),0)","v":0},{"$f":"IFERROR($E247*SUMIF('Daily Log'!$AU$18:$AU$1017,$B247,'Daily Log'!$AV$18:$AV$1017),0)","v":0},{"$f":"IFERROR($E247*SUMIF('Daily Log'!$AX$18:$AX$1017,$B247,'Daily Log'!$AY$18:$AY$1017),0)","v":0},{"$f":"IFERROR($E247*SUMIF('Daily Log'!$BA$18:$BA$1017,$B247,'Daily Log'!$BB$18:$BB$1017),0)","v":0},{"$f":"IFERROR($E247*SUMIF('Daily Log'!$BD$18:$BD$1017,$B247,'Daily Log'!$BE$18:$BE$1017),0)","v":0},{"$f":"IFERROR($E247*SUMIF('Daily Log'!$BG$18:$BG$1017,$B247,'Daily Log'!$BH$18:$BH$1017),0)","v":0},{"$f":"IFERROR($E247*SUMIF('Daily Log'!$BJ$18:$BJ$1017,$B247,'Daily Log'!$BK$18:$BK$1017),0)","v":0},{"$f":"IFERROR($E247*SUMIF('Daily Log'!$BM$18:$BM$1017,$B247,'Daily Log'!$BN$18:$BN$1017),0)","v":0},{"$f":"IFERROR($E247*SUMIF('Daily Log'!$BP$18:$BP$1017,$B247,'Daily Log'!$BQ$18:$BQ$1017),0)","v":0},{"$f":"IFERROR($E247*SUMIF('Daily Log'!$BS$18:$BS$1017,$B247,'Daily Log'!$BT$18:$BT$1017),0)","v":0},{"$f":"IFERROR($E247*SUMIF('Daily Log'!$BV$18:$BV$1017,$B247,'Daily Log'!$BW$18:$BW$1017),0)","v":0},{"$f":"IFERROR($E247*SUMIF('Daily Log'!$BY$18:$BY$1017,$B247,'Daily Log'!$BZ$18:$BZ$1017),0)","v":0},{"$f":"IFERROR($E247*SUMIF('Daily Log'!$CB$18:$CB$1017,$B247,'Daily Log'!$CC$18:$CC$1017),0)","v":0},{"$f":"IFERROR($E247*SUMIF('Daily Log'!$CE$18:$CE$1017,$B247,'Daily Log'!$CF$18:$CF$1017),0)","v":0},{"$f":"IFERROR($E247*SUMIF('Daily Log'!$CH$18:$CH$1017,$B247,'Daily Log'!$CI$18:$CI$1017),0)","v":0},{"$f":"IFERROR($E247*SUMIF('Daily Log'!$CK$18:$CK$1017,$B247,'Daily Log'!$CL$18:$CL$1017),0)","v":0},{"$f":"IFERROR($E247*SUMIF('Daily Log'!$CN$18:$CN$1017,$B247,'Daily Log'!$CO$18:$CO$1017),0)","v":0}]
[null,"DG03 91003:MSR CHK CP",null,"KLKD-WESTERN CRUISE",1,0,{"$f":"IFERROR($E248*SUMIF('Daily Log'!$B$18:$B$1017,$B248,'Daily Log'!$C$18:$C$1017),0)","v":0},{"$f":"IFERROR($E248*SUMIF('Daily Log'!$E$18:$E$1017,$B248,'Daily Log'!$F$18:$F$1017),0)","v":0},{"$f":"IFERROR($E248*SUMIF('Daily Log'!$H$18:$H$1017,$B248,'Daily Log'!$I$18:$I$1017),0)","v":0},{"$f":"IFERROR($E248*SUMIF('Daily Log'!$K$18:$K$1017,$B248,'Daily Log'!$L$18:$L$1017),0)","v":0},{"$f":"IFERROR($E248*SUMIF('Daily Log'!$N$18:$N$1017,$B248,'Daily Log'!$O$18:$O$1017),0)","v":0},{"$f":"IFERROR($E248*SUMIF('Daily Log'!$Q$18:$Q$1017,$B248,'Daily Log'!$R$18:$R$1017),0)","v":0},{"$f":"IFERROR($E248*SUMIF('Daily Log'!$T$18:$T$1017,$B248,'Daily Log'!$U$18:$U$1017),0)","v":0},{"$f":"IFERROR($E248*SUMIF('Daily Log'!$W$18:$W$1017,$B248,'Daily Log'!$X$18:$X$1017),0)","v":0},{"$f":"IFERROR($E248*SUMIF('Daily Log'!$Z$18:$Z$1017,$B248,'Daily Log'!$AA$18:$AA$1017),0)","v":0},{"$f":"IFERROR($E248*SUMIF('Daily Log'!$AC$18:$AC$1017,$B248,'Daily Log'!$AD$18:$AD$1017),0)","v":0},{"$f":"IFERROR($E248*SUMIF('Daily Log'!$AF$18:$AF$1017,$B248,'Daily Log'!$AG$18:$AG$1017),0)","v":0},{"$f":"IFERROR($E248*SUMIF('Daily Log'!$AI$18:$AI$1017,$B248,'Daily Log'!$AJ$18:$AJ$1017),0)","v":0},{"$f":"IFERROR($E248*SUMIF('Daily Log'!$AL$18:$AL$1017,$B248,'Daily Log'!$AM$18:$AM$1017),0)","v":0},{"$f":"IFERROR($E248*SUMIF('Daily Log'!$AO$18:$AO$1017,$B248,'Daily Log'!$AP$18:$AP$1017),0)","v":0},{"$f":"IFERROR($E248*SUMIF('Daily Log'!$AR$18:$AR$1017,$B248,'Daily Log'!$AS$18:$AS$1017),0)","v":0},{"$f":"IFERROR($E248*SUMIF('Daily Log'!$AU$18:$AU$1017,$B248,'Daily Log'!$AV$18:$AV$1017),0)","v":0},{"$f":"IFERROR($E248*SUMIF('Daily Log'!$AX$18:$AX$1017,$B248,'Daily Log'!$AY$18:$AY$1017),0)","v":0},{"$f":"IFERROR($E248*SUMIF('Daily Log'!$BA$18:$BA$1017,$B248,'Daily Log'!$BB$18:$BB$1017),0)","v":0},{"$f":"IFERROR($E248*SUMIF('Daily Log'!$BD$18:$BD$1017,$B248,'Daily Log'!$BE$18:$BE$1017),0)","v":0},{"$f":"IFERROR($E248*SUMIF('Daily Log'!$BG$18:$BG$1017,$B248,'Daily Log'!$BH$18:$BH$1017),0)","v":0},{"$f":"IFERROR($E248*SUMIF('Daily Log'!$BJ$18:$BJ$1017,$B248,'Daily Log'!$BK$18:$BK$1017),0)","v":0},{"$f":"IFERROR($E248*SUMIF('Daily Log'!$BM$18:$BM$1017,$B248,'Daily Log'!$BN$18:$BN$1017),0)","v":0},{"$f":"IFERROR($E248*SUMIF('Daily Log'!$BP$18:$BP$1017,$B248,'Daily Log'!$BQ$18:$BQ$1017),0)","v":0},{"$f":"IFERROR($E248*SUMIF('Daily Log'!$BS$18:$BS$1017,$B248,'Daily Log'!$BT$18:$BT$1017),0)","v":0},{"$f":"IFERROR($E248*SUMIF('Daily Log'!$BV$18:$BV$1017,$B248,'Daily Log'!$BW$18:$BW$1017),0)","v":0},{"$f":"IFERROR($E248*SUMIF('Daily Log'!$BY$18:$BY$1017,$B248,'Daily Log'!$BZ$18:$BZ$1017),0)","v":0},{"$f":"IFERROR($E248*SUMIF('Daily Log'!$CB$18:$CB$1017,$B248,'Daily Log'!$CC$18:$CC$1017),0)","v":0},{"$f":"IFERROR($E248*SUMIF('Daily Log'!$CE$18:$CE$1017,$B248,'Daily Log'!$CF$18:$CF$1017),0)","v":0},{"$f":"IFERROR($E248*SUMIF('Daily Log'!$CH$18:$CH$1017,$B248,'Daily Log'!$CI$18:$CI$1017),0)","v":0},{"$f":"IFERROR($E248*SUMIF('Daily Log'!$CK$18:$CK$1017,$B248,'Daily Log'!$CL$18:$CL$1017),0)","v":0},{"$f":"IFERROR($E248*SUMIF('Daily Log'!$CN$18:$CN$1017,$B248,'Daily Log'!$CO$18:$CO$1017),0)","v":0}]
[null,"DG04 91004:CKN MARY",null,"KLKD-WESTERN CRUISE",1,0,{"$f":"IFERROR($E249*SUMIF('Daily Log'!$B$18:$B$1017,$B249,'Daily Log'!$C$18:$C$1017),0)","v":0},{"$f":"IFERROR($E249*SUMIF('Daily Log'!$E$18:$E$1017,$B249,'Daily Log'!$F$18:$F$1017),0)","v":0},{"$f":"IFERROR($E249*SUMIF('Daily Log'!$H$18:$H$1017,$B249,'Daily Log'!$I$18:$I$1017),0)","v":0},{"$f":"IFERROR($E249*SUMIF('Daily Log'!$K$18:$K$1017,$B249,'Daily Log'!$L$18:$L$1017),0)","v":0},{"$f":"IFERROR($E249*SUMIF('Daily Log'!$N$18:$N$1017,$B249,'Daily Log'!$O$18:$O$1017),0)","v":0},{"$f":"IFERROR($E249*SUMIF('Daily Log'!$Q$18:$Q$1017,$B249,'Daily Log'!$R$18:$R$1017),0)","v":0},{"$f":"IFERROR($E249*SUMIF('Daily Log'!$T$18:$T$1017,$B249,'Daily Log'!$U$18:$U$1017),0)","v":0},{"$f":"IFERROR($E249*SUMIF('Daily Log'!$W$18:$W$1017,$B249,'Daily Log'!$X$18:$X$1017),0)","v":0},{"$f":"IFERROR($E249*SUMIF('Daily Log'!$Z$18:$Z$1017,$B249,'Daily Log'!$AA$18:$AA$1017),0)","v":0},{"$f":"IFERROR($E249*SUMIF('Daily Log'!$AC$18:$AC$1017,$B249,'Daily Log'!$AD$18:$AD$1017),0)","v":0},{"$f":"IFERROR($E249*SUMIF('Daily Log'!$AF$18:$AF$1017,$B249,'Daily Log'!$AG$18:$AG$1017),0)","v":0},{"$f":"IFERROR($E249*SUMIF('Daily Log'!$AI$18:$AI$1017,$B249,'Daily Log'!$AJ$18:$AJ$1017),0)","v":0},{"$f":"IFERROR($E249*SUMIF('Daily Log'!$AL$18:$AL$1017,$B249,'Daily Log'!$AM$18:$AM$1017),0)","v":0},{"$f":"IFERROR($E249*SUMIF('Daily Log'!$AO$18:$AO$1017,$B249,'Daily Log'!$AP$18:$AP$1017),0)","v":0},{"$f":"IFERROR($E249*SUMIF('Daily Log'!$AR$18:$AR$1017,$B249,'Daily Log'!$AS$18:$AS$1017),0)","v":0},{"$f":"IFERROR($E249*SUMIF('Daily Log'!$AU$18:$AU$1017,$B249,'Daily Log'!$AV$18:$AV$1017),0)","v":0},{"$f":"IFERROR($E249*SUMIF('Daily Log'!$AX$18:$AX$1017,$B249,'Daily Log'!$AY$18:$AY$1017),0)","v":0},{"$f":"IFERROR($E249*SUMIF('Daily Log'!$BA$18:$BA$1017,$B249,'Daily Log'!$BB$18:$BB$1017),0)","v":0},{"$f":"IFERROR($E249*SUMIF('Daily Log'!$BD$18:$BD$1017,$B249,'Daily Log'!$BE$18:$BE$1017),0)","v":0},{"$f":"IFERROR($E249*SUMIF('Daily Log'!$BG$18:$BG$1017,$B249,'Daily Log'!$BH$18:$BH$1017),0)","v":0},{"$f":"IFERROR($E249*SUMIF('Daily Log'!$BJ$18:$BJ$1017,$B249,'Daily Log'!$BK$18:$BK$1017),0)","v":0},{"$f":"IFERROR($E249*SUMIF('Daily Log'!$BM$18:$BM$1017,$B249,'Daily Log'!$BN$18:$BN$1017),0)","v":0},{"$f":"IFERROR($E249*SUMIF('Daily Log'!$BP$18:$BP$1017,$B249,'Daily Log'!$BQ$18:$BQ$1017),0)","v":0},{"$f":"IFERROR($E249*SUMIF('Daily Log'!$BS$18:$BS$1017,$B249,'Daily Log'!$BT$18:$BT$1017),0)","v":0},{"$f":"IFERROR($E249*SUMIF('Daily Log'!$BV$18:$BV$1017,$B249,'Daily Log'!$BW$18:$BW$1017),0)","v":0},{"$f":"IFERROR($E249*SUMIF('Daily Log'!$BY$18:$BY$1017,$B249,'Daily Log'!$BZ$18:$BZ$1017),0)","v":0},{"$f":"IFERROR($E249*SUMIF('Daily Log'!$CB$18:$CB$1017,$B249,'Daily Log'!$CC$18:$CC$1017),0)","v":0},{"$f":"IFERROR($E249*SUMIF('Daily Log'!$CE$18:$CE$1017,$B249,'Daily Log'!$CF$18:$CF$1017),0)","v":0},{"$f":"IFERROR($E249*SUMIF('Daily Log'!$CH$18:$CH$1017,$B249,'Daily Log'!$CI$18:$CI$1017),0)","v":0},{"$f":"IFERROR($E249*SUMIF('Daily Log'!$CK$18:$CK$1017,$B249,'Daily Log'!$CL$18:$CL$1017),0)","v":0},{"$f":"IFERROR($E249*SUMIF('Daily Log'!$CN$18:$CN$1017,$B249,'Daily Log'!$CO$18:$CO$1017),0)","v":0}]
[null,"DG05 91005:FISH&CHIP",null,"KLKD-WESTERN CRUISE",1,0,{"$f":"IFERROR($E250*SUMIF('Daily Log'!$B$18:$B$1017,$B250,'Daily Log'!$C$18:$C$1017),0)","v":0},{"$f":"IFERROR($E250*SUMIF('Daily Log'!$E$18:$E$1017,$B250,'Daily Log'!$F$18:$F$1017),0)","v":0},{"$f":"IFERROR($E250*SUMIF('Daily Log'!$H$18:$H$1017,$B250,'Daily Log'!$I$18:$I$1017),0)","v":0},{"$f":"IFERROR($E250*SUMIF('Daily Log'!$K$18:$K$1017,$B250,'Daily Log'!$L$18:$L$1017),0)","v":0},{"$f":"IFERROR($E250*SUMIF('Daily Log'!$N$18:$N$1017,$B250,'Daily Log'!$O$18:$O$1017),0)","v":0},{"$f":"IFERROR($E250*SUMIF('Daily Log'!$Q$18:$Q$1017,$B250,'Daily Log'!$R$18:$R$1017),0)","v":0},{"$f":"IFERROR($E250*SUMIF('Daily Log'!$T$18:$T$1017,$B250,'Daily Log'!$U$18:$U$1017),0)","v":0},{"$f":"IFERROR($E250*SUMIF('Daily Log'!$W$18:$W$1017,$B250,'Daily Log'!$X$18:$X$1017),0)","v":0},{"$f":"IFERROR($E250*SUMIF('Daily Log'!$Z$18:$Z$1017,$B250,'Daily Log'!$AA$18:$AA$1017),0)","v":0},{"$f":"IFERROR($E250*SUMIF('Daily Log'!$AC$18:$AC$1017,$B250,'Daily Log'!$AD$18:$AD$1017),0)","v":0},{"$f":"IFERROR($E250*SUMIF('Daily Log'!$AF$18:$AF$1017,$B250,'Daily Log'!$AG$18:$AG$1017),0)","v":0},{"$f":"IFERROR($E250*SUMIF('Daily Log'!$AI$18:$AI$1017,$B250,'Daily Log'!$AJ$18:$AJ$1017),0)","v":0},{"$f":"IFERROR($E250*SUMIF('Daily Log'!$AL$18:$AL$1017,$B250,'Daily Log'!$AM$18:$AM$1017),0)","v":0},{"$f":"IFERROR($E250*SUMIF('Daily Log'!$AO$18:$AO$1017,$B250,'Daily Log'!$AP$18:$AP$1017),0)","v":0},{"$f":"IFERROR($E250*SUMIF('Daily Log'!$AR$18:$AR$1017,$B250,'Daily Log'!$AS$18:$AS$1017),0)","v":0},{"$f":"IFERROR($E250*SUMIF('Daily Log'!$AU$18:$AU$1017,$B250,'Daily Log'!$AV$18:$AV$1017),0)","v":0},{"$f":"IFERROR($E250*SUMIF('Daily Log'!$AX$18:$AX$1017,$B250,'Daily Log'!$AY$18:$AY$1017),0)","v":0},{"$f":"IFERROR($E250*SUMIF('Daily Log'!$BA$18:$BA$1017,$B250,'Daily Log'!$BB$18:$BB$1017),0)","v":0},{"$f":"IFERROR($E250*SUMIF('Daily Log'!$BD$18:$BD$1017,$B250,'Daily Log'!$BE$18:$BE$1017),0)","v":0},{"$f":"IFERROR($E250*SUMIF('Daily Log'!$BG$18:$BG$1017,$B250,'Daily Log'!$BH$18:$BH$1017),0)","v":0},{"$f":"IFERROR($E250*SUMIF('Daily Log'!$BJ$18:$BJ$1017,$B250,'Daily Log'!$BK$18:$BK$1017),0)","v":0},{"$f":"IFERROR($E250*SUMIF('Daily Log'!$BM$18:$BM$1017,$B250,'Daily Log'!$BN$18:$BN$1017),0)","v":0},{"$f":"IFERROR($E250*SUMIF('Daily Log'!$BP$18:$BP$1017,$B250,'Daily Log'!$BQ$18:$BQ$1017),0)","v":0},{"$f":"IFERROR($E250*SUMIF('Daily Log'!$BS$18:$BS$1017,$B250,'Daily Log'!$BT$18:$BT$1017),0)","v":0},{"$f":"IFERROR($E250*SUMIF('Daily Log'!$BV$18:$BV$1017,$B250,'Daily Log'!$BW$18:$BW$1017),0)","v":0},{"$f":"IFERROR($E250*SUMIF('Daily Log'!$BY$18:$BY$1017,$B250,'Daily Log'!$BZ$18:$BZ$1017),0)","v":0},{"$f":"IFERROR($E250*SUMIF('Daily Log'!$CB$18:$CB$1017,$B250,'Daily Log'!$CC$18:$CC$1017),0)","v":0},{"$f":"IFERROR($E250*SUMIF('Daily Log'!$CE$18:$CE$1017,$B250,'Daily Log'!$CF$18:$CF$1017),0)","v":0},{"$f":"IFERROR($E250*SUMIF('Daily Log'!$CH$18:$CH$1017,$B250,'Daily Log'!$CI$18:$CI$1017),0)","v":0},{"$f":"IFERROR($E250*SUMIF('Daily Log'!$CK$18:$CK$1017,$B250,'Daily Log'!$CL$18:$CL$1017),0)","v":0},{"$f":"IFERROR($E250*SUMIF('Daily Log'!$CN$18:$CN$1017,$B250,'Daily Log'!$CO$18:$CO$1017),0)","v":0}]
[null,"DG06 91006:SPAGHETTI",null,"KLKD-WESTERN CRUISE",1,0,{"$f":"IFERROR($E251*SUMIF('Daily Log'!$B$18:$B$1017,$B251,'Daily Log'!$C$18:$C$1017),0)","v":0},{"$f":"IFERROR($E251*SUMIF('Daily Log'!$E$18:$E$1017,$B251,'Daily Log'!$F$18:$F$1017),0)","v":0},{"$f":"IFERROR($E251*SUMIF('Daily Log'!$H$18:$H$1017,$B251,'Daily Log'!$I$18:$I$1017),0)","v":0},{"$f":"IFERROR($E251*SUMIF('Daily Log'!$K$18:$K$1017,$B251,'Daily Log'!$L$18:$L$1017),0)","v":0},{"$f":"IFERROR($E251*SUMIF('Daily Log'!$N$18:$N$1017,$B251,'Daily Log'!$O$18:$O$1017),0)","v":0},{"$f":"IFERROR($E251*SUMIF('Daily Log'!$Q$18:$Q$1017,$B251,'Daily Log'!$R$18:$R$1017),0)","v":0},{"$f":"IFERROR($E251*SUMIF('Daily Log'!$T$18:$T$1017,$B251,'Daily Log'!$U$18:$U$1017),0)","v":0},{"$f":"IFERROR($E251*SUMIF('Daily Log'!$W$18:$W$1017,$B251,'Daily Log'!$X$18:$X$1017),0)","v":0},{"$f":"IFERROR($E251*SUMIF('Daily Log'!$Z$18:$Z$1017,$B251,'Daily Log'!$AA$18:$AA$1017),0)","v":0},{"$f":"IFERROR($E251*SUMIF('Daily Log'!$AC$18:$AC$1017,$B251,'Daily Log'!$AD$18:$AD$1017),0)","v":0},{"$f":"IFERROR($E251*SUMIF('Daily Log'!$AF$18:$AF$1017,$B251,'Daily Log'!$AG$18:$AG$1017),0)","v":0},{"$f":"IFERROR($E251*SUMIF('Daily Log'!$AI$18:$AI$1017,$B251,'Daily Log'!$AJ$18:$AJ$1017),0)","v":0},{"$f":"IFERROR($E251*SUMIF('Daily Log'!$AL$18:$AL$1017,$B251,'Daily Log'!$AM$18:$AM$1017),0)","v":0},{"$f":"IFERROR($E251*SUMIF('Daily Log'!$AO$18:$AO$1017,$B251,'Daily Log'!$AP$18:$AP$1017),0)","v":0},{"$f":"IFERROR($E251*SUMIF('Daily Log'!$AR$18:$AR$1017,$B251,'Daily Log'!$AS$18:$AS$1017),0)","v":0},{"$f":"IFERROR($E251*SUMIF('Daily Log'!$AU$18:$AU$1017,$B251,'Daily Log'!$AV$18:$AV$1017),0)","v":0},{"$f":"IFERROR($E251*SUMIF('Daily Log'!$AX$18:$AX$1017,$B251,'Daily Log'!$AY$18:$AY$1017),0)","v":0},{"$f":"IFERROR($E251*SUMIF('Daily Log'!$BA$18:$BA$1017,$B251,'Daily Log'!$BB$18:$BB$1017),0)","v":0},{"$f":"IFERROR($E251*SUMIF('Daily Log'!$BD$18:$BD$1017,$B251,'Daily Log'!$BE$18:$BE$1017),0)","v":0},{"$f":"IFERROR($E251*SUMIF('Daily Log'!$BG$18:$BG$1017,$B251,'Daily Log'!$BH$18:$BH$1017),0)","v":0},{"$f":"IFERROR($E251*SUMIF('Daily Log'!$BJ$18:$BJ$1017,$B251,'Daily Log'!$BK$18:$BK$1017),0)","v":0},{"$f":"IFERROR($E251*SUMIF('Daily Log'!$BM$18:$BM$1017,$B251,'Daily Log'!$BN$18:$BN$1017),0)","v":0},{"$f":"IFERROR($E251*SUMIF('Daily Log'!$BP$18:$BP$1017,$B251,'Daily Log'!$BQ$18:$BQ$1017),0)","v":0},{"$f":"IFERROR($E251*SUMIF('Daily Log'!$BS$18:$BS$1017,$B251,'Daily Log'!$BT$18:$BT$1017),0)","v":0},{"$f":"IFERROR($E251*SUMIF('Daily Log'!$BV$18:$BV$1017,$B251,'Daily Log'!$BW$18:$BW$1017),0)","v":0},{"$f":"IFERROR($E251*SUMIF('Daily Log'!$BY$18:$BY$1017,$B251,'Daily Log'!$BZ$18:$BZ$1017),0)","v":0},{"$f":"IFERROR($E251*SUMIF('Daily Log'!$CB$18:$CB$1017,$B251,'Daily Log'!$CC$18:$CC$1017),0)","v":0},{"$f":"IFERROR($E251*SUMIF('Daily Log'!$CE$18:$CE$1017,$B251,'Daily Log'!$CF$18:$CF$1017),0)","v":0},{"$f":"IFERROR($E251*SUMIF('Daily Log'!$CH$18:$CH$1017,$B251,'Daily Log'!$CI$18:$CI$1017),0)","v":0},{"$f":"IFERROR($E251*SUMIF('Daily Log'!$CK$18:$CK$1017,$B251,'Daily Log'!$CL$18:$CL$1017),0)","v":0},{"$f":"IFERROR($E251*SUMIF('Daily Log'!$CN$18:$CN$1017,$B251,'Daily Log'!$CO$18:$CO$1017),0)","v":0}]
[null,"DG07 91007:CHK SALAD",null,"KLKD-WESTERN CRUISE",1,0,{"$f":"IFERROR($E252*SUMIF('Daily Log'!$B$18:$B$1017,$B252,'Daily Log'!$C$18:$C$1017),0)","v":0},{"$f":"IFERROR($E252*SUMIF('Daily Log'!$E$18:$E$1017,$B252,'Daily Log'!$F$18:$F$1017),0)","v":0},{"$f":"IFERROR($E252*SUMIF('Daily Log'!$H$18:$H$1017,$B252,'Daily Log'!$I$18:$I$1017),0)","v":0},{"$f":"IFERROR($E252*SUMIF('Daily Log'!$K$18:$K$1017,$B252,'Daily Log'!$L$18:$L$1017),0)","v":0},{"$f":"IFERROR($E252*SUMIF('Daily Log'!$N$18:$N$1017,$B252,'Daily Log'!$O$18:$O$1017),0)","v":0},{"$f":"IFERROR($E252*SUMIF('Daily Log'!$Q$18:$Q$1017,$B252,'Daily Log'!$R$18:$R$1017),0)","v":0},{"$f":"IFERROR($E252*SUMIF('Daily Log'!$T$18:$T$1017,$B252,'Daily Log'!$U$18:$U$1017),0)","v":0},{"$f":"IFERROR($E252*SUMIF('Daily Log'!$W$18:$W$1017,$B252,'Daily Log'!$X$18:$X$1017),0)","v":0},{"$f":"IFERROR($E252*SUMIF('Daily Log'!$Z$18:$Z$1017,$B252,'Daily Log'!$AA$18:$AA$1017),0)","v":0},{"$f":"IFERROR($E252*SUMIF('Daily Log'!$AC$18:$AC$1017,$B252,'Daily Log'!$AD$18:$AD$1017),0)","v":0},{"$f":"IFERROR($E252*SUMIF('Daily Log'!$AF$18:$AF$1017,$B252,'Daily Log'!$AG$18:$AG$1017),0)","v":0},{"$f":"IFERROR($E252*SUMIF('Daily Log'!$AI$18:$AI$1017,$B252,'Daily Log'!$AJ$18:$AJ$1017),0)","v":0},{"$f":"IFERROR($E252*SUMIF('Daily Log'!$AL$18:$AL$1017,$B252,'Daily Log'!$AM$18:$AM$1017),0)","v":0},{"$f":"IFERROR($E252*SUMIF('Daily Log'!$AO$18:$AO$1017,$B252,'Daily Log'!$AP$18:$AP$1017),0)","v":0},{"$f":"IFERROR($E252*SUMIF('Daily Log'!$AR$18:$AR$1017,$B252,'Daily Log'!$AS$18:$AS$1017),0)","v":0},{"$f":"IFERROR($E252*SUMIF('Daily Log'!$AU$18:$AU$1017,$B252,'Daily Log'!$AV$18:$AV$1017),0)","v":0},{"$f":"IFERROR($E252*SUMIF('Daily Log'!$AX$18:$AX$1017,$B252,'Daily Log'!$AY$18:$AY$1017),0)","v":0},{"$f":"IFERROR($E252*SUMIF('Daily Log'!$BA$18:$BA$1017,$B252,'Daily Log'!$BB$18:$BB$1017),0)","v":0},{"$f":"IFERROR($E252*SUMIF('Daily Log'!$BD$18:$BD$1017,$B252,'Daily Log'!$BE$18:$BE$1017),0)","v":0},{"$f":"IFERROR($E252*SUMIF('Daily Log'!$BG$18:$BG$1017,$B252,'Daily Log'!$BH$18:$BH$1017),0)","v":0},{"$f":"IFERROR($E252*SUMIF('Daily Log'!$BJ$18:$BJ$1017,$B252,'Daily Log'!$BK$18:$BK$1017),0)","v":0},{"$f":"IFERROR($E252*SUMIF('Daily Log'!$BM$18:$BM$1017,$B252,'Daily Log'!$BN$18:$BN$1017),0)","v":0},{"$f":"IFERROR($E252*SUMIF('Daily Log'!$BP$18:$BP$1017,$B252,'Daily Log'!$BQ$18:$BQ$1017),0)","v":0},{"$f":"IFERROR($E252*SUMIF('Daily Log'!$BS$18:$BS$1017,$B252,'Daily Log'!$BT$18:$BT$1017),0)","v":0},{"$f":"IFERROR($E252*SUMIF('Daily Log'!$BV$18:$BV$1017,$B252,'Daily Log'!$BW$18:$BW$1017),0)","v":0},{"$f":"IFERROR($E252*SUMIF('Daily Log'!$BY$18:$BY$1017,$B252,'Daily Log'!$BZ$18:$BZ$1017),0)","v":0},{"$f":"IFERROR($E252*SUMIF('Daily Log'!$CB$18:$CB$1017,$B252,'Daily Log'!$CC$18:$CC$1017),0)","v":0},{"$f":"IFERROR($E252*SUMIF('Daily Log'!$CE$18:$CE$1017,$B252,'Daily Log'!$CF$18:$CF$1017),0)","v":0},{"$f":"IFERROR($E252*SUMIF('Daily Log'!$CH$18:$CH$1017,$B252,'Daily Log'!$CI$18:$CI$1017),0)","v":0},{"$f":"IFERROR($E252*SUMIF('Daily Log'!$CK$18:$CK$1017,$B252,'Daily Log'!$CL$18:$CL$1017),0)","v":0},{"$f":"IFERROR($E252*SUMIF('Daily Log'!$CN$18:$CN$1017,$B252,'Daily Log'!$CO$18:$CO$1017),0)","v":0}]
[null,"DH01 91101:THAI CHK",null,"KLKD-LOCAL DELIGHTS",1,0,{"$f":"IFERROR($E253*SUMIF('Daily Log'!$B$18:$B$1017,$B253,'Daily Log'!$C$18:$C$1017),0)","v":0},{"$f":"IFERROR($E253*SUMIF('Daily Log'!$E$18:$E$1017,$B253,'Daily Log'!$F$18:$F$1017),0)","v":0},{"$f":"IFERROR($E253*SUMIF('Daily Log'!$H$18:$H$1017,$B253,'Daily Log'!$I$18:$I$1017),0)","v":0},{"$f":"IFERROR($E253*SUMIF('Daily Log'!$K$18:$K$1017,$B253,'Daily Log'!$L$18:$L$1017),0)","v":0},{"$f":"IFERROR($E253*SUMIF('Daily Log'!$N$18:$N$1017,$B253,'Daily Log'!$O$18:$O$1017),0)","v":0},{"$f":"IFERROR($E253*SUMIF('Daily Log'!$Q$18:$Q$1017,$B253,'Daily Log'!$R$18:$R$1017),0)","v":0},{"$f":"IFERROR($E253*SUMIF('Daily Log'!$T$18:$T$1017,$B253,'Daily Log'!$U$18:$U$1017),0)","v":0},{"$f":"IFERROR($E253*SUMIF('Daily Log'!$W$18:$W$1017,$B253,'Daily Log'!$X$18:$X$1017),0)","v":0},{"$f":"IFERROR($E253*SUMIF('Daily Log'!$Z$18:$Z$1017,$B253,'Daily Log'!$AA$18:$AA$1017),0)","v":0},{"$f":"IFERROR($E253*SUMIF('Daily Log'!$AC$18:$AC$1017,$B253,'Daily Log'!$AD$18:$AD$1017),0)","v":0},{"$f":"IFERROR($E253*SUMIF('Daily Log'!$AF$18:$AF$1017,$B253,'Daily Log'!$AG$18:$AG$1017),0)","v":0},{"$f":"IFERROR($E253*SUMIF('Daily Log'!$AI$18:$AI$1017,$B253,'Daily Log'!$AJ$18:$AJ$1017),0)","v":0},{"$f":"IFERROR($E253*SUMIF('Daily Log'!$AL$18:$AL$1017,$B253,'Daily Log'!$AM$18:$AM$1017),0)","v":0},{"$f":"IFERROR($E253*SUMIF('Daily Log'!$AO$18:$AO$1017,$B253,'Daily Log'!$AP$18:$AP$1017),0)","v":0},{"$f":"IFERROR($E253*SUMIF('Daily Log'!$AR$18:$AR$1017,$B253,'Daily Log'!$AS$18:$AS$1017),0)","v":0},{"$f":"IFERROR($E253*SUMIF('Daily Log'!$AU$18:$AU$1017,$B253,'Daily Log'!$AV$18:$AV$1017),0)","v":0},{"$f":"IFERROR($E253*SUMIF('Daily Log'!$AX$18:$AX$1017,$B253,'Daily Log'!$AY$18:$AY$1017),0)","v":0},{"$f":"IFERROR($E253*SUMIF('Daily Log'!$BA$18:$BA$1017,$B253,'Daily Log'!$BB$18:$BB$1017),0)","v":0},{"$f":"IFERROR($E253*SUMIF('Daily Log'!$BD$18:$BD$1017,$B253,'Daily Log'!$BE$18:$BE$1017),0)","v":0},{"$f":"IFERROR($E253*SUMIF('Daily Log'!$BG$18:$BG$1017,$B253,'Daily Log'!$BH$18:$BH$1017),0)","v":0},{"$f":"IFERROR($E253*SUMIF('Daily Log'!$BJ$18:$BJ$1017,$B253,'Daily Log'!$BK$18:$BK$1017),0)","v":0},{"$f":"IFERROR($E253*SUMIF('Daily Log'!$BM$18:$BM$1017,$B253,'Daily Log'!$BN$18:$BN$1017),0)","v":0},{"$f":"IFERROR($E253*SUMIF('Daily Log'!$BP$18:$BP$1017,$B253,'Daily Log'!$BQ$18:$BQ$1017),0)","v":0},{"$f":"IFERROR($E253*SUMIF('Daily Log'!$BS$18:$BS$1017,$B253,'Daily Log'!$BT$18:$BT$1017),0)","v":0},{"$f":"IFERROR($E253*SUMIF('Daily Log'!$BV$18:$BV$1017,$B253,'Daily Log'!$BW$18:$BW$1017),0)","v":0},{"$f":"IFERROR($E253*SUMIF('Daily Log'!$BY$18:$BY$1017,$B253,'Daily Log'!$BZ$18:$BZ$1017),0)","v":0},{"$f":"IFERROR($E253*SUMIF('Daily Log'!$CB$18:$CB$1017,$B253,'Daily Log'!$CC$18:$CC$1017),0)","v":0},{"$f":"IFERROR($E253*SUMIF('Daily Log'!$CE$18:$CE$1017,$B253,'Daily Log'!$CF$18:$CF$1017),0)","v":0},{"$f":"IFERROR($E253*SUMIF('Daily Log'!$CH$18:$CH$1017,$B253,'Daily Log'!$CI$18:$CI$1017),0)","v":0},{"$f":"IFERROR($E253*SUMIF('Daily Log'!$CK$18:$CK$1017,$B253,'Daily Log'!$CL$18:$CL$1017),0)","v":0},{"$f":"IFERROR($E253*SUMIF('Daily Log'!$CN$18:$CN$1017,$B253,'Daily Log'!$CO$18:$CO$1017),0)","v":0}]
[null,"DH02 91102:MAMITE CHK",null,"KLKD-LOCAL DELIGHTS",1,0,{"$f":"IFERROR($E254*SUMIF('Daily Log'!$B$18:$B$1017,$B254,'Daily Log'!$C$18:$C$1017),0)","v":0},{"$f":"IFERROR($E254*SUMIF('Daily Log'!$E$18:$E$1017,$B254,'Daily Log'!$F$18:$F$1017),0)","v":0},{"$f":"IFERROR($E254*SUMIF('Daily Log'!$H$18:$H$1017,$B254,'Daily Log'!$I$18:$I$1017),0)","v":0},{"$f":"IFERROR($E254*SUMIF('Daily Log'!$K$18:$K$1017,$B254,'Daily Log'!$L$18:$L$1017),0)","v":0},{"$f":"IFERROR($E254*SUMIF('Daily Log'!$N$18:$N$1017,$B254,'Daily Log'!$O$18:$O$1017),0)","v":0},{"$f":"IFERROR($E254*SUMIF('Daily Log'!$Q$18:$Q$1017,$B254,'Daily Log'!$R$18:$R$1017),0)","v":0},{"$f":"IFERROR($E254*SUMIF('Daily Log'!$T$18:$T$1017,$B254,'Daily Log'!$U$18:$U$1017),0)","v":0},{"$f":"IFERROR($E254*SUMIF('Daily Log'!$W$18:$W$1017,$B254,'Daily Log'!$X$18:$X$1017),0)","v":0},{"$f":"IFERROR($E254*SUMIF('Daily Log'!$Z$18:$Z$1017,$B254,'Daily Log'!$AA$18:$AA$1017),0)","v":0},{"$f":"IFERROR($E254*SUMIF('Daily Log'!$AC$18:$AC$1017,$B254,'Daily Log'!$AD$18:$AD$1017),0)","v":0},{"$f":"IFERROR($E254*SUMIF('Daily Log'!$AF$18:$AF$1017,$B254,'Daily Log'!$AG$18:$AG$1017),0)","v":0},{"$f":"IFERROR($E254*SUMIF('Daily Log'!$AI$18:$AI$1017,$B254,'Daily Log'!$AJ$18:$AJ$1017),0)","v":0},{"$f":"IFERROR($E254*SUMIF('Daily Log'!$AL$18:$AL$1017,$B254,'Daily Log'!$AM$18:$AM$1017),0)","v":0},{"$f":"IFERROR($E254*SUMIF('Daily Log'!$AO$18:$AO$1017,$B254,'Daily Log'!$AP$18:$AP$1017),0)","v":0},{"$f":"IFERROR($E254*SUMIF('Daily Log'!$AR$18:$AR$1017,$B254,'Daily Log'!$AS$18:$AS$1017),0)","v":0},{"$f":"IFERROR($E254*SUMIF('Daily Log'!$AU$18:$AU$1017,$B254,'Daily Log'!$AV$18:$AV$1017),0)","v":0},{"$f":"IFERROR($E254*SUMIF('Daily Log'!$AX$18:$AX$1017,$B254,'Daily Log'!$AY$18:$AY$1017),0)","v":0},{"$f":"IFERROR($E254*SUMIF('Daily Log'!$BA$18:$BA$1017,$B254,'Daily Log'!$BB$18:$BB$1017),0)","v":0},{"$f":"IFERROR($E254*SUMIF('Daily Log'!$BD$18:$BD$1017,$B254,'Daily Log'!$BE$18:$BE$1017),0)","v":0},{"$f":"IFERROR($E254*SUMIF('Daily Log'!$BG$18:$BG$1017,$B254,'Daily Log'!$BH$18:$BH$1017),0)","v":0},{"$f":"IFERROR($E254*SUMIF('Daily Log'!$BJ$18:$BJ$1017,$B254,'Daily Log'!$BK$18:$BK$1017),0)","v":0},{"$f":"IFERROR($E254*SUMIF('Daily Log'!$BM$18:$BM$1017,$B254,'Daily Log'!$BN$18:$BN$1017),0)","v":0},{"$f":"IFERROR($E254*SUMIF('Daily Log'!$BP$18:$BP$1017,$B254,'Daily Log'!$BQ$18:$BQ$1017),0)","v":0},{"$f":"IFERROR($E254*SUMIF('Daily Log'!$BS$18:$BS$1017,$B254,'Daily Log'!$BT$18:$BT$1017),0)","v":0},{"$f":"IFERROR($E254*SUMIF('Daily Log'!$BV$18:$BV$1017,$B254,'Daily Log'!$BW$18:$BW$1017),0)","v":0},{"$f":"IFERROR($E254*SUMIF('Daily Log'!$BY$18:$BY$1017,$B254,'Daily Log'!$BZ$18:$BZ$1017),0)","v":0},{"$f":"IFERROR($E254*SUMIF('Daily Log'!$CB$18:$CB$1017,$B254,'Daily Log'!$CC$18:$CC$1017),0)","v":0},{"$f":"IFERROR($E254*SUMIF('Daily Log'!$CE$18:$CE$1017,$B254,'Daily Log'!$CF$18:$CF$1017),0)","v":0},{"$f":"IFERROR($E254*SUMIF('Daily Log'!$CH$18:$CH$1017,$B254,'Daily Log'!$CI$18:$CI$1017),0)","v":0},{"$f":"IFERROR($E254*SUMIF('Daily Log'!$CK$18:$CK$1017,$B254,'Daily Log'!$CL$18:$CL$1017),0)","v":0},{"$f":"IFERROR($E254*SUMIF('Daily Log'!$CN$18:$CN$1017,$B254,'Daily Log'!$CO$18:$CO$1017),0)","v":0}]
[null,"DH03 91103:KO PO CHK",null,"KLKD-LOCAL DELIGHTS",1,0,{"$f":"IFERROR($E255*SUMIF('Daily Log'!$B$18:$B$1017,$B255,'Daily Log'!$C$18:$C$1017),0)","v":0},{"$f":"IFERROR($E255*SUMIF('Daily Log'!$E$18:$E$1017,$B255,'Daily Log'!$F$18:$F$1017),0)","v":0},{"$f":"IFERROR($E255*SUMIF('Daily Log'!$H$18:$H$1017,$B255,'Daily Log'!$I$18:$I$1017),0)","v":0},{"$f":"IFERROR($E255*SUMIF('Daily Log'!$K$18:$K$1017,$B255,'Daily Log'!$L$18:$L$1017),0)","v":0},{"$f":"IFERROR($E255*SUMIF('Daily Log'!$N$18:$N$1017,$B255,'Daily Log'!$O$18:$O$1017),0)","v":0},{"$f":"IFERROR($E255*SUMIF('Daily Log'!$Q$18:$Q$1017,$B255,'Daily Log'!$R$18:$R$1017),0)","v":0},{"$f":"IFERROR($E255*SUMIF('Daily Log'!$T$18:$T$1017,$B255,'Daily Log'!$U$18:$U$1017),0)","v":0},{"$f":"IFERROR($E255*SUMIF('Daily Log'!$W$18:$W$1017,$B255,'Daily Log'!$X$18:$X$1017),0)","v":0},{"$f":"IFERROR($E255*SUMIF('Daily Log'!$Z$18:$Z$1017,$B255,'Daily Log'!$AA$18:$AA$1017),0)","v":0},{"$f":"IFERROR($E255*SUMIF('Daily Log'!$AC$18:$AC$1017,$B255,'Daily Log'!$AD$18:$AD$1017),0)","v":0},{"$f":"IFERROR($E255*SUMIF('Daily Log'!$AF$18:$AF$1017,$B255,'Daily Log'!$AG$18:$AG$1017),0)","v":0},{"$f":"IFERROR($E255*SUMIF('Daily Log'!$AI$18:$AI$1017,$B255,'Daily Log'!$AJ$18:$AJ$1017),0)","v":0},{"$f":"IFERROR($E255*SUMIF('Daily Log'!$AL$18:$AL$1017,$B255,'Daily Log'!$AM$18:$AM$1017),0)","v":0},{"$f":"IFERROR($E255*SUMIF('Daily Log'!$AO$18:$AO$1017,$B255,'Daily Log'!$AP$18:$AP$1017),0)","v":0},{"$f":"IFERROR($E255*SUMIF('Daily Log'!$AR$18:$AR$1017,$B255,'Daily Log'!$AS$18:$AS$1017),0)","v":0},{"$f":"IFERROR($E255*SUMIF('Daily Log'!$AU$18:$AU$1017,$B255,'Daily Log'!$AV$18:$AV$1017),0)","v":0},{"$f":"IFERROR($E255*SUMIF('Daily Log'!$AX$18:$AX$1017,$B255,'Daily Log'!$AY$18:$AY$1017),0)","v":0},{"$f":"IFERROR($E255*SUMIF('Daily Log'!$BA$18:$BA$1017,$B255,'Daily Log'!$BB$18:$BB$1017),0)","v":0},{"$f":"IFERROR($E255*SUMIF('Daily Log'!$BD$18:$BD$1017,$B255,'Daily Log'!$BE$18:$BE$1017),0)","v":0},{"$f":"IFERROR($E255*SUMIF('Daily Log'!$BG$18:$BG$1017,$B255,'Daily Log'!$BH$18:$BH$1017),0)","v":0},{"$f":"IFERROR($E255*SUMIF('Daily Log'!$BJ$18:$BJ$1017,$B255,'Daily Log'!$BK$18:$BK$1017),0)","v":0},{"$f":"IFERROR($E255*SUMIF('Daily Log'!$BM$18:$BM$1017,$B255,'Daily Log'!$BN$18:$BN$1017),0)","v":0},{"$f":"IFERROR($E255*SUMIF('Daily Log'!$BP$18:$BP$1017,$B255,'Daily Log'!$BQ$18:$BQ$1017),0)","v":0},{"$f":"IFERROR($E255*SUMIF('Daily Log'!$BS$18:$BS$1017,$B255,'Daily Log'!$BT$18:$BT$1017),0)","v":0},{"$f":"IFERROR($E255*SUMIF('Daily Log'!$BV$18:$BV$1017,$B255,'Daily Log'!$BW$18:$BW$1017),0)","v":0},{"$f":"IFERROR($E255*SUMIF('Daily Log'!$BY$18:$BY$1017,$B255,'Daily Log'!$BZ$18:$BZ$1017),0)","v":0},{"$f":"IFERROR($E255*SUMIF('Daily Log'!$CB$18:$CB$1017,$B255,'Daily Log'!$CC$18:$CC$1017),0)","v":0},{"$f":"IFERROR($E255*SUMIF('Daily Log'!$CE$18:$CE$1017,$B255,'Daily Log'!$CF$18:$CF$1017),0)","v":0},{"$f":"IFERROR($E255*SUMIF('Daily Log'!$CH$18:$CH$1017,$B255,'Daily Log'!$CI$18:$CI$1017),0)","v":0},{"$f":"IFERROR($E255*SUMIF('Daily Log'!$CK$18:$CK$1017,$B255,'Daily Log'!$CL$18:$CL$1017),0)","v":0},{"$f":"IFERROR($E255*SUMIF('Daily Log'!$CN$18:$CN$1017,$B255,'Daily Log'!$CO$18:$CO$1017),0)","v":0}]
[null,"DH04 91104:S&S CHK",null,"KLKD-LOCAL DELIGHTS",1,0,{"$f":"IFERROR($E256*SUMIF('Daily Log'!$B$18:$B$1017,$B256,'Daily Log'!$C$18:$C$1017),0)","v":0},{"$f":"IFERROR($E256*SUMIF('Daily Log'!$E$18:$E$1017,$B256,'Daily Log'!$F$18:$F$1017),0)","v":0},{"$f":"IFERROR($E256*SUMIF('Daily Log'!$H$18:$H$1017,$B256,'Daily Log'!$I$18:$I$1017),0)","v":0},{"$f":"IFERROR($E256*SUMIF('Daily Log'!$K$18:$K$1017,$B256,'Daily Log'!$L$18:$L$1017),0)","v":0},{"$f":"IFERROR($E256*SUMIF('Daily Log'!$N$18:$N$1017,$B256,'Daily Log'!$O$18:$O$1017),0)","v":0},{"$f":"IFERROR($E256*SUMIF('Daily Log'!$Q$18:$Q$1017,$B256,'Daily Log'!$R$18:$R$1017),0)","v":0},{"$f":"IFERROR($E256*SUMIF('Daily Log'!$T$18:$T$1017,$B256,'Daily Log'!$U$18:$U$1017),0)","v":0},{"$f":"IFERROR($E256*SUMIF('Daily Log'!$W$18:$W$1017,$B256,'Daily Log'!$X$18:$X$1017),0)","v":0},{"$f":"IFERROR($E256*SUMIF('Daily Log'!$Z$18:$Z$1017,$B256,'Daily Log'!$AA$18:$AA$1017),0)","v":0},{"$f":"IFERROR($E256*SUMIF('Daily Log'!$AC$18:$AC$1017,$B256,'Daily Log'!$AD$18:$AD$1017),0)","v":0},{"$f":"IFERROR($E256*SUMIF('Daily Log'!$AF$18:$AF$1017,$B256,'Daily Log'!$AG$18:$AG$1017),0)","v":0},{"$f":"IFERROR($E256*SUMIF('Daily Log'!$AI$18:$AI$1017,$B256,'Daily Log'!$AJ$18:$AJ$1017),0)","v":0},{"$f":"IFERROR($E256*SUMIF('Daily Log'!$AL$18:$AL$1017,$B256,'Daily Log'!$AM$18:$AM$1017),0)","v":0},{"$f":"IFERROR($E256*SUMIF('Daily Log'!$AO$18:$AO$1017,$B256,'Daily Log'!$AP$18:$AP$1017),0)","v":0},{"$f":"IFERROR($E256*SUMIF('Daily Log'!$AR$18:$AR$1017,$B256,'Daily Log'!$AS$18:$AS$1017),0)","v":0},{"$f":"IFERROR($E256*SUMIF('Daily Log'!$AU$18:$AU$1017,$B256,'Daily Log'!$AV$18:$AV$1017),0)","v":0},{"$f":"IFERROR($E256*SUMIF('Daily Log'!$AX$18:$AX$1017,$B256,'Daily Log'!$AY$18:$AY$1017),0)","v":0},{"$f":"IFERROR($E256*SUMIF('Daily Log'!$BA$18:$BA$1017,$B256,'Daily Log'!$BB$18:$BB$1017),0)","v":0},{"$f":"IFERROR($E256*SUMIF('Daily Log'!$BD$18:$BD$1017,$B256,'Daily Log'!$BE$18:$BE$1017),0)","v":0},{"$f":"IFERROR($E256*SUMIF('Daily Log'!$BG$18:$BG$1017,$B256,'Daily Log'!$BH$18:$BH$1017),0)","v":0},{"$f":"IFERROR($E256*SUMIF('Daily Log'!$BJ$18:$BJ$1017,$B256,'Daily Log'!$BK$18:$BK$1017),0)","v":0},{"$f":"IFERROR($E256*SUMIF('Daily Log'!$BM$18:$BM$1017,$B256,'Daily Log'!$BN$18:$BN$1017),0)","v":0},{"$f":"IFERROR($E256*SUMIF('Daily Log'!$BP$18:$BP$1017,$B256,'Daily Log'!$BQ$18:$BQ$1017),0)","v":0},{"$f":"IFERROR($E256*SUMIF('Daily Log'!$BS$18:$BS$1017,$B256,'Daily Log'!$BT$18:$BT$1017),0)","v":0},{"$f":"IFERROR($E256*SUMIF('Daily Log'!$BV$18:$BV$1017,$B256,'Daily Log'!$BW$18:$BW$1017),0)","v":0},{"$f":"IFERROR($E256*SUMIF('Daily Log'!$BY$18:$BY$1017,$B256,'Daily Log'!$BZ$18:$BZ$1017),0)","v":0},{"$f":"IFERROR($E256*SUMIF('Daily Log'!$CB$18:$CB$1017,$B256,'Daily Log'!$CC$18:$CC$1017),0)","v":0},{"$f":"IFERROR($E256*SUMIF('Daily Log'!$CE$18:$CE$1017,$B256,'Daily Log'!$CF$18:$CF$1017),0)","v":0},{"$f":"IFERROR($E256*SUMIF('Daily Log'!$CH$18:$CH$1017,$B256,'Daily Log'!$CI$18:$CI$1017),0)","v":0},{"$f":"IFERROR($E256*SUMIF('Daily Log'!$CK$18:$CK$1017,$B256,'Daily Log'!$CL$18:$CL$1017),0)","v":0},{"$f":"IFERROR($E256*SUMIF('Daily Log'!$CN$18:$CN$1017,$B256,'Daily Log'!$CO$18:$CO$1017),0)","v":0}]
[null,"DH05 91105:BUTTER CHK",null,"KLKD-LOCAL DELIGHTS",1,0,{"$f":"IFERROR($E257*SUMIF('Daily Log'!$B$18:$B$1017,$B257,'Daily Log'!$C$18:$C$1017),0)","v":0},{"$f":"IFERROR($E257*SUMIF('Daily Log'!$E$18:$E$1017,$B257,'Daily Log'!$F$18:$F$1017),0)","v":0},{"$f":"IFERROR($E257*SUMIF('Daily Log'!$H$18:$H$1017,$B257,'Daily Log'!$I$18:$I$1017),0)","v":0},{"$f":"IFERROR($E257*SUMIF('Daily Log'!$K$18:$K$1017,$B257,'Daily Log'!$L$18:$L$1017),0)","v":0},{"$f":"IFERROR($E257*SUMIF('Daily Log'!$N$18:$N$1017,$B257,'Daily Log'!$O$18:$O$1017),0)","v":0},{"$f":"IFERROR($E257*SUMIF('Daily Log'!$Q$18:$Q$1017,$B257,'Daily Log'!$R$18:$R$1017),0)","v":0},{"$f":"IFERROR($E257*SUMIF('Daily Log'!$T$18:$T$1017,$B257,'Daily Log'!$U$18:$U$1017),0)","v":0},{"$f":"IFERROR($E257*SUMIF('Daily Log'!$W$18:$W$1017,$B257,'Daily Log'!$X$18:$X$1017),0)","v":0},{"$f":"IFERROR($E257*SUMIF('Daily Log'!$Z$18:$Z$1017,$B257,'Daily Log'!$AA$18:$AA$1017),0)","v":0},{"$f":"IFERROR($E257*SUMIF('Daily Log'!$AC$18:$AC$1017,$B257,'Daily Log'!$AD$18:$AD$1017),0)","v":0},{"$f":"IFERROR($E257*SUMIF('Daily Log'!$AF$18:$AF$1017,$B257,'Daily Log'!$AG$18:$AG$1017),0)","v":0},{"$f":"IFERROR($E257*SUMIF('Daily Log'!$AI$18:$AI$1017,$B257,'Daily Log'!$AJ$18:$AJ$1017),0)","v":0},{"$f":"IFERROR($E257*SUMIF('Daily Log'!$AL$18:$AL$1017,$B257,'Daily Log'!$AM$18:$AM$1017),0)","v":0},{"$f":"IFERROR($E257*SUMIF('Daily Log'!$AO$18:$AO$1017,$B257,'Daily Log'!$AP$18:$AP$1017),0)","v":0},{"$f":"IFERROR($E257*SUMIF('Daily Log'!$AR$18:$AR$1017,$B257,'Daily Log'!$AS$18:$AS$1017),0)","v":0},{"$f":"IFERROR($E257*SUMIF('Daily Log'!$AU$18:$AU$1017,$B257,'Daily Log'!$AV$18:$AV$1017),0)","v":0},{"$f":"IFERROR($E257*SUMIF('Daily Log'!$AX$18:$AX$1017,$B257,'Daily Log'!$AY$18:$AY$1017),0)","v":0},{"$f":"IFERROR($E257*SUMIF('Daily Log'!$BA$18:$BA$1017,$B257,'Daily Log'!$BB$18:$BB$1017),0)","v":0},{"$f":"IFERROR($E257*SUMIF('Daily Log'!$BD$18:$BD$1017,$B257,'Daily Log'!$BE$18:$BE$1017),0)","v":0},{"$f":"IFERROR($E257*SUMIF('Daily Log'!$BG$18:$BG$1017,$B257,'Daily Log'!$BH$18:$BH$1017),0)","v":0},{"$f":"IFERROR($E257*SUMIF('Daily Log'!$BJ$18:$BJ$1017,$B257,'Daily Log'!$BK$18:$BK$1017),0)","v":0},{"$f":"IFERROR($E257*SUMIF('Daily Log'!$BM$18:$BM$1017,$B257,'Daily Log'!$BN$18:$BN$1017),0)","v":0},{"$f":"IFERROR($E257*SUMIF('Daily Log'!$BP$18:$BP$1017,$B257,'Daily Log'!$BQ$18:$BQ$1017),0)","v":0},{"$f":"IFERROR($E257*SUMIF('Daily Log'!$BS$18:$BS$1017,$B257,'Daily Log'!$BT$18:$BT$1017),0)","v":0},{"$f":"IFERROR($E257*SUMIF('Daily Log'!$BV$18:$BV$1017,$B257,'Daily Log'!$BW$18:$BW$1017),0)","v":0},{"$f":"IFERROR($E257*SUMIF('Daily Log'!$BY$18:$BY$1017,$B257,'Daily Log'!$BZ$18:$BZ$1017),0)","v":0},{"$f":"IFERROR($E257*SUMIF('Daily Log'!$CB$18:$CB$1017,$B257,'Daily Log'!$CC$18:$CC$1017),0)","v":0},{"$f":"IFERROR($E257*SUMIF('Daily Log'!$CE$18:$CE$1017,$B257,'Daily Log'!$CF$18:$CF$1017),0)","v":0},{"$f":"IFERROR($E257*SUMIF('Daily Log'!$CH$18:$CH$1017,$B257,'Daily Log'!$CI$18:$CI$1017),0)","v":0},{"$f":"IFERROR($E257*SUMIF('Daily Log'!$CK$18:$CK$1017,$B257,'Daily Log'!$CL$18:$CL$1017),0)","v":0},{"$f":"IFERROR($E257*SUMIF('Daily Log'!$CN$18:$CN$1017,$B257,'Daily Log'!$CO$18:$CO$1017),0)","v":0}]
[null,"DH06 91106:HK F.RICE",null,"KLKD-LOCAL DELIGHTS",1,0,{"$f":"IFERROR($E258*SUMIF('Daily Log'!$B$18:$B$1017,$B258,'Daily Log'!$C$18:$C$1017),0)","v":0},{"$f":"IFERROR($E258*SUMIF('Daily Log'!$E$18:$E$1017,$B258,'Daily Log'!$F$18:$F$1017),0)","v":0},{"$f":"IFERROR($E258*SUMIF('Daily Log'!$H$18:$H$1017,$B258,'Daily Log'!$I$18:$I$1017),0)","v":0},{"$f":"IFERROR($E258*SUMIF('Daily Log'!$K$18:$K$1017,$B258,'Daily Log'!$L$18:$L$1017),0)","v":0},{"$f":"IFERROR($E258*SUMIF('Daily Log'!$N$18:$N$1017,$B258,'Daily Log'!$O$18:$O$1017),0)","v":0},{"$f":"IFERROR($E258*SUMIF('Daily Log'!$Q$18:$Q$1017,$B258,'Daily Log'!$R$18:$R$1017),0)","v":0},{"$f":"IFERROR($E258*SUMIF('Daily Log'!$T$18:$T$1017,$B258,'Daily Log'!$U$18:$U$1017),0)","v":0},{"$f":"IFERROR($E258*SUMIF('Daily Log'!$W$18:$W$1017,$B258,'Daily Log'!$X$18:$X$1017),0)","v":0},{"$f":"IFERROR($E258*SUMIF('Daily Log'!$Z$18:$Z$1017,$B258,'Daily Log'!$AA$18:$AA$1017),0)","v":0},{"$f":"IFERROR($E258*SUMIF('Daily Log'!$AC$18:$AC$1017,$B258,'Daily Log'!$AD$18:$AD$1017),0)","v":0},{"$f":"IFERROR($E258*SUMIF('Daily Log'!$AF$18:$AF$1017,$B258,'Daily Log'!$AG$18:$AG$1017),0)","v":0},{"$f":"IFERROR($E258*SUMIF('Daily Log'!$AI$18:$AI$1017,$B258,'Daily Log'!$AJ$18:$AJ$1017),0)","v":0},{"$f":"IFERROR($E258*SUMIF('Daily Log'!$AL$18:$AL$1017,$B258,'Daily Log'!$AM$18:$AM$1017),0)","v":0},{"$f":"IFERROR($E258*SUMIF('Daily Log'!$AO$18:$AO$1017,$B258,'Daily Log'!$AP$18:$AP$1017),0)","v":0},{"$f":"IFERROR($E258*SUMIF('Daily Log'!$AR$18:$AR$1017,$B258,'Daily Log'!$AS$18:$AS$1017),0)","v":0},{"$f":"IFERROR($E258*SUMIF('Daily Log'!$AU$18:$AU$1017,$B258,'Daily Log'!$AV$18:$AV$1017),0)","v":0},{"$f":"IFERROR($E258*SUMIF('Daily Log'!$AX$18:$AX$1017,$B258,'Daily Log'!$AY$18:$AY$1017),0)","v":0},{"$f":"IFERROR($E258*SUMIF('Daily Log'!$BA$18:$BA$1017,$B258,'Daily Log'!$BB$18:$BB$1017),0)","v":0},{"$f":"IFERROR($E258*SUMIF('Daily Log'!$BD$18:$BD$1017,$B258,'Daily Log'!$BE$18:$BE$1017),0)","v":0},{"$f":"IFERROR($E258*SUMIF('Daily Log'!$BG$18:$BG$1017,$B258,'Daily Log'!$BH$18:$BH$1017),0)","v":0},{"$f":"IFERROR($E258*SUMIF('Daily Log'!$BJ$18:$BJ$1017,$B258,'Daily Log'!$BK$18:$BK$1017),0)","v":0},{"$f":"IFERROR($E258*SUMIF('Daily Log'!$BM$18:$BM$1017,$B258,'Daily Log'!$BN$18:$BN$1017),0)","v":0},{"$f":"IFERROR($E258*SUMIF('Daily Log'!$BP$18:$BP$1017,$B258,'Daily Log'!$BQ$18:$BQ$1017),0)","v":0},{"$f":"IFERROR($E258*SUMIF('Daily Log'!$BS$18:$BS$1017,$B258,'Daily Log'!$BT$18:$BT$1017),0)","v":0},{"$f":"IFERROR($E258*SUMIF('Daily Log'!$BV$18:$BV$1017,$B258,'Daily Log'!$BW$18:$BW$1017),0)","v":0},{"$f":"IFERROR($E258*SUMIF('Daily Log'!$BY$18:$BY$1017,$B258,'Daily Log'!$BZ$18:$BZ$1017),0)","v":0},{"$f":"IFERROR($E258*SUMIF('Daily Log'!$CB$18:$CB$1017,$B258,'Daily Log'!$CC$18:$CC$1017),0)","v":0},{"$f":"IFERROR($E258*SUMIF('Daily Log'!$CE$18:$CE$1017,$B258,'Daily Log'!$CF$18:$CF$1017),0)","v":0},{"$f":"IFERROR($E258*SUMIF('Daily Log'!$CH$18:$CH$1017,$B258,'Daily Log'!$CI$18:$CI$1017),0)","v":0},{"$f":"IFERROR($E258*SUMIF('Daily Log'!$CK$18:$CK$1017,$B258,'Daily Log'!$CL$18:$CL$1017),0)","v":0},{"$f":"IFERROR($E258*SUMIF('Daily Log'!$CN$18:$CN$1017,$B258,'Daily Log'!$CO$18:$CO$1017),0)","v":0}]
[null,"DH07 91107:SBL F.RICE",null,"KLKD-LOCAL DELIGHTS",1,0,{"$f":"IFERROR($E259*SUMIF('Daily Log'!$B$18:$B$1017,$B259,'Daily Log'!$C$18:$C$1017),0)","v":0},{"$f":"IFERROR($E259*SUMIF('Daily Log'!$E$18:$E$1017,$B259,'Daily Log'!$F$18:$F$1017),0)","v":0},{"$f":"IFERROR($E259*SUMIF('Daily Log'!$H$18:$H$1017,$B259,'Daily Log'!$I$18:$I$1017),0)","v":0},{"$f":"IFERROR($E259*SUMIF('Daily Log'!$K$18:$K$1017,$B259,'Daily Log'!$L$18:$L$1017),0)","v":0},{"$f":"IFERROR($E259*SUMIF('Daily Log'!$N$18:$N$1017,$B259,'Daily Log'!$O$18:$O$1017),0)","v":0},{"$f":"IFERROR($E259*SUMIF('Daily Log'!$Q$18:$Q$1017,$B259,'Daily Log'!$R$18:$R$1017),0)","v":0},{"$f":"IFERROR($E259*SUMIF('Daily Log'!$T$18:$T$1017,$B259,'Daily Log'!$U$18:$U$1017),0)","v":0},{"$f":"IFERROR($E259*SUMIF('Daily Log'!$W$18:$W$1017,$B259,'Daily Log'!$X$18:$X$1017),0)","v":0},{"$f":"IFERROR($E259*SUMIF('Daily Log'!$Z$18:$Z$1017,$B259,'Daily Log'!$AA$18:$AA$1017),0)","v":0},{"$f":"IFERROR($E259*SUMIF('Daily Log'!$AC$18:$AC$1017,$B259,'Daily Log'!$AD$18:$AD$1017),0)","v":0},{"$f":"IFERROR($E259*SUMIF('Daily Log'!$AF$18:$AF$1017,$B259,'Daily Log'!$AG$18:$AG$1017),0)","v":0},{"$f":"IFERROR($E259*SUMIF('Daily Log'!$AI$18:$AI$1017,$B259,'Daily Log'!$AJ$18:$AJ$1017),0)","v":0},{"$f":"IFERROR($E259*SUMIF('Daily Log'!$AL$18:$AL$1017,$B259,'Daily Log'!$AM$18:$AM$1017),0)","v":0},{"$f":"IFERROR($E259*SUMIF('Daily Log'!$AO$18:$AO$1017,$B259,'Daily Log'!$AP$18:$AP$1017),0)","v":0},{"$f":"IFERROR($E259*SUMIF('Daily Log'!$AR$18:$AR$1017,$B259,'Daily Log'!$AS$18:$AS$1017),0)","v":0},{"$f":"IFERROR($E259*SUMIF('Daily Log'!$AU$18:$AU$1017,$B259,'Daily Log'!$AV$18:$AV$1017),0)","v":0},{"$f":"IFERROR($E259*SUMIF('Daily Log'!$AX$18:$AX$1017,$B259,'Daily Log'!$AY$18:$AY$1017),0)","v":0},{"$f":"IFERROR($E259*SUMIF('Daily Log'!$BA$18:$BA$1017,$B259,'Daily Log'!$BB$18:$BB$1017),0)","v":0},{"$f":"IFERROR($E259*SUMIF('Daily Log'!$BD$18:$BD$1017,$B259,'Daily Log'!$BE$18:$BE$1017),0)","v":0},{"$f":"IFERROR($E259*SUMIF('Daily Log'!$BG$18:$BG$1017,$B259,'Daily Log'!$BH$18:$BH$1017),0)","v":0},{"$f":"IFERROR($E259*SUMIF('Daily Log'!$BJ$18:$BJ$1017,$B259,'Daily Log'!$BK$18:$BK$1017),0)","v":0},{"$f":"IFERROR($E259*SUMIF('Daily Log'!$BM$18:$BM$1017,$B259,'Daily Log'!$BN$18:$BN$1017),0)","v":0},{"$f":"IFERROR($E259*SUMIF('Daily Log'!$BP$18:$BP$1017,$B259,'Daily Log'!$BQ$18:$BQ$1017),0)","v":0},{"$f":"IFERROR($E259*SUMIF('Daily Log'!$BS$18:$BS$1017,$B259,'Daily Log'!$BT$18:$BT$1017),0)","v":0},{"$f":"IFERROR($E259*SUMIF('Daily Log'!$BV$18:$BV$1017,$B259,'Daily Log'!$BW$18:$BW$1017),0)","v":0},{"$f":"IFERROR($E259*SUMIF('Daily Log'!$BY$18:$BY$1017,$B259,'Daily Log'!$BZ$18:$BZ$1017),0)","v":0},{"$f":"IFERROR($E259*SUMIF('Daily Log'!$CB$18:$CB$1017,$B259,'Daily Log'!$CC$18:$CC$1017),0)","v":0},{"$f":"IFERROR($E259*SUMIF('Daily Log'!$CE$18:$CE$1017,$B259,'Daily Log'!$CF$18:$CF$1017),0)","v":0},{"$f":"IFERROR($E259*SUMIF('Daily Log'!$CH$18:$CH$1017,$B259,'Daily Log'!$CI$18:$CI$1017),0)","v":0},{"$f":"IFERROR($E259*SUMIF('Daily Log'!$CK$18:$CK$1017,$B259,'Daily Log'!$CL$18:$CL$1017),0)","v":0},{"$f":"IFERROR($E259*SUMIF('Daily Log'!$CN$18:$CN$1017,$B259,'Daily Log'!$CO$18:$CO$1017),0)","v":0}]
[null,"DH08 91108:SBL F.MEE",null,"KLKD-LOCAL DELIGHTS",1,0,{"$f":"IFERROR($E260*SUMIF('Daily Log'!$B$18:$B$1017,$B260,'Daily Log'!$C$18:$C$1017),0)","v":0},{"$f":"IFERROR($E260*SUMIF('Daily Log'!$E$18:$E$1017,$B260,'Daily Log'!$F$18:$F$1017),0)","v":0},{"$f":"IFERROR($E260*SUMIF('Daily Log'!$H$18:$H$1017,$B260,'Daily Log'!$I$18:$I$1017),0)","v":0},{"$f":"IFERROR($E260*SUMIF('Daily Log'!$K$18:$K$1017,$B260,'Daily Log'!$L$18:$L$1017),0)","v":0},{"$f":"IFERROR($E260*SUMIF('Daily Log'!$N$18:$N$1017,$B260,'Daily Log'!$O$18:$O$1017),0)","v":0},{"$f":"IFERROR($E260*SUMIF('Daily Log'!$Q$18:$Q$1017,$B260,'Daily Log'!$R$18:$R$1017),0)","v":0},{"$f":"IFERROR($E260*SUMIF('Daily Log'!$T$18:$T$1017,$B260,'Daily Log'!$U$18:$U$1017),0)","v":0},{"$f":"IFERROR($E260*SUMIF('Daily Log'!$W$18:$W$1017,$B260,'Daily Log'!$X$18:$X$1017),0)","v":0},{"$f":"IFERROR($E260*SUMIF('Daily Log'!$Z$18:$Z$1017,$B260,'Daily Log'!$AA$18:$AA$1017),0)","v":0},{"$f":"IFERROR($E260*SUMIF('Daily Log'!$AC$18:$AC$1017,$B260,'Daily Log'!$AD$18:$AD$1017),0)","v":0},{"$f":"IFERROR($E260*SUMIF('Daily Log'!$AF$18:$AF$1017,$B260,'Daily Log'!$AG$18:$AG$1017),0)","v":0},{"$f":"IFERROR($E260*SUMIF('Daily Log'!$AI$18:$AI$1017,$B260,'Daily Log'!$AJ$18:$AJ$1017),0)","v":0},{"$f":"IFERROR($E260*SUMIF('Daily Log'!$AL$18:$AL$1017,$B260,'Daily Log'!$AM$18:$AM$1017),0)","v":0},{"$f":"IFERROR($E260*SUMIF('Daily Log'!$AO$18:$AO$1017,$B260,'Daily Log'!$AP$18:$AP$1017),0)","v":0},{"$f":"IFERROR($E260*SUMIF('Daily Log'!$AR$18:$AR$1017,$B260,'Daily Log'!$AS$18:$AS$1017),0)","v":0},{"$f":"IFERROR($E260*SUMIF('Daily Log'!$AU$18:$AU$1017,$B260,'Daily Log'!$AV$18:$AV$1017),0)","v":0},{"$f":"IFERROR($E260*SUMIF('Daily Log'!$AX$18:$AX$1017,$B260,'Daily Log'!$AY$18:$AY$1017),0)","v":0},{"$f":"IFERROR($E260*SUMIF('Daily Log'!$BA$18:$BA$1017,$B260,'Daily Log'!$BB$18:$BB$1017),0)","v":0},{"$f":"IFERROR($E260*SUMIF('Daily Log'!$BD$18:$BD$1017,$B260,'Daily Log'!$BE$18:$BE$1017),0)","v":0},{"$f":"IFERROR($E260*SUMIF('Daily Log'!$BG$18:$BG$1017,$B260,'Daily Log'!$BH$18:$BH$1017),0)","v":0},{"$f":"IFERROR($E260*SUMIF('Daily Log'!$BJ$18:$BJ$1017,$B260,'Daily Log'!$BK$18:$BK$1017),0)","v":0},{"$f":"IFERROR($E260*SUMIF('Daily Log'!$BM$18:$BM$1017,$B260,'Daily Log'!$BN$18:$BN$1017),0)","v":0},{"$f":"IFERROR($E260*SUMIF('Daily Log'!$BP$18:$BP$1017,$B260,'Daily Log'!$BQ$18:$BQ$1017),0)","v":0},{"$f":"IFERROR($E260*SUMIF('Daily Log'!$BS$18:$BS$1017,$B260,'Daily Log'!$BT$18:$BT$1017),0)","v":0},{"$f":"IFERROR($E260*SUMIF('Daily Log'!$BV$18:$BV$1017,$B260,'Daily Log'!$BW$18:$BW$1017),0)","v":0},{"$f":"IFERROR($E260*SUMIF('Daily Log'!$BY$18:$BY$1017,$B260,'Daily Log'!$BZ$18:$BZ$1017),0)","v":0},{"$f":"IFERROR($E260*SUMIF('Daily Log'!$CB$18:$CB$1017,$B260,'Daily Log'!$CC$18:$CC$1017),0)","v":0},{"$f":"IFERROR($E260*SUMIF('Daily Log'!$CE$18:$CE$1017,$B260,'Daily Log'!$CF$18:$CF$1017),0)","v":0},{"$f":"IFERROR($E260*SUMIF('Daily Log'!$CH$18:$CH$1017,$B260,'Daily Log'!$CI$18:$CI$1017),0)","v":0},{"$f":"IFERROR($E260*SUMIF('Daily Log'!$CK$18:$CK$1017,$B260,'Daily Log'!$CL$18:$CL$1017),0)","v":0},{"$f":"IFERROR($E260*SUMIF('Daily Log'!$CN$18:$CN$1017,$B260,'Daily Log'!$CO$18:$CO$1017),0)","v":0}]
[null,"DH09 91109:BP UDON",null,"KLKD-LOCAL DELIGHTS",1,0,{"$f":"IFERROR($E261*SUMIF('Daily Log'!$B$18:$B$1017,$B261,'Daily Log'!$C$18:$C$1017),0)","v":0},{"$f":"IFERROR($E261*SUMIF('Daily Log'!$E$18:$E$1017,$B261,'Daily Log'!$F$18:$F$1017),0)","v":0},{"$f":"IFERROR($E261*SUMIF('Daily Log'!$H$18:$H$1017,$B261,'Daily Log'!$I$18:$I$1017),0)","v":0},{"$f":"IFERROR($E261*SUMIF('Daily Log'!$K$18:$K$1017,$B261,'Daily Log'!$L$18:$L$1017),0)","v":0},{"$f":"IFERROR($E261*SUMIF('Daily Log'!$N$18:$N$1017,$B261,'Daily Log'!$O$18:$O$1017),0)","v":0},{"$f":"IFERROR($E261*SUMIF('Daily Log'!$Q$18:$Q$1017,$B261,'Daily Log'!$R$18:$R$1017),0)","v":0},{"$f":"IFERROR($E261*SUMIF('Daily Log'!$T$18:$T$1017,$B261,'Daily Log'!$U$18:$U$1017),0)","v":0},{"$f":"IFERROR($E261*SUMIF('Daily Log'!$W$18:$W$1017,$B261,'Daily Log'!$X$18:$X$1017),0)","v":0},{"$f":"IFERROR($E261*SUMIF('Daily Log'!$Z$18:$Z$1017,$B261,'Daily Log'!$AA$18:$AA$1017),0)","v":0},{"$f":"IFERROR($E261*SUMIF('Daily Log'!$AC$18:$AC$1017,$B261,'Daily Log'!$AD$18:$AD$1017),0)","v":0},{"$f":"IFERROR($E261*SUMIF('Daily Log'!$AF$18:$AF$1017,$B261,'Daily Log'!$AG$18:$AG$1017),0)","v":0},{"$f":"IFERROR($E261*SUMIF('Daily Log'!$AI$18:$AI$1017,$B261,'Daily Log'!$AJ$18:$AJ$1017),0)","v":0},{"$f":"IFERROR($E261*SUMIF('Daily Log'!$AL$18:$AL$1017,$B261,'Daily Log'!$AM$18:$AM$1017),0)","v":0},{"$f":"IFERROR($E261*SUMIF('Daily Log'!$AO$18:$AO$1017,$B261,'Daily Log'!$AP$18:$AP$1017),0)","v":0},{"$f":"IFERROR($E261*SUMIF('Daily Log'!$AR$18:$AR$1017,$B261,'Daily Log'!$AS$18:$AS$1017),0)","v":0},{"$f":"IFERROR($E261*SUMIF('Daily Log'!$AU$18:$AU$1017,$B261,'Daily Log'!$AV$18:$AV$1017),0)","v":0},{"$f":"IFERROR($E261*SUMIF('Daily Log'!$AX$18:$AX$1017,$B261,'Daily Log'!$AY$18:$AY$1017),0)","v":0},{"$f":"IFERROR($E261*SUMIF('Daily Log'!$BA$18:$BA$1017,$B261,'Daily Log'!$BB$18:$BB$1017),0)","v":0},{"$f":"IFERROR($E261*SUMIF('Daily Log'!$BD$18:$BD$1017,$B261,'Daily Log'!$BE$18:$BE$1017),0)","v":0},{"$f":"IFERROR($E261*SUMIF('Daily Log'!$BG$18:$BG$1017,$B261,'Daily Log'!$BH$18:$BH$1017),0)","v":0},{"$f":"IFERROR($E261*SUMIF('Daily Log'!$BJ$18:$BJ$1017,$B261,'Daily Log'!$BK$18:$BK$1017),0)","v":0},{"$f":"IFERROR($E261*SUMIF('Daily Log'!$BM$18:$BM$1017,$B261,'Daily Log'!$BN$18:$BN$1017),0)","v":0},{"$f":"IFERROR($E261*SUMIF('Daily Log'!$BP$18:$BP$1017,$B261,'Daily Log'!$BQ$18:$BQ$1017),0)","v":0},{"$f":"IFERROR($E261*SUMIF('Daily Log'!$BS$18:$BS$1017,$B261,'Daily Log'!$BT$18:$BT$1017),0)","v":0},{"$f":"IFERROR($E261*SUMIF('Daily Log'!$BV$18:$BV$1017,$B261,'Daily Log'!$BW$18:$BW$1017),0)","v":0},{"$f":"IFERROR($E261*SUMIF('Daily Log'!$BY$18:$BY$1017,$B261,'Daily Log'!$BZ$18:$BZ$1017),0)","v":0},{"$f":"IFERROR($E261*SUMIF('Daily Log'!$CB$18:$CB$1017,$B261,'Daily Log'!$CC$18:$CC$1017),0)","v":0},{"$f":"IFERROR($E261*SUMIF('Daily Log'!$CE$18:$CE$1017,$B261,'Daily Log'!$CF$18:$CF$1017),0)","v":0},{"$f":"IFERROR($E261*SUMIF('Daily Log'!$CH$18:$CH$1017,$B261,'Daily Log'!$CI$18:$CI$1017),0)","v":0},{"$f":"IFERROR($E261*SUMIF('Daily Log'!$CK$18:$CK$1017,$B261,'Daily Log'!$CL$18:$CL$1017),0)","v":0},{"$f":"IFERROR($E261*SUMIF('Daily Log'!$CN$18:$CN$1017,$B261,'Daily Log'!$CO$18:$CO$1017),0)","v":0}]
[null,"DH10 91110:NISSIN",null,"KLKD-LOCAL DELIGHTS",1,0,{"$f":"IFERROR($E262*SUMIF('Daily Log'!$B$18:$B$1017,$B262,'Daily Log'!$C$18:$C$1017),0)","v":0},{"$f":"IFERROR($E262*SUMIF('Daily Log'!$E$18:$E$1017,$B262,'Daily Log'!$F$18:$F$1017),0)","v":0},{"$f":"IFERROR($E262*SUMIF('Daily Log'!$H$18:$H$1017,$B262,'Daily Log'!$I$18:$I$1017),0)","v":0},{"$f":"IFERROR($E262*SUMIF('Daily Log'!$K$18:$K$1017,$B262,'Daily Log'!$L$18:$L$1017),0)","v":0},{"$f":"IFERROR($E262*SUMIF('Daily Log'!$N$18:$N$1017,$B262,'Daily Log'!$O$18:$O$1017),0)","v":0},{"$f":"IFERROR($E262*SUMIF('Daily Log'!$Q$18:$Q$1017,$B262,'Daily Log'!$R$18:$R$1017),0)","v":0},{"$f":"IFERROR($E262*SUMIF('Daily Log'!$T$18:$T$1017,$B262,'Daily Log'!$U$18:$U$1017),0)","v":0},{"$f":"IFERROR($E262*SUMIF('Daily Log'!$W$18:$W$1017,$B262,'Daily Log'!$X$18:$X$1017),0)","v":0},{"$f":"IFERROR($E262*SUMIF('Daily Log'!$Z$18:$Z$1017,$B262,'Daily Log'!$AA$18:$AA$1017),0)","v":0},{"$f":"IFERROR($E262*SUMIF('Daily Log'!$AC$18:$AC$1017,$B262,'Daily Log'!$AD$18:$AD$1017),0)","v":0},{"$f":"IFERROR($E262*SUMIF('Daily Log'!$AF$18:$AF$1017,$B262,'Daily Log'!$AG$18:$AG$1017),0)","v":0},{"$f":"IFERROR($E262*SUMIF('Daily Log'!$AI$18:$AI$1017,$B262,'Daily Log'!$AJ$18:$AJ$1017),0)","v":0},{"$f":"IFERROR($E262*SUMIF('Daily Log'!$AL$18:$AL$1017,$B262,'Daily Log'!$AM$18:$AM$1017),0)","v":0},{"$f":"IFERROR($E262*SUMIF('Daily Log'!$AO$18:$AO$1017,$B262,'Daily Log'!$AP$18:$AP$1017),0)","v":0},{"$f":"IFERROR($E262*SUMIF('Daily Log'!$AR$18:$AR$1017,$B262,'Daily Log'!$AS$18:$AS$1017),0)","v":0},{"$f":"IFERROR($E262*SUMIF('Daily Log'!$AU$18:$AU$1017,$B262,'Daily Log'!$AV$18:$AV$1017),0)","v":0},{"$f":"IFERROR($E262*SUMIF('Daily Log'!$AX$18:$AX$1017,$B262,'Daily Log'!$AY$18:$AY$1017),0)","v":0},{"$f":"IFERROR($E262*SUMIF('Daily Log'!$BA$18:$BA$1017,$B262,'Daily Log'!$BB$18:$BB$1017),0)","v":0},{"$f":"IFERROR($E262*SUMIF('Daily Log'!$BD$18:$BD$1017,$B262,'Daily Log'!$BE$18:$BE$1017),0)","v":0},{"$f":"IFERROR($E262*SUMIF('Daily Log'!$BG$18:$BG$1017,$B262,'Daily Log'!$BH$18:$BH$1017),0)","v":0},{"$f":"IFERROR($E262*SUMIF('Daily Log'!$BJ$18:$BJ$1017,$B262,'Daily Log'!$BK$18:$BK$1017),0)","v":0},{"$f":"IFERROR($E262*SUMIF('Daily Log'!$BM$18:$BM$1017,$B262,'Daily Log'!$BN$18:$BN$1017),0)","v":0},{"$f":"IFERROR($E262*SUMIF('Daily Log'!$BP$18:$BP$1017,$B262,'Daily Log'!$BQ$18:$BQ$1017),0)","v":0},{"$f":"IFERROR($E262*SUMIF('Daily Log'!$BS$18:$BS$1017,$B262,'Daily Log'!$BT$18:$BT$1017),0)","v":0},{"$f":"IFERROR($E262*SUMIF('Daily Log'!$BV$18:$BV$1017,$B262,'Daily Log'!$BW$18:$BW$1017),0)","v":0},{"$f":"IFERROR($E262*SUMIF('Daily Log'!$BY$18:$BY$1017,$B262,'Daily Log'!$BZ$18:$BZ$1017),0)","v":0},{"$f":"IFERROR($E262*SUMIF('Daily Log'!$CB$18:$CB$1017,$B262,'Daily Log'!$CC$18:$CC$1017),0)","v":0},{"$f":"IFERROR($E262*SUMIF('Daily Log'!$CE$18:$CE$1017,$B262,'Daily Log'!$CF$18:$CF$1017),0)","v":0},{"$f":"IFERROR($E262*SUMIF('Daily Log'!$CH$18:$CH$1017,$B262,'Daily Log'!$CI$18:$CI$1017),0)","v":0},{"$f":"IFERROR($E262*SUMIF('Daily Log'!$CK$18:$CK$1017,$B262,'Daily Log'!$CL$18:$CL$1017),0)","v":0},{"$f":"IFERROR($E262*SUMIF('Daily Log'!$CN$18:$CN$1017,$B262,'Daily Log'!$CO$18:$CO$1017),0)","v":0}]
[null,"DH11 91111:VEG RICE",null,"KLKD-LOCAL DELIGHTS",1,0,{"$f":"IFERROR($E263*SUMIF('Daily Log'!$B$18:$B$1017,$B263,'Daily Log'!$C$18:$C$1017),0)","v":0},{"$f":"IFERROR($E263*SUMIF('Daily Log'!$E$18:$E$1017,$B263,'Daily Log'!$F$18:$F$1017),0)","v":0},{"$f":"IFERROR($E263*SUMIF('Daily Log'!$H$18:$H$1017,$B263,'Daily Log'!$I$18:$I$1017),0)","v":0},{"$f":"IFERROR($E263*SUMIF('Daily Log'!$K$18:$K$1017,$B263,'Daily Log'!$L$18:$L$1017),0)","v":0},{"$f":"IFERROR($E263*SUMIF('Daily Log'!$N$18:$N$1017,$B263,'Daily Log'!$O$18:$O$1017),0)","v":0},{"$f":"IFERROR($E263*SUMIF('Daily Log'!$Q$18:$Q$1017,$B263,'Daily Log'!$R$18:$R$1017),0)","v":0},{"$f":"IFERROR($E263*SUMIF('Daily Log'!$T$18:$T$1017,$B263,'Daily Log'!$U$18:$U$1017),0)","v":0},{"$f":"IFERROR($E263*SUMIF('Daily Log'!$W$18:$W$1017,$B263,'Daily Log'!$X$18:$X$1017),0)","v":0},{"$f":"IFERROR($E263*SUMIF('Daily Log'!$Z$18:$Z$1017,$B263,'Daily Log'!$AA$18:$AA$1017),0)","v":0},{"$f":"IFERROR($E263*SUMIF('Daily Log'!$AC$18:$AC$1017,$B263,'Daily Log'!$AD$18:$AD$1017),0)","v":0},{"$f":"IFERROR($E263*SUMIF('Daily Log'!$AF$18:$AF$1017,$B263,'Daily Log'!$AG$18:$AG$1017),0)","v":0},{"$f":"IFERROR($E263*SUMIF('Daily Log'!$AI$18:$AI$1017,$B263,'Daily Log'!$AJ$18:$AJ$1017),0)","v":0},{"$f":"IFERROR($E263*SUMIF('Daily Log'!$AL$18:$AL$1017,$B263,'Daily Log'!$AM$18:$AM$1017),0)","v":0},{"$f":"IFERROR($E263*SUMIF('Daily Log'!$AO$18:$AO$1017,$B263,'Daily Log'!$AP$18:$AP$1017),0)","v":0},{"$f":"IFERROR($E263*SUMIF('Daily Log'!$AR$18:$AR$1017,$B263,'Daily Log'!$AS$18:$AS$1017),0)","v":0},{"$f":"IFERROR($E263*SUMIF('Daily Log'!$AU$18:$AU$1017,$B263,'Daily Log'!$AV$18:$AV$1017),0)","v":0},{"$f":"IFERROR($E263*SUMIF('Daily Log'!$AX$18:$AX$1017,$B263,'Daily Log'!$AY$18:$AY$1017),0)","v":0},{"$f":"IFERROR($E263*SUMIF('Daily Log'!$BA$18:$BA$1017,$B263,'Daily Log'!$BB$18:$BB$1017),0)","v":0},{"$f":"IFERROR($E263*SUMIF('Daily Log'!$BD$18:$BD$1017,$B263,'Daily Log'!$BE$18:$BE$1017),0)","v":0},{"$f":"IFERROR($E263*SUMIF('Daily Log'!$BG$18:$BG$1017,$B263,'Daily Log'!$BH$18:$BH$1017),0)","v":0},{"$f":"IFERROR($E263*SUMIF('Daily Log'!$BJ$18:$BJ$1017,$B263,'Daily Log'!$BK$18:$BK$1017),0)","v":0},{"$f":"IFERROR($E263*SUMIF('Daily Log'!$BM$18:$BM$1017,$B263,'Daily Log'!$BN$18:$BN$1017),0)","v":0},{"$f":"IFERROR($E263*SUMIF('Daily Log'!$BP$18:$BP$1017,$B263,'Daily Log'!$BQ$18:$BQ$1017),0)","v":0},{"$f":"IFERROR($E263*SUMIF('Daily Log'!$BS$18:$BS$1017,$B263,'Daily Log'!$BT$18:$BT$1017),0)","v":0},{"$f":"IFERROR($E263*SUMIF('Daily Log'!$BV$18:$BV$1017,$B263,'Daily Log'!$BW$18:$BW$1017),0)","v":0},{"$f":"IFERROR($E263*SUMIF('Daily Log'!$BY$18:$BY$1017,$B263,'Daily Log'!$BZ$18:$BZ$1017),0)","v":0},{"$f":"IFERROR($E263*SUMIF('Daily Log'!$CB$18:$CB$1017,$B263,'Daily Log'!$CC$18:$CC$1017),0)","v":0},{"$f":"IFERROR($E263*SUMIF('Daily Log'!$CE$18:$CE$1017,$B263,'Daily Log'!$CF$18:$CF$1017),0)","v":0},{"$f":"IFERROR($E263*SUMIF('Daily Log'!$CH$18:$CH$1017,$B263,'Daily Log'!$CI$18:$CI$1017),0)","v":0},{"$f":"IFERROR($E263*SUMIF('Daily Log'!$CK$18:$CK$1017,$B263,'Daily Log'!$CL$18:$CL$1017),0)","v":0},{"$f":"IFERROR($E263*SUMIF('Daily Log'!$CN$18:$CN$1017,$B263,'Daily Log'!$CO$18:$CO$1017),0)","v":0}]
[null,"DH12 91112:NASI LEMAK",null,"KLKD-LOCAL DELIGHTS",1,0,{"$f":"IFERROR($E264*SUMIF('Daily Log'!$B$18:$B$1017,$B264,'Daily Log'!$C$18:$C$1017),0)","v":0},{"$f":"IFERROR($E264*SUMIF('Daily Log'!$E$18:$E$1017,$B264,'Daily Log'!$F$18:$F$1017),0)","v":0},{"$f":"IFERROR($E264*SUMIF('Daily Log'!$H$18:$H$1017,$B264,'Daily Log'!$I$18:$I$1017),0)","v":0},{"$f":"IFERROR($E264*SUMIF('Daily Log'!$K$18:$K$1017,$B264,'Daily Log'!$L$18:$L$1017),0)","v":0},{"$f":"IFERROR($E264*SUMIF('Daily Log'!$N$18:$N$1017,$B264,'Daily Log'!$O$18:$O$1017),0)","v":0},{"$f":"IFERROR($E264*SUMIF('Daily Log'!$Q$18:$Q$1017,$B264,'Daily Log'!$R$18:$R$1017),0)","v":0},{"$f":"IFERROR($E264*SUMIF('Daily Log'!$T$18:$T$1017,$B264,'Daily Log'!$U$18:$U$1017),0)","v":0},{"$f":"IFERROR($E264*SUMIF('Daily Log'!$W$18:$W$1017,$B264,'Daily Log'!$X$18:$X$1017),0)","v":0},{"$f":"IFERROR($E264*SUMIF('Daily Log'!$Z$18:$Z$1017,$B264,'Daily Log'!$AA$18:$AA$1017),0)","v":0},{"$f":"IFERROR($E264*SUMIF('Daily Log'!$AC$18:$AC$1017,$B264,'Daily Log'!$AD$18:$AD$1017),0)","v":0},{"$f":"IFERROR($E264*SUMIF('Daily Log'!$AF$18:$AF$1017,$B264,'Daily Log'!$AG$18:$AG$1017),0)","v":0},{"$f":"IFERROR($E264*SUMIF('Daily Log'!$AI$18:$AI$1017,$B264,'Daily Log'!$AJ$18:$AJ$1017),0)","v":0},{"$f":"IFERROR($E264*SUMIF('Daily Log'!$AL$18:$AL$1017,$B264,'Daily Log'!$AM$18:$AM$1017),0)","v":0},{"$f":"IFERROR($E264*SUMIF('Daily Log'!$AO$18:$AO$1017,$B264,'Daily Log'!$AP$18:$AP$1017),0)","v":0},{"$f":"IFERROR($E264*SUMIF('Daily Log'!$AR$18:$AR$1017,$B264,'Daily Log'!$AS$18:$AS$1017),0)","v":0},{"$f":"IFERROR($E264*SUMIF('Daily Log'!$AU$18:$AU$1017,$B264,'Daily Log'!$AV$18:$AV$1017),0)","v":0},{"$f":"IFERROR($E264*SUMIF('Daily Log'!$AX$18:$AX$1017,$B264,'Daily Log'!$AY$18:$AY$1017),0)","v":0},{"$f":"IFERROR($E264*SUMIF('Daily Log'!$BA$18:$BA$1017,$B264,'Daily Log'!$BB$18:$BB$1017),0)","v":0},{"$f":"IFERROR($E264*SUMIF('Daily Log'!$BD$18:$BD$1017,$B264,'Daily Log'!$BE$18:$BE$1017),0)","v":0},{"$f":"IFERROR($E264*SUMIF('Daily Log'!$BG$18:$BG$1017,$B264,'Daily Log'!$BH$18:$BH$1017),0)","v":0},{"$f":"IFERROR($E264*SUMIF('Daily Log'!$BJ$18:$BJ$1017,$B264,'Daily Log'!$BK$18:$BK$1017),0)","v":0},{"$f":"IFERROR($E264*SUMIF('Daily Log'!$BM$18:$BM$1017,$B264,'Daily Log'!$BN$18:$BN$1017),0)","v":0},{"$f":"IFERROR($E264*SUMIF('Daily Log'!$BP$18:$BP$1017,$B264,'Daily Log'!$BQ$18:$BQ$1017),0)","v":0},{"$f":"IFERROR($E264*SUMIF('Daily Log'!$BS$18:$BS$1017,$B264,'Daily Log'!$BT$18:$BT$1017),0)","v":0},{"$f":"IFERROR($E264*SUMIF('Daily Log'!$BV$18:$BV$1017,$B264,'Daily Log'!$BW$18:$BW$1017),0)","v":0},{"$f":"IFERROR($E264*SUMIF('Daily Log'!$BY$18:$BY$1017,$B264,'Daily Log'!$BZ$18:$BZ$1017),0)","v":0},{"$f":"IFERROR($E264*SUMIF('Daily Log'!$CB$18:$CB$1017,$B264,'Daily Log'!$CC$18:$CC$1017),0)","v":0},{"$f":"IFERROR($E264*SUMIF('Daily Log'!$CE$18:$CE$1017,$B264,'Daily Log'!$CF$18:$CF$1017),0)","v":0},{"$f":"IFERROR($E264*SUMIF('Daily Log'!$CH$18:$CH$1017,$B264,'Daily Log'!$CI$18:$CI$1017),0)","v":0},{"$f":"IFERROR($E264*SUMIF('Daily Log'!$CK$18:$CK$1017,$B264,'Daily Log'!$CL$18:$CL$1017),0)","v":0},{"$f":"IFERROR($E264*SUMIF('Daily Log'!$CN$18:$CN$1017,$B264,'Daily Log'!$CO$18:$CO$1017),0)","v":0}]
[null,"DH13 91113:KUEY TEOW",null,"KLKD-LOCAL DELIGHTS",1,0,{"$f":"IFERROR($E265*SUMIF('Daily Log'!$B$18:$B$1017,$B265,'Daily Log'!$C$18:$C$1017),0)","v":0},{"$f":"IFERROR($E265*SUMIF('Daily Log'!$E$18:$E$1017,$B265,'Daily Log'!$F$18:$F$1017),0)","v":0},{"$f":"IFERROR($E265*SUMIF('Daily Log'!$H$18:$H$1017,$B265,'Daily Log'!$I$18:$I$1017),0)","v":0},{"$f":"IFERROR($E265*SUMIF('Daily Log'!$K$18:$K$1017,$B265,'Daily Log'!$L$18:$L$1017),0)","v":0},{"$f":"IFERROR($E265*SUMIF('Daily Log'!$N$18:$N$1017,$B265,'Daily Log'!$O$18:$O$1017),0)","v":0},{"$f":"IFERROR($E265*SUMIF('Daily Log'!$Q$18:$Q$1017,$B265,'Daily Log'!$R$18:$R$1017),0)","v":0},{"$f":"IFERROR($E265*SUMIF('Daily Log'!$T$18:$T$1017,$B265,'Daily Log'!$U$18:$U$1017),0)","v":0},{"$f":"IFERROR($E265*SUMIF('Daily Log'!$W$18:$W$1017,$B265,'Daily Log'!$X$18:$X$1017),0)","v":0},{"$f":"IFERROR($E265*SUMIF('Daily Log'!$Z$18:$Z$1017,$B265,'Daily Log'!$AA$18:$AA$1017),0)","v":0},{"$f":"IFERROR($E265*SUMIF('Daily Log'!$AC$18:$AC$1017,$B265,'Daily Log'!$AD$18:$AD$1017),0)","v":0},{"$f":"IFERROR($E265*SUMIF('Daily Log'!$AF$18:$AF$1017,$B265,'Daily Log'!$AG$18:$AG$1017),0)","v":0},{"$f":"IFERROR($E265*SUMIF('Daily Log'!$AI$18:$AI$1017,$B265,'Daily Log'!$AJ$18:$AJ$1017),0)","v":0},{"$f":"IFERROR($E265*SUMIF('Daily Log'!$AL$18:$AL$1017,$B265,'Daily Log'!$AM$18:$AM$1017),0)","v":0},{"$f":"IFERROR($E265*SUMIF('Daily Log'!$AO$18:$AO$1017,$B265,'Daily Log'!$AP$18:$AP$1017),0)","v":0},{"$f":"IFERROR($E265*SUMIF('Daily Log'!$AR$18:$AR$1017,$B265,'Daily Log'!$AS$18:$AS$1017),0)","v":0},{"$f":"IFERROR($E265*SUMIF('Daily Log'!$AU$18:$AU$1017,$B265,'Daily Log'!$AV$18:$AV$1017),0)","v":0},{"$f":"IFERROR($E265*SUMIF('Daily Log'!$AX$18:$AX$1017,$B265,'Daily Log'!$AY$18:$AY$1017),0)","v":0},{"$f":"IFERROR($E265*SUMIF('Daily Log'!$BA$18:$BA$1017,$B265,'Daily Log'!$BB$18:$BB$1017),0)","v":0},{"$f":"IFERROR($E265*SUMIF('Daily Log'!$BD$18:$BD$1017,$B265,'Daily Log'!$BE$18:$BE$1017),0)","v":0},{"$f":"IFERROR($E265*SUMIF('Daily Log'!$BG$18:$BG$1017,$B265,'Daily Log'!$BH$18:$BH$1017),0)","v":0},{"$f":"IFERROR($E265*SUMIF('Daily Log'!$BJ$18:$BJ$1017,$B265,'Daily Log'!$BK$18:$BK$1017),0)","v":0},{"$f":"IFERROR($E265*SUMIF('Daily Log'!$BM$18:$BM$1017,$B265,'Daily Log'!$BN$18:$BN$1017),0)","v":0},{"$f":"IFERROR($E265*SUMIF('Daily Log'!$BP$18:$BP$1017,$B265,'Daily Log'!$BQ$18:$BQ$1017),0)","v":0},{"$f":"IFERROR($E265*SUMIF('Daily Log'!$BS$18:$BS$1017,$B265,'Daily Log'!$BT$18:$BT$1017),0)","v":0},{"$f":"IFERROR($E265*SUMIF('Daily Log'!$BV$18:$BV$1017,$B265,'Daily Log'!$BW$18:$BW$1017),0)","v":0},{"$f":"IFERROR($E265*SUMIF('Daily Log'!$BY$18:$BY$1017,$B265,'Daily Log'!$BZ$18:$BZ$1017),0)","v":0},{"$f":"IFERROR($E265*SUMIF('Daily Log'!$CB$18:$CB$1017,$B265,'Daily Log'!$CC$18:$CC$1017),0)","v":0},{"$f":"IFERROR($E265*SUMIF('Daily Log'!$CE$18:$CE$1017,$B265,'Daily Log'!$CF$18:$CF$1017),0)","v":0},{"$f":"IFERROR($E265*SUMIF('Daily Log'!$CH$18:$CH$1017,$B265,'Daily Log'!$CI$18:$CI$1017),0)","v":0},{"$f":"IFERROR($E265*SUMIF('Daily Log'!$CK$18:$CK$1017,$B265,'Daily Log'!$CL$18:$CL$1017),0)","v":0},{"$f":"IFERROR($E265*SUMIF('Daily Log'!$CN$18:$CN$1017,$B265,'Daily Log'!$CO$18:$CO$1017),0)","v":0}]
[null,"DH14 91114:F.BALL MEE",null,"KLKD-LOCAL DELIGHTS",1,0,{"$f":"IFERROR($E266*SUMIF('Daily Log'!$B$18:$B$1017,$B266,'Daily Log'!$C$18:$C$1017),0)","v":0},{"$f":"IFERROR($E266*SUMIF('Daily Log'!$E$18:$E$1017,$B266,'Daily Log'!$F$18:$F$1017),0)","v":0},{"$f":"IFERROR($E266*SUMIF('Daily Log'!$H$18:$H$1017,$B266,'Daily Log'!$I$18:$I$1017),0)","v":0},{"$f":"IFERROR($E266*SUMIF('Daily Log'!$K$18:$K$1017,$B266,'Daily Log'!$L$18:$L$1017),0)","v":0},{"$f":"IFERROR($E266*SUMIF('Daily Log'!$N$18:$N$1017,$B266,'Daily Log'!$O$18:$O$1017),0)","v":0},{"$f":"IFERROR($E266*SUMIF('Daily Log'!$Q$18:$Q$1017,$B266,'Daily Log'!$R$18:$R$1017),0)","v":0},{"$f":"IFERROR($E266*SUMIF('Daily Log'!$T$18:$T$1017,$B266,'Daily Log'!$U$18:$U$1017),0)","v":0},{"$f":"IFERROR($E266*SUMIF('Daily Log'!$W$18:$W$1017,$B266,'Daily Log'!$X$18:$X$1017),0)","v":0},{"$f":"IFERROR($E266*SUMIF('Daily Log'!$Z$18:$Z$1017,$B266,'Daily Log'!$AA$18:$AA$1017),0)","v":0},{"$f":"IFERROR($E266*SUMIF('Daily Log'!$AC$18:$AC$1017,$B266,'Daily Log'!$AD$18:$AD$1017),0)","v":0},{"$f":"IFERROR($E266*SUMIF('Daily Log'!$AF$18:$AF$1017,$B266,'Daily Log'!$AG$18:$AG$1017),0)","v":0},{"$f":"IFERROR($E266*SUMIF('Daily Log'!$AI$18:$AI$1017,$B266,'Daily Log'!$AJ$18:$AJ$1017),0)","v":0},{"$f":"IFERROR($E266*SUMIF('Daily Log'!$AL$18:$AL$1017,$B266,'Daily Log'!$AM$18:$AM$1017),0)","v":0},{"$f":"IFERROR($E266*SUMIF('Daily Log'!$AO$18:$AO$1017,$B266,'Daily Log'!$AP$18:$AP$1017),0)","v":0},{"$f":"IFERROR($E266*SUMIF('Daily Log'!$AR$18:$AR$1017,$B266,'Daily Log'!$AS$18:$AS$1017),0)","v":0},{"$f":"IFERROR($E266*SUMIF('Daily Log'!$AU$18:$AU$1017,$B266,'Daily Log'!$AV$18:$AV$1017),0)","v":0},{"$f":"IFERROR($E266*SUMIF('Daily Log'!$AX$18:$AX$1017,$B266,'Daily Log'!$AY$18:$AY$1017),0)","v":0},{"$f":"IFERROR($E266*SUMIF('Daily Log'!$BA$18:$BA$1017,$B266,'Daily Log'!$BB$18:$BB$1017),0)","v":0},{"$f":"IFERROR($E266*SUMIF('Daily Log'!$BD$18:$BD$1017,$B266,'Daily Log'!$BE$18:$BE$1017),0)","v":0},{"$f":"IFERROR($E266*SUMIF('Daily Log'!$BG$18:$BG$1017,$B266,'Daily Log'!$BH$18:$BH$1017),0)","v":0},{"$f":"IFERROR($E266*SUMIF('Daily Log'!$BJ$18:$BJ$1017,$B266,'Daily Log'!$BK$18:$BK$1017),0)","v":0},{"$f":"IFERROR($E266*SUMIF('Daily Log'!$BM$18:$BM$1017,$B266,'Daily Log'!$BN$18:$BN$1017),0)","v":0},{"$f":"IFERROR($E266*SUMIF('Daily Log'!$BP$18:$BP$1017,$B266,'Daily Log'!$BQ$18:$BQ$1017),0)","v":0},{"$f":"IFERROR($E266*SUMIF('Daily Log'!$BS$18:$BS$1017,$B266,'Daily Log'!$BT$18:$BT$1017),0)","v":0},{"$f":"IFERROR($E266*SUMIF('Daily Log'!$BV$18:$BV$1017,$B266,'Daily Log'!$BW$18:$BW$1017),0)","v":0},{"$f":"IFERROR($E266*SUMIF('Daily Log'!$BY$18:$BY$1017,$B266,'Daily Log'!$BZ$18:$BZ$1017),0)","v":0},{"$f":"IFERROR($E266*SUMIF('Daily Log'!$CB$18:$CB$1017,$B266,'Daily Log'!$CC$18:$CC$1017),0)","v":0},{"$f":"IFERROR($E266*SUMIF('Daily Log'!$CE$18:$CE$1017,$B266,'Daily Log'!$CF$18:$CF$1017),0)","v":0},{"$f":"IFERROR($E266*SUMIF('Daily Log'!$CH$18:$CH$1017,$B266,'Daily Log'!$CI$18:$CI$1017),0)","v":0},{"$f":"IFERROR($E266*SUMIF('Daily Log'!$CK$18:$CK$1017,$B266,'Daily Log'!$CL$18:$CL$1017),0)","v":0},{"$f":"IFERROR($E266*SUMIF('Daily Log'!$CN$18:$CN$1017,$B266,'Daily Log'!$CO$18:$CO$1017),0)","v":0}]
[null,"DH15 91115:CHK NOODLE",null,"KLKD-LOCAL DELIGHTS",1,0,{"$f":"IFERROR($E267*SUMIF('Daily Log'!$B$18:$B$1017,$B267,'Daily Log'!$C$18:$C$1017),0)","v":0},{"$f":"IFERROR($E267*SUMIF('Daily Log'!$E$18:$E$1017,$B267,'Daily Log'!$F$18:$F$1017),0)","v":0},{"$f":"IFERROR($E267*SUMIF('Daily Log'!$H$18:$H$1017,$B267,'Daily Log'!$I$18:$I$1017),0)","v":0},{"$f":"IFERROR($E267*SUMIF('Daily Log'!$K$18:$K$1017,$B267,'Daily Log'!$L$18:$L$1017),0)","v":0},{"$f":"IFERROR($E267*SUMIF('Daily Log'!$N$18:$N$1017,$B267,'Daily Log'!$O$18:$O$1017),0)","v":0},{"$f":"IFERROR($E267*SUMIF('Daily Log'!$Q$18:$Q$1017,$B267,'Daily Log'!$R$18:$R$1017),0)","v":0},{"$f":"IFERROR($E267*SUMIF('Daily Log'!$T$18:$T$1017,$B267,'Daily Log'!$U$18:$U$1017),0)","v":0},{"$f":"IFERROR($E267*SUMIF('Daily Log'!$W$18:$W$1017,$B267,'Daily Log'!$X$18:$X$1017),0)","v":0},{"$f":"IFERROR($E267*SUMIF('Daily Log'!$Z$18:$Z$1017,$B267,'Daily Log'!$AA$18:$AA$1017),0)","v":0},{"$f":"IFERROR($E267*SUMIF('Daily Log'!$AC$18:$AC$1017,$B267,'Daily Log'!$AD$18:$AD$1017),0)","v":0},{"$f":"IFERROR($E267*SUMIF('Daily Log'!$AF$18:$AF$1017,$B267,'Daily Log'!$AG$18:$AG$1017),0)","v":0},{"$f":"IFERROR($E267*SUMIF('Daily Log'!$AI$18:$AI$1017,$B267,'Daily Log'!$AJ$18:$AJ$1017),0)","v":0},{"$f":"IFERROR($E267*SUMIF('Daily Log'!$AL$18:$AL$1017,$B267,'Daily Log'!$AM$18:$AM$1017),0)","v":0},{"$f":"IFERROR($E267*SUMIF('Daily Log'!$AO$18:$AO$1017,$B267,'Daily Log'!$AP$18:$AP$1017),0)","v":0},{"$f":"IFERROR($E267*SUMIF('Daily Log'!$AR$18:$AR$1017,$B267,'Daily Log'!$AS$18:$AS$1017),0)","v":0},{"$f":"IFERROR($E267*SUMIF('Daily Log'!$AU$18:$AU$1017,$B267,'Daily Log'!$AV$18:$AV$1017),0)","v":0},{"$f":"IFERROR($E267*SUMIF('Daily Log'!$AX$18:$AX$1017,$B267,'Daily Log'!$AY$18:$AY$1017),0)","v":0},{"$f":"IFERROR($E267*SUMIF('Daily Log'!$BA$18:$BA$1017,$B267,'Daily Log'!$BB$18:$BB$1017),0)","v":0},{"$f":"IFERROR($E267*SUMIF('Daily Log'!$BD$18:$BD$1017,$B267,'Daily Log'!$BE$18:$BE$1017),0)","v":0},{"$f":"IFERROR($E267*SUMIF('Daily Log'!$BG$18:$BG$1017,$B267,'Daily Log'!$BH$18:$BH$1017),0)","v":0},{"$f":"IFERROR($E267*SUMIF('Daily Log'!$BJ$18:$BJ$1017,$B267,'Daily Log'!$BK$18:$BK$1017),0)","v":0},{"$f":"IFERROR($E267*SUMIF('Daily Log'!$BM$18:$BM$1017,$B267,'Daily Log'!$BN$18:$BN$1017),0)","v":0},{"$f":"IFERROR($E267*SUMIF('Daily Log'!$BP$18:$BP$1017,$B267,'Daily Log'!$BQ$18:$BQ$1017),0)","v":0},{"$f":"IFERROR($E267*SUMIF('Daily Log'!$BS$18:$BS$1017,$B267,'Daily Log'!$BT$18:$BT$1017),0)","v":0},{"$f":"IFERROR($E267*SUMIF('Daily Log'!$BV$18:$BV$1017,$B267,'Daily Log'!$BW$18:$BW$1017),0)","v":0},{"$f":"IFERROR($E267*SUMIF('Daily Log'!$BY$18:$BY$1017,$B267,'Daily Log'!$BZ$18:$BZ$1017),0)","v":0},{"$f":"IFERROR($E267*SUMIF('Daily Log'!$CB$18:$CB$1017,$B267,'Daily Log'!$CC$18:$CC$1017),0)","v":0},{"$f":"IFERROR($E267*SUMIF('Daily Log'!$CE$18:$CE$1017,$B267,'Daily Log'!$CF$18:$CF$1017),0)","v":0},{"$f":"IFERROR($E267*SUMIF('Daily Log'!$CH$18:$CH$1017,$B267,'Daily Log'!$CI$18:$CI$1017),0)","v":0},{"$f":"IFERROR($E267*SUMIF('Daily Log'!$CK$18:$CK$1017,$B267,'Daily Log'!$CL$18:$CL$1017),0)","v":0},{"$f":"IFERROR($E267*SUMIF('Daily Log'!$CN$18:$CN$1017,$B267,'Daily Log'!$CO$18:$CO$1017),0)","v":0}]
[null,"DI01 91201:SFD STICK",null,"KLKD-APPETIZER",1,0,{"$f":"IFERROR($E268*SUMIF('Daily Log'!$B$18:$B$1017,$B268,'Daily Log'!$C$18:$C$1017),0)","v":0},{"$f":"IFERROR($E268*SUMIF('Daily Log'!$E$18:$E$1017,$B268,'Daily Log'!$F$18:$F$1017),0)","v":0},{"$f":"IFERROR($E268*SUMIF('Daily Log'!$H$18:$H$1017,$B268,'Daily Log'!$I$18:$I$1017),0)","v":0},{"$f":"IFERROR($E268*SUMIF('Daily Log'!$K$18:$K$1017,$B268,'Daily Log'!$L$18:$L$1017),0)","v":0},{"$f":"IFERROR($E268*SUMIF('Daily Log'!$N$18:$N$1017,$B268,'Daily Log'!$O$18:$O$1017),0)","v":0},{"$f":"IFERROR($E268*SUMIF('Daily Log'!$Q$18:$Q$1017,$B268,'Daily Log'!$R$18:$R$1017),0)","v":0},{"$f":"IFERROR($E268*SUMIF('Daily Log'!$T$18:$T$1017,$B268,'Daily Log'!$U$18:$U$1017),0)","v":0},{"$f":"IFERROR($E268*SUMIF('Daily Log'!$W$18:$W$1017,$B268,'Daily Log'!$X$18:$X$1017),0)","v":0},{"$f":"IFERROR($E268*SUMIF('Daily Log'!$Z$18:$Z$1017,$B268,'Daily Log'!$AA$18:$AA$1017),0)","v":0},{"$f":"IFERROR($E268*SUMIF('Daily Log'!$AC$18:$AC$1017,$B268,'Daily Log'!$AD$18:$AD$1017),0)","v":0},{"$f":"IFERROR($E268*SUMIF('Daily Log'!$AF$18:$AF$1017,$B268,'Daily Log'!$AG$18:$AG$1017),0)","v":0},{"$f":"IFERROR($E268*SUMIF('Daily Log'!$AI$18:$AI$1017,$B268,'Daily Log'!$AJ$18:$AJ$1017),0)","v":0},{"$f":"IFERROR($E268*SUMIF('Daily Log'!$AL$18:$AL$1017,$B268,'Daily Log'!$AM$18:$AM$1017),0)","v":0},{"$f":"IFERROR($E268*SUMIF('Daily Log'!$AO$18:$AO$1017,$B268,'Daily Log'!$AP$18:$AP$1017),0)","v":0},{"$f":"IFERROR($E268*SUMIF('Daily Log'!$AR$18:$AR$1017,$B268,'Daily Log'!$AS$18:$AS$1017),0)","v":0},{"$f":"IFERROR($E268*SUMIF('Daily Log'!$AU$18:$AU$1017,$B268,'Daily Log'!$AV$18:$AV$1017),0)","v":0},{"$f":"IFERROR($E268*SUMIF('Daily Log'!$AX$18:$AX$1017,$B268,'Daily Log'!$AY$18:$AY$1017),0)","v":0},{"$f":"IFERROR($E268*SUMIF('Daily Log'!$BA$18:$BA$1017,$B268,'Daily Log'!$BB$18:$BB$1017),0)","v":0},{"$f":"IFERROR($E268*SUMIF('Daily Log'!$BD$18:$BD$1017,$B268,'Daily Log'!$BE$18:$BE$1017),0)","v":0},{"$f":"IFERROR($E268*SUMIF('Daily Log'!$BG$18:$BG$1017,$B268,'Daily Log'!$BH$18:$BH$1017),0)","v":0},{"$f":"IFERROR($E268*SUMIF('Daily Log'!$BJ$18:$BJ$1017,$B268,'Daily Log'!$BK$18:$BK$1017),0)","v":0},{"$f":"IFERROR($E268*SUMIF('Daily Log'!$BM$18:$BM$1017,$B268,'Daily Log'!$BN$18:$BN$1017),0)","v":0},{"$f":"IFERROR($E268*SUMIF('Daily Log'!$BP$18:$BP$1017,$B268,'Daily Log'!$BQ$18:$BQ$1017),0)","v":0},{"$f":"IFERROR($E268*SUMIF('Daily Log'!$BS$18:$BS$1017,$B268,'Daily Log'!$BT$18:$BT$1017),0)","v":0},{"$f":"IFERROR($E268*SUMIF('Daily Log'!$BV$18:$BV$1017,$B268,'Daily Log'!$BW$18:$BW$1017),0)","v":0},{"$f":"IFERROR($E268*SUMIF('Daily Log'!$BY$18:$BY$1017,$B268,'Daily Log'!$BZ$18:$BZ$1017),0)","v":0},{"$f":"IFERROR($E268*SUMIF('Daily Log'!$CB$18:$CB$1017,$B268,'Daily Log'!$CC$18:$CC$1017),0)","v":0},{"$f":"IFERROR($E268*SUMIF('Daily Log'!$CE$18:$CE$1017,$B268,'Daily Log'!$CF$18:$CF$1017),0)","v":0},{"$f":"IFERROR($E268*SUMIF('Daily Log'!$CH$18:$CH$1017,$B268,'Daily Log'!$CI$18:$CI$1017),0)","v":0},{"$f":"IFERROR($E268*SUMIF('Daily Log'!$CK$18:$CK$1017,$B268,'Daily Log'!$CL$18:$CL$1017),0)","v":0},{"$f":"IFERROR($E268*SUMIF('Daily Log'!$CN$18:$CN$1017,$B268,'Daily Log'!$CO$18:$CO$1017),0)","v":0}]
[null,"DI02 91202:FREN FRIES",null,"KLKD-APPETIZER",1,0,{"$f":"IFERROR($E269*SUMIF('Daily Log'!$B$18:$B$1017,$B269,'Daily Log'!$C$18:$C$1017),0)","v":0},{"$f":"IFERROR($E269*SUMIF('Daily Log'!$E$18:$E$1017,$B269,'Daily Log'!$F$18:$F$1017),0)","v":0},{"$f":"IFERROR($E269*SUMIF('Daily Log'!$H$18:$H$1017,$B269,'Daily Log'!$I$18:$I$1017),0)","v":0},{"$f":"IFERROR($E269*SUMIF('Daily Log'!$K$18:$K$1017,$B269,'Daily Log'!$L$18:$L$1017),0)","v":0},{"$f":"IFERROR($E269*SUMIF('Daily Log'!$N$18:$N$1017,$B269,'Daily Log'!$O$18:$O$1017),0)","v":0},{"$f":"IFERROR($E269*SUMIF('Daily Log'!$Q$18:$Q$1017,$B269,'Daily Log'!$R$18:$R$1017),0)","v":0},{"$f":"IFERROR($E269*SUMIF('Daily Log'!$T$18:$T$1017,$B269,'Daily Log'!$U$18:$U$1017),0)","v":0},{"$f":"IFERROR($E269*SUMIF('Daily Log'!$W$18:$W$1017,$B269,'Daily Log'!$X$18:$X$1017),0)","v":0},{"$f":"IFERROR($E269*SUMIF('Daily Log'!$Z$18:$Z$1017,$B269,'Daily Log'!$AA$18:$AA$1017),0)","v":0},{"$f":"IFERROR($E269*SUMIF('Daily Log'!$AC$18:$AC$1017,$B269,'Daily Log'!$AD$18:$AD$1017),0)","v":0},{"$f":"IFERROR($E269*SUMIF('Daily Log'!$AF$18:$AF$1017,$B269,'Daily Log'!$AG$18:$AG$1017),0)","v":0},{"$f":"IFERROR($E269*SUMIF('Daily Log'!$AI$18:$AI$1017,$B269,'Daily Log'!$AJ$18:$AJ$1017),0)","v":0},{"$f":"IFERROR($E269*SUMIF('Daily Log'!$AL$18:$AL$1017,$B269,'Daily Log'!$AM$18:$AM$1017),0)","v":0},{"$f":"IFERROR($E269*SUMIF('Daily Log'!$AO$18:$AO$1017,$B269,'Daily Log'!$AP$18:$AP$1017),0)","v":0},{"$f":"IFERROR($E269*SUMIF('Daily Log'!$AR$18:$AR$1017,$B269,'Daily Log'!$AS$18:$AS$1017),0)","v":0},{"$f":"IFERROR($E269*SUMIF('Daily Log'!$AU$18:$AU$1017,$B269,'Daily Log'!$AV$18:$AV$1017),0)","v":0},{"$f":"IFERROR($E269*SUMIF('Daily Log'!$AX$18:$AX$1017,$B269,'Daily Log'!$AY$18:$AY$1017),0)","v":0},{"$f":"IFERROR($E269*SUMIF('Daily Log'!$BA$18:$BA$1017,$B269,'Daily Log'!$BB$18:$BB$1017),0)","v":0},{"$f":"IFERROR($E269*SUMIF('Daily Log'!$BD$18:$BD$1017,$B269,'Daily Log'!$BE$18:$BE$1017),0)","v":0},{"$f":"IFERROR($E269*SUMIF('Daily Log'!$BG$18:$BG$1017,$B269,'Daily Log'!$BH$18:$BH$1017),0)","v":0},{"$f":"IFERROR($E269*SUMIF('Daily Log'!$BJ$18:$BJ$1017,$B269,'Daily Log'!$BK$18:$BK$1017),0)","v":0},{"$f":"IFERROR($E269*SUMIF('Daily Log'!$BM$18:$BM$1017,$B269,'Daily Log'!$BN$18:$BN$1017),0)","v":0},{"$f":"IFERROR($E269*SUMIF('Daily Log'!$BP$18:$BP$1017,$B269,'Daily Log'!$BQ$18:$BQ$1017),0)","v":0},{"$f":"IFERROR($E269*SUMIF('Daily Log'!$BS$18:$BS$1017,$B269,'Daily Log'!$BT$18:$BT$1017),0)","v":0},{"$f":"IFERROR($E269*SUMIF('Daily Log'!$BV$18:$BV$1017,$B269,'Daily Log'!$BW$18:$BW$1017),0)","v":0},{"$f":"IFERROR($E269*SUMIF('Daily Log'!$BY$18:$BY$1017,$B269,'Daily Log'!$BZ$18:$BZ$1017),0)","v":0},{"$f":"IFERROR($E269*SUMIF('Daily Log'!$CB$18:$CB$1017,$B269,'Daily Log'!$CC$18:$CC$1017),0)","v":0},{"$f":"IFERROR($E269*SUMIF('Daily Log'!$CE$18:$CE$1017,$B269,'Daily Log'!$CF$18:$CF$1017),0)","v":0},{"$f":"IFERROR($E269*SUMIF('Daily Log'!$CH$18:$CH$1017,$B269,'Daily Log'!$CI$18:$CI$1017),0)","v":0},{"$f":"IFERROR($E269*SUMIF('Daily Log'!$CK$18:$CK$1017,$B269,'Daily Log'!$CL$18:$CL$1017),0)","v":0},{"$f":"IFERROR($E269*SUMIF('Daily Log'!$CN$18:$CN$1017,$B269,'Daily Log'!$CO$18:$CO$1017),0)","v":0}]
[null,"DI03 91203:GOLD MROOM",null,"KLKD-APPETIZER",1,0,{"$f":"IFERROR($E270*SUMIF('Daily Log'!$B$18:$B$1017,$B270,'Daily Log'!$C$18:$C$1017),0)","v":0},{"$f":"IFERROR($E270*SUMIF('Daily Log'!$E$18:$E$1017,$B270,'Daily Log'!$F$18:$F$1017),0)","v":0},{"$f":"IFERROR($E270*SUMIF('Daily Log'!$H$18:$H$1017,$B270,'Daily Log'!$I$18:$I$1017),0)","v":0},{"$f":"IFERROR($E270*SUMIF('Daily Log'!$K$18:$K$1017,$B270,'Daily Log'!$L$18:$L$1017),0)","v":0},{"$f":"IFERROR($E270*SUMIF('Daily Log'!$N$18:$N$1017,$B270,'Daily Log'!$O$18:$O$1017),0)","v":0},{"$f":"IFERROR($E270*SUMIF('Daily Log'!$Q$18:$Q$1017,$B270,'Daily Log'!$R$18:$R$1017),0)","v":0},{"$f":"IFERROR($E270*SUMIF('Daily Log'!$T$18:$T$1017,$B270,'Daily Log'!$U$18:$U$1017),0)","v":0},{"$f":"IFERROR($E270*SUMIF('Daily Log'!$W$18:$W$1017,$B270,'Daily Log'!$X$18:$X$1017),0)","v":0},{"$f":"IFERROR($E270*SUMIF('Daily Log'!$Z$18:$Z$1017,$B270,'Daily Log'!$AA$18:$AA$1017),0)","v":0},{"$f":"IFERROR($E270*SUMIF('Daily Log'!$AC$18:$AC$1017,$B270,'Daily Log'!$AD$18:$AD$1017),0)","v":0},{"$f":"IFERROR($E270*SUMIF('Daily Log'!$AF$18:$AF$1017,$B270,'Daily Log'!$AG$18:$AG$1017),0)","v":0},{"$f":"IFERROR($E270*SUMIF('Daily Log'!$AI$18:$AI$1017,$B270,'Daily Log'!$AJ$18:$AJ$1017),0)","v":0},{"$f":"IFERROR($E270*SUMIF('Daily Log'!$AL$18:$AL$1017,$B270,'Daily Log'!$AM$18:$AM$1017),0)","v":0},{"$f":"IFERROR($E270*SUMIF('Daily Log'!$AO$18:$AO$1017,$B270,'Daily Log'!$AP$18:$AP$1017),0)","v":0},{"$f":"IFERROR($E270*SUMIF('Daily Log'!$AR$18:$AR$1017,$B270,'Daily Log'!$AS$18:$AS$1017),0)","v":0},{"$f":"IFERROR($E270*SUMIF('Daily Log'!$AU$18:$AU$1017,$B270,'Daily Log'!$AV$18:$AV$1017),0)","v":0},{"$f":"IFERROR($E270*SUMIF('Daily Log'!$AX$18:$AX$1017,$B270,'Daily Log'!$AY$18:$AY$1017),0)","v":0},{"$f":"IFERROR($E270*SUMIF('Daily Log'!$BA$18:$BA$1017,$B270,'Daily Log'!$BB$18:$BB$1017),0)","v":0},{"$f":"IFERROR($E270*SUMIF('Daily Log'!$BD$18:$BD$1017,$B270,'Daily Log'!$BE$18:$BE$1017),0)","v":0},{"$f":"IFERROR($E270*SUMIF('Daily Log'!$BG$18:$BG$1017,$B270,'Daily Log'!$BH$18:$BH$1017),0)","v":0},{"$f":"IFERROR($E270*SUMIF('Daily Log'!$BJ$18:$BJ$1017,$B270,'Daily Log'!$BK$18:$BK$1017),0)","v":0},{"$f":"IFERROR($E270*SUMIF('Daily Log'!$BM$18:$BM$1017,$B270,'Daily Log'!$BN$18:$BN$1017),0)","v":0},{"$f":"IFERROR($E270*SUMIF('Daily Log'!$BP$18:$BP$1017,$B270,'Daily Log'!$BQ$18:$BQ$1017),0)","v":0},{"$f":"IFERROR($E270*SUMIF('Daily Log'!$BS$18:$BS$1017,$B270,'Daily Log'!$BT$18:$BT$1017),0)","v":0},{"$f":"IFERROR($E270*SUMIF('Daily Log'!$BV$18:$BV$1017,$B270,'Daily Log'!$BW$18:$BW$1017),0)","v":0},{"$f":"IFERROR($E270*SUMIF('Daily Log'!$BY$18:$BY$1017,$B270,'Daily Log'!$BZ$18:$BZ$1017),0)","v":0},{"$f":"IFERROR($E270*SUMIF('Daily Log'!$CB$18:$CB$1017,$B270,'Daily Log'!$CC$18:$CC$1017),0)","v":0},{"$f":"IFERROR($E270*SUMIF('Daily Log'!$CE$18:$CE$1017,$B270,'Daily Log'!$CF$18:$CF$1017),0)","v":0},{"$f":"IFERROR($E270*SUMIF('Daily Log'!$CH$18:$CH$1017,$B270,'Daily Log'!$CI$18:$CI$1017),0)","v":0},{"$f":"IFERROR($E270*SUMIF('Daily Log'!$CK$18:$CK$1017,$B270,'Daily Log'!$CL$18:$CL$1017),0)","v":0},{"$f":"IFERROR($E270*SUMIF('Daily Log'!$CN$18:$CN$1017,$B270,'Daily Log'!$CO$18:$CO$1017),0)","v":0}]
[null,"DI04 91204:FISHBALL",null,"KLKD-APPETIZER",1,0,{"$f":"IFERROR($E271*SUMIF('Daily Log'!$B$18:$B$1017,$B271,'Daily Log'!$C$18:$C$1017),0)","v":0},{"$f":"IFERROR($E271*SUMIF('Daily Log'!$E$18:$E$1017,$B271,'Daily Log'!$F$18:$F$1017),0)","v":0},{"$f":"IFERROR($E271*SUMIF('Daily Log'!$H$18:$H$1017,$B271,'Daily Log'!$I$18:$I$1017),0)","v":0},{"$f":"IFERROR($E271*SUMIF('Daily Log'!$K$18:$K$1017,$B271,'Daily Log'!$L$18:$L$1017),0)","v":0},{"$f":"IFERROR($E271*SUMIF('Daily Log'!$N$18:$N$1017,$B271,'Daily Log'!$O$18:$O$1017),0)","v":0},{"$f":"IFERROR($E271*SUMIF('Daily Log'!$Q$18:$Q$1017,$B271,'Daily Log'!$R$18:$R$1017),0)","v":0},{"$f":"IFERROR($E271*SUMIF('Daily Log'!$T$18:$T$1017,$B271,'Daily Log'!$U$18:$U$1017),0)","v":0},{"$f":"IFERROR($E271*SUMIF('Daily Log'!$W$18:$W$1017,$B271,'Daily Log'!$X$18:$X$1017),0)","v":0},{"$f":"IFERROR($E271*SUMIF('Daily Log'!$Z$18:$Z$1017,$B271,'Daily Log'!$AA$18:$AA$1017),0)","v":0},{"$f":"IFERROR($E271*SUMIF('Daily Log'!$AC$18:$AC$1017,$B271,'Daily Log'!$AD$18:$AD$1017),0)","v":0},{"$f":"IFERROR($E271*SUMIF('Daily Log'!$AF$18:$AF$1017,$B271,'Daily Log'!$AG$18:$AG$1017),0)","v":0},{"$f":"IFERROR($E271*SUMIF('Daily Log'!$AI$18:$AI$1017,$B271,'Daily Log'!$AJ$18:$AJ$1017),0)","v":0},{"$f":"IFERROR($E271*SUMIF('Daily Log'!$AL$18:$AL$1017,$B271,'Daily Log'!$AM$18:$AM$1017),0)","v":0},{"$f":"IFERROR($E271*SUMIF('Daily Log'!$AO$18:$AO$1017,$B271,'Daily Log'!$AP$18:$AP$1017),0)","v":0},{"$f":"IFERROR($E271*SUMIF('Daily Log'!$AR$18:$AR$1017,$B271,'Daily Log'!$AS$18:$AS$1017),0)","v":0},{"$f":"IFERROR($E271*SUMIF('Daily Log'!$AU$18:$AU$1017,$B271,'Daily Log'!$AV$18:$AV$1017),0)","v":0},{"$f":"IFERROR($E271*SUMIF('Daily Log'!$AX$18:$AX$1017,$B271,'Daily Log'!$AY$18:$AY$1017),0)","v":0},{"$f":"IFERROR($E271*SUMIF('Daily Log'!$BA$18:$BA$1017,$B271,'Daily Log'!$BB$18:$BB$1017),0)","v":0},{"$f":"IFERROR($E271*SUMIF('Daily Log'!$BD$18:$BD$1017,$B271,'Daily Log'!$BE$18:$BE$1017),0)","v":0},{"$f":"IFERROR($E271*SUMIF('Daily Log'!$BG$18:$BG$1017,$B271,'Daily Log'!$BH$18:$BH$1017),0)","v":0},{"$f":"IFERROR($E271*SUMIF('Daily Log'!$BJ$18:$BJ$1017,$B271,'Daily Log'!$BK$18:$BK$1017),0)","v":0},{"$f":"IFERROR($E271*SUMIF('Daily Log'!$BM$18:$BM$1017,$B271,'Daily Log'!$BN$18:$BN$1017),0)","v":0},{"$f":"IFERROR($E271*SUMIF('Daily Log'!$BP$18:$BP$1017,$B271,'Daily Log'!$BQ$18:$BQ$1017),0)","v":0},{"$f":"IFERROR($E271*SUMIF('Daily Log'!$BS$18:$BS$1017,$B271,'Daily Log'!$BT$18:$BT$1017),0)","v":0},{"$f":"IFERROR($E271*SUMIF('Daily Log'!$BV$18:$BV$1017,$B271,'Daily Log'!$BW$18:$BW$1017),0)","v":0},{"$f":"IFERROR($E271*SUMIF('Daily Log'!$BY$18:$BY$1017,$B271,'Daily Log'!$BZ$18:$BZ$1017),0)","v":0},{"$f":"IFERROR($E271*SUMIF('Daily Log'!$CB$18:$CB$1017,$B271,'Daily Log'!$CC$18:$CC$1017),0)","v":0},{"$f":"IFERROR($E271*SUMIF('Daily Log'!$CE$18:$CE$1017,$B271,'Daily Log'!$CF$18:$CF$1017),0)","v":0},{"$f":"IFERROR($E271*SUMIF('Daily Log'!$CH$18:$CH$1017,$B271,'Daily Log'!$CI$18:$CI$1017),0)","v":0},{"$f":"IFERROR($E271*SUMIF('Daily Log'!$CK$18:$CK$1017,$B271,'Daily Log'!$CL$18:$CL$1017),0)","v":0},{"$f":"IFERROR($E271*SUMIF('Daily Log'!$CN$18:$CN$1017,$B271,'Daily Log'!$CO$18:$CO$1017),0)","v":0}]
[null,"DI05 91205:RAINBOW RL",null,"KLKD-APPETIZER",1,0,{"$f":"IFERROR($E272*SUMIF('Daily Log'!$B$18:$B$1017,$B272,'Daily Log'!$C$18:$C$1017),0)","v":0},{"$f":"IFERROR($E272*SUMIF('Daily Log'!$E$18:$E$1017,$B272,'Daily Log'!$F$18:$F$1017),0)","v":0},{"$f":"IFERROR($E272*SUMIF('Daily Log'!$H$18:$H$1017,$B272,'Daily Log'!$I$18:$I$1017),0)","v":0},{"$f":"IFERROR($E272*SUMIF('Daily Log'!$K$18:$K$1017,$B272,'Daily Log'!$L$18:$L$1017),0)","v":0},{"$f":"IFERROR($E272*SUMIF('Daily Log'!$N$18:$N$1017,$B272,'Daily Log'!$O$18:$O$1017),0)","v":0},{"$f":"IFERROR($E272*SUMIF('Daily Log'!$Q$18:$Q$1017,$B272,'Daily Log'!$R$18:$R$1017),0)","v":0},{"$f":"IFERROR($E272*SUMIF('Daily Log'!$T$18:$T$1017,$B272,'Daily Log'!$U$18:$U$1017),0)","v":0},{"$f":"IFERROR($E272*SUMIF('Daily Log'!$W$18:$W$1017,$B272,'Daily Log'!$X$18:$X$1017),0)","v":0},{"$f":"IFERROR($E272*SUMIF('Daily Log'!$Z$18:$Z$1017,$B272,'Daily Log'!$AA$18:$AA$1017),0)","v":0},{"$f":"IFERROR($E272*SUMIF('Daily Log'!$AC$18:$AC$1017,$B272,'Daily Log'!$AD$18:$AD$1017),0)","v":0},{"$f":"IFERROR($E272*SUMIF('Daily Log'!$AF$18:$AF$1017,$B272,'Daily Log'!$AG$18:$AG$1017),0)","v":0},{"$f":"IFERROR($E272*SUMIF('Daily Log'!$AI$18:$AI$1017,$B272,'Daily Log'!$AJ$18:$AJ$1017),0)","v":0},{"$f":"IFERROR($E272*SUMIF('Daily Log'!$AL$18:$AL$1017,$B272,'Daily Log'!$AM$18:$AM$1017),0)","v":0},{"$f":"IFERROR($E272*SUMIF('Daily Log'!$AO$18:$AO$1017,$B272,'Daily Log'!$AP$18:$AP$1017),0)","v":0},{"$f":"IFERROR($E272*SUMIF('Daily Log'!$AR$18:$AR$1017,$B272,'Daily Log'!$AS$18:$AS$1017),0)","v":0},{"$f":"IFERROR($E272*SUMIF('Daily Log'!$AU$18:$AU$1017,$B272,'Daily Log'!$AV$18:$AV$1017),0)","v":0},{"$f":"IFERROR($E272*SUMIF('Daily Log'!$AX$18:$AX$1017,$B272,'Daily Log'!$AY$18:$AY$1017),0)","v":0},{"$f":"IFERROR($E272*SUMIF('Daily Log'!$BA$18:$BA$1017,$B272,'Daily Log'!$BB$18:$BB$1017),0)","v":0},{"$f":"IFERROR($E272*SUMIF('Daily Log'!$BD$18:$BD$1017,$B272,'Daily Log'!$BE$18:$BE$1017),0)","v":0},{"$f":"IFERROR($E272*SUMIF('Daily Log'!$BG$18:$BG$1017,$B272,'Daily Log'!$BH$18:$BH$1017),0)","v":0},{"$f":"IFERROR($E272*SUMIF('Daily Log'!$BJ$18:$BJ$1017,$B272,'Daily Log'!$BK$18:$BK$1017),0)","v":0},{"$f":"IFERROR($E272*SUMIF('Daily Log'!$BM$18:$BM$1017,$B272,'Daily Log'!$BN$18:$BN$1017),0)","v":0},{"$f":"IFERROR($E272*SUMIF('Daily Log'!$BP$18:$BP$1017,$B272,'Daily Log'!$BQ$18:$BQ$1017),0)","v":0},{"$f":"IFERROR($E272*SUMIF('Daily Log'!$BS$18:$BS$1017,$B272,'Daily Log'!$BT$18:$BT$1017),0)","v":0},{"$f":"IFERROR($E272*SUMIF('Daily Log'!$BV$18:$BV$1017,$B272,'Daily Log'!$BW$18:$BW$1017),0)","v":0},{"$f":"IFERROR($E272*SUMIF('Daily Log'!$BY$18:$BY$1017,$B272,'Daily Log'!$BZ$18:$BZ$1017),0)","v":0},{"$f":"IFERROR($E272*SUMIF('Daily Log'!$CB$18:$CB$1017,$B272,'Daily Log'!$CC$18:$CC$1017),0)","v":0},{"$f":"IFERROR($E272*SUMIF('Daily Log'!$CE$18:$CE$1017,$B272,'Daily Log'!$CF$18:$CF$1017),0)","v":0},{"$f":"IFERROR($E272*SUMIF('Daily Log'!$CH$18:$CH$1017,$B272,'Daily Log'!$CI$18:$CI$1017),0)","v":0},{"$f":"IFERROR($E272*SUMIF('Daily Log'!$CK$18:$CK$1017,$B272,'Daily Log'!$CL$18:$CL$1017),0)","v":0},{"$f":"IFERROR($E272*SUMIF('Daily Log'!$CN$18:$CN$1017,$B272,'Daily Log'!$CO$18:$CO$1017),0)","v":0}]
[null,"DI06 91206:SPRING RL",null,"KLKD-APPETIZER",1,{"$f":"SUM($G273:$AK273)","v":0},{"$f":"IFERROR($E273*SUMIF('Daily Log'!$B$18:$B$1017,$B273,'Daily Log'!$C$18:$C$1017),0)","v":0},{"$f":"IFERROR($E273*SUMIF('Daily Log'!$E$18:$E$1017,$B273,'Daily Log'!$F$18:$F$1017),0)","v":0},{"$f":"IFERROR($E273*SUMIF('Daily Log'!$H$18:$H$1017,$B273,'Daily Log'!$I$18:$I$1017),0)","v":0},{"$f":"IFERROR($E273*SUMIF('Daily Log'!$K$18:$K$1017,$B273,'Daily Log'!$L$18:$L$1017),0)","v":0},{"$f":"IFERROR($E273*SUMIF('Daily Log'!$N$18:$N$1017,$B273,'Daily Log'!$O$18:$O$1017),0)","v":0},{"$f":"IFERROR($E273*SUMIF('Daily Log'!$Q$18:$Q$1017,$B273,'Daily Log'!$R$18:$R$1017),0)","v":0},{"$f":"IFERROR($E273*SUMIF('Daily Log'!$T$18:$T$1017,$B273,'Daily Log'!$U$18:$U$1017),0)","v":0},{"$f":"IFERROR($E273*SUMIF('Daily Log'!$W$18:$W$1017,$B273,'Daily Log'!$X$18:$X$1017),0)","v":0},{"$f":"IFERROR($E273*SUMIF('Daily Log'!$Z$18:$Z$1017,$B273,'Daily Log'!$AA$18:$AA$1017),0)","v":0},{"$f":"IFERROR($E273*SUMIF('Daily Log'!$AC$18:$AC$1017,$B273,'Daily Log'!$AD$18:$AD$1017),0)","v":0},{"$f":"IFERROR($E273*SUMIF('Daily Log'!$AF$18:$AF$1017,$B273,'Daily Log'!$AG$18:$AG$1017),0)","v":0},{"$f":"IFERROR($E273*SUMIF('Daily Log'!$AI$18:$AI$1017,$B273,'Daily Log'!$AJ$18:$AJ$1017),0)","v":0},{"$f":"IFERROR($E273*SUMIF('Daily Log'!$AL$18:$AL$1017,$B273,'Daily Log'!$AM$18:$AM$1017),0)","v":0},{"$f":"IFERROR($E273*SUMIF('Daily Log'!$AO$18:$AO$1017,$B273,'Daily Log'!$AP$18:$AP$1017),0)","v":0},{"$f":"IFERROR($E273*SUMIF('Daily Log'!$AR$18:$AR$1017,$B273,'Daily Log'!$AS$18:$AS$1017),0)","v":0},{"$f":"IFERROR($E273*SUMIF('Daily Log'!$AU$18:$AU$1017,$B273,'Daily Log'!$AV$18:$AV$1017),0)","v":0},{"$f":"IFERROR($E273*SUMIF('Daily Log'!$AX$18:$AX$1017,$B273,'Daily Log'!$AY$18:$AY$1017),0)","v":0},{"$f":"IFERROR($E273*SUMIF('Daily Log'!$BA$18:$BA$1017,$B273,'Daily Log'!$BB$18:$BB$1017),0)","v":0},{"$f":"IFERROR($E273*SUMIF('Daily Log'!$BD$18:$BD$1017,$B273,'Daily Log'!$BE$18:$BE$1017),0)","v":0},{"$f":"IFERROR($E273*SUMIF('Daily Log'!$BG$18:$BG$1017,$B273,'Daily Log'!$BH$18:$BH$1017),0)","v":0},{"$f":"IFERROR($E273*SUMIF('Daily Log'!$BJ$18:$BJ$1017,$B273,'Daily Log'!$BK$18:$BK$1017),0)","v":0},{"$f":"IFERROR($E273*SUMIF('Daily Log'!$BM$18:$BM$1017,$B273,'Daily Log'!$BN$18:$BN$1017),0)","v":0},{"$f":"IFERROR($E273*SUMIF('Daily Log'!$BP$18:$BP$1017,$B273,'Daily Log'!$BQ$18:$BQ$1017),0)","v":0},{"$f":"IFERROR($E273*SUMIF('Daily Log'!$BS$18:$BS$1017,$B273,'Daily Log'!$BT$18:$BT$1017),0)","v":0},{"$f":"IFERROR($E273*SUMIF('Daily Log'!$BV$18:$BV$1017,$B273,'Daily Log'!$BW$18:$BW$1017),0)","v":0},{"$f":"IFERROR($E273*SUMIF('Daily Log'!$BY$18:$BY$1017,$B273,'Daily Log'!$BZ$18:$BZ$1017),0)","v":0},{"$f":"IFERROR($E273*SUMIF('Daily Log'!$CB$18:$CB$1017,$B273,'Daily Log'!$CC$18:$CC$1017),0)","v":0},{"$f":"IFERROR($E273*SUMIF('Daily Log'!$CE$18:$CE$1017,$B273,'Daily Log'!$CF$18:$CF$1017),0)","v":0},{"$f":"IFERROR($E273*SUMIF('Daily Log'!$CH$18:$CH$1017,$B273,'Daily Log'!$CI$18:$CI$1017),0)","v":0},{"$f":"IFERROR($E273*SUMIF('Daily Log'!$CK$18:$CK$1017,$B273,'Daily Log'!$CL$18:$CL$1017),0)","v":0},{"$f":"IFERROR($E273*SUMIF('Daily Log'!$CN$18:$CN$1017,$B273,'Daily Log'!$CO$18:$CO$1017),0)","v":0}]
[null,"DI07 91207:SAUSAGE",null,"KLKD-APPETIZER",1,0,{"$f":"IFERROR($E274*SUMIF('Daily Log'!$B$18:$B$1017,$B274,'Daily Log'!$C$18:$C$1017),0)","v":0},{"$f":"IFERROR($E274*SUMIF('Daily Log'!$E$18:$E$1017,$B274,'Daily Log'!$F$18:$F$1017),0)","v":0},{"$f":"IFERROR($E274*SUMIF('Daily Log'!$H$18:$H$1017,$B274,'Daily Log'!$I$18:$I$1017),0)","v":0},{"$f":"IFERROR($E274*SUMIF('Daily Log'!$K$18:$K$1017,$B274,'Daily Log'!$L$18:$L$1017),0)","v":0},{"$f":"IFERROR($E274*SUMIF('Daily Log'!$N$18:$N$1017,$B274,'Daily Log'!$O$18:$O$1017),0)","v":0},{"$f":"IFERROR($E274*SUMIF('Daily Log'!$Q$18:$Q$1017,$B274,'Daily Log'!$R$18:$R$1017),0)","v":0},{"$f":"IFERROR($E274*SUMIF('Daily Log'!$T$18:$T$1017,$B274,'Daily Log'!$U$18:$U$1017),0)","v":0},{"$f":"IFERROR($E274*SUMIF('Daily Log'!$W$18:$W$1017,$B274,'Daily Log'!$X$18:$X$1017),0)","v":0},{"$f":"IFERROR($E274*SUMIF('Daily Log'!$Z$18:$Z$1017,$B274,'Daily Log'!$AA$18:$AA$1017),0)","v":0},{"$f":"IFERROR($E274*SUMIF('Daily Log'!$AC$18:$AC$1017,$B274,'Daily Log'!$AD$18:$AD$1017),0)","v":0},{"$f":"IFERROR($E274*SUMIF('Daily Log'!$AF$18:$AF$1017,$B274,'Daily Log'!$AG$18:$AG$1017),0)","v":0},{"$f":"IFERROR($E274*SUMIF('Daily Log'!$AI$18:$AI$1017,$B274,'Daily Log'!$AJ$18:$AJ$1017),0)","v":0},{"$f":"IFERROR($E274*SUMIF('Daily Log'!$AL$18:$AL$1017,$B274,'Daily Log'!$AM$18:$AM$1017),0)","v":0},{"$f":"IFERROR($E274*SUMIF('Daily Log'!$AO$18:$AO$1017,$B274,'Daily Log'!$AP$18:$AP$1017),0)","v":0},{"$f":"IFERROR($E274*SUMIF('Daily Log'!$AR$18:$AR$1017,$B274,'Daily Log'!$AS$18:$AS$1017),0)","v":0},{"$f":"IFERROR($E274*SUMIF('Daily Log'!$AU$18:$AU$1017,$B274,'Daily Log'!$AV$18:$AV$1017),0)","v":0},{"$f":"IFERROR($E274*SUMIF('Daily Log'!$AX$18:$AX$1017,$B274,'Daily Log'!$AY$18:$AY$1017),0)","v":0},{"$f":"IFERROR($E274*SUMIF('Daily Log'!$BA$18:$BA$1017,$B274,'Daily Log'!$BB$18:$BB$1017),0)","v":0},{"$f":"IFERROR($E274*SUMIF('Daily Log'!$BD$18:$BD$1017,$B274,'Daily Log'!$BE$18:$BE$1017),0)","v":0},{"$f":"IFERROR($E274*SUMIF('Daily Log'!$BG$18:$BG$1017,$B274,'Daily Log'!$BH$18:$BH$1017),0)","v":0},{"$f":"IFERROR($E274*SUMIF('Daily Log'!$BJ$18:$BJ$1017,$B274,'Daily Log'!$BK$18:$BK$1017),0)","v":0},{"$f":"IFERROR($E274*SUMIF('Daily Log'!$BM$18:$BM$1017,$B274,'Daily Log'!$BN$18:$BN$1017),0)","v":0},{"$f":"IFERROR($E274*SUMIF('Daily Log'!$BP$18:$BP$1017,$B274,'Daily Log'!$BQ$18:$BQ$1017),0)","v":0},{"$f":"IFERROR($E274*SUMIF('Daily Log'!$BS$18:$BS$1017,$B274,'Daily Log'!$BT$18:$BT$1017),0)","v":0},{"$f":"IFERROR($E274*SUMIF('Daily Log'!$BV$18:$BV$1017,$B274,'Daily Log'!$BW$18:$BW$1017),0)","v":0},{"$f":"IFERROR($E274*SUMIF('Daily Log'!$BY$18:$BY$1017,$B274,'Daily Log'!$BZ$18:$BZ$1017),0)","v":0},{"$f":"IFERROR($E274*SUMIF('Daily Log'!$CB$18:$CB$1017,$B274,'Daily Log'!$CC$18:$CC$1017),0)","v":0},{"$f":"IFERROR($E274*SUMIF('Daily Log'!$CE$18:$CE$1017,$B274,'Daily Log'!$CF$18:$CF$1017),0)","v":0},{"$f":"IFERROR($E274*SUMIF('Daily Log'!$CH$18:$CH$1017,$B274,'Daily Log'!$CI$18:$CI$1017),0)","v":0},{"$f":"IFERROR($E274*SUMIF('Daily Log'!$CK$18:$CK$1017,$B274,'Daily Log'!$CL$18:$CL$1017),0)","v":0},{"$f":"IFERROR($E274*SUMIF('Daily Log'!$CN$18:$CN$1017,$B274,'Daily Log'!$CO$18:$CO$1017),0)","v":0}]
[null,"DI08 91208:HOTDOG BUN",null,"KLKD-APPETIZER",1,0,{"$f":"IFERROR($E275*SUMIF('Daily Log'!$B$18:$B$1017,$B275,'Daily Log'!$C$18:$C$1017),0)","v":0},{"$f":"IFERROR($E275*SUMIF('Daily Log'!$E$18:$E$1017,$B275,'Daily Log'!$F$18:$F$1017),0)","v":0},{"$f":"IFERROR($E275*SUMIF('Daily Log'!$H$18:$H$1017,$B275,'Daily Log'!$I$18:$I$1017),0)","v":0},{"$f":"IFERROR($E275*SUMIF('Daily Log'!$K$18:$K$1017,$B275,'Daily Log'!$L$18:$L$1017),0)","v":0},{"$f":"IFERROR($E275*SUMIF('Daily Log'!$N$18:$N$1017,$B275,'Daily Log'!$O$18:$O$1017),0)","v":0},{"$f":"IFERROR($E275*SUMIF('Daily Log'!$Q$18:$Q$1017,$B275,'Daily Log'!$R$18:$R$1017),0)","v":0},{"$f":"IFERROR($E275*SUMIF('Daily Log'!$T$18:$T$1017,$B275,'Daily Log'!$U$18:$U$1017),0)","v":0},{"$f":"IFERROR($E275*SUMIF('Daily Log'!$W$18:$W$1017,$B275,'Daily Log'!$X$18:$X$1017),0)","v":0},{"$f":"IFERROR($E275*SUMIF('Daily Log'!$Z$18:$Z$1017,$B275,'Daily Log'!$AA$18:$AA$1017),0)","v":0},{"$f":"IFERROR($E275*SUMIF('Daily Log'!$AC$18:$AC$1017,$B275,'Daily Log'!$AD$18:$AD$1017),0)","v":0},{"$f":"IFERROR($E275*SUMIF('Daily Log'!$AF$18:$AF$1017,$B275,'Daily Log'!$AG$18:$AG$1017),0)","v":0},{"$f":"IFERROR($E275*SUMIF('Daily Log'!$AI$18:$AI$1017,$B275,'Daily Log'!$AJ$18:$AJ$1017),0)","v":0},{"$f":"IFERROR($E275*SUMIF('Daily Log'!$AL$18:$AL$1017,$B275,'Daily Log'!$AM$18:$AM$1017),0)","v":0},{"$f":"IFERROR($E275*SUMIF('Daily Log'!$AO$18:$AO$1017,$B275,'Daily Log'!$AP$18:$AP$1017),0)","v":0},{"$f":"IFERROR($E275*SUMIF('Daily Log'!$AR$18:$AR$1017,$B275,'Daily Log'!$AS$18:$AS$1017),0)","v":0},{"$f":"IFERROR($E275*SUMIF('Daily Log'!$AU$18:$AU$1017,$B275,'Daily Log'!$AV$18:$AV$1017),0)","v":0},{"$f":"IFERROR($E275*SUMIF('Daily Log'!$AX$18:$AX$1017,$B275,'Daily Log'!$AY$18:$AY$1017),0)","v":0},{"$f":"IFERROR($E275*SUMIF('Daily Log'!$BA$18:$BA$1017,$B275,'Daily Log'!$BB$18:$BB$1017),0)","v":0},{"$f":"IFERROR($E275*SUMIF('Daily Log'!$BD$18:$BD$1017,$B275,'Daily Log'!$BE$18:$BE$1017),0)","v":0},{"$f":"IFERROR($E275*SUMIF('Daily Log'!$BG$18:$BG$1017,$B275,'Daily Log'!$BH$18:$BH$1017),0)","v":0},{"$f":"IFERROR($E275*SUMIF('Daily Log'!$BJ$18:$BJ$1017,$B275,'Daily Log'!$BK$18:$BK$1017),0)","v":0},{"$f":"IFERROR($E275*SUMIF('Daily Log'!$BM$18:$BM$1017,$B275,'Daily Log'!$BN$18:$BN$1017),0)","v":0},{"$f":"IFERROR($E275*SUMIF('Daily Log'!$BP$18:$BP$1017,$B275,'Daily Log'!$BQ$18:$BQ$1017),0)","v":0},{"$f":"IFERROR($E275*SUMIF('Daily Log'!$BS$18:$BS$1017,$B275,'Daily Log'!$BT$18:$BT$1017),0)","v":0},{"$f":"IFERROR($E275*SUMIF('Daily Log'!$BV$18:$BV$1017,$B275,'Daily Log'!$BW$18:$BW$1017),0)","v":0},{"$f":"IFERROR($E275*SUMIF('Daily Log'!$BY$18:$BY$1017,$B275,'Daily Log'!$BZ$18:$BZ$1017),0)","v":0},{"$f":"IFERROR($E275*SUMIF('Daily Log'!$CB$18:$CB$1017,$B275,'Daily Log'!$CC$18:$CC$1017),0)","v":0},{"$f":"IFERROR($E275*SUMIF('Daily Log'!$CE$18:$CE$1017,$B275,'Daily Log'!$CF$18:$CF$1017),0)","v":0},{"$f":"IFERROR($E275*SUMIF('Daily Log'!$CH$18:$CH$1017,$B275,'Daily Log'!$CI$18:$CI$1017),0)","v":0},{"$f":"IFERROR($E275*SUMIF('Daily Log'!$CK$18:$CK$1017,$B275,'Daily Log'!$CL$18:$CL$1017),0)","v":0},{"$f":"IFERROR($E275*SUMIF('Daily Log'!$CN$18:$CN$1017,$B275,'Daily Log'!$CO$18:$CO$1017),0)","v":0}]
[null,"DI09 91209:SFD TOFU",null,"KLKD-APPETIZER",1,0,{"$f":"IFERROR($E276*SUMIF('Daily Log'!$B$18:$B$1017,$B276,'Daily Log'!$C$18:$C$1017),0)","v":0},{"$f":"IFERROR($E276*SUMIF('Daily Log'!$E$18:$E$1017,$B276,'Daily Log'!$F$18:$F$1017),0)","v":0},{"$f":"IFERROR($E276*SUMIF('Daily Log'!$H$18:$H$1017,$B276,'Daily Log'!$I$18:$I$1017),0)","v":0},{"$f":"IFERROR($E276*SUMIF('Daily Log'!$K$18:$K$1017,$B276,'Daily Log'!$L$18:$L$1017),0)","v":0},{"$f":"IFERROR($E276*SUMIF('Daily Log'!$N$18:$N$1017,$B276,'Daily Log'!$O$18:$O$1017),0)","v":0},{"$f":"IFERROR($E276*SUMIF('Daily Log'!$Q$18:$Q$1017,$B276,'Daily Log'!$R$18:$R$1017),0)","v":0},{"$f":"IFERROR($E276*SUMIF('Daily Log'!$T$18:$T$1017,$B276,'Daily Log'!$U$18:$U$1017),0)","v":0},{"$f":"IFERROR($E276*SUMIF('Daily Log'!$W$18:$W$1017,$B276,'Daily Log'!$X$18:$X$1017),0)","v":0},{"$f":"IFERROR($E276*SUMIF('Daily Log'!$Z$18:$Z$1017,$B276,'Daily Log'!$AA$18:$AA$1017),0)","v":0},{"$f":"IFERROR($E276*SUMIF('Daily Log'!$AC$18:$AC$1017,$B276,'Daily Log'!$AD$18:$AD$1017),0)","v":0},{"$f":"IFERROR($E276*SUMIF('Daily Log'!$AF$18:$AF$1017,$B276,'Daily Log'!$AG$18:$AG$1017),0)","v":0},{"$f":"IFERROR($E276*SUMIF('Daily Log'!$AI$18:$AI$1017,$B276,'Daily Log'!$AJ$18:$AJ$1017),0)","v":0},{"$f":"IFERROR($E276*SUMIF('Daily Log'!$AL$18:$AL$1017,$B276,'Daily Log'!$AM$18:$AM$1017),0)","v":0},{"$f":"IFERROR($E276*SUMIF('Daily Log'!$AO$18:$AO$1017,$B276,'Daily Log'!$AP$18:$AP$1017),0)","v":0},{"$f":"IFERROR($E276*SUMIF('Daily Log'!$AR$18:$AR$1017,$B276,'Daily Log'!$AS$18:$AS$1017),0)","v":0},{"$f":"IFERROR($E276*SUMIF('Daily Log'!$AU$18:$AU$1017,$B276,'Daily Log'!$AV$18:$AV$1017),0)","v":0},{"$f":"IFERROR($E276*SUMIF('Daily Log'!$AX$18:$AX$1017,$B276,'Daily Log'!$AY$18:$AY$1017),0)","v":0},{"$f":"IFERROR($E276*SUMIF('Daily Log'!$BA$18:$BA$1017,$B276,'Daily Log'!$BB$18:$BB$1017),0)","v":0},{"$f":"IFERROR($E276*SUMIF('Daily Log'!$BD$18:$BD$1017,$B276,'Daily Log'!$BE$18:$BE$1017),0)","v":0},{"$f":"IFERROR($E276*SUMIF('Daily Log'!$BG$18:$BG$1017,$B276,'Daily Log'!$BH$18:$BH$1017),0)","v":0},{"$f":"IFERROR($E276*SUMIF('Daily Log'!$BJ$18:$BJ$1017,$B276,'Daily Log'!$BK$18:$BK$1017),0)","v":0},{"$f":"IFERROR($E276*SUMIF('Daily Log'!$BM$18:$BM$1017,$B276,'Daily Log'!$BN$18:$BN$1017),0)","v":0},{"$f":"IFERROR($E276*SUMIF('Daily Log'!$BP$18:$BP$1017,$B276,'Daily Log'!$BQ$18:$BQ$1017),0)","v":0},{"$f":"IFERROR($E276*SUMIF('Daily Log'!$BS$18:$BS$1017,$B276,'Daily Log'!$BT$18:$BT$1017),0)","v":0},{"$f":"IFERROR($E276*SUMIF('Daily Log'!$BV$18:$BV$1017,$B276,'Daily Log'!$BW$18:$BW$1017),0)","v":0},{"$f":"IFERROR($E276*SUMIF('Daily Log'!$BY$18:$BY$1017,$B276,'Daily Log'!$BZ$18:$BZ$1017),0)","v":0},{"$f":"IFERROR($E276*SUMIF('Daily Log'!$CB$18:$CB$1017,$B276,'Daily Log'!$CC$18:$CC$1017),0)","v":0},{"$f":"IFERROR($E276*SUMIF('Daily Log'!$CE$18:$CE$1017,$B276,'Daily Log'!$CF$18:$CF$1017),0)","v":0},{"$f":"IFERROR($E276*SUMIF('Daily Log'!$CH$18:$CH$1017,$B276,'Daily Log'!$CI$18:$CI$1017),0)","v":0},{"$f":"IFERROR($E276*SUMIF('Daily Log'!$CK$18:$CK$1017,$B276,'Daily Log'!$CL$18:$CL$1017),0)","v":0},{"$f":"IFERROR($E276*SUMIF('Daily Log'!$CN$18:$CN$1017,$B276,'Daily Log'!$CO$18:$CO$1017),0)","v":0}]
[null,"DI10 91301:DUMPLING",null,"KLKD-APPETIZER",1,0,{"$f":"IFERROR($E277*SUMIF('Daily Log'!$B$18:$B$1017,$B277,'Daily Log'!$C$18:$C$1017),0)","v":0},{"$f":"IFERROR($E277*SUMIF('Daily Log'!$E$18:$E$1017,$B277,'Daily Log'!$F$18:$F$1017),0)","v":0},{"$f":"IFERROR($E277*SUMIF('Daily Log'!$H$18:$H$1017,$B277,'Daily Log'!$I$18:$I$1017),0)","v":0},{"$f":"IFERROR($E277*SUMIF('Daily Log'!$K$18:$K$1017,$B277,'Daily Log'!$L$18:$L$1017),0)","v":0},{"$f":"IFERROR($E277*SUMIF('Daily Log'!$N$18:$N$1017,$B277,'Daily Log'!$O$18:$O$1017),0)","v":0},{"$f":"IFERROR($E277*SUMIF('Daily Log'!$Q$18:$Q$1017,$B277,'Daily Log'!$R$18:$R$1017),0)","v":0},{"$f":"IFERROR($E277*SUMIF('Daily Log'!$T$18:$T$1017,$B277,'Daily Log'!$U$18:$U$1017),0)","v":0},{"$f":"IFERROR($E277*SUMIF('Daily Log'!$W$18:$W$1017,$B277,'Daily Log'!$X$18:$X$1017),0)","v":0},{"$f":"IFERROR($E277*SUMIF('Daily Log'!$Z$18:$Z$1017,$B277,'Daily Log'!$AA$18:$AA$1017),0)","v":0},{"$f":"IFERROR($E277*SUMIF('Daily Log'!$AC$18:$AC$1017,$B277,'Daily Log'!$AD$18:$AD$1017),0)","v":0},{"$f":"IFERROR($E277*SUMIF('Daily Log'!$AF$18:$AF$1017,$B277,'Daily Log'!$AG$18:$AG$1017),0)","v":0},{"$f":"IFERROR($E277*SUMIF('Daily Log'!$AI$18:$AI$1017,$B277,'Daily Log'!$AJ$18:$AJ$1017),0)","v":0},{"$f":"IFERROR($E277*SUMIF('Daily Log'!$AL$18:$AL$1017,$B277,'Daily Log'!$AM$18:$AM$1017),0)","v":0},{"$f":"IFERROR($E277*SUMIF('Daily Log'!$AO$18:$AO$1017,$B277,'Daily Log'!$AP$18:$AP$1017),0)","v":0},{"$f":"IFERROR($E277*SUMIF('Daily Log'!$AR$18:$AR$1017,$B277,'Daily Log'!$AS$18:$AS$1017),0)","v":0},{"$f":"IFERROR($E277*SUMIF('Daily Log'!$AU$18:$AU$1017,$B277,'Daily Log'!$AV$18:$AV$1017),0)","v":0},{"$f":"IFERROR($E277*SUMIF('Daily Log'!$AX$18:$AX$1017,$B277,'Daily Log'!$AY$18:$AY$1017),0)","v":0},{"$f":"IFERROR($E277*SUMIF('Daily Log'!$BA$18:$BA$1017,$B277,'Daily Log'!$BB$18:$BB$1017),0)","v":0},{"$f":"IFERROR($E277*SUMIF('Daily Log'!$BD$18:$BD$1017,$B277,'Daily Log'!$BE$18:$BE$1017),0)","v":0},{"$f":"IFERROR($E277*SUMIF('Daily Log'!$BG$18:$BG$1017,$B277,'Daily Log'!$BH$18:$BH$1017),0)","v":0},{"$f":"IFERROR($E277*SUMIF('Daily Log'!$BJ$18:$BJ$1017,$B277,'Daily Log'!$BK$18:$BK$1017),0)","v":0},{"$f":"IFERROR($E277*SUMIF('Daily Log'!$BM$18:$BM$1017,$B277,'Daily Log'!$BN$18:$BN$1017),0)","v":0},{"$f":"IFERROR($E277*SUMIF('Daily Log'!$BP$18:$BP$1017,$B277,'Daily Log'!$BQ$18:$BQ$1017),0)","v":0},{"$f":"IFERROR($E277*SUMIF('Daily Log'!$BS$18:$BS$1017,$B277,'Daily Log'!$BT$18:$BT$1017),0)","v":0},{"$f":"IFERROR($E277*SUMIF('Daily Log'!$BV$18:$BV$1017,$B277,'Daily Log'!$BW$18:$BW$1017),0)","v":0},{"$f":"IFERROR($E277*SUMIF('Daily Log'!$BY$18:$BY$1017,$B277,'Daily Log'!$BZ$18:$BZ$1017),0)","v":0},{"$f":"IFERROR($E277*SUMIF('Daily Log'!$CB$18:$CB$1017,$B277,'Daily Log'!$CC$18:$CC$1017),0)","v":0},{"$f":"IFERROR($E277*SUMIF('Daily Log'!$CE$18:$CE$1017,$B277,'Daily Log'!$CF$18:$CF$1017),0)","v":0},{"$f":"IFERROR($E277*SUMIF('Daily Log'!$CH$18:$CH$1017,$B277,'Daily Log'!$CI$18:$CI$1017),0)","v":0},{"$f":"IFERROR($E277*SUMIF('Daily Log'!$CK$18:$CK$1017,$B277,'Daily Log'!$CL$18:$CL$1017),0)","v":0},{"$f":"IFERROR($E277*SUMIF('Daily Log'!$CN$18:$CN$1017,$B277,'Daily Log'!$CO$18:$CO$1017),0)","v":0}]
[null,"DI11 91302:NUGGET",null,"KLKD-APPETIZER",1,0,{"$f":"IFERROR($E278*SUMIF('Daily Log'!$B$18:$B$1017,$B278,'Daily Log'!$C$18:$C$1017),0)","v":0},{"$f":"IFERROR($E278*SUMIF('Daily Log'!$E$18:$E$1017,$B278,'Daily Log'!$F$18:$F$1017),0)","v":0},{"$f":"IFERROR($E278*SUMIF('Daily Log'!$H$18:$H$1017,$B278,'Daily Log'!$I$18:$I$1017),0)","v":0},{"$f":"IFERROR($E278*SUMIF('Daily Log'!$K$18:$K$1017,$B278,'Daily Log'!$L$18:$L$1017),0)","v":0},{"$f":"IFERROR($E278*SUMIF('Daily Log'!$N$18:$N$1017,$B278,'Daily Log'!$O$18:$O$1017),0)","v":0},{"$f":"IFERROR($E278*SUMIF('Daily Log'!$Q$18:$Q$1017,$B278,'Daily Log'!$R$18:$R$1017),0)","v":0},{"$f":"IFERROR($E278*SUMIF('Daily Log'!$T$18:$T$1017,$B278,'Daily Log'!$U$18:$U$1017),0)","v":0},{"$f":"IFERROR($E278*SUMIF('Daily Log'!$W$18:$W$1017,$B278,'Daily Log'!$X$18:$X$1017),0)","v":0},{"$f":"IFERROR($E278*SUMIF('Daily Log'!$Z$18:$Z$1017,$B278,'Daily Log'!$AA$18:$AA$1017),0)","v":0},{"$f":"IFERROR($E278*SUMIF('Daily Log'!$AC$18:$AC$1017,$B278,'Daily Log'!$AD$18:$AD$1017),0)","v":0},{"$f":"IFERROR($E278*SUMIF('Daily Log'!$AF$18:$AF$1017,$B278,'Daily Log'!$AG$18:$AG$1017),0)","v":0},{"$f":"IFERROR($E278*SUMIF('Daily Log'!$AI$18:$AI$1017,$B278,'Daily Log'!$AJ$18:$AJ$1017),0)","v":0},{"$f":"IFERROR($E278*SUMIF('Daily Log'!$AL$18:$AL$1017,$B278,'Daily Log'!$AM$18:$AM$1017),0)","v":0},{"$f":"IFERROR($E278*SUMIF('Daily Log'!$AO$18:$AO$1017,$B278,'Daily Log'!$AP$18:$AP$1017),0)","v":0},{"$f":"IFERROR($E278*SUMIF('Daily Log'!$AR$18:$AR$1017,$B278,'Daily Log'!$AS$18:$AS$1017),0)","v":0},{"$f":"IFERROR($E278*SUMIF('Daily Log'!$AU$18:$AU$1017,$B278,'Daily Log'!$AV$18:$AV$1017),0)","v":0},{"$f":"IFERROR($E278*SUMIF('Daily Log'!$AX$18:$AX$1017,$B278,'Daily Log'!$AY$18:$AY$1017),0)","v":0},{"$f":"IFERROR($E278*SUMIF('Daily Log'!$BA$18:$BA$1017,$B278,'Daily Log'!$BB$18:$BB$1017),0)","v":0},{"$f":"IFERROR($E278*SUMIF('Daily Log'!$BD$18:$BD$1017,$B278,'Daily Log'!$BE$18:$BE$1017),0)","v":0},{"$f":"IFERROR($E278*SUMIF('Daily Log'!$BG$18:$BG$1017,$B278,'Daily Log'!$BH$18:$BH$1017),0)","v":0},{"$f":"IFERROR($E278*SUMIF('Daily Log'!$BJ$18:$BJ$1017,$B278,'Daily Log'!$BK$18:$BK$1017),0)","v":0},{"$f":"IFERROR($E278*SUMIF('Daily Log'!$BM$18:$BM$1017,$B278,'Daily Log'!$BN$18:$BN$1017),0)","v":0},{"$f":"IFERROR($E278*SUMIF('Daily Log'!$BP$18:$BP$1017,$B278,'Daily Log'!$BQ$18:$BQ$1017),0)","v":0},{"$f":"IFERROR($E278*SUMIF('Daily Log'!$BS$18:$BS$1017,$B278,'Daily Log'!$BT$18:$BT$1017),0)","v":0},{"$f":"IFERROR($E278*SUMIF('Daily Log'!$BV$18:$BV$1017,$B278,'Daily Log'!$BW$18:$BW$1017),0)","v":0},{"$f":"IFERROR($E278*SUMIF('Daily Log'!$BY$18:$BY$1017,$B278,'Daily Log'!$BZ$18:$BZ$1017),0)","v":0},{"$f":"IFERROR($E278*SUMIF('Daily Log'!$CB$18:$CB$1017,$B278,'Daily Log'!$CC$18:$CC$1017),0)","v":0},{"$f":"IFERROR($E278*SUMIF('Daily Log'!$CE$18:$CE$1017,$B278,'Daily Log'!$CF$18:$CF$1017),0)","v":0},{"$f":"IFERROR($E278*SUMIF('Daily Log'!$CH$18:$CH$1017,$B278,'Daily Log'!$CI$18:$CI$1017),0)","v":0},{"$f":"IFERROR($E278*SUMIF('Daily Log'!$CK$18:$CK$1017,$B278,'Daily Log'!$CL$18:$CL$1017),0)","v":0},{"$f":"IFERROR($E278*SUMIF('Daily Log'!$CN$18:$CN$1017,$B278,'Daily Log'!$CO$18:$CO$1017),0)","v":0}]
[null,"DI12 91303:CHK WING",null,"KLKD-APPETIZER",1,0,{"$f":"IFERROR($E279*SUMIF('Daily Log'!$B$18:$B$1017,$B279,'Daily Log'!$C$18:$C$1017),0)","v":0},{"$f":"IFERROR($E279*SUMIF('Daily Log'!$E$18:$E$1017,$B279,'Daily Log'!$F$18:$F$1017),0)","v":0},{"$f":"IFERROR($E279*SUMIF('Daily Log'!$H$18:$H$1017,$B279,'Daily Log'!$I$18:$I$1017),0)","v":0},{"$f":"IFERROR($E279*SUMIF('Daily Log'!$K$18:$K$1017,$B279,'Daily Log'!$L$18:$L$1017),0)","v":0},{"$f":"IFERROR($E279*SUMIF('Daily Log'!$N$18:$N$1017,$B279,'Daily Log'!$O$18:$O$1017),0)","v":0},{"$f":"IFERROR($E279*SUMIF('Daily Log'!$Q$18:$Q$1017,$B279,'Daily Log'!$R$18:$R$1017),0)","v":0},{"$f":"IFERROR($E279*SUMIF('Daily Log'!$T$18:$T$1017,$B279,'Daily Log'!$U$18:$U$1017),0)","v":0},{"$f":"IFERROR($E279*SUMIF('Daily Log'!$W$18:$W$1017,$B279,'Daily Log'!$X$18:$X$1017),0)","v":0},{"$f":"IFERROR($E279*SUMIF('Daily Log'!$Z$18:$Z$1017,$B279,'Daily Log'!$AA$18:$AA$1017),0)","v":0},{"$f":"IFERROR($E279*SUMIF('Daily Log'!$AC$18:$AC$1017,$B279,'Daily Log'!$AD$18:$AD$1017),0)","v":0},{"$f":"IFERROR($E279*SUMIF('Daily Log'!$AF$18:$AF$1017,$B279,'Daily Log'!$AG$18:$AG$1017),0)","v":0},{"$f":"IFERROR($E279*SUMIF('Daily Log'!$AI$18:$AI$1017,$B279,'Daily Log'!$AJ$18:$AJ$1017),0)","v":0},{"$f":"IFERROR($E279*SUMIF('Daily Log'!$AL$18:$AL$1017,$B279,'Daily Log'!$AM$18:$AM$1017),0)","v":0},{"$f":"IFERROR($E279*SUMIF('Daily Log'!$AO$18:$AO$1017,$B279,'Daily Log'!$AP$18:$AP$1017),0)","v":0},{"$f":"IFERROR($E279*SUMIF('Daily Log'!$AR$18:$AR$1017,$B279,'Daily Log'!$AS$18:$AS$1017),0)","v":0},{"$f":"IFERROR($E279*SUMIF('Daily Log'!$AU$18:$AU$1017,$B279,'Daily Log'!$AV$18:$AV$1017),0)","v":0},{"$f":"IFERROR($E279*SUMIF('Daily Log'!$AX$18:$AX$1017,$B279,'Daily Log'!$AY$18:$AY$1017),0)","v":0},{"$f":"IFERROR($E279*SUMIF('Daily Log'!$BA$18:$BA$1017,$B279,'Daily Log'!$BB$18:$BB$1017),0)","v":0},{"$f":"IFERROR($E279*SUMIF('Daily Log'!$BD$18:$BD$1017,$B279,'Daily Log'!$BE$18:$BE$1017),0)","v":0},{"$f":"IFERROR($E279*SUMIF('Daily Log'!$BG$18:$BG$1017,$B279,'Daily Log'!$BH$18:$BH$1017),0)","v":0},{"$f":"IFERROR($E279*SUMIF('Daily Log'!$BJ$18:$BJ$1017,$B279,'Daily Log'!$BK$18:$BK$1017),0)","v":0},{"$f":"IFERROR($E279*SUMIF('Daily Log'!$BM$18:$BM$1017,$B279,'Daily Log'!$BN$18:$BN$1017),0)","v":0},{"$f":"IFERROR($E279*SUMIF('Daily Log'!$BP$18:$BP$1017,$B279,'Daily Log'!$BQ$18:$BQ$1017),0)","v":0},{"$f":"IFERROR($E279*SUMIF('Daily Log'!$BS$18:$BS$1017,$B279,'Daily Log'!$BT$18:$BT$1017),0)","v":0},{"$f":"IFERROR($E279*SUMIF('Daily Log'!$BV$18:$BV$1017,$B279,'Daily Log'!$BW$18:$BW$1017),0)","v":0},{"$f":"IFERROR($E279*SUMIF('Daily Log'!$BY$18:$BY$1017,$B279,'Daily Log'!$BZ$18:$BZ$1017),0)","v":0},{"$f":"IFERROR($E279*SUMIF('Daily Log'!$CB$18:$CB$1017,$B279,'Daily Log'!$CC$18:$CC$1017),0)","v":0},{"$f":"IFERROR($E279*SUMIF('Daily Log'!$CE$18:$CE$1017,$B279,'Daily Log'!$CF$18:$CF$1017),0)","v":0},{"$f":"IFERROR($E279*SUMIF('Daily Log'!$CH$18:$CH$1017,$B279,'Daily Log'!$CI$18:$CI$1017),0)","v":0},{"$f":"IFERROR($E279*SUMIF('Daily Log'!$CK$18:$CK$1017,$B279,'Daily Log'!$CL$18:$CL$1017),0)","v":0},{"$f":"IFERROR($E279*SUMIF('Daily Log'!$CN$18:$CN$1017,$B279,'Daily Log'!$CO$18:$CO$1017),0)","v":0}]
[null,"DI13 91304:IKAN BILIS",null,"KLKD-APPETIZER",1,0,{"$f":"IFERROR($E280*SUMIF('Daily Log'!$B$18:$B$1017,$B280,'Daily Log'!$C$18:$C$1017),0)","v":0},{"$f":"IFERROR($E280*SUMIF('Daily Log'!$E$18:$E$1017,$B280,'Daily Log'!$F$18:$F$1017),0)","v":0},{"$f":"IFERROR($E280*SUMIF('Daily Log'!$H$18:$H$1017,$B280,'Daily Log'!$I$18:$I$1017),0)","v":0},{"$f":"IFERROR($E280*SUMIF('Daily Log'!$K$18:$K$1017,$B280,'Daily Log'!$L$18:$L$1017),0)","v":0},{"$f":"IFERROR($E280*SUMIF('Daily Log'!$N$18:$N$1017,$B280,'Daily Log'!$O$18:$O$1017),0)","v":0},{"$f":"IFERROR($E280*SUMIF('Daily Log'!$Q$18:$Q$1017,$B280,'Daily Log'!$R$18:$R$1017),0)","v":0},{"$f":"IFERROR($E280*SUMIF('Daily Log'!$T$18:$T$1017,$B280,'Daily Log'!$U$18:$U$1017),0)","v":0},{"$f":"IFERROR($E280*SUMIF('Daily Log'!$W$18:$W$1017,$B280,'Daily Log'!$X$18:$X$1017),0)","v":0},{"$f":"IFERROR($E280*SUMIF('Daily Log'!$Z$18:$Z$1017,$B280,'Daily Log'!$AA$18:$AA$1017),0)","v":0},{"$f":"IFERROR($E280*SUMIF('Daily Log'!$AC$18:$AC$1017,$B280,'Daily Log'!$AD$18:$AD$1017),0)","v":0},{"$f":"IFERROR($E280*SUMIF('Daily Log'!$AF$18:$AF$1017,$B280,'Daily Log'!$AG$18:$AG$1017),0)","v":0},{"$f":"IFERROR($E280*SUMIF('Daily Log'!$AI$18:$AI$1017,$B280,'Daily Log'!$AJ$18:$AJ$1017),0)","v":0},{"$f":"IFERROR($E280*SUMIF('Daily Log'!$AL$18:$AL$1017,$B280,'Daily Log'!$AM$18:$AM$1017),0)","v":0},{"$f":"IFERROR($E280*SUMIF('Daily Log'!$AO$18:$AO$1017,$B280,'Daily Log'!$AP$18:$AP$1017),0)","v":0},{"$f":"IFERROR($E280*SUMIF('Daily Log'!$AR$18:$AR$1017,$B280,'Daily Log'!$AS$18:$AS$1017),0)","v":0},{"$f":"IFERROR($E280*SUMIF('Daily Log'!$AU$18:$AU$1017,$B280,'Daily Log'!$AV$18:$AV$1017),0)","v":0},{"$f":"IFERROR($E280*SUMIF('Daily Log'!$AX$18:$AX$1017,$B280,'Daily Log'!$AY$18:$AY$1017),0)","v":0},{"$f":"IFERROR($E280*SUMIF('Daily Log'!$BA$18:$BA$1017,$B280,'Daily Log'!$BB$18:$BB$1017),0)","v":0},{"$f":"IFERROR($E280*SUMIF('Daily Log'!$BD$18:$BD$1017,$B280,'Daily Log'!$BE$18:$BE$1017),0)","v":0},{"$f":"IFERROR($E280*SUMIF('Daily Log'!$BG$18:$BG$1017,$B280,'Daily Log'!$BH$18:$BH$1017),0)","v":0},{"$f":"IFERROR($E280*SUMIF('Daily Log'!$BJ$18:$BJ$1017,$B280,'Daily Log'!$BK$18:$BK$1017),0)","v":0},{"$f":"IFERROR($E280*SUMIF('Daily Log'!$BM$18:$BM$1017,$B280,'Daily Log'!$BN$18:$BN$1017),0)","v":0},{"$f":"IFERROR($E280*SUMIF('Daily Log'!$BP$18:$BP$1017,$B280,'Daily Log'!$BQ$18:$BQ$1017),0)","v":0},{"$f":"IFERROR($E280*SUMIF('Daily Log'!$BS$18:$BS$1017,$B280,'Daily Log'!$BT$18:$BT$1017),0)","v":0},{"$f":"IFERROR($E280*SUMIF('Daily Log'!$BV$18:$BV$1017,$B280,'Daily Log'!$BW$18:$BW$1017),0)","v":0},{"$f":"IFERROR($E280*SUMIF('Daily Log'!$BY$18:$BY$1017,$B280,'Daily Log'!$BZ$18:$BZ$1017),0)","v":0},{"$f":"IFERROR($E280*SUMIF('Daily Log'!$CB$18:$CB$1017,$B280,'Daily Log'!$CC$18:$CC$1017),0)","v":0},{"$f":"IFERROR($E280*SUMIF('Daily Log'!$CE$18:$CE$1017,$B280,'Daily Log'!$CF$18:$CF$1017),0)","v":0},{"$f":"IFERROR($E280*SUMIF('Daily Log'!$CH$18:$CH$1017,$B280,'Daily Log'!$CI$18:$CI$1017),0)","v":0},{"$f":"IFERROR($E280*SUMIF('Daily Log'!$CK$18:$CK$1017,$B280,'Daily Log'!$CL$18:$CL$1017),0)","v":0},{"$f":"IFERROR($E280*SUMIF('Daily Log'!$CN$18:$CN$1017,$B280,'Daily Log'!$CO$18:$CO$1017),0)","v":0}]
[null,"DI14 91305:THAI RL",null,"KLKD-APPETIZER",1,0,{"$f":"IFERROR($E281*SUMIF('Daily Log'!$B$18:$B$1017,$B281,'Daily Log'!$C$18:$C$1017),0)","v":0},{"$f":"IFERROR($E281*SUMIF('Daily Log'!$E$18:$E$1017,$B281,'Daily Log'!$F$18:$F$1017),0)","v":0},{"$f":"IFERROR($E281*SUMIF('Daily Log'!$H$18:$H$1017,$B281,'Daily Log'!$I$18:$I$1017),0)","v":0},{"$f":"IFERROR($E281*SUMIF('Daily Log'!$K$18:$K$1017,$B281,'Daily Log'!$L$18:$L$1017),0)","v":0},{"$f":"IFERROR($E281*SUMIF('Daily Log'!$N$18:$N$1017,$B281,'Daily Log'!$O$18:$O$1017),0)","v":0},{"$f":"IFERROR($E281*SUMIF('Daily Log'!$Q$18:$Q$1017,$B281,'Daily Log'!$R$18:$R$1017),0)","v":0},{"$f":"IFERROR($E281*SUMIF('Daily Log'!$T$18:$T$1017,$B281,'Daily Log'!$U$18:$U$1017),0)","v":0},{"$f":"IFERROR($E281*SUMIF('Daily Log'!$W$18:$W$1017,$B281,'Daily Log'!$X$18:$X$1017),0)","v":0},{"$f":"IFERROR($E281*SUMIF('Daily Log'!$Z$18:$Z$1017,$B281,'Daily Log'!$AA$18:$AA$1017),0)","v":0},{"$f":"IFERROR($E281*SUMIF('Daily Log'!$AC$18:$AC$1017,$B281,'Daily Log'!$AD$18:$AD$1017),0)","v":0},{"$f":"IFERROR($E281*SUMIF('Daily Log'!$AF$18:$AF$1017,$B281,'Daily Log'!$AG$18:$AG$1017),0)","v":0},{"$f":"IFERROR($E281*SUMIF('Daily Log'!$AI$18:$AI$1017,$B281,'Daily Log'!$AJ$18:$AJ$1017),0)","v":0},{"$f":"IFERROR($E281*SUMIF('Daily Log'!$AL$18:$AL$1017,$B281,'Daily Log'!$AM$18:$AM$1017),0)","v":0},{"$f":"IFERROR($E281*SUMIF('Daily Log'!$AO$18:$AO$1017,$B281,'Daily Log'!$AP$18:$AP$1017),0)","v":0},{"$f":"IFERROR($E281*SUMIF('Daily Log'!$AR$18:$AR$1017,$B281,'Daily Log'!$AS$18:$AS$1017),0)","v":0},{"$f":"IFERROR($E281*SUMIF('Daily Log'!$AU$18:$AU$1017,$B281,'Daily Log'!$AV$18:$AV$1017),0)","v":0},{"$f":"IFERROR($E281*SUMIF('Daily Log'!$AX$18:$AX$1017,$B281,'Daily Log'!$AY$18:$AY$1017),0)","v":0},{"$f":"IFERROR($E281*SUMIF('Daily Log'!$BA$18:$BA$1017,$B281,'Daily Log'!$BB$18:$BB$1017),0)","v":0},{"$f":"IFERROR($E281*SUMIF('Daily Log'!$BD$18:$BD$1017,$B281,'Daily Log'!$BE$18:$BE$1017),0)","v":0},{"$f":"IFERROR($E281*SUMIF('Daily Log'!$BG$18:$BG$1017,$B281,'Daily Log'!$BH$18:$BH$1017),0)","v":0},{"$f":"IFERROR($E281*SUMIF('Daily Log'!$BJ$18:$BJ$1017,$B281,'Daily Log'!$BK$18:$BK$1017),0)","v":0},{"$f":"IFERROR($E281*SUMIF('Daily Log'!$BM$18:$BM$1017,$B281,'Daily Log'!$BN$18:$BN$1017),0)","v":0},{"$f":"IFERROR($E281*SUMIF('Daily Log'!$BP$18:$BP$1017,$B281,'Daily Log'!$BQ$18:$BQ$1017),0)","v":0},{"$f":"IFERROR($E281*SUMIF('Daily Log'!$BS$18:$BS$1017,$B281,'Daily Log'!$BT$18:$BT$1017),0)","v":0},{"$f":"IFERROR($E281*SUMIF('Daily Log'!$BV$18:$BV$1017,$B281,'Daily Log'!$BW$18:$BW$1017),0)","v":0},{"$f":"IFERROR($E281*SUMIF('Daily Log'!$BY$18:$BY$1017,$B281,'Daily Log'!$BZ$18:$BZ$1017),0)","v":0},{"$f":"IFERROR($E281*SUMIF('Daily Log'!$CB$18:$CB$1017,$B281,'Daily Log'!$CC$18:$CC$1017),0)","v":0},{"$f":"IFERROR($E281*SUMIF('Daily Log'!$CE$18:$CE$1017,$B281,'Daily Log'!$CF$18:$CF$1017),0)","v":0},{"$f":"IFERROR($E281*SUMIF('Daily Log'!$CH$18:$CH$1017,$B281,'Daily Log'!$CI$18:$CI$1017),0)","v":0},{"$f":"IFERROR($E281*SUMIF('Daily Log'!$CK$18:$CK$1017,$B281,'Daily Log'!$CL$18:$CL$1017),0)","v":0},{"$f":"IFERROR($E281*SUMIF('Daily Log'!$CN$18:$CN$1017,$B281,'Daily Log'!$CO$18:$CO$1017),0)","v":0}]
[null,"DI15 91306:SLVR FISH",null,"KLKD-APPETIZER",1,0,{"$f":"IFERROR($E282*SUMIF('Daily Log'!$B$18:$B$1017,$B282,'Daily Log'!$C$18:$C$1017),0)","v":0},{"$f":"IFERROR($E282*SUMIF('Daily Log'!$E$18:$E$1017,$B282,'Daily Log'!$F$18:$F$1017),0)","v":0},{"$f":"IFERROR($E282*SUMIF('Daily Log'!$H$18:$H$1017,$B282,'Daily Log'!$I$18:$I$1017),0)","v":0},{"$f":"IFERROR($E282*SUMIF('Daily Log'!$K$18:$K$1017,$B282,'Daily Log'!$L$18:$L$1017),0)","v":0},{"$f":"IFERROR($E282*SUMIF('Daily Log'!$N$18:$N$1017,$B282,'Daily Log'!$O$18:$O$1017),0)","v":0},{"$f":"IFERROR($E282*SUMIF('Daily Log'!$Q$18:$Q$1017,$B282,'Daily Log'!$R$18:$R$1017),0)","v":0},{"$f":"IFERROR($E282*SUMIF('Daily Log'!$T$18:$T$1017,$B282,'Daily Log'!$U$18:$U$1017),0)","v":0},{"$f":"IFERROR($E282*SUMIF('Daily Log'!$W$18:$W$1017,$B282,'Daily Log'!$X$18:$X$1017),0)","v":0},{"$f":"IFERROR($E282*SUMIF('Daily Log'!$Z$18:$Z$1017,$B282,'Daily Log'!$AA$18:$AA$1017),0)","v":0},{"$f":"IFERROR($E282*SUMIF('Daily Log'!$AC$18:$AC$1017,$B282,'Daily Log'!$AD$18:$AD$1017),0)","v":0},{"$f":"IFERROR($E282*SUMIF('Daily Log'!$AF$18:$AF$1017,$B282,'Daily Log'!$AG$18:$AG$1017),0)","v":0},{"$f":"IFERROR($E282*SUMIF('Daily Log'!$AI$18:$AI$1017,$B282,'Daily Log'!$AJ$18:$AJ$1017),0)","v":0},{"$f":"IFERROR($E282*SUMIF('Daily Log'!$AL$18:$AL$1017,$B282,'Daily Log'!$AM$18:$AM$1017),0)","v":0},{"$f":"IFERROR($E282*SUMIF('Daily Log'!$AO$18:$AO$1017,$B282,'Daily Log'!$AP$18:$AP$1017),0)","v":0},{"$f":"IFERROR($E282*SUMIF('Daily Log'!$AR$18:$AR$1017,$B282,'Daily Log'!$AS$18:$AS$1017),0)","v":0},{"$f":"IFERROR($E282*SUMIF('Daily Log'!$AU$18:$AU$1017,$B282,'Daily Log'!$AV$18:$AV$1017),0)","v":0},{"$f":"IFERROR($E282*SUMIF('Daily Log'!$AX$18:$AX$1017,$B282,'Daily Log'!$AY$18:$AY$1017),0)","v":0},{"$f":"IFERROR($E282*SUMIF('Daily Log'!$BA$18:$BA$1017,$B282,'Daily Log'!$BB$18:$BB$1017),0)","v":0},{"$f":"IFERROR($E282*SUMIF('Daily Log'!$BD$18:$BD$1017,$B282,'Daily Log'!$BE$18:$BE$1017),0)","v":0},{"$f":"IFERROR($E282*SUMIF('Daily Log'!$BG$18:$BG$1017,$B282,'Daily Log'!$BH$18:$BH$1017),0)","v":0},{"$f":"IFERROR($E282*SUMIF('Daily Log'!$BJ$18:$BJ$1017,$B282,'Daily Log'!$BK$18:$BK$1017),0)","v":0},{"$f":"IFERROR($E282*SUMIF('Daily Log'!$BM$18:$BM$1017,$B282,'Daily Log'!$BN$18:$BN$1017),0)","v":0},{"$f":"IFERROR($E282*SUMIF('Daily Log'!$BP$18:$BP$1017,$B282,'Daily Log'!$BQ$18:$BQ$1017),0)","v":0},{"$f":"IFERROR($E282*SUMIF('Daily Log'!$BS$18:$BS$1017,$B282,'Daily Log'!$BT$18:$BT$1017),0)","v":0},{"$f":"IFERROR($E282*SUMIF('Daily Log'!$BV$18:$BV$1017,$B282,'Daily Log'!$BW$18:$BW$1017),0)","v":0},{"$f":"IFERROR($E282*SUMIF('Daily Log'!$BY$18:$BY$1017,$B282,'Daily Log'!$BZ$18:$BZ$1017),0)","v":0},{"$f":"IFERROR($E282*SUMIF('Daily Log'!$CB$18:$CB$1017,$B282,'Daily Log'!$CC$18:$CC$1017),0)","v":0},{"$f":"IFERROR($E282*SUMIF('Daily Log'!$CE$18:$CE$1017,$B282,'Daily Log'!$CF$18:$CF$1017),0)","v":0},{"$f":"IFERROR($E282*SUMIF('Daily Log'!$CH$18:$CH$1017,$B282,'Daily Log'!$CI$18:$CI$1017),0)","v":0},{"$f":"IFERROR($E282*SUMIF('Daily Log'!$CK$18:$CK$1017,$B282,'Daily Log'!$CL$18:$CL$1017),0)","v":0},{"$f":"IFERROR($E282*SUMIF('Daily Log'!$CN$18:$CN$1017,$B282,'Daily Log'!$CO$18:$CO$1017),0)","v":0}]
[null,"DH01 DUNHILL",null,"CIGARETTE",1,41,{"$f":"IFERROR($E283*SUMIF('Daily Log'!$B$18:$B$1017,$B283,'Daily Log'!$C$18:$C$1017),0)","v":0},{"$f":"IFERROR($E283*SUMIF('Daily Log'!$E$18:$E$1017,$B283,'Daily Log'!$F$18:$F$1017),0)","v":0},{"$f":"IFERROR($E283*SUMIF('Daily Log'!$H$18:$H$1017,$B283,'Daily Log'!$I$18:$I$1017),0)","v":0},{"$f":"IFERROR($E283*SUMIF('Daily Log'!$K$18:$K$1017,$B283,'Daily Log'!$L$18:$L$1017),0)","v":0},{"$f":"IFERROR($E283*SUMIF('Daily Log'!$N$18:$N$1017,$B283,'Daily Log'!$O$18:$O$1017),0)","v":0},{"$f":"IFERROR($E283*SUMIF('Daily Log'!$Q$18:$Q$1017,$B283,'Daily Log'!$R$18:$R$1017),0)","v":0},{"$f":"IFERROR($E283*SUMIF('Daily Log'!$T$18:$T$1017,$B283,'Daily Log'!$U$18:$U$1017),0)","v":0},{"$f":"IFERROR($E283*SUMIF('Daily Log'!$W$18:$W$1017,$B283,'Daily Log'!$X$18:$X$1017),0)","v":0},{"$f":"IFERROR($E283*SUMIF('Daily Log'!$Z$18:$Z$1017,$B283,'Daily Log'!$AA$18:$AA$1017),0)","v":0},{"$f":"IFERROR($E283*SUMIF('Daily Log'!$AC$18:$AC$1017,$B283,'Daily Log'!$AD$18:$AD$1017),0)","v":0},{"$f":"IFERROR($E283*SUMIF('Daily Log'!$AF$18:$AF$1017,$B283,'Daily Log'!$AG$18:$AG$1017),0)","v":0},{"$f":"IFERROR($E283*SUMIF('Daily Log'!$AI$18:$AI$1017,$B283,'Daily Log'!$AJ$18:$AJ$1017),0)","v":0},{"$f":"IFERROR($E283*SUMIF('Daily Log'!$AL$18:$AL$1017,$B283,'Daily Log'!$AM$18:$AM$1017),0)","v":0},{"$f":"IFERROR($E283*SUMIF('Daily Log'!$AO$18:$AO$1017,$B283,'Daily Log'!$AP$18:$AP$1017),0)","v":0},{"$f":"IFERROR($E283*SUMIF('Daily Log'!$AR$18:$AR$1017,$B283,'Daily Log'!$AS$18:$AS$1017),0)","v":0},{"$f":"IFERROR($E283*SUMIF('Daily Log'!$AU$18:$AU$1017,$B283,'Daily Log'!$AV$18:$AV$1017),0)","v":0},{"$f":"IFERROR($E283*SUMIF('Daily Log'!$AX$18:$AX$1017,$B283,'Daily Log'!$AY$18:$AY$1017),0)","v":0},{"$f":"IFERROR($E283*SUMIF('Daily Log'!$BA$18:$BA$1017,$B283,'Daily Log'!$BB$18:$BB$1017),0)","v":0},{"$f":"IFERROR($E283*SUMIF('Daily Log'!$BD$18:$BD$1017,$B283,'Daily Log'!$BE$18:$BE$1017),0)","v":0},{"$f":"IFERROR($E283*SUMIF('Daily Log'!$BG$18:$BG$1017,$B283,'Daily Log'!$BH$18:$BH$1017),0)","v":0},{"$f":"IFERROR($E283*SUMIF('Daily Log'!$BJ$18:$BJ$1017,$B283,'Daily Log'!$BK$18:$BK$1017),0)","v":0},{"$f":"IFERROR($E283*SUMIF('Daily Log'!$BM$18:$BM$1017,$B283,'Daily Log'!$BN$18:$BN$1017),0)","v":0},{"$f":"IFERROR($E283*SUMIF('Daily Log'!$BP$18:$BP$1017,$B283,'Daily Log'!$BQ$18:$BQ$1017),0)","v":0},{"$f":"IFERROR($E283*SUMIF('Daily Log'!$BS$18:$BS$1017,$B283,'Daily Log'!$BT$18:$BT$1017),0)","v":0},{"$f":"IFERROR($E283*SUMIF('Daily Log'!$BV$18:$BV$1017,$B283,'Daily Log'!$BW$18:$BW$1017),0)","v":0},{"$f":"IFERROR($E283*SUMIF('Daily Log'!$BY$18:$BY$1017,$B283,'Daily Log'!$BZ$18:$BZ$1017),0)","v":0},{"$f":"IFERROR($E283*SUMIF('Daily Log'!$CB$18:$CB$1017,$B283,'Daily Log'!$CC$18:$CC$1017),0)","v":0},{"$f":"IFERROR($E283*SUMIF('Daily Log'!$CE$18:$CE$1017,$B283,'Daily Log'!$CF$18:$CF$1017),0)","v":41},{"$f":"IFERROR($E283*SUMIF('Daily Log'!$CH$18:$CH$1017,$B283,'Daily Log'!$CI$18:$CI$1017),0)","v":0},{"$f":"IFERROR($E283*SUMIF('Daily Log'!$CK$18:$CK$1017,$B283,'Daily Log'!$CL$18:$CL$1017),0)","v":0},{"$f":"IFERROR($E283*SUMIF('Daily Log'!$CN$18:$CN$1017,$B283,'Daily Log'!$CO$18:$CO$1017),0)","v":0}]
[null,"DH02 DUNHILL LITE",null,"CIGARETTE",1,11,{"$f":"IFERROR($E284*SUMIF('Daily Log'!$B$18:$B$1017,$B284,'Daily Log'!$C$18:$C$1017),0)","v":0},{"$f":"IFERROR($E284*SUMIF('Daily Log'!$E$18:$E$1017,$B284,'Daily Log'!$F$18:$F$1017),0)","v":0},{"$f":"IFERROR($E284*SUMIF('Daily Log'!$H$18:$H$1017,$B284,'Daily Log'!$I$18:$I$1017),0)","v":0},{"$f":"IFERROR($E284*SUMIF('Daily Log'!$K$18:$K$1017,$B284,'Daily Log'!$L$18:$L$1017),0)","v":0},{"$f":"IFERROR($E284*SUMIF('Daily Log'!$N$18:$N$1017,$B284,'Daily Log'!$O$18:$O$1017),0)","v":0},{"$f":"IFERROR($E284*SUMIF('Daily Log'!$Q$18:$Q$1017,$B284,'Daily Log'!$R$18:$R$1017),0)","v":0},{"$f":"IFERROR($E284*SUMIF('Daily Log'!$T$18:$T$1017,$B284,'Daily Log'!$U$18:$U$1017),0)","v":0},{"$f":"IFERROR($E284*SUMIF('Daily Log'!$W$18:$W$1017,$B284,'Daily Log'!$X$18:$X$1017),0)","v":0},{"$f":"IFERROR($E284*SUMIF('Daily Log'!$Z$18:$Z$1017,$B284,'Daily Log'!$AA$18:$AA$1017),0)","v":0},{"$f":"IFERROR($E284*SUMIF('Daily Log'!$AC$18:$AC$1017,$B284,'Daily Log'!$AD$18:$AD$1017),0)","v":0},{"$f":"IFERROR($E284*SUMIF('Daily Log'!$AF$18:$AF$1017,$B284,'Daily Log'!$AG$18:$AG$1017),0)","v":0},{"$f":"IFERROR($E284*SUMIF('Daily Log'!$AI$18:$AI$1017,$B284,'Daily Log'!$AJ$18:$AJ$1017),0)","v":0},{"$f":"IFERROR($E284*SUMIF('Daily Log'!$AL$18:$AL$1017,$B284,'Daily Log'!$AM$18:$AM$1017),0)","v":0},{"$f":"IFERROR($E284*SUMIF('Daily Log'!$AO$18:$AO$1017,$B284,'Daily Log'!$AP$18:$AP$1017),0)","v":0},{"$f":"IFERROR($E284*SUMIF('Daily Log'!$AR$18:$AR$1017,$B284,'Daily Log'!$AS$18:$AS$1017),0)","v":0},{"$f":"IFERROR($E284*SUMIF('Daily Log'!$AU$18:$AU$1017,$B284,'Daily Log'!$AV$18:$AV$1017),0)","v":0},{"$f":"IFERROR($E284*SUMIF('Daily Log'!$AX$18:$AX$1017,$B284,'Daily Log'!$AY$18:$AY$1017),0)","v":0},{"$f":"IFERROR($E284*SUMIF('Daily Log'!$BA$18:$BA$1017,$B284,'Daily Log'!$BB$18:$BB$1017),0)","v":0},{"$f":"IFERROR($E284*SUMIF('Daily Log'!$BD$18:$BD$1017,$B284,'Daily Log'!$BE$18:$BE$1017),0)","v":0},{"$f":"IFERROR($E284*SUMIF('Daily Log'!$BG$18:$BG$1017,$B284,'Daily Log'!$BH$18:$BH$1017),0)","v":0},{"$f":"IFERROR($E284*SUMIF('Daily Log'!$BJ$18:$BJ$1017,$B284,'Daily Log'!$BK$18:$BK$1017),0)","v":0},{"$f":"IFERROR($E284*SUMIF('Daily Log'!$BM$18:$BM$1017,$B284,'Daily Log'!$BN$18:$BN$1017),0)","v":0},{"$f":"IFERROR($E284*SUMIF('Daily Log'!$BP$18:$BP$1017,$B284,'Daily Log'!$BQ$18:$BQ$1017),0)","v":0},{"$f":"IFERROR($E284*SUMIF('Daily Log'!$BS$18:$BS$1017,$B284,'Daily Log'!$BT$18:$BT$1017),0)","v":0},{"$f":"IFERROR($E284*SUMIF('Daily Log'!$BV$18:$BV$1017,$B284,'Daily Log'!$BW$18:$BW$1017),0)","v":0},{"$f":"IFERROR($E284*SUMIF('Daily Log'!$BY$18:$BY$1017,$B284,'Daily Log'!$BZ$18:$BZ$1017),0)","v":0},{"$f":"IFERROR($E284*SUMIF('Daily Log'!$CB$18:$CB$1017,$B284,'Daily Log'!$CC$18:$CC$1017),0)","v":0},{"$f":"IFERROR($E284*SUMIF('Daily Log'!$CE$18:$CE$1017,$B284,'Daily Log'!$CF$18:$CF$1017),0)","v":11},{"$f":"IFERROR($E284*SUMIF('Daily Log'!$CH$18:$CH$1017,$B284,'Daily Log'!$CI$18:$CI$1017),0)","v":0},{"$f":"IFERROR($E284*SUMIF('Daily Log'!$CK$18:$CK$1017,$B284,'Daily Log'!$CL$18:$CL$1017),0)","v":0},{"$f":"IFERROR($E284*SUMIF('Daily Log'!$CN$18:$CN$1017,$B284,'Daily Log'!$CO$18:$CO$1017),0)","v":0}]
[null,"DH03 DUNHILL MT",null,"CIGARETTE",1,11,{"$f":"IFERROR($E285*SUMIF('Daily Log'!$B$18:$B$1017,$B285,'Daily Log'!$C$18:$C$1017),0)","v":0},{"$f":"IFERROR($E285*SUMIF('Daily Log'!$E$18:$E$1017,$B285,'Daily Log'!$F$18:$F$1017),0)","v":0},{"$f":"IFERROR($E285*SUMIF('Daily Log'!$H$18:$H$1017,$B285,'Daily Log'!$I$18:$I$1017),0)","v":0},{"$f":"IFERROR($E285*SUMIF('Daily Log'!$K$18:$K$1017,$B285,'Daily Log'!$L$18:$L$1017),0)","v":0},{"$f":"IFERROR($E285*SUMIF('Daily Log'!$N$18:$N$1017,$B285,'Daily Log'!$O$18:$O$1017),0)","v":0},{"$f":"IFERROR($E285*SUMIF('Daily Log'!$Q$18:$Q$1017,$B285,'Daily Log'!$R$18:$R$1017),0)","v":0},{"$f":"IFERROR($E285*SUMIF('Daily Log'!$T$18:$T$1017,$B285,'Daily Log'!$U$18:$U$1017),0)","v":0},{"$f":"IFERROR($E285*SUMIF('Daily Log'!$W$18:$W$1017,$B285,'Daily Log'!$X$18:$X$1017),0)","v":0},{"$f":"IFERROR($E285*SUMIF('Daily Log'!$Z$18:$Z$1017,$B285,'Daily Log'!$AA$18:$AA$1017),0)","v":0},{"$f":"IFERROR($E285*SUMIF('Daily Log'!$AC$18:$AC$1017,$B285,'Daily Log'!$AD$18:$AD$1017),0)","v":0},{"$f":"IFERROR($E285*SUMIF('Daily Log'!$AF$18:$AF$1017,$B285,'Daily Log'!$AG$18:$AG$1017),0)","v":0},{"$f":"IFERROR($E285*SUMIF('Daily Log'!$AI$18:$AI$1017,$B285,'Daily Log'!$AJ$18:$AJ$1017),0)","v":0},{"$f":"IFERROR($E285*SUMIF('Daily Log'!$AL$18:$AL$1017,$B285,'Daily Log'!$AM$18:$AM$1017),0)","v":0},{"$f":"IFERROR($E285*SUMIF('Daily Log'!$AO$18:$AO$1017,$B285,'Daily Log'!$AP$18:$AP$1017),0)","v":0},{"$f":"IFERROR($E285*SUMIF('Daily Log'!$AR$18:$AR$1017,$B285,'Daily Log'!$AS$18:$AS$1017),0)","v":0},{"$f":"IFERROR($E285*SUMIF('Daily Log'!$AU$18:$AU$1017,$B285,'Daily Log'!$AV$18:$AV$1017),0)","v":0},{"$f":"IFERROR($E285*SUMIF('Daily Log'!$AX$18:$AX$1017,$B285,'Daily Log'!$AY$18:$AY$1017),0)","v":0},{"$f":"IFERROR($E285*SUMIF('Daily Log'!$BA$18:$BA$1017,$B285,'Daily Log'!$BB$18:$BB$1017),0)","v":0},{"$f":"IFERROR($E285*SUMIF('Daily Log'!$BD$18:$BD$1017,$B285,'Daily Log'!$BE$18:$BE$1017),0)","v":0},{"$f":"IFERROR($E285*SUMIF('Daily Log'!$BG$18:$BG$1017,$B285,'Daily Log'!$BH$18:$BH$1017),0)","v":0},{"$f":"IFERROR($E285*SUMIF('Daily Log'!$BJ$18:$BJ$1017,$B285,'Daily Log'!$BK$18:$BK$1017),0)","v":0},{"$f":"IFERROR($E285*SUMIF('Daily Log'!$BM$18:$BM$1017,$B285,'Daily Log'!$BN$18:$BN$1017),0)","v":0},{"$f":"IFERROR($E285*SUMIF('Daily Log'!$BP$18:$BP$1017,$B285,'Daily Log'!$BQ$18:$BQ$1017),0)","v":0},{"$f":"IFERROR($E285*SUMIF('Daily Log'!$BS$18:$BS$1017,$B285,'Daily Log'!$BT$18:$BT$1017),0)","v":0},{"$f":"IFERROR($E285*SUMIF('Daily Log'!$BV$18:$BV$1017,$B285,'Daily Log'!$BW$18:$BW$1017),0)","v":0},{"$f":"IFERROR($E285*SUMIF('Daily Log'!$BY$18:$BY$1017,$B285,'Daily Log'!$BZ$18:$BZ$1017),0)","v":0},{"$f":"IFERROR($E285*SUMIF('Daily Log'!$CB$18:$CB$1017,$B285,'Daily Log'!$CC$18:$CC$1017),0)","v":0},{"$f":"IFERROR($E285*SUMIF('Daily Log'!$CE$18:$CE$1017,$B285,'Daily Log'!$CF$18:$CF$1017),0)","v":11},{"$f":"IFERROR($E285*SUMIF('Daily Log'!$CH$18:$CH$1017,$B285,'Daily Log'!$CI$18:$CI$1017),0)","v":0},{"$f":"IFERROR($E285*SUMIF('Daily Log'!$CK$18:$CK$1017,$B285,'Daily Log'!$CL$18:$CL$1017),0)","v":0},{"$f":"IFERROR($E285*SUMIF('Daily Log'!$CN$18:$CN$1017,$B285,'Daily Log'!$CO$18:$CO$1017),0)","v":0}]
[null,"DH07 DUNHILL ICE",null,"CIGARETTE",1,25,{"$f":"IFERROR($E286*SUMIF('Daily Log'!$B$18:$B$1017,$B286,'Daily Log'!$C$18:$C$1017),0)","v":0},{"$f":"IFERROR($E286*SUMIF('Daily Log'!$E$18:$E$1017,$B286,'Daily Log'!$F$18:$F$1017),0)","v":0},{"$f":"IFERROR($E286*SUMIF('Daily Log'!$H$18:$H$1017,$B286,'Daily Log'!$I$18:$I$1017),0)","v":0},{"$f":"IFERROR($E286*SUMIF('Daily Log'!$K$18:$K$1017,$B286,'Daily Log'!$L$18:$L$1017),0)","v":0},{"$f":"IFERROR($E286*SUMIF('Daily Log'!$N$18:$N$1017,$B286,'Daily Log'!$O$18:$O$1017),0)","v":0},{"$f":"IFERROR($E286*SUMIF('Daily Log'!$Q$18:$Q$1017,$B286,'Daily Log'!$R$18:$R$1017),0)","v":0},{"$f":"IFERROR($E286*SUMIF('Daily Log'!$T$18:$T$1017,$B286,'Daily Log'!$U$18:$U$1017),0)","v":0},{"$f":"IFERROR($E286*SUMIF('Daily Log'!$W$18:$W$1017,$B286,'Daily Log'!$X$18:$X$1017),0)","v":0},{"$f":"IFERROR($E286*SUMIF('Daily Log'!$Z$18:$Z$1017,$B286,'Daily Log'!$AA$18:$AA$1017),0)","v":0},{"$f":"IFERROR($E286*SUMIF('Daily Log'!$AC$18:$AC$1017,$B286,'Daily Log'!$AD$18:$AD$1017),0)","v":0},{"$f":"IFERROR($E286*SUMIF('Daily Log'!$AF$18:$AF$1017,$B286,'Daily Log'!$AG$18:$AG$1017),0)","v":0},{"$f":"IFERROR($E286*SUMIF('Daily Log'!$AI$18:$AI$1017,$B286,'Daily Log'!$AJ$18:$AJ$1017),0)","v":0},{"$f":"IFERROR($E286*SUMIF('Daily Log'!$AL$18:$AL$1017,$B286,'Daily Log'!$AM$18:$AM$1017),0)","v":0},{"$f":"IFERROR($E286*SUMIF('Daily Log'!$AO$18:$AO$1017,$B286,'Daily Log'!$AP$18:$AP$1017),0)","v":0},{"$f":"IFERROR($E286*SUMIF('Daily Log'!$AR$18:$AR$1017,$B286,'Daily Log'!$AS$18:$AS$1017),0)","v":0},{"$f":"IFERROR($E286*SUMIF('Daily Log'!$AU$18:$AU$1017,$B286,'Daily Log'!$AV$18:$AV$1017),0)","v":0},{"$f":"IFERROR($E286*SUMIF('Daily Log'!$AX$18:$AX$1017,$B286,'Daily Log'!$AY$18:$AY$1017),0)","v":0},{"$f":"IFERROR($E286*SUMIF('Daily Log'!$BA$18:$BA$1017,$B286,'Daily Log'!$BB$18:$BB$1017),0)","v":0},{"$f":"IFERROR($E286*SUMIF('Daily Log'!$BD$18:$BD$1017,$B286,'Daily Log'!$BE$18:$BE$1017),0)","v":0},{"$f":"IFERROR($E286*SUMIF('Daily Log'!$BG$18:$BG$1017,$B286,'Daily Log'!$BH$18:$BH$1017),0)","v":0},{"$f":"IFERROR($E286*SUMIF('Daily Log'!$BJ$18:$BJ$1017,$B286,'Daily Log'!$BK$18:$BK$1017),0)","v":0},{"$f":"IFERROR($E286*SUMIF('Daily Log'!$BM$18:$BM$1017,$B286,'Daily Log'!$BN$18:$BN$1017),0)","v":0},{"$f":"IFERROR($E286*SUMIF('Daily Log'!$BP$18:$BP$1017,$B286,'Daily Log'!$BQ$18:$BQ$1017),0)","v":0},{"$f":"IFERROR($E286*SUMIF('Daily Log'!$BS$18:$BS$1017,$B286,'Daily Log'!$BT$18:$BT$1017),0)","v":0},{"$f":"IFERROR($E286*SUMIF('Daily Log'!$BV$18:$BV$1017,$B286,'Daily Log'!$BW$18:$BW$1017),0)","v":0},{"$f":"IFERROR($E286*SUMIF('Daily Log'!$BY$18:$BY$1017,$B286,'Daily Log'!$BZ$18:$BZ$1017),0)","v":0},{"$f":"IFERROR($E286*SUMIF('Daily Log'!$CB$18:$CB$1017,$B286,'Daily Log'!$CC$18:$CC$1017),0)","v":0},{"$f":"IFERROR($E286*SUMIF('Daily Log'!$CE$18:$CE$1017,$B286,'Daily Log'!$CF$18:$CF$1017),0)","v":25},{"$f":"IFERROR($E286*SUMIF('Daily Log'!$CH$18:$CH$1017,$B286,'Daily Log'!$CI$18:$CI$1017),0)","v":0},{"$f":"IFERROR($E286*SUMIF('Daily Log'!$CK$18:$CK$1017,$B286,'Daily Log'!$CL$18:$CL$1017),0)","v":0},{"$f":"IFERROR($E286*SUMIF('Daily Log'!$CN$18:$CN$1017,$B286,'Daily Log'!$CO$18:$CO$1017),0)","v":0}]
[null,"CIGARETTE TOTAL",null,"CIGARETTE",null,null,{"$f":"SUBTOTAL(9,G190:G286)","v":0},{"$f":"SUBTOTAL(9,H190:H286)","v":0},0,0,0,0,0,0,0,0,0,0,0,0,0,0,0,0,0,0,0,0,0,0,0,0,0,88,{"$f":"SUBTOTAL(9,AI190:AI286)","v":0},0,0]
[null,"ZAB01 1201:SFD STICK",null,"COMBO-APPETIZER",1,0,{"$f":"IFERROR($E288*SUMIF('Daily Log'!$B$18:$B$1017,$B288,'Daily Log'!$C$18:$C$1017),0)","v":0},{"$f":"IFERROR($E288*SUMIF('Daily Log'!$E$18:$E$1017,$B288,'Daily Log'!$F$18:$F$1017),0)","v":0},{"$f":"IFERROR($E288*SUMIF('Daily Log'!$H$18:$H$1017,$B288,'Daily Log'!$I$18:$I$1017),0)","v":0},{"$f":"IFERROR($E288*SUMIF('Daily Log'!$K$18:$K$1017,$B288,'Daily Log'!$L$18:$L$1017),0)","v":0},{"$f":"IFERROR($E288*SUMIF('Daily Log'!$N$18:$N$1017,$B288,'Daily Log'!$O$18:$O$1017),0)","v":0},{"$f":"IFERROR($E288*SUMIF('Daily Log'!$Q$18:$Q$1017,$B288,'Daily Log'!$R$18:$R$1017),0)","v":0},{"$f":"IFERROR($E288*SUMIF('Daily Log'!$T$18:$T$1017,$B288,'Daily Log'!$U$18:$U$1017),0)","v":0},{"$f":"IFERROR($E288*SUMIF('Daily Log'!$W$18:$W$1017,$B288,'Daily Log'!$X$18:$X$1017),0)","v":0},{"$f":"IFERROR($E288*SUMIF('Daily Log'!$Z$18:$Z$1017,$B288,'Daily Log'!$AA$18:$AA$1017),0)","v":0},{"$f":"IFERROR($E288*SUMIF('Daily Log'!$AC$18:$AC$1017,$B288,'Daily Log'!$AD$18:$AD$1017),0)","v":0},{"$f":"IFERROR($E288*SUMIF('Daily Log'!$AF$18:$AF$1017,$B288,'Daily Log'!$AG$18:$AG$1017),0)","v":0},{"$f":"IFERROR($E288*SUMIF('Daily Log'!$AI$18:$AI$1017,$B288,'Daily Log'!$AJ$18:$AJ$1017),0)","v":0},{"$f":"IFERROR($E288*SUMIF('Daily Log'!$AL$18:$AL$1017,$B288,'Daily Log'!$AM$18:$AM$1017),0)","v":0},{"$f":"IFERROR($E288*SUMIF('Daily Log'!$AO$18:$AO$1017,$B288,'Daily Log'!$AP$18:$AP$1017),0)","v":0},{"$f":"IFERROR($E288*SUMIF('Daily Log'!$AR$18:$AR$1017,$B288,'Daily Log'!$AS$18:$AS$1017),0)","v":0},{"$f":"IFERROR($E288*SUMIF('Daily Log'!$AU$18:$AU$1017,$B288,'Daily Log'!$AV$18:$AV$1017),0)","v":0},{"$f":"IFERROR($E288*SUMIF('Daily Log'!$AX$18:$AX$1017,$B288,'Daily Log'!$AY$18:$AY$1017),0)","v":0},{"$f":"IFERROR($E288*SUMIF('Daily Log'!$BA$18:$BA$1017,$B288,'Daily Log'!$BB$18:$BB$1017),0)","v":0},{"$f":"IFERROR($E288*SUMIF('Daily Log'!$BD$18:$BD$1017,$B288,'Daily Log'!$BE$18:$BE$1017),0)","v":0},{"$f":"IFERROR($E288*SUMIF('Daily Log'!$BG$18:$BG$1017,$B288,'Daily Log'!$BH$18:$BH$1017),0)","v":0},{"$f":"IFERROR($E288*SUMIF('Daily Log'!$BJ$18:$BJ$1017,$B288,'Daily Log'!$BK$18:$BK$1017),0)","v":0},{"$f":"IFERROR($E288*SUMIF('Daily Log'!$BM$18:$BM$1017,$B288,'Daily Log'!$BN$18:$BN$1017),0)","v":0},{"$f":"IFERROR($E288*SUMIF('Daily Log'!$BP$18:$BP$1017,$B288,'Daily Log'!$BQ$18:$BQ$1017),0)","v":0},{"$f":"IFERROR($E288*SUMIF('Daily Log'!$BS$18:$BS$1017,$B288,'Daily Log'!$BT$18:$BT$1017),0)","v":0},{"$f":"IFERROR($E288*SUMIF('Daily Log'!$BV$18:$BV$1017,$B288,'Daily Log'!$BW$18:$BW$1017),0)","v":0},{"$f":"IFERROR($E288*SUMIF('Daily Log'!$BY$18:$BY$1017,$B288,'Daily Log'!$BZ$18:$BZ$1017),0)","v":0},{"$f":"IFERROR($E288*SUMIF('Daily Log'!$CB$18:$CB$1017,$B288,'Daily Log'!$CC$18:$CC$1017),0)","v":0},{"$f":"IFERROR($E288*SUMIF('Daily Log'!$CE$18:$CE$1017,$B288,'Daily Log'!$CF$18:$CF$1017),0)","v":0},{"$f":"IFERROR($E288*SUMIF('Daily Log'!$CH$18:$CH$1017,$B288,'Daily Log'!$CI$18:$CI$1017),0)","v":0},{"$f":"IFERROR($E288*SUMIF('Daily Log'!$CK$18:$CK$1017,$B288,'Daily Log'!$CL$18:$CL$1017),0)","v":0},{"$f":"IFERROR($E288*SUMIF('Daily Log'!$CN$18:$CN$1017,$B288,'Daily Log'!$CO$18:$CO$1017),0)","v":0}]
[null,"ZAB02 1202:FRIES",null,"COMBO-APPETIZER",1,0,{"$f":"IFERROR($E289*SUMIF('Daily Log'!$B$18:$B$1017,$B289,'Daily Log'!$C$18:$C$1017),0)","v":0},{"$f":"IFERROR($E289*SUMIF('Daily Log'!$E$18:$E$1017,$B289,'Daily Log'!$F$18:$F$1017),0)","v":0},{"$f":"IFERROR($E289*SUMIF('Daily Log'!$H$18:$H$1017,$B289,'Daily Log'!$I$18:$I$1017),0)","v":0},{"$f":"IFERROR($E289*SUMIF('Daily Log'!$K$18:$K$1017,$B289,'Daily Log'!$L$18:$L$1017),0)","v":0},{"$f":"IFERROR($E289*SUMIF('Daily Log'!$N$18:$N$1017,$B289,'Daily Log'!$O$18:$O$1017),0)","v":0},{"$f":"IFERROR($E289*SUMIF('Daily Log'!$Q$18:$Q$1017,$B289,'Daily Log'!$R$18:$R$1017),0)","v":0},{"$f":"IFERROR($E289*SUMIF('Daily Log'!$T$18:$T$1017,$B289,'Daily Log'!$U$18:$U$1017),0)","v":0},{"$f":"IFERROR($E289*SUMIF('Daily Log'!$W$18:$W$1017,$B289,'Daily Log'!$X$18:$X$1017),0)","v":0},{"$f":"IFERROR($E289*SUMIF('Daily Log'!$Z$18:$Z$1017,$B289,'Daily Log'!$AA$18:$AA$1017),0)","v":0},{"$f":"IFERROR($E289*SUMIF('Daily Log'!$AC$18:$AC$1017,$B289,'Daily Log'!$AD$18:$AD$1017),0)","v":0},{"$f":"IFERROR($E289*SUMIF('Daily Log'!$AF$18:$AF$1017,$B289,'Daily Log'!$AG$18:$AG$1017),0)","v":0},{"$f":"IFERROR($E289*SUMIF('Daily Log'!$AI$18:$AI$1017,$B289,'Daily Log'!$AJ$18:$AJ$1017),0)","v":0},{"$f":"IFERROR($E289*SUMIF('Daily Log'!$AL$18:$AL$1017,$B289,'Daily Log'!$AM$18:$AM$1017),0)","v":0},{"$f":"IFERROR($E289*SUMIF('Daily Log'!$AO$18:$AO$1017,$B289,'Daily Log'!$AP$18:$AP$1017),0)","v":0},{"$f":"IFERROR($E289*SUMIF('Daily Log'!$AR$18:$AR$1017,$B289,'Daily Log'!$AS$18:$AS$1017),0)","v":0},{"$f":"IFERROR($E289*SUMIF('Daily Log'!$AU$18:$AU$1017,$B289,'Daily Log'!$AV$18:$AV$1017),0)","v":0},{"$f":"IFERROR($E289*SUMIF('Daily Log'!$AX$18:$AX$1017,$B289,'Daily Log'!$AY$18:$AY$1017),0)","v":0},{"$f":"IFERROR($E289*SUMIF('Daily Log'!$BA$18:$BA$1017,$B289,'Daily Log'!$BB$18:$BB$1017),0)","v":0},{"$f":"IFERROR($E289*SUMIF('Daily Log'!$BD$18:$BD$1017,$B289,'Daily Log'!$BE$18:$BE$1017),0)","v":0},{"$f":"IFERROR($E289*SUMIF('Daily Log'!$BG$18:$BG$1017,$B289,'Daily Log'!$BH$18:$BH$1017),0)","v":0},{"$f":"IFERROR($E289*SUMIF('Daily Log'!$BJ$18:$BJ$1017,$B289,'Daily Log'!$BK$18:$BK$1017),0)","v":0},{"$f":"IFERROR($E289*SUMIF('Daily Log'!$BM$18:$BM$1017,$B289,'Daily Log'!$BN$18:$BN$1017),0)","v":0},{"$f":"IFERROR($E289*SUMIF('Daily Log'!$BP$18:$BP$1017,$B289,'Daily Log'!$BQ$18:$BQ$1017),0)","v":0},{"$f":"IFERROR($E289*SUMIF('Daily Log'!$BS$18:$BS$1017,$B289,'Daily Log'!$BT$18:$BT$1017),0)","v":0},{"$f":"IFERROR($E289*SUMIF('Daily Log'!$BV$18:$BV$1017,$B289,'Daily Log'!$BW$18:$BW$1017),0)","v":0},{"$f":"IFERROR($E289*SUMIF('Daily Log'!$BY$18:$BY$1017,$B289,'Daily Log'!$BZ$18:$BZ$1017),0)","v":0},{"$f":"IFERROR($E289*SUMIF('Daily Log'!$CB$18:$CB$1017,$B289,'Daily Log'!$CC$18:$CC$1017),0)","v":0},{"$f":"IFERROR($E289*SUMIF('Daily Log'!$CE$18:$CE$1017,$B289,'Daily Log'!$CF$18:$CF$1017),0)","v":0},{"$f":"IFERROR($E289*SUMIF('Daily Log'!$CH$18:$CH$1017,$B289,'Daily Log'!$CI$18:$CI$1017),0)","v":0},{"$f":"IFERROR($E289*SUMIF('Daily Log'!$CK$18:$CK$1017,$B289,'Daily Log'!$CL$18:$CL$1017),0)","v":0},{"$f":"IFERROR($E289*SUMIF('Daily Log'!$CN$18:$CN$1017,$B289,'Daily Log'!$CO$18:$CO$1017),0)","v":0}]
[null,"ZAB03 1203:GOLD MROOM",null,"COMBO-APPETIZER",1,0,{"$f":"IFERROR($E290*SUMIF('Daily Log'!$B$18:$B$1017,$B290,'Daily Log'!$C$18:$C$1017),0)","v":0},{"$f":"IFERROR($E290*SUMIF('Daily Log'!$E$18:$E$1017,$B290,'Daily Log'!$F$18:$F$1017),0)","v":0},{"$f":"IFERROR($E290*SUMIF('Daily Log'!$H$18:$H$1017,$B290,'Daily Log'!$I$18:$I$1017),0)","v":0},{"$f":"IFERROR($E290*SUMIF('Daily Log'!$K$18:$K$1017,$B290,'Daily Log'!$L$18:$L$1017),0)","v":0},{"$f":"IFERROR($E290*SUMIF('Daily Log'!$N$18:$N$1017,$B290,'Daily Log'!$O$18:$O$1017),0)","v":0},{"$f":"IFERROR($E290*SUMIF('Daily Log'!$Q$18:$Q$1017,$B290,'Daily Log'!$R$18:$R$1017),0)","v":0},{"$f":"IFERROR($E290*SUMIF('Daily Log'!$T$18:$T$1017,$B290,'Daily Log'!$U$18:$U$1017),0)","v":0},{"$f":"IFERROR($E290*SUMIF('Daily Log'!$W$18:$W$1017,$B290,'Daily Log'!$X$18:$X$1017),0)","v":0},{"$f":"IFERROR($E290*SUMIF('Daily Log'!$Z$18:$Z$1017,$B290,'Daily Log'!$AA$18:$AA$1017),0)","v":0},{"$f":"IFERROR($E290*SUMIF('Daily Log'!$AC$18:$AC$1017,$B290,'Daily Log'!$AD$18:$AD$1017),0)","v":0},{"$f":"IFERROR($E290*SUMIF('Daily Log'!$AF$18:$AF$1017,$B290,'Daily Log'!$AG$18:$AG$1017),0)","v":0},{"$f":"IFERROR($E290*SUMIF('Daily Log'!$AI$18:$AI$1017,$B290,'Daily Log'!$AJ$18:$AJ$1017),0)","v":0},{"$f":"IFERROR($E290*SUMIF('Daily Log'!$AL$18:$AL$1017,$B290,'Daily Log'!$AM$18:$AM$1017),0)","v":0},{"$f":"IFERROR($E290*SUMIF('Daily Log'!$AO$18:$AO$1017,$B290,'Daily Log'!$AP$18:$AP$1017),0)","v":0},{"$f":"IFERROR($E290*SUMIF('Daily Log'!$AR$18:$AR$1017,$B290,'Daily Log'!$AS$18:$AS$1017),0)","v":0},{"$f":"IFERROR($E290*SUMIF('Daily Log'!$AU$18:$AU$1017,$B290,'Daily Log'!$AV$18:$AV$1017),0)","v":0},{"$f":"IFERROR($E290*SUMIF('Daily Log'!$AX$18:$AX$1017,$B290,'Daily Log'!$AY$18:$AY$1017),0)","v":0},{"$f":"IFERROR($E290*SUMIF('Daily Log'!$BA$18:$BA$1017,$B290,'Daily Log'!$BB$18:$BB$1017),0)","v":0},{"$f":"IFERROR($E290*SUMIF('Daily Log'!$BD$18:$BD$1017,$B290,'Daily Log'!$BE$18:$BE$1017),0)","v":0},{"$f":"IFERROR($E290*SUMIF('Daily Log'!$BG$18:$BG$1017,$B290,'Daily Log'!$BH$18:$BH$1017),0)","v":0},{"$f":"IFERROR($E290*SUMIF('Daily Log'!$BJ$18:$BJ$1017,$B290,'Daily Log'!$BK$18:$BK$1017),0)","v":0},{"$f":"IFERROR($E290*SUMIF('Daily Log'!$BM$18:$BM$1017,$B290,'Daily Log'!$BN$18:$BN$1017),0)","v":0},{"$f":"IFERROR($E290*SUMIF('Daily Log'!$BP$18:$BP$1017,$B290,'Daily Log'!$BQ$18:$BQ$1017),0)","v":0},{"$f":"IFERROR($E290*SUMIF('Daily Log'!$BS$18:$BS$1017,$B290,'Daily Log'!$BT$18:$BT$1017),0)","v":0},{"$f":"IFERROR($E290*SUMIF('Daily Log'!$BV$18:$BV$1017,$B290,'Daily Log'!$BW$18:$BW$1017),0)","v":0},{"$f":"IFERROR($E290*SUMIF('Daily Log'!$BY$18:$BY$1017,$B290,'Daily Log'!$BZ$18:$BZ$1017),0)","v":0},{"$f":"IFERROR($E290*SUMIF('Daily Log'!$CB$18:$CB$1017,$B290,'Daily Log'!$CC$18:$CC$1017),0)","v":0},{"$f":"IFERROR($E290*SUMIF('Daily Log'!$CE$18:$CE$1017,$B290,'Daily Log'!$CF$18:$CF$1017),0)","v":0},{"$f":"IFERROR($E290*SUMIF('Daily Log'!$CH$18:$CH$1017,$B290,'Daily Log'!$CI$18:$CI$1017),0)","v":0},{"$f":"IFERROR($E290*SUMIF('Daily Log'!$CK$18:$CK$1017,$B290,'Daily Log'!$CL$18:$CL$1017),0)","v":0},{"$f":"IFERROR($E290*SUMIF('Daily Log'!$CN$18:$CN$1017,$B290,'Daily Log'!$CO$18:$CO$1017),0)","v":0}]
[null,"ZAB04 1204:F.BALL",null,"COMBO-APPETIZER",1,0,{"$f":"IFERROR($E291*SUMIF('Daily Log'!$B$18:$B$1017,$B291,'Daily Log'!$C$18:$C$1017),0)","v":0},{"$f":"IFERROR($E291*SUMIF('Daily Log'!$E$18:$E$1017,$B291,'Daily Log'!$F$18:$F$1017),0)","v":0},{"$f":"IFERROR($E291*SUMIF('Daily Log'!$H$18:$H$1017,$B291,'Daily Log'!$I$18:$I$1017),0)","v":0},{"$f":"IFERROR($E291*SUMIF('Daily Log'!$K$18:$K$1017,$B291,'Daily Log'!$L$18:$L$1017),0)","v":0},{"$f":"IFERROR($E291*SUMIF('Daily Log'!$N$18:$N$1017,$B291,'Daily Log'!$O$18:$O$1017),0)","v":0},{"$f":"IFERROR($E291*SUMIF('Daily Log'!$Q$18:$Q$1017,$B291,'Daily Log'!$R$18:$R$1017),0)","v":0},{"$f":"IFERROR($E291*SUMIF('Daily Log'!$T$18:$T$1017,$B291,'Daily Log'!$U$18:$U$1017),0)","v":0},{"$f":"IFERROR($E291*SUMIF('Daily Log'!$W$18:$W$1017,$B291,'Daily Log'!$X$18:$X$1017),0)","v":0},{"$f":"IFERROR($E291*SUMIF('Daily Log'!$Z$18:$Z$1017,$B291,'Daily Log'!$AA$18:$AA$1017),0)","v":0},{"$f":"IFERROR($E291*SUMIF('Daily Log'!$AC$18:$AC$1017,$B291,'Daily Log'!$AD$18:$AD$1017),0)","v":0},{"$f":"IFERROR($E291*SUMIF('Daily Log'!$AF$18:$AF$1017,$B291,'Daily Log'!$AG$18:$AG$1017),0)","v":0},{"$f":"IFERROR($E291*SUMIF('Daily Log'!$AI$18:$AI$1017,$B291,'Daily Log'!$AJ$18:$AJ$1017),0)","v":0},{"$f":"IFERROR($E291*SUMIF('Daily Log'!$AL$18:$AL$1017,$B291,'Daily Log'!$AM$18:$AM$1017),0)","v":0},{"$f":"IFERROR($E291*SUMIF('Daily Log'!$AO$18:$AO$1017,$B291,'Daily Log'!$AP$18:$AP$1017),0)","v":0},{"$f":"IFERROR($E291*SUMIF('Daily Log'!$AR$18:$AR$1017,$B291,'Daily Log'!$AS$18:$AS$1017),0)","v":0},{"$f":"IFERROR($E291*SUMIF('Daily Log'!$AU$18:$AU$1017,$B291,'Daily Log'!$AV$18:$AV$1017),0)","v":0},{"$f":"IFERROR($E291*SUMIF('Daily Log'!$AX$18:$AX$1017,$B291,'Daily Log'!$AY$18:$AY$1017),0)","v":0},{"$f":"IFERROR($E291*SUMIF('Daily Log'!$BA$18:$BA$1017,$B291,'Daily Log'!$BB$18:$BB$1017),0)","v":0},{"$f":"IFERROR($E291*SUMIF('Daily Log'!$BD$18:$BD$1017,$B291,'Daily Log'!$BE$18:$BE$1017),0)","v":0},{"$f":"IFERROR($E291*SUMIF('Daily Log'!$BG$18:$BG$1017,$B291,'Daily Log'!$BH$18:$BH$1017),0)","v":0},{"$f":"IFERROR($E291*SUMIF('Daily Log'!$BJ$18:$BJ$1017,$B291,'Daily Log'!$BK$18:$BK$1017),0)","v":0},{"$f":"IFERROR($E291*SUMIF('Daily Log'!$BM$18:$BM$1017,$B291,'Daily Log'!$BN$18:$BN$1017),0)","v":0},{"$f":"IFERROR($E291*SUMIF('Daily Log'!$BP$18:$BP$1017,$B291,'Daily Log'!$BQ$18:$BQ$1017),0)","v":0},{"$f":"IFERROR($E291*SUMIF('Daily Log'!$BS$18:$BS$1017,$B291,'Daily Log'!$BT$18:$BT$1017),0)","v":0},{"$f":"IFERROR($E291*SUMIF('Daily Log'!$BV$18:$BV$1017,$B291,'Daily Log'!$BW$18:$BW$1017),0)","v":0},{"$f":"IFERROR($E291*SUMIF('Daily Log'!$BY$18:$BY$1017,$B291,'Daily Log'!$BZ$18:$BZ$1017),0)","v":0},{"$f":"IFERROR($E291*SUMIF('Daily Log'!$CB$18:$CB$1017,$B291,'Daily Log'!$CC$18:$CC$1017),0)","v":0},{"$f":"IFERROR($E291*SUMIF('Daily Log'!$CE$18:$CE$1017,$B291,'Daily Log'!$CF$18:$CF$1017),0)","v":0},{"$f":"IFERROR($E291*SUMIF('Daily Log'!$CH$18:$CH$1017,$B291,'Daily Log'!$CI$18:$CI$1017),0)","v":0},{"$f":"IFERROR($E291*SUMIF('Daily Log'!$CK$18:$CK$1017,$B291,'Daily Log'!$CL$18:$CL$1017),0)","v":0},{"$f":"IFERROR($E291*SUMIF('Daily Log'!$CN$18:$CN$1017,$B291,'Daily Log'!$CO$18:$CO$1017),0)","v":0}]
[null,"ZAB05 1205:RAINBOW RL",null,"COMBO-APPETIZER",1,0,{"$f":"IFERROR($E292*SUMIF('Daily Log'!$B$18:$B$1017,$B292,'Daily Log'!$C$18:$C$1017),0)","v":0},{"$f":"IFERROR($E292*SUMIF('Daily Log'!$E$18:$E$1017,$B292,'Daily Log'!$F$18:$F$1017),0)","v":0},{"$f":"IFERROR($E292*SUMIF('Daily Log'!$H$18:$H$1017,$B292,'Daily Log'!$I$18:$I$1017),0)","v":0},{"$f":"IFERROR($E292*SUMIF('Daily Log'!$K$18:$K$1017,$B292,'Daily Log'!$L$18:$L$1017),0)","v":0},{"$f":"IFERROR($E292*SUMIF('Daily Log'!$N$18:$N$1017,$B292,'Daily Log'!$O$18:$O$1017),0)","v":0},{"$f":"IFERROR($E292*SUMIF('Daily Log'!$Q$18:$Q$1017,$B292,'Daily Log'!$R$18:$R$1017),0)","v":0},{"$f":"IFERROR($E292*SUMIF('Daily Log'!$T$18:$T$1017,$B292,'Daily Log'!$U$18:$U$1017),0)","v":0},{"$f":"IFERROR($E292*SUMIF('Daily Log'!$W$18:$W$1017,$B292,'Daily Log'!$X$18:$X$1017),0)","v":0},{"$f":"IFERROR($E292*SUMIF('Daily Log'!$Z$18:$Z$1017,$B292,'Daily Log'!$AA$18:$AA$1017),0)","v":0},{"$f":"IFERROR($E292*SUMIF('Daily Log'!$AC$18:$AC$1017,$B292,'Daily Log'!$AD$18:$AD$1017),0)","v":0},{"$f":"IFERROR($E292*SUMIF('Daily Log'!$AF$18:$AF$1017,$B292,'Daily Log'!$AG$18:$AG$1017),0)","v":0},{"$f":"IFERROR($E292*SUMIF('Daily Log'!$AI$18:$AI$1017,$B292,'Daily Log'!$AJ$18:$AJ$1017),0)","v":0},{"$f":"IFERROR($E292*SUMIF('Daily Log'!$AL$18:$AL$1017,$B292,'Daily Log'!$AM$18:$AM$1017),0)","v":0},{"$f":"IFERROR($E292*SUMIF('Daily Log'!$AO$18:$AO$1017,$B292,'Daily Log'!$AP$18:$AP$1017),0)","v":0},{"$f":"IFERROR($E292*SUMIF('Daily Log'!$AR$18:$AR$1017,$B292,'Daily Log'!$AS$18:$AS$1017),0)","v":0},{"$f":"IFERROR($E292*SUMIF('Daily Log'!$AU$18:$AU$1017,$B292,'Daily Log'!$AV$18:$AV$1017),0)","v":0},{"$f":"IFERROR($E292*SUMIF('Daily Log'!$AX$18:$AX$1017,$B292,'Daily Log'!$AY$18:$AY$1017),0)","v":0},{"$f":"IFERROR($E292*SUMIF('Daily Log'!$BA$18:$BA$1017,$B292,'Daily Log'!$BB$18:$BB$1017),0)","v":0},{"$f":"IFERROR($E292*SUMIF('Daily Log'!$BD$18:$BD$1017,$B292,'Daily Log'!$BE$18:$BE$1017),0)","v":0},{"$f":"IFERROR($E292*SUMIF('Daily Log'!$BG$18:$BG$1017,$B292,'Daily Log'!$BH$18:$BH$1017),0)","v":0},{"$f":"IFERROR($E292*SUMIF('Daily Log'!$BJ$18:$BJ$1017,$B292,'Daily Log'!$BK$18:$BK$1017),0)","v":0},{"$f":"IFERROR($E292*SUMIF('Daily Log'!$BM$18:$BM$1017,$B292,'Daily Log'!$BN$18:$BN$1017),0)","v":0},{"$f":"IFERROR($E292*SUMIF('Daily Log'!$BP$18:$BP$1017,$B292,'Daily Log'!$BQ$18:$BQ$1017),0)","v":0},{"$f":"IFERROR($E292*SUMIF('Daily Log'!$BS$18:$BS$1017,$B292,'Daily Log'!$BT$18:$BT$1017),0)","v":0},{"$f":"IFERROR($E292*SUMIF('Daily Log'!$BV$18:$BV$1017,$B292,'Daily Log'!$BW$18:$BW$1017),0)","v":0},{"$f":"IFERROR($E292*SUMIF('Daily Log'!$BY$18:$BY$1017,$B292,'Daily Log'!$BZ$18:$BZ$1017),0)","v":0},{"$f":"IFERROR($E292*SUMIF('Daily Log'!$CB$18:$CB$1017,$B292,'Daily Log'!$CC$18:$CC$1017),0)","v":0},{"$f":"IFERROR($E292*SUMIF('Daily Log'!$CE$18:$CE$1017,$B292,'Daily Log'!$CF$18:$CF$1017),0)","v":0},{"$f":"IFERROR($E292*SUMIF('Daily Log'!$CH$18:$CH$1017,$B292,'Daily Log'!$CI$18:$CI$1017),0)","v":0},{"$f":"IFERROR($E292*SUMIF('Daily Log'!$CK$18:$CK$1017,$B292,'Daily Log'!$CL$18:$CL$1017),0)","v":0},{"$f":"IFERROR($E292*SUMIF('Daily Log'!$CN$18:$CN$1017,$B292,'Daily Log'!$CO$18:$CO$1017),0)","v":0}]
[null,"ZAB06 1206:SPRING RL",null,"COMBO-APPETIZER",1,0,{"$f":"IFERROR($E293*SUMIF('Daily Log'!$B$18:$B$1017,$B293,'Daily Log'!$C$18:$C$1017),0)","v":0},{"$f":"IFERROR($E293*SUMIF('Daily Log'!$E$18:$E$1017,$B293,'Daily Log'!$F$18:$F$1017),0)","v":0},{"$f":"IFERROR($E293*SUMIF('Daily Log'!$H$18:$H$1017,$B293,'Daily Log'!$I$18:$I$1017),0)","v":0},{"$f":"IFERROR($E293*SUMIF('Daily Log'!$K$18:$K$1017,$B293,'Daily Log'!$L$18:$L$1017),0)","v":0},{"$f":"IFERROR($E293*SUMIF('Daily Log'!$N$18:$N$1017,$B293,'Daily Log'!$O$18:$O$1017),0)","v":0},{"$f":"IFERROR($E293*SUMIF('Daily Log'!$Q$18:$Q$1017,$B293,'Daily Log'!$R$18:$R$1017),0)","v":0},{"$f":"IFERROR($E293*SUMIF('Daily Log'!$T$18:$T$1017,$B293,'Daily Log'!$U$18:$U$1017),0)","v":0},{"$f":"IFERROR($E293*SUMIF('Daily Log'!$W$18:$W$1017,$B293,'Daily Log'!$X$18:$X$1017),0)","v":0},{"$f":"IFERROR($E293*SUMIF('Daily Log'!$Z$18:$Z$1017,$B293,'Daily Log'!$AA$18:$AA$1017),0)","v":0},{"$f":"IFERROR($E293*SUMIF('Daily Log'!$AC$18:$AC$1017,$B293,'Daily Log'!$AD$18:$AD$1017),0)","v":0},{"$f":"IFERROR($E293*SUMIF('Daily Log'!$AF$18:$AF$1017,$B293,'Daily Log'!$AG$18:$AG$1017),0)","v":0},{"$f":"IFERROR($E293*SUMIF('Daily Log'!$AI$18:$AI$1017,$B293,'Daily Log'!$AJ$18:$AJ$1017),0)","v":0},{"$f":"IFERROR($E293*SUMIF('Daily Log'!$AL$18:$AL$1017,$B293,'Daily Log'!$AM$18:$AM$1017),0)","v":0},{"$f":"IFERROR($E293*SUMIF('Daily Log'!$AO$18:$AO$1017,$B293,'Daily Log'!$AP$18:$AP$1017),0)","v":0},{"$f":"IFERROR($E293*SUMIF('Daily Log'!$AR$18:$AR$1017,$B293,'Daily Log'!$AS$18:$AS$1017),0)","v":0},{"$f":"IFERROR($E293*SUMIF('Daily Log'!$AU$18:$AU$1017,$B293,'Daily Log'!$AV$18:$AV$1017),0)","v":0},{"$f":"IFERROR($E293*SUMIF('Daily Log'!$AX$18:$AX$1017,$B293,'Daily Log'!$AY$18:$AY$1017),0)","v":0},{"$f":"IFERROR($E293*SUMIF('Daily Log'!$BA$18:$BA$1017,$B293,'Daily Log'!$BB$18:$BB$1017),0)","v":0},{"$f":"IFERROR($E293*SUMIF('Daily Log'!$BD$18:$BD$1017,$B293,'Daily Log'!$BE$18:$BE$1017),0)","v":0},{"$f":"IFERROR($E293*SUMIF('Daily Log'!$BG$18:$BG$1017,$B293,'Daily Log'!$BH$18:$BH$1017),0)","v":0},{"$f":"IFERROR($E293*SUMIF('Daily Log'!$BJ$18:$BJ$1017,$B293,'Daily Log'!$BK$18:$BK$1017),0)","v":0},{"$f":"IFERROR($E293*SUMIF('Daily Log'!$BM$18:$BM$1017,$B293,'Daily Log'!$BN$18:$BN$1017),0)","v":0},{"$f":"IFERROR($E293*SUMIF('Daily Log'!$BP$18:$BP$1017,$B293,'Daily Log'!$BQ$18:$BQ$1017),0)","v":0},{"$f":"IFERROR($E293*SUMIF('Daily Log'!$BS$18:$BS$1017,$B293,'Daily Log'!$BT$18:$BT$1017),0)","v":0},{"$f":"IFERROR($E293*SUMIF('Daily Log'!$BV$18:$BV$1017,$B293,'Daily Log'!$BW$18:$BW$1017),0)","v":0},{"$f":"IFERROR($E293*SUMIF('Daily Log'!$BY$18:$BY$1017,$B293,'Daily Log'!$BZ$18:$BZ$1017),0)","v":0},{"$f":"IFERROR($E293*SUMIF('Daily Log'!$CB$18:$CB$1017,$B293,'Daily Log'!$CC$18:$CC$1017),0)","v":0},{"$f":"IFERROR($E293*SUMIF('Daily Log'!$CE$18:$CE$1017,$B293,'Daily Log'!$CF$18:$CF$1017),0)","v":0},{"$f":"IFERROR($E293*SUMIF('Daily Log'!$CH$18:$CH$1017,$B293,'Daily Log'!$CI$18:$CI$1017),0)","v":0},{"$f":"IFERROR($E293*SUMIF('Daily Log'!$CK$18:$CK$1017,$B293,'Daily Log'!$CL$18:$CL$1017),0)","v":0},{"$f":"IFERROR($E293*SUMIF('Daily Log'!$CN$18:$CN$1017,$B293,'Daily Log'!$CO$18:$CO$1017),0)","v":0}]
[null,"ZAB07 1207:SAUSAGE",null,"COMBO-APPETIZER",1,0,{"$f":"IFERROR($E294*SUMIF('Daily Log'!$B$18:$B$1017,$B294,'Daily Log'!$C$18:$C$1017),0)","v":0},{"$f":"IFERROR($E294*SUMIF('Daily Log'!$E$18:$E$1017,$B294,'Daily Log'!$F$18:$F$1017),0)","v":0},{"$f":"IFERROR($E294*SUMIF('Daily Log'!$H$18:$H$1017,$B294,'Daily Log'!$I$18:$I$1017),0)","v":0},{"$f":"IFERROR($E294*SUMIF('Daily Log'!$K$18:$K$1017,$B294,'Daily Log'!$L$18:$L$1017),0)","v":0},{"$f":"IFERROR($E294*SUMIF('Daily Log'!$N$18:$N$1017,$B294,'Daily Log'!$O$18:$O$1017),0)","v":0},{"$f":"IFERROR($E294*SUMIF('Daily Log'!$Q$18:$Q$1017,$B294,'Daily Log'!$R$18:$R$1017),0)","v":0},{"$f":"IFERROR($E294*SUMIF('Daily Log'!$T$18:$T$1017,$B294,'Daily Log'!$U$18:$U$1017),0)","v":0},{"$f":"IFERROR($E294*SUMIF('Daily Log'!$W$18:$W$1017,$B294,'Daily Log'!$X$18:$X$1017),0)","v":0},{"$f":"IFERROR($E294*SUMIF('Daily Log'!$Z$18:$Z$1017,$B294,'Daily Log'!$AA$18:$AA$1017),0)","v":0},{"$f":"IFERROR($E294*SUMIF('Daily Log'!$AC$18:$AC$1017,$B294,'Daily Log'!$AD$18:$AD$1017),0)","v":0},{"$f":"IFERROR($E294*SUMIF('Daily Log'!$AF$18:$AF$1017,$B294,'Daily Log'!$AG$18:$AG$1017),0)","v":0},{"$f":"IFERROR($E294*SUMIF('Daily Log'!$AI$18:$AI$1017,$B294,'Daily Log'!$AJ$18:$AJ$1017),0)","v":0},{"$f":"IFERROR($E294*SUMIF('Daily Log'!$AL$18:$AL$1017,$B294,'Daily Log'!$AM$18:$AM$1017),0)","v":0},{"$f":"IFERROR($E294*SUMIF('Daily Log'!$AO$18:$AO$1017,$B294,'Daily Log'!$AP$18:$AP$1017),0)","v":0},{"$f":"IFERROR($E294*SUMIF('Daily Log'!$AR$18:$AR$1017,$B294,'Daily Log'!$AS$18:$AS$1017),0)","v":0},{"$f":"IFERROR($E294*SUMIF('Daily Log'!$AU$18:$AU$1017,$B294,'Daily Log'!$AV$18:$AV$1017),0)","v":0},{"$f":"IFERROR($E294*SUMIF('Daily Log'!$AX$18:$AX$1017,$B294,'Daily Log'!$AY$18:$AY$1017),0)","v":0},{"$f":"IFERROR($E294*SUMIF('Daily Log'!$BA$18:$BA$1017,$B294,'Daily Log'!$BB$18:$BB$1017),0)","v":0},{"$f":"IFERROR($E294*SUMIF('Daily Log'!$BD$18:$BD$1017,$B294,'Daily Log'!$BE$18:$BE$1017),0)","v":0},{"$f":"IFERROR($E294*SUMIF('Daily Log'!$BG$18:$BG$1017,$B294,'Daily Log'!$BH$18:$BH$1017),0)","v":0},{"$f":"IFERROR($E294*SUMIF('Daily Log'!$BJ$18:$BJ$1017,$B294,'Daily Log'!$BK$18:$BK$1017),0)","v":0},{"$f":"IFERROR($E294*SUMIF('Daily Log'!$BM$18:$BM$1017,$B294,'Daily Log'!$BN$18:$BN$1017),0)","v":0},{"$f":"IFERROR($E294*SUMIF('Daily Log'!$BP$18:$BP$1017,$B294,'Daily Log'!$BQ$18:$BQ$1017),0)","v":0},{"$f":"IFERROR($E294*SUMIF('Daily Log'!$BS$18:$BS$1017,$B294,'Daily Log'!$BT$18:$BT$1017),0)","v":0},{"$f":"IFERROR($E294*SUMIF('Daily Log'!$BV$18:$BV$1017,$B294,'Daily Log'!$BW$18:$BW$1017),0)","v":0},{"$f":"IFERROR($E294*SUMIF('Daily Log'!$BY$18:$BY$1017,$B294,'Daily Log'!$BZ$18:$BZ$1017),0)","v":0},{"$f":"IFERROR($E294*SUMIF('Daily Log'!$CB$18:$CB$1017,$B294,'Daily Log'!$CC$18:$CC$1017),0)","v":0},{"$f":"IFERROR($E294*SUMIF('Daily Log'!$CE$18:$CE$1017,$B294,'Daily Log'!$CF$18:$CF$1017),0)","v":0},{"$f":"IFERROR($E294*SUMIF('Daily Log'!$CH$18:$CH$1017,$B294,'Daily Log'!$CI$18:$CI$1017),0)","v":0},{"$f":"IFERROR($E294*SUMIF('Daily Log'!$CK$18:$CK$1017,$B294,'Daily Log'!$CL$18:$CL$1017),0)","v":0},{"$f":"IFERROR($E294*SUMIF('Daily Log'!$CN$18:$CN$1017,$B294,'Daily Log'!$CO$18:$CO$1017),0)","v":0}]
[null,"ZAC01 1301:DUMPLING",null,"COMBO-APPETIZER",1,0,{"$f":"IFERROR($E295*SUMIF('Daily Log'!$B$18:$B$1017,$B295,'Daily Log'!$C$18:$C$1017),0)","v":0},{"$f":"IFERROR($E295*SUMIF('Daily Log'!$E$18:$E$1017,$B295,'Daily Log'!$F$18:$F$1017),0)","v":0},{"$f":"IFERROR($E295*SUMIF('Daily Log'!$H$18:$H$1017,$B295,'Daily Log'!$I$18:$I$1017),0)","v":0},{"$f":"IFERROR($E295*SUMIF('Daily Log'!$K$18:$K$1017,$B295,'Daily Log'!$L$18:$L$1017),0)","v":0},{"$f":"IFERROR($E295*SUMIF('Daily Log'!$N$18:$N$1017,$B295,'Daily Log'!$O$18:$O$1017),0)","v":0},{"$f":"IFERROR($E295*SUMIF('Daily Log'!$Q$18:$Q$1017,$B295,'Daily Log'!$R$18:$R$1017),0)","v":0},{"$f":"IFERROR($E295*SUMIF('Daily Log'!$T$18:$T$1017,$B295,'Daily Log'!$U$18:$U$1017),0)","v":0},{"$f":"IFERROR($E295*SUMIF('Daily Log'!$W$18:$W$1017,$B295,'Daily Log'!$X$18:$X$1017),0)","v":0},{"$f":"IFERROR($E295*SUMIF('Daily Log'!$Z$18:$Z$1017,$B295,'Daily Log'!$AA$18:$AA$1017),0)","v":0},{"$f":"IFERROR($E295*SUMIF('Daily Log'!$AC$18:$AC$1017,$B295,'Daily Log'!$AD$18:$AD$1017),0)","v":0},{"$f":"IFERROR($E295*SUMIF('Daily Log'!$AF$18:$AF$1017,$B295,'Daily Log'!$AG$18:$AG$1017),0)","v":0},{"$f":"IFERROR($E295*SUMIF('Daily Log'!$AI$18:$AI$1017,$B295,'Daily Log'!$AJ$18:$AJ$1017),0)","v":0},{"$f":"IFERROR($E295*SUMIF('Daily Log'!$AL$18:$AL$1017,$B295,'Daily Log'!$AM$18:$AM$1017),0)","v":0},{"$f":"IFERROR($E295*SUMIF('Daily Log'!$AO$18:$AO$1017,$B295,'Daily Log'!$AP$18:$AP$1017),0)","v":0},{"$f":"IFERROR($E295*SUMIF('Daily Log'!$AR$18:$AR$1017,$B295,'Daily Log'!$AS$18:$AS$1017),0)","v":0},{"$f":"IFERROR($E295*SUMIF('Daily Log'!$AU$18:$AU$1017,$B295,'Daily Log'!$AV$18:$AV$1017),0)","v":0},{"$f":"IFERROR($E295*SUMIF('Daily Log'!$AX$18:$AX$1017,$B295,'Daily Log'!$AY$18:$AY$1017),0)","v":0},{"$f":"IFERROR($E295*SUMIF('Daily Log'!$BA$18:$BA$1017,$B295,'Daily Log'!$BB$18:$BB$1017),0)","v":0},{"$f":"IFERROR($E295*SUMIF('Daily Log'!$BD$18:$BD$1017,$B295,'Daily Log'!$BE$18:$BE$1017),0)","v":0},{"$f":"IFERROR($E295*SUMIF('Daily Log'!$BG$18:$BG$1017,$B295,'Daily Log'!$BH$18:$BH$1017),0)","v":0},{"$f":"IFERROR($E295*SUMIF('Daily Log'!$BJ$18:$BJ$1017,$B295,'Daily Log'!$BK$18:$BK$1017),0)","v":0},{"$f":"IFERROR($E295*SUMIF('Daily Log'!$BM$18:$BM$1017,$B295,'Daily Log'!$BN$18:$BN$1017),0)","v":0},{"$f":"IFERROR($E295*SUMIF('Daily Log'!$BP$18:$BP$1017,$B295,'Daily Log'!$BQ$18:$BQ$1017),0)","v":0},{"$f":"IFERROR($E295*SUMIF('Daily Log'!$BS$18:$BS$1017,$B295,'Daily Log'!$BT$18:$BT$1017),0)","v":0},{"$f":"IFERROR($E295*SUMIF('Daily Log'!$BV$18:$BV$1017,$B295,'Daily Log'!$BW$18:$BW$1017),0)","v":0},{"$f":"IFERROR($E295*SUMIF('Daily Log'!$BY$18:$BY$1017,$B295,'Daily Log'!$BZ$18:$BZ$1017),0)","v":0},{"$f":"IFERROR($E295*SUMIF('Daily Log'!$CB$18:$CB$1017,$B295,'Daily Log'!$CC$18:$CC$1017),0)","v":0},{"$f":"IFERROR($E295*SUMIF('Daily Log'!$CE$18:$CE$1017,$B295,'Daily Log'!$CF$18:$CF$1017),0)","v":0},{"$f":"IFERROR($E295*SUMIF('Daily Log'!$CH$18:$CH$1017,$B295,'Daily Log'!$CI$18:$CI$1017),0)","v":0},{"$f":"IFERROR($E295*SUMIF('Daily Log'!$CK$18:$CK$1017,$B295,'Daily Log'!$CL$18:$CL$1017),0)","v":0},{"$f":"IFERROR($E295*SUMIF('Daily Log'!$CN$18:$CN$1017,$B295,'Daily Log'!$CO$18:$CO$1017),0)","v":0}]
[null,"ZAC02 1302:NUGGET",null,"COMBO-APPETIZER",1,0,{"$f":"IFERROR($E296*SUMIF('Daily Log'!$B$18:$B$1017,$B296,'Daily Log'!$C$18:$C$1017),0)","v":0},{"$f":"IFERROR($E296*SUMIF('Daily Log'!$E$18:$E$1017,$B296,'Daily Log'!$F$18:$F$1017),0)","v":0},{"$f":"IFERROR($E296*SUMIF('Daily Log'!$H$18:$H$1017,$B296,'Daily Log'!$I$18:$I$1017),0)","v":0},{"$f":"IFERROR($E296*SUMIF('Daily Log'!$K$18:$K$1017,$B296,'Daily Log'!$L$18:$L$1017),0)","v":0},{"$f":"IFERROR($E296*SUMIF('Daily Log'!$N$18:$N$1017,$B296,'Daily Log'!$O$18:$O$1017),0)","v":0},{"$f":"IFERROR($E296*SUMIF('Daily Log'!$Q$18:$Q$1017,$B296,'Daily Log'!$R$18:$R$1017),0)","v":0},{"$f":"IFERROR($E296*SUMIF('Daily Log'!$T$18:$T$1017,$B296,'Daily Log'!$U$18:$U$1017),0)","v":0},{"$f":"IFERROR($E296*SUMIF('Daily Log'!$W$18:$W$1017,$B296,'Daily Log'!$X$18:$X$1017),0)","v":0},{"$f":"IFERROR($E296*SUMIF('Daily Log'!$Z$18:$Z$1017,$B296,'Daily Log'!$AA$18:$AA$1017),0)","v":0},{"$f":"IFERROR($E296*SUMIF('Daily Log'!$AC$18:$AC$1017,$B296,'Daily Log'!$AD$18:$AD$1017),0)","v":0},{"$f":"IFERROR($E296*SUMIF('Daily Log'!$AF$18:$AF$1017,$B296,'Daily Log'!$AG$18:$AG$1017),0)","v":0},{"$f":"IFERROR($E296*SUMIF('Daily Log'!$AI$18:$AI$1017,$B296,'Daily Log'!$AJ$18:$AJ$1017),0)","v":0},{"$f":"IFERROR($E296*SUMIF('Daily Log'!$AL$18:$AL$1017,$B296,'Daily Log'!$AM$18:$AM$1017),0)","v":0},{"$f":"IFERROR($E296*SUMIF('Daily Log'!$AO$18:$AO$1017,$B296,'Daily Log'!$AP$18:$AP$1017),0)","v":0},{"$f":"IFERROR($E296*SUMIF('Daily Log'!$AR$18:$AR$1017,$B296,'Daily Log'!$AS$18:$AS$1017),0)","v":0},{"$f":"IFERROR($E296*SUMIF('Daily Log'!$AU$18:$AU$1017,$B296,'Daily Log'!$AV$18:$AV$1017),0)","v":0},{"$f":"IFERROR($E296*SUMIF('Daily Log'!$AX$18:$AX$1017,$B296,'Daily Log'!$AY$18:$AY$1017),0)","v":0},{"$f":"IFERROR($E296*SUMIF('Daily Log'!$BA$18:$BA$1017,$B296,'Daily Log'!$BB$18:$BB$1017),0)","v":0},{"$f":"IFERROR($E296*SUMIF('Daily Log'!$BD$18:$BD$1017,$B296,'Daily Log'!$BE$18:$BE$1017),0)","v":0},{"$f":"IFERROR($E296*SUMIF('Daily Log'!$BG$18:$BG$1017,$B296,'Daily Log'!$BH$18:$BH$1017),0)","v":0},{"$f":"IFERROR($E296*SUMIF('Daily Log'!$BJ$18:$BJ$1017,$B296,'Daily Log'!$BK$18:$BK$1017),0)","v":0},{"$f":"IFERROR($E296*SUMIF('Daily Log'!$BM$18:$BM$1017,$B296,'Daily Log'!$BN$18:$BN$1017),0)","v":0},{"$f":"IFERROR($E296*SUMIF('Daily Log'!$BP$18:$BP$1017,$B296,'Daily Log'!$BQ$18:$BQ$1017),0)","v":0},{"$f":"IFERROR($E296*SUMIF('Daily Log'!$BS$18:$BS$1017,$B296,'Daily Log'!$BT$18:$BT$1017),0)","v":0},{"$f":"IFERROR($E296*SUMIF('Daily Log'!$BV$18:$BV$1017,$B296,'Daily Log'!$BW$18:$BW$1017),0)","v":0},{"$f":"IFERROR($E296*SUMIF('Daily Log'!$BY$18:$BY$1017,$B296,'Daily Log'!$BZ$18:$BZ$1017),0)","v":0},{"$f":"IFERROR($E296*SUMIF('Daily Log'!$CB$18:$CB$1017,$B296,'Daily Log'!$CC$18:$CC$1017),0)","v":0},{"$f":"IFERROR($E296*SUMIF('Daily Log'!$CE$18:$CE$1017,$B296,'Daily Log'!$CF$18:$CF$1017),0)","v":0},{"$f":"IFERROR($E296*SUMIF('Daily Log'!$CH$18:$CH$1017,$B296,'Daily Log'!$CI$18:$CI$1017),0)","v":0},{"$f":"IFERROR($E296*SUMIF('Daily Log'!$CK$18:$CK$1017,$B296,'Daily Log'!$CL$18:$CL$1017),0)","v":0},{"$f":"IFERROR($E296*SUMIF('Daily Log'!$CN$18:$CN$1017,$B296,'Daily Log'!$CO$18:$CO$1017),0)","v":0}]
[null,"ZAC03 1303:CHK WING",null,"COMBO-APPETIZER",1,0,{"$f":"IFERROR($E297*SUMIF('Daily Log'!$B$18:$B$1017,$B297,'Daily Log'!$C$18:$C$1017),0)","v":0},{"$f":"IFERROR($E297*SUMIF('Daily Log'!$E$18:$E$1017,$B297,'Daily Log'!$F$18:$F$1017),0)","v":0},{"$f":"IFERROR($E297*SUMIF('Daily Log'!$H$18:$H$1017,$B297,'Daily Log'!$I$18:$I$1017),0)","v":0},{"$f":"IFERROR($E297*SUMIF('Daily Log'!$K$18:$K$1017,$B297,'Daily Log'!$L$18:$L$1017),0)","v":0},{"$f":"IFERROR($E297*SUMIF('Daily Log'!$N$18:$N$1017,$B297,'Daily Log'!$O$18:$O$1017),0)","v":0},{"$f":"IFERROR($E297*SUMIF('Daily Log'!$Q$18:$Q$1017,$B297,'Daily Log'!$R$18:$R$1017),0)","v":0},{"$f":"IFERROR($E297*SUMIF('Daily Log'!$T$18:$T$1017,$B297,'Daily Log'!$U$18:$U$1017),0)","v":0},{"$f":"IFERROR($E297*SUMIF('Daily Log'!$W$18:$W$1017,$B297,'Daily Log'!$X$18:$X$1017),0)","v":0},{"$f":"IFERROR($E297*SUMIF('Daily Log'!$Z$18:$Z$1017,$B297,'Daily Log'!$AA$18:$AA$1017),0)","v":0},{"$f":"IFERROR($E297*SUMIF('Daily Log'!$AC$18:$AC$1017,$B297,'Daily Log'!$AD$18:$AD$1017),0)","v":0},{"$f":"IFERROR($E297*SUMIF('Daily Log'!$AF$18:$AF$1017,$B297,'Daily Log'!$AG$18:$AG$1017),0)","v":0},{"$f":"IFERROR($E297*SUMIF('Daily Log'!$AI$18:$AI$1017,$B297,'Daily Log'!$AJ$18:$AJ$1017),0)","v":0},{"$f":"IFERROR($E297*SUMIF('Daily Log'!$AL$18:$AL$1017,$B297,'Daily Log'!$AM$18:$AM$1017),0)","v":0},{"$f":"IFERROR($E297*SUMIF('Daily Log'!$AO$18:$AO$1017,$B297,'Daily Log'!$AP$18:$AP$1017),0)","v":0},{"$f":"IFERROR($E297*SUMIF('Daily Log'!$AR$18:$AR$1017,$B297,'Daily Log'!$AS$18:$AS$1017),0)","v":0},{"$f":"IFERROR($E297*SUMIF('Daily Log'!$AU$18:$AU$1017,$B297,'Daily Log'!$AV$18:$AV$1017),0)","v":0},{"$f":"IFERROR($E297*SUMIF('Daily Log'!$AX$18:$AX$1017,$B297,'Daily Log'!$AY$18:$AY$1017),0)","v":0},{"$f":"IFERROR($E297*SUMIF('Daily Log'!$BA$18:$BA$1017,$B297,'Daily Log'!$BB$18:$BB$1017),0)","v":0},{"$f":"IFERROR($E297*SUMIF('Daily Log'!$BD$18:$BD$1017,$B297,'Daily Log'!$BE$18:$BE$1017),0)","v":0},{"$f":"IFERROR($E297*SUMIF('Daily Log'!$BG$18:$BG$1017,$B297,'Daily Log'!$BH$18:$BH$1017),0)","v":0},{"$f":"IFERROR($E297*SUMIF('Daily Log'!$BJ$18:$BJ$1017,$B297,'Daily Log'!$BK$18:$BK$1017),0)","v":0},{"$f":"IFERROR($E297*SUMIF('Daily Log'!$BM$18:$BM$1017,$B297,'Daily Log'!$BN$18:$BN$1017),0)","v":0},{"$f":"IFERROR($E297*SUMIF('Daily Log'!$BP$18:$BP$1017,$B297,'Daily Log'!$BQ$18:$BQ$1017),0)","v":0},{"$f":"IFERROR($E297*SUMIF('Daily Log'!$BS$18:$BS$1017,$B297,'Daily Log'!$BT$18:$BT$1017),0)","v":0},{"$f":"IFERROR($E297*SUMIF('Daily Log'!$BV$18:$BV$1017,$B297,'Daily Log'!$BW$18:$BW$1017),0)","v":0},{"$f":"IFERROR($E297*SUMIF('Daily Log'!$BY$18:$BY$1017,$B297,'Daily Log'!$BZ$18:$BZ$1017),0)","v":0},{"$f":"IFERROR($E297*SUMIF('Daily Log'!$CB$18:$CB$1017,$B297,'Daily Log'!$CC$18:$CC$1017),0)","v":0},{"$f":"IFERROR($E297*SUMIF('Daily Log'!$CE$18:$CE$1017,$B297,'Daily Log'!$CF$18:$CF$1017),0)","v":0},{"$f":"IFERROR($E297*SUMIF('Daily Log'!$CH$18:$CH$1017,$B297,'Daily Log'!$CI$18:$CI$1017),0)","v":0},{"$f":"IFERROR($E297*SUMIF('Daily Log'!$CK$18:$CK$1017,$B297,'Daily Log'!$CL$18:$CL$1017),0)","v":0},{"$f":"IFERROR($E297*SUMIF('Daily Log'!$CN$18:$CN$1017,$B297,'Daily Log'!$CO$18:$CO$1017),0)","v":0}]
[null,"ZAC04 1304:IKAN BILIS",null,"COMBO-APPETIZER",1,0,{"$f":"IFERROR($E298*SUMIF('Daily Log'!$B$18:$B$1017,$B298,'Daily Log'!$C$18:$C$1017),0)","v":0},{"$f":"IFERROR($E298*SUMIF('Daily Log'!$E$18:$E$1017,$B298,'Daily Log'!$F$18:$F$1017),0)","v":0},{"$f":"IFERROR($E298*SUMIF('Daily Log'!$H$18:$H$1017,$B298,'Daily Log'!$I$18:$I$1017),0)","v":0},{"$f":"IFERROR($E298*SUMIF('Daily Log'!$K$18:$K$1017,$B298,'Daily Log'!$L$18:$L$1017),0)","v":0},{"$f":"IFERROR($E298*SUMIF('Daily Log'!$N$18:$N$1017,$B298,'Daily Log'!$O$18:$O$1017),0)","v":0},{"$f":"IFERROR($E298*SUMIF('Daily Log'!$Q$18:$Q$1017,$B298,'Daily Log'!$R$18:$R$1017),0)","v":0},{"$f":"IFERROR($E298*SUMIF('Daily Log'!$T$18:$T$1017,$B298,'Daily Log'!$U$18:$U$1017),0)","v":0},{"$f":"IFERROR($E298*SUMIF('Daily Log'!$W$18:$W$1017,$B298,'Daily Log'!$X$18:$X$1017),0)","v":0},{"$f":"IFERROR($E298*SUMIF('Daily Log'!$Z$18:$Z$1017,$B298,'Daily Log'!$AA$18:$AA$1017),0)","v":0},{"$f":"IFERROR($E298*SUMIF('Daily Log'!$AC$18:$AC$1017,$B298,'Daily Log'!$AD$18:$AD$1017),0)","v":0},{"$f":"IFERROR($E298*SUMIF('Daily Log'!$AF$18:$AF$1017,$B298,'Daily Log'!$AG$18:$AG$1017),0)","v":0},{"$f":"IFERROR($E298*SUMIF('Daily Log'!$AI$18:$AI$1017,$B298,'Daily Log'!$AJ$18:$AJ$1017),0)","v":0},{"$f":"IFERROR($E298*SUMIF('Daily Log'!$AL$18:$AL$1017,$B298,'Daily Log'!$AM$18:$AM$1017),0)","v":0},{"$f":"IFERROR($E298*SUMIF('Daily Log'!$AO$18:$AO$1017,$B298,'Daily Log'!$AP$18:$AP$1017),0)","v":0},{"$f":"IFERROR($E298*SUMIF('Daily Log'!$AR$18:$AR$1017,$B298,'Daily Log'!$AS$18:$AS$1017),0)","v":0},{"$f":"IFERROR($E298*SUMIF('Daily Log'!$AU$18:$AU$1017,$B298,'Daily Log'!$AV$18:$AV$1017),0)","v":0},{"$f":"IFERROR($E298*SUMIF('Daily Log'!$AX$18:$AX$1017,$B298,'Daily Log'!$AY$18:$AY$1017),0)","v":0},{"$f":"IFERROR($E298*SUMIF('Daily Log'!$BA$18:$BA$1017,$B298,'Daily Log'!$BB$18:$BB$1017),0)","v":0},{"$f":"IFERROR($E298*SUMIF('Daily Log'!$BD$18:$BD$1017,$B298,'Daily Log'!$BE$18:$BE$1017),0)","v":0},{"$f":"IFERROR($E298*SUMIF('Daily Log'!$BG$18:$BG$1017,$B298,'Daily Log'!$BH$18:$BH$1017),0)","v":0},{"$f":"IFERROR($E298*SUMIF('Daily Log'!$BJ$18:$BJ$1017,$B298,'Daily Log'!$BK$18:$BK$1017),0)","v":0},{"$f":"IFERROR($E298*SUMIF('Daily Log'!$BM$18:$BM$1017,$B298,'Daily Log'!$BN$18:$BN$1017),0)","v":0},{"$f":"IFERROR($E298*SUMIF('Daily Log'!$BP$18:$BP$1017,$B298,'Daily Log'!$BQ$18:$BQ$1017),0)","v":0},{"$f":"IFERROR($E298*SUMIF('Daily Log'!$BS$18:$BS$1017,$B298,'Daily Log'!$BT$18:$BT$1017),0)","v":0},{"$f":"IFERROR($E298*SUMIF('Daily Log'!$BV$18:$BV$1017,$B298,'Daily Log'!$BW$18:$BW$1017),0)","v":0},{"$f":"IFERROR($E298*SUMIF('Daily Log'!$BY$18:$BY$1017,$B298,'Daily Log'!$BZ$18:$BZ$1017),0)","v":0},{"$f":"IFERROR($E298*SUMIF('Daily Log'!$CB$18:$CB$1017,$B298,'Daily Log'!$CC$18:$CC$1017),0)","v":0},{"$f":"IFERROR($E298*SUMIF('Daily Log'!$CE$18:$CE$1017,$B298,'Daily Log'!$CF$18:$CF$1017),0)","v":0},{"$f":"IFERROR($E298*SUMIF('Daily Log'!$CH$18:$CH$1017,$B298,'Daily Log'!$CI$18:$CI$1017),0)","v":0},{"$f":"IFERROR($E298*SUMIF('Daily Log'!$CK$18:$CK$1017,$B298,'Daily Log'!$CL$18:$CL$1017),0)","v":0},{"$f":"IFERROR($E298*SUMIF('Daily Log'!$CN$18:$CN$1017,$B298,'Daily Log'!$CO$18:$CO$1017),0)","v":0}]
[null,"ZAC05 1305:THAI RL",null,"COMBO-APPETIZER",1,0,{"$f":"IFERROR($E299*SUMIF('Daily Log'!$B$18:$B$1017,$B299,'Daily Log'!$C$18:$C$1017),0)","v":0},{"$f":"IFERROR($E299*SUMIF('Daily Log'!$E$18:$E$1017,$B299,'Daily Log'!$F$18:$F$1017),0)","v":0},{"$f":"IFERROR($E299*SUMIF('Daily Log'!$H$18:$H$1017,$B299,'Daily Log'!$I$18:$I$1017),0)","v":0},{"$f":"IFERROR($E299*SUMIF('Daily Log'!$K$18:$K$1017,$B299,'Daily Log'!$L$18:$L$1017),0)","v":0},{"$f":"IFERROR($E299*SUMIF('Daily Log'!$N$18:$N$1017,$B299,'Daily Log'!$O$18:$O$1017),0)","v":0},{"$f":"IFERROR($E299*SUMIF('Daily Log'!$Q$18:$Q$1017,$B299,'Daily Log'!$R$18:$R$1017),0)","v":0},{"$f":"IFERROR($E299*SUMIF('Daily Log'!$T$18:$T$1017,$B299,'Daily Log'!$U$18:$U$1017),0)","v":0},{"$f":"IFERROR($E299*SUMIF('Daily Log'!$W$18:$W$1017,$B299,'Daily Log'!$X$18:$X$1017),0)","v":0},{"$f":"IFERROR($E299*SUMIF('Daily Log'!$Z$18:$Z$1017,$B299,'Daily Log'!$AA$18:$AA$1017),0)","v":0},{"$f":"IFERROR($E299*SUMIF('Daily Log'!$AC$18:$AC$1017,$B299,'Daily Log'!$AD$18:$AD$1017),0)","v":0},{"$f":"IFERROR($E299*SUMIF('Daily Log'!$AF$18:$AF$1017,$B299,'Daily Log'!$AG$18:$AG$1017),0)","v":0},{"$f":"IFERROR($E299*SUMIF('Daily Log'!$AI$18:$AI$1017,$B299,'Daily Log'!$AJ$18:$AJ$1017),0)","v":0},{"$f":"IFERROR($E299*SUMIF('Daily Log'!$AL$18:$AL$1017,$B299,'Daily Log'!$AM$18:$AM$1017),0)","v":0},{"$f":"IFERROR($E299*SUMIF('Daily Log'!$AO$18:$AO$1017,$B299,'Daily Log'!$AP$18:$AP$1017),0)","v":0},{"$f":"IFERROR($E299*SUMIF('Daily Log'!$AR$18:$AR$1017,$B299,'Daily Log'!$AS$18:$AS$1017),0)","v":0},{"$f":"IFERROR($E299*SUMIF('Daily Log'!$AU$18:$AU$1017,$B299,'Daily Log'!$AV$18:$AV$1017),0)","v":0},{"$f":"IFERROR($E299*SUMIF('Daily Log'!$AX$18:$AX$1017,$B299,'Daily Log'!$AY$18:$AY$1017),0)","v":0},{"$f":"IFERROR($E299*SUMIF('Daily Log'!$BA$18:$BA$1017,$B299,'Daily Log'!$BB$18:$BB$1017),0)","v":0},{"$f":"IFERROR($E299*SUMIF('Daily Log'!$BD$18:$BD$1017,$B299,'Daily Log'!$BE$18:$BE$1017),0)","v":0},{"$f":"IFERROR($E299*SUMIF('Daily Log'!$BG$18:$BG$1017,$B299,'Daily Log'!$BH$18:$BH$1017),0)","v":0},{"$f":"IFERROR($E299*SUMIF('Daily Log'!$BJ$18:$BJ$1017,$B299,'Daily Log'!$BK$18:$BK$1017),0)","v":0},{"$f":"IFERROR($E299*SUMIF('Daily Log'!$BM$18:$BM$1017,$B299,'Daily Log'!$BN$18:$BN$1017),0)","v":0},{"$f":"IFERROR($E299*SUMIF('Daily Log'!$BP$18:$BP$1017,$B299,'Daily Log'!$BQ$18:$BQ$1017),0)","v":0},{"$f":"IFERROR($E299*SUMIF('Daily Log'!$BS$18:$BS$1017,$B299,'Daily Log'!$BT$18:$BT$1017),0)","v":0},{"$f":"IFERROR($E299*SUMIF('Daily Log'!$BV$18:$BV$1017,$B299,'Daily Log'!$BW$18:$BW$1017),0)","v":0},{"$f":"IFERROR($E299*SUMIF('Daily Log'!$BY$18:$BY$1017,$B299,'Daily Log'!$BZ$18:$BZ$1017),0)","v":0},{"$f":"IFERROR($E299*SUMIF('Daily Log'!$CB$18:$CB$1017,$B299,'Daily Log'!$CC$18:$CC$1017),0)","v":0},{"$f":"IFERROR($E299*SUMIF('Daily Log'!$CE$18:$CE$1017,$B299,'Daily Log'!$CF$18:$CF$1017),0)","v":0},{"$f":"IFERROR($E299*SUMIF('Daily Log'!$CH$18:$CH$1017,$B299,'Daily Log'!$CI$18:$CI$1017),0)","v":0},{"$f":"IFERROR($E299*SUMIF('Daily Log'!$CK$18:$CK$1017,$B299,'Daily Log'!$CL$18:$CL$1017),0)","v":0},{"$f":"IFERROR($E299*SUMIF('Daily Log'!$CN$18:$CN$1017,$B299,'Daily Log'!$CO$18:$CO$1017),0)","v":0}]
[null,"AE26 CNY BEER PLATER",null,"PLATER",1,0,{"$f":"IFERROR($E300*SUMIF('Daily Log'!$B$18:$B$1017,$B300,'Daily Log'!$C$18:$C$1017),0)","v":0},{"$f":"IFERROR($E300*SUMIF('Daily Log'!$E$18:$E$1017,$B300,'Daily Log'!$F$18:$F$1017),0)","v":0},{"$f":"IFERROR($E300*SUMIF('Daily Log'!$H$18:$H$1017,$B300,'Daily Log'!$I$18:$I$1017),0)","v":0},{"$f":"IFERROR($E300*SUMIF('Daily Log'!$K$18:$K$1017,$B300,'Daily Log'!$L$18:$L$1017),0)","v":0},{"$f":"IFERROR($E300*SUMIF('Daily Log'!$N$18:$N$1017,$B300,'Daily Log'!$O$18:$O$1017),0)","v":0},{"$f":"IFERROR($E300*SUMIF('Daily Log'!$Q$18:$Q$1017,$B300,'Daily Log'!$R$18:$R$1017),0)","v":0},{"$f":"IFERROR($E300*SUMIF('Daily Log'!$T$18:$T$1017,$B300,'Daily Log'!$U$18:$U$1017),0)","v":0},{"$f":"IFERROR($E300*SUMIF('Daily Log'!$W$18:$W$1017,$B300,'Daily Log'!$X$18:$X$1017),0)","v":0},{"$f":"IFERROR($E300*SUMIF('Daily Log'!$Z$18:$Z$1017,$B300,'Daily Log'!$AA$18:$AA$1017),0)","v":0},{"$f":"IFERROR($E300*SUMIF('Daily Log'!$AC$18:$AC$1017,$B300,'Daily Log'!$AD$18:$AD$1017),0)","v":0},{"$f":"IFERROR($E300*SUMIF('Daily Log'!$AF$18:$AF$1017,$B300,'Daily Log'!$AG$18:$AG$1017),0)","v":0},{"$f":"IFERROR($E300*SUMIF('Daily Log'!$AI$18:$AI$1017,$B300,'Daily Log'!$AJ$18:$AJ$1017),0)","v":0},{"$f":"IFERROR($E300*SUMIF('Daily Log'!$AL$18:$AL$1017,$B300,'Daily Log'!$AM$18:$AM$1017),0)","v":0},{"$f":"IFERROR($E300*SUMIF('Daily Log'!$AO$18:$AO$1017,$B300,'Daily Log'!$AP$18:$AP$1017),0)","v":0},{"$f":"IFERROR($E300*SUMIF('Daily Log'!$AR$18:$AR$1017,$B300,'Daily Log'!$AS$18:$AS$1017),0)","v":0},{"$f":"IFERROR($E300*SUMIF('Daily Log'!$AU$18:$AU$1017,$B300,'Daily Log'!$AV$18:$AV$1017),0)","v":0},{"$f":"IFERROR($E300*SUMIF('Daily Log'!$AX$18:$AX$1017,$B300,'Daily Log'!$AY$18:$AY$1017),0)","v":0},{"$f":"IFERROR($E300*SUMIF('Daily Log'!$BA$18:$BA$1017,$B300,'Daily Log'!$BB$18:$BB$1017),0)","v":0},{"$f":"IFERROR($E300*SUMIF('Daily Log'!$BD$18:$BD$1017,$B300,'Daily Log'!$BE$18:$BE$1017),0)","v":0},{"$f":"IFERROR($E300*SUMIF('Daily Log'!$BG$18:$BG$1017,$B300,'Daily Log'!$BH$18:$BH$1017),0)","v":0},{"$f":"IFERROR($E300*SUMIF('Daily Log'!$BJ$18:$BJ$1017,$B300,'Daily Log'!$BK$18:$BK$1017),0)","v":0},{"$f":"IFERROR($E300*SUMIF('Daily Log'!$BM$18:$BM$1017,$B300,'Daily Log'!$BN$18:$BN$1017),0)","v":0},{"$f":"IFERROR($E300*SUMIF('Daily Log'!$BP$18:$BP$1017,$B300,'Daily Log'!$BQ$18:$BQ$1017),0)","v":0},{"$f":"IFERROR($E300*SUMIF('Daily Log'!$BS$18:$BS$1017,$B300,'Daily Log'!$BT$18:$BT$1017),0)","v":0},{"$f":"IFERROR($E300*SUMIF('Daily Log'!$BV$18:$BV$1017,$B300,'Daily Log'!$BW$18:$BW$1017),0)","v":0},{"$f":"IFERROR($E300*SUMIF('Daily Log'!$BY$18:$BY$1017,$B300,'Daily Log'!$BZ$18:$BZ$1017),0)","v":0},{"$f":"IFERROR($E300*SUMIF('Daily Log'!$CB$18:$CB$1017,$B300,'Daily Log'!$CC$18:$CC$1017),0)","v":0},{"$f":"IFERROR($E300*SUMIF('Daily Log'!$CE$18:$CE$1017,$B300,'Daily Log'!$CF$18:$CF$1017),0)","v":0},{"$f":"IFERROR($E300*SUMIF('Daily Log'!$CH$18:$CH$1017,$B300,'Daily Log'!$CI$18:$CI$1017),0)","v":0},{"$f":"IFERROR($E300*SUMIF('Daily Log'!$CK$18:$CK$1017,$B300,'Daily Log'!$CL$18:$CL$1017),0)","v":0},{"$f":"IFERROR($E300*SUMIF('Daily Log'!$CN$18:$CN$1017,$B300,'Daily Log'!$CO$18:$CO$1017),0)","v":0}]
[null,"AE27 CNY PLATER",null,"PLATER",1,0,{"$f":"IFERROR($E301*SUMIF('Daily Log'!$B$18:$B$1017,$B301,'Daily Log'!$C$18:$C$1017),0)","v":0},{"$f":"IFERROR($E301*SUMIF('Daily Log'!$E$18:$E$1017,$B301,'Daily Log'!$F$18:$F$1017),0)","v":0},{"$f":"IFERROR($E301*SUMIF('Daily Log'!$H$18:$H$1017,$B301,'Daily Log'!$I$18:$I$1017),0)","v":0},{"$f":"IFERROR($E301*SUMIF('Daily Log'!$K$18:$K$1017,$B301,'Daily Log'!$L$18:$L$1017),0)","v":0},{"$f":"IFERROR($E301*SUMIF('Daily Log'!$N$18:$N$1017,$B301,'Daily Log'!$O$18:$O$1017),0)","v":0},{"$f":"IFERROR($E301*SUMIF('Daily Log'!$Q$18:$Q$1017,$B301,'Daily Log'!$R$18:$R$1017),0)","v":0},{"$f":"IFERROR($E301*SUMIF('Daily Log'!$T$18:$T$1017,$B301,'Daily Log'!$U$18:$U$1017),0)","v":0},{"$f":"IFERROR($E301*SUMIF('Daily Log'!$W$18:$W$1017,$B301,'Daily Log'!$X$18:$X$1017),0)","v":0},{"$f":"IFERROR($E301*SUMIF('Daily Log'!$Z$18:$Z$1017,$B301,'Daily Log'!$AA$18:$AA$1017),0)","v":0},{"$f":"IFERROR($E301*SUMIF('Daily Log'!$AC$18:$AC$1017,$B301,'Daily Log'!$AD$18:$AD$1017),0)","v":0},{"$f":"IFERROR($E301*SUMIF('Daily Log'!$AF$18:$AF$1017,$B301,'Daily Log'!$AG$18:$AG$1017),0)","v":0},{"$f":"IFERROR($E301*SUMIF('Daily Log'!$AI$18:$AI$1017,$B301,'Daily Log'!$AJ$18:$AJ$1017),0)","v":0},{"$f":"IFERROR($E301*SUMIF('Daily Log'!$AL$18:$AL$1017,$B301,'Daily Log'!$AM$18:$AM$1017),0)","v":0},{"$f":"IFERROR($E301*SUMIF('Daily Log'!$AO$18:$AO$1017,$B301,'Daily Log'!$AP$18:$AP$1017),0)","v":0},{"$f":"IFERROR($E301*SUMIF('Daily Log'!$AR$18:$AR$1017,$B301,'Daily Log'!$AS$18:$AS$1017),0)","v":0},{"$f":"IFERROR($E301*SUMIF('Daily Log'!$AU$18:$AU$1017,$B301,'Daily Log'!$AV$18:$AV$1017),0)","v":0},{"$f":"IFERROR($E301*SUMIF('Daily Log'!$AX$18:$AX$1017,$B301,'Daily Log'!$AY$18:$AY$1017),0)","v":0},{"$f":"IFERROR($E301*SUMIF('Daily Log'!$BA$18:$BA$1017,$B301,'Daily Log'!$BB$18:$BB$1017),0)","v":0},{"$f":"IFERROR($E301*SUMIF('Daily Log'!$BD$18:$BD$1017,$B301,'Daily Log'!$BE$18:$BE$1017),0)","v":0},{"$f":"IFERROR($E301*SUMIF('Daily Log'!$BG$18:$BG$1017,$B301,'Daily Log'!$BH$18:$BH$1017),0)","v":0},{"$f":"IFERROR($E301*SUMIF('Daily Log'!$BJ$18:$BJ$1017,$B301,'Daily Log'!$BK$18:$BK$1017),0)","v":0},{"$f":"IFERROR($E301*SUMIF('Daily Log'!$BM$18:$BM$1017,$B301,'Daily Log'!$BN$18:$BN$1017),0)","v":0},{"$f":"IFERROR($E301*SUMIF('Daily Log'!$BP$18:$BP$1017,$B301,'Daily Log'!$BQ$18:$BQ$1017),0)","v":0},{"$f":"IFERROR($E301*SUMIF('Daily Log'!$BS$18:$BS$1017,$B301,'Daily Log'!$BT$18:$BT$1017),0)","v":0},{"$f":"IFERROR($E301*SUMIF('Daily Log'!$BV$18:$BV$1017,$B301,'Daily Log'!$BW$18:$BW$1017),0)","v":0},{"$f":"IFERROR($E301*SUMIF('Daily Log'!$BY$18:$BY$1017,$B301,'Daily Log'!$BZ$18:$BZ$1017),0)","v":0},{"$f":"IFERROR($E301*SUMIF('Daily Log'!$CB$18:$CB$1017,$B301,'Daily Log'!$CC$18:$CC$1017),0)","v":0},{"$f":"IFERROR($E301*SUMIF('Daily Log'!$CE$18:$CE$1017,$B301,'Daily Log'!$CF$18:$CF$1017),0)","v":0},{"$f":"IFERROR($E301*SUMIF('Daily Log'!$CH$18:$CH$1017,$B301,'Daily Log'!$CI$18:$CI$1017),0)","v":0},{"$f":"IFERROR($E301*SUMIF('Daily Log'!$CK$18:$CK$1017,$B301,'Daily Log'!$CL$18:$CL$1017),0)","v":0},{"$f":"IFERROR($E301*SUMIF('Daily Log'!$CN$18:$CN$1017,$B301,'Daily Log'!$CO$18:$CO$1017),0)","v":0}]
[null,"DD16 McCain AlaCarte",null,"PLATER",1,0,{"$f":"IFERROR($E302*SUMIF('Daily Log'!$B$18:$B$1017,$B302,'Daily Log'!$C$18:$C$1017),0)","v":0},{"$f":"IFERROR($E302*SUMIF('Daily Log'!$E$18:$E$1017,$B302,'Daily Log'!$F$18:$F$1017),0)","v":0},{"$f":"IFERROR($E302*SUMIF('Daily Log'!$H$18:$H$1017,$B302,'Daily Log'!$I$18:$I$1017),0)","v":0},{"$f":"IFERROR($E302*SUMIF('Daily Log'!$K$18:$K$1017,$B302,'Daily Log'!$L$18:$L$1017),0)","v":0},{"$f":"IFERROR($E302*SUMIF('Daily Log'!$N$18:$N$1017,$B302,'Daily Log'!$O$18:$O$1017),0)","v":0},{"$f":"IFERROR($E302*SUMIF('Daily Log'!$Q$18:$Q$1017,$B302,'Daily Log'!$R$18:$R$1017),0)","v":0},{"$f":"IFERROR($E302*SUMIF('Daily Log'!$T$18:$T$1017,$B302,'Daily Log'!$U$18:$U$1017),0)","v":0},{"$f":"IFERROR($E302*SUMIF('Daily Log'!$W$18:$W$1017,$B302,'Daily Log'!$X$18:$X$1017),0)","v":0},{"$f":"IFERROR($E302*SUMIF('Daily Log'!$Z$18:$Z$1017,$B302,'Daily Log'!$AA$18:$AA$1017),0)","v":0},{"$f":"IFERROR($E302*SUMIF('Daily Log'!$AC$18:$AC$1017,$B302,'Daily Log'!$AD$18:$AD$1017),0)","v":0},{"$f":"IFERROR($E302*SUMIF('Daily Log'!$AF$18:$AF$1017,$B302,'Daily Log'!$AG$18:$AG$1017),0)","v":0},{"$f":"IFERROR($E302*SUMIF('Daily Log'!$AI$18:$AI$1017,$B302,'Daily Log'!$AJ$18:$AJ$1017),0)","v":0},{"$f":"IFERROR($E302*SUMIF('Daily Log'!$AL$18:$AL$1017,$B302,'Daily Log'!$AM$18:$AM$1017),0)","v":0},{"$f":"IFERROR($E302*SUMIF('Daily Log'!$AO$18:$AO$1017,$B302,'Daily Log'!$AP$18:$AP$1017),0)","v":0},{"$f":"IFERROR($E302*SUMIF('Daily Log'!$AR$18:$AR$1017,$B302,'Daily Log'!$AS$18:$AS$1017),0)","v":0},{"$f":"IFERROR($E302*SUMIF('Daily Log'!$AU$18:$AU$1017,$B302,'Daily Log'!$AV$18:$AV$1017),0)","v":0},{"$f":"IFERROR($E302*SUMIF('Daily Log'!$AX$18:$AX$1017,$B302,'Daily Log'!$AY$18:$AY$1017),0)","v":0},{"$f":"IFERROR($E302*SUMIF('Daily Log'!$BA$18:$BA$1017,$B302,'Daily Log'!$BB$18:$BB$1017),0)","v":0},{"$f":"IFERROR($E302*SUMIF('Daily Log'!$BD$18:$BD$1017,$B302,'Daily Log'!$BE$18:$BE$1017),0)","v":0},{"$f":"IFERROR($E302*SUMIF('Daily Log'!$BG$18:$BG$1017,$B302,'Daily Log'!$BH$18:$BH$1017),0)","v":0},{"$f":"IFERROR($E302*SUMIF('Daily Log'!$BJ$18:$BJ$1017,$B302,'Daily Log'!$BK$18:$BK$1017),0)","v":0},{"$f":"IFERROR($E302*SUMIF('Daily Log'!$BM$18:$BM$1017,$B302,'Daily Log'!$BN$18:$BN$1017),0)","v":0},{"$f":"IFERROR($E302*SUMIF('Daily Log'!$BP$18:$BP$1017,$B302,'Daily Log'!$BQ$18:$BQ$1017),0)","v":0},{"$f":"IFERROR($E302*SUMIF('Daily Log'!$BS$18:$BS$1017,$B302,'Daily Log'!$BT$18:$BT$1017),0)","v":0},{"$f":"IFERROR($E302*SUMIF('Daily Log'!$BV$18:$BV$1017,$B302,'Daily Log'!$BW$18:$BW$1017),0)","v":0},{"$f":"IFERROR($E302*SUMIF('Daily Log'!$BY$18:$BY$1017,$B302,'Daily Log'!$BZ$18:$BZ$1017),0)","v":0},{"$f":"IFERROR($E302*SUMIF('Daily Log'!$CB$18:$CB$1017,$B302,'Daily Log'!$CC$18:$CC$1017),0)","v":0},{"$f":"IFERROR($E302*SUMIF('Daily Log'!$CE$18:$CE$1017,$B302,'Daily Log'!$CF$18:$CF$1017),0)","v":0},{"$f":"IFERROR($E302*SUMIF('Daily Log'!$CH$18:$CH$1017,$B302,'Daily Log'!$CI$18:$CI$1017),0)","v":0},{"$f":"IFERROR($E302*SUMIF('Daily Log'!$CK$18:$CK$1017,$B302,'Daily Log'!$CL$18:$CL$1017),0)","v":0},{"$f":"IFERROR($E302*SUMIF('Daily Log'!$CN$18:$CN$1017,$B302,'Daily Log'!$CO$18:$CO$1017),0)","v":0}]
[null,"DD17 McCain Beer",null,"PLATER",1,0,{"$f":"IFERROR($E303*SUMIF('Daily Log'!$B$18:$B$1017,$B303,'Daily Log'!$C$18:$C$1017),0)","v":0},{"$f":"IFERROR($E303*SUMIF('Daily Log'!$E$18:$E$1017,$B303,'Daily Log'!$F$18:$F$1017),0)","v":0},{"$f":"IFERROR($E303*SUMIF('Daily Log'!$H$18:$H$1017,$B303,'Daily Log'!$I$18:$I$1017),0)","v":0},{"$f":"IFERROR($E303*SUMIF('Daily Log'!$K$18:$K$1017,$B303,'Daily Log'!$L$18:$L$1017),0)","v":0},{"$f":"IFERROR($E303*SUMIF('Daily Log'!$N$18:$N$1017,$B303,'Daily Log'!$O$18:$O$1017),0)","v":0},{"$f":"IFERROR($E303*SUMIF('Daily Log'!$Q$18:$Q$1017,$B303,'Daily Log'!$R$18:$R$1017),0)","v":0},{"$f":"IFERROR($E303*SUMIF('Daily Log'!$T$18:$T$1017,$B303,'Daily Log'!$U$18:$U$1017),0)","v":0},{"$f":"IFERROR($E303*SUMIF('Daily Log'!$W$18:$W$1017,$B303,'Daily Log'!$X$18:$X$1017),0)","v":0},{"$f":"IFERROR($E303*SUMIF('Daily Log'!$Z$18:$Z$1017,$B303,'Daily Log'!$AA$18:$AA$1017),0)","v":0},{"$f":"IFERROR($E303*SUMIF('Daily Log'!$AC$18:$AC$1017,$B303,'Daily Log'!$AD$18:$AD$1017),0)","v":0},{"$f":"IFERROR($E303*SUMIF('Daily Log'!$AF$18:$AF$1017,$B303,'Daily Log'!$AG$18:$AG$1017),0)","v":0},{"$f":"IFERROR($E303*SUMIF('Daily Log'!$AI$18:$AI$1017,$B303,'Daily Log'!$AJ$18:$AJ$1017),0)","v":0},{"$f":"IFERROR($E303*SUMIF('Daily Log'!$AL$18:$AL$1017,$B303,'Daily Log'!$AM$18:$AM$1017),0)","v":0},{"$f":"IFERROR($E303*SUMIF('Daily Log'!$AO$18:$AO$1017,$B303,'Daily Log'!$AP$18:$AP$1017),0)","v":0},{"$f":"IFERROR($E303*SUMIF('Daily Log'!$AR$18:$AR$1017,$B303,'Daily Log'!$AS$18:$AS$1017),0)","v":0},{"$f":"IFERROR($E303*SUMIF('Daily Log'!$AU$18:$AU$1017,$B303,'Daily Log'!$AV$18:$AV$1017),0)","v":0},{"$f":"IFERROR($E303*SUMIF('Daily Log'!$AX$18:$AX$1017,$B303,'Daily Log'!$AY$18:$AY$1017),0)","v":0},{"$f":"IFERROR($E303*SUMIF('Daily Log'!$BA$18:$BA$1017,$B303,'Daily Log'!$BB$18:$BB$1017),0)","v":0},{"$f":"IFERROR($E303*SUMIF('Daily Log'!$BD$18:$BD$1017,$B303,'Daily Log'!$BE$18:$BE$1017),0)","v":0},{"$f":"IFERROR($E303*SUMIF('Daily Log'!$BG$18:$BG$1017,$B303,'Daily Log'!$BH$18:$BH$1017),0)","v":0},{"$f":"IFERROR($E303*SUMIF('Daily Log'!$BJ$18:$BJ$1017,$B303,'Daily Log'!$BK$18:$BK$1017),0)","v":0},{"$f":"IFERROR($E303*SUMIF('Daily Log'!$BM$18:$BM$1017,$B303,'Daily Log'!$BN$18:$BN$1017),0)","v":0},{"$f":"IFERROR($E303*SUMIF('Daily Log'!$BP$18:$BP$1017,$B303,'Daily Log'!$BQ$18:$BQ$1017),0)","v":0},{"$f":"IFERROR($E303*SUMIF('Daily Log'!$BS$18:$BS$1017,$B303,'Daily Log'!$BT$18:$BT$1017),0)","v":0},{"$f":"IFERROR($E303*SUMIF('Daily Log'!$BV$18:$BV$1017,$B303,'Daily Log'!$BW$18:$BW$1017),0)","v":0},{"$f":"IFERROR($E303*SUMIF('Daily Log'!$BY$18:$BY$1017,$B303,'Daily Log'!$BZ$18:$BZ$1017),0)","v":0},{"$f":"IFERROR($E303*SUMIF('Daily Log'!$CB$18:$CB$1017,$B303,'Daily Log'!$CC$18:$CC$1017),0)","v":0},{"$f":"IFERROR($E303*SUMIF('Daily Log'!$CE$18:$CE$1017,$B303,'Daily Log'!$CF$18:$CF$1017),0)","v":0},{"$f":"IFERROR($E303*SUMIF('Daily Log'!$CH$18:$CH$1017,$B303,'Daily Log'!$CI$18:$CI$1017),0)","v":0},{"$f":"IFERROR($E303*SUMIF('Daily Log'!$CK$18:$CK$1017,$B303,'Daily Log'!$CL$18:$CL$1017),0)","v":0},{"$f":"IFERROR($E303*SUMIF('Daily Log'!$CN$18:$CN$1017,$B303,'Daily Log'!$CO$18:$CO$1017),0)","v":0}]
[null,"ZAC06 1306:SLVR FISH",null,null,1,0,{"$f":"IFERROR($E304*SUMIF('Daily Log'!$B$18:$B$1017,$B304,'Daily Log'!$C$18:$C$1017),0)","v":0},{"$f":"IFERROR($E304*SUMIF('Daily Log'!$E$18:$E$1017,$B304,'Daily Log'!$F$18:$F$1017),0)","v":0},{"$f":"IFERROR($E304*SUMIF('Daily Log'!$H$18:$H$1017,$B304,'Daily Log'!$I$18:$I$1017),0)","v":0},{"$f":"IFERROR($E304*SUMIF('Daily Log'!$K$18:$K$1017,$B304,'Daily Log'!$L$18:$L$1017),0)","v":0},{"$f":"IFERROR($E304*SUMIF('Daily Log'!$N$18:$N$1017,$B304,'Daily Log'!$O$18:$O$1017),0)","v":0},{"$f":"IFERROR($E304*SUMIF('Daily Log'!$Q$18:$Q$1017,$B304,'Daily Log'!$R$18:$R$1017),0)","v":0},{"$f":"IFERROR($E304*SUMIF('Daily Log'!$T$18:$T$1017,$B304,'Daily Log'!$U$18:$U$1017),0)","v":0},{"$f":"IFERROR($E304*SUMIF('Daily Log'!$W$18:$W$1017,$B304,'Daily Log'!$X$18:$X$1017),0)","v":0},{"$f":"IFERROR($E304*SUMIF('Daily Log'!$Z$18:$Z$1017,$B304,'Daily Log'!$AA$18:$AA$1017),0)","v":0},{"$f":"IFERROR($E304*SUMIF('Daily Log'!$AC$18:$AC$1017,$B304,'Daily Log'!$AD$18:$AD$1017),0)","v":0},{"$f":"IFERROR($E304*SUMIF('Daily Log'!$AF$18:$AF$1017,$B304,'Daily Log'!$AG$18:$AG$1017),0)","v":0},{"$f":"IFERROR($E304*SUMIF('Daily Log'!$AI$18:$AI$1017,$B304,'Daily Log'!$AJ$18:$AJ$1017),0)","v":0},{"$f":"IFERROR($E304*SUMIF('Daily Log'!$AL$18:$AL$1017,$B304,'Daily Log'!$AM$18:$AM$1017),0)","v":0},{"$f":"IFERROR($E304*SUMIF('Daily Log'!$AO$18:$AO$1017,$B304,'Daily Log'!$AP$18:$AP$1017),0)","v":0},{"$f":"IFERROR($E304*SUMIF('Daily Log'!$AR$18:$AR$1017,$B304,'Daily Log'!$AS$18:$AS$1017),0)","v":0},{"$f":"IFERROR($E304*SUMIF('Daily Log'!$AU$18:$AU$1017,$B304,'Daily Log'!$AV$18:$AV$1017),0)","v":0},{"$f":"IFERROR($E304*SUMIF('Daily Log'!$AX$18:$AX$1017,$B304,'Daily Log'!$AY$18:$AY$1017),0)","v":0},{"$f":"IFERROR($E304*SUMIF('Daily Log'!$BA$18:$BA$1017,$B304,'Daily Log'!$BB$18:$BB$1017),0)","v":0},{"$f":"IFERROR($E304*SUMIF('Daily Log'!$BD$18:$BD$1017,$B304,'Daily Log'!$BE$18:$BE$1017),0)","v":0},{"$f":"IFERROR($E304*SUMIF('Daily Log'!$BG$18:$BG$1017,$B304,'Daily Log'!$BH$18:$BH$1017),0)","v":0},{"$f":"IFERROR($E304*SUMIF('Daily Log'!$BJ$18:$BJ$1017,$B304,'Daily Log'!$BK$18:$BK$1017),0)","v":0},{"$f":"IFERROR($E304*SUMIF('Daily Log'!$BM$18:$BM$1017,$B304,'Daily Log'!$BN$18:$BN$1017),0)","v":0},{"$f":"IFERROR($E304*SUMIF('Daily Log'!$BP$18:$BP$1017,$B304,'Daily Log'!$BQ$18:$BQ$1017),0)","v":0},{"$f":"IFERROR($E304*SUMIF('Daily Log'!$BS$18:$BS$1017,$B304,'Daily Log'!$BT$18:$BT$1017),0)","v":0},{"$f":"IFERROR($E304*SUMIF('Daily Log'!$BV$18:$BV$1017,$B304,'Daily Log'!$BW$18:$BW$1017),0)","v":0},{"$f":"IFERROR($E304*SUMIF('Daily Log'!$BY$18:$BY$1017,$B304,'Daily Log'!$BZ$18:$BZ$1017),0)","v":0},{"$f":"IFERROR($E304*SUMIF('Daily Log'!$CB$18:$CB$1017,$B304,'Daily Log'!$CC$18:$CC$1017),0)","v":0},{"$f":"IFERROR($E304*SUMIF('Daily Log'!$CE$18:$CE$1017,$B304,'Daily Log'!$CF$18:$CF$1017),0)","v":0},{"$f":"IFERROR($E304*SUMIF('Daily Log'!$CH$18:$CH$1017,$B304,'Daily Log'!$CI$18:$CI$1017),0)","v":0},{"$f":"IFERROR($E304*SUMIF('Daily Log'!$CK$18:$CK$1017,$B304,'Daily Log'!$CL$18:$CL$1017),0)","v":0},{"$f":"IFERROR($E304*SUMIF('Daily Log'!$CN$18:$CN$1017,$B304,'Daily Log'!$CO$18:$CO$1017),0)","v":0}]
[null,"CB01 2001:MILO(C)",null,"SO-COLD BEVERAGE",1,0,{"$f":"IFERROR($E305*SUMIF('Daily Log'!$B$18:$B$1017,$B305,'Daily Log'!$C$18:$C$1017),0)","v":0},{"$f":"IFERROR($E305*SUMIF('Daily Log'!$E$18:$E$1017,$B305,'Daily Log'!$F$18:$F$1017),0)","v":0},{"$f":"IFERROR($E305*SUMIF('Daily Log'!$H$18:$H$1017,$B305,'Daily Log'!$I$18:$I$1017),0)","v":0},{"$f":"IFERROR($E305*SUMIF('Daily Log'!$K$18:$K$1017,$B305,'Daily Log'!$L$18:$L$1017),0)","v":0},{"$f":"IFERROR($E305*SUMIF('Daily Log'!$N$18:$N$1017,$B305,'Daily Log'!$O$18:$O$1017),0)","v":0},{"$f":"IFERROR($E305*SUMIF('Daily Log'!$Q$18:$Q$1017,$B305,'Daily Log'!$R$18:$R$1017),0)","v":0},{"$f":"IFERROR($E305*SUMIF('Daily Log'!$T$18:$T$1017,$B305,'Daily Log'!$U$18:$U$1017),0)","v":0},{"$f":"IFERROR($E305*SUMIF('Daily Log'!$W$18:$W$1017,$B305,'Daily Log'!$X$18:$X$1017),0)","v":0},{"$f":"IFERROR($E305*SUMIF('Daily Log'!$Z$18:$Z$1017,$B305,'Daily Log'!$AA$18:$AA$1017),0)","v":0},{"$f":"IFERROR($E305*SUMIF('Daily Log'!$AC$18:$AC$1017,$B305,'Daily Log'!$AD$18:$AD$1017),0)","v":0},{"$f":"IFERROR($E305*SUMIF('Daily Log'!$AF$18:$AF$1017,$B305,'Daily Log'!$AG$18:$AG$1017),0)","v":0},{"$f":"IFERROR($E305*SUMIF('Daily Log'!$AI$18:$AI$1017,$B305,'Daily Log'!$AJ$18:$AJ$1017),0)","v":0},{"$f":"IFERROR($E305*SUMIF('Daily Log'!$AL$18:$AL$1017,$B305,'Daily Log'!$AM$18:$AM$1017),0)","v":0},{"$f":"IFERROR($E305*SUMIF('Daily Log'!$AO$18:$AO$1017,$B305,'Daily Log'!$AP$18:$AP$1017),0)","v":0},{"$f":"IFERROR($E305*SUMIF('Daily Log'!$AR$18:$AR$1017,$B305,'Daily Log'!$AS$18:$AS$1017),0)","v":0},{"$f":"IFERROR($E305*SUMIF('Daily Log'!$AU$18:$AU$1017,$B305,'Daily Log'!$AV$18:$AV$1017),0)","v":0},{"$f":"IFERROR($E305*SUMIF('Daily Log'!$AX$18:$AX$1017,$B305,'Daily Log'!$AY$18:$AY$1017),0)","v":0},{"$f":"IFERROR($E305*SUMIF('Daily Log'!$BA$18:$BA$1017,$B305,'Daily Log'!$BB$18:$BB$1017),0)","v":0},{"$f":"IFERROR($E305*SUMIF('Daily Log'!$BD$18:$BD$1017,$B305,'Daily Log'!$BE$18:$BE$1017),0)","v":0},{"$f":"IFERROR($E305*SUMIF('Daily Log'!$BG$18:$BG$1017,$B305,'Daily Log'!$BH$18:$BH$1017),0)","v":0},{"$f":"IFERROR($E305*SUMIF('Daily Log'!$BJ$18:$BJ$1017,$B305,'Daily Log'!$BK$18:$BK$1017),0)","v":0},{"$f":"IFERROR($E305*SUMIF('Daily Log'!$BM$18:$BM$1017,$B305,'Daily Log'!$BN$18:$BN$1017),0)","v":0},{"$f":"IFERROR($E305*SUMIF('Daily Log'!$BP$18:$BP$1017,$B305,'Daily Log'!$BQ$18:$BQ$1017),0)","v":0},{"$f":"IFERROR($E305*SUMIF('Daily Log'!$BS$18:$BS$1017,$B305,'Daily Log'!$BT$18:$BT$1017),0)","v":0},{"$f":"IFERROR($E305*SUMIF('Daily Log'!$BV$18:$BV$1017,$B305,'Daily Log'!$BW$18:$BW$1017),0)","v":0},{"$f":"IFERROR($E305*SUMIF('Daily Log'!$BY$18:$BY$1017,$B305,'Daily Log'!$BZ$18:$BZ$1017),0)","v":0},{"$f":"IFERROR($E305*SUMIF('Daily Log'!$CB$18:$CB$1017,$B305,'Daily Log'!$CC$18:$CC$1017),0)","v":0},{"$f":"IFERROR($E305*SUMIF('Daily Log'!$CE$18:$CE$1017,$B305,'Daily Log'!$CF$18:$CF$1017),0)","v":0},{"$f":"IFERROR($E305*SUMIF('Daily Log'!$CH$18:$CH$1017,$B305,'Daily Log'!$CI$18:$CI$1017),0)","v":0},{"$f":"IFERROR($E305*SUMIF('Daily Log'!$CK$18:$CK$1017,$B305,'Daily Log'!$CL$18:$CL$1017),0)","v":0},{"$f":"IFERROR($E305*SUMIF('Daily Log'!$CN$18:$CN$1017,$B305,'Daily Log'!$CO$18:$CO$1017),0)","v":0}]
[null,"CB02 2003:NESCAFE(C)",null,"SO-COLD BEVERAGE",1,0,{"$f":"IFERROR($E306*SUMIF('Daily Log'!$B$18:$B$1017,$B306,'Daily Log'!$C$18:$C$1017),0)","v":0},{"$f":"IFERROR($E306*SUMIF('Daily Log'!$E$18:$E$1017,$B306,'Daily Log'!$F$18:$F$1017),0)","v":0},{"$f":"IFERROR($E306*SUMIF('Daily Log'!$H$18:$H$1017,$B306,'Daily Log'!$I$18:$I$1017),0)","v":0},{"$f":"IFERROR($E306*SUMIF('Daily Log'!$K$18:$K$1017,$B306,'Daily Log'!$L$18:$L$1017),0)","v":0},{"$f":"IFERROR($E306*SUMIF('Daily Log'!$N$18:$N$1017,$B306,'Daily Log'!$O$18:$O$1017),0)","v":0},{"$f":"IFERROR($E306*SUMIF('Daily Log'!$Q$18:$Q$1017,$B306,'Daily Log'!$R$18:$R$1017),0)","v":0},{"$f":"IFERROR($E306*SUMIF('Daily Log'!$T$18:$T$1017,$B306,'Daily Log'!$U$18:$U$1017),0)","v":0},{"$f":"IFERROR($E306*SUMIF('Daily Log'!$W$18:$W$1017,$B306,'Daily Log'!$X$18:$X$1017),0)","v":0},{"$f":"IFERROR($E306*SUMIF('Daily Log'!$Z$18:$Z$1017,$B306,'Daily Log'!$AA$18:$AA$1017),0)","v":0},{"$f":"IFERROR($E306*SUMIF('Daily Log'!$AC$18:$AC$1017,$B306,'Daily Log'!$AD$18:$AD$1017),0)","v":0},{"$f":"IFERROR($E306*SUMIF('Daily Log'!$AF$18:$AF$1017,$B306,'Daily Log'!$AG$18:$AG$1017),0)","v":0},{"$f":"IFERROR($E306*SUMIF('Daily Log'!$AI$18:$AI$1017,$B306,'Daily Log'!$AJ$18:$AJ$1017),0)","v":0},{"$f":"IFERROR($E306*SUMIF('Daily Log'!$AL$18:$AL$1017,$B306,'Daily Log'!$AM$18:$AM$1017),0)","v":0},{"$f":"IFERROR($E306*SUMIF('Daily Log'!$AO$18:$AO$1017,$B306,'Daily Log'!$AP$18:$AP$1017),0)","v":0},{"$f":"IFERROR($E306*SUMIF('Daily Log'!$AR$18:$AR$1017,$B306,'Daily Log'!$AS$18:$AS$1017),0)","v":0},{"$f":"IFERROR($E306*SUMIF('Daily Log'!$AU$18:$AU$1017,$B306,'Daily Log'!$AV$18:$AV$1017),0)","v":0},{"$f":"IFERROR($E306*SUMIF('Daily Log'!$AX$18:$AX$1017,$B306,'Daily Log'!$AY$18:$AY$1017),0)","v":0},{"$f":"IFERROR($E306*SUMIF('Daily Log'!$BA$18:$BA$1017,$B306,'Daily Log'!$BB$18:$BB$1017),0)","v":0},{"$f":"IFERROR($E306*SUMIF('Daily Log'!$BD$18:$BD$1017,$B306,'Daily Log'!$BE$18:$BE$1017),0)","v":0},{"$f":"IFERROR($E306*SUMIF('Daily Log'!$BG$18:$BG$1017,$B306,'Daily Log'!$BH$18:$BH$1017),0)","v":0},{"$f":"IFERROR($E306*SUMIF('Daily Log'!$BJ$18:$BJ$1017,$B306,'Daily Log'!$BK$18:$BK$1017),0)","v":0},{"$f":"IFERROR($E306*SUMIF('Daily Log'!$BM$18:$BM$1017,$B306,'Daily Log'!$BN$18:$BN$1017),0)","v":0},{"$f":"IFERROR($E306*SUMIF('Daily Log'!$BP$18:$BP$1017,$B306,'Daily Log'!$BQ$18:$BQ$1017),0)","v":0},{"$f":"IFERROR($E306*SUMIF('Daily Log'!$BS$18:$BS$1017,$B306,'Daily Log'!$BT$18:$BT$1017),0)","v":0},{"$f":"IFERROR($E306*SUMIF('Daily Log'!$BV$18:$BV$1017,$B306,'Daily Log'!$BW$18:$BW$1017),0)","v":0},{"$f":"IFERROR($E306*SUMIF('Daily Log'!$BY$18:$BY$1017,$B306,'Daily Log'!$BZ$18:$BZ$1017),0)","v":0},{"$f":"IFERROR($E306*SUMIF('Daily Log'!$CB$18:$CB$1017,$B306,'Daily Log'!$CC$18:$CC$1017),0)","v":0},{"$f":"IFERROR($E306*SUMIF('Daily Log'!$CE$18:$CE$1017,$B306,'Daily Log'!$CF$18:$CF$1017),0)","v":0},{"$f":"IFERROR($E306*SUMIF('Daily Log'!$CH$18:$CH$1017,$B306,'Daily Log'!$CI$18:$CI$1017),0)","v":0},{"$f":"IFERROR($E306*SUMIF('Daily Log'!$CK$18:$CK$1017,$B306,'Daily Log'!$CL$18:$CL$1017),0)","v":0},{"$f":"IFERROR($E306*SUMIF('Daily Log'!$CN$18:$CN$1017,$B306,'Daily Log'!$CO$18:$CO$1017),0)","v":0}]
[null,"CB03 2005:TEA(C)",null,"SO-COLD BEVERAGE",1,0,{"$f":"IFERROR($E307*SUMIF('Daily Log'!$B$18:$B$1017,$B307,'Daily Log'!$C$18:$C$1017),0)","v":0},{"$f":"IFERROR($E307*SUMIF('Daily Log'!$E$18:$E$1017,$B307,'Daily Log'!$F$18:$F$1017),0)","v":0},{"$f":"IFERROR($E307*SUMIF('Daily Log'!$H$18:$H$1017,$B307,'Daily Log'!$I$18:$I$1017),0)","v":0},{"$f":"IFERROR($E307*SUMIF('Daily Log'!$K$18:$K$1017,$B307,'Daily Log'!$L$18:$L$1017),0)","v":0},{"$f":"IFERROR($E307*SUMIF('Daily Log'!$N$18:$N$1017,$B307,'Daily Log'!$O$18:$O$1017),0)","v":0},{"$f":"IFERROR($E307*SUMIF('Daily Log'!$Q$18:$Q$1017,$B307,'Daily Log'!$R$18:$R$1017),0)","v":0},{"$f":"IFERROR($E307*SUMIF('Daily Log'!$T$18:$T$1017,$B307,'Daily Log'!$U$18:$U$1017),0)","v":0},{"$f":"IFERROR($E307*SUMIF('Daily Log'!$W$18:$W$1017,$B307,'Daily Log'!$X$18:$X$1017),0)","v":0},{"$f":"IFERROR($E307*SUMIF('Daily Log'!$Z$18:$Z$1017,$B307,'Daily Log'!$AA$18:$AA$1017),0)","v":0},{"$f":"IFERROR($E307*SUMIF('Daily Log'!$AC$18:$AC$1017,$B307,'Daily Log'!$AD$18:$AD$1017),0)","v":0},{"$f":"IFERROR($E307*SUMIF('Daily Log'!$AF$18:$AF$1017,$B307,'Daily Log'!$AG$18:$AG$1017),0)","v":0},{"$f":"IFERROR($E307*SUMIF('Daily Log'!$AI$18:$AI$1017,$B307,'Daily Log'!$AJ$18:$AJ$1017),0)","v":0},{"$f":"IFERROR($E307*SUMIF('Daily Log'!$AL$18:$AL$1017,$B307,'Daily Log'!$AM$18:$AM$1017),0)","v":0},{"$f":"IFERROR($E307*SUMIF('Daily Log'!$AO$18:$AO$1017,$B307,'Daily Log'!$AP$18:$AP$1017),0)","v":0},{"$f":"IFERROR($E307*SUMIF('Daily Log'!$AR$18:$AR$1017,$B307,'Daily Log'!$AS$18:$AS$1017),0)","v":0},{"$f":"IFERROR($E307*SUMIF('Daily Log'!$AU$18:$AU$1017,$B307,'Daily Log'!$AV$18:$AV$1017),0)","v":0},{"$f":"IFERROR($E307*SUMIF('Daily Log'!$AX$18:$AX$1017,$B307,'Daily Log'!$AY$18:$AY$1017),0)","v":0},{"$f":"IFERROR($E307*SUMIF('Daily Log'!$BA$18:$BA$1017,$B307,'Daily Log'!$BB$18:$BB$1017),0)","v":0},{"$f":"IFERROR($E307*SUMIF('Daily Log'!$BD$18:$BD$1017,$B307,'Daily Log'!$BE$18:$BE$1017),0)","v":0},{"$f":"IFERROR($E307*SUMIF('Daily Log'!$BG$18:$BG$1017,$B307,'Daily Log'!$BH$18:$BH$1017),0)","v":0},{"$f":"IFERROR($E307*SUMIF('Daily Log'!$BJ$18:$BJ$1017,$B307,'Daily Log'!$BK$18:$BK$1017),0)","v":0},{"$f":"IFERROR($E307*SUMIF('Daily Log'!$BM$18:$BM$1017,$B307,'Daily Log'!$BN$18:$BN$1017),0)","v":0},{"$f":"IFERROR($E307*SUMIF('Daily Log'!$BP$18:$BP$1017,$B307,'Daily Log'!$BQ$18:$BQ$1017),0)","v":0},{"$f":"IFERROR($E307*SUMIF('Daily Log'!$BS$18:$BS$1017,$B307,'Daily Log'!$BT$18:$BT$1017),0)","v":0},{"$f":"IFERROR($E307*SUMIF('Daily Log'!$BV$18:$BV$1017,$B307,'Daily Log'!$BW$18:$BW$1017),0)","v":0},{"$f":"IFERROR($E307*SUMIF('Daily Log'!$BY$18:$BY$1017,$B307,'Daily Log'!$BZ$18:$BZ$1017),0)","v":0},{"$f":"IFERROR($E307*SUMIF('Daily Log'!$CB$18:$CB$1017,$B307,'Daily Log'!$CC$18:$CC$1017),0)","v":0},{"$f":"IFERROR($E307*SUMIF('Daily Log'!$CE$18:$CE$1017,$B307,'Daily Log'!$CF$18:$CF$1017),0)","v":0},{"$f":"IFERROR($E307*SUMIF('Daily Log'!$CH$18:$CH$1017,$B307,'Daily Log'!$CI$18:$CI$1017),0)","v":0},{"$f":"IFERROR($E307*SUMIF('Daily Log'!$CK$18:$CK$1017,$B307,'Daily Log'!$CL$18:$CL$1017),0)","v":0},{"$f":"IFERROR($E307*SUMIF('Daily Log'!$CN$18:$CN$1017,$B307,'Daily Log'!$CO$18:$CO$1017),0)","v":0}]
[null,"CB04 2007:LMN TEA(C)",null,"SO-COLD BEVERAGE",1,1,{"$f":"IFERROR($E308*SUMIF('Daily Log'!$B$18:$B$1017,$B308,'Daily Log'!$C$18:$C$1017),0)","v":0},{"$f":"IFERROR($E308*SUMIF('Daily Log'!$E$18:$E$1017,$B308,'Daily Log'!$F$18:$F$1017),0)","v":0},{"$f":"IFERROR($E308*SUMIF('Daily Log'!$H$18:$H$1017,$B308,'Daily Log'!$I$18:$I$1017),0)","v":0},{"$f":"IFERROR($E308*SUMIF('Daily Log'!$K$18:$K$1017,$B308,'Daily Log'!$L$18:$L$1017),0)","v":0},{"$f":"IFERROR($E308*SUMIF('Daily Log'!$N$18:$N$1017,$B308,'Daily Log'!$O$18:$O$1017),0)","v":0},{"$f":"IFERROR($E308*SUMIF('Daily Log'!$Q$18:$Q$1017,$B308,'Daily Log'!$R$18:$R$1017),0)","v":0},{"$f":"IFERROR($E308*SUMIF('Daily Log'!$T$18:$T$1017,$B308,'Daily Log'!$U$18:$U$1017),0)","v":0},{"$f":"IFERROR($E308*SUMIF('Daily Log'!$W$18:$W$1017,$B308,'Daily Log'!$X$18:$X$1017),0)","v":0},{"$f":"IFERROR($E308*SUMIF('Daily Log'!$Z$18:$Z$1017,$B308,'Daily Log'!$AA$18:$AA$1017),0)","v":0},{"$f":"IFERROR($E308*SUMIF('Daily Log'!$AC$18:$AC$1017,$B308,'Daily Log'!$AD$18:$AD$1017),0)","v":0},{"$f":"IFERROR($E308*SUMIF('Daily Log'!$AF$18:$AF$1017,$B308,'Daily Log'!$AG$18:$AG$1017),0)","v":0},{"$f":"IFERROR($E308*SUMIF('Daily Log'!$AI$18:$AI$1017,$B308,'Daily Log'!$AJ$18:$AJ$1017),0)","v":0},{"$f":"IFERROR($E308*SUMIF('Daily Log'!$AL$18:$AL$1017,$B308,'Daily Log'!$AM$18:$AM$1017),0)","v":0},{"$f":"IFERROR($E308*SUMIF('Daily Log'!$AO$18:$AO$1017,$B308,'Daily Log'!$AP$18:$AP$1017),0)","v":0},{"$f":"IFERROR($E308*SUMIF('Daily Log'!$AR$18:$AR$1017,$B308,'Daily Log'!$AS$18:$AS$1017),0)","v":0},{"$f":"IFERROR($E308*SUMIF('Daily Log'!$AU$18:$AU$1017,$B308,'Daily Log'!$AV$18:$AV$1017),0)","v":0},{"$f":"IFERROR($E308*SUMIF('Daily Log'!$AX$18:$AX$1017,$B308,'Daily Log'!$AY$18:$AY$1017),0)","v":0},{"$f":"IFERROR($E308*SUMIF('Daily Log'!$BA$18:$BA$1017,$B308,'Daily Log'!$BB$18:$BB$1017),0)","v":0},{"$f":"IFERROR($E308*SUMIF('Daily Log'!$BD$18:$BD$1017,$B308,'Daily Log'!$BE$18:$BE$1017),0)","v":0},{"$f":"IFERROR($E308*SUMIF('Daily Log'!$BG$18:$BG$1017,$B308,'Daily Log'!$BH$18:$BH$1017),0)","v":0},{"$f":"IFERROR($E308*SUMIF('Daily Log'!$BJ$18:$BJ$1017,$B308,'Daily Log'!$BK$18:$BK$1017),0)","v":0},{"$f":"IFERROR($E308*SUMIF('Daily Log'!$BM$18:$BM$1017,$B308,'Daily Log'!$BN$18:$BN$1017),0)","v":0},{"$f":"IFERROR($E308*SUMIF('Daily Log'!$BP$18:$BP$1017,$B308,'Daily Log'!$BQ$18:$BQ$1017),0)","v":0},{"$f":"IFERROR($E308*SUMIF('Daily Log'!$BS$18:$BS$1017,$B308,'Daily Log'!$BT$18:$BT$1017),0)","v":0},{"$f":"IFERROR($E308*SUMIF('Daily Log'!$BV$18:$BV$1017,$B308,'Daily Log'!$BW$18:$BW$1017),0)","v":0},{"$f":"IFERROR($E308*SUMIF('Daily Log'!$BY$18:$BY$1017,$B308,'Daily Log'!$BZ$18:$BZ$1017),0)","v":0},{"$f":"IFERROR($E308*SUMIF('Daily Log'!$CB$18:$CB$1017,$B308,'Daily Log'!$CC$18:$CC$1017),0)","v":0},{"$f":"IFERROR($E308*SUMIF('Daily Log'!$CE$18:$CE$1017,$B308,'Daily Log'!$CF$18:$CF$1017),0)","v":1},{"$f":"IFERROR($E308*SUMIF('Daily Log'!$CH$18:$CH$1017,$B308,'Daily Log'!$CI$18:$CI$1017),0)","v":0},{"$f":"IFERROR($E308*SUMIF('Daily Log'!$CK$18:$CK$1017,$B308,'Daily Log'!$CL$18:$CL$1017),0)","v":0},{"$f":"IFERROR($E308*SUMIF('Daily Log'!$CN$18:$CN$1017,$B308,'Daily Log'!$CO$18:$CO$1017),0)","v":0}]
[null,"CB05 2009:GRN TEA(C)",null,"SO-COLD BEVERAGE",1,2,{"$f":"IFERROR($E309*SUMIF('Daily Log'!$B$18:$B$1017,$B309,'Daily Log'!$C$18:$C$1017),0)","v":0},{"$f":"IFERROR($E309*SUMIF('Daily Log'!$E$18:$E$1017,$B309,'Daily Log'!$F$18:$F$1017),0)","v":0},{"$f":"IFERROR($E309*SUMIF('Daily Log'!$H$18:$H$1017,$B309,'Daily Log'!$I$18:$I$1017),0)","v":0},{"$f":"IFERROR($E309*SUMIF('Daily Log'!$K$18:$K$1017,$B309,'Daily Log'!$L$18:$L$1017),0)","v":0},{"$f":"IFERROR($E309*SUMIF('Daily Log'!$N$18:$N$1017,$B309,'Daily Log'!$O$18:$O$1017),0)","v":0},{"$f":"IFERROR($E309*SUMIF('Daily Log'!$Q$18:$Q$1017,$B309,'Daily Log'!$R$18:$R$1017),0)","v":0},{"$f":"IFERROR($E309*SUMIF('Daily Log'!$T$18:$T$1017,$B309,'Daily Log'!$U$18:$U$1017),0)","v":0},{"$f":"IFERROR($E309*SUMIF('Daily Log'!$W$18:$W$1017,$B309,'Daily Log'!$X$18:$X$1017),0)","v":0},{"$f":"IFERROR($E309*SUMIF('Daily Log'!$Z$18:$Z$1017,$B309,'Daily Log'!$AA$18:$AA$1017),0)","v":0},{"$f":"IFERROR($E309*SUMIF('Daily Log'!$AC$18:$AC$1017,$B309,'Daily Log'!$AD$18:$AD$1017),0)","v":0},{"$f":"IFERROR($E309*SUMIF('Daily Log'!$AF$18:$AF$1017,$B309,'Daily Log'!$AG$18:$AG$1017),0)","v":0},{"$f":"IFERROR($E309*SUMIF('Daily Log'!$AI$18:$AI$1017,$B309,'Daily Log'!$AJ$18:$AJ$1017),0)","v":0},{"$f":"IFERROR($E309*SUMIF('Daily Log'!$AL$18:$AL$1017,$B309,'Daily Log'!$AM$18:$AM$1017),0)","v":0},{"$f":"IFERROR($E309*SUMIF('Daily Log'!$AO$18:$AO$1017,$B309,'Daily Log'!$AP$18:$AP$1017),0)","v":0},{"$f":"IFERROR($E309*SUMIF('Daily Log'!$AR$18:$AR$1017,$B309,'Daily Log'!$AS$18:$AS$1017),0)","v":0},{"$f":"IFERROR($E309*SUMIF('Daily Log'!$AU$18:$AU$1017,$B309,'Daily Log'!$AV$18:$AV$1017),0)","v":0},{"$f":"IFERROR($E309*SUMIF('Daily Log'!$AX$18:$AX$1017,$B309,'Daily Log'!$AY$18:$AY$1017),0)","v":0},{"$f":"IFERROR($E309*SUMIF('Daily Log'!$BA$18:$BA$1017,$B309,'Daily Log'!$BB$18:$BB$1017),0)","v":0},{"$f":"IFERROR($E309*SUMIF('Daily Log'!$BD$18:$BD$1017,$B309,'Daily Log'!$BE$18:$BE$1017),0)","v":0},{"$f":"IFERROR($E309*SUMIF('Daily Log'!$BG$18:$BG$1017,$B309,'Daily Log'!$BH$18:$BH$1017),0)","v":0},{"$f":"IFERROR($E309*SUMIF('Daily Log'!$BJ$18:$BJ$1017,$B309,'Daily Log'!$BK$18:$BK$1017),0)","v":0},{"$f":"IFERROR($E309*SUMIF('Daily Log'!$BM$18:$BM$1017,$B309,'Daily Log'!$BN$18:$BN$1017),0)","v":0},{"$f":"IFERROR($E309*SUMIF('Daily Log'!$BP$18:$BP$1017,$B309,'Daily Log'!$BQ$18:$BQ$1017),0)","v":0},{"$f":"IFERROR($E309*SUMIF('Daily Log'!$BS$18:$BS$1017,$B309,'Daily Log'!$BT$18:$BT$1017),0)","v":0},{"$f":"IFERROR($E309*SUMIF('Daily Log'!$BV$18:$BV$1017,$B309,'Daily Log'!$BW$18:$BW$1017),0)","v":0},{"$f":"IFERROR($E309*SUMIF('Daily Log'!$BY$18:$BY$1017,$B309,'Daily Log'!$BZ$18:$BZ$1017),0)","v":0},{"$f":"IFERROR($E309*SUMIF('Daily Log'!$CB$18:$CB$1017,$B309,'Daily Log'!$CC$18:$CC$1017),0)","v":0},{"$f":"IFERROR($E309*SUMIF('Daily Log'!$CE$18:$CE$1017,$B309,'Daily Log'!$CF$18:$CF$1017),0)","v":2},{"$f":"IFERROR($E309*SUMIF('Daily Log'!$CH$18:$CH$1017,$B309,'Daily Log'!$CI$18:$CI$1017),0)","v":0},{"$f":"IFERROR($E309*SUMIF('Daily Log'!$CK$18:$CK$1017,$B309,'Daily Log'!$CL$18:$CL$1017),0)","v":0},{"$f":"IFERROR($E309*SUMIF('Daily Log'!$CN$18:$CN$1017,$B309,'Daily Log'!$CO$18:$CO$1017),0)","v":0}]
[null,"CB06 2011:HNY GT(C)",null,"SO-COLD BEVERAGE",1,1,{"$f":"IFERROR($E310*SUMIF('Daily Log'!$B$18:$B$1017,$B310,'Daily Log'!$C$18:$C$1017),0)","v":0},{"$f":"IFERROR($E310*SUMIF('Daily Log'!$E$18:$E$1017,$B310,'Daily Log'!$F$18:$F$1017),0)","v":0},{"$f":"IFERROR($E310*SUMIF('Daily Log'!$H$18:$H$1017,$B310,'Daily Log'!$I$18:$I$1017),0)","v":0},{"$f":"IFERROR($E310*SUMIF('Daily Log'!$K$18:$K$1017,$B310,'Daily Log'!$L$18:$L$1017),0)","v":0},{"$f":"IFERROR($E310*SUMIF('Daily Log'!$N$18:$N$1017,$B310,'Daily Log'!$O$18:$O$1017),0)","v":0},{"$f":"IFERROR($E310*SUMIF('Daily Log'!$Q$18:$Q$1017,$B310,'Daily Log'!$R$18:$R$1017),0)","v":0},{"$f":"IFERROR($E310*SUMIF('Daily Log'!$T$18:$T$1017,$B310,'Daily Log'!$U$18:$U$1017),0)","v":0},{"$f":"IFERROR($E310*SUMIF('Daily Log'!$W$18:$W$1017,$B310,'Daily Log'!$X$18:$X$1017),0)","v":0},{"$f":"IFERROR($E310*SUMIF('Daily Log'!$Z$18:$Z$1017,$B310,'Daily Log'!$AA$18:$AA$1017),0)","v":0},{"$f":"IFERROR($E310*SUMIF('Daily Log'!$AC$18:$AC$1017,$B310,'Daily Log'!$AD$18:$AD$1017),0)","v":0},{"$f":"IFERROR($E310*SUMIF('Daily Log'!$AF$18:$AF$1017,$B310,'Daily Log'!$AG$18:$AG$1017),0)","v":0},{"$f":"IFERROR($E310*SUMIF('Daily Log'!$AI$18:$AI$1017,$B310,'Daily Log'!$AJ$18:$AJ$1017),0)","v":0},{"$f":"IFERROR($E310*SUMIF('Daily Log'!$AL$18:$AL$1017,$B310,'Daily Log'!$AM$18:$AM$1017),0)","v":0},{"$f":"IFERROR($E310*SUMIF('Daily Log'!$AO$18:$AO$1017,$B310,'Daily Log'!$AP$18:$AP$1017),0)","v":0},{"$f":"IFERROR($E310*SUMIF('Daily Log'!$AR$18:$AR$1017,$B310,'Daily Log'!$AS$18:$AS$1017),0)","v":0},{"$f":"IFERROR($E310*SUMIF('Daily Log'!$AU$18:$AU$1017,$B310,'Daily Log'!$AV$18:$AV$1017),0)","v":0},{"$f":"IFERROR($E310*SUMIF('Daily Log'!$AX$18:$AX$1017,$B310,'Daily Log'!$AY$18:$AY$1017),0)","v":0},{"$f":"IFERROR($E310*SUMIF('Daily Log'!$BA$18:$BA$1017,$B310,'Daily Log'!$BB$18:$BB$1017),0)","v":0},{"$f":"IFERROR($E310*SUMIF('Daily Log'!$BD$18:$BD$1017,$B310,'Daily Log'!$BE$18:$BE$1017),0)","v":0},{"$f":"IFERROR($E310*SUMIF('Daily Log'!$BG$18:$BG$1017,$B310,'Daily Log'!$BH$18:$BH$1017),0)","v":0},{"$f":"IFERROR($E310*SUMIF('Daily Log'!$BJ$18:$BJ$1017,$B310,'Daily Log'!$BK$18:$BK$1017),0)","v":0},{"$f":"IFERROR($E310*SUMIF('Daily Log'!$BM$18:$BM$1017,$B310,'Daily Log'!$BN$18:$BN$1017),0)","v":0},{"$f":"IFERROR($E310*SUMIF('Daily Log'!$BP$18:$BP$1017,$B310,'Daily Log'!$BQ$18:$BQ$1017),0)","v":0},{"$f":"IFERROR($E310*SUMIF('Daily Log'!$BS$18:$BS$1017,$B310,'Daily Log'!$BT$18:$BT$1017),0)","v":0},{"$f":"IFERROR($E310*SUMIF('Daily Log'!$BV$18:$BV$1017,$B310,'Daily Log'!$BW$18:$BW$1017),0)","v":0},{"$f":"IFERROR($E310*SUMIF('Daily Log'!$BY$18:$BY$1017,$B310,'Daily Log'!$BZ$18:$BZ$1017),0)","v":0},{"$f":"IFERROR($E310*SUMIF('Daily Log'!$CB$18:$CB$1017,$B310,'Daily Log'!$CC$18:$CC$1017),0)","v":0},{"$f":"IFERROR($E310*SUMIF('Daily Log'!$CE$18:$CE$1017,$B310,'Daily Log'!$CF$18:$CF$1017),0)","v":1},{"$f":"IFERROR($E310*SUMIF('Daily Log'!$CH$18:$CH$1017,$B310,'Daily Log'!$CI$18:$CI$1017),0)","v":0},{"$f":"IFERROR($E310*SUMIF('Daily Log'!$CK$18:$CK$1017,$B310,'Daily Log'!$CL$18:$CL$1017),0)","v":0},{"$f":"IFERROR($E310*SUMIF('Daily Log'!$CN$18:$CN$1017,$B310,'Daily Log'!$CO$18:$CO$1017),0)","v":0}]
[null,"CB07 2013:HONEY (C)",null,"SO-COLD BEVERAGE",1,0,{"$f":"IFERROR($E311*SUMIF('Daily Log'!$B$18:$B$1017,$B311,'Daily Log'!$C$18:$C$1017),0)","v":0},{"$f":"IFERROR($E311*SUMIF('Daily Log'!$E$18:$E$1017,$B311,'Daily Log'!$F$18:$F$1017),0)","v":0},{"$f":"IFERROR($E311*SUMIF('Daily Log'!$H$18:$H$1017,$B311,'Daily Log'!$I$18:$I$1017),0)","v":0},{"$f":"IFERROR($E311*SUMIF('Daily Log'!$K$18:$K$1017,$B311,'Daily Log'!$L$18:$L$1017),0)","v":0},{"$f":"IFERROR($E311*SUMIF('Daily Log'!$N$18:$N$1017,$B311,'Daily Log'!$O$18:$O$1017),0)","v":0},{"$f":"IFERROR($E311*SUMIF('Daily Log'!$Q$18:$Q$1017,$B311,'Daily Log'!$R$18:$R$1017),0)","v":0},{"$f":"IFERROR($E311*SUMIF('Daily Log'!$T$18:$T$1017,$B311,'Daily Log'!$U$18:$U$1017),0)","v":0},{"$f":"IFERROR($E311*SUMIF('Daily Log'!$W$18:$W$1017,$B311,'Daily Log'!$X$18:$X$1017),0)","v":0},{"$f":"IFERROR($E311*SUMIF('Daily Log'!$Z$18:$Z$1017,$B311,'Daily Log'!$AA$18:$AA$1017),0)","v":0},{"$f":"IFERROR($E311*SUMIF('Daily Log'!$AC$18:$AC$1017,$B311,'Daily Log'!$AD$18:$AD$1017),0)","v":0},{"$f":"IFERROR($E311*SUMIF('Daily Log'!$AF$18:$AF$1017,$B311,'Daily Log'!$AG$18:$AG$1017),0)","v":0},{"$f":"IFERROR($E311*SUMIF('Daily Log'!$AI$18:$AI$1017,$B311,'Daily Log'!$AJ$18:$AJ$1017),0)","v":0},{"$f":"IFERROR($E311*SUMIF('Daily Log'!$AL$18:$AL$1017,$B311,'Daily Log'!$AM$18:$AM$1017),0)","v":0},{"$f":"IFERROR($E311*SUMIF('Daily Log'!$AO$18:$AO$1017,$B311,'Daily Log'!$AP$18:$AP$1017),0)","v":0},{"$f":"IFERROR($E311*SUMIF('Daily Log'!$AR$18:$AR$1017,$B311,'Daily Log'!$AS$18:$AS$1017),0)","v":0},{"$f":"IFERROR($E311*SUMIF('Daily Log'!$AU$18:$AU$1017,$B311,'Daily Log'!$AV$18:$AV$1017),0)","v":0},{"$f":"IFERROR($E311*SUMIF('Daily Log'!$AX$18:$AX$1017,$B311,'Daily Log'!$AY$18:$AY$1017),0)","v":0},{"$f":"IFERROR($E311*SUMIF('Daily Log'!$BA$18:$BA$1017,$B311,'Daily Log'!$BB$18:$BB$1017),0)","v":0},{"$f":"IFERROR($E311*SUMIF('Daily Log'!$BD$18:$BD$1017,$B311,'Daily Log'!$BE$18:$BE$1017),0)","v":0},{"$f":"IFERROR($E311*SUMIF('Daily Log'!$BG$18:$BG$1017,$B311,'Daily Log'!$BH$18:$BH$1017),0)","v":0},{"$f":"IFERROR($E311*SUMIF('Daily Log'!$BJ$18:$BJ$1017,$B311,'Daily Log'!$BK$18:$BK$1017),0)","v":0},{"$f":"IFERROR($E311*SUMIF('Daily Log'!$BM$18:$BM$1017,$B311,'Daily Log'!$BN$18:$BN$1017),0)","v":0},{"$f":"IFERROR($E311*SUMIF('Daily Log'!$BP$18:$BP$1017,$B311,'Daily Log'!$BQ$18:$BQ$1017),0)","v":0},{"$f":"IFERROR($E311*SUMIF('Daily Log'!$BS$18:$BS$1017,$B311,'Daily Log'!$BT$18:$BT$1017),0)","v":0},{"$f":"IFERROR($E311*SUMIF('Daily Log'!$BV$18:$BV$1017,$B311,'Daily Log'!$BW$18:$BW$1017),0)","v":0},{"$f":"IFERROR($E311*SUMIF('Daily Log'!$BY$18:$BY$1017,$B311,'Daily Log'!$BZ$18:$BZ$1017),0)","v":0},{"$f":"IFERROR($E311*SUMIF('Daily Log'!$CB$18:$CB$1017,$B311,'Daily Log'!$CC$18:$CC$1017),0)","v":0},{"$f":"IFERROR($E311*SUMIF('Daily Log'!$CE$18:$CE$1017,$B311,'Daily Log'!$CF$18:$CF$1017),0)","v":0},{"$f":"IFERROR($E311*SUMIF('Daily Log'!$CH$18:$CH$1017,$B311,'Daily Log'!$CI$18:$CI$1017),0)","v":0},{"$f":"IFERROR($E311*SUMIF('Daily Log'!$CK$18:$CK$1017,$B311,'Daily Log'!$CL$18:$CL$1017),0)","v":0},{"$f":"IFERROR($E311*SUMIF('Daily Log'!$CN$18:$CN$1017,$B311,'Daily Log'!$CO$18:$CO$1017),0)","v":0}]
[null,"CB08 2015:HNY LMN(C)",null,"SO-COLD BEVERAGE",1,2,{"$f":"IFERROR($E312*SUMIF('Daily Log'!$B$18:$B$1017,$B312,'Daily Log'!$C$18:$C$1017),0)","v":0},{"$f":"IFERROR($E312*SUMIF('Daily Log'!$E$18:$E$1017,$B312,'Daily Log'!$F$18:$F$1017),0)","v":0},{"$f":"IFERROR($E312*SUMIF('Daily Log'!$H$18:$H$1017,$B312,'Daily Log'!$I$18:$I$1017),0)","v":0},{"$f":"IFERROR($E312*SUMIF('Daily Log'!$K$18:$K$1017,$B312,'Daily Log'!$L$18:$L$1017),0)","v":0},{"$f":"IFERROR($E312*SUMIF('Daily Log'!$N$18:$N$1017,$B312,'Daily Log'!$O$18:$O$1017),0)","v":0},{"$f":"IFERROR($E312*SUMIF('Daily Log'!$Q$18:$Q$1017,$B312,'Daily Log'!$R$18:$R$1017),0)","v":0},{"$f":"IFERROR($E312*SUMIF('Daily Log'!$T$18:$T$1017,$B312,'Daily Log'!$U$18:$U$1017),0)","v":0},{"$f":"IFERROR($E312*SUMIF('Daily Log'!$W$18:$W$1017,$B312,'Daily Log'!$X$18:$X$1017),0)","v":0},{"$f":"IFERROR($E312*SUMIF('Daily Log'!$Z$18:$Z$1017,$B312,'Daily Log'!$AA$18:$AA$1017),0)","v":0},{"$f":"IFERROR($E312*SUMIF('Daily Log'!$AC$18:$AC$1017,$B312,'Daily Log'!$AD$18:$AD$1017),0)","v":0},{"$f":"IFERROR($E312*SUMIF('Daily Log'!$AF$18:$AF$1017,$B312,'Daily Log'!$AG$18:$AG$1017),0)","v":0},{"$f":"IFERROR($E312*SUMIF('Daily Log'!$AI$18:$AI$1017,$B312,'Daily Log'!$AJ$18:$AJ$1017),0)","v":0},{"$f":"IFERROR($E312*SUMIF('Daily Log'!$AL$18:$AL$1017,$B312,'Daily Log'!$AM$18:$AM$1017),0)","v":0},{"$f":"IFERROR($E312*SUMIF('Daily Log'!$AO$18:$AO$1017,$B312,'Daily Log'!$AP$18:$AP$1017),0)","v":0},{"$f":"IFERROR($E312*SUMIF('Daily Log'!$AR$18:$AR$1017,$B312,'Daily Log'!$AS$18:$AS$1017),0)","v":0},{"$f":"IFERROR($E312*SUMIF('Daily Log'!$AU$18:$AU$1017,$B312,'Daily Log'!$AV$18:$AV$1017),0)","v":0},{"$f":"IFERROR($E312*SUMIF('Daily Log'!$AX$18:$AX$1017,$B312,'Daily Log'!$AY$18:$AY$1017),0)","v":0},{"$f":"IFERROR($E312*SUMIF('Daily Log'!$BA$18:$BA$1017,$B312,'Daily Log'!$BB$18:$BB$1017),0)","v":0},{"$f":"IFERROR($E312*SUMIF('Daily Log'!$BD$18:$BD$1017,$B312,'Daily Log'!$BE$18:$BE$1017),0)","v":0},{"$f":"IFERROR($E312*SUMIF('Daily Log'!$BG$18:$BG$1017,$B312,'Daily Log'!$BH$18:$BH$1017),0)","v":0},{"$f":"IFERROR($E312*SUMIF('Daily Log'!$BJ$18:$BJ$1017,$B312,'Daily Log'!$BK$18:$BK$1017),0)","v":0},{"$f":"IFERROR($E312*SUMIF('Daily Log'!$BM$18:$BM$1017,$B312,'Daily Log'!$BN$18:$BN$1017),0)","v":0},{"$f":"IFERROR($E312*SUMIF('Daily Log'!$BP$18:$BP$1017,$B312,'Daily Log'!$BQ$18:$BQ$1017),0)","v":0},{"$f":"IFERROR($E312*SUMIF('Daily Log'!$BS$18:$BS$1017,$B312,'Daily Log'!$BT$18:$BT$1017),0)","v":0},{"$f":"IFERROR($E312*SUMIF('Daily Log'!$BV$18:$BV$1017,$B312,'Daily Log'!$BW$18:$BW$1017),0)","v":0},{"$f":"IFERROR($E312*SUMIF('Daily Log'!$BY$18:$BY$1017,$B312,'Daily Log'!$BZ$18:$BZ$1017),0)","v":0},{"$f":"IFERROR($E312*SUMIF('Daily Log'!$CB$18:$CB$1017,$B312,'Daily Log'!$CC$18:$CC$1017),0)","v":0},{"$f":"IFERROR($E312*SUMIF('Daily Log'!$CE$18:$CE$1017,$B312,'Daily Log'!$CF$18:$CF$1017),0)","v":2},{"$f":"IFERROR($E312*SUMIF('Daily Log'!$CH$18:$CH$1017,$B312,'Daily Log'!$CI$18:$CI$1017),0)","v":0},{"$f":"IFERROR($E312*SUMIF('Daily Log'!$CK$18:$CK$1017,$B312,'Daily Log'!$CL$18:$CL$1017),0)","v":0},{"$f":"IFERROR($E312*SUMIF('Daily Log'!$CN$18:$CN$1017,$B312,'Daily Log'!$CO$18:$CO$1017),0)","v":0}]
[null,"CF01 92001:MILO(C)",null,"FFDRINKS-COLD",1,1129,{"$f":"IFERROR($E313*SUMIF('Daily Log'!$B$18:$B$1017,$B313,'Daily Log'!$C$18:$C$1017),0)","v":0},{"$f":"IFERROR($E313*SUMIF('Daily Log'!$E$18:$E$1017,$B313,'Daily Log'!$F$18:$F$1017),0)","v":0},{"$f":"IFERROR($E313*SUMIF('Daily Log'!$H$18:$H$1017,$B313,'Daily Log'!$I$18:$I$1017),0)","v":0},{"$f":"IFERROR($E313*SUMIF('Daily Log'!$K$18:$K$1017,$B313,'Daily Log'!$L$18:$L$1017),0)","v":0},{"$f":"IFERROR($E313*SUMIF('Daily Log'!$N$18:$N$1017,$B313,'Daily Log'!$O$18:$O$1017),0)","v":0},{"$f":"IFERROR($E313*SUMIF('Daily Log'!$Q$18:$Q$1017,$B313,'Daily Log'!$R$18:$R$1017),0)","v":0},{"$f":"IFERROR($E313*SUMIF('Daily Log'!$T$18:$T$1017,$B313,'Daily Log'!$U$18:$U$1017),0)","v":0},{"$f":"IFERROR($E313*SUMIF('Daily Log'!$W$18:$W$1017,$B313,'Daily Log'!$X$18:$X$1017),0)","v":0},{"$f":"IFERROR($E313*SUMIF('Daily Log'!$Z$18:$Z$1017,$B313,'Daily Log'!$AA$18:$AA$1017),0)","v":0},{"$f":"IFERROR($E313*SUMIF('Daily Log'!$AC$18:$AC$1017,$B313,'Daily Log'!$AD$18:$AD$1017),0)","v":0},{"$f":"IFERROR($E313*SUMIF('Daily Log'!$AF$18:$AF$1017,$B313,'Daily Log'!$AG$18:$AG$1017),0)","v":0},{"$f":"IFERROR($E313*SUMIF('Daily Log'!$AI$18:$AI$1017,$B313,'Daily Log'!$AJ$18:$AJ$1017),0)","v":0},{"$f":"IFERROR($E313*SUMIF('Daily Log'!$AL$18:$AL$1017,$B313,'Daily Log'!$AM$18:$AM$1017),0)","v":0},{"$f":"IFERROR($E313*SUMIF('Daily Log'!$AO$18:$AO$1017,$B313,'Daily Log'!$AP$18:$AP$1017),0)","v":0},{"$f":"IFERROR($E313*SUMIF('Daily Log'!$AR$18:$AR$1017,$B313,'Daily Log'!$AS$18:$AS$1017),0)","v":0},{"$f":"IFERROR($E313*SUMIF('Daily Log'!$AU$18:$AU$1017,$B313,'Daily Log'!$AV$18:$AV$1017),0)","v":0},{"$f":"IFERROR($E313*SUMIF('Daily Log'!$AX$18:$AX$1017,$B313,'Daily Log'!$AY$18:$AY$1017),0)","v":0},{"$f":"IFERROR($E313*SUMIF('Daily Log'!$BA$18:$BA$1017,$B313,'Daily Log'!$BB$18:$BB$1017),0)","v":0},{"$f":"IFERROR($E313*SUMIF('Daily Log'!$BD$18:$BD$1017,$B313,'Daily Log'!$BE$18:$BE$1017),0)","v":0},{"$f":"IFERROR($E313*SUMIF('Daily Log'!$BG$18:$BG$1017,$B313,'Daily Log'!$BH$18:$BH$1017),0)","v":0},{"$f":"IFERROR($E313*SUMIF('Daily Log'!$BJ$18:$BJ$1017,$B313,'Daily Log'!$BK$18:$BK$1017),0)","v":0},{"$f":"IFERROR($E313*SUMIF('Daily Log'!$BM$18:$BM$1017,$B313,'Daily Log'!$BN$18:$BN$1017),0)","v":0},{"$f":"IFERROR($E313*SUMIF('Daily Log'!$BP$18:$BP$1017,$B313,'Daily Log'!$BQ$18:$BQ$1017),0)","v":0},{"$f":"IFERROR($E313*SUMIF('Daily Log'!$BS$18:$BS$1017,$B313,'Daily Log'!$BT$18:$BT$1017),0)","v":0},{"$f":"IFERROR($E313*SUMIF('Daily Log'!$BV$18:$BV$1017,$B313,'Daily Log'!$BW$18:$BW$1017),0)","v":0},{"$f":"IFERROR($E313*SUMIF('Daily Log'!$BY$18:$BY$1017,$B313,'Daily Log'!$BZ$18:$BZ$1017),0)","v":0},{"$f":"IFERROR($E313*SUMIF('Daily Log'!$CB$18:$CB$1017,$B313,'Daily Log'!$CC$18:$CC$1017),0)","v":0},{"$f":"IFERROR($E313*SUMIF('Daily Log'!$CE$18:$CE$1017,$B313,'Daily Log'!$CF$18:$CF$1017),0)","v":1129},{"$f":"IFERROR($E313*SUMIF('Daily Log'!$CH$18:$CH$1017,$B313,'Daily Log'!$CI$18:$CI$1017),0)","v":0},{"$f":"IFERROR($E313*SUMIF('Daily Log'!$CK$18:$CK$1017,$B313,'Daily Log'!$CL$18:$CL$1017),0)","v":0},{"$f":"IFERROR($E313*SUMIF('Daily Log'!$CN$18:$CN$1017,$B313,'Daily Log'!$CO$18:$CO$1017),0)","v":0}]
[null,"CF02 92003:NESCAFE(C)",null,"FFDRINKS-COLD",1,370,{"$f":"IFERROR($E314*SUMIF('Daily Log'!$B$18:$B$1017,$B314,'Daily Log'!$C$18:$C$1017),0)","v":0},{"$f":"IFERROR($E314*SUMIF('Daily Log'!$E$18:$E$1017,$B314,'Daily Log'!$F$18:$F$1017),0)","v":0},{"$f":"IFERROR($E314*SUMIF('Daily Log'!$H$18:$H$1017,$B314,'Daily Log'!$I$18:$I$1017),0)","v":0},{"$f":"IFERROR($E314*SUMIF('Daily Log'!$K$18:$K$1017,$B314,'Daily Log'!$L$18:$L$1017),0)","v":0},{"$f":"IFERROR($E314*SUMIF('Daily Log'!$N$18:$N$1017,$B314,'Daily Log'!$O$18:$O$1017),0)","v":0},{"$f":"IFERROR($E314*SUMIF('Daily Log'!$Q$18:$Q$1017,$B314,'Daily Log'!$R$18:$R$1017),0)","v":0},{"$f":"IFERROR($E314*SUMIF('Daily Log'!$T$18:$T$1017,$B314,'Daily Log'!$U$18:$U$1017),0)","v":0},{"$f":"IFERROR($E314*SUMIF('Daily Log'!$W$18:$W$1017,$B314,'Daily Log'!$X$18:$X$1017),0)","v":0},{"$f":"IFERROR($E314*SUMIF('Daily Log'!$Z$18:$Z$1017,$B314,'Daily Log'!$AA$18:$AA$1017),0)","v":0},{"$f":"IFERROR($E314*SUMIF('Daily Log'!$AC$18:$AC$1017,$B314,'Daily Log'!$AD$18:$AD$1017),0)","v":0},{"$f":"IFERROR($E314*SUMIF('Daily Log'!$AF$18:$AF$1017,$B314,'Daily Log'!$AG$18:$AG$1017),0)","v":0},{"$f":"IFERROR($E314*SUMIF('Daily Log'!$AI$18:$AI$1017,$B314,'Daily Log'!$AJ$18:$AJ$1017),0)","v":0},{"$f":"IFERROR($E314*SUMIF('Daily Log'!$AL$18:$AL$1017,$B314,'Daily Log'!$AM$18:$AM$1017),0)","v":0},{"$f":"IFERROR($E314*SUMIF('Daily Log'!$AO$18:$AO$1017,$B314,'Daily Log'!$AP$18:$AP$1017),0)","v":0},{"$f":"IFERROR($E314*SUMIF('Daily Log'!$AR$18:$AR$1017,$B314,'Daily Log'!$AS$18:$AS$1017),0)","v":0},{"$f":"IFERROR($E314*SUMIF('Daily Log'!$AU$18:$AU$1017,$B314,'Daily Log'!$AV$18:$AV$1017),0)","v":0},{"$f":"IFERROR($E314*SUMIF('Daily Log'!$AX$18:$AX$1017,$B314,'Daily Log'!$AY$18:$AY$1017),0)","v":0},{"$f":"IFERROR($E314*SUMIF('Daily Log'!$BA$18:$BA$1017,$B314,'Daily Log'!$BB$18:$BB$1017),0)","v":0},{"$f":"IFERROR($E314*SUMIF('Daily Log'!$BD$18:$BD$1017,$B314,'Daily Log'!$BE$18:$BE$1017),0)","v":0},{"$f":"IFERROR($E314*SUMIF('Daily Log'!$BG$18:$BG$1017,$B314,'Daily Log'!$BH$18:$BH$1017),0)","v":0},{"$f":"IFERROR($E314*SUMIF('Daily Log'!$BJ$18:$BJ$1017,$B314,'Daily Log'!$BK$18:$BK$1017),0)","v":0},{"$f":"IFERROR($E314*SUMIF('Daily Log'!$BM$18:$BM$1017,$B314,'Daily Log'!$BN$18:$BN$1017),0)","v":0},{"$f":"IFERROR($E314*SUMIF('Daily Log'!$BP$18:$BP$1017,$B314,'Daily Log'!$BQ$18:$BQ$1017),0)","v":0},{"$f":"IFERROR($E314*SUMIF('Daily Log'!$BS$18:$BS$1017,$B314,'Daily Log'!$BT$18:$BT$1017),0)","v":0},{"$f":"IFERROR($E314*SUMIF('Daily Log'!$BV$18:$BV$1017,$B314,'Daily Log'!$BW$18:$BW$1017),0)","v":0},{"$f":"IFERROR($E314*SUMIF('Daily Log'!$BY$18:$BY$1017,$B314,'Daily Log'!$BZ$18:$BZ$1017),0)","v":0},{"$f":"IFERROR($E314*SUMIF('Daily Log'!$CB$18:$CB$1017,$B314,'Daily Log'!$CC$18:$CC$1017),0)","v":0},{"$f":"IFERROR($E314*SUMIF('Daily Log'!$CE$18:$CE$1017,$B314,'Daily Log'!$CF$18:$CF$1017),0)","v":370},{"$f":"IFERROR($E314*SUMIF('Daily Log'!$CH$18:$CH$1017,$B314,'Daily Log'!$CI$18:$CI$1017),0)","v":0},{"$f":"IFERROR($E314*SUMIF('Daily Log'!$CK$18:$CK$1017,$B314,'Daily Log'!$CL$18:$CL$1017),0)","v":0},{"$f":"IFERROR($E314*SUMIF('Daily Log'!$CN$18:$CN$1017,$B314,'Daily Log'!$CO$18:$CO$1017),0)","v":0}]
[null,"CF03 92005:TEA(C)",null,"FFDRINKS-COLD",1,97,{"$f":"IFERROR($E315*SUMIF('Daily Log'!$B$18:$B$1017,$B315,'Daily Log'!$C$18:$C$1017),0)","v":0},{"$f":"IFERROR($E315*SUMIF('Daily Log'!$E$18:$E$1017,$B315,'Daily Log'!$F$18:$F$1017),0)","v":0},{"$f":"IFERROR($E315*SUMIF('Daily Log'!$H$18:$H$1017,$B315,'Daily Log'!$I$18:$I$1017),0)","v":0},{"$f":"IFERROR($E315*SUMIF('Daily Log'!$K$18:$K$1017,$B315,'Daily Log'!$L$18:$L$1017),0)","v":0},{"$f":"IFERROR($E315*SUMIF('Daily Log'!$N$18:$N$1017,$B315,'Daily Log'!$O$18:$O$1017),0)","v":0},{"$f":"IFERROR($E315*SUMIF('Daily Log'!$Q$18:$Q$1017,$B315,'Daily Log'!$R$18:$R$1017),0)","v":0},{"$f":"IFERROR($E315*SUMIF('Daily Log'!$T$18:$T$1017,$B315,'Daily Log'!$U$18:$U$1017),0)","v":0},{"$f":"IFERROR($E315*SUMIF('Daily Log'!$W$18:$W$1017,$B315,'Daily Log'!$X$18:$X$1017),0)","v":0},{"$f":"IFERROR($E315*SUMIF('Daily Log'!$Z$18:$Z$1017,$B315,'Daily Log'!$AA$18:$AA$1017),0)","v":0},{"$f":"IFERROR($E315*SUMIF('Daily Log'!$AC$18:$AC$1017,$B315,'Daily Log'!$AD$18:$AD$1017),0)","v":0},{"$f":"IFERROR($E315*SUMIF('Daily Log'!$AF$18:$AF$1017,$B315,'Daily Log'!$AG$18:$AG$1017),0)","v":0},{"$f":"IFERROR($E315*SUMIF('Daily Log'!$AI$18:$AI$1017,$B315,'Daily Log'!$AJ$18:$AJ$1017),0)","v":0},{"$f":"IFERROR($E315*SUMIF('Daily Log'!$AL$18:$AL$1017,$B315,'Daily Log'!$AM$18:$AM$1017),0)","v":0},{"$f":"IFERROR($E315*SUMIF('Daily Log'!$AO$18:$AO$1017,$B315,'Daily Log'!$AP$18:$AP$1017),0)","v":0},{"$f":"IFERROR($E315*SUMIF('Daily Log'!$AR$18:$AR$1017,$B315,'Daily Log'!$AS$18:$AS$1017),0)","v":0},{"$f":"IFERROR($E315*SUMIF('Daily Log'!$AU$18:$AU$1017,$B315,'Daily Log'!$AV$18:$AV$1017),0)","v":0},{"$f":"IFERROR($E315*SUMIF('Daily Log'!$AX$18:$AX$1017,$B315,'Daily Log'!$AY$18:$AY$1017),0)","v":0},{"$f":"IFERROR($E315*SUMIF('Daily Log'!$BA$18:$BA$1017,$B315,'Daily Log'!$BB$18:$BB$1017),0)","v":0},{"$f":"IFERROR($E315*SUMIF('Daily Log'!$BD$18:$BD$1017,$B315,'Daily Log'!$BE$18:$BE$1017),0)","v":0},{"$f":"IFERROR($E315*SUMIF('Daily Log'!$BG$18:$BG$1017,$B315,'Daily Log'!$BH$18:$BH$1017),0)","v":0},{"$f":"IFERROR($E315*SUMIF('Daily Log'!$BJ$18:$BJ$1017,$B315,'Daily Log'!$BK$18:$BK$1017),0)","v":0},{"$f":"IFERROR($E315*SUMIF('Daily Log'!$BM$18:$BM$1017,$B315,'Daily Log'!$BN$18:$BN$1017),0)","v":0},{"$f":"IFERROR($E315*SUMIF('Daily Log'!$BP$18:$BP$1017,$B315,'Daily Log'!$BQ$18:$BQ$1017),0)","v":0},{"$f":"IFERROR($E315*SUMIF('Daily Log'!$BS$18:$BS$1017,$B315,'Daily Log'!$BT$18:$BT$1017),0)","v":0},{"$f":"IFERROR($E315*SUMIF('Daily Log'!$BV$18:$BV$1017,$B315,'Daily Log'!$BW$18:$BW$1017),0)","v":0},{"$f":"IFERROR($E315*SUMIF('Daily Log'!$BY$18:$BY$1017,$B315,'Daily Log'!$BZ$18:$BZ$1017),0)","v":0},{"$f":"IFERROR($E315*SUMIF('Daily Log'!$CB$18:$CB$1017,$B315,'Daily Log'!$CC$18:$CC$1017),0)","v":0},{"$f":"IFERROR($E315*SUMIF('Daily Log'!$CE$18:$CE$1017,$B315,'Daily Log'!$CF$18:$CF$1017),0)","v":97},{"$f":"IFERROR($E315*SUMIF('Daily Log'!$CH$18:$CH$1017,$B315,'Daily Log'!$CI$18:$CI$1017),0)","v":0},{"$f":"IFERROR($E315*SUMIF('Daily Log'!$CK$18:$CK$1017,$B315,'Daily Log'!$CL$18:$CL$1017),0)","v":0},{"$f":"IFERROR($E315*SUMIF('Daily Log'!$CN$18:$CN$1017,$B315,'Daily Log'!$CO$18:$CO$1017),0)","v":0}]
[null,"CF04 92007:LMN TEA(C)",null,"FFDRINKS-COLD",1,1623,{"$f":"IFERROR($E316*SUMIF('Daily Log'!$B$18:$B$1017,$B316,'Daily Log'!$C$18:$C$1017),0)","v":0},{"$f":"IFERROR($E316*SUMIF('Daily Log'!$E$18:$E$1017,$B316,'Daily Log'!$F$18:$F$1017),0)","v":0},{"$f":"IFERROR($E316*SUMIF('Daily Log'!$H$18:$H$1017,$B316,'Daily Log'!$I$18:$I$1017),0)","v":0},{"$f":"IFERROR($E316*SUMIF('Daily Log'!$K$18:$K$1017,$B316,'Daily Log'!$L$18:$L$1017),0)","v":0},{"$f":"IFERROR($E316*SUMIF('Daily Log'!$N$18:$N$1017,$B316,'Daily Log'!$O$18:$O$1017),0)","v":0},{"$f":"IFERROR($E316*SUMIF('Daily Log'!$Q$18:$Q$1017,$B316,'Daily Log'!$R$18:$R$1017),0)","v":0},{"$f":"IFERROR($E316*SUMIF('Daily Log'!$T$18:$T$1017,$B316,'Daily Log'!$U$18:$U$1017),0)","v":0},{"$f":"IFERROR($E316*SUMIF('Daily Log'!$W$18:$W$1017,$B316,'Daily Log'!$X$18:$X$1017),0)","v":0},{"$f":"IFERROR($E316*SUMIF('Daily Log'!$Z$18:$Z$1017,$B316,'Daily Log'!$AA$18:$AA$1017),0)","v":0},{"$f":"IFERROR($E316*SUMIF('Daily Log'!$AC$18:$AC$1017,$B316,'Daily Log'!$AD$18:$AD$1017),0)","v":0},{"$f":"IFERROR($E316*SUMIF('Daily Log'!$AF$18:$AF$1017,$B316,'Daily Log'!$AG$18:$AG$1017),0)","v":0},{"$f":"IFERROR($E316*SUMIF('Daily Log'!$AI$18:$AI$1017,$B316,'Daily Log'!$AJ$18:$AJ$1017),0)","v":0},{"$f":"IFERROR($E316*SUMIF('Daily Log'!$AL$18:$AL$1017,$B316,'Daily Log'!$AM$18:$AM$1017),0)","v":0},{"$f":"IFERROR($E316*SUMIF('Daily Log'!$AO$18:$AO$1017,$B316,'Daily Log'!$AP$18:$AP$1017),0)","v":0},{"$f":"IFERROR($E316*SUMIF('Daily Log'!$AR$18:$AR$1017,$B316,'Daily Log'!$AS$18:$AS$1017),0)","v":0},{"$f":"IFERROR($E316*SUMIF('Daily Log'!$AU$18:$AU$1017,$B316,'Daily Log'!$AV$18:$AV$1017),0)","v":0},{"$f":"IFERROR($E316*SUMIF('Daily Log'!$AX$18:$AX$1017,$B316,'Daily Log'!$AY$18:$AY$1017),0)","v":0},{"$f":"IFERROR($E316*SUMIF('Daily Log'!$BA$18:$BA$1017,$B316,'Daily Log'!$BB$18:$BB$1017),0)","v":0},{"$f":"IFERROR($E316*SUMIF('Daily Log'!$BD$18:$BD$1017,$B316,'Daily Log'!$BE$18:$BE$1017),0)","v":0},{"$f":"IFERROR($E316*SUMIF('Daily Log'!$BG$18:$BG$1017,$B316,'Daily Log'!$BH$18:$BH$1017),0)","v":0},{"$f":"IFERROR($E316*SUMIF('Daily Log'!$BJ$18:$BJ$1017,$B316,'Daily Log'!$BK$18:$BK$1017),0)","v":0},{"$f":"IFERROR($E316*SUMIF('Daily Log'!$BM$18:$BM$1017,$B316,'Daily Log'!$BN$18:$BN$1017),0)","v":0},{"$f":"IFERROR($E316*SUMIF('Daily Log'!$BP$18:$BP$1017,$B316,'Daily Log'!$BQ$18:$BQ$1017),0)","v":0},{"$f":"IFERROR($E316*SUMIF('Daily Log'!$BS$18:$BS$1017,$B316,'Daily Log'!$BT$18:$BT$1017),0)","v":0},{"$f":"IFERROR($E316*SUMIF('Daily Log'!$BV$18:$BV$1017,$B316,'Daily Log'!$BW$18:$BW$1017),0)","v":0},{"$f":"IFERROR($E316*SUMIF('Daily Log'!$BY$18:$BY$1017,$B316,'Daily Log'!$BZ$18:$BZ$1017),0)","v":0},{"$f":"IFERROR($E316*SUMIF('Daily Log'!$CB$18:$CB$1017,$B316,'Daily Log'!$CC$18:$CC$1017),0)","v":0},{"$f":"IFERROR($E316*SUMIF('Daily Log'!$CE$18:$CE$1017,$B316,'Daily Log'!$CF$18:$CF$1017),0)","v":1623},{"$f":"IFERROR($E316*SUMIF('Daily Log'!$CH$18:$CH$1017,$B316,'Daily Log'!$CI$18:$CI$1017),0)","v":0},{"$f":"IFERROR($E316*SUMIF('Daily Log'!$CK$18:$CK$1017,$B316,'Daily Log'!$CL$18:$CL$1017),0)","v":0},{"$f":"IFERROR($E316*SUMIF('Daily Log'!$CN$18:$CN$1017,$B316,'Daily Log'!$CO$18:$CO$1017),0)","v":0}]
[null,"CF05 92009:GRN TEA(C)",null,"FFDRINKS-COLD",1,1372,{"$f":"IFERROR($E317*SUMIF('Daily Log'!$B$18:$B$1017,$B317,'Daily Log'!$C$18:$C$1017),0)","v":0},{"$f":"IFERROR($E317*SUMIF('Daily Log'!$E$18:$E$1017,$B317,'Daily Log'!$F$18:$F$1017),0)","v":0},{"$f":"IFERROR($E317*SUMIF('Daily Log'!$H$18:$H$1017,$B317,'Daily Log'!$I$18:$I$1017),0)","v":0},{"$f":"IFERROR($E317*SUMIF('Daily Log'!$K$18:$K$1017,$B317,'Daily Log'!$L$18:$L$1017),0)","v":0},{"$f":"IFERROR($E317*SUMIF('Daily Log'!$N$18:$N$1017,$B317,'Daily Log'!$O$18:$O$1017),0)","v":0},{"$f":"IFERROR($E317*SUMIF('Daily Log'!$Q$18:$Q$1017,$B317,'Daily Log'!$R$18:$R$1017),0)","v":0},{"$f":"IFERROR($E317*SUMIF('Daily Log'!$T$18:$T$1017,$B317,'Daily Log'!$U$18:$U$1017),0)","v":0},{"$f":"IFERROR($E317*SUMIF('Daily Log'!$W$18:$W$1017,$B317,'Daily Log'!$X$18:$X$1017),0)","v":0},{"$f":"IFERROR($E317*SUMIF('Daily Log'!$Z$18:$Z$1017,$B317,'Daily Log'!$AA$18:$AA$1017),0)","v":0},{"$f":"IFERROR($E317*SUMIF('Daily Log'!$AC$18:$AC$1017,$B317,'Daily Log'!$AD$18:$AD$1017),0)","v":0},{"$f":"IFERROR($E317*SUMIF('Daily Log'!$AF$18:$AF$1017,$B317,'Daily Log'!$AG$18:$AG$1017),0)","v":0},{"$f":"IFERROR($E317*SUMIF('Daily Log'!$AI$18:$AI$1017,$B317,'Daily Log'!$AJ$18:$AJ$1017),0)","v":0},{"$f":"IFERROR($E317*SUMIF('Daily Log'!$AL$18:$AL$1017,$B317,'Daily Log'!$AM$18:$AM$1017),0)","v":0},{"$f":"IFERROR($E317*SUMIF('Daily Log'!$AO$18:$AO$1017,$B317,'Daily Log'!$AP$18:$AP$1017),0)","v":0},{"$f":"IFERROR($E317*SUMIF('Daily Log'!$AR$18:$AR$1017,$B317,'Daily Log'!$AS$18:$AS$1017),0)","v":0},{"$f":"IFERROR($E317*SUMIF('Daily Log'!$AU$18:$AU$1017,$B317,'Daily Log'!$AV$18:$AV$1017),0)","v":0},{"$f":"IFERROR($E317*SUMIF('Daily Log'!$AX$18:$AX$1017,$B317,'Daily Log'!$AY$18:$AY$1017),0)","v":0},{"$f":"IFERROR($E317*SUMIF('Daily Log'!$BA$18:$BA$1017,$B317,'Daily Log'!$BB$18:$BB$1017),0)","v":0},{"$f":"IFERROR($E317*SUMIF('Daily Log'!$BD$18:$BD$1017,$B317,'Daily Log'!$BE$18:$BE$1017),0)","v":0},{"$f":"IFERROR($E317*SUMIF('Daily Log'!$BG$18:$BG$1017,$B317,'Daily Log'!$BH$18:$BH$1017),0)","v":0},{"$f":"IFERROR($E317*SUMIF('Daily Log'!$BJ$18:$BJ$1017,$B317,'Daily Log'!$BK$18:$BK$1017),0)","v":0},{"$f":"IFERROR($E317*SUMIF('Daily Log'!$BM$18:$BM$1017,$B317,'Daily Log'!$BN$18:$BN$1017),0)","v":0},{"$f":"IFERROR($E317*SUMIF('Daily Log'!$BP$18:$BP$1017,$B317,'Daily Log'!$BQ$18:$BQ$1017),0)","v":0},{"$f":"IFERROR($E317*SUMIF('Daily Log'!$BS$18:$BS$1017,$B317,'Daily Log'!$BT$18:$BT$1017),0)","v":0},{"$f":"IFERROR($E317*SUMIF('Daily Log'!$BV$18:$BV$1017,$B317,'Daily Log'!$BW$18:$BW$1017),0)","v":0},{"$f":"IFERROR($E317*SUMIF('Daily Log'!$BY$18:$BY$1017,$B317,'Daily Log'!$BZ$18:$BZ$1017),0)","v":0},{"$f":"IFERROR($E317*SUMIF('Daily Log'!$CB$18:$CB$1017,$B317,'Daily Log'!$CC$18:$CC$1017),0)","v":0},{"$f":"IFERROR($E317*SUMIF('Daily Log'!$CE$18:$CE$1017,$B317,'Daily Log'!$CF$18:$CF$1017),0)","v":1372},{"$f":"IFERROR($E317*SUMIF('Daily Log'!$CH$18:$CH$1017,$B317,'Daily Log'!$CI$18:$CI$1017),0)","v":0},{"$f":"IFERROR($E317*SUMIF('Daily Log'!$CK$18:$CK$1017,$B317,'Daily Log'!$CL$18:$CL$1017),0)","v":0},{"$f":"IFERROR($E317*SUMIF('Daily Log'!$CN$18:$CN$1017,$B317,'Daily Log'!$CO$18:$CO$1017),0)","v":0}]
[null,"CF06 92011:HNY GT(C)",null,"FFDRINKS-COLD",1,1549,{"$f":"IFERROR($E318*SUMIF('Daily Log'!$B$18:$B$1017,$B318,'Daily Log'!$C$18:$C$1017),0)","v":0},{"$f":"IFERROR($E318*SUMIF('Daily Log'!$E$18:$E$1017,$B318,'Daily Log'!$F$18:$F$1017),0)","v":0},{"$f":"IFERROR($E318*SUMIF('Daily Log'!$H$18:$H$1017,$B318,'Daily Log'!$I$18:$I$1017),0)","v":0},{"$f":"IFERROR($E318*SUMIF('Daily Log'!$K$18:$K$1017,$B318,'Daily Log'!$L$18:$L$1017),0)","v":0},{"$f":"IFERROR($E318*SUMIF('Daily Log'!$N$18:$N$1017,$B318,'Daily Log'!$O$18:$O$1017),0)","v":0},{"$f":"IFERROR($E318*SUMIF('Daily Log'!$Q$18:$Q$1017,$B318,'Daily Log'!$R$18:$R$1017),0)","v":0},{"$f":"IFERROR($E318*SUMIF('Daily Log'!$T$18:$T$1017,$B318,'Daily Log'!$U$18:$U$1017),0)","v":0},{"$f":"IFERROR($E318*SUMIF('Daily Log'!$W$18:$W$1017,$B318,'Daily Log'!$X$18:$X$1017),0)","v":0},{"$f":"IFERROR($E318*SUMIF('Daily Log'!$Z$18:$Z$1017,$B318,'Daily Log'!$AA$18:$AA$1017),0)","v":0},{"$f":"IFERROR($E318*SUMIF('Daily Log'!$AC$18:$AC$1017,$B318,'Daily Log'!$AD$18:$AD$1017),0)","v":0},{"$f":"IFERROR($E318*SUMIF('Daily Log'!$AF$18:$AF$1017,$B318,'Daily Log'!$AG$18:$AG$1017),0)","v":0},{"$f":"IFERROR($E318*SUMIF('Daily Log'!$AI$18:$AI$1017,$B318,'Daily Log'!$AJ$18:$AJ$1017),0)","v":0},{"$f":"IFERROR($E318*SUMIF('Daily Log'!$AL$18:$AL$1017,$B318,'Daily Log'!$AM$18:$AM$1017),0)","v":0},{"$f":"IFERROR($E318*SUMIF('Daily Log'!$AO$18:$AO$1017,$B318,'Daily Log'!$AP$18:$AP$1017),0)","v":0},{"$f":"IFERROR($E318*SUMIF('Daily Log'!$AR$18:$AR$1017,$B318,'Daily Log'!$AS$18:$AS$1017),0)","v":0},{"$f":"IFERROR($E318*SUMIF('Daily Log'!$AU$18:$AU$1017,$B318,'Daily Log'!$AV$18:$AV$1017),0)","v":0},{"$f":"IFERROR($E318*SUMIF('Daily Log'!$AX$18:$AX$1017,$B318,'Daily Log'!$AY$18:$AY$1017),0)","v":0},{"$f":"IFERROR($E318*SUMIF('Daily Log'!$BA$18:$BA$1017,$B318,'Daily Log'!$BB$18:$BB$1017),0)","v":0},{"$f":"IFERROR($E318*SUMIF('Daily Log'!$BD$18:$BD$1017,$B318,'Daily Log'!$BE$18:$BE$1017),0)","v":0},{"$f":"IFERROR($E318*SUMIF('Daily Log'!$BG$18:$BG$1017,$B318,'Daily Log'!$BH$18:$BH$1017),0)","v":0},{"$f":"IFERROR($E318*SUMIF('Daily Log'!$BJ$18:$BJ$1017,$B318,'Daily Log'!$BK$18:$BK$1017),0)","v":0},{"$f":"IFERROR($E318*SUMIF('Daily Log'!$BM$18:$BM$1017,$B318,'Daily Log'!$BN$18:$BN$1017),0)","v":0},{"$f":"IFERROR($E318*SUMIF('Daily Log'!$BP$18:$BP$1017,$B318,'Daily Log'!$BQ$18:$BQ$1017),0)","v":0},{"$f":"IFERROR($E318*SUMIF('Daily Log'!$BS$18:$BS$1017,$B318,'Daily Log'!$BT$18:$BT$1017),0)","v":0},{"$f":"IFERROR($E318*SUMIF('Daily Log'!$BV$18:$BV$1017,$B318,'Daily Log'!$BW$18:$BW$1017),0)","v":0},{"$f":"IFERROR($E318*SUMIF('Daily Log'!$BY$18:$BY$1017,$B318,'Daily Log'!$BZ$18:$BZ$1017),0)","v":0},{"$f":"IFERROR($E318*SUMIF('Daily Log'!$CB$18:$CB$1017,$B318,'Daily Log'!$CC$18:$CC$1017),0)","v":0},{"$f":"IFERROR($E318*SUMIF('Daily Log'!$CE$18:$CE$1017,$B318,'Daily Log'!$CF$18:$CF$1017),0)","v":1549},{"$f":"IFERROR($E318*SUMIF('Daily Log'!$CH$18:$CH$1017,$B318,'Daily Log'!$CI$18:$CI$1017),0)","v":0},{"$f":"IFERROR($E318*SUMIF('Daily Log'!$CK$18:$CK$1017,$B318,'Daily Log'!$CL$18:$CL$1017),0)","v":0},{"$f":"IFERROR($E318*SUMIF('Daily Log'!$CN$18:$CN$1017,$B318,'Daily Log'!$CO$18:$CO$1017),0)","v":0}]
[null,"CF07 92013:HONEY(C)",null,"FFDRINKS-COLD",1,406,{"$f":"IFERROR($E319*SUMIF('Daily Log'!$B$18:$B$1017,$B319,'Daily Log'!$C$18:$C$1017),0)","v":0},{"$f":"IFERROR($E319*SUMIF('Daily Log'!$E$18:$E$1017,$B319,'Daily Log'!$F$18:$F$1017),0)","v":0},{"$f":"IFERROR($E319*SUMIF('Daily Log'!$H$18:$H$1017,$B319,'Daily Log'!$I$18:$I$1017),0)","v":0},{"$f":"IFERROR($E319*SUMIF('Daily Log'!$K$18:$K$1017,$B319,'Daily Log'!$L$18:$L$1017),0)","v":0},{"$f":"IFERROR($E319*SUMIF('Daily Log'!$N$18:$N$1017,$B319,'Daily Log'!$O$18:$O$1017),0)","v":0},{"$f":"IFERROR($E319*SUMIF('Daily Log'!$Q$18:$Q$1017,$B319,'Daily Log'!$R$18:$R$1017),0)","v":0},{"$f":"IFERROR($E319*SUMIF('Daily Log'!$T$18:$T$1017,$B319,'Daily Log'!$U$18:$U$1017),0)","v":0},{"$f":"IFERROR($E319*SUMIF('Daily Log'!$W$18:$W$1017,$B319,'Daily Log'!$X$18:$X$1017),0)","v":0},{"$f":"IFERROR($E319*SUMIF('Daily Log'!$Z$18:$Z$1017,$B319,'Daily Log'!$AA$18:$AA$1017),0)","v":0},{"$f":"IFERROR($E319*SUMIF('Daily Log'!$AC$18:$AC$1017,$B319,'Daily Log'!$AD$18:$AD$1017),0)","v":0},{"$f":"IFERROR($E319*SUMIF('Daily Log'!$AF$18:$AF$1017,$B319,'Daily Log'!$AG$18:$AG$1017),0)","v":0},{"$f":"IFERROR($E319*SUMIF('Daily Log'!$AI$18:$AI$1017,$B319,'Daily Log'!$AJ$18:$AJ$1017),0)","v":0},{"$f":"IFERROR($E319*SUMIF('Daily Log'!$AL$18:$AL$1017,$B319,'Daily Log'!$AM$18:$AM$1017),0)","v":0},{"$f":"IFERROR($E319*SUMIF('Daily Log'!$AO$18:$AO$1017,$B319,'Daily Log'!$AP$18:$AP$1017),0)","v":0},{"$f":"IFERROR($E319*SUMIF('Daily Log'!$AR$18:$AR$1017,$B319,'Daily Log'!$AS$18:$AS$1017),0)","v":0},{"$f":"IFERROR($E319*SUMIF('Daily Log'!$AU$18:$AU$1017,$B319,'Daily Log'!$AV$18:$AV$1017),0)","v":0},{"$f":"IFERROR($E319*SUMIF('Daily Log'!$AX$18:$AX$1017,$B319,'Daily Log'!$AY$18:$AY$1017),0)","v":0},{"$f":"IFERROR($E319*SUMIF('Daily Log'!$BA$18:$BA$1017,$B319,'Daily Log'!$BB$18:$BB$1017),0)","v":0},{"$f":"IFERROR($E319*SUMIF('Daily Log'!$BD$18:$BD$1017,$B319,'Daily Log'!$BE$18:$BE$1017),0)","v":0},{"$f":"IFERROR($E319*SUMIF('Daily Log'!$BG$18:$BG$1017,$B319,'Daily Log'!$BH$18:$BH$1017),0)","v":0},{"$f":"IFERROR($E319*SUMIF('Daily Log'!$BJ$18:$BJ$1017,$B319,'Daily Log'!$BK$18:$BK$1017),0)","v":0},{"$f":"IFERROR($E319*SUMIF('Daily Log'!$BM$18:$BM$1017,$B319,'Daily Log'!$BN$18:$BN$1017),0)","v":0},{"$f":"IFERROR($E319*SUMIF('Daily Log'!$BP$18:$BP$1017,$B319,'Daily Log'!$BQ$18:$BQ$1017),0)","v":0},{"$f":"IFERROR($E319*SUMIF('Daily Log'!$BS$18:$BS$1017,$B319,'Daily Log'!$BT$18:$BT$1017),0)","v":0},{"$f":"IFERROR($E319*SUMIF('Daily Log'!$BV$18:$BV$1017,$B319,'Daily Log'!$BW$18:$BW$1017),0)","v":0},{"$f":"IFERROR($E319*SUMIF('Daily Log'!$BY$18:$BY$1017,$B319,'Daily Log'!$BZ$18:$BZ$1017),0)","v":0},{"$f":"IFERROR($E319*SUMIF('Daily Log'!$CB$18:$CB$1017,$B319,'Daily Log'!$CC$18:$CC$1017),0)","v":0},{"$f":"IFERROR($E319*SUMIF('Daily Log'!$CE$18:$CE$1017,$B319,'Daily Log'!$CF$18:$CF$1017),0)","v":406},{"$f":"IFERROR($E319*SUMIF('Daily Log'!$CH$18:$CH$1017,$B319,'Daily Log'!$CI$18:$CI$1017),0)","v":0},{"$f":"IFERROR($E319*SUMIF('Daily Log'!$CK$18:$CK$1017,$B319,'Daily Log'!$CL$18:$CL$1017),0)","v":0},{"$f":"IFERROR($E319*SUMIF('Daily Log'!$CN$18:$CN$1017,$B319,'Daily Log'!$CO$18:$CO$1017),0)","v":0}]
[null,"CF08 92015:HNY LMN(C)",null,"FFDRINKS-COLD",1,3691,{"$f":"IFERROR($E320*SUMIF('Daily Log'!$B$18:$B$1017,$B320,'Daily Log'!$C$18:$C$1017),0)","v":0},{"$f":"IFERROR($E320*SUMIF('Daily Log'!$E$18:$E$1017,$B320,'Daily Log'!$F$18:$F$1017),0)","v":0},{"$f":"IFERROR($E320*SUMIF('Daily Log'!$H$18:$H$1017,$B320,'Daily Log'!$I$18:$I$1017),0)","v":0},{"$f":"IFERROR($E320*SUMIF('Daily Log'!$K$18:$K$1017,$B320,'Daily Log'!$L$18:$L$1017),0)","v":0},{"$f":"IFERROR($E320*SUMIF('Daily Log'!$N$18:$N$1017,$B320,'Daily Log'!$O$18:$O$1017),0)","v":0},{"$f":"IFERROR($E320*SUMIF('Daily Log'!$Q$18:$Q$1017,$B320,'Daily Log'!$R$18:$R$1017),0)","v":0},{"$f":"IFERROR($E320*SUMIF('Daily Log'!$T$18:$T$1017,$B320,'Daily Log'!$U$18:$U$1017),0)","v":0},{"$f":"IFERROR($E320*SUMIF('Daily Log'!$W$18:$W$1017,$B320,'Daily Log'!$X$18:$X$1017),0)","v":0},{"$f":"IFERROR($E320*SUMIF('Daily Log'!$Z$18:$Z$1017,$B320,'Daily Log'!$AA$18:$AA$1017),0)","v":0},{"$f":"IFERROR($E320*SUMIF('Daily Log'!$AC$18:$AC$1017,$B320,'Daily Log'!$AD$18:$AD$1017),0)","v":0},{"$f":"IFERROR($E320*SUMIF('Daily Log'!$AF$18:$AF$1017,$B320,'Daily Log'!$AG$18:$AG$1017),0)","v":0},{"$f":"IFERROR($E320*SUMIF('Daily Log'!$AI$18:$AI$1017,$B320,'Daily Log'!$AJ$18:$AJ$1017),0)","v":0},{"$f":"IFERROR($E320*SUMIF('Daily Log'!$AL$18:$AL$1017,$B320,'Daily Log'!$AM$18:$AM$1017),0)","v":0},{"$f":"IFERROR($E320*SUMIF('Daily Log'!$AO$18:$AO$1017,$B320,'Daily Log'!$AP$18:$AP$1017),0)","v":0},{"$f":"IFERROR($E320*SUMIF('Daily Log'!$AR$18:$AR$1017,$B320,'Daily Log'!$AS$18:$AS$1017),0)","v":0},{"$f":"IFERROR($E320*SUMIF('Daily Log'!$AU$18:$AU$1017,$B320,'Daily Log'!$AV$18:$AV$1017),0)","v":0},{"$f":"IFERROR($E320*SUMIF('Daily Log'!$AX$18:$AX$1017,$B320,'Daily Log'!$AY$18:$AY$1017),0)","v":0},{"$f":"IFERROR($E320*SUMIF('Daily Log'!$BA$18:$BA$1017,$B320,'Daily Log'!$BB$18:$BB$1017),0)","v":0},{"$f":"IFERROR($E320*SUMIF('Daily Log'!$BD$18:$BD$1017,$B320,'Daily Log'!$BE$18:$BE$1017),0)","v":0},{"$f":"IFERROR($E320*SUMIF('Daily Log'!$BG$18:$BG$1017,$B320,'Daily Log'!$BH$18:$BH$1017),0)","v":0},{"$f":"IFERROR($E320*SUMIF('Daily Log'!$BJ$18:$BJ$1017,$B320,'Daily Log'!$BK$18:$BK$1017),0)","v":0},{"$f":"IFERROR($E320*SUMIF('Daily Log'!$BM$18:$BM$1017,$B320,'Daily Log'!$BN$18:$BN$1017),0)","v":0},{"$f":"IFERROR($E320*SUMIF('Daily Log'!$BP$18:$BP$1017,$B320,'Daily Log'!$BQ$18:$BQ$1017),0)","v":0},{"$f":"IFERROR($E320*SUMIF('Daily Log'!$BS$18:$BS$1017,$B320,'Daily Log'!$BT$18:$BT$1017),0)","v":0},{"$f":"IFERROR($E320*SUMIF('Daily Log'!$BV$18:$BV$1017,$B320,'Daily Log'!$BW$18:$BW$1017),0)","v":0},{"$f":"IFERROR($E320*SUMIF('Daily Log'!$BY$18:$BY$1017,$B320,'Daily Log'!$BZ$18:$BZ$1017),0)","v":0},{"$f":"IFERROR($E320*SUMIF('Daily Log'!$CB$18:$CB$1017,$B320,'Daily Log'!$CC$18:$CC$1017),0)","v":0},{"$f":"IFERROR($E320*SUMIF('Daily Log'!$CE$18:$CE$1017,$B320,'Daily Log'!$CF$18:$CF$1017),0)","v":3691},{"$f":"IFERROR($E320*SUMIF('Daily Log'!$CH$18:$CH$1017,$B320,'Daily Log'!$CI$18:$CI$1017),0)","v":0},{"$f":"IFERROR($E320*SUMIF('Daily Log'!$CK$18:$CK$1017,$B320,'Daily Log'!$CL$18:$CL$1017),0)","v":0},{"$f":"IFERROR($E320*SUMIF('Daily Log'!$CN$18:$CN$1017,$B320,'Daily Log'!$CO$18:$CO$1017),0)","v":0}]
[null,"HB01 2002:MILO(H)",null,"SO-HOT BEVERAGES",1,0,{"$f":"IFERROR($E321*SUMIF('Daily Log'!$B$18:$B$1017,$B321,'Daily Log'!$C$18:$C$1017),0)","v":0},{"$f":"IFERROR($E321*SUMIF('Daily Log'!$E$18:$E$1017,$B321,'Daily Log'!$F$18:$F$1017),0)","v":0},{"$f":"IFERROR($E321*SUMIF('Daily Log'!$H$18:$H$1017,$B321,'Daily Log'!$I$18:$I$1017),0)","v":0},{"$f":"IFERROR($E321*SUMIF('Daily Log'!$K$18:$K$1017,$B321,'Daily Log'!$L$18:$L$1017),0)","v":0},{"$f":"IFERROR($E321*SUMIF('Daily Log'!$N$18:$N$1017,$B321,'Daily Log'!$O$18:$O$1017),0)","v":0},{"$f":"IFERROR($E321*SUMIF('Daily Log'!$Q$18:$Q$1017,$B321,'Daily Log'!$R$18:$R$1017),0)","v":0},{"$f":"IFERROR($E321*SUMIF('Daily Log'!$T$18:$T$1017,$B321,'Daily Log'!$U$18:$U$1017),0)","v":0},{"$f":"IFERROR($E321*SUMIF('Daily Log'!$W$18:$W$1017,$B321,'Daily Log'!$X$18:$X$1017),0)","v":0},{"$f":"IFERROR($E321*SUMIF('Daily Log'!$Z$18:$Z$1017,$B321,'Daily Log'!$AA$18:$AA$1017),0)","v":0},{"$f":"IFERROR($E321*SUMIF('Daily Log'!$AC$18:$AC$1017,$B321,'Daily Log'!$AD$18:$AD$1017),0)","v":0},{"$f":"IFERROR($E321*SUMIF('Daily Log'!$AF$18:$AF$1017,$B321,'Daily Log'!$AG$18:$AG$1017),0)","v":0},{"$f":"IFERROR($E321*SUMIF('Daily Log'!$AI$18:$AI$1017,$B321,'Daily Log'!$AJ$18:$AJ$1017),0)","v":0},{"$f":"IFERROR($E321*SUMIF('Daily Log'!$AL$18:$AL$1017,$B321,'Daily Log'!$AM$18:$AM$1017),0)","v":0},{"$f":"IFERROR($E321*SUMIF('Daily Log'!$AO$18:$AO$1017,$B321,'Daily Log'!$AP$18:$AP$1017),0)","v":0},{"$f":"IFERROR($E321*SUMIF('Daily Log'!$AR$18:$AR$1017,$B321,'Daily Log'!$AS$18:$AS$1017),0)","v":0},{"$f":"IFERROR($E321*SUMIF('Daily Log'!$AU$18:$AU$1017,$B321,'Daily Log'!$AV$18:$AV$1017),0)","v":0},{"$f":"IFERROR($E321*SUMIF('Daily Log'!$AX$18:$AX$1017,$B321,'Daily Log'!$AY$18:$AY$1017),0)","v":0},{"$f":"IFERROR($E321*SUMIF('Daily Log'!$BA$18:$BA$1017,$B321,'Daily Log'!$BB$18:$BB$1017),0)","v":0},{"$f":"IFERROR($E321*SUMIF('Daily Log'!$BD$18:$BD$1017,$B321,'Daily Log'!$BE$18:$BE$1017),0)","v":0},{"$f":"IFERROR($E321*SUMIF('Daily Log'!$BG$18:$BG$1017,$B321,'Daily Log'!$BH$18:$BH$1017),0)","v":0},{"$f":"IFERROR($E321*SUMIF('Daily Log'!$BJ$18:$BJ$1017,$B321,'Daily Log'!$BK$18:$BK$1017),0)","v":0},{"$f":"IFERROR($E321*SUMIF('Daily Log'!$BM$18:$BM$1017,$B321,'Daily Log'!$BN$18:$BN$1017),0)","v":0},{"$f":"IFERROR($E321*SUMIF('Daily Log'!$BP$18:$BP$1017,$B321,'Daily Log'!$BQ$18:$BQ$1017),0)","v":0},{"$f":"IFERROR($E321*SUMIF('Daily Log'!$BS$18:$BS$1017,$B321,'Daily Log'!$BT$18:$BT$1017),0)","v":0},{"$f":"IFERROR($E321*SUMIF('Daily Log'!$BV$18:$BV$1017,$B321,'Daily Log'!$BW$18:$BW$1017),0)","v":0},{"$f":"IFERROR($E321*SUMIF('Daily Log'!$BY$18:$BY$1017,$B321,'Daily Log'!$BZ$18:$BZ$1017),0)","v":0},{"$f":"IFERROR($E321*SUMIF('Daily Log'!$CB$18:$CB$1017,$B321,'Daily Log'!$CC$18:$CC$1017),0)","v":0},{"$f":"IFERROR($E321*SUMIF('Daily Log'!$CE$18:$CE$1017,$B321,'Daily Log'!$CF$18:$CF$1017),0)","v":0},{"$f":"IFERROR($E321*SUMIF('Daily Log'!$CH$18:$CH$1017,$B321,'Daily Log'!$CI$18:$CI$1017),0)","v":0},{"$f":"IFERROR($E321*SUMIF('Daily Log'!$CK$18:$CK$1017,$B321,'Daily Log'!$CL$18:$CL$1017),0)","v":0},{"$f":"IFERROR($E321*SUMIF('Daily Log'!$CN$18:$CN$1017,$B321,'Daily Log'!$CO$18:$CO$1017),0)","v":0}]
[null,"HB02 2004:NESCAFE(H)",null,"SO-HOT BEVERAGES",1,0,{"$f":"IFERROR($E322*SUMIF('Daily Log'!$B$18:$B$1017,$B322,'Daily Log'!$C$18:$C$1017),0)","v":0},{"$f":"IFERROR($E322*SUMIF('Daily Log'!$E$18:$E$1017,$B322,'Daily Log'!$F$18:$F$1017),0)","v":0},{"$f":"IFERROR($E322*SUMIF('Daily Log'!$H$18:$H$1017,$B322,'Daily Log'!$I$18:$I$1017),0)","v":0},{"$f":"IFERROR($E322*SUMIF('Daily Log'!$K$18:$K$1017,$B322,'Daily Log'!$L$18:$L$1017),0)","v":0},{"$f":"IFERROR($E322*SUMIF('Daily Log'!$N$18:$N$1017,$B322,'Daily Log'!$O$18:$O$1017),0)","v":0},{"$f":"IFERROR($E322*SUMIF('Daily Log'!$Q$18:$Q$1017,$B322,'Daily Log'!$R$18:$R$1017),0)","v":0},{"$f":"IFERROR($E322*SUMIF('Daily Log'!$T$18:$T$1017,$B322,'Daily Log'!$U$18:$U$1017),0)","v":0},{"$f":"IFERROR($E322*SUMIF('Daily Log'!$W$18:$W$1017,$B322,'Daily Log'!$X$18:$X$1017),0)","v":0},{"$f":"IFERROR($E322*SUMIF('Daily Log'!$Z$18:$Z$1017,$B322,'Daily Log'!$AA$18:$AA$1017),0)","v":0},{"$f":"IFERROR($E322*SUMIF('Daily Log'!$AC$18:$AC$1017,$B322,'Daily Log'!$AD$18:$AD$1017),0)","v":0},{"$f":"IFERROR($E322*SUMIF('Daily Log'!$AF$18:$AF$1017,$B322,'Daily Log'!$AG$18:$AG$1017),0)","v":0},{"$f":"IFERROR($E322*SUMIF('Daily Log'!$AI$18:$AI$1017,$B322,'Daily Log'!$AJ$18:$AJ$1017),0)","v":0},{"$f":"IFERROR($E322*SUMIF('Daily Log'!$AL$18:$AL$1017,$B322,'Daily Log'!$AM$18:$AM$1017),0)","v":0},{"$f":"IFERROR($E322*SUMIF('Daily Log'!$AO$18:$AO$1017,$B322,'Daily Log'!$AP$18:$AP$1017),0)","v":0},{"$f":"IFERROR($E322*SUMIF('Daily Log'!$AR$18:$AR$1017,$B322,'Daily Log'!$AS$18:$AS$1017),0)","v":0},{"$f":"IFERROR($E322*SUMIF('Daily Log'!$AU$18:$AU$1017,$B322,'Daily Log'!$AV$18:$AV$1017),0)","v":0},{"$f":"IFERROR($E322*SUMIF('Daily Log'!$AX$18:$AX$1017,$B322,'Daily Log'!$AY$18:$AY$1017),0)","v":0},{"$f":"IFERROR($E322*SUMIF('Daily Log'!$BA$18:$BA$1017,$B322,'Daily Log'!$BB$18:$BB$1017),0)","v":0},{"$f":"IFERROR($E322*SUMIF('Daily Log'!$BD$18:$BD$1017,$B322,'Daily Log'!$BE$18:$BE$1017),0)","v":0},{"$f":"IFERROR($E322*SUMIF('Daily Log'!$BG$18:$BG$1017,$B322,'Daily Log'!$BH$18:$BH$1017),0)","v":0},{"$f":"IFERROR($E322*SUMIF('Daily Log'!$BJ$18:$BJ$1017,$B322,'Daily Log'!$BK$18:$BK$1017),0)","v":0},{"$f":"IFERROR($E322*SUMIF('Daily Log'!$BM$18:$BM$1017,$B322,'Daily Log'!$BN$18:$BN$1017),0)","v":0},{"$f":"IFERROR($E322*SUMIF('Daily Log'!$BP$18:$BP$1017,$B322,'Daily Log'!$BQ$18:$BQ$1017),0)","v":0},{"$f":"IFERROR($E322*SUMIF('Daily Log'!$BS$18:$BS$1017,$B322,'Daily Log'!$BT$18:$BT$1017),0)","v":0},{"$f":"IFERROR($E322*SUMIF('Daily Log'!$BV$18:$BV$1017,$B322,'Daily Log'!$BW$18:$BW$1017),0)","v":0},{"$f":"IFERROR($E322*SUMIF('Daily Log'!$BY$18:$BY$1017,$B322,'Daily Log'!$BZ$18:$BZ$1017),0)","v":0},{"$f":"IFERROR($E322*SUMIF('Daily Log'!$CB$18:$CB$1017,$B322,'Daily Log'!$CC$18:$CC$1017),0)","v":0},{"$f":"IFERROR($E322*SUMIF('Daily Log'!$CE$18:$CE$1017,$B322,'Daily Log'!$CF$18:$CF$1017),0)","v":0},{"$f":"IFERROR($E322*SUMIF('Daily Log'!$CH$18:$CH$1017,$B322,'Daily Log'!$CI$18:$CI$1017),0)","v":0},{"$f":"IFERROR($E322*SUMIF('Daily Log'!$CK$18:$CK$1017,$B322,'Daily Log'!$CL$18:$CL$1017),0)","v":0},{"$f":"IFERROR($E322*SUMIF('Daily Log'!$CN$18:$CN$1017,$B322,'Daily Log'!$CO$18:$CO$1017),0)","v":0}]
[null,"HB03 2006:TEA(H)",null,"SO-HOT BEVERAGES",1,0,{"$f":"IFERROR($E323*SUMIF('Daily Log'!$B$18:$B$1017,$B323,'Daily Log'!$C$18:$C$1017),0)","v":0},{"$f":"IFERROR($E323*SUMIF('Daily Log'!$E$18:$E$1017,$B323,'Daily Log'!$F$18:$F$1017),0)","v":0},{"$f":"IFERROR($E323*SUMIF('Daily Log'!$H$18:$H$1017,$B323,'Daily Log'!$I$18:$I$1017),0)","v":0},{"$f":"IFERROR($E323*SUMIF('Daily Log'!$K$18:$K$1017,$B323,'Daily Log'!$L$18:$L$1017),0)","v":0},{"$f":"IFERROR($E323*SUMIF('Daily Log'!$N$18:$N$1017,$B323,'Daily Log'!$O$18:$O$1017),0)","v":0},{"$f":"IFERROR($E323*SUMIF('Daily Log'!$Q$18:$Q$1017,$B323,'Daily Log'!$R$18:$R$1017),0)","v":0},{"$f":"IFERROR($E323*SUMIF('Daily Log'!$T$18:$T$1017,$B323,'Daily Log'!$U$18:$U$1017),0)","v":0},{"$f":"IFERROR($E323*SUMIF('Daily Log'!$W$18:$W$1017,$B323,'Daily Log'!$X$18:$X$1017),0)","v":0},{"$f":"IFERROR($E323*SUMIF('Daily Log'!$Z$18:$Z$1017,$B323,'Daily Log'!$AA$18:$AA$1017),0)","v":0},{"$f":"IFERROR($E323*SUMIF('Daily Log'!$AC$18:$AC$1017,$B323,'Daily Log'!$AD$18:$AD$1017),0)","v":0},{"$f":"IFERROR($E323*SUMIF('Daily Log'!$AF$18:$AF$1017,$B323,'Daily Log'!$AG$18:$AG$1017),0)","v":0},{"$f":"IFERROR($E323*SUMIF('Daily Log'!$AI$18:$AI$1017,$B323,'Daily Log'!$AJ$18:$AJ$1017),0)","v":0},{"$f":"IFERROR($E323*SUMIF('Daily Log'!$AL$18:$AL$1017,$B323,'Daily Log'!$AM$18:$AM$1017),0)","v":0},{"$f":"IFERROR($E323*SUMIF('Daily Log'!$AO$18:$AO$1017,$B323,'Daily Log'!$AP$18:$AP$1017),0)","v":0},{"$f":"IFERROR($E323*SUMIF('Daily Log'!$AR$18:$AR$1017,$B323,'Daily Log'!$AS$18:$AS$1017),0)","v":0},{"$f":"IFERROR($E323*SUMIF('Daily Log'!$AU$18:$AU$1017,$B323,'Daily Log'!$AV$18:$AV$1017),0)","v":0},{"$f":"IFERROR($E323*SUMIF('Daily Log'!$AX$18:$AX$1017,$B323,'Daily Log'!$AY$18:$AY$1017),0)","v":0},{"$f":"IFERROR($E323*SUMIF('Daily Log'!$BA$18:$BA$1017,$B323,'Daily Log'!$BB$18:$BB$1017),0)","v":0},{"$f":"IFERROR($E323*SUMIF('Daily Log'!$BD$18:$BD$1017,$B323,'Daily Log'!$BE$18:$BE$1017),0)","v":0},{"$f":"IFERROR($E323*SUMIF('Daily Log'!$BG$18:$BG$1017,$B323,'Daily Log'!$BH$18:$BH$1017),0)","v":0},{"$f":"IFERROR($E323*SUMIF('Daily Log'!$BJ$18:$BJ$1017,$B323,'Daily Log'!$BK$18:$BK$1017),0)","v":0},{"$f":"IFERROR($E323*SUMIF('Daily Log'!$BM$18:$BM$1017,$B323,'Daily Log'!$BN$18:$BN$1017),0)","v":0},{"$f":"IFERROR($E323*SUMIF('Daily Log'!$BP$18:$BP$1017,$B323,'Daily Log'!$BQ$18:$BQ$1017),0)","v":0},{"$f":"IFERROR($E323*SUMIF('Daily Log'!$BS$18:$BS$1017,$B323,'Daily Log'!$BT$18:$BT$1017),0)","v":0},{"$f":"IFERROR($E323*SUMIF('Daily Log'!$BV$18:$BV$1017,$B323,'Daily Log'!$BW$18:$BW$1017),0)","v":0},{"$f":"IFERROR($E323*SUMIF('Daily Log'!$BY$18:$BY$1017,$B323,'Daily Log'!$BZ$18:$BZ$1017),0)","v":0},{"$f":"IFERROR($E323*SUMIF('Daily Log'!$CB$18:$CB$1017,$B323,'Daily Log'!$CC$18:$CC$1017),0)","v":0},{"$f":"IFERROR($E323*SUMIF('Daily Log'!$CE$18:$CE$1017,$B323,'Daily Log'!$CF$18:$CF$1017),0)","v":0},{"$f":"IFERROR($E323*SUMIF('Daily Log'!$CH$18:$CH$1017,$B323,'Daily Log'!$CI$18:$CI$1017),0)","v":0},{"$f":"IFERROR($E323*SUMIF('Daily Log'!$CK$18:$CK$1017,$B323,'Daily Log'!$CL$18:$CL$1017),0)","v":0},{"$f":"IFERROR($E323*SUMIF('Daily Log'!$CN$18:$CN$1017,$B323,'Daily Log'!$CO$18:$CO$1017),0)","v":0}]
[null,"HB04 2008:LMN TEA(H)",null,"SO-HOT BEVERAGES",1,0,{"$f":"IFERROR($E324*SUMIF('Daily Log'!$B$18:$B$1017,$B324,'Daily Log'!$C$18:$C$1017),0)","v":0},{"$f":"IFERROR($E324*SUMIF('Daily Log'!$E$18:$E$1017,$B324,'Daily Log'!$F$18:$F$1017),0)","v":0},{"$f":"IFERROR($E324*SUMIF('Daily Log'!$H$18:$H$1017,$B324,'Daily Log'!$I$18:$I$1017),0)","v":0},{"$f":"IFERROR($E324*SUMIF('Daily Log'!$K$18:$K$1017,$B324,'Daily Log'!$L$18:$L$1017),0)","v":0},{"$f":"IFERROR($E324*SUMIF('Daily Log'!$N$18:$N$1017,$B324,'Daily Log'!$O$18:$O$1017),0)","v":0},{"$f":"IFERROR($E324*SUMIF('Daily Log'!$Q$18:$Q$1017,$B324,'Daily Log'!$R$18:$R$1017),0)","v":0},{"$f":"IFERROR($E324*SUMIF('Daily Log'!$T$18:$T$1017,$B324,'Daily Log'!$U$18:$U$1017),0)","v":0},{"$f":"IFERROR($E324*SUMIF('Daily Log'!$W$18:$W$1017,$B324,'Daily Log'!$X$18:$X$1017),0)","v":0},{"$f":"IFERROR($E324*SUMIF('Daily Log'!$Z$18:$Z$1017,$B324,'Daily Log'!$AA$18:$AA$1017),0)","v":0},{"$f":"IFERROR($E324*SUMIF('Daily Log'!$AC$18:$AC$1017,$B324,'Daily Log'!$AD$18:$AD$1017),0)","v":0},{"$f":"IFERROR($E324*SUMIF('Daily Log'!$AF$18:$AF$1017,$B324,'Daily Log'!$AG$18:$AG$1017),0)","v":0},{"$f":"IFERROR($E324*SUMIF('Daily Log'!$AI$18:$AI$1017,$B324,'Daily Log'!$AJ$18:$AJ$1017),0)","v":0},{"$f":"IFERROR($E324*SUMIF('Daily Log'!$AL$18:$AL$1017,$B324,'Daily Log'!$AM$18:$AM$1017),0)","v":0},{"$f":"IFERROR($E324*SUMIF('Daily Log'!$AO$18:$AO$1017,$B324,'Daily Log'!$AP$18:$AP$1017),0)","v":0},{"$f":"IFERROR($E324*SUMIF('Daily Log'!$AR$18:$AR$1017,$B324,'Daily Log'!$AS$18:$AS$1017),0)","v":0},{"$f":"IFERROR($E324*SUMIF('Daily Log'!$AU$18:$AU$1017,$B324,'Daily Log'!$AV$18:$AV$1017),0)","v":0},{"$f":"IFERROR($E324*SUMIF('Daily Log'!$AX$18:$AX$1017,$B324,'Daily Log'!$AY$18:$AY$1017),0)","v":0},{"$f":"IFERROR($E324*SUMIF('Daily Log'!$BA$18:$BA$1017,$B324,'Daily Log'!$BB$18:$BB$1017),0)","v":0},{"$f":"IFERROR($E324*SUMIF('Daily Log'!$BD$18:$BD$1017,$B324,'Daily Log'!$BE$18:$BE$1017),0)","v":0},{"$f":"IFERROR($E324*SUMIF('Daily Log'!$BG$18:$BG$1017,$B324,'Daily Log'!$BH$18:$BH$1017),0)","v":0},{"$f":"IFERROR($E324*SUMIF('Daily Log'!$BJ$18:$BJ$1017,$B324,'Daily Log'!$BK$18:$BK$1017),0)","v":0},{"$f":"IFERROR($E324*SUMIF('Daily Log'!$BM$18:$BM$1017,$B324,'Daily Log'!$BN$18:$BN$1017),0)","v":0},{"$f":"IFERROR($E324*SUMIF('Daily Log'!$BP$18:$BP$1017,$B324,'Daily Log'!$BQ$18:$BQ$1017),0)","v":0},{"$f":"IFERROR($E324*SUMIF('Daily Log'!$BS$18:$BS$1017,$B324,'Daily Log'!$BT$18:$BT$1017),0)","v":0},{"$f":"IFERROR($E324*SUMIF('Daily Log'!$BV$18:$BV$1017,$B324,'Daily Log'!$BW$18:$BW$1017),0)","v":0},{"$f":"IFERROR($E324*SUMIF('Daily Log'!$BY$18:$BY$1017,$B324,'Daily Log'!$BZ$18:$BZ$1017),0)","v":0},{"$f":"IFERROR($E324*SUMIF('Daily Log'!$CB$18:$CB$1017,$B324,'Daily Log'!$CC$18:$CC$1017),0)","v":0},{"$f":"IFERROR($E324*SUMIF('Daily Log'!$CE$18:$CE$1017,$B324,'Daily Log'!$CF$18:$CF$1017),0)","v":0},{"$f":"IFERROR($E324*SUMIF('Daily Log'!$CH$18:$CH$1017,$B324,'Daily Log'!$CI$18:$CI$1017),0)","v":0},{"$f":"IFERROR($E324*SUMIF('Daily Log'!$CK$18:$CK$1017,$B324,'Daily Log'!$CL$18:$CL$1017),0)","v":0},{"$f":"IFERROR($E324*SUMIF('Daily Log'!$CN$18:$CN$1017,$B324,'Daily Log'!$CO$18:$CO$1017),0)","v":0}]
[null,"HB05 2010:GRN TEA(H)",null,"SO-HOT BEVERAGES",1,0,{"$f":"IFERROR($E325*SUMIF('Daily Log'!$B$18:$B$1017,$B325,'Daily Log'!$C$18:$C$1017),0)","v":0},{"$f":"IFERROR($E325*SUMIF('Daily Log'!$E$18:$E$1017,$B325,'Daily Log'!$F$18:$F$1017),0)","v":0},{"$f":"IFERROR($E325*SUMIF('Daily Log'!$H$18:$H$1017,$B325,'Daily Log'!$I$18:$I$1017),0)","v":0},{"$f":"IFERROR($E325*SUMIF('Daily Log'!$K$18:$K$1017,$B325,'Daily Log'!$L$18:$L$1017),0)","v":0},{"$f":"IFERROR($E325*SUMIF('Daily Log'!$N$18:$N$1017,$B325,'Daily Log'!$O$18:$O$1017),0)","v":0},{"$f":"IFERROR($E325*SUMIF('Daily Log'!$Q$18:$Q$1017,$B325,'Daily Log'!$R$18:$R$1017),0)","v":0},{"$f":"IFERROR($E325*SUMIF('Daily Log'!$T$18:$T$1017,$B325,'Daily Log'!$U$18:$U$1017),0)","v":0},{"$f":"IFERROR($E325*SUMIF('Daily Log'!$W$18:$W$1017,$B325,'Daily Log'!$X$18:$X$1017),0)","v":0},{"$f":"IFERROR($E325*SUMIF('Daily Log'!$Z$18:$Z$1017,$B325,'Daily Log'!$AA$18:$AA$1017),0)","v":0},{"$f":"IFERROR($E325*SUMIF('Daily Log'!$AC$18:$AC$1017,$B325,'Daily Log'!$AD$18:$AD$1017),0)","v":0},{"$f":"IFERROR($E325*SUMIF('Daily Log'!$AF$18:$AF$1017,$B325,'Daily Log'!$AG$18:$AG$1017),0)","v":0},{"$f":"IFERROR($E325*SUMIF('Daily Log'!$AI$18:$AI$1017,$B325,'Daily Log'!$AJ$18:$AJ$1017),0)","v":0},{"$f":"IFERROR($E325*SUMIF('Daily Log'!$AL$18:$AL$1017,$B325,'Daily Log'!$AM$18:$AM$1017),0)","v":0},{"$f":"IFERROR($E325*SUMIF('Daily Log'!$AO$18:$AO$1017,$B325,'Daily Log'!$AP$18:$AP$1017),0)","v":0},{"$f":"IFERROR($E325*SUMIF('Daily Log'!$AR$18:$AR$1017,$B325,'Daily Log'!$AS$18:$AS$1017),0)","v":0},{"$f":"IFERROR($E325*SUMIF('Daily Log'!$AU$18:$AU$1017,$B325,'Daily Log'!$AV$18:$AV$1017),0)","v":0},{"$f":"IFERROR($E325*SUMIF('Daily Log'!$AX$18:$AX$1017,$B325,'Daily Log'!$AY$18:$AY$1017),0)","v":0},{"$f":"IFERROR($E325*SUMIF('Daily Log'!$BA$18:$BA$1017,$B325,'Daily Log'!$BB$18:$BB$1017),0)","v":0},{"$f":"IFERROR($E325*SUMIF('Daily Log'!$BD$18:$BD$1017,$B325,'Daily Log'!$BE$18:$BE$1017),0)","v":0},{"$f":"IFERROR($E325*SUMIF('Daily Log'!$BG$18:$BG$1017,$B325,'Daily Log'!$BH$18:$BH$1017),0)","v":0},{"$f":"IFERROR($E325*SUMIF('Daily Log'!$BJ$18:$BJ$1017,$B325,'Daily Log'!$BK$18:$BK$1017),0)","v":0},{"$f":"IFERROR($E325*SUMIF('Daily Log'!$BM$18:$BM$1017,$B325,'Daily Log'!$BN$18:$BN$1017),0)","v":0},{"$f":"IFERROR($E325*SUMIF('Daily Log'!$BP$18:$BP$1017,$B325,'Daily Log'!$BQ$18:$BQ$1017),0)","v":0},{"$f":"IFERROR($E325*SUMIF('Daily Log'!$BS$18:$BS$1017,$B325,'Daily Log'!$BT$18:$BT$1017),0)","v":0},{"$f":"IFERROR($E325*SUMIF('Daily Log'!$BV$18:$BV$1017,$B325,'Daily Log'!$BW$18:$BW$1017),0)","v":0},{"$f":"IFERROR($E325*SUMIF('Daily Log'!$BY$18:$BY$1017,$B325,'Daily Log'!$BZ$18:$BZ$1017),0)","v":0},{"$f":"IFERROR($E325*SUMIF('Daily Log'!$CB$18:$CB$1017,$B325,'Daily Log'!$CC$18:$CC$1017),0)","v":0},{"$f":"IFERROR($E325*SUMIF('Daily Log'!$CE$18:$CE$1017,$B325,'Daily Log'!$CF$18:$CF$1017),0)","v":0},{"$f":"IFERROR($E325*SUMIF('Daily Log'!$CH$18:$CH$1017,$B325,'Daily Log'!$CI$18:$CI$1017),0)","v":0},{"$f":"IFERROR($E325*SUMIF('Daily Log'!$CK$18:$CK$1017,$B325,'Daily Log'!$CL$18:$CL$1017),0)","v":0},{"$f":"IFERROR($E325*SUMIF('Daily Log'!$CN$18:$CN$1017,$B325,'Daily Log'!$CO$18:$CO$1017),0)","v":0}]
[null,"HB06 2012:HNY GT(H)",null,"SO-HOT BEVERAGES",1,0,{"$f":"IFERROR($E326*SUMIF('Daily Log'!$B$18:$B$1017,$B326,'Daily Log'!$C$18:$C$1017),0)","v":0},{"$f":"IFERROR($E326*SUMIF('Daily Log'!$E$18:$E$1017,$B326,'Daily Log'!$F$18:$F$1017),0)","v":0},{"$f":"IFERROR($E326*SUMIF('Daily Log'!$H$18:$H$1017,$B326,'Daily Log'!$I$18:$I$1017),0)","v":0},{"$f":"IFERROR($E326*SUMIF('Daily Log'!$K$18:$K$1017,$B326,'Daily Log'!$L$18:$L$1017),0)","v":0},{"$f":"IFERROR($E326*SUMIF('Daily Log'!$N$18:$N$1017,$B326,'Daily Log'!$O$18:$O$1017),0)","v":0},{"$f":"IFERROR($E326*SUMIF('Daily Log'!$Q$18:$Q$1017,$B326,'Daily Log'!$R$18:$R$1017),0)","v":0},{"$f":"IFERROR($E326*SUMIF('Daily Log'!$T$18:$T$1017,$B326,'Daily Log'!$U$18:$U$1017),0)","v":0},{"$f":"IFERROR($E326*SUMIF('Daily Log'!$W$18:$W$1017,$B326,'Daily Log'!$X$18:$X$1017),0)","v":0},{"$f":"IFERROR($E326*SUMIF('Daily Log'!$Z$18:$Z$1017,$B326,'Daily Log'!$AA$18:$AA$1017),0)","v":0},{"$f":"IFERROR($E326*SUMIF('Daily Log'!$AC$18:$AC$1017,$B326,'Daily Log'!$AD$18:$AD$1017),0)","v":0},{"$f":"IFERROR($E326*SUMIF('Daily Log'!$AF$18:$AF$1017,$B326,'Daily Log'!$AG$18:$AG$1017),0)","v":0},{"$f":"IFERROR($E326*SUMIF('Daily Log'!$AI$18:$AI$1017,$B326,'Daily Log'!$AJ$18:$AJ$1017),0)","v":0},{"$f":"IFERROR($E326*SUMIF('Daily Log'!$AL$18:$AL$1017,$B326,'Daily Log'!$AM$18:$AM$1017),0)","v":0},{"$f":"IFERROR($E326*SUMIF('Daily Log'!$AO$18:$AO$1017,$B326,'Daily Log'!$AP$18:$AP$1017),0)","v":0},{"$f":"IFERROR($E326*SUMIF('Daily Log'!$AR$18:$AR$1017,$B326,'Daily Log'!$AS$18:$AS$1017),0)","v":0},{"$f":"IFERROR($E326*SUMIF('Daily Log'!$AU$18:$AU$1017,$B326,'Daily Log'!$AV$18:$AV$1017),0)","v":0},{"$f":"IFERROR($E326*SUMIF('Daily Log'!$AX$18:$AX$1017,$B326,'Daily Log'!$AY$18:$AY$1017),0)","v":0},{"$f":"IFERROR($E326*SUMIF('Daily Log'!$BA$18:$BA$1017,$B326,'Daily Log'!$BB$18:$BB$1017),0)","v":0},{"$f":"IFERROR($E326*SUMIF('Daily Log'!$BD$18:$BD$1017,$B326,'Daily Log'!$BE$18:$BE$1017),0)","v":0},{"$f":"IFERROR($E326*SUMIF('Daily Log'!$BG$18:$BG$1017,$B326,'Daily Log'!$BH$18:$BH$1017),0)","v":0},{"$f":"IFERROR($E326*SUMIF('Daily Log'!$BJ$18:$BJ$1017,$B326,'Daily Log'!$BK$18:$BK$1017),0)","v":0},{"$f":"IFERROR($E326*SUMIF('Daily Log'!$BM$18:$BM$1017,$B326,'Daily Log'!$BN$18:$BN$1017),0)","v":0},{"$f":"IFERROR($E326*SUMIF('Daily Log'!$BP$18:$BP$1017,$B326,'Daily Log'!$BQ$18:$BQ$1017),0)","v":0},{"$f":"IFERROR($E326*SUMIF('Daily Log'!$BS$18:$BS$1017,$B326,'Daily Log'!$BT$18:$BT$1017),0)","v":0},{"$f":"IFERROR($E326*SUMIF('Daily Log'!$BV$18:$BV$1017,$B326,'Daily Log'!$BW$18:$BW$1017),0)","v":0},{"$f":"IFERROR($E326*SUMIF('Daily Log'!$BY$18:$BY$1017,$B326,'Daily Log'!$BZ$18:$BZ$1017),0)","v":0},{"$f":"IFERROR($E326*SUMIF('Daily Log'!$CB$18:$CB$1017,$B326,'Daily Log'!$CC$18:$CC$1017),0)","v":0},{"$f":"IFERROR($E326*SUMIF('Daily Log'!$CE$18:$CE$1017,$B326,'Daily Log'!$CF$18:$CF$1017),0)","v":0},{"$f":"IFERROR($E326*SUMIF('Daily Log'!$CH$18:$CH$1017,$B326,'Daily Log'!$CI$18:$CI$1017),0)","v":0},{"$f":"IFERROR($E326*SUMIF('Daily Log'!$CK$18:$CK$1017,$B326,'Daily Log'!$CL$18:$CL$1017),0)","v":0},{"$f":"IFERROR($E326*SUMIF('Daily Log'!$CN$18:$CN$1017,$B326,'Daily Log'!$CO$18:$CO$1017),0)","v":0}]
[null,"HB07 2014:HONEY(H)",null,"SO-HOT BEVERAGES",1,0,{"$f":"IFERROR($E327*SUMIF('Daily Log'!$B$18:$B$1017,$B327,'Daily Log'!$C$18:$C$1017),0)","v":0},{"$f":"IFERROR($E327*SUMIF('Daily Log'!$E$18:$E$1017,$B327,'Daily Log'!$F$18:$F$1017),0)","v":0},{"$f":"IFERROR($E327*SUMIF('Daily Log'!$H$18:$H$1017,$B327,'Daily Log'!$I$18:$I$1017),0)","v":0},{"$f":"IFERROR($E327*SUMIF('Daily Log'!$K$18:$K$1017,$B327,'Daily Log'!$L$18:$L$1017),0)","v":0},{"$f":"IFERROR($E327*SUMIF('Daily Log'!$N$18:$N$1017,$B327,'Daily Log'!$O$18:$O$1017),0)","v":0},{"$f":"IFERROR($E327*SUMIF('Daily Log'!$Q$18:$Q$1017,$B327,'Daily Log'!$R$18:$R$1017),0)","v":0},{"$f":"IFERROR($E327*SUMIF('Daily Log'!$T$18:$T$1017,$B327,'Daily Log'!$U$18:$U$1017),0)","v":0},{"$f":"IFERROR($E327*SUMIF('Daily Log'!$W$18:$W$1017,$B327,'Daily Log'!$X$18:$X$1017),0)","v":0},{"$f":"IFERROR($E327*SUMIF('Daily Log'!$Z$18:$Z$1017,$B327,'Daily Log'!$AA$18:$AA$1017),0)","v":0},{"$f":"IFERROR($E327*SUMIF('Daily Log'!$AC$18:$AC$1017,$B327,'Daily Log'!$AD$18:$AD$1017),0)","v":0},{"$f":"IFERROR($E327*SUMIF('Daily Log'!$AF$18:$AF$1017,$B327,'Daily Log'!$AG$18:$AG$1017),0)","v":0},{"$f":"IFERROR($E327*SUMIF('Daily Log'!$AI$18:$AI$1017,$B327,'Daily Log'!$AJ$18:$AJ$1017),0)","v":0},{"$f":"IFERROR($E327*SUMIF('Daily Log'!$AL$18:$AL$1017,$B327,'Daily Log'!$AM$18:$AM$1017),0)","v":0},{"$f":"IFERROR($E327*SUMIF('Daily Log'!$AO$18:$AO$1017,$B327,'Daily Log'!$AP$18:$AP$1017),0)","v":0},{"$f":"IFERROR($E327*SUMIF('Daily Log'!$AR$18:$AR$1017,$B327,'Daily Log'!$AS$18:$AS$1017),0)","v":0},{"$f":"IFERROR($E327*SUMIF('Daily Log'!$AU$18:$AU$1017,$B327,'Daily Log'!$AV$18:$AV$1017),0)","v":0},{"$f":"IFERROR($E327*SUMIF('Daily Log'!$AX$18:$AX$1017,$B327,'Daily Log'!$AY$18:$AY$1017),0)","v":0},{"$f":"IFERROR($E327*SUMIF('Daily Log'!$BA$18:$BA$1017,$B327,'Daily Log'!$BB$18:$BB$1017),0)","v":0},{"$f":"IFERROR($E327*SUMIF('Daily Log'!$BD$18:$BD$1017,$B327,'Daily Log'!$BE$18:$BE$1017),0)","v":0},{"$f":"IFERROR($E327*SUMIF('Daily Log'!$BG$18:$BG$1017,$B327,'Daily Log'!$BH$18:$BH$1017),0)","v":0},{"$f":"IFERROR($E327*SUMIF('Daily Log'!$BJ$18:$BJ$1017,$B327,'Daily Log'!$BK$18:$BK$1017),0)","v":0},{"$f":"IFERROR($E327*SUMIF('Daily Log'!$BM$18:$BM$1017,$B327,'Daily Log'!$BN$18:$BN$1017),0)","v":0},{"$f":"IFERROR($E327*SUMIF('Daily Log'!$BP$18:$BP$1017,$B327,'Daily Log'!$BQ$18:$BQ$1017),0)","v":0},{"$f":"IFERROR($E327*SUMIF('Daily Log'!$BS$18:$BS$1017,$B327,'Daily Log'!$BT$18:$BT$1017),0)","v":0},{"$f":"IFERROR($E327*SUMIF('Daily Log'!$BV$18:$BV$1017,$B327,'Daily Log'!$BW$18:$BW$1017),0)","v":0},{"$f":"IFERROR($E327*SUMIF('Daily Log'!$BY$18:$BY$1017,$B327,'Daily Log'!$BZ$18:$BZ$1017),0)","v":0},{"$f":"IFERROR($E327*SUMIF('Daily Log'!$CB$18:$CB$1017,$B327,'Daily Log'!$CC$18:$CC$1017),0)","v":0},{"$f":"IFERROR($E327*SUMIF('Daily Log'!$CE$18:$CE$1017,$B327,'Daily Log'!$CF$18:$CF$1017),0)","v":0},{"$f":"IFERROR($E327*SUMIF('Daily Log'!$CH$18:$CH$1017,$B327,'Daily Log'!$CI$18:$CI$1017),0)","v":0},{"$f":"IFERROR($E327*SUMIF('Daily Log'!$CK$18:$CK$1017,$B327,'Daily Log'!$CL$18:$CL$1017),0)","v":0},{"$f":"IFERROR($E327*SUMIF('Daily Log'!$CN$18:$CN$1017,$B327,'Daily Log'!$CO$18:$CO$1017),0)","v":0}]
[null,"HB08 2016:HNY LMN(H)",null,"SO-HOT BEVERAGES",1,3,{"$f":"IFERROR($E328*SUMIF('Daily Log'!$B$18:$B$1017,$B328,'Daily Log'!$C$18:$C$1017),0)","v":0},{"$f":"IFERROR($E328*SUMIF('Daily Log'!$E$18:$E$1017,$B328,'Daily Log'!$F$18:$F$1017),0)","v":0},{"$f":"IFERROR($E328*SUMIF('Daily Log'!$H$18:$H$1017,$B328,'Daily Log'!$I$18:$I$1017),0)","v":0},{"$f":"IFERROR($E328*SUMIF('Daily Log'!$K$18:$K$1017,$B328,'Daily Log'!$L$18:$L$1017),0)","v":0},{"$f":"IFERROR($E328*SUMIF('Daily Log'!$N$18:$N$1017,$B328,'Daily Log'!$O$18:$O$1017),0)","v":0},{"$f":"IFERROR($E328*SUMIF('Daily Log'!$Q$18:$Q$1017,$B328,'Daily Log'!$R$18:$R$1017),0)","v":0},{"$f":"IFERROR($E328*SUMIF('Daily Log'!$T$18:$T$1017,$B328,'Daily Log'!$U$18:$U$1017),0)","v":0},{"$f":"IFERROR($E328*SUMIF('Daily Log'!$W$18:$W$1017,$B328,'Daily Log'!$X$18:$X$1017),0)","v":0},{"$f":"IFERROR($E328*SUMIF('Daily Log'!$Z$18:$Z$1017,$B328,'Daily Log'!$AA$18:$AA$1017),0)","v":0},{"$f":"IFERROR($E328*SUMIF('Daily Log'!$AC$18:$AC$1017,$B328,'Daily Log'!$AD$18:$AD$1017),0)","v":0},{"$f":"IFERROR($E328*SUMIF('Daily Log'!$AF$18:$AF$1017,$B328,'Daily Log'!$AG$18:$AG$1017),0)","v":0},{"$f":"IFERROR($E328*SUMIF('Daily Log'!$AI$18:$AI$1017,$B328,'Daily Log'!$AJ$18:$AJ$1017),0)","v":0},{"$f":"IFERROR($E328*SUMIF('Daily Log'!$AL$18:$AL$1017,$B328,'Daily Log'!$AM$18:$AM$1017),0)","v":0},{"$f":"IFERROR($E328*SUMIF('Daily Log'!$AO$18:$AO$1017,$B328,'Daily Log'!$AP$18:$AP$1017),0)","v":0},{"$f":"IFERROR($E328*SUMIF('Daily Log'!$AR$18:$AR$1017,$B328,'Daily Log'!$AS$18:$AS$1017),0)","v":0},{"$f":"IFERROR($E328*SUMIF('Daily Log'!$AU$18:$AU$1017,$B328,'Daily Log'!$AV$18:$AV$1017),0)","v":0},{"$f":"IFERROR($E328*SUMIF('Daily Log'!$AX$18:$AX$1017,$B328,'Daily Log'!$AY$18:$AY$1017),0)","v":0},{"$f":"IFERROR($E328*SUMIF('Daily Log'!$BA$18:$BA$1017,$B328,'Daily Log'!$BB$18:$BB$1017),0)","v":0},{"$f":"IFERROR($E328*SUMIF('Daily Log'!$BD$18:$BD$1017,$B328,'Daily Log'!$BE$18:$BE$1017),0)","v":0},{"$f":"IFERROR($E328*SUMIF('Daily Log'!$BG$18:$BG$1017,$B328,'Daily Log'!$BH$18:$BH$1017),0)","v":0},{"$f":"IFERROR($E328*SUMIF('Daily Log'!$BJ$18:$BJ$1017,$B328,'Daily Log'!$BK$18:$BK$1017),0)","v":0},{"$f":"IFERROR($E328*SUMIF('Daily Log'!$BM$18:$BM$1017,$B328,'Daily Log'!$BN$18:$BN$1017),0)","v":0},{"$f":"IFERROR($E328*SUMIF('Daily Log'!$BP$18:$BP$1017,$B328,'Daily Log'!$BQ$18:$BQ$1017),0)","v":0},{"$f":"IFERROR($E328*SUMIF('Daily Log'!$BS$18:$BS$1017,$B328,'Daily Log'!$BT$18:$BT$1017),0)","v":0},{"$f":"IFERROR($E328*SUMIF('Daily Log'!$BV$18:$BV$1017,$B328,'Daily Log'!$BW$18:$BW$1017),0)","v":0},{"$f":"IFERROR($E328*SUMIF('Daily Log'!$BY$18:$BY$1017,$B328,'Daily Log'!$BZ$18:$BZ$1017),0)","v":0},{"$f":"IFERROR($E328*SUMIF('Daily Log'!$CB$18:$CB$1017,$B328,'Daily Log'!$CC$18:$CC$1017),0)","v":0},{"$f":"IFERROR($E328*SUMIF('Daily Log'!$CE$18:$CE$1017,$B328,'Daily Log'!$CF$18:$CF$1017),0)","v":3},{"$f":"IFERROR($E328*SUMIF('Daily Log'!$CH$18:$CH$1017,$B328,'Daily Log'!$CI$18:$CI$1017),0)","v":0},{"$f":"IFERROR($E328*SUMIF('Daily Log'!$CK$18:$CK$1017,$B328,'Daily Log'!$CL$18:$CL$1017),0)","v":0},{"$f":"IFERROR($E328*SUMIF('Daily Log'!$CN$18:$CN$1017,$B328,'Daily Log'!$CO$18:$CO$1017),0)","v":0}]
[null,"HB09 2017:CHAMOMILE",null,"SO-HOT BEVERAGES",1,0,{"$f":"IFERROR($E329*SUMIF('Daily Log'!$B$18:$B$1017,$B329,'Daily Log'!$C$18:$C$1017),0)","v":0},{"$f":"IFERROR($E329*SUMIF('Daily Log'!$E$18:$E$1017,$B329,'Daily Log'!$F$18:$F$1017),0)","v":0},{"$f":"IFERROR($E329*SUMIF('Daily Log'!$H$18:$H$1017,$B329,'Daily Log'!$I$18:$I$1017),0)","v":0},{"$f":"IFERROR($E329*SUMIF('Daily Log'!$K$18:$K$1017,$B329,'Daily Log'!$L$18:$L$1017),0)","v":0},{"$f":"IFERROR($E329*SUMIF('Daily Log'!$N$18:$N$1017,$B329,'Daily Log'!$O$18:$O$1017),0)","v":0},{"$f":"IFERROR($E329*SUMIF('Daily Log'!$Q$18:$Q$1017,$B329,'Daily Log'!$R$18:$R$1017),0)","v":0},{"$f":"IFERROR($E329*SUMIF('Daily Log'!$T$18:$T$1017,$B329,'Daily Log'!$U$18:$U$1017),0)","v":0},{"$f":"IFERROR($E329*SUMIF('Daily Log'!$W$18:$W$1017,$B329,'Daily Log'!$X$18:$X$1017),0)","v":0},{"$f":"IFERROR($E329*SUMIF('Daily Log'!$Z$18:$Z$1017,$B329,'Daily Log'!$AA$18:$AA$1017),0)","v":0},{"$f":"IFERROR($E329*SUMIF('Daily Log'!$AC$18:$AC$1017,$B329,'Daily Log'!$AD$18:$AD$1017),0)","v":0},{"$f":"IFERROR($E329*SUMIF('Daily Log'!$AF$18:$AF$1017,$B329,'Daily Log'!$AG$18:$AG$1017),0)","v":0},{"$f":"IFERROR($E329*SUMIF('Daily Log'!$AI$18:$AI$1017,$B329,'Daily Log'!$AJ$18:$AJ$1017),0)","v":0},{"$f":"IFERROR($E329*SUMIF('Daily Log'!$AL$18:$AL$1017,$B329,'Daily Log'!$AM$18:$AM$1017),0)","v":0},{"$f":"IFERROR($E329*SUMIF('Daily Log'!$AO$18:$AO$1017,$B329,'Daily Log'!$AP$18:$AP$1017),0)","v":0},{"$f":"IFERROR($E329*SUMIF('Daily Log'!$AR$18:$AR$1017,$B329,'Daily Log'!$AS$18:$AS$1017),0)","v":0},{"$f":"IFERROR($E329*SUMIF('Daily Log'!$AU$18:$AU$1017,$B329,'Daily Log'!$AV$18:$AV$1017),0)","v":0},{"$f":"IFERROR($E329*SUMIF('Daily Log'!$AX$18:$AX$1017,$B329,'Daily Log'!$AY$18:$AY$1017),0)","v":0},{"$f":"IFERROR($E329*SUMIF('Daily Log'!$BA$18:$BA$1017,$B329,'Daily Log'!$BB$18:$BB$1017),0)","v":0},{"$f":"IFERROR($E329*SUMIF('Daily Log'!$BD$18:$BD$1017,$B329,'Daily Log'!$BE$18:$BE$1017),0)","v":0},{"$f":"IFERROR($E329*SUMIF('Daily Log'!$BG$18:$BG$1017,$B329,'Daily Log'!$BH$18:$BH$1017),0)","v":0},{"$f":"IFERROR($E329*SUMIF('Daily Log'!$BJ$18:$BJ$1017,$B329,'Daily Log'!$BK$18:$BK$1017),0)","v":0},{"$f":"IFERROR($E329*SUMIF('Daily Log'!$BM$18:$BM$1017,$B329,'Daily Log'!$BN$18:$BN$1017),0)","v":0},{"$f":"IFERROR($E329*SUMIF('Daily Log'!$BP$18:$BP$1017,$B329,'Daily Log'!$BQ$18:$BQ$1017),0)","v":0},{"$f":"IFERROR($E329*SUMIF('Daily Log'!$BS$18:$BS$1017,$B329,'Daily Log'!$BT$18:$BT$1017),0)","v":0},{"$f":"IFERROR($E329*SUMIF('Daily Log'!$BV$18:$BV$1017,$B329,'Daily Log'!$BW$18:$BW$1017),0)","v":0},{"$f":"IFERROR($E329*SUMIF('Daily Log'!$BY$18:$BY$1017,$B329,'Daily Log'!$BZ$18:$BZ$1017),0)","v":0},{"$f":"IFERROR($E329*SUMIF('Daily Log'!$CB$18:$CB$1017,$B329,'Daily Log'!$CC$18:$CC$1017),0)","v":0},{"$f":"IFERROR($E329*SUMIF('Daily Log'!$CE$18:$CE$1017,$B329,'Daily Log'!$CF$18:$CF$1017),0)","v":0},{"$f":"IFERROR($E329*SUMIF('Daily Log'!$CH$18:$CH$1017,$B329,'Daily Log'!$CI$18:$CI$1017),0)","v":0},{"$f":"IFERROR($E329*SUMIF('Daily Log'!$CK$18:$CK$1017,$B329,'Daily Log'!$CL$18:$CL$1017),0)","v":0},{"$f":"IFERROR($E329*SUMIF('Daily Log'!$CN$18:$CN$1017,$B329,'Daily Log'!$CO$18:$CO$1017),0)","v":0}]
[null,"HB10 2018:DARJEELING",null,"SO-HOT BEVERAGES",1,0,{"$f":"IFERROR($E330*SUMIF('Daily Log'!$B$18:$B$1017,$B330,'Daily Log'!$C$18:$C$1017),0)","v":0},{"$f":"IFERROR($E330*SUMIF('Daily Log'!$E$18:$E$1017,$B330,'Daily Log'!$F$18:$F$1017),0)","v":0},{"$f":"IFERROR($E330*SUMIF('Daily Log'!$H$18:$H$1017,$B330,'Daily Log'!$I$18:$I$1017),0)","v":0},{"$f":"IFERROR($E330*SUMIF('Daily Log'!$K$18:$K$1017,$B330,'Daily Log'!$L$18:$L$1017),0)","v":0},{"$f":"IFERROR($E330*SUMIF('Daily Log'!$N$18:$N$1017,$B330,'Daily Log'!$O$18:$O$1017),0)","v":0},{"$f":"IFERROR($E330*SUMIF('Daily Log'!$Q$18:$Q$1017,$B330,'Daily Log'!$R$18:$R$1017),0)","v":0},{"$f":"IFERROR($E330*SUMIF('Daily Log'!$T$18:$T$1017,$B330,'Daily Log'!$U$18:$U$1017),0)","v":0},{"$f":"IFERROR($E330*SUMIF('Daily Log'!$W$18:$W$1017,$B330,'Daily Log'!$X$18:$X$1017),0)","v":0},{"$f":"IFERROR($E330*SUMIF('Daily Log'!$Z$18:$Z$1017,$B330,'Daily Log'!$AA$18:$AA$1017),0)","v":0},{"$f":"IFERROR($E330*SUMIF('Daily Log'!$AC$18:$AC$1017,$B330,'Daily Log'!$AD$18:$AD$1017),0)","v":0},{"$f":"IFERROR($E330*SUMIF('Daily Log'!$AF$18:$AF$1017,$B330,'Daily Log'!$AG$18:$AG$1017),0)","v":0},{"$f":"IFERROR($E330*SUMIF('Daily Log'!$AI$18:$AI$1017,$B330,'Daily Log'!$AJ$18:$AJ$1017),0)","v":0},{"$f":"IFERROR($E330*SUMIF('Daily Log'!$AL$18:$AL$1017,$B330,'Daily Log'!$AM$18:$AM$1017),0)","v":0},{"$f":"IFERROR($E330*SUMIF('Daily Log'!$AO$18:$AO$1017,$B330,'Daily Log'!$AP$18:$AP$1017),0)","v":0},{"$f":"IFERROR($E330*SUMIF('Daily Log'!$AR$18:$AR$1017,$B330,'Daily Log'!$AS$18:$AS$1017),0)","v":0},{"$f":"IFERROR($E330*SUMIF('Daily Log'!$AU$18:$AU$1017,$B330,'Daily Log'!$AV$18:$AV$1017),0)","v":0},{"$f":"IFERROR($E330*SUMIF('Daily Log'!$AX$18:$AX$1017,$B330,'Daily Log'!$AY$18:$AY$1017),0)","v":0},{"$f":"IFERROR($E330*SUMIF('Daily Log'!$BA$18:$BA$1017,$B330,'Daily Log'!$BB$18:$BB$1017),0)","v":0},{"$f":"IFERROR($E330*SUMIF('Daily Log'!$BD$18:$BD$1017,$B330,'Daily Log'!$BE$18:$BE$1017),0)","v":0},{"$f":"IFERROR($E330*SUMIF('Daily Log'!$BG$18:$BG$1017,$B330,'Daily Log'!$BH$18:$BH$1017),0)","v":0},{"$f":"IFERROR($E330*SUMIF('Daily Log'!$BJ$18:$BJ$1017,$B330,'Daily Log'!$BK$18:$BK$1017),0)","v":0},{"$f":"IFERROR($E330*SUMIF('Daily Log'!$BM$18:$BM$1017,$B330,'Daily Log'!$BN$18:$BN$1017),0)","v":0},{"$f":"IFERROR($E330*SUMIF('Daily Log'!$BP$18:$BP$1017,$B330,'Daily Log'!$BQ$18:$BQ$1017),0)","v":0},{"$f":"IFERROR($E330*SUMIF('Daily Log'!$BS$18:$BS$1017,$B330,'Daily Log'!$BT$18:$BT$1017),0)","v":0},{"$f":"IFERROR($E330*SUMIF('Daily Log'!$BV$18:$BV$1017,$B330,'Daily Log'!$BW$18:$BW$1017),0)","v":0},{"$f":"IFERROR($E330*SUMIF('Daily Log'!$BY$18:$BY$1017,$B330,'Daily Log'!$BZ$18:$BZ$1017),0)","v":0},{"$f":"IFERROR($E330*SUMIF('Daily Log'!$CB$18:$CB$1017,$B330,'Daily Log'!$CC$18:$CC$1017),0)","v":0},{"$f":"IFERROR($E330*SUMIF('Daily Log'!$CE$18:$CE$1017,$B330,'Daily Log'!$CF$18:$CF$1017),0)","v":0},{"$f":"IFERROR($E330*SUMIF('Daily Log'!$CH$18:$CH$1017,$B330,'Daily Log'!$CI$18:$CI$1017),0)","v":0},{"$f":"IFERROR($E330*SUMIF('Daily Log'!$CK$18:$CK$1017,$B330,'Daily Log'!$CL$18:$CL$1017),0)","v":0},{"$f":"IFERROR($E330*SUMIF('Daily Log'!$CN$18:$CN$1017,$B330,'Daily Log'!$CO$18:$CO$1017),0)","v":0}]
[null,"HB11 2019:EARL GREY",null,"SO-HOT BEVERAGES",1,1,{"$f":"IFERROR($E331*SUMIF('Daily Log'!$B$18:$B$1017,$B331,'Daily Log'!$C$18:$C$1017),0)","v":0},{"$f":"IFERROR($E331*SUMIF('Daily Log'!$E$18:$E$1017,$B331,'Daily Log'!$F$18:$F$1017),0)","v":0},{"$f":"IFERROR($E331*SUMIF('Daily Log'!$H$18:$H$1017,$B331,'Daily Log'!$I$18:$I$1017),0)","v":0},{"$f":"IFERROR($E331*SUMIF('Daily Log'!$K$18:$K$1017,$B331,'Daily Log'!$L$18:$L$1017),0)","v":0},{"$f":"IFERROR($E331*SUMIF('Daily Log'!$N$18:$N$1017,$B331,'Daily Log'!$O$18:$O$1017),0)","v":0},{"$f":"IFERROR($E331*SUMIF('Daily Log'!$Q$18:$Q$1017,$B331,'Daily Log'!$R$18:$R$1017),0)","v":0},{"$f":"IFERROR($E331*SUMIF('Daily Log'!$T$18:$T$1017,$B331,'Daily Log'!$U$18:$U$1017),0)","v":0},{"$f":"IFERROR($E331*SUMIF('Daily Log'!$W$18:$W$1017,$B331,'Daily Log'!$X$18:$X$1017),0)","v":0},{"$f":"IFERROR($E331*SUMIF('Daily Log'!$Z$18:$Z$1017,$B331,'Daily Log'!$AA$18:$AA$1017),0)","v":0},{"$f":"IFERROR($E331*SUMIF('Daily Log'!$AC$18:$AC$1017,$B331,'Daily Log'!$AD$18:$AD$1017),0)","v":0},{"$f":"IFERROR($E331*SUMIF('Daily Log'!$AF$18:$AF$1017,$B331,'Daily Log'!$AG$18:$AG$1017),0)","v":0},{"$f":"IFERROR($E331*SUMIF('Daily Log'!$AI$18:$AI$1017,$B331,'Daily Log'!$AJ$18:$AJ$1017),0)","v":0},{"$f":"IFERROR($E331*SUMIF('Daily Log'!$AL$18:$AL$1017,$B331,'Daily Log'!$AM$18:$AM$1017),0)","v":0},{"$f":"IFERROR($E331*SUMIF('Daily Log'!$AO$18:$AO$1017,$B331,'Daily Log'!$AP$18:$AP$1017),0)","v":0},{"$f":"IFERROR($E331*SUMIF('Daily Log'!$AR$18:$AR$1017,$B331,'Daily Log'!$AS$18:$AS$1017),0)","v":0},{"$f":"IFERROR($E331*SUMIF('Daily Log'!$AU$18:$AU$1017,$B331,'Daily Log'!$AV$18:$AV$1017),0)","v":0},{"$f":"IFERROR($E331*SUMIF('Daily Log'!$AX$18:$AX$1017,$B331,'Daily Log'!$AY$18:$AY$1017),0)","v":0},{"$f":"IFERROR($E331*SUMIF('Daily Log'!$BA$18:$BA$1017,$B331,'Daily Log'!$BB$18:$BB$1017),0)","v":0},{"$f":"IFERROR($E331*SUMIF('Daily Log'!$BD$18:$BD$1017,$B331,'Daily Log'!$BE$18:$BE$1017),0)","v":0},{"$f":"IFERROR($E331*SUMIF('Daily Log'!$BG$18:$BG$1017,$B331,'Daily Log'!$BH$18:$BH$1017),0)","v":0},{"$f":"IFERROR($E331*SUMIF('Daily Log'!$BJ$18:$BJ$1017,$B331,'Daily Log'!$BK$18:$BK$1017),0)","v":0},{"$f":"IFERROR($E331*SUMIF('Daily Log'!$BM$18:$BM$1017,$B331,'Daily Log'!$BN$18:$BN$1017),0)","v":0},{"$f":"IFERROR($E331*SUMIF('Daily Log'!$BP$18:$BP$1017,$B331,'Daily Log'!$BQ$18:$BQ$1017),0)","v":0},{"$f":"IFERROR($E331*SUMIF('Daily Log'!$BS$18:$BS$1017,$B331,'Daily Log'!$BT$18:$BT$1017),0)","v":0},{"$f":"IFERROR($E331*SUMIF('Daily Log'!$BV$18:$BV$1017,$B331,'Daily Log'!$BW$18:$BW$1017),0)","v":0},{"$f":"IFERROR($E331*SUMIF('Daily Log'!$BY$18:$BY$1017,$B331,'Daily Log'!$BZ$18:$BZ$1017),0)","v":0},{"$f":"IFERROR($E331*SUMIF('Daily Log'!$CB$18:$CB$1017,$B331,'Daily Log'!$CC$18:$CC$1017),0)","v":0},{"$f":"IFERROR($E331*SUMIF('Daily Log'!$CE$18:$CE$1017,$B331,'Daily Log'!$CF$18:$CF$1017),0)","v":1},{"$f":"IFERROR($E331*SUMIF('Daily Log'!$CH$18:$CH$1017,$B331,'Daily Log'!$CI$18:$CI$1017),0)","v":0},{"$f":"IFERROR($E331*SUMIF('Daily Log'!$CK$18:$CK$1017,$B331,'Daily Log'!$CL$18:$CL$1017),0)","v":0},{"$f":"IFERROR($E331*SUMIF('Daily Log'!$CN$18:$CN$1017,$B331,'Daily Log'!$CO$18:$CO$1017),0)","v":0}]
[null,"HB12 2020:CAPPU(H)",null,"SO-HOT BEVERAGES",1,0,{"$f":"IFERROR($E332*SUMIF('Daily Log'!$B$18:$B$1017,$B332,'Daily Log'!$C$18:$C$1017),0)","v":0},{"$f":"IFERROR($E332*SUMIF('Daily Log'!$E$18:$E$1017,$B332,'Daily Log'!$F$18:$F$1017),0)","v":0},{"$f":"IFERROR($E332*SUMIF('Daily Log'!$H$18:$H$1017,$B332,'Daily Log'!$I$18:$I$1017),0)","v":0},{"$f":"IFERROR($E332*SUMIF('Daily Log'!$K$18:$K$1017,$B332,'Daily Log'!$L$18:$L$1017),0)","v":0},{"$f":"IFERROR($E332*SUMIF('Daily Log'!$N$18:$N$1017,$B332,'Daily Log'!$O$18:$O$1017),0)","v":0},{"$f":"IFERROR($E332*SUMIF('Daily Log'!$Q$18:$Q$1017,$B332,'Daily Log'!$R$18:$R$1017),0)","v":0},{"$f":"IFERROR($E332*SUMIF('Daily Log'!$T$18:$T$1017,$B332,'Daily Log'!$U$18:$U$1017),0)","v":0},{"$f":"IFERROR($E332*SUMIF('Daily Log'!$W$18:$W$1017,$B332,'Daily Log'!$X$18:$X$1017),0)","v":0},{"$f":"IFERROR($E332*SUMIF('Daily Log'!$Z$18:$Z$1017,$B332,'Daily Log'!$AA$18:$AA$1017),0)","v":0},{"$f":"IFERROR($E332*SUMIF('Daily Log'!$AC$18:$AC$1017,$B332,'Daily Log'!$AD$18:$AD$1017),0)","v":0},{"$f":"IFERROR($E332*SUMIF('Daily Log'!$AF$18:$AF$1017,$B332,'Daily Log'!$AG$18:$AG$1017),0)","v":0},{"$f":"IFERROR($E332*SUMIF('Daily Log'!$AI$18:$AI$1017,$B332,'Daily Log'!$AJ$18:$AJ$1017),0)","v":0},{"$f":"IFERROR($E332*SUMIF('Daily Log'!$AL$18:$AL$1017,$B332,'Daily Log'!$AM$18:$AM$1017),0)","v":0},{"$f":"IFERROR($E332*SUMIF('Daily Log'!$AO$18:$AO$1017,$B332,'Daily Log'!$AP$18:$AP$1017),0)","v":0},{"$f":"IFERROR($E332*SUMIF('Daily Log'!$AR$18:$AR$1017,$B332,'Daily Log'!$AS$18:$AS$1017),0)","v":0},{"$f":"IFERROR($E332*SUMIF('Daily Log'!$AU$18:$AU$1017,$B332,'Daily Log'!$AV$18:$AV$1017),0)","v":0},{"$f":"IFERROR($E332*SUMIF('Daily Log'!$AX$18:$AX$1017,$B332,'Daily Log'!$AY$18:$AY$1017),0)","v":0},{"$f":"IFERROR($E332*SUMIF('Daily Log'!$BA$18:$BA$1017,$B332,'Daily Log'!$BB$18:$BB$1017),0)","v":0},{"$f":"IFERROR($E332*SUMIF('Daily Log'!$BD$18:$BD$1017,$B332,'Daily Log'!$BE$18:$BE$1017),0)","v":0},{"$f":"IFERROR($E332*SUMIF('Daily Log'!$BG$18:$BG$1017,$B332,'Daily Log'!$BH$18:$BH$1017),0)","v":0},{"$f":"IFERROR($E332*SUMIF('Daily Log'!$BJ$18:$BJ$1017,$B332,'Daily Log'!$BK$18:$BK$1017),0)","v":0},{"$f":"IFERROR($E332*SUMIF('Daily Log'!$BM$18:$BM$1017,$B332,'Daily Log'!$BN$18:$BN$1017),0)","v":0},{"$f":"IFERROR($E332*SUMIF('Daily Log'!$BP$18:$BP$1017,$B332,'Daily Log'!$BQ$18:$BQ$1017),0)","v":0},{"$f":"IFERROR($E332*SUMIF('Daily Log'!$BS$18:$BS$1017,$B332,'Daily Log'!$BT$18:$BT$1017),0)","v":0},{"$f":"IFERROR($E332*SUMIF('Daily Log'!$BV$18:$BV$1017,$B332,'Daily Log'!$BW$18:$BW$1017),0)","v":0},{"$f":"IFERROR($E332*SUMIF('Daily Log'!$BY$18:$BY$1017,$B332,'Daily Log'!$BZ$18:$BZ$1017),0)","v":0},{"$f":"IFERROR($E332*SUMIF('Daily Log'!$CB$18:$CB$1017,$B332,'Daily Log'!$CC$18:$CC$1017),0)","v":0},{"$f":"IFERROR($E332*SUMIF('Daily Log'!$CE$18:$CE$1017,$B332,'Daily Log'!$CF$18:$CF$1017),0)","v":0},{"$f":"IFERROR($E332*SUMIF('Daily Log'!$CH$18:$CH$1017,$B332,'Daily Log'!$CI$18:$CI$1017),0)","v":0},{"$f":"IFERROR($E332*SUMIF('Daily Log'!$CK$18:$CK$1017,$B332,'Daily Log'!$CL$18:$CL$1017),0)","v":0},{"$f":"IFERROR($E332*SUMIF('Daily Log'!$CN$18:$CN$1017,$B332,'Daily Log'!$CO$18:$CO$1017),0)","v":0}]
[null,"HB13 2021:CHOCO(H)",null,"SO-HOT BEVERAGES",1,1,{"$f":"IFERROR($E333*SUMIF('Daily Log'!$B$18:$B$1017,$B333,'Daily Log'!$C$18:$C$1017),0)","v":0},{"$f":"IFERROR($E333*SUMIF('Daily Log'!$E$18:$E$1017,$B333,'Daily Log'!$F$18:$F$1017),0)","v":0},{"$f":"IFERROR($E333*SUMIF('Daily Log'!$H$18:$H$1017,$B333,'Daily Log'!$I$18:$I$1017),0)","v":0},{"$f":"IFERROR($E333*SUMIF('Daily Log'!$K$18:$K$1017,$B333,'Daily Log'!$L$18:$L$1017),0)","v":0},{"$f":"IFERROR($E333*SUMIF('Daily Log'!$N$18:$N$1017,$B333,'Daily Log'!$O$18:$O$1017),0)","v":0},{"$f":"IFERROR($E333*SUMIF('Daily Log'!$Q$18:$Q$1017,$B333,'Daily Log'!$R$18:$R$1017),0)","v":0},{"$f":"IFERROR($E333*SUMIF('Daily Log'!$T$18:$T$1017,$B333,'Daily Log'!$U$18:$U$1017),0)","v":0},{"$f":"IFERROR($E333*SUMIF('Daily Log'!$W$18:$W$1017,$B333,'Daily Log'!$X$18:$X$1017),0)","v":0},{"$f":"IFERROR($E333*SUMIF('Daily Log'!$Z$18:$Z$1017,$B333,'Daily Log'!$AA$18:$AA$1017),0)","v":0},{"$f":"IFERROR($E333*SUMIF('Daily Log'!$AC$18:$AC$1017,$B333,'Daily Log'!$AD$18:$AD$1017),0)","v":0},{"$f":"IFERROR($E333*SUMIF('Daily Log'!$AF$18:$AF$1017,$B333,'Daily Log'!$AG$18:$AG$1017),0)","v":0},{"$f":"IFERROR($E333*SUMIF('Daily Log'!$AI$18:$AI$1017,$B333,'Daily Log'!$AJ$18:$AJ$1017),0)","v":0},{"$f":"IFERROR($E333*SUMIF('Daily Log'!$AL$18:$AL$1017,$B333,'Daily Log'!$AM$18:$AM$1017),0)","v":0},{"$f":"IFERROR($E333*SUMIF('Daily Log'!$AO$18:$AO$1017,$B333,'Daily Log'!$AP$18:$AP$1017),0)","v":0},{"$f":"IFERROR($E333*SUMIF('Daily Log'!$AR$18:$AR$1017,$B333,'Daily Log'!$AS$18:$AS$1017),0)","v":0},{"$f":"IFERROR($E333*SUMIF('Daily Log'!$AU$18:$AU$1017,$B333,'Daily Log'!$AV$18:$AV$1017),0)","v":0},{"$f":"IFERROR($E333*SUMIF('Daily Log'!$AX$18:$AX$1017,$B333,'Daily Log'!$AY$18:$AY$1017),0)","v":0},{"$f":"IFERROR($E333*SUMIF('Daily Log'!$BA$18:$BA$1017,$B333,'Daily Log'!$BB$18:$BB$1017),0)","v":0},{"$f":"IFERROR($E333*SUMIF('Daily Log'!$BD$18:$BD$1017,$B333,'Daily Log'!$BE$18:$BE$1017),0)","v":0},{"$f":"IFERROR($E333*SUMIF('Daily Log'!$BG$18:$BG$1017,$B333,'Daily Log'!$BH$18:$BH$1017),0)","v":0},{"$f":"IFERROR($E333*SUMIF('Daily Log'!$BJ$18:$BJ$1017,$B333,'Daily Log'!$BK$18:$BK$1017),0)","v":0},{"$f":"IFERROR($E333*SUMIF('Daily Log'!$BM$18:$BM$1017,$B333,'Daily Log'!$BN$18:$BN$1017),0)","v":0},{"$f":"IFERROR($E333*SUMIF('Daily Log'!$BP$18:$BP$1017,$B333,'Daily Log'!$BQ$18:$BQ$1017),0)","v":0},{"$f":"IFERROR($E333*SUMIF('Daily Log'!$BS$18:$BS$1017,$B333,'Daily Log'!$BT$18:$BT$1017),0)","v":0},{"$f":"IFERROR($E333*SUMIF('Daily Log'!$BV$18:$BV$1017,$B333,'Daily Log'!$BW$18:$BW$1017),0)","v":0},{"$f":"IFERROR($E333*SUMIF('Daily Log'!$BY$18:$BY$1017,$B333,'Daily Log'!$BZ$18:$BZ$1017),0)","v":0},{"$f":"IFERROR($E333*SUMIF('Daily Log'!$CB$18:$CB$1017,$B333,'Daily Log'!$CC$18:$CC$1017),0)","v":0},{"$f":"IFERROR($E333*SUMIF('Daily Log'!$CE$18:$CE$1017,$B333,'Daily Log'!$CF$18:$CF$1017),0)","v":1},{"$f":"IFERROR($E333*SUMIF('Daily Log'!$CH$18:$CH$1017,$B333,'Daily Log'!$CI$18:$CI$1017),0)","v":0},{"$f":"IFERROR($E333*SUMIF('Daily Log'!$CK$18:$CK$1017,$B333,'Daily Log'!$CL$18:$CL$1017),0)","v":0},{"$f":"IFERROR($E333*SUMIF('Daily Log'!$CN$18:$CN$1017,$B333,'Daily Log'!$CO$18:$CO$1017),0)","v":0}]
[null,"HB14 2022:MOCHA(H)",null,"SO-HOT BEVERAGES",1,0,{"$f":"IFERROR($E334*SUMIF('Daily Log'!$B$18:$B$1017,$B334,'Daily Log'!$C$18:$C$1017),0)","v":0},{"$f":"IFERROR($E334*SUMIF('Daily Log'!$E$18:$E$1017,$B334,'Daily Log'!$F$18:$F$1017),0)","v":0},{"$f":"IFERROR($E334*SUMIF('Daily Log'!$H$18:$H$1017,$B334,'Daily Log'!$I$18:$I$1017),0)","v":0},{"$f":"IFERROR($E334*SUMIF('Daily Log'!$K$18:$K$1017,$B334,'Daily Log'!$L$18:$L$1017),0)","v":0},{"$f":"IFERROR($E334*SUMIF('Daily Log'!$N$18:$N$1017,$B334,'Daily Log'!$O$18:$O$1017),0)","v":0},{"$f":"IFERROR($E334*SUMIF('Daily Log'!$Q$18:$Q$1017,$B334,'Daily Log'!$R$18:$R$1017),0)","v":0},{"$f":"IFERROR($E334*SUMIF('Daily Log'!$T$18:$T$1017,$B334,'Daily Log'!$U$18:$U$1017),0)","v":0},{"$f":"IFERROR($E334*SUMIF('Daily Log'!$W$18:$W$1017,$B334,'Daily Log'!$X$18:$X$1017),0)","v":0},{"$f":"IFERROR($E334*SUMIF('Daily Log'!$Z$18:$Z$1017,$B334,'Daily Log'!$AA$18:$AA$1017),0)","v":0},{"$f":"IFERROR($E334*SUMIF('Daily Log'!$AC$18:$AC$1017,$B334,'Daily Log'!$AD$18:$AD$1017),0)","v":0},{"$f":"IFERROR($E334*SUMIF('Daily Log'!$AF$18:$AF$1017,$B334,'Daily Log'!$AG$18:$AG$1017),0)","v":0},{"$f":"IFERROR($E334*SUMIF('Daily Log'!$AI$18:$AI$1017,$B334,'Daily Log'!$AJ$18:$AJ$1017),0)","v":0},{"$f":"IFERROR($E334*SUMIF('Daily Log'!$AL$18:$AL$1017,$B334,'Daily Log'!$AM$18:$AM$1017),0)","v":0},{"$f":"IFERROR($E334*SUMIF('Daily Log'!$AO$18:$AO$1017,$B334,'Daily Log'!$AP$18:$AP$1017),0)","v":0},{"$f":"IFERROR($E334*SUMIF('Daily Log'!$AR$18:$AR$1017,$B334,'Daily Log'!$AS$18:$AS$1017),0)","v":0},{"$f":"IFERROR($E334*SUMIF('Daily Log'!$AU$18:$AU$1017,$B334,'Daily Log'!$AV$18:$AV$1017),0)","v":0},{"$f":"IFERROR($E334*SUMIF('Daily Log'!$AX$18:$AX$1017,$B334,'Daily Log'!$AY$18:$AY$1017),0)","v":0},{"$f":"IFERROR($E334*SUMIF('Daily Log'!$BA$18:$BA$1017,$B334,'Daily Log'!$BB$18:$BB$1017),0)","v":0},{"$f":"IFERROR($E334*SUMIF('Daily Log'!$BD$18:$BD$1017,$B334,'Daily Log'!$BE$18:$BE$1017),0)","v":0},{"$f":"IFERROR($E334*SUMIF('Daily Log'!$BG$18:$BG$1017,$B334,'Daily Log'!$BH$18:$BH$1017),0)","v":0},{"$f":"IFERROR($E334*SUMIF('Daily Log'!$BJ$18:$BJ$1017,$B334,'Daily Log'!$BK$18:$BK$1017),0)","v":0},{"$f":"IFERROR($E334*SUMIF('Daily Log'!$BM$18:$BM$1017,$B334,'Daily Log'!$BN$18:$BN$1017),0)","v":0},{"$f":"IFERROR($E334*SUMIF('Daily Log'!$BP$18:$BP$1017,$B334,'Daily Log'!$BQ$18:$BQ$1017),0)","v":0},{"$f":"IFERROR($E334*SUMIF('Daily Log'!$BS$18:$BS$1017,$B334,'Daily Log'!$BT$18:$BT$1017),0)","v":0},{"$f":"IFERROR($E334*SUMIF('Daily Log'!$BV$18:$BV$1017,$B334,'Daily Log'!$BW$18:$BW$1017),0)","v":0},{"$f":"IFERROR($E334*SUMIF('Daily Log'!$BY$18:$BY$1017,$B334,'Daily Log'!$BZ$18:$BZ$1017),0)","v":0},{"$f":"IFERROR($E334*SUMIF('Daily Log'!$CB$18:$CB$1017,$B334,'Daily Log'!$CC$18:$CC$1017),0)","v":0},{"$f":"IFERROR($E334*SUMIF('Daily Log'!$CE$18:$CE$1017,$B334,'Daily Log'!$CF$18:$CF$1017),0)","v":0},{"$f":"IFERROR($E334*SUMIF('Daily Log'!$CH$18:$CH$1017,$B334,'Daily Log'!$CI$18:$CI$1017),0)","v":0},{"$f":"IFERROR($E334*SUMIF('Daily Log'!$CK$18:$CK$1017,$B334,'Daily Log'!$CL$18:$CL$1017),0)","v":0},{"$f":"IFERROR($E334*SUMIF('Daily Log'!$CN$18:$CN$1017,$B334,'Daily Log'!$CO$18:$CO$1017),0)","v":0}]
[null,"HF01 92002:MILO(H)",null,"FFDRINKS-HOT",1,753,{"$f":"IFERROR($E335*SUMIF('Daily Log'!$B$18:$B$1017,$B335,'Daily Log'!$C$18:$C$1017),0)","v":0},{"$f":"IFERROR($E335*SUMIF('Daily Log'!$E$18:$E$1017,$B335,'Daily Log'!$F$18:$F$1017),0)","v":0},{"$f":"IFERROR($E335*SUMIF('Daily Log'!$H$18:$H$1017,$B335,'Daily Log'!$I$18:$I$1017),0)","v":0},{"$f":"IFERROR($E335*SUMIF('Daily Log'!$K$18:$K$1017,$B335,'Daily Log'!$L$18:$L$1017),0)","v":0},{"$f":"IFERROR($E335*SUMIF('Daily Log'!$N$18:$N$1017,$B335,'Daily Log'!$O$18:$O$1017),0)","v":0},{"$f":"IFERROR($E335*SUMIF('Daily Log'!$Q$18:$Q$1017,$B335,'Daily Log'!$R$18:$R$1017),0)","v":0},{"$f":"IFERROR($E335*SUMIF('Daily Log'!$T$18:$T$1017,$B335,'Daily Log'!$U$18:$U$1017),0)","v":0},{"$f":"IFERROR($E335*SUMIF('Daily Log'!$W$18:$W$1017,$B335,'Daily Log'!$X$18:$X$1017),0)","v":0},{"$f":"IFERROR($E335*SUMIF('Daily Log'!$Z$18:$Z$1017,$B335,'Daily Log'!$AA$18:$AA$1017),0)","v":0},{"$f":"IFERROR($E335*SUMIF('Daily Log'!$AC$18:$AC$1017,$B335,'Daily Log'!$AD$18:$AD$1017),0)","v":0},{"$f":"IFERROR($E335*SUMIF('Daily Log'!$AF$18:$AF$1017,$B335,'Daily Log'!$AG$18:$AG$1017),0)","v":0},{"$f":"IFERROR($E335*SUMIF('Daily Log'!$AI$18:$AI$1017,$B335,'Daily Log'!$AJ$18:$AJ$1017),0)","v":0},{"$f":"IFERROR($E335*SUMIF('Daily Log'!$AL$18:$AL$1017,$B335,'Daily Log'!$AM$18:$AM$1017),0)","v":0},{"$f":"IFERROR($E335*SUMIF('Daily Log'!$AO$18:$AO$1017,$B335,'Daily Log'!$AP$18:$AP$1017),0)","v":0},{"$f":"IFERROR($E335*SUMIF('Daily Log'!$AR$18:$AR$1017,$B335,'Daily Log'!$AS$18:$AS$1017),0)","v":0},{"$f":"IFERROR($E335*SUMIF('Daily Log'!$AU$18:$AU$1017,$B335,'Daily Log'!$AV$18:$AV$1017),0)","v":0},{"$f":"IFERROR($E335*SUMIF('Daily Log'!$AX$18:$AX$1017,$B335,'Daily Log'!$AY$18:$AY$1017),0)","v":0},{"$f":"IFERROR($E335*SUMIF('Daily Log'!$BA$18:$BA$1017,$B335,'Daily Log'!$BB$18:$BB$1017),0)","v":0},{"$f":"IFERROR($E335*SUMIF('Daily Log'!$BD$18:$BD$1017,$B335,'Daily Log'!$BE$18:$BE$1017),0)","v":0},{"$f":"IFERROR($E335*SUMIF('Daily Log'!$BG$18:$BG$1017,$B335,'Daily Log'!$BH$18:$BH$1017),0)","v":0},{"$f":"IFERROR($E335*SUMIF('Daily Log'!$BJ$18:$BJ$1017,$B335,'Daily Log'!$BK$18:$BK$1017),0)","v":0},{"$f":"IFERROR($E335*SUMIF('Daily Log'!$BM$18:$BM$1017,$B335,'Daily Log'!$BN$18:$BN$1017),0)","v":0},{"$f":"IFERROR($E335*SUMIF('Daily Log'!$BP$18:$BP$1017,$B335,'Daily Log'!$BQ$18:$BQ$1017),0)","v":0},{"$f":"IFERROR($E335*SUMIF('Daily Log'!$BS$18:$BS$1017,$B335,'Daily Log'!$BT$18:$BT$1017),0)","v":0},{"$f":"IFERROR($E335*SUMIF('Daily Log'!$BV$18:$BV$1017,$B335,'Daily Log'!$BW$18:$BW$1017),0)","v":0},{"$f":"IFERROR($E335*SUMIF('Daily Log'!$BY$18:$BY$1017,$B335,'Daily Log'!$BZ$18:$BZ$1017),0)","v":0},{"$f":"IFERROR($E335*SUMIF('Daily Log'!$CB$18:$CB$1017,$B335,'Daily Log'!$CC$18:$CC$1017),0)","v":0},{"$f":"IFERROR($E335*SUMIF('Daily Log'!$CE$18:$CE$1017,$B335,'Daily Log'!$CF$18:$CF$1017),0)","v":753},{"$f":"IFERROR($E335*SUMIF('Daily Log'!$CH$18:$CH$1017,$B335,'Daily Log'!$CI$18:$CI$1017),0)","v":0},{"$f":"IFERROR($E335*SUMIF('Daily Log'!$CK$18:$CK$1017,$B335,'Daily Log'!$CL$18:$CL$1017),0)","v":0},{"$f":"IFERROR($E335*SUMIF('Daily Log'!$CN$18:$CN$1017,$B335,'Daily Log'!$CO$18:$CO$1017),0)","v":0}]
[null,"HF02 92004:NESCAFE(H)",null,"FFDRINKS-HOT",1,230,{"$f":"IFERROR($E336*SUMIF('Daily Log'!$B$18:$B$1017,$B336,'Daily Log'!$C$18:$C$1017),0)","v":0},{"$f":"IFERROR($E336*SUMIF('Daily Log'!$E$18:$E$1017,$B336,'Daily Log'!$F$18:$F$1017),0)","v":0},{"$f":"IFERROR($E336*SUMIF('Daily Log'!$H$18:$H$1017,$B336,'Daily Log'!$I$18:$I$1017),0)","v":0},{"$f":"IFERROR($E336*SUMIF('Daily Log'!$K$18:$K$1017,$B336,'Daily Log'!$L$18:$L$1017),0)","v":0},{"$f":"IFERROR($E336*SUMIF('Daily Log'!$N$18:$N$1017,$B336,'Daily Log'!$O$18:$O$1017),0)","v":0},{"$f":"IFERROR($E336*SUMIF('Daily Log'!$Q$18:$Q$1017,$B336,'Daily Log'!$R$18:$R$1017),0)","v":0},{"$f":"IFERROR($E336*SUMIF('Daily Log'!$T$18:$T$1017,$B336,'Daily Log'!$U$18:$U$1017),0)","v":0},{"$f":"IFERROR($E336*SUMIF('Daily Log'!$W$18:$W$1017,$B336,'Daily Log'!$X$18:$X$1017),0)","v":0},{"$f":"IFERROR($E336*SUMIF('Daily Log'!$Z$18:$Z$1017,$B336,'Daily Log'!$AA$18:$AA$1017),0)","v":0},{"$f":"IFERROR($E336*SUMIF('Daily Log'!$AC$18:$AC$1017,$B336,'Daily Log'!$AD$18:$AD$1017),0)","v":0},{"$f":"IFERROR($E336*SUMIF('Daily Log'!$AF$18:$AF$1017,$B336,'Daily Log'!$AG$18:$AG$1017),0)","v":0},{"$f":"IFERROR($E336*SUMIF('Daily Log'!$AI$18:$AI$1017,$B336,'Daily Log'!$AJ$18:$AJ$1017),0)","v":0},{"$f":"IFERROR($E336*SUMIF('Daily Log'!$AL$18:$AL$1017,$B336,'Daily Log'!$AM$18:$AM$1017),0)","v":0},{"$f":"IFERROR($E336*SUMIF('Daily Log'!$AO$18:$AO$1017,$B336,'Daily Log'!$AP$18:$AP$1017),0)","v":0},{"$f":"IFERROR($E336*SUMIF('Daily Log'!$AR$18:$AR$1017,$B336,'Daily Log'!$AS$18:$AS$1017),0)","v":0},{"$f":"IFERROR($E336*SUMIF('Daily Log'!$AU$18:$AU$1017,$B336,'Daily Log'!$AV$18:$AV$1017),0)","v":0},{"$f":"IFERROR($E336*SUMIF('Daily Log'!$AX$18:$AX$1017,$B336,'Daily Log'!$AY$18:$AY$1017),0)","v":0},{"$f":"IFERROR($E336*SUMIF('Daily Log'!$BA$18:$BA$1017,$B336,'Daily Log'!$BB$18:$BB$1017),0)","v":0},{"$f":"IFERROR($E336*SUMIF('Daily Log'!$BD$18:$BD$1017,$B336,'Daily Log'!$BE$18:$BE$1017),0)","v":0},{"$f":"IFERROR($E336*SUMIF('Daily Log'!$BG$18:$BG$1017,$B336,'Daily Log'!$BH$18:$BH$1017),0)","v":0},{"$f":"IFERROR($E336*SUMIF('Daily Log'!$BJ$18:$BJ$1017,$B336,'Daily Log'!$BK$18:$BK$1017),0)","v":0},{"$f":"IFERROR($E336*SUMIF('Daily Log'!$BM$18:$BM$1017,$B336,'Daily Log'!$BN$18:$BN$1017),0)","v":0},{"$f":"IFERROR($E336*SUMIF('Daily Log'!$BP$18:$BP$1017,$B336,'Daily Log'!$BQ$18:$BQ$1017),0)","v":0},{"$f":"IFERROR($E336*SUMIF('Daily Log'!$BS$18:$BS$1017,$B336,'Daily Log'!$BT$18:$BT$1017),0)","v":0},{"$f":"IFERROR($E336*SUMIF('Daily Log'!$BV$18:$BV$1017,$B336,'Daily Log'!$BW$18:$BW$1017),0)","v":0},{"$f":"IFERROR($E336*SUMIF('Daily Log'!$BY$18:$BY$1017,$B336,'Daily Log'!$BZ$18:$BZ$1017),0)","v":0},{"$f":"IFERROR($E336*SUMIF('Daily Log'!$CB$18:$CB$1017,$B336,'Daily Log'!$CC$18:$CC$1017),0)","v":0},{"$f":"IFERROR($E336*SUMIF('Daily Log'!$CE$18:$CE$1017,$B336,'Daily Log'!$CF$18:$CF$1017),0)","v":230},{"$f":"IFERROR($E336*SUMIF('Daily Log'!$CH$18:$CH$1017,$B336,'Daily Log'!$CI$18:$CI$1017),0)","v":0},{"$f":"IFERROR($E336*SUMIF('Daily Log'!$CK$18:$CK$1017,$B336,'Daily Log'!$CL$18:$CL$1017),0)","v":0},{"$f":"IFERROR($E336*SUMIF('Daily Log'!$CN$18:$CN$1017,$B336,'Daily Log'!$CO$18:$CO$1017),0)","v":0}]
[null,"HF03 92006:TEA(H)",null,"FFDRINKS-HOT",1,77,{"$f":"IFERROR($E337*SUMIF('Daily Log'!$B$18:$B$1017,$B337,'Daily Log'!$C$18:$C$1017),0)","v":0},{"$f":"IFERROR($E337*SUMIF('Daily Log'!$E$18:$E$1017,$B337,'Daily Log'!$F$18:$F$1017),0)","v":0},{"$f":"IFERROR($E337*SUMIF('Daily Log'!$H$18:$H$1017,$B337,'Daily Log'!$I$18:$I$1017),0)","v":0},{"$f":"IFERROR($E337*SUMIF('Daily Log'!$K$18:$K$1017,$B337,'Daily Log'!$L$18:$L$1017),0)","v":0},{"$f":"IFERROR($E337*SUMIF('Daily Log'!$N$18:$N$1017,$B337,'Daily Log'!$O$18:$O$1017),0)","v":0},{"$f":"IFERROR($E337*SUMIF('Daily Log'!$Q$18:$Q$1017,$B337,'Daily Log'!$R$18:$R$1017),0)","v":0},{"$f":"IFERROR($E337*SUMIF('Daily Log'!$T$18:$T$1017,$B337,'Daily Log'!$U$18:$U$1017),0)","v":0},{"$f":"IFERROR($E337*SUMIF('Daily Log'!$W$18:$W$1017,$B337,'Daily Log'!$X$18:$X$1017),0)","v":0},{"$f":"IFERROR($E337*SUMIF('Daily Log'!$Z$18:$Z$1017,$B337,'Daily Log'!$AA$18:$AA$1017),0)","v":0},{"$f":"IFERROR($E337*SUMIF('Daily Log'!$AC$18:$AC$1017,$B337,'Daily Log'!$AD$18:$AD$1017),0)","v":0},{"$f":"IFERROR($E337*SUMIF('Daily Log'!$AF$18:$AF$1017,$B337,'Daily Log'!$AG$18:$AG$1017),0)","v":0},{"$f":"IFERROR($E337*SUMIF('Daily Log'!$AI$18:$AI$1017,$B337,'Daily Log'!$AJ$18:$AJ$1017),0)","v":0},{"$f":"IFERROR($E337*SUMIF('Daily Log'!$AL$18:$AL$1017,$B337,'Daily Log'!$AM$18:$AM$1017),0)","v":0},{"$f":"IFERROR($E337*SUMIF('Daily Log'!$AO$18:$AO$1017,$B337,'Daily Log'!$AP$18:$AP$1017),0)","v":0},{"$f":"IFERROR($E337*SUMIF('Daily Log'!$AR$18:$AR$1017,$B337,'Daily Log'!$AS$18:$AS$1017),0)","v":0},{"$f":"IFERROR($E337*SUMIF('Daily Log'!$AU$18:$AU$1017,$B337,'Daily Log'!$AV$18:$AV$1017),0)","v":0},{"$f":"IFERROR($E337*SUMIF('Daily Log'!$AX$18:$AX$1017,$B337,'Daily Log'!$AY$18:$AY$1017),0)","v":0},{"$f":"IFERROR($E337*SUMIF('Daily Log'!$BA$18:$BA$1017,$B337,'Daily Log'!$BB$18:$BB$1017),0)","v":0},{"$f":"IFERROR($E337*SUMIF('Daily Log'!$BD$18:$BD$1017,$B337,'Daily Log'!$BE$18:$BE$1017),0)","v":0},{"$f":"IFERROR($E337*SUMIF('Daily Log'!$BG$18:$BG$1017,$B337,'Daily Log'!$BH$18:$BH$1017),0)","v":0},{"$f":"IFERROR($E337*SUMIF('Daily Log'!$BJ$18:$BJ$1017,$B337,'Daily Log'!$BK$18:$BK$1017),0)","v":0},{"$f":"IFERROR($E337*SUMIF('Daily Log'!$BM$18:$BM$1017,$B337,'Daily Log'!$BN$18:$BN$1017),0)","v":0},{"$f":"IFERROR($E337*SUMIF('Daily Log'!$BP$18:$BP$1017,$B337,'Daily Log'!$BQ$18:$BQ$1017),0)","v":0},{"$f":"IFERROR($E337*SUMIF('Daily Log'!$BS$18:$BS$1017,$B337,'Daily Log'!$BT$18:$BT$1017),0)","v":0},{"$f":"IFERROR($E337*SUMIF('Daily Log'!$BV$18:$BV$1017,$B337,'Daily Log'!$BW$18:$BW$1017),0)","v":0},{"$f":"IFERROR($E337*SUMIF('Daily Log'!$BY$18:$BY$1017,$B337,'Daily Log'!$BZ$18:$BZ$1017),0)","v":0},{"$f":"IFERROR($E337*SUMIF('Daily Log'!$CB$18:$CB$1017,$B337,'Daily Log'!$CC$18:$CC$1017),0)","v":0},{"$f":"IFERROR($E337*SUMIF('Daily Log'!$CE$18:$CE$1017,$B337,'Daily Log'!$CF$18:$CF$1017),0)","v":77},{"$f":"IFERROR($E337*SUMIF('Daily Log'!$CH$18:$CH$1017,$B337,'Daily Log'!$CI$18:$CI$1017),0)","v":0},{"$f":"IFERROR($E337*SUMIF('Daily Log'!$CK$18:$CK$1017,$B337,'Daily Log'!$CL$18:$CL$1017),0)","v":0},{"$f":"IFERROR($E337*SUMIF('Daily Log'!$CN$18:$CN$1017,$B337,'Daily Log'!$CO$18:$CO$1017),0)","v":0}]
[null,"HF04 92008:LMN TEA(H)",null,"FFDRINKS-HOT",1,281,{"$f":"IFERROR($E338*SUMIF('Daily Log'!$B$18:$B$1017,$B338,'Daily Log'!$C$18:$C$1017),0)","v":0},{"$f":"IFERROR($E338*SUMIF('Daily Log'!$E$18:$E$1017,$B338,'Daily Log'!$F$18:$F$1017),0)","v":0},{"$f":"IFERROR($E338*SUMIF('Daily Log'!$H$18:$H$1017,$B338,'Daily Log'!$I$18:$I$1017),0)","v":0},{"$f":"IFERROR($E338*SUMIF('Daily Log'!$K$18:$K$1017,$B338,'Daily Log'!$L$18:$L$1017),0)","v":0},{"$f":"IFERROR($E338*SUMIF('Daily Log'!$N$18:$N$1017,$B338,'Daily Log'!$O$18:$O$1017),0)","v":0},{"$f":"IFERROR($E338*SUMIF('Daily Log'!$Q$18:$Q$1017,$B338,'Daily Log'!$R$18:$R$1017),0)","v":0},{"$f":"IFERROR($E338*SUMIF('Daily Log'!$T$18:$T$1017,$B338,'Daily Log'!$U$18:$U$1017),0)","v":0},{"$f":"IFERROR($E338*SUMIF('Daily Log'!$W$18:$W$1017,$B338,'Daily Log'!$X$18:$X$1017),0)","v":0},{"$f":"IFERROR($E338*SUMIF('Daily Log'!$Z$18:$Z$1017,$B338,'Daily Log'!$AA$18:$AA$1017),0)","v":0},{"$f":"IFERROR($E338*SUMIF('Daily Log'!$AC$18:$AC$1017,$B338,'Daily Log'!$AD$18:$AD$1017),0)","v":0},{"$f":"IFERROR($E338*SUMIF('Daily Log'!$AF$18:$AF$1017,$B338,'Daily Log'!$AG$18:$AG$1017),0)","v":0},{"$f":"IFERROR($E338*SUMIF('Daily Log'!$AI$18:$AI$1017,$B338,'Daily Log'!$AJ$18:$AJ$1017),0)","v":0},{"$f":"IFERROR($E338*SUMIF('Daily Log'!$AL$18:$AL$1017,$B338,'Daily Log'!$AM$18:$AM$1017),0)","v":0},{"$f":"IFERROR($E338*SUMIF('Daily Log'!$AO$18:$AO$1017,$B338,'Daily Log'!$AP$18:$AP$1017),0)","v":0},{"$f":"IFERROR($E338*SUMIF('Daily Log'!$AR$18:$AR$1017,$B338,'Daily Log'!$AS$18:$AS$1017),0)","v":0},{"$f":"IFERROR($E338*SUMIF('Daily Log'!$AU$18:$AU$1017,$B338,'Daily Log'!$AV$18:$AV$1017),0)","v":0},{"$f":"IFERROR($E338*SUMIF('Daily Log'!$AX$18:$AX$1017,$B338,'Daily Log'!$AY$18:$AY$1017),0)","v":0},{"$f":"IFERROR($E338*SUMIF('Daily Log'!$BA$18:$BA$1017,$B338,'Daily Log'!$BB$18:$BB$1017),0)","v":0},{"$f":"IFERROR($E338*SUMIF('Daily Log'!$BD$18:$BD$1017,$B338,'Daily Log'!$BE$18:$BE$1017),0)","v":0},{"$f":"IFERROR($E338*SUMIF('Daily Log'!$BG$18:$BG$1017,$B338,'Daily Log'!$BH$18:$BH$1017),0)","v":0},{"$f":"IFERROR($E338*SUMIF('Daily Log'!$BJ$18:$BJ$1017,$B338,'Daily Log'!$BK$18:$BK$1017),0)","v":0},{"$f":"IFERROR($E338*SUMIF('Daily Log'!$BM$18:$BM$1017,$B338,'Daily Log'!$BN$18:$BN$1017),0)","v":0},{"$f":"IFERROR($E338*SUMIF('Daily Log'!$BP$18:$BP$1017,$B338,'Daily Log'!$BQ$18:$BQ$1017),0)","v":0},{"$f":"IFERROR($E338*SUMIF('Daily Log'!$BS$18:$BS$1017,$B338,'Daily Log'!$BT$18:$BT$1017),0)","v":0},{"$f":"IFERROR($E338*SUMIF('Daily Log'!$BV$18:$BV$1017,$B338,'Daily Log'!$BW$18:$BW$1017),0)","v":0},{"$f":"IFERROR($E338*SUMIF('Daily Log'!$BY$18:$BY$1017,$B338,'Daily Log'!$BZ$18:$BZ$1017),0)","v":0},{"$f":"IFERROR($E338*SUMIF('Daily Log'!$CB$18:$CB$1017,$B338,'Daily Log'!$CC$18:$CC$1017),0)","v":0},{"$f":"IFERROR($E338*SUMIF('Daily Log'!$CE$18:$CE$1017,$B338,'Daily Log'!$CF$18:$CF$1017),0)","v":281},{"$f":"IFERROR($E338*SUMIF('Daily Log'!$CH$18:$CH$1017,$B338,'Daily Log'!$CI$18:$CI$1017),0)","v":0},{"$f":"IFERROR($E338*SUMIF('Daily Log'!$CK$18:$CK$1017,$B338,'Daily Log'!$CL$18:$CL$1017),0)","v":0},{"$f":"IFERROR($E338*SUMIF('Daily Log'!$CN$18:$CN$1017,$B338,'Daily Log'!$CO$18:$CO$1017),0)","v":0}]
[null,"HF05 92010:GRN TEA(H)",null,"FFDRINKS-HOT",1,644,{"$f":"IFERROR($E339*SUMIF('Daily Log'!$B$18:$B$1017,$B339,'Daily Log'!$C$18:$C$1017),0)","v":0},{"$f":"IFERROR($E339*SUMIF('Daily Log'!$E$18:$E$1017,$B339,'Daily Log'!$F$18:$F$1017),0)","v":0},{"$f":"IFERROR($E339*SUMIF('Daily Log'!$H$18:$H$1017,$B339,'Daily Log'!$I$18:$I$1017),0)","v":0},{"$f":"IFERROR($E339*SUMIF('Daily Log'!$K$18:$K$1017,$B339,'Daily Log'!$L$18:$L$1017),0)","v":0},{"$f":"IFERROR($E339*SUMIF('Daily Log'!$N$18:$N$1017,$B339,'Daily Log'!$O$18:$O$1017),0)","v":0},{"$f":"IFERROR($E339*SUMIF('Daily Log'!$Q$18:$Q$1017,$B339,'Daily Log'!$R$18:$R$1017),0)","v":0},{"$f":"IFERROR($E339*SUMIF('Daily Log'!$T$18:$T$1017,$B339,'Daily Log'!$U$18:$U$1017),0)","v":0},{"$f":"IFERROR($E339*SUMIF('Daily Log'!$W$18:$W$1017,$B339,'Daily Log'!$X$18:$X$1017),0)","v":0},{"$f":"IFERROR($E339*SUMIF('Daily Log'!$Z$18:$Z$1017,$B339,'Daily Log'!$AA$18:$AA$1017),0)","v":0},{"$f":"IFERROR($E339*SUMIF('Daily Log'!$AC$18:$AC$1017,$B339,'Daily Log'!$AD$18:$AD$1017),0)","v":0},{"$f":"IFERROR($E339*SUMIF('Daily Log'!$AF$18:$AF$1017,$B339,'Daily Log'!$AG$18:$AG$1017),0)","v":0},{"$f":"IFERROR($E339*SUMIF('Daily Log'!$AI$18:$AI$1017,$B339,'Daily Log'!$AJ$18:$AJ$1017),0)","v":0},{"$f":"IFERROR($E339*SUMIF('Daily Log'!$AL$18:$AL$1017,$B339,'Daily Log'!$AM$18:$AM$1017),0)","v":0},{"$f":"IFERROR($E339*SUMIF('Daily Log'!$AO$18:$AO$1017,$B339,'Daily Log'!$AP$18:$AP$1017),0)","v":0},{"$f":"IFERROR($E339*SUMIF('Daily Log'!$AR$18:$AR$1017,$B339,'Daily Log'!$AS$18:$AS$1017),0)","v":0},{"$f":"IFERROR($E339*SUMIF('Daily Log'!$AU$18:$AU$1017,$B339,'Daily Log'!$AV$18:$AV$1017),0)","v":0},{"$f":"IFERROR($E339*SUMIF('Daily Log'!$AX$18:$AX$1017,$B339,'Daily Log'!$AY$18:$AY$1017),0)","v":0},{"$f":"IFERROR($E339*SUMIF('Daily Log'!$BA$18:$BA$1017,$B339,'Daily Log'!$BB$18:$BB$1017),0)","v":0},{"$f":"IFERROR($E339*SUMIF('Daily Log'!$BD$18:$BD$1017,$B339,'Daily Log'!$BE$18:$BE$1017),0)","v":0},{"$f":"IFERROR($E339*SUMIF('Daily Log'!$BG$18:$BG$1017,$B339,'Daily Log'!$BH$18:$BH$1017),0)","v":0},{"$f":"IFERROR($E339*SUMIF('Daily Log'!$BJ$18:$BJ$1017,$B339,'Daily Log'!$BK$18:$BK$1017),0)","v":0},{"$f":"IFERROR($E339*SUMIF('Daily Log'!$BM$18:$BM$1017,$B339,'Daily Log'!$BN$18:$BN$1017),0)","v":0},{"$f":"IFERROR($E339*SUMIF('Daily Log'!$BP$18:$BP$1017,$B339,'Daily Log'!$BQ$18:$BQ$1017),0)","v":0},{"$f":"IFERROR($E339*SUMIF('Daily Log'!$BS$18:$BS$1017,$B339,'Daily Log'!$BT$18:$BT$1017),0)","v":0},{"$f":"IFERROR($E339*SUMIF('Daily Log'!$BV$18:$BV$1017,$B339,'Daily Log'!$BW$18:$BW$1017),0)","v":0},{"$f":"IFERROR($E339*SUMIF('Daily Log'!$BY$18:$BY$1017,$B339,'Daily Log'!$BZ$18:$BZ$1017),0)","v":0},{"$f":"IFERROR($E339*SUMIF('Daily Log'!$CB$18:$CB$1017,$B339,'Daily Log'!$CC$18:$CC$1017),0)","v":0},{"$f":"IFERROR($E339*SUMIF('Daily Log'!$CE$18:$CE$1017,$B339,'Daily Log'!$CF$18:$CF$1017),0)","v":644},{"$f":"IFERROR($E339*SUMIF('Daily Log'!$CH$18:$CH$1017,$B339,'Daily Log'!$CI$18:$CI$1017),0)","v":0},{"$f":"IFERROR($E339*SUMIF('Daily Log'!$CK$18:$CK$1017,$B339,'Daily Log'!$CL$18:$CL$1017),0)","v":0},{"$f":"IFERROR($E339*SUMIF('Daily Log'!$CN$18:$CN$1017,$B339,'Daily Log'!$CO$18:$CO$1017),0)","v":0}]
[null,"HF06 92012:HNY GT(H)",null,"FFDRINKS-HOT",1,905,{"$f":"IFERROR($E340*SUMIF('Daily Log'!$B$18:$B$1017,$B340,'Daily Log'!$C$18:$C$1017),0)","v":0},{"$f":"IFERROR($E340*SUMIF('Daily Log'!$E$18:$E$1017,$B340,'Daily Log'!$F$18:$F$1017),0)","v":0},{"$f":"IFERROR($E340*SUMIF('Daily Log'!$H$18:$H$1017,$B340,'Daily Log'!$I$18:$I$1017),0)","v":0},{"$f":"IFERROR($E340*SUMIF('Daily Log'!$K$18:$K$1017,$B340,'Daily Log'!$L$18:$L$1017),0)","v":0},{"$f":"IFERROR($E340*SUMIF('Daily Log'!$N$18:$N$1017,$B340,'Daily Log'!$O$18:$O$1017),0)","v":0},{"$f":"IFERROR($E340*SUMIF('Daily Log'!$Q$18:$Q$1017,$B340,'Daily Log'!$R$18:$R$1017),0)","v":0},{"$f":"IFERROR($E340*SUMIF('Daily Log'!$T$18:$T$1017,$B340,'Daily Log'!$U$18:$U$1017),0)","v":0},{"$f":"IFERROR($E340*SUMIF('Daily Log'!$W$18:$W$1017,$B340,'Daily Log'!$X$18:$X$1017),0)","v":0},{"$f":"IFERROR($E340*SUMIF('Daily Log'!$Z$18:$Z$1017,$B340,'Daily Log'!$AA$18:$AA$1017),0)","v":0},{"$f":"IFERROR($E340*SUMIF('Daily Log'!$AC$18:$AC$1017,$B340,'Daily Log'!$AD$18:$AD$1017),0)","v":0},{"$f":"IFERROR($E340*SUMIF('Daily Log'!$AF$18:$AF$1017,$B340,'Daily Log'!$AG$18:$AG$1017),0)","v":0},{"$f":"IFERROR($E340*SUMIF('Daily Log'!$AI$18:$AI$1017,$B340,'Daily Log'!$AJ$18:$AJ$1017),0)","v":0},{"$f":"IFERROR($E340*SUMIF('Daily Log'!$AL$18:$AL$1017,$B340,'Daily Log'!$AM$18:$AM$1017),0)","v":0},{"$f":"IFERROR($E340*SUMIF('Daily Log'!$AO$18:$AO$1017,$B340,'Daily Log'!$AP$18:$AP$1017),0)","v":0},{"$f":"IFERROR($E340*SUMIF('Daily Log'!$AR$18:$AR$1017,$B340,'Daily Log'!$AS$18:$AS$1017),0)","v":0},{"$f":"IFERROR($E340*SUMIF('Daily Log'!$AU$18:$AU$1017,$B340,'Daily Log'!$AV$18:$AV$1017),0)","v":0},{"$f":"IFERROR($E340*SUMIF('Daily Log'!$AX$18:$AX$1017,$B340,'Daily Log'!$AY$18:$AY$1017),0)","v":0},{"$f":"IFERROR($E340*SUMIF('Daily Log'!$BA$18:$BA$1017,$B340,'Daily Log'!$BB$18:$BB$1017),0)","v":0},{"$f":"IFERROR($E340*SUMIF('Daily Log'!$BD$18:$BD$1017,$B340,'Daily Log'!$BE$18:$BE$1017),0)","v":0},{"$f":"IFERROR($E340*SUMIF('Daily Log'!$BG$18:$BG$1017,$B340,'Daily Log'!$BH$18:$BH$1017),0)","v":0},{"$f":"IFERROR($E340*SUMIF('Daily Log'!$BJ$18:$BJ$1017,$B340,'Daily Log'!$BK$18:$BK$1017),0)","v":0},{"$f":"IFERROR($E340*SUMIF('Daily Log'!$BM$18:$BM$1017,$B340,'Daily Log'!$BN$18:$BN$1017),0)","v":0},{"$f":"IFERROR($E340*SUMIF('Daily Log'!$BP$18:$BP$1017,$B340,'Daily Log'!$BQ$18:$BQ$1017),0)","v":0},{"$f":"IFERROR($E340*SUMIF('Daily Log'!$BS$18:$BS$1017,$B340,'Daily Log'!$BT$18:$BT$1017),0)","v":0},{"$f":"IFERROR($E340*SUMIF('Daily Log'!$BV$18:$BV$1017,$B340,'Daily Log'!$BW$18:$BW$1017),0)","v":0},{"$f":"IFERROR($E340*SUMIF('Daily Log'!$BY$18:$BY$1017,$B340,'Daily Log'!$BZ$18:$BZ$1017),0)","v":0},{"$f":"IFERROR($E340*SUMIF('Daily Log'!$CB$18:$CB$1017,$B340,'Daily Log'!$CC$18:$CC$1017),0)","v":0},{"$f":"IFERROR($E340*SUMIF('Daily Log'!$CE$18:$CE$1017,$B340,'Daily Log'!$CF$18:$CF$1017),0)","v":905},{"$f":"IFERROR($E340*SUMIF('Daily Log'!$CH$18:$CH$1017,$B340,'Daily Log'!$CI$18:$CI$1017),0)","v":0},{"$f":"IFERROR($E340*SUMIF('Daily Log'!$CK$18:$CK$1017,$B340,'Daily Log'!$CL$18:$CL$1017),0)","v":0},{"$f":"IFERROR($E340*SUMIF('Daily Log'!$CN$18:$CN$1017,$B340,'Daily Log'!$CO$18:$CO$1017),0)","v":0}]
[null,"HF07 92014:HONEY(H)",null,"FFDRINKS-HOT",1,449,{"$f":"IFERROR($E341*SUMIF('Daily Log'!$B$18:$B$1017,$B341,'Daily Log'!$C$18:$C$1017),0)","v":0},{"$f":"IFERROR($E341*SUMIF('Daily Log'!$E$18:$E$1017,$B341,'Daily Log'!$F$18:$F$1017),0)","v":0},{"$f":"IFERROR($E341*SUMIF('Daily Log'!$H$18:$H$1017,$B341,'Daily Log'!$I$18:$I$1017),0)","v":0},{"$f":"IFERROR($E341*SUMIF('Daily Log'!$K$18:$K$1017,$B341,'Daily Log'!$L$18:$L$1017),0)","v":0},{"$f":"IFERROR($E341*SUMIF('Daily Log'!$N$18:$N$1017,$B341,'Daily Log'!$O$18:$O$1017),0)","v":0},{"$f":"IFERROR($E341*SUMIF('Daily Log'!$Q$18:$Q$1017,$B341,'Daily Log'!$R$18:$R$1017),0)","v":0},{"$f":"IFERROR($E341*SUMIF('Daily Log'!$T$18:$T$1017,$B341,'Daily Log'!$U$18:$U$1017),0)","v":0},{"$f":"IFERROR($E341*SUMIF('Daily Log'!$W$18:$W$1017,$B341,'Daily Log'!$X$18:$X$1017),0)","v":0},{"$f":"IFERROR($E341*SUMIF('Daily Log'!$Z$18:$Z$1017,$B341,'Daily Log'!$AA$18:$AA$1017),0)","v":0},{"$f":"IFERROR($E341*SUMIF('Daily Log'!$AC$18:$AC$1017,$B341,'Daily Log'!$AD$18:$AD$1017),0)","v":0},{"$f":"IFERROR($E341*SUMIF('Daily Log'!$AF$18:$AF$1017,$B341,'Daily Log'!$AG$18:$AG$1017),0)","v":0},{"$f":"IFERROR($E341*SUMIF('Daily Log'!$AI$18:$AI$1017,$B341,'Daily Log'!$AJ$18:$AJ$1017),0)","v":0},{"$f":"IFERROR($E341*SUMIF('Daily Log'!$AL$18:$AL$1017,$B341,'Daily Log'!$AM$18:$AM$1017),0)","v":0},{"$f":"IFERROR($E341*SUMIF('Daily Log'!$AO$18:$AO$1017,$B341,'Daily Log'!$AP$18:$AP$1017),0)","v":0},{"$f":"IFERROR($E341*SUMIF('Daily Log'!$AR$18:$AR$1017,$B341,'Daily Log'!$AS$18:$AS$1017),0)","v":0},{"$f":"IFERROR($E341*SUMIF('Daily Log'!$AU$18:$AU$1017,$B341,'Daily Log'!$AV$18:$AV$1017),0)","v":0},{"$f":"IFERROR($E341*SUMIF('Daily Log'!$AX$18:$AX$1017,$B341,'Daily Log'!$AY$18:$AY$1017),0)","v":0},{"$f":"IFERROR($E341*SUMIF('Daily Log'!$BA$18:$BA$1017,$B341,'Daily Log'!$BB$18:$BB$1017),0)","v":0},{"$f":"IFERROR($E341*SUMIF('Daily Log'!$BD$18:$BD$1017,$B341,'Daily Log'!$BE$18:$BE$1017),0)","v":0},{"$f":"IFERROR($E341*SUMIF('Daily Log'!$BG$18:$BG$1017,$B341,'Daily Log'!$BH$18:$BH$1017),0)","v":0},{"$f":"IFERROR($E341*SUMIF('Daily Log'!$BJ$18:$BJ$1017,$B341,'Daily Log'!$BK$18:$BK$1017),0)","v":0},{"$f":"IFERROR($E341*SUMIF('Daily Log'!$BM$18:$BM$1017,$B341,'Daily Log'!$BN$18:$BN$1017),0)","v":0},{"$f":"IFERROR($E341*SUMIF('Daily Log'!$BP$18:$BP$1017,$B341,'Daily Log'!$BQ$18:$BQ$1017),0)","v":0},{"$f":"IFERROR($E341*SUMIF('Daily Log'!$BS$18:$BS$1017,$B341,'Daily Log'!$BT$18:$BT$1017),0)","v":0},{"$f":"IFERROR($E341*SUMIF('Daily Log'!$BV$18:$BV$1017,$B341,'Daily Log'!$BW$18:$BW$1017),0)","v":0},{"$f":"IFERROR($E341*SUMIF('Daily Log'!$BY$18:$BY$1017,$B341,'Daily Log'!$BZ$18:$BZ$1017),0)","v":0},{"$f":"IFERROR($E341*SUMIF('Daily Log'!$CB$18:$CB$1017,$B341,'Daily Log'!$CC$18:$CC$1017),0)","v":0},{"$f":"IFERROR($E341*SUMIF('Daily Log'!$CE$18:$CE$1017,$B341,'Daily Log'!$CF$18:$CF$1017),0)","v":449},{"$f":"IFERROR($E341*SUMIF('Daily Log'!$CH$18:$CH$1017,$B341,'Daily Log'!$CI$18:$CI$1017),0)","v":0},{"$f":"IFERROR($E341*SUMIF('Daily Log'!$CK$18:$CK$1017,$B341,'Daily Log'!$CL$18:$CL$1017),0)","v":0},{"$f":"IFERROR($E341*SUMIF('Daily Log'!$CN$18:$CN$1017,$B341,'Daily Log'!$CO$18:$CO$1017),0)","v":0}]
[null,"HF08 92016:HNY LMN(H)",null,"FFDRINKS-HOT",1,3269,{"$f":"IFERROR($E342*SUMIF('Daily Log'!$B$18:$B$1017,$B342,'Daily Log'!$C$18:$C$1017),0)","v":0},{"$f":"IFERROR($E342*SUMIF('Daily Log'!$E$18:$E$1017,$B342,'Daily Log'!$F$18:$F$1017),0)","v":0},{"$f":"IFERROR($E342*SUMIF('Daily Log'!$H$18:$H$1017,$B342,'Daily Log'!$I$18:$I$1017),0)","v":0},{"$f":"IFERROR($E342*SUMIF('Daily Log'!$K$18:$K$1017,$B342,'Daily Log'!$L$18:$L$1017),0)","v":0},{"$f":"IFERROR($E342*SUMIF('Daily Log'!$N$18:$N$1017,$B342,'Daily Log'!$O$18:$O$1017),0)","v":0},{"$f":"IFERROR($E342*SUMIF('Daily Log'!$Q$18:$Q$1017,$B342,'Daily Log'!$R$18:$R$1017),0)","v":0},{"$f":"IFERROR($E342*SUMIF('Daily Log'!$T$18:$T$1017,$B342,'Daily Log'!$U$18:$U$1017),0)","v":0},{"$f":"IFERROR($E342*SUMIF('Daily Log'!$W$18:$W$1017,$B342,'Daily Log'!$X$18:$X$1017),0)","v":0},{"$f":"IFERROR($E342*SUMIF('Daily Log'!$Z$18:$Z$1017,$B342,'Daily Log'!$AA$18:$AA$1017),0)","v":0},{"$f":"IFERROR($E342*SUMIF('Daily Log'!$AC$18:$AC$1017,$B342,'Daily Log'!$AD$18:$AD$1017),0)","v":0},{"$f":"IFERROR($E342*SUMIF('Daily Log'!$AF$18:$AF$1017,$B342,'Daily Log'!$AG$18:$AG$1017),0)","v":0},{"$f":"IFERROR($E342*SUMIF('Daily Log'!$AI$18:$AI$1017,$B342,'Daily Log'!$AJ$18:$AJ$1017),0)","v":0},{"$f":"IFERROR($E342*SUMIF('Daily Log'!$AL$18:$AL$1017,$B342,'Daily Log'!$AM$18:$AM$1017),0)","v":0},{"$f":"IFERROR($E342*SUMIF('Daily Log'!$AO$18:$AO$1017,$B342,'Daily Log'!$AP$18:$AP$1017),0)","v":0},{"$f":"IFERROR($E342*SUMIF('Daily Log'!$AR$18:$AR$1017,$B342,'Daily Log'!$AS$18:$AS$1017),0)","v":0},{"$f":"IFERROR($E342*SUMIF('Daily Log'!$AU$18:$AU$1017,$B342,'Daily Log'!$AV$18:$AV$1017),0)","v":0},{"$f":"IFERROR($E342*SUMIF('Daily Log'!$AX$18:$AX$1017,$B342,'Daily Log'!$AY$18:$AY$1017),0)","v":0},{"$f":"IFERROR($E342*SUMIF('Daily Log'!$BA$18:$BA$1017,$B342,'Daily Log'!$BB$18:$BB$1017),0)","v":0},{"$f":"IFERROR($E342*SUMIF('Daily Log'!$BD$18:$BD$1017,$B342,'Daily Log'!$BE$18:$BE$1017),0)","v":0},{"$f":"IFERROR($E342*SUMIF('Daily Log'!$BG$18:$BG$1017,$B342,'Daily Log'!$BH$18:$BH$1017),0)","v":0},{"$f":"IFERROR($E342*SUMIF('Daily Log'!$BJ$18:$BJ$1017,$B342,'Daily Log'!$BK$18:$BK$1017),0)","v":0},{"$f":"IFERROR($E342*SUMIF('Daily Log'!$BM$18:$BM$1017,$B342,'Daily Log'!$BN$18:$BN$1017),0)","v":0},{"$f":"IFERROR($E342*SUMIF('Daily Log'!$BP$18:$BP$1017,$B342,'Daily Log'!$BQ$18:$BQ$1017),0)","v":0},{"$f":"IFERROR($E342*SUMIF('Daily Log'!$BS$18:$BS$1017,$B342,'Daily Log'!$BT$18:$BT$1017),0)","v":0},{"$f":"IFERROR($E342*SUMIF('Daily Log'!$BV$18:$BV$1017,$B342,'Daily Log'!$BW$18:$BW$1017),0)","v":0},{"$f":"IFERROR($E342*SUMIF('Daily Log'!$BY$18:$BY$1017,$B342,'Daily Log'!$BZ$18:$BZ$1017),0)","v":0},{"$f":"IFERROR($E342*SUMIF('Daily Log'!$CB$18:$CB$1017,$B342,'Daily Log'!$CC$18:$CC$1017),0)","v":0},{"$f":"IFERROR($E342*SUMIF('Daily Log'!$CE$18:$CE$1017,$B342,'Daily Log'!$CF$18:$CF$1017),0)","v":3269},{"$f":"IFERROR($E342*SUMIF('Daily Log'!$CH$18:$CH$1017,$B342,'Daily Log'!$CI$18:$CI$1017),0)","v":0},{"$f":"IFERROR($E342*SUMIF('Daily Log'!$CK$18:$CK$1017,$B342,'Daily Log'!$CL$18:$CL$1017),0)","v":0},{"$f":"IFERROR($E342*SUMIF('Daily Log'!$CN$18:$CN$1017,$B342,'Daily Log'!$CO$18:$CO$1017),0)","v":0}]
[null,"HF09 92017:CHAMOMILE",null,"FFDRINKS-HOT",1,49,{"$f":"IFERROR($E343*SUMIF('Daily Log'!$B$18:$B$1017,$B343,'Daily Log'!$C$18:$C$1017),0)","v":0},{"$f":"IFERROR($E343*SUMIF('Daily Log'!$E$18:$E$1017,$B343,'Daily Log'!$F$18:$F$1017),0)","v":0},{"$f":"IFERROR($E343*SUMIF('Daily Log'!$H$18:$H$1017,$B343,'Daily Log'!$I$18:$I$1017),0)","v":0},{"$f":"IFERROR($E343*SUMIF('Daily Log'!$K$18:$K$1017,$B343,'Daily Log'!$L$18:$L$1017),0)","v":0},{"$f":"IFERROR($E343*SUMIF('Daily Log'!$N$18:$N$1017,$B343,'Daily Log'!$O$18:$O$1017),0)","v":0},{"$f":"IFERROR($E343*SUMIF('Daily Log'!$Q$18:$Q$1017,$B343,'Daily Log'!$R$18:$R$1017),0)","v":0},{"$f":"IFERROR($E343*SUMIF('Daily Log'!$T$18:$T$1017,$B343,'Daily Log'!$U$18:$U$1017),0)","v":0},{"$f":"IFERROR($E343*SUMIF('Daily Log'!$W$18:$W$1017,$B343,'Daily Log'!$X$18:$X$1017),0)","v":0},{"$f":"IFERROR($E343*SUMIF('Daily Log'!$Z$18:$Z$1017,$B343,'Daily Log'!$AA$18:$AA$1017),0)","v":0},{"$f":"IFERROR($E343*SUMIF('Daily Log'!$AC$18:$AC$1017,$B343,'Daily Log'!$AD$18:$AD$1017),0)","v":0},{"$f":"IFERROR($E343*SUMIF('Daily Log'!$AF$18:$AF$1017,$B343,'Daily Log'!$AG$18:$AG$1017),0)","v":0},{"$f":"IFERROR($E343*SUMIF('Daily Log'!$AI$18:$AI$1017,$B343,'Daily Log'!$AJ$18:$AJ$1017),0)","v":0},{"$f":"IFERROR($E343*SUMIF('Daily Log'!$AL$18:$AL$1017,$B343,'Daily Log'!$AM$18:$AM$1017),0)","v":0},{"$f":"IFERROR($E343*SUMIF('Daily Log'!$AO$18:$AO$1017,$B343,'Daily Log'!$AP$18:$AP$1017),0)","v":0},{"$f":"IFERROR($E343*SUMIF('Daily Log'!$AR$18:$AR$1017,$B343,'Daily Log'!$AS$18:$AS$1017),0)","v":0},{"$f":"IFERROR($E343*SUMIF('Daily Log'!$AU$18:$AU$1017,$B343,'Daily Log'!$AV$18:$AV$1017),0)","v":0},{"$f":"IFERROR($E343*SUMIF('Daily Log'!$AX$18:$AX$1017,$B343,'Daily Log'!$AY$18:$AY$1017),0)","v":0},{"$f":"IFERROR($E343*SUMIF('Daily Log'!$BA$18:$BA$1017,$B343,'Daily Log'!$BB$18:$BB$1017),0)","v":0},{"$f":"IFERROR($E343*SUMIF('Daily Log'!$BD$18:$BD$1017,$B343,'Daily Log'!$BE$18:$BE$1017),0)","v":0},{"$f":"IFERROR($E343*SUMIF('Daily Log'!$BG$18:$BG$1017,$B343,'Daily Log'!$BH$18:$BH$1017),0)","v":0},{"$f":"IFERROR($E343*SUMIF('Daily Log'!$BJ$18:$BJ$1017,$B343,'Daily Log'!$BK$18:$BK$1017),0)","v":0},{"$f":"IFERROR($E343*SUMIF('Daily Log'!$BM$18:$BM$1017,$B343,'Daily Log'!$BN$18:$BN$1017),0)","v":0},{"$f":"IFERROR($E343*SUMIF('Daily Log'!$BP$18:$BP$1017,$B343,'Daily Log'!$BQ$18:$BQ$1017),0)","v":0},{"$f":"IFERROR($E343*SUMIF('Daily Log'!$BS$18:$BS$1017,$B343,'Daily Log'!$BT$18:$BT$1017),0)","v":0},{"$f":"IFERROR($E343*SUMIF('Daily Log'!$BV$18:$BV$1017,$B343,'Daily Log'!$BW$18:$BW$1017),0)","v":0},{"$f":"IFERROR($E343*SUMIF('Daily Log'!$BY$18:$BY$1017,$B343,'Daily Log'!$BZ$18:$BZ$1017),0)","v":0},{"$f":"IFERROR($E343*SUMIF('Daily Log'!$CB$18:$CB$1017,$B343,'Daily Log'!$CC$18:$CC$1017),0)","v":0},{"$f":"IFERROR($E343*SUMIF('Daily Log'!$CE$18:$CE$1017,$B343,'Daily Log'!$CF$18:$CF$1017),0)","v":49},{"$f":"IFERROR($E343*SUMIF('Daily Log'!$CH$18:$CH$1017,$B343,'Daily Log'!$CI$18:$CI$1017),0)","v":0},{"$f":"IFERROR($E343*SUMIF('Daily Log'!$CK$18:$CK$1017,$B343,'Daily Log'!$CL$18:$CL$1017),0)","v":0},{"$f":"IFERROR($E343*SUMIF('Daily Log'!$CN$18:$CN$1017,$B343,'Daily Log'!$CO$18:$CO$1017),0)","v":0}]
[null,"HF10 92018:DARJEELING",null,"FFDRINKS-HOT",1,66,{"$f":"IFERROR($E344*SUMIF('Daily Log'!$B$18:$B$1017,$B344,'Daily Log'!$C$18:$C$1017),0)","v":0},{"$f":"IFERROR($E344*SUMIF('Daily Log'!$E$18:$E$1017,$B344,'Daily Log'!$F$18:$F$1017),0)","v":0},{"$f":"IFERROR($E344*SUMIF('Daily Log'!$H$18:$H$1017,$B344,'Daily Log'!$I$18:$I$1017),0)","v":0},{"$f":"IFERROR($E344*SUMIF('Daily Log'!$K$18:$K$1017,$B344,'Daily Log'!$L$18:$L$1017),0)","v":0},{"$f":"IFERROR($E344*SUMIF('Daily Log'!$N$18:$N$1017,$B344,'Daily Log'!$O$18:$O$1017),0)","v":0},{"$f":"IFERROR($E344*SUMIF('Daily Log'!$Q$18:$Q$1017,$B344,'Daily Log'!$R$18:$R$1017),0)","v":0},{"$f":"IFERROR($E344*SUMIF('Daily Log'!$T$18:$T$1017,$B344,'Daily Log'!$U$18:$U$1017),0)","v":0},{"$f":"IFERROR($E344*SUMIF('Daily Log'!$W$18:$W$1017,$B344,'Daily Log'!$X$18:$X$1017),0)","v":0},{"$f":"IFERROR($E344*SUMIF('Daily Log'!$Z$18:$Z$1017,$B344,'Daily Log'!$AA$18:$AA$1017),0)","v":0},{"$f":"IFERROR($E344*SUMIF('Daily Log'!$AC$18:$AC$1017,$B344,'Daily Log'!$AD$18:$AD$1017),0)","v":0},{"$f":"IFERROR($E344*SUMIF('Daily Log'!$AF$18:$AF$1017,$B344,'Daily Log'!$AG$18:$AG$1017),0)","v":0},{"$f":"IFERROR($E344*SUMIF('Daily Log'!$AI$18:$AI$1017,$B344,'Daily Log'!$AJ$18:$AJ$1017),0)","v":0},{"$f":"IFERROR($E344*SUMIF('Daily Log'!$AL$18:$AL$1017,$B344,'Daily Log'!$AM$18:$AM$1017),0)","v":0},{"$f":"IFERROR($E344*SUMIF('Daily Log'!$AO$18:$AO$1017,$B344,'Daily Log'!$AP$18:$AP$1017),0)","v":0},{"$f":"IFERROR($E344*SUMIF('Daily Log'!$AR$18:$AR$1017,$B344,'Daily Log'!$AS$18:$AS$1017),0)","v":0},{"$f":"IFERROR($E344*SUMIF('Daily Log'!$AU$18:$AU$1017,$B344,'Daily Log'!$AV$18:$AV$1017),0)","v":0},{"$f":"IFERROR($E344*SUMIF('Daily Log'!$AX$18:$AX$1017,$B344,'Daily Log'!$AY$18:$AY$1017),0)","v":0},{"$f":"IFERROR($E344*SUMIF('Daily Log'!$BA$18:$BA$1017,$B344,'Daily Log'!$BB$18:$BB$1017),0)","v":0},{"$f":"IFERROR($E344*SUMIF('Daily Log'!$BD$18:$BD$1017,$B344,'Daily Log'!$BE$18:$BE$1017),0)","v":0},{"$f":"IFERROR($E344*SUMIF('Daily Log'!$BG$18:$BG$1017,$B344,'Daily Log'!$BH$18:$BH$1017),0)","v":0},{"$f":"IFERROR($E344*SUMIF('Daily Log'!$BJ$18:$BJ$1017,$B344,'Daily Log'!$BK$18:$BK$1017),0)","v":0},{"$f":"IFERROR($E344*SUMIF('Daily Log'!$BM$18:$BM$1017,$B344,'Daily Log'!$BN$18:$BN$1017),0)","v":0},{"$f":"IFERROR($E344*SUMIF('Daily Log'!$BP$18:$BP$1017,$B344,'Daily Log'!$BQ$18:$BQ$1017),0)","v":0},{"$f":"IFERROR($E344*SUMIF('Daily Log'!$BS$18:$BS$1017,$B344,'Daily Log'!$BT$18:$BT$1017),0)","v":0},{"$f":"IFERROR($E344*SUMIF('Daily Log'!$BV$18:$BV$1017,$B344,'Daily Log'!$BW$18:$BW$1017),0)","v":0},{"$f":"IFERROR($E344*SUMIF('Daily Log'!$BY$18:$BY$1017,$B344,'Daily Log'!$BZ$18:$BZ$1017),0)","v":0},{"$f":"IFERROR($E344*SUMIF('Daily Log'!$CB$18:$CB$1017,$B344,'Daily Log'!$CC$18:$CC$1017),0)","v":0},{"$f":"IFERROR($E344*SUMIF('Daily Log'!$CE$18:$CE$1017,$B344,'Daily Log'!$CF$18:$CF$1017),0)","v":66},{"$f":"IFERROR($E344*SUMIF('Daily Log'!$CH$18:$CH$1017,$B344,'Daily Log'!$CI$18:$CI$1017),0)","v":0},{"$f":"IFERROR($E344*SUMIF('Daily Log'!$CK$18:$CK$1017,$B344,'Daily Log'!$CL$18:$CL$1017),0)","v":0},{"$f":"IFERROR($E344*SUMIF('Daily Log'!$CN$18:$CN$1017,$B344,'Daily Log'!$CO$18:$CO$1017),0)","v":0}]
[null,"HF11 92019:EARL GREY",null,"FFDRINKS-HOT",1,81,{"$f":"IFERROR($E345*SUMIF('Daily Log'!$B$18:$B$1017,$B345,'Daily Log'!$C$18:$C$1017),0)","v":0},{"$f":"IFERROR($E345*SUMIF('Daily Log'!$E$18:$E$1017,$B345,'Daily Log'!$F$18:$F$1017),0)","v":0},{"$f":"IFERROR($E345*SUMIF('Daily Log'!$H$18:$H$1017,$B345,'Daily Log'!$I$18:$I$1017),0)","v":0},{"$f":"IFERROR($E345*SUMIF('Daily Log'!$K$18:$K$1017,$B345,'Daily Log'!$L$18:$L$1017),0)","v":0},{"$f":"IFERROR($E345*SUMIF('Daily Log'!$N$18:$N$1017,$B345,'Daily Log'!$O$18:$O$1017),0)","v":0},{"$f":"IFERROR($E345*SUMIF('Daily Log'!$Q$18:$Q$1017,$B345,'Daily Log'!$R$18:$R$1017),0)","v":0},{"$f":"IFERROR($E345*SUMIF('Daily Log'!$T$18:$T$1017,$B345,'Daily Log'!$U$18:$U$1017),0)","v":0},{"$f":"IFERROR($E345*SUMIF('Daily Log'!$W$18:$W$1017,$B345,'Daily Log'!$X$18:$X$1017),0)","v":0},{"$f":"IFERROR($E345*SUMIF('Daily Log'!$Z$18:$Z$1017,$B345,'Daily Log'!$AA$18:$AA$1017),0)","v":0},{"$f":"IFERROR($E345*SUMIF('Daily Log'!$AC$18:$AC$1017,$B345,'Daily Log'!$AD$18:$AD$1017),0)","v":0},{"$f":"IFERROR($E345*SUMIF('Daily Log'!$AF$18:$AF$1017,$B345,'Daily Log'!$AG$18:$AG$1017),0)","v":0},{"$f":"IFERROR($E345*SUMIF('Daily Log'!$AI$18:$AI$1017,$B345,'Daily Log'!$AJ$18:$AJ$1017),0)","v":0},{"$f":"IFERROR($E345*SUMIF('Daily Log'!$AL$18:$AL$1017,$B345,'Daily Log'!$AM$18:$AM$1017),0)","v":0},{"$f":"IFERROR($E345*SUMIF('Daily Log'!$AO$18:$AO$1017,$B345,'Daily Log'!$AP$18:$AP$1017),0)","v":0},{"$f":"IFERROR($E345*SUMIF('Daily Log'!$AR$18:$AR$1017,$B345,'Daily Log'!$AS$18:$AS$1017),0)","v":0},{"$f":"IFERROR($E345*SUMIF('Daily Log'!$AU$18:$AU$1017,$B345,'Daily Log'!$AV$18:$AV$1017),0)","v":0},{"$f":"IFERROR($E345*SUMIF('Daily Log'!$AX$18:$AX$1017,$B345,'Daily Log'!$AY$18:$AY$1017),0)","v":0},{"$f":"IFERROR($E345*SUMIF('Daily Log'!$BA$18:$BA$1017,$B345,'Daily Log'!$BB$18:$BB$1017),0)","v":0},{"$f":"IFERROR($E345*SUMIF('Daily Log'!$BD$18:$BD$1017,$B345,'Daily Log'!$BE$18:$BE$1017),0)","v":0},{"$f":"IFERROR($E345*SUMIF('Daily Log'!$BG$18:$BG$1017,$B345,'Daily Log'!$BH$18:$BH$1017),0)","v":0},{"$f":"IFERROR($E345*SUMIF('Daily Log'!$BJ$18:$BJ$1017,$B345,'Daily Log'!$BK$18:$BK$1017),0)","v":0},{"$f":"IFERROR($E345*SUMIF('Daily Log'!$BM$18:$BM$1017,$B345,'Daily Log'!$BN$18:$BN$1017),0)","v":0},{"$f":"IFERROR($E345*SUMIF('Daily Log'!$BP$18:$BP$1017,$B345,'Daily Log'!$BQ$18:$BQ$1017),0)","v":0},{"$f":"IFERROR($E345*SUMIF('Daily Log'!$BS$18:$BS$1017,$B345,'Daily Log'!$BT$18:$BT$1017),0)","v":0},{"$f":"IFERROR($E345*SUMIF('Daily Log'!$BV$18:$BV$1017,$B345,'Daily Log'!$BW$18:$BW$1017),0)","v":0},{"$f":"IFERROR($E345*SUMIF('Daily Log'!$BY$18:$BY$1017,$B345,'Daily Log'!$BZ$18:$BZ$1017),0)","v":0},{"$f":"IFERROR($E345*SUMIF('Daily Log'!$CB$18:$CB$1017,$B345,'Daily Log'!$CC$18:$CC$1017),0)","v":0},{"$f":"IFERROR($E345*SUMIF('Daily Log'!$CE$18:$CE$1017,$B345,'Daily Log'!$CF$18:$CF$1017),0)","v":81},{"$f":"IFERROR($E345*SUMIF('Daily Log'!$CH$18:$CH$1017,$B345,'Daily Log'!$CI$18:$CI$1017),0)","v":0},{"$f":"IFERROR($E345*SUMIF('Daily Log'!$CK$18:$CK$1017,$B345,'Daily Log'!$CL$18:$CL$1017),0)","v":0},{"$f":"IFERROR($E345*SUMIF('Daily Log'!$CN$18:$CN$1017,$B345,'Daily Log'!$CO$18:$CO$1017),0)","v":0}]
[null,"CA01 2023:7 UP",null,"SO-SOFT DRINKS",1,0,{"$f":"IFERROR($E346*SUMIF('Daily Log'!$B$18:$B$1017,$B346,'Daily Log'!$C$18:$C$1017),0)","v":0},{"$f":"IFERROR($E346*SUMIF('Daily Log'!$E$18:$E$1017,$B346,'Daily Log'!$F$18:$F$1017),0)","v":0},{"$f":"IFERROR($E346*SUMIF('Daily Log'!$H$18:$H$1017,$B346,'Daily Log'!$I$18:$I$1017),0)","v":0},{"$f":"IFERROR($E346*SUMIF('Daily Log'!$K$18:$K$1017,$B346,'Daily Log'!$L$18:$L$1017),0)","v":0},{"$f":"IFERROR($E346*SUMIF('Daily Log'!$N$18:$N$1017,$B346,'Daily Log'!$O$18:$O$1017),0)","v":0},{"$f":"IFERROR($E346*SUMIF('Daily Log'!$Q$18:$Q$1017,$B346,'Daily Log'!$R$18:$R$1017),0)","v":0},{"$f":"IFERROR($E346*SUMIF('Daily Log'!$T$18:$T$1017,$B346,'Daily Log'!$U$18:$U$1017),0)","v":0},{"$f":"IFERROR($E346*SUMIF('Daily Log'!$W$18:$W$1017,$B346,'Daily Log'!$X$18:$X$1017),0)","v":0},{"$f":"IFERROR($E346*SUMIF('Daily Log'!$Z$18:$Z$1017,$B346,'Daily Log'!$AA$18:$AA$1017),0)","v":0},{"$f":"IFERROR($E346*SUMIF('Daily Log'!$AC$18:$AC$1017,$B346,'Daily Log'!$AD$18:$AD$1017),0)","v":0},{"$f":"IFERROR($E346*SUMIF('Daily Log'!$AF$18:$AF$1017,$B346,'Daily Log'!$AG$18:$AG$1017),0)","v":0},{"$f":"IFERROR($E346*SUMIF('Daily Log'!$AI$18:$AI$1017,$B346,'Daily Log'!$AJ$18:$AJ$1017),0)","v":0},{"$f":"IFERROR($E346*SUMIF('Daily Log'!$AL$18:$AL$1017,$B346,'Daily Log'!$AM$18:$AM$1017),0)","v":0},{"$f":"IFERROR($E346*SUMIF('Daily Log'!$AO$18:$AO$1017,$B346,'Daily Log'!$AP$18:$AP$1017),0)","v":0},{"$f":"IFERROR($E346*SUMIF('Daily Log'!$AR$18:$AR$1017,$B346,'Daily Log'!$AS$18:$AS$1017),0)","v":0},{"$f":"IFERROR($E346*SUMIF('Daily Log'!$AU$18:$AU$1017,$B346,'Daily Log'!$AV$18:$AV$1017),0)","v":0},{"$f":"IFERROR($E346*SUMIF('Daily Log'!$AX$18:$AX$1017,$B346,'Daily Log'!$AY$18:$AY$1017),0)","v":0},{"$f":"IFERROR($E346*SUMIF('Daily Log'!$BA$18:$BA$1017,$B346,'Daily Log'!$BB$18:$BB$1017),0)","v":0},{"$f":"IFERROR($E346*SUMIF('Daily Log'!$BD$18:$BD$1017,$B346,'Daily Log'!$BE$18:$BE$1017),0)","v":0},{"$f":"IFERROR($E346*SUMIF('Daily Log'!$BG$18:$BG$1017,$B346,'Daily Log'!$BH$18:$BH$1017),0)","v":0},{"$f":"IFERROR($E346*SUMIF('Daily Log'!$BJ$18:$BJ$1017,$B346,'Daily Log'!$BK$18:$BK$1017),0)","v":0},{"$f":"IFERROR($E346*SUMIF('Daily Log'!$BM$18:$BM$1017,$B346,'Daily Log'!$BN$18:$BN$1017),0)","v":0},{"$f":"IFERROR($E346*SUMIF('Daily Log'!$BP$18:$BP$1017,$B346,'Daily Log'!$BQ$18:$BQ$1017),0)","v":0},{"$f":"IFERROR($E346*SUMIF('Daily Log'!$BS$18:$BS$1017,$B346,'Daily Log'!$BT$18:$BT$1017),0)","v":0},{"$f":"IFERROR($E346*SUMIF('Daily Log'!$BV$18:$BV$1017,$B346,'Daily Log'!$BW$18:$BW$1017),0)","v":0},{"$f":"IFERROR($E346*SUMIF('Daily Log'!$BY$18:$BY$1017,$B346,'Daily Log'!$BZ$18:$BZ$1017),0)","v":0},{"$f":"IFERROR($E346*SUMIF('Daily Log'!$CB$18:$CB$1017,$B346,'Daily Log'!$CC$18:$CC$1017),0)","v":0},{"$f":"IFERROR($E346*SUMIF('Daily Log'!$CE$18:$CE$1017,$B346,'Daily Log'!$CF$18:$CF$1017),0)","v":0},{"$f":"IFERROR($E346*SUMIF('Daily Log'!$CH$18:$CH$1017,$B346,'Daily Log'!$CI$18:$CI$1017),0)","v":0},{"$f":"IFERROR($E346*SUMIF('Daily Log'!$CK$18:$CK$1017,$B346,'Daily Log'!$CL$18:$CL$1017),0)","v":0},{"$f":"IFERROR($E346*SUMIF('Daily Log'!$CN$18:$CN$1017,$B346,'Daily Log'!$CO$18:$CO$1017),0)","v":0}]
[null,"CA02 2024:7UP REVIVE",null,"SO-SOFT DRINKS",1,0,{"$f":"IFERROR($E347*SUMIF('Daily Log'!$B$18:$B$1017,$B347,'Daily Log'!$C$18:$C$1017),0)","v":0},{"$f":"IFERROR($E347*SUMIF('Daily Log'!$E$18:$E$1017,$B347,'Daily Log'!$F$18:$F$1017),0)","v":0},{"$f":"IFERROR($E347*SUMIF('Daily Log'!$H$18:$H$1017,$B347,'Daily Log'!$I$18:$I$1017),0)","v":0},{"$f":"IFERROR($E347*SUMIF('Daily Log'!$K$18:$K$1017,$B347,'Daily Log'!$L$18:$L$1017),0)","v":0},{"$f":"IFERROR($E347*SUMIF('Daily Log'!$N$18:$N$1017,$B347,'Daily Log'!$O$18:$O$1017),0)","v":0},{"$f":"IFERROR($E347*SUMIF('Daily Log'!$Q$18:$Q$1017,$B347,'Daily Log'!$R$18:$R$1017),0)","v":0},{"$f":"IFERROR($E347*SUMIF('Daily Log'!$T$18:$T$1017,$B347,'Daily Log'!$U$18:$U$1017),0)","v":0},{"$f":"IFERROR($E347*SUMIF('Daily Log'!$W$18:$W$1017,$B347,'Daily Log'!$X$18:$X$1017),0)","v":0},{"$f":"IFERROR($E347*SUMIF('Daily Log'!$Z$18:$Z$1017,$B347,'Daily Log'!$AA$18:$AA$1017),0)","v":0},{"$f":"IFERROR($E347*SUMIF('Daily Log'!$AC$18:$AC$1017,$B347,'Daily Log'!$AD$18:$AD$1017),0)","v":0},{"$f":"IFERROR($E347*SUMIF('Daily Log'!$AF$18:$AF$1017,$B347,'Daily Log'!$AG$18:$AG$1017),0)","v":0},{"$f":"IFERROR($E347*SUMIF('Daily Log'!$AI$18:$AI$1017,$B347,'Daily Log'!$AJ$18:$AJ$1017),0)","v":0},{"$f":"IFERROR($E347*SUMIF('Daily Log'!$AL$18:$AL$1017,$B347,'Daily Log'!$AM$18:$AM$1017),0)","v":0},{"$f":"IFERROR($E347*SUMIF('Daily Log'!$AO$18:$AO$1017,$B347,'Daily Log'!$AP$18:$AP$1017),0)","v":0},{"$f":"IFERROR($E347*SUMIF('Daily Log'!$AR$18:$AR$1017,$B347,'Daily Log'!$AS$18:$AS$1017),0)","v":0},{"$f":"IFERROR($E347*SUMIF('Daily Log'!$AU$18:$AU$1017,$B347,'Daily Log'!$AV$18:$AV$1017),0)","v":0},{"$f":"IFERROR($E347*SUMIF('Daily Log'!$AX$18:$AX$1017,$B347,'Daily Log'!$AY$18:$AY$1017),0)","v":0},{"$f":"IFERROR($E347*SUMIF('Daily Log'!$BA$18:$BA$1017,$B347,'Daily Log'!$BB$18:$BB$1017),0)","v":0},{"$f":"IFERROR($E347*SUMIF('Daily Log'!$BD$18:$BD$1017,$B347,'Daily Log'!$BE$18:$BE$1017),0)","v":0},{"$f":"IFERROR($E347*SUMIF('Daily Log'!$BG$18:$BG$1017,$B347,'Daily Log'!$BH$18:$BH$1017),0)","v":0},{"$f":"IFERROR($E347*SUMIF('Daily Log'!$BJ$18:$BJ$1017,$B347,'Daily Log'!$BK$18:$BK$1017),0)","v":0},{"$f":"IFERROR($E347*SUMIF('Daily Log'!$BM$18:$BM$1017,$B347,'Daily Log'!$BN$18:$BN$1017),0)","v":0},{"$f":"IFERROR($E347*SUMIF('Daily Log'!$BP$18:$BP$1017,$B347,'Daily Log'!$BQ$18:$BQ$1017),0)","v":0},{"$f":"IFERROR($E347*SUMIF('Daily Log'!$BS$18:$BS$1017,$B347,'Daily Log'!$BT$18:$BT$1017),0)","v":0},{"$f":"IFERROR($E347*SUMIF('Daily Log'!$BV$18:$BV$1017,$B347,'Daily Log'!$BW$18:$BW$1017),0)","v":0},{"$f":"IFERROR($E347*SUMIF('Daily Log'!$BY$18:$BY$1017,$B347,'Daily Log'!$BZ$18:$BZ$1017),0)","v":0},{"$f":"IFERROR($E347*SUMIF('Daily Log'!$CB$18:$CB$1017,$B347,'Daily Log'!$CC$18:$CC$1017),0)","v":0},{"$f":"IFERROR($E347*SUMIF('Daily Log'!$CE$18:$CE$1017,$B347,'Daily Log'!$CF$18:$CF$1017),0)","v":0},{"$f":"IFERROR($E347*SUMIF('Daily Log'!$CH$18:$CH$1017,$B347,'Daily Log'!$CI$18:$CI$1017),0)","v":0},{"$f":"IFERROR($E347*SUMIF('Daily Log'!$CK$18:$CK$1017,$B347,'Daily Log'!$CL$18:$CL$1017),0)","v":0},{"$f":"IFERROR($E347*SUMIF('Daily Log'!$CN$18:$CN$1017,$B347,'Daily Log'!$CO$18:$CO$1017),0)","v":0}]
[null,"CA03 2025:PEPSI",null,"SO-SOFT DRINKS",1,0,{"$f":"IFERROR($E348*SUMIF('Daily Log'!$B$18:$B$1017,$B348,'Daily Log'!$C$18:$C$1017),0)","v":0},{"$f":"IFERROR($E348*SUMIF('Daily Log'!$E$18:$E$1017,$B348,'Daily Log'!$F$18:$F$1017),0)","v":0},{"$f":"IFERROR($E348*SUMIF('Daily Log'!$H$18:$H$1017,$B348,'Daily Log'!$I$18:$I$1017),0)","v":0},{"$f":"IFERROR($E348*SUMIF('Daily Log'!$K$18:$K$1017,$B348,'Daily Log'!$L$18:$L$1017),0)","v":0},{"$f":"IFERROR($E348*SUMIF('Daily Log'!$N$18:$N$1017,$B348,'Daily Log'!$O$18:$O$1017),0)","v":0},{"$f":"IFERROR($E348*SUMIF('Daily Log'!$Q$18:$Q$1017,$B348,'Daily Log'!$R$18:$R$1017),0)","v":0},{"$f":"IFERROR($E348*SUMIF('Daily Log'!$T$18:$T$1017,$B348,'Daily Log'!$U$18:$U$1017),0)","v":0},{"$f":"IFERROR($E348*SUMIF('Daily Log'!$W$18:$W$1017,$B348,'Daily Log'!$X$18:$X$1017),0)","v":0},{"$f":"IFERROR($E348*SUMIF('Daily Log'!$Z$18:$Z$1017,$B348,'Daily Log'!$AA$18:$AA$1017),0)","v":0},{"$f":"IFERROR($E348*SUMIF('Daily Log'!$AC$18:$AC$1017,$B348,'Daily Log'!$AD$18:$AD$1017),0)","v":0},{"$f":"IFERROR($E348*SUMIF('Daily Log'!$AF$18:$AF$1017,$B348,'Daily Log'!$AG$18:$AG$1017),0)","v":0},{"$f":"IFERROR($E348*SUMIF('Daily Log'!$AI$18:$AI$1017,$B348,'Daily Log'!$AJ$18:$AJ$1017),0)","v":0},{"$f":"IFERROR($E348*SUMIF('Daily Log'!$AL$18:$AL$1017,$B348,'Daily Log'!$AM$18:$AM$1017),0)","v":0},{"$f":"IFERROR($E348*SUMIF('Daily Log'!$AO$18:$AO$1017,$B348,'Daily Log'!$AP$18:$AP$1017),0)","v":0},{"$f":"IFERROR($E348*SUMIF('Daily Log'!$AR$18:$AR$1017,$B348,'Daily Log'!$AS$18:$AS$1017),0)","v":0},{"$f":"IFERROR($E348*SUMIF('Daily Log'!$AU$18:$AU$1017,$B348,'Daily Log'!$AV$18:$AV$1017),0)","v":0},{"$f":"IFERROR($E348*SUMIF('Daily Log'!$AX$18:$AX$1017,$B348,'Daily Log'!$AY$18:$AY$1017),0)","v":0},{"$f":"IFERROR($E348*SUMIF('Daily Log'!$BA$18:$BA$1017,$B348,'Daily Log'!$BB$18:$BB$1017),0)","v":0},{"$f":"IFERROR($E348*SUMIF('Daily Log'!$BD$18:$BD$1017,$B348,'Daily Log'!$BE$18:$BE$1017),0)","v":0},{"$f":"IFERROR($E348*SUMIF('Daily Log'!$BG$18:$BG$1017,$B348,'Daily Log'!$BH$18:$BH$1017),0)","v":0},{"$f":"IFERROR($E348*SUMIF('Daily Log'!$BJ$18:$BJ$1017,$B348,'Daily Log'!$BK$18:$BK$1017),0)","v":0},{"$f":"IFERROR($E348*SUMIF('Daily Log'!$BM$18:$BM$1017,$B348,'Daily Log'!$BN$18:$BN$1017),0)","v":0},{"$f":"IFERROR($E348*SUMIF('Daily Log'!$BP$18:$BP$1017,$B348,'Daily Log'!$BQ$18:$BQ$1017),0)","v":0},{"$f":"IFERROR($E348*SUMIF('Daily Log'!$BS$18:$BS$1017,$B348,'Daily Log'!$BT$18:$BT$1017),0)","v":0},{"$f":"IFERROR($E348*SUMIF('Daily Log'!$BV$18:$BV$1017,$B348,'Daily Log'!$BW$18:$BW$1017),0)","v":0},{"$f":"IFERROR($E348*SUMIF('Daily Log'!$BY$18:$BY$1017,$B348,'Daily Log'!$BZ$18:$BZ$1017),0)","v":0},{"$f":"IFERROR($E348*SUMIF('Daily Log'!$CB$18:$CB$1017,$B348,'Daily Log'!$CC$18:$CC$1017),0)","v":0},{"$f":"IFERROR($E348*SUMIF('Daily Log'!$CE$18:$CE$1017,$B348,'Daily Log'!$CF$18:$CF$1017),0)","v":0},{"$f":"IFERROR($E348*SUMIF('Daily Log'!$CH$18:$CH$1017,$B348,'Daily Log'!$CI$18:$CI$1017),0)","v":0},{"$f":"IFERROR($E348*SUMIF('Daily Log'!$CK$18:$CK$1017,$B348,'Daily Log'!$CL$18:$CL$1017),0)","v":0},{"$f":"IFERROR($E348*SUMIF('Daily Log'!$CN$18:$CN$1017,$B348,'Daily Log'!$CO$18:$CO$1017),0)","v":0}]
[null,"CG01 92023:7 UP",null,"FFDRINKS-COLD",1,442,{"$f":"IFERROR($E349*SUMIF('Daily Log'!$B$18:$B$1017,$B349,'Daily Log'!$C$18:$C$1017),0)","v":0},{"$f":"IFERROR($E349*SUMIF('Daily Log'!$E$18:$E$1017,$B349,'Daily Log'!$F$18:$F$1017),0)","v":0},{"$f":"IFERROR($E349*SUMIF('Daily Log'!$H$18:$H$1017,$B349,'Daily Log'!$I$18:$I$1017),0)","v":0},{"$f":"IFERROR($E349*SUMIF('Daily Log'!$K$18:$K$1017,$B349,'Daily Log'!$L$18:$L$1017),0)","v":0},{"$f":"IFERROR($E349*SUMIF('Daily Log'!$N$18:$N$1017,$B349,'Daily Log'!$O$18:$O$1017),0)","v":0},{"$f":"IFERROR($E349*SUMIF('Daily Log'!$Q$18:$Q$1017,$B349,'Daily Log'!$R$18:$R$1017),0)","v":0},{"$f":"IFERROR($E349*SUMIF('Daily Log'!$T$18:$T$1017,$B349,'Daily Log'!$U$18:$U$1017),0)","v":0},{"$f":"IFERROR($E349*SUMIF('Daily Log'!$W$18:$W$1017,$B349,'Daily Log'!$X$18:$X$1017),0)","v":0},{"$f":"IFERROR($E349*SUMIF('Daily Log'!$Z$18:$Z$1017,$B349,'Daily Log'!$AA$18:$AA$1017),0)","v":0},{"$f":"IFERROR($E349*SUMIF('Daily Log'!$AC$18:$AC$1017,$B349,'Daily Log'!$AD$18:$AD$1017),0)","v":0},{"$f":"IFERROR($E349*SUMIF('Daily Log'!$AF$18:$AF$1017,$B349,'Daily Log'!$AG$18:$AG$1017),0)","v":0},{"$f":"IFERROR($E349*SUMIF('Daily Log'!$AI$18:$AI$1017,$B349,'Daily Log'!$AJ$18:$AJ$1017),0)","v":0},{"$f":"IFERROR($E349*SUMIF('Daily Log'!$AL$18:$AL$1017,$B349,'Daily Log'!$AM$18:$AM$1017),0)","v":0},{"$f":"IFERROR($E349*SUMIF('Daily Log'!$AO$18:$AO$1017,$B349,'Daily Log'!$AP$18:$AP$1017),0)","v":0},{"$f":"IFERROR($E349*SUMIF('Daily Log'!$AR$18:$AR$1017,$B349,'Daily Log'!$AS$18:$AS$1017),0)","v":0},{"$f":"IFERROR($E349*SUMIF('Daily Log'!$AU$18:$AU$1017,$B349,'Daily Log'!$AV$18:$AV$1017),0)","v":0},{"$f":"IFERROR($E349*SUMIF('Daily Log'!$AX$18:$AX$1017,$B349,'Daily Log'!$AY$18:$AY$1017),0)","v":0},{"$f":"IFERROR($E349*SUMIF('Daily Log'!$BA$18:$BA$1017,$B349,'Daily Log'!$BB$18:$BB$1017),0)","v":0},{"$f":"IFERROR($E349*SUMIF('Daily Log'!$BD$18:$BD$1017,$B349,'Daily Log'!$BE$18:$BE$1017),0)","v":0},{"$f":"IFERROR($E349*SUMIF('Daily Log'!$BG$18:$BG$1017,$B349,'Daily Log'!$BH$18:$BH$1017),0)","v":0},{"$f":"IFERROR($E349*SUMIF('Daily Log'!$BJ$18:$BJ$1017,$B349,'Daily Log'!$BK$18:$BK$1017),0)","v":0},{"$f":"IFERROR($E349*SUMIF('Daily Log'!$BM$18:$BM$1017,$B349,'Daily Log'!$BN$18:$BN$1017),0)","v":0},{"$f":"IFERROR($E349*SUMIF('Daily Log'!$BP$18:$BP$1017,$B349,'Daily Log'!$BQ$18:$BQ$1017),0)","v":0},{"$f":"IFERROR($E349*SUMIF('Daily Log'!$BS$18:$BS$1017,$B349,'Daily Log'!$BT$18:$BT$1017),0)","v":0},{"$f":"IFERROR($E349*SUMIF('Daily Log'!$BV$18:$BV$1017,$B349,'Daily Log'!$BW$18:$BW$1017),0)","v":0},{"$f":"IFERROR($E349*SUMIF('Daily Log'!$BY$18:$BY$1017,$B349,'Daily Log'!$BZ$18:$BZ$1017),0)","v":0},{"$f":"IFERROR($E349*SUMIF('Daily Log'!$CB$18:$CB$1017,$B349,'Daily Log'!$CC$18:$CC$1017),0)","v":0},{"$f":"IFERROR($E349*SUMIF('Daily Log'!$CE$18:$CE$1017,$B349,'Daily Log'!$CF$18:$CF$1017),0)","v":442},{"$f":"IFERROR($E349*SUMIF('Daily Log'!$CH$18:$CH$1017,$B349,'Daily Log'!$CI$18:$CI$1017),0)","v":0},{"$f":"IFERROR($E349*SUMIF('Daily Log'!$CK$18:$CK$1017,$B349,'Daily Log'!$CL$18:$CL$1017),0)","v":0},{"$f":"IFERROR($E349*SUMIF('Daily Log'!$CN$18:$CN$1017,$B349,'Daily Log'!$CO$18:$CO$1017),0)","v":0}]
[null,"CG02 92024:7UP REVIVE",null,"FFDRINKS-COLD",1,111,{"$f":"IFERROR($E350*SUMIF('Daily Log'!$B$18:$B$1017,$B350,'Daily Log'!$C$18:$C$1017),0)","v":0},{"$f":"IFERROR($E350*SUMIF('Daily Log'!$E$18:$E$1017,$B350,'Daily Log'!$F$18:$F$1017),0)","v":0},{"$f":"IFERROR($E350*SUMIF('Daily Log'!$H$18:$H$1017,$B350,'Daily Log'!$I$18:$I$1017),0)","v":0},{"$f":"IFERROR($E350*SUMIF('Daily Log'!$K$18:$K$1017,$B350,'Daily Log'!$L$18:$L$1017),0)","v":0},{"$f":"IFERROR($E350*SUMIF('Daily Log'!$N$18:$N$1017,$B350,'Daily Log'!$O$18:$O$1017),0)","v":0},{"$f":"IFERROR($E350*SUMIF('Daily Log'!$Q$18:$Q$1017,$B350,'Daily Log'!$R$18:$R$1017),0)","v":0},{"$f":"IFERROR($E350*SUMIF('Daily Log'!$T$18:$T$1017,$B350,'Daily Log'!$U$18:$U$1017),0)","v":0},{"$f":"IFERROR($E350*SUMIF('Daily Log'!$W$18:$W$1017,$B350,'Daily Log'!$X$18:$X$1017),0)","v":0},{"$f":"IFERROR($E350*SUMIF('Daily Log'!$Z$18:$Z$1017,$B350,'Daily Log'!$AA$18:$AA$1017),0)","v":0},{"$f":"IFERROR($E350*SUMIF('Daily Log'!$AC$18:$AC$1017,$B350,'Daily Log'!$AD$18:$AD$1017),0)","v":0},{"$f":"IFERROR($E350*SUMIF('Daily Log'!$AF$18:$AF$1017,$B350,'Daily Log'!$AG$18:$AG$1017),0)","v":0},{"$f":"IFERROR($E350*SUMIF('Daily Log'!$AI$18:$AI$1017,$B350,'Daily Log'!$AJ$18:$AJ$1017),0)","v":0},{"$f":"IFERROR($E350*SUMIF('Daily Log'!$AL$18:$AL$1017,$B350,'Daily Log'!$AM$18:$AM$1017),0)","v":0},{"$f":"IFERROR($E350*SUMIF('Daily Log'!$AO$18:$AO$1017,$B350,'Daily Log'!$AP$18:$AP$1017),0)","v":0},{"$f":"IFERROR($E350*SUMIF('Daily Log'!$AR$18:$AR$1017,$B350,'Daily Log'!$AS$18:$AS$1017),0)","v":0},{"$f":"IFERROR($E350*SUMIF('Daily Log'!$AU$18:$AU$1017,$B350,'Daily Log'!$AV$18:$AV$1017),0)","v":0},{"$f":"IFERROR($E350*SUMIF('Daily Log'!$AX$18:$AX$1017,$B350,'Daily Log'!$AY$18:$AY$1017),0)","v":0},{"$f":"IFERROR($E350*SUMIF('Daily Log'!$BA$18:$BA$1017,$B350,'Daily Log'!$BB$18:$BB$1017),0)","v":0},{"$f":"IFERROR($E350*SUMIF('Daily Log'!$BD$18:$BD$1017,$B350,'Daily Log'!$BE$18:$BE$1017),0)","v":0},{"$f":"IFERROR($E350*SUMIF('Daily Log'!$BG$18:$BG$1017,$B350,'Daily Log'!$BH$18:$BH$1017),0)","v":0},{"$f":"IFERROR($E350*SUMIF('Daily Log'!$BJ$18:$BJ$1017,$B350,'Daily Log'!$BK$18:$BK$1017),0)","v":0},{"$f":"IFERROR($E350*SUMIF('Daily Log'!$BM$18:$BM$1017,$B350,'Daily Log'!$BN$18:$BN$1017),0)","v":0},{"$f":"IFERROR($E350*SUMIF('Daily Log'!$BP$18:$BP$1017,$B350,'Daily Log'!$BQ$18:$BQ$1017),0)","v":0},{"$f":"IFERROR($E350*SUMIF('Daily Log'!$BS$18:$BS$1017,$B350,'Daily Log'!$BT$18:$BT$1017),0)","v":0},{"$f":"IFERROR($E350*SUMIF('Daily Log'!$BV$18:$BV$1017,$B350,'Daily Log'!$BW$18:$BW$1017),0)","v":0},{"$f":"IFERROR($E350*SUMIF('Daily Log'!$BY$18:$BY$1017,$B350,'Daily Log'!$BZ$18:$BZ$1017),0)","v":0},{"$f":"IFERROR($E350*SUMIF('Daily Log'!$CB$18:$CB$1017,$B350,'Daily Log'!$CC$18:$CC$1017),0)","v":0},{"$f":"IFERROR($E350*SUMIF('Daily Log'!$CE$18:$CE$1017,$B350,'Daily Log'!$CF$18:$CF$1017),0)","v":111},{"$f":"IFERROR($E350*SUMIF('Daily Log'!$CH$18:$CH$1017,$B350,'Daily Log'!$CI$18:$CI$1017),0)","v":0},{"$f":"IFERROR($E350*SUMIF('Daily Log'!$CK$18:$CK$1017,$B350,'Daily Log'!$CL$18:$CL$1017),0)","v":0},{"$f":"IFERROR($E350*SUMIF('Daily Log'!$CN$18:$CN$1017,$B350,'Daily Log'!$CO$18:$CO$1017),0)","v":0}]
[null,"CG03 92025:PEPSI",null,"FFDRINKS-COLD",1,1313,{"$f":"IFERROR($E351*SUMIF('Daily Log'!$B$18:$B$1017,$B351,'Daily Log'!$C$18:$C$1017),0)","v":0},{"$f":"IFERROR($E351*SUMIF('Daily Log'!$E$18:$E$1017,$B351,'Daily Log'!$F$18:$F$1017),0)","v":0},{"$f":"IFERROR($E351*SUMIF('Daily Log'!$H$18:$H$1017,$B351,'Daily Log'!$I$18:$I$1017),0)","v":0},{"$f":"IFERROR($E351*SUMIF('Daily Log'!$K$18:$K$1017,$B351,'Daily Log'!$L$18:$L$1017),0)","v":0},{"$f":"IFERROR($E351*SUMIF('Daily Log'!$N$18:$N$1017,$B351,'Daily Log'!$O$18:$O$1017),0)","v":0},{"$f":"IFERROR($E351*SUMIF('Daily Log'!$Q$18:$Q$1017,$B351,'Daily Log'!$R$18:$R$1017),0)","v":0},{"$f":"IFERROR($E351*SUMIF('Daily Log'!$T$18:$T$1017,$B351,'Daily Log'!$U$18:$U$1017),0)","v":0},{"$f":"IFERROR($E351*SUMIF('Daily Log'!$W$18:$W$1017,$B351,'Daily Log'!$X$18:$X$1017),0)","v":0},{"$f":"IFERROR($E351*SUMIF('Daily Log'!$Z$18:$Z$1017,$B351,'Daily Log'!$AA$18:$AA$1017),0)","v":0},{"$f":"IFERROR($E351*SUMIF('Daily Log'!$AC$18:$AC$1017,$B351,'Daily Log'!$AD$18:$AD$1017),0)","v":0},{"$f":"IFERROR($E351*SUMIF('Daily Log'!$AF$18:$AF$1017,$B351,'Daily Log'!$AG$18:$AG$1017),0)","v":0},{"$f":"IFERROR($E351*SUMIF('Daily Log'!$AI$18:$AI$1017,$B351,'Daily Log'!$AJ$18:$AJ$1017),0)","v":0},{"$f":"IFERROR($E351*SUMIF('Daily Log'!$AL$18:$AL$1017,$B351,'Daily Log'!$AM$18:$AM$1017),0)","v":0},{"$f":"IFERROR($E351*SUMIF('Daily Log'!$AO$18:$AO$1017,$B351,'Daily Log'!$AP$18:$AP$1017),0)","v":0},{"$f":"IFERROR($E351*SUMIF('Daily Log'!$AR$18:$AR$1017,$B351,'Daily Log'!$AS$18:$AS$1017),0)","v":0},{"$f":"IFERROR($E351*SUMIF('Daily Log'!$AU$18:$AU$1017,$B351,'Daily Log'!$AV$18:$AV$1017),0)","v":0},{"$f":"IFERROR($E351*SUMIF('Daily Log'!$AX$18:$AX$1017,$B351,'Daily Log'!$AY$18:$AY$1017),0)","v":0},{"$f":"IFERROR($E351*SUMIF('Daily Log'!$BA$18:$BA$1017,$B351,'Daily Log'!$BB$18:$BB$1017),0)","v":0},{"$f":"IFERROR($E351*SUMIF('Daily Log'!$BD$18:$BD$1017,$B351,'Daily Log'!$BE$18:$BE$1017),0)","v":0},{"$f":"IFERROR($E351*SUMIF('Daily Log'!$BG$18:$BG$1017,$B351,'Daily Log'!$BH$18:$BH$1017),0)","v":0},{"$f":"IFERROR($E351*SUMIF('Daily Log'!$BJ$18:$BJ$1017,$B351,'Daily Log'!$BK$18:$BK$1017),0)","v":0},{"$f":"IFERROR($E351*SUMIF('Daily Log'!$BM$18:$BM$1017,$B351,'Daily Log'!$BN$18:$BN$1017),0)","v":0},{"$f":"IFERROR($E351*SUMIF('Daily Log'!$BP$18:$BP$1017,$B351,'Daily Log'!$BQ$18:$BQ$1017),0)","v":0},{"$f":"IFERROR($E351*SUMIF('Daily Log'!$BS$18:$BS$1017,$B351,'Daily Log'!$BT$18:$BT$1017),0)","v":0},{"$f":"IFERROR($E351*SUMIF('Daily Log'!$BV$18:$BV$1017,$B351,'Daily Log'!$BW$18:$BW$1017),0)","v":0},{"$f":"IFERROR($E351*SUMIF('Daily Log'!$BY$18:$BY$1017,$B351,'Daily Log'!$BZ$18:$BZ$1017),0)","v":0},{"$f":"IFERROR($E351*SUMIF('Daily Log'!$CB$18:$CB$1017,$B351,'Daily Log'!$CC$18:$CC$1017),0)","v":0},{"$f":"IFERROR($E351*SUMIF('Daily Log'!$CE$18:$CE$1017,$B351,'Daily Log'!$CF$18:$CF$1017),0)","v":1313},{"$f":"IFERROR($E351*SUMIF('Daily Log'!$CH$18:$CH$1017,$B351,'Daily Log'!$CI$18:$CI$1017),0)","v":0},{"$f":"IFERROR($E351*SUMIF('Daily Log'!$CK$18:$CK$1017,$B351,'Daily Log'!$CL$18:$CL$1017),0)","v":0},{"$f":"IFERROR($E351*SUMIF('Daily Log'!$CN$18:$CN$1017,$B351,'Daily Log'!$CO$18:$CO$1017),0)","v":0}]
[null,"WA01 2026:BM WATER",null,null,1,0,{"$f":"IFERROR($E352*SUMIF('Daily Log'!$B$18:$B$1017,$B352,'Daily Log'!$C$18:$C$1017),0)","v":0},{"$f":"IFERROR($E352*SUMIF('Daily Log'!$E$18:$E$1017,$B352,'Daily Log'!$F$18:$F$1017),0)","v":0},{"$f":"IFERROR($E352*SUMIF('Daily Log'!$H$18:$H$1017,$B352,'Daily Log'!$I$18:$I$1017),0)","v":0},{"$f":"IFERROR($E352*SUMIF('Daily Log'!$K$18:$K$1017,$B352,'Daily Log'!$L$18:$L$1017),0)","v":0},{"$f":"IFERROR($E352*SUMIF('Daily Log'!$N$18:$N$1017,$B352,'Daily Log'!$O$18:$O$1017),0)","v":0},{"$f":"IFERROR($E352*SUMIF('Daily Log'!$Q$18:$Q$1017,$B352,'Daily Log'!$R$18:$R$1017),0)","v":0},{"$f":"IFERROR($E352*SUMIF('Daily Log'!$T$18:$T$1017,$B352,'Daily Log'!$U$18:$U$1017),0)","v":0},{"$f":"IFERROR($E352*SUMIF('Daily Log'!$W$18:$W$1017,$B352,'Daily Log'!$X$18:$X$1017),0)","v":0},{"$f":"IFERROR($E352*SUMIF('Daily Log'!$Z$18:$Z$1017,$B352,'Daily Log'!$AA$18:$AA$1017),0)","v":0},{"$f":"IFERROR($E352*SUMIF('Daily Log'!$AC$18:$AC$1017,$B352,'Daily Log'!$AD$18:$AD$1017),0)","v":0},{"$f":"IFERROR($E352*SUMIF('Daily Log'!$AF$18:$AF$1017,$B352,'Daily Log'!$AG$18:$AG$1017),0)","v":0},{"$f":"IFERROR($E352*SUMIF('Daily Log'!$AI$18:$AI$1017,$B352,'Daily Log'!$AJ$18:$AJ$1017),0)","v":0},{"$f":"IFERROR($E352*SUMIF('Daily Log'!$AL$18:$AL$1017,$B352,'Daily Log'!$AM$18:$AM$1017),0)","v":0},{"$f":"IFERROR($E352*SUMIF('Daily Log'!$AO$18:$AO$1017,$B352,'Daily Log'!$AP$18:$AP$1017),0)","v":0},{"$f":"IFERROR($E352*SUMIF('Daily Log'!$AR$18:$AR$1017,$B352,'Daily Log'!$AS$18:$AS$1017),0)","v":0},{"$f":"IFERROR($E352*SUMIF('Daily Log'!$AU$18:$AU$1017,$B352,'Daily Log'!$AV$18:$AV$1017),0)","v":0},{"$f":"IFERROR($E352*SUMIF('Daily Log'!$AX$18:$AX$1017,$B352,'Daily Log'!$AY$18:$AY$1017),0)","v":0},{"$f":"IFERROR($E352*SUMIF('Daily Log'!$BA$18:$BA$1017,$B352,'Daily Log'!$BB$18:$BB$1017),0)","v":0},{"$f":"IFERROR($E352*SUMIF('Daily Log'!$BD$18:$BD$1017,$B352,'Daily Log'!$BE$18:$BE$1017),0)","v":0},{"$f":"IFERROR($E352*SUMIF('Daily Log'!$BG$18:$BG$1017,$B352,'Daily Log'!$BH$18:$BH$1017),0)","v":0},{"$f":"IFERROR($E352*SUMIF('Daily Log'!$BJ$18:$BJ$1017,$B352,'Daily Log'!$BK$18:$BK$1017),0)","v":0},{"$f":"IFERROR($E352*SUMIF('Daily Log'!$BM$18:$BM$1017,$B352,'Daily Log'!$BN$18:$BN$1017),0)","v":0},{"$f":"IFERROR($E352*SUMIF('Daily Log'!$BP$18:$BP$1017,$B352,'Daily Log'!$BQ$18:$BQ$1017),0)","v":0},{"$f":"IFERROR($E352*SUMIF('Daily Log'!$BS$18:$BS$1017,$B352,'Daily Log'!$BT$18:$BT$1017),0)","v":0},{"$f":"IFERROR($E352*SUMIF('Daily Log'!$BV$18:$BV$1017,$B352,'Daily Log'!$BW$18:$BW$1017),0)","v":0},{"$f":"IFERROR($E352*SUMIF('Daily Log'!$BY$18:$BY$1017,$B352,'Daily Log'!$BZ$18:$BZ$1017),0)","v":0},{"$f":"IFERROR($E352*SUMIF('Daily Log'!$CB$18:$CB$1017,$B352,'Daily Log'!$CC$18:$CC$1017),0)","v":0},{"$f":"IFERROR($E352*SUMIF('Daily Log'!$CE$18:$CE$1017,$B352,'Daily Log'!$CF$18:$CF$1017),0)","v":0},{"$f":"IFERROR($E352*SUMIF('Daily Log'!$CH$18:$CH$1017,$B352,'Daily Log'!$CI$18:$CI$1017),0)","v":0},{"$f":"IFERROR($E352*SUMIF('Daily Log'!$CK$18:$CK$1017,$B352,'Daily Log'!$CL$18:$CL$1017),0)","v":0},{"$f":"IFERROR($E352*SUMIF('Daily Log'!$CN$18:$CN$1017,$B352,'Daily Log'!$CO$18:$CO$1017),0)","v":0}]
[null,"WG01 92026:PLN WATER",null,"SKY JUICE",1,1579,{"$f":"IFERROR($E353*SUMIF('Daily Log'!$B$18:$B$1017,$B353,'Daily Log'!$C$18:$C$1017),0)","v":0},{"$f":"IFERROR($E353*SUMIF('Daily Log'!$E$18:$E$1017,$B353,'Daily Log'!$F$18:$F$1017),0)","v":0},{"$f":"IFERROR($E353*SUMIF('Daily Log'!$H$18:$H$1017,$B353,'Daily Log'!$I$18:$I$1017),0)","v":0},{"$f":"IFERROR($E353*SUMIF('Daily Log'!$K$18:$K$1017,$B353,'Daily Log'!$L$18:$L$1017),0)","v":0},{"$f":"IFERROR($E353*SUMIF('Daily Log'!$N$18:$N$1017,$B353,'Daily Log'!$O$18:$O$1017),0)","v":0},{"$f":"IFERROR($E353*SUMIF('Daily Log'!$Q$18:$Q$1017,$B353,'Daily Log'!$R$18:$R$1017),0)","v":0},{"$f":"IFERROR($E353*SUMIF('Daily Log'!$T$18:$T$1017,$B353,'Daily Log'!$U$18:$U$1017),0)","v":0},{"$f":"IFERROR($E353*SUMIF('Daily Log'!$W$18:$W$1017,$B353,'Daily Log'!$X$18:$X$1017),0)","v":0},{"$f":"IFERROR($E353*SUMIF('Daily Log'!$Z$18:$Z$1017,$B353,'Daily Log'!$AA$18:$AA$1017),0)","v":0},{"$f":"IFERROR($E353*SUMIF('Daily Log'!$AC$18:$AC$1017,$B353,'Daily Log'!$AD$18:$AD$1017),0)","v":0},{"$f":"IFERROR($E353*SUMIF('Daily Log'!$AF$18:$AF$1017,$B353,'Daily Log'!$AG$18:$AG$1017),0)","v":0},{"$f":"IFERROR($E353*SUMIF('Daily Log'!$AI$18:$AI$1017,$B353,'Daily Log'!$AJ$18:$AJ$1017),0)","v":0},{"$f":"IFERROR($E353*SUMIF('Daily Log'!$AL$18:$AL$1017,$B353,'Daily Log'!$AM$18:$AM$1017),0)","v":0},{"$f":"IFERROR($E353*SUMIF('Daily Log'!$AO$18:$AO$1017,$B353,'Daily Log'!$AP$18:$AP$1017),0)","v":0},{"$f":"IFERROR($E353*SUMIF('Daily Log'!$AR$18:$AR$1017,$B353,'Daily Log'!$AS$18:$AS$1017),0)","v":0},{"$f":"IFERROR($E353*SUMIF('Daily Log'!$AU$18:$AU$1017,$B353,'Daily Log'!$AV$18:$AV$1017),0)","v":0},{"$f":"IFERROR($E353*SUMIF('Daily Log'!$AX$18:$AX$1017,$B353,'Daily Log'!$AY$18:$AY$1017),0)","v":0},{"$f":"IFERROR($E353*SUMIF('Daily Log'!$BA$18:$BA$1017,$B353,'Daily Log'!$BB$18:$BB$1017),0)","v":0},{"$f":"IFERROR($E353*SUMIF('Daily Log'!$BD$18:$BD$1017,$B353,'Daily Log'!$BE$18:$BE$1017),0)","v":0},{"$f":"IFERROR($E353*SUMIF('Daily Log'!$BG$18:$BG$1017,$B353,'Daily Log'!$BH$18:$BH$1017),0)","v":0},{"$f":"IFERROR($E353*SUMIF('Daily Log'!$BJ$18:$BJ$1017,$B353,'Daily Log'!$BK$18:$BK$1017),0)","v":0},{"$f":"IFERROR($E353*SUMIF('Daily Log'!$BM$18:$BM$1017,$B353,'Daily Log'!$BN$18:$BN$1017),0)","v":0},{"$f":"IFERROR($E353*SUMIF('Daily Log'!$BP$18:$BP$1017,$B353,'Daily Log'!$BQ$18:$BQ$1017),0)","v":0},{"$f":"IFERROR($E353*SUMIF('Daily Log'!$BS$18:$BS$1017,$B353,'Daily Log'!$BT$18:$BT$1017),0)","v":0},{"$f":"IFERROR($E353*SUMIF('Daily Log'!$BV$18:$BV$1017,$B353,'Daily Log'!$BW$18:$BW$1017),0)","v":0},{"$f":"IFERROR($E353*SUMIF('Daily Log'!$BY$18:$BY$1017,$B353,'Daily Log'!$BZ$18:$BZ$1017),0)","v":0},{"$f":"IFERROR($E353*SUMIF('Daily Log'!$CB$18:$CB$1017,$B353,'Daily Log'!$CC$18:$CC$1017),0)","v":0},{"$f":"IFERROR($E353*SUMIF('Daily Log'!$CE$18:$CE$1017,$B353,'Daily Log'!$CF$18:$CF$1017),0)","v":1579},{"$f":"IFERROR($E353*SUMIF('Daily Log'!$CH$18:$CH$1017,$B353,'Daily Log'!$CI$18:$CI$1017),0)","v":0},{"$f":"IFERROR($E353*SUMIF('Daily Log'!$CK$18:$CK$1017,$B353,'Daily Log'!$CL$18:$CL$1017),0)","v":0},{"$f":"IFERROR($E353*SUMIF('Daily Log'!$CN$18:$CN$1017,$B353,'Daily Log'!$CO$18:$CO$1017),0)","v":0}]
[null,"JU01 2501:GRAPE J",null,"SO-COLD BEVERAGE",1,0,{"$f":"IFERROR($E354*SUMIF('Daily Log'!$B$18:$B$1017,$B354,'Daily Log'!$C$18:$C$1017),0)","v":0},{"$f":"IFERROR($E354*SUMIF('Daily Log'!$E$18:$E$1017,$B354,'Daily Log'!$F$18:$F$1017),0)","v":0},{"$f":"IFERROR($E354*SUMIF('Daily Log'!$H$18:$H$1017,$B354,'Daily Log'!$I$18:$I$1017),0)","v":0},{"$f":"IFERROR($E354*SUMIF('Daily Log'!$K$18:$K$1017,$B354,'Daily Log'!$L$18:$L$1017),0)","v":0},{"$f":"IFERROR($E354*SUMIF('Daily Log'!$N$18:$N$1017,$B354,'Daily Log'!$O$18:$O$1017),0)","v":0},{"$f":"IFERROR($E354*SUMIF('Daily Log'!$Q$18:$Q$1017,$B354,'Daily Log'!$R$18:$R$1017),0)","v":0},{"$f":"IFERROR($E354*SUMIF('Daily Log'!$T$18:$T$1017,$B354,'Daily Log'!$U$18:$U$1017),0)","v":0},{"$f":"IFERROR($E354*SUMIF('Daily Log'!$W$18:$W$1017,$B354,'Daily Log'!$X$18:$X$1017),0)","v":0},{"$f":"IFERROR($E354*SUMIF('Daily Log'!$Z$18:$Z$1017,$B354,'Daily Log'!$AA$18:$AA$1017),0)","v":0},{"$f":"IFERROR($E354*SUMIF('Daily Log'!$AC$18:$AC$1017,$B354,'Daily Log'!$AD$18:$AD$1017),0)","v":0},{"$f":"IFERROR($E354*SUMIF('Daily Log'!$AF$18:$AF$1017,$B354,'Daily Log'!$AG$18:$AG$1017),0)","v":0},{"$f":"IFERROR($E354*SUMIF('Daily Log'!$AI$18:$AI$1017,$B354,'Daily Log'!$AJ$18:$AJ$1017),0)","v":0},{"$f":"IFERROR($E354*SUMIF('Daily Log'!$AL$18:$AL$1017,$B354,'Daily Log'!$AM$18:$AM$1017),0)","v":0},{"$f":"IFERROR($E354*SUMIF('Daily Log'!$AO$18:$AO$1017,$B354,'Daily Log'!$AP$18:$AP$1017),0)","v":0},{"$f":"IFERROR($E354*SUMIF('Daily Log'!$AR$18:$AR$1017,$B354,'Daily Log'!$AS$18:$AS$1017),0)","v":0},{"$f":"IFERROR($E354*SUMIF('Daily Log'!$AU$18:$AU$1017,$B354,'Daily Log'!$AV$18:$AV$1017),0)","v":0},{"$f":"IFERROR($E354*SUMIF('Daily Log'!$AX$18:$AX$1017,$B354,'Daily Log'!$AY$18:$AY$1017),0)","v":0},{"$f":"IFERROR($E354*SUMIF('Daily Log'!$BA$18:$BA$1017,$B354,'Daily Log'!$BB$18:$BB$1017),0)","v":0},{"$f":"IFERROR($E354*SUMIF('Daily Log'!$BD$18:$BD$1017,$B354,'Daily Log'!$BE$18:$BE$1017),0)","v":0},{"$f":"IFERROR($E354*SUMIF('Daily Log'!$BG$18:$BG$1017,$B354,'Daily Log'!$BH$18:$BH$1017),0)","v":0},{"$f":"IFERROR($E354*SUMIF('Daily Log'!$BJ$18:$BJ$1017,$B354,'Daily Log'!$BK$18:$BK$1017),0)","v":0},{"$f":"IFERROR($E354*SUMIF('Daily Log'!$BM$18:$BM$1017,$B354,'Daily Log'!$BN$18:$BN$1017),0)","v":0},{"$f":"IFERROR($E354*SUMIF('Daily Log'!$BP$18:$BP$1017,$B354,'Daily Log'!$BQ$18:$BQ$1017),0)","v":0},{"$f":"IFERROR($E354*SUMIF('Daily Log'!$BS$18:$BS$1017,$B354,'Daily Log'!$BT$18:$BT$1017),0)","v":0},{"$f":"IFERROR($E354*SUMIF('Daily Log'!$BV$18:$BV$1017,$B354,'Daily Log'!$BW$18:$BW$1017),0)","v":0},{"$f":"IFERROR($E354*SUMIF('Daily Log'!$BY$18:$BY$1017,$B354,'Daily Log'!$BZ$18:$BZ$1017),0)","v":0},{"$f":"IFERROR($E354*SUMIF('Daily Log'!$CB$18:$CB$1017,$B354,'Daily Log'!$CC$18:$CC$1017),0)","v":0},{"$f":"IFERROR($E354*SUMIF('Daily Log'!$CE$18:$CE$1017,$B354,'Daily Log'!$CF$18:$CF$1017),0)","v":0},{"$f":"IFERROR($E354*SUMIF('Daily Log'!$CH$18:$CH$1017,$B354,'Daily Log'!$CI$18:$CI$1017),0)","v":0},{"$f":"IFERROR($E354*SUMIF('Daily Log'!$CK$18:$CK$1017,$B354,'Daily Log'!$CL$18:$CL$1017),0)","v":0},{"$f":"IFERROR($E354*SUMIF('Daily Log'!$CN$18:$CN$1017,$B354,'Daily Log'!$CO$18:$CO$1017),0)","v":0}]
[null,"JU02 2502:APPLE J",null,"SO-COLD BEVERAGE",1,0,{"$f":"IFERROR($E355*SUMIF('Daily Log'!$B$18:$B$1017,$B355,'Daily Log'!$C$18:$C$1017),0)","v":0},{"$f":"IFERROR($E355*SUMIF('Daily Log'!$E$18:$E$1017,$B355,'Daily Log'!$F$18:$F$1017),0)","v":0},{"$f":"IFERROR($E355*SUMIF('Daily Log'!$H$18:$H$1017,$B355,'Daily Log'!$I$18:$I$1017),0)","v":0},{"$f":"IFERROR($E355*SUMIF('Daily Log'!$K$18:$K$1017,$B355,'Daily Log'!$L$18:$L$1017),0)","v":0},{"$f":"IFERROR($E355*SUMIF('Daily Log'!$N$18:$N$1017,$B355,'Daily Log'!$O$18:$O$1017),0)","v":0},{"$f":"IFERROR($E355*SUMIF('Daily Log'!$Q$18:$Q$1017,$B355,'Daily Log'!$R$18:$R$1017),0)","v":0},{"$f":"IFERROR($E355*SUMIF('Daily Log'!$T$18:$T$1017,$B355,'Daily Log'!$U$18:$U$1017),0)","v":0},{"$f":"IFERROR($E355*SUMIF('Daily Log'!$W$18:$W$1017,$B355,'Daily Log'!$X$18:$X$1017),0)","v":0},{"$f":"IFERROR($E355*SUMIF('Daily Log'!$Z$18:$Z$1017,$B355,'Daily Log'!$AA$18:$AA$1017),0)","v":0},{"$f":"IFERROR($E355*SUMIF('Daily Log'!$AC$18:$AC$1017,$B355,'Daily Log'!$AD$18:$AD$1017),0)","v":0},{"$f":"IFERROR($E355*SUMIF('Daily Log'!$AF$18:$AF$1017,$B355,'Daily Log'!$AG$18:$AG$1017),0)","v":0},{"$f":"IFERROR($E355*SUMIF('Daily Log'!$AI$18:$AI$1017,$B355,'Daily Log'!$AJ$18:$AJ$1017),0)","v":0},{"$f":"IFERROR($E355*SUMIF('Daily Log'!$AL$18:$AL$1017,$B355,'Daily Log'!$AM$18:$AM$1017),0)","v":0},{"$f":"IFERROR($E355*SUMIF('Daily Log'!$AO$18:$AO$1017,$B355,'Daily Log'!$AP$18:$AP$1017),0)","v":0},{"$f":"IFERROR($E355*SUMIF('Daily Log'!$AR$18:$AR$1017,$B355,'Daily Log'!$AS$18:$AS$1017),0)","v":0},{"$f":"IFERROR($E355*SUMIF('Daily Log'!$AU$18:$AU$1017,$B355,'Daily Log'!$AV$18:$AV$1017),0)","v":0},{"$f":"IFERROR($E355*SUMIF('Daily Log'!$AX$18:$AX$1017,$B355,'Daily Log'!$AY$18:$AY$1017),0)","v":0},{"$f":"IFERROR($E355*SUMIF('Daily Log'!$BA$18:$BA$1017,$B355,'Daily Log'!$BB$18:$BB$1017),0)","v":0},{"$f":"IFERROR($E355*SUMIF('Daily Log'!$BD$18:$BD$1017,$B355,'Daily Log'!$BE$18:$BE$1017),0)","v":0},{"$f":"IFERROR($E355*SUMIF('Daily Log'!$BG$18:$BG$1017,$B355,'Daily Log'!$BH$18:$BH$1017),0)","v":0},{"$f":"IFERROR($E355*SUMIF('Daily Log'!$BJ$18:$BJ$1017,$B355,'Daily Log'!$BK$18:$BK$1017),0)","v":0},{"$f":"IFERROR($E355*SUMIF('Daily Log'!$BM$18:$BM$1017,$B355,'Daily Log'!$BN$18:$BN$1017),0)","v":0},{"$f":"IFERROR($E355*SUMIF('Daily Log'!$BP$18:$BP$1017,$B355,'Daily Log'!$BQ$18:$BQ$1017),0)","v":0},{"$f":"IFERROR($E355*SUMIF('Daily Log'!$BS$18:$BS$1017,$B355,'Daily Log'!$BT$18:$BT$1017),0)","v":0},{"$f":"IFERROR($E355*SUMIF('Daily Log'!$BV$18:$BV$1017,$B355,'Daily Log'!$BW$18:$BW$1017),0)","v":0},{"$f":"IFERROR($E355*SUMIF('Daily Log'!$BY$18:$BY$1017,$B355,'Daily Log'!$BZ$18:$BZ$1017),0)","v":0},{"$f":"IFERROR($E355*SUMIF('Daily Log'!$CB$18:$CB$1017,$B355,'Daily Log'!$CC$18:$CC$1017),0)","v":0},{"$f":"IFERROR($E355*SUMIF('Daily Log'!$CE$18:$CE$1017,$B355,'Daily Log'!$CF$18:$CF$1017),0)","v":0},{"$f":"IFERROR($E355*SUMIF('Daily Log'!$CH$18:$CH$1017,$B355,'Daily Log'!$CI$18:$CI$1017),0)","v":0},{"$f":"IFERROR($E355*SUMIF('Daily Log'!$CK$18:$CK$1017,$B355,'Daily Log'!$CL$18:$CL$1017),0)","v":0},{"$f":"IFERROR($E355*SUMIF('Daily Log'!$CN$18:$CN$1017,$B355,'Daily Log'!$CO$18:$CO$1017),0)","v":0}]
[null,"JU03 2503:MANGO J",null,"SO-COLD BEVERAGE",1,0,{"$f":"IFERROR($E356*SUMIF('Daily Log'!$B$18:$B$1017,$B356,'Daily Log'!$C$18:$C$1017),0)","v":0},{"$f":"IFERROR($E356*SUMIF('Daily Log'!$E$18:$E$1017,$B356,'Daily Log'!$F$18:$F$1017),0)","v":0},{"$f":"IFERROR($E356*SUMIF('Daily Log'!$H$18:$H$1017,$B356,'Daily Log'!$I$18:$I$1017),0)","v":0},{"$f":"IFERROR($E356*SUMIF('Daily Log'!$K$18:$K$1017,$B356,'Daily Log'!$L$18:$L$1017),0)","v":0},{"$f":"IFERROR($E356*SUMIF('Daily Log'!$N$18:$N$1017,$B356,'Daily Log'!$O$18:$O$1017),0)","v":0},{"$f":"IFERROR($E356*SUMIF('Daily Log'!$Q$18:$Q$1017,$B356,'Daily Log'!$R$18:$R$1017),0)","v":0},{"$f":"IFERROR($E356*SUMIF('Daily Log'!$T$18:$T$1017,$B356,'Daily Log'!$U$18:$U$1017),0)","v":0},{"$f":"IFERROR($E356*SUMIF('Daily Log'!$W$18:$W$1017,$B356,'Daily Log'!$X$18:$X$1017),0)","v":0},{"$f":"IFERROR($E356*SUMIF('Daily Log'!$Z$18:$Z$1017,$B356,'Daily Log'!$AA$18:$AA$1017),0)","v":0},{"$f":"IFERROR($E356*SUMIF('Daily Log'!$AC$18:$AC$1017,$B356,'Daily Log'!$AD$18:$AD$1017),0)","v":0},{"$f":"IFERROR($E356*SUMIF('Daily Log'!$AF$18:$AF$1017,$B356,'Daily Log'!$AG$18:$AG$1017),0)","v":0},{"$f":"IFERROR($E356*SUMIF('Daily Log'!$AI$18:$AI$1017,$B356,'Daily Log'!$AJ$18:$AJ$1017),0)","v":0},{"$f":"IFERROR($E356*SUMIF('Daily Log'!$AL$18:$AL$1017,$B356,'Daily Log'!$AM$18:$AM$1017),0)","v":0},{"$f":"IFERROR($E356*SUMIF('Daily Log'!$AO$18:$AO$1017,$B356,'Daily Log'!$AP$18:$AP$1017),0)","v":0},{"$f":"IFERROR($E356*SUMIF('Daily Log'!$AR$18:$AR$1017,$B356,'Daily Log'!$AS$18:$AS$1017),0)","v":0},{"$f":"IFERROR($E356*SUMIF('Daily Log'!$AU$18:$AU$1017,$B356,'Daily Log'!$AV$18:$AV$1017),0)","v":0},{"$f":"IFERROR($E356*SUMIF('Daily Log'!$AX$18:$AX$1017,$B356,'Daily Log'!$AY$18:$AY$1017),0)","v":0},{"$f":"IFERROR($E356*SUMIF('Daily Log'!$BA$18:$BA$1017,$B356,'Daily Log'!$BB$18:$BB$1017),0)","v":0},{"$f":"IFERROR($E356*SUMIF('Daily Log'!$BD$18:$BD$1017,$B356,'Daily Log'!$BE$18:$BE$1017),0)","v":0},{"$f":"IFERROR($E356*SUMIF('Daily Log'!$BG$18:$BG$1017,$B356,'Daily Log'!$BH$18:$BH$1017),0)","v":0},{"$f":"IFERROR($E356*SUMIF('Daily Log'!$BJ$18:$BJ$1017,$B356,'Daily Log'!$BK$18:$BK$1017),0)","v":0},{"$f":"IFERROR($E356*SUMIF('Daily Log'!$BM$18:$BM$1017,$B356,'Daily Log'!$BN$18:$BN$1017),0)","v":0},{"$f":"IFERROR($E356*SUMIF('Daily Log'!$BP$18:$BP$1017,$B356,'Daily Log'!$BQ$18:$BQ$1017),0)","v":0},{"$f":"IFERROR($E356*SUMIF('Daily Log'!$BS$18:$BS$1017,$B356,'Daily Log'!$BT$18:$BT$1017),0)","v":0},{"$f":"IFERROR($E356*SUMIF('Daily Log'!$BV$18:$BV$1017,$B356,'Daily Log'!$BW$18:$BW$1017),0)","v":0},{"$f":"IFERROR($E356*SUMIF('Daily Log'!$BY$18:$BY$1017,$B356,'Daily Log'!$BZ$18:$BZ$1017),0)","v":0},{"$f":"IFERROR($E356*SUMIF('Daily Log'!$CB$18:$CB$1017,$B356,'Daily Log'!$CC$18:$CC$1017),0)","v":0},{"$f":"IFERROR($E356*SUMIF('Daily Log'!$CE$18:$CE$1017,$B356,'Daily Log'!$CF$18:$CF$1017),0)","v":0},{"$f":"IFERROR($E356*SUMIF('Daily Log'!$CH$18:$CH$1017,$B356,'Daily Log'!$CI$18:$CI$1017),0)","v":0},{"$f":"IFERROR($E356*SUMIF('Daily Log'!$CK$18:$CK$1017,$B356,'Daily Log'!$CL$18:$CL$1017),0)","v":0},{"$f":"IFERROR($E356*SUMIF('Daily Log'!$CN$18:$CN$1017,$B356,'Daily Log'!$CO$18:$CO$1017),0)","v":0}]
[null,"JU04 2504:PASSION J",null,"SO-COLD BEVERAGE",1,0,{"$f":"IFERROR($E357*SUMIF('Daily Log'!$B$18:$B$1017,$B357,'Daily Log'!$C$18:$C$1017),0)","v":0},{"$f":"IFERROR($E357*SUMIF('Daily Log'!$E$18:$E$1017,$B357,'Daily Log'!$F$18:$F$1017),0)","v":0},{"$f":"IFERROR($E357*SUMIF('Daily Log'!$H$18:$H$1017,$B357,'Daily Log'!$I$18:$I$1017),0)","v":0},{"$f":"IFERROR($E357*SUMIF('Daily Log'!$K$18:$K$1017,$B357,'Daily Log'!$L$18:$L$1017),0)","v":0},{"$f":"IFERROR($E357*SUMIF('Daily Log'!$N$18:$N$1017,$B357,'Daily Log'!$O$18:$O$1017),0)","v":0},{"$f":"IFERROR($E357*SUMIF('Daily Log'!$Q$18:$Q$1017,$B357,'Daily Log'!$R$18:$R$1017),0)","v":0},{"$f":"IFERROR($E357*SUMIF('Daily Log'!$T$18:$T$1017,$B357,'Daily Log'!$U$18:$U$1017),0)","v":0},{"$f":"IFERROR($E357*SUMIF('Daily Log'!$W$18:$W$1017,$B357,'Daily Log'!$X$18:$X$1017),0)","v":0},{"$f":"IFERROR($E357*SUMIF('Daily Log'!$Z$18:$Z$1017,$B357,'Daily Log'!$AA$18:$AA$1017),0)","v":0},{"$f":"IFERROR($E357*SUMIF('Daily Log'!$AC$18:$AC$1017,$B357,'Daily Log'!$AD$18:$AD$1017),0)","v":0},{"$f":"IFERROR($E357*SUMIF('Daily Log'!$AF$18:$AF$1017,$B357,'Daily Log'!$AG$18:$AG$1017),0)","v":0},{"$f":"IFERROR($E357*SUMIF('Daily Log'!$AI$18:$AI$1017,$B357,'Daily Log'!$AJ$18:$AJ$1017),0)","v":0},{"$f":"IFERROR($E357*SUMIF('Daily Log'!$AL$18:$AL$1017,$B357,'Daily Log'!$AM$18:$AM$1017),0)","v":0},{"$f":"IFERROR($E357*SUMIF('Daily Log'!$AO$18:$AO$1017,$B357,'Daily Log'!$AP$18:$AP$1017),0)","v":0},{"$f":"IFERROR($E357*SUMIF('Daily Log'!$AR$18:$AR$1017,$B357,'Daily Log'!$AS$18:$AS$1017),0)","v":0},{"$f":"IFERROR($E357*SUMIF('Daily Log'!$AU$18:$AU$1017,$B357,'Daily Log'!$AV$18:$AV$1017),0)","v":0},{"$f":"IFERROR($E357*SUMIF('Daily Log'!$AX$18:$AX$1017,$B357,'Daily Log'!$AY$18:$AY$1017),0)","v":0},{"$f":"IFERROR($E357*SUMIF('Daily Log'!$BA$18:$BA$1017,$B357,'Daily Log'!$BB$18:$BB$1017),0)","v":0},{"$f":"IFERROR($E357*SUMIF('Daily Log'!$BD$18:$BD$1017,$B357,'Daily Log'!$BE$18:$BE$1017),0)","v":0},{"$f":"IFERROR($E357*SUMIF('Daily Log'!$BG$18:$BG$1017,$B357,'Daily Log'!$BH$18:$BH$1017),0)","v":0},{"$f":"IFERROR($E357*SUMIF('Daily Log'!$BJ$18:$BJ$1017,$B357,'Daily Log'!$BK$18:$BK$1017),0)","v":0},{"$f":"IFERROR($E357*SUMIF('Daily Log'!$BM$18:$BM$1017,$B357,'Daily Log'!$BN$18:$BN$1017),0)","v":0},{"$f":"IFERROR($E357*SUMIF('Daily Log'!$BP$18:$BP$1017,$B357,'Daily Log'!$BQ$18:$BQ$1017),0)","v":0},{"$f":"IFERROR($E357*SUMIF('Daily Log'!$BS$18:$BS$1017,$B357,'Daily Log'!$BT$18:$BT$1017),0)","v":0},{"$f":"IFERROR($E357*SUMIF('Daily Log'!$BV$18:$BV$1017,$B357,'Daily Log'!$BW$18:$BW$1017),0)","v":0},{"$f":"IFERROR($E357*SUMIF('Daily Log'!$BY$18:$BY$1017,$B357,'Daily Log'!$BZ$18:$BZ$1017),0)","v":0},{"$f":"IFERROR($E357*SUMIF('Daily Log'!$CB$18:$CB$1017,$B357,'Daily Log'!$CC$18:$CC$1017),0)","v":0},{"$f":"IFERROR($E357*SUMIF('Daily Log'!$CE$18:$CE$1017,$B357,'Daily Log'!$CF$18:$CF$1017),0)","v":0},{"$f":"IFERROR($E357*SUMIF('Daily Log'!$CH$18:$CH$1017,$B357,'Daily Log'!$CI$18:$CI$1017),0)","v":0},{"$f":"IFERROR($E357*SUMIF('Daily Log'!$CK$18:$CK$1017,$B357,'Daily Log'!$CL$18:$CL$1017),0)","v":0},{"$f":"IFERROR($E357*SUMIF('Daily Log'!$CN$18:$CN$1017,$B357,'Daily Log'!$CO$18:$CO$1017),0)","v":0}]
[null,"JU05 2505:RIBENA J",null,"SO-COLD BEVERAGE",1,0,{"$f":"IFERROR($E358*SUMIF('Daily Log'!$B$18:$B$1017,$B358,'Daily Log'!$C$18:$C$1017),0)","v":0},{"$f":"IFERROR($E358*SUMIF('Daily Log'!$E$18:$E$1017,$B358,'Daily Log'!$F$18:$F$1017),0)","v":0},{"$f":"IFERROR($E358*SUMIF('Daily Log'!$H$18:$H$1017,$B358,'Daily Log'!$I$18:$I$1017),0)","v":0},{"$f":"IFERROR($E358*SUMIF('Daily Log'!$K$18:$K$1017,$B358,'Daily Log'!$L$18:$L$1017),0)","v":0},{"$f":"IFERROR($E358*SUMIF('Daily Log'!$N$18:$N$1017,$B358,'Daily Log'!$O$18:$O$1017),0)","v":0},{"$f":"IFERROR($E358*SUMIF('Daily Log'!$Q$18:$Q$1017,$B358,'Daily Log'!$R$18:$R$1017),0)","v":0},{"$f":"IFERROR($E358*SUMIF('Daily Log'!$T$18:$T$1017,$B358,'Daily Log'!$U$18:$U$1017),0)","v":0},{"$f":"IFERROR($E358*SUMIF('Daily Log'!$W$18:$W$1017,$B358,'Daily Log'!$X$18:$X$1017),0)","v":0},{"$f":"IFERROR($E358*SUMIF('Daily Log'!$Z$18:$Z$1017,$B358,'Daily Log'!$AA$18:$AA$1017),0)","v":0},{"$f":"IFERROR($E358*SUMIF('Daily Log'!$AC$18:$AC$1017,$B358,'Daily Log'!$AD$18:$AD$1017),0)","v":0},{"$f":"IFERROR($E358*SUMIF('Daily Log'!$AF$18:$AF$1017,$B358,'Daily Log'!$AG$18:$AG$1017),0)","v":0},{"$f":"IFERROR($E358*SUMIF('Daily Log'!$AI$18:$AI$1017,$B358,'Daily Log'!$AJ$18:$AJ$1017),0)","v":0},{"$f":"IFERROR($E358*SUMIF('Daily Log'!$AL$18:$AL$1017,$B358,'Daily Log'!$AM$18:$AM$1017),0)","v":0},{"$f":"IFERROR($E358*SUMIF('Daily Log'!$AO$18:$AO$1017,$B358,'Daily Log'!$AP$18:$AP$1017),0)","v":0},{"$f":"IFERROR($E358*SUMIF('Daily Log'!$AR$18:$AR$1017,$B358,'Daily Log'!$AS$18:$AS$1017),0)","v":0},{"$f":"IFERROR($E358*SUMIF('Daily Log'!$AU$18:$AU$1017,$B358,'Daily Log'!$AV$18:$AV$1017),0)","v":0},{"$f":"IFERROR($E358*SUMIF('Daily Log'!$AX$18:$AX$1017,$B358,'Daily Log'!$AY$18:$AY$1017),0)","v":0},{"$f":"IFERROR($E358*SUMIF('Daily Log'!$BA$18:$BA$1017,$B358,'Daily Log'!$BB$18:$BB$1017),0)","v":0},{"$f":"IFERROR($E358*SUMIF('Daily Log'!$BD$18:$BD$1017,$B358,'Daily Log'!$BE$18:$BE$1017),0)","v":0},{"$f":"IFERROR($E358*SUMIF('Daily Log'!$BG$18:$BG$1017,$B358,'Daily Log'!$BH$18:$BH$1017),0)","v":0},{"$f":"IFERROR($E358*SUMIF('Daily Log'!$BJ$18:$BJ$1017,$B358,'Daily Log'!$BK$18:$BK$1017),0)","v":0},{"$f":"IFERROR($E358*SUMIF('Daily Log'!$BM$18:$BM$1017,$B358,'Daily Log'!$BN$18:$BN$1017),0)","v":0},{"$f":"IFERROR($E358*SUMIF('Daily Log'!$BP$18:$BP$1017,$B358,'Daily Log'!$BQ$18:$BQ$1017),0)","v":0},{"$f":"IFERROR($E358*SUMIF('Daily Log'!$BS$18:$BS$1017,$B358,'Daily Log'!$BT$18:$BT$1017),0)","v":0},{"$f":"IFERROR($E358*SUMIF('Daily Log'!$BV$18:$BV$1017,$B358,'Daily Log'!$BW$18:$BW$1017),0)","v":0},{"$f":"IFERROR($E358*SUMIF('Daily Log'!$BY$18:$BY$1017,$B358,'Daily Log'!$BZ$18:$BZ$1017),0)","v":0},{"$f":"IFERROR($E358*SUMIF('Daily Log'!$CB$18:$CB$1017,$B358,'Daily Log'!$CC$18:$CC$1017),0)","v":0},{"$f":"IFERROR($E358*SUMIF('Daily Log'!$CE$18:$CE$1017,$B358,'Daily Log'!$CF$18:$CF$1017),0)","v":0},{"$f":"IFERROR($E358*SUMIF('Daily Log'!$CH$18:$CH$1017,$B358,'Daily Log'!$CI$18:$CI$1017),0)","v":0},{"$f":"IFERROR($E358*SUMIF('Daily Log'!$CK$18:$CK$1017,$B358,'Daily Log'!$CL$18:$CL$1017),0)","v":0},{"$f":"IFERROR($E358*SUMIF('Daily Log'!$CN$18:$CN$1017,$B358,'Daily Log'!$CO$18:$CO$1017),0)","v":0}]
[null,"JF01 92501:GRAPE J",null,"FFDRINKS-COLD",1,334,{"$f":"IFERROR($E359*SUMIF('Daily Log'!$B$18:$B$1017,$B359,'Daily Log'!$C$18:$C$1017),0)","v":0},{"$f":"IFERROR($E359*SUMIF('Daily Log'!$E$18:$E$1017,$B359,'Daily Log'!$F$18:$F$1017),0)","v":0},{"$f":"IFERROR($E359*SUMIF('Daily Log'!$H$18:$H$1017,$B359,'Daily Log'!$I$18:$I$1017),0)","v":0},{"$f":"IFERROR($E359*SUMIF('Daily Log'!$K$18:$K$1017,$B359,'Daily Log'!$L$18:$L$1017),0)","v":0},{"$f":"IFERROR($E359*SUMIF('Daily Log'!$N$18:$N$1017,$B359,'Daily Log'!$O$18:$O$1017),0)","v":0},{"$f":"IFERROR($E359*SUMIF('Daily Log'!$Q$18:$Q$1017,$B359,'Daily Log'!$R$18:$R$1017),0)","v":0},{"$f":"IFERROR($E359*SUMIF('Daily Log'!$T$18:$T$1017,$B359,'Daily Log'!$U$18:$U$1017),0)","v":0},{"$f":"IFERROR($E359*SUMIF('Daily Log'!$W$18:$W$1017,$B359,'Daily Log'!$X$18:$X$1017),0)","v":0},{"$f":"IFERROR($E359*SUMIF('Daily Log'!$Z$18:$Z$1017,$B359,'Daily Log'!$AA$18:$AA$1017),0)","v":0},{"$f":"IFERROR($E359*SUMIF('Daily Log'!$AC$18:$AC$1017,$B359,'Daily Log'!$AD$18:$AD$1017),0)","v":0},{"$f":"IFERROR($E359*SUMIF('Daily Log'!$AF$18:$AF$1017,$B359,'Daily Log'!$AG$18:$AG$1017),0)","v":0},{"$f":"IFERROR($E359*SUMIF('Daily Log'!$AI$18:$AI$1017,$B359,'Daily Log'!$AJ$18:$AJ$1017),0)","v":0},{"$f":"IFERROR($E359*SUMIF('Daily Log'!$AL$18:$AL$1017,$B359,'Daily Log'!$AM$18:$AM$1017),0)","v":0},{"$f":"IFERROR($E359*SUMIF('Daily Log'!$AO$18:$AO$1017,$B359,'Daily Log'!$AP$18:$AP$1017),0)","v":0},{"$f":"IFERROR($E359*SUMIF('Daily Log'!$AR$18:$AR$1017,$B359,'Daily Log'!$AS$18:$AS$1017),0)","v":0},{"$f":"IFERROR($E359*SUMIF('Daily Log'!$AU$18:$AU$1017,$B359,'Daily Log'!$AV$18:$AV$1017),0)","v":0},{"$f":"IFERROR($E359*SUMIF('Daily Log'!$AX$18:$AX$1017,$B359,'Daily Log'!$AY$18:$AY$1017),0)","v":0},{"$f":"IFERROR($E359*SUMIF('Daily Log'!$BA$18:$BA$1017,$B359,'Daily Log'!$BB$18:$BB$1017),0)","v":0},{"$f":"IFERROR($E359*SUMIF('Daily Log'!$BD$18:$BD$1017,$B359,'Daily Log'!$BE$18:$BE$1017),0)","v":0},{"$f":"IFERROR($E359*SUMIF('Daily Log'!$BG$18:$BG$1017,$B359,'Daily Log'!$BH$18:$BH$1017),0)","v":0},{"$f":"IFERROR($E359*SUMIF('Daily Log'!$BJ$18:$BJ$1017,$B359,'Daily Log'!$BK$18:$BK$1017),0)","v":0},{"$f":"IFERROR($E359*SUMIF('Daily Log'!$BM$18:$BM$1017,$B359,'Daily Log'!$BN$18:$BN$1017),0)","v":0},{"$f":"IFERROR($E359*SUMIF('Daily Log'!$BP$18:$BP$1017,$B359,'Daily Log'!$BQ$18:$BQ$1017),0)","v":0},{"$f":"IFERROR($E359*SUMIF('Daily Log'!$BS$18:$BS$1017,$B359,'Daily Log'!$BT$18:$BT$1017),0)","v":0},{"$f":"IFERROR($E359*SUMIF('Daily Log'!$BV$18:$BV$1017,$B359,'Daily Log'!$BW$18:$BW$1017),0)","v":0},{"$f":"IFERROR($E359*SUMIF('Daily Log'!$BY$18:$BY$1017,$B359,'Daily Log'!$BZ$18:$BZ$1017),0)","v":0},{"$f":"IFERROR($E359*SUMIF('Daily Log'!$CB$18:$CB$1017,$B359,'Daily Log'!$CC$18:$CC$1017),0)","v":0},{"$f":"IFERROR($E359*SUMIF('Daily Log'!$CE$18:$CE$1017,$B359,'Daily Log'!$CF$18:$CF$1017),0)","v":334},{"$f":"IFERROR($E359*SUMIF('Daily Log'!$CH$18:$CH$1017,$B359,'Daily Log'!$CI$18:$CI$1017),0)","v":0},{"$f":"IFERROR($E359*SUMIF('Daily Log'!$CK$18:$CK$1017,$B359,'Daily Log'!$CL$18:$CL$1017),0)","v":0},{"$f":"IFERROR($E359*SUMIF('Daily Log'!$CN$18:$CN$1017,$B359,'Daily Log'!$CO$18:$CO$1017),0)","v":0}]
[null,"JF02 92502:APPLE J",null,"FFDRINKS-COLD",1,493,{"$f":"IFERROR($E360*SUMIF('Daily Log'!$B$18:$B$1017,$B360,'Daily Log'!$C$18:$C$1017),0)","v":0},{"$f":"IFERROR($E360*SUMIF('Daily Log'!$E$18:$E$1017,$B360,'Daily Log'!$F$18:$F$1017),0)","v":0},{"$f":"IFERROR($E360*SUMIF('Daily Log'!$H$18:$H$1017,$B360,'Daily Log'!$I$18:$I$1017),0)","v":0},{"$f":"IFERROR($E360*SUMIF('Daily Log'!$K$18:$K$1017,$B360,'Daily Log'!$L$18:$L$1017),0)","v":0},{"$f":"IFERROR($E360*SUMIF('Daily Log'!$N$18:$N$1017,$B360,'Daily Log'!$O$18:$O$1017),0)","v":0},{"$f":"IFERROR($E360*SUMIF('Daily Log'!$Q$18:$Q$1017,$B360,'Daily Log'!$R$18:$R$1017),0)","v":0},{"$f":"IFERROR($E360*SUMIF('Daily Log'!$T$18:$T$1017,$B360,'Daily Log'!$U$18:$U$1017),0)","v":0},{"$f":"IFERROR($E360*SUMIF('Daily Log'!$W$18:$W$1017,$B360,'Daily Log'!$X$18:$X$1017),0)","v":0},{"$f":"IFERROR($E360*SUMIF('Daily Log'!$Z$18:$Z$1017,$B360,'Daily Log'!$AA$18:$AA$1017),0)","v":0},{"$f":"IFERROR($E360*SUMIF('Daily Log'!$AC$18:$AC$1017,$B360,'Daily Log'!$AD$18:$AD$1017),0)","v":0},{"$f":"IFERROR($E360*SUMIF('Daily Log'!$AF$18:$AF$1017,$B360,'Daily Log'!$AG$18:$AG$1017),0)","v":0},{"$f":"IFERROR($E360*SUMIF('Daily Log'!$AI$18:$AI$1017,$B360,'Daily Log'!$AJ$18:$AJ$1017),0)","v":0},{"$f":"IFERROR($E360*SUMIF('Daily Log'!$AL$18:$AL$1017,$B360,'Daily Log'!$AM$18:$AM$1017),0)","v":0},{"$f":"IFERROR($E360*SUMIF('Daily Log'!$AO$18:$AO$1017,$B360,'Daily Log'!$AP$18:$AP$1017),0)","v":0},{"$f":"IFERROR($E360*SUMIF('Daily Log'!$AR$18:$AR$1017,$B360,'Daily Log'!$AS$18:$AS$1017),0)","v":0},{"$f":"IFERROR($E360*SUMIF('Daily Log'!$AU$18:$AU$1017,$B360,'Daily Log'!$AV$18:$AV$1017),0)","v":0},{"$f":"IFERROR($E360*SUMIF('Daily Log'!$AX$18:$AX$1017,$B360,'Daily Log'!$AY$18:$AY$1017),0)","v":0},{"$f":"IFERROR($E360*SUMIF('Daily Log'!$BA$18:$BA$1017,$B360,'Daily Log'!$BB$18:$BB$1017),0)","v":0},{"$f":"IFERROR($E360*SUMIF('Daily Log'!$BD$18:$BD$1017,$B360,'Daily Log'!$BE$18:$BE$1017),0)","v":0},{"$f":"IFERROR($E360*SUMIF('Daily Log'!$BG$18:$BG$1017,$B360,'Daily Log'!$BH$18:$BH$1017),0)","v":0},{"$f":"IFERROR($E360*SUMIF('Daily Log'!$BJ$18:$BJ$1017,$B360,'Daily Log'!$BK$18:$BK$1017),0)","v":0},{"$f":"IFERROR($E360*SUMIF('Daily Log'!$BM$18:$BM$1017,$B360,'Daily Log'!$BN$18:$BN$1017),0)","v":0},{"$f":"IFERROR($E360*SUMIF('Daily Log'!$BP$18:$BP$1017,$B360,'Daily Log'!$BQ$18:$BQ$1017),0)","v":0},{"$f":"IFERROR($E360*SUMIF('Daily Log'!$BS$18:$BS$1017,$B360,'Daily Log'!$BT$18:$BT$1017),0)","v":0},{"$f":"IFERROR($E360*SUMIF('Daily Log'!$BV$18:$BV$1017,$B360,'Daily Log'!$BW$18:$BW$1017),0)","v":0},{"$f":"IFERROR($E360*SUMIF('Daily Log'!$BY$18:$BY$1017,$B360,'Daily Log'!$BZ$18:$BZ$1017),0)","v":0},{"$f":"IFERROR($E360*SUMIF('Daily Log'!$CB$18:$CB$1017,$B360,'Daily Log'!$CC$18:$CC$1017),0)","v":0},{"$f":"IFERROR($E360*SUMIF('Daily Log'!$CE$18:$CE$1017,$B360,'Daily Log'!$CF$18:$CF$1017),0)","v":493},{"$f":"IFERROR($E360*SUMIF('Daily Log'!$CH$18:$CH$1017,$B360,'Daily Log'!$CI$18:$CI$1017),0)","v":0},{"$f":"IFERROR($E360*SUMIF('Daily Log'!$CK$18:$CK$1017,$B360,'Daily Log'!$CL$18:$CL$1017),0)","v":0},{"$f":"IFERROR($E360*SUMIF('Daily Log'!$CN$18:$CN$1017,$B360,'Daily Log'!$CO$18:$CO$1017),0)","v":0}]
[null,"JF03 92503:MANGO J",null,"FFDRINKS-COLD",1,482,{"$f":"IFERROR($E361*SUMIF('Daily Log'!$B$18:$B$1017,$B361,'Daily Log'!$C$18:$C$1017),0)","v":0},{"$f":"IFERROR($E361*SUMIF('Daily Log'!$E$18:$E$1017,$B361,'Daily Log'!$F$18:$F$1017),0)","v":0},{"$f":"IFERROR($E361*SUMIF('Daily Log'!$H$18:$H$1017,$B361,'Daily Log'!$I$18:$I$1017),0)","v":0},{"$f":"IFERROR($E361*SUMIF('Daily Log'!$K$18:$K$1017,$B361,'Daily Log'!$L$18:$L$1017),0)","v":0},{"$f":"IFERROR($E361*SUMIF('Daily Log'!$N$18:$N$1017,$B361,'Daily Log'!$O$18:$O$1017),0)","v":0},{"$f":"IFERROR($E361*SUMIF('Daily Log'!$Q$18:$Q$1017,$B361,'Daily Log'!$R$18:$R$1017),0)","v":0},{"$f":"IFERROR($E361*SUMIF('Daily Log'!$T$18:$T$1017,$B361,'Daily Log'!$U$18:$U$1017),0)","v":0},{"$f":"IFERROR($E361*SUMIF('Daily Log'!$W$18:$W$1017,$B361,'Daily Log'!$X$18:$X$1017),0)","v":0},{"$f":"IFERROR($E361*SUMIF('Daily Log'!$Z$18:$Z$1017,$B361,'Daily Log'!$AA$18:$AA$1017),0)","v":0},{"$f":"IFERROR($E361*SUMIF('Daily Log'!$AC$18:$AC$1017,$B361,'Daily Log'!$AD$18:$AD$1017),0)","v":0},{"$f":"IFERROR($E361*SUMIF('Daily Log'!$AF$18:$AF$1017,$B361,'Daily Log'!$AG$18:$AG$1017),0)","v":0},{"$f":"IFERROR($E361*SUMIF('Daily Log'!$AI$18:$AI$1017,$B361,'Daily Log'!$AJ$18:$AJ$1017),0)","v":0},{"$f":"IFERROR($E361*SUMIF('Daily Log'!$AL$18:$AL$1017,$B361,'Daily Log'!$AM$18:$AM$1017),0)","v":0},{"$f":"IFERROR($E361*SUMIF('Daily Log'!$AO$18:$AO$1017,$B361,'Daily Log'!$AP$18:$AP$1017),0)","v":0},{"$f":"IFERROR($E361*SUMIF('Daily Log'!$AR$18:$AR$1017,$B361,'Daily Log'!$AS$18:$AS$1017),0)","v":0},{"$f":"IFERROR($E361*SUMIF('Daily Log'!$AU$18:$AU$1017,$B361,'Daily Log'!$AV$18:$AV$1017),0)","v":0},{"$f":"IFERROR($E361*SUMIF('Daily Log'!$AX$18:$AX$1017,$B361,'Daily Log'!$AY$18:$AY$1017),0)","v":0},{"$f":"IFERROR($E361*SUMIF('Daily Log'!$BA$18:$BA$1017,$B361,'Daily Log'!$BB$18:$BB$1017),0)","v":0},{"$f":"IFERROR($E361*SUMIF('Daily Log'!$BD$18:$BD$1017,$B361,'Daily Log'!$BE$18:$BE$1017),0)","v":0},{"$f":"IFERROR($E361*SUMIF('Daily Log'!$BG$18:$BG$1017,$B361,'Daily Log'!$BH$18:$BH$1017),0)","v":0},{"$f":"IFERROR($E361*SUMIF('Daily Log'!$BJ$18:$BJ$1017,$B361,'Daily Log'!$BK$18:$BK$1017),0)","v":0},{"$f":"IFERROR($E361*SUMIF('Daily Log'!$BM$18:$BM$1017,$B361,'Daily Log'!$BN$18:$BN$1017),0)","v":0},{"$f":"IFERROR($E361*SUMIF('Daily Log'!$BP$18:$BP$1017,$B361,'Daily Log'!$BQ$18:$BQ$1017),0)","v":0},{"$f":"IFERROR($E361*SUMIF('Daily Log'!$BS$18:$BS$1017,$B361,'Daily Log'!$BT$18:$BT$1017),0)","v":0},{"$f":"IFERROR($E361*SUMIF('Daily Log'!$BV$18:$BV$1017,$B361,'Daily Log'!$BW$18:$BW$1017),0)","v":0},{"$f":"IFERROR($E361*SUMIF('Daily Log'!$BY$18:$BY$1017,$B361,'Daily Log'!$BZ$18:$BZ$1017),0)","v":0},{"$f":"IFERROR($E361*SUMIF('Daily Log'!$CB$18:$CB$1017,$B361,'Daily Log'!$CC$18:$CC$1017),0)","v":0},{"$f":"IFERROR($E361*SUMIF('Daily Log'!$CE$18:$CE$1017,$B361,'Daily Log'!$CF$18:$CF$1017),0)","v":482},{"$f":"IFERROR($E361*SUMIF('Daily Log'!$CH$18:$CH$1017,$B361,'Daily Log'!$CI$18:$CI$1017),0)","v":0},{"$f":"IFERROR($E361*SUMIF('Daily Log'!$CK$18:$CK$1017,$B361,'Daily Log'!$CL$18:$CL$1017),0)","v":0},{"$f":"IFERROR($E361*SUMIF('Daily Log'!$CN$18:$CN$1017,$B361,'Daily Log'!$CO$18:$CO$1017),0)","v":0}]
[null,"JF04 92504:PASSION J",null,"FFDRINKS-COLD",1,663,{"$f":"IFERROR($E362*SUMIF('Daily Log'!$B$18:$B$1017,$B362,'Daily Log'!$C$18:$C$1017),0)","v":0},{"$f":"IFERROR($E362*SUMIF('Daily Log'!$E$18:$E$1017,$B362,'Daily Log'!$F$18:$F$1017),0)","v":0},{"$f":"IFERROR($E362*SUMIF('Daily Log'!$H$18:$H$1017,$B362,'Daily Log'!$I$18:$I$1017),0)","v":0},{"$f":"IFERROR($E362*SUMIF('Daily Log'!$K$18:$K$1017,$B362,'Daily Log'!$L$18:$L$1017),0)","v":0},{"$f":"IFERROR($E362*SUMIF('Daily Log'!$N$18:$N$1017,$B362,'Daily Log'!$O$18:$O$1017),0)","v":0},{"$f":"IFERROR($E362*SUMIF('Daily Log'!$Q$18:$Q$1017,$B362,'Daily Log'!$R$18:$R$1017),0)","v":0},{"$f":"IFERROR($E362*SUMIF('Daily Log'!$T$18:$T$1017,$B362,'Daily Log'!$U$18:$U$1017),0)","v":0},{"$f":"IFERROR($E362*SUMIF('Daily Log'!$W$18:$W$1017,$B362,'Daily Log'!$X$18:$X$1017),0)","v":0},{"$f":"IFERROR($E362*SUMIF('Daily Log'!$Z$18:$Z$1017,$B362,'Daily Log'!$AA$18:$AA$1017),0)","v":0},{"$f":"IFERROR($E362*SUMIF('Daily Log'!$AC$18:$AC$1017,$B362,'Daily Log'!$AD$18:$AD$1017),0)","v":0},{"$f":"IFERROR($E362*SUMIF('Daily Log'!$AF$18:$AF$1017,$B362,'Daily Log'!$AG$18:$AG$1017),0)","v":0},{"$f":"IFERROR($E362*SUMIF('Daily Log'!$AI$18:$AI$1017,$B362,'Daily Log'!$AJ$18:$AJ$1017),0)","v":0},{"$f":"IFERROR($E362*SUMIF('Daily Log'!$AL$18:$AL$1017,$B362,'Daily Log'!$AM$18:$AM$1017),0)","v":0},{"$f":"IFERROR($E362*SUMIF('Daily Log'!$AO$18:$AO$1017,$B362,'Daily Log'!$AP$18:$AP$1017),0)","v":0},{"$f":"IFERROR($E362*SUMIF('Daily Log'!$AR$18:$AR$1017,$B362,'Daily Log'!$AS$18:$AS$1017),0)","v":0},{"$f":"IFERROR($E362*SUMIF('Daily Log'!$AU$18:$AU$1017,$B362,'Daily Log'!$AV$18:$AV$1017),0)","v":0},{"$f":"IFERROR($E362*SUMIF('Daily Log'!$AX$18:$AX$1017,$B362,'Daily Log'!$AY$18:$AY$1017),0)","v":0},{"$f":"IFERROR($E362*SUMIF('Daily Log'!$BA$18:$BA$1017,$B362,'Daily Log'!$BB$18:$BB$1017),0)","v":0},{"$f":"IFERROR($E362*SUMIF('Daily Log'!$BD$18:$BD$1017,$B362,'Daily Log'!$BE$18:$BE$1017),0)","v":0},{"$f":"IFERROR($E362*SUMIF('Daily Log'!$BG$18:$BG$1017,$B362,'Daily Log'!$BH$18:$BH$1017),0)","v":0},{"$f":"IFERROR($E362*SUMIF('Daily Log'!$BJ$18:$BJ$1017,$B362,'Daily Log'!$BK$18:$BK$1017),0)","v":0},{"$f":"IFERROR($E362*SUMIF('Daily Log'!$BM$18:$BM$1017,$B362,'Daily Log'!$BN$18:$BN$1017),0)","v":0},{"$f":"IFERROR($E362*SUMIF('Daily Log'!$BP$18:$BP$1017,$B362,'Daily Log'!$BQ$18:$BQ$1017),0)","v":0},{"$f":"IFERROR($E362*SUMIF('Daily Log'!$BS$18:$BS$1017,$B362,'Daily Log'!$BT$18:$BT$1017),0)","v":0},{"$f":"IFERROR($E362*SUMIF('Daily Log'!$BV$18:$BV$1017,$B362,'Daily Log'!$BW$18:$BW$1017),0)","v":0},{"$f":"IFERROR($E362*SUMIF('Daily Log'!$BY$18:$BY$1017,$B362,'Daily Log'!$BZ$18:$BZ$1017),0)","v":0},{"$f":"IFERROR($E362*SUMIF('Daily Log'!$CB$18:$CB$1017,$B362,'Daily Log'!$CC$18:$CC$1017),0)","v":0},{"$f":"IFERROR($E362*SUMIF('Daily Log'!$CE$18:$CE$1017,$B362,'Daily Log'!$CF$18:$CF$1017),0)","v":663},{"$f":"IFERROR($E362*SUMIF('Daily Log'!$CH$18:$CH$1017,$B362,'Daily Log'!$CI$18:$CI$1017),0)","v":0},{"$f":"IFERROR($E362*SUMIF('Daily Log'!$CK$18:$CK$1017,$B362,'Daily Log'!$CL$18:$CL$1017),0)","v":0},{"$f":"IFERROR($E362*SUMIF('Daily Log'!$CN$18:$CN$1017,$B362,'Daily Log'!$CO$18:$CO$1017),0)","v":0}]
[null,"JF05 92505:RIBENA J",null,"FFDRINKS-COLD",1,900,{"$f":"IFERROR($E363*SUMIF('Daily Log'!$B$18:$B$1017,$B363,'Daily Log'!$C$18:$C$1017),0)","v":0},{"$f":"IFERROR($E363*SUMIF('Daily Log'!$E$18:$E$1017,$B363,'Daily Log'!$F$18:$F$1017),0)","v":0},{"$f":"IFERROR($E363*SUMIF('Daily Log'!$H$18:$H$1017,$B363,'Daily Log'!$I$18:$I$1017),0)","v":0},{"$f":"IFERROR($E363*SUMIF('Daily Log'!$K$18:$K$1017,$B363,'Daily Log'!$L$18:$L$1017),0)","v":0},{"$f":"IFERROR($E363*SUMIF('Daily Log'!$N$18:$N$1017,$B363,'Daily Log'!$O$18:$O$1017),0)","v":0},{"$f":"IFERROR($E363*SUMIF('Daily Log'!$Q$18:$Q$1017,$B363,'Daily Log'!$R$18:$R$1017),0)","v":0},{"$f":"IFERROR($E363*SUMIF('Daily Log'!$T$18:$T$1017,$B363,'Daily Log'!$U$18:$U$1017),0)","v":0},{"$f":"IFERROR($E363*SUMIF('Daily Log'!$W$18:$W$1017,$B363,'Daily Log'!$X$18:$X$1017),0)","v":0},{"$f":"IFERROR($E363*SUMIF('Daily Log'!$Z$18:$Z$1017,$B363,'Daily Log'!$AA$18:$AA$1017),0)","v":0},{"$f":"IFERROR($E363*SUMIF('Daily Log'!$AC$18:$AC$1017,$B363,'Daily Log'!$AD$18:$AD$1017),0)","v":0},{"$f":"IFERROR($E363*SUMIF('Daily Log'!$AF$18:$AF$1017,$B363,'Daily Log'!$AG$18:$AG$1017),0)","v":0},{"$f":"IFERROR($E363*SUMIF('Daily Log'!$AI$18:$AI$1017,$B363,'Daily Log'!$AJ$18:$AJ$1017),0)","v":0},{"$f":"IFERROR($E363*SUMIF('Daily Log'!$AL$18:$AL$1017,$B363,'Daily Log'!$AM$18:$AM$1017),0)","v":0},{"$f":"IFERROR($E363*SUMIF('Daily Log'!$AO$18:$AO$1017,$B363,'Daily Log'!$AP$18:$AP$1017),0)","v":0},{"$f":"IFERROR($E363*SUMIF('Daily Log'!$AR$18:$AR$1017,$B363,'Daily Log'!$AS$18:$AS$1017),0)","v":0},{"$f":"IFERROR($E363*SUMIF('Daily Log'!$AU$18:$AU$1017,$B363,'Daily Log'!$AV$18:$AV$1017),0)","v":0},{"$f":"IFERROR($E363*SUMIF('Daily Log'!$AX$18:$AX$1017,$B363,'Daily Log'!$AY$18:$AY$1017),0)","v":0},{"$f":"IFERROR($E363*SUMIF('Daily Log'!$BA$18:$BA$1017,$B363,'Daily Log'!$BB$18:$BB$1017),0)","v":0},{"$f":"IFERROR($E363*SUMIF('Daily Log'!$BD$18:$BD$1017,$B363,'Daily Log'!$BE$18:$BE$1017),0)","v":0},{"$f":"IFERROR($E363*SUMIF('Daily Log'!$BG$18:$BG$1017,$B363,'Daily Log'!$BH$18:$BH$1017),0)","v":0},{"$f":"IFERROR($E363*SUMIF('Daily Log'!$BJ$18:$BJ$1017,$B363,'Daily Log'!$BK$18:$BK$1017),0)","v":0},{"$f":"IFERROR($E363*SUMIF('Daily Log'!$BM$18:$BM$1017,$B363,'Daily Log'!$BN$18:$BN$1017),0)","v":0},{"$f":"IFERROR($E363*SUMIF('Daily Log'!$BP$18:$BP$1017,$B363,'Daily Log'!$BQ$18:$BQ$1017),0)","v":0},{"$f":"IFERROR($E363*SUMIF('Daily Log'!$BS$18:$BS$1017,$B363,'Daily Log'!$BT$18:$BT$1017),0)","v":0},{"$f":"IFERROR($E363*SUMIF('Daily Log'!$BV$18:$BV$1017,$B363,'Daily Log'!$BW$18:$BW$1017),0)","v":0},{"$f":"IFERROR($E363*SUMIF('Daily Log'!$BY$18:$BY$1017,$B363,'Daily Log'!$BZ$18:$BZ$1017),0)","v":0},{"$f":"IFERROR($E363*SUMIF('Daily Log'!$CB$18:$CB$1017,$B363,'Daily Log'!$CC$18:$CC$1017),0)","v":0},{"$f":"IFERROR($E363*SUMIF('Daily Log'!$CE$18:$CE$1017,$B363,'Daily Log'!$CF$18:$CF$1017),0)","v":900},{"$f":"IFERROR($E363*SUMIF('Daily Log'!$CH$18:$CH$1017,$B363,'Daily Log'!$CI$18:$CI$1017),0)","v":0},{"$f":"IFERROR($E363*SUMIF('Daily Log'!$CK$18:$CK$1017,$B363,'Daily Log'!$CL$18:$CL$1017),0)","v":0},{"$f":"IFERROR($E363*SUMIF('Daily Log'!$CN$18:$CN$1017,$B363,'Daily Log'!$CO$18:$CO$1017),0)","v":0}]
[null,"SO01 2601:GRAPE SO",null,"SO-COLD BEVERAGE",1,0,{"$f":"IFERROR($E364*SUMIF('Daily Log'!$B$18:$B$1017,$B364,'Daily Log'!$C$18:$C$1017),0)","v":0},{"$f":"IFERROR($E364*SUMIF('Daily Log'!$E$18:$E$1017,$B364,'Daily Log'!$F$18:$F$1017),0)","v":0},{"$f":"IFERROR($E364*SUMIF('Daily Log'!$H$18:$H$1017,$B364,'Daily Log'!$I$18:$I$1017),0)","v":0},{"$f":"IFERROR($E364*SUMIF('Daily Log'!$K$18:$K$1017,$B364,'Daily Log'!$L$18:$L$1017),0)","v":0},{"$f":"IFERROR($E364*SUMIF('Daily Log'!$N$18:$N$1017,$B364,'Daily Log'!$O$18:$O$1017),0)","v":0},{"$f":"IFERROR($E364*SUMIF('Daily Log'!$Q$18:$Q$1017,$B364,'Daily Log'!$R$18:$R$1017),0)","v":0},{"$f":"IFERROR($E364*SUMIF('Daily Log'!$T$18:$T$1017,$B364,'Daily Log'!$U$18:$U$1017),0)","v":0},{"$f":"IFERROR($E364*SUMIF('Daily Log'!$W$18:$W$1017,$B364,'Daily Log'!$X$18:$X$1017),0)","v":0},{"$f":"IFERROR($E364*SUMIF('Daily Log'!$Z$18:$Z$1017,$B364,'Daily Log'!$AA$18:$AA$1017),0)","v":0},{"$f":"IFERROR($E364*SUMIF('Daily Log'!$AC$18:$AC$1017,$B364,'Daily Log'!$AD$18:$AD$1017),0)","v":0},{"$f":"IFERROR($E364*SUMIF('Daily Log'!$AF$18:$AF$1017,$B364,'Daily Log'!$AG$18:$AG$1017),0)","v":0},{"$f":"IFERROR($E364*SUMIF('Daily Log'!$AI$18:$AI$1017,$B364,'Daily Log'!$AJ$18:$AJ$1017),0)","v":0},{"$f":"IFERROR($E364*SUMIF('Daily Log'!$AL$18:$AL$1017,$B364,'Daily Log'!$AM$18:$AM$1017),0)","v":0},{"$f":"IFERROR($E364*SUMIF('Daily Log'!$AO$18:$AO$1017,$B364,'Daily Log'!$AP$18:$AP$1017),0)","v":0},{"$f":"IFERROR($E364*SUMIF('Daily Log'!$AR$18:$AR$1017,$B364,'Daily Log'!$AS$18:$AS$1017),0)","v":0},{"$f":"IFERROR($E364*SUMIF('Daily Log'!$AU$18:$AU$1017,$B364,'Daily Log'!$AV$18:$AV$1017),0)","v":0},{"$f":"IFERROR($E364*SUMIF('Daily Log'!$AX$18:$AX$1017,$B364,'Daily Log'!$AY$18:$AY$1017),0)","v":0},{"$f":"IFERROR($E364*SUMIF('Daily Log'!$BA$18:$BA$1017,$B364,'Daily Log'!$BB$18:$BB$1017),0)","v":0},{"$f":"IFERROR($E364*SUMIF('Daily Log'!$BD$18:$BD$1017,$B364,'Daily Log'!$BE$18:$BE$1017),0)","v":0},{"$f":"IFERROR($E364*SUMIF('Daily Log'!$BG$18:$BG$1017,$B364,'Daily Log'!$BH$18:$BH$1017),0)","v":0},{"$f":"IFERROR($E364*SUMIF('Daily Log'!$BJ$18:$BJ$1017,$B364,'Daily Log'!$BK$18:$BK$1017),0)","v":0},{"$f":"IFERROR($E364*SUMIF('Daily Log'!$BM$18:$BM$1017,$B364,'Daily Log'!$BN$18:$BN$1017),0)","v":0},{"$f":"IFERROR($E364*SUMIF('Daily Log'!$BP$18:$BP$1017,$B364,'Daily Log'!$BQ$18:$BQ$1017),0)","v":0},{"$f":"IFERROR($E364*SUMIF('Daily Log'!$BS$18:$BS$1017,$B364,'Daily Log'!$BT$18:$BT$1017),0)","v":0},{"$f":"IFERROR($E364*SUMIF('Daily Log'!$BV$18:$BV$1017,$B364,'Daily Log'!$BW$18:$BW$1017),0)","v":0},{"$f":"IFERROR($E364*SUMIF('Daily Log'!$BY$18:$BY$1017,$B364,'Daily Log'!$BZ$18:$BZ$1017),0)","v":0},{"$f":"IFERROR($E364*SUMIF('Daily Log'!$CB$18:$CB$1017,$B364,'Daily Log'!$CC$18:$CC$1017),0)","v":0},{"$f":"IFERROR($E364*SUMIF('Daily Log'!$CE$18:$CE$1017,$B364,'Daily Log'!$CF$18:$CF$1017),0)","v":0},{"$f":"IFERROR($E364*SUMIF('Daily Log'!$CH$18:$CH$1017,$B364,'Daily Log'!$CI$18:$CI$1017),0)","v":0},{"$f":"IFERROR($E364*SUMIF('Daily Log'!$CK$18:$CK$1017,$B364,'Daily Log'!$CL$18:$CL$1017),0)","v":0},{"$f":"IFERROR($E364*SUMIF('Daily Log'!$CN$18:$CN$1017,$B364,'Daily Log'!$CO$18:$CO$1017),0)","v":0}]
[null,"SO02 2602:APPLE SO",null,"SO-COLD BEVERAGE",1,0,{"$f":"IFERROR($E365*SUMIF('Daily Log'!$B$18:$B$1017,$B365,'Daily Log'!$C$18:$C$1017),0)","v":0},{"$f":"IFERROR($E365*SUMIF('Daily Log'!$E$18:$E$1017,$B365,'Daily Log'!$F$18:$F$1017),0)","v":0},{"$f":"IFERROR($E365*SUMIF('Daily Log'!$H$18:$H$1017,$B365,'Daily Log'!$I$18:$I$1017),0)","v":0},{"$f":"IFERROR($E365*SUMIF('Daily Log'!$K$18:$K$1017,$B365,'Daily Log'!$L$18:$L$1017),0)","v":0},{"$f":"IFERROR($E365*SUMIF('Daily Log'!$N$18:$N$1017,$B365,'Daily Log'!$O$18:$O$1017),0)","v":0},{"$f":"IFERROR($E365*SUMIF('Daily Log'!$Q$18:$Q$1017,$B365,'Daily Log'!$R$18:$R$1017),0)","v":0},{"$f":"IFERROR($E365*SUMIF('Daily Log'!$T$18:$T$1017,$B365,'Daily Log'!$U$18:$U$1017),0)","v":0},{"$f":"IFERROR($E365*SUMIF('Daily Log'!$W$18:$W$1017,$B365,'Daily Log'!$X$18:$X$1017),0)","v":0},{"$f":"IFERROR($E365*SUMIF('Daily Log'!$Z$18:$Z$1017,$B365,'Daily Log'!$AA$18:$AA$1017),0)","v":0},{"$f":"IFERROR($E365*SUMIF('Daily Log'!$AC$18:$AC$1017,$B365,'Daily Log'!$AD$18:$AD$1017),0)","v":0},{"$f":"IFERROR($E365*SUMIF('Daily Log'!$AF$18:$AF$1017,$B365,'Daily Log'!$AG$18:$AG$1017),0)","v":0},{"$f":"IFERROR($E365*SUMIF('Daily Log'!$AI$18:$AI$1017,$B365,'Daily Log'!$AJ$18:$AJ$1017),0)","v":0},{"$f":"IFERROR($E365*SUMIF('Daily Log'!$AL$18:$AL$1017,$B365,'Daily Log'!$AM$18:$AM$1017),0)","v":0},{"$f":"IFERROR($E365*SUMIF('Daily Log'!$AO$18:$AO$1017,$B365,'Daily Log'!$AP$18:$AP$1017),0)","v":0},{"$f":"IFERROR($E365*SUMIF('Daily Log'!$AR$18:$AR$1017,$B365,'Daily Log'!$AS$18:$AS$1017),0)","v":0},{"$f":"IFERROR($E365*SUMIF('Daily Log'!$AU$18:$AU$1017,$B365,'Daily Log'!$AV$18:$AV$1017),0)","v":0},{"$f":"IFERROR($E365*SUMIF('Daily Log'!$AX$18:$AX$1017,$B365,'Daily Log'!$AY$18:$AY$1017),0)","v":0},{"$f":"IFERROR($E365*SUMIF('Daily Log'!$BA$18:$BA$1017,$B365,'Daily Log'!$BB$18:$BB$1017),0)","v":0},{"$f":"IFERROR($E365*SUMIF('Daily Log'!$BD$18:$BD$1017,$B365,'Daily Log'!$BE$18:$BE$1017),0)","v":0},{"$f":"IFERROR($E365*SUMIF('Daily Log'!$BG$18:$BG$1017,$B365,'Daily Log'!$BH$18:$BH$1017),0)","v":0},{"$f":"IFERROR($E365*SUMIF('Daily Log'!$BJ$18:$BJ$1017,$B365,'Daily Log'!$BK$18:$BK$1017),0)","v":0},{"$f":"IFERROR($E365*SUMIF('Daily Log'!$BM$18:$BM$1017,$B365,'Daily Log'!$BN$18:$BN$1017),0)","v":0},{"$f":"IFERROR($E365*SUMIF('Daily Log'!$BP$18:$BP$1017,$B365,'Daily Log'!$BQ$18:$BQ$1017),0)","v":0},{"$f":"IFERROR($E365*SUMIF('Daily Log'!$BS$18:$BS$1017,$B365,'Daily Log'!$BT$18:$BT$1017),0)","v":0},{"$f":"IFERROR($E365*SUMIF('Daily Log'!$BV$18:$BV$1017,$B365,'Daily Log'!$BW$18:$BW$1017),0)","v":0},{"$f":"IFERROR($E365*SUMIF('Daily Log'!$BY$18:$BY$1017,$B365,'Daily Log'!$BZ$18:$BZ$1017),0)","v":0},{"$f":"IFERROR($E365*SUMIF('Daily Log'!$CB$18:$CB$1017,$B365,'Daily Log'!$CC$18:$CC$1017),0)","v":0},{"$f":"IFERROR($E365*SUMIF('Daily Log'!$CE$18:$CE$1017,$B365,'Daily Log'!$CF$18:$CF$1017),0)","v":0},{"$f":"IFERROR($E365*SUMIF('Daily Log'!$CH$18:$CH$1017,$B365,'Daily Log'!$CI$18:$CI$1017),0)","v":0},{"$f":"IFERROR($E365*SUMIF('Daily Log'!$CK$18:$CK$1017,$B365,'Daily Log'!$CL$18:$CL$1017),0)","v":0},{"$f":"IFERROR($E365*SUMIF('Daily Log'!$CN$18:$CN$1017,$B365,'Daily Log'!$CO$18:$CO$1017),0)","v":0}]
[null,"SO03 2603:MANGO SO",null,"SO-COLD BEVERAGE",1,0,{"$f":"IFERROR($E366*SUMIF('Daily Log'!$B$18:$B$1017,$B366,'Daily Log'!$C$18:$C$1017),0)","v":0},{"$f":"IFERROR($E366*SUMIF('Daily Log'!$E$18:$E$1017,$B366,'Daily Log'!$F$18:$F$1017),0)","v":0},{"$f":"IFERROR($E366*SUMIF('Daily Log'!$H$18:$H$1017,$B366,'Daily Log'!$I$18:$I$1017),0)","v":0},{"$f":"IFERROR($E366*SUMIF('Daily Log'!$K$18:$K$1017,$B366,'Daily Log'!$L$18:$L$1017),0)","v":0},{"$f":"IFERROR($E366*SUMIF('Daily Log'!$N$18:$N$1017,$B366,'Daily Log'!$O$18:$O$1017),0)","v":0},{"$f":"IFERROR($E366*SUMIF('Daily Log'!$Q$18:$Q$1017,$B366,'Daily Log'!$R$18:$R$1017),0)","v":0},{"$f":"IFERROR($E366*SUMIF('Daily Log'!$T$18:$T$1017,$B366,'Daily Log'!$U$18:$U$1017),0)","v":0},{"$f":"IFERROR($E366*SUMIF('Daily Log'!$W$18:$W$1017,$B366,'Daily Log'!$X$18:$X$1017),0)","v":0},{"$f":"IFERROR($E366*SUMIF('Daily Log'!$Z$18:$Z$1017,$B366,'Daily Log'!$AA$18:$AA$1017),0)","v":0},{"$f":"IFERROR($E366*SUMIF('Daily Log'!$AC$18:$AC$1017,$B366,'Daily Log'!$AD$18:$AD$1017),0)","v":0},{"$f":"IFERROR($E366*SUMIF('Daily Log'!$AF$18:$AF$1017,$B366,'Daily Log'!$AG$18:$AG$1017),0)","v":0},{"$f":"IFERROR($E366*SUMIF('Daily Log'!$AI$18:$AI$1017,$B366,'Daily Log'!$AJ$18:$AJ$1017),0)","v":0},{"$f":"IFERROR($E366*SUMIF('Daily Log'!$AL$18:$AL$1017,$B366,'Daily Log'!$AM$18:$AM$1017),0)","v":0},{"$f":"IFERROR($E366*SUMIF('Daily Log'!$AO$18:$AO$1017,$B366,'Daily Log'!$AP$18:$AP$1017),0)","v":0},{"$f":"IFERROR($E366*SUMIF('Daily Log'!$AR$18:$AR$1017,$B366,'Daily Log'!$AS$18:$AS$1017),0)","v":0},{"$f":"IFERROR($E366*SUMIF('Daily Log'!$AU$18:$AU$1017,$B366,'Daily Log'!$AV$18:$AV$1017),0)","v":0},{"$f":"IFERROR($E366*SUMIF('Daily Log'!$AX$18:$AX$1017,$B366,'Daily Log'!$AY$18:$AY$1017),0)","v":0},{"$f":"IFERROR($E366*SUMIF('Daily Log'!$BA$18:$BA$1017,$B366,'Daily Log'!$BB$18:$BB$1017),0)","v":0},{"$f":"IFERROR($E366*SUMIF('Daily Log'!$BD$18:$BD$1017,$B366,'Daily Log'!$BE$18:$BE$1017),0)","v":0},{"$f":"IFERROR($E366*SUMIF('Daily Log'!$BG$18:$BG$1017,$B366,'Daily Log'!$BH$18:$BH$1017),0)","v":0},{"$f":"IFERROR($E366*SUMIF('Daily Log'!$BJ$18:$BJ$1017,$B366,'Daily Log'!$BK$18:$BK$1017),0)","v":0},{"$f":"IFERROR($E366*SUMIF('Daily Log'!$BM$18:$BM$1017,$B366,'Daily Log'!$BN$18:$BN$1017),0)","v":0},{"$f":"IFERROR($E366*SUMIF('Daily Log'!$BP$18:$BP$1017,$B366,'Daily Log'!$BQ$18:$BQ$1017),0)","v":0},{"$f":"IFERROR($E366*SUMIF('Daily Log'!$BS$18:$BS$1017,$B366,'Daily Log'!$BT$18:$BT$1017),0)","v":0},{"$f":"IFERROR($E366*SUMIF('Daily Log'!$BV$18:$BV$1017,$B366,'Daily Log'!$BW$18:$BW$1017),0)","v":0},{"$f":"IFERROR($E366*SUMIF('Daily Log'!$BY$18:$BY$1017,$B366,'Daily Log'!$BZ$18:$BZ$1017),0)","v":0},{"$f":"IFERROR($E366*SUMIF('Daily Log'!$CB$18:$CB$1017,$B366,'Daily Log'!$CC$18:$CC$1017),0)","v":0},{"$f":"IFERROR($E366*SUMIF('Daily Log'!$CE$18:$CE$1017,$B366,'Daily Log'!$CF$18:$CF$1017),0)","v":0},{"$f":"IFERROR($E366*SUMIF('Daily Log'!$CH$18:$CH$1017,$B366,'Daily Log'!$CI$18:$CI$1017),0)","v":0},{"$f":"IFERROR($E366*SUMIF('Daily Log'!$CK$18:$CK$1017,$B366,'Daily Log'!$CL$18:$CL$1017),0)","v":0},{"$f":"IFERROR($E366*SUMIF('Daily Log'!$CN$18:$CN$1017,$B366,'Daily Log'!$CO$18:$CO$1017),0)","v":0}]
[null,"SO04 2604:PASSION SO",null,"SO-COLD BEVERAGE",1,0,{"$f":"IFERROR($E367*SUMIF('Daily Log'!$B$18:$B$1017,$B367,'Daily Log'!$C$18:$C$1017),0)","v":0},{"$f":"IFERROR($E367*SUMIF('Daily Log'!$E$18:$E$1017,$B367,'Daily Log'!$F$18:$F$1017),0)","v":0},{"$f":"IFERROR($E367*SUMIF('Daily Log'!$H$18:$H$1017,$B367,'Daily Log'!$I$18:$I$1017),0)","v":0},{"$f":"IFERROR($E367*SUMIF('Daily Log'!$K$18:$K$1017,$B367,'Daily Log'!$L$18:$L$1017),0)","v":0},{"$f":"IFERROR($E367*SUMIF('Daily Log'!$N$18:$N$1017,$B367,'Daily Log'!$O$18:$O$1017),0)","v":0},{"$f":"IFERROR($E367*SUMIF('Daily Log'!$Q$18:$Q$1017,$B367,'Daily Log'!$R$18:$R$1017),0)","v":0},{"$f":"IFERROR($E367*SUMIF('Daily Log'!$T$18:$T$1017,$B367,'Daily Log'!$U$18:$U$1017),0)","v":0},{"$f":"IFERROR($E367*SUMIF('Daily Log'!$W$18:$W$1017,$B367,'Daily Log'!$X$18:$X$1017),0)","v":0},{"$f":"IFERROR($E367*SUMIF('Daily Log'!$Z$18:$Z$1017,$B367,'Daily Log'!$AA$18:$AA$1017),0)","v":0},{"$f":"IFERROR($E367*SUMIF('Daily Log'!$AC$18:$AC$1017,$B367,'Daily Log'!$AD$18:$AD$1017),0)","v":0},{"$f":"IFERROR($E367*SUMIF('Daily Log'!$AF$18:$AF$1017,$B367,'Daily Log'!$AG$18:$AG$1017),0)","v":0},{"$f":"IFERROR($E367*SUMIF('Daily Log'!$AI$18:$AI$1017,$B367,'Daily Log'!$AJ$18:$AJ$1017),0)","v":0},{"$f":"IFERROR($E367*SUMIF('Daily Log'!$AL$18:$AL$1017,$B367,'Daily Log'!$AM$18:$AM$1017),0)","v":0},{"$f":"IFERROR($E367*SUMIF('Daily Log'!$AO$18:$AO$1017,$B367,'Daily Log'!$AP$18:$AP$1017),0)","v":0},{"$f":"IFERROR($E367*SUMIF('Daily Log'!$AR$18:$AR$1017,$B367,'Daily Log'!$AS$18:$AS$1017),0)","v":0},{"$f":"IFERROR($E367*SUMIF('Daily Log'!$AU$18:$AU$1017,$B367,'Daily Log'!$AV$18:$AV$1017),0)","v":0},{"$f":"IFERROR($E367*SUMIF('Daily Log'!$AX$18:$AX$1017,$B367,'Daily Log'!$AY$18:$AY$1017),0)","v":0},{"$f":"IFERROR($E367*SUMIF('Daily Log'!$BA$18:$BA$1017,$B367,'Daily Log'!$BB$18:$BB$1017),0)","v":0},{"$f":"IFERROR($E367*SUMIF('Daily Log'!$BD$18:$BD$1017,$B367,'Daily Log'!$BE$18:$BE$1017),0)","v":0},{"$f":"IFERROR($E367*SUMIF('Daily Log'!$BG$18:$BG$1017,$B367,'Daily Log'!$BH$18:$BH$1017),0)","v":0},{"$f":"IFERROR($E367*SUMIF('Daily Log'!$BJ$18:$BJ$1017,$B367,'Daily Log'!$BK$18:$BK$1017),0)","v":0},{"$f":"IFERROR($E367*SUMIF('Daily Log'!$BM$18:$BM$1017,$B367,'Daily Log'!$BN$18:$BN$1017),0)","v":0},{"$f":"IFERROR($E367*SUMIF('Daily Log'!$BP$18:$BP$1017,$B367,'Daily Log'!$BQ$18:$BQ$1017),0)","v":0},{"$f":"IFERROR($E367*SUMIF('Daily Log'!$BS$18:$BS$1017,$B367,'Daily Log'!$BT$18:$BT$1017),0)","v":0},{"$f":"IFERROR($E367*SUMIF('Daily Log'!$BV$18:$BV$1017,$B367,'Daily Log'!$BW$18:$BW$1017),0)","v":0},{"$f":"IFERROR($E367*SUMIF('Daily Log'!$BY$18:$BY$1017,$B367,'Daily Log'!$BZ$18:$BZ$1017),0)","v":0},{"$f":"IFERROR($E367*SUMIF('Daily Log'!$CB$18:$CB$1017,$B367,'Daily Log'!$CC$18:$CC$1017),0)","v":0},{"$f":"IFERROR($E367*SUMIF('Daily Log'!$CE$18:$CE$1017,$B367,'Daily Log'!$CF$18:$CF$1017),0)","v":0},{"$f":"IFERROR($E367*SUMIF('Daily Log'!$CH$18:$CH$1017,$B367,'Daily Log'!$CI$18:$CI$1017),0)","v":0},{"$f":"IFERROR($E367*SUMIF('Daily Log'!$CK$18:$CK$1017,$B367,'Daily Log'!$CL$18:$CL$1017),0)","v":0},{"$f":"IFERROR($E367*SUMIF('Daily Log'!$CN$18:$CN$1017,$B367,'Daily Log'!$CO$18:$CO$1017),0)","v":0}]
[null,"SO05 2605:RIBENA SO",null,"SO-COLD BEVERAGE",1,0,{"$f":"IFERROR($E368*SUMIF('Daily Log'!$B$18:$B$1017,$B368,'Daily Log'!$C$18:$C$1017),0)","v":0},{"$f":"IFERROR($E368*SUMIF('Daily Log'!$E$18:$E$1017,$B368,'Daily Log'!$F$18:$F$1017),0)","v":0},{"$f":"IFERROR($E368*SUMIF('Daily Log'!$H$18:$H$1017,$B368,'Daily Log'!$I$18:$I$1017),0)","v":0},{"$f":"IFERROR($E368*SUMIF('Daily Log'!$K$18:$K$1017,$B368,'Daily Log'!$L$18:$L$1017),0)","v":0},{"$f":"IFERROR($E368*SUMIF('Daily Log'!$N$18:$N$1017,$B368,'Daily Log'!$O$18:$O$1017),0)","v":0},{"$f":"IFERROR($E368*SUMIF('Daily Log'!$Q$18:$Q$1017,$B368,'Daily Log'!$R$18:$R$1017),0)","v":0},{"$f":"IFERROR($E368*SUMIF('Daily Log'!$T$18:$T$1017,$B368,'Daily Log'!$U$18:$U$1017),0)","v":0},{"$f":"IFERROR($E368*SUMIF('Daily Log'!$W$18:$W$1017,$B368,'Daily Log'!$X$18:$X$1017),0)","v":0},{"$f":"IFERROR($E368*SUMIF('Daily Log'!$Z$18:$Z$1017,$B368,'Daily Log'!$AA$18:$AA$1017),0)","v":0},{"$f":"IFERROR($E368*SUMIF('Daily Log'!$AC$18:$AC$1017,$B368,'Daily Log'!$AD$18:$AD$1017),0)","v":0},{"$f":"IFERROR($E368*SUMIF('Daily Log'!$AF$18:$AF$1017,$B368,'Daily Log'!$AG$18:$AG$1017),0)","v":0},{"$f":"IFERROR($E368*SUMIF('Daily Log'!$AI$18:$AI$1017,$B368,'Daily Log'!$AJ$18:$AJ$1017),0)","v":0},{"$f":"IFERROR($E368*SUMIF('Daily Log'!$AL$18:$AL$1017,$B368,'Daily Log'!$AM$18:$AM$1017),0)","v":0},{"$f":"IFERROR($E368*SUMIF('Daily Log'!$AO$18:$AO$1017,$B368,'Daily Log'!$AP$18:$AP$1017),0)","v":0},{"$f":"IFERROR($E368*SUMIF('Daily Log'!$AR$18:$AR$1017,$B368,'Daily Log'!$AS$18:$AS$1017),0)","v":0},{"$f":"IFERROR($E368*SUMIF('Daily Log'!$AU$18:$AU$1017,$B368,'Daily Log'!$AV$18:$AV$1017),0)","v":0},{"$f":"IFERROR($E368*SUMIF('Daily Log'!$AX$18:$AX$1017,$B368,'Daily Log'!$AY$18:$AY$1017),0)","v":0},{"$f":"IFERROR($E368*SUMIF('Daily Log'!$BA$18:$BA$1017,$B368,'Daily Log'!$BB$18:$BB$1017),0)","v":0},{"$f":"IFERROR($E368*SUMIF('Daily Log'!$BD$18:$BD$1017,$B368,'Daily Log'!$BE$18:$BE$1017),0)","v":0},{"$f":"IFERROR($E368*SUMIF('Daily Log'!$BG$18:$BG$1017,$B368,'Daily Log'!$BH$18:$BH$1017),0)","v":0},{"$f":"IFERROR($E368*SUMIF('Daily Log'!$BJ$18:$BJ$1017,$B368,'Daily Log'!$BK$18:$BK$1017),0)","v":0},{"$f":"IFERROR($E368*SUMIF('Daily Log'!$BM$18:$BM$1017,$B368,'Daily Log'!$BN$18:$BN$1017),0)","v":0},{"$f":"IFERROR($E368*SUMIF('Daily Log'!$BP$18:$BP$1017,$B368,'Daily Log'!$BQ$18:$BQ$1017),0)","v":0},{"$f":"IFERROR($E368*SUMIF('Daily Log'!$BS$18:$BS$1017,$B368,'Daily Log'!$BT$18:$BT$1017),0)","v":0},{"$f":"IFERROR($E368*SUMIF('Daily Log'!$BV$18:$BV$1017,$B368,'Daily Log'!$BW$18:$BW$1017),0)","v":0},{"$f":"IFERROR($E368*SUMIF('Daily Log'!$BY$18:$BY$1017,$B368,'Daily Log'!$BZ$18:$BZ$1017),0)","v":0},{"$f":"IFERROR($E368*SUMIF('Daily Log'!$CB$18:$CB$1017,$B368,'Daily Log'!$CC$18:$CC$1017),0)","v":0},{"$f":"IFERROR($E368*SUMIF('Daily Log'!$CE$18:$CE$1017,$B368,'Daily Log'!$CF$18:$CF$1017),0)","v":0},{"$f":"IFERROR($E368*SUMIF('Daily Log'!$CH$18:$CH$1017,$B368,'Daily Log'!$CI$18:$CI$1017),0)","v":0},{"$f":"IFERROR($E368*SUMIF('Daily Log'!$CK$18:$CK$1017,$B368,'Daily Log'!$CL$18:$CL$1017),0)","v":0},{"$f":"IFERROR($E368*SUMIF('Daily Log'!$CN$18:$CN$1017,$B368,'Daily Log'!$CO$18:$CO$1017),0)","v":0}]
[null,"SF01 92601:GRAPE SO",null,"FFDRINKS-COLD",1,17,{"$f":"IFERROR($E369*SUMIF('Daily Log'!$B$18:$B$1017,$B369,'Daily Log'!$C$18:$C$1017),0)","v":0},{"$f":"IFERROR($E369*SUMIF('Daily Log'!$E$18:$E$1017,$B369,'Daily Log'!$F$18:$F$1017),0)","v":0},{"$f":"IFERROR($E369*SUMIF('Daily Log'!$H$18:$H$1017,$B369,'Daily Log'!$I$18:$I$1017),0)","v":0},{"$f":"IFERROR($E369*SUMIF('Daily Log'!$K$18:$K$1017,$B369,'Daily Log'!$L$18:$L$1017),0)","v":0},{"$f":"IFERROR($E369*SUMIF('Daily Log'!$N$18:$N$1017,$B369,'Daily Log'!$O$18:$O$1017),0)","v":0},{"$f":"IFERROR($E369*SUMIF('Daily Log'!$Q$18:$Q$1017,$B369,'Daily Log'!$R$18:$R$1017),0)","v":0},{"$f":"IFERROR($E369*SUMIF('Daily Log'!$T$18:$T$1017,$B369,'Daily Log'!$U$18:$U$1017),0)","v":0},{"$f":"IFERROR($E369*SUMIF('Daily Log'!$W$18:$W$1017,$B369,'Daily Log'!$X$18:$X$1017),0)","v":0},{"$f":"IFERROR($E369*SUMIF('Daily Log'!$Z$18:$Z$1017,$B369,'Daily Log'!$AA$18:$AA$1017),0)","v":0},{"$f":"IFERROR($E369*SUMIF('Daily Log'!$AC$18:$AC$1017,$B369,'Daily Log'!$AD$18:$AD$1017),0)","v":0},{"$f":"IFERROR($E369*SUMIF('Daily Log'!$AF$18:$AF$1017,$B369,'Daily Log'!$AG$18:$AG$1017),0)","v":0},{"$f":"IFERROR($E369*SUMIF('Daily Log'!$AI$18:$AI$1017,$B369,'Daily Log'!$AJ$18:$AJ$1017),0)","v":0},{"$f":"IFERROR($E369*SUMIF('Daily Log'!$AL$18:$AL$1017,$B369,'Daily Log'!$AM$18:$AM$1017),0)","v":0},{"$f":"IFERROR($E369*SUMIF('Daily Log'!$AO$18:$AO$1017,$B369,'Daily Log'!$AP$18:$AP$1017),0)","v":0},{"$f":"IFERROR($E369*SUMIF('Daily Log'!$AR$18:$AR$1017,$B369,'Daily Log'!$AS$18:$AS$1017),0)","v":0},{"$f":"IFERROR($E369*SUMIF('Daily Log'!$AU$18:$AU$1017,$B369,'Daily Log'!$AV$18:$AV$1017),0)","v":0},{"$f":"IFERROR($E369*SUMIF('Daily Log'!$AX$18:$AX$1017,$B369,'Daily Log'!$AY$18:$AY$1017),0)","v":0},{"$f":"IFERROR($E369*SUMIF('Daily Log'!$BA$18:$BA$1017,$B369,'Daily Log'!$BB$18:$BB$1017),0)","v":0},{"$f":"IFERROR($E369*SUMIF('Daily Log'!$BD$18:$BD$1017,$B369,'Daily Log'!$BE$18:$BE$1017),0)","v":0},{"$f":"IFERROR($E369*SUMIF('Daily Log'!$BG$18:$BG$1017,$B369,'Daily Log'!$BH$18:$BH$1017),0)","v":0},{"$f":"IFERROR($E369*SUMIF('Daily Log'!$BJ$18:$BJ$1017,$B369,'Daily Log'!$BK$18:$BK$1017),0)","v":0},{"$f":"IFERROR($E369*SUMIF('Daily Log'!$BM$18:$BM$1017,$B369,'Daily Log'!$BN$18:$BN$1017),0)","v":0},{"$f":"IFERROR($E369*SUMIF('Daily Log'!$BP$18:$BP$1017,$B369,'Daily Log'!$BQ$18:$BQ$1017),0)","v":0},{"$f":"IFERROR($E369*SUMIF('Daily Log'!$BS$18:$BS$1017,$B369,'Daily Log'!$BT$18:$BT$1017),0)","v":0},{"$f":"IFERROR($E369*SUMIF('Daily Log'!$BV$18:$BV$1017,$B369,'Daily Log'!$BW$18:$BW$1017),0)","v":0},{"$f":"IFERROR($E369*SUMIF('Daily Log'!$BY$18:$BY$1017,$B369,'Daily Log'!$BZ$18:$BZ$1017),0)","v":0},{"$f":"IFERROR($E369*SUMIF('Daily Log'!$CB$18:$CB$1017,$B369,'Daily Log'!$CC$18:$CC$1017),0)","v":0},{"$f":"IFERROR($E369*SUMIF('Daily Log'!$CE$18:$CE$1017,$B369,'Daily Log'!$CF$18:$CF$1017),0)","v":17},{"$f":"IFERROR($E369*SUMIF('Daily Log'!$CH$18:$CH$1017,$B369,'Daily Log'!$CI$18:$CI$1017),0)","v":0},{"$f":"IFERROR($E369*SUMIF('Daily Log'!$CK$18:$CK$1017,$B369,'Daily Log'!$CL$18:$CL$1017),0)","v":0},{"$f":"IFERROR($E369*SUMIF('Daily Log'!$CN$18:$CN$1017,$B369,'Daily Log'!$CO$18:$CO$1017),0)","v":0}]
[null,"SF02 92602:APPLE SO",null,"FFDRINKS-COLD",1,18,{"$f":"IFERROR($E370*SUMIF('Daily Log'!$B$18:$B$1017,$B370,'Daily Log'!$C$18:$C$1017),0)","v":0},{"$f":"IFERROR($E370*SUMIF('Daily Log'!$E$18:$E$1017,$B370,'Daily Log'!$F$18:$F$1017),0)","v":0},{"$f":"IFERROR($E370*SUMIF('Daily Log'!$H$18:$H$1017,$B370,'Daily Log'!$I$18:$I$1017),0)","v":0},{"$f":"IFERROR($E370*SUMIF('Daily Log'!$K$18:$K$1017,$B370,'Daily Log'!$L$18:$L$1017),0)","v":0},{"$f":"IFERROR($E370*SUMIF('Daily Log'!$N$18:$N$1017,$B370,'Daily Log'!$O$18:$O$1017),0)","v":0},{"$f":"IFERROR($E370*SUMIF('Daily Log'!$Q$18:$Q$1017,$B370,'Daily Log'!$R$18:$R$1017),0)","v":0},{"$f":"IFERROR($E370*SUMIF('Daily Log'!$T$18:$T$1017,$B370,'Daily Log'!$U$18:$U$1017),0)","v":0},{"$f":"IFERROR($E370*SUMIF('Daily Log'!$W$18:$W$1017,$B370,'Daily Log'!$X$18:$X$1017),0)","v":0},{"$f":"IFERROR($E370*SUMIF('Daily Log'!$Z$18:$Z$1017,$B370,'Daily Log'!$AA$18:$AA$1017),0)","v":0},{"$f":"IFERROR($E370*SUMIF('Daily Log'!$AC$18:$AC$1017,$B370,'Daily Log'!$AD$18:$AD$1017),0)","v":0},{"$f":"IFERROR($E370*SUMIF('Daily Log'!$AF$18:$AF$1017,$B370,'Daily Log'!$AG$18:$AG$1017),0)","v":0},{"$f":"IFERROR($E370*SUMIF('Daily Log'!$AI$18:$AI$1017,$B370,'Daily Log'!$AJ$18:$AJ$1017),0)","v":0},{"$f":"IFERROR($E370*SUMIF('Daily Log'!$AL$18:$AL$1017,$B370,'Daily Log'!$AM$18:$AM$1017),0)","v":0},{"$f":"IFERROR($E370*SUMIF('Daily Log'!$AO$18:$AO$1017,$B370,'Daily Log'!$AP$18:$AP$1017),0)","v":0},{"$f":"IFERROR($E370*SUMIF('Daily Log'!$AR$18:$AR$1017,$B370,'Daily Log'!$AS$18:$AS$1017),0)","v":0},{"$f":"IFERROR($E370*SUMIF('Daily Log'!$AU$18:$AU$1017,$B370,'Daily Log'!$AV$18:$AV$1017),0)","v":0},{"$f":"IFERROR($E370*SUMIF('Daily Log'!$AX$18:$AX$1017,$B370,'Daily Log'!$AY$18:$AY$1017),0)","v":0},{"$f":"IFERROR($E370*SUMIF('Daily Log'!$BA$18:$BA$1017,$B370,'Daily Log'!$BB$18:$BB$1017),0)","v":0},{"$f":"IFERROR($E370*SUMIF('Daily Log'!$BD$18:$BD$1017,$B370,'Daily Log'!$BE$18:$BE$1017),0)","v":0},{"$f":"IFERROR($E370*SUMIF('Daily Log'!$BG$18:$BG$1017,$B370,'Daily Log'!$BH$18:$BH$1017),0)","v":0},{"$f":"IFERROR($E370*SUMIF('Daily Log'!$BJ$18:$BJ$1017,$B370,'Daily Log'!$BK$18:$BK$1017),0)","v":0},{"$f":"IFERROR($E370*SUMIF('Daily Log'!$BM$18:$BM$1017,$B370,'Daily Log'!$BN$18:$BN$1017),0)","v":0},{"$f":"IFERROR($E370*SUMIF('Daily Log'!$BP$18:$BP$1017,$B370,'Daily Log'!$BQ$18:$BQ$1017),0)","v":0},{"$f":"IFERROR($E370*SUMIF('Daily Log'!$BS$18:$BS$1017,$B370,'Daily Log'!$BT$18:$BT$1017),0)","v":0},{"$f":"IFERROR($E370*SUMIF('Daily Log'!$BV$18:$BV$1017,$B370,'Daily Log'!$BW$18:$BW$1017),0)","v":0},{"$f":"IFERROR($E370*SUMIF('Daily Log'!$BY$18:$BY$1017,$B370,'Daily Log'!$BZ$18:$BZ$1017),0)","v":0},{"$f":"IFERROR($E370*SUMIF('Daily Log'!$CB$18:$CB$1017,$B370,'Daily Log'!$CC$18:$CC$1017),0)","v":0},{"$f":"IFERROR($E370*SUMIF('Daily Log'!$CE$18:$CE$1017,$B370,'Daily Log'!$CF$18:$CF$1017),0)","v":18},{"$f":"IFERROR($E370*SUMIF('Daily Log'!$CH$18:$CH$1017,$B370,'Daily Log'!$CI$18:$CI$1017),0)","v":0},{"$f":"IFERROR($E370*SUMIF('Daily Log'!$CK$18:$CK$1017,$B370,'Daily Log'!$CL$18:$CL$1017),0)","v":0},{"$f":"IFERROR($E370*SUMIF('Daily Log'!$CN$18:$CN$1017,$B370,'Daily Log'!$CO$18:$CO$1017),0)","v":0}]
[null,"SF03 92603:MANGO SO",null,"FFDRINKS-COLD",1,20,{"$f":"IFERROR($E371*SUMIF('Daily Log'!$B$18:$B$1017,$B371,'Daily Log'!$C$18:$C$1017),0)","v":0},{"$f":"IFERROR($E371*SUMIF('Daily Log'!$E$18:$E$1017,$B371,'Daily Log'!$F$18:$F$1017),0)","v":0},{"$f":"IFERROR($E371*SUMIF('Daily Log'!$H$18:$H$1017,$B371,'Daily Log'!$I$18:$I$1017),0)","v":0},{"$f":"IFERROR($E371*SUMIF('Daily Log'!$K$18:$K$1017,$B371,'Daily Log'!$L$18:$L$1017),0)","v":0},{"$f":"IFERROR($E371*SUMIF('Daily Log'!$N$18:$N$1017,$B371,'Daily Log'!$O$18:$O$1017),0)","v":0},{"$f":"IFERROR($E371*SUMIF('Daily Log'!$Q$18:$Q$1017,$B371,'Daily Log'!$R$18:$R$1017),0)","v":0},{"$f":"IFERROR($E371*SUMIF('Daily Log'!$T$18:$T$1017,$B371,'Daily Log'!$U$18:$U$1017),0)","v":0},{"$f":"IFERROR($E371*SUMIF('Daily Log'!$W$18:$W$1017,$B371,'Daily Log'!$X$18:$X$1017),0)","v":0},{"$f":"IFERROR($E371*SUMIF('Daily Log'!$Z$18:$Z$1017,$B371,'Daily Log'!$AA$18:$AA$1017),0)","v":0},{"$f":"IFERROR($E371*SUMIF('Daily Log'!$AC$18:$AC$1017,$B371,'Daily Log'!$AD$18:$AD$1017),0)","v":0},{"$f":"IFERROR($E371*SUMIF('Daily Log'!$AF$18:$AF$1017,$B371,'Daily Log'!$AG$18:$AG$1017),0)","v":0},{"$f":"IFERROR($E371*SUMIF('Daily Log'!$AI$18:$AI$1017,$B371,'Daily Log'!$AJ$18:$AJ$1017),0)","v":0},{"$f":"IFERROR($E371*SUMIF('Daily Log'!$AL$18:$AL$1017,$B371,'Daily Log'!$AM$18:$AM$1017),0)","v":0},{"$f":"IFERROR($E371*SUMIF('Daily Log'!$AO$18:$AO$1017,$B371,'Daily Log'!$AP$18:$AP$1017),0)","v":0},{"$f":"IFERROR($E371*SUMIF('Daily Log'!$AR$18:$AR$1017,$B371,'Daily Log'!$AS$18:$AS$1017),0)","v":0},{"$f":"IFERROR($E371*SUMIF('Daily Log'!$AU$18:$AU$1017,$B371,'Daily Log'!$AV$18:$AV$1017),0)","v":0},{"$f":"IFERROR($E371*SUMIF('Daily Log'!$AX$18:$AX$1017,$B371,'Daily Log'!$AY$18:$AY$1017),0)","v":0},{"$f":"IFERROR($E371*SUMIF('Daily Log'!$BA$18:$BA$1017,$B371,'Daily Log'!$BB$18:$BB$1017),0)","v":0},{"$f":"IFERROR($E371*SUMIF('Daily Log'!$BD$18:$BD$1017,$B371,'Daily Log'!$BE$18:$BE$1017),0)","v":0},{"$f":"IFERROR($E371*SUMIF('Daily Log'!$BG$18:$BG$1017,$B371,'Daily Log'!$BH$18:$BH$1017),0)","v":0},{"$f":"IFERROR($E371*SUMIF('Daily Log'!$BJ$18:$BJ$1017,$B371,'Daily Log'!$BK$18:$BK$1017),0)","v":0},{"$f":"IFERROR($E371*SUMIF('Daily Log'!$BM$18:$BM$1017,$B371,'Daily Log'!$BN$18:$BN$1017),0)","v":0},{"$f":"IFERROR($E371*SUMIF('Daily Log'!$BP$18:$BP$1017,$B371,'Daily Log'!$BQ$18:$BQ$1017),0)","v":0},{"$f":"IFERROR($E371*SUMIF('Daily Log'!$BS$18:$BS$1017,$B371,'Daily Log'!$BT$18:$BT$1017),0)","v":0},{"$f":"IFERROR($E371*SUMIF('Daily Log'!$BV$18:$BV$1017,$B371,'Daily Log'!$BW$18:$BW$1017),0)","v":0},{"$f":"IFERROR($E371*SUMIF('Daily Log'!$BY$18:$BY$1017,$B371,'Daily Log'!$BZ$18:$BZ$1017),0)","v":0},{"$f":"IFERROR($E371*SUMIF('Daily Log'!$CB$18:$CB$1017,$B371,'Daily Log'!$CC$18:$CC$1017),0)","v":0},{"$f":"IFERROR($E371*SUMIF('Daily Log'!$CE$18:$CE$1017,$B371,'Daily Log'!$CF$18:$CF$1017),0)","v":20},{"$f":"IFERROR($E371*SUMIF('Daily Log'!$CH$18:$CH$1017,$B371,'Daily Log'!$CI$18:$CI$1017),0)","v":0},{"$f":"IFERROR($E371*SUMIF('Daily Log'!$CK$18:$CK$1017,$B371,'Daily Log'!$CL$18:$CL$1017),0)","v":0},{"$f":"IFERROR($E371*SUMIF('Daily Log'!$CN$18:$CN$1017,$B371,'Daily Log'!$CO$18:$CO$1017),0)","v":0}]
[null,"SF04 92604:PASSION SO",null,"FFDRINKS-COLD",1,30,{"$f":"IFERROR($E372*SUMIF('Daily Log'!$B$18:$B$1017,$B372,'Daily Log'!$C$18:$C$1017),0)","v":0},{"$f":"IFERROR($E372*SUMIF('Daily Log'!$E$18:$E$1017,$B372,'Daily Log'!$F$18:$F$1017),0)","v":0},{"$f":"IFERROR($E372*SUMIF('Daily Log'!$H$18:$H$1017,$B372,'Daily Log'!$I$18:$I$1017),0)","v":0},{"$f":"IFERROR($E372*SUMIF('Daily Log'!$K$18:$K$1017,$B372,'Daily Log'!$L$18:$L$1017),0)","v":0},{"$f":"IFERROR($E372*SUMIF('Daily Log'!$N$18:$N$1017,$B372,'Daily Log'!$O$18:$O$1017),0)","v":0},{"$f":"IFERROR($E372*SUMIF('Daily Log'!$Q$18:$Q$1017,$B372,'Daily Log'!$R$18:$R$1017),0)","v":0},{"$f":"IFERROR($E372*SUMIF('Daily Log'!$T$18:$T$1017,$B372,'Daily Log'!$U$18:$U$1017),0)","v":0},{"$f":"IFERROR($E372*SUMIF('Daily Log'!$W$18:$W$1017,$B372,'Daily Log'!$X$18:$X$1017),0)","v":0},{"$f":"IFERROR($E372*SUMIF('Daily Log'!$Z$18:$Z$1017,$B372,'Daily Log'!$AA$18:$AA$1017),0)","v":0},{"$f":"IFERROR($E372*SUMIF('Daily Log'!$AC$18:$AC$1017,$B372,'Daily Log'!$AD$18:$AD$1017),0)","v":0},{"$f":"IFERROR($E372*SUMIF('Daily Log'!$AF$18:$AF$1017,$B372,'Daily Log'!$AG$18:$AG$1017),0)","v":0},{"$f":"IFERROR($E372*SUMIF('Daily Log'!$AI$18:$AI$1017,$B372,'Daily Log'!$AJ$18:$AJ$1017),0)","v":0},{"$f":"IFERROR($E372*SUMIF('Daily Log'!$AL$18:$AL$1017,$B372,'Daily Log'!$AM$18:$AM$1017),0)","v":0},{"$f":"IFERROR($E372*SUMIF('Daily Log'!$AO$18:$AO$1017,$B372,'Daily Log'!$AP$18:$AP$1017),0)","v":0},{"$f":"IFERROR($E372*SUMIF('Daily Log'!$AR$18:$AR$1017,$B372,'Daily Log'!$AS$18:$AS$1017),0)","v":0},{"$f":"IFERROR($E372*SUMIF('Daily Log'!$AU$18:$AU$1017,$B372,'Daily Log'!$AV$18:$AV$1017),0)","v":0},{"$f":"IFERROR($E372*SUMIF('Daily Log'!$AX$18:$AX$1017,$B372,'Daily Log'!$AY$18:$AY$1017),0)","v":0},{"$f":"IFERROR($E372*SUMIF('Daily Log'!$BA$18:$BA$1017,$B372,'Daily Log'!$BB$18:$BB$1017),0)","v":0},{"$f":"IFERROR($E372*SUMIF('Daily Log'!$BD$18:$BD$1017,$B372,'Daily Log'!$BE$18:$BE$1017),0)","v":0},{"$f":"IFERROR($E372*SUMIF('Daily Log'!$BG$18:$BG$1017,$B372,'Daily Log'!$BH$18:$BH$1017),0)","v":0},{"$f":"IFERROR($E372*SUMIF('Daily Log'!$BJ$18:$BJ$1017,$B372,'Daily Log'!$BK$18:$BK$1017),0)","v":0},{"$f":"IFERROR($E372*SUMIF('Daily Log'!$BM$18:$BM$1017,$B372,'Daily Log'!$BN$18:$BN$1017),0)","v":0},{"$f":"IFERROR($E372*SUMIF('Daily Log'!$BP$18:$BP$1017,$B372,'Daily Log'!$BQ$18:$BQ$1017),0)","v":0},{"$f":"IFERROR($E372*SUMIF('Daily Log'!$BS$18:$BS$1017,$B372,'Daily Log'!$BT$18:$BT$1017),0)","v":0},{"$f":"IFERROR($E372*SUMIF('Daily Log'!$BV$18:$BV$1017,$B372,'Daily Log'!$BW$18:$BW$1017),0)","v":0},{"$f":"IFERROR($E372*SUMIF('Daily Log'!$BY$18:$BY$1017,$B372,'Daily Log'!$BZ$18:$BZ$1017),0)","v":0},{"$f":"IFERROR($E372*SUMIF('Daily Log'!$CB$18:$CB$1017,$B372,'Daily Log'!$CC$18:$CC$1017),0)","v":0},{"$f":"IFERROR($E372*SUMIF('Daily Log'!$CE$18:$CE$1017,$B372,'Daily Log'!$CF$18:$CF$1017),0)","v":30},{"$f":"IFERROR($E372*SUMIF('Daily Log'!$CH$18:$CH$1017,$B372,'Daily Log'!$CI$18:$CI$1017),0)","v":0},{"$f":"IFERROR($E372*SUMIF('Daily Log'!$CK$18:$CK$1017,$B372,'Daily Log'!$CL$18:$CL$1017),0)","v":0},{"$f":"IFERROR($E372*SUMIF('Daily Log'!$CN$18:$CN$1017,$B372,'Daily Log'!$CO$18:$CO$1017),0)","v":0}]
[null,"SF05 92605:RIBENA SO",null,"FFDRINKS-COLD",1,51,{"$f":"IFERROR($E373*SUMIF('Daily Log'!$B$18:$B$1017,$B373,'Daily Log'!$C$18:$C$1017),0)","v":0},{"$f":"IFERROR($E373*SUMIF('Daily Log'!$E$18:$E$1017,$B373,'Daily Log'!$F$18:$F$1017),0)","v":0},{"$f":"IFERROR($E373*SUMIF('Daily Log'!$H$18:$H$1017,$B373,'Daily Log'!$I$18:$I$1017),0)","v":0},{"$f":"IFERROR($E373*SUMIF('Daily Log'!$K$18:$K$1017,$B373,'Daily Log'!$L$18:$L$1017),0)","v":0},{"$f":"IFERROR($E373*SUMIF('Daily Log'!$N$18:$N$1017,$B373,'Daily Log'!$O$18:$O$1017),0)","v":0},{"$f":"IFERROR($E373*SUMIF('Daily Log'!$Q$18:$Q$1017,$B373,'Daily Log'!$R$18:$R$1017),0)","v":0},{"$f":"IFERROR($E373*SUMIF('Daily Log'!$T$18:$T$1017,$B373,'Daily Log'!$U$18:$U$1017),0)","v":0},{"$f":"IFERROR($E373*SUMIF('Daily Log'!$W$18:$W$1017,$B373,'Daily Log'!$X$18:$X$1017),0)","v":0},{"$f":"IFERROR($E373*SUMIF('Daily Log'!$Z$18:$Z$1017,$B373,'Daily Log'!$AA$18:$AA$1017),0)","v":0},{"$f":"IFERROR($E373*SUMIF('Daily Log'!$AC$18:$AC$1017,$B373,'Daily Log'!$AD$18:$AD$1017),0)","v":0},{"$f":"IFERROR($E373*SUMIF('Daily Log'!$AF$18:$AF$1017,$B373,'Daily Log'!$AG$18:$AG$1017),0)","v":0},{"$f":"IFERROR($E373*SUMIF('Daily Log'!$AI$18:$AI$1017,$B373,'Daily Log'!$AJ$18:$AJ$1017),0)","v":0},{"$f":"IFERROR($E373*SUMIF('Daily Log'!$AL$18:$AL$1017,$B373,'Daily Log'!$AM$18:$AM$1017),0)","v":0},{"$f":"IFERROR($E373*SUMIF('Daily Log'!$AO$18:$AO$1017,$B373,'Daily Log'!$AP$18:$AP$1017),0)","v":0},{"$f":"IFERROR($E373*SUMIF('Daily Log'!$AR$18:$AR$1017,$B373,'Daily Log'!$AS$18:$AS$1017),0)","v":0},{"$f":"IFERROR($E373*SUMIF('Daily Log'!$AU$18:$AU$1017,$B373,'Daily Log'!$AV$18:$AV$1017),0)","v":0},{"$f":"IFERROR($E373*SUMIF('Daily Log'!$AX$18:$AX$1017,$B373,'Daily Log'!$AY$18:$AY$1017),0)","v":0},{"$f":"IFERROR($E373*SUMIF('Daily Log'!$BA$18:$BA$1017,$B373,'Daily Log'!$BB$18:$BB$1017),0)","v":0},{"$f":"IFERROR($E373*SUMIF('Daily Log'!$BD$18:$BD$1017,$B373,'Daily Log'!$BE$18:$BE$1017),0)","v":0},{"$f":"IFERROR($E373*SUMIF('Daily Log'!$BG$18:$BG$1017,$B373,'Daily Log'!$BH$18:$BH$1017),0)","v":0},{"$f":"IFERROR($E373*SUMIF('Daily Log'!$BJ$18:$BJ$1017,$B373,'Daily Log'!$BK$18:$BK$1017),0)","v":0},{"$f":"IFERROR($E373*SUMIF('Daily Log'!$BM$18:$BM$1017,$B373,'Daily Log'!$BN$18:$BN$1017),0)","v":0},{"$f":"IFERROR($E373*SUMIF('Daily Log'!$BP$18:$BP$1017,$B373,'Daily Log'!$BQ$18:$BQ$1017),0)","v":0},{"$f":"IFERROR($E373*SUMIF('Daily Log'!$BS$18:$BS$1017,$B373,'Daily Log'!$BT$18:$BT$1017),0)","v":0},{"$f":"IFERROR($E373*SUMIF('Daily Log'!$BV$18:$BV$1017,$B373,'Daily Log'!$BW$18:$BW$1017),0)","v":0},{"$f":"IFERROR($E373*SUMIF('Daily Log'!$BY$18:$BY$1017,$B373,'Daily Log'!$BZ$18:$BZ$1017),0)","v":0},{"$f":"IFERROR($E373*SUMIF('Daily Log'!$CB$18:$CB$1017,$B373,'Daily Log'!$CC$18:$CC$1017),0)","v":0},{"$f":"IFERROR($E373*SUMIF('Daily Log'!$CE$18:$CE$1017,$B373,'Daily Log'!$CF$18:$CF$1017),0)","v":51},{"$f":"IFERROR($E373*SUMIF('Daily Log'!$CH$18:$CH$1017,$B373,'Daily Log'!$CI$18:$CI$1017),0)","v":0},{"$f":"IFERROR($E373*SUMIF('Daily Log'!$CK$18:$CK$1017,$B373,'Daily Log'!$CL$18:$CL$1017),0)","v":0},{"$f":"IFERROR($E373*SUMIF('Daily Log'!$CN$18:$CN$1017,$B373,'Daily Log'!$CO$18:$CO$1017),0)","v":0}]
[null,"SM01 2801:GRAPE SM",null,"SO-COLD BEVERAGE",1,0,{"$f":"IFERROR($E374*SUMIF('Daily Log'!$B$18:$B$1017,$B374,'Daily Log'!$C$18:$C$1017),0)","v":0},{"$f":"IFERROR($E374*SUMIF('Daily Log'!$E$18:$E$1017,$B374,'Daily Log'!$F$18:$F$1017),0)","v":0},{"$f":"IFERROR($E374*SUMIF('Daily Log'!$H$18:$H$1017,$B374,'Daily Log'!$I$18:$I$1017),0)","v":0},{"$f":"IFERROR($E374*SUMIF('Daily Log'!$K$18:$K$1017,$B374,'Daily Log'!$L$18:$L$1017),0)","v":0},{"$f":"IFERROR($E374*SUMIF('Daily Log'!$N$18:$N$1017,$B374,'Daily Log'!$O$18:$O$1017),0)","v":0},{"$f":"IFERROR($E374*SUMIF('Daily Log'!$Q$18:$Q$1017,$B374,'Daily Log'!$R$18:$R$1017),0)","v":0},{"$f":"IFERROR($E374*SUMIF('Daily Log'!$T$18:$T$1017,$B374,'Daily Log'!$U$18:$U$1017),0)","v":0},{"$f":"IFERROR($E374*SUMIF('Daily Log'!$W$18:$W$1017,$B374,'Daily Log'!$X$18:$X$1017),0)","v":0},{"$f":"IFERROR($E374*SUMIF('Daily Log'!$Z$18:$Z$1017,$B374,'Daily Log'!$AA$18:$AA$1017),0)","v":0},{"$f":"IFERROR($E374*SUMIF('Daily Log'!$AC$18:$AC$1017,$B374,'Daily Log'!$AD$18:$AD$1017),0)","v":0},{"$f":"IFERROR($E374*SUMIF('Daily Log'!$AF$18:$AF$1017,$B374,'Daily Log'!$AG$18:$AG$1017),0)","v":0},{"$f":"IFERROR($E374*SUMIF('Daily Log'!$AI$18:$AI$1017,$B374,'Daily Log'!$AJ$18:$AJ$1017),0)","v":0},{"$f":"IFERROR($E374*SUMIF('Daily Log'!$AL$18:$AL$1017,$B374,'Daily Log'!$AM$18:$AM$1017),0)","v":0},{"$f":"IFERROR($E374*SUMIF('Daily Log'!$AO$18:$AO$1017,$B374,'Daily Log'!$AP$18:$AP$1017),0)","v":0},{"$f":"IFERROR($E374*SUMIF('Daily Log'!$AR$18:$AR$1017,$B374,'Daily Log'!$AS$18:$AS$1017),0)","v":0},{"$f":"IFERROR($E374*SUMIF('Daily Log'!$AU$18:$AU$1017,$B374,'Daily Log'!$AV$18:$AV$1017),0)","v":0},{"$f":"IFERROR($E374*SUMIF('Daily Log'!$AX$18:$AX$1017,$B374,'Daily Log'!$AY$18:$AY$1017),0)","v":0},{"$f":"IFERROR($E374*SUMIF('Daily Log'!$BA$18:$BA$1017,$B374,'Daily Log'!$BB$18:$BB$1017),0)","v":0},{"$f":"IFERROR($E374*SUMIF('Daily Log'!$BD$18:$BD$1017,$B374,'Daily Log'!$BE$18:$BE$1017),0)","v":0},{"$f":"IFERROR($E374*SUMIF('Daily Log'!$BG$18:$BG$1017,$B374,'Daily Log'!$BH$18:$BH$1017),0)","v":0},{"$f":"IFERROR($E374*SUMIF('Daily Log'!$BJ$18:$BJ$1017,$B374,'Daily Log'!$BK$18:$BK$1017),0)","v":0},{"$f":"IFERROR($E374*SUMIF('Daily Log'!$BM$18:$BM$1017,$B374,'Daily Log'!$BN$18:$BN$1017),0)","v":0},{"$f":"IFERROR($E374*SUMIF('Daily Log'!$BP$18:$BP$1017,$B374,'Daily Log'!$BQ$18:$BQ$1017),0)","v":0},{"$f":"IFERROR($E374*SUMIF('Daily Log'!$BS$18:$BS$1017,$B374,'Daily Log'!$BT$18:$BT$1017),0)","v":0},{"$f":"IFERROR($E374*SUMIF('Daily Log'!$BV$18:$BV$1017,$B374,'Daily Log'!$BW$18:$BW$1017),0)","v":0},{"$f":"IFERROR($E374*SUMIF('Daily Log'!$BY$18:$BY$1017,$B374,'Daily Log'!$BZ$18:$BZ$1017),0)","v":0},{"$f":"IFERROR($E374*SUMIF('Daily Log'!$CB$18:$CB$1017,$B374,'Daily Log'!$CC$18:$CC$1017),0)","v":0},{"$f":"IFERROR($E374*SUMIF('Daily Log'!$CE$18:$CE$1017,$B374,'Daily Log'!$CF$18:$CF$1017),0)","v":0},{"$f":"IFERROR($E374*SUMIF('Daily Log'!$CH$18:$CH$1017,$B374,'Daily Log'!$CI$18:$CI$1017),0)","v":0},{"$f":"IFERROR($E374*SUMIF('Daily Log'!$CK$18:$CK$1017,$B374,'Daily Log'!$CL$18:$CL$1017),0)","v":0},{"$f":"IFERROR($E374*SUMIF('Daily Log'!$CN$18:$CN$1017,$B374,'Daily Log'!$CO$18:$CO$1017),0)","v":0}]
[null,"SM02 2802:APPLE SM",null,"SO-COLD BEVERAGE",1,0,{"$f":"IFERROR($E375*SUMIF('Daily Log'!$B$18:$B$1017,$B375,'Daily Log'!$C$18:$C$1017),0)","v":0},{"$f":"IFERROR($E375*SUMIF('Daily Log'!$E$18:$E$1017,$B375,'Daily Log'!$F$18:$F$1017),0)","v":0},{"$f":"IFERROR($E375*SUMIF('Daily Log'!$H$18:$H$1017,$B375,'Daily Log'!$I$18:$I$1017),0)","v":0},{"$f":"IFERROR($E375*SUMIF('Daily Log'!$K$18:$K$1017,$B375,'Daily Log'!$L$18:$L$1017),0)","v":0},{"$f":"IFERROR($E375*SUMIF('Daily Log'!$N$18:$N$1017,$B375,'Daily Log'!$O$18:$O$1017),0)","v":0},{"$f":"IFERROR($E375*SUMIF('Daily Log'!$Q$18:$Q$1017,$B375,'Daily Log'!$R$18:$R$1017),0)","v":0},{"$f":"IFERROR($E375*SUMIF('Daily Log'!$T$18:$T$1017,$B375,'Daily Log'!$U$18:$U$1017),0)","v":0},{"$f":"IFERROR($E375*SUMIF('Daily Log'!$W$18:$W$1017,$B375,'Daily Log'!$X$18:$X$1017),0)","v":0},{"$f":"IFERROR($E375*SUMIF('Daily Log'!$Z$18:$Z$1017,$B375,'Daily Log'!$AA$18:$AA$1017),0)","v":0},{"$f":"IFERROR($E375*SUMIF('Daily Log'!$AC$18:$AC$1017,$B375,'Daily Log'!$AD$18:$AD$1017),0)","v":0},{"$f":"IFERROR($E375*SUMIF('Daily Log'!$AF$18:$AF$1017,$B375,'Daily Log'!$AG$18:$AG$1017),0)","v":0},{"$f":"IFERROR($E375*SUMIF('Daily Log'!$AI$18:$AI$1017,$B375,'Daily Log'!$AJ$18:$AJ$1017),0)","v":0},{"$f":"IFERROR($E375*SUMIF('Daily Log'!$AL$18:$AL$1017,$B375,'Daily Log'!$AM$18:$AM$1017),0)","v":0},{"$f":"IFERROR($E375*SUMIF('Daily Log'!$AO$18:$AO$1017,$B375,'Daily Log'!$AP$18:$AP$1017),0)","v":0},{"$f":"IFERROR($E375*SUMIF('Daily Log'!$AR$18:$AR$1017,$B375,'Daily Log'!$AS$18:$AS$1017),0)","v":0},{"$f":"IFERROR($E375*SUMIF('Daily Log'!$AU$18:$AU$1017,$B375,'Daily Log'!$AV$18:$AV$1017),0)","v":0},{"$f":"IFERROR($E375*SUMIF('Daily Log'!$AX$18:$AX$1017,$B375,'Daily Log'!$AY$18:$AY$1017),0)","v":0},{"$f":"IFERROR($E375*SUMIF('Daily Log'!$BA$18:$BA$1017,$B375,'Daily Log'!$BB$18:$BB$1017),0)","v":0},{"$f":"IFERROR($E375*SUMIF('Daily Log'!$BD$18:$BD$1017,$B375,'Daily Log'!$BE$18:$BE$1017),0)","v":0},{"$f":"IFERROR($E375*SUMIF('Daily Log'!$BG$18:$BG$1017,$B375,'Daily Log'!$BH$18:$BH$1017),0)","v":0},{"$f":"IFERROR($E375*SUMIF('Daily Log'!$BJ$18:$BJ$1017,$B375,'Daily Log'!$BK$18:$BK$1017),0)","v":0},{"$f":"IFERROR($E375*SUMIF('Daily Log'!$BM$18:$BM$1017,$B375,'Daily Log'!$BN$18:$BN$1017),0)","v":0},{"$f":"IFERROR($E375*SUMIF('Daily Log'!$BP$18:$BP$1017,$B375,'Daily Log'!$BQ$18:$BQ$1017),0)","v":0},{"$f":"IFERROR($E375*SUMIF('Daily Log'!$BS$18:$BS$1017,$B375,'Daily Log'!$BT$18:$BT$1017),0)","v":0},{"$f":"IFERROR($E375*SUMIF('Daily Log'!$BV$18:$BV$1017,$B375,'Daily Log'!$BW$18:$BW$1017),0)","v":0},{"$f":"IFERROR($E375*SUMIF('Daily Log'!$BY$18:$BY$1017,$B375,'Daily Log'!$BZ$18:$BZ$1017),0)","v":0},{"$f":"IFERROR($E375*SUMIF('Daily Log'!$CB$18:$CB$1017,$B375,'Daily Log'!$CC$18:$CC$1017),0)","v":0},{"$f":"IFERROR($E375*SUMIF('Daily Log'!$CE$18:$CE$1017,$B375,'Daily Log'!$CF$18:$CF$1017),0)","v":0},{"$f":"IFERROR($E375*SUMIF('Daily Log'!$CH$18:$CH$1017,$B375,'Daily Log'!$CI$18:$CI$1017),0)","v":0},{"$f":"IFERROR($E375*SUMIF('Daily Log'!$CK$18:$CK$1017,$B375,'Daily Log'!$CL$18:$CL$1017),0)","v":0},{"$f":"IFERROR($E375*SUMIF('Daily Log'!$CN$18:$CN$1017,$B375,'Daily Log'!$CO$18:$CO$1017),0)","v":0}]
[null,"SM03 2803:MANGO SM",null,"SO-COLD BEVERAGE",1,0,{"$f":"IFERROR($E376*SUMIF('Daily Log'!$B$18:$B$1017,$B376,'Daily Log'!$C$18:$C$1017),0)","v":0},{"$f":"IFERROR($E376*SUMIF('Daily Log'!$E$18:$E$1017,$B376,'Daily Log'!$F$18:$F$1017),0)","v":0},{"$f":"IFERROR($E376*SUMIF('Daily Log'!$H$18:$H$1017,$B376,'Daily Log'!$I$18:$I$1017),0)","v":0},{"$f":"IFERROR($E376*SUMIF('Daily Log'!$K$18:$K$1017,$B376,'Daily Log'!$L$18:$L$1017),0)","v":0},{"$f":"IFERROR($E376*SUMIF('Daily Log'!$N$18:$N$1017,$B376,'Daily Log'!$O$18:$O$1017),0)","v":0},{"$f":"IFERROR($E376*SUMIF('Daily Log'!$Q$18:$Q$1017,$B376,'Daily Log'!$R$18:$R$1017),0)","v":0},{"$f":"IFERROR($E376*SUMIF('Daily Log'!$T$18:$T$1017,$B376,'Daily Log'!$U$18:$U$1017),0)","v":0},{"$f":"IFERROR($E376*SUMIF('Daily Log'!$W$18:$W$1017,$B376,'Daily Log'!$X$18:$X$1017),0)","v":0},{"$f":"IFERROR($E376*SUMIF('Daily Log'!$Z$18:$Z$1017,$B376,'Daily Log'!$AA$18:$AA$1017),0)","v":0},{"$f":"IFERROR($E376*SUMIF('Daily Log'!$AC$18:$AC$1017,$B376,'Daily Log'!$AD$18:$AD$1017),0)","v":0},{"$f":"IFERROR($E376*SUMIF('Daily Log'!$AF$18:$AF$1017,$B376,'Daily Log'!$AG$18:$AG$1017),0)","v":0},{"$f":"IFERROR($E376*SUMIF('Daily Log'!$AI$18:$AI$1017,$B376,'Daily Log'!$AJ$18:$AJ$1017),0)","v":0},{"$f":"IFERROR($E376*SUMIF('Daily Log'!$AL$18:$AL$1017,$B376,'Daily Log'!$AM$18:$AM$1017),0)","v":0},{"$f":"IFERROR($E376*SUMIF('Daily Log'!$AO$18:$AO$1017,$B376,'Daily Log'!$AP$18:$AP$1017),0)","v":0},{"$f":"IFERROR($E376*SUMIF('Daily Log'!$AR$18:$AR$1017,$B376,'Daily Log'!$AS$18:$AS$1017),0)","v":0},{"$f":"IFERROR($E376*SUMIF('Daily Log'!$AU$18:$AU$1017,$B376,'Daily Log'!$AV$18:$AV$1017),0)","v":0},{"$f":"IFERROR($E376*SUMIF('Daily Log'!$AX$18:$AX$1017,$B376,'Daily Log'!$AY$18:$AY$1017),0)","v":0},{"$f":"IFERROR($E376*SUMIF('Daily Log'!$BA$18:$BA$1017,$B376,'Daily Log'!$BB$18:$BB$1017),0)","v":0},{"$f":"IFERROR($E376*SUMIF('Daily Log'!$BD$18:$BD$1017,$B376,'Daily Log'!$BE$18:$BE$1017),0)","v":0},{"$f":"IFERROR($E376*SUMIF('Daily Log'!$BG$18:$BG$1017,$B376,'Daily Log'!$BH$18:$BH$1017),0)","v":0},{"$f":"IFERROR($E376*SUMIF('Daily Log'!$BJ$18:$BJ$1017,$B376,'Daily Log'!$BK$18:$BK$1017),0)","v":0},{"$f":"IFERROR($E376*SUMIF('Daily Log'!$BM$18:$BM$1017,$B376,'Daily Log'!$BN$18:$BN$1017),0)","v":0},{"$f":"IFERROR($E376*SUMIF('Daily Log'!$BP$18:$BP$1017,$B376,'Daily Log'!$BQ$18:$BQ$1017),0)","v":0},{"$f":"IFERROR($E376*SUMIF('Daily Log'!$BS$18:$BS$1017,$B376,'Daily Log'!$BT$18:$BT$1017),0)","v":0},{"$f":"IFERROR($E376*SUMIF('Daily Log'!$BV$18:$BV$1017,$B376,'Daily Log'!$BW$18:$BW$1017),0)","v":0},{"$f":"IFERROR($E376*SUMIF('Daily Log'!$BY$18:$BY$1017,$B376,'Daily Log'!$BZ$18:$BZ$1017),0)","v":0},{"$f":"IFERROR($E376*SUMIF('Daily Log'!$CB$18:$CB$1017,$B376,'Daily Log'!$CC$18:$CC$1017),0)","v":0},{"$f":"IFERROR($E376*SUMIF('Daily Log'!$CE$18:$CE$1017,$B376,'Daily Log'!$CF$18:$CF$1017),0)","v":0},{"$f":"IFERROR($E376*SUMIF('Daily Log'!$CH$18:$CH$1017,$B376,'Daily Log'!$CI$18:$CI$1017),0)","v":0},{"$f":"IFERROR($E376*SUMIF('Daily Log'!$CK$18:$CK$1017,$B376,'Daily Log'!$CL$18:$CL$1017),0)","v":0},{"$f":"IFERROR($E376*SUMIF('Daily Log'!$CN$18:$CN$1017,$B376,'Daily Log'!$CO$18:$CO$1017),0)","v":0}]
[null,"SM04 2804:PASSION SM",null,"SO-COLD BEVERAGE",1,0,{"$f":"IFERROR($E377*SUMIF('Daily Log'!$B$18:$B$1017,$B377,'Daily Log'!$C$18:$C$1017),0)","v":0},{"$f":"IFERROR($E377*SUMIF('Daily Log'!$E$18:$E$1017,$B377,'Daily Log'!$F$18:$F$1017),0)","v":0},{"$f":"IFERROR($E377*SUMIF('Daily Log'!$H$18:$H$1017,$B377,'Daily Log'!$I$18:$I$1017),0)","v":0},{"$f":"IFERROR($E377*SUMIF('Daily Log'!$K$18:$K$1017,$B377,'Daily Log'!$L$18:$L$1017),0)","v":0},{"$f":"IFERROR($E377*SUMIF('Daily Log'!$N$18:$N$1017,$B377,'Daily Log'!$O$18:$O$1017),0)","v":0},{"$f":"IFERROR($E377*SUMIF('Daily Log'!$Q$18:$Q$1017,$B377,'Daily Log'!$R$18:$R$1017),0)","v":0},{"$f":"IFERROR($E377*SUMIF('Daily Log'!$T$18:$T$1017,$B377,'Daily Log'!$U$18:$U$1017),0)","v":0},{"$f":"IFERROR($E377*SUMIF('Daily Log'!$W$18:$W$1017,$B377,'Daily Log'!$X$18:$X$1017),0)","v":0},{"$f":"IFERROR($E377*SUMIF('Daily Log'!$Z$18:$Z$1017,$B377,'Daily Log'!$AA$18:$AA$1017),0)","v":0},{"$f":"IFERROR($E377*SUMIF('Daily Log'!$AC$18:$AC$1017,$B377,'Daily Log'!$AD$18:$AD$1017),0)","v":0},{"$f":"IFERROR($E377*SUMIF('Daily Log'!$AF$18:$AF$1017,$B377,'Daily Log'!$AG$18:$AG$1017),0)","v":0},{"$f":"IFERROR($E377*SUMIF('Daily Log'!$AI$18:$AI$1017,$B377,'Daily Log'!$AJ$18:$AJ$1017),0)","v":0},{"$f":"IFERROR($E377*SUMIF('Daily Log'!$AL$18:$AL$1017,$B377,'Daily Log'!$AM$18:$AM$1017),0)","v":0},{"$f":"IFERROR($E377*SUMIF('Daily Log'!$AO$18:$AO$1017,$B377,'Daily Log'!$AP$18:$AP$1017),0)","v":0},{"$f":"IFERROR($E377*SUMIF('Daily Log'!$AR$18:$AR$1017,$B377,'Daily Log'!$AS$18:$AS$1017),0)","v":0},{"$f":"IFERROR($E377*SUMIF('Daily Log'!$AU$18:$AU$1017,$B377,'Daily Log'!$AV$18:$AV$1017),0)","v":0},{"$f":"IFERROR($E377*SUMIF('Daily Log'!$AX$18:$AX$1017,$B377,'Daily Log'!$AY$18:$AY$1017),0)","v":0},{"$f":"IFERROR($E377*SUMIF('Daily Log'!$BA$18:$BA$1017,$B377,'Daily Log'!$BB$18:$BB$1017),0)","v":0},{"$f":"IFERROR($E377*SUMIF('Daily Log'!$BD$18:$BD$1017,$B377,'Daily Log'!$BE$18:$BE$1017),0)","v":0},{"$f":"IFERROR($E377*SUMIF('Daily Log'!$BG$18:$BG$1017,$B377,'Daily Log'!$BH$18:$BH$1017),0)","v":0},{"$f":"IFERROR($E377*SUMIF('Daily Log'!$BJ$18:$BJ$1017,$B377,'Daily Log'!$BK$18:$BK$1017),0)","v":0},{"$f":"IFERROR($E377*SUMIF('Daily Log'!$BM$18:$BM$1017,$B377,'Daily Log'!$BN$18:$BN$1017),0)","v":0},{"$f":"IFERROR($E377*SUMIF('Daily Log'!$BP$18:$BP$1017,$B377,'Daily Log'!$BQ$18:$BQ$1017),0)","v":0},{"$f":"IFERROR($E377*SUMIF('Daily Log'!$BS$18:$BS$1017,$B377,'Daily Log'!$BT$18:$BT$1017),0)","v":0},{"$f":"IFERROR($E377*SUMIF('Daily Log'!$BV$18:$BV$1017,$B377,'Daily Log'!$BW$18:$BW$1017),0)","v":0},{"$f":"IFERROR($E377*SUMIF('Daily Log'!$BY$18:$BY$1017,$B377,'Daily Log'!$BZ$18:$BZ$1017),0)","v":0},{"$f":"IFERROR($E377*SUMIF('Daily Log'!$CB$18:$CB$1017,$B377,'Daily Log'!$CC$18:$CC$1017),0)","v":0},{"$f":"IFERROR($E377*SUMIF('Daily Log'!$CE$18:$CE$1017,$B377,'Daily Log'!$CF$18:$CF$1017),0)","v":0},{"$f":"IFERROR($E377*SUMIF('Daily Log'!$CH$18:$CH$1017,$B377,'Daily Log'!$CI$18:$CI$1017),0)","v":0},{"$f":"IFERROR($E377*SUMIF('Daily Log'!$CK$18:$CK$1017,$B377,'Daily Log'!$CL$18:$CL$1017),0)","v":0},{"$f":"IFERROR($E377*SUMIF('Daily Log'!$CN$18:$CN$1017,$B377,'Daily Log'!$CO$18:$CO$1017),0)","v":0}]
[null,"SM05 2805:RIBENA SM",null,"SO-COLD BEVERAGE",1,0,{"$f":"IFERROR($E378*SUMIF('Daily Log'!$B$18:$B$1017,$B378,'Daily Log'!$C$18:$C$1017),0)","v":0},{"$f":"IFERROR($E378*SUMIF('Daily Log'!$E$18:$E$1017,$B378,'Daily Log'!$F$18:$F$1017),0)","v":0},{"$f":"IFERROR($E378*SUMIF('Daily Log'!$H$18:$H$1017,$B378,'Daily Log'!$I$18:$I$1017),0)","v":0},{"$f":"IFERROR($E378*SUMIF('Daily Log'!$K$18:$K$1017,$B378,'Daily Log'!$L$18:$L$1017),0)","v":0},{"$f":"IFERROR($E378*SUMIF('Daily Log'!$N$18:$N$1017,$B378,'Daily Log'!$O$18:$O$1017),0)","v":0},{"$f":"IFERROR($E378*SUMIF('Daily Log'!$Q$18:$Q$1017,$B378,'Daily Log'!$R$18:$R$1017),0)","v":0},{"$f":"IFERROR($E378*SUMIF('Daily Log'!$T$18:$T$1017,$B378,'Daily Log'!$U$18:$U$1017),0)","v":0},{"$f":"IFERROR($E378*SUMIF('Daily Log'!$W$18:$W$1017,$B378,'Daily Log'!$X$18:$X$1017),0)","v":0},{"$f":"IFERROR($E378*SUMIF('Daily Log'!$Z$18:$Z$1017,$B378,'Daily Log'!$AA$18:$AA$1017),0)","v":0},{"$f":"IFERROR($E378*SUMIF('Daily Log'!$AC$18:$AC$1017,$B378,'Daily Log'!$AD$18:$AD$1017),0)","v":0},{"$f":"IFERROR($E378*SUMIF('Daily Log'!$AF$18:$AF$1017,$B378,'Daily Log'!$AG$18:$AG$1017),0)","v":0},{"$f":"IFERROR($E378*SUMIF('Daily Log'!$AI$18:$AI$1017,$B378,'Daily Log'!$AJ$18:$AJ$1017),0)","v":0},{"$f":"IFERROR($E378*SUMIF('Daily Log'!$AL$18:$AL$1017,$B378,'Daily Log'!$AM$18:$AM$1017),0)","v":0},{"$f":"IFERROR($E378*SUMIF('Daily Log'!$AO$18:$AO$1017,$B378,'Daily Log'!$AP$18:$AP$1017),0)","v":0},{"$f":"IFERROR($E378*SUMIF('Daily Log'!$AR$18:$AR$1017,$B378,'Daily Log'!$AS$18:$AS$1017),0)","v":0},{"$f":"IFERROR($E378*SUMIF('Daily Log'!$AU$18:$AU$1017,$B378,'Daily Log'!$AV$18:$AV$1017),0)","v":0},{"$f":"IFERROR($E378*SUMIF('Daily Log'!$AX$18:$AX$1017,$B378,'Daily Log'!$AY$18:$AY$1017),0)","v":0},{"$f":"IFERROR($E378*SUMIF('Daily Log'!$BA$18:$BA$1017,$B378,'Daily Log'!$BB$18:$BB$1017),0)","v":0},{"$f":"IFERROR($E378*SUMIF('Daily Log'!$BD$18:$BD$1017,$B378,'Daily Log'!$BE$18:$BE$1017),0)","v":0},{"$f":"IFERROR($E378*SUMIF('Daily Log'!$BG$18:$BG$1017,$B378,'Daily Log'!$BH$18:$BH$1017),0)","v":0},{"$f":"IFERROR($E378*SUMIF('Daily Log'!$BJ$18:$BJ$1017,$B378,'Daily Log'!$BK$18:$BK$1017),0)","v":0},{"$f":"IFERROR($E378*SUMIF('Daily Log'!$BM$18:$BM$1017,$B378,'Daily Log'!$BN$18:$BN$1017),0)","v":0},{"$f":"IFERROR($E378*SUMIF('Daily Log'!$BP$18:$BP$1017,$B378,'Daily Log'!$BQ$18:$BQ$1017),0)","v":0},{"$f":"IFERROR($E378*SUMIF('Daily Log'!$BS$18:$BS$1017,$B378,'Daily Log'!$BT$18:$BT$1017),0)","v":0},{"$f":"IFERROR($E378*SUMIF('Daily Log'!$BV$18:$BV$1017,$B378,'Daily Log'!$BW$18:$BW$1017),0)","v":0},{"$f":"IFERROR($E378*SUMIF('Daily Log'!$BY$18:$BY$1017,$B378,'Daily Log'!$BZ$18:$BZ$1017),0)","v":0},{"$f":"IFERROR($E378*SUMIF('Daily Log'!$CB$18:$CB$1017,$B378,'Daily Log'!$CC$18:$CC$1017),0)","v":0},{"$f":"IFERROR($E378*SUMIF('Daily Log'!$CE$18:$CE$1017,$B378,'Daily Log'!$CF$18:$CF$1017),0)","v":0},{"$f":"IFERROR($E378*SUMIF('Daily Log'!$CH$18:$CH$1017,$B378,'Daily Log'!$CI$18:$CI$1017),0)","v":0},{"$f":"IFERROR($E378*SUMIF('Daily Log'!$CK$18:$CK$1017,$B378,'Daily Log'!$CL$18:$CL$1017),0)","v":0},{"$f":"IFERROR($E378*SUMIF('Daily Log'!$CN$18:$CN$1017,$B378,'Daily Log'!$CO$18:$CO$1017),0)","v":0}]
[null,"SM09 2820:CAPPU SM",null,"SO-COLD BEVERAGE",1,0,{"$f":"IFERROR($E379*SUMIF('Daily Log'!$B$18:$B$1017,$B379,'Daily Log'!$C$18:$C$1017),0)","v":0},{"$f":"IFERROR($E379*SUMIF('Daily Log'!$E$18:$E$1017,$B379,'Daily Log'!$F$18:$F$1017),0)","v":0},{"$f":"IFERROR($E379*SUMIF('Daily Log'!$H$18:$H$1017,$B379,'Daily Log'!$I$18:$I$1017),0)","v":0},{"$f":"IFERROR($E379*SUMIF('Daily Log'!$K$18:$K$1017,$B379,'Daily Log'!$L$18:$L$1017),0)","v":0},{"$f":"IFERROR($E379*SUMIF('Daily Log'!$N$18:$N$1017,$B379,'Daily Log'!$O$18:$O$1017),0)","v":0},{"$f":"IFERROR($E379*SUMIF('Daily Log'!$Q$18:$Q$1017,$B379,'Daily Log'!$R$18:$R$1017),0)","v":0},{"$f":"IFERROR($E379*SUMIF('Daily Log'!$T$18:$T$1017,$B379,'Daily Log'!$U$18:$U$1017),0)","v":0},{"$f":"IFERROR($E379*SUMIF('Daily Log'!$W$18:$W$1017,$B379,'Daily Log'!$X$18:$X$1017),0)","v":0},{"$f":"IFERROR($E379*SUMIF('Daily Log'!$Z$18:$Z$1017,$B379,'Daily Log'!$AA$18:$AA$1017),0)","v":0},{"$f":"IFERROR($E379*SUMIF('Daily Log'!$AC$18:$AC$1017,$B379,'Daily Log'!$AD$18:$AD$1017),0)","v":0},{"$f":"IFERROR($E379*SUMIF('Daily Log'!$AF$18:$AF$1017,$B379,'Daily Log'!$AG$18:$AG$1017),0)","v":0},{"$f":"IFERROR($E379*SUMIF('Daily Log'!$AI$18:$AI$1017,$B379,'Daily Log'!$AJ$18:$AJ$1017),0)","v":0},{"$f":"IFERROR($E379*SUMIF('Daily Log'!$AL$18:$AL$1017,$B379,'Daily Log'!$AM$18:$AM$1017),0)","v":0},{"$f":"IFERROR($E379*SUMIF('Daily Log'!$AO$18:$AO$1017,$B379,'Daily Log'!$AP$18:$AP$1017),0)","v":0},{"$f":"IFERROR($E379*SUMIF('Daily Log'!$AR$18:$AR$1017,$B379,'Daily Log'!$AS$18:$AS$1017),0)","v":0},{"$f":"IFERROR($E379*SUMIF('Daily Log'!$AU$18:$AU$1017,$B379,'Daily Log'!$AV$18:$AV$1017),0)","v":0},{"$f":"IFERROR($E379*SUMIF('Daily Log'!$AX$18:$AX$1017,$B379,'Daily Log'!$AY$18:$AY$1017),0)","v":0},{"$f":"IFERROR($E379*SUMIF('Daily Log'!$BA$18:$BA$1017,$B379,'Daily Log'!$BB$18:$BB$1017),0)","v":0},{"$f":"IFERROR($E379*SUMIF('Daily Log'!$BD$18:$BD$1017,$B379,'Daily Log'!$BE$18:$BE$1017),0)","v":0},{"$f":"IFERROR($E379*SUMIF('Daily Log'!$BG$18:$BG$1017,$B379,'Daily Log'!$BH$18:$BH$1017),0)","v":0},{"$f":"IFERROR($E379*SUMIF('Daily Log'!$BJ$18:$BJ$1017,$B379,'Daily Log'!$BK$18:$BK$1017),0)","v":0},{"$f":"IFERROR($E379*SUMIF('Daily Log'!$BM$18:$BM$1017,$B379,'Daily Log'!$BN$18:$BN$1017),0)","v":0},{"$f":"IFERROR($E379*SUMIF('Daily Log'!$BP$18:$BP$1017,$B379,'Daily Log'!$BQ$18:$BQ$1017),0)","v":0},{"$f":"IFERROR($E379*SUMIF('Daily Log'!$BS$18:$BS$1017,$B379,'Daily Log'!$BT$18:$BT$1017),0)","v":0},{"$f":"IFERROR($E379*SUMIF('Daily Log'!$BV$18:$BV$1017,$B379,'Daily Log'!$BW$18:$BW$1017),0)","v":0},{"$f":"IFERROR($E379*SUMIF('Daily Log'!$BY$18:$BY$1017,$B379,'Daily Log'!$BZ$18:$BZ$1017),0)","v":0},{"$f":"IFERROR($E379*SUMIF('Daily Log'!$CB$18:$CB$1017,$B379,'Daily Log'!$CC$18:$CC$1017),0)","v":0},{"$f":"IFERROR($E379*SUMIF('Daily Log'!$CE$18:$CE$1017,$B379,'Daily Log'!$CF$18:$CF$1017),0)","v":0},{"$f":"IFERROR($E379*SUMIF('Daily Log'!$CH$18:$CH$1017,$B379,'Daily Log'!$CI$18:$CI$1017),0)","v":0},{"$f":"IFERROR($E379*SUMIF('Daily Log'!$CK$18:$CK$1017,$B379,'Daily Log'!$CL$18:$CL$1017),0)","v":0},{"$f":"IFERROR($E379*SUMIF('Daily Log'!$CN$18:$CN$1017,$B379,'Daily Log'!$CO$18:$CO$1017),0)","v":0}]
[null,"SM10 2821:CHOCO SM",null,"SO-COLD BEVERAGE",1,0,{"$f":"IFERROR($E380*SUMIF('Daily Log'!$B$18:$B$1017,$B380,'Daily Log'!$C$18:$C$1017),0)","v":0},{"$f":"IFERROR($E380*SUMIF('Daily Log'!$E$18:$E$1017,$B380,'Daily Log'!$F$18:$F$1017),0)","v":0},{"$f":"IFERROR($E380*SUMIF('Daily Log'!$H$18:$H$1017,$B380,'Daily Log'!$I$18:$I$1017),0)","v":0},{"$f":"IFERROR($E380*SUMIF('Daily Log'!$K$18:$K$1017,$B380,'Daily Log'!$L$18:$L$1017),0)","v":0},{"$f":"IFERROR($E380*SUMIF('Daily Log'!$N$18:$N$1017,$B380,'Daily Log'!$O$18:$O$1017),0)","v":0},{"$f":"IFERROR($E380*SUMIF('Daily Log'!$Q$18:$Q$1017,$B380,'Daily Log'!$R$18:$R$1017),0)","v":0},{"$f":"IFERROR($E380*SUMIF('Daily Log'!$T$18:$T$1017,$B380,'Daily Log'!$U$18:$U$1017),0)","v":0},{"$f":"IFERROR($E380*SUMIF('Daily Log'!$W$18:$W$1017,$B380,'Daily Log'!$X$18:$X$1017),0)","v":0},{"$f":"IFERROR($E380*SUMIF('Daily Log'!$Z$18:$Z$1017,$B380,'Daily Log'!$AA$18:$AA$1017),0)","v":0},{"$f":"IFERROR($E380*SUMIF('Daily Log'!$AC$18:$AC$1017,$B380,'Daily Log'!$AD$18:$AD$1017),0)","v":0},{"$f":"IFERROR($E380*SUMIF('Daily Log'!$AF$18:$AF$1017,$B380,'Daily Log'!$AG$18:$AG$1017),0)","v":0},{"$f":"IFERROR($E380*SUMIF('Daily Log'!$AI$18:$AI$1017,$B380,'Daily Log'!$AJ$18:$AJ$1017),0)","v":0},{"$f":"IFERROR($E380*SUMIF('Daily Log'!$AL$18:$AL$1017,$B380,'Daily Log'!$AM$18:$AM$1017),0)","v":0},{"$f":"IFERROR($E380*SUMIF('Daily Log'!$AO$18:$AO$1017,$B380,'Daily Log'!$AP$18:$AP$1017),0)","v":0},{"$f":"IFERROR($E380*SUMIF('Daily Log'!$AR$18:$AR$1017,$B380,'Daily Log'!$AS$18:$AS$1017),0)","v":0},{"$f":"IFERROR($E380*SUMIF('Daily Log'!$AU$18:$AU$1017,$B380,'Daily Log'!$AV$18:$AV$1017),0)","v":0},{"$f":"IFERROR($E380*SUMIF('Daily Log'!$AX$18:$AX$1017,$B380,'Daily Log'!$AY$18:$AY$1017),0)","v":0},{"$f":"IFERROR($E380*SUMIF('Daily Log'!$BA$18:$BA$1017,$B380,'Daily Log'!$BB$18:$BB$1017),0)","v":0},{"$f":"IFERROR($E380*SUMIF('Daily Log'!$BD$18:$BD$1017,$B380,'Daily Log'!$BE$18:$BE$1017),0)","v":0},{"$f":"IFERROR($E380*SUMIF('Daily Log'!$BG$18:$BG$1017,$B380,'Daily Log'!$BH$18:$BH$1017),0)","v":0},{"$f":"IFERROR($E380*SUMIF('Daily Log'!$BJ$18:$BJ$1017,$B380,'Daily Log'!$BK$18:$BK$1017),0)","v":0},{"$f":"IFERROR($E380*SUMIF('Daily Log'!$BM$18:$BM$1017,$B380,'Daily Log'!$BN$18:$BN$1017),0)","v":0},{"$f":"IFERROR($E380*SUMIF('Daily Log'!$BP$18:$BP$1017,$B380,'Daily Log'!$BQ$18:$BQ$1017),0)","v":0},{"$f":"IFERROR($E380*SUMIF('Daily Log'!$BS$18:$BS$1017,$B380,'Daily Log'!$BT$18:$BT$1017),0)","v":0},{"$f":"IFERROR($E380*SUMIF('Daily Log'!$BV$18:$BV$1017,$B380,'Daily Log'!$BW$18:$BW$1017),0)","v":0},{"$f":"IFERROR($E380*SUMIF('Daily Log'!$BY$18:$BY$1017,$B380,'Daily Log'!$BZ$18:$BZ$1017),0)","v":0},{"$f":"IFERROR($E380*SUMIF('Daily Log'!$CB$18:$CB$1017,$B380,'Daily Log'!$CC$18:$CC$1017),0)","v":0},{"$f":"IFERROR($E380*SUMIF('Daily Log'!$CE$18:$CE$1017,$B380,'Daily Log'!$CF$18:$CF$1017),0)","v":0},{"$f":"IFERROR($E380*SUMIF('Daily Log'!$CH$18:$CH$1017,$B380,'Daily Log'!$CI$18:$CI$1017),0)","v":0},{"$f":"IFERROR($E380*SUMIF('Daily Log'!$CK$18:$CK$1017,$B380,'Daily Log'!$CL$18:$CL$1017),0)","v":0},{"$f":"IFERROR($E380*SUMIF('Daily Log'!$CN$18:$CN$1017,$B380,'Daily Log'!$CO$18:$CO$1017),0)","v":0}]
[null,"SM11 2822:MOCHA SM",null,"SO-COLD BEVERAGE",1,0,{"$f":"IFERROR($E381*SUMIF('Daily Log'!$B$18:$B$1017,$B381,'Daily Log'!$C$18:$C$1017),0)","v":0},{"$f":"IFERROR($E381*SUMIF('Daily Log'!$E$18:$E$1017,$B381,'Daily Log'!$F$18:$F$1017),0)","v":0},{"$f":"IFERROR($E381*SUMIF('Daily Log'!$H$18:$H$1017,$B381,'Daily Log'!$I$18:$I$1017),0)","v":0},{"$f":"IFERROR($E381*SUMIF('Daily Log'!$K$18:$K$1017,$B381,'Daily Log'!$L$18:$L$1017),0)","v":0},{"$f":"IFERROR($E381*SUMIF('Daily Log'!$N$18:$N$1017,$B381,'Daily Log'!$O$18:$O$1017),0)","v":0},{"$f":"IFERROR($E381*SUMIF('Daily Log'!$Q$18:$Q$1017,$B381,'Daily Log'!$R$18:$R$1017),0)","v":0},{"$f":"IFERROR($E381*SUMIF('Daily Log'!$T$18:$T$1017,$B381,'Daily Log'!$U$18:$U$1017),0)","v":0},{"$f":"IFERROR($E381*SUMIF('Daily Log'!$W$18:$W$1017,$B381,'Daily Log'!$X$18:$X$1017),0)","v":0},{"$f":"IFERROR($E381*SUMIF('Daily Log'!$Z$18:$Z$1017,$B381,'Daily Log'!$AA$18:$AA$1017),0)","v":0},{"$f":"IFERROR($E381*SUMIF('Daily Log'!$AC$18:$AC$1017,$B381,'Daily Log'!$AD$18:$AD$1017),0)","v":0},{"$f":"IFERROR($E381*SUMIF('Daily Log'!$AF$18:$AF$1017,$B381,'Daily Log'!$AG$18:$AG$1017),0)","v":0},{"$f":"IFERROR($E381*SUMIF('Daily Log'!$AI$18:$AI$1017,$B381,'Daily Log'!$AJ$18:$AJ$1017),0)","v":0},{"$f":"IFERROR($E381*SUMIF('Daily Log'!$AL$18:$AL$1017,$B381,'Daily Log'!$AM$18:$AM$1017),0)","v":0},{"$f":"IFERROR($E381*SUMIF('Daily Log'!$AO$18:$AO$1017,$B381,'Daily Log'!$AP$18:$AP$1017),0)","v":0},{"$f":"IFERROR($E381*SUMIF('Daily Log'!$AR$18:$AR$1017,$B381,'Daily Log'!$AS$18:$AS$1017),0)","v":0},{"$f":"IFERROR($E381*SUMIF('Daily Log'!$AU$18:$AU$1017,$B381,'Daily Log'!$AV$18:$AV$1017),0)","v":0},{"$f":"IFERROR($E381*SUMIF('Daily Log'!$AX$18:$AX$1017,$B381,'Daily Log'!$AY$18:$AY$1017),0)","v":0},{"$f":"IFERROR($E381*SUMIF('Daily Log'!$BA$18:$BA$1017,$B381,'Daily Log'!$BB$18:$BB$1017),0)","v":0},{"$f":"IFERROR($E381*SUMIF('Daily Log'!$BD$18:$BD$1017,$B381,'Daily Log'!$BE$18:$BE$1017),0)","v":0},{"$f":"IFERROR($E381*SUMIF('Daily Log'!$BG$18:$BG$1017,$B381,'Daily Log'!$BH$18:$BH$1017),0)","v":0},{"$f":"IFERROR($E381*SUMIF('Daily Log'!$BJ$18:$BJ$1017,$B381,'Daily Log'!$BK$18:$BK$1017),0)","v":0},{"$f":"IFERROR($E381*SUMIF('Daily Log'!$BM$18:$BM$1017,$B381,'Daily Log'!$BN$18:$BN$1017),0)","v":0},{"$f":"IFERROR($E381*SUMIF('Daily Log'!$BP$18:$BP$1017,$B381,'Daily Log'!$BQ$18:$BQ$1017),0)","v":0},{"$f":"IFERROR($E381*SUMIF('Daily Log'!$BS$18:$BS$1017,$B381,'Daily Log'!$BT$18:$BT$1017),0)","v":0},{"$f":"IFERROR($E381*SUMIF('Daily Log'!$BV$18:$BV$1017,$B381,'Daily Log'!$BW$18:$BW$1017),0)","v":0},{"$f":"IFERROR($E381*SUMIF('Daily Log'!$BY$18:$BY$1017,$B381,'Daily Log'!$BZ$18:$BZ$1017),0)","v":0},{"$f":"IFERROR($E381*SUMIF('Daily Log'!$CB$18:$CB$1017,$B381,'Daily Log'!$CC$18:$CC$1017),0)","v":0},{"$f":"IFERROR($E381*SUMIF('Daily Log'!$CE$18:$CE$1017,$B381,'Daily Log'!$CF$18:$CF$1017),0)","v":0},{"$f":"IFERROR($E381*SUMIF('Daily Log'!$CH$18:$CH$1017,$B381,'Daily Log'!$CI$18:$CI$1017),0)","v":0},{"$f":"IFERROR($E381*SUMIF('Daily Log'!$CK$18:$CK$1017,$B381,'Daily Log'!$CL$18:$CL$1017),0)","v":0},{"$f":"IFERROR($E381*SUMIF('Daily Log'!$CN$18:$CN$1017,$B381,'Daily Log'!$CO$18:$CO$1017),0)","v":0}]
[null,"JD01 2923:7 UP JUG",null,"SO-COLD BEVERAGE",1,0,{"$f":"IFERROR($E382*SUMIF('Daily Log'!$B$18:$B$1017,$B382,'Daily Log'!$C$18:$C$1017),0)","v":0},{"$f":"IFERROR($E382*SUMIF('Daily Log'!$E$18:$E$1017,$B382,'Daily Log'!$F$18:$F$1017),0)","v":0},{"$f":"IFERROR($E382*SUMIF('Daily Log'!$H$18:$H$1017,$B382,'Daily Log'!$I$18:$I$1017),0)","v":0},{"$f":"IFERROR($E382*SUMIF('Daily Log'!$K$18:$K$1017,$B382,'Daily Log'!$L$18:$L$1017),0)","v":0},{"$f":"IFERROR($E382*SUMIF('Daily Log'!$N$18:$N$1017,$B382,'Daily Log'!$O$18:$O$1017),0)","v":0},{"$f":"IFERROR($E382*SUMIF('Daily Log'!$Q$18:$Q$1017,$B382,'Daily Log'!$R$18:$R$1017),0)","v":0},{"$f":"IFERROR($E382*SUMIF('Daily Log'!$T$18:$T$1017,$B382,'Daily Log'!$U$18:$U$1017),0)","v":0},{"$f":"IFERROR($E382*SUMIF('Daily Log'!$W$18:$W$1017,$B382,'Daily Log'!$X$18:$X$1017),0)","v":0},{"$f":"IFERROR($E382*SUMIF('Daily Log'!$Z$18:$Z$1017,$B382,'Daily Log'!$AA$18:$AA$1017),0)","v":0},{"$f":"IFERROR($E382*SUMIF('Daily Log'!$AC$18:$AC$1017,$B382,'Daily Log'!$AD$18:$AD$1017),0)","v":0},{"$f":"IFERROR($E382*SUMIF('Daily Log'!$AF$18:$AF$1017,$B382,'Daily Log'!$AG$18:$AG$1017),0)","v":0},{"$f":"IFERROR($E382*SUMIF('Daily Log'!$AI$18:$AI$1017,$B382,'Daily Log'!$AJ$18:$AJ$1017),0)","v":0},{"$f":"IFERROR($E382*SUMIF('Daily Log'!$AL$18:$AL$1017,$B382,'Daily Log'!$AM$18:$AM$1017),0)","v":0},{"$f":"IFERROR($E382*SUMIF('Daily Log'!$AO$18:$AO$1017,$B382,'Daily Log'!$AP$18:$AP$1017),0)","v":0},{"$f":"IFERROR($E382*SUMIF('Daily Log'!$AR$18:$AR$1017,$B382,'Daily Log'!$AS$18:$AS$1017),0)","v":0},{"$f":"IFERROR($E382*SUMIF('Daily Log'!$AU$18:$AU$1017,$B382,'Daily Log'!$AV$18:$AV$1017),0)","v":0},{"$f":"IFERROR($E382*SUMIF('Daily Log'!$AX$18:$AX$1017,$B382,'Daily Log'!$AY$18:$AY$1017),0)","v":0},{"$f":"IFERROR($E382*SUMIF('Daily Log'!$BA$18:$BA$1017,$B382,'Daily Log'!$BB$18:$BB$1017),0)","v":0},{"$f":"IFERROR($E382*SUMIF('Daily Log'!$BD$18:$BD$1017,$B382,'Daily Log'!$BE$18:$BE$1017),0)","v":0},{"$f":"IFERROR($E382*SUMIF('Daily Log'!$BG$18:$BG$1017,$B382,'Daily Log'!$BH$18:$BH$1017),0)","v":0},{"$f":"IFERROR($E382*SUMIF('Daily Log'!$BJ$18:$BJ$1017,$B382,'Daily Log'!$BK$18:$BK$1017),0)","v":0},{"$f":"IFERROR($E382*SUMIF('Daily Log'!$BM$18:$BM$1017,$B382,'Daily Log'!$BN$18:$BN$1017),0)","v":0},{"$f":"IFERROR($E382*SUMIF('Daily Log'!$BP$18:$BP$1017,$B382,'Daily Log'!$BQ$18:$BQ$1017),0)","v":0},{"$f":"IFERROR($E382*SUMIF('Daily Log'!$BS$18:$BS$1017,$B382,'Daily Log'!$BT$18:$BT$1017),0)","v":0},{"$f":"IFERROR($E382*SUMIF('Daily Log'!$BV$18:$BV$1017,$B382,'Daily Log'!$BW$18:$BW$1017),0)","v":0},{"$f":"IFERROR($E382*SUMIF('Daily Log'!$BY$18:$BY$1017,$B382,'Daily Log'!$BZ$18:$BZ$1017),0)","v":0},{"$f":"IFERROR($E382*SUMIF('Daily Log'!$CB$18:$CB$1017,$B382,'Daily Log'!$CC$18:$CC$1017),0)","v":0},{"$f":"IFERROR($E382*SUMIF('Daily Log'!$CE$18:$CE$1017,$B382,'Daily Log'!$CF$18:$CF$1017),0)","v":0},{"$f":"IFERROR($E382*SUMIF('Daily Log'!$CH$18:$CH$1017,$B382,'Daily Log'!$CI$18:$CI$1017),0)","v":0},{"$f":"IFERROR($E382*SUMIF('Daily Log'!$CK$18:$CK$1017,$B382,'Daily Log'!$CL$18:$CL$1017),0)","v":0},{"$f":"IFERROR($E382*SUMIF('Daily Log'!$CN$18:$CN$1017,$B382,'Daily Log'!$CO$18:$CO$1017),0)","v":0}]
[null,"JD02 2910:GRN TEA JUG",null,"SO-COLD BEVERAGE",1,0,{"$f":"IFERROR($E383*SUMIF('Daily Log'!$B$18:$B$1017,$B383,'Daily Log'!$C$18:$C$1017),0)","v":0},{"$f":"IFERROR($E383*SUMIF('Daily Log'!$E$18:$E$1017,$B383,'Daily Log'!$F$18:$F$1017),0)","v":0},{"$f":"IFERROR($E383*SUMIF('Daily Log'!$H$18:$H$1017,$B383,'Daily Log'!$I$18:$I$1017),0)","v":0},{"$f":"IFERROR($E383*SUMIF('Daily Log'!$K$18:$K$1017,$B383,'Daily Log'!$L$18:$L$1017),0)","v":0},{"$f":"IFERROR($E383*SUMIF('Daily Log'!$N$18:$N$1017,$B383,'Daily Log'!$O$18:$O$1017),0)","v":0},{"$f":"IFERROR($E383*SUMIF('Daily Log'!$Q$18:$Q$1017,$B383,'Daily Log'!$R$18:$R$1017),0)","v":0},{"$f":"IFERROR($E383*SUMIF('Daily Log'!$T$18:$T$1017,$B383,'Daily Log'!$U$18:$U$1017),0)","v":0},{"$f":"IFERROR($E383*SUMIF('Daily Log'!$W$18:$W$1017,$B383,'Daily Log'!$X$18:$X$1017),0)","v":0},{"$f":"IFERROR($E383*SUMIF('Daily Log'!$Z$18:$Z$1017,$B383,'Daily Log'!$AA$18:$AA$1017),0)","v":0},{"$f":"IFERROR($E383*SUMIF('Daily Log'!$AC$18:$AC$1017,$B383,'Daily Log'!$AD$18:$AD$1017),0)","v":0},{"$f":"IFERROR($E383*SUMIF('Daily Log'!$AF$18:$AF$1017,$B383,'Daily Log'!$AG$18:$AG$1017),0)","v":0},{"$f":"IFERROR($E383*SUMIF('Daily Log'!$AI$18:$AI$1017,$B383,'Daily Log'!$AJ$18:$AJ$1017),0)","v":0},{"$f":"IFERROR($E383*SUMIF('Daily Log'!$AL$18:$AL$1017,$B383,'Daily Log'!$AM$18:$AM$1017),0)","v":0},{"$f":"IFERROR($E383*SUMIF('Daily Log'!$AO$18:$AO$1017,$B383,'Daily Log'!$AP$18:$AP$1017),0)","v":0},{"$f":"IFERROR($E383*SUMIF('Daily Log'!$AR$18:$AR$1017,$B383,'Daily Log'!$AS$18:$AS$1017),0)","v":0},{"$f":"IFERROR($E383*SUMIF('Daily Log'!$AU$18:$AU$1017,$B383,'Daily Log'!$AV$18:$AV$1017),0)","v":0},{"$f":"IFERROR($E383*SUMIF('Daily Log'!$AX$18:$AX$1017,$B383,'Daily Log'!$AY$18:$AY$1017),0)","v":0},{"$f":"IFERROR($E383*SUMIF('Daily Log'!$BA$18:$BA$1017,$B383,'Daily Log'!$BB$18:$BB$1017),0)","v":0},{"$f":"IFERROR($E383*SUMIF('Daily Log'!$BD$18:$BD$1017,$B383,'Daily Log'!$BE$18:$BE$1017),0)","v":0},{"$f":"IFERROR($E383*SUMIF('Daily Log'!$BG$18:$BG$1017,$B383,'Daily Log'!$BH$18:$BH$1017),0)","v":0},{"$f":"IFERROR($E383*SUMIF('Daily Log'!$BJ$18:$BJ$1017,$B383,'Daily Log'!$BK$18:$BK$1017),0)","v":0},{"$f":"IFERROR($E383*SUMIF('Daily Log'!$BM$18:$BM$1017,$B383,'Daily Log'!$BN$18:$BN$1017),0)","v":0},{"$f":"IFERROR($E383*SUMIF('Daily Log'!$BP$18:$BP$1017,$B383,'Daily Log'!$BQ$18:$BQ$1017),0)","v":0},{"$f":"IFERROR($E383*SUMIF('Daily Log'!$BS$18:$BS$1017,$B383,'Daily Log'!$BT$18:$BT$1017),0)","v":0},{"$f":"IFERROR($E383*SUMIF('Daily Log'!$BV$18:$BV$1017,$B383,'Daily Log'!$BW$18:$BW$1017),0)","v":0},{"$f":"IFERROR($E383*SUMIF('Daily Log'!$BY$18:$BY$1017,$B383,'Daily Log'!$BZ$18:$BZ$1017),0)","v":0},{"$f":"IFERROR($E383*SUMIF('Daily Log'!$CB$18:$CB$1017,$B383,'Daily Log'!$CC$18:$CC$1017),0)","v":0},{"$f":"IFERROR($E383*SUMIF('Daily Log'!$CE$18:$CE$1017,$B383,'Daily Log'!$CF$18:$CF$1017),0)","v":0},{"$f":"IFERROR($E383*SUMIF('Daily Log'!$CH$18:$CH$1017,$B383,'Daily Log'!$CI$18:$CI$1017),0)","v":0},{"$f":"IFERROR($E383*SUMIF('Daily Log'!$CK$18:$CK$1017,$B383,'Daily Log'!$CL$18:$CL$1017),0)","v":0},{"$f":"IFERROR($E383*SUMIF('Daily Log'!$CN$18:$CN$1017,$B383,'Daily Log'!$CO$18:$CO$1017),0)","v":0}]
[null,"JD03 2925:PEPSI JUG",null,"SO-COLD BEVERAGE",1,0,{"$f":"IFERROR($E384*SUMIF('Daily Log'!$B$18:$B$1017,$B384,'Daily Log'!$C$18:$C$1017),0)","v":0},{"$f":"IFERROR($E384*SUMIF('Daily Log'!$E$18:$E$1017,$B384,'Daily Log'!$F$18:$F$1017),0)","v":0},{"$f":"IFERROR($E384*SUMIF('Daily Log'!$H$18:$H$1017,$B384,'Daily Log'!$I$18:$I$1017),0)","v":0},{"$f":"IFERROR($E384*SUMIF('Daily Log'!$K$18:$K$1017,$B384,'Daily Log'!$L$18:$L$1017),0)","v":0},{"$f":"IFERROR($E384*SUMIF('Daily Log'!$N$18:$N$1017,$B384,'Daily Log'!$O$18:$O$1017),0)","v":0},{"$f":"IFERROR($E384*SUMIF('Daily Log'!$Q$18:$Q$1017,$B384,'Daily Log'!$R$18:$R$1017),0)","v":0},{"$f":"IFERROR($E384*SUMIF('Daily Log'!$T$18:$T$1017,$B384,'Daily Log'!$U$18:$U$1017),0)","v":0},{"$f":"IFERROR($E384*SUMIF('Daily Log'!$W$18:$W$1017,$B384,'Daily Log'!$X$18:$X$1017),0)","v":0},{"$f":"IFERROR($E384*SUMIF('Daily Log'!$Z$18:$Z$1017,$B384,'Daily Log'!$AA$18:$AA$1017),0)","v":0},{"$f":"IFERROR($E384*SUMIF('Daily Log'!$AC$18:$AC$1017,$B384,'Daily Log'!$AD$18:$AD$1017),0)","v":0},{"$f":"IFERROR($E384*SUMIF('Daily Log'!$AF$18:$AF$1017,$B384,'Daily Log'!$AG$18:$AG$1017),0)","v":0},{"$f":"IFERROR($E384*SUMIF('Daily Log'!$AI$18:$AI$1017,$B384,'Daily Log'!$AJ$18:$AJ$1017),0)","v":0},{"$f":"IFERROR($E384*SUMIF('Daily Log'!$AL$18:$AL$1017,$B384,'Daily Log'!$AM$18:$AM$1017),0)","v":0},{"$f":"IFERROR($E384*SUMIF('Daily Log'!$AO$18:$AO$1017,$B384,'Daily Log'!$AP$18:$AP$1017),0)","v":0},{"$f":"IFERROR($E384*SUMIF('Daily Log'!$AR$18:$AR$1017,$B384,'Daily Log'!$AS$18:$AS$1017),0)","v":0},{"$f":"IFERROR($E384*SUMIF('Daily Log'!$AU$18:$AU$1017,$B384,'Daily Log'!$AV$18:$AV$1017),0)","v":0},{"$f":"IFERROR($E384*SUMIF('Daily Log'!$AX$18:$AX$1017,$B384,'Daily Log'!$AY$18:$AY$1017),0)","v":0},{"$f":"IFERROR($E384*SUMIF('Daily Log'!$BA$18:$BA$1017,$B384,'Daily Log'!$BB$18:$BB$1017),0)","v":0},{"$f":"IFERROR($E384*SUMIF('Daily Log'!$BD$18:$BD$1017,$B384,'Daily Log'!$BE$18:$BE$1017),0)","v":0},{"$f":"IFERROR($E384*SUMIF('Daily Log'!$BG$18:$BG$1017,$B384,'Daily Log'!$BH$18:$BH$1017),0)","v":0},{"$f":"IFERROR($E384*SUMIF('Daily Log'!$BJ$18:$BJ$1017,$B384,'Daily Log'!$BK$18:$BK$1017),0)","v":0},{"$f":"IFERROR($E384*SUMIF('Daily Log'!$BM$18:$BM$1017,$B384,'Daily Log'!$BN$18:$BN$1017),0)","v":0},{"$f":"IFERROR($E384*SUMIF('Daily Log'!$BP$18:$BP$1017,$B384,'Daily Log'!$BQ$18:$BQ$1017),0)","v":0},{"$f":"IFERROR($E384*SUMIF('Daily Log'!$BS$18:$BS$1017,$B384,'Daily Log'!$BT$18:$BT$1017),0)","v":0},{"$f":"IFERROR($E384*SUMIF('Daily Log'!$BV$18:$BV$1017,$B384,'Daily Log'!$BW$18:$BW$1017),0)","v":0},{"$f":"IFERROR($E384*SUMIF('Daily Log'!$BY$18:$BY$1017,$B384,'Daily Log'!$BZ$18:$BZ$1017),0)","v":0},{"$f":"IFERROR($E384*SUMIF('Daily Log'!$CB$18:$CB$1017,$B384,'Daily Log'!$CC$18:$CC$1017),0)","v":0},{"$f":"IFERROR($E384*SUMIF('Daily Log'!$CE$18:$CE$1017,$B384,'Daily Log'!$CF$18:$CF$1017),0)","v":0},{"$f":"IFERROR($E384*SUMIF('Daily Log'!$CH$18:$CH$1017,$B384,'Daily Log'!$CI$18:$CI$1017),0)","v":0},{"$f":"IFERROR($E384*SUMIF('Daily Log'!$CK$18:$CK$1017,$B384,'Daily Log'!$CL$18:$CL$1017),0)","v":0},{"$f":"IFERROR($E384*SUMIF('Daily Log'!$CN$18:$CN$1017,$B384,'Daily Log'!$CO$18:$CO$1017),0)","v":0}]
[null,"JD04 2927:SODA JUG",null,"SO-COLD BEVERAGE",1,0,{"$f":"IFERROR($E385*SUMIF('Daily Log'!$B$18:$B$1017,$B385,'Daily Log'!$C$18:$C$1017),0)","v":0},{"$f":"IFERROR($E385*SUMIF('Daily Log'!$E$18:$E$1017,$B385,'Daily Log'!$F$18:$F$1017),0)","v":0},{"$f":"IFERROR($E385*SUMIF('Daily Log'!$H$18:$H$1017,$B385,'Daily Log'!$I$18:$I$1017),0)","v":0},{"$f":"IFERROR($E385*SUMIF('Daily Log'!$K$18:$K$1017,$B385,'Daily Log'!$L$18:$L$1017),0)","v":0},{"$f":"IFERROR($E385*SUMIF('Daily Log'!$N$18:$N$1017,$B385,'Daily Log'!$O$18:$O$1017),0)","v":0},{"$f":"IFERROR($E385*SUMIF('Daily Log'!$Q$18:$Q$1017,$B385,'Daily Log'!$R$18:$R$1017),0)","v":0},{"$f":"IFERROR($E385*SUMIF('Daily Log'!$T$18:$T$1017,$B385,'Daily Log'!$U$18:$U$1017),0)","v":0},{"$f":"IFERROR($E385*SUMIF('Daily Log'!$W$18:$W$1017,$B385,'Daily Log'!$X$18:$X$1017),0)","v":0},{"$f":"IFERROR($E385*SUMIF('Daily Log'!$Z$18:$Z$1017,$B385,'Daily Log'!$AA$18:$AA$1017),0)","v":0},{"$f":"IFERROR($E385*SUMIF('Daily Log'!$AC$18:$AC$1017,$B385,'Daily Log'!$AD$18:$AD$1017),0)","v":0},{"$f":"IFERROR($E385*SUMIF('Daily Log'!$AF$18:$AF$1017,$B385,'Daily Log'!$AG$18:$AG$1017),0)","v":0},{"$f":"IFERROR($E385*SUMIF('Daily Log'!$AI$18:$AI$1017,$B385,'Daily Log'!$AJ$18:$AJ$1017),0)","v":0},{"$f":"IFERROR($E385*SUMIF('Daily Log'!$AL$18:$AL$1017,$B385,'Daily Log'!$AM$18:$AM$1017),0)","v":0},{"$f":"IFERROR($E385*SUMIF('Daily Log'!$AO$18:$AO$1017,$B385,'Daily Log'!$AP$18:$AP$1017),0)","v":0},{"$f":"IFERROR($E385*SUMIF('Daily Log'!$AR$18:$AR$1017,$B385,'Daily Log'!$AS$18:$AS$1017),0)","v":0},{"$f":"IFERROR($E385*SUMIF('Daily Log'!$AU$18:$AU$1017,$B385,'Daily Log'!$AV$18:$AV$1017),0)","v":0},{"$f":"IFERROR($E385*SUMIF('Daily Log'!$AX$18:$AX$1017,$B385,'Daily Log'!$AY$18:$AY$1017),0)","v":0},{"$f":"IFERROR($E385*SUMIF('Daily Log'!$BA$18:$BA$1017,$B385,'Daily Log'!$BB$18:$BB$1017),0)","v":0},{"$f":"IFERROR($E385*SUMIF('Daily Log'!$BD$18:$BD$1017,$B385,'Daily Log'!$BE$18:$BE$1017),0)","v":0},{"$f":"IFERROR($E385*SUMIF('Daily Log'!$BG$18:$BG$1017,$B385,'Daily Log'!$BH$18:$BH$1017),0)","v":0},{"$f":"IFERROR($E385*SUMIF('Daily Log'!$BJ$18:$BJ$1017,$B385,'Daily Log'!$BK$18:$BK$1017),0)","v":0},{"$f":"IFERROR($E385*SUMIF('Daily Log'!$BM$18:$BM$1017,$B385,'Daily Log'!$BN$18:$BN$1017),0)","v":0},{"$f":"IFERROR($E385*SUMIF('Daily Log'!$BP$18:$BP$1017,$B385,'Daily Log'!$BQ$18:$BQ$1017),0)","v":0},{"$f":"IFERROR($E385*SUMIF('Daily Log'!$BS$18:$BS$1017,$B385,'Daily Log'!$BT$18:$BT$1017),0)","v":0},{"$f":"IFERROR($E385*SUMIF('Daily Log'!$BV$18:$BV$1017,$B385,'Daily Log'!$BW$18:$BW$1017),0)","v":0},{"$f":"IFERROR($E385*SUMIF('Daily Log'!$BY$18:$BY$1017,$B385,'Daily Log'!$BZ$18:$BZ$1017),0)","v":0},{"$f":"IFERROR($E385*SUMIF('Daily Log'!$CB$18:$CB$1017,$B385,'Daily Log'!$CC$18:$CC$1017),0)","v":0},{"$f":"IFERROR($E385*SUMIF('Daily Log'!$CE$18:$CE$1017,$B385,'Daily Log'!$CF$18:$CF$1017),0)","v":0},{"$f":"IFERROR($E385*SUMIF('Daily Log'!$CH$18:$CH$1017,$B385,'Daily Log'!$CI$18:$CI$1017),0)","v":0},{"$f":"IFERROR($E385*SUMIF('Daily Log'!$CK$18:$CK$1017,$B385,'Daily Log'!$CL$18:$CL$1017),0)","v":0},{"$f":"IFERROR($E385*SUMIF('Daily Log'!$CN$18:$CN$1017,$B385,'Daily Log'!$CO$18:$CO$1017),0)","v":0}]
[null,"JD05 2905:RIBENA JUG",null,"SO-COLD BEVERAGE",1,0,{"$f":"IFERROR($E386*SUMIF('Daily Log'!$B$18:$B$1017,$B386,'Daily Log'!$C$18:$C$1017),0)","v":0},{"$f":"IFERROR($E386*SUMIF('Daily Log'!$E$18:$E$1017,$B386,'Daily Log'!$F$18:$F$1017),0)","v":0},{"$f":"IFERROR($E386*SUMIF('Daily Log'!$H$18:$H$1017,$B386,'Daily Log'!$I$18:$I$1017),0)","v":0},{"$f":"IFERROR($E386*SUMIF('Daily Log'!$K$18:$K$1017,$B386,'Daily Log'!$L$18:$L$1017),0)","v":0},{"$f":"IFERROR($E386*SUMIF('Daily Log'!$N$18:$N$1017,$B386,'Daily Log'!$O$18:$O$1017),0)","v":0},{"$f":"IFERROR($E386*SUMIF('Daily Log'!$Q$18:$Q$1017,$B386,'Daily Log'!$R$18:$R$1017),0)","v":0},{"$f":"IFERROR($E386*SUMIF('Daily Log'!$T$18:$T$1017,$B386,'Daily Log'!$U$18:$U$1017),0)","v":0},{"$f":"IFERROR($E386*SUMIF('Daily Log'!$W$18:$W$1017,$B386,'Daily Log'!$X$18:$X$1017),0)","v":0},{"$f":"IFERROR($E386*SUMIF('Daily Log'!$Z$18:$Z$1017,$B386,'Daily Log'!$AA$18:$AA$1017),0)","v":0},{"$f":"IFERROR($E386*SUMIF('Daily Log'!$AC$18:$AC$1017,$B386,'Daily Log'!$AD$18:$AD$1017),0)","v":0},{"$f":"IFERROR($E386*SUMIF('Daily Log'!$AF$18:$AF$1017,$B386,'Daily Log'!$AG$18:$AG$1017),0)","v":0},{"$f":"IFERROR($E386*SUMIF('Daily Log'!$AI$18:$AI$1017,$B386,'Daily Log'!$AJ$18:$AJ$1017),0)","v":0},{"$f":"IFERROR($E386*SUMIF('Daily Log'!$AL$18:$AL$1017,$B386,'Daily Log'!$AM$18:$AM$1017),0)","v":0},{"$f":"IFERROR($E386*SUMIF('Daily Log'!$AO$18:$AO$1017,$B386,'Daily Log'!$AP$18:$AP$1017),0)","v":0},{"$f":"IFERROR($E386*SUMIF('Daily Log'!$AR$18:$AR$1017,$B386,'Daily Log'!$AS$18:$AS$1017),0)","v":0},{"$f":"IFERROR($E386*SUMIF('Daily Log'!$AU$18:$AU$1017,$B386,'Daily Log'!$AV$18:$AV$1017),0)","v":0},{"$f":"IFERROR($E386*SUMIF('Daily Log'!$AX$18:$AX$1017,$B386,'Daily Log'!$AY$18:$AY$1017),0)","v":0},{"$f":"IFERROR($E386*SUMIF('Daily Log'!$BA$18:$BA$1017,$B386,'Daily Log'!$BB$18:$BB$1017),0)","v":0},{"$f":"IFERROR($E386*SUMIF('Daily Log'!$BD$18:$BD$1017,$B386,'Daily Log'!$BE$18:$BE$1017),0)","v":0},{"$f":"IFERROR($E386*SUMIF('Daily Log'!$BG$18:$BG$1017,$B386,'Daily Log'!$BH$18:$BH$1017),0)","v":0},{"$f":"IFERROR($E386*SUMIF('Daily Log'!$BJ$18:$BJ$1017,$B386,'Daily Log'!$BK$18:$BK$1017),0)","v":0},{"$f":"IFERROR($E386*SUMIF('Daily Log'!$BM$18:$BM$1017,$B386,'Daily Log'!$BN$18:$BN$1017),0)","v":0},{"$f":"IFERROR($E386*SUMIF('Daily Log'!$BP$18:$BP$1017,$B386,'Daily Log'!$BQ$18:$BQ$1017),0)","v":0},{"$f":"IFERROR($E386*SUMIF('Daily Log'!$BS$18:$BS$1017,$B386,'Daily Log'!$BT$18:$BT$1017),0)","v":0},{"$f":"IFERROR($E386*SUMIF('Daily Log'!$BV$18:$BV$1017,$B386,'Daily Log'!$BW$18:$BW$1017),0)","v":0},{"$f":"IFERROR($E386*SUMIF('Daily Log'!$BY$18:$BY$1017,$B386,'Daily Log'!$BZ$18:$BZ$1017),0)","v":0},{"$f":"IFERROR($E386*SUMIF('Daily Log'!$CB$18:$CB$1017,$B386,'Daily Log'!$CC$18:$CC$1017),0)","v":0},{"$f":"IFERROR($E386*SUMIF('Daily Log'!$CE$18:$CE$1017,$B386,'Daily Log'!$CF$18:$CF$1017),0)","v":0},{"$f":"IFERROR($E386*SUMIF('Daily Log'!$CH$18:$CH$1017,$B386,'Daily Log'!$CI$18:$CI$1017),0)","v":0},{"$f":"IFERROR($E386*SUMIF('Daily Log'!$CK$18:$CK$1017,$B386,'Daily Log'!$CL$18:$CL$1017),0)","v":0},{"$f":"IFERROR($E386*SUMIF('Daily Log'!$CN$18:$CN$1017,$B386,'Daily Log'!$CO$18:$CO$1017),0)","v":0}]
[null,"JD06 2926:WATER JUG",null,"SO-COLD BEVERAGE",1,0,{"$f":"IFERROR($E387*SUMIF('Daily Log'!$B$18:$B$1017,$B387,'Daily Log'!$C$18:$C$1017),0)","v":0},{"$f":"IFERROR($E387*SUMIF('Daily Log'!$E$18:$E$1017,$B387,'Daily Log'!$F$18:$F$1017),0)","v":0},{"$f":"IFERROR($E387*SUMIF('Daily Log'!$H$18:$H$1017,$B387,'Daily Log'!$I$18:$I$1017),0)","v":0},{"$f":"IFERROR($E387*SUMIF('Daily Log'!$K$18:$K$1017,$B387,'Daily Log'!$L$18:$L$1017),0)","v":0},{"$f":"IFERROR($E387*SUMIF('Daily Log'!$N$18:$N$1017,$B387,'Daily Log'!$O$18:$O$1017),0)","v":0},{"$f":"IFERROR($E387*SUMIF('Daily Log'!$Q$18:$Q$1017,$B387,'Daily Log'!$R$18:$R$1017),0)","v":0},{"$f":"IFERROR($E387*SUMIF('Daily Log'!$T$18:$T$1017,$B387,'Daily Log'!$U$18:$U$1017),0)","v":0},{"$f":"IFERROR($E387*SUMIF('Daily Log'!$W$18:$W$1017,$B387,'Daily Log'!$X$18:$X$1017),0)","v":0},{"$f":"IFERROR($E387*SUMIF('Daily Log'!$Z$18:$Z$1017,$B387,'Daily Log'!$AA$18:$AA$1017),0)","v":0},{"$f":"IFERROR($E387*SUMIF('Daily Log'!$AC$18:$AC$1017,$B387,'Daily Log'!$AD$18:$AD$1017),0)","v":0},{"$f":"IFERROR($E387*SUMIF('Daily Log'!$AF$18:$AF$1017,$B387,'Daily Log'!$AG$18:$AG$1017),0)","v":0},{"$f":"IFERROR($E387*SUMIF('Daily Log'!$AI$18:$AI$1017,$B387,'Daily Log'!$AJ$18:$AJ$1017),0)","v":0},{"$f":"IFERROR($E387*SUMIF('Daily Log'!$AL$18:$AL$1017,$B387,'Daily Log'!$AM$18:$AM$1017),0)","v":0},{"$f":"IFERROR($E387*SUMIF('Daily Log'!$AO$18:$AO$1017,$B387,'Daily Log'!$AP$18:$AP$1017),0)","v":0},{"$f":"IFERROR($E387*SUMIF('Daily Log'!$AR$18:$AR$1017,$B387,'Daily Log'!$AS$18:$AS$1017),0)","v":0},{"$f":"IFERROR($E387*SUMIF('Daily Log'!$AU$18:$AU$1017,$B387,'Daily Log'!$AV$18:$AV$1017),0)","v":0},{"$f":"IFERROR($E387*SUMIF('Daily Log'!$AX$18:$AX$1017,$B387,'Daily Log'!$AY$18:$AY$1017),0)","v":0},{"$f":"IFERROR($E387*SUMIF('Daily Log'!$BA$18:$BA$1017,$B387,'Daily Log'!$BB$18:$BB$1017),0)","v":0},{"$f":"IFERROR($E387*SUMIF('Daily Log'!$BD$18:$BD$1017,$B387,'Daily Log'!$BE$18:$BE$1017),0)","v":0},{"$f":"IFERROR($E387*SUMIF('Daily Log'!$BG$18:$BG$1017,$B387,'Daily Log'!$BH$18:$BH$1017),0)","v":0},{"$f":"IFERROR($E387*SUMIF('Daily Log'!$BJ$18:$BJ$1017,$B387,'Daily Log'!$BK$18:$BK$1017),0)","v":0},{"$f":"IFERROR($E387*SUMIF('Daily Log'!$BM$18:$BM$1017,$B387,'Daily Log'!$BN$18:$BN$1017),0)","v":0},{"$f":"IFERROR($E387*SUMIF('Daily Log'!$BP$18:$BP$1017,$B387,'Daily Log'!$BQ$18:$BQ$1017),0)","v":0},{"$f":"IFERROR($E387*SUMIF('Daily Log'!$BS$18:$BS$1017,$B387,'Daily Log'!$BT$18:$BT$1017),0)","v":0},{"$f":"IFERROR($E387*SUMIF('Daily Log'!$BV$18:$BV$1017,$B387,'Daily Log'!$BW$18:$BW$1017),0)","v":0},{"$f":"IFERROR($E387*SUMIF('Daily Log'!$BY$18:$BY$1017,$B387,'Daily Log'!$BZ$18:$BZ$1017),0)","v":0},{"$f":"IFERROR($E387*SUMIF('Daily Log'!$CB$18:$CB$1017,$B387,'Daily Log'!$CC$18:$CC$1017),0)","v":0},{"$f":"IFERROR($E387*SUMIF('Daily Log'!$CE$18:$CE$1017,$B387,'Daily Log'!$CF$18:$CF$1017),0)","v":0},{"$f":"IFERROR($E387*SUMIF('Daily Log'!$CH$18:$CH$1017,$B387,'Daily Log'!$CI$18:$CI$1017),0)","v":0},{"$f":"IFERROR($E387*SUMIF('Daily Log'!$CK$18:$CK$1017,$B387,'Daily Log'!$CL$18:$CL$1017),0)","v":0},{"$f":"IFERROR($E387*SUMIF('Daily Log'!$CN$18:$CN$1017,$B387,'Daily Log'!$CO$18:$CO$1017),0)","v":0}]
[null,null,null,null,1,0,{"$f":"IFERROR($E388*SUMIF('Daily Log'!$B$18:$B$1017,$B388,'Daily Log'!$C$18:$C$1017),0)","v":0},{"$f":"IFERROR($E388*SUMIF('Daily Log'!$E$18:$E$1017,$B388,'Daily Log'!$F$18:$F$1017),0)","v":0},{"$f":"IFERROR($E388*SUMIF('Daily Log'!$H$18:$H$1017,$B388,'Daily Log'!$I$18:$I$1017),0)","v":0},{"$f":"IFERROR($E388*SUMIF('Daily Log'!$K$18:$K$1017,$B388,'Daily Log'!$L$18:$L$1017),0)","v":0},{"$f":"IFERROR($E388*SUMIF('Daily Log'!$N$18:$N$1017,$B388,'Daily Log'!$O$18:$O$1017),0)","v":0},{"$f":"IFERROR($E388*SUMIF('Daily Log'!$Q$18:$Q$1017,$B388,'Daily Log'!$R$18:$R$1017),0)","v":0},{"$f":"IFERROR($E388*SUMIF('Daily Log'!$T$18:$T$1017,$B388,'Daily Log'!$U$18:$U$1017),0)","v":0},{"$f":"IFERROR($E388*SUMIF('Daily Log'!$W$18:$W$1017,$B388,'Daily Log'!$X$18:$X$1017),0)","v":0},{"$f":"IFERROR($E388*SUMIF('Daily Log'!$Z$18:$Z$1017,$B388,'Daily Log'!$AA$18:$AA$1017),0)","v":0},{"$f":"IFERROR($E388*SUMIF('Daily Log'!$AC$18:$AC$1017,$B388,'Daily Log'!$AD$18:$AD$1017),0)","v":0},{"$f":"IFERROR($E388*SUMIF('Daily Log'!$AF$18:$AF$1017,$B388,'Daily Log'!$AG$18:$AG$1017),0)","v":0},{"$f":"IFERROR($E388*SUMIF('Daily Log'!$AI$18:$AI$1017,$B388,'Daily Log'!$AJ$18:$AJ$1017),0)","v":0},{"$f":"IFERROR($E388*SUMIF('Daily Log'!$AL$18:$AL$1017,$B388,'Daily Log'!$AM$18:$AM$1017),0)","v":0},{"$f":"IFERROR($E388*SUMIF('Daily Log'!$AO$18:$AO$1017,$B388,'Daily Log'!$AP$18:$AP$1017),0)","v":0},{"$f":"IFERROR($E388*SUMIF('Daily Log'!$AR$18:$AR$1017,$B388,'Daily Log'!$AS$18:$AS$1017),0)","v":0},{"$f":"IFERROR($E388*SUMIF('Daily Log'!$AU$18:$AU$1017,$B388,'Daily Log'!$AV$18:$AV$1017),0)","v":0},{"$f":"IFERROR($E388*SUMIF('Daily Log'!$AX$18:$AX$1017,$B388,'Daily Log'!$AY$18:$AY$1017),0)","v":0},{"$f":"IFERROR($E388*SUMIF('Daily Log'!$BA$18:$BA$1017,$B388,'Daily Log'!$BB$18:$BB$1017),0)","v":0},{"$f":"IFERROR($E388*SUMIF('Daily Log'!$BD$18:$BD$1017,$B388,'Daily Log'!$BE$18:$BE$1017),0)","v":0},{"$f":"IFERROR($E388*SUMIF('Daily Log'!$BG$18:$BG$1017,$B388,'Daily Log'!$BH$18:$BH$1017),0)","v":0},{"$f":"IFERROR($E388*SUMIF('Daily Log'!$BJ$18:$BJ$1017,$B388,'Daily Log'!$BK$18:$BK$1017),0)","v":0},{"$f":"IFERROR($E388*SUMIF('Daily Log'!$BM$18:$BM$1017,$B388,'Daily Log'!$BN$18:$BN$1017),0)","v":0},{"$f":"IFERROR($E388*SUMIF('Daily Log'!$BP$18:$BP$1017,$B388,'Daily Log'!$BQ$18:$BQ$1017),0)","v":0},{"$f":"IFERROR($E388*SUMIF('Daily Log'!$BS$18:$BS$1017,$B388,'Daily Log'!$BT$18:$BT$1017),0)","v":0},{"$f":"IFERROR($E388*SUMIF('Daily Log'!$BV$18:$BV$1017,$B388,'Daily Log'!$BW$18:$BW$1017),0)","v":0},{"$f":"IFERROR($E388*SUMIF('Daily Log'!$BY$18:$BY$1017,$B388,'Daily Log'!$BZ$18:$BZ$1017),0)","v":0},{"$f":"IFERROR($E388*SUMIF('Daily Log'!$CB$18:$CB$1017,$B388,'Daily Log'!$CC$18:$CC$1017),0)","v":0},{"$f":"IFERROR($E388*SUMIF('Daily Log'!$CE$18:$CE$1017,$B388,'Daily Log'!$CF$18:$CF$1017),0)","v":0},{"$f":"IFERROR($E388*SUMIF('Daily Log'!$CH$18:$CH$1017,$B388,'Daily Log'!$CI$18:$CI$1017),0)","v":0},{"$f":"IFERROR($E388*SUMIF('Daily Log'!$CK$18:$CK$1017,$B388,'Daily Log'!$CL$18:$CL$1017),0)","v":0},{"$f":"IFERROR($E388*SUMIF('Daily Log'!$CN$18:$CN$1017,$B388,'Daily Log'!$CO$18:$CO$1017),0)","v":0}]
[null,null,null,null,1,0,{"$f":"IFERROR($E389*SUMIF('Daily Log'!$B$18:$B$1017,$B389,'Daily Log'!$C$18:$C$1017),0)","v":0},{"$f":"IFERROR($E389*SUMIF('Daily Log'!$E$18:$E$1017,$B389,'Daily Log'!$F$18:$F$1017),0)","v":0},{"$f":"IFERROR($E389*SUMIF('Daily Log'!$H$18:$H$1017,$B389,'Daily Log'!$I$18:$I$1017),0)","v":0},{"$f":"IFERROR($E389*SUMIF('Daily Log'!$K$18:$K$1017,$B389,'Daily Log'!$L$18:$L$1017),0)","v":0},{"$f":"IFERROR($E389*SUMIF('Daily Log'!$N$18:$N$1017,$B389,'Daily Log'!$O$18:$O$1017),0)","v":0},{"$f":"IFERROR($E389*SUMIF('Daily Log'!$Q$18:$Q$1017,$B389,'Daily Log'!$R$18:$R$1017),0)","v":0},{"$f":"IFERROR($E389*SUMIF('Daily Log'!$T$18:$T$1017,$B389,'Daily Log'!$U$18:$U$1017),0)","v":0},{"$f":"IFERROR($E389*SUMIF('Daily Log'!$W$18:$W$1017,$B389,'Daily Log'!$X$18:$X$1017),0)","v":0},{"$f":"IFERROR($E389*SUMIF('Daily Log'!$Z$18:$Z$1017,$B389,'Daily Log'!$AA$18:$AA$1017),0)","v":0},{"$f":"IFERROR($E389*SUMIF('Daily Log'!$AC$18:$AC$1017,$B389,'Daily Log'!$AD$18:$AD$1017),0)","v":0},{"$f":"IFERROR($E389*SUMIF('Daily Log'!$AF$18:$AF$1017,$B389,'Daily Log'!$AG$18:$AG$1017),0)","v":0},{"$f":"IFERROR($E389*SUMIF('Daily Log'!$AI$18:$AI$1017,$B389,'Daily Log'!$AJ$18:$AJ$1017),0)","v":0},{"$f":"IFERROR($E389*SUMIF('Daily Log'!$AL$18:$AL$1017,$B389,'Daily Log'!$AM$18:$AM$1017),0)","v":0},{"$f":"IFERROR($E389*SUMIF('Daily Log'!$AO$18:$AO$1017,$B389,'Daily Log'!$AP$18:$AP$1017),0)","v":0},{"$f":"IFERROR($E389*SUMIF('Daily Log'!$AR$18:$AR$1017,$B389,'Daily Log'!$AS$18:$AS$1017),0)","v":0},{"$f":"IFERROR($E389*SUMIF('Daily Log'!$AU$18:$AU$1017,$B389,'Daily Log'!$AV$18:$AV$1017),0)","v":0},{"$f":"IFERROR($E389*SUMIF('Daily Log'!$AX$18:$AX$1017,$B389,'Daily Log'!$AY$18:$AY$1017),0)","v":0},{"$f":"IFERROR($E389*SUMIF('Daily Log'!$BA$18:$BA$1017,$B389,'Daily Log'!$BB$18:$BB$1017),0)","v":0},{"$f":"IFERROR($E389*SUMIF('Daily Log'!$BD$18:$BD$1017,$B389,'Daily Log'!$BE$18:$BE$1017),0)","v":0},{"$f":"IFERROR($E389*SUMIF('Daily Log'!$BG$18:$BG$1017,$B389,'Daily Log'!$BH$18:$BH$1017),0)","v":0},{"$f":"IFERROR($E389*SUMIF('Daily Log'!$BJ$18:$BJ$1017,$B389,'Daily Log'!$BK$18:$BK$1017),0)","v":0},{"$f":"IFERROR($E389*SUMIF('Daily Log'!$BM$18:$BM$1017,$B389,'Daily Log'!$BN$18:$BN$1017),0)","v":0},{"$f":"IFERROR($E389*SUMIF('Daily Log'!$BP$18:$BP$1017,$B389,'Daily Log'!$BQ$18:$BQ$1017),0)","v":0},{"$f":"IFERROR($E389*SUMIF('Daily Log'!$BS$18:$BS$1017,$B389,'Daily Log'!$BT$18:$BT$1017),0)","v":0},{"$f":"IFERROR($E389*SUMIF('Daily Log'!$BV$18:$BV$1017,$B389,'Daily Log'!$BW$18:$BW$1017),0)","v":0},{"$f":"IFERROR($E389*SUMIF('Daily Log'!$BY$18:$BY$1017,$B389,'Daily Log'!$BZ$18:$BZ$1017),0)","v":0},{"$f":"IFERROR($E389*SUMIF('Daily Log'!$CB$18:$CB$1017,$B389,'Daily Log'!$CC$18:$CC$1017),0)","v":0},{"$f":"IFERROR($E389*SUMIF('Daily Log'!$CE$18:$CE$1017,$B389,'Daily Log'!$CF$18:$CF$1017),0)","v":0},{"$f":"IFERROR($E389*SUMIF('Daily Log'!$CH$18:$CH$1017,$B389,'Daily Log'!$CI$18:$CI$1017),0)","v":0},{"$f":"IFERROR($E389*SUMIF('Daily Log'!$CK$18:$CK$1017,$B389,'Daily Log'!$CL$18:$CL$1017),0)","v":0},{"$f":"IFERROR($E389*SUMIF('Daily Log'!$CN$18:$CN$1017,$B389,'Daily Log'!$CO$18:$CO$1017),0)","v":0}]
[null,null,null,null,1,0,{"$f":"IFERROR($E390*SUMIF('Daily Log'!$B$18:$B$1017,$B390,'Daily Log'!$C$18:$C$1017),0)","v":0},{"$f":"IFERROR($E390*SUMIF('Daily Log'!$E$18:$E$1017,$B390,'Daily Log'!$F$18:$F$1017),0)","v":0},{"$f":"IFERROR($E390*SUMIF('Daily Log'!$H$18:$H$1017,$B390,'Daily Log'!$I$18:$I$1017),0)","v":0},{"$f":"IFERROR($E390*SUMIF('Daily Log'!$K$18:$K$1017,$B390,'Daily Log'!$L$18:$L$1017),0)","v":0},{"$f":"IFERROR($E390*SUMIF('Daily Log'!$N$18:$N$1017,$B390,'Daily Log'!$O$18:$O$1017),0)","v":0},{"$f":"IFERROR($E390*SUMIF('Daily Log'!$Q$18:$Q$1017,$B390,'Daily Log'!$R$18:$R$1017),0)","v":0},{"$f":"IFERROR($E390*SUMIF('Daily Log'!$T$18:$T$1017,$B390,'Daily Log'!$U$18:$U$1017),0)","v":0},{"$f":"IFERROR($E390*SUMIF('Daily Log'!$W$18:$W$1017,$B390,'Daily Log'!$X$18:$X$1017),0)","v":0},{"$f":"IFERROR($E390*SUMIF('Daily Log'!$Z$18:$Z$1017,$B390,'Daily Log'!$AA$18:$AA$1017),0)","v":0},{"$f":"IFERROR($E390*SUMIF('Daily Log'!$AC$18:$AC$1017,$B390,'Daily Log'!$AD$18:$AD$1017),0)","v":0},{"$f":"IFERROR($E390*SUMIF('Daily Log'!$AF$18:$AF$1017,$B390,'Daily Log'!$AG$18:$AG$1017),0)","v":0},{"$f":"IFERROR($E390*SUMIF('Daily Log'!$AI$18:$AI$1017,$B390,'Daily Log'!$AJ$18:$AJ$1017),0)","v":0},{"$f":"IFERROR($E390*SUMIF('Daily Log'!$AL$18:$AL$1017,$B390,'Daily Log'!$AM$18:$AM$1017),0)","v":0},{"$f":"IFERROR($E390*SUMIF('Daily Log'!$AO$18:$AO$1017,$B390,'Daily Log'!$AP$18:$AP$1017),0)","v":0},{"$f":"IFERROR($E390*SUMIF('Daily Log'!$AR$18:$AR$1017,$B390,'Daily Log'!$AS$18:$AS$1017),0)","v":0},{"$f":"IFERROR($E390*SUMIF('Daily Log'!$AU$18:$AU$1017,$B390,'Daily Log'!$AV$18:$AV$1017),0)","v":0},{"$f":"IFERROR($E390*SUMIF('Daily Log'!$AX$18:$AX$1017,$B390,'Daily Log'!$AY$18:$AY$1017),0)","v":0},{"$f":"IFERROR($E390*SUMIF('Daily Log'!$BA$18:$BA$1017,$B390,'Daily Log'!$BB$18:$BB$1017),0)","v":0},{"$f":"IFERROR($E390*SUMIF('Daily Log'!$BD$18:$BD$1017,$B390,'Daily Log'!$BE$18:$BE$1017),0)","v":0},{"$f":"IFERROR($E390*SUMIF('Daily Log'!$BG$18:$BG$1017,$B390,'Daily Log'!$BH$18:$BH$1017),0)","v":0},{"$f":"IFERROR($E390*SUMIF('Daily Log'!$BJ$18:$BJ$1017,$B390,'Daily Log'!$BK$18:$BK$1017),0)","v":0},{"$f":"IFERROR($E390*SUMIF('Daily Log'!$BM$18:$BM$1017,$B390,'Daily Log'!$BN$18:$BN$1017),0)","v":0},{"$f":"IFERROR($E390*SUMIF('Daily Log'!$BP$18:$BP$1017,$B390,'Daily Log'!$BQ$18:$BQ$1017),0)","v":0},{"$f":"IFERROR($E390*SUMIF('Daily Log'!$BS$18:$BS$1017,$B390,'Daily Log'!$BT$18:$BT$1017),0)","v":0},{"$f":"IFERROR($E390*SUMIF('Daily Log'!$BV$18:$BV$1017,$B390,'Daily Log'!$BW$18:$BW$1017),0)","v":0},{"$f":"IFERROR($E390*SUMIF('Daily Log'!$BY$18:$BY$1017,$B390,'Daily Log'!$BZ$18:$BZ$1017),0)","v":0},{"$f":"IFERROR($E390*SUMIF('Daily Log'!$CB$18:$CB$1017,$B390,'Daily Log'!$CC$18:$CC$1017),0)","v":0},{"$f":"IFERROR($E390*SUMIF('Daily Log'!$CE$18:$CE$1017,$B390,'Daily Log'!$CF$18:$CF$1017),0)","v":0},{"$f":"IFERROR($E390*SUMIF('Daily Log'!$CH$18:$CH$1017,$B390,'Daily Log'!$CI$18:$CI$1017),0)","v":0},{"$f":"IFERROR($E390*SUMIF('Daily Log'!$CK$18:$CK$1017,$B390,'Daily Log'!$CL$18:$CL$1017),0)","v":0},{"$f":"IFERROR($E390*SUMIF('Daily Log'!$CN$18:$CN$1017,$B390,'Daily Log'!$CO$18:$CO$1017),0)","v":0}]
[null,null,null,null,1,0,{"$f":"IFERROR($E391*SUMIF('Daily Log'!$B$18:$B$1017,$B391,'Daily Log'!$C$18:$C$1017),0)","v":0},{"$f":"IFERROR($E391*SUMIF('Daily Log'!$E$18:$E$1017,$B391,'Daily Log'!$F$18:$F$1017),0)","v":0},{"$f":"IFERROR($E391*SUMIF('Daily Log'!$H$18:$H$1017,$B391,'Daily Log'!$I$18:$I$1017),0)","v":0},{"$f":"IFERROR($E391*SUMIF('Daily Log'!$K$18:$K$1017,$B391,'Daily Log'!$L$18:$L$1017),0)","v":0},{"$f":"IFERROR($E391*SUMIF('Daily Log'!$N$18:$N$1017,$B391,'Daily Log'!$O$18:$O$1017),0)","v":0},{"$f":"IFERROR($E391*SUMIF('Daily Log'!$Q$18:$Q$1017,$B391,'Daily Log'!$R$18:$R$1017),0)","v":0},{"$f":"IFERROR($E391*SUMIF('Daily Log'!$T$18:$T$1017,$B391,'Daily Log'!$U$18:$U$1017),0)","v":0},{"$f":"IFERROR($E391*SUMIF('Daily Log'!$W$18:$W$1017,$B391,'Daily Log'!$X$18:$X$1017),0)","v":0},{"$f":"IFERROR($E391*SUMIF('Daily Log'!$Z$18:$Z$1017,$B391,'Daily Log'!$AA$18:$AA$1017),0)","v":0},{"$f":"IFERROR($E391*SUMIF('Daily Log'!$AC$18:$AC$1017,$B391,'Daily Log'!$AD$18:$AD$1017),0)","v":0},{"$f":"IFERROR($E391*SUMIF('Daily Log'!$AF$18:$AF$1017,$B391,'Daily Log'!$AG$18:$AG$1017),0)","v":0},{"$f":"IFERROR($E391*SUMIF('Daily Log'!$AI$18:$AI$1017,$B391,'Daily Log'!$AJ$18:$AJ$1017),0)","v":0},{"$f":"IFERROR($E391*SUMIF('Daily Log'!$AL$18:$AL$1017,$B391,'Daily Log'!$AM$18:$AM$1017),0)","v":0},{"$f":"IFERROR($E391*SUMIF('Daily Log'!$AO$18:$AO$1017,$B391,'Daily Log'!$AP$18:$AP$1017),0)","v":0},{"$f":"IFERROR($E391*SUMIF('Daily Log'!$AR$18:$AR$1017,$B391,'Daily Log'!$AS$18:$AS$1017),0)","v":0},{"$f":"IFERROR($E391*SUMIF('Daily Log'!$AU$18:$AU$1017,$B391,'Daily Log'!$AV$18:$AV$1017),0)","v":0},{"$f":"IFERROR($E391*SUMIF('Daily Log'!$AX$18:$AX$1017,$B391,'Daily Log'!$AY$18:$AY$1017),0)","v":0},{"$f":"IFERROR($E391*SUMIF('Daily Log'!$BA$18:$BA$1017,$B391,'Daily Log'!$BB$18:$BB$1017),0)","v":0},{"$f":"IFERROR($E391*SUMIF('Daily Log'!$BD$18:$BD$1017,$B391,'Daily Log'!$BE$18:$BE$1017),0)","v":0},{"$f":"IFERROR($E391*SUMIF('Daily Log'!$BG$18:$BG$1017,$B391,'Daily Log'!$BH$18:$BH$1017),0)","v":0},{"$f":"IFERROR($E391*SUMIF('Daily Log'!$BJ$18:$BJ$1017,$B391,'Daily Log'!$BK$18:$BK$1017),0)","v":0},{"$f":"IFERROR($E391*SUMIF('Daily Log'!$BM$18:$BM$1017,$B391,'Daily Log'!$BN$18:$BN$1017),0)","v":0},{"$f":"IFERROR($E391*SUMIF('Daily Log'!$BP$18:$BP$1017,$B391,'Daily Log'!$BQ$18:$BQ$1017),0)","v":0},{"$f":"IFERROR($E391*SUMIF('Daily Log'!$BS$18:$BS$1017,$B391,'Daily Log'!$BT$18:$BT$1017),0)","v":0},{"$f":"IFERROR($E391*SUMIF('Daily Log'!$BV$18:$BV$1017,$B391,'Daily Log'!$BW$18:$BW$1017),0)","v":0},{"$f":"IFERROR($E391*SUMIF('Daily Log'!$BY$18:$BY$1017,$B391,'Daily Log'!$BZ$18:$BZ$1017),0)","v":0},{"$f":"IFERROR($E391*SUMIF('Daily Log'!$CB$18:$CB$1017,$B391,'Daily Log'!$CC$18:$CC$1017),0)","v":0},{"$f":"IFERROR($E391*SUMIF('Daily Log'!$CE$18:$CE$1017,$B391,'Daily Log'!$CF$18:$CF$1017),0)","v":0},{"$f":"IFERROR($E391*SUMIF('Daily Log'!$CH$18:$CH$1017,$B391,'Daily Log'!$CI$18:$CI$1017),0)","v":0},{"$f":"IFERROR($E391*SUMIF('Daily Log'!$CK$18:$CK$1017,$B391,'Daily Log'!$CL$18:$CL$1017),0)","v":0},{"$f":"IFERROR($E391*SUMIF('Daily Log'!$CN$18:$CN$1017,$B391,'Daily Log'!$CO$18:$CO$1017),0)","v":0}]
[null,null,null,null,1,0,{"$f":"IFERROR($E392*SUMIF('Daily Log'!$B$18:$B$1017,$B392,'Daily Log'!$C$18:$C$1017),0)","v":0},{"$f":"IFERROR($E392*SUMIF('Daily Log'!$E$18:$E$1017,$B392,'Daily Log'!$F$18:$F$1017),0)","v":0},{"$f":"IFERROR($E392*SUMIF('Daily Log'!$H$18:$H$1017,$B392,'Daily Log'!$I$18:$I$1017),0)","v":0},{"$f":"IFERROR($E392*SUMIF('Daily Log'!$K$18:$K$1017,$B392,'Daily Log'!$L$18:$L$1017),0)","v":0},{"$f":"IFERROR($E392*SUMIF('Daily Log'!$N$18:$N$1017,$B392,'Daily Log'!$O$18:$O$1017),0)","v":0},{"$f":"IFERROR($E392*SUMIF('Daily Log'!$Q$18:$Q$1017,$B392,'Daily Log'!$R$18:$R$1017),0)","v":0},{"$f":"IFERROR($E392*SUMIF('Daily Log'!$T$18:$T$1017,$B392,'Daily Log'!$U$18:$U$1017),0)","v":0},{"$f":"IFERROR($E392*SUMIF('Daily Log'!$W$18:$W$1017,$B392,'Daily Log'!$X$18:$X$1017),0)","v":0},{"$f":"IFERROR($E392*SUMIF('Daily Log'!$Z$18:$Z$1017,$B392,'Daily Log'!$AA$18:$AA$1017),0)","v":0},{"$f":"IFERROR($E392*SUMIF('Daily Log'!$AC$18:$AC$1017,$B392,'Daily Log'!$AD$18:$AD$1017),0)","v":0},{"$f":"IFERROR($E392*SUMIF('Daily Log'!$AF$18:$AF$1017,$B392,'Daily Log'!$AG$18:$AG$1017),0)","v":0},{"$f":"IFERROR($E392*SUMIF('Daily Log'!$AI$18:$AI$1017,$B392,'Daily Log'!$AJ$18:$AJ$1017),0)","v":0},{"$f":"IFERROR($E392*SUMIF('Daily Log'!$AL$18:$AL$1017,$B392,'Daily Log'!$AM$18:$AM$1017),0)","v":0},{"$f":"IFERROR($E392*SUMIF('Daily Log'!$AO$18:$AO$1017,$B392,'Daily Log'!$AP$18:$AP$1017),0)","v":0},{"$f":"IFERROR($E392*SUMIF('Daily Log'!$AR$18:$AR$1017,$B392,'Daily Log'!$AS$18:$AS$1017),0)","v":0},{"$f":"IFERROR($E392*SUMIF('Daily Log'!$AU$18:$AU$1017,$B392,'Daily Log'!$AV$18:$AV$1017),0)","v":0},{"$f":"IFERROR($E392*SUMIF('Daily Log'!$AX$18:$AX$1017,$B392,'Daily Log'!$AY$18:$AY$1017),0)","v":0},{"$f":"IFERROR($E392*SUMIF('Daily Log'!$BA$18:$BA$1017,$B392,'Daily Log'!$BB$18:$BB$1017),0)","v":0},{"$f":"IFERROR($E392*SUMIF('Daily Log'!$BD$18:$BD$1017,$B392,'Daily Log'!$BE$18:$BE$1017),0)","v":0},{"$f":"IFERROR($E392*SUMIF('Daily Log'!$BG$18:$BG$1017,$B392,'Daily Log'!$BH$18:$BH$1017),0)","v":0},{"$f":"IFERROR($E392*SUMIF('Daily Log'!$BJ$18:$BJ$1017,$B392,'Daily Log'!$BK$18:$BK$1017),0)","v":0},{"$f":"IFERROR($E392*SUMIF('Daily Log'!$BM$18:$BM$1017,$B392,'Daily Log'!$BN$18:$BN$1017),0)","v":0},{"$f":"IFERROR($E392*SUMIF('Daily Log'!$BP$18:$BP$1017,$B392,'Daily Log'!$BQ$18:$BQ$1017),0)","v":0},{"$f":"IFERROR($E392*SUMIF('Daily Log'!$BS$18:$BS$1017,$B392,'Daily Log'!$BT$18:$BT$1017),0)","v":0},{"$f":"IFERROR($E392*SUMIF('Daily Log'!$BV$18:$BV$1017,$B392,'Daily Log'!$BW$18:$BW$1017),0)","v":0},{"$f":"IFERROR($E392*SUMIF('Daily Log'!$BY$18:$BY$1017,$B392,'Daily Log'!$BZ$18:$BZ$1017),0)","v":0},{"$f":"IFERROR($E392*SUMIF('Daily Log'!$CB$18:$CB$1017,$B392,'Daily Log'!$CC$18:$CC$1017),0)","v":0},{"$f":"IFERROR($E392*SUMIF('Daily Log'!$CE$18:$CE$1017,$B392,'Daily Log'!$CF$18:$CF$1017),0)","v":0},{"$f":"IFERROR($E392*SUMIF('Daily Log'!$CH$18:$CH$1017,$B392,'Daily Log'!$CI$18:$CI$1017),0)","v":0},{"$f":"IFERROR($E392*SUMIF('Daily Log'!$CK$18:$CK$1017,$B392,'Daily Log'!$CL$18:$CL$1017),0)","v":0},{"$f":"IFERROR($E392*SUMIF('Daily Log'!$CN$18:$CN$1017,$B392,'Daily Log'!$CO$18:$CO$1017),0)","v":0}]
[null,null,null,null,1,0,{"$f":"IFERROR($E393*SUMIF('Daily Log'!$B$18:$B$1017,$B393,'Daily Log'!$C$18:$C$1017),0)","v":0},{"$f":"IFERROR($E393*SUMIF('Daily Log'!$E$18:$E$1017,$B393,'Daily Log'!$F$18:$F$1017),0)","v":0},{"$f":"IFERROR($E393*SUMIF('Daily Log'!$H$18:$H$1017,$B393,'Daily Log'!$I$18:$I$1017),0)","v":0},{"$f":"IFERROR($E393*SUMIF('Daily Log'!$K$18:$K$1017,$B393,'Daily Log'!$L$18:$L$1017),0)","v":0},{"$f":"IFERROR($E393*SUMIF('Daily Log'!$N$18:$N$1017,$B393,'Daily Log'!$O$18:$O$1017),0)","v":0},{"$f":"IFERROR($E393*SUMIF('Daily Log'!$Q$18:$Q$1017,$B393,'Daily Log'!$R$18:$R$1017),0)","v":0},{"$f":"IFERROR($E393*SUMIF('Daily Log'!$T$18:$T$1017,$B393,'Daily Log'!$U$18:$U$1017),0)","v":0},{"$f":"IFERROR($E393*SUMIF('Daily Log'!$W$18:$W$1017,$B393,'Daily Log'!$X$18:$X$1017),0)","v":0},{"$f":"IFERROR($E393*SUMIF('Daily Log'!$Z$18:$Z$1017,$B393,'Daily Log'!$AA$18:$AA$1017),0)","v":0},{"$f":"IFERROR($E393*SUMIF('Daily Log'!$AC$18:$AC$1017,$B393,'Daily Log'!$AD$18:$AD$1017),0)","v":0},{"$f":"IFERROR($E393*SUMIF('Daily Log'!$AF$18:$AF$1017,$B393,'Daily Log'!$AG$18:$AG$1017),0)","v":0},{"$f":"IFERROR($E393*SUMIF('Daily Log'!$AI$18:$AI$1017,$B393,'Daily Log'!$AJ$18:$AJ$1017),0)","v":0},{"$f":"IFERROR($E393*SUMIF('Daily Log'!$AL$18:$AL$1017,$B393,'Daily Log'!$AM$18:$AM$1017),0)","v":0},{"$f":"IFERROR($E393*SUMIF('Daily Log'!$AO$18:$AO$1017,$B393,'Daily Log'!$AP$18:$AP$1017),0)","v":0},{"$f":"IFERROR($E393*SUMIF('Daily Log'!$AR$18:$AR$1017,$B393,'Daily Log'!$AS$18:$AS$1017),0)","v":0},{"$f":"IFERROR($E393*SUMIF('Daily Log'!$AU$18:$AU$1017,$B393,'Daily Log'!$AV$18:$AV$1017),0)","v":0},{"$f":"IFERROR($E393*SUMIF('Daily Log'!$AX$18:$AX$1017,$B393,'Daily Log'!$AY$18:$AY$1017),0)","v":0},{"$f":"IFERROR($E393*SUMIF('Daily Log'!$BA$18:$BA$1017,$B393,'Daily Log'!$BB$18:$BB$1017),0)","v":0},{"$f":"IFERROR($E393*SUMIF('Daily Log'!$BD$18:$BD$1017,$B393,'Daily Log'!$BE$18:$BE$1017),0)","v":0},{"$f":"IFERROR($E393*SUMIF('Daily Log'!$BG$18:$BG$1017,$B393,'Daily Log'!$BH$18:$BH$1017),0)","v":0},{"$f":"IFERROR($E393*SUMIF('Daily Log'!$BJ$18:$BJ$1017,$B393,'Daily Log'!$BK$18:$BK$1017),0)","v":0},{"$f":"IFERROR($E393*SUMIF('Daily Log'!$BM$18:$BM$1017,$B393,'Daily Log'!$BN$18:$BN$1017),0)","v":0},{"$f":"IFERROR($E393*SUMIF('Daily Log'!$BP$18:$BP$1017,$B393,'Daily Log'!$BQ$18:$BQ$1017),0)","v":0},{"$f":"IFERROR($E393*SUMIF('Daily Log'!$BS$18:$BS$1017,$B393,'Daily Log'!$BT$18:$BT$1017),0)","v":0},{"$f":"IFERROR($E393*SUMIF('Daily Log'!$BV$18:$BV$1017,$B393,'Daily Log'!$BW$18:$BW$1017),0)","v":0},{"$f":"IFERROR($E393*SUMIF('Daily Log'!$BY$18:$BY$1017,$B393,'Daily Log'!$BZ$18:$BZ$1017),0)","v":0},{"$f":"IFERROR($E393*SUMIF('Daily Log'!$CB$18:$CB$1017,$B393,'Daily Log'!$CC$18:$CC$1017),0)","v":0},{"$f":"IFERROR($E393*SUMIF('Daily Log'!$CE$18:$CE$1017,$B393,'Daily Log'!$CF$18:$CF$1017),0)","v":0},{"$f":"IFERROR($E393*SUMIF('Daily Log'!$CH$18:$CH$1017,$B393,'Daily Log'!$CI$18:$CI$1017),0)","v":0},{"$f":"IFERROR($E393*SUMIF('Daily Log'!$CK$18:$CK$1017,$B393,'Daily Log'!$CL$18:$CL$1017),0)","v":0},{"$f":"IFERROR($E393*SUMIF('Daily Log'!$CN$18:$CN$1017,$B393,'Daily Log'!$CO$18:$CO$1017),0)","v":0}]
[null,null,null,null,1,0,{"$f":"IFERROR($E394*SUMIF('Daily Log'!$B$18:$B$1017,$B394,'Daily Log'!$C$18:$C$1017),0)","v":0},{"$f":"IFERROR($E394*SUMIF('Daily Log'!$E$18:$E$1017,$B394,'Daily Log'!$F$18:$F$1017),0)","v":0},{"$f":"IFERROR($E394*SUMIF('Daily Log'!$H$18:$H$1017,$B394,'Daily Log'!$I$18:$I$1017),0)","v":0},{"$f":"IFERROR($E394*SUMIF('Daily Log'!$K$18:$K$1017,$B394,'Daily Log'!$L$18:$L$1017),0)","v":0},{"$f":"IFERROR($E394*SUMIF('Daily Log'!$N$18:$N$1017,$B394,'Daily Log'!$O$18:$O$1017),0)","v":0},{"$f":"IFERROR($E394*SUMIF('Daily Log'!$Q$18:$Q$1017,$B394,'Daily Log'!$R$18:$R$1017),0)","v":0},{"$f":"IFERROR($E394*SUMIF('Daily Log'!$T$18:$T$1017,$B394,'Daily Log'!$U$18:$U$1017),0)","v":0},{"$f":"IFERROR($E394*SUMIF('Daily Log'!$W$18:$W$1017,$B394,'Daily Log'!$X$18:$X$1017),0)","v":0},{"$f":"IFERROR($E394*SUMIF('Daily Log'!$Z$18:$Z$1017,$B394,'Daily Log'!$AA$18:$AA$1017),0)","v":0},{"$f":"IFERROR($E394*SUMIF('Daily Log'!$AC$18:$AC$1017,$B394,'Daily Log'!$AD$18:$AD$1017),0)","v":0},{"$f":"IFERROR($E394*SUMIF('Daily Log'!$AF$18:$AF$1017,$B394,'Daily Log'!$AG$18:$AG$1017),0)","v":0},{"$f":"IFERROR($E394*SUMIF('Daily Log'!$AI$18:$AI$1017,$B394,'Daily Log'!$AJ$18:$AJ$1017),0)","v":0},{"$f":"IFERROR($E394*SUMIF('Daily Log'!$AL$18:$AL$1017,$B394,'Daily Log'!$AM$18:$AM$1017),0)","v":0},{"$f":"IFERROR($E394*SUMIF('Daily Log'!$AO$18:$AO$1017,$B394,'Daily Log'!$AP$18:$AP$1017),0)","v":0},{"$f":"IFERROR($E394*SUMIF('Daily Log'!$AR$18:$AR$1017,$B394,'Daily Log'!$AS$18:$AS$1017),0)","v":0},{"$f":"IFERROR($E394*SUMIF('Daily Log'!$AU$18:$AU$1017,$B394,'Daily Log'!$AV$18:$AV$1017),0)","v":0},{"$f":"IFERROR($E394*SUMIF('Daily Log'!$AX$18:$AX$1017,$B394,'Daily Log'!$AY$18:$AY$1017),0)","v":0},{"$f":"IFERROR($E394*SUMIF('Daily Log'!$BA$18:$BA$1017,$B394,'Daily Log'!$BB$18:$BB$1017),0)","v":0},{"$f":"IFERROR($E394*SUMIF('Daily Log'!$BD$18:$BD$1017,$B394,'Daily Log'!$BE$18:$BE$1017),0)","v":0},{"$f":"IFERROR($E394*SUMIF('Daily Log'!$BG$18:$BG$1017,$B394,'Daily Log'!$BH$18:$BH$1017),0)","v":0},{"$f":"IFERROR($E394*SUMIF('Daily Log'!$BJ$18:$BJ$1017,$B394,'Daily Log'!$BK$18:$BK$1017),0)","v":0},{"$f":"IFERROR($E394*SUMIF('Daily Log'!$BM$18:$BM$1017,$B394,'Daily Log'!$BN$18:$BN$1017),0)","v":0},{"$f":"IFERROR($E394*SUMIF('Daily Log'!$BP$18:$BP$1017,$B394,'Daily Log'!$BQ$18:$BQ$1017),0)","v":0},{"$f":"IFERROR($E394*SUMIF('Daily Log'!$BS$18:$BS$1017,$B394,'Daily Log'!$BT$18:$BT$1017),0)","v":0},{"$f":"IFERROR($E394*SUMIF('Daily Log'!$BV$18:$BV$1017,$B394,'Daily Log'!$BW$18:$BW$1017),0)","v":0},{"$f":"IFERROR($E394*SUMIF('Daily Log'!$BY$18:$BY$1017,$B394,'Daily Log'!$BZ$18:$BZ$1017),0)","v":0},{"$f":"IFERROR($E394*SUMIF('Daily Log'!$CB$18:$CB$1017,$B394,'Daily Log'!$CC$18:$CC$1017),0)","v":0},{"$f":"IFERROR($E394*SUMIF('Daily Log'!$CE$18:$CE$1017,$B394,'Daily Log'!$CF$18:$CF$1017),0)","v":0},{"$f":"IFERROR($E394*SUMIF('Daily Log'!$CH$18:$CH$1017,$B394,'Daily Log'!$CI$18:$CI$1017),0)","v":0},{"$f":"IFERROR($E394*SUMIF('Daily Log'!$CK$18:$CK$1017,$B394,'Daily Log'!$CL$18:$CL$1017),0)","v":0},{"$f":"IFERROR($E394*SUMIF('Daily Log'!$CN$18:$CN$1017,$B394,'Daily Log'!$CO$18:$CO$1017),0)","v":0}]
[null,null,null,null,1,0,{"$f":"IFERROR($E395*SUMIF('Daily Log'!$B$18:$B$1017,$B395,'Daily Log'!$C$18:$C$1017),0)","v":0},{"$f":"IFERROR($E395*SUMIF('Daily Log'!$E$18:$E$1017,$B395,'Daily Log'!$F$18:$F$1017),0)","v":0},{"$f":"IFERROR($E395*SUMIF('Daily Log'!$H$18:$H$1017,$B395,'Daily Log'!$I$18:$I$1017),0)","v":0},{"$f":"IFERROR($E395*SUMIF('Daily Log'!$K$18:$K$1017,$B395,'Daily Log'!$L$18:$L$1017),0)","v":0},{"$f":"IFERROR($E395*SUMIF('Daily Log'!$N$18:$N$1017,$B395,'Daily Log'!$O$18:$O$1017),0)","v":0},{"$f":"IFERROR($E395*SUMIF('Daily Log'!$Q$18:$Q$1017,$B395,'Daily Log'!$R$18:$R$1017),0)","v":0},{"$f":"IFERROR($E395*SUMIF('Daily Log'!$T$18:$T$1017,$B395,'Daily Log'!$U$18:$U$1017),0)","v":0},{"$f":"IFERROR($E395*SUMIF('Daily Log'!$W$18:$W$1017,$B395,'Daily Log'!$X$18:$X$1017),0)","v":0},{"$f":"IFERROR($E395*SUMIF('Daily Log'!$Z$18:$Z$1017,$B395,'Daily Log'!$AA$18:$AA$1017),0)","v":0},{"$f":"IFERROR($E395*SUMIF('Daily Log'!$AC$18:$AC$1017,$B395,'Daily Log'!$AD$18:$AD$1017),0)","v":0},{"$f":"IFERROR($E395*SUMIF('Daily Log'!$AF$18:$AF$1017,$B395,'Daily Log'!$AG$18:$AG$1017),0)","v":0},{"$f":"IFERROR($E395*SUMIF('Daily Log'!$AI$18:$AI$1017,$B395,'Daily Log'!$AJ$18:$AJ$1017),0)","v":0},{"$f":"IFERROR($E395*SUMIF('Daily Log'!$AL$18:$AL$1017,$B395,'Daily Log'!$AM$18:$AM$1017),0)","v":0},{"$f":"IFERROR($E395*SUMIF('Daily Log'!$AO$18:$AO$1017,$B395,'Daily Log'!$AP$18:$AP$1017),0)","v":0},{"$f":"IFERROR($E395*SUMIF('Daily Log'!$AR$18:$AR$1017,$B395,'Daily Log'!$AS$18:$AS$1017),0)","v":0},{"$f":"IFERROR($E395*SUMIF('Daily Log'!$AU$18:$AU$1017,$B395,'Daily Log'!$AV$18:$AV$1017),0)","v":0},{"$f":"IFERROR($E395*SUMIF('Daily Log'!$AX$18:$AX$1017,$B395,'Daily Log'!$AY$18:$AY$1017),0)","v":0},{"$f":"IFERROR($E395*SUMIF('Daily Log'!$BA$18:$BA$1017,$B395,'Daily Log'!$BB$18:$BB$1017),0)","v":0},{"$f":"IFERROR($E395*SUMIF('Daily Log'!$BD$18:$BD$1017,$B395,'Daily Log'!$BE$18:$BE$1017),0)","v":0},{"$f":"IFERROR($E395*SUMIF('Daily Log'!$BG$18:$BG$1017,$B395,'Daily Log'!$BH$18:$BH$1017),0)","v":0},{"$f":"IFERROR($E395*SUMIF('Daily Log'!$BJ$18:$BJ$1017,$B395,'Daily Log'!$BK$18:$BK$1017),0)","v":0},{"$f":"IFERROR($E395*SUMIF('Daily Log'!$BM$18:$BM$1017,$B395,'Daily Log'!$BN$18:$BN$1017),0)","v":0},{"$f":"IFERROR($E395*SUMIF('Daily Log'!$BP$18:$BP$1017,$B395,'Daily Log'!$BQ$18:$BQ$1017),0)","v":0},{"$f":"IFERROR($E395*SUMIF('Daily Log'!$BS$18:$BS$1017,$B395,'Daily Log'!$BT$18:$BT$1017),0)","v":0},{"$f":"IFERROR($E395*SUMIF('Daily Log'!$BV$18:$BV$1017,$B395,'Daily Log'!$BW$18:$BW$1017),0)","v":0},{"$f":"IFERROR($E395*SUMIF('Daily Log'!$BY$18:$BY$1017,$B395,'Daily Log'!$BZ$18:$BZ$1017),0)","v":0},{"$f":"IFERROR($E395*SUMIF('Daily Log'!$CB$18:$CB$1017,$B395,'Daily Log'!$CC$18:$CC$1017),0)","v":0},{"$f":"IFERROR($E395*SUMIF('Daily Log'!$CE$18:$CE$1017,$B395,'Daily Log'!$CF$18:$CF$1017),0)","v":0},{"$f":"IFERROR($E395*SUMIF('Daily Log'!$CH$18:$CH$1017,$B395,'Daily Log'!$CI$18:$CI$1017),0)","v":0},{"$f":"IFERROR($E395*SUMIF('Daily Log'!$CK$18:$CK$1017,$B395,'Daily Log'!$CL$18:$CL$1017),0)","v":0},{"$f":"IFERROR($E395*SUMIF('Daily Log'!$CN$18:$CN$1017,$B395,'Daily Log'!$CO$18:$CO$1017),0)","v":0}]
[null,null,null,null,1,0,{"$f":"IFERROR($E396*SUMIF('Daily Log'!$B$18:$B$1017,$B396,'Daily Log'!$C$18:$C$1017),0)","v":0},{"$f":"IFERROR($E396*SUMIF('Daily Log'!$E$18:$E$1017,$B396,'Daily Log'!$F$18:$F$1017),0)","v":0},{"$f":"IFERROR($E396*SUMIF('Daily Log'!$H$18:$H$1017,$B396,'Daily Log'!$I$18:$I$1017),0)","v":0},{"$f":"IFERROR($E396*SUMIF('Daily Log'!$K$18:$K$1017,$B396,'Daily Log'!$L$18:$L$1017),0)","v":0},{"$f":"IFERROR($E396*SUMIF('Daily Log'!$N$18:$N$1017,$B396,'Daily Log'!$O$18:$O$1017),0)","v":0},{"$f":"IFERROR($E396*SUMIF('Daily Log'!$Q$18:$Q$1017,$B396,'Daily Log'!$R$18:$R$1017),0)","v":0},{"$f":"IFERROR($E396*SUMIF('Daily Log'!$T$18:$T$1017,$B396,'Daily Log'!$U$18:$U$1017),0)","v":0},{"$f":"IFERROR($E396*SUMIF('Daily Log'!$W$18:$W$1017,$B396,'Daily Log'!$X$18:$X$1017),0)","v":0},{"$f":"IFERROR($E396*SUMIF('Daily Log'!$Z$18:$Z$1017,$B396,'Daily Log'!$AA$18:$AA$1017),0)","v":0},{"$f":"IFERROR($E396*SUMIF('Daily Log'!$AC$18:$AC$1017,$B396,'Daily Log'!$AD$18:$AD$1017),0)","v":0},{"$f":"IFERROR($E396*SUMIF('Daily Log'!$AF$18:$AF$1017,$B396,'Daily Log'!$AG$18:$AG$1017),0)","v":0},{"$f":"IFERROR($E396*SUMIF('Daily Log'!$AI$18:$AI$1017,$B396,'Daily Log'!$AJ$18:$AJ$1017),0)","v":0},{"$f":"IFERROR($E396*SUMIF('Daily Log'!$AL$18:$AL$1017,$B396,'Daily Log'!$AM$18:$AM$1017),0)","v":0},{"$f":"IFERROR($E396*SUMIF('Daily Log'!$AO$18:$AO$1017,$B396,'Daily Log'!$AP$18:$AP$1017),0)","v":0},{"$f":"IFERROR($E396*SUMIF('Daily Log'!$AR$18:$AR$1017,$B396,'Daily Log'!$AS$18:$AS$1017),0)","v":0},{"$f":"IFERROR($E396*SUMIF('Daily Log'!$AU$18:$AU$1017,$B396,'Daily Log'!$AV$18:$AV$1017),0)","v":0},{"$f":"IFERROR($E396*SUMIF('Daily Log'!$AX$18:$AX$1017,$B396,'Daily Log'!$AY$18:$AY$1017),0)","v":0},{"$f":"IFERROR($E396*SUMIF('Daily Log'!$BA$18:$BA$1017,$B396,'Daily Log'!$BB$18:$BB$1017),0)","v":0},{"$f":"IFERROR($E396*SUMIF('Daily Log'!$BD$18:$BD$1017,$B396,'Daily Log'!$BE$18:$BE$1017),0)","v":0},{"$f":"IFERROR($E396*SUMIF('Daily Log'!$BG$18:$BG$1017,$B396,'Daily Log'!$BH$18:$BH$1017),0)","v":0},{"$f":"IFERROR($E396*SUMIF('Daily Log'!$BJ$18:$BJ$1017,$B396,'Daily Log'!$BK$18:$BK$1017),0)","v":0},{"$f":"IFERROR($E396*SUMIF('Daily Log'!$BM$18:$BM$1017,$B396,'Daily Log'!$BN$18:$BN$1017),0)","v":0},{"$f":"IFERROR($E396*SUMIF('Daily Log'!$BP$18:$BP$1017,$B396,'Daily Log'!$BQ$18:$BQ$1017),0)","v":0},{"$f":"IFERROR($E396*SUMIF('Daily Log'!$BS$18:$BS$1017,$B396,'Daily Log'!$BT$18:$BT$1017),0)","v":0},{"$f":"IFERROR($E396*SUMIF('Daily Log'!$BV$18:$BV$1017,$B396,'Daily Log'!$BW$18:$BW$1017),0)","v":0},{"$f":"IFERROR($E396*SUMIF('Daily Log'!$BY$18:$BY$1017,$B396,'Daily Log'!$BZ$18:$BZ$1017),0)","v":0},{"$f":"IFERROR($E396*SUMIF('Daily Log'!$CB$18:$CB$1017,$B396,'Daily Log'!$CC$18:$CC$1017),0)","v":0},{"$f":"IFERROR($E396*SUMIF('Daily Log'!$CE$18:$CE$1017,$B396,'Daily Log'!$CF$18:$CF$1017),0)","v":0},{"$f":"IFERROR($E396*SUMIF('Daily Log'!$CH$18:$CH$1017,$B396,'Daily Log'!$CI$18:$CI$1017),0)","v":0},{"$f":"IFERROR($E396*SUMIF('Daily Log'!$CK$18:$CK$1017,$B396,'Daily Log'!$CL$18:$CL$1017),0)","v":0},{"$f":"IFERROR($E396*SUMIF('Daily Log'!$CN$18:$CN$1017,$B396,'Daily Log'!$CO$18:$CO$1017),0)","v":0}]
[null,null,null,null,1,0,{"$f":"IFERROR($E397*SUMIF('Daily Log'!$B$18:$B$1017,$B397,'Daily Log'!$C$18:$C$1017),0)","v":0},{"$f":"IFERROR($E397*SUMIF('Daily Log'!$E$18:$E$1017,$B397,'Daily Log'!$F$18:$F$1017),0)","v":0},{"$f":"IFERROR($E397*SUMIF('Daily Log'!$H$18:$H$1017,$B397,'Daily Log'!$I$18:$I$1017),0)","v":0},{"$f":"IFERROR($E397*SUMIF('Daily Log'!$K$18:$K$1017,$B397,'Daily Log'!$L$18:$L$1017),0)","v":0},{"$f":"IFERROR($E397*SUMIF('Daily Log'!$N$18:$N$1017,$B397,'Daily Log'!$O$18:$O$1017),0)","v":0},{"$f":"IFERROR($E397*SUMIF('Daily Log'!$Q$18:$Q$1017,$B397,'Daily Log'!$R$18:$R$1017),0)","v":0},{"$f":"IFERROR($E397*SUMIF('Daily Log'!$T$18:$T$1017,$B397,'Daily Log'!$U$18:$U$1017),0)","v":0},{"$f":"IFERROR($E397*SUMIF('Daily Log'!$W$18:$W$1017,$B397,'Daily Log'!$X$18:$X$1017),0)","v":0},{"$f":"IFERROR($E397*SUMIF('Daily Log'!$Z$18:$Z$1017,$B397,'Daily Log'!$AA$18:$AA$1017),0)","v":0},{"$f":"IFERROR($E397*SUMIF('Daily Log'!$AC$18:$AC$1017,$B397,'Daily Log'!$AD$18:$AD$1017),0)","v":0},{"$f":"IFERROR($E397*SUMIF('Daily Log'!$AF$18:$AF$1017,$B397,'Daily Log'!$AG$18:$AG$1017),0)","v":0},{"$f":"IFERROR($E397*SUMIF('Daily Log'!$AI$18:$AI$1017,$B397,'Daily Log'!$AJ$18:$AJ$1017),0)","v":0},{"$f":"IFERROR($E397*SUMIF('Daily Log'!$AL$18:$AL$1017,$B397,'Daily Log'!$AM$18:$AM$1017),0)","v":0},{"$f":"IFERROR($E397*SUMIF('Daily Log'!$AO$18:$AO$1017,$B397,'Daily Log'!$AP$18:$AP$1017),0)","v":0},{"$f":"IFERROR($E397*SUMIF('Daily Log'!$AR$18:$AR$1017,$B397,'Daily Log'!$AS$18:$AS$1017),0)","v":0},{"$f":"IFERROR($E397*SUMIF('Daily Log'!$AU$18:$AU$1017,$B397,'Daily Log'!$AV$18:$AV$1017),0)","v":0},{"$f":"IFERROR($E397*SUMIF('Daily Log'!$AX$18:$AX$1017,$B397,'Daily Log'!$AY$18:$AY$1017),0)","v":0},{"$f":"IFERROR($E397*SUMIF('Daily Log'!$BA$18:$BA$1017,$B397,'Daily Log'!$BB$18:$BB$1017),0)","v":0},{"$f":"IFERROR($E397*SUMIF('Daily Log'!$BD$18:$BD$1017,$B397,'Daily Log'!$BE$18:$BE$1017),0)","v":0},{"$f":"IFERROR($E397*SUMIF('Daily Log'!$BG$18:$BG$1017,$B397,'Daily Log'!$BH$18:$BH$1017),0)","v":0},{"$f":"IFERROR($E397*SUMIF('Daily Log'!$BJ$18:$BJ$1017,$B397,'Daily Log'!$BK$18:$BK$1017),0)","v":0},{"$f":"IFERROR($E397*SUMIF('Daily Log'!$BM$18:$BM$1017,$B397,'Daily Log'!$BN$18:$BN$1017),0)","v":0},{"$f":"IFERROR($E397*SUMIF('Daily Log'!$BP$18:$BP$1017,$B397,'Daily Log'!$BQ$18:$BQ$1017),0)","v":0},{"$f":"IFERROR($E397*SUMIF('Daily Log'!$BS$18:$BS$1017,$B397,'Daily Log'!$BT$18:$BT$1017),0)","v":0},{"$f":"IFERROR($E397*SUMIF('Daily Log'!$BV$18:$BV$1017,$B397,'Daily Log'!$BW$18:$BW$1017),0)","v":0},{"$f":"IFERROR($E397*SUMIF('Daily Log'!$BY$18:$BY$1017,$B397,'Daily Log'!$BZ$18:$BZ$1017),0)","v":0},{"$f":"IFERROR($E397*SUMIF('Daily Log'!$CB$18:$CB$1017,$B397,'Daily Log'!$CC$18:$CC$1017),0)","v":0},{"$f":"IFERROR($E397*SUMIF('Daily Log'!$CE$18:$CE$1017,$B397,'Daily Log'!$CF$18:$CF$1017),0)","v":0},{"$f":"IFERROR($E397*SUMIF('Daily Log'!$CH$18:$CH$1017,$B397,'Daily Log'!$CI$18:$CI$1017),0)","v":0},{"$f":"IFERROR($E397*SUMIF('Daily Log'!$CK$18:$CK$1017,$B397,'Daily Log'!$CL$18:$CL$1017),0)","v":0},{"$f":"IFERROR($E397*SUMIF('Daily Log'!$CN$18:$CN$1017,$B397,'Daily Log'!$CO$18:$CO$1017),0)","v":0}]
[null,null,null,null,1,0,{"$f":"IFERROR($E398*SUMIF('Daily Log'!$B$18:$B$1017,$B398,'Daily Log'!$C$18:$C$1017),0)","v":0},{"$f":"IFERROR($E398*SUMIF('Daily Log'!$E$18:$E$1017,$B398,'Daily Log'!$F$18:$F$1017),0)","v":0},{"$f":"IFERROR($E398*SUMIF('Daily Log'!$H$18:$H$1017,$B398,'Daily Log'!$I$18:$I$1017),0)","v":0},{"$f":"IFERROR($E398*SUMIF('Daily Log'!$K$18:$K$1017,$B398,'Daily Log'!$L$18:$L$1017),0)","v":0},{"$f":"IFERROR($E398*SUMIF('Daily Log'!$N$18:$N$1017,$B398,'Daily Log'!$O$18:$O$1017),0)","v":0},{"$f":"IFERROR($E398*SUMIF('Daily Log'!$Q$18:$Q$1017,$B398,'Daily Log'!$R$18:$R$1017),0)","v":0},{"$f":"IFERROR($E398*SUMIF('Daily Log'!$T$18:$T$1017,$B398,'Daily Log'!$U$18:$U$1017),0)","v":0},{"$f":"IFERROR($E398*SUMIF('Daily Log'!$W$18:$W$1017,$B398,'Daily Log'!$X$18:$X$1017),0)","v":0},{"$f":"IFERROR($E398*SUMIF('Daily Log'!$Z$18:$Z$1017,$B398,'Daily Log'!$AA$18:$AA$1017),0)","v":0},{"$f":"IFERROR($E398*SUMIF('Daily Log'!$AC$18:$AC$1017,$B398,'Daily Log'!$AD$18:$AD$1017),0)","v":0},{"$f":"IFERROR($E398*SUMIF('Daily Log'!$AF$18:$AF$1017,$B398,'Daily Log'!$AG$18:$AG$1017),0)","v":0},{"$f":"IFERROR($E398*SUMIF('Daily Log'!$AI$18:$AI$1017,$B398,'Daily Log'!$AJ$18:$AJ$1017),0)","v":0},{"$f":"IFERROR($E398*SUMIF('Daily Log'!$AL$18:$AL$1017,$B398,'Daily Log'!$AM$18:$AM$1017),0)","v":0},{"$f":"IFERROR($E398*SUMIF('Daily Log'!$AO$18:$AO$1017,$B398,'Daily Log'!$AP$18:$AP$1017),0)","v":0},{"$f":"IFERROR($E398*SUMIF('Daily Log'!$AR$18:$AR$1017,$B398,'Daily Log'!$AS$18:$AS$1017),0)","v":0},{"$f":"IFERROR($E398*SUMIF('Daily Log'!$AU$18:$AU$1017,$B398,'Daily Log'!$AV$18:$AV$1017),0)","v":0},{"$f":"IFERROR($E398*SUMIF('Daily Log'!$AX$18:$AX$1017,$B398,'Daily Log'!$AY$18:$AY$1017),0)","v":0},{"$f":"IFERROR($E398*SUMIF('Daily Log'!$BA$18:$BA$1017,$B398,'Daily Log'!$BB$18:$BB$1017),0)","v":0},{"$f":"IFERROR($E398*SUMIF('Daily Log'!$BD$18:$BD$1017,$B398,'Daily Log'!$BE$18:$BE$1017),0)","v":0},{"$f":"IFERROR($E398*SUMIF('Daily Log'!$BG$18:$BG$1017,$B398,'Daily Log'!$BH$18:$BH$1017),0)","v":0},{"$f":"IFERROR($E398*SUMIF('Daily Log'!$BJ$18:$BJ$1017,$B398,'Daily Log'!$BK$18:$BK$1017),0)","v":0},{"$f":"IFERROR($E398*SUMIF('Daily Log'!$BM$18:$BM$1017,$B398,'Daily Log'!$BN$18:$BN$1017),0)","v":0},{"$f":"IFERROR($E398*SUMIF('Daily Log'!$BP$18:$BP$1017,$B398,'Daily Log'!$BQ$18:$BQ$1017),0)","v":0},{"$f":"IFERROR($E398*SUMIF('Daily Log'!$BS$18:$BS$1017,$B398,'Daily Log'!$BT$18:$BT$1017),0)","v":0},{"$f":"IFERROR($E398*SUMIF('Daily Log'!$BV$18:$BV$1017,$B398,'Daily Log'!$BW$18:$BW$1017),0)","v":0},{"$f":"IFERROR($E398*SUMIF('Daily Log'!$BY$18:$BY$1017,$B398,'Daily Log'!$BZ$18:$BZ$1017),0)","v":0},{"$f":"IFERROR($E398*SUMIF('Daily Log'!$CB$18:$CB$1017,$B398,'Daily Log'!$CC$18:$CC$1017),0)","v":0},{"$f":"IFERROR($E398*SUMIF('Daily Log'!$CE$18:$CE$1017,$B398,'Daily Log'!$CF$18:$CF$1017),0)","v":0},{"$f":"IFERROR($E398*SUMIF('Daily Log'!$CH$18:$CH$1017,$B398,'Daily Log'!$CI$18:$CI$1017),0)","v":0},{"$f":"IFERROR($E398*SUMIF('Daily Log'!$CK$18:$CK$1017,$B398,'Daily Log'!$CL$18:$CL$1017),0)","v":0},{"$f":"IFERROR($E398*SUMIF('Daily Log'!$CN$18:$CN$1017,$B398,'Daily Log'!$CO$18:$CO$1017),0)","v":0}]
[]
[]
[]
[]
[]
[]
[]
[]
[]
[]
[]
[]
[]
[]
[]
[]
[]
[]
[]
[]
[]
[]
[]
[]
[]
[]
[]
[]
[]
[]
[]
[]
[]
[]
[]
[]
[]
[]
[]
[]
[]
[]
[]
[]
[]
[]
[]
[]
[]
[]
[]
[]
[]
[]
[null,"ZAD01 COLD",null,null,1,0,{"$f":"IFERROR($E453*SUMIF('Daily Log'!$B$18:$B$1017,$B453,'Daily Log'!$C$18:$C$1017),0)","v":0},{"$f":"IFERROR($E453*SUMIF('Daily Log'!$E$18:$E$1017,$B453,'Daily Log'!$F$18:$F$1017),0)","v":0},{"$f":"IFERROR($E453*SUMIF('Daily Log'!$H$18:$H$1017,$B453,'Daily Log'!$I$18:$I$1017),0)","v":0},{"$f":"IFERROR($E453*SUMIF('Daily Log'!$K$18:$K$1017,$B453,'Daily Log'!$L$18:$L$1017),0)","v":0},{"$f":"IFERROR($E453*SUMIF('Daily Log'!$N$18:$N$1017,$B453,'Daily Log'!$O$18:$O$1017),0)","v":0},{"$f":"IFERROR($E453*SUMIF('Daily Log'!$Q$18:$Q$1017,$B453,'Daily Log'!$R$18:$R$1017),0)","v":0},{"$f":"IFERROR($E453*SUMIF('Daily Log'!$T$18:$T$1017,$B453,'Daily Log'!$U$18:$U$1017),0)","v":0},{"$f":"IFERROR($E453*SUMIF('Daily Log'!$W$18:$W$1017,$B453,'Daily Log'!$X$18:$X$1017),0)","v":0},{"$f":"IFERROR($E453*SUMIF('Daily Log'!$Z$18:$Z$1017,$B453,'Daily Log'!$AA$18:$AA$1017),0)","v":0},{"$f":"IFERROR($E453*SUMIF('Daily Log'!$AC$18:$AC$1017,$B453,'Daily Log'!$AD$18:$AD$1017),0)","v":0},{"$f":"IFERROR($E453*SUMIF('Daily Log'!$AF$18:$AF$1017,$B453,'Daily Log'!$AG$18:$AG$1017),0)","v":0},{"$f":"IFERROR($E453*SUMIF('Daily Log'!$AI$18:$AI$1017,$B453,'Daily Log'!$AJ$18:$AJ$1017),0)","v":0},{"$f":"IFERROR($E453*SUMIF('Daily Log'!$AL$18:$AL$1017,$B453,'Daily Log'!$AM$18:$AM$1017),0)","v":0},{"$f":"IFERROR($E453*SUMIF('Daily Log'!$AO$18:$AO$1017,$B453,'Daily Log'!$AP$18:$AP$1017),0)","v":0},{"$f":"IFERROR($E453*SUMIF('Daily Log'!$AR$18:$AR$1017,$B453,'Daily Log'!$AS$18:$AS$1017),0)","v":0},{"$f":"IFERROR($E453*SUMIF('Daily Log'!$AU$18:$AU$1017,$B453,'Daily Log'!$AV$18:$AV$1017),0)","v":0},{"$f":"IFERROR($E453*SUMIF('Daily Log'!$AX$18:$AX$1017,$B453,'Daily Log'!$AY$18:$AY$1017),0)","v":0},{"$f":"IFERROR($E453*SUMIF('Daily Log'!$BA$18:$BA$1017,$B453,'Daily Log'!$BB$18:$BB$1017),0)","v":0},{"$f":"IFERROR($E453*SUMIF('Daily Log'!$BD$18:$BD$1017,$B453,'Daily Log'!$BE$18:$BE$1017),0)","v":0},{"$f":"IFERROR($E453*SUMIF('Daily Log'!$BG$18:$BG$1017,$B453,'Daily Log'!$BH$18:$BH$1017),0)","v":0},{"$f":"IFERROR($E453*SUMIF('Daily Log'!$BJ$18:$BJ$1017,$B453,'Daily Log'!$BK$18:$BK$1017),0)","v":0},{"$f":"IFERROR($E453*SUMIF('Daily Log'!$BM$18:$BM$1017,$B453,'Daily Log'!$BN$18:$BN$1017),0)","v":0},{"$f":"IFERROR($E453*SUMIF('Daily Log'!$BP$18:$BP$1017,$B453,'Daily Log'!$BQ$18:$BQ$1017),0)","v":0},{"$f":"IFERROR($E453*SUMIF('Daily Log'!$BS$18:$BS$1017,$B453,'Daily Log'!$BT$18:$BT$1017),0)","v":0},{"$f":"IFERROR($E453*SUMIF('Daily Log'!$BV$18:$BV$1017,$B453,'Daily Log'!$BW$18:$BW$1017),0)","v":0},{"$f":"IFERROR($E453*SUMIF('Daily Log'!$BY$18:$BY$1017,$B453,'Daily Log'!$BZ$18:$BZ$1017),0)","v":0},{"$f":"IFERROR($E453*SUMIF('Daily Log'!$CB$18:$CB$1017,$B453,'Daily Log'!$CC$18:$CC$1017),0)","v":0},{"$f":"IFERROR($E453*SUMIF('Daily Log'!$CE$18:$CE$1017,$B453,'Daily Log'!$CF$18:$CF$1017),0)","v":0},{"$f":"IFERROR($E453*SUMIF('Daily Log'!$CH$18:$CH$1017,$B453,'Daily Log'!$CI$18:$CI$1017),0)","v":0},{"$f":"IFERROR($E453*SUMIF('Daily Log'!$CK$18:$CK$1017,$B453,'Daily Log'!$CL$18:$CL$1017),0)","v":0},{"$f":"IFERROR($E453*SUMIF('Daily Log'!$CN$18:$CN$1017,$B453,'Daily Log'!$CO$18:$CO$1017),0)","v":0}]
[null,"ZAD02 HOT",null,null,1,0,{"$f":"IFERROR($E454*SUMIF('Daily Log'!$B$18:$B$1017,$B454,'Daily Log'!$C$18:$C$1017),0)","v":0},{"$f":"IFERROR($E454*SUMIF('Daily Log'!$E$18:$E$1017,$B454,'Daily Log'!$F$18:$F$1017),0)","v":0},{"$f":"IFERROR($E454*SUMIF('Daily Log'!$H$18:$H$1017,$B454,'Daily Log'!$I$18:$I$1017),0)","v":0},{"$f":"IFERROR($E454*SUMIF('Daily Log'!$K$18:$K$1017,$B454,'Daily Log'!$L$18:$L$1017),0)","v":0},{"$f":"IFERROR($E454*SUMIF('Daily Log'!$N$18:$N$1017,$B454,'Daily Log'!$O$18:$O$1017),0)","v":0},{"$f":"IFERROR($E454*SUMIF('Daily Log'!$Q$18:$Q$1017,$B454,'Daily Log'!$R$18:$R$1017),0)","v":0},{"$f":"IFERROR($E454*SUMIF('Daily Log'!$T$18:$T$1017,$B454,'Daily Log'!$U$18:$U$1017),0)","v":0},{"$f":"IFERROR($E454*SUMIF('Daily Log'!$W$18:$W$1017,$B454,'Daily Log'!$X$18:$X$1017),0)","v":0},{"$f":"IFERROR($E454*SUMIF('Daily Log'!$Z$18:$Z$1017,$B454,'Daily Log'!$AA$18:$AA$1017),0)","v":0},{"$f":"IFERROR($E454*SUMIF('Daily Log'!$AC$18:$AC$1017,$B454,'Daily Log'!$AD$18:$AD$1017),0)","v":0},{"$f":"IFERROR($E454*SUMIF('Daily Log'!$AF$18:$AF$1017,$B454,'Daily Log'!$AG$18:$AG$1017),0)","v":0},{"$f":"IFERROR($E454*SUMIF('Daily Log'!$AI$18:$AI$1017,$B454,'Daily Log'!$AJ$18:$AJ$1017),0)","v":0},{"$f":"IFERROR($E454*SUMIF('Daily Log'!$AL$18:$AL$1017,$B454,'Daily Log'!$AM$18:$AM$1017),0)","v":0},{"$f":"IFERROR($E454*SUMIF('Daily Log'!$AO$18:$AO$1017,$B454,'Daily Log'!$AP$18:$AP$1017),0)","v":0},{"$f":"IFERROR($E454*SUMIF('Daily Log'!$AR$18:$AR$1017,$B454,'Daily Log'!$AS$18:$AS$1017),0)","v":0},{"$f":"IFERROR($E454*SUMIF('Daily Log'!$AU$18:$AU$1017,$B454,'Daily Log'!$AV$18:$AV$1017),0)","v":0},{"$f":"IFERROR($E454*SUMIF('Daily Log'!$AX$18:$AX$1017,$B454,'Daily Log'!$AY$18:$AY$1017),0)","v":0},{"$f":"IFERROR($E454*SUMIF('Daily Log'!$BA$18:$BA$1017,$B454,'Daily Log'!$BB$18:$BB$1017),0)","v":0},{"$f":"IFERROR($E454*SUMIF('Daily Log'!$BD$18:$BD$1017,$B454,'Daily Log'!$BE$18:$BE$1017),0)","v":0},{"$f":"IFERROR($E454*SUMIF('Daily Log'!$BG$18:$BG$1017,$B454,'Daily Log'!$BH$18:$BH$1017),0)","v":0},{"$f":"IFERROR($E454*SUMIF('Daily Log'!$BJ$18:$BJ$1017,$B454,'Daily Log'!$BK$18:$BK$1017),0)","v":0},{"$f":"IFERROR($E454*SUMIF('Daily Log'!$BM$18:$BM$1017,$B454,'Daily Log'!$BN$18:$BN$1017),0)","v":0},{"$f":"IFERROR($E454*SUMIF('Daily Log'!$BP$18:$BP$1017,$B454,'Daily Log'!$BQ$18:$BQ$1017),0)","v":0},{"$f":"IFERROR($E454*SUMIF('Daily Log'!$BS$18:$BS$1017,$B454,'Daily Log'!$BT$18:$BT$1017),0)","v":0},{"$f":"IFERROR($E454*SUMIF('Daily Log'!$BV$18:$BV$1017,$B454,'Daily Log'!$BW$18:$BW$1017),0)","v":0},{"$f":"IFERROR($E454*SUMIF('Daily Log'!$BY$18:$BY$1017,$B454,'Daily Log'!$BZ$18:$BZ$1017),0)","v":0},{"$f":"IFERROR($E454*SUMIF('Daily Log'!$CB$18:$CB$1017,$B454,'Daily Log'!$CC$18:$CC$1017),0)","v":0},{"$f":"IFERROR($E454*SUMIF('Daily Log'!$CE$18:$CE$1017,$B454,'Daily Log'!$CF$18:$CF$1017),0)","v":0},{"$f":"IFERROR($E454*SUMIF('Daily Log'!$CH$18:$CH$1017,$B454,'Daily Log'!$CI$18:$CI$1017),0)","v":0},{"$f":"IFERROR($E454*SUMIF('Daily Log'!$CK$18:$CK$1017,$B454,'Daily Log'!$CL$18:$CL$1017),0)","v":0},{"$f":"IFERROR($E454*SUMIF('Daily Log'!$CN$18:$CN$1017,$B454,'Daily Log'!$CO$18:$CO$1017),0)","v":0}]
[null,"ZAD03 WARM",null,null,1,0,{"$f":"IFERROR($E455*SUMIF('Daily Log'!$B$18:$B$1017,$B455,'Daily Log'!$C$18:$C$1017),0)","v":0},{"$f":"IFERROR($E455*SUMIF('Daily Log'!$E$18:$E$1017,$B455,'Daily Log'!$F$18:$F$1017),0)","v":0},{"$f":"IFERROR($E455*SUMIF('Daily Log'!$H$18:$H$1017,$B455,'Daily Log'!$I$18:$I$1017),0)","v":0},{"$f":"IFERROR($E455*SUMIF('Daily Log'!$K$18:$K$1017,$B455,'Daily Log'!$L$18:$L$1017),0)","v":0},{"$f":"IFERROR($E455*SUMIF('Daily Log'!$N$18:$N$1017,$B455,'Daily Log'!$O$18:$O$1017),0)","v":0},{"$f":"IFERROR($E455*SUMIF('Daily Log'!$Q$18:$Q$1017,$B455,'Daily Log'!$R$18:$R$1017),0)","v":0},{"$f":"IFERROR($E455*SUMIF('Daily Log'!$T$18:$T$1017,$B455,'Daily Log'!$U$18:$U$1017),0)","v":0},{"$f":"IFERROR($E455*SUMIF('Daily Log'!$W$18:$W$1017,$B455,'Daily Log'!$X$18:$X$1017),0)","v":0},{"$f":"IFERROR($E455*SUMIF('Daily Log'!$Z$18:$Z$1017,$B455,'Daily Log'!$AA$18:$AA$1017),0)","v":0},{"$f":"IFERROR($E455*SUMIF('Daily Log'!$AC$18:$AC$1017,$B455,'Daily Log'!$AD$18:$AD$1017),0)","v":0},{"$f":"IFERROR($E455*SUMIF('Daily Log'!$AF$18:$AF$1017,$B455,'Daily Log'!$AG$18:$AG$1017),0)","v":0},{"$f":"IFERROR($E455*SUMIF('Daily Log'!$AI$18:$AI$1017,$B455,'Daily Log'!$AJ$18:$AJ$1017),0)","v":0},{"$f":"IFERROR($E455*SUMIF('Daily Log'!$AL$18:$AL$1017,$B455,'Daily Log'!$AM$18:$AM$1017),0)","v":0},{"$f":"IFERROR($E455*SUMIF('Daily Log'!$AO$18:$AO$1017,$B455,'Daily Log'!$AP$18:$AP$1017),0)","v":0},{"$f":"IFERROR($E455*SUMIF('Daily Log'!$AR$18:$AR$1017,$B455,'Daily Log'!$AS$18:$AS$1017),0)","v":0},{"$f":"IFERROR($E455*SUMIF('Daily Log'!$AU$18:$AU$1017,$B455,'Daily Log'!$AV$18:$AV$1017),0)","v":0},{"$f":"IFERROR($E455*SUMIF('Daily Log'!$AX$18:$AX$1017,$B455,'Daily Log'!$AY$18:$AY$1017),0)","v":0},{"$f":"IFERROR($E455*SUMIF('Daily Log'!$BA$18:$BA$1017,$B455,'Daily Log'!$BB$18:$BB$1017),0)","v":0},{"$f":"IFERROR($E455*SUMIF('Daily Log'!$BD$18:$BD$1017,$B455,'Daily Log'!$BE$18:$BE$1017),0)","v":0},{"$f":"IFERROR($E455*SUMIF('Daily Log'!$BG$18:$BG$1017,$B455,'Daily Log'!$BH$18:$BH$1017),0)","v":0},{"$f":"IFERROR($E455*SUMIF('Daily Log'!$BJ$18:$BJ$1017,$B455,'Daily Log'!$BK$18:$BK$1017),0)","v":0},{"$f":"IFERROR($E455*SUMIF('Daily Log'!$BM$18:$BM$1017,$B455,'Daily Log'!$BN$18:$BN$1017),0)","v":0},{"$f":"IFERROR($E455*SUMIF('Daily Log'!$BP$18:$BP$1017,$B455,'Daily Log'!$BQ$18:$BQ$1017),0)","v":0},{"$f":"IFERROR($E455*SUMIF('Daily Log'!$BS$18:$BS$1017,$B455,'Daily Log'!$BT$18:$BT$1017),0)","v":0},{"$f":"IFERROR($E455*SUMIF('Daily Log'!$BV$18:$BV$1017,$B455,'Daily Log'!$BW$18:$BW$1017),0)","v":0},{"$f":"IFERROR($E455*SUMIF('Daily Log'!$BY$18:$BY$1017,$B455,'Daily Log'!$BZ$18:$BZ$1017),0)","v":0},{"$f":"IFERROR($E455*SUMIF('Daily Log'!$CB$18:$CB$1017,$B455,'Daily Log'!$CC$18:$CC$1017),0)","v":0},{"$f":"IFERROR($E455*SUMIF('Daily Log'!$CE$18:$CE$1017,$B455,'Daily Log'!$CF$18:$CF$1017),0)","v":0},{"$f":"IFERROR($E455*SUMIF('Daily Log'!$CH$18:$CH$1017,$B455,'Daily Log'!$CI$18:$CI$1017),0)","v":0},{"$f":"IFERROR($E455*SUMIF('Daily Log'!$CK$18:$CK$1017,$B455,'Daily Log'!$CL$18:$CL$1017),0)","v":0},{"$f":"IFERROR($E455*SUMIF('Daily Log'!$CN$18:$CN$1017,$B455,'Daily Log'!$CO$18:$CO$1017),0)","v":0}]
[null,"ZAD04 LESS ICE",null,null,1,0,{"$f":"IFERROR($E456*SUMIF('Daily Log'!$B$18:$B$1017,$B456,'Daily Log'!$C$18:$C$1017),0)","v":0},{"$f":"IFERROR($E456*SUMIF('Daily Log'!$E$18:$E$1017,$B456,'Daily Log'!$F$18:$F$1017),0)","v":0},{"$f":"IFERROR($E456*SUMIF('Daily Log'!$H$18:$H$1017,$B456,'Daily Log'!$I$18:$I$1017),0)","v":0},{"$f":"IFERROR($E456*SUMIF('Daily Log'!$K$18:$K$1017,$B456,'Daily Log'!$L$18:$L$1017),0)","v":0},{"$f":"IFERROR($E456*SUMIF('Daily Log'!$N$18:$N$1017,$B456,'Daily Log'!$O$18:$O$1017),0)","v":0},{"$f":"IFERROR($E456*SUMIF('Daily Log'!$Q$18:$Q$1017,$B456,'Daily Log'!$R$18:$R$1017),0)","v":0},{"$f":"IFERROR($E456*SUMIF('Daily Log'!$T$18:$T$1017,$B456,'Daily Log'!$U$18:$U$1017),0)","v":0},{"$f":"IFERROR($E456*SUMIF('Daily Log'!$W$18:$W$1017,$B456,'Daily Log'!$X$18:$X$1017),0)","v":0},{"$f":"IFERROR($E456*SUMIF('Daily Log'!$Z$18:$Z$1017,$B456,'Daily Log'!$AA$18:$AA$1017),0)","v":0},{"$f":"IFERROR($E456*SUMIF('Daily Log'!$AC$18:$AC$1017,$B456,'Daily Log'!$AD$18:$AD$1017),0)","v":0},{"$f":"IFERROR($E456*SUMIF('Daily Log'!$AF$18:$AF$1017,$B456,'Daily Log'!$AG$18:$AG$1017),0)","v":0},{"$f":"IFERROR($E456*SUMIF('Daily Log'!$AI$18:$AI$1017,$B456,'Daily Log'!$AJ$18:$AJ$1017),0)","v":0},{"$f":"IFERROR($E456*SUMIF('Daily Log'!$AL$18:$AL$1017,$B456,'Daily Log'!$AM$18:$AM$1017),0)","v":0},{"$f":"IFERROR($E456*SUMIF('Daily Log'!$AO$18:$AO$1017,$B456,'Daily Log'!$AP$18:$AP$1017),0)","v":0},{"$f":"IFERROR($E456*SUMIF('Daily Log'!$AR$18:$AR$1017,$B456,'Daily Log'!$AS$18:$AS$1017),0)","v":0},{"$f":"IFERROR($E456*SUMIF('Daily Log'!$AU$18:$AU$1017,$B456,'Daily Log'!$AV$18:$AV$1017),0)","v":0},{"$f":"IFERROR($E456*SUMIF('Daily Log'!$AX$18:$AX$1017,$B456,'Daily Log'!$AY$18:$AY$1017),0)","v":0},{"$f":"IFERROR($E456*SUMIF('Daily Log'!$BA$18:$BA$1017,$B456,'Daily Log'!$BB$18:$BB$1017),0)","v":0},{"$f":"IFERROR($E456*SUMIF('Daily Log'!$BD$18:$BD$1017,$B456,'Daily Log'!$BE$18:$BE$1017),0)","v":0},{"$f":"IFERROR($E456*SUMIF('Daily Log'!$BG$18:$BG$1017,$B456,'Daily Log'!$BH$18:$BH$1017),0)","v":0},{"$f":"IFERROR($E456*SUMIF('Daily Log'!$BJ$18:$BJ$1017,$B456,'Daily Log'!$BK$18:$BK$1017),0)","v":0},{"$f":"IFERROR($E456*SUMIF('Daily Log'!$BM$18:$BM$1017,$B456,'Daily Log'!$BN$18:$BN$1017),0)","v":0},{"$f":"IFERROR($E456*SUMIF('Daily Log'!$BP$18:$BP$1017,$B456,'Daily Log'!$BQ$18:$BQ$1017),0)","v":0},{"$f":"IFERROR($E456*SUMIF('Daily Log'!$BS$18:$BS$1017,$B456,'Daily Log'!$BT$18:$BT$1017),0)","v":0},{"$f":"IFERROR($E456*SUMIF('Daily Log'!$BV$18:$BV$1017,$B456,'Daily Log'!$BW$18:$BW$1017),0)","v":0},{"$f":"IFERROR($E456*SUMIF('Daily Log'!$BY$18:$BY$1017,$B456,'Daily Log'!$BZ$18:$BZ$1017),0)","v":0},{"$f":"IFERROR($E456*SUMIF('Daily Log'!$CB$18:$CB$1017,$B456,'Daily Log'!$CC$18:$CC$1017),0)","v":0},{"$f":"IFERROR($E456*SUMIF('Daily Log'!$CE$18:$CE$1017,$B456,'Daily Log'!$CF$18:$CF$1017),0)","v":0},{"$f":"IFERROR($E456*SUMIF('Daily Log'!$CH$18:$CH$1017,$B456,'Daily Log'!$CI$18:$CI$1017),0)","v":0},{"$f":"IFERROR($E456*SUMIF('Daily Log'!$CK$18:$CK$1017,$B456,'Daily Log'!$CL$18:$CL$1017),0)","v":0},{"$f":"IFERROR($E456*SUMIF('Daily Log'!$CN$18:$CN$1017,$B456,'Daily Log'!$CO$18:$CO$1017),0)","v":0}]
[null,"ZAD05 MORE ICE",null,null,1,0,{"$f":"IFERROR($E457*SUMIF('Daily Log'!$B$18:$B$1017,$B457,'Daily Log'!$C$18:$C$1017),0)","v":0},{"$f":"IFERROR($E457*SUMIF('Daily Log'!$E$18:$E$1017,$B457,'Daily Log'!$F$18:$F$1017),0)","v":0},{"$f":"IFERROR($E457*SUMIF('Daily Log'!$H$18:$H$1017,$B457,'Daily Log'!$I$18:$I$1017),0)","v":0},{"$f":"IFERROR($E457*SUMIF('Daily Log'!$K$18:$K$1017,$B457,'Daily Log'!$L$18:$L$1017),0)","v":0},{"$f":"IFERROR($E457*SUMIF('Daily Log'!$N$18:$N$1017,$B457,'Daily Log'!$O$18:$O$1017),0)","v":0},{"$f":"IFERROR($E457*SUMIF('Daily Log'!$Q$18:$Q$1017,$B457,'Daily Log'!$R$18:$R$1017),0)","v":0},{"$f":"IFERROR($E457*SUMIF('Daily Log'!$T$18:$T$1017,$B457,'Daily Log'!$U$18:$U$1017),0)","v":0},{"$f":"IFERROR($E457*SUMIF('Daily Log'!$W$18:$W$1017,$B457,'Daily Log'!$X$18:$X$1017),0)","v":0},{"$f":"IFERROR($E457*SUMIF('Daily Log'!$Z$18:$Z$1017,$B457,'Daily Log'!$AA$18:$AA$1017),0)","v":0},{"$f":"IFERROR($E457*SUMIF('Daily Log'!$AC$18:$AC$1017,$B457,'Daily Log'!$AD$18:$AD$1017),0)","v":0},{"$f":"IFERROR($E457*SUMIF('Daily Log'!$AF$18:$AF$1017,$B457,'Daily Log'!$AG$18:$AG$1017),0)","v":0},{"$f":"IFERROR($E457*SUMIF('Daily Log'!$AI$18:$AI$1017,$B457,'Daily Log'!$AJ$18:$AJ$1017),0)","v":0},{"$f":"IFERROR($E457*SUMIF('Daily Log'!$AL$18:$AL$1017,$B457,'Daily Log'!$AM$18:$AM$1017),0)","v":0},{"$f":"IFERROR($E457*SUMIF('Daily Log'!$AO$18:$AO$1017,$B457,'Daily Log'!$AP$18:$AP$1017),0)","v":0},{"$f":"IFERROR($E457*SUMIF('Daily Log'!$AR$18:$AR$1017,$B457,'Daily Log'!$AS$18:$AS$1017),0)","v":0},{"$f":"IFERROR($E457*SUMIF('Daily Log'!$AU$18:$AU$1017,$B457,'Daily Log'!$AV$18:$AV$1017),0)","v":0},{"$f":"IFERROR($E457*SUMIF('Daily Log'!$AX$18:$AX$1017,$B457,'Daily Log'!$AY$18:$AY$1017),0)","v":0},{"$f":"IFERROR($E457*SUMIF('Daily Log'!$BA$18:$BA$1017,$B457,'Daily Log'!$BB$18:$BB$1017),0)","v":0},{"$f":"IFERROR($E457*SUMIF('Daily Log'!$BD$18:$BD$1017,$B457,'Daily Log'!$BE$18:$BE$1017),0)","v":0},{"$f":"IFERROR($E457*SUMIF('Daily Log'!$BG$18:$BG$1017,$B457,'Daily Log'!$BH$18:$BH$1017),0)","v":0},{"$f":"IFERROR($E457*SUMIF('Daily Log'!$BJ$18:$BJ$1017,$B457,'Daily Log'!$BK$18:$BK$1017),0)","v":0},{"$f":"IFERROR($E457*SUMIF('Daily Log'!$BM$18:$BM$1017,$B457,'Daily Log'!$BN$18:$BN$1017),0)","v":0},{"$f":"IFERROR($E457*SUMIF('Daily Log'!$BP$18:$BP$1017,$B457,'Daily Log'!$BQ$18:$BQ$1017),0)","v":0},{"$f":"IFERROR($E457*SUMIF('Daily Log'!$BS$18:$BS$1017,$B457,'Daily Log'!$BT$18:$BT$1017),0)","v":0},{"$f":"IFERROR($E457*SUMIF('Daily Log'!$BV$18:$BV$1017,$B457,'Daily Log'!$BW$18:$BW$1017),0)","v":0},{"$f":"IFERROR($E457*SUMIF('Daily Log'!$BY$18:$BY$1017,$B457,'Daily Log'!$BZ$18:$BZ$1017),0)","v":0},{"$f":"IFERROR($E457*SUMIF('Daily Log'!$CB$18:$CB$1017,$B457,'Daily Log'!$CC$18:$CC$1017),0)","v":0},{"$f":"IFERROR($E457*SUMIF('Daily Log'!$CE$18:$CE$1017,$B457,'Daily Log'!$CF$18:$CF$1017),0)","v":0},{"$f":"IFERROR($E457*SUMIF('Daily Log'!$CH$18:$CH$1017,$B457,'Daily Log'!$CI$18:$CI$1017),0)","v":0},{"$f":"IFERROR($E457*SUMIF('Daily Log'!$CK$18:$CK$1017,$B457,'Daily Log'!$CL$18:$CL$1017),0)","v":0},{"$f":"IFERROR($E457*SUMIF('Daily Log'!$CN$18:$CN$1017,$B457,'Daily Log'!$CO$18:$CO$1017),0)","v":0}]
[null,"ZAD06 NO ICE",null,null,1,0,{"$f":"IFERROR($E458*SUMIF('Daily Log'!$B$18:$B$1017,$B458,'Daily Log'!$C$18:$C$1017),0)","v":0},{"$f":"IFERROR($E458*SUMIF('Daily Log'!$E$18:$E$1017,$B458,'Daily Log'!$F$18:$F$1017),0)","v":0},{"$f":"IFERROR($E458*SUMIF('Daily Log'!$H$18:$H$1017,$B458,'Daily Log'!$I$18:$I$1017),0)","v":0},{"$f":"IFERROR($E458*SUMIF('Daily Log'!$K$18:$K$1017,$B458,'Daily Log'!$L$18:$L$1017),0)","v":0},{"$f":"IFERROR($E458*SUMIF('Daily Log'!$N$18:$N$1017,$B458,'Daily Log'!$O$18:$O$1017),0)","v":0},{"$f":"IFERROR($E458*SUMIF('Daily Log'!$Q$18:$Q$1017,$B458,'Daily Log'!$R$18:$R$1017),0)","v":0},{"$f":"IFERROR($E458*SUMIF('Daily Log'!$T$18:$T$1017,$B458,'Daily Log'!$U$18:$U$1017),0)","v":0},{"$f":"IFERROR($E458*SUMIF('Daily Log'!$W$18:$W$1017,$B458,'Daily Log'!$X$18:$X$1017),0)","v":0},{"$f":"IFERROR($E458*SUMIF('Daily Log'!$Z$18:$Z$1017,$B458,'Daily Log'!$AA$18:$AA$1017),0)","v":0},{"$f":"IFERROR($E458*SUMIF('Daily Log'!$AC$18:$AC$1017,$B458,'Daily Log'!$AD$18:$AD$1017),0)","v":0},{"$f":"IFERROR($E458*SUMIF('Daily Log'!$AF$18:$AF$1017,$B458,'Daily Log'!$AG$18:$AG$1017),0)","v":0},{"$f":"IFERROR($E458*SUMIF('Daily Log'!$AI$18:$AI$1017,$B458,'Daily Log'!$AJ$18:$AJ$1017),0)","v":0},{"$f":"IFERROR($E458*SUMIF('Daily Log'!$AL$18:$AL$1017,$B458,'Daily Log'!$AM$18:$AM$1017),0)","v":0},{"$f":"IFERROR($E458*SUMIF('Daily Log'!$AO$18:$AO$1017,$B458,'Daily Log'!$AP$18:$AP$1017),0)","v":0},{"$f":"IFERROR($E458*SUMIF('Daily Log'!$AR$18:$AR$1017,$B458,'Daily Log'!$AS$18:$AS$1017),0)","v":0},{"$f":"IFERROR($E458*SUMIF('Daily Log'!$AU$18:$AU$1017,$B458,'Daily Log'!$AV$18:$AV$1017),0)","v":0},{"$f":"IFERROR($E458*SUMIF('Daily Log'!$AX$18:$AX$1017,$B458,'Daily Log'!$AY$18:$AY$1017),0)","v":0},{"$f":"IFERROR($E458*SUMIF('Daily Log'!$BA$18:$BA$1017,$B458,'Daily Log'!$BB$18:$BB$1017),0)","v":0},{"$f":"IFERROR($E458*SUMIF('Daily Log'!$BD$18:$BD$1017,$B458,'Daily Log'!$BE$18:$BE$1017),0)","v":0},{"$f":"IFERROR($E458*SUMIF('Daily Log'!$BG$18:$BG$1017,$B458,'Daily Log'!$BH$18:$BH$1017),0)","v":0},{"$f":"IFERROR($E458*SUMIF('Daily Log'!$BJ$18:$BJ$1017,$B458,'Daily Log'!$BK$18:$BK$1017),0)","v":0},{"$f":"IFERROR($E458*SUMIF('Daily Log'!$BM$18:$BM$1017,$B458,'Daily Log'!$BN$18:$BN$1017),0)","v":0},{"$f":"IFERROR($E458*SUMIF('Daily Log'!$BP$18:$BP$1017,$B458,'Daily Log'!$BQ$18:$BQ$1017),0)","v":0},{"$f":"IFERROR($E458*SUMIF('Daily Log'!$BS$18:$BS$1017,$B458,'Daily Log'!$BT$18:$BT$1017),0)","v":0},{"$f":"IFERROR($E458*SUMIF('Daily Log'!$BV$18:$BV$1017,$B458,'Daily Log'!$BW$18:$BW$1017),0)","v":0},{"$f":"IFERROR($E458*SUMIF('Daily Log'!$BY$18:$BY$1017,$B458,'Daily Log'!$BZ$18:$BZ$1017),0)","v":0},{"$f":"IFERROR($E458*SUMIF('Daily Log'!$CB$18:$CB$1017,$B458,'Daily Log'!$CC$18:$CC$1017),0)","v":0},{"$f":"IFERROR($E458*SUMIF('Daily Log'!$CE$18:$CE$1017,$B458,'Daily Log'!$CF$18:$CF$1017),0)","v":0},{"$f":"IFERROR($E458*SUMIF('Daily Log'!$CH$18:$CH$1017,$B458,'Daily Log'!$CI$18:$CI$1017),0)","v":0},{"$f":"IFERROR($E458*SUMIF('Daily Log'!$CK$18:$CK$1017,$B458,'Daily Log'!$CL$18:$CL$1017),0)","v":0},{"$f":"IFERROR($E458*SUMIF('Daily Log'!$CN$18:$CN$1017,$B458,'Daily Log'!$CO$18:$CO$1017),0)","v":0}]
[null,"ZAD07 LESS SWEET",null,null,1,0,{"$f":"IFERROR($E459*SUMIF('Daily Log'!$B$18:$B$1017,$B459,'Daily Log'!$C$18:$C$1017),0)","v":0},{"$f":"IFERROR($E459*SUMIF('Daily Log'!$E$18:$E$1017,$B459,'Daily Log'!$F$18:$F$1017),0)","v":0},{"$f":"IFERROR($E459*SUMIF('Daily Log'!$H$18:$H$1017,$B459,'Daily Log'!$I$18:$I$1017),0)","v":0},{"$f":"IFERROR($E459*SUMIF('Daily Log'!$K$18:$K$1017,$B459,'Daily Log'!$L$18:$L$1017),0)","v":0},{"$f":"IFERROR($E459*SUMIF('Daily Log'!$N$18:$N$1017,$B459,'Daily Log'!$O$18:$O$1017),0)","v":0},{"$f":"IFERROR($E459*SUMIF('Daily Log'!$Q$18:$Q$1017,$B459,'Daily Log'!$R$18:$R$1017),0)","v":0},{"$f":"IFERROR($E459*SUMIF('Daily Log'!$T$18:$T$1017,$B459,'Daily Log'!$U$18:$U$1017),0)","v":0},{"$f":"IFERROR($E459*SUMIF('Daily Log'!$W$18:$W$1017,$B459,'Daily Log'!$X$18:$X$1017),0)","v":0},{"$f":"IFERROR($E459*SUMIF('Daily Log'!$Z$18:$Z$1017,$B459,'Daily Log'!$AA$18:$AA$1017),0)","v":0},{"$f":"IFERROR($E459*SUMIF('Daily Log'!$AC$18:$AC$1017,$B459,'Daily Log'!$AD$18:$AD$1017),0)","v":0},{"$f":"IFERROR($E459*SUMIF('Daily Log'!$AF$18:$AF$1017,$B459,'Daily Log'!$AG$18:$AG$1017),0)","v":0},{"$f":"IFERROR($E459*SUMIF('Daily Log'!$AI$18:$AI$1017,$B459,'Daily Log'!$AJ$18:$AJ$1017),0)","v":0},{"$f":"IFERROR($E459*SUMIF('Daily Log'!$AL$18:$AL$1017,$B459,'Daily Log'!$AM$18:$AM$1017),0)","v":0},{"$f":"IFERROR($E459*SUMIF('Daily Log'!$AO$18:$AO$1017,$B459,'Daily Log'!$AP$18:$AP$1017),0)","v":0},{"$f":"IFERROR($E459*SUMIF('Daily Log'!$AR$18:$AR$1017,$B459,'Daily Log'!$AS$18:$AS$1017),0)","v":0},{"$f":"IFERROR($E459*SUMIF('Daily Log'!$AU$18:$AU$1017,$B459,'Daily Log'!$AV$18:$AV$1017),0)","v":0},{"$f":"IFERROR($E459*SUMIF('Daily Log'!$AX$18:$AX$1017,$B459,'Daily Log'!$AY$18:$AY$1017),0)","v":0},{"$f":"IFERROR($E459*SUMIF('Daily Log'!$BA$18:$BA$1017,$B459,'Daily Log'!$BB$18:$BB$1017),0)","v":0},{"$f":"IFERROR($E459*SUMIF('Daily Log'!$BD$18:$BD$1017,$B459,'Daily Log'!$BE$18:$BE$1017),0)","v":0},{"$f":"IFERROR($E459*SUMIF('Daily Log'!$BG$18:$BG$1017,$B459,'Daily Log'!$BH$18:$BH$1017),0)","v":0},{"$f":"IFERROR($E459*SUMIF('Daily Log'!$BJ$18:$BJ$1017,$B459,'Daily Log'!$BK$18:$BK$1017),0)","v":0},{"$f":"IFERROR($E459*SUMIF('Daily Log'!$BM$18:$BM$1017,$B459,'Daily Log'!$BN$18:$BN$1017),0)","v":0},{"$f":"IFERROR($E459*SUMIF('Daily Log'!$BP$18:$BP$1017,$B459,'Daily Log'!$BQ$18:$BQ$1017),0)","v":0},{"$f":"IFERROR($E459*SUMIF('Daily Log'!$BS$18:$BS$1017,$B459,'Daily Log'!$BT$18:$BT$1017),0)","v":0},{"$f":"IFERROR($E459*SUMIF('Daily Log'!$BV$18:$BV$1017,$B459,'Daily Log'!$BW$18:$BW$1017),0)","v":0},{"$f":"IFERROR($E459*SUMIF('Daily Log'!$BY$18:$BY$1017,$B459,'Daily Log'!$BZ$18:$BZ$1017),0)","v":0},{"$f":"IFERROR($E459*SUMIF('Daily Log'!$CB$18:$CB$1017,$B459,'Daily Log'!$CC$18:$CC$1017),0)","v":0},{"$f":"IFERROR($E459*SUMIF('Daily Log'!$CE$18:$CE$1017,$B459,'Daily Log'!$CF$18:$CF$1017),0)","v":0},{"$f":"IFERROR($E459*SUMIF('Daily Log'!$CH$18:$CH$1017,$B459,'Daily Log'!$CI$18:$CI$1017),0)","v":0},{"$f":"IFERROR($E459*SUMIF('Daily Log'!$CK$18:$CK$1017,$B459,'Daily Log'!$CL$18:$CL$1017),0)","v":0},{"$f":"IFERROR($E459*SUMIF('Daily Log'!$CN$18:$CN$1017,$B459,'Daily Log'!$CO$18:$CO$1017),0)","v":0}]
[null,"ZAD10 LESS SPICY",null,null,1,0,{"$f":"IFERROR($E460*SUMIF('Daily Log'!$B$18:$B$1017,$B460,'Daily Log'!$C$18:$C$1017),0)","v":0},{"$f":"IFERROR($E460*SUMIF('Daily Log'!$E$18:$E$1017,$B460,'Daily Log'!$F$18:$F$1017),0)","v":0},{"$f":"IFERROR($E460*SUMIF('Daily Log'!$H$18:$H$1017,$B460,'Daily Log'!$I$18:$I$1017),0)","v":0},{"$f":"IFERROR($E460*SUMIF('Daily Log'!$K$18:$K$1017,$B460,'Daily Log'!$L$18:$L$1017),0)","v":0},{"$f":"IFERROR($E460*SUMIF('Daily Log'!$N$18:$N$1017,$B460,'Daily Log'!$O$18:$O$1017),0)","v":0},{"$f":"IFERROR($E460*SUMIF('Daily Log'!$Q$18:$Q$1017,$B460,'Daily Log'!$R$18:$R$1017),0)","v":0},{"$f":"IFERROR($E460*SUMIF('Daily Log'!$T$18:$T$1017,$B460,'Daily Log'!$U$18:$U$1017),0)","v":0},{"$f":"IFERROR($E460*SUMIF('Daily Log'!$W$18:$W$1017,$B460,'Daily Log'!$X$18:$X$1017),0)","v":0},{"$f":"IFERROR($E460*SUMIF('Daily Log'!$Z$18:$Z$1017,$B460,'Daily Log'!$AA$18:$AA$1017),0)","v":0},{"$f":"IFERROR($E460*SUMIF('Daily Log'!$AC$18:$AC$1017,$B460,'Daily Log'!$AD$18:$AD$1017),0)","v":0},{"$f":"IFERROR($E460*SUMIF('Daily Log'!$AF$18:$AF$1017,$B460,'Daily Log'!$AG$18:$AG$1017),0)","v":0},{"$f":"IFERROR($E460*SUMIF('Daily Log'!$AI$18:$AI$1017,$B460,'Daily Log'!$AJ$18:$AJ$1017),0)","v":0},{"$f":"IFERROR($E460*SUMIF('Daily Log'!$AL$18:$AL$1017,$B460,'Daily Log'!$AM$18:$AM$1017),0)","v":0},{"$f":"IFERROR($E460*SUMIF('Daily Log'!$AO$18:$AO$1017,$B460,'Daily Log'!$AP$18:$AP$1017),0)","v":0},{"$f":"IFERROR($E460*SUMIF('Daily Log'!$AR$18:$AR$1017,$B460,'Daily Log'!$AS$18:$AS$1017),0)","v":0},{"$f":"IFERROR($E460*SUMIF('Daily Log'!$AU$18:$AU$1017,$B460,'Daily Log'!$AV$18:$AV$1017),0)","v":0},{"$f":"IFERROR($E460*SUMIF('Daily Log'!$AX$18:$AX$1017,$B460,'Daily Log'!$AY$18:$AY$1017),0)","v":0},{"$f":"IFERROR($E460*SUMIF('Daily Log'!$BA$18:$BA$1017,$B460,'Daily Log'!$BB$18:$BB$1017),0)","v":0},{"$f":"IFERROR($E460*SUMIF('Daily Log'!$BD$18:$BD$1017,$B460,'Daily Log'!$BE$18:$BE$1017),0)","v":0},{"$f":"IFERROR($E460*SUMIF('Daily Log'!$BG$18:$BG$1017,$B460,'Daily Log'!$BH$18:$BH$1017),0)","v":0},{"$f":"IFERROR($E460*SUMIF('Daily Log'!$BJ$18:$BJ$1017,$B460,'Daily Log'!$BK$18:$BK$1017),0)","v":0},{"$f":"IFERROR($E460*SUMIF('Daily Log'!$BM$18:$BM$1017,$B460,'Daily Log'!$BN$18:$BN$1017),0)","v":0},{"$f":"IFERROR($E460*SUMIF('Daily Log'!$BP$18:$BP$1017,$B460,'Daily Log'!$BQ$18:$BQ$1017),0)","v":0},{"$f":"IFERROR($E460*SUMIF('Daily Log'!$BS$18:$BS$1017,$B460,'Daily Log'!$BT$18:$BT$1017),0)","v":0},{"$f":"IFERROR($E460*SUMIF('Daily Log'!$BV$18:$BV$1017,$B460,'Daily Log'!$BW$18:$BW$1017),0)","v":0},{"$f":"IFERROR($E460*SUMIF('Daily Log'!$BY$18:$BY$1017,$B460,'Daily Log'!$BZ$18:$BZ$1017),0)","v":0},{"$f":"IFERROR($E460*SUMIF('Daily Log'!$CB$18:$CB$1017,$B460,'Daily Log'!$CC$18:$CC$1017),0)","v":0},{"$f":"IFERROR($E460*SUMIF('Daily Log'!$CE$18:$CE$1017,$B460,'Daily Log'!$CF$18:$CF$1017),0)","v":0},{"$f":"IFERROR($E460*SUMIF('Daily Log'!$CH$18:$CH$1017,$B460,'Daily Log'!$CI$18:$CI$1017),0)","v":0},{"$f":"IFERROR($E460*SUMIF('Daily Log'!$CK$18:$CK$1017,$B460,'Daily Log'!$CL$18:$CL$1017),0)","v":0},{"$f":"IFERROR($E460*SUMIF('Daily Log'!$CN$18:$CN$1017,$B460,'Daily Log'!$CO$18:$CO$1017),0)","v":0}]
[null,"ZAD11 MORE SPICY",null,null,1,0,{"$f":"IFERROR($E461*SUMIF('Daily Log'!$B$18:$B$1017,$B461,'Daily Log'!$C$18:$C$1017),0)","v":0},{"$f":"IFERROR($E461*SUMIF('Daily Log'!$E$18:$E$1017,$B461,'Daily Log'!$F$18:$F$1017),0)","v":0},{"$f":"IFERROR($E461*SUMIF('Daily Log'!$H$18:$H$1017,$B461,'Daily Log'!$I$18:$I$1017),0)","v":0},{"$f":"IFERROR($E461*SUMIF('Daily Log'!$K$18:$K$1017,$B461,'Daily Log'!$L$18:$L$1017),0)","v":0},{"$f":"IFERROR($E461*SUMIF('Daily Log'!$N$18:$N$1017,$B461,'Daily Log'!$O$18:$O$1017),0)","v":0},{"$f":"IFERROR($E461*SUMIF('Daily Log'!$Q$18:$Q$1017,$B461,'Daily Log'!$R$18:$R$1017),0)","v":0},{"$f":"IFERROR($E461*SUMIF('Daily Log'!$T$18:$T$1017,$B461,'Daily Log'!$U$18:$U$1017),0)","v":0},{"$f":"IFERROR($E461*SUMIF('Daily Log'!$W$18:$W$1017,$B461,'Daily Log'!$X$18:$X$1017),0)","v":0},{"$f":"IFERROR($E461*SUMIF('Daily Log'!$Z$18:$Z$1017,$B461,'Daily Log'!$AA$18:$AA$1017),0)","v":0},{"$f":"IFERROR($E461*SUMIF('Daily Log'!$AC$18:$AC$1017,$B461,'Daily Log'!$AD$18:$AD$1017),0)","v":0},{"$f":"IFERROR($E461*SUMIF('Daily Log'!$AF$18:$AF$1017,$B461,'Daily Log'!$AG$18:$AG$1017),0)","v":0},{"$f":"IFERROR($E461*SUMIF('Daily Log'!$AI$18:$AI$1017,$B461,'Daily Log'!$AJ$18:$AJ$1017),0)","v":0},{"$f":"IFERROR($E461*SUMIF('Daily Log'!$AL$18:$AL$1017,$B461,'Daily Log'!$AM$18:$AM$1017),0)","v":0},{"$f":"IFERROR($E461*SUMIF('Daily Log'!$AO$18:$AO$1017,$B461,'Daily Log'!$AP$18:$AP$1017),0)","v":0},{"$f":"IFERROR($E461*SUMIF('Daily Log'!$AR$18:$AR$1017,$B461,'Daily Log'!$AS$18:$AS$1017),0)","v":0},{"$f":"IFERROR($E461*SUMIF('Daily Log'!$AU$18:$AU$1017,$B461,'Daily Log'!$AV$18:$AV$1017),0)","v":0},{"$f":"IFERROR($E461*SUMIF('Daily Log'!$AX$18:$AX$1017,$B461,'Daily Log'!$AY$18:$AY$1017),0)","v":0},{"$f":"IFERROR($E461*SUMIF('Daily Log'!$BA$18:$BA$1017,$B461,'Daily Log'!$BB$18:$BB$1017),0)","v":0},{"$f":"IFERROR($E461*SUMIF('Daily Log'!$BD$18:$BD$1017,$B461,'Daily Log'!$BE$18:$BE$1017),0)","v":0},{"$f":"IFERROR($E461*SUMIF('Daily Log'!$BG$18:$BG$1017,$B461,'Daily Log'!$BH$18:$BH$1017),0)","v":0},{"$f":"IFERROR($E461*SUMIF('Daily Log'!$BJ$18:$BJ$1017,$B461,'Daily Log'!$BK$18:$BK$1017),0)","v":0},{"$f":"IFERROR($E461*SUMIF('Daily Log'!$BM$18:$BM$1017,$B461,'Daily Log'!$BN$18:$BN$1017),0)","v":0},{"$f":"IFERROR($E461*SUMIF('Daily Log'!$BP$18:$BP$1017,$B461,'Daily Log'!$BQ$18:$BQ$1017),0)","v":0},{"$f":"IFERROR($E461*SUMIF('Daily Log'!$BS$18:$BS$1017,$B461,'Daily Log'!$BT$18:$BT$1017),0)","v":0},{"$f":"IFERROR($E461*SUMIF('Daily Log'!$BV$18:$BV$1017,$B461,'Daily Log'!$BW$18:$BW$1017),0)","v":0},{"$f":"IFERROR($E461*SUMIF('Daily Log'!$BY$18:$BY$1017,$B461,'Daily Log'!$BZ$18:$BZ$1017),0)","v":0},{"$f":"IFERROR($E461*SUMIF('Daily Log'!$CB$18:$CB$1017,$B461,'Daily Log'!$CC$18:$CC$1017),0)","v":0},{"$f":"IFERROR($E461*SUMIF('Daily Log'!$CE$18:$CE$1017,$B461,'Daily Log'!$CF$18:$CF$1017),0)","v":0},{"$f":"IFERROR($E461*SUMIF('Daily Log'!$CH$18:$CH$1017,$B461,'Daily Log'!$CI$18:$CI$1017),0)","v":0},{"$f":"IFERROR($E461*SUMIF('Daily Log'!$CK$18:$CK$1017,$B461,'Daily Log'!$CL$18:$CL$1017),0)","v":0},{"$f":"IFERROR($E461*SUMIF('Daily Log'!$CN$18:$CN$1017,$B461,'Daily Log'!$CO$18:$CO$1017),0)","v":0}]
[null,"ZAD12 NO VEGGIE",null,null,1,0,{"$f":"IFERROR($E462*SUMIF('Daily Log'!$B$18:$B$1017,$B462,'Daily Log'!$C$18:$C$1017),0)","v":0},{"$f":"IFERROR($E462*SUMIF('Daily Log'!$E$18:$E$1017,$B462,'Daily Log'!$F$18:$F$1017),0)","v":0},{"$f":"IFERROR($E462*SUMIF('Daily Log'!$H$18:$H$1017,$B462,'Daily Log'!$I$18:$I$1017),0)","v":0},{"$f":"IFERROR($E462*SUMIF('Daily Log'!$K$18:$K$1017,$B462,'Daily Log'!$L$18:$L$1017),0)","v":0},{"$f":"IFERROR($E462*SUMIF('Daily Log'!$N$18:$N$1017,$B462,'Daily Log'!$O$18:$O$1017),0)","v":0},{"$f":"IFERROR($E462*SUMIF('Daily Log'!$Q$18:$Q$1017,$B462,'Daily Log'!$R$18:$R$1017),0)","v":0},{"$f":"IFERROR($E462*SUMIF('Daily Log'!$T$18:$T$1017,$B462,'Daily Log'!$U$18:$U$1017),0)","v":0},{"$f":"IFERROR($E462*SUMIF('Daily Log'!$W$18:$W$1017,$B462,'Daily Log'!$X$18:$X$1017),0)","v":0},{"$f":"IFERROR($E462*SUMIF('Daily Log'!$Z$18:$Z$1017,$B462,'Daily Log'!$AA$18:$AA$1017),0)","v":0},{"$f":"IFERROR($E462*SUMIF('Daily Log'!$AC$18:$AC$1017,$B462,'Daily Log'!$AD$18:$AD$1017),0)","v":0},{"$f":"IFERROR($E462*SUMIF('Daily Log'!$AF$18:$AF$1017,$B462,'Daily Log'!$AG$18:$AG$1017),0)","v":0},{"$f":"IFERROR($E462*SUMIF('Daily Log'!$AI$18:$AI$1017,$B462,'Daily Log'!$AJ$18:$AJ$1017),0)","v":0},{"$f":"IFERROR($E462*SUMIF('Daily Log'!$AL$18:$AL$1017,$B462,'Daily Log'!$AM$18:$AM$1017),0)","v":0},{"$f":"IFERROR($E462*SUMIF('Daily Log'!$AO$18:$AO$1017,$B462,'Daily Log'!$AP$18:$AP$1017),0)","v":0},{"$f":"IFERROR($E462*SUMIF('Daily Log'!$AR$18:$AR$1017,$B462,'Daily Log'!$AS$18:$AS$1017),0)","v":0},{"$f":"IFERROR($E462*SUMIF('Daily Log'!$AU$18:$AU$1017,$B462,'Daily Log'!$AV$18:$AV$1017),0)","v":0},{"$f":"IFERROR($E462*SUMIF('Daily Log'!$AX$18:$AX$1017,$B462,'Daily Log'!$AY$18:$AY$1017),0)","v":0},{"$f":"IFERROR($E462*SUMIF('Daily Log'!$BA$18:$BA$1017,$B462,'Daily Log'!$BB$18:$BB$1017),0)","v":0},{"$f":"IFERROR($E462*SUMIF('Daily Log'!$BD$18:$BD$1017,$B462,'Daily Log'!$BE$18:$BE$1017),0)","v":0},{"$f":"IFERROR($E462*SUMIF('Daily Log'!$BG$18:$BG$1017,$B462,'Daily Log'!$BH$18:$BH$1017),0)","v":0},{"$f":"IFERROR($E462*SUMIF('Daily Log'!$BJ$18:$BJ$1017,$B462,'Daily Log'!$BK$18:$BK$1017),0)","v":0},{"$f":"IFERROR($E462*SUMIF('Daily Log'!$BM$18:$BM$1017,$B462,'Daily Log'!$BN$18:$BN$1017),0)","v":0},{"$f":"IFERROR($E462*SUMIF('Daily Log'!$BP$18:$BP$1017,$B462,'Daily Log'!$BQ$18:$BQ$1017),0)","v":0},{"$f":"IFERROR($E462*SUMIF('Daily Log'!$BS$18:$BS$1017,$B462,'Daily Log'!$BT$18:$BT$1017),0)","v":0},{"$f":"IFERROR($E462*SUMIF('Daily Log'!$BV$18:$BV$1017,$B462,'Daily Log'!$BW$18:$BW$1017),0)","v":0},{"$f":"IFERROR($E462*SUMIF('Daily Log'!$BY$18:$BY$1017,$B462,'Daily Log'!$BZ$18:$BZ$1017),0)","v":0},{"$f":"IFERROR($E462*SUMIF('Daily Log'!$CB$18:$CB$1017,$B462,'Daily Log'!$CC$18:$CC$1017),0)","v":0},{"$f":"IFERROR($E462*SUMIF('Daily Log'!$CE$18:$CE$1017,$B462,'Daily Log'!$CF$18:$CF$1017),0)","v":0},{"$f":"IFERROR($E462*SUMIF('Daily Log'!$CH$18:$CH$1017,$B462,'Daily Log'!$CI$18:$CI$1017),0)","v":0},{"$f":"IFERROR($E462*SUMIF('Daily Log'!$CK$18:$CK$1017,$B462,'Daily Log'!$CL$18:$CL$1017),0)","v":0},{"$f":"IFERROR($E462*SUMIF('Daily Log'!$CN$18:$CN$1017,$B462,'Daily Log'!$CO$18:$CO$1017),0)","v":0}]
[null,"ZAD13 ADD LEMON",null,null,1,0,{"$f":"IFERROR($E463*SUMIF('Daily Log'!$B$18:$B$1017,$B463,'Daily Log'!$C$18:$C$1017),0)","v":0},{"$f":"IFERROR($E463*SUMIF('Daily Log'!$E$18:$E$1017,$B463,'Daily Log'!$F$18:$F$1017),0)","v":0},{"$f":"IFERROR($E463*SUMIF('Daily Log'!$H$18:$H$1017,$B463,'Daily Log'!$I$18:$I$1017),0)","v":0},{"$f":"IFERROR($E463*SUMIF('Daily Log'!$K$18:$K$1017,$B463,'Daily Log'!$L$18:$L$1017),0)","v":0},{"$f":"IFERROR($E463*SUMIF('Daily Log'!$N$18:$N$1017,$B463,'Daily Log'!$O$18:$O$1017),0)","v":0},{"$f":"IFERROR($E463*SUMIF('Daily Log'!$Q$18:$Q$1017,$B463,'Daily Log'!$R$18:$R$1017),0)","v":0},{"$f":"IFERROR($E463*SUMIF('Daily Log'!$T$18:$T$1017,$B463,'Daily Log'!$U$18:$U$1017),0)","v":0},{"$f":"IFERROR($E463*SUMIF('Daily Log'!$W$18:$W$1017,$B463,'Daily Log'!$X$18:$X$1017),0)","v":0},{"$f":"IFERROR($E463*SUMIF('Daily Log'!$Z$18:$Z$1017,$B463,'Daily Log'!$AA$18:$AA$1017),0)","v":0},{"$f":"IFERROR($E463*SUMIF('Daily Log'!$AC$18:$AC$1017,$B463,'Daily Log'!$AD$18:$AD$1017),0)","v":0},{"$f":"IFERROR($E463*SUMIF('Daily Log'!$AF$18:$AF$1017,$B463,'Daily Log'!$AG$18:$AG$1017),0)","v":0},{"$f":"IFERROR($E463*SUMIF('Daily Log'!$AI$18:$AI$1017,$B463,'Daily Log'!$AJ$18:$AJ$1017),0)","v":0},{"$f":"IFERROR($E463*SUMIF('Daily Log'!$AL$18:$AL$1017,$B463,'Daily Log'!$AM$18:$AM$1017),0)","v":0},{"$f":"IFERROR($E463*SUMIF('Daily Log'!$AO$18:$AO$1017,$B463,'Daily Log'!$AP$18:$AP$1017),0)","v":0},{"$f":"IFERROR($E463*SUMIF('Daily Log'!$AR$18:$AR$1017,$B463,'Daily Log'!$AS$18:$AS$1017),0)","v":0},{"$f":"IFERROR($E463*SUMIF('Daily Log'!$AU$18:$AU$1017,$B463,'Daily Log'!$AV$18:$AV$1017),0)","v":0},{"$f":"IFERROR($E463*SUMIF('Daily Log'!$AX$18:$AX$1017,$B463,'Daily Log'!$AY$18:$AY$1017),0)","v":0},{"$f":"IFERROR($E463*SUMIF('Daily Log'!$BA$18:$BA$1017,$B463,'Daily Log'!$BB$18:$BB$1017),0)","v":0},{"$f":"IFERROR($E463*SUMIF('Daily Log'!$BD$18:$BD$1017,$B463,'Daily Log'!$BE$18:$BE$1017),0)","v":0},{"$f":"IFERROR($E463*SUMIF('Daily Log'!$BG$18:$BG$1017,$B463,'Daily Log'!$BH$18:$BH$1017),0)","v":0},{"$f":"IFERROR($E463*SUMIF('Daily Log'!$BJ$18:$BJ$1017,$B463,'Daily Log'!$BK$18:$BK$1017),0)","v":0},{"$f":"IFERROR($E463*SUMIF('Daily Log'!$BM$18:$BM$1017,$B463,'Daily Log'!$BN$18:$BN$1017),0)","v":0},{"$f":"IFERROR($E463*SUMIF('Daily Log'!$BP$18:$BP$1017,$B463,'Daily Log'!$BQ$18:$BQ$1017),0)","v":0},{"$f":"IFERROR($E463*SUMIF('Daily Log'!$BS$18:$BS$1017,$B463,'Daily Log'!$BT$18:$BT$1017),0)","v":0},{"$f":"IFERROR($E463*SUMIF('Daily Log'!$BV$18:$BV$1017,$B463,'Daily Log'!$BW$18:$BW$1017),0)","v":0},{"$f":"IFERROR($E463*SUMIF('Daily Log'!$BY$18:$BY$1017,$B463,'Daily Log'!$BZ$18:$BZ$1017),0)","v":0},{"$f":"IFERROR($E463*SUMIF('Daily Log'!$CB$18:$CB$1017,$B463,'Daily Log'!$CC$18:$CC$1017),0)","v":0},{"$f":"IFERROR($E463*SUMIF('Daily Log'!$CE$18:$CE$1017,$B463,'Daily Log'!$CF$18:$CF$1017),0)","v":0},{"$f":"IFERROR($E463*SUMIF('Daily Log'!$CH$18:$CH$1017,$B463,'Daily Log'!$CI$18:$CI$1017),0)","v":0},{"$f":"IFERROR($E463*SUMIF('Daily Log'!$CK$18:$CK$1017,$B463,'Daily Log'!$CL$18:$CL$1017),0)","v":0},{"$f":"IFERROR($E463*SUMIF('Daily Log'!$CN$18:$CN$1017,$B463,'Daily Log'!$CO$18:$CO$1017),0)","v":0}]
[null,"ZAD14 MORE SWEET",null,null,1,0,{"$f":"IFERROR($E464*SUMIF('Daily Log'!$B$18:$B$1017,$B464,'Daily Log'!$C$18:$C$1017),0)","v":0},{"$f":"IFERROR($E464*SUMIF('Daily Log'!$E$18:$E$1017,$B464,'Daily Log'!$F$18:$F$1017),0)","v":0},{"$f":"IFERROR($E464*SUMIF('Daily Log'!$H$18:$H$1017,$B464,'Daily Log'!$I$18:$I$1017),0)","v":0},{"$f":"IFERROR($E464*SUMIF('Daily Log'!$K$18:$K$1017,$B464,'Daily Log'!$L$18:$L$1017),0)","v":0},{"$f":"IFERROR($E464*SUMIF('Daily Log'!$N$18:$N$1017,$B464,'Daily Log'!$O$18:$O$1017),0)","v":0},{"$f":"IFERROR($E464*SUMIF('Daily Log'!$Q$18:$Q$1017,$B464,'Daily Log'!$R$18:$R$1017),0)","v":0},{"$f":"IFERROR($E464*SUMIF('Daily Log'!$T$18:$T$1017,$B464,'Daily Log'!$U$18:$U$1017),0)","v":0},{"$f":"IFERROR($E464*SUMIF('Daily Log'!$W$18:$W$1017,$B464,'Daily Log'!$X$18:$X$1017),0)","v":0},{"$f":"IFERROR($E464*SUMIF('Daily Log'!$Z$18:$Z$1017,$B464,'Daily Log'!$AA$18:$AA$1017),0)","v":0},{"$f":"IFERROR($E464*SUMIF('Daily Log'!$AC$18:$AC$1017,$B464,'Daily Log'!$AD$18:$AD$1017),0)","v":0},{"$f":"IFERROR($E464*SUMIF('Daily Log'!$AF$18:$AF$1017,$B464,'Daily Log'!$AG$18:$AG$1017),0)","v":0},{"$f":"IFERROR($E464*SUMIF('Daily Log'!$AI$18:$AI$1017,$B464,'Daily Log'!$AJ$18:$AJ$1017),0)","v":0},{"$f":"IFERROR($E464*SUMIF('Daily Log'!$AL$18:$AL$1017,$B464,'Daily Log'!$AM$18:$AM$1017),0)","v":0},{"$f":"IFERROR($E464*SUMIF('Daily Log'!$AO$18:$AO$1017,$B464,'Daily Log'!$AP$18:$AP$1017),0)","v":0},{"$f":"IFERROR($E464*SUMIF('Daily Log'!$AR$18:$AR$1017,$B464,'Daily Log'!$AS$18:$AS$1017),0)","v":0},{"$f":"IFERROR($E464*SUMIF('Daily Log'!$AU$18:$AU$1017,$B464,'Daily Log'!$AV$18:$AV$1017),0)","v":0},{"$f":"IFERROR($E464*SUMIF('Daily Log'!$AX$18:$AX$1017,$B464,'Daily Log'!$AY$18:$AY$1017),0)","v":0},{"$f":"IFERROR($E464*SUMIF('Daily Log'!$BA$18:$BA$1017,$B464,'Daily Log'!$BB$18:$BB$1017),0)","v":0},{"$f":"IFERROR($E464*SUMIF('Daily Log'!$BD$18:$BD$1017,$B464,'Daily Log'!$BE$18:$BE$1017),0)","v":0},{"$f":"IFERROR($E464*SUMIF('Daily Log'!$BG$18:$BG$1017,$B464,'Daily Log'!$BH$18:$BH$1017),0)","v":0},{"$f":"IFERROR($E464*SUMIF('Daily Log'!$BJ$18:$BJ$1017,$B464,'Daily Log'!$BK$18:$BK$1017),0)","v":0},{"$f":"IFERROR($E464*SUMIF('Daily Log'!$BM$18:$BM$1017,$B464,'Daily Log'!$BN$18:$BN$1017),0)","v":0},{"$f":"IFERROR($E464*SUMIF('Daily Log'!$BP$18:$BP$1017,$B464,'Daily Log'!$BQ$18:$BQ$1017),0)","v":0},{"$f":"IFERROR($E464*SUMIF('Daily Log'!$BS$18:$BS$1017,$B464,'Daily Log'!$BT$18:$BT$1017),0)","v":0},{"$f":"IFERROR($E464*SUMIF('Daily Log'!$BV$18:$BV$1017,$B464,'Daily Log'!$BW$18:$BW$1017),0)","v":0},{"$f":"IFERROR($E464*SUMIF('Daily Log'!$BY$18:$BY$1017,$B464,'Daily Log'!$BZ$18:$BZ$1017),0)","v":0},{"$f":"IFERROR($E464*SUMIF('Daily Log'!$CB$18:$CB$1017,$B464,'Daily Log'!$CC$18:$CC$1017),0)","v":0},{"$f":"IFERROR($E464*SUMIF('Daily Log'!$CE$18:$CE$1017,$B464,'Daily Log'!$CF$18:$CF$1017),0)","v":0},{"$f":"IFERROR($E464*SUMIF('Daily Log'!$CH$18:$CH$1017,$B464,'Daily Log'!$CI$18:$CI$1017),0)","v":0},{"$f":"IFERROR($E464*SUMIF('Daily Log'!$CK$18:$CK$1017,$B464,'Daily Log'!$CL$18:$CL$1017),0)","v":0},{"$f":"IFERROR($E464*SUMIF('Daily Log'!$CN$18:$CN$1017,$B464,'Daily Log'!$CO$18:$CO$1017),0)","v":0}]
[null,"ZAD15 VEGGIE ONLY",null,null,1,0,{"$f":"IFERROR($E465*SUMIF('Daily Log'!$B$18:$B$1017,$B465,'Daily Log'!$C$18:$C$1017),0)","v":0},{"$f":"IFERROR($E465*SUMIF('Daily Log'!$E$18:$E$1017,$B465,'Daily Log'!$F$18:$F$1017),0)","v":0},{"$f":"IFERROR($E465*SUMIF('Daily Log'!$H$18:$H$1017,$B465,'Daily Log'!$I$18:$I$1017),0)","v":0},{"$f":"IFERROR($E465*SUMIF('Daily Log'!$K$18:$K$1017,$B465,'Daily Log'!$L$18:$L$1017),0)","v":0},{"$f":"IFERROR($E465*SUMIF('Daily Log'!$N$18:$N$1017,$B465,'Daily Log'!$O$18:$O$1017),0)","v":0},{"$f":"IFERROR($E465*SUMIF('Daily Log'!$Q$18:$Q$1017,$B465,'Daily Log'!$R$18:$R$1017),0)","v":0},{"$f":"IFERROR($E465*SUMIF('Daily Log'!$T$18:$T$1017,$B465,'Daily Log'!$U$18:$U$1017),0)","v":0},{"$f":"IFERROR($E465*SUMIF('Daily Log'!$W$18:$W$1017,$B465,'Daily Log'!$X$18:$X$1017),0)","v":0},{"$f":"IFERROR($E465*SUMIF('Daily Log'!$Z$18:$Z$1017,$B465,'Daily Log'!$AA$18:$AA$1017),0)","v":0},{"$f":"IFERROR($E465*SUMIF('Daily Log'!$AC$18:$AC$1017,$B465,'Daily Log'!$AD$18:$AD$1017),0)","v":0},{"$f":"IFERROR($E465*SUMIF('Daily Log'!$AF$18:$AF$1017,$B465,'Daily Log'!$AG$18:$AG$1017),0)","v":0},{"$f":"IFERROR($E465*SUMIF('Daily Log'!$AI$18:$AI$1017,$B465,'Daily Log'!$AJ$18:$AJ$1017),0)","v":0},{"$f":"IFERROR($E465*SUMIF('Daily Log'!$AL$18:$AL$1017,$B465,'Daily Log'!$AM$18:$AM$1017),0)","v":0},{"$f":"IFERROR($E465*SUMIF('Daily Log'!$AO$18:$AO$1017,$B465,'Daily Log'!$AP$18:$AP$1017),0)","v":0},{"$f":"IFERROR($E465*SUMIF('Daily Log'!$AR$18:$AR$1017,$B465,'Daily Log'!$AS$18:$AS$1017),0)","v":0},{"$f":"IFERROR($E465*SUMIF('Daily Log'!$AU$18:$AU$1017,$B465,'Daily Log'!$AV$18:$AV$1017),0)","v":0},{"$f":"IFERROR($E465*SUMIF('Daily Log'!$AX$18:$AX$1017,$B465,'Daily Log'!$AY$18:$AY$1017),0)","v":0},{"$f":"IFERROR($E465*SUMIF('Daily Log'!$BA$18:$BA$1017,$B465,'Daily Log'!$BB$18:$BB$1017),0)","v":0},{"$f":"IFERROR($E465*SUMIF('Daily Log'!$BD$18:$BD$1017,$B465,'Daily Log'!$BE$18:$BE$1017),0)","v":0},{"$f":"IFERROR($E465*SUMIF('Daily Log'!$BG$18:$BG$1017,$B465,'Daily Log'!$BH$18:$BH$1017),0)","v":0},{"$f":"IFERROR($E465*SUMIF('Daily Log'!$BJ$18:$BJ$1017,$B465,'Daily Log'!$BK$18:$BK$1017),0)","v":0},{"$f":"IFERROR($E465*SUMIF('Daily Log'!$BM$18:$BM$1017,$B465,'Daily Log'!$BN$18:$BN$1017),0)","v":0},{"$f":"IFERROR($E465*SUMIF('Daily Log'!$BP$18:$BP$1017,$B465,'Daily Log'!$BQ$18:$BQ$1017),0)","v":0},{"$f":"IFERROR($E465*SUMIF('Daily Log'!$BS$18:$BS$1017,$B465,'Daily Log'!$BT$18:$BT$1017),0)","v":0},{"$f":"IFERROR($E465*SUMIF('Daily Log'!$BV$18:$BV$1017,$B465,'Daily Log'!$BW$18:$BW$1017),0)","v":0},{"$f":"IFERROR($E465*SUMIF('Daily Log'!$BY$18:$BY$1017,$B465,'Daily Log'!$BZ$18:$BZ$1017),0)","v":0},{"$f":"IFERROR($E465*SUMIF('Daily Log'!$CB$18:$CB$1017,$B465,'Daily Log'!$CC$18:$CC$1017),0)","v":0},{"$f":"IFERROR($E465*SUMIF('Daily Log'!$CE$18:$CE$1017,$B465,'Daily Log'!$CF$18:$CF$1017),0)","v":0},{"$f":"IFERROR($E465*SUMIF('Daily Log'!$CH$18:$CH$1017,$B465,'Daily Log'!$CI$18:$CI$1017),0)","v":0},{"$f":"IFERROR($E465*SUMIF('Daily Log'!$CK$18:$CK$1017,$B465,'Daily Log'!$CL$18:$CL$1017),0)","v":0},{"$f":"IFERROR($E465*SUMIF('Daily Log'!$CN$18:$CN$1017,$B465,'Daily Log'!$CO$18:$CO$1017),0)","v":0}]
[null,"ZAD16 ADD CILI SAUCE",null,null,1,0,{"$f":"IFERROR($E466*SUMIF('Daily Log'!$B$18:$B$1017,$B466,'Daily Log'!$C$18:$C$1017),0)","v":0},{"$f":"IFERROR($E466*SUMIF('Daily Log'!$E$18:$E$1017,$B466,'Daily Log'!$F$18:$F$1017),0)","v":0},{"$f":"IFERROR($E466*SUMIF('Daily Log'!$H$18:$H$1017,$B466,'Daily Log'!$I$18:$I$1017),0)","v":0},{"$f":"IFERROR($E466*SUMIF('Daily Log'!$K$18:$K$1017,$B466,'Daily Log'!$L$18:$L$1017),0)","v":0},{"$f":"IFERROR($E466*SUMIF('Daily Log'!$N$18:$N$1017,$B466,'Daily Log'!$O$18:$O$1017),0)","v":0},{"$f":"IFERROR($E466*SUMIF('Daily Log'!$Q$18:$Q$1017,$B466,'Daily Log'!$R$18:$R$1017),0)","v":0},{"$f":"IFERROR($E466*SUMIF('Daily Log'!$T$18:$T$1017,$B466,'Daily Log'!$U$18:$U$1017),0)","v":0},{"$f":"IFERROR($E466*SUMIF('Daily Log'!$W$18:$W$1017,$B466,'Daily Log'!$X$18:$X$1017),0)","v":0},{"$f":"IFERROR($E466*SUMIF('Daily Log'!$Z$18:$Z$1017,$B466,'Daily Log'!$AA$18:$AA$1017),0)","v":0},{"$f":"IFERROR($E466*SUMIF('Daily Log'!$AC$18:$AC$1017,$B466,'Daily Log'!$AD$18:$AD$1017),0)","v":0},{"$f":"IFERROR($E466*SUMIF('Daily Log'!$AF$18:$AF$1017,$B466,'Daily Log'!$AG$18:$AG$1017),0)","v":0},{"$f":"IFERROR($E466*SUMIF('Daily Log'!$AI$18:$AI$1017,$B466,'Daily Log'!$AJ$18:$AJ$1017),0)","v":0},{"$f":"IFERROR($E466*SUMIF('Daily Log'!$AL$18:$AL$1017,$B466,'Daily Log'!$AM$18:$AM$1017),0)","v":0},{"$f":"IFERROR($E466*SUMIF('Daily Log'!$AO$18:$AO$1017,$B466,'Daily Log'!$AP$18:$AP$1017),0)","v":0},{"$f":"IFERROR($E466*SUMIF('Daily Log'!$AR$18:$AR$1017,$B466,'Daily Log'!$AS$18:$AS$1017),0)","v":0},{"$f":"IFERROR($E466*SUMIF('Daily Log'!$AU$18:$AU$1017,$B466,'Daily Log'!$AV$18:$AV$1017),0)","v":0},{"$f":"IFERROR($E466*SUMIF('Daily Log'!$AX$18:$AX$1017,$B466,'Daily Log'!$AY$18:$AY$1017),0)","v":0},{"$f":"IFERROR($E466*SUMIF('Daily Log'!$BA$18:$BA$1017,$B466,'Daily Log'!$BB$18:$BB$1017),0)","v":0},{"$f":"IFERROR($E466*SUMIF('Daily Log'!$BD$18:$BD$1017,$B466,'Daily Log'!$BE$18:$BE$1017),0)","v":0},{"$f":"IFERROR($E466*SUMIF('Daily Log'!$BG$18:$BG$1017,$B466,'Daily Log'!$BH$18:$BH$1017),0)","v":0},{"$f":"IFERROR($E466*SUMIF('Daily Log'!$BJ$18:$BJ$1017,$B466,'Daily Log'!$BK$18:$BK$1017),0)","v":0},{"$f":"IFERROR($E466*SUMIF('Daily Log'!$BM$18:$BM$1017,$B466,'Daily Log'!$BN$18:$BN$1017),0)","v":0},{"$f":"IFERROR($E466*SUMIF('Daily Log'!$BP$18:$BP$1017,$B466,'Daily Log'!$BQ$18:$BQ$1017),0)","v":0},{"$f":"IFERROR($E466*SUMIF('Daily Log'!$BS$18:$BS$1017,$B466,'Daily Log'!$BT$18:$BT$1017),0)","v":0},{"$f":"IFERROR($E466*SUMIF('Daily Log'!$BV$18:$BV$1017,$B466,'Daily Log'!$BW$18:$BW$1017),0)","v":0},{"$f":"IFERROR($E466*SUMIF('Daily Log'!$BY$18:$BY$1017,$B466,'Daily Log'!$BZ$18:$BZ$1017),0)","v":0},{"$f":"IFERROR($E466*SUMIF('Daily Log'!$CB$18:$CB$1017,$B466,'Daily Log'!$CC$18:$CC$1017),0)","v":0},{"$f":"IFERROR($E466*SUMIF('Daily Log'!$CE$18:$CE$1017,$B466,'Daily Log'!$CF$18:$CF$1017),0)","v":0},{"$f":"IFERROR($E466*SUMIF('Daily Log'!$CH$18:$CH$1017,$B466,'Daily Log'!$CI$18:$CI$1017),0)","v":0},{"$f":"IFERROR($E466*SUMIF('Daily Log'!$CK$18:$CK$1017,$B466,'Daily Log'!$CL$18:$CL$1017),0)","v":0},{"$f":"IFERROR($E466*SUMIF('Daily Log'!$CN$18:$CN$1017,$B466,'Daily Log'!$CO$18:$CO$1017),0)","v":0}]
[null,"ZAD17 WITHOUT SUGAR",null,null,1,0,{"$f":"IFERROR($E467*SUMIF('Daily Log'!$B$18:$B$1017,$B467,'Daily Log'!$C$18:$C$1017),0)","v":0},{"$f":"IFERROR($E467*SUMIF('Daily Log'!$E$18:$E$1017,$B467,'Daily Log'!$F$18:$F$1017),0)","v":0},{"$f":"IFERROR($E467*SUMIF('Daily Log'!$H$18:$H$1017,$B467,'Daily Log'!$I$18:$I$1017),0)","v":0},{"$f":"IFERROR($E467*SUMIF('Daily Log'!$K$18:$K$1017,$B467,'Daily Log'!$L$18:$L$1017),0)","v":0},{"$f":"IFERROR($E467*SUMIF('Daily Log'!$N$18:$N$1017,$B467,'Daily Log'!$O$18:$O$1017),0)","v":0},{"$f":"IFERROR($E467*SUMIF('Daily Log'!$Q$18:$Q$1017,$B467,'Daily Log'!$R$18:$R$1017),0)","v":0},{"$f":"IFERROR($E467*SUMIF('Daily Log'!$T$18:$T$1017,$B467,'Daily Log'!$U$18:$U$1017),0)","v":0},{"$f":"IFERROR($E467*SUMIF('Daily Log'!$W$18:$W$1017,$B467,'Daily Log'!$X$18:$X$1017),0)","v":0},{"$f":"IFERROR($E467*SUMIF('Daily Log'!$Z$18:$Z$1017,$B467,'Daily Log'!$AA$18:$AA$1017),0)","v":0},{"$f":"IFERROR($E467*SUMIF('Daily Log'!$AC$18:$AC$1017,$B467,'Daily Log'!$AD$18:$AD$1017),0)","v":0},{"$f":"IFERROR($E467*SUMIF('Daily Log'!$AF$18:$AF$1017,$B467,'Daily Log'!$AG$18:$AG$1017),0)","v":0},{"$f":"IFERROR($E467*SUMIF('Daily Log'!$AI$18:$AI$1017,$B467,'Daily Log'!$AJ$18:$AJ$1017),0)","v":0},{"$f":"IFERROR($E467*SUMIF('Daily Log'!$AL$18:$AL$1017,$B467,'Daily Log'!$AM$18:$AM$1017),0)","v":0},{"$f":"IFERROR($E467*SUMIF('Daily Log'!$AO$18:$AO$1017,$B467,'Daily Log'!$AP$18:$AP$1017),0)","v":0},{"$f":"IFERROR($E467*SUMIF('Daily Log'!$AR$18:$AR$1017,$B467,'Daily Log'!$AS$18:$AS$1017),0)","v":0},{"$f":"IFERROR($E467*SUMIF('Daily Log'!$AU$18:$AU$1017,$B467,'Daily Log'!$AV$18:$AV$1017),0)","v":0},{"$f":"IFERROR($E467*SUMIF('Daily Log'!$AX$18:$AX$1017,$B467,'Daily Log'!$AY$18:$AY$1017),0)","v":0},{"$f":"IFERROR($E467*SUMIF('Daily Log'!$BA$18:$BA$1017,$B467,'Daily Log'!$BB$18:$BB$1017),0)","v":0},{"$f":"IFERROR($E467*SUMIF('Daily Log'!$BD$18:$BD$1017,$B467,'Daily Log'!$BE$18:$BE$1017),0)","v":0},{"$f":"IFERROR($E467*SUMIF('Daily Log'!$BG$18:$BG$1017,$B467,'Daily Log'!$BH$18:$BH$1017),0)","v":0},{"$f":"IFERROR($E467*SUMIF('Daily Log'!$BJ$18:$BJ$1017,$B467,'Daily Log'!$BK$18:$BK$1017),0)","v":0},{"$f":"IFERROR($E467*SUMIF('Daily Log'!$BM$18:$BM$1017,$B467,'Daily Log'!$BN$18:$BN$1017),0)","v":0},{"$f":"IFERROR($E467*SUMIF('Daily Log'!$BP$18:$BP$1017,$B467,'Daily Log'!$BQ$18:$BQ$1017),0)","v":0},{"$f":"IFERROR($E467*SUMIF('Daily Log'!$BS$18:$BS$1017,$B467,'Daily Log'!$BT$18:$BT$1017),0)","v":0},{"$f":"IFERROR($E467*SUMIF('Daily Log'!$BV$18:$BV$1017,$B467,'Daily Log'!$BW$18:$BW$1017),0)","v":0},{"$f":"IFERROR($E467*SUMIF('Daily Log'!$BY$18:$BY$1017,$B467,'Daily Log'!$BZ$18:$BZ$1017),0)","v":0},{"$f":"IFERROR($E467*SUMIF('Daily Log'!$CB$18:$CB$1017,$B467,'Daily Log'!$CC$18:$CC$1017),0)","v":0},{"$f":"IFERROR($E467*SUMIF('Daily Log'!$CE$18:$CE$1017,$B467,'Daily Log'!$CF$18:$CF$1017),0)","v":0},{"$f":"IFERROR($E467*SUMIF('Daily Log'!$CH$18:$CH$1017,$B467,'Daily Log'!$CI$18:$CI$1017),0)","v":0},{"$f":"IFERROR($E467*SUMIF('Daily Log'!$CK$18:$CK$1017,$B467,'Daily Log'!$CL$18:$CL$1017),0)","v":0},{"$f":"IFERROR($E467*SUMIF('Daily Log'!$CN$18:$CN$1017,$B467,'Daily Log'!$CO$18:$CO$1017),0)","v":0}]
[null,"ZAD19 KAU KAU",null,null,1,0,{"$f":"IFERROR($E468*SUMIF('Daily Log'!$B$18:$B$1017,$B468,'Daily Log'!$C$18:$C$1017),0)","v":0},{"$f":"IFERROR($E468*SUMIF('Daily Log'!$E$18:$E$1017,$B468,'Daily Log'!$F$18:$F$1017),0)","v":0},{"$f":"IFERROR($E468*SUMIF('Daily Log'!$H$18:$H$1017,$B468,'Daily Log'!$I$18:$I$1017),0)","v":0},{"$f":"IFERROR($E468*SUMIF('Daily Log'!$K$18:$K$1017,$B468,'Daily Log'!$L$18:$L$1017),0)","v":0},{"$f":"IFERROR($E468*SUMIF('Daily Log'!$N$18:$N$1017,$B468,'Daily Log'!$O$18:$O$1017),0)","v":0},{"$f":"IFERROR($E468*SUMIF('Daily Log'!$Q$18:$Q$1017,$B468,'Daily Log'!$R$18:$R$1017),0)","v":0},{"$f":"IFERROR($E468*SUMIF('Daily Log'!$T$18:$T$1017,$B468,'Daily Log'!$U$18:$U$1017),0)","v":0},{"$f":"IFERROR($E468*SUMIF('Daily Log'!$W$18:$W$1017,$B468,'Daily Log'!$X$18:$X$1017),0)","v":0},{"$f":"IFERROR($E468*SUMIF('Daily Log'!$Z$18:$Z$1017,$B468,'Daily Log'!$AA$18:$AA$1017),0)","v":0},{"$f":"IFERROR($E468*SUMIF('Daily Log'!$AC$18:$AC$1017,$B468,'Daily Log'!$AD$18:$AD$1017),0)","v":0},{"$f":"IFERROR($E468*SUMIF('Daily Log'!$AF$18:$AF$1017,$B468,'Daily Log'!$AG$18:$AG$1017),0)","v":0},{"$f":"IFERROR($E468*SUMIF('Daily Log'!$AI$18:$AI$1017,$B468,'Daily Log'!$AJ$18:$AJ$1017),0)","v":0},{"$f":"IFERROR($E468*SUMIF('Daily Log'!$AL$18:$AL$1017,$B468,'Daily Log'!$AM$18:$AM$1017),0)","v":0},{"$f":"IFERROR($E468*SUMIF('Daily Log'!$AO$18:$AO$1017,$B468,'Daily Log'!$AP$18:$AP$1017),0)","v":0},{"$f":"IFERROR($E468*SUMIF('Daily Log'!$AR$18:$AR$1017,$B468,'Daily Log'!$AS$18:$AS$1017),0)","v":0},{"$f":"IFERROR($E468*SUMIF('Daily Log'!$AU$18:$AU$1017,$B468,'Daily Log'!$AV$18:$AV$1017),0)","v":0},{"$f":"IFERROR($E468*SUMIF('Daily Log'!$AX$18:$AX$1017,$B468,'Daily Log'!$AY$18:$AY$1017),0)","v":0},{"$f":"IFERROR($E468*SUMIF('Daily Log'!$BA$18:$BA$1017,$B468,'Daily Log'!$BB$18:$BB$1017),0)","v":0},{"$f":"IFERROR($E468*SUMIF('Daily Log'!$BD$18:$BD$1017,$B468,'Daily Log'!$BE$18:$BE$1017),0)","v":0},{"$f":"IFERROR($E468*SUMIF('Daily Log'!$BG$18:$BG$1017,$B468,'Daily Log'!$BH$18:$BH$1017),0)","v":0},{"$f":"IFERROR($E468*SUMIF('Daily Log'!$BJ$18:$BJ$1017,$B468,'Daily Log'!$BK$18:$BK$1017),0)","v":0},{"$f":"IFERROR($E468*SUMIF('Daily Log'!$BM$18:$BM$1017,$B468,'Daily Log'!$BN$18:$BN$1017),0)","v":0},{"$f":"IFERROR($E468*SUMIF('Daily Log'!$BP$18:$BP$1017,$B468,'Daily Log'!$BQ$18:$BQ$1017),0)","v":0},{"$f":"IFERROR($E468*SUMIF('Daily Log'!$BS$18:$BS$1017,$B468,'Daily Log'!$BT$18:$BT$1017),0)","v":0},{"$f":"IFERROR($E468*SUMIF('Daily Log'!$BV$18:$BV$1017,$B468,'Daily Log'!$BW$18:$BW$1017),0)","v":0},{"$f":"IFERROR($E468*SUMIF('Daily Log'!$BY$18:$BY$1017,$B468,'Daily Log'!$BZ$18:$BZ$1017),0)","v":0},{"$f":"IFERROR($E468*SUMIF('Daily Log'!$CB$18:$CB$1017,$B468,'Daily Log'!$CC$18:$CC$1017),0)","v":0},{"$f":"IFERROR($E468*SUMIF('Daily Log'!$CE$18:$CE$1017,$B468,'Daily Log'!$CF$18:$CF$1017),0)","v":0},{"$f":"IFERROR($E468*SUMIF('Daily Log'!$CH$18:$CH$1017,$B468,'Daily Log'!$CI$18:$CI$1017),0)","v":0},{"$f":"IFERROR($E468*SUMIF('Daily Log'!$CK$18:$CK$1017,$B468,'Daily Log'!$CL$18:$CL$1017),0)","v":0},{"$f":"IFERROR($E468*SUMIF('Daily Log'!$CN$18:$CN$1017,$B468,'Daily Log'!$CO$18:$CO$1017),0)","v":0}]
[null,"ZAD20 JUG",null,null,1,0,{"$f":"IFERROR($E469*SUMIF('Daily Log'!$B$18:$B$1017,$B469,'Daily Log'!$C$18:$C$1017),0)","v":0},{"$f":"IFERROR($E469*SUMIF('Daily Log'!$E$18:$E$1017,$B469,'Daily Log'!$F$18:$F$1017),0)","v":0},{"$f":"IFERROR($E469*SUMIF('Daily Log'!$H$18:$H$1017,$B469,'Daily Log'!$I$18:$I$1017),0)","v":0},{"$f":"IFERROR($E469*SUMIF('Daily Log'!$K$18:$K$1017,$B469,'Daily Log'!$L$18:$L$1017),0)","v":0},{"$f":"IFERROR($E469*SUMIF('Daily Log'!$N$18:$N$1017,$B469,'Daily Log'!$O$18:$O$1017),0)","v":0},{"$f":"IFERROR($E469*SUMIF('Daily Log'!$Q$18:$Q$1017,$B469,'Daily Log'!$R$18:$R$1017),0)","v":0},{"$f":"IFERROR($E469*SUMIF('Daily Log'!$T$18:$T$1017,$B469,'Daily Log'!$U$18:$U$1017),0)","v":0},{"$f":"IFERROR($E469*SUMIF('Daily Log'!$W$18:$W$1017,$B469,'Daily Log'!$X$18:$X$1017),0)","v":0},{"$f":"IFERROR($E469*SUMIF('Daily Log'!$Z$18:$Z$1017,$B469,'Daily Log'!$AA$18:$AA$1017),0)","v":0},{"$f":"IFERROR($E469*SUMIF('Daily Log'!$AC$18:$AC$1017,$B469,'Daily Log'!$AD$18:$AD$1017),0)","v":0},{"$f":"IFERROR($E469*SUMIF('Daily Log'!$AF$18:$AF$1017,$B469,'Daily Log'!$AG$18:$AG$1017),0)","v":0},{"$f":"IFERROR($E469*SUMIF('Daily Log'!$AI$18:$AI$1017,$B469,'Daily Log'!$AJ$18:$AJ$1017),0)","v":0},{"$f":"IFERROR($E469*SUMIF('Daily Log'!$AL$18:$AL$1017,$B469,'Daily Log'!$AM$18:$AM$1017),0)","v":0},{"$f":"IFERROR($E469*SUMIF('Daily Log'!$AO$18:$AO$1017,$B469,'Daily Log'!$AP$18:$AP$1017),0)","v":0},{"$f":"IFERROR($E469*SUMIF('Daily Log'!$AR$18:$AR$1017,$B469,'Daily Log'!$AS$18:$AS$1017),0)","v":0},{"$f":"IFERROR($E469*SUMIF('Daily Log'!$AU$18:$AU$1017,$B469,'Daily Log'!$AV$18:$AV$1017),0)","v":0},{"$f":"IFERROR($E469*SUMIF('Daily Log'!$AX$18:$AX$1017,$B469,'Daily Log'!$AY$18:$AY$1017),0)","v":0},{"$f":"IFERROR($E469*SUMIF('Daily Log'!$BA$18:$BA$1017,$B469,'Daily Log'!$BB$18:$BB$1017),0)","v":0},{"$f":"IFERROR($E469*SUMIF('Daily Log'!$BD$18:$BD$1017,$B469,'Daily Log'!$BE$18:$BE$1017),0)","v":0},{"$f":"IFERROR($E469*SUMIF('Daily Log'!$BG$18:$BG$1017,$B469,'Daily Log'!$BH$18:$BH$1017),0)","v":0},{"$f":"IFERROR($E469*SUMIF('Daily Log'!$BJ$18:$BJ$1017,$B469,'Daily Log'!$BK$18:$BK$1017),0)","v":0},{"$f":"IFERROR($E469*SUMIF('Daily Log'!$BM$18:$BM$1017,$B469,'Daily Log'!$BN$18:$BN$1017),0)","v":0},{"$f":"IFERROR($E469*SUMIF('Daily Log'!$BP$18:$BP$1017,$B469,'Daily Log'!$BQ$18:$BQ$1017),0)","v":0},{"$f":"IFERROR($E469*SUMIF('Daily Log'!$BS$18:$BS$1017,$B469,'Daily Log'!$BT$18:$BT$1017),0)","v":0},{"$f":"IFERROR($E469*SUMIF('Daily Log'!$BV$18:$BV$1017,$B469,'Daily Log'!$BW$18:$BW$1017),0)","v":0},{"$f":"IFERROR($E469*SUMIF('Daily Log'!$BY$18:$BY$1017,$B469,'Daily Log'!$BZ$18:$BZ$1017),0)","v":0},{"$f":"IFERROR($E469*SUMIF('Daily Log'!$CB$18:$CB$1017,$B469,'Daily Log'!$CC$18:$CC$1017),0)","v":0},{"$f":"IFERROR($E469*SUMIF('Daily Log'!$CE$18:$CE$1017,$B469,'Daily Log'!$CF$18:$CF$1017),0)","v":0},{"$f":"IFERROR($E469*SUMIF('Daily Log'!$CH$18:$CH$1017,$B469,'Daily Log'!$CI$18:$CI$1017),0)","v":0},{"$f":"IFERROR($E469*SUMIF('Daily Log'!$CK$18:$CK$1017,$B469,'Daily Log'!$CL$18:$CL$1017),0)","v":0},{"$f":"IFERROR($E469*SUMIF('Daily Log'!$CN$18:$CN$1017,$B469,'Daily Log'!$CO$18:$CO$1017),0)","v":0}]
[null,"ZAD21 TAKE AWAY",null,null,1,0,{"$f":"IFERROR($E470*SUMIF('Daily Log'!$B$18:$B$1017,$B470,'Daily Log'!$C$18:$C$1017),0)","v":0},{"$f":"IFERROR($E470*SUMIF('Daily Log'!$E$18:$E$1017,$B470,'Daily Log'!$F$18:$F$1017),0)","v":0},{"$f":"IFERROR($E470*SUMIF('Daily Log'!$H$18:$H$1017,$B470,'Daily Log'!$I$18:$I$1017),0)","v":0},{"$f":"IFERROR($E470*SUMIF('Daily Log'!$K$18:$K$1017,$B470,'Daily Log'!$L$18:$L$1017),0)","v":0},{"$f":"IFERROR($E470*SUMIF('Daily Log'!$N$18:$N$1017,$B470,'Daily Log'!$O$18:$O$1017),0)","v":0},{"$f":"IFERROR($E470*SUMIF('Daily Log'!$Q$18:$Q$1017,$B470,'Daily Log'!$R$18:$R$1017),0)","v":0},{"$f":"IFERROR($E470*SUMIF('Daily Log'!$T$18:$T$1017,$B470,'Daily Log'!$U$18:$U$1017),0)","v":0},{"$f":"IFERROR($E470*SUMIF('Daily Log'!$W$18:$W$1017,$B470,'Daily Log'!$X$18:$X$1017),0)","v":0},{"$f":"IFERROR($E470*SUMIF('Daily Log'!$Z$18:$Z$1017,$B470,'Daily Log'!$AA$18:$AA$1017),0)","v":0},{"$f":"IFERROR($E470*SUMIF('Daily Log'!$AC$18:$AC$1017,$B470,'Daily Log'!$AD$18:$AD$1017),0)","v":0},{"$f":"IFERROR($E470*SUMIF('Daily Log'!$AF$18:$AF$1017,$B470,'Daily Log'!$AG$18:$AG$1017),0)","v":0},{"$f":"IFERROR($E470*SUMIF('Daily Log'!$AI$18:$AI$1017,$B470,'Daily Log'!$AJ$18:$AJ$1017),0)","v":0},{"$f":"IFERROR($E470*SUMIF('Daily Log'!$AL$18:$AL$1017,$B470,'Daily Log'!$AM$18:$AM$1017),0)","v":0},{"$f":"IFERROR($E470*SUMIF('Daily Log'!$AO$18:$AO$1017,$B470,'Daily Log'!$AP$18:$AP$1017),0)","v":0},{"$f":"IFERROR($E470*SUMIF('Daily Log'!$AR$18:$AR$1017,$B470,'Daily Log'!$AS$18:$AS$1017),0)","v":0},{"$f":"IFERROR($E470*SUMIF('Daily Log'!$AU$18:$AU$1017,$B470,'Daily Log'!$AV$18:$AV$1017),0)","v":0},{"$f":"IFERROR($E470*SUMIF('Daily Log'!$AX$18:$AX$1017,$B470,'Daily Log'!$AY$18:$AY$1017),0)","v":0},{"$f":"IFERROR($E470*SUMIF('Daily Log'!$BA$18:$BA$1017,$B470,'Daily Log'!$BB$18:$BB$1017),0)","v":0},{"$f":"IFERROR($E470*SUMIF('Daily Log'!$BD$18:$BD$1017,$B470,'Daily Log'!$BE$18:$BE$1017),0)","v":0},{"$f":"IFERROR($E470*SUMIF('Daily Log'!$BG$18:$BG$1017,$B470,'Daily Log'!$BH$18:$BH$1017),0)","v":0},{"$f":"IFERROR($E470*SUMIF('Daily Log'!$BJ$18:$BJ$1017,$B470,'Daily Log'!$BK$18:$BK$1017),0)","v":0},{"$f":"IFERROR($E470*SUMIF('Daily Log'!$BM$18:$BM$1017,$B470,'Daily Log'!$BN$18:$BN$1017),0)","v":0},{"$f":"IFERROR($E470*SUMIF('Daily Log'!$BP$18:$BP$1017,$B470,'Daily Log'!$BQ$18:$BQ$1017),0)","v":0},{"$f":"IFERROR($E470*SUMIF('Daily Log'!$BS$18:$BS$1017,$B470,'Daily Log'!$BT$18:$BT$1017),0)","v":0},{"$f":"IFERROR($E470*SUMIF('Daily Log'!$BV$18:$BV$1017,$B470,'Daily Log'!$BW$18:$BW$1017),0)","v":0},{"$f":"IFERROR($E470*SUMIF('Daily Log'!$BY$18:$BY$1017,$B470,'Daily Log'!$BZ$18:$BZ$1017),0)","v":0},{"$f":"IFERROR($E470*SUMIF('Daily Log'!$CB$18:$CB$1017,$B470,'Daily Log'!$CC$18:$CC$1017),0)","v":0},{"$f":"IFERROR($E470*SUMIF('Daily Log'!$CE$18:$CE$1017,$B470,'Daily Log'!$CF$18:$CF$1017),0)","v":0},{"$f":"IFERROR($E470*SUMIF('Daily Log'!$CH$18:$CH$1017,$B470,'Daily Log'!$CI$18:$CI$1017),0)","v":0},{"$f":"IFERROR($E470*SUMIF('Daily Log'!$CK$18:$CK$1017,$B470,'Daily Log'!$CL$18:$CL$1017),0)","v":0},{"$f":"IFERROR($E470*SUMIF('Daily Log'!$CN$18:$CN$1017,$B470,'Daily Log'!$CO$18:$CO$1017),0)","v":0}]
[null,"ZAD24 + SAUCE BP",null,null,1,0,{"$f":"IFERROR($E471*SUMIF('Daily Log'!$B$18:$B$1017,$B471,'Daily Log'!$C$18:$C$1017),0)","v":0},{"$f":"IFERROR($E471*SUMIF('Daily Log'!$E$18:$E$1017,$B471,'Daily Log'!$F$18:$F$1017),0)","v":0},{"$f":"IFERROR($E471*SUMIF('Daily Log'!$H$18:$H$1017,$B471,'Daily Log'!$I$18:$I$1017),0)","v":0},{"$f":"IFERROR($E471*SUMIF('Daily Log'!$K$18:$K$1017,$B471,'Daily Log'!$L$18:$L$1017),0)","v":0},{"$f":"IFERROR($E471*SUMIF('Daily Log'!$N$18:$N$1017,$B471,'Daily Log'!$O$18:$O$1017),0)","v":0},{"$f":"IFERROR($E471*SUMIF('Daily Log'!$Q$18:$Q$1017,$B471,'Daily Log'!$R$18:$R$1017),0)","v":0},{"$f":"IFERROR($E471*SUMIF('Daily Log'!$T$18:$T$1017,$B471,'Daily Log'!$U$18:$U$1017),0)","v":0},{"$f":"IFERROR($E471*SUMIF('Daily Log'!$W$18:$W$1017,$B471,'Daily Log'!$X$18:$X$1017),0)","v":0},{"$f":"IFERROR($E471*SUMIF('Daily Log'!$Z$18:$Z$1017,$B471,'Daily Log'!$AA$18:$AA$1017),0)","v":0},{"$f":"IFERROR($E471*SUMIF('Daily Log'!$AC$18:$AC$1017,$B471,'Daily Log'!$AD$18:$AD$1017),0)","v":0},{"$f":"IFERROR($E471*SUMIF('Daily Log'!$AF$18:$AF$1017,$B471,'Daily Log'!$AG$18:$AG$1017),0)","v":0},{"$f":"IFERROR($E471*SUMIF('Daily Log'!$AI$18:$AI$1017,$B471,'Daily Log'!$AJ$18:$AJ$1017),0)","v":0},{"$f":"IFERROR($E471*SUMIF('Daily Log'!$AL$18:$AL$1017,$B471,'Daily Log'!$AM$18:$AM$1017),0)","v":0},{"$f":"IFERROR($E471*SUMIF('Daily Log'!$AO$18:$AO$1017,$B471,'Daily Log'!$AP$18:$AP$1017),0)","v":0},{"$f":"IFERROR($E471*SUMIF('Daily Log'!$AR$18:$AR$1017,$B471,'Daily Log'!$AS$18:$AS$1017),0)","v":0},{"$f":"IFERROR($E471*SUMIF('Daily Log'!$AU$18:$AU$1017,$B471,'Daily Log'!$AV$18:$AV$1017),0)","v":0},{"$f":"IFERROR($E471*SUMIF('Daily Log'!$AX$18:$AX$1017,$B471,'Daily Log'!$AY$18:$AY$1017),0)","v":0},{"$f":"IFERROR($E471*SUMIF('Daily Log'!$BA$18:$BA$1017,$B471,'Daily Log'!$BB$18:$BB$1017),0)","v":0},{"$f":"IFERROR($E471*SUMIF('Daily Log'!$BD$18:$BD$1017,$B471,'Daily Log'!$BE$18:$BE$1017),0)","v":0},{"$f":"IFERROR($E471*SUMIF('Daily Log'!$BG$18:$BG$1017,$B471,'Daily Log'!$BH$18:$BH$1017),0)","v":0},{"$f":"IFERROR($E471*SUMIF('Daily Log'!$BJ$18:$BJ$1017,$B471,'Daily Log'!$BK$18:$BK$1017),0)","v":0},{"$f":"IFERROR($E471*SUMIF('Daily Log'!$BM$18:$BM$1017,$B471,'Daily Log'!$BN$18:$BN$1017),0)","v":0},{"$f":"IFERROR($E471*SUMIF('Daily Log'!$BP$18:$BP$1017,$B471,'Daily Log'!$BQ$18:$BQ$1017),0)","v":0},{"$f":"IFERROR($E471*SUMIF('Daily Log'!$BS$18:$BS$1017,$B471,'Daily Log'!$BT$18:$BT$1017),0)","v":0},{"$f":"IFERROR($E471*SUMIF('Daily Log'!$BV$18:$BV$1017,$B471,'Daily Log'!$BW$18:$BW$1017),0)","v":0},{"$f":"IFERROR($E471*SUMIF('Daily Log'!$BY$18:$BY$1017,$B471,'Daily Log'!$BZ$18:$BZ$1017),0)","v":0},{"$f":"IFERROR($E471*SUMIF('Daily Log'!$CB$18:$CB$1017,$B471,'Daily Log'!$CC$18:$CC$1017),0)","v":0},{"$f":"IFERROR($E471*SUMIF('Daily Log'!$CE$18:$CE$1017,$B471,'Daily Log'!$CF$18:$CF$1017),0)","v":0},{"$f":"IFERROR($E471*SUMIF('Daily Log'!$CH$18:$CH$1017,$B471,'Daily Log'!$CI$18:$CI$1017),0)","v":0},{"$f":"IFERROR($E471*SUMIF('Daily Log'!$CK$18:$CK$1017,$B471,'Daily Log'!$CL$18:$CL$1017),0)","v":0},{"$f":"IFERROR($E471*SUMIF('Daily Log'!$CN$18:$CN$1017,$B471,'Daily Log'!$CO$18:$CO$1017),0)","v":0}]
[null,"ZAD25 + SAUCE BUTTER",null,null,1,0,{"$f":"IFERROR($E472*SUMIF('Daily Log'!$B$18:$B$1017,$B472,'Daily Log'!$C$18:$C$1017),0)","v":0},{"$f":"IFERROR($E472*SUMIF('Daily Log'!$E$18:$E$1017,$B472,'Daily Log'!$F$18:$F$1017),0)","v":0},{"$f":"IFERROR($E472*SUMIF('Daily Log'!$H$18:$H$1017,$B472,'Daily Log'!$I$18:$I$1017),0)","v":0},{"$f":"IFERROR($E472*SUMIF('Daily Log'!$K$18:$K$1017,$B472,'Daily Log'!$L$18:$L$1017),0)","v":0},{"$f":"IFERROR($E472*SUMIF('Daily Log'!$N$18:$N$1017,$B472,'Daily Log'!$O$18:$O$1017),0)","v":0},{"$f":"IFERROR($E472*SUMIF('Daily Log'!$Q$18:$Q$1017,$B472,'Daily Log'!$R$18:$R$1017),0)","v":0},{"$f":"IFERROR($E472*SUMIF('Daily Log'!$T$18:$T$1017,$B472,'Daily Log'!$U$18:$U$1017),0)","v":0},{"$f":"IFERROR($E472*SUMIF('Daily Log'!$W$18:$W$1017,$B472,'Daily Log'!$X$18:$X$1017),0)","v":0},{"$f":"IFERROR($E472*SUMIF('Daily Log'!$Z$18:$Z$1017,$B472,'Daily Log'!$AA$18:$AA$1017),0)","v":0},{"$f":"IFERROR($E472*SUMIF('Daily Log'!$AC$18:$AC$1017,$B472,'Daily Log'!$AD$18:$AD$1017),0)","v":0},{"$f":"IFERROR($E472*SUMIF('Daily Log'!$AF$18:$AF$1017,$B472,'Daily Log'!$AG$18:$AG$1017),0)","v":0},{"$f":"IFERROR($E472*SUMIF('Daily Log'!$AI$18:$AI$1017,$B472,'Daily Log'!$AJ$18:$AJ$1017),0)","v":0},{"$f":"IFERROR($E472*SUMIF('Daily Log'!$AL$18:$AL$1017,$B472,'Daily Log'!$AM$18:$AM$1017),0)","v":0},{"$f":"IFERROR($E472*SUMIF('Daily Log'!$AO$18:$AO$1017,$B472,'Daily Log'!$AP$18:$AP$1017),0)","v":0},{"$f":"IFERROR($E472*SUMIF('Daily Log'!$AR$18:$AR$1017,$B472,'Daily Log'!$AS$18:$AS$1017),0)","v":0},{"$f":"IFERROR($E472*SUMIF('Daily Log'!$AU$18:$AU$1017,$B472,'Daily Log'!$AV$18:$AV$1017),0)","v":0},{"$f":"IFERROR($E472*SUMIF('Daily Log'!$AX$18:$AX$1017,$B472,'Daily Log'!$AY$18:$AY$1017),0)","v":0},{"$f":"IFERROR($E472*SUMIF('Daily Log'!$BA$18:$BA$1017,$B472,'Daily Log'!$BB$18:$BB$1017),0)","v":0},{"$f":"IFERROR($E472*SUMIF('Daily Log'!$BD$18:$BD$1017,$B472,'Daily Log'!$BE$18:$BE$1017),0)","v":0},{"$f":"IFERROR($E472*SUMIF('Daily Log'!$BG$18:$BG$1017,$B472,'Daily Log'!$BH$18:$BH$1017),0)","v":0},{"$f":"IFERROR($E472*SUMIF('Daily Log'!$BJ$18:$BJ$1017,$B472,'Daily Log'!$BK$18:$BK$1017),0)","v":0},{"$f":"IFERROR($E472*SUMIF('Daily Log'!$BM$18:$BM$1017,$B472,'Daily Log'!$BN$18:$BN$1017),0)","v":0},{"$f":"IFERROR($E472*SUMIF('Daily Log'!$BP$18:$BP$1017,$B472,'Daily Log'!$BQ$18:$BQ$1017),0)","v":0},{"$f":"IFERROR($E472*SUMIF('Daily Log'!$BS$18:$BS$1017,$B472,'Daily Log'!$BT$18:$BT$1017),0)","v":0},{"$f":"IFERROR($E472*SUMIF('Daily Log'!$BV$18:$BV$1017,$B472,'Daily Log'!$BW$18:$BW$1017),0)","v":0},{"$f":"IFERROR($E472*SUMIF('Daily Log'!$BY$18:$BY$1017,$B472,'Daily Log'!$BZ$18:$BZ$1017),0)","v":0},{"$f":"IFERROR($E472*SUMIF('Daily Log'!$CB$18:$CB$1017,$B472,'Daily Log'!$CC$18:$CC$1017),0)","v":0},{"$f":"IFERROR($E472*SUMIF('Daily Log'!$CE$18:$CE$1017,$B472,'Daily Log'!$CF$18:$CF$1017),0)","v":0},{"$f":"IFERROR($E472*SUMIF('Daily Log'!$CH$18:$CH$1017,$B472,'Daily Log'!$CI$18:$CI$1017),0)","v":0},{"$f":"IFERROR($E472*SUMIF('Daily Log'!$CK$18:$CK$1017,$B472,'Daily Log'!$CL$18:$CL$1017),0)","v":0},{"$f":"IFERROR($E472*SUMIF('Daily Log'!$CN$18:$CN$1017,$B472,'Daily Log'!$CO$18:$CO$1017),0)","v":0}]
[null,"ZAD26 + CILLI PADI",null,null,1,0,{"$f":"IFERROR($E473*SUMIF('Daily Log'!$B$18:$B$1017,$B473,'Daily Log'!$C$18:$C$1017),0)","v":0},{"$f":"IFERROR($E473*SUMIF('Daily Log'!$E$18:$E$1017,$B473,'Daily Log'!$F$18:$F$1017),0)","v":0},{"$f":"IFERROR($E473*SUMIF('Daily Log'!$H$18:$H$1017,$B473,'Daily Log'!$I$18:$I$1017),0)","v":0},{"$f":"IFERROR($E473*SUMIF('Daily Log'!$K$18:$K$1017,$B473,'Daily Log'!$L$18:$L$1017),0)","v":0},{"$f":"IFERROR($E473*SUMIF('Daily Log'!$N$18:$N$1017,$B473,'Daily Log'!$O$18:$O$1017),0)","v":0},{"$f":"IFERROR($E473*SUMIF('Daily Log'!$Q$18:$Q$1017,$B473,'Daily Log'!$R$18:$R$1017),0)","v":0},{"$f":"IFERROR($E473*SUMIF('Daily Log'!$T$18:$T$1017,$B473,'Daily Log'!$U$18:$U$1017),0)","v":0},{"$f":"IFERROR($E473*SUMIF('Daily Log'!$W$18:$W$1017,$B473,'Daily Log'!$X$18:$X$1017),0)","v":0},{"$f":"IFERROR($E473*SUMIF('Daily Log'!$Z$18:$Z$1017,$B473,'Daily Log'!$AA$18:$AA$1017),0)","v":0},{"$f":"IFERROR($E473*SUMIF('Daily Log'!$AC$18:$AC$1017,$B473,'Daily Log'!$AD$18:$AD$1017),0)","v":0},{"$f":"IFERROR($E473*SUMIF('Daily Log'!$AF$18:$AF$1017,$B473,'Daily Log'!$AG$18:$AG$1017),0)","v":0},{"$f":"IFERROR($E473*SUMIF('Daily Log'!$AI$18:$AI$1017,$B473,'Daily Log'!$AJ$18:$AJ$1017),0)","v":0},{"$f":"IFERROR($E473*SUMIF('Daily Log'!$AL$18:$AL$1017,$B473,'Daily Log'!$AM$18:$AM$1017),0)","v":0},{"$f":"IFERROR($E473*SUMIF('Daily Log'!$AO$18:$AO$1017,$B473,'Daily Log'!$AP$18:$AP$1017),0)","v":0},{"$f":"IFERROR($E473*SUMIF('Daily Log'!$AR$18:$AR$1017,$B473,'Daily Log'!$AS$18:$AS$1017),0)","v":0},{"$f":"IFERROR($E473*SUMIF('Daily Log'!$AU$18:$AU$1017,$B473,'Daily Log'!$AV$18:$AV$1017),0)","v":0},{"$f":"IFERROR($E473*SUMIF('Daily Log'!$AX$18:$AX$1017,$B473,'Daily Log'!$AY$18:$AY$1017),0)","v":0},{"$f":"IFERROR($E473*SUMIF('Daily Log'!$BA$18:$BA$1017,$B473,'Daily Log'!$BB$18:$BB$1017),0)","v":0},{"$f":"IFERROR($E473*SUMIF('Daily Log'!$BD$18:$BD$1017,$B473,'Daily Log'!$BE$18:$BE$1017),0)","v":0},{"$f":"IFERROR($E473*SUMIF('Daily Log'!$BG$18:$BG$1017,$B473,'Daily Log'!$BH$18:$BH$1017),0)","v":0},{"$f":"IFERROR($E473*SUMIF('Daily Log'!$BJ$18:$BJ$1017,$B473,'Daily Log'!$BK$18:$BK$1017),0)","v":0},{"$f":"IFERROR($E473*SUMIF('Daily Log'!$BM$18:$BM$1017,$B473,'Daily Log'!$BN$18:$BN$1017),0)","v":0},{"$f":"IFERROR($E473*SUMIF('Daily Log'!$BP$18:$BP$1017,$B473,'Daily Log'!$BQ$18:$BQ$1017),0)","v":0},{"$f":"IFERROR($E473*SUMIF('Daily Log'!$BS$18:$BS$1017,$B473,'Daily Log'!$BT$18:$BT$1017),0)","v":0},{"$f":"IFERROR($E473*SUMIF('Daily Log'!$BV$18:$BV$1017,$B473,'Daily Log'!$BW$18:$BW$1017),0)","v":0},{"$f":"IFERROR($E473*SUMIF('Daily Log'!$BY$18:$BY$1017,$B473,'Daily Log'!$BZ$18:$BZ$1017),0)","v":0},{"$f":"IFERROR($E473*SUMIF('Daily Log'!$CB$18:$CB$1017,$B473,'Daily Log'!$CC$18:$CC$1017),0)","v":0},{"$f":"IFERROR($E473*SUMIF('Daily Log'!$CE$18:$CE$1017,$B473,'Daily Log'!$CF$18:$CF$1017),0)","v":0},{"$f":"IFERROR($E473*SUMIF('Daily Log'!$CH$18:$CH$1017,$B473,'Daily Log'!$CI$18:$CI$1017),0)","v":0},{"$f":"IFERROR($E473*SUMIF('Daily Log'!$CK$18:$CK$1017,$B473,'Daily Log'!$CL$18:$CL$1017),0)","v":0},{"$f":"IFERROR($E473*SUMIF('Daily Log'!$CN$18:$CN$1017,$B473,'Daily Log'!$CO$18:$CO$1017),0)","v":0}]
[null,"ZAD27 + SAUCE GS",null,null,1,0,{"$f":"IFERROR($E474*SUMIF('Daily Log'!$B$18:$B$1017,$B474,'Daily Log'!$C$18:$C$1017),0)","v":0},{"$f":"IFERROR($E474*SUMIF('Daily Log'!$E$18:$E$1017,$B474,'Daily Log'!$F$18:$F$1017),0)","v":0},{"$f":"IFERROR($E474*SUMIF('Daily Log'!$H$18:$H$1017,$B474,'Daily Log'!$I$18:$I$1017),0)","v":0},{"$f":"IFERROR($E474*SUMIF('Daily Log'!$K$18:$K$1017,$B474,'Daily Log'!$L$18:$L$1017),0)","v":0},{"$f":"IFERROR($E474*SUMIF('Daily Log'!$N$18:$N$1017,$B474,'Daily Log'!$O$18:$O$1017),0)","v":0},{"$f":"IFERROR($E474*SUMIF('Daily Log'!$Q$18:$Q$1017,$B474,'Daily Log'!$R$18:$R$1017),0)","v":0},{"$f":"IFERROR($E474*SUMIF('Daily Log'!$T$18:$T$1017,$B474,'Daily Log'!$U$18:$U$1017),0)","v":0},{"$f":"IFERROR($E474*SUMIF('Daily Log'!$W$18:$W$1017,$B474,'Daily Log'!$X$18:$X$1017),0)","v":0},{"$f":"IFERROR($E474*SUMIF('Daily Log'!$Z$18:$Z$1017,$B474,'Daily Log'!$AA$18:$AA$1017),0)","v":0},{"$f":"IFERROR($E474*SUMIF('Daily Log'!$AC$18:$AC$1017,$B474,'Daily Log'!$AD$18:$AD$1017),0)","v":0},{"$f":"IFERROR($E474*SUMIF('Daily Log'!$AF$18:$AF$1017,$B474,'Daily Log'!$AG$18:$AG$1017),0)","v":0},{"$f":"IFERROR($E474*SUMIF('Daily Log'!$AI$18:$AI$1017,$B474,'Daily Log'!$AJ$18:$AJ$1017),0)","v":0},{"$f":"IFERROR($E474*SUMIF('Daily Log'!$AL$18:$AL$1017,$B474,'Daily Log'!$AM$18:$AM$1017),0)","v":0},{"$f":"IFERROR($E474*SUMIF('Daily Log'!$AO$18:$AO$1017,$B474,'Daily Log'!$AP$18:$AP$1017),0)","v":0},{"$f":"IFERROR($E474*SUMIF('Daily Log'!$AR$18:$AR$1017,$B474,'Daily Log'!$AS$18:$AS$1017),0)","v":0},{"$f":"IFERROR($E474*SUMIF('Daily Log'!$AU$18:$AU$1017,$B474,'Daily Log'!$AV$18:$AV$1017),0)","v":0},{"$f":"IFERROR($E474*SUMIF('Daily Log'!$AX$18:$AX$1017,$B474,'Daily Log'!$AY$18:$AY$1017),0)","v":0},{"$f":"IFERROR($E474*SUMIF('Daily Log'!$BA$18:$BA$1017,$B474,'Daily Log'!$BB$18:$BB$1017),0)","v":0},{"$f":"IFERROR($E474*SUMIF('Daily Log'!$BD$18:$BD$1017,$B474,'Daily Log'!$BE$18:$BE$1017),0)","v":0},{"$f":"IFERROR($E474*SUMIF('Daily Log'!$BG$18:$BG$1017,$B474,'Daily Log'!$BH$18:$BH$1017),0)","v":0},{"$f":"IFERROR($E474*SUMIF('Daily Log'!$BJ$18:$BJ$1017,$B474,'Daily Log'!$BK$18:$BK$1017),0)","v":0},{"$f":"IFERROR($E474*SUMIF('Daily Log'!$BM$18:$BM$1017,$B474,'Daily Log'!$BN$18:$BN$1017),0)","v":0},{"$f":"IFERROR($E474*SUMIF('Daily Log'!$BP$18:$BP$1017,$B474,'Daily Log'!$BQ$18:$BQ$1017),0)","v":0},{"$f":"IFERROR($E474*SUMIF('Daily Log'!$BS$18:$BS$1017,$B474,'Daily Log'!$BT$18:$BT$1017),0)","v":0},{"$f":"IFERROR($E474*SUMIF('Daily Log'!$BV$18:$BV$1017,$B474,'Daily Log'!$BW$18:$BW$1017),0)","v":0},{"$f":"IFERROR($E474*SUMIF('Daily Log'!$BY$18:$BY$1017,$B474,'Daily Log'!$BZ$18:$BZ$1017),0)","v":0},{"$f":"IFERROR($E474*SUMIF('Daily Log'!$CB$18:$CB$1017,$B474,'Daily Log'!$CC$18:$CC$1017),0)","v":0},{"$f":"IFERROR($E474*SUMIF('Daily Log'!$CE$18:$CE$1017,$B474,'Daily Log'!$CF$18:$CF$1017),0)","v":0},{"$f":"IFERROR($E474*SUMIF('Daily Log'!$CH$18:$CH$1017,$B474,'Daily Log'!$CI$18:$CI$1017),0)","v":0},{"$f":"IFERROR($E474*SUMIF('Daily Log'!$CK$18:$CK$1017,$B474,'Daily Log'!$CL$18:$CL$1017),0)","v":0},{"$f":"IFERROR($E474*SUMIF('Daily Log'!$CN$18:$CN$1017,$B474,'Daily Log'!$CO$18:$CO$1017),0)","v":0}]
[null,"ZAD28 + SAUCE MAYO",null,null,1,0,{"$f":"IFERROR($E475*SUMIF('Daily Log'!$B$18:$B$1017,$B475,'Daily Log'!$C$18:$C$1017),0)","v":0},{"$f":"IFERROR($E475*SUMIF('Daily Log'!$E$18:$E$1017,$B475,'Daily Log'!$F$18:$F$1017),0)","v":0},{"$f":"IFERROR($E475*SUMIF('Daily Log'!$H$18:$H$1017,$B475,'Daily Log'!$I$18:$I$1017),0)","v":0},{"$f":"IFERROR($E475*SUMIF('Daily Log'!$K$18:$K$1017,$B475,'Daily Log'!$L$18:$L$1017),0)","v":0},{"$f":"IFERROR($E475*SUMIF('Daily Log'!$N$18:$N$1017,$B475,'Daily Log'!$O$18:$O$1017),0)","v":0},{"$f":"IFERROR($E475*SUMIF('Daily Log'!$Q$18:$Q$1017,$B475,'Daily Log'!$R$18:$R$1017),0)","v":0},{"$f":"IFERROR($E475*SUMIF('Daily Log'!$T$18:$T$1017,$B475,'Daily Log'!$U$18:$U$1017),0)","v":0},{"$f":"IFERROR($E475*SUMIF('Daily Log'!$W$18:$W$1017,$B475,'Daily Log'!$X$18:$X$1017),0)","v":0},{"$f":"IFERROR($E475*SUMIF('Daily Log'!$Z$18:$Z$1017,$B475,'Daily Log'!$AA$18:$AA$1017),0)","v":0},{"$f":"IFERROR($E475*SUMIF('Daily Log'!$AC$18:$AC$1017,$B475,'Daily Log'!$AD$18:$AD$1017),0)","v":0},{"$f":"IFERROR($E475*SUMIF('Daily Log'!$AF$18:$AF$1017,$B475,'Daily Log'!$AG$18:$AG$1017),0)","v":0},{"$f":"IFERROR($E475*SUMIF('Daily Log'!$AI$18:$AI$1017,$B475,'Daily Log'!$AJ$18:$AJ$1017),0)","v":0},{"$f":"IFERROR($E475*SUMIF('Daily Log'!$AL$18:$AL$1017,$B475,'Daily Log'!$AM$18:$AM$1017),0)","v":0},{"$f":"IFERROR($E475*SUMIF('Daily Log'!$AO$18:$AO$1017,$B475,'Daily Log'!$AP$18:$AP$1017),0)","v":0},{"$f":"IFERROR($E475*SUMIF('Daily Log'!$AR$18:$AR$1017,$B475,'Daily Log'!$AS$18:$AS$1017),0)","v":0},{"$f":"IFERROR($E475*SUMIF('Daily Log'!$AU$18:$AU$1017,$B475,'Daily Log'!$AV$18:$AV$1017),0)","v":0},{"$f":"IFERROR($E475*SUMIF('Daily Log'!$AX$18:$AX$1017,$B475,'Daily Log'!$AY$18:$AY$1017),0)","v":0},{"$f":"IFERROR($E475*SUMIF('Daily Log'!$BA$18:$BA$1017,$B475,'Daily Log'!$BB$18:$BB$1017),0)","v":0},{"$f":"IFERROR($E475*SUMIF('Daily Log'!$BD$18:$BD$1017,$B475,'Daily Log'!$BE$18:$BE$1017),0)","v":0},{"$f":"IFERROR($E475*SUMIF('Daily Log'!$BG$18:$BG$1017,$B475,'Daily Log'!$BH$18:$BH$1017),0)","v":0},{"$f":"IFERROR($E475*SUMIF('Daily Log'!$BJ$18:$BJ$1017,$B475,'Daily Log'!$BK$18:$BK$1017),0)","v":0},{"$f":"IFERROR($E475*SUMIF('Daily Log'!$BM$18:$BM$1017,$B475,'Daily Log'!$BN$18:$BN$1017),0)","v":0},{"$f":"IFERROR($E475*SUMIF('Daily Log'!$BP$18:$BP$1017,$B475,'Daily Log'!$BQ$18:$BQ$1017),0)","v":0},{"$f":"IFERROR($E475*SUMIF('Daily Log'!$BS$18:$BS$1017,$B475,'Daily Log'!$BT$18:$BT$1017),0)","v":0},{"$f":"IFERROR($E475*SUMIF('Daily Log'!$BV$18:$BV$1017,$B475,'Daily Log'!$BW$18:$BW$1017),0)","v":0},{"$f":"IFERROR($E475*SUMIF('Daily Log'!$BY$18:$BY$1017,$B475,'Daily Log'!$BZ$18:$BZ$1017),0)","v":0},{"$f":"IFERROR($E475*SUMIF('Daily Log'!$CB$18:$CB$1017,$B475,'Daily Log'!$CC$18:$CC$1017),0)","v":0},{"$f":"IFERROR($E475*SUMIF('Daily Log'!$CE$18:$CE$1017,$B475,'Daily Log'!$CF$18:$CF$1017),0)","v":0},{"$f":"IFERROR($E475*SUMIF('Daily Log'!$CH$18:$CH$1017,$B475,'Daily Log'!$CI$18:$CI$1017),0)","v":0},{"$f":"IFERROR($E475*SUMIF('Daily Log'!$CK$18:$CK$1017,$B475,'Daily Log'!$CL$18:$CL$1017),0)","v":0},{"$f":"IFERROR($E475*SUMIF('Daily Log'!$CN$18:$CN$1017,$B475,'Daily Log'!$CO$18:$CO$1017),0)","v":0}]
[null,"ZAD30 + SAUCE MR",null,null,1,0,{"$f":"IFERROR($E476*SUMIF('Daily Log'!$B$18:$B$1017,$B476,'Daily Log'!$C$18:$C$1017),0)","v":0},{"$f":"IFERROR($E476*SUMIF('Daily Log'!$E$18:$E$1017,$B476,'Daily Log'!$F$18:$F$1017),0)","v":0},{"$f":"IFERROR($E476*SUMIF('Daily Log'!$H$18:$H$1017,$B476,'Daily Log'!$I$18:$I$1017),0)","v":0},{"$f":"IFERROR($E476*SUMIF('Daily Log'!$K$18:$K$1017,$B476,'Daily Log'!$L$18:$L$1017),0)","v":0},{"$f":"IFERROR($E476*SUMIF('Daily Log'!$N$18:$N$1017,$B476,'Daily Log'!$O$18:$O$1017),0)","v":0},{"$f":"IFERROR($E476*SUMIF('Daily Log'!$Q$18:$Q$1017,$B476,'Daily Log'!$R$18:$R$1017),0)","v":0},{"$f":"IFERROR($E476*SUMIF('Daily Log'!$T$18:$T$1017,$B476,'Daily Log'!$U$18:$U$1017),0)","v":0},{"$f":"IFERROR($E476*SUMIF('Daily Log'!$W$18:$W$1017,$B476,'Daily Log'!$X$18:$X$1017),0)","v":0},{"$f":"IFERROR($E476*SUMIF('Daily Log'!$Z$18:$Z$1017,$B476,'Daily Log'!$AA$18:$AA$1017),0)","v":0},{"$f":"IFERROR($E476*SUMIF('Daily Log'!$AC$18:$AC$1017,$B476,'Daily Log'!$AD$18:$AD$1017),0)","v":0},{"$f":"IFERROR($E476*SUMIF('Daily Log'!$AF$18:$AF$1017,$B476,'Daily Log'!$AG$18:$AG$1017),0)","v":0},{"$f":"IFERROR($E476*SUMIF('Daily Log'!$AI$18:$AI$1017,$B476,'Daily Log'!$AJ$18:$AJ$1017),0)","v":0},{"$f":"IFERROR($E476*SUMIF('Daily Log'!$AL$18:$AL$1017,$B476,'Daily Log'!$AM$18:$AM$1017),0)","v":0},{"$f":"IFERROR($E476*SUMIF('Daily Log'!$AO$18:$AO$1017,$B476,'Daily Log'!$AP$18:$AP$1017),0)","v":0},{"$f":"IFERROR($E476*SUMIF('Daily Log'!$AR$18:$AR$1017,$B476,'Daily Log'!$AS$18:$AS$1017),0)","v":0},{"$f":"IFERROR($E476*SUMIF('Daily Log'!$AU$18:$AU$1017,$B476,'Daily Log'!$AV$18:$AV$1017),0)","v":0},{"$f":"IFERROR($E476*SUMIF('Daily Log'!$AX$18:$AX$1017,$B476,'Daily Log'!$AY$18:$AY$1017),0)","v":0},{"$f":"IFERROR($E476*SUMIF('Daily Log'!$BA$18:$BA$1017,$B476,'Daily Log'!$BB$18:$BB$1017),0)","v":0},{"$f":"IFERROR($E476*SUMIF('Daily Log'!$BD$18:$BD$1017,$B476,'Daily Log'!$BE$18:$BE$1017),0)","v":0},{"$f":"IFERROR($E476*SUMIF('Daily Log'!$BG$18:$BG$1017,$B476,'Daily Log'!$BH$18:$BH$1017),0)","v":0},{"$f":"IFERROR($E476*SUMIF('Daily Log'!$BJ$18:$BJ$1017,$B476,'Daily Log'!$BK$18:$BK$1017),0)","v":0},{"$f":"IFERROR($E476*SUMIF('Daily Log'!$BM$18:$BM$1017,$B476,'Daily Log'!$BN$18:$BN$1017),0)","v":0},{"$f":"IFERROR($E476*SUMIF('Daily Log'!$BP$18:$BP$1017,$B476,'Daily Log'!$BQ$18:$BQ$1017),0)","v":0},{"$f":"IFERROR($E476*SUMIF('Daily Log'!$BS$18:$BS$1017,$B476,'Daily Log'!$BT$18:$BT$1017),0)","v":0},{"$f":"IFERROR($E476*SUMIF('Daily Log'!$BV$18:$BV$1017,$B476,'Daily Log'!$BW$18:$BW$1017),0)","v":0},{"$f":"IFERROR($E476*SUMIF('Daily Log'!$BY$18:$BY$1017,$B476,'Daily Log'!$BZ$18:$BZ$1017),0)","v":0},{"$f":"IFERROR($E476*SUMIF('Daily Log'!$CB$18:$CB$1017,$B476,'Daily Log'!$CC$18:$CC$1017),0)","v":0},{"$f":"IFERROR($E476*SUMIF('Daily Log'!$CE$18:$CE$1017,$B476,'Daily Log'!$CF$18:$CF$1017),0)","v":0},{"$f":"IFERROR($E476*SUMIF('Daily Log'!$CH$18:$CH$1017,$B476,'Daily Log'!$CI$18:$CI$1017),0)","v":0},{"$f":"IFERROR($E476*SUMIF('Daily Log'!$CK$18:$CK$1017,$B476,'Daily Log'!$CL$18:$CL$1017),0)","v":0},{"$f":"IFERROR($E476*SUMIF('Daily Log'!$CN$18:$CN$1017,$B476,'Daily Log'!$CO$18:$CO$1017),0)","v":0}]
[null,"ZAD31 + SAUCE SAMBAL",null,null,1,0,{"$f":"IFERROR($E477*SUMIF('Daily Log'!$B$18:$B$1017,$B477,'Daily Log'!$C$18:$C$1017),0)","v":0},{"$f":"IFERROR($E477*SUMIF('Daily Log'!$E$18:$E$1017,$B477,'Daily Log'!$F$18:$F$1017),0)","v":0},{"$f":"IFERROR($E477*SUMIF('Daily Log'!$H$18:$H$1017,$B477,'Daily Log'!$I$18:$I$1017),0)","v":0},{"$f":"IFERROR($E477*SUMIF('Daily Log'!$K$18:$K$1017,$B477,'Daily Log'!$L$18:$L$1017),0)","v":0},{"$f":"IFERROR($E477*SUMIF('Daily Log'!$N$18:$N$1017,$B477,'Daily Log'!$O$18:$O$1017),0)","v":0},{"$f":"IFERROR($E477*SUMIF('Daily Log'!$Q$18:$Q$1017,$B477,'Daily Log'!$R$18:$R$1017),0)","v":0},{"$f":"IFERROR($E477*SUMIF('Daily Log'!$T$18:$T$1017,$B477,'Daily Log'!$U$18:$U$1017),0)","v":0},{"$f":"IFERROR($E477*SUMIF('Daily Log'!$W$18:$W$1017,$B477,'Daily Log'!$X$18:$X$1017),0)","v":0},{"$f":"IFERROR($E477*SUMIF('Daily Log'!$Z$18:$Z$1017,$B477,'Daily Log'!$AA$18:$AA$1017),0)","v":0},{"$f":"IFERROR($E477*SUMIF('Daily Log'!$AC$18:$AC$1017,$B477,'Daily Log'!$AD$18:$AD$1017),0)","v":0},{"$f":"IFERROR($E477*SUMIF('Daily Log'!$AF$18:$AF$1017,$B477,'Daily Log'!$AG$18:$AG$1017),0)","v":0},{"$f":"IFERROR($E477*SUMIF('Daily Log'!$AI$18:$AI$1017,$B477,'Daily Log'!$AJ$18:$AJ$1017),0)","v":0},{"$f":"IFERROR($E477*SUMIF('Daily Log'!$AL$18:$AL$1017,$B477,'Daily Log'!$AM$18:$AM$1017),0)","v":0},{"$f":"IFERROR($E477*SUMIF('Daily Log'!$AO$18:$AO$1017,$B477,'Daily Log'!$AP$18:$AP$1017),0)","v":0},{"$f":"IFERROR($E477*SUMIF('Daily Log'!$AR$18:$AR$1017,$B477,'Daily Log'!$AS$18:$AS$1017),0)","v":0},{"$f":"IFERROR($E477*SUMIF('Daily Log'!$AU$18:$AU$1017,$B477,'Daily Log'!$AV$18:$AV$1017),0)","v":0},{"$f":"IFERROR($E477*SUMIF('Daily Log'!$AX$18:$AX$1017,$B477,'Daily Log'!$AY$18:$AY$1017),0)","v":0},{"$f":"IFERROR($E477*SUMIF('Daily Log'!$BA$18:$BA$1017,$B477,'Daily Log'!$BB$18:$BB$1017),0)","v":0},{"$f":"IFERROR($E477*SUMIF('Daily Log'!$BD$18:$BD$1017,$B477,'Daily Log'!$BE$18:$BE$1017),0)","v":0},{"$f":"IFERROR($E477*SUMIF('Daily Log'!$BG$18:$BG$1017,$B477,'Daily Log'!$BH$18:$BH$1017),0)","v":0},{"$f":"IFERROR($E477*SUMIF('Daily Log'!$BJ$18:$BJ$1017,$B477,'Daily Log'!$BK$18:$BK$1017),0)","v":0},{"$f":"IFERROR($E477*SUMIF('Daily Log'!$BM$18:$BM$1017,$B477,'Daily Log'!$BN$18:$BN$1017),0)","v":0},{"$f":"IFERROR($E477*SUMIF('Daily Log'!$BP$18:$BP$1017,$B477,'Daily Log'!$BQ$18:$BQ$1017),0)","v":0},{"$f":"IFERROR($E477*SUMIF('Daily Log'!$BS$18:$BS$1017,$B477,'Daily Log'!$BT$18:$BT$1017),0)","v":0},{"$f":"IFERROR($E477*SUMIF('Daily Log'!$BV$18:$BV$1017,$B477,'Daily Log'!$BW$18:$BW$1017),0)","v":0},{"$f":"IFERROR($E477*SUMIF('Daily Log'!$BY$18:$BY$1017,$B477,'Daily Log'!$BZ$18:$BZ$1017),0)","v":0},{"$f":"IFERROR($E477*SUMIF('Daily Log'!$CB$18:$CB$1017,$B477,'Daily Log'!$CC$18:$CC$1017),0)","v":0},{"$f":"IFERROR($E477*SUMIF('Daily Log'!$CE$18:$CE$1017,$B477,'Daily Log'!$CF$18:$CF$1017),0)","v":0},{"$f":"IFERROR($E477*SUMIF('Daily Log'!$CH$18:$CH$1017,$B477,'Daily Log'!$CI$18:$CI$1017),0)","v":0},{"$f":"IFERROR($E477*SUMIF('Daily Log'!$CK$18:$CK$1017,$B477,'Daily Log'!$CL$18:$CL$1017),0)","v":0},{"$f":"IFERROR($E477*SUMIF('Daily Log'!$CN$18:$CN$1017,$B477,'Daily Log'!$CO$18:$CO$1017),0)","v":0}]
[null,"ZAD32 + SAUCE THAI",null,null,1,0,{"$f":"IFERROR($E478*SUMIF('Daily Log'!$B$18:$B$1017,$B478,'Daily Log'!$C$18:$C$1017),0)","v":0},{"$f":"IFERROR($E478*SUMIF('Daily Log'!$E$18:$E$1017,$B478,'Daily Log'!$F$18:$F$1017),0)","v":0},{"$f":"IFERROR($E478*SUMIF('Daily Log'!$H$18:$H$1017,$B478,'Daily Log'!$I$18:$I$1017),0)","v":0},{"$f":"IFERROR($E478*SUMIF('Daily Log'!$K$18:$K$1017,$B478,'Daily Log'!$L$18:$L$1017),0)","v":0},{"$f":"IFERROR($E478*SUMIF('Daily Log'!$N$18:$N$1017,$B478,'Daily Log'!$O$18:$O$1017),0)","v":0},{"$f":"IFERROR($E478*SUMIF('Daily Log'!$Q$18:$Q$1017,$B478,'Daily Log'!$R$18:$R$1017),0)","v":0},{"$f":"IFERROR($E478*SUMIF('Daily Log'!$T$18:$T$1017,$B478,'Daily Log'!$U$18:$U$1017),0)","v":0},{"$f":"IFERROR($E478*SUMIF('Daily Log'!$W$18:$W$1017,$B478,'Daily Log'!$X$18:$X$1017),0)","v":0},{"$f":"IFERROR($E478*SUMIF('Daily Log'!$Z$18:$Z$1017,$B478,'Daily Log'!$AA$18:$AA$1017),0)","v":0},{"$f":"IFERROR($E478*SUMIF('Daily Log'!$AC$18:$AC$1017,$B478,'Daily Log'!$AD$18:$AD$1017),0)","v":0},{"$f":"IFERROR($E478*SUMIF('Daily Log'!$AF$18:$AF$1017,$B478,'Daily Log'!$AG$18:$AG$1017),0)","v":0},{"$f":"IFERROR($E478*SUMIF('Daily Log'!$AI$18:$AI$1017,$B478,'Daily Log'!$AJ$18:$AJ$1017),0)","v":0},{"$f":"IFERROR($E478*SUMIF('Daily Log'!$AL$18:$AL$1017,$B478,'Daily Log'!$AM$18:$AM$1017),0)","v":0},{"$f":"IFERROR($E478*SUMIF('Daily Log'!$AO$18:$AO$1017,$B478,'Daily Log'!$AP$18:$AP$1017),0)","v":0},{"$f":"IFERROR($E478*SUMIF('Daily Log'!$AR$18:$AR$1017,$B478,'Daily Log'!$AS$18:$AS$1017),0)","v":0},{"$f":"IFERROR($E478*SUMIF('Daily Log'!$AU$18:$AU$1017,$B478,'Daily Log'!$AV$18:$AV$1017),0)","v":0},{"$f":"IFERROR($E478*SUMIF('Daily Log'!$AX$18:$AX$1017,$B478,'Daily Log'!$AY$18:$AY$1017),0)","v":0},{"$f":"IFERROR($E478*SUMIF('Daily Log'!$BA$18:$BA$1017,$B478,'Daily Log'!$BB$18:$BB$1017),0)","v":0},{"$f":"IFERROR($E478*SUMIF('Daily Log'!$BD$18:$BD$1017,$B478,'Daily Log'!$BE$18:$BE$1017),0)","v":0},{"$f":"IFERROR($E478*SUMIF('Daily Log'!$BG$18:$BG$1017,$B478,'Daily Log'!$BH$18:$BH$1017),0)","v":0},{"$f":"IFERROR($E478*SUMIF('Daily Log'!$BJ$18:$BJ$1017,$B478,'Daily Log'!$BK$18:$BK$1017),0)","v":0},{"$f":"IFERROR($E478*SUMIF('Daily Log'!$BM$18:$BM$1017,$B478,'Daily Log'!$BN$18:$BN$1017),0)","v":0},{"$f":"IFERROR($E478*SUMIF('Daily Log'!$BP$18:$BP$1017,$B478,'Daily Log'!$BQ$18:$BQ$1017),0)","v":0},{"$f":"IFERROR($E478*SUMIF('Daily Log'!$BS$18:$BS$1017,$B478,'Daily Log'!$BT$18:$BT$1017),0)","v":0},{"$f":"IFERROR($E478*SUMIF('Daily Log'!$BV$18:$BV$1017,$B478,'Daily Log'!$BW$18:$BW$1017),0)","v":0},{"$f":"IFERROR($E478*SUMIF('Daily Log'!$BY$18:$BY$1017,$B478,'Daily Log'!$BZ$18:$BZ$1017),0)","v":0},{"$f":"IFERROR($E478*SUMIF('Daily Log'!$CB$18:$CB$1017,$B478,'Daily Log'!$CC$18:$CC$1017),0)","v":0},{"$f":"IFERROR($E478*SUMIF('Daily Log'!$CE$18:$CE$1017,$B478,'Daily Log'!$CF$18:$CF$1017),0)","v":0},{"$f":"IFERROR($E478*SUMIF('Daily Log'!$CH$18:$CH$1017,$B478,'Daily Log'!$CI$18:$CI$1017),0)","v":0},{"$f":"IFERROR($E478*SUMIF('Daily Log'!$CK$18:$CK$1017,$B478,'Daily Log'!$CL$18:$CL$1017),0)","v":0},{"$f":"IFERROR($E478*SUMIF('Daily Log'!$CN$18:$CN$1017,$B478,'Daily Log'!$CO$18:$CO$1017),0)","v":0}]
[null,"ZAD34 + SAUCE TATAR",null,null,1,{"$f":"SUM($G479:$AK479)","v":0},{"$f":"IFERROR($E479*SUMIF('Daily Log'!$B$18:$B$1017,$B479,'Daily Log'!$C$18:$C$1017),0)","v":0},{"$f":"IFERROR($E479*SUMIF('Daily Log'!$E$18:$E$1017,$B479,'Daily Log'!$F$18:$F$1017),0)","v":0},{"$f":"IFERROR($E479*SUMIF('Daily Log'!$H$18:$H$1017,$B479,'Daily Log'!$I$18:$I$1017),0)","v":0},{"$f":"IFERROR($E479*SUMIF('Daily Log'!$K$18:$K$1017,$B479,'Daily Log'!$L$18:$L$1017),0)","v":0},{"$f":"IFERROR($E479*SUMIF('Daily Log'!$N$18:$N$1017,$B479,'Daily Log'!$O$18:$O$1017),0)","v":0},{"$f":"IFERROR($E479*SUMIF('Daily Log'!$Q$18:$Q$1017,$B479,'Daily Log'!$R$18:$R$1017),0)","v":0},{"$f":"IFERROR($E479*SUMIF('Daily Log'!$T$18:$T$1017,$B479,'Daily Log'!$U$18:$U$1017),0)","v":0},{"$f":"IFERROR($E479*SUMIF('Daily Log'!$W$18:$W$1017,$B479,'Daily Log'!$X$18:$X$1017),0)","v":0},{"$f":"IFERROR($E479*SUMIF('Daily Log'!$Z$18:$Z$1017,$B479,'Daily Log'!$AA$18:$AA$1017),0)","v":0},{"$f":"IFERROR($E479*SUMIF('Daily Log'!$AC$18:$AC$1017,$B479,'Daily Log'!$AD$18:$AD$1017),0)","v":0},{"$f":"IFERROR($E479*SUMIF('Daily Log'!$AF$18:$AF$1017,$B479,'Daily Log'!$AG$18:$AG$1017),0)","v":0},{"$f":"IFERROR($E479*SUMIF('Daily Log'!$AI$18:$AI$1017,$B479,'Daily Log'!$AJ$18:$AJ$1017),0)","v":0},{"$f":"IFERROR($E479*SUMIF('Daily Log'!$AL$18:$AL$1017,$B479,'Daily Log'!$AM$18:$AM$1017),0)","v":0},{"$f":"IFERROR($E479*SUMIF('Daily Log'!$AO$18:$AO$1017,$B479,'Daily Log'!$AP$18:$AP$1017),0)","v":0},{"$f":"IFERROR($E479*SUMIF('Daily Log'!$AR$18:$AR$1017,$B479,'Daily Log'!$AS$18:$AS$1017),0)","v":0},{"$f":"IFERROR($E479*SUMIF('Daily Log'!$AU$18:$AU$1017,$B479,'Daily Log'!$AV$18:$AV$1017),0)","v":0},{"$f":"IFERROR($E479*SUMIF('Daily Log'!$AX$18:$AX$1017,$B479,'Daily Log'!$AY$18:$AY$1017),0)","v":0},{"$f":"IFERROR($E479*SUMIF('Daily Log'!$BA$18:$BA$1017,$B479,'Daily Log'!$BB$18:$BB$1017),0)","v":0},{"$f":"IFERROR($E479*SUMIF('Daily Log'!$BD$18:$BD$1017,$B479,'Daily Log'!$BE$18:$BE$1017),0)","v":0},{"$f":"IFERROR($E479*SUMIF('Daily Log'!$BG$18:$BG$1017,$B479,'Daily Log'!$BH$18:$BH$1017),0)","v":0},{"$f":"IFERROR($E479*SUMIF('Daily Log'!$BJ$18:$BJ$1017,$B479,'Daily Log'!$BK$18:$BK$1017),0)","v":0},{"$f":"IFERROR($E479*SUMIF('Daily Log'!$BM$18:$BM$1017,$B479,'Daily Log'!$BN$18:$BN$1017),0)","v":0},{"$f":"IFERROR($E479*SUMIF('Daily Log'!$BP$18:$BP$1017,$B479,'Daily Log'!$BQ$18:$BQ$1017),0)","v":0},{"$f":"IFERROR($E479*SUMIF('Daily Log'!$BS$18:$BS$1017,$B479,'Daily Log'!$BT$18:$BT$1017),0)","v":0},{"$f":"IFERROR($E479*SUMIF('Daily Log'!$BV$18:$BV$1017,$B479,'Daily Log'!$BW$18:$BW$1017),0)","v":0},{"$f":"IFERROR($E479*SUMIF('Daily Log'!$BY$18:$BY$1017,$B479,'Daily Log'!$BZ$18:$BZ$1017),0)","v":0},{"$f":"IFERROR($E479*SUMIF('Daily Log'!$CB$18:$CB$1017,$B479,'Daily Log'!$CC$18:$CC$1017),0)","v":0},{"$f":"IFERROR($E479*SUMIF('Daily Log'!$CE$18:$CE$1017,$B479,'Daily Log'!$CF$18:$CF$1017),0)","v":0},{"$f":"IFERROR($E479*SUMIF('Daily Log'!$CH$18:$CH$1017,$B479,'Daily Log'!$CI$18:$CI$1017),0)","v":0},{"$f":"IFERROR($E479*SUMIF('Daily Log'!$CK$18:$CK$1017,$B479,'Daily Log'!$CL$18:$CL$1017),0)","v":0},{"$f":"IFERROR($E479*SUMIF('Daily Log'!$CN$18:$CN$1017,$B479,'Daily Log'!$CO$18:$CO$1017),0)","v":0}]
[null,"ZAD36 BEER GLASS",null,null,1,0,{"$f":"IFERROR($E480*SUMIF('Daily Log'!$B$18:$B$1017,$B480,'Daily Log'!$C$18:$C$1017),0)","v":0},{"$f":"IFERROR($E480*SUMIF('Daily Log'!$E$18:$E$1017,$B480,'Daily Log'!$F$18:$F$1017),0)","v":0},{"$f":"IFERROR($E480*SUMIF('Daily Log'!$H$18:$H$1017,$B480,'Daily Log'!$I$18:$I$1017),0)","v":0},{"$f":"IFERROR($E480*SUMIF('Daily Log'!$K$18:$K$1017,$B480,'Daily Log'!$L$18:$L$1017),0)","v":0},{"$f":"IFERROR($E480*SUMIF('Daily Log'!$N$18:$N$1017,$B480,'Daily Log'!$O$18:$O$1017),0)","v":0},{"$f":"IFERROR($E480*SUMIF('Daily Log'!$Q$18:$Q$1017,$B480,'Daily Log'!$R$18:$R$1017),0)","v":0},{"$f":"IFERROR($E480*SUMIF('Daily Log'!$T$18:$T$1017,$B480,'Daily Log'!$U$18:$U$1017),0)","v":0},{"$f":"IFERROR($E480*SUMIF('Daily Log'!$W$18:$W$1017,$B480,'Daily Log'!$X$18:$X$1017),0)","v":0},{"$f":"IFERROR($E480*SUMIF('Daily Log'!$Z$18:$Z$1017,$B480,'Daily Log'!$AA$18:$AA$1017),0)","v":0},{"$f":"IFERROR($E480*SUMIF('Daily Log'!$AC$18:$AC$1017,$B480,'Daily Log'!$AD$18:$AD$1017),0)","v":0},{"$f":"IFERROR($E480*SUMIF('Daily Log'!$AF$18:$AF$1017,$B480,'Daily Log'!$AG$18:$AG$1017),0)","v":0},{"$f":"IFERROR($E480*SUMIF('Daily Log'!$AI$18:$AI$1017,$B480,'Daily Log'!$AJ$18:$AJ$1017),0)","v":0},{"$f":"IFERROR($E480*SUMIF('Daily Log'!$AL$18:$AL$1017,$B480,'Daily Log'!$AM$18:$AM$1017),0)","v":0},{"$f":"IFERROR($E480*SUMIF('Daily Log'!$AO$18:$AO$1017,$B480,'Daily Log'!$AP$18:$AP$1017),0)","v":0},{"$f":"IFERROR($E480*SUMIF('Daily Log'!$AR$18:$AR$1017,$B480,'Daily Log'!$AS$18:$AS$1017),0)","v":0},{"$f":"IFERROR($E480*SUMIF('Daily Log'!$AU$18:$AU$1017,$B480,'Daily Log'!$AV$18:$AV$1017),0)","v":0},{"$f":"IFERROR($E480*SUMIF('Daily Log'!$AX$18:$AX$1017,$B480,'Daily Log'!$AY$18:$AY$1017),0)","v":0},{"$f":"IFERROR($E480*SUMIF('Daily Log'!$BA$18:$BA$1017,$B480,'Daily Log'!$BB$18:$BB$1017),0)","v":0},{"$f":"IFERROR($E480*SUMIF('Daily Log'!$BD$18:$BD$1017,$B480,'Daily Log'!$BE$18:$BE$1017),0)","v":0},{"$f":"IFERROR($E480*SUMIF('Daily Log'!$BG$18:$BG$1017,$B480,'Daily Log'!$BH$18:$BH$1017),0)","v":0},{"$f":"IFERROR($E480*SUMIF('Daily Log'!$BJ$18:$BJ$1017,$B480,'Daily Log'!$BK$18:$BK$1017),0)","v":0},{"$f":"IFERROR($E480*SUMIF('Daily Log'!$BM$18:$BM$1017,$B480,'Daily Log'!$BN$18:$BN$1017),0)","v":0},{"$f":"IFERROR($E480*SUMIF('Daily Log'!$BP$18:$BP$1017,$B480,'Daily Log'!$BQ$18:$BQ$1017),0)","v":0},{"$f":"IFERROR($E480*SUMIF('Daily Log'!$BS$18:$BS$1017,$B480,'Daily Log'!$BT$18:$BT$1017),0)","v":0},{"$f":"IFERROR($E480*SUMIF('Daily Log'!$BV$18:$BV$1017,$B480,'Daily Log'!$BW$18:$BW$1017),0)","v":0},{"$f":"IFERROR($E480*SUMIF('Daily Log'!$BY$18:$BY$1017,$B480,'Daily Log'!$BZ$18:$BZ$1017),0)","v":0},{"$f":"IFERROR($E480*SUMIF('Daily Log'!$CB$18:$CB$1017,$B480,'Daily Log'!$CC$18:$CC$1017),0)","v":0},{"$f":"IFERROR($E480*SUMIF('Daily Log'!$CE$18:$CE$1017,$B480,'Daily Log'!$CF$18:$CF$1017),0)","v":0},{"$f":"IFERROR($E480*SUMIF('Daily Log'!$CH$18:$CH$1017,$B480,'Daily Log'!$CI$18:$CI$1017),0)","v":0},{"$f":"IFERROR($E480*SUMIF('Daily Log'!$CK$18:$CK$1017,$B480,'Daily Log'!$CL$18:$CL$1017),0)","v":0},{"$f":"IFERROR($E480*SUMIF('Daily Log'!$CN$18:$CN$1017,$B480,'Daily Log'!$CO$18:$CO$1017),0)","v":0}]
[null,"ZAD37 ICE BUCKET",null,null,1,0,{"$f":"IFERROR($E481*SUMIF('Daily Log'!$B$18:$B$1017,$B481,'Daily Log'!$C$18:$C$1017),0)","v":0},{"$f":"IFERROR($E481*SUMIF('Daily Log'!$E$18:$E$1017,$B481,'Daily Log'!$F$18:$F$1017),0)","v":0},{"$f":"IFERROR($E481*SUMIF('Daily Log'!$H$18:$H$1017,$B481,'Daily Log'!$I$18:$I$1017),0)","v":0},{"$f":"IFERROR($E481*SUMIF('Daily Log'!$K$18:$K$1017,$B481,'Daily Log'!$L$18:$L$1017),0)","v":0},{"$f":"IFERROR($E481*SUMIF('Daily Log'!$N$18:$N$1017,$B481,'Daily Log'!$O$18:$O$1017),0)","v":0},{"$f":"IFERROR($E481*SUMIF('Daily Log'!$Q$18:$Q$1017,$B481,'Daily Log'!$R$18:$R$1017),0)","v":0},{"$f":"IFERROR($E481*SUMIF('Daily Log'!$T$18:$T$1017,$B481,'Daily Log'!$U$18:$U$1017),0)","v":0},{"$f":"IFERROR($E481*SUMIF('Daily Log'!$W$18:$W$1017,$B481,'Daily Log'!$X$18:$X$1017),0)","v":0},{"$f":"IFERROR($E481*SUMIF('Daily Log'!$Z$18:$Z$1017,$B481,'Daily Log'!$AA$18:$AA$1017),0)","v":0},{"$f":"IFERROR($E481*SUMIF('Daily Log'!$AC$18:$AC$1017,$B481,'Daily Log'!$AD$18:$AD$1017),0)","v":0},{"$f":"IFERROR($E481*SUMIF('Daily Log'!$AF$18:$AF$1017,$B481,'Daily Log'!$AG$18:$AG$1017),0)","v":0},{"$f":"IFERROR($E481*SUMIF('Daily Log'!$AI$18:$AI$1017,$B481,'Daily Log'!$AJ$18:$AJ$1017),0)","v":0},{"$f":"IFERROR($E481*SUMIF('Daily Log'!$AL$18:$AL$1017,$B481,'Daily Log'!$AM$18:$AM$1017),0)","v":0},{"$f":"IFERROR($E481*SUMIF('Daily Log'!$AO$18:$AO$1017,$B481,'Daily Log'!$AP$18:$AP$1017),0)","v":0},{"$f":"IFERROR($E481*SUMIF('Daily Log'!$AR$18:$AR$1017,$B481,'Daily Log'!$AS$18:$AS$1017),0)","v":0},{"$f":"IFERROR($E481*SUMIF('Daily Log'!$AU$18:$AU$1017,$B481,'Daily Log'!$AV$18:$AV$1017),0)","v":0},{"$f":"IFERROR($E481*SUMIF('Daily Log'!$AX$18:$AX$1017,$B481,'Daily Log'!$AY$18:$AY$1017),0)","v":0},{"$f":"IFERROR($E481*SUMIF('Daily Log'!$BA$18:$BA$1017,$B481,'Daily Log'!$BB$18:$BB$1017),0)","v":0},{"$f":"IFERROR($E481*SUMIF('Daily Log'!$BD$18:$BD$1017,$B481,'Daily Log'!$BE$18:$BE$1017),0)","v":0},{"$f":"IFERROR($E481*SUMIF('Daily Log'!$BG$18:$BG$1017,$B481,'Daily Log'!$BH$18:$BH$1017),0)","v":0},{"$f":"IFERROR($E481*SUMIF('Daily Log'!$BJ$18:$BJ$1017,$B481,'Daily Log'!$BK$18:$BK$1017),0)","v":0},{"$f":"IFERROR($E481*SUMIF('Daily Log'!$BM$18:$BM$1017,$B481,'Daily Log'!$BN$18:$BN$1017),0)","v":0},{"$f":"IFERROR($E481*SUMIF('Daily Log'!$BP$18:$BP$1017,$B481,'Daily Log'!$BQ$18:$BQ$1017),0)","v":0},{"$f":"IFERROR($E481*SUMIF('Daily Log'!$BS$18:$BS$1017,$B481,'Daily Log'!$BT$18:$BT$1017),0)","v":0},{"$f":"IFERROR($E481*SUMIF('Daily Log'!$BV$18:$BV$1017,$B481,'Daily Log'!$BW$18:$BW$1017),0)","v":0},{"$f":"IFERROR($E481*SUMIF('Daily Log'!$BY$18:$BY$1017,$B481,'Daily Log'!$BZ$18:$BZ$1017),0)","v":0},{"$f":"IFERROR($E481*SUMIF('Daily Log'!$CB$18:$CB$1017,$B481,'Daily Log'!$CC$18:$CC$1017),0)","v":0},{"$f":"IFERROR($E481*SUMIF('Daily Log'!$CE$18:$CE$1017,$B481,'Daily Log'!$CF$18:$CF$1017),0)","v":0},{"$f":"IFERROR($E481*SUMIF('Daily Log'!$CH$18:$CH$1017,$B481,'Daily Log'!$CI$18:$CI$1017),0)","v":0},{"$f":"IFERROR($E481*SUMIF('Daily Log'!$CK$18:$CK$1017,$B481,'Daily Log'!$CL$18:$CL$1017),0)","v":0},{"$f":"IFERROR($E481*SUMIF('Daily Log'!$CN$18:$CN$1017,$B481,'Daily Log'!$CO$18:$CO$1017),0)","v":0}]
[null,"ZAE01 GUI MEM EX BKT",null,null,4,null,{"$f":"IFERROR($E482*SUMIF('Daily Log'!$B$18:$B$1017,$B482,'Daily Log'!$C$18:$C$1017),0)","v":0},{"$f":"IFERROR($E482*SUMIF('Daily Log'!$E$18:$E$1017,$B482,'Daily Log'!$F$18:$F$1017),0)","v":0},{"$f":"IFERROR($E482*SUMIF('Daily Log'!$H$18:$H$1017,$B482,'Daily Log'!$I$18:$I$1017),0)","v":0},{"$f":"IFERROR($E482*SUMIF('Daily Log'!$K$18:$K$1017,$B482,'Daily Log'!$L$18:$L$1017),0)","v":0},{"$f":"IFERROR($E482*SUMIF('Daily Log'!$N$18:$N$1017,$B482,'Daily Log'!$O$18:$O$1017),0)","v":0},{"$f":"IFERROR($E482*SUMIF('Daily Log'!$Q$18:$Q$1017,$B482,'Daily Log'!$R$18:$R$1017),0)","v":0},{"$f":"IFERROR($E482*SUMIF('Daily Log'!$T$18:$T$1017,$B482,'Daily Log'!$U$18:$U$1017),0)","v":0},{"$f":"IFERROR($E482*SUMIF('Daily Log'!$W$18:$W$1017,$B482,'Daily Log'!$X$18:$X$1017),0)","v":0},{"$f":"IFERROR($E482*SUMIF('Daily Log'!$Z$18:$Z$1017,$B482,'Daily Log'!$AA$18:$AA$1017),0)","v":0},{"$f":"IFERROR($E482*SUMIF('Daily Log'!$AC$18:$AC$1017,$B482,'Daily Log'!$AD$18:$AD$1017),0)","v":0},{"$f":"IFERROR($E482*SUMIF('Daily Log'!$AF$18:$AF$1017,$B482,'Daily Log'!$AG$18:$AG$1017),0)","v":0},{"$f":"IFERROR($E482*SUMIF('Daily Log'!$AI$18:$AI$1017,$B482,'Daily Log'!$AJ$18:$AJ$1017),0)","v":0},{"$f":"IFERROR($E482*SUMIF('Daily Log'!$AL$18:$AL$1017,$B482,'Daily Log'!$AM$18:$AM$1017),0)","v":0},{"$f":"IFERROR($E482*SUMIF('Daily Log'!$AO$18:$AO$1017,$B482,'Daily Log'!$AP$18:$AP$1017),0)","v":0},{"$f":"IFERROR($E482*SUMIF('Daily Log'!$AR$18:$AR$1017,$B482,'Daily Log'!$AS$18:$AS$1017),0)","v":0},{"$f":"IFERROR($E482*SUMIF('Daily Log'!$AU$18:$AU$1017,$B482,'Daily Log'!$AV$18:$AV$1017),0)","v":0},{"$f":"IFERROR($E482*SUMIF('Daily Log'!$AX$18:$AX$1017,$B482,'Daily Log'!$AY$18:$AY$1017),0)","v":0},{"$f":"IFERROR($E482*SUMIF('Daily Log'!$BA$18:$BA$1017,$B482,'Daily Log'!$BB$18:$BB$1017),0)","v":0},{"$f":"IFERROR($E482*SUMIF('Daily Log'!$BD$18:$BD$1017,$B482,'Daily Log'!$BE$18:$BE$1017),0)","v":0},{"$f":"IFERROR($E482*SUMIF('Daily Log'!$BG$18:$BG$1017,$B482,'Daily Log'!$BH$18:$BH$1017),0)","v":0},{"$f":"IFERROR($E482*SUMIF('Daily Log'!$BJ$18:$BJ$1017,$B482,'Daily Log'!$BK$18:$BK$1017),0)","v":0},{"$f":"IFERROR($E482*SUMIF('Daily Log'!$BM$18:$BM$1017,$B482,'Daily Log'!$BN$18:$BN$1017),0)","v":0},{"$f":"IFERROR($E482*SUMIF('Daily Log'!$BP$18:$BP$1017,$B482,'Daily Log'!$BQ$18:$BQ$1017),0)","v":0},{"$f":"IFERROR($E482*SUMIF('Daily Log'!$BS$18:$BS$1017,$B482,'Daily Log'!$BT$18:$BT$1017),0)","v":0},{"$f":"IFERROR($E482*SUMIF('Daily Log'!$BV$18:$BV$1017,$B482,'Daily Log'!$BW$18:$BW$1017),0)","v":0},{"$f":"IFERROR($E482*SUMIF('Daily Log'!$BY$18:$BY$1017,$B482,'Daily Log'!$BZ$18:$BZ$1017),0)","v":0},{"$f":"IFERROR($E482*SUMIF('Daily Log'!$CB$18:$CB$1017,$B482,'Daily Log'!$CC$18:$CC$1017),0)","v":0},{"$f":"IFERROR($E482*SUMIF('Daily Log'!$CE$18:$CE$1017,$B482,'Daily Log'!$CF$18:$CF$1017),0)","v":0},{"$f":"IFERROR($E482*SUMIF('Daily Log'!$CH$18:$CH$1017,$B482,'Daily Log'!$CI$18:$CI$1017),0)","v":0},{"$f":"IFERROR($E482*SUMIF('Daily Log'!$CK$18:$CK$1017,$B482,'Daily Log'!$CL$18:$CL$1017),0)","v":0},{"$f":"IFERROR($E482*SUMIF('Daily Log'!$CN$18:$CN$1017,$B482,'Daily Log'!$CO$18:$CO$1017),0)","v":0}]
[null,"ZAE02 HEI MEM EX BKT",null,null,4,0,{"$f":"IFERROR($E483*SUMIF('Daily Log'!$B$18:$B$1017,$B483,'Daily Log'!$C$18:$C$1017),0)","v":0},{"$f":"IFERROR($E483*SUMIF('Daily Log'!$E$18:$E$1017,$B483,'Daily Log'!$F$18:$F$1017),0)","v":0},{"$f":"IFERROR($E483*SUMIF('Daily Log'!$H$18:$H$1017,$B483,'Daily Log'!$I$18:$I$1017),0)","v":0},{"$f":"IFERROR($E483*SUMIF('Daily Log'!$K$18:$K$1017,$B483,'Daily Log'!$L$18:$L$1017),0)","v":0},{"$f":"IFERROR($E483*SUMIF('Daily Log'!$N$18:$N$1017,$B483,'Daily Log'!$O$18:$O$1017),0)","v":0},{"$f":"IFERROR($E483*SUMIF('Daily Log'!$Q$18:$Q$1017,$B483,'Daily Log'!$R$18:$R$1017),0)","v":0},{"$f":"IFERROR($E483*SUMIF('Daily Log'!$T$18:$T$1017,$B483,'Daily Log'!$U$18:$U$1017),0)","v":0},{"$f":"IFERROR($E483*SUMIF('Daily Log'!$W$18:$W$1017,$B483,'Daily Log'!$X$18:$X$1017),0)","v":0},{"$f":"IFERROR($E483*SUMIF('Daily Log'!$Z$18:$Z$1017,$B483,'Daily Log'!$AA$18:$AA$1017),0)","v":0},{"$f":"IFERROR($E483*SUMIF('Daily Log'!$AC$18:$AC$1017,$B483,'Daily Log'!$AD$18:$AD$1017),0)","v":0},{"$f":"IFERROR($E483*SUMIF('Daily Log'!$AF$18:$AF$1017,$B483,'Daily Log'!$AG$18:$AG$1017),0)","v":0},{"$f":"IFERROR($E483*SUMIF('Daily Log'!$AI$18:$AI$1017,$B483,'Daily Log'!$AJ$18:$AJ$1017),0)","v":0},{"$f":"IFERROR($E483*SUMIF('Daily Log'!$AL$18:$AL$1017,$B483,'Daily Log'!$AM$18:$AM$1017),0)","v":0},{"$f":"IFERROR($E483*SUMIF('Daily Log'!$AO$18:$AO$1017,$B483,'Daily Log'!$AP$18:$AP$1017),0)","v":0},{"$f":"IFERROR($E483*SUMIF('Daily Log'!$AR$18:$AR$1017,$B483,'Daily Log'!$AS$18:$AS$1017),0)","v":0},{"$f":"IFERROR($E483*SUMIF('Daily Log'!$AU$18:$AU$1017,$B483,'Daily Log'!$AV$18:$AV$1017),0)","v":0},{"$f":"IFERROR($E483*SUMIF('Daily Log'!$AX$18:$AX$1017,$B483,'Daily Log'!$AY$18:$AY$1017),0)","v":0},{"$f":"IFERROR($E483*SUMIF('Daily Log'!$BA$18:$BA$1017,$B483,'Daily Log'!$BB$18:$BB$1017),0)","v":0},{"$f":"IFERROR($E483*SUMIF('Daily Log'!$BD$18:$BD$1017,$B483,'Daily Log'!$BE$18:$BE$1017),0)","v":0},{"$f":"IFERROR($E483*SUMIF('Daily Log'!$BG$18:$BG$1017,$B483,'Daily Log'!$BH$18:$BH$1017),0)","v":0},{"$f":"IFERROR($E483*SUMIF('Daily Log'!$BJ$18:$BJ$1017,$B483,'Daily Log'!$BK$18:$BK$1017),0)","v":0},{"$f":"IFERROR($E483*SUMIF('Daily Log'!$BM$18:$BM$1017,$B483,'Daily Log'!$BN$18:$BN$1017),0)","v":0},{"$f":"IFERROR($E483*SUMIF('Daily Log'!$BP$18:$BP$1017,$B483,'Daily Log'!$BQ$18:$BQ$1017),0)","v":0},{"$f":"IFERROR($E483*SUMIF('Daily Log'!$BS$18:$BS$1017,$B483,'Daily Log'!$BT$18:$BT$1017),0)","v":0},{"$f":"IFERROR($E483*SUMIF('Daily Log'!$BV$18:$BV$1017,$B483,'Daily Log'!$BW$18:$BW$1017),0)","v":0},{"$f":"IFERROR($E483*SUMIF('Daily Log'!$BY$18:$BY$1017,$B483,'Daily Log'!$BZ$18:$BZ$1017),0)","v":0},{"$f":"IFERROR($E483*SUMIF('Daily Log'!$CB$18:$CB$1017,$B483,'Daily Log'!$CC$18:$CC$1017),0)","v":0},{"$f":"IFERROR($E483*SUMIF('Daily Log'!$CE$18:$CE$1017,$B483,'Daily Log'!$CF$18:$CF$1017),0)","v":0},{"$f":"IFERROR($E483*SUMIF('Daily Log'!$CH$18:$CH$1017,$B483,'Daily Log'!$CI$18:$CI$1017),0)","v":0},{"$f":"IFERROR($E483*SUMIF('Daily Log'!$CK$18:$CK$1017,$B483,'Daily Log'!$CL$18:$CL$1017),0)","v":0},{"$f":"IFERROR($E483*SUMIF('Daily Log'!$CN$18:$CN$1017,$B483,'Daily Log'!$CO$18:$CO$1017),0)","v":0}]
[null,"ZZZQ Split:AB",null,null,1,0,{"$f":"IFERROR($E484*SUMIF('Daily Log'!$B$18:$B$1017,$B484,'Daily Log'!$C$18:$C$1017),0)","v":0},{"$f":"IFERROR($E484*SUMIF('Daily Log'!$E$18:$E$1017,$B484,'Daily Log'!$F$18:$F$1017),0)","v":0},{"$f":"IFERROR($E484*SUMIF('Daily Log'!$H$18:$H$1017,$B484,'Daily Log'!$I$18:$I$1017),0)","v":0},{"$f":"IFERROR($E484*SUMIF('Daily Log'!$K$18:$K$1017,$B484,'Daily Log'!$L$18:$L$1017),0)","v":0},{"$f":"IFERROR($E484*SUMIF('Daily Log'!$N$18:$N$1017,$B484,'Daily Log'!$O$18:$O$1017),0)","v":0},{"$f":"IFERROR($E484*SUMIF('Daily Log'!$Q$18:$Q$1017,$B484,'Daily Log'!$R$18:$R$1017),0)","v":0},{"$f":"IFERROR($E484*SUMIF('Daily Log'!$T$18:$T$1017,$B484,'Daily Log'!$U$18:$U$1017),0)","v":0},{"$f":"IFERROR($E484*SUMIF('Daily Log'!$W$18:$W$1017,$B484,'Daily Log'!$X$18:$X$1017),0)","v":0},{"$f":"IFERROR($E484*SUMIF('Daily Log'!$Z$18:$Z$1017,$B484,'Daily Log'!$AA$18:$AA$1017),0)","v":0},{"$f":"IFERROR($E484*SUMIF('Daily Log'!$AC$18:$AC$1017,$B484,'Daily Log'!$AD$18:$AD$1017),0)","v":0},{"$f":"IFERROR($E484*SUMIF('Daily Log'!$AF$18:$AF$1017,$B484,'Daily Log'!$AG$18:$AG$1017),0)","v":0},{"$f":"IFERROR($E484*SUMIF('Daily Log'!$AI$18:$AI$1017,$B484,'Daily Log'!$AJ$18:$AJ$1017),0)","v":0},{"$f":"IFERROR($E484*SUMIF('Daily Log'!$AL$18:$AL$1017,$B484,'Daily Log'!$AM$18:$AM$1017),0)","v":0},{"$f":"IFERROR($E484*SUMIF('Daily Log'!$AO$18:$AO$1017,$B484,'Daily Log'!$AP$18:$AP$1017),0)","v":0},{"$f":"IFERROR($E484*SUMIF('Daily Log'!$AR$18:$AR$1017,$B484,'Daily Log'!$AS$18:$AS$1017),0)","v":0},{"$f":"IFERROR($E484*SUMIF('Daily Log'!$AU$18:$AU$1017,$B484,'Daily Log'!$AV$18:$AV$1017),0)","v":0},{"$f":"IFERROR($E484*SUMIF('Daily Log'!$AX$18:$AX$1017,$B484,'Daily Log'!$AY$18:$AY$1017),0)","v":0},{"$f":"IFERROR($E484*SUMIF('Daily Log'!$BA$18:$BA$1017,$B484,'Daily Log'!$BB$18:$BB$1017),0)","v":0},{"$f":"IFERROR($E484*SUMIF('Daily Log'!$BD$18:$BD$1017,$B484,'Daily Log'!$BE$18:$BE$1017),0)","v":0},{"$f":"IFERROR($E484*SUMIF('Daily Log'!$BG$18:$BG$1017,$B484,'Daily Log'!$BH$18:$BH$1017),0)","v":0},{"$f":"IFERROR($E484*SUMIF('Daily Log'!$BJ$18:$BJ$1017,$B484,'Daily Log'!$BK$18:$BK$1017),0)","v":0},{"$f":"IFERROR($E484*SUMIF('Daily Log'!$BM$18:$BM$1017,$B484,'Daily Log'!$BN$18:$BN$1017),0)","v":0},{"$f":"IFERROR($E484*SUMIF('Daily Log'!$BP$18:$BP$1017,$B484,'Daily Log'!$BQ$18:$BQ$1017),0)","v":0},{"$f":"IFERROR($E484*SUMIF('Daily Log'!$BS$18:$BS$1017,$B484,'Daily Log'!$BT$18:$BT$1017),0)","v":0},{"$f":"IFERROR($E484*SUMIF('Daily Log'!$BV$18:$BV$1017,$B484,'Daily Log'!$BW$18:$BW$1017),0)","v":0},{"$f":"IFERROR($E484*SUMIF('Daily Log'!$BY$18:$BY$1017,$B484,'Daily Log'!$BZ$18:$BZ$1017),0)","v":0},{"$f":"IFERROR($E484*SUMIF('Daily Log'!$CB$18:$CB$1017,$B484,'Daily Log'!$CC$18:$CC$1017),0)","v":0},{"$f":"IFERROR($E484*SUMIF('Daily Log'!$CE$18:$CE$1017,$B484,'Daily Log'!$CF$18:$CF$1017),0)","v":0},{"$f":"IFERROR($E484*SUMIF('Daily Log'!$CH$18:$CH$1017,$B484,'Daily Log'!$CI$18:$CI$1017),0)","v":0},{"$f":"IFERROR($E484*SUMIF('Daily Log'!$CK$18:$CK$1017,$B484,'Daily Log'!$CL$18:$CL$1017),0)","v":0},{"$f":"IFERROR($E484*SUMIF('Daily Log'!$CN$18:$CN$1017,$B484,'Daily Log'!$CO$18:$CO$1017),0)","v":0}]
[null,"ZZZZZ CUS MISTAKE",null,null,1,0,{"$f":"IFERROR($E485*SUMIF('Daily Log'!$B$18:$B$1017,$B485,'Daily Log'!$C$18:$C$1017),0)","v":0},{"$f":"IFERROR($E485*SUMIF('Daily Log'!$E$18:$E$1017,$B485,'Daily Log'!$F$18:$F$1017),0)","v":0},{"$f":"IFERROR($E485*SUMIF('Daily Log'!$H$18:$H$1017,$B485,'Daily Log'!$I$18:$I$1017),0)","v":0},{"$f":"IFERROR($E485*SUMIF('Daily Log'!$K$18:$K$1017,$B485,'Daily Log'!$L$18:$L$1017),0)","v":0},{"$f":"IFERROR($E485*SUMIF('Daily Log'!$N$18:$N$1017,$B485,'Daily Log'!$O$18:$O$1017),0)","v":0},{"$f":"IFERROR($E485*SUMIF('Daily Log'!$Q$18:$Q$1017,$B485,'Daily Log'!$R$18:$R$1017),0)","v":0},{"$f":"IFERROR($E485*SUMIF('Daily Log'!$T$18:$T$1017,$B485,'Daily Log'!$U$18:$U$1017),0)","v":0},{"$f":"IFERROR($E485*SUMIF('Daily Log'!$W$18:$W$1017,$B485,'Daily Log'!$X$18:$X$1017),0)","v":0},{"$f":"IFERROR($E485*SUMIF('Daily Log'!$Z$18:$Z$1017,$B485,'Daily Log'!$AA$18:$AA$1017),0)","v":0},{"$f":"IFERROR($E485*SUMIF('Daily Log'!$AC$18:$AC$1017,$B485,'Daily Log'!$AD$18:$AD$1017),0)","v":0},{"$f":"IFERROR($E485*SUMIF('Daily Log'!$AF$18:$AF$1017,$B485,'Daily Log'!$AG$18:$AG$1017),0)","v":0},{"$f":"IFERROR($E485*SUMIF('Daily Log'!$AI$18:$AI$1017,$B485,'Daily Log'!$AJ$18:$AJ$1017),0)","v":0},{"$f":"IFERROR($E485*SUMIF('Daily Log'!$AL$18:$AL$1017,$B485,'Daily Log'!$AM$18:$AM$1017),0)","v":0},{"$f":"IFERROR($E485*SUMIF('Daily Log'!$AO$18:$AO$1017,$B485,'Daily Log'!$AP$18:$AP$1017),0)","v":0},{"$f":"IFERROR($E485*SUMIF('Daily Log'!$AR$18:$AR$1017,$B485,'Daily Log'!$AS$18:$AS$1017),0)","v":0},{"$f":"IFERROR($E485*SUMIF('Daily Log'!$AU$18:$AU$1017,$B485,'Daily Log'!$AV$18:$AV$1017),0)","v":0},{"$f":"IFERROR($E485*SUMIF('Daily Log'!$AX$18:$AX$1017,$B485,'Daily Log'!$AY$18:$AY$1017),0)","v":0},{"$f":"IFERROR($E485*SUMIF('Daily Log'!$BA$18:$BA$1017,$B485,'Daily Log'!$BB$18:$BB$1017),0)","v":0},{"$f":"IFERROR($E485*SUMIF('Daily Log'!$BD$18:$BD$1017,$B485,'Daily Log'!$BE$18:$BE$1017),0)","v":0},{"$f":"IFERROR($E485*SUMIF('Daily Log'!$BG$18:$BG$1017,$B485,'Daily Log'!$BH$18:$BH$1017),0)","v":0},{"$f":"IFERROR($E485*SUMIF('Daily Log'!$BJ$18:$BJ$1017,$B485,'Daily Log'!$BK$18:$BK$1017),0)","v":0},{"$f":"IFERROR($E485*SUMIF('Daily Log'!$BM$18:$BM$1017,$B485,'Daily Log'!$BN$18:$BN$1017),0)","v":0},{"$f":"IFERROR($E485*SUMIF('Daily Log'!$BP$18:$BP$1017,$B485,'Daily Log'!$BQ$18:$BQ$1017),0)","v":0},{"$f":"IFERROR($E485*SUMIF('Daily Log'!$BS$18:$BS$1017,$B485,'Daily Log'!$BT$18:$BT$1017),0)","v":0},{"$f":"IFERROR($E485*SUMIF('Daily Log'!$BV$18:$BV$1017,$B485,'Daily Log'!$BW$18:$BW$1017),0)","v":0},{"$f":"IFERROR($E485*SUMIF('Daily Log'!$BY$18:$BY$1017,$B485,'Daily Log'!$BZ$18:$BZ$1017),0)","v":0},{"$f":"IFERROR($E485*SUMIF('Daily Log'!$CB$18:$CB$1017,$B485,'Daily Log'!$CC$18:$CC$1017),0)","v":0},{"$f":"IFERROR($E485*SUMIF('Daily Log'!$CE$18:$CE$1017,$B485,'Daily Log'!$CF$18:$CF$1017),0)","v":0},{"$f":"IFERROR($E485*SUMIF('Daily Log'!$CH$18:$CH$1017,$B485,'Daily Log'!$CI$18:$CI$1017),0)","v":0},{"$f":"IFERROR($E485*SUMIF('Daily Log'!$CK$18:$CK$1017,$B485,'Daily Log'!$CL$18:$CL$1017),0)","v":0},{"$f":"IFERROR($E485*SUMIF('Daily Log'!$CN$18:$CN$1017,$B485,'Daily Log'!$CO$18:$CO$1017),0)","v":0}]
[null,"AC30 N: 7.0 Ver Aeon",null,null,1,0,{"$f":"IFERROR($E486*SUMIF('Daily Log'!$B$18:$B$1017,$B486,'Daily Log'!$C$18:$C$1017),0)","v":0},{"$f":"IFERROR($E486*SUMIF('Daily Log'!$E$18:$E$1017,$B486,'Daily Log'!$F$18:$F$1017),0)","v":0},{"$f":"IFERROR($E486*SUMIF('Daily Log'!$H$18:$H$1017,$B486,'Daily Log'!$I$18:$I$1017),0)","v":0},{"$f":"IFERROR($E486*SUMIF('Daily Log'!$K$18:$K$1017,$B486,'Daily Log'!$L$18:$L$1017),0)","v":0},{"$f":"IFERROR($E486*SUMIF('Daily Log'!$N$18:$N$1017,$B486,'Daily Log'!$O$18:$O$1017),0)","v":0},{"$f":"IFERROR($E486*SUMIF('Daily Log'!$Q$18:$Q$1017,$B486,'Daily Log'!$R$18:$R$1017),0)","v":0},{"$f":"IFERROR($E486*SUMIF('Daily Log'!$T$18:$T$1017,$B486,'Daily Log'!$U$18:$U$1017),0)","v":0},{"$f":"IFERROR($E486*SUMIF('Daily Log'!$W$18:$W$1017,$B486,'Daily Log'!$X$18:$X$1017),0)","v":0},{"$f":"IFERROR($E486*SUMIF('Daily Log'!$Z$18:$Z$1017,$B486,'Daily Log'!$AA$18:$AA$1017),0)","v":0},{"$f":"IFERROR($E486*SUMIF('Daily Log'!$AC$18:$AC$1017,$B486,'Daily Log'!$AD$18:$AD$1017),0)","v":0},{"$f":"IFERROR($E486*SUMIF('Daily Log'!$AF$18:$AF$1017,$B486,'Daily Log'!$AG$18:$AG$1017),0)","v":0},{"$f":"IFERROR($E486*SUMIF('Daily Log'!$AI$18:$AI$1017,$B486,'Daily Log'!$AJ$18:$AJ$1017),0)","v":0},{"$f":"IFERROR($E486*SUMIF('Daily Log'!$AL$18:$AL$1017,$B486,'Daily Log'!$AM$18:$AM$1017),0)","v":0},{"$f":"IFERROR($E486*SUMIF('Daily Log'!$AO$18:$AO$1017,$B486,'Daily Log'!$AP$18:$AP$1017),0)","v":0},{"$f":"IFERROR($E486*SUMIF('Daily Log'!$AR$18:$AR$1017,$B486,'Daily Log'!$AS$18:$AS$1017),0)","v":0},{"$f":"IFERROR($E486*SUMIF('Daily Log'!$AU$18:$AU$1017,$B486,'Daily Log'!$AV$18:$AV$1017),0)","v":0},{"$f":"IFERROR($E486*SUMIF('Daily Log'!$AX$18:$AX$1017,$B486,'Daily Log'!$AY$18:$AY$1017),0)","v":0},{"$f":"IFERROR($E486*SUMIF('Daily Log'!$BA$18:$BA$1017,$B486,'Daily Log'!$BB$18:$BB$1017),0)","v":0},{"$f":"IFERROR($E486*SUMIF('Daily Log'!$BD$18:$BD$1017,$B486,'Daily Log'!$BE$18:$BE$1017),0)","v":0},{"$f":"IFERROR($E486*SUMIF('Daily Log'!$BG$18:$BG$1017,$B486,'Daily Log'!$BH$18:$BH$1017),0)","v":0},{"$f":"IFERROR($E486*SUMIF('Daily Log'!$BJ$18:$BJ$1017,$B486,'Daily Log'!$BK$18:$BK$1017),0)","v":0},{"$f":"IFERROR($E486*SUMIF('Daily Log'!$BM$18:$BM$1017,$B486,'Daily Log'!$BN$18:$BN$1017),0)","v":0},{"$f":"IFERROR($E486*SUMIF('Daily Log'!$BP$18:$BP$1017,$B486,'Daily Log'!$BQ$18:$BQ$1017),0)","v":0},{"$f":"IFERROR($E486*SUMIF('Daily Log'!$BS$18:$BS$1017,$B486,'Daily Log'!$BT$18:$BT$1017),0)","v":0},{"$f":"IFERROR($E486*SUMIF('Daily Log'!$BV$18:$BV$1017,$B486,'Daily Log'!$BW$18:$BW$1017),0)","v":0},{"$f":"IFERROR($E486*SUMIF('Daily Log'!$BY$18:$BY$1017,$B486,'Daily Log'!$BZ$18:$BZ$1017),0)","v":0},{"$f":"IFERROR($E486*SUMIF('Daily Log'!$CB$18:$CB$1017,$B486,'Daily Log'!$CC$18:$CC$1017),0)","v":0},{"$f":"IFERROR($E486*SUMIF('Daily Log'!$CE$18:$CE$1017,$B486,'Daily Log'!$CF$18:$CF$1017),0)","v":0},{"$f":"IFERROR($E486*SUMIF('Daily Log'!$CH$18:$CH$1017,$B486,'Daily Log'!$CI$18:$CI$1017),0)","v":0},{"$f":"IFERROR($E486*SUMIF('Daily Log'!$CK$18:$CK$1017,$B486,'Daily Log'!$CL$18:$CL$1017),0)","v":0},{"$f":"IFERROR($E486*SUMIF('Daily Log'!$CN$18:$CN$1017,$B486,'Daily Log'!$CO$18:$CO$1017),0)","v":0}]
[null,"CO02 PLAIN WATER",null,null,1,0,{"$f":"IFERROR($E487*SUMIF('Daily Log'!$B$18:$B$1017,$B487,'Daily Log'!$C$18:$C$1017),0)","v":0},{"$f":"IFERROR($E487*SUMIF('Daily Log'!$E$18:$E$1017,$B487,'Daily Log'!$F$18:$F$1017),0)","v":0},{"$f":"IFERROR($E487*SUMIF('Daily Log'!$H$18:$H$1017,$B487,'Daily Log'!$I$18:$I$1017),0)","v":0},{"$f":"IFERROR($E487*SUMIF('Daily Log'!$K$18:$K$1017,$B487,'Daily Log'!$L$18:$L$1017),0)","v":0},{"$f":"IFERROR($E487*SUMIF('Daily Log'!$N$18:$N$1017,$B487,'Daily Log'!$O$18:$O$1017),0)","v":0},{"$f":"IFERROR($E487*SUMIF('Daily Log'!$Q$18:$Q$1017,$B487,'Daily Log'!$R$18:$R$1017),0)","v":0},{"$f":"IFERROR($E487*SUMIF('Daily Log'!$T$18:$T$1017,$B487,'Daily Log'!$U$18:$U$1017),0)","v":0},{"$f":"IFERROR($E487*SUMIF('Daily Log'!$W$18:$W$1017,$B487,'Daily Log'!$X$18:$X$1017),0)","v":0},{"$f":"IFERROR($E487*SUMIF('Daily Log'!$Z$18:$Z$1017,$B487,'Daily Log'!$AA$18:$AA$1017),0)","v":0},{"$f":"IFERROR($E487*SUMIF('Daily Log'!$AC$18:$AC$1017,$B487,'Daily Log'!$AD$18:$AD$1017),0)","v":0},{"$f":"IFERROR($E487*SUMIF('Daily Log'!$AF$18:$AF$1017,$B487,'Daily Log'!$AG$18:$AG$1017),0)","v":0},{"$f":"IFERROR($E487*SUMIF('Daily Log'!$AI$18:$AI$1017,$B487,'Daily Log'!$AJ$18:$AJ$1017),0)","v":0},{"$f":"IFERROR($E487*SUMIF('Daily Log'!$AL$18:$AL$1017,$B487,'Daily Log'!$AM$18:$AM$1017),0)","v":0},{"$f":"IFERROR($E487*SUMIF('Daily Log'!$AO$18:$AO$1017,$B487,'Daily Log'!$AP$18:$AP$1017),0)","v":0},{"$f":"IFERROR($E487*SUMIF('Daily Log'!$AR$18:$AR$1017,$B487,'Daily Log'!$AS$18:$AS$1017),0)","v":0},{"$f":"IFERROR($E487*SUMIF('Daily Log'!$AU$18:$AU$1017,$B487,'Daily Log'!$AV$18:$AV$1017),0)","v":0},{"$f":"IFERROR($E487*SUMIF('Daily Log'!$AX$18:$AX$1017,$B487,'Daily Log'!$AY$18:$AY$1017),0)","v":0},{"$f":"IFERROR($E487*SUMIF('Daily Log'!$BA$18:$BA$1017,$B487,'Daily Log'!$BB$18:$BB$1017),0)","v":0},{"$f":"IFERROR($E487*SUMIF('Daily Log'!$BD$18:$BD$1017,$B487,'Daily Log'!$BE$18:$BE$1017),0)","v":0},{"$f":"IFERROR($E487*SUMIF('Daily Log'!$BG$18:$BG$1017,$B487,'Daily Log'!$BH$18:$BH$1017),0)","v":0},{"$f":"IFERROR($E487*SUMIF('Daily Log'!$BJ$18:$BJ$1017,$B487,'Daily Log'!$BK$18:$BK$1017),0)","v":0},{"$f":"IFERROR($E487*SUMIF('Daily Log'!$BM$18:$BM$1017,$B487,'Daily Log'!$BN$18:$BN$1017),0)","v":0},{"$f":"IFERROR($E487*SUMIF('Daily Log'!$BP$18:$BP$1017,$B487,'Daily Log'!$BQ$18:$BQ$1017),0)","v":0},{"$f":"IFERROR($E487*SUMIF('Daily Log'!$BS$18:$BS$1017,$B487,'Daily Log'!$BT$18:$BT$1017),0)","v":0},{"$f":"IFERROR($E487*SUMIF('Daily Log'!$BV$18:$BV$1017,$B487,'Daily Log'!$BW$18:$BW$1017),0)","v":0},{"$f":"IFERROR($E487*SUMIF('Daily Log'!$BY$18:$BY$1017,$B487,'Daily Log'!$BZ$18:$BZ$1017),0)","v":0},{"$f":"IFERROR($E487*SUMIF('Daily Log'!$CB$18:$CB$1017,$B487,'Daily Log'!$CC$18:$CC$1017),0)","v":0},{"$f":"IFERROR($E487*SUMIF('Daily Log'!$CE$18:$CE$1017,$B487,'Daily Log'!$CF$18:$CF$1017),0)","v":0},{"$f":"IFERROR($E487*SUMIF('Daily Log'!$CH$18:$CH$1017,$B487,'Daily Log'!$CI$18:$CI$1017),0)","v":0},{"$f":"IFERROR($E487*SUMIF('Daily Log'!$CK$18:$CK$1017,$B487,'Daily Log'!$CL$18:$CL$1017),0)","v":0},{"$f":"IFERROR($E487*SUMIF('Daily Log'!$CN$18:$CN$1017,$B487,'Daily Log'!$CO$18:$CO$1017),0)","v":0}]
[null,"DE02 SET 1390",null,null,1,0,{"$f":"IFERROR($E488*SUMIF('Daily Log'!$B$18:$B$1017,$B488,'Daily Log'!$C$18:$C$1017),0)","v":0},{"$f":"IFERROR($E488*SUMIF('Daily Log'!$E$18:$E$1017,$B488,'Daily Log'!$F$18:$F$1017),0)","v":0},{"$f":"IFERROR($E488*SUMIF('Daily Log'!$H$18:$H$1017,$B488,'Daily Log'!$I$18:$I$1017),0)","v":0},{"$f":"IFERROR($E488*SUMIF('Daily Log'!$K$18:$K$1017,$B488,'Daily Log'!$L$18:$L$1017),0)","v":0},{"$f":"IFERROR($E488*SUMIF('Daily Log'!$N$18:$N$1017,$B488,'Daily Log'!$O$18:$O$1017),0)","v":0},{"$f":"IFERROR($E488*SUMIF('Daily Log'!$Q$18:$Q$1017,$B488,'Daily Log'!$R$18:$R$1017),0)","v":0},{"$f":"IFERROR($E488*SUMIF('Daily Log'!$T$18:$T$1017,$B488,'Daily Log'!$U$18:$U$1017),0)","v":0},{"$f":"IFERROR($E488*SUMIF('Daily Log'!$W$18:$W$1017,$B488,'Daily Log'!$X$18:$X$1017),0)","v":0},{"$f":"IFERROR($E488*SUMIF('Daily Log'!$Z$18:$Z$1017,$B488,'Daily Log'!$AA$18:$AA$1017),0)","v":0},{"$f":"IFERROR($E488*SUMIF('Daily Log'!$AC$18:$AC$1017,$B488,'Daily Log'!$AD$18:$AD$1017),0)","v":0},{"$f":"IFERROR($E488*SUMIF('Daily Log'!$AF$18:$AF$1017,$B488,'Daily Log'!$AG$18:$AG$1017),0)","v":0},{"$f":"IFERROR($E488*SUMIF('Daily Log'!$AI$18:$AI$1017,$B488,'Daily Log'!$AJ$18:$AJ$1017),0)","v":0},{"$f":"IFERROR($E488*SUMIF('Daily Log'!$AL$18:$AL$1017,$B488,'Daily Log'!$AM$18:$AM$1017),0)","v":0},{"$f":"IFERROR($E488*SUMIF('Daily Log'!$AO$18:$AO$1017,$B488,'Daily Log'!$AP$18:$AP$1017),0)","v":0},{"$f":"IFERROR($E488*SUMIF('Daily Log'!$AR$18:$AR$1017,$B488,'Daily Log'!$AS$18:$AS$1017),0)","v":0},{"$f":"IFERROR($E488*SUMIF('Daily Log'!$AU$18:$AU$1017,$B488,'Daily Log'!$AV$18:$AV$1017),0)","v":0},{"$f":"IFERROR($E488*SUMIF('Daily Log'!$AX$18:$AX$1017,$B488,'Daily Log'!$AY$18:$AY$1017),0)","v":0},{"$f":"IFERROR($E488*SUMIF('Daily Log'!$BA$18:$BA$1017,$B488,'Daily Log'!$BB$18:$BB$1017),0)","v":0},{"$f":"IFERROR($E488*SUMIF('Daily Log'!$BD$18:$BD$1017,$B488,'Daily Log'!$BE$18:$BE$1017),0)","v":0},{"$f":"IFERROR($E488*SUMIF('Daily Log'!$BG$18:$BG$1017,$B488,'Daily Log'!$BH$18:$BH$1017),0)","v":0},{"$f":"IFERROR($E488*SUMIF('Daily Log'!$BJ$18:$BJ$1017,$B488,'Daily Log'!$BK$18:$BK$1017),0)","v":0},{"$f":"IFERROR($E488*SUMIF('Daily Log'!$BM$18:$BM$1017,$B488,'Daily Log'!$BN$18:$BN$1017),0)","v":0},{"$f":"IFERROR($E488*SUMIF('Daily Log'!$BP$18:$BP$1017,$B488,'Daily Log'!$BQ$18:$BQ$1017),0)","v":0},{"$f":"IFERROR($E488*SUMIF('Daily Log'!$BS$18:$BS$1017,$B488,'Daily Log'!$BT$18:$BT$1017),0)","v":0},{"$f":"IFERROR($E488*SUMIF('Daily Log'!$BV$18:$BV$1017,$B488,'Daily Log'!$BW$18:$BW$1017),0)","v":0},{"$f":"IFERROR($E488*SUMIF('Daily Log'!$BY$18:$BY$1017,$B488,'Daily Log'!$BZ$18:$BZ$1017),0)","v":0},{"$f":"IFERROR($E488*SUMIF('Daily Log'!$CB$18:$CB$1017,$B488,'Daily Log'!$CC$18:$CC$1017),0)","v":0},{"$f":"IFERROR($E488*SUMIF('Daily Log'!$CE$18:$CE$1017,$B488,'Daily Log'!$CF$18:$CF$1017),0)","v":0},{"$f":"IFERROR($E488*SUMIF('Daily Log'!$CH$18:$CH$1017,$B488,'Daily Log'!$CI$18:$CI$1017),0)","v":0},{"$f":"IFERROR($E488*SUMIF('Daily Log'!$CK$18:$CK$1017,$B488,'Daily Log'!$CL$18:$CL$1017),0)","v":0},{"$f":"IFERROR($E488*SUMIF('Daily Log'!$CN$18:$CN$1017,$B488,'Daily Log'!$CO$18:$CO$1017),0)","v":0}]
[null,"GC01 CARD NEW",null,null,1,0,{"$f":"IFERROR($E489*SUMIF('Daily Log'!$B$18:$B$1017,$B489,'Daily Log'!$C$18:$C$1017),0)","v":0},{"$f":"IFERROR($E489*SUMIF('Daily Log'!$E$18:$E$1017,$B489,'Daily Log'!$F$18:$F$1017),0)","v":0},{"$f":"IFERROR($E489*SUMIF('Daily Log'!$H$18:$H$1017,$B489,'Daily Log'!$I$18:$I$1017),0)","v":0},{"$f":"IFERROR($E489*SUMIF('Daily Log'!$K$18:$K$1017,$B489,'Daily Log'!$L$18:$L$1017),0)","v":0},{"$f":"IFERROR($E489*SUMIF('Daily Log'!$N$18:$N$1017,$B489,'Daily Log'!$O$18:$O$1017),0)","v":0},{"$f":"IFERROR($E489*SUMIF('Daily Log'!$Q$18:$Q$1017,$B489,'Daily Log'!$R$18:$R$1017),0)","v":0},{"$f":"IFERROR($E489*SUMIF('Daily Log'!$T$18:$T$1017,$B489,'Daily Log'!$U$18:$U$1017),0)","v":0},{"$f":"IFERROR($E489*SUMIF('Daily Log'!$W$18:$W$1017,$B489,'Daily Log'!$X$18:$X$1017),0)","v":0},{"$f":"IFERROR($E489*SUMIF('Daily Log'!$Z$18:$Z$1017,$B489,'Daily Log'!$AA$18:$AA$1017),0)","v":0},{"$f":"IFERROR($E489*SUMIF('Daily Log'!$AC$18:$AC$1017,$B489,'Daily Log'!$AD$18:$AD$1017),0)","v":0},{"$f":"IFERROR($E489*SUMIF('Daily Log'!$AF$18:$AF$1017,$B489,'Daily Log'!$AG$18:$AG$1017),0)","v":0},{"$f":"IFERROR($E489*SUMIF('Daily Log'!$AI$18:$AI$1017,$B489,'Daily Log'!$AJ$18:$AJ$1017),0)","v":0},{"$f":"IFERROR($E489*SUMIF('Daily Log'!$AL$18:$AL$1017,$B489,'Daily Log'!$AM$18:$AM$1017),0)","v":0},{"$f":"IFERROR($E489*SUMIF('Daily Log'!$AO$18:$AO$1017,$B489,'Daily Log'!$AP$18:$AP$1017),0)","v":0},{"$f":"IFERROR($E489*SUMIF('Daily Log'!$AR$18:$AR$1017,$B489,'Daily Log'!$AS$18:$AS$1017),0)","v":0},{"$f":"IFERROR($E489*SUMIF('Daily Log'!$AU$18:$AU$1017,$B489,'Daily Log'!$AV$18:$AV$1017),0)","v":0},{"$f":"IFERROR($E489*SUMIF('Daily Log'!$AX$18:$AX$1017,$B489,'Daily Log'!$AY$18:$AY$1017),0)","v":0},{"$f":"IFERROR($E489*SUMIF('Daily Log'!$BA$18:$BA$1017,$B489,'Daily Log'!$BB$18:$BB$1017),0)","v":0},{"$f":"IFERROR($E489*SUMIF('Daily Log'!$BD$18:$BD$1017,$B489,'Daily Log'!$BE$18:$BE$1017),0)","v":0},{"$f":"IFERROR($E489*SUMIF('Daily Log'!$BG$18:$BG$1017,$B489,'Daily Log'!$BH$18:$BH$1017),0)","v":0},{"$f":"IFERROR($E489*SUMIF('Daily Log'!$BJ$18:$BJ$1017,$B489,'Daily Log'!$BK$18:$BK$1017),0)","v":0},{"$f":"IFERROR($E489*SUMIF('Daily Log'!$BM$18:$BM$1017,$B489,'Daily Log'!$BN$18:$BN$1017),0)","v":0},{"$f":"IFERROR($E489*SUMIF('Daily Log'!$BP$18:$BP$1017,$B489,'Daily Log'!$BQ$18:$BQ$1017),0)","v":0},{"$f":"IFERROR($E489*SUMIF('Daily Log'!$BS$18:$BS$1017,$B489,'Daily Log'!$BT$18:$BT$1017),0)","v":0},{"$f":"IFERROR($E489*SUMIF('Daily Log'!$BV$18:$BV$1017,$B489,'Daily Log'!$BW$18:$BW$1017),0)","v":0},{"$f":"IFERROR($E489*SUMIF('Daily Log'!$BY$18:$BY$1017,$B489,'Daily Log'!$BZ$18:$BZ$1017),0)","v":0},{"$f":"IFERROR($E489*SUMIF('Daily Log'!$CB$18:$CB$1017,$B489,'Daily Log'!$CC$18:$CC$1017),0)","v":0},{"$f":"IFERROR($E489*SUMIF('Daily Log'!$CE$18:$CE$1017,$B489,'Daily Log'!$CF$18:$CF$1017),0)","v":0},{"$f":"IFERROR($E489*SUMIF('Daily Log'!$CH$18:$CH$1017,$B489,'Daily Log'!$CI$18:$CI$1017),0)","v":0},{"$f":"IFERROR($E489*SUMIF('Daily Log'!$CK$18:$CK$1017,$B489,'Daily Log'!$CL$18:$CL$1017),0)","v":0},{"$f":"IFERROR($E489*SUMIF('Daily Log'!$CN$18:$CN$1017,$B489,'Daily Log'!$CO$18:$CO$1017),0)","v":0}]
[null,"GC05 AEON MEMBER 50%",null,null,1,0,{"$f":"IFERROR($E490*SUMIF('Daily Log'!$B$18:$B$1017,$B490,'Daily Log'!$C$18:$C$1017),0)","v":0},{"$f":"IFERROR($E490*SUMIF('Daily Log'!$E$18:$E$1017,$B490,'Daily Log'!$F$18:$F$1017),0)","v":0},{"$f":"IFERROR($E490*SUMIF('Daily Log'!$H$18:$H$1017,$B490,'Daily Log'!$I$18:$I$1017),0)","v":0},{"$f":"IFERROR($E490*SUMIF('Daily Log'!$K$18:$K$1017,$B490,'Daily Log'!$L$18:$L$1017),0)","v":0},{"$f":"IFERROR($E490*SUMIF('Daily Log'!$N$18:$N$1017,$B490,'Daily Log'!$O$18:$O$1017),0)","v":0},{"$f":"IFERROR($E490*SUMIF('Daily Log'!$Q$18:$Q$1017,$B490,'Daily Log'!$R$18:$R$1017),0)","v":0},{"$f":"IFERROR($E490*SUMIF('Daily Log'!$T$18:$T$1017,$B490,'Daily Log'!$U$18:$U$1017),0)","v":0},{"$f":"IFERROR($E490*SUMIF('Daily Log'!$W$18:$W$1017,$B490,'Daily Log'!$X$18:$X$1017),0)","v":0},{"$f":"IFERROR($E490*SUMIF('Daily Log'!$Z$18:$Z$1017,$B490,'Daily Log'!$AA$18:$AA$1017),0)","v":0},{"$f":"IFERROR($E490*SUMIF('Daily Log'!$AC$18:$AC$1017,$B490,'Daily Log'!$AD$18:$AD$1017),0)","v":0},{"$f":"IFERROR($E490*SUMIF('Daily Log'!$AF$18:$AF$1017,$B490,'Daily Log'!$AG$18:$AG$1017),0)","v":0},{"$f":"IFERROR($E490*SUMIF('Daily Log'!$AI$18:$AI$1017,$B490,'Daily Log'!$AJ$18:$AJ$1017),0)","v":0},{"$f":"IFERROR($E490*SUMIF('Daily Log'!$AL$18:$AL$1017,$B490,'Daily Log'!$AM$18:$AM$1017),0)","v":0},{"$f":"IFERROR($E490*SUMIF('Daily Log'!$AO$18:$AO$1017,$B490,'Daily Log'!$AP$18:$AP$1017),0)","v":0},{"$f":"IFERROR($E490*SUMIF('Daily Log'!$AR$18:$AR$1017,$B490,'Daily Log'!$AS$18:$AS$1017),0)","v":0},{"$f":"IFERROR($E490*SUMIF('Daily Log'!$AU$18:$AU$1017,$B490,'Daily Log'!$AV$18:$AV$1017),0)","v":0},{"$f":"IFERROR($E490*SUMIF('Daily Log'!$AX$18:$AX$1017,$B490,'Daily Log'!$AY$18:$AY$1017),0)","v":0},{"$f":"IFERROR($E490*SUMIF('Daily Log'!$BA$18:$BA$1017,$B490,'Daily Log'!$BB$18:$BB$1017),0)","v":0},{"$f":"IFERROR($E490*SUMIF('Daily Log'!$BD$18:$BD$1017,$B490,'Daily Log'!$BE$18:$BE$1017),0)","v":0},{"$f":"IFERROR($E490*SUMIF('Daily Log'!$BG$18:$BG$1017,$B490,'Daily Log'!$BH$18:$BH$1017),0)","v":0},{"$f":"IFERROR($E490*SUMIF('Daily Log'!$BJ$18:$BJ$1017,$B490,'Daily Log'!$BK$18:$BK$1017),0)","v":0},{"$f":"IFERROR($E490*SUMIF('Daily Log'!$BM$18:$BM$1017,$B490,'Daily Log'!$BN$18:$BN$1017),0)","v":0},{"$f":"IFERROR($E490*SUMIF('Daily Log'!$BP$18:$BP$1017,$B490,'Daily Log'!$BQ$18:$BQ$1017),0)","v":0},{"$f":"IFERROR($E490*SUMIF('Daily Log'!$BS$18:$BS$1017,$B490,'Daily Log'!$BT$18:$BT$1017),0)","v":0},{"$f":"IFERROR($E490*SUMIF('Daily Log'!$BV$18:$BV$1017,$B490,'Daily Log'!$BW$18:$BW$1017),0)","v":0},{"$f":"IFERROR($E490*SUMIF('Daily Log'!$BY$18:$BY$1017,$B490,'Daily Log'!$BZ$18:$BZ$1017),0)","v":0},{"$f":"IFERROR($E490*SUMIF('Daily Log'!$CB$18:$CB$1017,$B490,'Daily Log'!$CC$18:$CC$1017),0)","v":0},{"$f":"IFERROR($E490*SUMIF('Daily Log'!$CE$18:$CE$1017,$B490,'Daily Log'!$CF$18:$CF$1017),0)","v":0},{"$f":"IFERROR($E490*SUMIF('Daily Log'!$CH$18:$CH$1017,$B490,'Daily Log'!$CI$18:$CI$1017),0)","v":0},{"$f":"IFERROR($E490*SUMIF('Daily Log'!$CK$18:$CK$1017,$B490,'Daily Log'!$CL$18:$CL$1017),0)","v":0},{"$f":"IFERROR($E490*SUMIF('Daily Log'!$CN$18:$CN$1017,$B490,'Daily Log'!$CO$18:$CO$1017),0)","v":0}]
[null,"GD02 MIKE COVER 03",null,null,1,0,{"$f":"IFERROR($E491*SUMIF('Daily Log'!$B$18:$B$1017,$B491,'Daily Log'!$C$18:$C$1017),0)","v":0},{"$f":"IFERROR($E491*SUMIF('Daily Log'!$E$18:$E$1017,$B491,'Daily Log'!$F$18:$F$1017),0)","v":0},{"$f":"IFERROR($E491*SUMIF('Daily Log'!$H$18:$H$1017,$B491,'Daily Log'!$I$18:$I$1017),0)","v":0},{"$f":"IFERROR($E491*SUMIF('Daily Log'!$K$18:$K$1017,$B491,'Daily Log'!$L$18:$L$1017),0)","v":0},{"$f":"IFERROR($E491*SUMIF('Daily Log'!$N$18:$N$1017,$B491,'Daily Log'!$O$18:$O$1017),0)","v":0},{"$f":"IFERROR($E491*SUMIF('Daily Log'!$Q$18:$Q$1017,$B491,'Daily Log'!$R$18:$R$1017),0)","v":0},{"$f":"IFERROR($E491*SUMIF('Daily Log'!$T$18:$T$1017,$B491,'Daily Log'!$U$18:$U$1017),0)","v":0},{"$f":"IFERROR($E491*SUMIF('Daily Log'!$W$18:$W$1017,$B491,'Daily Log'!$X$18:$X$1017),0)","v":0},{"$f":"IFERROR($E491*SUMIF('Daily Log'!$Z$18:$Z$1017,$B491,'Daily Log'!$AA$18:$AA$1017),0)","v":0},{"$f":"IFERROR($E491*SUMIF('Daily Log'!$AC$18:$AC$1017,$B491,'Daily Log'!$AD$18:$AD$1017),0)","v":0},{"$f":"IFERROR($E491*SUMIF('Daily Log'!$AF$18:$AF$1017,$B491,'Daily Log'!$AG$18:$AG$1017),0)","v":0},{"$f":"IFERROR($E491*SUMIF('Daily Log'!$AI$18:$AI$1017,$B491,'Daily Log'!$AJ$18:$AJ$1017),0)","v":0},{"$f":"IFERROR($E491*SUMIF('Daily Log'!$AL$18:$AL$1017,$B491,'Daily Log'!$AM$18:$AM$1017),0)","v":0},{"$f":"IFERROR($E491*SUMIF('Daily Log'!$AO$18:$AO$1017,$B491,'Daily Log'!$AP$18:$AP$1017),0)","v":0},{"$f":"IFERROR($E491*SUMIF('Daily Log'!$AR$18:$AR$1017,$B491,'Daily Log'!$AS$18:$AS$1017),0)","v":0},{"$f":"IFERROR($E491*SUMIF('Daily Log'!$AU$18:$AU$1017,$B491,'Daily Log'!$AV$18:$AV$1017),0)","v":0},{"$f":"IFERROR($E491*SUMIF('Daily Log'!$AX$18:$AX$1017,$B491,'Daily Log'!$AY$18:$AY$1017),0)","v":0},{"$f":"IFERROR($E491*SUMIF('Daily Log'!$BA$18:$BA$1017,$B491,'Daily Log'!$BB$18:$BB$1017),0)","v":0},{"$f":"IFERROR($E491*SUMIF('Daily Log'!$BD$18:$BD$1017,$B491,'Daily Log'!$BE$18:$BE$1017),0)","v":0},{"$f":"IFERROR($E491*SUMIF('Daily Log'!$BG$18:$BG$1017,$B491,'Daily Log'!$BH$18:$BH$1017),0)","v":0},{"$f":"IFERROR($E491*SUMIF('Daily Log'!$BJ$18:$BJ$1017,$B491,'Daily Log'!$BK$18:$BK$1017),0)","v":0},{"$f":"IFERROR($E491*SUMIF('Daily Log'!$BM$18:$BM$1017,$B491,'Daily Log'!$BN$18:$BN$1017),0)","v":0},{"$f":"IFERROR($E491*SUMIF('Daily Log'!$BP$18:$BP$1017,$B491,'Daily Log'!$BQ$18:$BQ$1017),0)","v":0},{"$f":"IFERROR($E491*SUMIF('Daily Log'!$BS$18:$BS$1017,$B491,'Daily Log'!$BT$18:$BT$1017),0)","v":0},{"$f":"IFERROR($E491*SUMIF('Daily Log'!$BV$18:$BV$1017,$B491,'Daily Log'!$BW$18:$BW$1017),0)","v":0},{"$f":"IFERROR($E491*SUMIF('Daily Log'!$BY$18:$BY$1017,$B491,'Daily Log'!$BZ$18:$BZ$1017),0)","v":0},{"$f":"IFERROR($E491*SUMIF('Daily Log'!$CB$18:$CB$1017,$B491,'Daily Log'!$CC$18:$CC$1017),0)","v":0},{"$f":"IFERROR($E491*SUMIF('Daily Log'!$CE$18:$CE$1017,$B491,'Daily Log'!$CF$18:$CF$1017),0)","v":0},{"$f":"IFERROR($E491*SUMIF('Daily Log'!$CH$18:$CH$1017,$B491,'Daily Log'!$CI$18:$CI$1017),0)","v":0},{"$f":"IFERROR($E491*SUMIF('Daily Log'!$CK$18:$CK$1017,$B491,'Daily Log'!$CL$18:$CL$1017),0)","v":0},{"$f":"IFERROR($E491*SUMIF('Daily Log'!$CN$18:$CN$1017,$B491,'Daily Log'!$CO$18:$CO$1017),0)","v":0}]
[null,"ZAD16 3 ICE ONLY",null,null,1,0,{"$f":"IFERROR($E492*SUMIF('Daily Log'!$B$18:$B$1017,$B492,'Daily Log'!$C$18:$C$1017),0)","v":0},{"$f":"IFERROR($E492*SUMIF('Daily Log'!$E$18:$E$1017,$B492,'Daily Log'!$F$18:$F$1017),0)","v":0},{"$f":"IFERROR($E492*SUMIF('Daily Log'!$H$18:$H$1017,$B492,'Daily Log'!$I$18:$I$1017),0)","v":0},{"$f":"IFERROR($E492*SUMIF('Daily Log'!$K$18:$K$1017,$B492,'Daily Log'!$L$18:$L$1017),0)","v":0},{"$f":"IFERROR($E492*SUMIF('Daily Log'!$N$18:$N$1017,$B492,'Daily Log'!$O$18:$O$1017),0)","v":0},{"$f":"IFERROR($E492*SUMIF('Daily Log'!$Q$18:$Q$1017,$B492,'Daily Log'!$R$18:$R$1017),0)","v":0},{"$f":"IFERROR($E492*SUMIF('Daily Log'!$T$18:$T$1017,$B492,'Daily Log'!$U$18:$U$1017),0)","v":0},{"$f":"IFERROR($E492*SUMIF('Daily Log'!$W$18:$W$1017,$B492,'Daily Log'!$X$18:$X$1017),0)","v":0},{"$f":"IFERROR($E492*SUMIF('Daily Log'!$Z$18:$Z$1017,$B492,'Daily Log'!$AA$18:$AA$1017),0)","v":0},{"$f":"IFERROR($E492*SUMIF('Daily Log'!$AC$18:$AC$1017,$B492,'Daily Log'!$AD$18:$AD$1017),0)","v":0},{"$f":"IFERROR($E492*SUMIF('Daily Log'!$AF$18:$AF$1017,$B492,'Daily Log'!$AG$18:$AG$1017),0)","v":0},{"$f":"IFERROR($E492*SUMIF('Daily Log'!$AI$18:$AI$1017,$B492,'Daily Log'!$AJ$18:$AJ$1017),0)","v":0},{"$f":"IFERROR($E492*SUMIF('Daily Log'!$AL$18:$AL$1017,$B492,'Daily Log'!$AM$18:$AM$1017),0)","v":0},{"$f":"IFERROR($E492*SUMIF('Daily Log'!$AO$18:$AO$1017,$B492,'Daily Log'!$AP$18:$AP$1017),0)","v":0},{"$f":"IFERROR($E492*SUMIF('Daily Log'!$AR$18:$AR$1017,$B492,'Daily Log'!$AS$18:$AS$1017),0)","v":0},{"$f":"IFERROR($E492*SUMIF('Daily Log'!$AU$18:$AU$1017,$B492,'Daily Log'!$AV$18:$AV$1017),0)","v":0},{"$f":"IFERROR($E492*SUMIF('Daily Log'!$AX$18:$AX$1017,$B492,'Daily Log'!$AY$18:$AY$1017),0)","v":0},{"$f":"IFERROR($E492*SUMIF('Daily Log'!$BA$18:$BA$1017,$B492,'Daily Log'!$BB$18:$BB$1017),0)","v":0},{"$f":"IFERROR($E492*SUMIF('Daily Log'!$BD$18:$BD$1017,$B492,'Daily Log'!$BE$18:$BE$1017),0)","v":0},{"$f":"IFERROR($E492*SUMIF('Daily Log'!$BG$18:$BG$1017,$B492,'Daily Log'!$BH$18:$BH$1017),0)","v":0},{"$f":"IFERROR($E492*SUMIF('Daily Log'!$BJ$18:$BJ$1017,$B492,'Daily Log'!$BK$18:$BK$1017),0)","v":0},{"$f":"IFERROR($E492*SUMIF('Daily Log'!$BM$18:$BM$1017,$B492,'Daily Log'!$BN$18:$BN$1017),0)","v":0},{"$f":"IFERROR($E492*SUMIF('Daily Log'!$BP$18:$BP$1017,$B492,'Daily Log'!$BQ$18:$BQ$1017),0)","v":0},{"$f":"IFERROR($E492*SUMIF('Daily Log'!$BS$18:$BS$1017,$B492,'Daily Log'!$BT$18:$BT$1017),0)","v":0},{"$f":"IFERROR($E492*SUMIF('Daily Log'!$BV$18:$BV$1017,$B492,'Daily Log'!$BW$18:$BW$1017),0)","v":0},{"$f":"IFERROR($E492*SUMIF('Daily Log'!$BY$18:$BY$1017,$B492,'Daily Log'!$BZ$18:$BZ$1017),0)","v":0},{"$f":"IFERROR($E492*SUMIF('Daily Log'!$CB$18:$CB$1017,$B492,'Daily Log'!$CC$18:$CC$1017),0)","v":0},{"$f":"IFERROR($E492*SUMIF('Daily Log'!$CE$18:$CE$1017,$B492,'Daily Log'!$CF$18:$CF$1017),0)","v":0},{"$f":"IFERROR($E492*SUMIF('Daily Log'!$CH$18:$CH$1017,$B492,'Daily Log'!$CI$18:$CI$1017),0)","v":0},{"$f":"IFERROR($E492*SUMIF('Daily Log'!$CK$18:$CK$1017,$B492,'Daily Log'!$CL$18:$CL$1017),0)","v":0},{"$f":"IFERROR($E492*SUMIF('Daily Log'!$CN$18:$CN$1017,$B492,'Daily Log'!$CO$18:$CO$1017),0)","v":0}]
[null,"BA21 M: TIGER PROMO",null,null,4,0,{"$f":"IFERROR($E493*SUMIF('Daily Log'!$B$18:$B$1017,$B493,'Daily Log'!$C$18:$C$1017),0)","v":0},{"$f":"IFERROR($E493*SUMIF('Daily Log'!$E$18:$E$1017,$B493,'Daily Log'!$F$18:$F$1017),0)","v":0},{"$f":"IFERROR($E493*SUMIF('Daily Log'!$H$18:$H$1017,$B493,'Daily Log'!$I$18:$I$1017),0)","v":0},{"$f":"IFERROR($E493*SUMIF('Daily Log'!$K$18:$K$1017,$B493,'Daily Log'!$L$18:$L$1017),0)","v":0},{"$f":"IFERROR($E493*SUMIF('Daily Log'!$N$18:$N$1017,$B493,'Daily Log'!$O$18:$O$1017),0)","v":0},{"$f":"IFERROR($E493*SUMIF('Daily Log'!$Q$18:$Q$1017,$B493,'Daily Log'!$R$18:$R$1017),0)","v":0},{"$f":"IFERROR($E493*SUMIF('Daily Log'!$T$18:$T$1017,$B493,'Daily Log'!$U$18:$U$1017),0)","v":0},{"$f":"IFERROR($E493*SUMIF('Daily Log'!$W$18:$W$1017,$B493,'Daily Log'!$X$18:$X$1017),0)","v":0},{"$f":"IFERROR($E493*SUMIF('Daily Log'!$Z$18:$Z$1017,$B493,'Daily Log'!$AA$18:$AA$1017),0)","v":0},{"$f":"IFERROR($E493*SUMIF('Daily Log'!$AC$18:$AC$1017,$B493,'Daily Log'!$AD$18:$AD$1017),0)","v":0},{"$f":"IFERROR($E493*SUMIF('Daily Log'!$AF$18:$AF$1017,$B493,'Daily Log'!$AG$18:$AG$1017),0)","v":0},{"$f":"IFERROR($E493*SUMIF('Daily Log'!$AI$18:$AI$1017,$B493,'Daily Log'!$AJ$18:$AJ$1017),0)","v":0},{"$f":"IFERROR($E493*SUMIF('Daily Log'!$AL$18:$AL$1017,$B493,'Daily Log'!$AM$18:$AM$1017),0)","v":0},{"$f":"IFERROR($E493*SUMIF('Daily Log'!$AO$18:$AO$1017,$B493,'Daily Log'!$AP$18:$AP$1017),0)","v":0},{"$f":"IFERROR($E493*SUMIF('Daily Log'!$AR$18:$AR$1017,$B493,'Daily Log'!$AS$18:$AS$1017),0)","v":0},{"$f":"IFERROR($E493*SUMIF('Daily Log'!$AU$18:$AU$1017,$B493,'Daily Log'!$AV$18:$AV$1017),0)","v":0},{"$f":"IFERROR($E493*SUMIF('Daily Log'!$AX$18:$AX$1017,$B493,'Daily Log'!$AY$18:$AY$1017),0)","v":0},{"$f":"IFERROR($E493*SUMIF('Daily Log'!$BA$18:$BA$1017,$B493,'Daily Log'!$BB$18:$BB$1017),0)","v":0},{"$f":"IFERROR($E493*SUMIF('Daily Log'!$BD$18:$BD$1017,$B493,'Daily Log'!$BE$18:$BE$1017),0)","v":0},{"$f":"IFERROR($E493*SUMIF('Daily Log'!$BG$18:$BG$1017,$B493,'Daily Log'!$BH$18:$BH$1017),0)","v":0},{"$f":"IFERROR($E493*SUMIF('Daily Log'!$BJ$18:$BJ$1017,$B493,'Daily Log'!$BK$18:$BK$1017),0)","v":0},{"$f":"IFERROR($E493*SUMIF('Daily Log'!$BM$18:$BM$1017,$B493,'Daily Log'!$BN$18:$BN$1017),0)","v":0},{"$f":"IFERROR($E493*SUMIF('Daily Log'!$BP$18:$BP$1017,$B493,'Daily Log'!$BQ$18:$BQ$1017),0)","v":0},{"$f":"IFERROR($E493*SUMIF('Daily Log'!$BS$18:$BS$1017,$B493,'Daily Log'!$BT$18:$BT$1017),0)","v":0},{"$f":"IFERROR($E493*SUMIF('Daily Log'!$BV$18:$BV$1017,$B493,'Daily Log'!$BW$18:$BW$1017),0)","v":0},{"$f":"IFERROR($E493*SUMIF('Daily Log'!$BY$18:$BY$1017,$B493,'Daily Log'!$BZ$18:$BZ$1017),0)","v":0},{"$f":"IFERROR($E493*SUMIF('Daily Log'!$CB$18:$CB$1017,$B493,'Daily Log'!$CC$18:$CC$1017),0)","v":0},{"$f":"IFERROR($E493*SUMIF('Daily Log'!$CE$18:$CE$1017,$B493,'Daily Log'!$CF$18:$CF$1017),0)","v":0},{"$f":"IFERROR($E493*SUMIF('Daily Log'!$CH$18:$CH$1017,$B493,'Daily Log'!$CI$18:$CI$1017),0)","v":0},{"$f":"IFERROR($E493*SUMIF('Daily Log'!$CK$18:$CK$1017,$B493,'Daily Log'!$CL$18:$CL$1017),0)","v":0},{"$f":"IFERROR($E493*SUMIF('Daily Log'!$CN$18:$CN$1017,$B493,'Daily Log'!$CO$18:$CO$1017),0)","v":0}]
[null,"AB53 H: 2+2",null,null,1,0,{"$f":"IFERROR($E494*SUMIF('Daily Log'!$B$18:$B$1017,$B494,'Daily Log'!$C$18:$C$1017),0)","v":0},{"$f":"IFERROR($E494*SUMIF('Daily Log'!$E$18:$E$1017,$B494,'Daily Log'!$F$18:$F$1017),0)","v":0},{"$f":"IFERROR($E494*SUMIF('Daily Log'!$H$18:$H$1017,$B494,'Daily Log'!$I$18:$I$1017),0)","v":0},{"$f":"IFERROR($E494*SUMIF('Daily Log'!$K$18:$K$1017,$B494,'Daily Log'!$L$18:$L$1017),0)","v":0},{"$f":"IFERROR($E494*SUMIF('Daily Log'!$N$18:$N$1017,$B494,'Daily Log'!$O$18:$O$1017),0)","v":0},{"$f":"IFERROR($E494*SUMIF('Daily Log'!$Q$18:$Q$1017,$B494,'Daily Log'!$R$18:$R$1017),0)","v":0},{"$f":"IFERROR($E494*SUMIF('Daily Log'!$T$18:$T$1017,$B494,'Daily Log'!$U$18:$U$1017),0)","v":0},{"$f":"IFERROR($E494*SUMIF('Daily Log'!$W$18:$W$1017,$B494,'Daily Log'!$X$18:$X$1017),0)","v":0},{"$f":"IFERROR($E494*SUMIF('Daily Log'!$Z$18:$Z$1017,$B494,'Daily Log'!$AA$18:$AA$1017),0)","v":0},{"$f":"IFERROR($E494*SUMIF('Daily Log'!$AC$18:$AC$1017,$B494,'Daily Log'!$AD$18:$AD$1017),0)","v":0},{"$f":"IFERROR($E494*SUMIF('Daily Log'!$AF$18:$AF$1017,$B494,'Daily Log'!$AG$18:$AG$1017),0)","v":0},{"$f":"IFERROR($E494*SUMIF('Daily Log'!$AI$18:$AI$1017,$B494,'Daily Log'!$AJ$18:$AJ$1017),0)","v":0},{"$f":"IFERROR($E494*SUMIF('Daily Log'!$AL$18:$AL$1017,$B494,'Daily Log'!$AM$18:$AM$1017),0)","v":0},{"$f":"IFERROR($E494*SUMIF('Daily Log'!$AO$18:$AO$1017,$B494,'Daily Log'!$AP$18:$AP$1017),0)","v":0},{"$f":"IFERROR($E494*SUMIF('Daily Log'!$AR$18:$AR$1017,$B494,'Daily Log'!$AS$18:$AS$1017),0)","v":0},{"$f":"IFERROR($E494*SUMIF('Daily Log'!$AU$18:$AU$1017,$B494,'Daily Log'!$AV$18:$AV$1017),0)","v":0},{"$f":"IFERROR($E494*SUMIF('Daily Log'!$AX$18:$AX$1017,$B494,'Daily Log'!$AY$18:$AY$1017),0)","v":0},{"$f":"IFERROR($E494*SUMIF('Daily Log'!$BA$18:$BA$1017,$B494,'Daily Log'!$BB$18:$BB$1017),0)","v":0},{"$f":"IFERROR($E494*SUMIF('Daily Log'!$BD$18:$BD$1017,$B494,'Daily Log'!$BE$18:$BE$1017),0)","v":0},{"$f":"IFERROR($E494*SUMIF('Daily Log'!$BG$18:$BG$1017,$B494,'Daily Log'!$BH$18:$BH$1017),0)","v":0},{"$f":"IFERROR($E494*SUMIF('Daily Log'!$BJ$18:$BJ$1017,$B494,'Daily Log'!$BK$18:$BK$1017),0)","v":0},{"$f":"IFERROR($E494*SUMIF('Daily Log'!$BM$18:$BM$1017,$B494,'Daily Log'!$BN$18:$BN$1017),0)","v":0},{"$f":"IFERROR($E494*SUMIF('Daily Log'!$BP$18:$BP$1017,$B494,'Daily Log'!$BQ$18:$BQ$1017),0)","v":0},{"$f":"IFERROR($E494*SUMIF('Daily Log'!$BS$18:$BS$1017,$B494,'Daily Log'!$BT$18:$BT$1017),0)","v":0},{"$f":"IFERROR($E494*SUMIF('Daily Log'!$BV$18:$BV$1017,$B494,'Daily Log'!$BW$18:$BW$1017),0)","v":0},{"$f":"IFERROR($E494*SUMIF('Daily Log'!$BY$18:$BY$1017,$B494,'Daily Log'!$BZ$18:$BZ$1017),0)","v":0},{"$f":"IFERROR($E494*SUMIF('Daily Log'!$CB$18:$CB$1017,$B494,'Daily Log'!$CC$18:$CC$1017),0)","v":0},{"$f":"IFERROR($E494*SUMIF('Daily Log'!$CE$18:$CE$1017,$B494,'Daily Log'!$CF$18:$CF$1017),0)","v":0},{"$f":"IFERROR($E494*SUMIF('Daily Log'!$CH$18:$CH$1017,$B494,'Daily Log'!$CI$18:$CI$1017),0)","v":0},{"$f":"IFERROR($E494*SUMIF('Daily Log'!$CK$18:$CK$1017,$B494,'Daily Log'!$CL$18:$CL$1017),0)","v":0},{"$f":"IFERROR($E494*SUMIF('Daily Log'!$CN$18:$CN$1017,$B494,'Daily Log'!$CO$18:$CO$1017),0)","v":0}]
[null,"EA01 TIDBITS",null,null,1,0,{"$f":"IFERROR($E495*SUMIF('Daily Log'!$B$18:$B$1017,$B495,'Daily Log'!$C$18:$C$1017),0)","v":0},{"$f":"IFERROR($E495*SUMIF('Daily Log'!$E$18:$E$1017,$B495,'Daily Log'!$F$18:$F$1017),0)","v":0},{"$f":"IFERROR($E495*SUMIF('Daily Log'!$H$18:$H$1017,$B495,'Daily Log'!$I$18:$I$1017),0)","v":0},{"$f":"IFERROR($E495*SUMIF('Daily Log'!$K$18:$K$1017,$B495,'Daily Log'!$L$18:$L$1017),0)","v":0},{"$f":"IFERROR($E495*SUMIF('Daily Log'!$N$18:$N$1017,$B495,'Daily Log'!$O$18:$O$1017),0)","v":0},{"$f":"IFERROR($E495*SUMIF('Daily Log'!$Q$18:$Q$1017,$B495,'Daily Log'!$R$18:$R$1017),0)","v":0},{"$f":"IFERROR($E495*SUMIF('Daily Log'!$T$18:$T$1017,$B495,'Daily Log'!$U$18:$U$1017),0)","v":0},{"$f":"IFERROR($E495*SUMIF('Daily Log'!$W$18:$W$1017,$B495,'Daily Log'!$X$18:$X$1017),0)","v":0},{"$f":"IFERROR($E495*SUMIF('Daily Log'!$Z$18:$Z$1017,$B495,'Daily Log'!$AA$18:$AA$1017),0)","v":0},{"$f":"IFERROR($E495*SUMIF('Daily Log'!$AC$18:$AC$1017,$B495,'Daily Log'!$AD$18:$AD$1017),0)","v":0},{"$f":"IFERROR($E495*SUMIF('Daily Log'!$AF$18:$AF$1017,$B495,'Daily Log'!$AG$18:$AG$1017),0)","v":0},{"$f":"IFERROR($E495*SUMIF('Daily Log'!$AI$18:$AI$1017,$B495,'Daily Log'!$AJ$18:$AJ$1017),0)","v":0},{"$f":"IFERROR($E495*SUMIF('Daily Log'!$AL$18:$AL$1017,$B495,'Daily Log'!$AM$18:$AM$1017),0)","v":0},{"$f":"IFERROR($E495*SUMIF('Daily Log'!$AO$18:$AO$1017,$B495,'Daily Log'!$AP$18:$AP$1017),0)","v":0},{"$f":"IFERROR($E495*SUMIF('Daily Log'!$AR$18:$AR$1017,$B495,'Daily Log'!$AS$18:$AS$1017),0)","v":0},{"$f":"IFERROR($E495*SUMIF('Daily Log'!$AU$18:$AU$1017,$B495,'Daily Log'!$AV$18:$AV$1017),0)","v":0},{"$f":"IFERROR($E495*SUMIF('Daily Log'!$AX$18:$AX$1017,$B495,'Daily Log'!$AY$18:$AY$1017),0)","v":0},{"$f":"IFERROR($E495*SUMIF('Daily Log'!$BA$18:$BA$1017,$B495,'Daily Log'!$BB$18:$BB$1017),0)","v":0},{"$f":"IFERROR($E495*SUMIF('Daily Log'!$BD$18:$BD$1017,$B495,'Daily Log'!$BE$18:$BE$1017),0)","v":0},{"$f":"IFERROR($E495*SUMIF('Daily Log'!$BG$18:$BG$1017,$B495,'Daily Log'!$BH$18:$BH$1017),0)","v":0},{"$f":"IFERROR($E495*SUMIF('Daily Log'!$BJ$18:$BJ$1017,$B495,'Daily Log'!$BK$18:$BK$1017),0)","v":0},{"$f":"IFERROR($E495*SUMIF('Daily Log'!$BM$18:$BM$1017,$B495,'Daily Log'!$BN$18:$BN$1017),0)","v":0},{"$f":"IFERROR($E495*SUMIF('Daily Log'!$BP$18:$BP$1017,$B495,'Daily Log'!$BQ$18:$BQ$1017),0)","v":0},{"$f":"IFERROR($E495*SUMIF('Daily Log'!$BS$18:$BS$1017,$B495,'Daily Log'!$BT$18:$BT$1017),0)","v":0},{"$f":"IFERROR($E495*SUMIF('Daily Log'!$BV$18:$BV$1017,$B495,'Daily Log'!$BW$18:$BW$1017),0)","v":0},{"$f":"IFERROR($E495*SUMIF('Daily Log'!$BY$18:$BY$1017,$B495,'Daily Log'!$BZ$18:$BZ$1017),0)","v":0},{"$f":"IFERROR($E495*SUMIF('Daily Log'!$CB$18:$CB$1017,$B495,'Daily Log'!$CC$18:$CC$1017),0)","v":0},{"$f":"IFERROR($E495*SUMIF('Daily Log'!$CE$18:$CE$1017,$B495,'Daily Log'!$CF$18:$CF$1017),0)","v":0},{"$f":"IFERROR($E495*SUMIF('Daily Log'!$CH$18:$CH$1017,$B495,'Daily Log'!$CI$18:$CI$1017),0)","v":0},{"$f":"IFERROR($E495*SUMIF('Daily Log'!$CK$18:$CK$1017,$B495,'Daily Log'!$CL$18:$CL$1017),0)","v":0},{"$f":"IFERROR($E495*SUMIF('Daily Log'!$CN$18:$CN$1017,$B495,'Daily Log'!$CO$18:$CO$1017),0)","v":0}]
[null,"GC03 Student Mem Card",null,null,1,0,{"$f":"IFERROR($E496*SUMIF('Daily Log'!$B$18:$B$1017,$B496,'Daily Log'!$C$18:$C$1017),0)","v":0},{"$f":"IFERROR($E496*SUMIF('Daily Log'!$E$18:$E$1017,$B496,'Daily Log'!$F$18:$F$1017),0)","v":0},{"$f":"IFERROR($E496*SUMIF('Daily Log'!$H$18:$H$1017,$B496,'Daily Log'!$I$18:$I$1017),0)","v":0},{"$f":"IFERROR($E496*SUMIF('Daily Log'!$K$18:$K$1017,$B496,'Daily Log'!$L$18:$L$1017),0)","v":0},{"$f":"IFERROR($E496*SUMIF('Daily Log'!$N$18:$N$1017,$B496,'Daily Log'!$O$18:$O$1017),0)","v":0},{"$f":"IFERROR($E496*SUMIF('Daily Log'!$Q$18:$Q$1017,$B496,'Daily Log'!$R$18:$R$1017),0)","v":0},{"$f":"IFERROR($E496*SUMIF('Daily Log'!$T$18:$T$1017,$B496,'Daily Log'!$U$18:$U$1017),0)","v":0},{"$f":"IFERROR($E496*SUMIF('Daily Log'!$W$18:$W$1017,$B496,'Daily Log'!$X$18:$X$1017),0)","v":0},{"$f":"IFERROR($E496*SUMIF('Daily Log'!$Z$18:$Z$1017,$B496,'Daily Log'!$AA$18:$AA$1017),0)","v":0},{"$f":"IFERROR($E496*SUMIF('Daily Log'!$AC$18:$AC$1017,$B496,'Daily Log'!$AD$18:$AD$1017),0)","v":0},{"$f":"IFERROR($E496*SUMIF('Daily Log'!$AF$18:$AF$1017,$B496,'Daily Log'!$AG$18:$AG$1017),0)","v":0},{"$f":"IFERROR($E496*SUMIF('Daily Log'!$AI$18:$AI$1017,$B496,'Daily Log'!$AJ$18:$AJ$1017),0)","v":0},{"$f":"IFERROR($E496*SUMIF('Daily Log'!$AL$18:$AL$1017,$B496,'Daily Log'!$AM$18:$AM$1017),0)","v":0},{"$f":"IFERROR($E496*SUMIF('Daily Log'!$AO$18:$AO$1017,$B496,'Daily Log'!$AP$18:$AP$1017),0)","v":0},{"$f":"IFERROR($E496*SUMIF('Daily Log'!$AR$18:$AR$1017,$B496,'Daily Log'!$AS$18:$AS$1017),0)","v":0},{"$f":"IFERROR($E496*SUMIF('Daily Log'!$AU$18:$AU$1017,$B496,'Daily Log'!$AV$18:$AV$1017),0)","v":0},{"$f":"IFERROR($E496*SUMIF('Daily Log'!$AX$18:$AX$1017,$B496,'Daily Log'!$AY$18:$AY$1017),0)","v":0},{"$f":"IFERROR($E496*SUMIF('Daily Log'!$BA$18:$BA$1017,$B496,'Daily Log'!$BB$18:$BB$1017),0)","v":0},{"$f":"IFERROR($E496*SUMIF('Daily Log'!$BD$18:$BD$1017,$B496,'Daily Log'!$BE$18:$BE$1017),0)","v":0},{"$f":"IFERROR($E496*SUMIF('Daily Log'!$BG$18:$BG$1017,$B496,'Daily Log'!$BH$18:$BH$1017),0)","v":0},{"$f":"IFERROR($E496*SUMIF('Daily Log'!$BJ$18:$BJ$1017,$B496,'Daily Log'!$BK$18:$BK$1017),0)","v":0},{"$f":"IFERROR($E496*SUMIF('Daily Log'!$BM$18:$BM$1017,$B496,'Daily Log'!$BN$18:$BN$1017),0)","v":0},{"$f":"IFERROR($E496*SUMIF('Daily Log'!$BP$18:$BP$1017,$B496,'Daily Log'!$BQ$18:$BQ$1017),0)","v":0},{"$f":"IFERROR($E496*SUMIF('Daily Log'!$BS$18:$BS$1017,$B496,'Daily Log'!$BT$18:$BT$1017),0)","v":0},{"$f":"IFERROR($E496*SUMIF('Daily Log'!$BV$18:$BV$1017,$B496,'Daily Log'!$BW$18:$BW$1017),0)","v":0},{"$f":"IFERROR($E496*SUMIF('Daily Log'!$BY$18:$BY$1017,$B496,'Daily Log'!$BZ$18:$BZ$1017),0)","v":0},{"$f":"IFERROR($E496*SUMIF('Daily Log'!$CB$18:$CB$1017,$B496,'Daily Log'!$CC$18:$CC$1017),0)","v":0},{"$f":"IFERROR($E496*SUMIF('Daily Log'!$CE$18:$CE$1017,$B496,'Daily Log'!$CF$18:$CF$1017),0)","v":0},{"$f":"IFERROR($E496*SUMIF('Daily Log'!$CH$18:$CH$1017,$B496,'Daily Log'!$CI$18:$CI$1017),0)","v":0},{"$f":"IFERROR($E496*SUMIF('Daily Log'!$CK$18:$CK$1017,$B496,'Daily Log'!$CL$18:$CL$1017),0)","v":0},{"$f":"IFERROR($E496*SUMIF('Daily Log'!$CN$18:$CN$1017,$B496,'Daily Log'!$CO$18:$CO$1017),0)","v":0}]
[null,"ZAD16 MORE HONEY",null,null,1,0,{"$f":"IFERROR($E497*SUMIF('Daily Log'!$B$18:$B$1017,$B497,'Daily Log'!$C$18:$C$1017),0)","v":0},{"$f":"IFERROR($E497*SUMIF('Daily Log'!$E$18:$E$1017,$B497,'Daily Log'!$F$18:$F$1017),0)","v":0},{"$f":"IFERROR($E497*SUMIF('Daily Log'!$H$18:$H$1017,$B497,'Daily Log'!$I$18:$I$1017),0)","v":0},{"$f":"IFERROR($E497*SUMIF('Daily Log'!$K$18:$K$1017,$B497,'Daily Log'!$L$18:$L$1017),0)","v":0},{"$f":"IFERROR($E497*SUMIF('Daily Log'!$N$18:$N$1017,$B497,'Daily Log'!$O$18:$O$1017),0)","v":0},{"$f":"IFERROR($E497*SUMIF('Daily Log'!$Q$18:$Q$1017,$B497,'Daily Log'!$R$18:$R$1017),0)","v":0},{"$f":"IFERROR($E497*SUMIF('Daily Log'!$T$18:$T$1017,$B497,'Daily Log'!$U$18:$U$1017),0)","v":0},{"$f":"IFERROR($E497*SUMIF('Daily Log'!$W$18:$W$1017,$B497,'Daily Log'!$X$18:$X$1017),0)","v":0},{"$f":"IFERROR($E497*SUMIF('Daily Log'!$Z$18:$Z$1017,$B497,'Daily Log'!$AA$18:$AA$1017),0)","v":0},{"$f":"IFERROR($E497*SUMIF('Daily Log'!$AC$18:$AC$1017,$B497,'Daily Log'!$AD$18:$AD$1017),0)","v":0},{"$f":"IFERROR($E497*SUMIF('Daily Log'!$AF$18:$AF$1017,$B497,'Daily Log'!$AG$18:$AG$1017),0)","v":0},{"$f":"IFERROR($E497*SUMIF('Daily Log'!$AI$18:$AI$1017,$B497,'Daily Log'!$AJ$18:$AJ$1017),0)","v":0},{"$f":"IFERROR($E497*SUMIF('Daily Log'!$AL$18:$AL$1017,$B497,'Daily Log'!$AM$18:$AM$1017),0)","v":0},{"$f":"IFERROR($E497*SUMIF('Daily Log'!$AO$18:$AO$1017,$B497,'Daily Log'!$AP$18:$AP$1017),0)","v":0},{"$f":"IFERROR($E497*SUMIF('Daily Log'!$AR$18:$AR$1017,$B497,'Daily Log'!$AS$18:$AS$1017),0)","v":0},{"$f":"IFERROR($E497*SUMIF('Daily Log'!$AU$18:$AU$1017,$B497,'Daily Log'!$AV$18:$AV$1017),0)","v":0},{"$f":"IFERROR($E497*SUMIF('Daily Log'!$AX$18:$AX$1017,$B497,'Daily Log'!$AY$18:$AY$1017),0)","v":0},{"$f":"IFERROR($E497*SUMIF('Daily Log'!$BA$18:$BA$1017,$B497,'Daily Log'!$BB$18:$BB$1017),0)","v":0},{"$f":"IFERROR($E497*SUMIF('Daily Log'!$BD$18:$BD$1017,$B497,'Daily Log'!$BE$18:$BE$1017),0)","v":0},{"$f":"IFERROR($E497*SUMIF('Daily Log'!$BG$18:$BG$1017,$B497,'Daily Log'!$BH$18:$BH$1017),0)","v":0},{"$f":"IFERROR($E497*SUMIF('Daily Log'!$BJ$18:$BJ$1017,$B497,'Daily Log'!$BK$18:$BK$1017),0)","v":0},{"$f":"IFERROR($E497*SUMIF('Daily Log'!$BM$18:$BM$1017,$B497,'Daily Log'!$BN$18:$BN$1017),0)","v":0},{"$f":"IFERROR($E497*SUMIF('Daily Log'!$BP$18:$BP$1017,$B497,'Daily Log'!$BQ$18:$BQ$1017),0)","v":0},{"$f":"IFERROR($E497*SUMIF('Daily Log'!$BS$18:$BS$1017,$B497,'Daily Log'!$BT$18:$BT$1017),0)","v":0},{"$f":"IFERROR($E497*SUMIF('Daily Log'!$BV$18:$BV$1017,$B497,'Daily Log'!$BW$18:$BW$1017),0)","v":0},{"$f":"IFERROR($E497*SUMIF('Daily Log'!$BY$18:$BY$1017,$B497,'Daily Log'!$BZ$18:$BZ$1017),0)","v":0},{"$f":"IFERROR($E497*SUMIF('Daily Log'!$CB$18:$CB$1017,$B497,'Daily Log'!$CC$18:$CC$1017),0)","v":0},{"$f":"IFERROR($E497*SUMIF('Daily Log'!$CE$18:$CE$1017,$B497,'Daily Log'!$CF$18:$CF$1017),0)","v":0},{"$f":"IFERROR($E497*SUMIF('Daily Log'!$CH$18:$CH$1017,$B497,'Daily Log'!$CI$18:$CI$1017),0)","v":0},{"$f":"IFERROR($E497*SUMIF('Daily Log'!$CK$18:$CK$1017,$B497,'Daily Log'!$CL$18:$CL$1017),0)","v":0},{"$f":"IFERROR($E497*SUMIF('Daily Log'!$CN$18:$CN$1017,$B497,'Daily Log'!$CO$18:$CO$1017),0)","v":0}]
[null,"ZZZZZ CHANGE TO CHARGE",null,null,1,0,{"$f":"IFERROR($E498*SUMIF('Daily Log'!$B$18:$B$1017,$B498,'Daily Log'!$C$18:$C$1017),0)","v":0},{"$f":"IFERROR($E498*SUMIF('Daily Log'!$E$18:$E$1017,$B498,'Daily Log'!$F$18:$F$1017),0)","v":0},{"$f":"IFERROR($E498*SUMIF('Daily Log'!$H$18:$H$1017,$B498,'Daily Log'!$I$18:$I$1017),0)","v":0},{"$f":"IFERROR($E498*SUMIF('Daily Log'!$K$18:$K$1017,$B498,'Daily Log'!$L$18:$L$1017),0)","v":0},{"$f":"IFERROR($E498*SUMIF('Daily Log'!$N$18:$N$1017,$B498,'Daily Log'!$O$18:$O$1017),0)","v":0},{"$f":"IFERROR($E498*SUMIF('Daily Log'!$Q$18:$Q$1017,$B498,'Daily Log'!$R$18:$R$1017),0)","v":0},{"$f":"IFERROR($E498*SUMIF('Daily Log'!$T$18:$T$1017,$B498,'Daily Log'!$U$18:$U$1017),0)","v":0},{"$f":"IFERROR($E498*SUMIF('Daily Log'!$W$18:$W$1017,$B498,'Daily Log'!$X$18:$X$1017),0)","v":0},{"$f":"IFERROR($E498*SUMIF('Daily Log'!$Z$18:$Z$1017,$B498,'Daily Log'!$AA$18:$AA$1017),0)","v":0},{"$f":"IFERROR($E498*SUMIF('Daily Log'!$AC$18:$AC$1017,$B498,'Daily Log'!$AD$18:$AD$1017),0)","v":0},{"$f":"IFERROR($E498*SUMIF('Daily Log'!$AF$18:$AF$1017,$B498,'Daily Log'!$AG$18:$AG$1017),0)","v":0},{"$f":"IFERROR($E498*SUMIF('Daily Log'!$AI$18:$AI$1017,$B498,'Daily Log'!$AJ$18:$AJ$1017),0)","v":0},{"$f":"IFERROR($E498*SUMIF('Daily Log'!$AL$18:$AL$1017,$B498,'Daily Log'!$AM$18:$AM$1017),0)","v":0},{"$f":"IFERROR($E498*SUMIF('Daily Log'!$AO$18:$AO$1017,$B498,'Daily Log'!$AP$18:$AP$1017),0)","v":0},{"$f":"IFERROR($E498*SUMIF('Daily Log'!$AR$18:$AR$1017,$B498,'Daily Log'!$AS$18:$AS$1017),0)","v":0},{"$f":"IFERROR($E498*SUMIF('Daily Log'!$AU$18:$AU$1017,$B498,'Daily Log'!$AV$18:$AV$1017),0)","v":0},{"$f":"IFERROR($E498*SUMIF('Daily Log'!$AX$18:$AX$1017,$B498,'Daily Log'!$AY$18:$AY$1017),0)","v":0},{"$f":"IFERROR($E498*SUMIF('Daily Log'!$BA$18:$BA$1017,$B498,'Daily Log'!$BB$18:$BB$1017),0)","v":0},{"$f":"IFERROR($E498*SUMIF('Daily Log'!$BD$18:$BD$1017,$B498,'Daily Log'!$BE$18:$BE$1017),0)","v":0},{"$f":"IFERROR($E498*SUMIF('Daily Log'!$BG$18:$BG$1017,$B498,'Daily Log'!$BH$18:$BH$1017),0)","v":0},{"$f":"IFERROR($E498*SUMIF('Daily Log'!$BJ$18:$BJ$1017,$B498,'Daily Log'!$BK$18:$BK$1017),0)","v":0},{"$f":"IFERROR($E498*SUMIF('Daily Log'!$BM$18:$BM$1017,$B498,'Daily Log'!$BN$18:$BN$1017),0)","v":0},{"$f":"IFERROR($E498*SUMIF('Daily Log'!$BP$18:$BP$1017,$B498,'Daily Log'!$BQ$18:$BQ$1017),0)","v":0},{"$f":"IFERROR($E498*SUMIF('Daily Log'!$BS$18:$BS$1017,$B498,'Daily Log'!$BT$18:$BT$1017),0)","v":0},{"$f":"IFERROR($E498*SUMIF('Daily Log'!$BV$18:$BV$1017,$B498,'Daily Log'!$BW$18:$BW$1017),0)","v":0},{"$f":"IFERROR($E498*SUMIF('Daily Log'!$BY$18:$BY$1017,$B498,'Daily Log'!$BZ$18:$BZ$1017),0)","v":0},{"$f":"IFERROR($E498*SUMIF('Daily Log'!$CB$18:$CB$1017,$B498,'Daily Log'!$CC$18:$CC$1017),0)","v":0},{"$f":"IFERROR($E498*SUMIF('Daily Log'!$CE$18:$CE$1017,$B498,'Daily Log'!$CF$18:$CF$1017),0)","v":0},{"$f":"IFERROR($E498*SUMIF('Daily Log'!$CH$18:$CH$1017,$B498,'Daily Log'!$CI$18:$CI$1017),0)","v":0},{"$f":"IFERROR($E498*SUMIF('Daily Log'!$CK$18:$CK$1017,$B498,'Daily Log'!$CL$18:$CL$1017),0)","v":0},{"$f":"IFERROR($E498*SUMIF('Daily Log'!$CN$18:$CN$1017,$B498,'Daily Log'!$CO$18:$CO$1017),0)","v":0}]
[null,"GD02 MIKE COVER 03",null,null,3,0,{"$f":"IFERROR($E499*SUMIF('Daily Log'!$B$18:$B$1017,$B499,'Daily Log'!$C$18:$C$1017),0)","v":0},{"$f":"IFERROR($E499*SUMIF('Daily Log'!$E$18:$E$1017,$B499,'Daily Log'!$F$18:$F$1017),0)","v":0},{"$f":"IFERROR($E499*SUMIF('Daily Log'!$H$18:$H$1017,$B499,'Daily Log'!$I$18:$I$1017),0)","v":0},{"$f":"IFERROR($E499*SUMIF('Daily Log'!$K$18:$K$1017,$B499,'Daily Log'!$L$18:$L$1017),0)","v":0},{"$f":"IFERROR($E499*SUMIF('Daily Log'!$N$18:$N$1017,$B499,'Daily Log'!$O$18:$O$1017),0)","v":0},{"$f":"IFERROR($E499*SUMIF('Daily Log'!$Q$18:$Q$1017,$B499,'Daily Log'!$R$18:$R$1017),0)","v":0},{"$f":"IFERROR($E499*SUMIF('Daily Log'!$T$18:$T$1017,$B499,'Daily Log'!$U$18:$U$1017),0)","v":0},{"$f":"IFERROR($E499*SUMIF('Daily Log'!$W$18:$W$1017,$B499,'Daily Log'!$X$18:$X$1017),0)","v":0},{"$f":"IFERROR($E499*SUMIF('Daily Log'!$Z$18:$Z$1017,$B499,'Daily Log'!$AA$18:$AA$1017),0)","v":0},{"$f":"IFERROR($E499*SUMIF('Daily Log'!$AC$18:$AC$1017,$B499,'Daily Log'!$AD$18:$AD$1017),0)","v":0},{"$f":"IFERROR($E499*SUMIF('Daily Log'!$AF$18:$AF$1017,$B499,'Daily Log'!$AG$18:$AG$1017),0)","v":0},{"$f":"IFERROR($E499*SUMIF('Daily Log'!$AI$18:$AI$1017,$B499,'Daily Log'!$AJ$18:$AJ$1017),0)","v":0},{"$f":"IFERROR($E499*SUMIF('Daily Log'!$AL$18:$AL$1017,$B499,'Daily Log'!$AM$18:$AM$1017),0)","v":0},{"$f":"IFERROR($E499*SUMIF('Daily Log'!$AO$18:$AO$1017,$B499,'Daily Log'!$AP$18:$AP$1017),0)","v":0},{"$f":"IFERROR($E499*SUMIF('Daily Log'!$AR$18:$AR$1017,$B499,'Daily Log'!$AS$18:$AS$1017),0)","v":0},{"$f":"IFERROR($E499*SUMIF('Daily Log'!$AU$18:$AU$1017,$B499,'Daily Log'!$AV$18:$AV$1017),0)","v":0},{"$f":"IFERROR($E499*SUMIF('Daily Log'!$AX$18:$AX$1017,$B499,'Daily Log'!$AY$18:$AY$1017),0)","v":0},{"$f":"IFERROR($E499*SUMIF('Daily Log'!$BA$18:$BA$1017,$B499,'Daily Log'!$BB$18:$BB$1017),0)","v":0},{"$f":"IFERROR($E499*SUMIF('Daily Log'!$BD$18:$BD$1017,$B499,'Daily Log'!$BE$18:$BE$1017),0)","v":0},{"$f":"IFERROR($E499*SUMIF('Daily Log'!$BG$18:$BG$1017,$B499,'Daily Log'!$BH$18:$BH$1017),0)","v":0},{"$f":"IFERROR($E499*SUMIF('Daily Log'!$BJ$18:$BJ$1017,$B499,'Daily Log'!$BK$18:$BK$1017),0)","v":0},{"$f":"IFERROR($E499*SUMIF('Daily Log'!$BM$18:$BM$1017,$B499,'Daily Log'!$BN$18:$BN$1017),0)","v":0},{"$f":"IFERROR($E499*SUMIF('Daily Log'!$BP$18:$BP$1017,$B499,'Daily Log'!$BQ$18:$BQ$1017),0)","v":0},{"$f":"IFERROR($E499*SUMIF('Daily Log'!$BS$18:$BS$1017,$B499,'Daily Log'!$BT$18:$BT$1017),0)","v":0},{"$f":"IFERROR($E499*SUMIF('Daily Log'!$BV$18:$BV$1017,$B499,'Daily Log'!$BW$18:$BW$1017),0)","v":0},{"$f":"IFERROR($E499*SUMIF('Daily Log'!$BY$18:$BY$1017,$B499,'Daily Log'!$BZ$18:$BZ$1017),0)","v":0},{"$f":"IFERROR($E499*SUMIF('Daily Log'!$CB$18:$CB$1017,$B499,'Daily Log'!$CC$18:$CC$1017),0)","v":0},{"$f":"IFERROR($E499*SUMIF('Daily Log'!$CE$18:$CE$1017,$B499,'Daily Log'!$CF$18:$CF$1017),0)","v":0},{"$f":"IFERROR($E499*SUMIF('Daily Log'!$CH$18:$CH$1017,$B499,'Daily Log'!$CI$18:$CI$1017),0)","v":0},{"$f":"IFERROR($E499*SUMIF('Daily Log'!$CK$18:$CK$1017,$B499,'Daily Log'!$CL$18:$CL$1017),0)","v":0},{"$f":"IFERROR($E499*SUMIF('Daily Log'!$CN$18:$CN$1017,$B499,'Daily Log'!$CO$18:$CO$1017),0)","v":0}]
[null,"MC02 MIC COVER X 3",null,"MIC COVER",1,83,{"$f":"IFERROR($E500*SUMIF('Daily Log'!$B$18:$B$1017,$B500,'Daily Log'!$C$18:$C$1017),0)","v":0},{"$f":"IFERROR($E500*SUMIF('Daily Log'!$E$18:$E$1017,$B500,'Daily Log'!$F$18:$F$1017),0)","v":0},{"$f":"IFERROR($E500*SUMIF('Daily Log'!$H$18:$H$1017,$B500,'Daily Log'!$I$18:$I$1017),0)","v":0},{"$f":"IFERROR($E500*SUMIF('Daily Log'!$K$18:$K$1017,$B500,'Daily Log'!$L$18:$L$1017),0)","v":0},{"$f":"IFERROR($E500*SUMIF('Daily Log'!$N$18:$N$1017,$B500,'Daily Log'!$O$18:$O$1017),0)","v":0},{"$f":"IFERROR($E500*SUMIF('Daily Log'!$Q$18:$Q$1017,$B500,'Daily Log'!$R$18:$R$1017),0)","v":0},{"$f":"IFERROR($E500*SUMIF('Daily Log'!$T$18:$T$1017,$B500,'Daily Log'!$U$18:$U$1017),0)","v":0},{"$f":"IFERROR($E500*SUMIF('Daily Log'!$W$18:$W$1017,$B500,'Daily Log'!$X$18:$X$1017),0)","v":0},{"$f":"IFERROR($E500*SUMIF('Daily Log'!$Z$18:$Z$1017,$B500,'Daily Log'!$AA$18:$AA$1017),0)","v":0},{"$f":"IFERROR($E500*SUMIF('Daily Log'!$AC$18:$AC$1017,$B500,'Daily Log'!$AD$18:$AD$1017),0)","v":0},{"$f":"IFERROR($E500*SUMIF('Daily Log'!$AF$18:$AF$1017,$B500,'Daily Log'!$AG$18:$AG$1017),0)","v":0},{"$f":"IFERROR($E500*SUMIF('Daily Log'!$AI$18:$AI$1017,$B500,'Daily Log'!$AJ$18:$AJ$1017),0)","v":0},{"$f":"IFERROR($E500*SUMIF('Daily Log'!$AL$18:$AL$1017,$B500,'Daily Log'!$AM$18:$AM$1017),0)","v":0},{"$f":"IFERROR($E500*SUMIF('Daily Log'!$AO$18:$AO$1017,$B500,'Daily Log'!$AP$18:$AP$1017),0)","v":0},{"$f":"IFERROR($E500*SUMIF('Daily Log'!$AR$18:$AR$1017,$B500,'Daily Log'!$AS$18:$AS$1017),0)","v":0},{"$f":"IFERROR($E500*SUMIF('Daily Log'!$AU$18:$AU$1017,$B500,'Daily Log'!$AV$18:$AV$1017),0)","v":0},{"$f":"IFERROR($E500*SUMIF('Daily Log'!$AX$18:$AX$1017,$B500,'Daily Log'!$AY$18:$AY$1017),0)","v":0},{"$f":"IFERROR($E500*SUMIF('Daily Log'!$BA$18:$BA$1017,$B500,'Daily Log'!$BB$18:$BB$1017),0)","v":0},{"$f":"IFERROR($E500*SUMIF('Daily Log'!$BD$18:$BD$1017,$B500,'Daily Log'!$BE$18:$BE$1017),0)","v":0},{"$f":"IFERROR($E500*SUMIF('Daily Log'!$BG$18:$BG$1017,$B500,'Daily Log'!$BH$18:$BH$1017),0)","v":0},{"$f":"IFERROR($E500*SUMIF('Daily Log'!$BJ$18:$BJ$1017,$B500,'Daily Log'!$BK$18:$BK$1017),0)","v":0},{"$f":"IFERROR($E500*SUMIF('Daily Log'!$BM$18:$BM$1017,$B500,'Daily Log'!$BN$18:$BN$1017),0)","v":0},{"$f":"IFERROR($E500*SUMIF('Daily Log'!$BP$18:$BP$1017,$B500,'Daily Log'!$BQ$18:$BQ$1017),0)","v":0},{"$f":"IFERROR($E500*SUMIF('Daily Log'!$BS$18:$BS$1017,$B500,'Daily Log'!$BT$18:$BT$1017),0)","v":0},{"$f":"IFERROR($E500*SUMIF('Daily Log'!$BV$18:$BV$1017,$B500,'Daily Log'!$BW$18:$BW$1017),0)","v":0},{"$f":"IFERROR($E500*SUMIF('Daily Log'!$BY$18:$BY$1017,$B500,'Daily Log'!$BZ$18:$BZ$1017),0)","v":0},{"$f":"IFERROR($E500*SUMIF('Daily Log'!$CB$18:$CB$1017,$B500,'Daily Log'!$CC$18:$CC$1017),0)","v":0},{"$f":"IFERROR($E500*SUMIF('Daily Log'!$CE$18:$CE$1017,$B500,'Daily Log'!$CF$18:$CF$1017),0)","v":83},{"$f":"IFERROR($E500*SUMIF('Daily Log'!$CH$18:$CH$1017,$B500,'Daily Log'!$CI$18:$CI$1017),0)","v":0},{"$f":"IFERROR($E500*SUMIF('Daily Log'!$CK$18:$CK$1017,$B500,'Daily Log'!$CL$18:$CL$1017),0)","v":0},{"$f":"IFERROR($E500*SUMIF('Daily Log'!$CN$18:$CN$1017,$B500,'Daily Log'!$CO$18:$CO$1017),0)","v":0}]

{"sheet":"Daily Log","index":2,"n_rows":1019,"n_cols":96,"rows_kept":1019,"cut":false,"hidden":false,"merged":[[5,2,5,4],[7,2,7,4],[9,2,9,4]]}
[]
[]
[null,null,"DAILY LOG OF PRODUCT SALES"]
[]
[]
[null,"OUTLET",{"$f":"Summary!C6","v":"SBA"}]
[]
[null,"YEAR",{"$f":"Summary!C8","v":"2014"}]
[]
[null,"MONTH",{"$f":"Summary!C10","v":"FEBRUARY"}]
[]
[]
[]
[{"$f":"IFERROR(INDEX($CR$18:$CR$48,MAX($B$17:$CO$17),1),\"\")","v":0},{"$f":"\"DATE  \"&TEXT(Summary!G27,\"DD / MM / YYYY\")","v":"DATE  01 / 02 / 2014"},null,null,{"$f":"\"DATE  \"&TEXT(Summary!H27,\"DD / MM / YYYY\")","v":"DATE  02 / 02 / 2014"},null,null,{"$f":"\"DATE  \"&TEXT(Summary!I27,\"DD / MM / YYYY\")","v":"DATE  03 / 02 / 2014"},null,null,{"$f":"\"DATE  \"&TEXT(Summary!J27,\"DD / MM / YYYY\")","v":"DATE  04 / 02 / 2014"},null,null,{"$f":"\"DATE  \"&TEXT(Summary!K27,\"DD / MM / YYYY\")","v":"DATE  05 / 02 / 2014"},null,null,{"$f":"\"DATE  \"&TEXT(Summary!L27,\"DD / MM / YYYY\")","v":"DATE  06 / 02 / 2014"},null,null,{"$f":"\"DATE  \"&TEXT(Summary!M27,\"DD / MM / YYYY\")","v":"DATE  07 / 02 / 2014"},null,null,{"$f":"\"DATE  \"&TEXT(Summary!N27,\"DD / MM / YYYY\")","v":"DATE  08 / 02 / 2014"},null,null,{"$f":"\"DATE  \"&TEXT(Summary!O27,\"DD / MM / YYYY\")","v":"DATE  09 / 02 / 2014"},null,null,{"$f":"\"DATE  \"&TEXT(Summary!P27,\"DD / MM / YYYY\")","v":"DATE  10 / 02 / 2014"},null,null,{"$f":"\"DATE  \"&TEXT(Summary!Q27,\"DD / MM / YYYY\")","v":"DATE  11 / 02 / 2014"},null,null,{"$f":"\"DATE  \"&TEXT(Summary!R27,\"DD / MM / YYYY\")","v":"DATE  12 / 02 / 2014"},null,null,{"$f":"\"DATE  \"&TEXT(Summary!S27,\"DD / MM / YYYY\")","v":"DATE  13 / 02 / 2014"},null,null,{"$f":"\"DATE  \"&TEXT(Summary!T27,\"DD / MM / YYYY\")","v":"DATE  14 / 02 / 2014"},null,null,{"$f":"\"DATE  \"&TEXT(Summary!U27,\"DD / MM / YYYY\")","v":"DATE  15 / 02 / 2014"},null,null,{"$f":"\"DATE  \"&TEXT(Summary!V27,\"DD / MM / YYYY\")","v":"DATE  16 / 02 / 2014"},null,null,{"$f":"\"DATE  \"&TEXT(Summary!W27,\"DD / MM / YYYY\")","v":"DATE  17 / 02 / 2014"},null,null,{"$f":"\"DATE  \"&TEXT(Summary!X27,\"DD / MM / YYYY\")","v":"DATE  18 / 02 / 2014"},null,null,{"$f":"\"DATE  \"&TEXT(Summary!Y27,\"DD / MM / YYYY\")","v":"DATE  19 / 02 / 2014"},null,null,{"$f":"\"DATE  \"&TEXT(Summary!Z27,\"DD / MM / YYYY\")","v":"DATE  20 / 02 / 2014"},null,null,{"$f":"\"DATE  \"&TEXT(Summary!AA27,\"DD / MM / YYYY\")","v":"DATE  21 / 02 / 2014"},null,null,{"$f":"\"DATE  \"&TEXT(Summary!AB27,\"DD / MM / YYYY\")","v":"DATE  22 / 02 / 2014"},null,null,{"$f":"\"DATE  \"&TEXT(Summary!AC27,\"DD / MM / YYYY\")","v":"DATE  23 / 02 / 2014"},null,null,{"$f":"\"DATE  \"&TEXT(Summary!AD27,\"DD / MM / YYYY\")","v":"DATE  24 / 02 / 2014"},null,null,{"$f":"\"DATE  \"&TEXT(Summary!AE27,\"DD / MM / YYYY\")","v":"DATE  25 / 02 / 2014"},null,null,{"$f":"\"DATE  \"&TEXT(Summary!AF27,\"DD / MM / YYYY\")","v":"DATE  26 / 02 / 2014"},null,null,{"$f":"\"DATE  \"&TEXT(Summary!AG27,\"DD / MM / YYYY\")","v":"DATE  27 / 02 / 2014"},null,null,{"$f":"\"DATE  \"&TEXT(Summary!AH27,\"DD / MM / YYYY\")","v":"DATE  28 / 02 / 2014"},null,null,{"$f":"\"DATE  \"&TEXT(Summary!AI27,\"DD / MM / YYYY\")","v":"DATE  "},null,null,{"$f":"\"DATE  \"&TEXT(Summary!AJ27,\"DD / MM / YYYY\")","v":"DATE  "},null,null,{"$f":"\"DATE  \"&TEXT(Summary!AK27,\"DD / MM / YYYY\")","v":"DATE  "},null,null,"COLUMN"]
[]
[null,"PRODUCT","QUANTITY",null,"PRODUCT","QUANTITY",null,"PRODUCT","QUANTITY",null,"PRODUCT","QUANTITY",null,"PRODUCT","QUANTITY",null,"PRODUCT","QUANTITY",null,"PRODUCT","QUANTITY",null,"PRODUCT","QUANTITY",null,"PRODUCT","QUANTITY",null,"PRODUCT","QUANTITY",null,"PRODUCT","QUANTITY",null,"PRODUCT","QUANTITY",null,"PRODUCT","QUANTITY",null,"PRODUCT","QUANTITY",null,"PRODUCT","QUANTITY",null,"PRODUCT","QUANTITY",null,"PRODUCT","QUANTITY",null,"PRODUCT","QUANTITY",null,"PRODUCT","QUANTITY",null,"PRODUCT","QUANTITY",null,"PRODUCT","QUANTITY",null,"PRODUCT","QUANTITY",null,"PRODUCT","QUANTITY",null,"PRODUCT","QUANTITY",null,"PRODUCT","QUANTITY",null,"PRODUCT","QUANTITY",null,"PRODUCT","QUANTITY",null,"PRODUCT","QUANTITY",null,"PRODUCT","QUANTITY",null,"PRODUCT","QUANTITY",null,"PRODUCT","QUANTITY",null,"MONTH","COLUMN"]
[null,{"$f":"IF(B18<>\"\",1,0)","v":0},null,null,{"$f":"IF(E18<>\"\",2,0)","v":0},null,null,{"$f":"IF(H18<>\"\",3,0)","v":0},null,null,{"$f":"IF(K18<>\"\",4,0)","v":0},null,null,{"$f":"IF(N18<>\"\",5,0)","v":0},null,null,{"$f":"IF(Q18<>\"\",6,0)","v":0},null,null,{"$f":"IF(T18<>\"\",7,0)","v":0},null,null,{"$f":"IF(W18<>\"\",8,0)","v":0},null,null,{"$f":"IF(Z18<>\"\",9,0)","v":0},null,null,{"$f":"IF(AC18<>\"\",10,0)","v":0},null,null,{"$f":"IF(AF18<>\"\",11,0)","v":0},null,null,{"$f":"IF(AI18<>\"\",12,0)","v":0},null,null,{"$f":"IF(AL18<>\"\",13,0)","v":0},null,null,{"$f":"IF(AO18<>\"\",14,0)","v":0},null,null,{"$f":"IF(AR18<>\"\",15,0)","v":0},null,null,{"$f":"IF(AU18<>\"\",16,0)","v":0},null,null,{"$f":"IF(AX18<>\"\",17,0)","v":0},null,null,{"$f":"IF(BA18<>\"\",18,0)","v":0},null,null,{"$f":"IF(BD18<>\"\",19,0)","v":0},null,null,{"$f":"IF(BG18<>\"\",20,0)","v":0},null,null,{"$f":"IF(BJ18<>\"\",21,0)","v":0},null,null,{"$f":"IF(BM18<>\"\",22,0)","v":0},null,null,{"$f":"IF(BP18<>\"\",23,0)","v":0},null,null,{"$f":"IF(BS18<>\"\",24,0)","v":0},null,null,{"$f":"IF(BV18<>\"\",25,0)","v":0},null,null,{"$f":"IF(BY18<>\"\",26,0)","v":0},null,null,{"$f":"IF(CB18<>\"\",27,0)","v":0},null,null,{"$f":"IF(CE18<>\"\",28,0)","v":28},null,null,{"$f":"IF(CH18<>\"\",29,0)","v":0},null,null,{"$f":"IF(CK18<>\"\",30,0)","v":0},null,null,{"$f":"IF(CN18<>\"\",31,0)","v":0}]
[{"$f":"IFERROR(IF(INDIRECT($A$14&ROW())<>\"\",COUNTIF(Summary!$B$30:$B$1082,INDIRECT($A$14&ROW())),\"\"),\"\")","v":""},null,null,null,null,null,null,null,null,null,null,null,null,null,null,null,null,null,null,null,null,null,null,null,null,null,null,null,null,null,null,null,null,null,null,null,null,null,null,null,null,null,null,null,null,null,null,null,null,null,null,null,null,null,null,null,null,null,null,null,null,null,null,null,null,null,null,null,null,null,null,null,null,null,null,null,null,null,null,null,null,null,"AA01 1201:SFD STICK",2]
[{"$f":"IFERROR(IF(INDIRECT($A$14&ROW())<>\"\",COUNTIF(Summary!$B$30:$B$1082,INDIRECT($A$14&ROW())),\"\"),\"\")","v":""},null,null,null,null,null,null,null,null,null,null,null,null,null,null,null,null,null,null,null,null,null,null,null,null,null,null,null,null,null,null,null,null,null,null,null,null,null,null,null,null,null,null,null,null,null,null,null,null,null,null,null,null,null,null,null,null,null,null,null,null,null,null,null,null,null,null,null,null,null,null,null,null,null,null,null,null,null,null,null,null,null,"AA02 1202:FREN FRIES",60]
[{"$f":"IFERROR(IF(INDIRECT($A$14&ROW())<>\"\",COUNTIF(Summary!$B$30:$B$1082,INDIRECT($A$14&ROW())),\"\"),\"\")","v":""},null,null,null,null,null,null,null,null,null,null,null,null,null,null,null,null,null,null,null,null,null,null,null,null,null,null,null,null,null,null,null,null,null,null,null,null,null,null,null,null,null,null,null,null,null,null,null,null,null,null,null,null,null,null,null,null,null,null,null,null,null,null,null,null,null,null,null,null,null,null,null,null,null,null,null,null,null,null,null,null,null,"AA03 1203:GOLD MR",8]
[{"$f":"IFERROR(IF(INDIRECT($A$14&ROW())<>\"\",COUNTIF(Summary!$B$30:$B$1082,INDIRECT($A$14&ROW())),\"\"),\"\")","v":""},null,null,null,null,null,null,null,null,null,null,null,null,null,null,null,null,null,null,null,null,null,null,null,null,null,null,null,null,null,null,null,null,null,null,null,null,null,null,null,null,null,null,null,null,null,null,null,null,null,null,null,null,null,null,null,null,null,null,null,null,null,null,null,null,null,null,null,null,null,null,null,null,null,null,null,null,null,null,null,null,null,"AA04 1204:FSH BALL",7]
[{"$f":"IFERROR(IF(INDIRECT($A$14&ROW())<>\"\",COUNTIF(Summary!$B$30:$B$1082,INDIRECT($A$14&ROW())),\"\"),\"\")","v":""},null,null,null,null,null,null,null,null,null,null,null,null,null,null,null,null,null,null,null,null,null,null,null,null,null,null,null,null,null,null,null,null,null,null,null,null,null,null,null,null,null,null,null,null,null,null,null,null,null,null,null,null,null,null,null,null,null,null,null,null,null,null,null,null,null,null,null,null,null,null,null,null,null,null,null,null,null,null,null,null,null,"AA06 1206:SPRING RL",10]
[{"$f":"IFERROR(IF(INDIRECT($A$14&ROW())<>\"\",COUNTIF(Summary!$B$30:$B$1082,INDIRECT($A$14&ROW())),\"\"),\"\")","v":""},null,null,null,null,null,null,null,null,null,null,null,null,null,null,null,null,null,null,null,null,null,null,null,null,null,null,null,null,null,null,null,null,null,null,null,null,null,null,null,null,null,null,null,null,null,null,null,null,null,null,null,null,null,null,null,null,null,null,null,null,null,null,null,null,null,null,null,null,null,null,null,null,null,null,null,null,null,null,null,null,null,"AA07 1207:SAUSG",13]
[{"$f":"IFERROR(IF(INDIRECT($A$14&ROW())<>\"\",COUNTIF(Summary!$B$30:$B$1082,INDIRECT($A$14&ROW())),\"\"),\"\")","v":""},null,null,null,null,null,null,null,null,null,null,null,null,null,null,null,null,null,null,null,null,null,null,null,null,null,null,null,null,null,null,null,null,null,null,null,null,null,null,null,null,null,null,null,null,null,null,null,null,null,null,null,null,null,null,null,null,null,null,null,null,null,null,null,null,null,null,null,null,null,null,null,null,null,null,null,null,null,null,null,null,null,"AA32 1302:NUGGET",45]
[{"$f":"IFERROR(IF(INDIRECT($A$14&ROW())<>\"\",COUNTIF(Summary!$B$30:$B$1082,INDIRECT($A$14&ROW())),\"\"),\"\")","v":""},null,null,null,null,null,null,null,null,null,null,null,null,null,null,null,null,null,null,null,null,null,null,null,null,null,null,null,null,null,null,null,null,null,null,null,null,null,null,null,null,null,null,null,null,null,null,null,null,null,null,null,null,null,null,null,null,null,null,null,null,null,null,null,null,null,null,null,null,null,null,null,null,null,null,null,null,null,null,null,null,null,"AA33 1303:CHK WING",48]
[{"$f":"IFERROR(IF(INDIRECT($A$14&ROW())<>\"\",COUNTIF(Summary!$B$30:$B$1082,INDIRECT($A$14&ROW())),\"\"),\"\")","v":""},null,null,null,null,null,null,null,null,null,null,null,null,null,null,null,null,null,null,null,null,null,null,null,null,null,null,null,null,null,null,null,null,null,null,null,null,null,null,null,null,null,null,null,null,null,null,null,null,null,null,null,null,null,null,null,null,null,null,null,null,null,null,null,null,null,null,null,null,null,null,null,null,null,null,null,null,null,null,null,null,null,"AA35 1305:THAI RL",4]
[{"$f":"IFERROR(IF(INDIRECT($A$14&ROW())<>\"\",COUNTIF(Summary!$B$30:$B$1082,INDIRECT($A$14&ROW())),\"\"),\"\")","v":""},null,null,null,null,null,null,null,null,null,null,null,null,null,null,null,null,null,null,null,null,null,null,null,null,null,null,null,null,null,null,null,null,null,null,null,null,null,null,null,null,null,null,null,null,null,null,null,null,null,null,null,null,null,null,null,null,null,null,null,null,null,null,null,null,null,null,null,null,null,null,null,null,null,null,null,null,null,null,null,null,null,"AA36 1306:DF WING",4]
[{"$f":"IFERROR(IF(INDIRECT($A$14&ROW())<>\"\",COUNTIF(Summary!$B$30:$B$1082,INDIRECT($A$14&ROW())),\"\"),\"\")","v":""},null,null,null,null,null,null,null,null,null,null,null,null,null,null,null,null,null,null,null,null,null,null,null,null,null,null,null,null,null,null,null,null,null,null,null,null,null,null,null,null,null,null,null,null,null,null,null,null,null,null,null,null,null,null,null,null,null,null,null,null,null,null,null,null,null,null,null,null,null,null,null,null,null,null,null,null,null,null,null,null,null,"AA37 1307:CALAMARI",9]
[{"$f":"IFERROR(IF(INDIRECT($A$14&ROW())<>\"\",COUNTIF(Summary!$B$30:$B$1082,INDIRECT($A$14&ROW())),\"\"),\"\")","v":""},null,null,null,null,null,null,null,null,null,null,null,null,null,null,null,null,null,null,null,null,null,null,null,null,null,null,null,null,null,null,null,null,null,null,null,null,null,null,null,null,null,null,null,null,null,null,null,null,null,null,null,null,null,null,null,null,null,null,null,null,null,null,null,null,null,null,null,null,null,null,null,null,null,null,null,null,null,null,null,null,null,"AA38 1308:MC RING",7]
[{"$f":"IFERROR(IF(INDIRECT($A$14&ROW())<>\"\",COUNTIF(Summary!$B$30:$B$1082,INDIRECT($A$14&ROW())),\"\"),\"\")","v":""},null,null,null,null,null,null,null,null,null,null,null,null,null,null,null,null,null,null,null,null,null,null,null,null,null,null,null,null,null,null,null,null,null,null,null,null,null,null,null,null,null,null,null,null,null,null,null,null,null,null,null,null,null,null,null,null,null,null,null,null,null,null,null,null,null,null,null,null,null,null,null,null,null,null,null,null,null,null,null,null,null,"AA39 1309:MC S.FRIES",1]
[{"$f":"IFERROR(IF(INDIRECT($A$14&ROW())<>\"\",COUNTIF(Summary!$B$30:$B$1082,INDIRECT($A$14&ROW())),\"\"),\"\")","v":""},null,null,null,null,null,null,null,null,null,null,null,null,null,null,null,null,null,null,null,null,null,null,null,null,null,null,null,null,null,null,null,null,null,null,null,null,null,null,null,null,null,null,null,null,null,null,null,null,null,null,null,null,null,null,null,null,null,null,null,null,null,null,null,null,null,null,null,null,null,null,null,null,null,null,null,null,null,null,null,null,null,"AA40 1310:MC HP SMIL",1]
[{"$f":"IFERROR(IF(INDIRECT($A$14&ROW())<>\"\",COUNTIF(Summary!$B$30:$B$1082,INDIRECT($A$14&ROW())),\"\"),\"\")","v":""},null,null,null,null,null,null,null,null,null,null,null,null,null,null,null,null,null,null,null,null,null,null,null,null,null,null,null,null,null,null,null,null,null,null,null,null,null,null,null,null,null,null,null,null,null,null,null,null,null,null,null,null,null,null,null,null,null,null,null,null,null,null,null,null,null,null,null,null,null,null,null,null,null,null,null,null,null,null,null,null,null,"AA41 1311:MC HSH BRW",12]
[{"$f":"IFERROR(IF(INDIRECT($A$14&ROW())<>\"\",COUNTIF(Summary!$B$30:$B$1082,INDIRECT($A$14&ROW())),\"\"),\"\")","v":""},null,null,null,null,null,null,null,null,null,null,null,null,null,null,null,null,null,null,null,null,null,null,null,null,null,null,null,null,null,null,null,null,null,null,null,null,null,null,null,null,null,null,null,null,null,null,null,null,null,null,null,null,null,null,null,null,null,null,null,null,null,null,null,null,null,null,null,null,null,null,null,null,null,null,null,null,null,null,null,null,null,"AF01 91201:SFD STICK",2]
[{"$f":"IFERROR(IF(INDIRECT($A$14&ROW())<>\"\",COUNTIF(Summary!$B$30:$B$1082,INDIRECT($A$14&ROW())),\"\"),\"\")","v":""},null,null,null,null,null,null,null,null,null,null,null,null,null,null,null,null,null,null,null,null,null,null,null,null,null,null,null,null,null,null,null,null,null,null,null,null,null,null,null,null,null,null,null,null,null,null,null,null,null,null,null,null,null,null,null,null,null,null,null,null,null,null,null,null,null,null,null,null,null,null,null,null,null,null,null,null,null,null,null,null,null,"AF02 91202:FREN FRIES",24]
[{"$f":"IFERROR(IF(INDIRECT($A$14&ROW())<>\"\",COUNTIF(Summary!$B$30:$B$1082,INDIRECT($A$14&ROW())),\"\"),\"\")","v":""},null,null,null,null,null,null,null,null,null,null,null,null,null,null,null,null,null,null,null,null,null,null,null,null,null,null,null,null,null,null,null,null,null,null,null,null,null,null,null,null,null,null,null,null,null,null,null,null,null,null,null,null,null,null,null,null,null,null,null,null,null,null,null,null,null,null,null,null,null,null,null,null,null,null,null,null,null,null,null,null,null,"AF03 91203:GOLD MR",5]
[{"$f":"IFERROR(IF(INDIRECT($A$14&ROW())<>\"\",COUNTIF(Summary!$B$30:$B$1082,INDIRECT($A$14&ROW())),\"\"),\"\")","v":""},null,null,null,null,null,null,null,null,null,null,null,null,null,null,null,null,null,null,null,null,null,null,null,null,null,null,null,null,null,null,null,null,null,null,null,null,null,null,null,null,null,null,null,null,null,null,null,null,null,null,null,null,null,null,null,null,null,null,null,null,null,null,null,null,null,null,null,null,null,null,null,null,null,null,null,null,null,null,null,null,null,"AF04 91204:FSH BALL",8]
[{"$f":"IFERROR(IF(INDIRECT($A$14&ROW())<>\"\",COUNTIF(Summary!$B$30:$B$1082,INDIRECT($A$14&ROW())),\"\"),\"\")","v":""},null,null,null,null,null,null,null,null,null,null,null,null,null,null,null,null,null,null,null,null,null,null,null,null,null,null,null,null,null,null,null,null,null,null,null,null,null,null,null,null,null,null,null,null,null,null,null,null,null,null,null,null,null,null,null,null,null,null,null,null,null,null,null,null,null,null,null,null,null,null,null,null,null,null,null,null,null,null,null,null,null,"AF06 91206:SPRING RL",4]
[{"$f":"IFERROR(IF(INDIRECT($A$14&ROW())<>\"\",COUNTIF(Summary!$B$30:$B$1082,INDIRECT($A$14&ROW())),\"\"),\"\")","v":""},null,null,null,null,null,null,null,null,null,null,null,null,null,null,null,null,null,null,null,null,null,null,null,null,null,null,null,null,null,null,null,null,null,null,null,null,null,null,null,null,null,null,null,null,null,null,null,null,null,null,null,null,null,null,null,null,null,null,null,null,null,null,null,null,null,null,null,null,null,null,null,null,null,null,null,null,null,null,null,null,null,"AF07 91207:SAUSG",14]
[{"$f":"IFERROR(IF(INDIRECT($A$14&ROW())<>\"\",COUNTIF(Summary!$B$30:$B$1082,INDIRECT($A$14&ROW())),\"\"),\"\")","v":""},null,null,null,null,null,null,null,null,null,null,null,null,null,null,null,null,null,null,null,null,null,null,null,null,null,null,null,null,null,null,null,null,null,null,null,null,null,null,null,null,null,null,null,null,null,null,null,null,null,null,null,null,null,null,null,null,null,null,null,null,null,null,null,null,null,null,null,null,null,null,null,null,null,null,null,null,null,null,null,null,null,"AF32 91302:NUGGET",46]
[{"$f":"IFERROR(IF(INDIRECT($A$14&ROW())<>\"\",COUNTIF(Summary!$B$30:$B$1082,INDIRECT($A$14&ROW())),\"\"),\"\")","v":""},null,null,null,null,null,null,null,null,null,null,null,null,null,null,null,null,null,null,null,null,null,null,null,null,null,null,null,null,null,null,null,null,null,null,null,null,null,null,null,null,null,null,null,null,null,null,null,null,null,null,null,null,null,null,null,null,null,null,null,null,null,null,null,null,null,null,null,null,null,null,null,null,null,null,null,null,null,null,null,null,null,"AF33 91303:CHK WING",57]
[{"$f":"IFERROR(IF(INDIRECT($A$14&ROW())<>\"\",COUNTIF(Summary!$B$30:$B$1082,INDIRECT($A$14&ROW())),\"\"),\"\")","v":""},null,null,null,null,null,null,null,null,null,null,null,null,null,null,null,null,null,null,null,null,null,null,null,null,null,null,null,null,null,null,null,null,null,null,null,null,null,null,null,null,null,null,null,null,null,null,null,null,null,null,null,null,null,null,null,null,null,null,null,null,null,null,null,null,null,null,null,null,null,null,null,null,null,null,null,null,null,null,null,null,null,"AF34 91304:IKAN BILIS",3]
[{"$f":"IFERROR(IF(INDIRECT($A$14&ROW())<>\"\",COUNTIF(Summary!$B$30:$B$1082,INDIRECT($A$14&ROW())),\"\"),\"\")","v":""},null,null,null,null,null,null,null,null,null,null,null,null,null,null,null,null,null,null,null,null,null,null,null,null,null,null,null,null,null,null,null,null,null,null,null,null,null,null,null,null,null,null,null,null,null,null,null,null,null,null,null,null,null,null,null,null,null,null,null,null,null,null,null,null,null,null,null,null,null,null,null,null,null,null,null,null,null,null,null,null,null,"AF35 91305:THAI RL",8]
[{"$f":"IFERROR(IF(INDIRECT($A$14&ROW())<>\"\",COUNTIF(Summary!$B$30:$B$1082,INDIRECT($A$14&ROW())),\"\"),\"\")","v":""},null,null,null,null,null,null,null,null,null,null,null,null,null,null,null,null,null,null,null,null,null,null,null,null,null,null,null,null,null,null,null,null,null,null,null,null,null,null,null,null,null,null,null,null,null,null,null,null,null,null,null,null,null,null,null,null,null,null,null,null,null,null,null,null,null,null,null,null,null,null,null,null,null,null,null,null,null,null,null,null,null,"AF36 91306:DF WING",7]
[{"$f":"IFERROR(IF(INDIRECT($A$14&ROW())<>\"\",COUNTIF(Summary!$B$30:$B$1082,INDIRECT($A$14&ROW())),\"\"),\"\")","v":""},null,null,null,null,null,null,null,null,null,null,null,null,null,null,null,null,null,null,null,null,null,null,null,null,null,null,null,null,null,null,null,null,null,null,null,null,null,null,null,null,null,null,null,null,null,null,null,null,null,null,null,null,null,null,null,null,null,null,null,null,null,null,null,null,null,null,null,null,null,null,null,null,null,null,null,null,null,null,null,null,null,"AF37 91307:CALAMARI",8]
[{"$f":"IFERROR(IF(INDIRECT($A$14&ROW())<>\"\",COUNTIF(Summary!$B$30:$B$1082,INDIRECT($A$14&ROW())),\"\"),\"\")","v":""},null,null,null,null,null,null,null,null,null,null,null,null,null,null,null,null,null,null,null,null,null,null,null,null,null,null,null,null,null,null,null,null,null,null,null,null,null,null,null,null,null,null,null,null,null,null,null,null,null,null,null,null,null,null,null,null,null,null,null,null,null,null,null,null,null,null,null,null,null,null,null,null,null,null,null,null,null,null,null,null,null,"AF38 91308:MC RING",8]
[{"$f":"IFERROR(IF(INDIRECT($A$14&ROW())<>\"\",COUNTIF(Summary!$B$30:$B$1082,INDIRECT($A$14&ROW())),\"\"),\"\")","v":""},null,null,null,null,null,null,null,null,null,null,null,null,null,null,null,null,null,null,null,null,null,null,null,null,null,null,null,null,null,null,null,null,null,null,null,null,null,null,null,null,null,null,null,null,null,null,null,null,null,null,null,null,null,null,null,null,null,null,null,null,null,null,null,null,null,null,null,null,null,null,null,null,null,null,null,null,null,null,null,null,null,"AF39 91309:MC S.FRIES",1]
[{"$f":"IFERROR(IF(INDIRECT($A$14&ROW())<>\"\",COUNTIF(Summary!$B$30:$B$1082,INDIRECT($A$14&ROW())),\"\"),\"\")","v":""},null,null,null,null,null,null,null,null,null,null,null,null,null,null,null,null,null,null,null,null,null,null,null,null,null,null,null,null,null,null,null,null,null,null,null,null,null,null,null,null,null,null,null,null,null,null,null,null,null,null,null,null,null,null,null,null,null,null,null,null,null,null,null,null,null,null,null,null,null,null,null,null,null,null,null,null,null,null,null,null,null,"AF40 91310:MC HP SMIL",2]
[{"$f":"IFERROR(IF(INDIRECT($A$14&ROW())<>\"\",COUNTIF(Summary!$B$30:$B$1082,INDIRECT($A$14&ROW())),\"\"),\"\")","v":""},null,null,null,null,null,null,null,null,null,null,null,null,null,null,null,null,null,null,null,null,null,null,null,null,null,null,null,null,null,null,null,null,null,null,null,null,null,null,null,null,null,null,null,null,null,null,null,null,null,null,null,null,null,null,null,null,null,null,null,null,null,null,null,null,null,null,null,null,null,null,null,null,null,null,null,null,null,null,null,null,null,"AF41 91311:MC HSH BRW",7]
[{"$f":"IFERROR(IF(INDIRECT($A$14&ROW())<>\"\",COUNTIF(Summary!$B$30:$B$1082,INDIRECT($A$14&ROW())),\"\"),\"\")","v":""},null,null,null,null,null,null,null,null,null,null,null,null,null,null,null,null,null,null,null,null,null,null,null,null,null,null,null,null,null,null,null,null,null,null,null,null,null,null,null,null,null,null,null,null,null,null,null,null,null,null,null,null,null,null,null,null,null,null,null,null,null,null,null,null,null,null,null,null,null,null,null,null,null,null,null,null,null,null,null,null,null,"AP01 1411:MC ALACARTE",23]
[{"$f":"IFERROR(IF(INDIRECT($A$14&ROW())<>\"\",COUNTIF(Summary!$B$30:$B$1082,INDIRECT($A$14&ROW())),\"\"),\"\")","v":""},null,null,null,null,null,null,null,null,null,null,null,null,null,null,null,null,null,null,null,null,null,null,null,null,null,null,null,null,null,null,null,null,null,null,null,null,null,null,null,null,null,null,null,null,null,null,null,null,null,null,null,null,null,null,null,null,null,null,null,null,null,null,null,null,null,null,null,null,null,null,null,null,null,null,null,null,null,null,null,null,null,"AP02 1412:MC BEER",9]
[{"$f":"IFERROR(IF(INDIRECT($A$14&ROW())<>\"\",COUNTIF(Summary!$B$30:$B$1082,INDIRECT($A$14&ROW())),\"\"),\"\")","v":""},null,null,null,null,null,null,null,null,null,null,null,null,null,null,null,null,null,null,null,null,null,null,null,null,null,null,null,null,null,null,null,null,null,null,null,null,null,null,null,null,null,null,null,null,null,null,null,null,null,null,null,null,null,null,null,null,null,null,null,null,null,null,null,null,null,null,null,null,null,null,null,null,null,null,null,null,null,null,null,null,null,"AS01 1401:SET 990",106]
[{"$f":"IFERROR(IF(INDIRECT($A$14&ROW())<>\"\",COUNTIF(Summary!$B$30:$B$1082,INDIRECT($A$14&ROW())),\"\"),\"\")","v":""},null,null,null,null,null,null,null,null,null,null,null,null,null,null,null,null,null,null,null,null,null,null,null,null,null,null,null,null,null,null,null,null,null,null,null,null,null,null,null,null,null,null,null,null,null,null,null,null,null,null,null,null,null,null,null,null,null,null,null,null,null,null,null,null,null,null,null,null,null,null,null,null,null,null,null,null,null,null,null,null,null,"AS02 1402:SET 1390",120]
[{"$f":"IFERROR(IF(INDIRECT($A$14&ROW())<>\"\",COUNTIF(Summary!$B$30:$B$1082,INDIRECT($A$14&ROW())),\"\"),\"\")","v":""},null,null,null,null,null,null,null,null,null,null,null,null,null,null,null,null,null,null,null,null,null,null,null,null,null,null,null,null,null,null,null,null,null,null,null,null,null,null,null,null,null,null,null,null,null,null,null,null,null,null,null,null,null,null,null,null,null,null,null,null,null,null,null,null,null,null,null,null,null,null,null,null,null,null,null,null,null,null,null,null,null,"BG01 6001:GUI BTL",10]
[{"$f":"IFERROR(IF(INDIRECT($A$14&ROW())<>\"\",COUNTIF(Summary!$B$30:$B$1082,INDIRECT($A$14&ROW())),\"\"),\"\")","v":""},null,null,null,null,null,null,null,null,null,null,null,null,null,null,null,null,null,null,null,null,null,null,null,null,null,null,null,null,null,null,null,null,null,null,null,null,null,null,null,null,null,null,null,null,null,null,null,null,null,null,null,null,null,null,null,null,null,null,null,null,null,null,null,null,null,null,null,null,null,null,null,null,null,null,null,null,null,null,null,null,null,"BG02 6002:GUI BKT",14]
[{"$f":"IFERROR(IF(INDIRECT($A$14&ROW())<>\"\",COUNTIF(Summary!$B$30:$B$1082,INDIRECT($A$14&ROW())),\"\"),\"\")","v":""},null,null,null,null,null,null,null,null,null,null,null,null,null,null,null,null,null,null,null,null,null,null,null,null,null,null,null,null,null,null,null,null,null,null,null,null,null,null,null,null,null,null,null,null,null,null,null,null,null,null,null,null,null,null,null,null,null,null,null,null,null,null,null,null,null,null,null,null,null,null,null,null,null,null,null,null,null,null,null,null,null,"BG03 6003:GUI RND",6]
[{"$f":"IFERROR(IF(INDIRECT($A$14&ROW())<>\"\",COUNTIF(Summary!$B$30:$B$1082,INDIRECT($A$14&ROW())),\"\"),\"\")","v":""},null,null,null,null,null,null,null,null,null,null,null,null,null,null,null,null,null,null,null,null,null,null,null,null,null,null,null,null,null,null,null,null,null,null,null,null,null,null,null,null,null,null,null,null,null,null,null,null,null,null,null,null,null,null,null,null,null,null,null,null,null,null,null,null,null,null,null,null,null,null,null,null,null,null,null,null,null,null,null,null,null,"BH01 5001:HEI BTL",14]
[{"$f":"IFERROR(IF(INDIRECT($A$14&ROW())<>\"\",COUNTIF(Summary!$B$30:$B$1082,INDIRECT($A$14&ROW())),\"\"),\"\")","v":""},null,null,null,null,null,null,null,null,null,null,null,null,null,null,null,null,null,null,null,null,null,null,null,null,null,null,null,null,null,null,null,null,null,null,null,null,null,null,null,null,null,null,null,null,null,null,null,null,null,null,null,null,null,null,null,null,null,null,null,null,null,null,null,null,null,null,null,null,null,null,null,null,null,null,null,null,null,null,null,null,null,"BH02 5002:HEI BKT",86]
[{"$f":"IFERROR(IF(INDIRECT($A$14&ROW())<>\"\",COUNTIF(Summary!$B$30:$B$1082,INDIRECT($A$14&ROW())),\"\"),\"\")","v":""},null,null,null,null,null,null,null,null,null,null,null,null,null,null,null,null,null,null,null,null,null,null,null,null,null,null,null,null,null,null,null,null,null,null,null,null,null,null,null,null,null,null,null,null,null,null,null,null,null,null,null,null,null,null,null,null,null,null,null,null,null,null,null,null,null,null,null,null,null,null,null,null,null,null,null,null,null,null,null,null,null,"BH03 5003:HEI RND",19]
[{"$f":"IFERROR(IF(INDIRECT($A$14&ROW())<>\"\",COUNTIF(Summary!$B$30:$B$1082,INDIRECT($A$14&ROW())),\"\"),\"\")","v":""},null,null,null,null,null,null,null,null,null,null,null,null,null,null,null,null,null,null,null,null,null,null,null,null,null,null,null,null,null,null,null,null,null,null,null,null,null,null,null,null,null,null,null,null,null,null,null,null,null,null,null,null,null,null,null,null,null,null,null,null,null,null,null,null,null,null,null,null,null,null,null,null,null,null,null,null,null,null,null,null,null,"BH04 5004:HEI 3+1",10]
[{"$f":"IFERROR(IF(INDIRECT($A$14&ROW())<>\"\",COUNTIF(Summary!$B$30:$B$1082,INDIRECT($A$14&ROW())),\"\"),\"\")","v":""},null,null,null,null,null,null,null,null,null,null,null,null,null,null,null,null,null,null,null,null,null,null,null,null,null,null,null,null,null,null,null,null,null,null,null,null,null,null,null,null,null,null,null,null,null,null,null,null,null,null,null,null,null,null,null,null,null,null,null,null,null,null,null,null,null,null,null,null,null,null,null,null,null,null,null,null,null,null,null,null,null,"BN01 8201:HOE BTL",11]
[{"$f":"IFERROR(IF(INDIRECT($A$14&ROW())<>\"\",COUNTIF(Summary!$B$30:$B$1082,INDIRECT($A$14&ROW())),\"\"),\"\")","v":""},null,null,null,null,null,null,null,null,null,null,null,null,null,null,null,null,null,null,null,null,null,null,null,null,null,null,null,null,null,null,null,null,null,null,null,null,null,null,null,null,null,null,null,null,null,null,null,null,null,null,null,null,null,null,null,null,null,null,null,null,null,null,null,null,null,null,null,null,null,null,null,null,null,null,null,null,null,null,null,null,null,"BN02 8202:HOE BKT",12]
[{"$f":"IFERROR(IF(INDIRECT($A$14&ROW())<>\"\",COUNTIF(Summary!$B$30:$B$1082,INDIRECT($A$14&ROW())),\"\"),\"\")","v":""},null,null,null,null,null,null,null,null,null,null,null,null,null,null,null,null,null,null,null,null,null,null,null,null,null,null,null,null,null,null,null,null,null,null,null,null,null,null,null,null,null,null,null,null,null,null,null,null,null,null,null,null,null,null,null,null,null,null,null,null,null,null,null,null,null,null,null,null,null,null,null,null,null,null,null,null,null,null,null,null,null,"BR01 8301:PAUL BTL",2]
[{"$f":"IFERROR(IF(INDIRECT($A$14&ROW())<>\"\",COUNTIF(Summary!$B$30:$B$1082,INDIRECT($A$14&ROW())),\"\"),\"\")","v":""},null,null,null,null,null,null,null,null,null,null,null,null,null,null,null,null,null,null,null,null,null,null,null,null,null,null,null,null,null,null,null,null,null,null,null,null,null,null,null,null,null,null,null,null,null,null,null,null,null,null,null,null,null,null,null,null,null,null,null,null,null,null,null,null,null,null,null,null,null,null,null,null,null,null,null,null,null,null,null,null,null,"BR02 8302:PAUL BKT",1]
[{"$f":"IFERROR(IF(INDIRECT($A$14&ROW())<>\"\",COUNTIF(Summary!$B$30:$B$1082,INDIRECT($A$14&ROW())),\"\"),\"\")","v":""},null,null,null,null,null,null,null,null,null,null,null,null,null,null,null,null,null,null,null,null,null,null,null,null,null,null,null,null,null,null,null,null,null,null,null,null,null,null,null,null,null,null,null,null,null,null,null,null,null,null,null,null,null,null,null,null,null,null,null,null,null,null,null,null,null,null,null,null,null,null,null,null,null,null,null,null,null,null,null,null,null,"BT01 7001:TIG BTL",31]
[{"$f":"IFERROR(IF(INDIRECT($A$14&ROW())<>\"\",COUNTIF(Summary!$B$30:$B$1082,INDIRECT($A$14&ROW())),\"\"),\"\")","v":""},null,null,null,null,null,null,null,null,null,null,null,null,null,null,null,null,null,null,null,null,null,null,null,null,null,null,null,null,null,null,null,null,null,null,null,null,null,null,null,null,null,null,null,null,null,null,null,null,null,null,null,null,null,null,null,null,null,null,null,null,null,null,null,null,null,null,null,null,null,null,null,null,null,null,null,null,null,null,null,null,null,"BT02 7002:TIG BKT",160]
[{"$f":"IFERROR(IF(INDIRECT($A$14&ROW())<>\"\",COUNTIF(Summary!$B$30:$B$1082,INDIRECT($A$14&ROW())),\"\"),\"\")","v":""},null,null,null,null,null,null,null,null,null,null,null,null,null,null,null,null,null,null,null,null,null,null,null,null,null,null,null,null,null,null,null,null,null,null,null,null,null,null,null,null,null,null,null,null,null,null,null,null,null,null,null,null,null,null,null,null,null,null,null,null,null,null,null,null,null,null,null,null,null,null,null,null,null,null,null,null,null,null,null,null,null,"BT03 7003:TIG RND",57]
[{"$f":"IFERROR(IF(INDIRECT($A$14&ROW())<>\"\",COUNTIF(Summary!$B$30:$B$1082,INDIRECT($A$14&ROW())),\"\"),\"\")","v":""},null,null,null,null,null,null,null,null,null,null,null,null,null,null,null,null,null,null,null,null,null,null,null,null,null,null,null,null,null,null,null,null,null,null,null,null,null,null,null,null,null,null,null,null,null,null,null,null,null,null,null,null,null,null,null,null,null,null,null,null,null,null,null,null,null,null,null,null,null,null,null,null,null,null,null,null,null,null,null,null,null,"BT04 7004:TIG 2+1",15]
[{"$f":"IFERROR(IF(INDIRECT($A$14&ROW())<>\"\",COUNTIF(Summary!$B$30:$B$1082,INDIRECT($A$14&ROW())),\"\"),\"\")","v":""},null,null,null,null,null,null,null,null,null,null,null,null,null,null,null,null,null,null,null,null,null,null,null,null,null,null,null,null,null,null,null,null,null,null,null,null,null,null,null,null,null,null,null,null,null,null,null,null,null,null,null,null,null,null,null,null,null,null,null,null,null,null,null,null,null,null,null,null,null,null,null,null,null,null,null,null,null,null,null,null,null,"BT05 7005:TIG RD BTL",1]
[{"$f":"IFERROR(IF(INDIRECT($A$14&ROW())<>\"\",COUNTIF(Summary!$B$30:$B$1082,INDIRECT($A$14&ROW())),\"\"),\"\")","v":""},null,null,null,null,null,null,null,null,null,null,null,null,null,null,null,null,null,null,null,null,null,null,null,null,null,null,null,null,null,null,null,null,null,null,null,null,null,null,null,null,null,null,null,null,null,null,null,null,null,null,null,null,null,null,null,null,null,null,null,null,null,null,null,null,null,null,null,null,null,null,null,null,null,null,null,null,null,null,null,null,null,"BW01 8101:STRONG BTL",1]
[{"$f":"IFERROR(IF(INDIRECT($A$14&ROW())<>\"\",COUNTIF(Summary!$B$30:$B$1082,INDIRECT($A$14&ROW())),\"\"),\"\")","v":""},null,null,null,null,null,null,null,null,null,null,null,null,null,null,null,null,null,null,null,null,null,null,null,null,null,null,null,null,null,null,null,null,null,null,null,null,null,null,null,null,null,null,null,null,null,null,null,null,null,null,null,null,null,null,null,null,null,null,null,null,null,null,null,null,null,null,null,null,null,null,null,null,null,null,null,null,null,null,null,null,null,"BW02 8102:STRONG BKT",5]
[{"$f":"IFERROR(IF(INDIRECT($A$14&ROW())<>\"\",COUNTIF(Summary!$B$30:$B$1082,INDIRECT($A$14&ROW())),\"\"),\"\")","v":""},null,null,null,null,null,null,null,null,null,null,null,null,null,null,null,null,null,null,null,null,null,null,null,null,null,null,null,null,null,null,null,null,null,null,null,null,null,null,null,null,null,null,null,null,null,null,null,null,null,null,null,null,null,null,null,null,null,null,null,null,null,null,null,null,null,null,null,null,null,null,null,null,null,null,null,null,null,null,null,null,null,"BY01 8001:SOME BTL",14]
[{"$f":"IFERROR(IF(INDIRECT($A$14&ROW())<>\"\",COUNTIF(Summary!$B$30:$B$1082,INDIRECT($A$14&ROW())),\"\"),\"\")","v":""},null,null,null,null,null,null,null,null,null,null,null,null,null,null,null,null,null,null,null,null,null,null,null,null,null,null,null,null,null,null,null,null,null,null,null,null,null,null,null,null,null,null,null,null,null,null,null,null,null,null,null,null,null,null,null,null,null,null,null,null,null,null,null,null,null,null,null,null,null,null,null,null,null,null,null,null,null,null,null,null,null,"BY02 8002:SOME BKT",17]
[{"$f":"IFERROR(IF(INDIRECT($A$14&ROW())<>\"\",COUNTIF(Summary!$B$30:$B$1082,INDIRECT($A$14&ROW())),\"\"),\"\")","v":""},null,null,null,null,null,null,null,null,null,null,null,null,null,null,null,null,null,null,null,null,null,null,null,null,null,null,null,null,null,null,null,null,null,null,null,null,null,null,null,null,null,null,null,null,null,null,null,null,null,null,null,null,null,null,null,null,null,null,null,null,null,null,null,null,null,null,null,null,null,null,null,null,null,null,null,null,null,null,null,null,null,"CB04 2007:LMN TEA(C)",1]
[{"$f":"IFERROR(IF(INDIRECT($A$14&ROW())<>\"\",COUNTIF(Summary!$B$30:$B$1082,INDIRECT($A$14&ROW())),\"\"),\"\")","v":""},null,null,null,null,null,null,null,null,null,null,null,null,null,null,null,null,null,null,null,null,null,null,null,null,null,null,null,null,null,null,null,null,null,null,null,null,null,null,null,null,null,null,null,null,null,null,null,null,null,null,null,null,null,null,null,null,null,null,null,null,null,null,null,null,null,null,null,null,null,null,null,null,null,null,null,null,null,null,null,null,null,"CB05 2009:GRN TEA(C)",2]
[{"$f":"IFERROR(IF(INDIRECT($A$14&ROW())<>\"\",COUNTIF(Summary!$B$30:$B$1082,INDIRECT($A$14&ROW())),\"\"),\"\")","v":""},null,null,null,null,null,null,null,null,null,null,null,null,null,null,null,null,null,null,null,null,null,null,null,null,null,null,null,null,null,null,null,null,null,null,null,null,null,null,null,null,null,null,null,null,null,null,null,null,null,null,null,null,null,null,null,null,null,null,null,null,null,null,null,null,null,null,null,null,null,null,null,null,null,null,null,null,null,null,null,null,null,"CB06 2011:HNY GT(C)",1]
[{"$f":"IFERROR(IF(INDIRECT($A$14&ROW())<>\"\",COUNTIF(Summary!$B$30:$B$1082,INDIRECT($A$14&ROW())),\"\"),\"\")","v":""},null,null,null,null,null,null,null,null,null,null,null,null,null,null,null,null,null,null,null,null,null,null,null,null,null,null,null,null,null,null,null,null,null,null,null,null,null,null,null,null,null,null,null,null,null,null,null,null,null,null,null,null,null,null,null,null,null,null,null,null,null,null,null,null,null,null,null,null,null,null,null,null,null,null,null,null,null,null,null,null,null,"CB08 2015:HNY LMN(C)",2]
[{"$f":"IFERROR(IF(INDIRECT($A$14&ROW())<>\"\",COUNTIF(Summary!$B$30:$B$1082,INDIRECT($A$14&ROW())),\"\"),\"\")","v":""},null,null,null,null,null,null,null,null,null,null,null,null,null,null,null,null,null,null,null,null,null,null,null,null,null,null,null,null,null,null,null,null,null,null,null,null,null,null,null,null,null,null,null,null,null,null,null,null,null,null,null,null,null,null,null,null,null,null,null,null,null,null,null,null,null,null,null,null,null,null,null,null,null,null,null,null,null,null,null,null,null,"CF01 92001:MILO(C)",1129]
[{"$f":"IFERROR(IF(INDIRECT($A$14&ROW())<>\"\",COUNTIF(Summary!$B$30:$B$1082,INDIRECT($A$14&ROW())),\"\"),\"\")","v":""},null,null,null,null,null,null,null,null,null,null,null,null,null,null,null,null,null,null,null,null,null,null,null,null,null,null,null,null,null,null,null,null,null,null,null,null,null,null,null,null,null,null,null,null,null,null,null,null,null,null,null,null,null,null,null,null,null,null,null,null,null,null,null,null,null,null,null,null,null,null,null,null,null,null,null,null,null,null,null,null,null,"CF02 92003:NESCAFE(C)",370]
[{"$f":"IFERROR(IF(INDIRECT($A$14&ROW())<>\"\",COUNTIF(Summary!$B$30:$B$1082,INDIRECT($A$14&ROW())),\"\"),\"\")","v":""},null,null,null,null,null,null,null,null,null,null,null,null,null,null,null,null,null,null,null,null,null,null,null,null,null,null,null,null,null,null,null,null,null,null,null,null,null,null,null,null,null,null,null,null,null,null,null,null,null,null,null,null,null,null,null,null,null,null,null,null,null,null,null,null,null,null,null,null,null,null,null,null,null,null,null,null,null,null,null,null,null,"CF03 92005:TEA(C)",97]
[{"$f":"IFERROR(IF(INDIRECT($A$14&ROW())<>\"\",COUNTIF(Summary!$B$30:$B$1082,INDIRECT($A$14&ROW())),\"\"),\"\")","v":""},null,null,null,null,null,null,null,null,null,null,null,null,null,null,null,null,null,null,null,null,null,null,null,null,null,null,null,null,null,null,null,null,null,null,null,null,null,null,null,null,null,null,null,null,null,null,null,null,null,null,null,null,null,null,null,null,null,null,null,null,null,null,null,null,null,null,null,null,null,null,null,null,null,null,null,null,null,null,null,null,null,"CF04 92007:LMN TEA(C)",1623]
[{"$f":"IFERROR(IF(INDIRECT($A$14&ROW())<>\"\",COUNTIF(Summary!$B$30:$B$1082,INDIRECT($A$14&ROW())),\"\"),\"\")","v":""},null,null,null,null,null,null,null,null,null,null,null,null,null,null,null,null,null,null,null,null,null,null,null,null,null,null,null,null,null,null,null,null,null,null,null,null,null,null,null,null,null,null,null,null,null,null,null,null,null,null,null,null,null,null,null,null,null,null,null,null,null,null,null,null,null,null,null,null,null,null,null,null,null,null,null,null,null,null,null,null,null,"CF05 92009:GRN TEA(C)",1372]
[{"$f":"IFERROR(IF(INDIRECT($A$14&ROW())<>\"\",COUNTIF(Summary!$B$30:$B$1082,INDIRECT($A$14&ROW())),\"\"),\"\")","v":""},null,null,null,null,null,null,null,null,null,null,null,null,null,null,null,null,null,null,null,null,null,null,null,null,null,null,null,null,null,null,null,null,null,null,null,null,null,null,null,null,null,null,null,null,null,null,null,null,null,null,null,null,null,null,null,null,null,null,null,null,null,null,null,null,null,null,null,null,null,null,null,null,null,null,null,null,null,null,null,null,null,"CF06 92011:HNY GT(C)",1549]
[{"$f":"IFERROR(IF(INDIRECT($A$14&ROW())<>\"\",COUNTIF(Summary!$B$30:$B$1082,INDIRECT($A$14&ROW())),\"\"),\"\")","v":""},null,null,null,null,null,null,null,null,null,null,null,null,null,null,null,null,null,null,null,null,null,null,null,null,null,null,null,null,null,null,null,null,null,null,null,null,null,null,null,null,null,null,null,null,null,null,null,null,null,null,null,null,null,null,null,null,null,null,null,null,null,null,null,null,null,null,null,null,null,null,null,null,null,null,null,null,null,null,null,null,null,"CF07 92013:HONEY(C)",406]
[{"$f":"IFERROR(IF(INDIRECT($A$14&ROW())<>\"\",COUNTIF(Summary!$B$30:$B$1082,INDIRECT($A$14&ROW())),\"\"),\"\")","v":""},null,null,null,null,null,null,null,null,null,null,null,null,null,null,null,null,null,null,null,null,null,null,null,null,null,null,null,null,null,null,null,null,null,null,null,null,null,null,null,null,null,null,null,null,null,null,null,null,null,null,null,null,null,null,null,null,null,null,null,null,null,null,null,null,null,null,null,null,null,null,null,null,null,null,null,null,null,null,null,null,null,"CF08 92015:HNY LMN(C)",3691]
[{"$f":"IFERROR(IF(INDIRECT($A$14&ROW())<>\"\",COUNTIF(Summary!$B$30:$B$1082,INDIRECT($A$14&ROW())),\"\"),\"\")","v":""},null,null,null,null,null,null,null,null,null,null,null,null,null,null,null,null,null,null,null,null,null,null,null,null,null,null,null,null,null,null,null,null,null,null,null,null,null,null,null,null,null,null,null,null,null,null,null,null,null,null,null,null,null,null,null,null,null,null,null,null,null,null,null,null,null,null,null,null,null,null,null,null,null,null,null,null,null,null,null,null,null,"CG01 92023:7 UP",442]
[{"$f":"IFERROR(IF(INDIRECT($A$14&ROW())<>\"\",COUNTIF(Summary!$B$30:$B$1082,INDIRECT($A$14&ROW())),\"\"),\"\")","v":""},null,null,null,null,null,null,null,null,null,null,null,null,null,null,null,null,null,null,null,null,null,null,null,null,null,null,null,null,null,null,null,null,null,null,null,null,null,null,null,null,null,null,null,null,null,null,null,null,null,null,null,null,null,null,null,null,null,null,null,null,null,null,null,null,null,null,null,null,null,null,null,null,null,null,null,null,null,null,null,null,null,"CG02 92024:7UP REVIVE",111]
[{"$f":"IFERROR(IF(INDIRECT($A$14&ROW())<>\"\",COUNTIF(Summary!$B$30:$B$1082,INDIRECT($A$14&ROW())),\"\"),\"\")","v":""},null,null,null,null,null,null,null,null,null,null,null,null,null,null,null,null,null,null,null,null,null,null,null,null,null,null,null,null,null,null,null,null,null,null,null,null,null,null,null,null,null,null,null,null,null,null,null,null,null,null,null,null,null,null,null,null,null,null,null,null,null,null,null,null,null,null,null,null,null,null,null,null,null,null,null,null,null,null,null,null,null,"CG03 92025:PEPSI",1313]
[{"$f":"IFERROR(IF(INDIRECT($A$14&ROW())<>\"\",COUNTIF(Summary!$B$30:$B$1082,INDIRECT($A$14&ROW())),\"\"),\"\")","v":""},null,null,null,null,null,null,null,null,null,null,null,null,null,null,null,null,null,null,null,null,null,null,null,null,null,null,null,null,null,null,null,null,null,null,null,null,null,null,null,null,null,null,null,null,null,null,null,null,null,null,null,null,null,null,null,null,null,null,null,null,null,null,null,null,null,null,null,null,null,null,null,null,null,null,null,null,null,null,null,null,null,"DH01 DUNHILL",41]
[{"$f":"IFERROR(IF(INDIRECT($A$14&ROW())<>\"\",COUNTIF(Summary!$B$30:$B$1082,INDIRECT($A$14&ROW())),\"\"),\"\")","v":""},null,null,null,null,null,null,null,null,null,null,null,null,null,null,null,null,null,null,null,null,null,null,null,null,null,null,null,null,null,null,null,null,null,null,null,null,null,null,null,null,null,null,null,null,null,null,null,null,null,null,null,null,null,null,null,null,null,null,null,null,null,null,null,null,null,null,null,null,null,null,null,null,null,null,null,null,null,null,null,null,null,"DH02 DUNHILL LITE",11]
[{"$f":"IFERROR(IF(INDIRECT($A$14&ROW())<>\"\",COUNTIF(Summary!$B$30:$B$1082,INDIRECT($A$14&ROW())),\"\"),\"\")","v":""},null,null,null,null,null,null,null,null,null,null,null,null,null,null,null,null,null,null,null,null,null,null,null,null,null,null,null,null,null,null,null,null,null,null,null,null,null,null,null,null,null,null,null,null,null,null,null,null,null,null,null,null,null,null,null,null,null,null,null,null,null,null,null,null,null,null,null,null,null,null,null,null,null,null,null,null,null,null,null,null,null,"DH03 DUNHILL MT",11]
[{"$f":"IFERROR(IF(INDIRECT($A$14&ROW())<>\"\",COUNTIF(Summary!$B$30:$B$1082,INDIRECT($A$14&ROW())),\"\"),\"\")","v":""},null,null,null,null,null,null,null,null,null,null,null,null,null,null,null,null,null,null,null,null,null,null,null,null,null,null,null,null,null,null,null,null,null,null,null,null,null,null,null,null,null,null,null,null,null,null,null,null,null,null,null,null,null,null,null,null,null,null,null,null,null,null,null,null,null,null,null,null,null,null,null,null,null,null,null,null,null,null,null,null,null,"DH07 DUNHILL ICE",25]
[{"$f":"IFERROR(IF(INDIRECT($A$14&ROW())<>\"\",COUNTIF(Summary!$B$30:$B$1082,INDIRECT($A$14&ROW())),\"\"),\"\")","v":""},null,null,null,null,null,null,null,null,null,null,null,null,null,null,null,null,null,null,null,null,null,null,null,null,null,null,null,null,null,null,null,null,null,null,null,null,null,null,null,null,null,null,null,null,null,null,null,null,null,null,null,null,null,null,null,null,null,null,null,null,null,null,null,null,null,null,null,null,null,null,null,null,null,null,null,null,null,null,null,null,null,"DR11 TIDBITS",186]
[{"$f":"IFERROR(IF(INDIRECT($A$14&ROW())<>\"\",COUNTIF(Summary!$B$30:$B$1082,INDIRECT($A$14&ROW())),\"\"),\"\")","v":""},null,null,null,null,null,null,null,null,null,null,null,null,null,null,null,null,null,null,null,null,null,null,null,null,null,null,null,null,null,null,null,null,null,null,null,null,null,null,null,null,null,null,null,null,null,null,null,null,null,null,null,null,null,null,null,null,null,null,null,null,null,null,null,null,null,null,null,null,null,null,null,null,null,null,null,null,null,null,null,null,null,"DR12 FOC TIDBITS",5]
[{"$f":"IFERROR(IF(INDIRECT($A$14&ROW())<>\"\",COUNTIF(Summary!$B$30:$B$1082,INDIRECT($A$14&ROW())),\"\"),\"\")","v":""},null,null,null,null,null,null,null,null,null,null,null,null,null,null,null,null,null,null,null,null,null,null,null,null,null,null,null,null,null,null,null,null,null,null,null,null,null,null,null,null,null,null,null,null,null,null,null,null,null,null,null,null,null,null,null,null,null,null,null,null,null,null,null,null,null,null,null,null,null,null,null,null,null,null,null,null,null,null,null,null,null,"HB08 2016:HNY LMN(H)",3]
[{"$f":"IFERROR(IF(INDIRECT($A$14&ROW())<>\"\",COUNTIF(Summary!$B$30:$B$1082,INDIRECT($A$14&ROW())),\"\"),\"\")","v":""},null,null,null,null,null,null,null,null,null,null,null,null,null,null,null,null,null,null,null,null,null,null,null,null,null,null,null,null,null,null,null,null,null,null,null,null,null,null,null,null,null,null,null,null,null,null,null,null,null,null,null,null,null,null,null,null,null,null,null,null,null,null,null,null,null,null,null,null,null,null,null,null,null,null,null,null,null,null,null,null,null,"HB11 2019:EARL GREY",1]
[{"$f":"IFERROR(IF(INDIRECT($A$14&ROW())<>\"\",COUNTIF(Summary!$B$30:$B$1082,INDIRECT($A$14&ROW())),\"\"),\"\")","v":""},null,null,null,null,null,null,null,null,null,null,null,null,null,null,null,null,null,null,null,null,null,null,null,null,null,null,null,null,null,null,null,null,null,null,null,null,null,null,null,null,null,null,null,null,null,null,null,null,null,null,null,null,null,null,null,null,null,null,null,null,null,null,null,null,null,null,null,null,null,null,null,null,null,null,null,null,null,null,null,null,null,"HB13 2021:CHOCO(H)",1]
[{"$f":"IFERROR(IF(INDIRECT($A$14&ROW())<>\"\",COUNTIF(Summary!$B$30:$B$1082,INDIRECT($A$14&ROW())),\"\"),\"\")","v":""},null,null,null,null,null,null,null,null,null,null,null,null,null,null,null,null,null,null,null,null,null,null,null,null,null,null,null,null,null,null,null,null,null,null,null,null,null,null,null,null,null,null,null,null,null,null,null,null,null,null,null,null,null,null,null,null,null,null,null,null,null,null,null,null,null,null,null,null,null,null,null,null,null,null,null,null,null,null,null,null,null,"HF01 92002:MILO(H)",753]
[{"$f":"IFERROR(IF(INDIRECT($A$14&ROW())<>\"\",COUNTIF(Summary!$B$30:$B$1082,INDIRECT($A$14&ROW())),\"\"),\"\")","v":""},null,null,null,null,null,null,null,null,null,null,null,null,null,null,null,null,null,null,null,null,null,null,null,null,null,null,null,null,null,null,null,null,null,null,null,null,null,null,null,null,null,null,null,null,null,null,null,null,null,null,null,null,null,null,null,null,null,null,null,null,null,null,null,null,null,null,null,null,null,null,null,null,null,null,null,null,null,null,null,null,null,"HF02 92004:NESCAFE(H)",230]
[{"$f":"IFERROR(IF(INDIRECT($A$14&ROW())<>\"\",COUNTIF(Summary!$B$30:$B$1082,INDIRECT($A$14&ROW())),\"\"),\"\")","v":""},null,null,null,null,null,null,null,null,null,null,null,null,null,null,null,null,null,null,null,null,null,null,null,null,null,null,null,null,null,null,null,null,null,null,null,null,null,null,null,null,null,null,null,null,null,null,null,null,null,null,null,null,null,null,null,null,null,null,null,null,null,null,null,null,null,null,null,null,null,null,null,null,null,null,null,null,null,null,null,null,null,"HF03 92006:TEA(H)",77]
[{"$f":"IFERROR(IF(INDIRECT($A$14&ROW())<>\"\",COUNTIF(Summary!$B$30:$B$1082,INDIRECT($A$14&ROW())),\"\"),\"\")","v":""},null,null,null,null,null,null,null,null,null,null,null,null,null,null,null,null,null,null,null,null,null,null,null,null,null,null,null,null,null,null,null,null,null,null,null,null,null,null,null,null,null,null,null,null,null,null,null,null,null,null,null,null,null,null,null,null,null,null,null,null,null,null,null,null,null,null,null,null,null,null,null,null,null,null,null,null,null,null,null,null,null,"HF04 92008:LMN TEA(H)",281]
[{"$f":"IFERROR(IF(INDIRECT($A$14&ROW())<>\"\",COUNTIF(Summary!$B$30:$B$1082,INDIRECT($A$14&ROW())),\"\"),\"\")","v":""},null,null,null,null,null,null,null,null,null,null,null,null,null,null,null,null,null,null,null,null,null,null,null,null,null,null,null,null,null,null,null,null,null,null,null,null,null,null,null,null,null,null,null,null,null,null,null,null,null,null,null,null,null,null,null,null,null,null,null,null,null,null,null,null,null,null,null,null,null,null,null,null,null,null,null,null,null,null,null,null,null,"HF05 92010:GRN TEA(H)",644]
[{"$f":"IFERROR(IF(INDIRECT($A$14&ROW())<>\"\",COUNTIF(Summary!$B$30:$B$1082,INDIRECT($A$14&ROW())),\"\"),\"\")","v":""},null,null,null,null,null,null,null,null,null,null,null,null,null,null,null,null,null,null,null,null,null,null,null,null,null,null,null,null,null,null,null,null,null,null,null,null,null,null,null,null,null,null,null,null,null,null,null,null,null,null,null,null,null,null,null,null,null,null,null,null,null,null,null,null,null,null,null,null,null,null,null,null,null,null,null,null,null,null,null,null,null,"HF06 92012:HNY GT(H)",905]
[{"$f":"IFERROR(IF(INDIRECT($A$14&ROW())<>\"\",COUNTIF(Summary!$B$30:$B$1082,INDIRECT($A$14&ROW())),\"\"),\"\")","v":""},null,null,null,null,null,null,null,null,null,null,null,null,null,null,null,null,null,null,null,null,null,null,null,null,null,null,null,null,null,null,null,null,null,null,null,null,null,null,null,null,null,null,null,null,null,null,null,null,null,null,null,null,null,null,null,null,null,null,null,null,null,null,null,null,null,null,null,null,null,null,null,null,null,null,null,null,null,null,null,null,null,"HF07 92014:HONEY(H)",449]
[{"$f":"IFERROR(IF(INDIRECT($A$14&ROW())<>\"\",COUNTIF(Summary!$B$30:$B$1082,INDIRECT($A$14&ROW())),\"\"),\"\")","v":""},null,null,null,null,null,null,null,null,null,null,null,null,null,null,null,null,null,null,null,null,null,null,null,null,null,null,null,null,null,null,null,null,null,null,null,null,null,null,null,null,null,null,null,null,null,null,null,null,null,null,null,null,null,null,null,null,null,null,null,null,null,null,null,null,null,null,null,null,null,null,null,null,null,null,null,null,null,null,null,null,null,"HF08 92016:HNY LMN(H)",3269]
[{"$f":"IFERROR(IF(INDIRECT($A$14&ROW())<>\"\",COUNTIF(Summary!$B$30:$B$1082,INDIRECT($A$14&ROW())),\"\"),\"\")","v":""},null,null,null,null,null,null,null,null,null,null,null,null,null,null,null,null,null,null,null,null,null,null,null,null,null,null,null,null,null,null,null,null,null,null,null,null,null,null,null,null,null,null,null,null,null,null,null,null,null,null,null,null,null,null,null,null,null,null,null,null,null,null,null,null,null,null,null,null,null,null,null,null,null,null,null,null,null,null,null,null,null,"HF09 92017:CHAMOMILE",49]
[{"$f":"IFERROR(IF(INDIRECT($A$14&ROW())<>\"\",COUNTIF(Summary!$B$30:$B$1082,INDIRECT($A$14&ROW())),\"\"),\"\")","v":""},null,null,null,null,null,null,null,null,null,null,null,null,null,null,null,null,null,null,null,null,null,null,null,null,null,null,null,null,null,null,null,null,null,null,null,null,null,null,null,null,null,null,null,null,null,null,null,null,null,null,null,null,null,null,null,null,null,null,null,null,null,null,null,null,null,null,null,null,null,null,null,null,null,null,null,null,null,null,null,null,null,"HF10 92018:DARJEELING",66]
[{"$f":"IFERROR(IF(INDIRECT($A$14&ROW())<>\"\",COUNTIF(Summary!$B$30:$B$1082,INDIRECT($A$14&ROW())),\"\"),\"\")","v":""},null,null,null,null,null,null,null,null,null,null,null,null,null,null,null,null,null,null,null,null,null,null,null,null,null,null,null,null,null,null,null,null,null,null,null,null,null,null,null,null,null,null,null,null,null,null,null,null,null,null,null,null,null,null,null,null,null,null,null,null,null,null,null,null,null,null,null,null,null,null,null,null,null,null,null,null,null,null,null,null,null,"HF11 92019:EARL GREY",81]
[{"$f":"IFERROR(IF(INDIRECT($A$14&ROW())<>\"\",COUNTIF(Summary!$B$30:$B$1082,INDIRECT($A$14&ROW())),\"\"),\"\")","v":""},null,null,null,null,null,null,null,null,null,null,null,null,null,null,null,null,null,null,null,null,null,null,null,null,null,null,null,null,null,null,null,null,null,null,null,null,null,null,null,null,null,null,null,null,null,null,null,null,null,null,null,null,null,null,null,null,null,null,null,null,null,null,null,null,null,null,null,null,null,null,null,null,null,null,null,null,null,null,null,null,null,"HP03 H:MEMBER B'DAY",8]
[{"$f":"IFERROR(IF(INDIRECT($A$14&ROW())<>\"\",COUNTIF(Summary!$B$30:$B$1082,INDIRECT($A$14&ROW())),\"\"),\"\")","v":""},null,null,null,null,null,null,null,null,null,null,null,null,null,null,null,null,null,null,null,null,null,null,null,null,null,null,null,null,null,null,null,null,null,null,null,null,null,null,null,null,null,null,null,null,null,null,null,null,null,null,null,null,null,null,null,null,null,null,null,null,null,null,null,null,null,null,null,null,null,null,null,null,null,null,null,null,null,null,null,null,null,"HP04 H:CHILDREN",3]
[{"$f":"IFERROR(IF(INDIRECT($A$14&ROW())<>\"\",COUNTIF(Summary!$B$30:$B$1082,INDIRECT($A$14&ROW())),\"\"),\"\")","v":""},null,null,null,null,null,null,null,null,null,null,null,null,null,null,null,null,null,null,null,null,null,null,null,null,null,null,null,null,null,null,null,null,null,null,null,null,null,null,null,null,null,null,null,null,null,null,null,null,null,null,null,null,null,null,null,null,null,null,null,null,null,null,null,null,null,null,null,null,null,null,null,null,null,null,null,null,null,null,null,null,null,"HP05 H:PROMOTION",14]
[{"$f":"IFERROR(IF(INDIRECT($A$14&ROW())<>\"\",COUNTIF(Summary!$B$30:$B$1082,INDIRECT($A$14&ROW())),\"\"),\"\")","v":""},null,null,null,null,null,null,null,null,null,null,null,null,null,null,null,null,null,null,null,null,null,null,null,null,null,null,null,null,null,null,null,null,null,null,null,null,null,null,null,null,null,null,null,null,null,null,null,null,null,null,null,null,null,null,null,null,null,null,null,null,null,null,null,null,null,null,null,null,null,null,null,null,null,null,null,null,null,null,null,null,null,"HP08 H:XTD S ROOM",1]
[{"$f":"IFERROR(IF(INDIRECT($A$14&ROW())<>\"\",COUNTIF(Summary!$B$30:$B$1082,INDIRECT($A$14&ROW())),\"\"),\"\")","v":""},null,null,null,null,null,null,null,null,null,null,null,null,null,null,null,null,null,null,null,null,null,null,null,null,null,null,null,null,null,null,null,null,null,null,null,null,null,null,null,null,null,null,null,null,null,null,null,null,null,null,null,null,null,null,null,null,null,null,null,null,null,null,null,null,null,null,null,null,null,null,null,null,null,null,null,null,null,null,null,null,null,"HP09 H:XTD M ROOM",2]
[{"$f":"IFERROR(IF(INDIRECT($A$14&ROW())<>\"\",COUNTIF(Summary!$B$30:$B$1082,INDIRECT($A$14&ROW())),\"\"),\"\")","v":""},null,null,null,null,null,null,null,null,null,null,null,null,null,null,null,null,null,null,null,null,null,null,null,null,null,null,null,null,null,null,null,null,null,null,null,null,null,null,null,null,null,null,null,null,null,null,null,null,null,null,null,null,null,null,null,null,null,null,null,null,null,null,null,null,null,null,null,null,null,null,null,null,null,null,null,null,null,null,null,null,null,"HP10 H:XTD B ROOM",2]
[{"$f":"IFERROR(IF(INDIRECT($A$14&ROW())<>\"\",COUNTIF(Summary!$B$30:$B$1082,INDIRECT($A$14&ROW())),\"\"),\"\")","v":""},null,null,null,null,null,null,null,null,null,null,null,null,null,null,null,null,null,null,null,null,null,null,null,null,null,null,null,null,null,null,null,null,null,null,null,null,null,null,null,null,null,null,null,null,null,null,null,null,null,null,null,null,null,null,null,null,null,null,null,null,null,null,null,null,null,null,null,null,null,null,null,null,null,null,null,null,null,null,null,null,null,"HP16 H:ST MEM B'DAY",1]
[{"$f":"IFERROR(IF(INDIRECT($A$14&ROW())<>\"\",COUNTIF(Summary!$B$30:$B$1082,INDIRECT($A$14&ROW())),\"\"),\"\")","v":""},null,null,null,null,null,null,null,null,null,null,null,null,null,null,null,null,null,null,null,null,null,null,null,null,null,null,null,null,null,null,null,null,null,null,null,null,null,null,null,null,null,null,null,null,null,null,null,null,null,null,null,null,null,null,null,null,null,null,null,null,null,null,null,null,null,null,null,null,null,null,null,null,null,null,null,null,null,null,null,null,null,"HP17 H:FREEHEAD",10]
[{"$f":"IFERROR(IF(INDIRECT($A$14&ROW())<>\"\",COUNTIF(Summary!$B$30:$B$1082,INDIRECT($A$14&ROW())),\"\"),\"\")","v":""},null,null,null,null,null,null,null,null,null,null,null,null,null,null,null,null,null,null,null,null,null,null,null,null,null,null,null,null,null,null,null,null,null,null,null,null,null,null,null,null,null,null,null,null,null,null,null,null,null,null,null,null,null,null,null,null,null,null,null,null,null,null,null,null,null,null,null,null,null,null,null,null,null,null,null,null,null,null,null,null,null,"HP21 H:STUDENT",801]
[{"$f":"IFERROR(IF(INDIRECT($A$14&ROW())<>\"\",COUNTIF(Summary!$B$30:$B$1082,INDIRECT($A$14&ROW())),\"\"),\"\")","v":""},null,null,null,null,null,null,null,null,null,null,null,null,null,null,null,null,null,null,null,null,null,null,null,null,null,null,null,null,null,null,null,null,null,null,null,null,null,null,null,null,null,null,null,null,null,null,null,null,null,null,null,null,null,null,null,null,null,null,null,null,null,null,null,null,null,null,null,null,null,null,null,null,null,null,null,null,null,null,null,null,null,"HP32 H:REGULAR",590]
[{"$f":"IFERROR(IF(INDIRECT($A$14&ROW())<>\"\",COUNTIF(Summary!$B$30:$B$1082,INDIRECT($A$14&ROW())),\"\"),\"\")","v":""},null,null,null,null,null,null,null,null,null,null,null,null,null,null,null,null,null,null,null,null,null,null,null,null,null,null,null,null,null,null,null,null,null,null,null,null,null,null,null,null,null,null,null,null,null,null,null,null,null,null,null,null,null,null,null,null,null,null,null,null,null,null,null,null,null,null,null,null,null,null,null,null,null,null,null,null,null,null,null,null,null,"HP33 H:MEMBER 30%",18]
[{"$f":"IFERROR(IF(INDIRECT($A$14&ROW())<>\"\",COUNTIF(Summary!$B$30:$B$1082,INDIRECT($A$14&ROW())),\"\"),\"\")","v":""},null,null,null,null,null,null,null,null,null,null,null,null,null,null,null,null,null,null,null,null,null,null,null,null,null,null,null,null,null,null,null,null,null,null,null,null,null,null,null,null,null,null,null,null,null,null,null,null,null,null,null,null,null,null,null,null,null,null,null,null,null,null,null,null,null,null,null,null,null,null,null,null,null,null,null,null,null,null,null,null,null,"HP34 H:MEMBER",126]
[{"$f":"IFERROR(IF(INDIRECT($A$14&ROW())<>\"\",COUNTIF(Summary!$B$30:$B$1082,INDIRECT($A$14&ROW())),\"\"),\"\")","v":""},null,null,null,null,null,null,null,null,null,null,null,null,null,null,null,null,null,null,null,null,null,null,null,null,null,null,null,null,null,null,null,null,null,null,null,null,null,null,null,null,null,null,null,null,null,null,null,null,null,null,null,null,null,null,null,null,null,null,null,null,null,null,null,null,null,null,null,null,null,null,null,null,null,null,null,null,null,null,null,null,null,"HP36 H:4BP",4]
[{"$f":"IFERROR(IF(INDIRECT($A$14&ROW())<>\"\",COUNTIF(Summary!$B$30:$B$1082,INDIRECT($A$14&ROW())),\"\"),\"\")","v":""},null,null,null,null,null,null,null,null,null,null,null,null,null,null,null,null,null,null,null,null,null,null,null,null,null,null,null,null,null,null,null,null,null,null,null,null,null,null,null,null,null,null,null,null,null,null,null,null,null,null,null,null,null,null,null,null,null,null,null,null,null,null,null,null,null,null,null,null,null,null,null,null,null,null,null,null,null,null,null,null,null,"HP40 H:ST MEMBER",11]
[{"$f":"IFERROR(IF(INDIRECT($A$14&ROW())<>\"\",COUNTIF(Summary!$B$30:$B$1082,INDIRECT($A$14&ROW())),\"\"),\"\")","v":""},null,null,null,null,null,null,null,null,null,null,null,null,null,null,null,null,null,null,null,null,null,null,null,null,null,null,null,null,null,null,null,null,null,null,null,null,null,null,null,null,null,null,null,null,null,null,null,null,null,null,null,null,null,null,null,null,null,null,null,null,null,null,null,null,null,null,null,null,null,null,null,null,null,null,null,null,null,null,null,null,null,"HP41 H:FREEHEAD CNY",1]
[{"$f":"IFERROR(IF(INDIRECT($A$14&ROW())<>\"\",COUNTIF(Summary!$B$30:$B$1082,INDIRECT($A$14&ROW())),\"\"),\"\")","v":""},null,null,null,null,null,null,null,null,null,null,null,null,null,null,null,null,null,null,null,null,null,null,null,null,null,null,null,null,null,null,null,null,null,null,null,null,null,null,null,null,null,null,null,null,null,null,null,null,null,null,null,null,null,null,null,null,null,null,null,null,null,null,null,null,null,null,null,null,null,null,null,null,null,null,null,null,null,null,null,null,null,"JF01 92501:GRAPE J",334]
[{"$f":"IFERROR(IF(INDIRECT($A$14&ROW())<>\"\",COUNTIF(Summary!$B$30:$B$1082,INDIRECT($A$14&ROW())),\"\"),\"\")","v":""},null,null,null,null,null,null,null,null,null,null,null,null,null,null,null,null,null,null,null,null,null,null,null,null,null,null,null,null,null,null,null,null,null,null,null,null,null,null,null,null,null,null,null,null,null,null,null,null,null,null,null,null,null,null,null,null,null,null,null,null,null,null,null,null,null,null,null,null,null,null,null,null,null,null,null,null,null,null,null,null,null,"JF02 92502:APPLE J",493]
[{"$f":"IFERROR(IF(INDIRECT($A$14&ROW())<>\"\",COUNTIF(Summary!$B$30:$B$1082,INDIRECT($A$14&ROW())),\"\"),\"\")","v":""},null,null,null,null,null,null,null,null,null,null,null,null,null,null,null,null,null,null,null,null,null,null,null,null,null,null,null,null,null,null,null,null,null,null,null,null,null,null,null,null,null,null,null,null,null,null,null,null,null,null,null,null,null,null,null,null,null,null,null,null,null,null,null,null,null,null,null,null,null,null,null,null,null,null,null,null,null,null,null,null,null,"JF03 92503:MANGO J",482]
[{"$f":"IFERROR(IF(INDIRECT($A$14&ROW())<>\"\",COUNTIF(Summary!$B$30:$B$1082,INDIRECT($A$14&ROW())),\"\"),\"\")","v":""},null,null,null,null,null,null,null,null,null,null,null,null,null,null,null,null,null,null,null,null,null,null,null,null,null,null,null,null,null,null,null,null,null,null,null,null,null,null,null,null,null,null,null,null,null,null,null,null,null,null,null,null,null,null,null,null,null,null,null,null,null,null,null,null,null,null,null,null,null,null,null,null,null,null,null,null,null,null,null,null,null,"JF04 92504:PASSION J",663]
[{"$f":"IFERROR(IF(INDIRECT($A$14&ROW())<>\"\",COUNTIF(Summary!$B$30:$B$1082,INDIRECT($A$14&ROW())),\"\"),\"\")","v":""},null,null,null,null,null,null,null,null,null,null,null,null,null,null,null,null,null,null,null,null,null,null,null,null,null,null,null,null,null,null,null,null,null,null,null,null,null,null,null,null,null,null,null,null,null,null,null,null,null,null,null,null,null,null,null,null,null,null,null,null,null,null,null,null,null,null,null,null,null,null,null,null,null,null,null,null,null,null,null,null,null,"JF05 92505:RIBENA J",900]
[{"$f":"IFERROR(IF(INDIRECT($A$14&ROW())<>\"\",COUNTIF(Summary!$B$30:$B$1082,INDIRECT($A$14&ROW())),\"\"),\"\")","v":""},null,null,null,null,null,null,null,null,null,null,null,null,null,null,null,null,null,null,null,null,null,null,null,null,null,null,null,null,null,null,null,null,null,null,null,null,null,null,null,null,null,null,null,null,null,null,null,null,null,null,null,null,null,null,null,null,null,null,null,null,null,null,null,null,null,null,null,null,null,null,null,null,null,null,null,null,null,null,null,null,null,"KP03 K:MEMBER B'DAY",2]
[{"$f":"IFERROR(IF(INDIRECT($A$14&ROW())<>\"\",COUNTIF(Summary!$B$30:$B$1082,INDIRECT($A$14&ROW())),\"\"),\"\")","v":""},null,null,null,null,null,null,null,null,null,null,null,null,null,null,null,null,null,null,null,null,null,null,null,null,null,null,null,null,null,null,null,null,null,null,null,null,null,null,null,null,null,null,null,null,null,null,null,null,null,null,null,null,null,null,null,null,null,null,null,null,null,null,null,null,null,null,null,null,null,null,null,null,null,null,null,null,null,null,null,null,null,"KP04 K:CHILDREN",5]
[{"$f":"IFERROR(IF(INDIRECT($A$14&ROW())<>\"\",COUNTIF(Summary!$B$30:$B$1082,INDIRECT($A$14&ROW())),\"\"),\"\")","v":""},null,null,null,null,null,null,null,null,null,null,null,null,null,null,null,null,null,null,null,null,null,null,null,null,null,null,null,null,null,null,null,null,null,null,null,null,null,null,null,null,null,null,null,null,null,null,null,null,null,null,null,null,null,null,null,null,null,null,null,null,null,null,null,null,null,null,null,null,null,null,null,null,null,null,null,null,null,null,null,null,null,"KP05 K:PROMOTION",6]
[{"$f":"IFERROR(IF(INDIRECT($A$14&ROW())<>\"\",COUNTIF(Summary!$B$30:$B$1082,INDIRECT($A$14&ROW())),\"\"),\"\")","v":""},null,null,null,null,null,null,null,null,null,null,null,null,null,null,null,null,null,null,null,null,null,null,null,null,null,null,null,null,null,null,null,null,null,null,null,null,null,null,null,null,null,null,null,null,null,null,null,null,null,null,null,null,null,null,null,null,null,null,null,null,null,null,null,null,null,null,null,null,null,null,null,null,null,null,null,null,null,null,null,null,null,"KP09 K:XTD M ROOM",2]
[{"$f":"IFERROR(IF(INDIRECT($A$14&ROW())<>\"\",COUNTIF(Summary!$B$30:$B$1082,INDIRECT($A$14&ROW())),\"\"),\"\")","v":""},null,null,null,null,null,null,null,null,null,null,null,null,null,null,null,null,null,null,null,null,null,null,null,null,null,null,null,null,null,null,null,null,null,null,null,null,null,null,null,null,null,null,null,null,null,null,null,null,null,null,null,null,null,null,null,null,null,null,null,null,null,null,null,null,null,null,null,null,null,null,null,null,null,null,null,null,null,null,null,null,null,"KP27 K:FREEHEAD TFO"]
[{"$f":"IFERROR(IF(INDIRECT($A$14&ROW())<>\"\",COUNTIF(Summary!$B$30:$B$1082,INDIRECT($A$14&ROW())),\"\"),\"\")","v":""},null,null,null,null,null,null,null,null,null,null,null,null,null,null,null,null,null,null,null,null,null,null,null,null,null,null,null,null,null,null,null,null,null,null,null,null,null,null,null,null,null,null,null,null,null,null,null,null,null,null,null,null,null,null,null,null,null,null,null,null,null,null,null,null,null,null,null,null,null,null,null,null,null,null,null,null,null,null,null,null,null,"KP35 K:REGULAR",43]
[{"$f":"IFERROR(IF(INDIRECT($A$14&ROW())<>\"\",COUNTIF(Summary!$B$30:$B$1082,INDIRECT($A$14&ROW())),\"\"),\"\")","v":""},null,null,null,null,null,null,null,null,null,null,null,null,null,null,null,null,null,null,null,null,null,null,null,null,null,null,null,null,null,null,null,null,null,null,null,null,null,null,null,null,null,null,null,null,null,null,null,null,null,null,null,null,null,null,null,null,null,null,null,null,null,null,null,null,null,null,null,null,null,null,null,null,null,null,null,null,null,null,null,null,null,"KP36 K:MEMBER",4]
[{"$f":"IFERROR(IF(INDIRECT($A$14&ROW())<>\"\",COUNTIF(Summary!$B$30:$B$1082,INDIRECT($A$14&ROW())),\"\"),\"\")","v":""},null,null,null,null,null,null,null,null,null,null,null,null,null,null,null,null,null,null,null,null,null,null,null,null,null,null,null,null,null,null,null,null,null,null,null,null,null,null,null,null,null,null,null,null,null,null,null,null,null,null,null,null,null,null,null,null,null,null,null,null,null,null,null,null,null,null,null,null,null,null,null,null,null,null,null,null,null,null,null,null,null,"KP38 K:LUNCH",907]
[{"$f":"IFERROR(IF(INDIRECT($A$14&ROW())<>\"\",COUNTIF(Summary!$B$30:$B$1082,INDIRECT($A$14&ROW())),\"\"),\"\")","v":""},null,null,null,null,null,null,null,null,null,null,null,null,null,null,null,null,null,null,null,null,null,null,null,null,null,null,null,null,null,null,null,null,null,null,null,null,null,null,null,null,null,null,null,null,null,null,null,null,null,null,null,null,null,null,null,null,null,null,null,null,null,null,null,null,null,null,null,null,null,null,null,null,null,null,null,null,null,null,null,null,null,"KP41 K:FREEHEAD CNY",1]
[{"$f":"IFERROR(IF(INDIRECT($A$14&ROW())<>\"\",COUNTIF(Summary!$B$30:$B$1082,INDIRECT($A$14&ROW())),\"\"),\"\")","v":""},null,null,null,null,null,null,null,null,null,null,null,null,null,null,null,null,null,null,null,null,null,null,null,null,null,null,null,null,null,null,null,null,null,null,null,null,null,null,null,null,null,null,null,null,null,null,null,null,null,null,null,null,null,null,null,null,null,null,null,null,null,null,null,null,null,null,null,null,null,null,null,null,null,null,null,null,null,null,null,null,null,"LC01 1101:THAI CHK",38]
[{"$f":"IFERROR(IF(INDIRECT($A$14&ROW())<>\"\",COUNTIF(Summary!$B$30:$B$1082,INDIRECT($A$14&ROW())),\"\"),\"\")","v":""},null,null,null,null,null,null,null,null,null,null,null,null,null,null,null,null,null,null,null,null,null,null,null,null,null,null,null,null,null,null,null,null,null,null,null,null,null,null,null,null,null,null,null,null,null,null,null,null,null,null,null,null,null,null,null,null,null,null,null,null,null,null,null,null,null,null,null,null,null,null,null,null,null,null,null,null,null,null,null,null,null,"LC02 1102:MAMITE CHK",50]
[{"$f":"IFERROR(IF(INDIRECT($A$14&ROW())<>\"\",COUNTIF(Summary!$B$30:$B$1082,INDIRECT($A$14&ROW())),\"\"),\"\")","v":""},null,null,null,null,null,null,null,null,null,null,null,null,null,null,null,null,null,null,null,null,null,null,null,null,null,null,null,null,null,null,null,null,null,null,null,null,null,null,null,null,null,null,null,null,null,null,null,null,null,null,null,null,null,null,null,null,null,null,null,null,null,null,null,null,null,null,null,null,null,null,null,null,null,null,null,null,null,null,null,null,null,"LC04 1104:S&S CHK",21]
[{"$f":"IFERROR(IF(INDIRECT($A$14&ROW())<>\"\",COUNTIF(Summary!$B$30:$B$1082,INDIRECT($A$14&ROW())),\"\"),\"\")","v":""},null,null,null,null,null,null,null,null,null,null,null,null,null,null,null,null,null,null,null,null,null,null,null,null,null,null,null,null,null,null,null,null,null,null,null,null,null,null,null,null,null,null,null,null,null,null,null,null,null,null,null,null,null,null,null,null,null,null,null,null,null,null,null,null,null,null,null,null,null,null,null,null,null,null,null,null,null,null,null,null,null,"LC05 1105:BUTTER CHK",121]
[{"$f":"IFERROR(IF(INDIRECT($A$14&ROW())<>\"\",COUNTIF(Summary!$B$30:$B$1082,INDIRECT($A$14&ROW())),\"\"),\"\")","v":""},null,null,null,null,null,null,null,null,null,null,null,null,null,null,null,null,null,null,null,null,null,null,null,null,null,null,null,null,null,null,null,null,null,null,null,null,null,null,null,null,null,null,null,null,null,null,null,null,null,null,null,null,null,null,null,null,null,null,null,null,null,null,null,null,null,null,null,null,null,null,null,null,null,null,null,null,null,null,null,null,null,"LC06 1106:HK F.RICE",71]
[{"$f":"IFERROR(IF(INDIRECT($A$14&ROW())<>\"\",COUNTIF(Summary!$B$30:$B$1082,INDIRECT($A$14&ROW())),\"\"),\"\")","v":""},null,null,null,null,null,null,null,null,null,null,null,null,null,null,null,null,null,null,null,null,null,null,null,null,null,null,null,null,null,null,null,null,null,null,null,null,null,null,null,null,null,null,null,null,null,null,null,null,null,null,null,null,null,null,null,null,null,null,null,null,null,null,null,null,null,null,null,null,null,null,null,null,null,null,null,null,null,null,null,null,null,"LC07 1107:SBL F.RICE",50]
[{"$f":"IFERROR(IF(INDIRECT($A$14&ROW())<>\"\",COUNTIF(Summary!$B$30:$B$1082,INDIRECT($A$14&ROW())),\"\"),\"\")","v":""},null,null,null,null,null,null,null,null,null,null,null,null,null,null,null,null,null,null,null,null,null,null,null,null,null,null,null,null,null,null,null,null,null,null,null,null,null,null,null,null,null,null,null,null,null,null,null,null,null,null,null,null,null,null,null,null,null,null,null,null,null,null,null,null,null,null,null,null,null,null,null,null,null,null,null,null,null,null,null,null,null,"LC08 1108:SBL F.MEE",13]
[{"$f":"IFERROR(IF(INDIRECT($A$14&ROW())<>\"\",COUNTIF(Summary!$B$30:$B$1082,INDIRECT($A$14&ROW())),\"\"),\"\")","v":""},null,null,null,null,null,null,null,null,null,null,null,null,null,null,null,null,null,null,null,null,null,null,null,null,null,null,null,null,null,null,null,null,null,null,null,null,null,null,null,null,null,null,null,null,null,null,null,null,null,null,null,null,null,null,null,null,null,null,null,null,null,null,null,null,null,null,null,null,null,null,null,null,null,null,null,null,null,null,null,null,null,"LC09 1109:BP UDON",14]
[{"$f":"IFERROR(IF(INDIRECT($A$14&ROW())<>\"\",COUNTIF(Summary!$B$30:$B$1082,INDIRECT($A$14&ROW())),\"\"),\"\")","v":""},null,null,null,null,null,null,null,null,null,null,null,null,null,null,null,null,null,null,null,null,null,null,null,null,null,null,null,null,null,null,null,null,null,null,null,null,null,null,null,null,null,null,null,null,null,null,null,null,null,null,null,null,null,null,null,null,null,null,null,null,null,null,null,null,null,null,null,null,null,null,null,null,null,null,null,null,null,null,null,null,null,"LC10 1110:NISSIN",44]
[{"$f":"IFERROR(IF(INDIRECT($A$14&ROW())<>\"\",COUNTIF(Summary!$B$30:$B$1082,INDIRECT($A$14&ROW())),\"\"),\"\")","v":""},null,null,null,null,null,null,null,null,null,null,null,null,null,null,null,null,null,null,null,null,null,null,null,null,null,null,null,null,null,null,null,null,null,null,null,null,null,null,null,null,null,null,null,null,null,null,null,null,null,null,null,null,null,null,null,null,null,null,null,null,null,null,null,null,null,null,null,null,null,null,null,null,null,null,null,null,null,null,null,null,null,"LC11 1111:VEG RICE",7]
[{"$f":"IFERROR(IF(INDIRECT($A$14&ROW())<>\"\",COUNTIF(Summary!$B$30:$B$1082,INDIRECT($A$14&ROW())),\"\"),\"\")","v":""},null,null,null,null,null,null,null,null,null,null,null,null,null,null,null,null,null,null,null,null,null,null,null,null,null,null,null,null,null,null,null,null,null,null,null,null,null,null,null,null,null,null,null,null,null,null,null,null,null,null,null,null,null,null,null,null,null,null,null,null,null,null,null,null,null,null,null,null,null,null,null,null,null,null,null,null,null,null,null,null,null,"LC15 1112:CHK NOODLE",32]
[{"$f":"IFERROR(IF(INDIRECT($A$14&ROW())<>\"\",COUNTIF(Summary!$B$30:$B$1082,INDIRECT($A$14&ROW())),\"\"),\"\")","v":""},null,null,null,null,null,null,null,null,null,null,null,null,null,null,null,null,null,null,null,null,null,null,null,null,null,null,null,null,null,null,null,null,null,null,null,null,null,null,null,null,null,null,null,null,null,null,null,null,null,null,null,null,null,null,null,null,null,null,null,null,null,null,null,null,null,null,null,null,null,null,null,null,null,null,null,null,null,null,null,null,null,"LC16 1103:MGL CHK",21]
[{"$f":"IFERROR(IF(INDIRECT($A$14&ROW())<>\"\",COUNTIF(Summary!$B$30:$B$1082,INDIRECT($A$14&ROW())),\"\"),\"\")","v":""},null,null,null,null,null,null,null,null,null,null,null,null,null,null,null,null,null,null,null,null,null,null,null,null,null,null,null,null,null,null,null,null,null,null,null,null,null,null,null,null,null,null,null,null,null,null,null,null,null,null,null,null,null,null,null,null,null,null,null,null,null,null,null,null,null,null,null,null,null,null,null,null,null,null,null,null,null,null,null,null,null,"LF01 91101:THAI CHK",87]
[{"$f":"IFERROR(IF(INDIRECT($A$14&ROW())<>\"\",COUNTIF(Summary!$B$30:$B$1082,INDIRECT($A$14&ROW())),\"\"),\"\")","v":""},null,null,null,null,null,null,null,null,null,null,null,null,null,null,null,null,null,null,null,null,null,null,null,null,null,null,null,null,null,null,null,null,null,null,null,null,null,null,null,null,null,null,null,null,null,null,null,null,null,null,null,null,null,null,null,null,null,null,null,null,null,null,null,null,null,null,null,null,null,null,null,null,null,null,null,null,null,null,null,null,null,"LF02 91102:MAMITE CHK",109]
[{"$f":"IFERROR(IF(INDIRECT($A$14&ROW())<>\"\",COUNTIF(Summary!$B$30:$B$1082,INDIRECT($A$14&ROW())),\"\"),\"\")","v":""},null,null,null,null,null,null,null,null,null,null,null,null,null,null,null,null,null,null,null,null,null,null,null,null,null,null,null,null,null,null,null,null,null,null,null,null,null,null,null,null,null,null,null,null,null,null,null,null,null,null,null,null,null,null,null,null,null,null,null,null,null,null,null,null,null,null,null,null,null,null,null,null,null,null,null,null,null,null,null,null,null,"LF04 91104:S&S CHK",41]
[{"$f":"IFERROR(IF(INDIRECT($A$14&ROW())<>\"\",COUNTIF(Summary!$B$30:$B$1082,INDIRECT($A$14&ROW())),\"\"),\"\")","v":""},null,null,null,null,null,null,null,null,null,null,null,null,null,null,null,null,null,null,null,null,null,null,null,null,null,null,null,null,null,null,null,null,null,null,null,null,null,null,null,null,null,null,null,null,null,null,null,null,null,null,null,null,null,null,null,null,null,null,null,null,null,null,null,null,null,null,null,null,null,null,null,null,null,null,null,null,null,null,null,null,null,"LF05 91105:BUTTER CHK",171]
[{"$f":"IFERROR(IF(INDIRECT($A$14&ROW())<>\"\",COUNTIF(Summary!$B$30:$B$1082,INDIRECT($A$14&ROW())),\"\"),\"\")","v":""},null,null,null,null,null,null,null,null,null,null,null,null,null,null,null,null,null,null,null,null,null,null,null,null,null,null,null,null,null,null,null,null,null,null,null,null,null,null,null,null,null,null,null,null,null,null,null,null,null,null,null,null,null,null,null,null,null,null,null,null,null,null,null,null,null,null,null,null,null,null,null,null,null,null,null,null,null,null,null,null,null,"LF06 91106:HK F.RICE",87]
[{"$f":"IFERROR(IF(INDIRECT($A$14&ROW())<>\"\",COUNTIF(Summary!$B$30:$B$1082,INDIRECT($A$14&ROW())),\"\"),\"\")","v":""},null,null,null,null,null,null,null,null,null,null,null,null,null,null,null,null,null,null,null,null,null,null,null,null,null,null,null,null,null,null,null,null,null,null,null,null,null,null,null,null,null,null,null,null,null,null,null,null,null,null,null,null,null,null,null,null,null,null,null,null,null,null,null,null,null,null,null,null,null,null,null,null,null,null,null,null,null,null,null,null,null,"LF07 91107:SBL F.RICE",71]
[{"$f":"IFERROR(IF(INDIRECT($A$14&ROW())<>\"\",COUNTIF(Summary!$B$30:$B$1082,INDIRECT($A$14&ROW())),\"\"),\"\")","v":""},null,null,null,null,null,null,null,null,null,null,null,null,null,null,null,null,null,null,null,null,null,null,null,null,null,null,null,null,null,null,null,null,null,null,null,null,null,null,null,null,null,null,null,null,null,null,null,null,null,null,null,null,null,null,null,null,null,null,null,null,null,null,null,null,null,null,null,null,null,null,null,null,null,null,null,null,null,null,null,null,null,"LF08 91108:SBL F.MEE",15]
[{"$f":"IFERROR(IF(INDIRECT($A$14&ROW())<>\"\",COUNTIF(Summary!$B$30:$B$1082,INDIRECT($A$14&ROW())),\"\"),\"\")","v":""},null,null,null,null,null,null,null,null,null,null,null,null,null,null,null,null,null,null,null,null,null,null,null,null,null,null,null,null,null,null,null,null,null,null,null,null,null,null,null,null,null,null,null,null,null,null,null,null,null,null,null,null,null,null,null,null,null,null,null,null,null,null,null,null,null,null,null,null,null,null,null,null,null,null,null,null,null,null,null,null,null,"LF09 91109:BP UDON",31]
[{"$f":"IFERROR(IF(INDIRECT($A$14&ROW())<>\"\",COUNTIF(Summary!$B$30:$B$1082,INDIRECT($A$14&ROW())),\"\"),\"\")","v":""},null,null,null,null,null,null,null,null,null,null,null,null,null,null,null,null,null,null,null,null,null,null,null,null,null,null,null,null,null,null,null,null,null,null,null,null,null,null,null,null,null,null,null,null,null,null,null,null,null,null,null,null,null,null,null,null,null,null,null,null,null,null,null,null,null,null,null,null,null,null,null,null,null,null,null,null,null,null,null,null,null,"LF10 91110:NISSIN",56]
[{"$f":"IFERROR(IF(INDIRECT($A$14&ROW())<>\"\",COUNTIF(Summary!$B$30:$B$1082,INDIRECT($A$14&ROW())),\"\"),\"\")","v":""},null,null,null,null,null,null,null,null,null,null,null,null,null,null,null,null,null,null,null,null,null,null,null,null,null,null,null,null,null,null,null,null,null,null,null,null,null,null,null,null,null,null,null,null,null,null,null,null,null,null,null,null,null,null,null,null,null,null,null,null,null,null,null,null,null,null,null,null,null,null,null,null,null,null,null,null,null,null,null,null,null,"LF11 91111:VEG RICE",21]
[{"$f":"IFERROR(IF(INDIRECT($A$14&ROW())<>\"\",COUNTIF(Summary!$B$30:$B$1082,INDIRECT($A$14&ROW())),\"\"),\"\")","v":""},null,null,null,null,null,null,null,null,null,null,null,null,null,null,null,null,null,null,null,null,null,null,null,null,null,null,null,null,null,null,null,null,null,null,null,null,null,null,null,null,null,null,null,null,null,null,null,null,null,null,null,null,null,null,null,null,null,null,null,null,null,null,null,null,null,null,null,null,null,null,null,null,null,null,null,null,null,null,null,null,null,"LF15 91112:CHK NOODLE",56]
[{"$f":"IFERROR(IF(INDIRECT($A$14&ROW())<>\"\",COUNTIF(Summary!$B$30:$B$1082,INDIRECT($A$14&ROW())),\"\"),\"\")","v":""},null,null,null,null,null,null,null,null,null,null,null,null,null,null,null,null,null,null,null,null,null,null,null,null,null,null,null,null,null,null,null,null,null,null,null,null,null,null,null,null,null,null,null,null,null,null,null,null,null,null,null,null,null,null,null,null,null,null,null,null,null,null,null,null,null,null,null,null,null,null,null,null,null,null,null,null,null,null,null,null,null,"LF16 91103:MGL CHK",40]
[{"$f":"IFERROR(IF(INDIRECT($A$14&ROW())<>\"\",COUNTIF(Summary!$B$30:$B$1082,INDIRECT($A$14&ROW())),\"\"),\"\")","v":""},null,null,null,null,null,null,null,null,null,null,null,null,null,null,null,null,null,null,null,null,null,null,null,null,null,null,null,null,null,null,null,null,null,null,null,null,null,null,null,null,null,null,null,null,null,null,null,null,null,null,null,null,null,null,null,null,null,null,null,null,null,null,null,null,null,null,null,null,null,null,null,null,null,null,null,null,null,null,null,null,null,"MC02 MIC COVER X 3",83]
[{"$f":"IFERROR(IF(INDIRECT($A$14&ROW())<>\"\",COUNTIF(Summary!$B$30:$B$1082,INDIRECT($A$14&ROW())),\"\"),\"\")","v":""},null,null,null,null,null,null,null,null,null,null,null,null,null,null,null,null,null,null,null,null,null,null,null,null,null,null,null,null,null,null,null,null,null,null,null,null,null,null,null,null,null,null,null,null,null,null,null,null,null,null,null,null,null,null,null,null,null,null,null,null,null,null,null,null,null,null,null,null,null,null,null,null,null,null,null,null,null,null,null,null,null,"MP03 M:MEMBER B'DAY",3]
[{"$f":"IFERROR(IF(INDIRECT($A$14&ROW())<>\"\",COUNTIF(Summary!$B$30:$B$1082,INDIRECT($A$14&ROW())),\"\"),\"\")","v":""},null,null,null,null,null,null,null,null,null,null,null,null,null,null,null,null,null,null,null,null,null,null,null,null,null,null,null,null,null,null,null,null,null,null,null,null,null,null,null,null,null,null,null,null,null,null,null,null,null,null,null,null,null,null,null,null,null,null,null,null,null,null,null,null,null,null,null,null,null,null,null,null,null,null,null,null,null,null,null,null,null,"MP04 M:CHILDREN",1]
[{"$f":"IFERROR(IF(INDIRECT($A$14&ROW())<>\"\",COUNTIF(Summary!$B$30:$B$1082,INDIRECT($A$14&ROW())),\"\"),\"\")","v":""},null,null,null,null,null,null,null,null,null,null,null,null,null,null,null,null,null,null,null,null,null,null,null,null,null,null,null,null,null,null,null,null,null,null,null,null,null,null,null,null,null,null,null,null,null,null,null,null,null,null,null,null,null,null,null,null,null,null,null,null,null,null,null,null,null,null,null,null,null,null,null,null,null,null,null,null,null,null,null,null,null,"MP05 M:PROMOTION",4]
[{"$f":"IFERROR(IF(INDIRECT($A$14&ROW())<>\"\",COUNTIF(Summary!$B$30:$B$1082,INDIRECT($A$14&ROW())),\"\"),\"\")","v":""},null,null,null,null,null,null,null,null,null,null,null,null,null,null,null,null,null,null,null,null,null,null,null,null,null,null,null,null,null,null,null,null,null,null,null,null,null,null,null,null,null,null,null,null,null,null,null,null,null,null,null,null,null,null,null,null,null,null,null,null,null,null,null,null,null,null,null,null,null,null,null,null,null,null,null,null,null,null,null,null,null,"MP08 M:XTD S ROOM",3]
[{"$f":"IFERROR(IF(INDIRECT($A$14&ROW())<>\"\",COUNTIF(Summary!$B$30:$B$1082,INDIRECT($A$14&ROW())),\"\"),\"\")","v":""},null,null,null,null,null,null,null,null,null,null,null,null,null,null,null,null,null,null,null,null,null,null,null,null,null,null,null,null,null,null,null,null,null,null,null,null,null,null,null,null,null,null,null,null,null,null,null,null,null,null,null,null,null,null,null,null,null,null,null,null,null,null,null,null,null,null,null,null,null,null,null,null,null,null,null,null,null,null,null,null,null,"MP09 M:XTD M ROOM",5]
[{"$f":"IFERROR(IF(INDIRECT($A$14&ROW())<>\"\",COUNTIF(Summary!$B$30:$B$1082,INDIRECT($A$14&ROW())),\"\"),\"\")","v":""},null,null,null,null,null,null,null,null,null,null,null,null,null,null,null,null,null,null,null,null,null,null,null,null,null,null,null,null,null,null,null,null,null,null,null,null,null,null,null,null,null,null,null,null,null,null,null,null,null,null,null,null,null,null,null,null,null,null,null,null,null,null,null,null,null,null,null,null,null,null,null,null,null,null,null,null,null,null,null,null,null,"MP10 M:XTD B ROOM",6]
[{"$f":"IFERROR(IF(INDIRECT($A$14&ROW())<>\"\",COUNTIF(Summary!$B$30:$B$1082,INDIRECT($A$14&ROW())),\"\"),\"\")","v":""},null,null,null,null,null,null,null,null,null,null,null,null,null,null,null,null,null,null,null,null,null,null,null,null,null,null,null,null,null,null,null,null,null,null,null,null,null,null,null,null,null,null,null,null,null,null,null,null,null,null,null,null,null,null,null,null,null,null,null,null,null,null,null,null,null,null,null,null,null,null,null,null,null,null,null,null,null,null,null,null,null,"MP17 M:FREEHEAD",4]
[{"$f":"IFERROR(IF(INDIRECT($A$14&ROW())<>\"\",COUNTIF(Summary!$B$30:$B$1082,INDIRECT($A$14&ROW())),\"\"),\"\")","v":""},null,null,null,null,null,null,null,null,null,null,null,null,null,null,null,null,null,null,null,null,null,null,null,null,null,null,null,null,null,null,null,null,null,null,null,null,null,null,null,null,null,null,null,null,null,null,null,null,null,null,null,null,null,null,null,null,null,null,null,null,null,null,null,null,null,null,null,null,null,null,null,null,null,null,null,null,null,null,null,null,null,"MP21 M:MEMBER 30%",35]
[{"$f":"IFERROR(IF(INDIRECT($A$14&ROW())<>\"\",COUNTIF(Summary!$B$30:$B$1082,INDIRECT($A$14&ROW())),\"\"),\"\")","v":""},null,null,null,null,null,null,null,null,null,null,null,null,null,null,null,null,null,null,null,null,null,null,null,null,null,null,null,null,null,null,null,null,null,null,null,null,null,null,null,null,null,null,null,null,null,null,null,null,null,null,null,null,null,null,null,null,null,null,null,null,null,null,null,null,null,null,null,null,null,null,null,null,null,null,null,null,null,null,null,null,null,"MP25 M:LADIES",452]
[{"$f":"IFERROR(IF(INDIRECT($A$14&ROW())<>\"\",COUNTIF(Summary!$B$30:$B$1082,INDIRECT($A$14&ROW())),\"\"),\"\")","v":""},null,null,null,null,null,null,null,null,null,null,null,null,null,null,null,null,null,null,null,null,null,null,null,null,null,null,null,null,null,null,null,null,null,null,null,null,null,null,null,null,null,null,null,null,null,null,null,null,null,null,null,null,null,null,null,null,null,null,null,null,null,null,null,null,null,null,null,null,null,null,null,null,null,null,null,null,null,null,null,null,null,"MP35 M:REGULAR",653]
[{"$f":"IFERROR(IF(INDIRECT($A$14&ROW())<>\"\",COUNTIF(Summary!$B$30:$B$1082,INDIRECT($A$14&ROW())),\"\"),\"\")","v":""},null,null,null,null,null,null,null,null,null,null,null,null,null,null,null,null,null,null,null,null,null,null,null,null,null,null,null,null,null,null,null,null,null,null,null,null,null,null,null,null,null,null,null,null,null,null,null,null,null,null,null,null,null,null,null,null,null,null,null,null,null,null,null,null,null,null,null,null,null,null,null,null,null,null,null,null,null,null,null,null,null,"MP36 M:MEMBER",82]
[{"$f":"IFERROR(IF(INDIRECT($A$14&ROW())<>\"\",COUNTIF(Summary!$B$30:$B$1082,INDIRECT($A$14&ROW())),\"\"),\"\")","v":""},null,null,null,null,null,null,null,null,null,null,null,null,null,null,null,null,null,null,null,null,null,null,null,null,null,null,null,null,null,null,null,null,null,null,null,null,null,null,null,null,null,null,null,null,null,null,null,null,null,null,null,null,null,null,null,null,null,null,null,null,null,null,null,null,null,null,null,null,null,null,null,null,null,null,null,null,null,null,null,null,null,"MP37 M:4BP",12]
[{"$f":"IFERROR(IF(INDIRECT($A$14&ROW())<>\"\",COUNTIF(Summary!$B$30:$B$1082,INDIRECT($A$14&ROW())),\"\"),\"\")","v":""},null,null,null,null,null,null,null,null,null,null,null,null,null,null,null,null,null,null,null,null,null,null,null,null,null,null,null,null,null,null,null,null,null,null,null,null,null,null,null,null,null,null,null,null,null,null,null,null,null,null,null,null,null,null,null,null,null,null,null,null,null,null,null,null,null,null,null,null,null,null,null,null,null,null,null,null,null,null,null,null,null,"MP40 M:ST MEMBER",2]
[{"$f":"IFERROR(IF(INDIRECT($A$14&ROW())<>\"\",COUNTIF(Summary!$B$30:$B$1082,INDIRECT($A$14&ROW())),\"\"),\"\")","v":""},null,null,null,null,null,null,null,null,null,null,null,null,null,null,null,null,null,null,null,null,null,null,null,null,null,null,null,null,null,null,null,null,null,null,null,null,null,null,null,null,null,null,null,null,null,null,null,null,null,null,null,null,null,null,null,null,null,null,null,null,null,null,null,null,null,null,null,null,null,null,null,null,null,null,null,null,null,null,null,null,null,"MP41 M:FREEHEAD CNY",2]
[{"$f":"IFERROR(IF(INDIRECT($A$14&ROW())<>\"\",COUNTIF(Summary!$B$30:$B$1082,INDIRECT($A$14&ROW())),\"\"),\"\")","v":""},null,null,null,null,null,null,null,null,null,null,null,null,null,null,null,null,null,null,null,null,null,null,null,null,null,null,null,null,null,null,null,null,null,null,null,null,null,null,null,null,null,null,null,null,null,null,null,null,null,null,null,null,null,null,null,null,null,null,null,null,null,null,null,null,null,null,null,null,null,null,null,null,null,null,null,null,null,null,null,null,null,"NP03 N:MEMBER B'DAY",36]
[{"$f":"IFERROR(IF(INDIRECT($A$14&ROW())<>\"\",COUNTIF(Summary!$B$30:$B$1082,INDIRECT($A$14&ROW())),\"\"),\"\")","v":""},null,null,null,null,null,null,null,null,null,null,null,null,null,null,null,null,null,null,null,null,null,null,null,null,null,null,null,null,null,null,null,null,null,null,null,null,null,null,null,null,null,null,null,null,null,null,null,null,null,null,null,null,null,null,null,null,null,null,null,null,null,null,null,null,null,null,null,null,null,null,null,null,null,null,null,null,null,null,null,null,null,"NP04 N:CHILDREN",21]
[{"$f":"IFERROR(IF(INDIRECT($A$14&ROW())<>\"\",COUNTIF(Summary!$B$30:$B$1082,INDIRECT($A$14&ROW())),\"\"),\"\")","v":""},null,null,null,null,null,null,null,null,null,null,null,null,null,null,null,null,null,null,null,null,null,null,null,null,null,null,null,null,null,null,null,null,null,null,null,null,null,null,null,null,null,null,null,null,null,null,null,null,null,null,null,null,null,null,null,null,null,null,null,null,null,null,null,null,null,null,null,null,null,null,null,null,null,null,null,null,null,null,null,null,null,"NP05 N:PROMOTION",113]
[{"$f":"IFERROR(IF(INDIRECT($A$14&ROW())<>\"\",COUNTIF(Summary!$B$30:$B$1082,INDIRECT($A$14&ROW())),\"\"),\"\")","v":""},null,null,null,null,null,null,null,null,null,null,null,null,null,null,null,null,null,null,null,null,null,null,null,null,null,null,null,null,null,null,null,null,null,null,null,null,null,null,null,null,null,null,null,null,null,null,null,null,null,null,null,null,null,null,null,null,null,null,null,null,null,null,null,null,null,null,null,null,null,null,null,null,null,null,null,null,null,null,null,null,null,"NP08 N:XTD S ROOM",9]
[{"$f":"IFERROR(IF(INDIRECT($A$14&ROW())<>\"\",COUNTIF(Summary!$B$30:$B$1082,INDIRECT($A$14&ROW())),\"\"),\"\")","v":""},null,null,null,null,null,null,null,null,null,null,null,null,null,null,null,null,null,null,null,null,null,null,null,null,null,null,null,null,null,null,null,null,null,null,null,null,null,null,null,null,null,null,null,null,null,null,null,null,null,null,null,null,null,null,null,null,null,null,null,null,null,null,null,null,null,null,null,null,null,null,null,null,null,null,null,null,null,null,null,null,null,"NP09 N:XTD M ROOM",18]
[{"$f":"IFERROR(IF(INDIRECT($A$14&ROW())<>\"\",COUNTIF(Summary!$B$30:$B$1082,INDIRECT($A$14&ROW())),\"\"),\"\")","v":""},null,null,null,null,null,null,null,null,null,null,null,null,null,null,null,null,null,null,null,null,null,null,null,null,null,null,null,null,null,null,null,null,null,null,null,null,null,null,null,null,null,null,null,null,null,null,null,null,null,null,null,null,null,null,null,null,null,null,null,null,null,null,null,null,null,null,null,null,null,null,null,null,null,null,null,null,null,null,null,null,null,"NP10 N:XTD B ROOM",10]
[{"$f":"IFERROR(IF(INDIRECT($A$14&ROW())<>\"\",COUNTIF(Summary!$B$30:$B$1082,INDIRECT($A$14&ROW())),\"\"),\"\")","v":""},null,null,null,null,null,null,null,null,null,null,null,null,null,null,null,null,null,null,null,null,null,null,null,null,null,null,null,null,null,null,null,null,null,null,null,null,null,null,null,null,null,null,null,null,null,null,null,null,null,null,null,null,null,null,null,null,null,null,null,null,null,null,null,null,null,null,null,null,null,null,null,null,null,null,null,null,null,null,null,null,null,"NP17 N:FREEHEAD",58]
[{"$f":"IFERROR(IF(INDIRECT($A$14&ROW())<>\"\",COUNTIF(Summary!$B$30:$B$1082,INDIRECT($A$14&ROW())),\"\"),\"\")","v":""},null,null,null,null,null,null,null,null,null,null,null,null,null,null,null,null,null,null,null,null,null,null,null,null,null,null,null,null,null,null,null,null,null,null,null,null,null,null,null,null,null,null,null,null,null,null,null,null,null,null,null,null,null,null,null,null,null,null,null,null,null,null,null,null,null,null,null,null,null,null,null,null,null,null,null,null,null,null,null,null,null,"NP27 N:FREEHEAD TFO"]
[{"$f":"IFERROR(IF(INDIRECT($A$14&ROW())<>\"\",COUNTIF(Summary!$B$30:$B$1082,INDIRECT($A$14&ROW())),\"\"),\"\")","v":""},null,null,null,null,null,null,null,null,null,null,null,null,null,null,null,null,null,null,null,null,null,null,null,null,null,null,null,null,null,null,null,null,null,null,null,null,null,null,null,null,null,null,null,null,null,null,null,null,null,null,null,null,null,null,null,null,null,null,null,null,null,null,null,null,null,null,null,null,null,null,null,null,null,null,null,null,null,null,null,null,null,"NP32 N:K DINNER",1274]
[{"$f":"IFERROR(IF(INDIRECT($A$14&ROW())<>\"\",COUNTIF(Summary!$B$30:$B$1082,INDIRECT($A$14&ROW())),\"\"),\"\")","v":""},null,null,null,null,null,null,null,null,null,null,null,null,null,null,null,null,null,null,null,null,null,null,null,null,null,null,null,null,null,null,null,null,null,null,null,null,null,null,null,null,null,null,null,null,null,null,null,null,null,null,null,null,null,null,null,null,null,null,null,null,null,null,null,null,null,null,null,null,null,null,null,null,null,null,null,null,null,null,null,null,null,"NP33 N:MEMBER 30%",110]
[{"$f":"IFERROR(IF(INDIRECT($A$14&ROW())<>\"\",COUNTIF(Summary!$B$30:$B$1082,INDIRECT($A$14&ROW())),\"\"),\"\")","v":""},null,null,null,null,null,null,null,null,null,null,null,null,null,null,null,null,null,null,null,null,null,null,null,null,null,null,null,null,null,null,null,null,null,null,null,null,null,null,null,null,null,null,null,null,null,null,null,null,null,null,null,null,null,null,null,null,null,null,null,null,null,null,null,null,null,null,null,null,null,null,null,null,null,null,null,null,null,null,null,null,null,"NP34 N:CALENDAR 20%",6]
[{"$f":"IFERROR(IF(INDIRECT($A$14&ROW())<>\"\",COUNTIF(Summary!$B$30:$B$1082,INDIRECT($A$14&ROW())),\"\"),\"\")","v":""},null,null,null,null,null,null,null,null,null,null,null,null,null,null,null,null,null,null,null,null,null,null,null,null,null,null,null,null,null,null,null,null,null,null,null,null,null,null,null,null,null,null,null,null,null,null,null,null,null,null,null,null,null,null,null,null,null,null,null,null,null,null,null,null,null,null,null,null,null,null,null,null,null,null,null,null,null,null,null,null,null,"NP35 N:REGULAR",1438]
[{"$f":"IFERROR(IF(INDIRECT($A$14&ROW())<>\"\",COUNTIF(Summary!$B$30:$B$1082,INDIRECT($A$14&ROW())),\"\"),\"\")","v":""},null,null,null,null,null,null,null,null,null,null,null,null,null,null,null,null,null,null,null,null,null,null,null,null,null,null,null,null,null,null,null,null,null,null,null,null,null,null,null,null,null,null,null,null,null,null,null,null,null,null,null,null,null,null,null,null,null,null,null,null,null,null,null,null,null,null,null,null,null,null,null,null,null,null,null,null,null,null,null,null,null,"NP36 N:MEMBER",580]
[{"$f":"IFERROR(IF(INDIRECT($A$14&ROW())<>\"\",COUNTIF(Summary!$B$30:$B$1082,INDIRECT($A$14&ROW())),\"\"),\"\")","v":""},null,null,null,null,null,null,null,null,null,null,null,null,null,null,null,null,null,null,null,null,null,null,null,null,null,null,null,null,null,null,null,null,null,null,null,null,null,null,null,null,null,null,null,null,null,null,null,null,null,null,null,null,null,null,null,null,null,null,null,null,null,null,null,null,null,null,null,null,null,null,null,null,null,null,null,null,null,null,null,null,null,"NP37 N:4BP",43]
[{"$f":"IFERROR(IF(INDIRECT($A$14&ROW())<>\"\",COUNTIF(Summary!$B$30:$B$1082,INDIRECT($A$14&ROW())),\"\"),\"\")","v":""},null,null,null,null,null,null,null,null,null,null,null,null,null,null,null,null,null,null,null,null,null,null,null,null,null,null,null,null,null,null,null,null,null,null,null,null,null,null,null,null,null,null,null,null,null,null,null,null,null,null,null,null,null,null,null,null,null,null,null,null,null,null,null,null,null,null,null,null,null,null,null,null,null,null,null,null,null,null,null,null,null,"NP38 N:MEMBER 4BP",1]
[{"$f":"IFERROR(IF(INDIRECT($A$14&ROW())<>\"\",COUNTIF(Summary!$B$30:$B$1082,INDIRECT($A$14&ROW())),\"\"),\"\")","v":""},null,null,null,null,null,null,null,null,null,null,null,null,null,null,null,null,null,null,null,null,null,null,null,null,null,null,null,null,null,null,null,null,null,null,null,null,null,null,null,null,null,null,null,null,null,null,null,null,null,null,null,null,null,null,null,null,null,null,null,null,null,null,null,null,null,null,null,null,null,null,null,null,null,null,null,null,null,null,null,null,null,"NP40 N:ST MEMBER",4]
[{"$f":"IFERROR(IF(INDIRECT($A$14&ROW())<>\"\",COUNTIF(Summary!$B$30:$B$1082,INDIRECT($A$14&ROW())),\"\"),\"\")","v":""},null,null,null,null,null,null,null,null,null,null,null,null,null,null,null,null,null,null,null,null,null,null,null,null,null,null,null,null,null,null,null,null,null,null,null,null,null,null,null,null,null,null,null,null,null,null,null,null,null,null,null,null,null,null,null,null,null,null,null,null,null,null,null,null,null,null,null,null,null,null,null,null,null,null,null,null,null,null,null,null,null,"NP41 N:FREEHEAD CNY",4]
[{"$f":"IFERROR(IF(INDIRECT($A$14&ROW())<>\"\",COUNTIF(Summary!$B$30:$B$1082,INDIRECT($A$14&ROW())),\"\"),\"\")","v":""},null,null,null,null,null,null,null,null,null,null,null,null,null,null,null,null,null,null,null,null,null,null,null,null,null,null,null,null,null,null,null,null,null,null,null,null,null,null,null,null,null,null,null,null,null,null,null,null,null,null,null,null,null,null,null,null,null,null,null,null,null,null,null,null,null,null,null,null,null,null,null,null,null,null,null,null,null,null,null,null,null,"OS01 FH VOUCHER(R)",143]
[{"$f":"IFERROR(IF(INDIRECT($A$14&ROW())<>\"\",COUNTIF(Summary!$B$30:$B$1082,INDIRECT($A$14&ROW())),\"\"),\"\")","v":""},null,null,null,null,null,null,null,null,null,null,null,null,null,null,null,null,null,null,null,null,null,null,null,null,null,null,null,null,null,null,null,null,null,null,null,null,null,null,null,null,null,null,null,null,null,null,null,null,null,null,null,null,null,null,null,null,null,null,null,null,null,null,null,null,null,null,null,null,null,null,null,null,null,null,null,null,null,null,null,null,null,"OS11 RM2 VOUCHER(RB)",18]
[{"$f":"IFERROR(IF(INDIRECT($A$14&ROW())<>\"\",COUNTIF(Summary!$B$30:$B$1082,INDIRECT($A$14&ROW())),\"\"),\"\")","v":""},null,null,null,null,null,null,null,null,null,null,null,null,null,null,null,null,null,null,null,null,null,null,null,null,null,null,null,null,null,null,null,null,null,null,null,null,null,null,null,null,null,null,null,null,null,null,null,null,null,null,null,null,null,null,null,null,null,null,null,null,null,null,null,null,null,null,null,null,null,null,null,null,null,null,null,null,null,null,null,null,null,"OS12 RM10 VOUCHER(RB)",180]
[{"$f":"IFERROR(IF(INDIRECT($A$14&ROW())<>\"\",COUNTIF(Summary!$B$30:$B$1082,INDIRECT($A$14&ROW())),\"\"),\"\")","v":""},null,null,null,null,null,null,null,null,null,null,null,null,null,null,null,null,null,null,null,null,null,null,null,null,null,null,null,null,null,null,null,null,null,null,null,null,null,null,null,null,null,null,null,null,null,null,null,null,null,null,null,null,null,null,null,null,null,null,null,null,null,null,null,null,null,null,null,null,null,null,null,null,null,null,null,null,null,null,null,null,null,"OU02 LIGHTER",11]
[{"$f":"IFERROR(IF(INDIRECT($A$14&ROW())<>\"\",COUNTIF(Summary!$B$30:$B$1082,INDIRECT($A$14&ROW())),\"\"),\"\")","v":""},null,null,null,null,null,null,null,null,null,null,null,null,null,null,null,null,null,null,null,null,null,null,null,null,null,null,null,null,null,null,null,null,null,null,null,null,null,null,null,null,null,null,null,null,null,null,null,null,null,null,null,null,null,null,null,null,null,null,null,null,null,null,null,null,null,null,null,null,null,null,null,null,null,null,null,null,null,null,null,null,null,"OU03 MISC FEE",8]
[{"$f":"IFERROR(IF(INDIRECT($A$14&ROW())<>\"\",COUNTIF(Summary!$B$30:$B$1082,INDIRECT($A$14&ROW())),\"\"),\"\")","v":""},null,null,null,null,null,null,null,null,null,null,null,null,null,null,null,null,null,null,null,null,null,null,null,null,null,null,null,null,null,null,null,null,null,null,null,null,null,null,null,null,null,null,null,null,null,null,null,null,null,null,null,null,null,null,null,null,null,null,null,null,null,null,null,null,null,null,null,null,null,null,null,null,null,null,null,null,null,null,null,null,null,"OW05 VALENTINE PASS",23]
[{"$f":"IFERROR(IF(INDIRECT($A$14&ROW())<>\"\",COUNTIF(Summary!$B$30:$B$1082,INDIRECT($A$14&ROW())),\"\"),\"\")","v":""},null,null,null,null,null,null,null,null,null,null,null,null,null,null,null,null,null,null,null,null,null,null,null,null,null,null,null,null,null,null,null,null,null,null,null,null,null,null,null,null,null,null,null,null,null,null,null,null,null,null,null,null,null,null,null,null,null,null,null,null,null,null,null,null,null,null,null,null,null,null,null,null,null,null,null,null,null,null,null,null,null,"OW06 EVENT",1]
[{"$f":"IFERROR(IF(INDIRECT($A$14&ROW())<>\"\",COUNTIF(Summary!$B$30:$B$1082,INDIRECT($A$14&ROW())),\"\"),\"\")","v":""},null,null,null,null,null,null,null,null,null,null,null,null,null,null,null,null,null,null,null,null,null,null,null,null,null,null,null,null,null,null,null,null,null,null,null,null,null,null,null,null,null,null,null,null,null,null,null,null,null,null,null,null,null,null,null,null,null,null,null,null,null,null,null,null,null,null,null,null,null,null,null,null,null,null,null,null,null,null,null,null,null,"OX01 REGULAR MEM CARD",60]
[{"$f":"IFERROR(IF(INDIRECT($A$14&ROW())<>\"\",COUNTIF(Summary!$B$30:$B$1082,INDIRECT($A$14&ROW())),\"\"),\"\")","v":""},null,null,null,null,null,null,null,null,null,null,null,null,null,null,null,null,null,null,null,null,null,null,null,null,null,null,null,null,null,null,null,null,null,null,null,null,null,null,null,null,null,null,null,null,null,null,null,null,null,null,null,null,null,null,null,null,null,null,null,null,null,null,null,null,null,null,null,null,null,null,null,null,null,null,null,null,null,null,null,null,null,"OX02 REGULAR REPLACE",2]
[{"$f":"IFERROR(IF(INDIRECT($A$14&ROW())<>\"\",COUNTIF(Summary!$B$30:$B$1082,INDIRECT($A$14&ROW())),\"\"),\"\")","v":""},null,null,null,null,null,null,null,null,null,null,null,null,null,null,null,null,null,null,null,null,null,null,null,null,null,null,null,null,null,null,null,null,null,null,null,null,null,null,null,null,null,null,null,null,null,null,null,null,null,null,null,null,null,null,null,null,null,null,null,null,null,null,null,null,null,null,null,null,null,null,null,null,null,null,null,null,null,null,null,null,null,"RL10 71110:NISSIN",1]
[{"$f":"IFERROR(IF(INDIRECT($A$14&ROW())<>\"\",COUNTIF(Summary!$B$30:$B$1082,INDIRECT($A$14&ROW())),\"\"),\"\")","v":""},null,null,null,null,null,null,null,null,null,null,null,null,null,null,null,null,null,null,null,null,null,null,null,null,null,null,null,null,null,null,null,null,null,null,null,null,null,null,null,null,null,null,null,null,null,null,null,null,null,null,null,null,null,null,null,null,null,null,null,null,null,null,null,null,null,null,null,null,null,null,null,null,null,null,null,null,null,null,null,null,null,"RN02 61202:FREN FRIES",2]
[{"$f":"IFERROR(IF(INDIRECT($A$14&ROW())<>\"\",COUNTIF(Summary!$B$30:$B$1082,INDIRECT($A$14&ROW())),\"\"),\"\")","v":""},null,null,null,null,null,null,null,null,null,null,null,null,null,null,null,null,null,null,null,null,null,null,null,null,null,null,null,null,null,null,null,null,null,null,null,null,null,null,null,null,null,null,null,null,null,null,null,null,null,null,null,null,null,null,null,null,null,null,null,null,null,null,null,null,null,null,null,null,null,null,null,null,null,null,null,null,null,null,null,null,null,"RN03 61203:GOLD MR",1]
[{"$f":"IFERROR(IF(INDIRECT($A$14&ROW())<>\"\",COUNTIF(Summary!$B$30:$B$1082,INDIRECT($A$14&ROW())),\"\"),\"\")","v":""},null,null,null,null,null,null,null,null,null,null,null,null,null,null,null,null,null,null,null,null,null,null,null,null,null,null,null,null,null,null,null,null,null,null,null,null,null,null,null,null,null,null,null,null,null,null,null,null,null,null,null,null,null,null,null,null,null,null,null,null,null,null,null,null,null,null,null,null,null,null,null,null,null,null,null,null,null,null,null,null,null,"RN04 61204:FSH BALL",2]
[{"$f":"IFERROR(IF(INDIRECT($A$14&ROW())<>\"\",COUNTIF(Summary!$B$30:$B$1082,INDIRECT($A$14&ROW())),\"\"),\"\")","v":""},null,null,null,null,null,null,null,null,null,null,null,null,null,null,null,null,null,null,null,null,null,null,null,null,null,null,null,null,null,null,null,null,null,null,null,null,null,null,null,null,null,null,null,null,null,null,null,null,null,null,null,null,null,null,null,null,null,null,null,null,null,null,null,null,null,null,null,null,null,null,null,null,null,null,null,null,null,null,null,null,null,"RN06 61206:SPRING RL",1]
[{"$f":"IFERROR(IF(INDIRECT($A$14&ROW())<>\"\",COUNTIF(Summary!$B$30:$B$1082,INDIRECT($A$14&ROW())),\"\"),\"\")","v":""},null,null,null,null,null,null,null,null,null,null,null,null,null,null,null,null,null,null,null,null,null,null,null,null,null,null,null,null,null,null,null,null,null,null,null,null,null,null,null,null,null,null,null,null,null,null,null,null,null,null,null,null,null,null,null,null,null,null,null,null,null,null,null,null,null,null,null,null,null,null,null,null,null,null,null,null,null,null,null,null,null,"RN32 61302:NUGGET",4]
[{"$f":"IFERROR(IF(INDIRECT($A$14&ROW())<>\"\",COUNTIF(Summary!$B$30:$B$1082,INDIRECT($A$14&ROW())),\"\"),\"\")","v":""},null,null,null,null,null,null,null,null,null,null,null,null,null,null,null,null,null,null,null,null,null,null,null,null,null,null,null,null,null,null,null,null,null,null,null,null,null,null,null,null,null,null,null,null,null,null,null,null,null,null,null,null,null,null,null,null,null,null,null,null,null,null,null,null,null,null,null,null,null,null,null,null,null,null,null,null,null,null,null,null,null,"RN33 61303:CHK WING",6]
[{"$f":"IFERROR(IF(INDIRECT($A$14&ROW())<>\"\",COUNTIF(Summary!$B$30:$B$1082,INDIRECT($A$14&ROW())),\"\"),\"\")","v":""},null,null,null,null,null,null,null,null,null,null,null,null,null,null,null,null,null,null,null,null,null,null,null,null,null,null,null,null,null,null,null,null,null,null,null,null,null,null,null,null,null,null,null,null,null,null,null,null,null,null,null,null,null,null,null,null,null,null,null,null,null,null,null,null,null,null,null,null,null,null,null,null,null,null,null,null,null,null,null,null,null,"RN35 61305:THAI RL",1]
[{"$f":"IFERROR(IF(INDIRECT($A$14&ROW())<>\"\",COUNTIF(Summary!$B$30:$B$1082,INDIRECT($A$14&ROW())),\"\"),\"\")","v":""},null,null,null,null,null,null,null,null,null,null,null,null,null,null,null,null,null,null,null,null,null,null,null,null,null,null,null,null,null,null,null,null,null,null,null,null,null,null,null,null,null,null,null,null,null,null,null,null,null,null,null,null,null,null,null,null,null,null,null,null,null,null,null,null,null,null,null,null,null,null,null,null,null,null,null,null,null,null,null,null,null,"RN37 61307:CALAMARI",2]
[{"$f":"IFERROR(IF(INDIRECT($A$14&ROW())<>\"\",COUNTIF(Summary!$B$30:$B$1082,INDIRECT($A$14&ROW())),\"\"),\"\")","v":""},null,null,null,null,null,null,null,null,null,null,null,null,null,null,null,null,null,null,null,null,null,null,null,null,null,null,null,null,null,null,null,null,null,null,null,null,null,null,null,null,null,null,null,null,null,null,null,null,null,null,null,null,null,null,null,null,null,null,null,null,null,null,null,null,null,null,null,null,null,null,null,null,null,null,null,null,null,null,null,null,null,"RN39 61309:MC S.FRIES",1]
[{"$f":"IFERROR(IF(INDIRECT($A$14&ROW())<>\"\",COUNTIF(Summary!$B$30:$B$1082,INDIRECT($A$14&ROW())),\"\"),\"\")","v":""},null,null,null,null,null,null,null,null,null,null,null,null,null,null,null,null,null,null,null,null,null,null,null,null,null,null,null,null,null,null,null,null,null,null,null,null,null,null,null,null,null,null,null,null,null,null,null,null,null,null,null,null,null,null,null,null,null,null,null,null,null,null,null,null,null,null,null,null,null,null,null,null,null,null,null,null,null,null,null,null,null,"RQ01 1601:ADD RICE",17]
[{"$f":"IFERROR(IF(INDIRECT($A$14&ROW())<>\"\",COUNTIF(Summary!$B$30:$B$1082,INDIRECT($A$14&ROW())),\"\"),\"\")","v":""},null,null,null,null,null,null,null,null,null,null,null,null,null,null,null,null,null,null,null,null,null,null,null,null,null,null,null,null,null,null,null,null,null,null,null,null,null,null,null,null,null,null,null,null,null,null,null,null,null,null,null,null,null,null,null,null,null,null,null,null,null,null,null,null,null,null,null,null,null,null,null,null,null,null,null,null,null,null,null,null,null,"RQ02 1602:ADD F.EGG",7]
[{"$f":"IFERROR(IF(INDIRECT($A$14&ROW())<>\"\",COUNTIF(Summary!$B$30:$B$1082,INDIRECT($A$14&ROW())),\"\"),\"\")","v":""},null,null,null,null,null,null,null,null,null,null,null,null,null,null,null,null,null,null,null,null,null,null,null,null,null,null,null,null,null,null,null,null,null,null,null,null,null,null,null,null,null,null,null,null,null,null,null,null,null,null,null,null,null,null,null,null,null,null,null,null,null,null,null,null,null,null,null,null,null,null,null,null,null,null,null,null,null,null,null,null,null,"RQ03 ADD SAUCE 1000",5]
[{"$f":"IFERROR(IF(INDIRECT($A$14&ROW())<>\"\",COUNTIF(Summary!$B$30:$B$1082,INDIRECT($A$14&ROW())),\"\"),\"\")","v":""},null,null,null,null,null,null,null,null,null,null,null,null,null,null,null,null,null,null,null,null,null,null,null,null,null,null,null,null,null,null,null,null,null,null,null,null,null,null,null,null,null,null,null,null,null,null,null,null,null,null,null,null,null,null,null,null,null,null,null,null,null,null,null,null,null,null,null,null,null,null,null,null,null,null,null,null,null,null,null,null,null,"RQ05 ADD SAUCE BP",10]
[{"$f":"IFERROR(IF(INDIRECT($A$14&ROW())<>\"\",COUNTIF(Summary!$B$30:$B$1082,INDIRECT($A$14&ROW())),\"\"),\"\")","v":""},null,null,null,null,null,null,null,null,null,null,null,null,null,null,null,null,null,null,null,null,null,null,null,null,null,null,null,null,null,null,null,null,null,null,null,null,null,null,null,null,null,null,null,null,null,null,null,null,null,null,null,null,null,null,null,null,null,null,null,null,null,null,null,null,null,null,null,null,null,null,null,null,null,null,null,null,null,null,null,null,null,"RQ06 ADD SAUCE BUTTER",15]
[{"$f":"IFERROR(IF(INDIRECT($A$14&ROW())<>\"\",COUNTIF(Summary!$B$30:$B$1082,INDIRECT($A$14&ROW())),\"\"),\"\")","v":""},null,null,null,null,null,null,null,null,null,null,null,null,null,null,null,null,null,null,null,null,null,null,null,null,null,null,null,null,null,null,null,null,null,null,null,null,null,null,null,null,null,null,null,null,null,null,null,null,null,null,null,null,null,null,null,null,null,null,null,null,null,null,null,null,null,null,null,null,null,null,null,null,null,null,null,null,null,null,null,null,null,"RQ07 ADD SAUCE C.PADI",44]
[{"$f":"IFERROR(IF(INDIRECT($A$14&ROW())<>\"\",COUNTIF(Summary!$B$30:$B$1082,INDIRECT($A$14&ROW())),\"\"),\"\")","v":""},null,null,null,null,null,null,null,null,null,null,null,null,null,null,null,null,null,null,null,null,null,null,null,null,null,null,null,null,null,null,null,null,null,null,null,null,null,null,null,null,null,null,null,null,null,null,null,null,null,null,null,null,null,null,null,null,null,null,null,null,null,null,null,null,null,null,null,null,null,null,null,null,null,null,null,null,null,null,null,null,null,"RQ08 ADD SAUCE CHEESE",1]
[{"$f":"IFERROR(IF(INDIRECT($A$14&ROW())<>\"\",COUNTIF(Summary!$B$30:$B$1082,INDIRECT($A$14&ROW())),\"\"),\"\")","v":""},null,null,null,null,null,null,null,null,null,null,null,null,null,null,null,null,null,null,null,null,null,null,null,null,null,null,null,null,null,null,null,null,null,null,null,null,null,null,null,null,null,null,null,null,null,null,null,null,null,null,null,null,null,null,null,null,null,null,null,null,null,null,null,null,null,null,null,null,null,null,null,null,null,null,null,null,null,null,null,null,null,"RQ09 ADD SAUCE GS",1]
[{"$f":"IFERROR(IF(INDIRECT($A$14&ROW())<>\"\",COUNTIF(Summary!$B$30:$B$1082,INDIRECT($A$14&ROW())),\"\"),\"\")","v":""},null,null,null,null,null,null,null,null,null,null,null,null,null,null,null,null,null,null,null,null,null,null,null,null,null,null,null,null,null,null,null,null,null,null,null,null,null,null,null,null,null,null,null,null,null,null,null,null,null,null,null,null,null,null,null,null,null,null,null,null,null,null,null,null,null,null,null,null,null,null,null,null,null,null,null,null,null,null,null,null,null,"RQ10 ADD SAUCE MAYO",57]
[{"$f":"IFERROR(IF(INDIRECT($A$14&ROW())<>\"\",COUNTIF(Summary!$B$30:$B$1082,INDIRECT($A$14&ROW())),\"\"),\"\")","v":""},null,null,null,null,null,null,null,null,null,null,null,null,null,null,null,null,null,null,null,null,null,null,null,null,null,null,null,null,null,null,null,null,null,null,null,null,null,null,null,null,null,null,null,null,null,null,null,null,null,null,null,null,null,null,null,null,null,null,null,null,null,null,null,null,null,null,null,null,null,null,null,null,null,null,null,null,null,null,null,null,null,"RQ11 ADD SAUCE MAMITE",3]
[{"$f":"IFERROR(IF(INDIRECT($A$14&ROW())<>\"\",COUNTIF(Summary!$B$30:$B$1082,INDIRECT($A$14&ROW())),\"\"),\"\")","v":""},null,null,null,null,null,null,null,null,null,null,null,null,null,null,null,null,null,null,null,null,null,null,null,null,null,null,null,null,null,null,null,null,null,null,null,null,null,null,null,null,null,null,null,null,null,null,null,null,null,null,null,null,null,null,null,null,null,null,null,null,null,null,null,null,null,null,null,null,null,null,null,null,null,null,null,null,null,null,null,null,null,"RQ12 ADD SAUCE MR",6]
[{"$f":"IFERROR(IF(INDIRECT($A$14&ROW())<>\"\",COUNTIF(Summary!$B$30:$B$1082,INDIRECT($A$14&ROW())),\"\"),\"\")","v":""},null,null,null,null,null,null,null,null,null,null,null,null,null,null,null,null,null,null,null,null,null,null,null,null,null,null,null,null,null,null,null,null,null,null,null,null,null,null,null,null,null,null,null,null,null,null,null,null,null,null,null,null,null,null,null,null,null,null,null,null,null,null,null,null,null,null,null,null,null,null,null,null,null,null,null,null,null,null,null,null,null,"RQ13 ADD SAUCE SAMBAL",1]
[{"$f":"IFERROR(IF(INDIRECT($A$14&ROW())<>\"\",COUNTIF(Summary!$B$30:$B$1082,INDIRECT($A$14&ROW())),\"\"),\"\")","v":""},null,null,null,null,null,null,null,null,null,null,null,null,null,null,null,null,null,null,null,null,null,null,null,null,null,null,null,null,null,null,null,null,null,null,null,null,null,null,null,null,null,null,null,null,null,null,null,null,null,null,null,null,null,null,null,null,null,null,null,null,null,null,null,null,null,null,null,null,null,null,null,null,null,null,null,null,null,null,null,null,null,"RQ14 ADD SAUCE TARTAR",8]
[{"$f":"IFERROR(IF(INDIRECT($A$14&ROW())<>\"\",COUNTIF(Summary!$B$30:$B$1082,INDIRECT($A$14&ROW())),\"\"),\"\")","v":""},null,null,null,null,null,null,null,null,null,null,null,null,null,null,null,null,null,null,null,null,null,null,null,null,null,null,null,null,null,null,null,null,null,null,null,null,null,null,null,null,null,null,null,null,null,null,null,null,null,null,null,null,null,null,null,null,null,null,null,null,null,null,null,null,null,null,null,null,null,null,null,null,null,null,null,null,null,null,null,null,null,"RQ16 ADD SAUCE TOMATO",22]
[{"$f":"IFERROR(IF(INDIRECT($A$14&ROW())<>\"\",COUNTIF(Summary!$B$30:$B$1082,INDIRECT($A$14&ROW())),\"\"),\"\")","v":""},null,null,null,null,null,null,null,null,null,null,null,null,null,null,null,null,null,null,null,null,null,null,null,null,null,null,null,null,null,null,null,null,null,null,null,null,null,null,null,null,null,null,null,null,null,null,null,null,null,null,null,null,null,null,null,null,null,null,null,null,null,null,null,null,null,null,null,null,null,null,null,null,null,null,null,null,null,null,null,null,null,"RS37 71307:CALAMARI",1]
[{"$f":"IFERROR(IF(INDIRECT($A$14&ROW())<>\"\",COUNTIF(Summary!$B$30:$B$1082,INDIRECT($A$14&ROW())),\"\"),\"\")","v":""},null,null,null,null,null,null,null,null,null,null,null,null,null,null,null,null,null,null,null,null,null,null,null,null,null,null,null,null,null,null,null,null,null,null,null,null,null,null,null,null,null,null,null,null,null,null,null,null,null,null,null,null,null,null,null,null,null,null,null,null,null,null,null,null,null,null,null,null,null,null,null,null,null,null,null,null,null,null,null,null,null,"RW01 71001:BP CKN CP",2]
[{"$f":"IFERROR(IF(INDIRECT($A$14&ROW())<>\"\",COUNTIF(Summary!$B$30:$B$1082,INDIRECT($A$14&ROW())),\"\"),\"\")","v":""},null,null,null,null,null,null,null,null,null,null,null,null,null,null,null,null,null,null,null,null,null,null,null,null,null,null,null,null,null,null,null,null,null,null,null,null,null,null,null,null,null,null,null,null,null,null,null,null,null,null,null,null,null,null,null,null,null,null,null,null,null,null,null,null,null,null,null,null,null,null,null,null,null,null,null,null,null,null,null,null,null,"RW03 71003:MR CKN CP",2]
[{"$f":"IFERROR(IF(INDIRECT($A$14&ROW())<>\"\",COUNTIF(Summary!$B$30:$B$1082,INDIRECT($A$14&ROW())),\"\"),\"\")","v":""},null,null,null,null,null,null,null,null,null,null,null,null,null,null,null,null,null,null,null,null,null,null,null,null,null,null,null,null,null,null,null,null,null,null,null,null,null,null,null,null,null,null,null,null,null,null,null,null,null,null,null,null,null,null,null,null,null,null,null,null,null,null,null,null,null,null,null,null,null,null,null,null,null,null,null,null,null,null,null,null,null,"RW05 71005:FSH&CHIP",1]
[{"$f":"IFERROR(IF(INDIRECT($A$14&ROW())<>\"\",COUNTIF(Summary!$B$30:$B$1082,INDIRECT($A$14&ROW())),\"\"),\"\")","v":""},null,null,null,null,null,null,null,null,null,null,null,null,null,null,null,null,null,null,null,null,null,null,null,null,null,null,null,null,null,null,null,null,null,null,null,null,null,null,null,null,null,null,null,null,null,null,null,null,null,null,null,null,null,null,null,null,null,null,null,null,null,null,null,null,null,null,null,null,null,null,null,null,null,null,null,null,null,null,null,null,null,"RW06 71006:SPAGHETTI",2]
[{"$f":"IFERROR(IF(INDIRECT($A$14&ROW())<>\"\",COUNTIF(Summary!$B$30:$B$1082,INDIRECT($A$14&ROW())),\"\"),\"\")","v":""},null,null,null,null,null,null,null,null,null,null,null,null,null,null,null,null,null,null,null,null,null,null,null,null,null,null,null,null,null,null,null,null,null,null,null,null,null,null,null,null,null,null,null,null,null,null,null,null,null,null,null,null,null,null,null,null,null,null,null,null,null,null,null,null,null,null,null,null,null,null,null,null,null,null,null,null,null,null,null,null,null,"SF01 92601:GRAPE SO",17]
[{"$f":"IFERROR(IF(INDIRECT($A$14&ROW())<>\"\",COUNTIF(Summary!$B$30:$B$1082,INDIRECT($A$14&ROW())),\"\"),\"\")","v":""},null,null,null,null,null,null,null,null,null,null,null,null,null,null,null,null,null,null,null,null,null,null,null,null,null,null,null,null,null,null,null,null,null,null,null,null,null,null,null,null,null,null,null,null,null,null,null,null,null,null,null,null,null,null,null,null,null,null,null,null,null,null,null,null,null,null,null,null,null,null,null,null,null,null,null,null,null,null,null,null,null,"SF02 92602:APPLE SO",18]
[{"$f":"IFERROR(IF(INDIRECT($A$14&ROW())<>\"\",COUNTIF(Summary!$B$30:$B$1082,INDIRECT($A$14&ROW())),\"\"),\"\")","v":""},null,null,null,null,null,null,null,null,null,null,null,null,null,null,null,null,null,null,null,null,null,null,null,null,null,null,null,null,null,null,null,null,null,null,null,null,null,null,null,null,null,null,null,null,null,null,null,null,null,null,null,null,null,null,null,null,null,null,null,null,null,null,null,null,null,null,null,null,null,null,null,null,null,null,null,null,null,null,null,null,null,"SF03 92603:MANGO SO",20]
[{"$f":"IFERROR(IF(INDIRECT($A$14&ROW())<>\"\",COUNTIF(Summary!$B$30:$B$1082,INDIRECT($A$14&ROW())),\"\"),\"\")","v":""},null,null,null,null,null,null,null,null,null,null,null,null,null,null,null,null,null,null,null,null,null,null,null,null,null,null,null,null,null,null,null,null,null,null,null,null,null,null,null,null,null,null,null,null,null,null,null,null,null,null,null,null,null,null,null,null,null,null,null,null,null,null,null,null,null,null,null,null,null,null,null,null,null,null,null,null,null,null,null,null,null,"SF04 92604:PASSION SO",30]
[{"$f":"IFERROR(IF(INDIRECT($A$14&ROW())<>\"\",COUNTIF(Summary!$B$30:$B$1082,INDIRECT($A$14&ROW())),\"\"),\"\")","v":""},null,null,null,null,null,null,null,null,null,null,null,null,null,null,null,null,null,null,null,null,null,null,null,null,null,null,null,null,null,null,null,null,null,null,null,null,null,null,null,null,null,null,null,null,null,null,null,null,null,null,null,null,null,null,null,null,null,null,null,null,null,null,null,null,null,null,null,null,null,null,null,null,null,null,null,null,null,null,null,null,null,"SF05 92605:RIBENA SO",51]
[{"$f":"IFERROR(IF(INDIRECT($A$14&ROW())<>\"\",COUNTIF(Summary!$B$30:$B$1082,INDIRECT($A$14&ROW())),\"\"),\"\")","v":""},null,null,null,null,null,null,null,null,null,null,null,null,null,null,null,null,null,null,null,null,null,null,null,null,null,null,null,null,null,null,null,null,null,null,null,null,null,null,null,null,null,null,null,null,null,null,null,null,null,null,null,null,null,null,null,null,null,null,null,null,null,null,null,null,null,null,null,null,null,null,null,null,null,null,null,null,null,null,null,null,null,"SM06 2820:CAPPU SM",2]
[{"$f":"IFERROR(IF(INDIRECT($A$14&ROW())<>\"\",COUNTIF(Summary!$B$30:$B$1082,INDIRECT($A$14&ROW())),\"\"),\"\")","v":""},null,null,null,null,null,null,null,null,null,null,null,null,null,null,null,null,null,null,null,null,null,null,null,null,null,null,null,null,null,null,null,null,null,null,null,null,null,null,null,null,null,null,null,null,null,null,null,null,null,null,null,null,null,null,null,null,null,null,null,null,null,null,null,null,null,null,null,null,null,null,null,null,null,null,null,null,null,null,null,null,null,"SM08 2822:MOCHA SM",2]
[{"$f":"IFERROR(IF(INDIRECT($A$14&ROW())<>\"\",COUNTIF(Summary!$B$30:$B$1082,INDIRECT($A$14&ROW())),\"\"),\"\")","v":""},null,null,null,null,null,null,null,null,null,null,null,null,null,null,null,null,null,null,null,null,null,null,null,null,null,null,null,null,null,null,null,null,null,null,null,null,null,null,null,null,null,null,null,null,null,null,null,null,null,null,null,null,null,null,null,null,null,null,null,null,null,null,null,null,null,null,null,null,null,null,null,null,null,null,null,null,null,null,null,null,null,"WF01 91001:BP CHK CP",410]
[{"$f":"IFERROR(IF(INDIRECT($A$14&ROW())<>\"\",COUNTIF(Summary!$B$30:$B$1082,INDIRECT($A$14&ROW())),\"\"),\"\")","v":""},null,null,null,null,null,null,null,null,null,null,null,null,null,null,null,null,null,null,null,null,null,null,null,null,null,null,null,null,null,null,null,null,null,null,null,null,null,null,null,null,null,null,null,null,null,null,null,null,null,null,null,null,null,null,null,null,null,null,null,null,null,null,null,null,null,null,null,null,null,null,null,null,null,null,null,null,null,null,null,null,null,"WF02 91002:GVY CHK CP",93]
[{"$f":"IFERROR(IF(INDIRECT($A$14&ROW())<>\"\",COUNTIF(Summary!$B$30:$B$1082,INDIRECT($A$14&ROW())),\"\"),\"\")","v":""},null,null,null,null,null,null,null,null,null,null,null,null,null,null,null,null,null,null,null,null,null,null,null,null,null,null,null,null,null,null,null,null,null,null,null,null,null,null,null,null,null,null,null,null,null,null,null,null,null,null,null,null,null,null,null,null,null,null,null,null,null,null,null,null,null,null,null,null,null,null,null,null,null,null,null,null,null,null,null,null,null,"WF03 91003:MR CHK CP",474]
[{"$f":"IFERROR(IF(INDIRECT($A$14&ROW())<>\"\",COUNTIF(Summary!$B$30:$B$1082,INDIRECT($A$14&ROW())),\"\"),\"\")","v":""},null,null,null,null,null,null,null,null,null,null,null,null,null,null,null,null,null,null,null,null,null,null,null,null,null,null,null,null,null,null,null,null,null,null,null,null,null,null,null,null,null,null,null,null,null,null,null,null,null,null,null,null,null,null,null,null,null,null,null,null,null,null,null,null,null,null,null,null,null,null,null,null,null,null,null,null,null,null,null,null,null,"WF04 91004:CKN MARY",144]
[{"$f":"IFERROR(IF(INDIRECT($A$14&ROW())<>\"\",COUNTIF(Summary!$B$30:$B$1082,INDIRECT($A$14&ROW())),\"\"),\"\")","v":""},null,null,null,null,null,null,null,null,null,null,null,null,null,null,null,null,null,null,null,null,null,null,null,null,null,null,null,null,null,null,null,null,null,null,null,null,null,null,null,null,null,null,null,null,null,null,null,null,null,null,null,null,null,null,null,null,null,null,null,null,null,null,null,null,null,null,null,null,null,null,null,null,null,null,null,null,null,null,null,null,null,"WF05 91005:FSH&CHIP",267]
[{"$f":"IFERROR(IF(INDIRECT($A$14&ROW())<>\"\",COUNTIF(Summary!$B$30:$B$1082,INDIRECT($A$14&ROW())),\"\"),\"\")","v":""},null,null,null,null,null,null,null,null,null,null,null,null,null,null,null,null,null,null,null,null,null,null,null,null,null,null,null,null,null,null,null,null,null,null,null,null,null,null,null,null,null,null,null,null,null,null,null,null,null,null,null,null,null,null,null,null,null,null,null,null,null,null,null,null,null,null,null,null,null,null,null,null,null,null,null,null,null,null,null,null,null,"WF06 91006:SPAGHETTI",141]
[{"$f":"IFERROR(IF(INDIRECT($A$14&ROW())<>\"\",COUNTIF(Summary!$B$30:$B$1082,INDIRECT($A$14&ROW())),\"\"),\"\")","v":""},null,null,null,null,null,null,null,null,null,null,null,null,null,null,null,null,null,null,null,null,null,null,null,null,null,null,null,null,null,null,null,null,null,null,null,null,null,null,null,null,null,null,null,null,null,null,null,null,null,null,null,null,null,null,null,null,null,null,null,null,null,null,null,null,null,null,null,null,null,null,null,null,null,null,null,null,null,null,null,null,null,"WF07 91007:CHK SALAD",68]
[{"$f":"IFERROR(IF(INDIRECT($A$14&ROW())<>\"\",COUNTIF(Summary!$B$30:$B$1082,INDIRECT($A$14&ROW())),\"\"),\"\")","v":""},null,null,null,null,null,null,null,null,null,null,null,null,null,null,null,null,null,null,null,null,null,null,null,null,null,null,null,null,null,null,null,null,null,null,null,null,null,null,null,null,null,null,null,null,null,null,null,null,null,null,null,null,null,null,null,null,null,null,null,null,null,null,null,null,null,null,null,null,null,null,null,null,null,null,null,null,null,null,null,null,null,"WG01 92026:PLN WATER",1579]
[{"$f":"IFERROR(IF(INDIRECT($A$14&ROW())<>\"\",COUNTIF(Summary!$B$30:$B$1082,INDIRECT($A$14&ROW())),\"\"),\"\")","v":""},null,null,null,null,null,null,null,null,null,null,null,null,null,null,null,null,null,null,null,null,null,null,null,null,null,null,null,null,null,null,null,null,null,null,null,null,null,null,null,null,null,null,null,null,null,null,null,null,null,null,null,null,null,null,null,null,null,null,null,null,null,null,null,null,null,null,null,null,null,null,null,null,null,null,null,null,null,null,null,null,null,"WT01 1001:BP CKN CP",81]
[{"$f":"IFERROR(IF(INDIRECT($A$14&ROW())<>\"\",COUNTIF(Summary!$B$30:$B$1082,INDIRECT($A$14&ROW())),\"\"),\"\")","v":""},null,null,null,null,null,null,null,null,null,null,null,null,null,null,null,null,null,null,null,null,null,null,null,null,null,null,null,null,null,null,null,null,null,null,null,null,null,null,null,null,null,null,null,null,null,null,null,null,null,null,null,null,null,null,null,null,null,null,null,null,null,null,null,null,null,null,null,null,null,null,null,null,null,null,null,null,null,null,null,null,null,"WT02 1002:GVY CHK CP",10]
[{"$f":"IFERROR(IF(INDIRECT($A$14&ROW())<>\"\",COUNTIF(Summary!$B$30:$B$1082,INDIRECT($A$14&ROW())),\"\"),\"\")","v":""},null,null,null,null,null,null,null,null,null,null,null,null,null,null,null,null,null,null,null,null,null,null,null,null,null,null,null,null,null,null,null,null,null,null,null,null,null,null,null,null,null,null,null,null,null,null,null,null,null,null,null,null,null,null,null,null,null,null,null,null,null,null,null,null,null,null,null,null,null,null,null,null,null,null,null,null,null,null,null,null,null,"WT03 1003:MR CKN CP",123]
[{"$f":"IFERROR(IF(INDIRECT($A$14&ROW())<>\"\",COUNTIF(Summary!$B$30:$B$1082,INDIRECT($A$14&ROW())),\"\"),\"\")","v":""},null,null,null,null,null,null,null,null,null,null,null,null,null,null,null,null,null,null,null,null,null,null,null,null,null,null,null,null,null,null,null,null,null,null,null,null,null,null,null,null,null,null,null,null,null,null,null,null,null,null,null,null,null,null,null,null,null,null,null,null,null,null,null,null,null,null,null,null,null,null,null,null,null,null,null,null,null,null,null,null,null,"WT04 1004:CKN MARY",22]
[{"$f":"IFERROR(IF(INDIRECT($A$14&ROW())<>\"\",COUNTIF(Summary!$B$30:$B$1082,INDIRECT($A$14&ROW())),\"\"),\"\")","v":""},null,null,null,null,null,null,null,null,null,null,null,null,null,null,null,null,null,null,null,null,null,null,null,null,null,null,null,null,null,null,null,null,null,null,null,null,null,null,null,null,null,null,null,null,null,null,null,null,null,null,null,null,null,null,null,null,null,null,null,null,null,null,null,null,null,null,null,null,null,null,null,null,null,null,null,null,null,null,null,null,null,"WT05 1005:FSH&CHIP",54]
[{"$f":"IFERROR(IF(INDIRECT($A$14&ROW())<>\"\",COUNTIF(Summary!$B$30:$B$1082,INDIRECT($A$14&ROW())),\"\"),\"\")","v":""},null,null,null,null,null,null,null,null,null,null,null,null,null,null,null,null,null,null,null,null,null,null,null,null,null,null,null,null,null,null,null,null,null,null,null,null,null,null,null,null,null,null,null,null,null,null,null,null,null,null,null,null,null,null,null,null,null,null,null,null,null,null,null,null,null,null,null,null,null,null,null,null,null,null,null,null,null,null,null,null,null,"WT06 1006:SPAGHETTI",27]
[{"$f":"IFERROR(IF(INDIRECT($A$14&ROW())<>\"\",COUNTIF(Summary!$B$30:$B$1082,INDIRECT($A$14&ROW())),\"\"),\"\")","v":""},null,null,null,null,null,null,null,null,null,null,null,null,null,null,null,null,null,null,null,null,null,null,null,null,null,null,null,null,null,null,null,null,null,null,null,null,null,null,null,null,null,null,null,null,null,null,null,null,null,null,null,null,null,null,null,null,null,null,null,null,null,null,null,null,null,null,null,null,null,null,null,null,null,null,null,null,null,null,null,null,null,"WT07 1007:CHK SALAD",17]
[{"$f":"IFERROR(IF(INDIRECT($A$14&ROW())<>\"\",COUNTIF(Summary!$B$30:$B$1082,INDIRECT($A$14&ROW())),\"\"),\"\")","v":""},null,null,null,null,null,null,null,null,null,null,null,null,null,null,null,null,null,null,null,null,null,null,null,null,null,null,null,null,null,null,null,null,null,null,null,null,null,null,null,null,null,null,null,null,null,null,null,null,null,null,null,null,null,null,null,null,null,null,null,null,null,null,null,null,null,null,null,null,null,null,null,null,null,null,null,null,null,null,null,null,null,"ZAA01 1201:SFD STICK",11]
[{"$f":"IFERROR(IF(INDIRECT($A$14&ROW())<>\"\",COUNTIF(Summary!$B$30:$B$1082,INDIRECT($A$14&ROW())),\"\"),\"\")","v":""},null,null,null,null,null,null,null,null,null,null,null,null,null,null,null,null,null,null,null,null,null,null,null,null,null,null,null,null,null,null,null,null,null,null,null,null,null,null,null,null,null,null,null,null,null,null,null,null,null,null,null,null,null,null,null,null,null,null,null,null,null,null,null,null,null,null,null,null,null,null,null,null,null,null,null,null,null,null,null,null,null,"ZAA02 1202:FREN FRIES",91]
[{"$f":"IFERROR(IF(INDIRECT($A$14&ROW())<>\"\",COUNTIF(Summary!$B$30:$B$1082,INDIRECT($A$14&ROW())),\"\"),\"\")","v":""},null,null,null,null,null,null,null,null,null,null,null,null,null,null,null,null,null,null,null,null,null,null,null,null,null,null,null,null,null,null,null,null,null,null,null,null,null,null,null,null,null,null,null,null,null,null,null,null,null,null,null,null,null,null,null,null,null,null,null,null,null,null,null,null,null,null,null,null,null,null,null,null,null,null,null,null,null,null,null,null,null,"ZAA03 1203:GOLD MR",13]
[{"$f":"IFERROR(IF(INDIRECT($A$14&ROW())<>\"\",COUNTIF(Summary!$B$30:$B$1082,INDIRECT($A$14&ROW())),\"\"),\"\")","v":""},null,null,null,null,null,null,null,null,null,null,null,null,null,null,null,null,null,null,null,null,null,null,null,null,null,null,null,null,null,null,null,null,null,null,null,null,null,null,null,null,null,null,null,null,null,null,null,null,null,null,null,null,null,null,null,null,null,null,null,null,null,null,null,null,null,null,null,null,null,null,null,null,null,null,null,null,null,null,null,null,null,"ZAA04 1204:FSHBALL",24]
[{"$f":"IFERROR(IF(INDIRECT($A$14&ROW())<>\"\",COUNTIF(Summary!$B$30:$B$1082,INDIRECT($A$14&ROW())),\"\"),\"\")","v":""},null,null,null,null,null,null,null,null,null,null,null,null,null,null,null,null,null,null,null,null,null,null,null,null,null,null,null,null,null,null,null,null,null,null,null,null,null,null,null,null,null,null,null,null,null,null,null,null,null,null,null,null,null,null,null,null,null,null,null,null,null,null,null,null,null,null,null,null,null,null,null,null,null,null,null,null,null,null,null,null,null,"ZAA06 1206:SPRING RL",27]
[{"$f":"IFERROR(IF(INDIRECT($A$14&ROW())<>\"\",COUNTIF(Summary!$B$30:$B$1082,INDIRECT($A$14&ROW())),\"\"),\"\")","v":""},null,null,null,null,null,null,null,null,null,null,null,null,null,null,null,null,null,null,null,null,null,null,null,null,null,null,null,null,null,null,null,null,null,null,null,null,null,null,null,null,null,null,null,null,null,null,null,null,null,null,null,null,null,null,null,null,null,null,null,null,null,null,null,null,null,null,null,null,null,null,null,null,null,null,null,null,null,null,null,null,null,"ZAA07 1207:SAUSG",46]
[{"$f":"IFERROR(IF(INDIRECT($A$14&ROW())<>\"\",COUNTIF(Summary!$B$30:$B$1082,INDIRECT($A$14&ROW())),\"\"),\"\")","v":""},null,null,null,null,null,null,null,null,null,null,null,null,null,null,null,null,null,null,null,null,null,null,null,null,null,null,null,null,null,null,null,null,null,null,null,null,null,null,null,null,null,null,null,null,null,null,null,null,null,null,null,null,null,null,null,null,null,null,null,null,null,null,null,null,null,null,null,null,null,null,null,null,null,null,null,null,null,null,null,null,null,"ZAB02 1302:NUGGET",51]
[{"$f":"IFERROR(IF(INDIRECT($A$14&ROW())<>\"\",COUNTIF(Summary!$B$30:$B$1082,INDIRECT($A$14&ROW())),\"\"),\"\")","v":""},null,null,null,null,null,null,null,null,null,null,null,null,null,null,null,null,null,null,null,null,null,null,null,null,null,null,null,null,null,null,null,null,null,null,null,null,null,null,null,null,null,null,null,null,null,null,null,null,null,null,null,null,null,null,null,null,null,null,null,null,null,null,null,null,null,null,null,null,null,null,null,null,null,null,null,null,null,null,null,null,null,"ZAB03 1303:CHK WING",89]
[{"$f":"IFERROR(IF(INDIRECT($A$14&ROW())<>\"\",COUNTIF(Summary!$B$30:$B$1082,INDIRECT($A$14&ROW())),\"\"),\"\")","v":""},null,null,null,null,null,null,null,null,null,null,null,null,null,null,null,null,null,null,null,null,null,null,null,null,null,null,null,null,null,null,null,null,null,null,null,null,null,null,null,null,null,null,null,null,null,null,null,null,null,null,null,null,null,null,null,null,null,null,null,null,null,null,null,null,null,null,null,null,null,null,null,null,null,null,null,null,null,null,null,null,null,"ZAB04 1304:IKAN BILIS",4]
[{"$f":"IFERROR(IF(INDIRECT($A$14&ROW())<>\"\",COUNTIF(Summary!$B$30:$B$1082,INDIRECT($A$14&ROW())),\"\"),\"\")","v":""},null,null,null,null,null,null,null,null,null,null,null,null,null,null,null,null,null,null,null,null,null,null,null,null,null,null,null,null,null,null,null,null,null,null,null,null,null,null,null,null,null,null,null,null,null,null,null,null,null,null,null,null,null,null,null,null,null,null,null,null,null,null,null,null,null,null,null,null,null,null,null,null,null,null,null,null,null,null,null,null,null,"ZAB05 1305:THAI RL",20]
[{"$f":"IFERROR(IF(INDIRECT($A$14&ROW())<>\"\",COUNTIF(Summary!$B$30:$B$1082,INDIRECT($A$14&ROW())),\"\"),\"\")","v":""},null,null,null,null,null,null,null,null,null,null,null,null,null,null,null,null,null,null,null,null,null,null,null,null,null,null,null,null,null,null,null,null,null,null,null,null,null,null,null,null,null,null,null,null,null,null,null,null,null,null,null,null,null,null,null,null,null,null,null,null,null,null,null,null,null,null,null,null,null,null,null,null,null,null,null,null,null,null,null,null,null,"ZAB06 1306:DF WING",13]
[{"$f":"IFERROR(IF(INDIRECT($A$14&ROW())<>\"\",COUNTIF(Summary!$B$30:$B$1082,INDIRECT($A$14&ROW())),\"\"),\"\")","v":""},null,null,null,null,null,null,null,null,null,null,null,null,null,null,null,null,null,null,null,null,null,null,null,null,null,null,null,null,null,null,null,null,null,null,null,null,null,null,null,null,null,null,null,null,null,null,null,null,null,null,null,null,null,null,null,null,null,null,null,null,null,null,null,null,null,null,null,null,null,null,null,null,null,null,null,null,null,null,null,null,null,"ZAB07 1307: CALAMARI",23]
[{"$f":"IFERROR(IF(INDIRECT($A$14&ROW())<>\"\",COUNTIF(Summary!$B$30:$B$1082,INDIRECT($A$14&ROW())),\"\"),\"\")","v":""},null,null,null,null,null,null,null,null,null,null,null,null,null,null,null,null,null,null,null,null,null,null,null,null,null,null,null,null,null,null,null,null,null,null,null,null,null,null,null,null,null,null,null,null,null,null,null,null,null,null,null,null,null,null,null,null,null,null,null,null,null,null,null,null,null,null,null,null,null,null,null,null,null,null,null,null,null,null,null,null,null,"ZAB08 1308 MC RING",8]
[{"$f":"IFERROR(IF(INDIRECT($A$14&ROW())<>\"\",COUNTIF(Summary!$B$30:$B$1082,INDIRECT($A$14&ROW())),\"\"),\"\")","v":""},null,null,null,null,null,null,null,null,null,null,null,null,null,null,null,null,null,null,null,null,null,null,null,null,null,null,null,null,null,null,null,null,null,null,null,null,null,null,null,null,null,null,null,null,null,null,null,null,null,null,null,null,null,null,null,null,null,null,null,null,null,null,null,null,null,null,null,null,null,null,null,null,null,null,null,null,null,null,null,null,null,"ZAB09 1309:MC SPIRAL F",18]
[{"$f":"IFERROR(IF(INDIRECT($A$14&ROW())<>\"\",COUNTIF(Summary!$B$30:$B$1082,INDIRECT($A$14&ROW())),\"\"),\"\")","v":""},null,null,null,null,null,null,null,null,null,null,null,null,null,null,null,null,null,null,null,null,null,null,null,null,null,null,null,null,null,null,null,null,null,null,null,null,null,null,null,null,null,null,null,null,null,null,null,null,null,null,null,null,null,null,null,null,null,null,null,null,null,null,null,null,null,null,null,null,null,null,null,null,null,null,null,null,null,null,null,null,null,"ZAB10 1310:MC HP SMILE",2]
[{"$f":"IFERROR(IF(INDIRECT($A$14&ROW())<>\"\",COUNTIF(Summary!$B$30:$B$1082,INDIRECT($A$14&ROW())),\"\"),\"\")","v":""},null,null,null,null,null,null,null,null,null,null,null,null,null,null,null,null,null,null,null,null,null,null,null,null,null,null,null,null,null,null,null,null,null,null,null,null,null,null,null,null,null,null,null,null,null,null,null,null,null,null,null,null,null,null,null,null,null,null,null,null,null,null,null,null,null,null,null,null,null,null,null,null,null,null,null,null,null,null,null,null,null,"ZAB11 1311:MC HASH BRW",12]
[{"$f":"IFERROR(IF(INDIRECT($A$14&ROW())<>\"\",COUNTIF(Summary!$B$30:$B$1082,INDIRECT($A$14&ROW())),\"\"),\"\")","v":""},null,null,null,null,null,null,null,null,null,null,null,null,null,null,null,null,null,null,null,null,null,null,null,null,null,null,null,null,null,null,null,null,null,null,null,null,null,null,null,null,null,null,null,null,null,null,null,null,null,null,null,null,null,null,null,null,null,null,null,null,null,null,null,null,null,null,null,null,null,null,null,null,null,null,null,null,null,null,null,null,null,"ZBC01 COLD",111]
[{"$f":"IFERROR(IF(INDIRECT($A$14&ROW())<>\"\",COUNTIF(Summary!$B$30:$B$1082,INDIRECT($A$14&ROW())),\"\"),\"\")","v":""},null,null,null,null,null,null,null,null,null,null,null,null,null,null,null,null,null,null,null,null,null,null,null,null,null,null,null,null,null,null,null,null,null,null,null,null,null,null,null,null,null,null,null,null,null,null,null,null,null,null,null,null,null,null,null,null,null,null,null,null,null,null,null,null,null,null,null,null,null,null,null,null,null,null,null,null,null,null,null,null,null,"ZBC02 HOT",105]
[{"$f":"IFERROR(IF(INDIRECT($A$14&ROW())<>\"\",COUNTIF(Summary!$B$30:$B$1082,INDIRECT($A$14&ROW())),\"\"),\"\")","v":""},null,null,null,null,null,null,null,null,null,null,null,null,null,null,null,null,null,null,null,null,null,null,null,null,null,null,null,null,null,null,null,null,null,null,null,null,null,null,null,null,null,null,null,null,null,null,null,null,null,null,null,null,null,null,null,null,null,null,null,null,null,null,null,null,null,null,null,null,null,null,null,null,null,null,null,null,null,null,null,null,null,"ZBC03 WARM",865]
[{"$f":"IFERROR(IF(INDIRECT($A$14&ROW())<>\"\",COUNTIF(Summary!$B$30:$B$1082,INDIRECT($A$14&ROW())),\"\"),\"\")","v":""},null,null,null,null,null,null,null,null,null,null,null,null,null,null,null,null,null,null,null,null,null,null,null,null,null,null,null,null,null,null,null,null,null,null,null,null,null,null,null,null,null,null,null,null,null,null,null,null,null,null,null,null,null,null,null,null,null,null,null,null,null,null,null,null,null,null,null,null,null,null,null,null,null,null,null,null,null,null,null,null,null,"ZBC04 LESS ICE",782]
[{"$f":"IFERROR(IF(INDIRECT($A$14&ROW())<>\"\",COUNTIF(Summary!$B$30:$B$1082,INDIRECT($A$14&ROW())),\"\"),\"\")","v":""},null,null,null,null,null,null,null,null,null,null,null,null,null,null,null,null,null,null,null,null,null,null,null,null,null,null,null,null,null,null,null,null,null,null,null,null,null,null,null,null,null,null,null,null,null,null,null,null,null,null,null,null,null,null,null,null,null,null,null,null,null,null,null,null,null,null,null,null,null,null,null,null,null,null,null,null,null,null,null,null,null,"ZBC05 MORE ICE",20]
[{"$f":"IFERROR(IF(INDIRECT($A$14&ROW())<>\"\",COUNTIF(Summary!$B$30:$B$1082,INDIRECT($A$14&ROW())),\"\"),\"\")","v":""},null,null,null,null,null,null,null,null,null,null,null,null,null,null,null,null,null,null,null,null,null,null,null,null,null,null,null,null,null,null,null,null,null,null,null,null,null,null,null,null,null,null,null,null,null,null,null,null,null,null,null,null,null,null,null,null,null,null,null,null,null,null,null,null,null,null,null,null,null,null,null,null,null,null,null,null,null,null,null,null,null,"ZBC06 NO ICE",242]
[{"$f":"IFERROR(IF(INDIRECT($A$14&ROW())<>\"\",COUNTIF(Summary!$B$30:$B$1082,INDIRECT($A$14&ROW())),\"\"),\"\")","v":""},null,null,null,null,null,null,null,null,null,null,null,null,null,null,null,null,null,null,null,null,null,null,null,null,null,null,null,null,null,null,null,null,null,null,null,null,null,null,null,null,null,null,null,null,null,null,null,null,null,null,null,null,null,null,null,null,null,null,null,null,null,null,null,null,null,null,null,null,null,null,null,null,null,null,null,null,null,null,null,null,null,"ZBC07 LESS SWEET",117]
[{"$f":"IFERROR(IF(INDIRECT($A$14&ROW())<>\"\",COUNTIF(Summary!$B$30:$B$1082,INDIRECT($A$14&ROW())),\"\"),\"\")","v":""},null,null,null,null,null,null,null,null,null,null,null,null,null,null,null,null,null,null,null,null,null,null,null,null,null,null,null,null,null,null,null,null,null,null,null,null,null,null,null,null,null,null,null,null,null,null,null,null,null,null,null,null,null,null,null,null,null,null,null,null,null,null,null,null,null,null,null,null,null,null,null,null,null,null,null,null,null,null,null,null,null,"ZBC08 MORE SWEET",18]
[{"$f":"IFERROR(IF(INDIRECT($A$14&ROW())<>\"\",COUNTIF(Summary!$B$30:$B$1082,INDIRECT($A$14&ROW())),\"\"),\"\")","v":""},null,null,null,null,null,null,null,null,null,null,null,null,null,null,null,null,null,null,null,null,null,null,null,null,null,null,null,null,null,null,null,null,null,null,null,null,null,null,null,null,null,null,null,null,null,null,null,null,null,null,null,null,null,null,null,null,null,null,null,null,null,null,null,null,null,null,null,null,null,null,null,null,null,null,null,null,null,null,null,null,null,"ZBC09 NO SWEET",18]
[{"$f":"IFERROR(IF(INDIRECT($A$14&ROW())<>\"\",COUNTIF(Summary!$B$30:$B$1082,INDIRECT($A$14&ROW())),\"\"),\"\")","v":""},null,null,null,null,null,null,null,null,null,null,null,null,null,null,null,null,null,null,null,null,null,null,null,null,null,null,null,null,null,null,null,null,null,null,null,null,null,null,null,null,null,null,null,null,null,null,null,null,null,null,null,null,null,null,null,null,null,null,null,null,null,null,null,null,null,null,null,null,null,null,null,null,null,null,null,null,null,null,null,null,null,"ZBC11 MORE LEMON",8]
[{"$f":"IFERROR(IF(INDIRECT($A$14&ROW())<>\"\",COUNTIF(Summary!$B$30:$B$1082,INDIRECT($A$14&ROW())),\"\"),\"\")","v":""},null,null,null,null,null,null,null,null,null,null,null,null,null,null,null,null,null,null,null,null,null,null,null,null,null,null,null,null,null,null,null,null,null,null,null,null,null,null,null,null,null,null,null,null,null,null,null,null,null,null,null,null,null,null,null,null,null,null,null,null,null,null,null,null,null,null,null,null,null,null,null,null,null,null,null,null,null,null,null,null,null,"ZBC13 JUG",390]
[{"$f":"IFERROR(IF(INDIRECT($A$14&ROW())<>\"\",COUNTIF(Summary!$B$30:$B$1082,INDIRECT($A$14&ROW())),\"\"),\"\")","v":""},null,null,null,null,null,null,null,null,null,null,null,null,null,null,null,null,null,null,null,null,null,null,null,null,null,null,null,null,null,null,null,null,null,null,null,null,null,null,null,null,null,null,null,null,null,null,null,null,null,null,null,null,null,null,null,null,null,null,null,null,null,null,null,null,null,null,null,null,null,null,null,null,null,null,null,null,null,null,null,null,null,"ZBC14 BEER GLASS",1022]
[{"$f":"IFERROR(IF(INDIRECT($A$14&ROW())<>\"\",COUNTIF(Summary!$B$30:$B$1082,INDIRECT($A$14&ROW())),\"\"),\"\")","v":""},null,null,null,null,null,null,null,null,null,null,null,null,null,null,null,null,null,null,null,null,null,null,null,null,null,null,null,null,null,null,null,null,null,null,null,null,null,null,null,null,null,null,null,null,null,null,null,null,null,null,null,null,null,null,null,null,null,null,null,null,null,null,null,null,null,null,null,null,null,null,null,null,null,null,null,null,null,null,null,null,null,"ZBC15 ICE BUCKET",91]
[{"$f":"IFERROR(IF(INDIRECT($A$14&ROW())<>\"\",COUNTIF(Summary!$B$30:$B$1082,INDIRECT($A$14&ROW())),\"\"),\"\")","v":""},null,null,null,null,null,null,null,null,null,null,null,null,null,null,null,null,null,null,null,null,null,null,null,null,null,null,null,null,null,null,null,null,null,null,null,null,null,null,null,null,null,null,null,null,null,null,null,null,null,null,null,null,null,null,null,null,null,null,null,null,null,null,null,null,null,null,null,null,null,null,null,null,null,null,null,null,null,null,null,null,null,"ZBC17 REMARK - KAU KAU",68]
[{"$f":"IFERROR(IF(INDIRECT($A$14&ROW())<>\"\",COUNTIF(Summary!$B$30:$B$1082,INDIRECT($A$14&ROW())),\"\"),\"\")","v":""},null,null,null,null,null,null,null,null,null,null,null,null,null,null,null,null,null,null,null,null,null,null,null,null,null,null,null,null,null,null,null,null,null,null,null,null,null,null,null,null,null,null,null,null,null,null,null,null,null,null,null,null,null,null,null,null,null,null,null,null,null,null,null,null,null,null,null,null,null,null,null,null,null,null,null,null,null,null,null,null,null,"ZBC18 ADD LEMON",267]
[{"$f":"IFERROR(IF(INDIRECT($A$14&ROW())<>\"\",COUNTIF(Summary!$B$30:$B$1082,INDIRECT($A$14&ROW())),\"\"),\"\")","v":""},null,null,null,null,null,null,null,null,null,null,null,null,null,null,null,null,null,null,null,null,null,null,null,null,null,null,null,null,null,null,null,null,null,null,null,null,null,null,null,null,null,null,null,null,null,null,null,null,null,null,null,null,null,null,null,null,null,null,null,null,null,null,null,null,null,null,null,null,null,null,null,null,null,null,null,null,null,null,null,null,null,"ZBM01 TIG MEM BKT",3]
[{"$f":"IFERROR(IF(INDIRECT($A$14&ROW())<>\"\",COUNTIF(Summary!$B$30:$B$1082,INDIRECT($A$14&ROW())),\"\"),\"\")","v":""},null,null,null,null,null,null,null,null,null,null,null,null,null,null,null,null,null,null,null,null,null,null,null,null,null,null,null,null,null,null,null,null,null,null,null,null,null,null,null,null,null,null,null,null,null,null,null,null,null,null,null,null,null,null,null,null,null,null,null,null,null,null,null,null,null,null,null,null,null,null,null,null,null,null,null,null,null,null,null,null,null,"ZBR01 TIG BKT",261]
[{"$f":"IFERROR(IF(INDIRECT($A$14&ROW())<>\"\",COUNTIF(Summary!$B$30:$B$1082,INDIRECT($A$14&ROW())),\"\"),\"\")","v":""},null,null,null,null,null,null,null,null,null,null,null,null,null,null,null,null,null,null,null,null,null,null,null,null,null,null,null,null,null,null,null,null,null,null,null,null,null,null,null,null,null,null,null,null,null,null,null,null,null,null,null,null,null,null,null,null,null,null,null,null,null,null,null,null,null,null,null,null,null,null,null,null,null,null,null,null,null,null,null,null,null,"ZBR02 HEI EX BKT",9]
[{"$f":"IFERROR(IF(INDIRECT($A$14&ROW())<>\"\",COUNTIF(Summary!$B$30:$B$1082,INDIRECT($A$14&ROW())),\"\"),\"\")","v":""},null,null,null,null,null,null,null,null,null,null,null,null,null,null,null,null,null,null,null,null,null,null,null,null,null,null,null,null,null,null,null,null,null,null,null,null,null,null,null,null,null,null,null,null,null,null,null,null,null,null,null,null,null,null,null,null,null,null,null,null,null,null,null,null,null,null,null,null,null,null,null,null,null,null,null,null,null,null,null,null,null,"ZBR03 GUI EX BKT",3]
[{"$f":"IFERROR(IF(INDIRECT($A$14&ROW())<>\"\",COUNTIF(Summary!$B$30:$B$1082,INDIRECT($A$14&ROW())),\"\"),\"\")","v":""},null,null,null,null,null,null,null,null,null,null,null,null,null,null,null,null,null,null,null,null,null,null,null,null,null,null,null,null,null,null,null,null,null,null,null,null,null,null,null,null,null,null,null,null,null,null,null,null,null,null,null,null,null,null,null,null,null,null,null,null,null,null,null,null,null,null,null,null,null,null,null,null,null,null,null,null,null,null,null,null,null,"ZE01 1011:PC CKN CP",1]
[{"$f":"IFERROR(IF(INDIRECT($A$14&ROW())<>\"\",COUNTIF(Summary!$B$30:$B$1082,INDIRECT($A$14&ROW())),\"\"),\"\")","v":""},null,null,null,null,null,null,null,null,null,null,null,null,null,null,null,null,null,null,null,null,null,null,null,null,null,null,null,null,null,null,null,null,null,null,null,null,null,null,null,null,null,null,null,null,null,null,null,null,null,null,null,null,null,null,null,null,null,null,null,null,null,null,null,null,null,null,null,null,null,null,null,null,null,null,null,null,null,null,null,null,null,"ZE11 91011:PC CKN CP",1]
[{"$f":"IFERROR(IF(INDIRECT($A$14&ROW())<>\"\",COUNTIF(Summary!$B$30:$B$1082,INDIRECT($A$14&ROW())),\"\"),\"\")","v":""},null,null,null,null,null,null,null,null,null,null,null,null,null,null,null,null,null,null,null,null,null,null,null,null,null,null,null,null,null,null,null,null,null,null,null,null,null,null,null,null,null,null,null,null,null,null,null,null,null,null,null,null,null,null,null,null,null,null,null,null,null,null,null,null,null,null,null,null,null,null,null,null,null,null,null,null,null,null,null,null,null,"ZH05 K:LUNCH",55]
[{"$f":"IFERROR(IF(INDIRECT($A$14&ROW())<>\"\",COUNTIF(Summary!$B$30:$B$1082,INDIRECT($A$14&ROW())),\"\"),\"\")","v":""},null,null,null,null,null,null,null,null,null,null,null,null,null,null,null,null,null,null,null,null,null,null,null,null,null,null,null,null,null,null,null,null,null,null,null,null,null,null,null,null,null,null,null,null,null,null,null,null,null,null,null,null,null,null,null,null,null,null,null,null,null,null,null,null,null,null,null,null,null,null,null,null,null,null,null,null,null,null,null,null,null,"ZH12 K:CHILDREN",9]
[{"$f":"IFERROR(IF(INDIRECT($A$14&ROW())<>\"\",COUNTIF(Summary!$B$30:$B$1082,INDIRECT($A$14&ROW())),\"\"),\"\")","v":""},null,null,null,null,null,null,null,null,null,null,null,null,null,null,null,null,null,null,null,null,null,null,null,null,null,null,null,null,null,null,null,null,null,null,null,null,null,null,null,null,null,null,null,null,null,null,null,null,null,null,null,null,null,null,null,null,null,null,null,null,null,null,null,null,null,null,null,null,null,null,null,null,null,null,null,null,null,null,null,null,null,"ZH13 K:MEMBER B'DAY",1]
[{"$f":"IFERROR(IF(INDIRECT($A$14&ROW())<>\"\",COUNTIF(Summary!$B$30:$B$1082,INDIRECT($A$14&ROW())),\"\"),\"\")","v":""},null,null,null,null,null,null,null,null,null,null,null,null,null,null,null,null,null,null,null,null,null,null,null,null,null,null,null,null,null,null,null,null,null,null,null,null,null,null,null,null,null,null,null,null,null,null,null,null,null,null,null,null,null,null,null,null,null,null,null,null,null,null,null,null,null,null,null,null,null,null,null,null,null,null,null,null,null,null,null,null,null,"ZH21 K:REGULAR",20]
[{"$f":"IFERROR(IF(INDIRECT($A$14&ROW())<>\"\",COUNTIF(Summary!$B$30:$B$1082,INDIRECT($A$14&ROW())),\"\"),\"\")","v":""},null,null,null,null,null,null,null,null,null,null,null,null,null,null,null,null,null,null,null,null,null,null,null,null,null,null,null,null,null,null,null,null,null,null,null,null,null,null,null,null,null,null,null,null,null,null,null,null,null,null,null,null,null,null,null,null,null,null,null,null,null,null,null,null,null,null,null,null,null,null,null,null,null,null,null,null,null,null,null,null,null,"ZH22 K:MEMBER",7]
[{"$f":"IFERROR(IF(INDIRECT($A$14&ROW())<>\"\",COUNTIF(Summary!$B$30:$B$1082,INDIRECT($A$14&ROW())),\"\"),\"\")","v":""},null,null,null,null,null,null,null,null,null,null,null,null,null,null,null,null,null,null,null,null,null,null,null,null,null,null,null,null,null,null,null,null,null,null,null,null,null,null,null,null,null,null,null,null,null,null,null,null,null,null,null,null,null,null,null,null,null,null,null,null,null,null,null,null,null,null,null,null,null,null,null,null,null,null,null,null,null,null,null,null,null,"ZH25 K:LUNCH",340]
[{"$f":"IFERROR(IF(INDIRECT($A$14&ROW())<>\"\",COUNTIF(Summary!$B$30:$B$1082,INDIRECT($A$14&ROW())),\"\"),\"\")","v":""},null,null,null,null,null,null,null,null,null,null,null,null,null,null,null,null,null,null,null,null,null,null,null,null,null,null,null,null,null,null,null,null,null,null,null,null,null,null,null,null,null,null,null,null,null,null,null,null,null,null,null,null,null,null,null,null,null,null,null,null,null,null,null,null,null,null,null,null,null,null,null,null,null,null,null,null,null,null,null,null,null,"ZI01 H:REGULAR",97]
[{"$f":"IFERROR(IF(INDIRECT($A$14&ROW())<>\"\",COUNTIF(Summary!$B$30:$B$1082,INDIRECT($A$14&ROW())),\"\"),\"\")","v":""},null,null,null,null,null,null,null,null,null,null,null,null,null,null,null,null,null,null,null,null,null,null,null,null,null,null,null,null,null,null,null,null,null,null,null,null,null,null,null,null,null,null,null,null,null,null,null,null,null,null,null,null,null,null,null,null,null,null,null,null,null,null,null,null,null,null,null,null,null,null,null,null,null,null,null,null,null,null,null,null,null,"ZI02 H:MEMBER",37]
[{"$f":"IFERROR(IF(INDIRECT($A$14&ROW())<>\"\",COUNTIF(Summary!$B$30:$B$1082,INDIRECT($A$14&ROW())),\"\"),\"\")","v":""},null,null,null,null,null,null,null,null,null,null,null,null,null,null,null,null,null,null,null,null,null,null,null,null,null,null,null,null,null,null,null,null,null,null,null,null,null,null,null,null,null,null,null,null,null,null,null,null,null,null,null,null,null,null,null,null,null,null,null,null,null,null,null,null,null,null,null,null,null,null,null,null,null,null,null,null,null,null,null,null,null,"ZI04 H:4BP",1]
[{"$f":"IFERROR(IF(INDIRECT($A$14&ROW())<>\"\",COUNTIF(Summary!$B$30:$B$1082,INDIRECT($A$14&ROW())),\"\"),\"\")","v":""},null,null,null,null,null,null,null,null,null,null,null,null,null,null,null,null,null,null,null,null,null,null,null,null,null,null,null,null,null,null,null,null,null,null,null,null,null,null,null,null,null,null,null,null,null,null,null,null,null,null,null,null,null,null,null,null,null,null,null,null,null,null,null,null,null,null,null,null,null,null,null,null,null,null,null,null,null,null,null,null,null,"ZI07 H:XTD M ROOM",5]
[{"$f":"IFERROR(IF(INDIRECT($A$14&ROW())<>\"\",COUNTIF(Summary!$B$30:$B$1082,INDIRECT($A$14&ROW())),\"\"),\"\")","v":""},null,null,null,null,null,null,null,null,null,null,null,null,null,null,null,null,null,null,null,null,null,null,null,null,null,null,null,null,null,null,null,null,null,null,null,null,null,null,null,null,null,null,null,null,null,null,null,null,null,null,null,null,null,null,null,null,null,null,null,null,null,null,null,null,null,null,null,null,null,null,null,null,null,null,null,null,null,null,null,null,null,"ZI12 H:CHILDREN",22]
[{"$f":"IFERROR(IF(INDIRECT($A$14&ROW())<>\"\",COUNTIF(Summary!$B$30:$B$1082,INDIRECT($A$14&ROW())),\"\"),\"\")","v":""},null,null,null,null,null,null,null,null,null,null,null,null,null,null,null,null,null,null,null,null,null,null,null,null,null,null,null,null,null,null,null,null,null,null,null,null,null,null,null,null,null,null,null,null,null,null,null,null,null,null,null,null,null,null,null,null,null,null,null,null,null,null,null,null,null,null,null,null,null,null,null,null,null,null,null,null,null,null,null,null,null,"ZI13 H:MEMBER B'DAY",1]
[{"$f":"IFERROR(IF(INDIRECT($A$14&ROW())<>\"\",COUNTIF(Summary!$B$30:$B$1082,INDIRECT($A$14&ROW())),\"\"),\"\")","v":""},null,null,null,null,null,null,null,null,null,null,null,null,null,null,null,null,null,null,null,null,null,null,null,null,null,null,null,null,null,null,null,null,null,null,null,null,null,null,null,null,null,null,null,null,null,null,null,null,null,null,null,null,null,null,null,null,null,null,null,null,null,null,null,null,null,null,null,null,null,null,null,null,null,null,null,null,null,null,null,null,null,"ZI21 H:REGULAR",447]
[{"$f":"IFERROR(IF(INDIRECT($A$14&ROW())<>\"\",COUNTIF(Summary!$B$30:$B$1082,INDIRECT($A$14&ROW())),\"\"),\"\")","v":""},null,null,null,null,null,null,null,null,null,null,null,null,null,null,null,null,null,null,null,null,null,null,null,null,null,null,null,null,null,null,null,null,null,null,null,null,null,null,null,null,null,null,null,null,null,null,null,null,null,null,null,null,null,null,null,null,null,null,null,null,null,null,null,null,null,null,null,null,null,null,null,null,null,null,null,null,null,null,null,null,null,"ZI22 H:MEMBER",140]
[{"$f":"IFERROR(IF(INDIRECT($A$14&ROW())<>\"\",COUNTIF(Summary!$B$30:$B$1082,INDIRECT($A$14&ROW())),\"\"),\"\")","v":""},null,null,null,null,null,null,null,null,null,null,null,null,null,null,null,null,null,null,null,null,null,null,null,null,null,null,null,null,null,null,null,null,null,null,null,null,null,null,null,null,null,null,null,null,null,null,null,null,null,null,null,null,null,null,null,null,null,null,null,null,null,null,null,null,null,null,null,null,null,null,null,null,null,null,null,null,null,null,null,null,null,"ZI24 H:4BP",3]
[{"$f":"IFERROR(IF(INDIRECT($A$14&ROW())<>\"\",COUNTIF(Summary!$B$30:$B$1082,INDIRECT($A$14&ROW())),\"\"),\"\")","v":""},null,null,null,null,null,null,null,null,null,null,null,null,null,null,null,null,null,null,null,null,null,null,null,null,null,null,null,null,null,null,null,null,null,null,null,null,null,null,null,null,null,null,null,null,null,null,null,null,null,null,null,null,null,null,null,null,null,null,null,null,null,null,null,null,null,null,null,null,null,null,null,null,null,null,null,null,null,null,null,null,null,"ZJ01 N:REGULAR",225]
[{"$f":"IFERROR(IF(INDIRECT($A$14&ROW())<>\"\",COUNTIF(Summary!$B$30:$B$1082,INDIRECT($A$14&ROW())),\"\"),\"\")","v":""},null,null,null,null,null,null,null,null,null,null,null,null,null,null,null,null,null,null,null,null,null,null,null,null,null,null,null,null,null,null,null,null,null,null,null,null,null,null,null,null,null,null,null,null,null,null,null,null,null,null,null,null,null,null,null,null,null,null,null,null,null,null,null,null,null,null,null,null,null,null,null,null,null,null,null,null,null,null,null,null,null,"ZJ02 N:MEMBER",57]
[{"$f":"IFERROR(IF(INDIRECT($A$14&ROW())<>\"\",COUNTIF(Summary!$B$30:$B$1082,INDIRECT($A$14&ROW())),\"\"),\"\")","v":""},null,null,null,null,null,null,null,null,null,null,null,null,null,null,null,null,null,null,null,null,null,null,null,null,null,null,null,null,null,null,null,null,null,null,null,null,null,null,null,null,null,null,null,null,null,null,null,null,null,null,null,null,null,null,null,null,null,null,null,null,null,null,null,null,null,null,null,null,null,null,null,null,null,null,null,null,null,null,null,null,null,"ZJ04 N:4BP",3]
[{"$f":"IFERROR(IF(INDIRECT($A$14&ROW())<>\"\",COUNTIF(Summary!$B$30:$B$1082,INDIRECT($A$14&ROW())),\"\"),\"\")","v":""},null,null,null,null,null,null,null,null,null,null,null,null,null,null,null,null,null,null,null,null,null,null,null,null,null,null,null,null,null,null,null,null,null,null,null,null,null,null,null,null,null,null,null,null,null,null,null,null,null,null,null,null,null,null,null,null,null,null,null,null,null,null,null,null,null,null,null,null,null,null,null,null,null,null,null,null,null,null,null,null,null,"ZJ05 N:K DINNER",100]
[{"$f":"IFERROR(IF(INDIRECT($A$14&ROW())<>\"\",COUNTIF(Summary!$B$30:$B$1082,INDIRECT($A$14&ROW())),\"\"),\"\")","v":""},null,null,null,null,null,null,null,null,null,null,null,null,null,null,null,null,null,null,null,null,null,null,null,null,null,null,null,null,null,null,null,null,null,null,null,null,null,null,null,null,null,null,null,null,null,null,null,null,null,null,null,null,null,null,null,null,null,null,null,null,null,null,null,null,null,null,null,null,null,null,null,null,null,null,null,null,null,null,null,null,null,"ZJ06 N:XTD S ROOM",8]
[{"$f":"IFERROR(IF(INDIRECT($A$14&ROW())<>\"\",COUNTIF(Summary!$B$30:$B$1082,INDIRECT($A$14&ROW())),\"\"),\"\")","v":""},null,null,null,null,null,null,null,null,null,null,null,null,null,null,null,null,null,null,null,null,null,null,null,null,null,null,null,null,null,null,null,null,null,null,null,null,null,null,null,null,null,null,null,null,null,null,null,null,null,null,null,null,null,null,null,null,null,null,null,null,null,null,null,null,null,null,null,null,null,null,null,null,null,null,null,null,null,null,null,null,null,"ZJ07 N:XTD M ROOM",6]
[{"$f":"IFERROR(IF(INDIRECT($A$14&ROW())<>\"\",COUNTIF(Summary!$B$30:$B$1082,INDIRECT($A$14&ROW())),\"\"),\"\")","v":""},null,null,null,null,null,null,null,null,null,null,null,null,null,null,null,null,null,null,null,null,null,null,null,null,null,null,null,null,null,null,null,null,null,null,null,null,null,null,null,null,null,null,null,null,null,null,null,null,null,null,null,null,null,null,null,null,null,null,null,null,null,null,null,null,null,null,null,null,null,null,null,null,null,null,null,null,null,null,null,null,null,"ZJ09 N:XTD B ROOM",6]
[{"$f":"IFERROR(IF(INDIRECT($A$14&ROW())<>\"\",COUNTIF(Summary!$B$30:$B$1082,INDIRECT($A$14&ROW())),\"\"),\"\")","v":""},null,null,null,null,null,null,null,null,null,null,null,null,null,null,null,null,null,null,null,null,null,null,null,null,null,null,null,null,null,null,null,null,null,null,null,null,null,null,null,null,null,null,null,null,null,null,null,null,null,null,null,null,null,null,null,null,null,null,null,null,null,null,null,null,null,null,null,null,null,null,null,null,null,null,null,null,null,null,null,null,null,"ZJ10 N:XTD VIP ROOM",2]
[{"$f":"IFERROR(IF(INDIRECT($A$14&ROW())<>\"\",COUNTIF(Summary!$B$30:$B$1082,INDIRECT($A$14&ROW())),\"\"),\"\")","v":""},null,null,null,null,null,null,null,null,null,null,null,null,null,null,null,null,null,null,null,null,null,null,null,null,null,null,null,null,null,null,null,null,null,null,null,null,null,null,null,null,null,null,null,null,null,null,null,null,null,null,null,null,null,null,null,null,null,null,null,null,null,null,null,null,null,null,null,null,null,null,null,null,null,null,null,null,null,null,null,null,null,"ZJ12 N:CHILDREN",15]
[{"$f":"IFERROR(IF(INDIRECT($A$14&ROW())<>\"\",COUNTIF(Summary!$B$30:$B$1082,INDIRECT($A$14&ROW())),\"\"),\"\")","v":""},null,null,null,null,null,null,null,null,null,null,null,null,null,null,null,null,null,null,null,null,null,null,null,null,null,null,null,null,null,null,null,null,null,null,null,null,null,null,null,null,null,null,null,null,null,null,null,null,null,null,null,null,null,null,null,null,null,null,null,null,null,null,null,null,null,null,null,null,null,null,null,null,null,null,null,null,null,null,null,null,null,"ZJ21 N:REGULAR",708]
[{"$f":"IFERROR(IF(INDIRECT($A$14&ROW())<>\"\",COUNTIF(Summary!$B$30:$B$1082,INDIRECT($A$14&ROW())),\"\"),\"\")","v":""},null,null,null,null,null,null,null,null,null,null,null,null,null,null,null,null,null,null,null,null,null,null,null,null,null,null,null,null,null,null,null,null,null,null,null,null,null,null,null,null,null,null,null,null,null,null,null,null,null,null,null,null,null,null,null,null,null,null,null,null,null,null,null,null,null,null,null,null,null,null,null,null,null,null,null,null,null,null,null,null,null,"ZJ22 N:MEMBER",276]
[{"$f":"IFERROR(IF(INDIRECT($A$14&ROW())<>\"\",COUNTIF(Summary!$B$30:$B$1082,INDIRECT($A$14&ROW())),\"\"),\"\")","v":""},null,null,null,null,null,null,null,null,null,null,null,null,null,null,null,null,null,null,null,null,null,null,null,null,null,null,null,null,null,null,null,null,null,null,null,null,null,null,null,null,null,null,null,null,null,null,null,null,null,null,null,null,null,null,null,null,null,null,null,null,null,null,null,null,null,null,null,null,null,null,null,null,null,null,null,null,null,null,null,null,null,"ZJ23 N:ST MEMBER",2]
[{"$f":"IFERROR(IF(INDIRECT($A$14&ROW())<>\"\",COUNTIF(Summary!$B$30:$B$1082,INDIRECT($A$14&ROW())),\"\"),\"\")","v":""},null,null,null,null,null,null,null,null,null,null,null,null,null,null,null,null,null,null,null,null,null,null,null,null,null,null,null,null,null,null,null,null,null,null,null,null,null,null,null,null,null,null,null,null,null,null,null,null,null,null,null,null,null,null,null,null,null,null,null,null,null,null,null,null,null,null,null,null,null,null,null,null,null,null,null,null,null,null,null,null,null,"ZJ24 N:4BP",20]
[{"$f":"IFERROR(IF(INDIRECT($A$14&ROW())<>\"\",COUNTIF(Summary!$B$30:$B$1082,INDIRECT($A$14&ROW())),\"\"),\"\")","v":""},null,null,null,null,null,null,null,null,null,null,null,null,null,null,null,null,null,null,null,null,null,null,null,null,null,null,null,null,null,null,null,null,null,null,null,null,null,null,null,null,null,null,null,null,null,null,null,null,null,null,null,null,null,null,null,null,null,null,null,null,null,null,null,null,null,null,null,null,null,null,null,null,null,null,null,null,null,null,null,null,null,"ZJ25 N:K DINNER",392]
[{"$f":"IFERROR(IF(INDIRECT($A$14&ROW())<>\"\",COUNTIF(Summary!$B$30:$B$1082,INDIRECT($A$14&ROW())),\"\"),\"\")","v":""},null,null,null,null,null,null,null,null,null,null,null,null,null,null,null,null,null,null,null,null,null,null,null,null,null,null,null,null,null,null,null,null,null,null,null,null,null,null,null,null,null,null,null,null,null,null,null,null,null,null,null,null,null,null,null,null,null,null,null,null,null,null,null,null,null,null,null,null,null,null,null,null,null,null,null,null,null,null,null,null,null,"ZK01 M:REGULAR",82]
[{"$f":"IFERROR(IF(INDIRECT($A$14&ROW())<>\"\",COUNTIF(Summary!$B$30:$B$1082,INDIRECT($A$14&ROW())),\"\"),\"\")","v":""},null,null,null,null,null,null,null,null,null,null,null,null,null,null,null,null,null,null,null,null,null,null,null,null,null,null,null,null,null,null,null,null,null,null,null,null,null,null,null,null,null,null,null,null,null,null,null,null,null,null,null,null,null,null,null,null,null,null,null,null,null,null,null,null,null,null,null,null,null,null,null,null,null,null,null,null,null,null,null,null,null,"ZK02 M:MEMBER",31]
[{"$f":"IFERROR(IF(INDIRECT($A$14&ROW())<>\"\",COUNTIF(Summary!$B$30:$B$1082,INDIRECT($A$14&ROW())),\"\"),\"\")","v":""},null,null,null,null,null,null,null,null,null,null,null,null,null,null,null,null,null,null,null,null,null,null,null,null,null,null,null,null,null,null,null,null,null,null,null,null,null,null,null,null,null,null,null,null,null,null,null,null,null,null,null,null,null,null,null,null,null,null,null,null,null,null,null,null,null,null,null,null,null,null,null,null,null,null,null,null,null,null,null,null,null,"ZK04 M:4BP",3]
[{"$f":"IFERROR(IF(INDIRECT($A$14&ROW())<>\"\",COUNTIF(Summary!$B$30:$B$1082,INDIRECT($A$14&ROW())),\"\"),\"\")","v":""},null,null,null,null,null,null,null,null,null,null,null,null,null,null,null,null,null,null,null,null,null,null,null,null,null,null,null,null,null,null,null,null,null,null,null,null,null,null,null,null,null,null,null,null,null,null,null,null,null,null,null,null,null,null,null,null,null,null,null,null,null,null,null,null,null,null,null,null,null,null,null,null,null,null,null,null,null,null,null,null,null,"ZK06 M:XTD S ROOM",2]
[{"$f":"IFERROR(IF(INDIRECT($A$14&ROW())<>\"\",COUNTIF(Summary!$B$30:$B$1082,INDIRECT($A$14&ROW())),\"\"),\"\")","v":""},null,null,null,null,null,null,null,null,null,null,null,null,null,null,null,null,null,null,null,null,null,null,null,null,null,null,null,null,null,null,null,null,null,null,null,null,null,null,null,null,null,null,null,null,null,null,null,null,null,null,null,null,null,null,null,null,null,null,null,null,null,null,null,null,null,null,null,null,null,null,null,null,null,null,null,null,null,null,null,null,null,"ZK08 M:XTD MB ROOM",1]
[{"$f":"IFERROR(IF(INDIRECT($A$14&ROW())<>\"\",COUNTIF(Summary!$B$30:$B$1082,INDIRECT($A$14&ROW())),\"\"),\"\")","v":""},null,null,null,null,null,null,null,null,null,null,null,null,null,null,null,null,null,null,null,null,null,null,null,null,null,null,null,null,null,null,null,null,null,null,null,null,null,null,null,null,null,null,null,null,null,null,null,null,null,null,null,null,null,null,null,null,null,null,null,null,null,null,null,null,null,null,null,null,null,null,null,null,null,null,null,null,null,null,null,null,null,"ZK09 M:XTD B ROOM",1]
[{"$f":"IFERROR(IF(INDIRECT($A$14&ROW())<>\"\",COUNTIF(Summary!$B$30:$B$1082,INDIRECT($A$14&ROW())),\"\"),\"\")","v":""},null,null,null,null,null,null,null,null,null,null,null,null,null,null,null,null,null,null,null,null,null,null,null,null,null,null,null,null,null,null,null,null,null,null,null,null,null,null,null,null,null,null,null,null,null,null,null,null,null,null,null,null,null,null,null,null,null,null,null,null,null,null,null,null,null,null,null,null,null,null,null,null,null,null,null,null,null,null,null,null,null,"ZK12 M:CHILDREN",1]
[{"$f":"IFERROR(IF(INDIRECT($A$14&ROW())<>\"\",COUNTIF(Summary!$B$30:$B$1082,INDIRECT($A$14&ROW())),\"\"),\"\")","v":""},null,null,null,null,null,null,null,null,null,null,null,null,null,null,null,null,null,null,null,null,null,null,null,null,null,null,null,null,null,null,null,null,null,null,null,null,null,null,null,null,null,null,null,null,null,null,null,null,null,null,null,null,null,null,null,null,null,null,null,null,null,null,null,null,null,null,null,null,null,null,null,null,null,null,null,null,null,null,null,null,null,"ZK21 M:REGULAR",203]
[{"$f":"IFERROR(IF(INDIRECT($A$14&ROW())<>\"\",COUNTIF(Summary!$B$30:$B$1082,INDIRECT($A$14&ROW())),\"\"),\"\")","v":""},null,null,null,null,null,null,null,null,null,null,null,null,null,null,null,null,null,null,null,null,null,null,null,null,null,null,null,null,null,null,null,null,null,null,null,null,null,null,null,null,null,null,null,null,null,null,null,null,null,null,null,null,null,null,null,null,null,null,null,null,null,null,null,null,null,null,null,null,null,null,null,null,null,null,null,null,null,null,null,null,null,"ZK22 M:MEMBER",34]
[{"$f":"IFERROR(IF(INDIRECT($A$14&ROW())<>\"\",COUNTIF(Summary!$B$30:$B$1082,INDIRECT($A$14&ROW())),\"\"),\"\")","v":""},null,null,null,null,null,null,null,null,null,null,null,null,null,null,null,null,null,null,null,null,null,null,null,null,null,null,null,null,null,null,null,null,null,null,null,null,null,null,null,null,null,null,null,null,null,null,null,null,null,null,null,null,null,null,null,null,null,null,null,null,null,null,null,null,null,null,null,null,null,null,null,null,null,null,null,null,null,null,null,null,null,"ZK24 M:4BP",2]
[{"$f":"IFERROR(IF(INDIRECT($A$14&ROW())<>\"\",COUNTIF(Summary!$B$30:$B$1082,INDIRECT($A$14&ROW())),\"\"),\"\")","v":""},null,null,null,null,null,null,null,null,null,null,null,null,null,null,null,null,null,null,null,null,null,null,null,null,null,null,null,null,null,null,null,null,null,null,null,null,null,null,null,null,null,null,null,null,null,null,null,null,null,null,null,null,null,null,null,null,null,null,null,null,null,null,null,null,null,null,null,null,null,null,null,null,null,null,null,null,null,null,null,null,null,"ZKC02 LESS SALTY",1]
[{"$f":"IFERROR(IF(INDIRECT($A$14&ROW())<>\"\",COUNTIF(Summary!$B$30:$B$1082,INDIRECT($A$14&ROW())),\"\"),\"\")","v":""},null,null,null,null,null,null,null,null,null,null,null,null,null,null,null,null,null,null,null,null,null,null,null,null,null,null,null,null,null,null,null,null,null,null,null,null,null,null,null,null,null,null,null,null,null,null,null,null,null,null,null,null,null,null,null,null,null,null,null,null,null,null,null,null,null,null,null,null,null,null,null,null,null,null,null,null,null,null,null,null,null,"ZKC04 MORE SPICY",4]
[{"$f":"IFERROR(IF(INDIRECT($A$14&ROW())<>\"\",COUNTIF(Summary!$B$30:$B$1082,INDIRECT($A$14&ROW())),\"\"),\"\")","v":""},null,null,null,null,null,null,null,null,null,null,null,null,null,null,null,null,null,null,null,null,null,null,null,null,null,null,null,null,null,null,null,null,null,null,null,null,null,null,null,null,null,null,null,null,null,null,null,null,null,null,null,null,null,null,null,null,null,null,null,null,null,null,null,null,null,null,null,null,null,null,null,null,null,null,null,null,null,null,null,null,null,"ZKC05 NO VEGE",5]
[{"$f":"IFERROR(IF(INDIRECT($A$14&ROW())<>\"\",COUNTIF(Summary!$B$30:$B$1082,INDIRECT($A$14&ROW())),\"\"),\"\")","v":""},null,null,null,null,null,null,null,null,null,null,null,null,null,null,null,null,null,null,null,null,null,null,null,null,null,null,null,null,null,null,null,null,null,null,null,null,null,null,null,null,null,null,null,null,null,null,null,null,null,null,null,null,null,null,null,null,null,null,null,null,null,null,null,null,null,null,null,null,null,null,null,null,null,null,null,null,null,null,null,null,null,"ZKC06 VEGE ONLY",6]
[{"$f":"IFERROR(IF(INDIRECT($A$14&ROW())<>\"\",COUNTIF(Summary!$B$30:$B$1082,INDIRECT($A$14&ROW())),\"\"),\"\")","v":""},null,null,null,null,null,null,null,null,null,null,null,null,null,null,null,null,null,null,null,null,null,null,null,null,null,null,null,null,null,null,null,null,null,null,null,null,null,null,null,null,null,null,null,null,null,null,null,null,null,null,null,null,null,null,null,null,null,null,null,null,null,null,null,null,null,null,null,null,null,null,null,null,null,null,null,null,null,null,null,null,null,"ZKC16 TAKE AWAY",14]
[{"$f":"IFERROR(IF(INDIRECT($A$14&ROW())<>\"\",COUNTIF(Summary!$B$30:$B$1082,INDIRECT($A$14&ROW())),\"\"),\"\")","v":""},null,null,null,null,null,null,null,null,null,null,null,null,null,null,null,null,null,null,null,null,null,null,null,null,null,null,null,null,null,null,null,null,null,null,null,null,null,null,null,null,null,null,null,null,null,null,null,null,null,null,null,null,null,null,null,null,null,null,null,null,null,null,null,null,null,null,null,null,null,null,null,null,null,null,null,null,null,null,null,null,null,"ZKC17 REMARK - SEPARAT",19]
[{"$f":"IFERROR(IF(INDIRECT($A$14&ROW())<>\"\",COUNTIF(Summary!$B$30:$B$1082,INDIRECT($A$14&ROW())),\"\"),\"\")","v":""},null,null,null,null,null,null,null,null,null,null,null,null,null,null,null,null,null,null,null,null,null,null,null,null,null,null,null,null,null,null,null,null,null,null,null,null,null,null,null,null,null,null,null,null,null,null,null,null,null,null,null,null,null,null,null,null,null,null,null,null,null,null,null,null,null,null,null,null,null,null,null,null,null,null,null,null,null,null,null,null,null,"ZL01 1021:PA CKN CP",7]
[{"$f":"IFERROR(IF(INDIRECT($A$14&ROW())<>\"\",COUNTIF(Summary!$B$30:$B$1082,INDIRECT($A$14&ROW())),\"\"),\"\")","v":""},null,null,null,null,null,null,null,null,null,null,null,null,null,null,null,null,null,null,null,null,null,null,null,null,null,null,null,null,null,null,null,null,null,null,null,null,null,null,null,null,null,null,null,null,null,null,null,null,null,null,null,null,null,null,null,null,null,null,null,null,null,null,null,null,null,null,null,null,null,null,null,null,null,null,null,null,null,null,null,null,null,"ZL02 1022:TPR FSH CH",8]
[{"$f":"IFERROR(IF(INDIRECT($A$14&ROW())<>\"\",COUNTIF(Summary!$B$30:$B$1082,INDIRECT($A$14&ROW())),\"\"),\"\")","v":""},null,null,null,null,null,null,null,null,null,null,null,null,null,null,null,null,null,null,null,null,null,null,null,null,null,null,null,null,null,null,null,null,null,null,null,null,null,null,null,null,null,null,null,null,null,null,null,null,null,null,null,null,null,null,null,null,null,null,null,null,null,null,null,null,null,null,null,null,null,null,null,null,null,null,null,null,null,null,null,null,null,"ZL03 1023:LMN FSH FL",5]
[{"$f":"IFERROR(IF(INDIRECT($A$14&ROW())<>\"\",COUNTIF(Summary!$B$30:$B$1082,INDIRECT($A$14&ROW())),\"\"),\"\")","v":""},null,null,null,null,null,null,null,null,null,null,null,null,null,null,null,null,null,null,null,null,null,null,null,null,null,null,null,null,null,null,null,null,null,null,null,null,null,null,null,null,null,null,null,null,null,null,null,null,null,null,null,null,null,null,null,null,null,null,null,null,null,null,null,null,null,null,null,null,null,null,null,null,null,null,null,null,null,null,null,null,null,"ZL04 1024:SF RICE",2]
[{"$f":"IFERROR(IF(INDIRECT($A$14&ROW())<>\"\",COUNTIF(Summary!$B$30:$B$1082,INDIRECT($A$14&ROW())),\"\"),\"\")","v":""},null,null,null,null,null,null,null,null,null,null,null,null,null,null,null,null,null,null,null,null,null,null,null,null,null,null,null,null,null,null,null,null,null,null,null,null,null,null,null,null,null,null,null,null,null,null,null,null,null,null,null,null,null,null,null,null,null,null,null,null,null,null,null,null,null,null,null,null,null,null,null,null,null,null,null,null,null,null,null,null,null,"ZL05 1025:CNY PLATTER",41]
[{"$f":"IFERROR(IF(INDIRECT($A$14&ROW())<>\"\",COUNTIF(Summary!$B$30:$B$1082,INDIRECT($A$14&ROW())),\"\"),\"\")","v":""},null,null,null,null,null,null,null,null,null,null,null,null,null,null,null,null,null,null,null,null,null,null,null,null,null,null,null,null,null,null,null,null,null,null,null,null,null,null,null,null,null,null,null,null,null,null,null,null,null,null,null,null,null,null,null,null,null,null,null,null,null,null,null,null,null,null,null,null,null,null,null,null,null,null,null,null,null,null,null,null,null,"ZL11 91021:PA CKN CP",153]
[{"$f":"IFERROR(IF(INDIRECT($A$14&ROW())<>\"\",COUNTIF(Summary!$B$30:$B$1082,INDIRECT($A$14&ROW())),\"\"),\"\")","v":""},null,null,null,null,null,null,null,null,null,null,null,null,null,null,null,null,null,null,null,null,null,null,null,null,null,null,null,null,null,null,null,null,null,null,null,null,null,null,null,null,null,null,null,null,null,null,null,null,null,null,null,null,null,null,null,null,null,null,null,null,null,null,null,null,null,null,null,null,null,null,null,null,null,null,null,null,null,null,null,null,null,"ZL12 91022:TPR FSH CH",128]
[{"$f":"IFERROR(IF(INDIRECT($A$14&ROW())<>\"\",COUNTIF(Summary!$B$30:$B$1082,INDIRECT($A$14&ROW())),\"\"),\"\")","v":""},null,null,null,null,null,null,null,null,null,null,null,null,null,null,null,null,null,null,null,null,null,null,null,null,null,null,null,null,null,null,null,null,null,null,null,null,null,null,null,null,null,null,null,null,null,null,null,null,null,null,null,null,null,null,null,null,null,null,null,null,null,null,null,null,null,null,null,null,null,null,null,null,null,null,null,null,null,null,null,null,null,"ZL13 91023:LMN FSH FL",128]
[{"$f":"IFERROR(IF(INDIRECT($A$14&ROW())<>\"\",COUNTIF(Summary!$B$30:$B$1082,INDIRECT($A$14&ROW())),\"\"),\"\")","v":""},null,null,null,null,null,null,null,null,null,null,null,null,null,null,null,null,null,null,null,null,null,null,null,null,null,null,null,null,null,null,null,null,null,null,null,null,null,null,null,null,null,null,null,null,null,null,null,null,null,null,null,null,null,null,null,null,null,null,null,null,null,null,null,null,null,null,null,null,null,null,null,null,null,null,null,null,null,null,null,null,null,"ZL14 91024:SF RICE",57]
[{"$f":"IFERROR(IF(INDIRECT($A$14&ROW())<>\"\",COUNTIF(Summary!$B$30:$B$1082,INDIRECT($A$14&ROW())),\"\"),\"\")","v":""},null,null,null,null,null,null,null,null,null,null,null,null,null,null,null,null,null,null,null,null,null,null,null,null,null,null,null,null,null,null,null,null,null,null,null,null,null,null,null,null,null,null,null,null,null,null,null,null,null,null,null,null,null,null,null,null,null,null,null,null,null,null,null,null,null,null,null,null,null,null,null,null,null,null,null,null,null,null,null,null,null,"ZRM01 REASON - WINE CH",6]
[{"$f":"IFERROR(IF(INDIRECT($A$14&ROW())<>\"\",COUNTIF(Summary!$B$30:$B$1082,INDIRECT($A$14&ROW())),\"\"),\"\")","v":""},null,null,null,null,null,null,null,null,null,null,null,null,null,null,null,null,null,null,null,null,null,null,null,null,null,null,null,null,null,null,null,null,null,null,null,null,null,null,null,null,null,null,null,null,null,null,null,null,null,null,null,null,null,null,null,null,null,null,null,null,null,null,null,null,null,null,null,null,null,null,null,null,null,null,null,null,null,null,null,null,null,"ZZZZZ CHANGE MEM"]
[{"$f":"IFERROR(IF(INDIRECT($A$14&ROW())<>\"\",COUNTIF(Summary!$B$30:$B$1082,INDIRECT($A$14&ROW())),\"\"),\"\")","v":""}]
[{"$f":"IFERROR(IF(INDIRECT($A$14&ROW())<>\"\",COUNTIF(Summary!$B$30:$B$1082,INDIRECT($A$14&ROW())),\"\"),\"\")","v":""}]
[{"$f":"IFERROR(IF(INDIRECT($A$14&ROW())<>\"\",COUNTIF(Summary!$B$30:$B$1082,INDIRECT($A$14&ROW())),\"\"),\"\")","v":""}]
[{"$f":"IFERROR(IF(INDIRECT($A$14&ROW())<>\"\",COUNTIF(Summary!$B$30:$B$1082,INDIRECT($A$14&ROW())),\"\"),\"\")","v":""}]
[{"$f":"IFERROR(IF(INDIRECT($A$14&ROW())<>\"\",COUNTIF(Summary!$B$30:$B$1082,INDIRECT($A$14&ROW())),\"\"),\"\")","v":""}]
[{"$f":"IFERROR(IF(INDIRECT($A$14&ROW())<>\"\",COUNTIF(Summary!$B$30:$B$1082,INDIRECT($A$14&ROW())),\"\"),\"\")","v":""}]
[{"$f":"IFERROR(IF(INDIRECT($A$14&ROW())<>\"\",COUNTIF(Summary!$B$30:$B$1082,INDIRECT($A$14&ROW())),\"\"),\"\")","v":""}]
[{"$f":"IFERROR(IF(INDIRECT($A$14&ROW())<>\"\",COUNTIF(Summary!$B$30:$B$1082,INDIRECT($A$14&ROW())),\"\"),\"\")","v":""}]
[{"$f":"IFERROR(IF(INDIRECT($A$14&ROW())<>\"\",COUNTIF(Summary!$B$30:$B$1082,INDIRECT($A$14&ROW())),\"\"),\"\")","v":""}]
[{"$f":"IFERROR(IF(INDIRECT($A$14&ROW())<>\"\",COUNTIF(Summary!$B$30:$B$1082,INDIRECT($A$14&ROW())),\"\"),\"\")","v":""}]
[{"$f":"IFERROR(IF(INDIRECT($A$14&ROW())<>\"\",COUNTIF(Summary!$B$30:$B$1082,INDIRECT($A$14&ROW())),\"\"),\"\")","v":""}]
[{"$f":"IFERROR(IF(INDIRECT($A$14&ROW())<>\"\",COUNTIF(Summary!$B$30:$B$1082,INDIRECT($A$14&ROW())),\"\"),\"\")","v":""}]
[{"$f":"IFERROR(IF(INDIRECT($A$14&ROW())<>\"\",COUNTIF(Summary!$B$30:$B$1082,INDIRECT($A$14&ROW())),\"\"),\"\")","v":""}]
[{"$f":"IFERROR(IF(INDIRECT($A$14&ROW())<>\"\",COUNTIF(Summary!$B$30:$B$1082,INDIRECT($A$14&ROW())),\"\"),\"\")","v":""}]
[{"$f":"IFERROR(IF(INDIRECT($A$14&ROW())<>\"\",COUNTIF(Summary!$B$30:$B$1082,INDIRECT($A$14&ROW())),\"\"),\"\")","v":""}]
[{"$f":"IFERROR(IF(INDIRECT($A$14&ROW())<>\"\",COUNTIF(Summary!$B$30:$B$1082,INDIRECT($A$14&ROW())),\"\"),\"\")","v":""}]
[{"$f":"IFERROR(IF(INDIRECT($A$14&ROW())<>\"\",COUNTIF(Summary!$B$30:$B$1082,INDIRECT($A$14&ROW())),\"\"),\"\")","v":""}]
[{"$f":"IFERROR(IF(INDIRECT($A$14&ROW())<>\"\",COUNTIF(Summary!$B$30:$B$1082,INDIRECT($A$14&ROW())),\"\"),\"\")","v":""}]
[{"$f":"IFERROR(IF(INDIRECT($A$14&ROW())<>\"\",COUNTIF(Summary!$B$30:$B$1082,INDIRECT($A$14&ROW())),\"\"),\"\")","v":""}]
[{"$f":"IFERROR(IF(INDIRECT($A$14&ROW())<>\"\",COUNTIF(Summary!$B$30:$B$1082,INDIRECT($A$14&ROW())),\"\"),\"\")","v":""}]
[{"$f":"IFERROR(IF(INDIRECT($A$14&ROW())<>\"\",COUNTIF(Summary!$B$30:$B$1082,INDIRECT($A$14&ROW())),\"\"),\"\")","v":""}]
[{"$f":"IFERROR(IF(INDIRECT($A$14&ROW())<>\"\",COUNTIF(Summary!$B$30:$B$1082,INDIRECT($A$14&ROW())),\"\"),\"\")","v":""}]
[{"$f":"IFERROR(IF(INDIRECT($A$14&ROW())<>\"\",COUNTIF(Summary!$B$30:$B$1082,INDIRECT($A$14&ROW())),\"\"),\"\")","v":""}]
[{"$f":"IFERROR(IF(INDIRECT($A$14&ROW())<>\"\",COUNTIF(Summary!$B$30:$B$1082,INDIRECT($A$14&ROW())),\"\"),\"\")","v":""}]
[{"$f":"IFERROR(IF(INDIRECT($A$14&ROW())<>\"\",COUNTIF(Summary!$B$30:$B$1082,INDIRECT($A$14&ROW())),\"\"),\"\")","v":""}]
[{"$f":"IFERROR(IF(INDIRECT($A$14&ROW())<>\"\",COUNTIF(Summary!$B$30:$B$1082,INDIRECT($A$14&ROW())),\"\"),\"\")","v":""}]
[{"$f":"IFERROR(IF(INDIRECT($A$14&ROW())<>\"\",COUNTIF(Summary!$B$30:$B$1082,INDIRECT($A$14&ROW())),\"\"),\"\")","v":""}]
[{"$f":"IFERROR(IF(INDIRECT($A$14&ROW())<>\"\",COUNTIF(Summary!$B$30:$B$1082,INDIRECT($A$14&ROW())),\"\"),\"\")","v":""}]
[{"$f":"IFERROR(IF(INDIRECT($A$14&ROW())<>\"\",COUNTIF(Summary!$B$30:$B$1082,INDIRECT($A$14&ROW())),\"\"),\"\")","v":""}]
[{"$f":"IFERROR(IF(INDIRECT($A$14&ROW())<>\"\",COUNTIF(Summary!$B$30:$B$1082,INDIRECT($A$14&ROW())),\"\"),\"\")","v":""}]
[{"$f":"IFERROR(IF(INDIRECT($A$14&ROW())<>\"\",COUNTIF(Summary!$B$30:$B$1082,INDIRECT($A$14&ROW())),\"\"),\"\")","v":""}]
[{"$f":"IFERROR(IF(INDIRECT($A$14&ROW())<>\"\",COUNTIF(Summary!$B$30:$B$1082,INDIRECT($A$14&ROW())),\"\"),\"\")","v":""}]
[{"$f":"IFERROR(IF(INDIRECT($A$14&ROW())<>\"\",COUNTIF(Summary!$B$30:$B$1082,INDIRECT($A$14&ROW())),\"\"),\"\")","v":""}]
[{"$f":"IFERROR(IF(INDIRECT($A$14&ROW())<>\"\",COUNTIF(Summary!$B$30:$B$1082,INDIRECT($A$14&ROW())),\"\"),\"\")","v":""}]
[{"$f":"IFERROR(IF(INDIRECT($A$14&ROW())<>\"\",COUNTIF(Summary!$B$30:$B$1082,INDIRECT($A$14&ROW())),\"\"),\"\")","v":""}]
[{"$f":"IFERROR(IF(INDIRECT($A$14&ROW())<>\"\",COUNTIF(Summary!$B$30:$B$1082,INDIRECT($A$14&ROW())),\"\"),\"\")","v":""}]
[{"$f":"IFERROR(IF(INDIRECT($A$14&ROW())<>\"\",COUNTIF(Summary!$B$30:$B$1082,INDIRECT($A$14&ROW())),\"\"),\"\")","v":""}]
[{"$f":"IFERROR(IF(INDIRECT($A$14&ROW())<>\"\",COUNTIF(Summary!$B$30:$B$1082,INDIRECT($A$14&ROW())),\"\"),\"\")","v":""}]
[{"$f":"IFERROR(IF(INDIRECT($A$14&ROW())<>\"\",COUNTIF(Summary!$B$30:$B$1082,INDIRECT($A$14&ROW())),\"\"),\"\")","v":""}]
[{"$f":"IFERROR(IF(INDIRECT($A$14&ROW())<>\"\",COUNTIF(Summary!$B$30:$B$1082,INDIRECT($A$14&ROW())),\"\"),\"\")","v":""}]
[{"$f":"IFERROR(IF(INDIRECT($A$14&ROW())<>\"\",COUNTIF(Summary!$B$30:$B$1082,INDIRECT($A$14&ROW())),\"\"),\"\")","v":""}]
[{"$f":"IFERROR(IF(INDIRECT($A$14&ROW())<>\"\",COUNTIF(Summary!$B$30:$B$1082,INDIRECT($A$14&ROW())),\"\"),\"\")","v":""}]
[{"$f":"IFERROR(IF(INDIRECT($A$14&ROW())<>\"\",COUNTIF(Summary!$B$30:$B$1082,INDIRECT($A$14&ROW())),\"\"),\"\")","v":""}]
[{"$f":"IFERROR(IF(INDIRECT($A$14&ROW())<>\"\",COUNTIF(Summary!$B$30:$B$1082,INDIRECT($A$14&ROW())),\"\"),\"\")","v":""}]
[{"$f":"IFERROR(IF(INDIRECT($A$14&ROW())<>\"\",COUNTIF(Summary!$B$30:$B$1082,INDIRECT($A$14&ROW())),\"\"),\"\")","v":""}]
[{"$f":"IFERROR(IF(INDIRECT($A$14&ROW())<>\"\",COUNTIF(Summary!$B$30:$B$1082,INDIRECT($A$14&ROW())),\"\"),\"\")","v":""}]
[{"$f":"IFERROR(IF(INDIRECT($A$14&ROW())<>\"\",COUNTIF(Summary!$B$30:$B$1082,INDIRECT($A$14&ROW())),\"\"),\"\")","v":""}]
[{"$f":"IFERROR(IF(INDIRECT($A$14&ROW())<>\"\",COUNTIF(Summary!$B$30:$B$1082,INDIRECT($A$14&ROW())),\"\"),\"\")","v":""}]
[{"$f":"IFERROR(IF(INDIRECT($A$14&ROW())<>\"\",COUNTIF(Summary!$B$30:$B$1082,INDIRECT($A$14&ROW())),\"\"),\"\")","v":""}]
[{"$f":"IFERROR(IF(INDIRECT($A$14&ROW())<>\"\",COUNTIF(Summary!$B$30:$B$1082,INDIRECT($A$14&ROW())),\"\"),\"\")","v":""}]
[{"$f":"IFERROR(IF(INDIRECT($A$14&ROW())<>\"\",COUNTIF(Summary!$B$30:$B$1082,INDIRECT($A$14&ROW())),\"\"),\"\")","v":""}]
[{"$f":"IFERROR(IF(INDIRECT($A$14&ROW())<>\"\",COUNTIF(Summary!$B$30:$B$1082,INDIRECT($A$14&ROW())),\"\"),\"\")","v":""}]
[{"$f":"IFERROR(IF(INDIRECT($A$14&ROW())<>\"\",COUNTIF(Summary!$B$30:$B$1082,INDIRECT($A$14&ROW())),\"\"),\"\")","v":""}]
[{"$f":"IFERROR(IF(INDIRECT($A$14&ROW())<>\"\",COUNTIF(Summary!$B$30:$B$1082,INDIRECT($A$14&ROW())),\"\"),\"\")","v":""}]
[{"$f":"IFERROR(IF(INDIRECT($A$14&ROW())<>\"\",COUNTIF(Summary!$B$30:$B$1082,INDIRECT($A$14&ROW())),\"\"),\"\")","v":""}]
[{"$f":"IFERROR(IF(INDIRECT($A$14&ROW())<>\"\",COUNTIF(Summary!$B$30:$B$1082,INDIRECT($A$14&ROW())),\"\"),\"\")","v":""}]
[{"$f":"IFERROR(IF(INDIRECT($A$14&ROW())<>\"\",COUNTIF(Summary!$B$30:$B$1082,INDIRECT($A$14&ROW())),\"\"),\"\")","v":""}]
[{"$f":"IFERROR(IF(INDIRECT($A$14&ROW())<>\"\",COUNTIF(Summary!$B$30:$B$1082,INDIRECT($A$14&ROW())),\"\"),\"\")","v":""}]
[{"$f":"IFERROR(IF(INDIRECT($A$14&ROW())<>\"\",COUNTIF(Summary!$B$30:$B$1082,INDIRECT($A$14&ROW())),\"\"),\"\")","v":""}]
[{"$f":"IFERROR(IF(INDIRECT($A$14&ROW())<>\"\",COUNTIF(Summary!$B$30:$B$1082,INDIRECT($A$14&ROW())),\"\"),\"\")","v":""}]
[{"$f":"IFERROR(IF(INDIRECT($A$14&ROW())<>\"\",COUNTIF(Summary!$B$30:$B$1082,INDIRECT($A$14&ROW())),\"\"),\"\")","v":""}]
[{"$f":"IFERROR(IF(INDIRECT($A$14&ROW())<>\"\",COUNTIF(Summary!$B$30:$B$1082,INDIRECT($A$14&ROW())),\"\"),\"\")","v":""}]
[{"$f":"IFERROR(IF(INDIRECT($A$14&ROW())<>\"\",COUNTIF(Summary!$B$30:$B$1082,INDIRECT($A$14&ROW())),\"\"),\"\")","v":""}]
[{"$f":"IFERROR(IF(INDIRECT($A$14&ROW())<>\"\",COUNTIF(Summary!$B$30:$B$1082,INDIRECT($A$14&ROW())),\"\"),\"\")","v":""}]
[{"$f":"IFERROR(IF(INDIRECT($A$14&ROW())<>\"\",COUNTIF(Summary!$B$30:$B$1082,INDIRECT($A$14&ROW())),\"\"),\"\")","v":""}]
[{"$f":"IFERROR(IF(INDIRECT($A$14&ROW())<>\"\",COUNTIF(Summary!$B$30:$B$1082,INDIRECT($A$14&ROW())),\"\"),\"\")","v":""}]
[{"$f":"IFERROR(IF(INDIRECT($A$14&ROW())<>\"\",COUNTIF(Summary!$B$30:$B$1082,INDIRECT($A$14&ROW())),\"\"),\"\")","v":""}]
[{"$f":"IFERROR(IF(INDIRECT($A$14&ROW())<>\"\",COUNTIF(Summary!$B$30:$B$1082,INDIRECT($A$14&ROW())),\"\"),\"\")","v":""}]
[{"$f":"IFERROR(IF(INDIRECT($A$14&ROW())<>\"\",COUNTIF(Summary!$B$30:$B$1082,INDIRECT($A$14&ROW())),\"\"),\"\")","v":""}]
[{"$f":"IFERROR(IF(INDIRECT($A$14&ROW())<>\"\",COUNTIF(Summary!$B$30:$B$1082,INDIRECT($A$14&ROW())),\"\"),\"\")","v":""}]
[{"$f":"IFERROR(IF(INDIRECT($A$14&ROW())<>\"\",COUNTIF(Summary!$B$30:$B$1082,INDIRECT($A$14&ROW())),\"\"),\"\")","v":""}]
[{"$f":"IFERROR(IF(INDIRECT($A$14&ROW())<>\"\",COUNTIF(Summary!$B$30:$B$1082,INDIRECT($A$14&ROW())),\"\"),\"\")","v":""}]
[{"$f":"IFERROR(IF(INDIRECT($A$14&ROW())<>\"\",COUNTIF(Summary!$B$30:$B$1082,INDIRECT($A$14&ROW())),\"\"),\"\")","v":""}]
[{"$f":"IFERROR(IF(INDIRECT($A$14&ROW())<>\"\",COUNTIF(Summary!$B$30:$B$1082,INDIRECT($A$14&ROW())),\"\"),\"\")","v":""}]
[{"$f":"IFERROR(IF(INDIRECT($A$14&ROW())<>\"\",COUNTIF(Summary!$B$30:$B$1082,INDIRECT($A$14&ROW())),\"\"),\"\")","v":""}]
[{"$f":"IFERROR(IF(INDIRECT($A$14&ROW())<>\"\",COUNTIF(Summary!$B$30:$B$1082,INDIRECT($A$14&ROW())),\"\"),\"\")","v":""}]
[{"$f":"IFERROR(IF(INDIRECT($A$14&ROW())<>\"\",COUNTIF(Summary!$B$30:$B$1082,INDIRECT($A$14&ROW())),\"\"),\"\")","v":""}]
[{"$f":"IFERROR(IF(INDIRECT($A$14&ROW())<>\"\",COUNTIF(Summary!$B$30:$B$1082,INDIRECT($A$14&ROW())),\"\"),\"\")","v":""}]
[{"$f":"IFERROR(IF(INDIRECT($A$14&ROW())<>\"\",COUNTIF(Summary!$B$30:$B$1082,INDIRECT($A$14&ROW())),\"\"),\"\")","v":""}]
[{"$f":"IFERROR(IF(INDIRECT($A$14&ROW())<>\"\",COUNTIF(Summary!$B$30:$B$1082,INDIRECT($A$14&ROW())),\"\"),\"\")","v":""}]
[{"$f":"IFERROR(IF(INDIRECT($A$14&ROW())<>\"\",COUNTIF(Summary!$B$30:$B$1082,INDIRECT($A$14&ROW())),\"\"),\"\")","v":""}]
[{"$f":"IFERROR(IF(INDIRECT($A$14&ROW())<>\"\",COUNTIF(Summary!$B$30:$B$1082,INDIRECT($A$14&ROW())),\"\"),\"\")","v":""}]
[{"$f":"IFERROR(IF(INDIRECT($A$14&ROW())<>\"\",COUNTIF(Summary!$B$30:$B$1082,INDIRECT($A$14&ROW())),\"\"),\"\")","v":""}]
[{"$f":"IFERROR(IF(INDIRECT($A$14&ROW())<>\"\",COUNTIF(Summary!$B$30:$B$1082,INDIRECT($A$14&ROW())),\"\"),\"\")","v":""}]
[{"$f":"IFERROR(IF(INDIRECT($A$14&ROW())<>\"\",COUNTIF(Summary!$B$30:$B$1082,INDIRECT($A$14&ROW())),\"\"),\"\")","v":""}]
[{"$f":"IFERROR(IF(INDIRECT($A$14&ROW())<>\"\",COUNTIF(Summary!$B$30:$B$1082,INDIRECT($A$14&ROW())),\"\"),\"\")","v":""}]
[{"$f":"IFERROR(IF(INDIRECT($A$14&ROW())<>\"\",COUNTIF(Summary!$B$30:$B$1082,INDIRECT($A$14&ROW())),\"\"),\"\")","v":""}]
[{"$f":"IFERROR(IF(INDIRECT($A$14&ROW())<>\"\",COUNTIF(Summary!$B$30:$B$1082,INDIRECT($A$14&ROW())),\"\"),\"\")","v":""}]
[{"$f":"IFERROR(IF(INDIRECT($A$14&ROW())<>\"\",COUNTIF(Summary!$B$30:$B$1082,INDIRECT($A$14&ROW())),\"\"),\"\")","v":""}]
[{"$f":"IFERROR(IF(INDIRECT($A$14&ROW())<>\"\",COUNTIF(Summary!$B$30:$B$1082,INDIRECT($A$14&ROW())),\"\"),\"\")","v":""}]
[{"$f":"IFERROR(IF(INDIRECT($A$14&ROW())<>\"\",COUNTIF(Summary!$B$30:$B$1082,INDIRECT($A$14&ROW())),\"\"),\"\")","v":""}]
[{"$f":"IFERROR(IF(INDIRECT($A$14&ROW())<>\"\",COUNTIF(Summary!$B$30:$B$1082,INDIRECT($A$14&ROW())),\"\"),\"\")","v":""}]
[{"$f":"IFERROR(IF(INDIRECT($A$14&ROW())<>\"\",COUNTIF(Summary!$B$30:$B$1082,INDIRECT($A$14&ROW())),\"\"),\"\")","v":""}]
[{"$f":"IFERROR(IF(INDIRECT($A$14&ROW())<>\"\",COUNTIF(Summary!$B$30:$B$1082,INDIRECT($A$14&ROW())),\"\"),\"\")","v":""}]
[{"$f":"IFERROR(IF(INDIRECT($A$14&ROW())<>\"\",COUNTIF(Summary!$B$30:$B$1082,INDIRECT($A$14&ROW())),\"\"),\"\")","v":""}]
[{"$f":"IFERROR(IF(INDIRECT($A$14&ROW())<>\"\",COUNTIF(Summary!$B$30:$B$1082,INDIRECT($A$14&ROW())),\"\"),\"\")","v":""}]
[{"$f":"IFERROR(IF(INDIRECT($A$14&ROW())<>\"\",COUNTIF(Summary!$B$30:$B$1082,INDIRECT($A$14&ROW())),\"\"),\"\")","v":""}]
[{"$f":"IFERROR(IF(INDIRECT($A$14&ROW())<>\"\",COUNTIF(Summary!$B$30:$B$1082,INDIRECT($A$14&ROW())),\"\"),\"\")","v":""}]
[{"$f":"IFERROR(IF(INDIRECT($A$14&ROW())<>\"\",COUNTIF(Summary!$B$30:$B$1082,INDIRECT($A$14&ROW())),\"\"),\"\")","v":""}]
[{"$f":"IFERROR(IF(INDIRECT($A$14&ROW())<>\"\",COUNTIF(Summary!$B$30:$B$1082,INDIRECT($A$14&ROW())),\"\"),\"\")","v":""}]
[{"$f":"IFERROR(IF(INDIRECT($A$14&ROW())<>\"\",COUNTIF(Summary!$B$30:$B$1082,INDIRECT($A$14&ROW())),\"\"),\"\")","v":""}]
[{"$f":"IFERROR(IF(INDIRECT($A$14&ROW())<>\"\",COUNTIF(Summary!$B$30:$B$1082,INDIRECT($A$14&ROW())),\"\"),\"\")","v":""}]
[{"$f":"IFERROR(IF(INDIRECT($A$14&ROW())<>\"\",COUNTIF(Summary!$B$30:$B$1082,INDIRECT($A$14&ROW())),\"\"),\"\")","v":""}]
[{"$f":"IFERROR(IF(INDIRECT($A$14&ROW())<>\"\",COUNTIF(Summary!$B$30:$B$1082,INDIRECT($A$14&ROW())),\"\"),\"\")","v":""}]
[{"$f":"IFERROR(IF(INDIRECT($A$14&ROW())<>\"\",COUNTIF(Summary!$B$30:$B$1082,INDIRECT($A$14&ROW())),\"\"),\"\")","v":""}]
[{"$f":"IFERROR(IF(INDIRECT($A$14&ROW())<>\"\",COUNTIF(Summary!$B$30:$B$1082,INDIRECT($A$14&ROW())),\"\"),\"\")","v":""}]
[{"$f":"IFERROR(IF(INDIRECT($A$14&ROW())<>\"\",COUNTIF(Summary!$B$30:$B$1082,INDIRECT($A$14&ROW())),\"\"),\"\")","v":""}]
[{"$f":"IFERROR(IF(INDIRECT($A$14&ROW())<>\"\",COUNTIF(Summary!$B$30:$B$1082,INDIRECT($A$14&ROW())),\"\"),\"\")","v":""}]
[{"$f":"IFERROR(IF(INDIRECT($A$14&ROW())<>\"\",COUNTIF(Summary!$B$30:$B$1082,INDIRECT($A$14&ROW())),\"\"),\"\")","v":""}]
[{"$f":"IFERROR(IF(INDIRECT($A$14&ROW())<>\"\",COUNTIF(Summary!$B$30:$B$1082,INDIRECT($A$14&ROW())),\"\"),\"\")","v":""}]
[{"$f":"IFERROR(IF(INDIRECT($A$14&ROW())<>\"\",COUNTIF(Summary!$B$30:$B$1082,INDIRECT($A$14&ROW())),\"\"),\"\")","v":""}]
[{"$f":"IFERROR(IF(INDIRECT($A$14&ROW())<>\"\",COUNTIF(Summary!$B$30:$B$1082,INDIRECT($A$14&ROW())),\"\"),\"\")","v":""}]
[{"$f":"IFERROR(IF(INDIRECT($A$14&ROW())<>\"\",COUNTIF(Summary!$B$30:$B$1082,INDIRECT($A$14&ROW())),\"\"),\"\")","v":""}]
[{"$f":"IFERROR(IF(INDIRECT($A$14&ROW())<>\"\",COUNTIF(Summary!$B$30:$B$1082,INDIRECT($A$14&ROW())),\"\"),\"\")","v":""}]
[{"$f":"IFERROR(IF(INDIRECT($A$14&ROW())<>\"\",COUNTIF(Summary!$B$30:$B$1082,INDIRECT($A$14&ROW())),\"\"),\"\")","v":""}]
[{"$f":"IFERROR(IF(INDIRECT($A$14&ROW())<>\"\",COUNTIF(Summary!$B$30:$B$1082,INDIRECT($A$14&ROW())),\"\"),\"\")","v":""}]
[{"$f":"IFERROR(IF(INDIRECT($A$14&ROW())<>\"\",COUNTIF(Summary!$B$30:$B$1082,INDIRECT($A$14&ROW())),\"\"),\"\")","v":""}]
[{"$f":"IFERROR(IF(INDIRECT($A$14&ROW())<>\"\",COUNTIF(Summary!$B$30:$B$1082,INDIRECT($A$14&ROW())),\"\"),\"\")","v":""}]
[{"$f":"IFERROR(IF(INDIRECT($A$14&ROW())<>\"\",COUNTIF(Summary!$B$30:$B$1082,INDIRECT($A$14&ROW())),\"\"),\"\")","v":""}]
[{"$f":"IFERROR(IF(INDIRECT($A$14&ROW())<>\"\",COUNTIF(Summary!$B$30:$B$1082,INDIRECT($A$14&ROW())),\"\"),\"\")","v":""}]
[{"$f":"IFERROR(IF(INDIRECT($A$14&ROW())<>\"\",COUNTIF(Summary!$B$30:$B$1082,INDIRECT($A$14&ROW())),\"\"),\"\")","v":""}]
[{"$f":"IFERROR(IF(INDIRECT($A$14&ROW())<>\"\",COUNTIF(Summary!$B$30:$B$1082,INDIRECT($A$14&ROW())),\"\"),\"\")","v":""}]
[{"$f":"IFERROR(IF(INDIRECT($A$14&ROW())<>\"\",COUNTIF(Summary!$B$30:$B$1082,INDIRECT($A$14&ROW())),\"\"),\"\")","v":""}]
[{"$f":"IFERROR(IF(INDIRECT($A$14&ROW())<>\"\",COUNTIF(Summary!$B$30:$B$1082,INDIRECT($A$14&ROW())),\"\"),\"\")","v":""}]
[{"$f":"IFERROR(IF(INDIRECT($A$14&ROW())<>\"\",COUNTIF(Summary!$B$30:$B$1082,INDIRECT($A$14&ROW())),\"\"),\"\")","v":""}]
[{"$f":"IFERROR(IF(INDIRECT($A$14&ROW())<>\"\",COUNTIF(Summary!$B$30:$B$1082,INDIRECT($A$14&ROW())),\"\"),\"\")","v":""}]
[{"$f":"IFERROR(IF(INDIRECT($A$14&ROW())<>\"\",COUNTIF(Summary!$B$30:$B$1082,INDIRECT($A$14&ROW())),\"\"),\"\")","v":""}]
[{"$f":"IFERROR(IF(INDIRECT($A$14&ROW())<>\"\",COUNTIF(Summary!$B$30:$B$1082,INDIRECT($A$14&ROW())),\"\"),\"\")","v":""}]
[{"$f":"IFERROR(IF(INDIRECT($A$14&ROW())<>\"\",COUNTIF(Summary!$B$30:$B$1082,INDIRECT($A$14&ROW())),\"\"),\"\")","v":""}]
[{"$f":"IFERROR(IF(INDIRECT($A$14&ROW())<>\"\",COUNTIF(Summary!$B$30:$B$1082,INDIRECT($A$14&ROW())),\"\"),\"\")","v":""}]
[{"$f":"IFERROR(IF(INDIRECT($A$14&ROW())<>\"\",COUNTIF(Summary!$B$30:$B$1082,INDIRECT($A$14&ROW())),\"\"),\"\")","v":""}]
[{"$f":"IFERROR(IF(INDIRECT($A$14&ROW())<>\"\",COUNTIF(Summary!$B$30:$B$1082,INDIRECT($A$14&ROW())),\"\"),\"\")","v":""}]
[{"$f":"IFERROR(IF(INDIRECT($A$14&ROW())<>\"\",COUNTIF(Summary!$B$30:$B$1082,INDIRECT($A$14&ROW())),\"\"),\"\")","v":""}]
[{"$f":"IFERROR(IF(INDIRECT($A$14&ROW())<>\"\",COUNTIF(Summary!$B$30:$B$1082,INDIRECT($A$14&ROW())),\"\"),\"\")","v":""}]
[{"$f":"IFERROR(IF(INDIRECT($A$14&ROW())<>\"\",COUNTIF(Summary!$B$30:$B$1082,INDIRECT($A$14&ROW())),\"\"),\"\")","v":""}]
[{"$f":"IFERROR(IF(INDIRECT($A$14&ROW())<>\"\",COUNTIF(Summary!$B$30:$B$1082,INDIRECT($A$14&ROW())),\"\"),\"\")","v":""}]
[{"$f":"IFERROR(IF(INDIRECT($A$14&ROW())<>\"\",COUNTIF(Summary!$B$30:$B$1082,INDIRECT($A$14&ROW())),\"\"),\"\")","v":""}]
[{"$f":"IFERROR(IF(INDIRECT($A$14&ROW())<>\"\",COUNTIF(Summary!$B$30:$B$1082,INDIRECT($A$14&ROW())),\"\"),\"\")","v":""}]
[{"$f":"IFERROR(IF(INDIRECT($A$14&ROW())<>\"\",COUNTIF(Summary!$B$30:$B$1082,INDIRECT($A$14&ROW())),\"\"),\"\")","v":""}]
[{"$f":"IFERROR(IF(INDIRECT($A$14&ROW())<>\"\",COUNTIF(Summary!$B$30:$B$1082,INDIRECT($A$14&ROW())),\"\"),\"\")","v":""}]
[{"$f":"IFERROR(IF(INDIRECT($A$14&ROW())<>\"\",COUNTIF(Summary!$B$30:$B$1082,INDIRECT($A$14&ROW())),\"\"),\"\")","v":""}]
[{"$f":"IFERROR(IF(INDIRECT($A$14&ROW())<>\"\",COUNTIF(Summary!$B$30:$B$1082,INDIRECT($A$14&ROW())),\"\"),\"\")","v":""}]
[{"$f":"IFERROR(IF(INDIRECT($A$14&ROW())<>\"\",COUNTIF(Summary!$B$30:$B$1082,INDIRECT($A$14&ROW())),\"\"),\"\")","v":""}]
[{"$f":"IFERROR(IF(INDIRECT($A$14&ROW())<>\"\",COUNTIF(Summary!$B$30:$B$1082,INDIRECT($A$14&ROW())),\"\"),\"\")","v":""}]
[{"$f":"IFERROR(IF(INDIRECT($A$14&ROW())<>\"\",COUNTIF(Summary!$B$30:$B$1082,INDIRECT($A$14&ROW())),\"\"),\"\")","v":""}]
[{"$f":"IFERROR(IF(INDIRECT($A$14&ROW())<>\"\",COUNTIF(Summary!$B$30:$B$1082,INDIRECT($A$14&ROW())),\"\"),\"\")","v":""}]
[{"$f":"IFERROR(IF(INDIRECT($A$14&ROW())<>\"\",COUNTIF(Summary!$B$30:$B$1082,INDIRECT($A$14&ROW())),\"\"),\"\")","v":""}]
[{"$f":"IFERROR(IF(INDIRECT($A$14&ROW())<>\"\",COUNTIF(Summary!$B$30:$B$1082,INDIRECT($A$14&ROW())),\"\"),\"\")","v":""}]
[{"$f":"IFERROR(IF(INDIRECT($A$14&ROW())<>\"\",COUNTIF(Summary!$B$30:$B$1082,INDIRECT($A$14&ROW())),\"\"),\"\")","v":""}]
[{"$f":"IFERROR(IF(INDIRECT($A$14&ROW())<>\"\",COUNTIF(Summary!$B$30:$B$1082,INDIRECT($A$14&ROW())),\"\"),\"\")","v":""}]
[{"$f":"IFERROR(IF(INDIRECT($A$14&ROW())<>\"\",COUNTIF(Summary!$B$30:$B$1082,INDIRECT($A$14&ROW())),\"\"),\"\")","v":""}]
[{"$f":"IFERROR(IF(INDIRECT($A$14&ROW())<>\"\",COUNTIF(Summary!$B$30:$B$1082,INDIRECT($A$14&ROW())),\"\"),\"\")","v":""}]
[{"$f":"IFERROR(IF(INDIRECT($A$14&ROW())<>\"\",COUNTIF(Summary!$B$30:$B$1082,INDIRECT($A$14&ROW())),\"\"),\"\")","v":""}]
[{"$f":"IFERROR(IF(INDIRECT($A$14&ROW())<>\"\",COUNTIF(Summary!$B$30:$B$1082,INDIRECT($A$14&ROW())),\"\"),\"\")","v":""}]
[{"$f":"IFERROR(IF(INDIRECT($A$14&ROW())<>\"\",COUNTIF(Summary!$B$30:$B$1082,INDIRECT($A$14&ROW())),\"\"),\"\")","v":""}]
[{"$f":"IFERROR(IF(INDIRECT($A$14&ROW())<>\"\",COUNTIF(Summary!$B$30:$B$1082,INDIRECT($A$14&ROW())),\"\"),\"\")","v":""}]
[{"$f":"IFERROR(IF(INDIRECT($A$14&ROW())<>\"\",COUNTIF(Summary!$B$30:$B$1082,INDIRECT($A$14&ROW())),\"\"),\"\")","v":""}]
[{"$f":"IFERROR(IF(INDIRECT($A$14&ROW())<>\"\",COUNTIF(Summary!$B$30:$B$1082,INDIRECT($A$14&ROW())),\"\"),\"\")","v":""}]
[{"$f":"IFERROR(IF(INDIRECT($A$14&ROW())<>\"\",COUNTIF(Summary!$B$30:$B$1082,INDIRECT($A$14&ROW())),\"\"),\"\")","v":""}]
[{"$f":"IFERROR(IF(INDIRECT($A$14&ROW())<>\"\",COUNTIF(Summary!$B$30:$B$1082,INDIRECT($A$14&ROW())),\"\"),\"\")","v":""}]
[{"$f":"IFERROR(IF(INDIRECT($A$14&ROW())<>\"\",COUNTIF(Summary!$B$30:$B$1082,INDIRECT($A$14&ROW())),\"\"),\"\")","v":""}]
[{"$f":"IFERROR(IF(INDIRECT($A$14&ROW())<>\"\",COUNTIF(Summary!$B$30:$B$1082,INDIRECT($A$14&ROW())),\"\"),\"\")","v":""}]
[{"$f":"IFERROR(IF(INDIRECT($A$14&ROW())<>\"\",COUNTIF(Summary!$B$30:$B$1082,INDIRECT($A$14&ROW())),\"\"),\"\")","v":""}]
[{"$f":"IFERROR(IF(INDIRECT($A$14&ROW())<>\"\",COUNTIF(Summary!$B$30:$B$1082,INDIRECT($A$14&ROW())),\"\"),\"\")","v":""}]
[{"$f":"IFERROR(IF(INDIRECT($A$14&ROW())<>\"\",COUNTIF(Summary!$B$30:$B$1082,INDIRECT($A$14&ROW())),\"\"),\"\")","v":""}]
[{"$f":"IFERROR(IF(INDIRECT($A$14&ROW())<>\"\",COUNTIF(Summary!$B$30:$B$1082,INDIRECT($A$14&ROW())),\"\"),\"\")","v":""}]
[{"$f":"IFERROR(IF(INDIRECT($A$14&ROW())<>\"\",COUNTIF(Summary!$B$30:$B$1082,INDIRECT($A$14&ROW())),\"\"),\"\")","v":""}]
[{"$f":"IFERROR(IF(INDIRECT($A$14&ROW())<>\"\",COUNTIF(Summary!$B$30:$B$1082,INDIRECT($A$14&ROW())),\"\"),\"\")","v":""}]
[{"$f":"IFERROR(IF(INDIRECT($A$14&ROW())<>\"\",COUNTIF(Summary!$B$30:$B$1082,INDIRECT($A$14&ROW())),\"\"),\"\")","v":""}]
[{"$f":"IFERROR(IF(INDIRECT($A$14&ROW())<>\"\",COUNTIF(Summary!$B$30:$B$1082,INDIRECT($A$14&ROW())),\"\"),\"\")","v":""}]
[{"$f":"IFERROR(IF(INDIRECT($A$14&ROW())<>\"\",COUNTIF(Summary!$B$30:$B$1082,INDIRECT($A$14&ROW())),\"\"),\"\")","v":""}]
[{"$f":"IFERROR(IF(INDIRECT($A$14&ROW())<>\"\",COUNTIF(Summary!$B$30:$B$1082,INDIRECT($A$14&ROW())),\"\"),\"\")","v":""}]
[{"$f":"IFERROR(IF(INDIRECT($A$14&ROW())<>\"\",COUNTIF(Summary!$B$30:$B$1082,INDIRECT($A$14&ROW())),\"\"),\"\")","v":""}]
[{"$f":"IFERROR(IF(INDIRECT($A$14&ROW())<>\"\",COUNTIF(Summary!$B$30:$B$1082,INDIRECT($A$14&ROW())),\"\"),\"\")","v":""}]
[{"$f":"IFERROR(IF(INDIRECT($A$14&ROW())<>\"\",COUNTIF(Summary!$B$30:$B$1082,INDIRECT($A$14&ROW())),\"\"),\"\")","v":""}]
[{"$f":"IFERROR(IF(INDIRECT($A$14&ROW())<>\"\",COUNTIF(Summary!$B$30:$B$1082,INDIRECT($A$14&ROW())),\"\"),\"\")","v":""}]
[{"$f":"IFERROR(IF(INDIRECT($A$14&ROW())<>\"\",COUNTIF(Summary!$B$30:$B$1082,INDIRECT($A$14&ROW())),\"\"),\"\")","v":""}]
[{"$f":"IFERROR(IF(INDIRECT($A$14&ROW())<>\"\",COUNTIF(Summary!$B$30:$B$1082,INDIRECT($A$14&ROW())),\"\"),\"\")","v":""}]
[{"$f":"IFERROR(IF(INDIRECT($A$14&ROW())<>\"\",COUNTIF(Summary!$B$30:$B$1082,INDIRECT($A$14&ROW())),\"\"),\"\")","v":""}]
[{"$f":"IFERROR(IF(INDIRECT($A$14&ROW())<>\"\",COUNTIF(Summary!$B$30:$B$1082,INDIRECT($A$14&ROW())),\"\"),\"\")","v":""}]
[{"$f":"IFERROR(IF(INDIRECT($A$14&ROW())<>\"\",COUNTIF(Summary!$B$30:$B$1082,INDIRECT($A$14&ROW())),\"\"),\"\")","v":""}]
[{"$f":"IFERROR(IF(INDIRECT($A$14&ROW())<>\"\",COUNTIF(Summary!$B$30:$B$1082,INDIRECT($A$14&ROW())),\"\"),\"\")","v":""}]
[{"$f":"IFERROR(IF(INDIRECT($A$14&ROW())<>\"\",COUNTIF(Summary!$B$30:$B$1082,INDIRECT($A$14&ROW())),\"\"),\"\")","v":""}]
[{"$f":"IFERROR(IF(INDIRECT($A$14&ROW())<>\"\",COUNTIF(Summary!$B$30:$B$1082,INDIRECT($A$14&ROW())),\"\"),\"\")","v":""}]
[{"$f":"IFERROR(IF(INDIRECT($A$14&ROW())<>\"\",COUNTIF(Summary!$B$30:$B$1082,INDIRECT($A$14&ROW())),\"\"),\"\")","v":""}]
[{"$f":"IFERROR(IF(INDIRECT($A$14&ROW())<>\"\",COUNTIF(Summary!$B$30:$B$1082,INDIRECT($A$14&ROW())),\"\"),\"\")","v":""}]
[{"$f":"IFERROR(IF(INDIRECT($A$14&ROW())<>\"\",COUNTIF(Summary!$B$30:$B$1082,INDIRECT($A$14&ROW())),\"\"),\"\")","v":""}]
[{"$f":"IFERROR(IF(INDIRECT($A$14&ROW())<>\"\",COUNTIF(Summary!$B$30:$B$1082,INDIRECT($A$14&ROW())),\"\"),\"\")","v":""}]
[{"$f":"IFERROR(IF(INDIRECT($A$14&ROW())<>\"\",COUNTIF(Summary!$B$30:$B$1082,INDIRECT($A$14&ROW())),\"\"),\"\")","v":""}]
[{"$f":"IFERROR(IF(INDIRECT($A$14&ROW())<>\"\",COUNTIF(Summary!$B$30:$B$1082,INDIRECT($A$14&ROW())),\"\"),\"\")","v":""}]
[{"$f":"IFERROR(IF(INDIRECT($A$14&ROW())<>\"\",COUNTIF(Summary!$B$30:$B$1082,INDIRECT($A$14&ROW())),\"\"),\"\")","v":""}]
[{"$f":"IFERROR(IF(INDIRECT($A$14&ROW())<>\"\",COUNTIF(Summary!$B$30:$B$1082,INDIRECT($A$14&ROW())),\"\"),\"\")","v":""}]
[{"$f":"IFERROR(IF(INDIRECT($A$14&ROW())<>\"\",COUNTIF(Summary!$B$30:$B$1082,INDIRECT($A$14&ROW())),\"\"),\"\")","v":""}]
[{"$f":"IFERROR(IF(INDIRECT($A$14&ROW())<>\"\",COUNTIF(Summary!$B$30:$B$1082,INDIRECT($A$14&ROW())),\"\"),\"\")","v":""}]
[{"$f":"IFERROR(IF(INDIRECT($A$14&ROW())<>\"\",COUNTIF(Summary!$B$30:$B$1082,INDIRECT($A$14&ROW())),\"\"),\"\")","v":""}]
[{"$f":"IFERROR(IF(INDIRECT($A$14&ROW())<>\"\",COUNTIF(Summary!$B$30:$B$1082,INDIRECT($A$14&ROW())),\"\"),\"\")","v":""}]
[{"$f":"IFERROR(IF(INDIRECT($A$14&ROW())<>\"\",COUNTIF(Summary!$B$30:$B$1082,INDIRECT($A$14&ROW())),\"\"),\"\")","v":""}]
[{"$f":"IFERROR(IF(INDIRECT($A$14&ROW())<>\"\",COUNTIF(Summary!$B$30:$B$1082,INDIRECT($A$14&ROW())),\"\"),\"\")","v":""}]
[{"$f":"IFERROR(IF(INDIRECT($A$14&ROW())<>\"\",COUNTIF(Summary!$B$30:$B$1082,INDIRECT($A$14&ROW())),\"\"),\"\")","v":""}]
[{"$f":"IFERROR(IF(INDIRECT($A$14&ROW())<>\"\",COUNTIF(Summary!$B$30:$B$1082,INDIRECT($A$14&ROW())),\"\"),\"\")","v":""}]
[{"$f":"IFERROR(IF(INDIRECT($A$14&ROW())<>\"\",COUNTIF(Summary!$B$30:$B$1082,INDIRECT($A$14&ROW())),\"\"),\"\")","v":""}]
[{"$f":"IFERROR(IF(INDIRECT($A$14&ROW())<>\"\",COUNTIF(Summary!$B$30:$B$1082,INDIRECT($A$14&ROW())),\"\"),\"\")","v":""}]
[{"$f":"IFERROR(IF(INDIRECT($A$14&ROW())<>\"\",COUNTIF(Summary!$B$30:$B$1082,INDIRECT($A$14&ROW())),\"\"),\"\")","v":""}]
[{"$f":"IFERROR(IF(INDIRECT($A$14&ROW())<>\"\",COUNTIF(Summary!$B$30:$B$1082,INDIRECT($A$14&ROW())),\"\"),\"\")","v":""}]
[{"$f":"IFERROR(IF(INDIRECT($A$14&ROW())<>\"\",COUNTIF(Summary!$B$30:$B$1082,INDIRECT($A$14&ROW())),\"\"),\"\")","v":""}]
[{"$f":"IFERROR(IF(INDIRECT($A$14&ROW())<>\"\",COUNTIF(Summary!$B$30:$B$1082,INDIRECT($A$14&ROW())),\"\"),\"\")","v":""}]
[{"$f":"IFERROR(IF(INDIRECT($A$14&ROW())<>\"\",COUNTIF(Summary!$B$30:$B$1082,INDIRECT($A$14&ROW())),\"\"),\"\")","v":""}]
[{"$f":"IFERROR(IF(INDIRECT($A$14&ROW())<>\"\",COUNTIF(Summary!$B$30:$B$1082,INDIRECT($A$14&ROW())),\"\"),\"\")","v":""}]
[{"$f":"IFERROR(IF(INDIRECT($A$14&ROW())<>\"\",COUNTIF(Summary!$B$30:$B$1082,INDIRECT($A$14&ROW())),\"\"),\"\")","v":""}]
[{"$f":"IFERROR(IF(INDIRECT($A$14&ROW())<>\"\",COUNTIF(Summary!$B$30:$B$1082,INDIRECT($A$14&ROW())),\"\"),\"\")","v":""}]
[{"$f":"IFERROR(IF(INDIRECT($A$14&ROW())<>\"\",COUNTIF(Summary!$B$30:$B$1082,INDIRECT($A$14&ROW())),\"\"),\"\")","v":""}]
[{"$f":"IFERROR(IF(INDIRECT($A$14&ROW())<>\"\",COUNTIF(Summary!$B$30:$B$1082,INDIRECT($A$14&ROW())),\"\"),\"\")","v":""}]
[{"$f":"IFERROR(IF(INDIRECT($A$14&ROW())<>\"\",COUNTIF(Summary!$B$30:$B$1082,INDIRECT($A$14&ROW())),\"\"),\"\")","v":""}]
[{"$f":"IFERROR(IF(INDIRECT($A$14&ROW())<>\"\",COUNTIF(Summary!$B$30:$B$1082,INDIRECT($A$14&ROW())),\"\"),\"\")","v":""}]
[{"$f":"IFERROR(IF(INDIRECT($A$14&ROW())<>\"\",COUNTIF(Summary!$B$30:$B$1082,INDIRECT($A$14&ROW())),\"\"),\"\")","v":""}]
[{"$f":"IFERROR(IF(INDIRECT($A$14&ROW())<>\"\",COUNTIF(Summary!$B$30:$B$1082,INDIRECT($A$14&ROW())),\"\"),\"\")","v":""}]
[{"$f":"IFERROR(IF(INDIRECT($A$14&ROW())<>\"\",COUNTIF(Summary!$B$30:$B$1082,INDIRECT($A$14&ROW())),\"\"),\"\")","v":""}]
[{"$f":"IFERROR(IF(INDIRECT($A$14&ROW())<>\"\",COUNTIF(Summary!$B$30:$B$1082,INDIRECT($A$14&ROW())),\"\"),\"\")","v":""}]
[{"$f":"IFERROR(IF(INDIRECT($A$14&ROW())<>\"\",COUNTIF(Summary!$B$30:$B$1082,INDIRECT($A$14&ROW())),\"\"),\"\")","v":""}]
[{"$f":"IFERROR(IF(INDIRECT($A$14&ROW())<>\"\",COUNTIF(Summary!$B$30:$B$1082,INDIRECT($A$14&ROW())),\"\"),\"\")","v":""}]
[{"$f":"IFERROR(IF(INDIRECT($A$14&ROW())<>\"\",COUNTIF(Summary!$B$30:$B$1082,INDIRECT($A$14&ROW())),\"\"),\"\")","v":""}]
[{"$f":"IFERROR(IF(INDIRECT($A$14&ROW())<>\"\",COUNTIF(Summary!$B$30:$B$1082,INDIRECT($A$14&ROW())),\"\"),\"\")","v":""}]
[{"$f":"IFERROR(IF(INDIRECT($A$14&ROW())<>\"\",COUNTIF(Summary!$B$30:$B$1082,INDIRECT($A$14&ROW())),\"\"),\"\")","v":""}]
[{"$f":"IFERROR(IF(INDIRECT($A$14&ROW())<>\"\",COUNTIF(Summary!$B$30:$B$1082,INDIRECT($A$14&ROW())),\"\"),\"\")","v":""}]
[{"$f":"IFERROR(IF(INDIRECT($A$14&ROW())<>\"\",COUNTIF(Summary!$B$30:$B$1082,INDIRECT($A$14&ROW())),\"\"),\"\")","v":""}]
[{"$f":"IFERROR(IF(INDIRECT($A$14&ROW())<>\"\",COUNTIF(Summary!$B$30:$B$1082,INDIRECT($A$14&ROW())),\"\"),\"\")","v":""}]
[{"$f":"IFERROR(IF(INDIRECT($A$14&ROW())<>\"\",COUNTIF(Summary!$B$30:$B$1082,INDIRECT($A$14&ROW())),\"\"),\"\")","v":""}]
[{"$f":"IFERROR(IF(INDIRECT($A$14&ROW())<>\"\",COUNTIF(Summary!$B$30:$B$1082,INDIRECT($A$14&ROW())),\"\"),\"\")","v":""}]
[{"$f":"IFERROR(IF(INDIRECT($A$14&ROW())<>\"\",COUNTIF(Summary!$B$30:$B$1082,INDIRECT($A$14&ROW())),\"\"),\"\")","v":""}]
[{"$f":"IFERROR(IF(INDIRECT($A$14&ROW())<>\"\",COUNTIF(Summary!$B$30:$B$1082,INDIRECT($A$14&ROW())),\"\"),\"\")","v":""}]
[{"$f":"IFERROR(IF(INDIRECT($A$14&ROW())<>\"\",COUNTIF(Summary!$B$30:$B$1082,INDIRECT($A$14&ROW())),\"\"),\"\")","v":""}]
[{"$f":"IFERROR(IF(INDIRECT($A$14&ROW())<>\"\",COUNTIF(Summary!$B$30:$B$1082,INDIRECT($A$14&ROW())),\"\"),\"\")","v":""}]
[{"$f":"IFERROR(IF(INDIRECT($A$14&ROW())<>\"\",COUNTIF(Summary!$B$30:$B$1082,INDIRECT($A$14&ROW())),\"\"),\"\")","v":""}]
[{"$f":"IFERROR(IF(INDIRECT($A$14&ROW())<>\"\",COUNTIF(Summary!$B$30:$B$1082,INDIRECT($A$14&ROW())),\"\"),\"\")","v":""}]
[{"$f":"IFERROR(IF(INDIRECT($A$14&ROW())<>\"\",COUNTIF(Summary!$B$30:$B$1082,INDIRECT($A$14&ROW())),\"\"),\"\")","v":""}]
[{"$f":"IFERROR(IF(INDIRECT($A$14&ROW())<>\"\",COUNTIF(Summary!$B$30:$B$1082,INDIRECT($A$14&ROW())),\"\"),\"\")","v":""}]
[{"$f":"IFERROR(IF(INDIRECT($A$14&ROW())<>\"\",COUNTIF(Summary!$B$30:$B$1082,INDIRECT($A$14&ROW())),\"\"),\"\")","v":""}]
[{"$f":"IFERROR(IF(INDIRECT($A$14&ROW())<>\"\",COUNTIF(Summary!$B$30:$B$1082,INDIRECT($A$14&ROW())),\"\"),\"\")","v":""}]
[{"$f":"IFERROR(IF(INDIRECT($A$14&ROW())<>\"\",COUNTIF(Summary!$B$30:$B$1082,INDIRECT($A$14&ROW())),\"\"),\"\")","v":""}]
[{"$f":"IFERROR(IF(INDIRECT($A$14&ROW())<>\"\",COUNTIF(Summary!$B$30:$B$1082,INDIRECT($A$14&ROW())),\"\"),\"\")","v":""}]
[{"$f":"IFERROR(IF(INDIRECT($A$14&ROW())<>\"\",COUNTIF(Summary!$B$30:$B$1082,INDIRECT($A$14&ROW())),\"\"),\"\")","v":""}]
[{"$f":"IFERROR(IF(INDIRECT($A$14&ROW())<>\"\",COUNTIF(Summary!$B$30:$B$1082,INDIRECT($A$14&ROW())),\"\"),\"\")","v":""}]
[{"$f":"IFERROR(IF(INDIRECT($A$14&ROW())<>\"\",COUNTIF(Summary!$B$30:$B$1082,INDIRECT($A$14&ROW())),\"\"),\"\")","v":""}]
[{"$f":"IFERROR(IF(INDIRECT($A$14&ROW())<>\"\",COUNTIF(Summary!$B$30:$B$1082,INDIRECT($A$14&ROW())),\"\"),\"\")","v":""}]
[{"$f":"IFERROR(IF(INDIRECT($A$14&ROW())<>\"\",COUNTIF(Summary!$B$30:$B$1082,INDIRECT($A$14&ROW())),\"\"),\"\")","v":""}]
[{"$f":"IFERROR(IF(INDIRECT($A$14&ROW())<>\"\",COUNTIF(Summary!$B$30:$B$1082,INDIRECT($A$14&ROW())),\"\"),\"\")","v":""}]
[{"$f":"IFERROR(IF(INDIRECT($A$14&ROW())<>\"\",COUNTIF(Summary!$B$30:$B$1082,INDIRECT($A$14&ROW())),\"\"),\"\")","v":""}]
[{"$f":"IFERROR(IF(INDIRECT($A$14&ROW())<>\"\",COUNTIF(Summary!$B$30:$B$1082,INDIRECT($A$14&ROW())),\"\"),\"\")","v":""}]
[{"$f":"IFERROR(IF(INDIRECT($A$14&ROW())<>\"\",COUNTIF(Summary!$B$30:$B$1082,INDIRECT($A$14&ROW())),\"\"),\"\")","v":""}]
[{"$f":"IFERROR(IF(INDIRECT($A$14&ROW())<>\"\",COUNTIF(Summary!$B$30:$B$1082,INDIRECT($A$14&ROW())),\"\"),\"\")","v":""}]
[{"$f":"IFERROR(IF(INDIRECT($A$14&ROW())<>\"\",COUNTIF(Summary!$B$30:$B$1082,INDIRECT($A$14&ROW())),\"\"),\"\")","v":""}]
[{"$f":"IFERROR(IF(INDIRECT($A$14&ROW())<>\"\",COUNTIF(Summary!$B$30:$B$1082,INDIRECT($A$14&ROW())),\"\"),\"\")","v":""}]
[{"$f":"IFERROR(IF(INDIRECT($A$14&ROW())<>\"\",COUNTIF(Summary!$B$30:$B$1082,INDIRECT($A$14&ROW())),\"\"),\"\")","v":""}]
[{"$f":"IFERROR(IF(INDIRECT($A$14&ROW())<>\"\",COUNTIF(Summary!$B$30:$B$1082,INDIRECT($A$14&ROW())),\"\"),\"\")","v":""}]
[{"$f":"IFERROR(IF(INDIRECT($A$14&ROW())<>\"\",COUNTIF(Summary!$B$30:$B$1082,INDIRECT($A$14&ROW())),\"\"),\"\")","v":""}]
[{"$f":"IFERROR(IF(INDIRECT($A$14&ROW())<>\"\",COUNTIF(Summary!$B$30:$B$1082,INDIRECT($A$14&ROW())),\"\"),\"\")","v":""}]
[{"$f":"IFERROR(IF(INDIRECT($A$14&ROW())<>\"\",COUNTIF(Summary!$B$30:$B$1082,INDIRECT($A$14&ROW())),\"\"),\"\")","v":""}]
[{"$f":"IFERROR(IF(INDIRECT($A$14&ROW())<>\"\",COUNTIF(Summary!$B$30:$B$1082,INDIRECT($A$14&ROW())),\"\"),\"\")","v":""}]
[{"$f":"IFERROR(IF(INDIRECT($A$14&ROW())<>\"\",COUNTIF(Summary!$B$30:$B$1082,INDIRECT($A$14&ROW())),\"\"),\"\")","v":""}]
[{"$f":"IFERROR(IF(INDIRECT($A$14&ROW())<>\"\",COUNTIF(Summary!$B$30:$B$1082,INDIRECT($A$14&ROW())),\"\"),\"\")","v":""}]
[{"$f":"IFERROR(IF(INDIRECT($A$14&ROW())<>\"\",COUNTIF(Summary!$B$30:$B$1082,INDIRECT($A$14&ROW())),\"\"),\"\")","v":""}]
[{"$f":"IFERROR(IF(INDIRECT($A$14&ROW())<>\"\",COUNTIF(Summary!$B$30:$B$1082,INDIRECT($A$14&ROW())),\"\"),\"\")","v":""}]
[{"$f":"IFERROR(IF(INDIRECT($A$14&ROW())<>\"\",COUNTIF(Summary!$B$30:$B$1082,INDIRECT($A$14&ROW())),\"\"),\"\")","v":""}]
[{"$f":"IFERROR(IF(INDIRECT($A$14&ROW())<>\"\",COUNTIF(Summary!$B$30:$B$1082,INDIRECT($A$14&ROW())),\"\"),\"\")","v":""}]
[{"$f":"IFERROR(IF(INDIRECT($A$14&ROW())<>\"\",COUNTIF(Summary!$B$30:$B$1082,INDIRECT($A$14&ROW())),\"\"),\"\")","v":""}]
[{"$f":"IFERROR(IF(INDIRECT($A$14&ROW())<>\"\",COUNTIF(Summary!$B$30:$B$1082,INDIRECT($A$14&ROW())),\"\"),\"\")","v":""}]
[{"$f":"IFERROR(IF(INDIRECT($A$14&ROW())<>\"\",COUNTIF(Summary!$B$30:$B$1082,INDIRECT($A$14&ROW())),\"\"),\"\")","v":""}]
[{"$f":"IFERROR(IF(INDIRECT($A$14&ROW())<>\"\",COUNTIF(Summary!$B$30:$B$1082,INDIRECT($A$14&ROW())),\"\"),\"\")","v":""}]
[{"$f":"IFERROR(IF(INDIRECT($A$14&ROW())<>\"\",COUNTIF(Summary!$B$30:$B$1082,INDIRECT($A$14&ROW())),\"\"),\"\")","v":""}]
[{"$f":"IFERROR(IF(INDIRECT($A$14&ROW())<>\"\",COUNTIF(Summary!$B$30:$B$1082,INDIRECT($A$14&ROW())),\"\"),\"\")","v":""}]
[{"$f":"IFERROR(IF(INDIRECT($A$14&ROW())<>\"\",COUNTIF(Summary!$B$30:$B$1082,INDIRECT($A$14&ROW())),\"\"),\"\")","v":""}]
[{"$f":"IFERROR(IF(INDIRECT($A$14&ROW())<>\"\",COUNTIF(Summary!$B$30:$B$1082,INDIRECT($A$14&ROW())),\"\"),\"\")","v":""}]
[{"$f":"IFERROR(IF(INDIRECT($A$14&ROW())<>\"\",COUNTIF(Summary!$B$30:$B$1082,INDIRECT($A$14&ROW())),\"\"),\"\")","v":""}]
[{"$f":"IFERROR(IF(INDIRECT($A$14&ROW())<>\"\",COUNTIF(Summary!$B$30:$B$1082,INDIRECT($A$14&ROW())),\"\"),\"\")","v":""}]
[{"$f":"IFERROR(IF(INDIRECT($A$14&ROW())<>\"\",COUNTIF(Summary!$B$30:$B$1082,INDIRECT($A$14&ROW())),\"\"),\"\")","v":""}]
[{"$f":"IFERROR(IF(INDIRECT($A$14&ROW())<>\"\",COUNTIF(Summary!$B$30:$B$1082,INDIRECT($A$14&ROW())),\"\"),\"\")","v":""}]
[{"$f":"IFERROR(IF(INDIRECT($A$14&ROW())<>\"\",COUNTIF(Summary!$B$30:$B$1082,INDIRECT($A$14&ROW())),\"\"),\"\")","v":""}]
[{"$f":"IFERROR(IF(INDIRECT($A$14&ROW())<>\"\",COUNTIF(Summary!$B$30:$B$1082,INDIRECT($A$14&ROW())),\"\"),\"\")","v":""}]
[{"$f":"IFERROR(IF(INDIRECT($A$14&ROW())<>\"\",COUNTIF(Summary!$B$30:$B$1082,INDIRECT($A$14&ROW())),\"\"),\"\")","v":""}]
[{"$f":"IFERROR(IF(INDIRECT($A$14&ROW())<>\"\",COUNTIF(Summary!$B$30:$B$1082,INDIRECT($A$14&ROW())),\"\"),\"\")","v":""}]
[{"$f":"IFERROR(IF(INDIRECT($A$14&ROW())<>\"\",COUNTIF(Summary!$B$30:$B$1082,INDIRECT($A$14&ROW())),\"\"),\"\")","v":""}]
[{"$f":"IFERROR(IF(INDIRECT($A$14&ROW())<>\"\",COUNTIF(Summary!$B$30:$B$1082,INDIRECT($A$14&ROW())),\"\"),\"\")","v":""}]
[{"$f":"IFERROR(IF(INDIRECT($A$14&ROW())<>\"\",COUNTIF(Summary!$B$30:$B$1082,INDIRECT($A$14&ROW())),\"\"),\"\")","v":""}]
[{"$f":"IFERROR(IF(INDIRECT($A$14&ROW())<>\"\",COUNTIF(Summary!$B$30:$B$1082,INDIRECT($A$14&ROW())),\"\"),\"\")","v":""}]
[{"$f":"IFERROR(IF(INDIRECT($A$14&ROW())<>\"\",COUNTIF(Summary!$B$30:$B$1082,INDIRECT($A$14&ROW())),\"\"),\"\")","v":""}]
[{"$f":"IFERROR(IF(INDIRECT($A$14&ROW())<>\"\",COUNTIF(Summary!$B$30:$B$1082,INDIRECT($A$14&ROW())),\"\"),\"\")","v":""}]
[{"$f":"IFERROR(IF(INDIRECT($A$14&ROW())<>\"\",COUNTIF(Summary!$B$30:$B$1082,INDIRECT($A$14&ROW())),\"\"),\"\")","v":""}]
[{"$f":"IFERROR(IF(INDIRECT($A$14&ROW())<>\"\",COUNTIF(Summary!$B$30:$B$1082,INDIRECT($A$14&ROW())),\"\"),\"\")","v":""}]
[{"$f":"IFERROR(IF(INDIRECT($A$14&ROW())<>\"\",COUNTIF(Summary!$B$30:$B$1082,INDIRECT($A$14&ROW())),\"\"),\"\")","v":""}]
[{"$f":"IFERROR(IF(INDIRECT($A$14&ROW())<>\"\",COUNTIF(Summary!$B$30:$B$1082,INDIRECT($A$14&ROW())),\"\"),\"\")","v":""}]
[{"$f":"IFERROR(IF(INDIRECT($A$14&ROW())<>\"\",COUNTIF(Summary!$B$30:$B$1082,INDIRECT($A$14&ROW())),\"\"),\"\")","v":""}]
[{"$f":"IFERROR(IF(INDIRECT($A$14&ROW())<>\"\",COUNTIF(Summary!$B$30:$B$1082,INDIRECT($A$14&ROW())),\"\"),\"\")","v":""}]
[{"$f":"IFERROR(IF(INDIRECT($A$14&ROW())<>\"\",COUNTIF(Summary!$B$30:$B$1082,INDIRECT($A$14&ROW())),\"\"),\"\")","v":""}]
[{"$f":"IFERROR(IF(INDIRECT($A$14&ROW())<>\"\",COUNTIF(Summary!$B$30:$B$1082,INDIRECT($A$14&ROW())),\"\"),\"\")","v":""}]
[{"$f":"IFERROR(IF(INDIRECT($A$14&ROW())<>\"\",COUNTIF(Summary!$B$30:$B$1082,INDIRECT($A$14&ROW())),\"\"),\"\")","v":""}]
[{"$f":"IFERROR(IF(INDIRECT($A$14&ROW())<>\"\",COUNTIF(Summary!$B$30:$B$1082,INDIRECT($A$14&ROW())),\"\"),\"\")","v":""}]
[{"$f":"IFERROR(IF(INDIRECT($A$14&ROW())<>\"\",COUNTIF(Summary!$B$30:$B$1082,INDIRECT($A$14&ROW())),\"\"),\"\")","v":""}]
[{"$f":"IFERROR(IF(INDIRECT($A$14&ROW())<>\"\",COUNTIF(Summary!$B$30:$B$1082,INDIRECT($A$14&ROW())),\"\"),\"\")","v":""}]
[{"$f":"IFERROR(IF(INDIRECT($A$14&ROW())<>\"\",COUNTIF(Summary!$B$30:$B$1082,INDIRECT($A$14&ROW())),\"\"),\"\")","v":""}]
[{"$f":"IFERROR(IF(INDIRECT($A$14&ROW())<>\"\",COUNTIF(Summary!$B$30:$B$1082,INDIRECT($A$14&ROW())),\"\"),\"\")","v":""}]
[{"$f":"IFERROR(IF(INDIRECT($A$14&ROW())<>\"\",COUNTIF(Summary!$B$30:$B$1082,INDIRECT($A$14&ROW())),\"\"),\"\")","v":""}]
[{"$f":"IFERROR(IF(INDIRECT($A$14&ROW())<>\"\",COUNTIF(Summary!$B$30:$B$1082,INDIRECT($A$14&ROW())),\"\"),\"\")","v":""}]
[{"$f":"IFERROR(IF(INDIRECT($A$14&ROW())<>\"\",COUNTIF(Summary!$B$30:$B$1082,INDIRECT($A$14&ROW())),\"\"),\"\")","v":""}]
[{"$f":"IFERROR(IF(INDIRECT($A$14&ROW())<>\"\",COUNTIF(Summary!$B$30:$B$1082,INDIRECT($A$14&ROW())),\"\"),\"\")","v":""}]
[{"$f":"IFERROR(IF(INDIRECT($A$14&ROW())<>\"\",COUNTIF(Summary!$B$30:$B$1082,INDIRECT($A$14&ROW())),\"\"),\"\")","v":""}]
[{"$f":"IFERROR(IF(INDIRECT($A$14&ROW())<>\"\",COUNTIF(Summary!$B$30:$B$1082,INDIRECT($A$14&ROW())),\"\"),\"\")","v":""}]
[{"$f":"IFERROR(IF(INDIRECT($A$14&ROW())<>\"\",COUNTIF(Summary!$B$30:$B$1082,INDIRECT($A$14&ROW())),\"\"),\"\")","v":""}]
[{"$f":"IFERROR(IF(INDIRECT($A$14&ROW())<>\"\",COUNTIF(Summary!$B$30:$B$1082,INDIRECT($A$14&ROW())),\"\"),\"\")","v":""}]
[{"$f":"IFERROR(IF(INDIRECT($A$14&ROW())<>\"\",COUNTIF(Summary!$B$30:$B$1082,INDIRECT($A$14&ROW())),\"\"),\"\")","v":""}]
[{"$f":"IFERROR(IF(INDIRECT($A$14&ROW())<>\"\",COUNTIF(Summary!$B$30:$B$1082,INDIRECT($A$14&ROW())),\"\"),\"\")","v":""}]
[{"$f":"IFERROR(IF(INDIRECT($A$14&ROW())<>\"\",COUNTIF(Summary!$B$30:$B$1082,INDIRECT($A$14&ROW())),\"\"),\"\")","v":""}]
[{"$f":"IFERROR(IF(INDIRECT($A$14&ROW())<>\"\",COUNTIF(Summary!$B$30:$B$1082,INDIRECT($A$14&ROW())),\"\"),\"\")","v":""}]
[{"$f":"IFERROR(IF(INDIRECT($A$14&ROW())<>\"\",COUNTIF(Summary!$B$30:$B$1082,INDIRECT($A$14&ROW())),\"\"),\"\")","v":""}]
[{"$f":"IFERROR(IF(INDIRECT($A$14&ROW())<>\"\",COUNTIF(Summary!$B$30:$B$1082,INDIRECT($A$14&ROW())),\"\"),\"\")","v":""}]
[{"$f":"IFERROR(IF(INDIRECT($A$14&ROW())<>\"\",COUNTIF(Summary!$B$30:$B$1082,INDIRECT($A$14&ROW())),\"\"),\"\")","v":""}]
[{"$f":"IFERROR(IF(INDIRECT($A$14&ROW())<>\"\",COUNTIF(Summary!$B$30:$B$1082,INDIRECT($A$14&ROW())),\"\"),\"\")","v":""}]
[{"$f":"IFERROR(IF(INDIRECT($A$14&ROW())<>\"\",COUNTIF(Summary!$B$30:$B$1082,INDIRECT($A$14&ROW())),\"\"),\"\")","v":""}]
[{"$f":"IFERROR(IF(INDIRECT($A$14&ROW())<>\"\",COUNTIF(Summary!$B$30:$B$1082,INDIRECT($A$14&ROW())),\"\"),\"\")","v":""}]
[{"$f":"IFERROR(IF(INDIRECT($A$14&ROW())<>\"\",COUNTIF(Summary!$B$30:$B$1082,INDIRECT($A$14&ROW())),\"\"),\"\")","v":""}]
[{"$f":"IFERROR(IF(INDIRECT($A$14&ROW())<>\"\",COUNTIF(Summary!$B$30:$B$1082,INDIRECT($A$14&ROW())),\"\"),\"\")","v":""}]
[{"$f":"IFERROR(IF(INDIRECT($A$14&ROW())<>\"\",COUNTIF(Summary!$B$30:$B$1082,INDIRECT($A$14&ROW())),\"\"),\"\")","v":""}]
[{"$f":"IFERROR(IF(INDIRECT($A$14&ROW())<>\"\",COUNTIF(Summary!$B$30:$B$1082,INDIRECT($A$14&ROW())),\"\"),\"\")","v":""}]
[{"$f":"IFERROR(IF(INDIRECT($A$14&ROW())<>\"\",COUNTIF(Summary!$B$30:$B$1082,INDIRECT($A$14&ROW())),\"\"),\"\")","v":""}]
[{"$f":"IFERROR(IF(INDIRECT($A$14&ROW())<>\"\",COUNTIF(Summary!$B$30:$B$1082,INDIRECT($A$14&ROW())),\"\"),\"\")","v":""}]
[{"$f":"IFERROR(IF(INDIRECT($A$14&ROW())<>\"\",COUNTIF(Summary!$B$30:$B$1082,INDIRECT($A$14&ROW())),\"\"),\"\")","v":""}]
[{"$f":"IFERROR(IF(INDIRECT($A$14&ROW())<>\"\",COUNTIF(Summary!$B$30:$B$1082,INDIRECT($A$14&ROW())),\"\"),\"\")","v":""}]
[{"$f":"IFERROR(IF(INDIRECT($A$14&ROW())<>\"\",COUNTIF(Summary!$B$30:$B$1082,INDIRECT($A$14&ROW())),\"\"),\"\")","v":""}]
[{"$f":"IFERROR(IF(INDIRECT($A$14&ROW())<>\"\",COUNTIF(Summary!$B$30:$B$1082,INDIRECT($A$14&ROW())),\"\"),\"\")","v":""}]
[{"$f":"IFERROR(IF(INDIRECT($A$14&ROW())<>\"\",COUNTIF(Summary!$B$30:$B$1082,INDIRECT($A$14&ROW())),\"\"),\"\")","v":""}]
[{"$f":"IFERROR(IF(INDIRECT($A$14&ROW())<>\"\",COUNTIF(Summary!$B$30:$B$1082,INDIRECT($A$14&ROW())),\"\"),\"\")","v":""}]
[{"$f":"IFERROR(IF(INDIRECT($A$14&ROW())<>\"\",COUNTIF(Summary!$B$30:$B$1082,INDIRECT($A$14&ROW())),\"\"),\"\")","v":""}]
[{"$f":"IFERROR(IF(INDIRECT($A$14&ROW())<>\"\",COUNTIF(Summary!$B$30:$B$1082,INDIRECT($A$14&ROW())),\"\"),\"\")","v":""}]
[{"$f":"IFERROR(IF(INDIRECT($A$14&ROW())<>\"\",COUNTIF(Summary!$B$30:$B$1082,INDIRECT($A$14&ROW())),\"\"),\"\")","v":""}]
[{"$f":"IFERROR(IF(INDIRECT($A$14&ROW())<>\"\",COUNTIF(Summary!$B$30:$B$1082,INDIRECT($A$14&ROW())),\"\"),\"\")","v":""}]
[{"$f":"IFERROR(IF(INDIRECT($A$14&ROW())<>\"\",COUNTIF(Summary!$B$30:$B$1082,INDIRECT($A$14&ROW())),\"\"),\"\")","v":""}]
[{"$f":"IFERROR(IF(INDIRECT($A$14&ROW())<>\"\",COUNTIF(Summary!$B$30:$B$1082,INDIRECT($A$14&ROW())),\"\"),\"\")","v":""}]
[{"$f":"IFERROR(IF(INDIRECT($A$14&ROW())<>\"\",COUNTIF(Summary!$B$30:$B$1082,INDIRECT($A$14&ROW())),\"\"),\"\")","v":""}]
[{"$f":"IFERROR(IF(INDIRECT($A$14&ROW())<>\"\",COUNTIF(Summary!$B$30:$B$1082,INDIRECT($A$14&ROW())),\"\"),\"\")","v":""}]
[{"$f":"IFERROR(IF(INDIRECT($A$14&ROW())<>\"\",COUNTIF(Summary!$B$30:$B$1082,INDIRECT($A$14&ROW())),\"\"),\"\")","v":""}]
[{"$f":"IFERROR(IF(INDIRECT($A$14&ROW())<>\"\",COUNTIF(Summary!$B$30:$B$1082,INDIRECT($A$14&ROW())),\"\"),\"\")","v":""}]
[{"$f":"IFERROR(IF(INDIRECT($A$14&ROW())<>\"\",COUNTIF(Summary!$B$30:$B$1082,INDIRECT($A$14&ROW())),\"\"),\"\")","v":""}]
[{"$f":"IFERROR(IF(INDIRECT($A$14&ROW())<>\"\",COUNTIF(Summary!$B$30:$B$1082,INDIRECT($A$14&ROW())),\"\"),\"\")","v":""}]
[{"$f":"IFERROR(IF(INDIRECT($A$14&ROW())<>\"\",COUNTIF(Summary!$B$30:$B$1082,INDIRECT($A$14&ROW())),\"\"),\"\")","v":""}]
[{"$f":"IFERROR(IF(INDIRECT($A$14&ROW())<>\"\",COUNTIF(Summary!$B$30:$B$1082,INDIRECT($A$14&ROW())),\"\"),\"\")","v":""}]
[{"$f":"IFERROR(IF(INDIRECT($A$14&ROW())<>\"\",COUNTIF(Summary!$B$30:$B$1082,INDIRECT($A$14&ROW())),\"\"),\"\")","v":""}]
[{"$f":"IFERROR(IF(INDIRECT($A$14&ROW())<>\"\",COUNTIF(Summary!$B$30:$B$1082,INDIRECT($A$14&ROW())),\"\"),\"\")","v":""}]
[{"$f":"IFERROR(IF(INDIRECT($A$14&ROW())<>\"\",COUNTIF(Summary!$B$30:$B$1082,INDIRECT($A$14&ROW())),\"\"),\"\")","v":""}]
[{"$f":"IFERROR(IF(INDIRECT($A$14&ROW())<>\"\",COUNTIF(Summary!$B$30:$B$1082,INDIRECT($A$14&ROW())),\"\"),\"\")","v":""}]
[{"$f":"IFERROR(IF(INDIRECT($A$14&ROW())<>\"\",COUNTIF(Summary!$B$30:$B$1082,INDIRECT($A$14&ROW())),\"\"),\"\")","v":""}]
[{"$f":"IFERROR(IF(INDIRECT($A$14&ROW())<>\"\",COUNTIF(Summary!$B$30:$B$1082,INDIRECT($A$14&ROW())),\"\"),\"\")","v":""}]
[{"$f":"IFERROR(IF(INDIRECT($A$14&ROW())<>\"\",COUNTIF(Summary!$B$30:$B$1082,INDIRECT($A$14&ROW())),\"\"),\"\")","v":""}]
[{"$f":"IFERROR(IF(INDIRECT($A$14&ROW())<>\"\",COUNTIF(Summary!$B$30:$B$1082,INDIRECT($A$14&ROW())),\"\"),\"\")","v":""}]
[{"$f":"IFERROR(IF(INDIRECT($A$14&ROW())<>\"\",COUNTIF(Summary!$B$30:$B$1082,INDIRECT($A$14&ROW())),\"\"),\"\")","v":""}]
[{"$f":"IFERROR(IF(INDIRECT($A$14&ROW())<>\"\",COUNTIF(Summary!$B$30:$B$1082,INDIRECT($A$14&ROW())),\"\"),\"\")","v":""}]
[{"$f":"IFERROR(IF(INDIRECT($A$14&ROW())<>\"\",COUNTIF(Summary!$B$30:$B$1082,INDIRECT($A$14&ROW())),\"\"),\"\")","v":""}]
[{"$f":"IFERROR(IF(INDIRECT($A$14&ROW())<>\"\",COUNTIF(Summary!$B$30:$B$1082,INDIRECT($A$14&ROW())),\"\"),\"\")","v":""}]
[{"$f":"IFERROR(IF(INDIRECT($A$14&ROW())<>\"\",COUNTIF(Summary!$B$30:$B$1082,INDIRECT($A$14&ROW())),\"\"),\"\")","v":""}]
[{"$f":"IFERROR(IF(INDIRECT($A$14&ROW())<>\"\",COUNTIF(Summary!$B$30:$B$1082,INDIRECT($A$14&ROW())),\"\"),\"\")","v":""}]
[{"$f":"IFERROR(IF(INDIRECT($A$14&ROW())<>\"\",COUNTIF(Summary!$B$30:$B$1082,INDIRECT($A$14&ROW())),\"\"),\"\")","v":""}]
[{"$f":"IFERROR(IF(INDIRECT($A$14&ROW())<>\"\",COUNTIF(Summary!$B$30:$B$1082,INDIRECT($A$14&ROW())),\"\"),\"\")","v":""}]
[{"$f":"IFERROR(IF(INDIRECT($A$14&ROW())<>\"\",COUNTIF(Summary!$B$30:$B$1082,INDIRECT($A$14&ROW())),\"\"),\"\")","v":""}]
[{"$f":"IFERROR(IF(INDIRECT($A$14&ROW())<>\"\",COUNTIF(Summary!$B$30:$B$1082,INDIRECT($A$14&ROW())),\"\"),\"\")","v":""}]
[{"$f":"IFERROR(IF(INDIRECT($A$14&ROW())<>\"\",COUNTIF(Summary!$B$30:$B$1082,INDIRECT($A$14&ROW())),\"\"),\"\")","v":""}]
[{"$f":"IFERROR(IF(INDIRECT($A$14&ROW())<>\"\",COUNTIF(Summary!$B$30:$B$1082,INDIRECT($A$14&ROW())),\"\"),\"\")","v":""}]
[{"$f":"IFERROR(IF(INDIRECT($A$14&ROW())<>\"\",COUNTIF(Summary!$B$30:$B$1082,INDIRECT($A$14&ROW())),\"\"),\"\")","v":""}]
[{"$f":"IFERROR(IF(INDIRECT($A$14&ROW())<>\"\",COUNTIF(Summary!$B$30:$B$1082,INDIRECT($A$14&ROW())),\"\"),\"\")","v":""}]
[{"$f":"IFERROR(IF(INDIRECT($A$14&ROW())<>\"\",COUNTIF(Summary!$B$30:$B$1082,INDIRECT($A$14&ROW())),\"\"),\"\")","v":""}]
[{"$f":"IFERROR(IF(INDIRECT($A$14&ROW())<>\"\",COUNTIF(Summary!$B$30:$B$1082,INDIRECT($A$14&ROW())),\"\"),\"\")","v":""}]
[{"$f":"IFERROR(IF(INDIRECT($A$14&ROW())<>\"\",COUNTIF(Summary!$B$30:$B$1082,INDIRECT($A$14&ROW())),\"\"),\"\")","v":""}]
[{"$f":"IFERROR(IF(INDIRECT($A$14&ROW())<>\"\",COUNTIF(Summary!$B$30:$B$1082,INDIRECT($A$14&ROW())),\"\"),\"\")","v":""}]
[{"$f":"IFERROR(IF(INDIRECT($A$14&ROW())<>\"\",COUNTIF(Summary!$B$30:$B$1082,INDIRECT($A$14&ROW())),\"\"),\"\")","v":""}]
[{"$f":"IFERROR(IF(INDIRECT($A$14&ROW())<>\"\",COUNTIF(Summary!$B$30:$B$1082,INDIRECT($A$14&ROW())),\"\"),\"\")","v":""}]
[{"$f":"IFERROR(IF(INDIRECT($A$14&ROW())<>\"\",COUNTIF(Summary!$B$30:$B$1082,INDIRECT($A$14&ROW())),\"\"),\"\")","v":""}]
[{"$f":"IFERROR(IF(INDIRECT($A$14&ROW())<>\"\",COUNTIF(Summary!$B$30:$B$1082,INDIRECT($A$14&ROW())),\"\"),\"\")","v":""}]
[{"$f":"IFERROR(IF(INDIRECT($A$14&ROW())<>\"\",COUNTIF(Summary!$B$30:$B$1082,INDIRECT($A$14&ROW())),\"\"),\"\")","v":""}]
[{"$f":"IFERROR(IF(INDIRECT($A$14&ROW())<>\"\",COUNTIF(Summary!$B$30:$B$1082,INDIRECT($A$14&ROW())),\"\"),\"\")","v":""}]
[{"$f":"IFERROR(IF(INDIRECT($A$14&ROW())<>\"\",COUNTIF(Summary!$B$30:$B$1082,INDIRECT($A$14&ROW())),\"\"),\"\")","v":""}]
[{"$f":"IFERROR(IF(INDIRECT($A$14&ROW())<>\"\",COUNTIF(Summary!$B$30:$B$1082,INDIRECT($A$14&ROW())),\"\"),\"\")","v":""}]
[{"$f":"IFERROR(IF(INDIRECT($A$14&ROW())<>\"\",COUNTIF(Summary!$B$30:$B$1082,INDIRECT($A$14&ROW())),\"\"),\"\")","v":""}]
[{"$f":"IFERROR(IF(INDIRECT($A$14&ROW())<>\"\",COUNTIF(Summary!$B$30:$B$1082,INDIRECT($A$14&ROW())),\"\"),\"\")","v":""}]
[{"$f":"IFERROR(IF(INDIRECT($A$14&ROW())<>\"\",COUNTIF(Summary!$B$30:$B$1082,INDIRECT($A$14&ROW())),\"\"),\"\")","v":""}]
[{"$f":"IFERROR(IF(INDIRECT($A$14&ROW())<>\"\",COUNTIF(Summary!$B$30:$B$1082,INDIRECT($A$14&ROW())),\"\"),\"\")","v":""}]
[{"$f":"IFERROR(IF(INDIRECT($A$14&ROW())<>\"\",COUNTIF(Summary!$B$30:$B$1082,INDIRECT($A$14&ROW())),\"\"),\"\")","v":""}]
[{"$f":"IFERROR(IF(INDIRECT($A$14&ROW())<>\"\",COUNTIF(Summary!$B$30:$B$1082,INDIRECT($A$14&ROW())),\"\"),\"\")","v":""}]
[{"$f":"IFERROR(IF(INDIRECT($A$14&ROW())<>\"\",COUNTIF(Summary!$B$30:$B$1082,INDIRECT($A$14&ROW())),\"\"),\"\")","v":""}]
[{"$f":"IFERROR(IF(INDIRECT($A$14&ROW())<>\"\",COUNTIF(Summary!$B$30:$B$1082,INDIRECT($A$14&ROW())),\"\"),\"\")","v":""}]
[{"$f":"IFERROR(IF(INDIRECT($A$14&ROW())<>\"\",COUNTIF(Summary!$B$30:$B$1082,INDIRECT($A$14&ROW())),\"\"),\"\")","v":""}]
[{"$f":"IFERROR(IF(INDIRECT($A$14&ROW())<>\"\",COUNTIF(Summary!$B$30:$B$1082,INDIRECT($A$14&ROW())),\"\"),\"\")","v":""}]
[{"$f":"IFERROR(IF(INDIRECT($A$14&ROW())<>\"\",COUNTIF(Summary!$B$30:$B$1082,INDIRECT($A$14&ROW())),\"\"),\"\")","v":""}]
[{"$f":"IFERROR(IF(INDIRECT($A$14&ROW())<>\"\",COUNTIF(Summary!$B$30:$B$1082,INDIRECT($A$14&ROW())),\"\"),\"\")","v":""}]
[{"$f":"IFERROR(IF(INDIRECT($A$14&ROW())<>\"\",COUNTIF(Summary!$B$30:$B$1082,INDIRECT($A$14&ROW())),\"\"),\"\")","v":""}]
[{"$f":"IFERROR(IF(INDIRECT($A$14&ROW())<>\"\",COUNTIF(Summary!$B$30:$B$1082,INDIRECT($A$14&ROW())),\"\"),\"\")","v":""}]
[{"$f":"IFERROR(IF(INDIRECT($A$14&ROW())<>\"\",COUNTIF(Summary!$B$30:$B$1082,INDIRECT($A$14&ROW())),\"\"),\"\")","v":""}]
[{"$f":"IFERROR(IF(INDIRECT($A$14&ROW())<>\"\",COUNTIF(Summary!$B$30:$B$1082,INDIRECT($A$14&ROW())),\"\"),\"\")","v":""}]
[{"$f":"IFERROR(IF(INDIRECT($A$14&ROW())<>\"\",COUNTIF(Summary!$B$30:$B$1082,INDIRECT($A$14&ROW())),\"\"),\"\")","v":""}]
[{"$f":"IFERROR(IF(INDIRECT($A$14&ROW())<>\"\",COUNTIF(Summary!$B$30:$B$1082,INDIRECT($A$14&ROW())),\"\"),\"\")","v":""}]
[{"$f":"IFERROR(IF(INDIRECT($A$14&ROW())<>\"\",COUNTIF(Summary!$B$30:$B$1082,INDIRECT($A$14&ROW())),\"\"),\"\")","v":""}]
[{"$f":"IFERROR(IF(INDIRECT($A$14&ROW())<>\"\",COUNTIF(Summary!$B$30:$B$1082,INDIRECT($A$14&ROW())),\"\"),\"\")","v":""}]
[{"$f":"IFERROR(IF(INDIRECT($A$14&ROW())<>\"\",COUNTIF(Summary!$B$30:$B$1082,INDIRECT($A$14&ROW())),\"\"),\"\")","v":""}]
[{"$f":"IFERROR(IF(INDIRECT($A$14&ROW())<>\"\",COUNTIF(Summary!$B$30:$B$1082,INDIRECT($A$14&ROW())),\"\"),\"\")","v":""}]
[{"$f":"IFERROR(IF(INDIRECT($A$14&ROW())<>\"\",COUNTIF(Summary!$B$30:$B$1082,INDIRECT($A$14&ROW())),\"\"),\"\")","v":""}]
[{"$f":"IFERROR(IF(INDIRECT($A$14&ROW())<>\"\",COUNTIF(Summary!$B$30:$B$1082,INDIRECT($A$14&ROW())),\"\"),\"\")","v":""}]
[{"$f":"IFERROR(IF(INDIRECT($A$14&ROW())<>\"\",COUNTIF(Summary!$B$30:$B$1082,INDIRECT($A$14&ROW())),\"\"),\"\")","v":""}]
[{"$f":"IFERROR(IF(INDIRECT($A$14&ROW())<>\"\",COUNTIF(Summary!$B$30:$B$1082,INDIRECT($A$14&ROW())),\"\"),\"\")","v":""}]
[{"$f":"IFERROR(IF(INDIRECT($A$14&ROW())<>\"\",COUNTIF(Summary!$B$30:$B$1082,INDIRECT($A$14&ROW())),\"\"),\"\")","v":""}]
[{"$f":"IFERROR(IF(INDIRECT($A$14&ROW())<>\"\",COUNTIF(Summary!$B$30:$B$1082,INDIRECT($A$14&ROW())),\"\"),\"\")","v":""}]
[{"$f":"IFERROR(IF(INDIRECT($A$14&ROW())<>\"\",COUNTIF(Summary!$B$30:$B$1082,INDIRECT($A$14&ROW())),\"\"),\"\")","v":""}]
[{"$f":"IFERROR(IF(INDIRECT($A$14&ROW())<>\"\",COUNTIF(Summary!$B$30:$B$1082,INDIRECT($A$14&ROW())),\"\"),\"\")","v":""}]
[{"$f":"IFERROR(IF(INDIRECT($A$14&ROW())<>\"\",COUNTIF(Summary!$B$30:$B$1082,INDIRECT($A$14&ROW())),\"\"),\"\")","v":""}]
[{"$f":"IFERROR(IF(INDIRECT($A$14&ROW())<>\"\",COUNTIF(Summary!$B$30:$B$1082,INDIRECT($A$14&ROW())),\"\"),\"\")","v":""}]
[{"$f":"IFERROR(IF(INDIRECT($A$14&ROW())<>\"\",COUNTIF(Summary!$B$30:$B$1082,INDIRECT($A$14&ROW())),\"\"),\"\")","v":""}]
[{"$f":"IFERROR(IF(INDIRECT($A$14&ROW())<>\"\",COUNTIF(Summary!$B$30:$B$1082,INDIRECT($A$14&ROW())),\"\"),\"\")","v":""}]
[{"$f":"IFERROR(IF(INDIRECT($A$14&ROW())<>\"\",COUNTIF(Summary!$B$30:$B$1082,INDIRECT($A$14&ROW())),\"\"),\"\")","v":""}]
[{"$f":"IFERROR(IF(INDIRECT($A$14&ROW())<>\"\",COUNTIF(Summary!$B$30:$B$1082,INDIRECT($A$14&ROW())),\"\"),\"\")","v":""}]
[{"$f":"IFERROR(IF(INDIRECT($A$14&ROW())<>\"\",COUNTIF(Summary!$B$30:$B$1082,INDIRECT($A$14&ROW())),\"\"),\"\")","v":""}]
[{"$f":"IFERROR(IF(INDIRECT($A$14&ROW())<>\"\",COUNTIF(Summary!$B$30:$B$1082,INDIRECT($A$14&ROW())),\"\"),\"\")","v":""}]
[{"$f":"IFERROR(IF(INDIRECT($A$14&ROW())<>\"\",COUNTIF(Summary!$B$30:$B$1082,INDIRECT($A$14&ROW())),\"\"),\"\")","v":""}]
[{"$f":"IFERROR(IF(INDIRECT($A$14&ROW())<>\"\",COUNTIF(Summary!$B$30:$B$1082,INDIRECT($A$14&ROW())),\"\"),\"\")","v":""}]
[{"$f":"IFERROR(IF(INDIRECT($A$14&ROW())<>\"\",COUNTIF(Summary!$B$30:$B$1082,INDIRECT($A$14&ROW())),\"\"),\"\")","v":""}]
[{"$f":"IFERROR(IF(INDIRECT($A$14&ROW())<>\"\",COUNTIF(Summary!$B$30:$B$1082,INDIRECT($A$14&ROW())),\"\"),\"\")","v":""}]
[{"$f":"IFERROR(IF(INDIRECT($A$14&ROW())<>\"\",COUNTIF(Summary!$B$30:$B$1082,INDIRECT($A$14&ROW())),\"\"),\"\")","v":""}]
[{"$f":"IFERROR(IF(INDIRECT($A$14&ROW())<>\"\",COUNTIF(Summary!$B$30:$B$1082,INDIRECT($A$14&ROW())),\"\"),\"\")","v":""}]
[{"$f":"IFERROR(IF(INDIRECT($A$14&ROW())<>\"\",COUNTIF(Summary!$B$30:$B$1082,INDIRECT($A$14&ROW())),\"\"),\"\")","v":""}]
[{"$f":"IFERROR(IF(INDIRECT($A$14&ROW())<>\"\",COUNTIF(Summary!$B$30:$B$1082,INDIRECT($A$14&ROW())),\"\"),\"\")","v":""}]
[{"$f":"IFERROR(IF(INDIRECT($A$14&ROW())<>\"\",COUNTIF(Summary!$B$30:$B$1082,INDIRECT($A$14&ROW())),\"\"),\"\")","v":""}]
[{"$f":"IFERROR(IF(INDIRECT($A$14&ROW())<>\"\",COUNTIF(Summary!$B$30:$B$1082,INDIRECT($A$14&ROW())),\"\"),\"\")","v":""}]
[{"$f":"IFERROR(IF(INDIRECT($A$14&ROW())<>\"\",COUNTIF(Summary!$B$30:$B$1082,INDIRECT($A$14&ROW())),\"\"),\"\")","v":""}]
[{"$f":"IFERROR(IF(INDIRECT($A$14&ROW())<>\"\",COUNTIF(Summary!$B$30:$B$1082,INDIRECT($A$14&ROW())),\"\"),\"\")","v":""}]
[{"$f":"IFERROR(IF(INDIRECT($A$14&ROW())<>\"\",COUNTIF(Summary!$B$30:$B$1082,INDIRECT($A$14&ROW())),\"\"),\"\")","v":""}]
[{"$f":"IFERROR(IF(INDIRECT($A$14&ROW())<>\"\",COUNTIF(Summary!$B$30:$B$1082,INDIRECT($A$14&ROW())),\"\"),\"\")","v":""}]
[{"$f":"IFERROR(IF(INDIRECT($A$14&ROW())<>\"\",COUNTIF(Summary!$B$30:$B$1082,INDIRECT($A$14&ROW())),\"\"),\"\")","v":""}]
[{"$f":"IFERROR(IF(INDIRECT($A$14&ROW())<>\"\",COUNTIF(Summary!$B$30:$B$1082,INDIRECT($A$14&ROW())),\"\"),\"\")","v":""}]
[{"$f":"IFERROR(IF(INDIRECT($A$14&ROW())<>\"\",COUNTIF(Summary!$B$30:$B$1082,INDIRECT($A$14&ROW())),\"\"),\"\")","v":""}]
[{"$f":"IFERROR(IF(INDIRECT($A$14&ROW())<>\"\",COUNTIF(Summary!$B$30:$B$1082,INDIRECT($A$14&ROW())),\"\"),\"\")","v":""}]
[{"$f":"IFERROR(IF(INDIRECT($A$14&ROW())<>\"\",COUNTIF(Summary!$B$30:$B$1082,INDIRECT($A$14&ROW())),\"\"),\"\")","v":""}]
[{"$f":"IFERROR(IF(INDIRECT($A$14&ROW())<>\"\",COUNTIF(Summary!$B$30:$B$1082,INDIRECT($A$14&ROW())),\"\"),\"\")","v":""}]
[{"$f":"IFERROR(IF(INDIRECT($A$14&ROW())<>\"\",COUNTIF(Summary!$B$30:$B$1082,INDIRECT($A$14&ROW())),\"\"),\"\")","v":""}]
[{"$f":"IFERROR(IF(INDIRECT($A$14&ROW())<>\"\",COUNTIF(Summary!$B$30:$B$1082,INDIRECT($A$14&ROW())),\"\"),\"\")","v":""}]
[{"$f":"IFERROR(IF(INDIRECT($A$14&ROW())<>\"\",COUNTIF(Summary!$B$30:$B$1082,INDIRECT($A$14&ROW())),\"\"),\"\")","v":""}]
[{"$f":"IFERROR(IF(INDIRECT($A$14&ROW())<>\"\",COUNTIF(Summary!$B$30:$B$1082,INDIRECT($A$14&ROW())),\"\"),\"\")","v":""}]
[{"$f":"IFERROR(IF(INDIRECT($A$14&ROW())<>\"\",COUNTIF(Summary!$B$30:$B$1082,INDIRECT($A$14&ROW())),\"\"),\"\")","v":""}]
[{"$f":"IFERROR(IF(INDIRECT($A$14&ROW())<>\"\",COUNTIF(Summary!$B$30:$B$1082,INDIRECT($A$14&ROW())),\"\"),\"\")","v":""}]
[{"$f":"IFERROR(IF(INDIRECT($A$14&ROW())<>\"\",COUNTIF(Summary!$B$30:$B$1082,INDIRECT($A$14&ROW())),\"\"),\"\")","v":""}]
[{"$f":"IFERROR(IF(INDIRECT($A$14&ROW())<>\"\",COUNTIF(Summary!$B$30:$B$1082,INDIRECT($A$14&ROW())),\"\"),\"\")","v":""}]
[{"$f":"IFERROR(IF(INDIRECT($A$14&ROW())<>\"\",COUNTIF(Summary!$B$30:$B$1082,INDIRECT($A$14&ROW())),\"\"),\"\")","v":""}]
[{"$f":"IFERROR(IF(INDIRECT($A$14&ROW())<>\"\",COUNTIF(Summary!$B$30:$B$1082,INDIRECT($A$14&ROW())),\"\"),\"\")","v":""}]
[{"$f":"IFERROR(IF(INDIRECT($A$14&ROW())<>\"\",COUNTIF(Summary!$B$30:$B$1082,INDIRECT($A$14&ROW())),\"\"),\"\")","v":""}]
[{"$f":"IFERROR(IF(INDIRECT($A$14&ROW())<>\"\",COUNTIF(Summary!$B$30:$B$1082,INDIRECT($A$14&ROW())),\"\"),\"\")","v":""}]
[{"$f":"IFERROR(IF(INDIRECT($A$14&ROW())<>\"\",COUNTIF(Summary!$B$30:$B$1082,INDIRECT($A$14&ROW())),\"\"),\"\")","v":""}]
[{"$f":"IFERROR(IF(INDIRECT($A$14&ROW())<>\"\",COUNTIF(Summary!$B$30:$B$1082,INDIRECT($A$14&ROW())),\"\"),\"\")","v":""}]
[{"$f":"IFERROR(IF(INDIRECT($A$14&ROW())<>\"\",COUNTIF(Summary!$B$30:$B$1082,INDIRECT($A$14&ROW())),\"\"),\"\")","v":""}]
[{"$f":"IFERROR(IF(INDIRECT($A$14&ROW())<>\"\",COUNTIF(Summary!$B$30:$B$1082,INDIRECT($A$14&ROW())),\"\"),\"\")","v":""}]
[{"$f":"IFERROR(IF(INDIRECT($A$14&ROW())<>\"\",COUNTIF(Summary!$B$30:$B$1082,INDIRECT($A$14&ROW())),\"\"),\"\")","v":""}]
[{"$f":"IFERROR(IF(INDIRECT($A$14&ROW())<>\"\",COUNTIF(Summary!$B$30:$B$1082,INDIRECT($A$14&ROW())),\"\"),\"\")","v":""}]
[{"$f":"IFERROR(IF(INDIRECT($A$14&ROW())<>\"\",COUNTIF(Summary!$B$30:$B$1082,INDIRECT($A$14&ROW())),\"\"),\"\")","v":""}]
[{"$f":"IFERROR(IF(INDIRECT($A$14&ROW())<>\"\",COUNTIF(Summary!$B$30:$B$1082,INDIRECT($A$14&ROW())),\"\"),\"\")","v":""}]
[{"$f":"IFERROR(IF(INDIRECT($A$14&ROW())<>\"\",COUNTIF(Summary!$B$30:$B$1082,INDIRECT($A$14&ROW())),\"\"),\"\")","v":""}]
[{"$f":"IFERROR(IF(INDIRECT($A$14&ROW())<>\"\",COUNTIF(Summary!$B$30:$B$1082,INDIRECT($A$14&ROW())),\"\"),\"\")","v":""}]
[{"$f":"IFERROR(IF(INDIRECT($A$14&ROW())<>\"\",COUNTIF(Summary!$B$30:$B$1082,INDIRECT($A$14&ROW())),\"\"),\"\")","v":""}]
[{"$f":"IFERROR(IF(INDIRECT($A$14&ROW())<>\"\",COUNTIF(Summary!$B$30:$B$1082,INDIRECT($A$14&ROW())),\"\"),\"\")","v":""}]
[{"$f":"IFERROR(IF(INDIRECT($A$14&ROW())<>\"\",COUNTIF(Summary!$B$30:$B$1082,INDIRECT($A$14&ROW())),\"\"),\"\")","v":""}]
[{"$f":"IFERROR(IF(INDIRECT($A$14&ROW())<>\"\",COUNTIF(Summary!$B$30:$B$1082,INDIRECT($A$14&ROW())),\"\"),\"\")","v":""}]
[{"$f":"IFERROR(IF(INDIRECT($A$14&ROW())<>\"\",COUNTIF(Summary!$B$30:$B$1082,INDIRECT($A$14&ROW())),\"\"),\"\")","v":""}]
[{"$f":"IFERROR(IF(INDIRECT($A$14&ROW())<>\"\",COUNTIF(Summary!$B$30:$B$1082,INDIRECT($A$14&ROW())),\"\"),\"\")","v":""}]
[{"$f":"IFERROR(IF(INDIRECT($A$14&ROW())<>\"\",COUNTIF(Summary!$B$30:$B$1082,INDIRECT($A$14&ROW())),\"\"),\"\")","v":""}]
[{"$f":"IFERROR(IF(INDIRECT($A$14&ROW())<>\"\",COUNTIF(Summary!$B$30:$B$1082,INDIRECT($A$14&ROW())),\"\"),\"\")","v":""}]
[{"$f":"IFERROR(IF(INDIRECT($A$14&ROW())<>\"\",COUNTIF(Summary!$B$30:$B$1082,INDIRECT($A$14&ROW())),\"\"),\"\")","v":""}]
[{"$f":"IFERROR(IF(INDIRECT($A$14&ROW())<>\"\",COUNTIF(Summary!$B$30:$B$1082,INDIRECT($A$14&ROW())),\"\"),\"\")","v":""}]
[{"$f":"IFERROR(IF(INDIRECT($A$14&ROW())<>\"\",COUNTIF(Summary!$B$30:$B$1082,INDIRECT($A$14&ROW())),\"\"),\"\")","v":""}]
[{"$f":"IFERROR(IF(INDIRECT($A$14&ROW())<>\"\",COUNTIF(Summary!$B$30:$B$1082,INDIRECT($A$14&ROW())),\"\"),\"\")","v":""}]
[{"$f":"IFERROR(IF(INDIRECT($A$14&ROW())<>\"\",COUNTIF(Summary!$B$30:$B$1082,INDIRECT($A$14&ROW())),\"\"),\"\")","v":""}]
[{"$f":"IFERROR(IF(INDIRECT($A$14&ROW())<>\"\",COUNTIF(Summary!$B$30:$B$1082,INDIRECT($A$14&ROW())),\"\"),\"\")","v":""}]
[{"$f":"IFERROR(IF(INDIRECT($A$14&ROW())<>\"\",COUNTIF(Summary!$B$30:$B$1082,INDIRECT($A$14&ROW())),\"\"),\"\")","v":""}]
[{"$f":"IFERROR(IF(INDIRECT($A$14&ROW())<>\"\",COUNTIF(Summary!$B$30:$B$1082,INDIRECT($A$14&ROW())),\"\"),\"\")","v":""}]
[{"$f":"IFERROR(IF(INDIRECT($A$14&ROW())<>\"\",COUNTIF(Summary!$B$30:$B$1082,INDIRECT($A$14&ROW())),\"\"),\"\")","v":""}]
[{"$f":"IFERROR(IF(INDIRECT($A$14&ROW())<>\"\",COUNTIF(Summary!$B$30:$B$1082,INDIRECT($A$14&ROW())),\"\"),\"\")","v":""}]
[{"$f":"IFERROR(IF(INDIRECT($A$14&ROW())<>\"\",COUNTIF(Summary!$B$30:$B$1082,INDIRECT($A$14&ROW())),\"\"),\"\")","v":""}]
[{"$f":"IFERROR(IF(INDIRECT($A$14&ROW())<>\"\",COUNTIF(Summary!$B$30:$B$1082,INDIRECT($A$14&ROW())),\"\"),\"\")","v":""}]
[{"$f":"IFERROR(IF(INDIRECT($A$14&ROW())<>\"\",COUNTIF(Summary!$B$30:$B$1082,INDIRECT($A$14&ROW())),\"\"),\"\")","v":""}]
[{"$f":"IFERROR(IF(INDIRECT($A$14&ROW())<>\"\",COUNTIF(Summary!$B$30:$B$1082,INDIRECT($A$14&ROW())),\"\"),\"\")","v":""}]
[{"$f":"IFERROR(IF(INDIRECT($A$14&ROW())<>\"\",COUNTIF(Summary!$B$30:$B$1082,INDIRECT($A$14&ROW())),\"\"),\"\")","v":""}]
[{"$f":"IFERROR(IF(INDIRECT($A$14&ROW())<>\"\",COUNTIF(Summary!$B$30:$B$1082,INDIRECT($A$14&ROW())),\"\"),\"\")","v":""}]
[{"$f":"IFERROR(IF(INDIRECT($A$14&ROW())<>\"\",COUNTIF(Summary!$B$30:$B$1082,INDIRECT($A$14&ROW())),\"\"),\"\")","v":""}]
[{"$f":"IFERROR(IF(INDIRECT($A$14&ROW())<>\"\",COUNTIF(Summary!$B$30:$B$1082,INDIRECT($A$14&ROW())),\"\"),\"\")","v":""}]
[{"$f":"IFERROR(IF(INDIRECT($A$14&ROW())<>\"\",COUNTIF(Summary!$B$30:$B$1082,INDIRECT($A$14&ROW())),\"\"),\"\")","v":""}]
[{"$f":"IFERROR(IF(INDIRECT($A$14&ROW())<>\"\",COUNTIF(Summary!$B$30:$B$1082,INDIRECT($A$14&ROW())),\"\"),\"\")","v":""}]
[{"$f":"IFERROR(IF(INDIRECT($A$14&ROW())<>\"\",COUNTIF(Summary!$B$30:$B$1082,INDIRECT($A$14&ROW())),\"\"),\"\")","v":""}]
[{"$f":"IFERROR(IF(INDIRECT($A$14&ROW())<>\"\",COUNTIF(Summary!$B$30:$B$1082,INDIRECT($A$14&ROW())),\"\"),\"\")","v":""}]
[{"$f":"IFERROR(IF(INDIRECT($A$14&ROW())<>\"\",COUNTIF(Summary!$B$30:$B$1082,INDIRECT($A$14&ROW())),\"\"),\"\")","v":""}]
[{"$f":"IFERROR(IF(INDIRECT($A$14&ROW())<>\"\",COUNTIF(Summary!$B$30:$B$1082,INDIRECT($A$14&ROW())),\"\"),\"\")","v":""}]
[{"$f":"IFERROR(IF(INDIRECT($A$14&ROW())<>\"\",COUNTIF(Summary!$B$30:$B$1082,INDIRECT($A$14&ROW())),\"\"),\"\")","v":""}]
[{"$f":"IFERROR(IF(INDIRECT($A$14&ROW())<>\"\",COUNTIF(Summary!$B$30:$B$1082,INDIRECT($A$14&ROW())),\"\"),\"\")","v":""}]
[{"$f":"IFERROR(IF(INDIRECT($A$14&ROW())<>\"\",COUNTIF(Summary!$B$30:$B$1082,INDIRECT($A$14&ROW())),\"\"),\"\")","v":""}]
[{"$f":"IFERROR(IF(INDIRECT($A$14&ROW())<>\"\",COUNTIF(Summary!$B$30:$B$1082,INDIRECT($A$14&ROW())),\"\"),\"\")","v":""}]
[{"$f":"IFERROR(IF(INDIRECT($A$14&ROW())<>\"\",COUNTIF(Summary!$B$30:$B$1082,INDIRECT($A$14&ROW())),\"\"),\"\")","v":""}]
[{"$f":"IFERROR(IF(INDIRECT($A$14&ROW())<>\"\",COUNTIF(Summary!$B$30:$B$1082,INDIRECT($A$14&ROW())),\"\"),\"\")","v":""}]
[{"$f":"IFERROR(IF(INDIRECT($A$14&ROW())<>\"\",COUNTIF(Summary!$B$30:$B$1082,INDIRECT($A$14&ROW())),\"\"),\"\")","v":""}]
[{"$f":"IFERROR(IF(INDIRECT($A$14&ROW())<>\"\",COUNTIF(Summary!$B$30:$B$1082,INDIRECT($A$14&ROW())),\"\"),\"\")","v":""}]
[{"$f":"IFERROR(IF(INDIRECT($A$14&ROW())<>\"\",COUNTIF(Summary!$B$30:$B$1082,INDIRECT($A$14&ROW())),\"\"),\"\")","v":""}]
[{"$f":"IFERROR(IF(INDIRECT($A$14&ROW())<>\"\",COUNTIF(Summary!$B$30:$B$1082,INDIRECT($A$14&ROW())),\"\"),\"\")","v":""}]
[{"$f":"IFERROR(IF(INDIRECT($A$14&ROW())<>\"\",COUNTIF(Summary!$B$30:$B$1082,INDIRECT($A$14&ROW())),\"\"),\"\")","v":""}]
[{"$f":"IFERROR(IF(INDIRECT($A$14&ROW())<>\"\",COUNTIF(Summary!$B$30:$B$1082,INDIRECT($A$14&ROW())),\"\"),\"\")","v":""}]
[{"$f":"IFERROR(IF(INDIRECT($A$14&ROW())<>\"\",COUNTIF(Summary!$B$30:$B$1082,INDIRECT($A$14&ROW())),\"\"),\"\")","v":""}]
[{"$f":"IFERROR(IF(INDIRECT($A$14&ROW())<>\"\",COUNTIF(Summary!$B$30:$B$1082,INDIRECT($A$14&ROW())),\"\"),\"\")","v":""}]
[{"$f":"IFERROR(IF(INDIRECT($A$14&ROW())<>\"\",COUNTIF(Summary!$B$30:$B$1082,INDIRECT($A$14&ROW())),\"\"),\"\")","v":""}]
[{"$f":"IFERROR(IF(INDIRECT($A$14&ROW())<>\"\",COUNTIF(Summary!$B$30:$B$1082,INDIRECT($A$14&ROW())),\"\"),\"\")","v":""}]
[{"$f":"IFERROR(IF(INDIRECT($A$14&ROW())<>\"\",COUNTIF(Summary!$B$30:$B$1082,INDIRECT($A$14&ROW())),\"\"),\"\")","v":""}]
[{"$f":"IFERROR(IF(INDIRECT($A$14&ROW())<>\"\",COUNTIF(Summary!$B$30:$B$1082,INDIRECT($A$14&ROW())),\"\"),\"\")","v":""}]
[{"$f":"IFERROR(IF(INDIRECT($A$14&ROW())<>\"\",COUNTIF(Summary!$B$30:$B$1082,INDIRECT($A$14&ROW())),\"\"),\"\")","v":""}]
[{"$f":"IFERROR(IF(INDIRECT($A$14&ROW())<>\"\",COUNTIF(Summary!$B$30:$B$1082,INDIRECT($A$14&ROW())),\"\"),\"\")","v":""}]
[{"$f":"IFERROR(IF(INDIRECT($A$14&ROW())<>\"\",COUNTIF(Summary!$B$30:$B$1082,INDIRECT($A$14&ROW())),\"\"),\"\")","v":""}]
[{"$f":"IFERROR(IF(INDIRECT($A$14&ROW())<>\"\",COUNTIF(Summary!$B$30:$B$1082,INDIRECT($A$14&ROW())),\"\"),\"\")","v":""}]
[{"$f":"IFERROR(IF(INDIRECT($A$14&ROW())<>\"\",COUNTIF(Summary!$B$30:$B$1082,INDIRECT($A$14&ROW())),\"\"),\"\")","v":""}]
[{"$f":"IFERROR(IF(INDIRECT($A$14&ROW())<>\"\",COUNTIF(Summary!$B$30:$B$1082,INDIRECT($A$14&ROW())),\"\"),\"\")","v":""}]
[{"$f":"IFERROR(IF(INDIRECT($A$14&ROW())<>\"\",COUNTIF(Summary!$B$30:$B$1082,INDIRECT($A$14&ROW())),\"\"),\"\")","v":""}]
[{"$f":"IFERROR(IF(INDIRECT($A$14&ROW())<>\"\",COUNTIF(Summary!$B$30:$B$1082,INDIRECT($A$14&ROW())),\"\"),\"\")","v":""}]
[{"$f":"IFERROR(IF(INDIRECT($A$14&ROW())<>\"\",COUNTIF(Summary!$B$30:$B$1082,INDIRECT($A$14&ROW())),\"\"),\"\")","v":""}]
[{"$f":"IFERROR(IF(INDIRECT($A$14&ROW())<>\"\",COUNTIF(Summary!$B$30:$B$1082,INDIRECT($A$14&ROW())),\"\"),\"\")","v":""}]
[{"$f":"IFERROR(IF(INDIRECT($A$14&ROW())<>\"\",COUNTIF(Summary!$B$30:$B$1082,INDIRECT($A$14&ROW())),\"\"),\"\")","v":""}]
[{"$f":"IFERROR(IF(INDIRECT($A$14&ROW())<>\"\",COUNTIF(Summary!$B$30:$B$1082,INDIRECT($A$14&ROW())),\"\"),\"\")","v":""}]
[{"$f":"IFERROR(IF(INDIRECT($A$14&ROW())<>\"\",COUNTIF(Summary!$B$30:$B$1082,INDIRECT($A$14&ROW())),\"\"),\"\")","v":""}]
[{"$f":"IFERROR(IF(INDIRECT($A$14&ROW())<>\"\",COUNTIF(Summary!$B$30:$B$1082,INDIRECT($A$14&ROW())),\"\"),\"\")","v":""}]
[{"$f":"IFERROR(IF(INDIRECT($A$14&ROW())<>\"\",COUNTIF(Summary!$B$30:$B$1082,INDIRECT($A$14&ROW())),\"\"),\"\")","v":""}]
[{"$f":"IFERROR(IF(INDIRECT($A$14&ROW())<>\"\",COUNTIF(Summary!$B$30:$B$1082,INDIRECT($A$14&ROW())),\"\"),\"\")","v":""}]
[{"$f":"IFERROR(IF(INDIRECT($A$14&ROW())<>\"\",COUNTIF(Summary!$B$30:$B$1082,INDIRECT($A$14&ROW())),\"\"),\"\")","v":""}]
[{"$f":"IFERROR(IF(INDIRECT($A$14&ROW())<>\"\",COUNTIF(Summary!$B$30:$B$1082,INDIRECT($A$14&ROW())),\"\"),\"\")","v":""}]
[{"$f":"IFERROR(IF(INDIRECT($A$14&ROW())<>\"\",COUNTIF(Summary!$B$30:$B$1082,INDIRECT($A$14&ROW())),\"\"),\"\")","v":""}]
[{"$f":"IFERROR(IF(INDIRECT($A$14&ROW())<>\"\",COUNTIF(Summary!$B$30:$B$1082,INDIRECT($A$14&ROW())),\"\"),\"\")","v":""}]
[{"$f":"IFERROR(IF(INDIRECT($A$14&ROW())<>\"\",COUNTIF(Summary!$B$30:$B$1082,INDIRECT($A$14&ROW())),\"\"),\"\")","v":""}]
[{"$f":"IFERROR(IF(INDIRECT($A$14&ROW())<>\"\",COUNTIF(Summary!$B$30:$B$1082,INDIRECT($A$14&ROW())),\"\"),\"\")","v":""}]
[{"$f":"IFERROR(IF(INDIRECT($A$14&ROW())<>\"\",COUNTIF(Summary!$B$30:$B$1082,INDIRECT($A$14&ROW())),\"\"),\"\")","v":""}]
[{"$f":"IFERROR(IF(INDIRECT($A$14&ROW())<>\"\",COUNTIF(Summary!$B$30:$B$1082,INDIRECT($A$14&ROW())),\"\"),\"\")","v":""}]
[{"$f":"IFERROR(IF(INDIRECT($A$14&ROW())<>\"\",COUNTIF(Summary!$B$30:$B$1082,INDIRECT($A$14&ROW())),\"\"),\"\")","v":""}]
[{"$f":"IFERROR(IF(INDIRECT($A$14&ROW())<>\"\",COUNTIF(Summary!$B$30:$B$1082,INDIRECT($A$14&ROW())),\"\"),\"\")","v":""}]
[{"$f":"IFERROR(IF(INDIRECT($A$14&ROW())<>\"\",COUNTIF(Summary!$B$30:$B$1082,INDIRECT($A$14&ROW())),\"\"),\"\")","v":""}]
[{"$f":"IFERROR(IF(INDIRECT($A$14&ROW())<>\"\",COUNTIF(Summary!$B$30:$B$1082,INDIRECT($A$14&ROW())),\"\"),\"\")","v":""}]
[{"$f":"IFERROR(IF(INDIRECT($A$14&ROW())<>\"\",COUNTIF(Summary!$B$30:$B$1082,INDIRECT($A$14&ROW())),\"\"),\"\")","v":""}]
[{"$f":"IFERROR(IF(INDIRECT($A$14&ROW())<>\"\",COUNTIF(Summary!$B$30:$B$1082,INDIRECT($A$14&ROW())),\"\"),\"\")","v":""}]
[{"$f":"IFERROR(IF(INDIRECT($A$14&ROW())<>\"\",COUNTIF(Summary!$B$30:$B$1082,INDIRECT($A$14&ROW())),\"\"),\"\")","v":""}]
[{"$f":"IFERROR(IF(INDIRECT($A$14&ROW())<>\"\",COUNTIF(Summary!$B$30:$B$1082,INDIRECT($A$14&ROW())),\"\"),\"\")","v":""}]
[{"$f":"IFERROR(IF(INDIRECT($A$14&ROW())<>\"\",COUNTIF(Summary!$B$30:$B$1082,INDIRECT($A$14&ROW())),\"\"),\"\")","v":""}]
[{"$f":"IFERROR(IF(INDIRECT($A$14&ROW())<>\"\",COUNTIF(Summary!$B$30:$B$1082,INDIRECT($A$14&ROW())),\"\"),\"\")","v":""}]
[{"$f":"IFERROR(IF(INDIRECT($A$14&ROW())<>\"\",COUNTIF(Summary!$B$30:$B$1082,INDIRECT($A$14&ROW())),\"\"),\"\")","v":""}]
[{"$f":"IFERROR(IF(INDIRECT($A$14&ROW())<>\"\",COUNTIF(Summary!$B$30:$B$1082,INDIRECT($A$14&ROW())),\"\"),\"\")","v":""}]
[{"$f":"IFERROR(IF(INDIRECT($A$14&ROW())<>\"\",COUNTIF(Summary!$B$30:$B$1082,INDIRECT($A$14&ROW())),\"\"),\"\")","v":""}]
[{"$f":"IFERROR(IF(INDIRECT($A$14&ROW())<>\"\",COUNTIF(Summary!$B$30:$B$1082,INDIRECT($A$14&ROW())),\"\"),\"\")","v":""}]
[{"$f":"IFERROR(IF(INDIRECT($A$14&ROW())<>\"\",COUNTIF(Summary!$B$30:$B$1082,INDIRECT($A$14&ROW())),\"\"),\"\")","v":""}]
[{"$f":"IFERROR(IF(INDIRECT($A$14&ROW())<>\"\",COUNTIF(Summary!$B$30:$B$1082,INDIRECT($A$14&ROW())),\"\"),\"\")","v":""}]
[{"$f":"IFERROR(IF(INDIRECT($A$14&ROW())<>\"\",COUNTIF(Summary!$B$30:$B$1082,INDIRECT($A$14&ROW())),\"\"),\"\")","v":""}]
[{"$f":"IFERROR(IF(INDIRECT($A$14&ROW())<>\"\",COUNTIF(Summary!$B$30:$B$1082,INDIRECT($A$14&ROW())),\"\"),\"\")","v":""}]
[{"$f":"IFERROR(IF(INDIRECT($A$14&ROW())<>\"\",COUNTIF(Summary!$B$30:$B$1082,INDIRECT($A$14&ROW())),\"\"),\"\")","v":""}]
[{"$f":"IFERROR(IF(INDIRECT($A$14&ROW())<>\"\",COUNTIF(Summary!$B$30:$B$1082,INDIRECT($A$14&ROW())),\"\"),\"\")","v":""}]
[{"$f":"IFERROR(IF(INDIRECT($A$14&ROW())<>\"\",COUNTIF(Summary!$B$30:$B$1082,INDIRECT($A$14&ROW())),\"\"),\"\")","v":""}]
[{"$f":"IFERROR(IF(INDIRECT($A$14&ROW())<>\"\",COUNTIF(Summary!$B$30:$B$1082,INDIRECT($A$14&ROW())),\"\"),\"\")","v":""}]
[{"$f":"IFERROR(IF(INDIRECT($A$14&ROW())<>\"\",COUNTIF(Summary!$B$30:$B$1082,INDIRECT($A$14&ROW())),\"\"),\"\")","v":""}]
[{"$f":"IFERROR(IF(INDIRECT($A$14&ROW())<>\"\",COUNTIF(Summary!$B$30:$B$1082,INDIRECT($A$14&ROW())),\"\"),\"\")","v":""}]
[{"$f":"IFERROR(IF(INDIRECT($A$14&ROW())<>\"\",COUNTIF(Summary!$B$30:$B$1082,INDIRECT($A$14&ROW())),\"\"),\"\")","v":""}]
[{"$f":"IFERROR(IF(INDIRECT($A$14&ROW())<>\"\",COUNTIF(Summary!$B$30:$B$1082,INDIRECT($A$14&ROW())),\"\"),\"\")","v":""}]
[{"$f":"IFERROR(IF(INDIRECT($A$14&ROW())<>\"\",COUNTIF(Summary!$B$30:$B$1082,INDIRECT($A$14&ROW())),\"\"),\"\")","v":""}]
[{"$f":"IFERROR(IF(INDIRECT($A$14&ROW())<>\"\",COUNTIF(Summary!$B$30:$B$1082,INDIRECT($A$14&ROW())),\"\"),\"\")","v":""}]
[{"$f":"IFERROR(IF(INDIRECT($A$14&ROW())<>\"\",COUNTIF(Summary!$B$30:$B$1082,INDIRECT($A$14&ROW())),\"\"),\"\")","v":""}]
[{"$f":"IFERROR(IF(INDIRECT($A$14&ROW())<>\"\",COUNTIF(Summary!$B$30:$B$1082,INDIRECT($A$14&ROW())),\"\"),\"\")","v":""}]
[{"$f":"IFERROR(IF(INDIRECT($A$14&ROW())<>\"\",COUNTIF(Summary!$B$30:$B$1082,INDIRECT($A$14&ROW())),\"\"),\"\")","v":""}]
[{"$f":"IFERROR(IF(INDIRECT($A$14&ROW())<>\"\",COUNTIF(Summary!$B$30:$B$1082,INDIRECT($A$14&ROW())),\"\"),\"\")","v":""}]
[{"$f":"IFERROR(IF(INDIRECT($A$14&ROW())<>\"\",COUNTIF(Summary!$B$30:$B$1082,INDIRECT($A$14&ROW())),\"\"),\"\")","v":""}]
[{"$f":"IFERROR(IF(INDIRECT($A$14&ROW())<>\"\",COUNTIF(Summary!$B$30:$B$1082,INDIRECT($A$14&ROW())),\"\"),\"\")","v":""}]
[{"$f":"IFERROR(IF(INDIRECT($A$14&ROW())<>\"\",COUNTIF(Summary!$B$30:$B$1082,INDIRECT($A$14&ROW())),\"\"),\"\")","v":""}]
[{"$f":"IFERROR(IF(INDIRECT($A$14&ROW())<>\"\",COUNTIF(Summary!$B$30:$B$1082,INDIRECT($A$14&ROW())),\"\"),\"\")","v":""}]
[{"$f":"IFERROR(IF(INDIRECT($A$14&ROW())<>\"\",COUNTIF(Summary!$B$30:$B$1082,INDIRECT($A$14&ROW())),\"\"),\"\")","v":""}]
[{"$f":"IFERROR(IF(INDIRECT($A$14&ROW())<>\"\",COUNTIF(Summary!$B$30:$B$1082,INDIRECT($A$14&ROW())),\"\"),\"\")","v":""}]
[{"$f":"IFERROR(IF(INDIRECT($A$14&ROW())<>\"\",COUNTIF(Summary!$B$30:$B$1082,INDIRECT($A$14&ROW())),\"\"),\"\")","v":""}]
[{"$f":"IFERROR(IF(INDIRECT($A$14&ROW())<>\"\",COUNTIF(Summary!$B$30:$B$1082,INDIRECT($A$14&ROW())),\"\"),\"\")","v":""}]
[{"$f":"IFERROR(IF(INDIRECT($A$14&ROW())<>\"\",COUNTIF(Summary!$B$30:$B$1082,INDIRECT($A$14&ROW())),\"\"),\"\")","v":""}]
[{"$f":"IFERROR(IF(INDIRECT($A$14&ROW())<>\"\",COUNTIF(Summary!$B$30:$B$1082,INDIRECT($A$14&ROW())),\"\"),\"\")","v":""}]
[{"$f":"IFERROR(IF(INDIRECT($A$14&ROW())<>\"\",COUNTIF(Summary!$B$30:$B$1082,INDIRECT($A$14&ROW())),\"\"),\"\")","v":""}]
[{"$f":"IFERROR(IF(INDIRECT($A$14&ROW())<>\"\",COUNTIF(Summary!$B$30:$B$1082,INDIRECT($A$14&ROW())),\"\"),\"\")","v":""}]
[{"$f":"IFERROR(IF(INDIRECT($A$14&ROW())<>\"\",COUNTIF(Summary!$B$30:$B$1082,INDIRECT($A$14&ROW())),\"\"),\"\")","v":""}]
[{"$f":"IFERROR(IF(INDIRECT($A$14&ROW())<>\"\",COUNTIF(Summary!$B$30:$B$1082,INDIRECT($A$14&ROW())),\"\"),\"\")","v":""}]
[{"$f":"IFERROR(IF(INDIRECT($A$14&ROW())<>\"\",COUNTIF(Summary!$B$30:$B$1082,INDIRECT($A$14&ROW())),\"\"),\"\")","v":""}]
[{"$f":"IFERROR(IF(INDIRECT($A$14&ROW())<>\"\",COUNTIF(Summary!$B$30:$B$1082,INDIRECT($A$14&ROW())),\"\"),\"\")","v":""}]
[{"$f":"IFERROR(IF(INDIRECT($A$14&ROW())<>\"\",COUNTIF(Summary!$B$30:$B$1082,INDIRECT($A$14&ROW())),\"\"),\"\")","v":""}]
[{"$f":"IFERROR(IF(INDIRECT($A$14&ROW())<>\"\",COUNTIF(Summary!$B$30:$B$1082,INDIRECT($A$14&ROW())),\"\"),\"\")","v":""}]
[{"$f":"IFERROR(IF(INDIRECT($A$14&ROW())<>\"\",COUNTIF(Summary!$B$30:$B$1082,INDIRECT($A$14&ROW())),\"\"),\"\")","v":""}]
[{"$f":"IFERROR(IF(INDIRECT($A$14&ROW())<>\"\",COUNTIF(Summary!$B$30:$B$1082,INDIRECT($A$14&ROW())),\"\"),\"\")","v":""}]
[{"$f":"IFERROR(IF(INDIRECT($A$14&ROW())<>\"\",COUNTIF(Summary!$B$30:$B$1082,INDIRECT($A$14&ROW())),\"\"),\"\")","v":""}]
[{"$f":"IFERROR(IF(INDIRECT($A$14&ROW())<>\"\",COUNTIF(Summary!$B$30:$B$1082,INDIRECT($A$14&ROW())),\"\"),\"\")","v":""}]
[{"$f":"IFERROR(IF(INDIRECT($A$14&ROW())<>\"\",COUNTIF(Summary!$B$30:$B$1082,INDIRECT($A$14&ROW())),\"\"),\"\")","v":""}]
[{"$f":"IFERROR(IF(INDIRECT($A$14&ROW())<>\"\",COUNTIF(Summary!$B$30:$B$1082,INDIRECT($A$14&ROW())),\"\"),\"\")","v":""}]
[{"$f":"IFERROR(IF(INDIRECT($A$14&ROW())<>\"\",COUNTIF(Summary!$B$30:$B$1082,INDIRECT($A$14&ROW())),\"\"),\"\")","v":""}]
[{"$f":"IFERROR(IF(INDIRECT($A$14&ROW())<>\"\",COUNTIF(Summary!$B$30:$B$1082,INDIRECT($A$14&ROW())),\"\"),\"\")","v":""}]
[{"$f":"IFERROR(IF(INDIRECT($A$14&ROW())<>\"\",COUNTIF(Summary!$B$30:$B$1082,INDIRECT($A$14&ROW())),\"\"),\"\")","v":""}]
[{"$f":"IFERROR(IF(INDIRECT($A$14&ROW())<>\"\",COUNTIF(Summary!$B$30:$B$1082,INDIRECT($A$14&ROW())),\"\"),\"\")","v":""}]
[{"$f":"IFERROR(IF(INDIRECT($A$14&ROW())<>\"\",COUNTIF(Summary!$B$30:$B$1082,INDIRECT($A$14&ROW())),\"\"),\"\")","v":""}]
[{"$f":"IFERROR(IF(INDIRECT($A$14&ROW())<>\"\",COUNTIF(Summary!$B$30:$B$1082,INDIRECT($A$14&ROW())),\"\"),\"\")","v":""}]
[{"$f":"IFERROR(IF(INDIRECT($A$14&ROW())<>\"\",COUNTIF(Summary!$B$30:$B$1082,INDIRECT($A$14&ROW())),\"\"),\"\")","v":""}]
[{"$f":"IFERROR(IF(INDIRECT($A$14&ROW())<>\"\",COUNTIF(Summary!$B$30:$B$1082,INDIRECT($A$14&ROW())),\"\"),\"\")","v":""}]
[{"$f":"IFERROR(IF(INDIRECT($A$14&ROW())<>\"\",COUNTIF(Summary!$B$30:$B$1082,INDIRECT($A$14&ROW())),\"\"),\"\")","v":""}]
[{"$f":"IFERROR(IF(INDIRECT($A$14&ROW())<>\"\",COUNTIF(Summary!$B$30:$B$1082,INDIRECT($A$14&ROW())),\"\"),\"\")","v":""}]
[{"$f":"IFERROR(IF(INDIRECT($A$14&ROW())<>\"\",COUNTIF(Summary!$B$30:$B$1082,INDIRECT($A$14&ROW())),\"\"),\"\")","v":""}]
[{"$f":"IFERROR(IF(INDIRECT($A$14&ROW())<>\"\",COUNTIF(Summary!$B$30:$B$1082,INDIRECT($A$14&ROW())),\"\"),\"\")","v":""}]
[{"$f":"IFERROR(IF(INDIRECT($A$14&ROW())<>\"\",COUNTIF(Summary!$B$30:$B$1082,INDIRECT($A$14&ROW())),\"\"),\"\")","v":""}]
[{"$f":"IFERROR(IF(INDIRECT($A$14&ROW())<>\"\",COUNTIF(Summary!$B$30:$B$1082,INDIRECT($A$14&ROW())),\"\"),\"\")","v":""}]
[{"$f":"IFERROR(IF(INDIRECT($A$14&ROW())<>\"\",COUNTIF(Summary!$B$30:$B$1082,INDIRECT($A$14&ROW())),\"\"),\"\")","v":""}]
[{"$f":"IFERROR(IF(INDIRECT($A$14&ROW())<>\"\",COUNTIF(Summary!$B$30:$B$1082,INDIRECT($A$14&ROW())),\"\"),\"\")","v":""}]
[{"$f":"IFERROR(IF(INDIRECT($A$14&ROW())<>\"\",COUNTIF(Summary!$B$30:$B$1082,INDIRECT($A$14&ROW())),\"\"),\"\")","v":""}]
[{"$f":"IFERROR(IF(INDIRECT($A$14&ROW())<>\"\",COUNTIF(Summary!$B$30:$B$1082,INDIRECT($A$14&ROW())),\"\"),\"\")","v":""}]
[{"$f":"IFERROR(IF(INDIRECT($A$14&ROW())<>\"\",COUNTIF(Summary!$B$30:$B$1082,INDIRECT($A$14&ROW())),\"\"),\"\")","v":""}]
[{"$f":"IFERROR(IF(INDIRECT($A$14&ROW())<>\"\",COUNTIF(Summary!$B$30:$B$1082,INDIRECT($A$14&ROW())),\"\"),\"\")","v":""}]
[{"$f":"IFERROR(IF(INDIRECT($A$14&ROW())<>\"\",COUNTIF(Summary!$B$30:$B$1082,INDIRECT($A$14&ROW())),\"\"),\"\")","v":""}]
[{"$f":"IFERROR(IF(INDIRECT($A$14&ROW())<>\"\",COUNTIF(Summary!$B$30:$B$1082,INDIRECT($A$14&ROW())),\"\"),\"\")","v":""}]
[{"$f":"IFERROR(IF(INDIRECT($A$14&ROW())<>\"\",COUNTIF(Summary!$B$30:$B$1082,INDIRECT($A$14&ROW())),\"\"),\"\")","v":""}]
[{"$f":"IFERROR(IF(INDIRECT($A$14&ROW())<>\"\",COUNTIF(Summary!$B$30:$B$1082,INDIRECT($A$14&ROW())),\"\"),\"\")","v":""}]
[{"$f":"IFERROR(IF(INDIRECT($A$14&ROW())<>\"\",COUNTIF(Summary!$B$30:$B$1082,INDIRECT($A$14&ROW())),\"\"),\"\")","v":""}]
[{"$f":"IFERROR(IF(INDIRECT($A$14&ROW())<>\"\",COUNTIF(Summary!$B$30:$B$1082,INDIRECT($A$14&ROW())),\"\"),\"\")","v":""}]
[{"$f":"IFERROR(IF(INDIRECT($A$14&ROW())<>\"\",COUNTIF(Summary!$B$30:$B$1082,INDIRECT($A$14&ROW())),\"\"),\"\")","v":""}]
[{"$f":"IFERROR(IF(INDIRECT($A$14&ROW())<>\"\",COUNTIF(Summary!$B$30:$B$1082,INDIRECT($A$14&ROW())),\"\"),\"\")","v":""}]
[{"$f":"IFERROR(IF(INDIRECT($A$14&ROW())<>\"\",COUNTIF(Summary!$B$30:$B$1082,INDIRECT($A$14&ROW())),\"\"),\"\")","v":""}]
[{"$f":"IFERROR(IF(INDIRECT($A$14&ROW())<>\"\",COUNTIF(Summary!$B$30:$B$1082,INDIRECT($A$14&ROW())),\"\"),\"\")","v":""}]
[{"$f":"IFERROR(IF(INDIRECT($A$14&ROW())<>\"\",COUNTIF(Summary!$B$30:$B$1082,INDIRECT($A$14&ROW())),\"\"),\"\")","v":""}]
[{"$f":"IFERROR(IF(INDIRECT($A$14&ROW())<>\"\",COUNTIF(Summary!$B$30:$B$1082,INDIRECT($A$14&ROW())),\"\"),\"\")","v":""}]
[{"$f":"IFERROR(IF(INDIRECT($A$14&ROW())<>\"\",COUNTIF(Summary!$B$30:$B$1082,INDIRECT($A$14&ROW())),\"\"),\"\")","v":""}]
[{"$f":"IFERROR(IF(INDIRECT($A$14&ROW())<>\"\",COUNTIF(Summary!$B$30:$B$1082,INDIRECT($A$14&ROW())),\"\"),\"\")","v":""}]
[{"$f":"IFERROR(IF(INDIRECT($A$14&ROW())<>\"\",COUNTIF(Summary!$B$30:$B$1082,INDIRECT($A$14&ROW())),\"\"),\"\")","v":""}]
[{"$f":"IFERROR(IF(INDIRECT($A$14&ROW())<>\"\",COUNTIF(Summary!$B$30:$B$1082,INDIRECT($A$14&ROW())),\"\"),\"\")","v":""}]
[{"$f":"IFERROR(IF(INDIRECT($A$14&ROW())<>\"\",COUNTIF(Summary!$B$30:$B$1082,INDIRECT($A$14&ROW())),\"\"),\"\")","v":""}]
[{"$f":"IFERROR(IF(INDIRECT($A$14&ROW())<>\"\",COUNTIF(Summary!$B$30:$B$1082,INDIRECT($A$14&ROW())),\"\"),\"\")","v":""}]
[{"$f":"IFERROR(IF(INDIRECT($A$14&ROW())<>\"\",COUNTIF(Summary!$B$30:$B$1082,INDIRECT($A$14&ROW())),\"\"),\"\")","v":""}]
[{"$f":"IFERROR(IF(INDIRECT($A$14&ROW())<>\"\",COUNTIF(Summary!$B$30:$B$1082,INDIRECT($A$14&ROW())),\"\"),\"\")","v":""}]
[{"$f":"IFERROR(IF(INDIRECT($A$14&ROW())<>\"\",COUNTIF(Summary!$B$30:$B$1082,INDIRECT($A$14&ROW())),\"\"),\"\")","v":""}]
[{"$f":"IFERROR(IF(INDIRECT($A$14&ROW())<>\"\",COUNTIF(Summary!$B$30:$B$1082,INDIRECT($A$14&ROW())),\"\"),\"\")","v":""}]
[{"$f":"IFERROR(IF(INDIRECT($A$14&ROW())<>\"\",COUNTIF(Summary!$B$30:$B$1082,INDIRECT($A$14&ROW())),\"\"),\"\")","v":""}]
[{"$f":"IFERROR(IF(INDIRECT($A$14&ROW())<>\"\",COUNTIF(Summary!$B$30:$B$1082,INDIRECT($A$14&ROW())),\"\"),\"\")","v":""}]
[{"$f":"IFERROR(IF(INDIRECT($A$14&ROW())<>\"\",COUNTIF(Summary!$B$30:$B$1082,INDIRECT($A$14&ROW())),\"\"),\"\")","v":""}]
[{"$f":"IFERROR(IF(INDIRECT($A$14&ROW())<>\"\",COUNTIF(Summary!$B$30:$B$1082,INDIRECT($A$14&ROW())),\"\"),\"\")","v":""}]
[{"$f":"IFERROR(IF(INDIRECT($A$14&ROW())<>\"\",COUNTIF(Summary!$B$30:$B$1082,INDIRECT($A$14&ROW())),\"\"),\"\")","v":""}]
[{"$f":"IFERROR(IF(INDIRECT($A$14&ROW())<>\"\",COUNTIF(Summary!$B$30:$B$1082,INDIRECT($A$14&ROW())),\"\"),\"\")","v":""}]
[{"$f":"IFERROR(IF(INDIRECT($A$14&ROW())<>\"\",COUNTIF(Summary!$B$30:$B$1082,INDIRECT($A$14&ROW())),\"\"),\"\")","v":""}]
[{"$f":"IFERROR(IF(INDIRECT($A$14&ROW())<>\"\",COUNTIF(Summary!$B$30:$B$1082,INDIRECT($A$14&ROW())),\"\"),\"\")","v":""}]
[{"$f":"IFERROR(IF(INDIRECT($A$14&ROW())<>\"\",COUNTIF(Summary!$B$30:$B$1082,INDIRECT($A$14&ROW())),\"\"),\"\")","v":""}]
[{"$f":"IFERROR(IF(INDIRECT($A$14&ROW())<>\"\",COUNTIF(Summary!$B$30:$B$1082,INDIRECT($A$14&ROW())),\"\"),\"\")","v":""}]
[{"$f":"IFERROR(IF(INDIRECT($A$14&ROW())<>\"\",COUNTIF(Summary!$B$30:$B$1082,INDIRECT($A$14&ROW())),\"\"),\"\")","v":""}]
[{"$f":"IFERROR(IF(INDIRECT($A$14&ROW())<>\"\",COUNTIF(Summary!$B$30:$B$1082,INDIRECT($A$14&ROW())),\"\"),\"\")","v":""}]
[{"$f":"IFERROR(IF(INDIRECT($A$14&ROW())<>\"\",COUNTIF(Summary!$B$30:$B$1082,INDIRECT($A$14&ROW())),\"\"),\"\")","v":""}]
[{"$f":"IFERROR(IF(INDIRECT($A$14&ROW())<>\"\",COUNTIF(Summary!$B$30:$B$1082,INDIRECT($A$14&ROW())),\"\"),\"\")","v":""}]
[{"$f":"IFERROR(IF(INDIRECT($A$14&ROW())<>\"\",COUNTIF(Summary!$B$30:$B$1082,INDIRECT($A$14&ROW())),\"\"),\"\")","v":""}]
[{"$f":"IFERROR(IF(INDIRECT($A$14&ROW())<>\"\",COUNTIF(Summary!$B$30:$B$1082,INDIRECT($A$14&ROW())),\"\"),\"\")","v":""}]
[{"$f":"IFERROR(IF(INDIRECT($A$14&ROW())<>\"\",COUNTIF(Summary!$B$30:$B$1082,INDIRECT($A$14&ROW())),\"\"),\"\")","v":""}]
[{"$f":"IFERROR(IF(INDIRECT($A$14&ROW())<>\"\",COUNTIF(Summary!$B$30:$B$1082,INDIRECT($A$14&ROW())),\"\"),\"\")","v":""}]
[{"$f":"IFERROR(IF(INDIRECT($A$14&ROW())<>\"\",COUNTIF(Summary!$B$30:$B$1082,INDIRECT($A$14&ROW())),\"\"),\"\")","v":""}]
[{"$f":"IFERROR(IF(INDIRECT($A$14&ROW())<>\"\",COUNTIF(Summary!$B$30:$B$1082,INDIRECT($A$14&ROW())),\"\"),\"\")","v":""}]
[{"$f":"IFERROR(IF(INDIRECT($A$14&ROW())<>\"\",COUNTIF(Summary!$B$30:$B$1082,INDIRECT($A$14&ROW())),\"\"),\"\")","v":""}]
[{"$f":"IFERROR(IF(INDIRECT($A$14&ROW())<>\"\",COUNTIF(Summary!$B$30:$B$1082,INDIRECT($A$14&ROW())),\"\"),\"\")","v":""}]
[{"$f":"IFERROR(IF(INDIRECT($A$14&ROW())<>\"\",COUNTIF(Summary!$B$30:$B$1082,INDIRECT($A$14&ROW())),\"\"),\"\")","v":""}]
[{"$f":"IFERROR(IF(INDIRECT($A$14&ROW())<>\"\",COUNTIF(Summary!$B$30:$B$1082,INDIRECT($A$14&ROW())),\"\"),\"\")","v":""}]
[{"$f":"IFERROR(IF(INDIRECT($A$14&ROW())<>\"\",COUNTIF(Summary!$B$30:$B$1082,INDIRECT($A$14&ROW())),\"\"),\"\")","v":""}]
[{"$f":"IFERROR(IF(INDIRECT($A$14&ROW())<>\"\",COUNTIF(Summary!$B$30:$B$1082,INDIRECT($A$14&ROW())),\"\"),\"\")","v":""}]
[{"$f":"IFERROR(IF(INDIRECT($A$14&ROW())<>\"\",COUNTIF(Summary!$B$30:$B$1082,INDIRECT($A$14&ROW())),\"\"),\"\")","v":""}]
[{"$f":"IFERROR(IF(INDIRECT($A$14&ROW())<>\"\",COUNTIF(Summary!$B$30:$B$1082,INDIRECT($A$14&ROW())),\"\"),\"\")","v":""}]
[{"$f":"IFERROR(IF(INDIRECT($A$14&ROW())<>\"\",COUNTIF(Summary!$B$30:$B$1082,INDIRECT($A$14&ROW())),\"\"),\"\")","v":""}]
[{"$f":"IFERROR(IF(INDIRECT($A$14&ROW())<>\"\",COUNTIF(Summary!$B$30:$B$1082,INDIRECT($A$14&ROW())),\"\"),\"\")","v":""}]
[{"$f":"IFERROR(IF(INDIRECT($A$14&ROW())<>\"\",COUNTIF(Summary!$B$30:$B$1082,INDIRECT($A$14&ROW())),\"\"),\"\")","v":""}]
[{"$f":"IFERROR(IF(INDIRECT($A$14&ROW())<>\"\",COUNTIF(Summary!$B$30:$B$1082,INDIRECT($A$14&ROW())),\"\"),\"\")","v":""}]
[{"$f":"IFERROR(IF(INDIRECT($A$14&ROW())<>\"\",COUNTIF(Summary!$B$30:$B$1082,INDIRECT($A$14&ROW())),\"\"),\"\")","v":""}]
[{"$f":"IFERROR(IF(INDIRECT($A$14&ROW())<>\"\",COUNTIF(Summary!$B$30:$B$1082,INDIRECT($A$14&ROW())),\"\"),\"\")","v":""}]
[{"$f":"IFERROR(IF(INDIRECT($A$14&ROW())<>\"\",COUNTIF(Summary!$B$30:$B$1082,INDIRECT($A$14&ROW())),\"\"),\"\")","v":""}]
[{"$f":"IFERROR(IF(INDIRECT($A$14&ROW())<>\"\",COUNTIF(Summary!$B$30:$B$1082,INDIRECT($A$14&ROW())),\"\"),\"\")","v":""}]
[{"$f":"IFERROR(IF(INDIRECT($A$14&ROW())<>\"\",COUNTIF(Summary!$B$30:$B$1082,INDIRECT($A$14&ROW())),\"\"),\"\")","v":""}]
[{"$f":"IFERROR(IF(INDIRECT($A$14&ROW())<>\"\",COUNTIF(Summary!$B$30:$B$1082,INDIRECT($A$14&ROW())),\"\"),\"\")","v":""}]
[{"$f":"IFERROR(IF(INDIRECT($A$14&ROW())<>\"\",COUNTIF(Summary!$B$30:$B$1082,INDIRECT($A$14&ROW())),\"\"),\"\")","v":""}]
[{"$f":"IFERROR(IF(INDIRECT($A$14&ROW())<>\"\",COUNTIF(Summary!$B$30:$B$1082,INDIRECT($A$14&ROW())),\"\"),\"\")","v":""}]
[{"$f":"IFERROR(IF(INDIRECT($A$14&ROW())<>\"\",COUNTIF(Summary!$B$30:$B$1082,INDIRECT($A$14&ROW())),\"\"),\"\")","v":""}]
[{"$f":"IFERROR(IF(INDIRECT($A$14&ROW())<>\"\",COUNTIF(Summary!$B$30:$B$1082,INDIRECT($A$14&ROW())),\"\"),\"\")","v":""}]
[]
[null,"Copyright © 2013 by Oracle Symphony Sdn Bhd"]

{"sheet":"SERVINGS","index":3,"n_rows":103,"n_cols":11,"rows_kept":103,"cut":false,"hidden":true,"merged":[[5,8,5,9]]}
[]
["MONHTLY : TOTAL SERVINGS OF BEVERAGES"]
[]
[]
[]
[null,null,null,null,null,null,null,null,"USAGE"]
["Item","Servings","Item","Servings","TOTAL","UOM",null,"MATERIAL ","PORTION","TOTAL","UOM"]
[null,null,null,null,null,null,null,"Q","Q","Q"]
["FREE FLOW DRINKS",null,"SIDE ORDER"]
["SYRUP ",null,"SYRUP "]
["JF01 92501:GRAPE J",{"$f":"VLOOKUP(A11,Summary!$B$30:$XFD$453,5,FALSE)","v":334},"JU01 2501:GRAPE J",{"$f":"VLOOKUP(C11,Summary!$B$30:$XFD$453,5,FALSE)","v":0},{"$f":"+D11+B11","v":334},"GLASS",null,"SYRUP CHAMPAGNE GRAPE",35.71,{"$f":"+I11*E11","v":11927.14},"ML"]
["SF01 92601:GRAPE SO",{"$f":"VLOOKUP(A12,Summary!$B$30:$XFD$453,5,FALSE)","v":17},"SO01 2601:GRAPE SO",{"$f":"VLOOKUP(C12,Summary!$B$30:$XFD$453,5,FALSE)","v":0},{"$f":"+D12+B12","v":17},"GLASS",null,"SYRUP CHAMPAGNE GRAPE",40,{"$f":"+I12*E12","v":680},"ML"]
["JF02 92502:APPLE J",{"$f":"VLOOKUP(A13,Summary!$B$30:$XFD$453,5,FALSE)","v":493},"JU02 2502:APPLE J",{"$f":"VLOOKUP(C13,Summary!$B$30:$XFD$453,5,FALSE)","v":0},493,"GLASS",null,"SYRUP GREEN APPLE",35.71,17605.03,"ML"]
["SF02 92602:APPLE SO",{"$f":"VLOOKUP(A14,Summary!$B$30:$XFD$453,5,FALSE)","v":18},"SO02 2602:APPLE SO",{"$f":"VLOOKUP(C14,Summary!$B$30:$XFD$453,5,FALSE)","v":0},18,"GLASS",null,"SYRUP GREEN APPLE",40,720,"ML"]
["JF04 92504:PASSION J",{"$f":"VLOOKUP(A15,Summary!$B$30:$XFD$453,5,FALSE)","v":663},"JU04 2504:PASSION J",{"$f":"VLOOKUP(C15,Summary!$B$30:$XFD$453,5,FALSE)","v":0},663,"GLASS",null,"SYRUP PASSION FRUIT ",35.71,23675.73,"ML"]
["SF04 92604:PASSION SO",{"$f":"VLOOKUP(A16,Summary!$B$30:$XFD$453,5,FALSE)","v":30},"SO04 2604:PASSION SO",{"$f":"VLOOKUP(C16,Summary!$B$30:$XFD$453,5,FALSE)","v":0},30,"GLASS",null,"SYRUP PASSION FRUIT ",40,1200,"ML"]
["JF03 92503:MANGO J",{"$f":"VLOOKUP(A17,Summary!$B$30:$XFD$453,5,FALSE)","v":482},"JU03 2503:MANGO J",{"$f":"VLOOKUP(C17,Summary!$B$30:$XFD$453,5,FALSE)","v":0},482,"GLASS",null,"SYRUP MANGO",35.71,17212.22,"ML"]
["SF03 92603:MANGO SO",{"$f":"VLOOKUP(A18,Summary!$B$30:$XFD$453,5,FALSE)","v":20},"SO02 2602:APPLE SO",{"$f":"VLOOKUP(C18,Summary!$B$30:$XFD$453,5,FALSE)","v":0},20,"GLASS",null,"SYRUP MANGO",40,800,"ML"]
["JF05 92505:RIBENA J",{"$f":"VLOOKUP(A19,Summary!$B$30:$XFD$453,5,FALSE)","v":900},"JU05 2505:RIBENA J",{"$f":"VLOOKUP(C19,Summary!$B$30:$XFD$453,5,FALSE)","v":0},900,"GLASS",null,"SYRUP RIBENA",50,45000,"ML"]
["SF05 92605:RIBENA SO",{"$f":"VLOOKUP(A20,Summary!$B$30:$XFD$453,5,FALSE)","v":51},"SO05 2605:RIBENA SO",{"$f":"VLOOKUP(C20,Summary!$B$30:$XFD$453,5,FALSE)","v":0},51,"GLASS",null,"SYRUP RIBENA",60,{"$f":"+I20*E20","v":3060},"ML"]
[]
["COLD BEVERAGE",null,"COLD BEVERAGE"]
["CF01 92001:MILO(C)",{"$f":"VLOOKUP(A23,Summary!$B$30:$XFD$453,5,FALSE)","v":1129},"CB01 2001:MILO(C)",{"$f":"VLOOKUP(C23,Summary!$B$30:$XFD$453,5,FALSE)","v":0},{"$f":"+D23+B23","v":1129},"GLASS",null,"POWDER MILO ",55.5,{"$f":"+I23*E23","v":62659.5},"GM"]
["CF02 92003:NESCAFE(C)",{"$f":"VLOOKUP(A24,Summary!$B$30:$XFD$453,5,FALSE)","v":370},"CB02 2003:NESCAFE(C)",{"$f":"VLOOKUP(C24,Summary!$B$30:$XFD$453,5,FALSE)","v":0},{"$f":"+D24+B24","v":370},"GLASS",null,"POWDER NESCAFE ICE",45,{"$f":"+I24*E24","v":16650},"GM"]
["CF03 92005:TEA(C)",{"$f":"VLOOKUP(A25,Summary!$B$30:$XFD$453,5,FALSE)","v":97},"CB03 2005:TEA(C)",{"$f":"VLOOKUP(C25,Summary!$B$30:$XFD$453,5,FALSE)","v":0},97,"GLASS",null,"TEA BAG LIPTON RED CATERING",0.14000000000000001,{"$f":"+I25*E25","v":13.580000000000002},"PKT"]
["CF04 92007:LMN TEA(C)",{"$f":"VLOOKUP(A26,Summary!$B$30:$XFD$453,5,FALSE)","v":1623},"CB04 2007:LMN TEA(C)",{"$f":"VLOOKUP(C26,Summary!$B$30:$XFD$453,5,FALSE)","v":1},1624,"GLASS",null,"TEA BAG LIPTON RED CATERING",0.14000000000000001,{"$f":"+I26*E26","v":227.36},"PKT"]
["CF07 92013:HONEY(C)",{"$f":"VLOOKUP(A27,Summary!$B$30:$XFD$453,5,FALSE)","v":406},"CB07 2013:HONEY (C)",{"$f":"VLOOKUP(C27,Summary!$B$30:$XFD$453,5,FALSE)","v":0},406,"GLASS",null,"SYRUP HONEY ",28.57,{"$f":"+I27*E27","v":11599.42},"ML"]
["CF08 92015:HNY LMN(C)",{"$f":"VLOOKUP(A28,Summary!$B$30:$XFD$453,5,FALSE)","v":3691},"CB08 2015:HNY LMN(C)",{"$f":"VLOOKUP(C28,Summary!$B$30:$XFD$453,5,FALSE)","v":2},3693,"GLASS",null,"SYRUP HONEY ",28.57,{"$f":"+I28*$E$28","v":105509.01},"ML"]
[null,null,null,null,0,null,null,"POWDER LIME",4,{"$f":"+I29*$E$28","v":14772},"GM"]
["CF05 92009:GRN TEA(C)",{"$f":"VLOOKUP(A30,Summary!$B$30:$XFD$453,5,FALSE)","v":1372},"CB05 2009:GRN TEA(C)",{"$f":"VLOOKUP(C30,Summary!$B$30:$XFD$453,5,FALSE)","v":2},1374,"GLASS",null,"TEA BAG JASMINE GREEN",7.0000000000000007E-2,{"$f":"+I30*E30","v":96.18},"PKT"]
["CF06 92011:HNY GT(C)",{"$f":"VLOOKUP(A31,Summary!$B$30:$XFD$453,5,FALSE)","v":1549},"CB06 2011:HNY GT(C)",{"$f":"VLOOKUP(C31,Summary!$B$30:$XFD$453,5,FALSE)","v":1},1550,"GLASS",null,"TEA BAG JASMINE GREEN",7.0000000000000007E-2,{"$f":"+I31*$E$31","v":108.50000000000001},"PKT"]
[null,null,null,null,null,null,null,"SYRUP HONEY ",20,{"$f":"+I32*$E$31","v":31000},"ML"]
[]
["HOT BEVERAGE",null,"HOT BEVERAGE"]
["HF01 92002:MILO(H)",{"$f":"VLOOKUP(A35,Summary!$B$30:$XFD$453,5,FALSE)","v":753},"HB01 2002:MILO(H)",{"$f":"VLOOKUP(C35,Summary!$B$30:$XFD$453,5,FALSE)","v":0},{"$f":"+D35+B35","v":753},"GLASS",null,"POWDER MILO ",45,{"$f":"+I35*E35","v":33885},"GM"]
["HF02 92004:NESCAFE(H)",{"$f":"VLOOKUP(A36,Summary!$B$30:$XFD$453,5,FALSE)","v":230},"HB02 2004:NESCAFE(H)",{"$f":"VLOOKUP(C36,Summary!$B$30:$XFD$453,5,FALSE)","v":0},{"$f":"+D36+B36","v":230},"GLASS",null,"POWDER NESCAFE WHITE",60.3,{"$f":"+I36*E36","v":13869},"GM"]
["HF03 92006:TEA(H)",{"$f":"VLOOKUP(A37,Summary!$B$30:$XFD$453,5,FALSE)","v":77},"HB03 2006:TEA(H)",{"$f":"VLOOKUP(C37,Summary!$B$30:$XFD$453,5,FALSE)","v":0},77,"GLASS",null,"TEA BAG LIPTON RED CATERING",0.19,{"$f":"+I37*E37","v":14.63},"PKT"]
["HF04 92008:LMN TEA(H)",{"$f":"VLOOKUP(A38,Summary!$B$30:$XFD$453,5,FALSE)","v":281},"HB04 2008:LMN TEA(H)",{"$f":"VLOOKUP(C38,Summary!$B$30:$XFD$453,5,FALSE)","v":0},281,"GLASS",null,"TEA BAG LIPTON RED CATERING",0.19,53.39,"PKT"]
["HF07 92014:HONEY(H)",{"$f":"VLOOKUP(A39,Summary!$B$30:$XFD$453,5,FALSE)","v":449},"HB07 2014:HONEY(H)",{"$f":"VLOOKUP(C39,Summary!$B$30:$XFD$453,5,FALSE)","v":0},449,"GLASS",null,"SYRUP HONEY ",25,{"$f":"+I39*E39","v":11225},"ML"]
["HF08 92016:HNY LMN(H)",{"$f":"VLOOKUP(A40,Summary!$B$30:$XFD$453,5,FALSE)","v":3269},"HB08 2016:HNY LMN(H)",{"$f":"VLOOKUP(C40,Summary!$B$30:$XFD$453,5,FALSE)","v":3},3272,"GLASS",null,"SYRUP HONEY ",25,{"$f":"+I40*E40","v":81800},"ML"]
["HF05 92010:GRN TEA(H)",{"$f":"VLOOKUP(A41,Summary!$B$30:$XFD$453,5,FALSE)","v":644},"HB05 2010:GRN TEA(H)",{"$f":"VLOOKUP(C41,Summary!$B$30:$XFD$453,5,FALSE)","v":0},644,"GLASS",null,"TEA BAG JASMINE GREEN",0.09,{"$f":"+I41*E41","v":57.96},"PKT"]
["HF06 92012:HNY GT(H)",{"$f":"VLOOKUP(A42,Summary!$B$30:$XFD$453,5,FALSE)","v":905},"HB06 2012:HNY GT(H)",{"$f":"VLOOKUP(C42,Summary!$B$30:$XFD$453,5,FALSE)","v":0},905,"GLASS",null,"TEA BAG JASMINE GREEN",0.09,{"$f":"+I42*$E$42","v":81.45},"PKT"]
[null,null,null,null,0,null,null,"SYRUP HONEY ",25,{"$f":"+I43*$E$42","v":22625},"ML"]
[null,null,"HB12 2020:CAPPU(H)",{"$f":"VLOOKUP(C44,Summary!$B$30:$XFD$453,5,FALSE)","v":0},0,"GLASS",null,"POWDER CAPPUCINO",74.7,{"$f":"+I44*$E$44","v":0},"GM"]
[null,null,null,null,0,null,null,"POWDER DAIRY CREAMER",15,{"$f":"+I45*$E$44","v":0},"GM"]
[null,null,"HB13 2021:CHOCO(H)",{"$f":"VLOOKUP(C46,Summary!$B$30:$XFD$453,5,FALSE)","v":1},1,"GLASS",null,"POWDER CHOCOLATE",74.7,{"$f":"+I46*$E$46","v":74.7},"GM"]
[null,null,null,null,0,null,null,"POWDER DAIRY CREAMER",15,{"$f":"+I47*$E$46","v":15},"GM"]
[null,null,"HB14 2022:MOCHA(H)",{"$f":"VLOOKUP(C48,Summary!$B$30:$XFD$453,5,FALSE)","v":0},0,"GLASS",null,"POWDER MOCHA",60.3,{"$f":"+I48*$E$48","v":0},"GM"]
[null,null,null,null,null,null,null,"POWDER DAIRY CREAMER",15,{"$f":"+I49*$E$48","v":0},"GM"]
[]
[null,null,"SMOOTHIES"]
[null,null,"SM01 2801:GRAPE SM",{"$f":"VLOOKUP(C52,Summary!$B$30:$XFD$453,5,FALSE)","v":0},{"$f":"+D52+B52","v":0},"GLASS",null,"SYRUP CHAMPAGNE GRAPE",80,{"$f":"+I52*$E$52","v":0},"ML"]
[null,null,null,null,0,null,null,"POWDER DAIRY CREAMER",20,{"$f":"+I53*$E$52","v":0},"GM"]
[null,null,"SM02 2802:APPLE SM",{"$f":"VLOOKUP(C54,Summary!$B$30:$XFD$453,5,FALSE)","v":0},0,"GLASS",null,"SYRUP GREEN APPLE",80,{"$f":"+I54*$E$54","v":0},"ML"]
[null,null,null,null,0,null,null,"POWDER DAIRY CREAMER",20,{"$f":"+I55*$E$54","v":0},"GM"]
[null,null,"SM04 2804:PASSION SM",{"$f":"VLOOKUP(C56,Summary!$B$30:$XFD$453,5,FALSE)","v":0},0,"GLASS",null,"SYRUP PASSION FRUIT ",80,{"$f":"+I56*$E$56","v":0},"ML"]
[null,null,null,null,0,null,null,"POWDER DAIRY CREAMER",20,{"$f":"+I57*$E$56","v":0},"GM"]
[null,null,"SM03 2803:MANGO SM",{"$f":"VLOOKUP(C58,Summary!$B$30:$XFD$453,5,FALSE)","v":0},0,"GLASS",null,"SYRUP MANGO",100,{"$f":"+I58*$E$58","v":0},"ML"]
[null,null,null,null,0,null,null,"POWDER DAIRY CREAMER",20,{"$f":"+I59*$E$58","v":0},"GM"]
[null,null,"SM05 2805:RIBENA SM",{"$f":"VLOOKUP(C60,Summary!$B$30:$XFD$453,5,FALSE)","v":0},0,"GLASS",null,"SYRUP RIBENA",100,{"$f":"+I60*$E$60","v":0},"ML"]
[null,null,null,null,0,null,null,"POWDER DAIRY CREAMER",20,{"$f":"+I61*$E$60","v":0},"GM"]
[null,null,"SM09 2820:CAPPU SM",{"$f":"VLOOKUP(C62,Summary!$B$30:$XFD$453,5,FALSE)","v":0},0,"GLASS",null,"POWDER CAPPUCINO",39.6,{"$f":"+I62*$E$62","v":0},"GM"]
[null,null,null,null,0,null,null,"POWDER DAIRY CREAMER",20,{"$f":"+I63*$E$62","v":0},"GM"]
[null,null,"SM10 2821:CHOCO SM",{"$f":"VLOOKUP(C64,Summary!$B$30:$XFD$453,5,FALSE)","v":0},0,"GLASS",null,"POWDER CHOCOLATE",39.6,{"$f":"+I64*$E$64","v":0},"GM"]
[null,null,null,null,0,null,null,"POWDER DAIRY CREAMER",20,{"$f":"+I65*$E$64","v":0},"GM"]
[null,null,"SM11 2822:MOCHA SM",{"$f":"VLOOKUP(C66,Summary!$B$30:$XFD$453,5,FALSE)","v":0},0,"GLASS",null,"POWDER MOCHA",39.6,{"$f":"+I66*$E$66","v":0},"GM"]
[null,null,null,null,null,null,null,"POWDER DAIRY CREAMER",20,{"$f":"+I67*$E$66","v":0},"GM"]
[null,null,"DRINKS IN JUG"]
[null,null,"JD01 2923:7 UP JUG",{"$f":"VLOOKUP(C69,Summary!$B$30:$XFD$453,5,FALSE)","v":0},{"$f":"(+D69+B69)*4","v":0},"GLASS",null,"7UP",1,{"$f":"+I69*E69","v":0},"GLASS"]
[null,null,"JD03 2925:PEPSI JUG",{"$f":"VLOOKUP(C70,Summary!$B$30:$XFD$453,5,FALSE)","v":0},{"$f":"(+D70+B70)*4","v":0},"GLASS",null,"TEA BAG JASMINE GREEN",7.0000000000000007E-2,{"$f":"+I70*E70","v":0},"PKT"]
[null,null,"JD03 2925:PEPSI JUG",{"$f":"VLOOKUP(C71,Summary!$B$30:$XFD$453,5,FALSE)","v":0},{"$f":"(+D71+B71)*4","v":0},"GLASS",null,"PEPSI",1,{"$f":"+I71*E71","v":0},"GLASS"]
[null,null,"JU05 2505:RIBENA J",{"$f":"VLOOKUP(C72,Summary!$B$30:$XFD$453,5,FALSE)","v":0},{"$f":"(+D72+B72)*4","v":0},"GLASS",null,"SYRUP RIBENA",50,{"$f":"+I72*E72","v":0},"ML"]
[]
[null,null,"MINERAL WATER "]
[null,null,"WA01 2026:BM WATER",{"$f":"VLOOKUP(C75,Summary!$B$30:$XFD$453,5,FALSE)","v":0},{"$f":"+D75+B75","v":0},"BTL",null,"MINERAL WATER ",1,{"$f":"+I75*E75","v":0},"BTL"]
[]
["TEA & SOFT DRINKS",null,"TEA & SOFT DRINKS"]
["HF11 92019:EARL GREY",{"$f":"VLOOKUP(A78,Summary!$B$30:$XFD$453,5,FALSE)","v":81},"HB11 2019:EARL GREY",{"$f":"VLOOKUP(C78,Summary!$B$30:$XFD$453,5,FALSE)","v":1},{"$f":"+D78+B78","v":82},"GLASS",null,"TEA BAG LIPTON EARLGREY",1,{"$f":"+I78*E78","v":82},"BAG"]
["HF09 92017:CHAMOMILE",{"$f":"VLOOKUP(A79,Summary!$B$30:$XFD$453,5,FALSE)","v":49},"HB09 2017:CHAMOMILE",{"$f":"VLOOKUP(C79,Summary!$B$30:$XFD$453,5,FALSE)","v":0},49,"GLASS",null,"TEA BAG LIPTON CHAMOMILE",1,49,"BAG"]
["HF10 92018:DARJEELING",{"$f":"VLOOKUP(A80,Summary!$B$30:$XFD$453,5,FALSE)","v":66},"HB10 2018:DARJEELING",{"$f":"VLOOKUP(C80,Summary!$B$30:$XFD$453,5,FALSE)","v":0},66,"GLASS",null,"TEA BAG LIPTON DARJEELING ",1,66,"BAG"]
["CG03 92025:PEPSI",{"$f":"VLOOKUP(A81,Summary!$B$30:$XFD$453,5,FALSE)","v":1313},"CA03 2025:PEPSI",{"$f":"VLOOKUP(C81,Summary!$B$30:$XFD$453,5,FALSE)","v":0},1313,"GLASS",null,"BIB PEPSI",1,1313,"GLASS"]
["CG01 92023:7 UP",{"$f":"VLOOKUP(A82,Summary!$B$30:$XFD$453,5,FALSE)","v":442},"CA01 2023:7 UP",{"$f":"VLOOKUP(C82,Summary!$B$30:$XFD$453,5,FALSE)","v":0},442,"GLASS",null,"BIB 7UP",1,442,"GLASS"]
["CG02 92024:7UP REVIVE",{"$f":"VLOOKUP(A83,Summary!$B$30:$XFD$453,5,FALSE)","v":111},"CA02 2024:7UP REVIVE",{"$f":"VLOOKUP(C83,Summary!$B$30:$XFD$453,5,FALSE)","v":0},{"$f":"+D83+B83","v":111},"GLASS",null,"BIB 7UP REVIVE",1,111,"GLASS"]
[]
["NET CUSTOMER SERVINGS",null,null,null,{"$f":"SUM(E8:E83)-G74","v":21926},"GLASS"]
[]
["** EXCLUDE COCKTAIL AND MINERAL WATER , INCLUDING STAFF DRINKS"]
[]
[]
["MONHTLY : SALES OF CIGARETTE"]
[]
[null,null,null,null,null,null,null,null,"USAGE"]
["Item","Servings","Item","Servings","TOTAL","UOM",null,"MATERIAL ","PORTION","TOTAL","UOM"]
[null,null,null,null,null,null,null,"Q","Q","Q"]
[]
[]
["GA01 DUNHILL"]
["DH01 DUNHILL",{"$f":"VLOOKUP(A98,Summary!$B$30:$XFD$453,5,FALSE)","v":41},null,null,{"$f":"+D98+B98","v":41},"PKT",null,"DUNHILL KING",1,{"$f":"+I98*E98","v":41},{"$f":"+F98","v":"PKT"}]
["DH02 DUNHILL LITE",{"$f":"VLOOKUP(A99,Summary!$B$30:$XFD$453,5,FALSE)","v":11},null,null,11,"PKT",null,"DUNHILL LIGHTS KING",1,11,{"$f":"+F99","v":"PKT"}]
["DH03 DUNHILL MT",{"$f":"VLOOKUP(A100,Summary!$B$30:$XFD$453,5,FALSE)","v":11},null,null,11,"PKT",null,"DUNHILL MENTHOL KING",1,11,"PKT"]
["DH07 DUNHILL ICE",{"$f":"VLOOKUP(A101,Summary!$B$30:$XFD$453,5,FALSE)","v":25},null,null,25,"PKT",null,"DUNHILL ICE",1,25,"PKT"]
["DH08 KENT ORIGINAL",{"$f":"VLOOKUP(A102,Summary!$B$30:$XFD$453,5,FALSE)","v":{"$error":"#N/A"}},null,null,{"$f":"+D102+B102","v":{"$error":"#N/A"}},"PKT",null,"KENT ORIGINAL",1,{"$f":"+I102*E102","v":{"$error":"#N/A"}},{"$f":"+F102","v":"PKT"}]
["DH11 KENT NEO",{"$f":"VLOOKUP(A103,Summary!$B$30:$XFD$453,5,FALSE)","v":{"$error":"#N/A"}},null,null,{"$f":"+D103+B103","v":{"$error":"#N/A"}},"PKT",null,"KENT NEO",1,{"$f":"+I103*E103","v":{"$error":"#N/A"}},{"$f":"+F103","v":"PKT"}]

{"sheet":"STOCK ANALYSIS","index":4,"n_rows":69,"n_cols":23,"rows_kept":69,"cut":false,"hidden":false,"merged":[[6,3,6,5],[65,3,65,13],[12,1,12,22],[16,21,17,21],[16,22,17,22],[9,3,9,5]]}
[]
[]
[null,null,"MONTHLY BAR STOCK SUMMARY "]
[null,null,"每月吧台货物总结表"]
[]
[]
[null,null,"OUTLET BAR ","SBA"]
[null,null,"分行吧台"]
[]
[null,null,"YEAR / MONTH","FEBRUARY 2014"]
[null,null,"年/月"]
[]
[]
[null,"ITEM","PRODUCT DESCRIPTION","PRICE","UOM","FOR SBA BAR DEPARTMENT "]
[null,"项目","食材产品","价格","单位","A","B","1st-27th","28th-31st","C",null,"D","E","F","G","H","I","I * (a)","I * (b)","J","K","L","M"]
[null,null,null,null,null,null,null,null,null,null,null,null,null,"=C+D+E","=A+B-F",null,"=H-G","=H-G",null,"=I / G","=UP*I","=UP*F","=I / F"]
[null,null,null,null,null,"OPENING","PURCHASE",null,null,"USAGE ",null,"DISPOSED","USAGE ","TOTAL","BOOKING","STOCK ","DIFF.","DIFF.","UOM","DIFF.","LOSS/GAIN","USAGE BY SALES IN MONTH","STOCK DIFF OVER USAGE "]
[null,null,null,null,null,"STOCK",null,null,null,"IN FFD / SO",null,"STOCK","IN OTHER ","USAGE ","INVENTORY","TAKE "]
[null,null,null,null,null,"上月存货","购买数量",null,null,"用量",null,"本月抛弃","其他用途","总用量","账面存货","本月点货","差异","差异","单位","%差异","盈亏 (RM)","用量花费(RM)"]
[]
[null,"MAIN BEVERAGE  主要饮料"]
[null,1,"SYRUP CHAMPAGNE GRAPE",{"$f":"SUMIF(DATABASE!$E$22:$E$77,C22,DATABASE!$F$22:$F$76)","v":5.7499999999999999E-3},"ML 公升",33799.85,{"$f":"SUMIF('PURCHASE SUMMARY'!$E$21:$E$67,C22,'PURCHASE SUMMARY'!$L$21:$L$67)","v":0},null,{"$f":"SUMIF('TOTAL USAGE ON BEVERAGES'!$A$9:$A$35,'STOCK ANALYSIS'!C22,'TOTAL USAGE ON BEVERAGES'!$B$9:$B$34)","v":12607.14},{"$f":"+H22+I22","v":12607.14},{"$f":"+J22/4000","v":3.1517849999999998},{"$f":"SUMIF('DISPOSAL(CONVERT)'!$C$16:$C$75,C22,'DISPOSAL(CONVERT)'!$AK$16:$AK$68)","v":0},null,{"$f":"M22+J22+L22","v":12607.14},{"$f":"+F22+G22-N22","v":21192.71},{"$f":"SUMIF('CLOSING STOCK -AFTER ADJUSTMENT'!$E$22:$E$80,'STOCK ANALYSIS'!C22,'CLOSING STOCK -AFTER ADJUSTMENT'!$K$22:$K$79)","v":18582.64},{"$f":"+P22-O22","v":-2610.0699999999997},{"$f":"+Q22/4000","v":-0.65251749999999997},"DRUM",{"$f":"IF(O22=0,\"\",Q22/O22)","v":-0.12315885981547428},{"$f":"+Q22*D22","v":-15.007902499999998},{"$f":"+N22*D22","v":72.491054999999989},{"$f":"IF(N22=0,\"\",Q22/N22)","v":-0.20703109507786857}]
[null,2,"SYRUP GREEN APPLE",{"$f":"SUMIF(DATABASE!$E$22:$E$77,C23,DATABASE!$F$22:$F$76)","v":5.7499999999999999E-3},"ML 公升",33913.49,{"$f":"SUMIF('PURCHASE SUMMARY'!$E$21:$E$67,C23,'PURCHASE SUMMARY'!$L$21:$L$67)","v":8000},null,{"$f":"SUMIF('TOTAL USAGE ON BEVERAGES'!$A$9:$A$35,'STOCK ANALYSIS'!C23,'TOTAL USAGE ON BEVERAGES'!$B$9:$B$34)","v":18325.03},{"$f":"+H23+I23","v":18325.03},{"$f":"+J23/4000","v":4.5812574999999995},{"$f":"SUMIF('DISPOSAL(CONVERT)'!$C$16:$C$75,C23,'DISPOSAL(CONVERT)'!$AK$16:$AK$68)","v":0},null,{"$f":"M23+J23+L23","v":18325.03},{"$f":"+F23+G23-N23","v":23588.46},{"$f":"SUMIF('CLOSING STOCK -AFTER ADJUSTMENT'!$E$22:$E$80,'STOCK ANALYSIS'!C23,'CLOSING STOCK -AFTER ADJUSTMENT'!$K$22:$K$79)","v":21228.76},{"$f":"+P23-O23","v":-2359.7000000000007},{"$f":"+Q23/4000","v":-0.58992500000000014},{"$f":"+S22","v":"DRUM"},{"$f":"IF(O23=0,\"\",Q23/O23)","v":-0.10003620414389074},-13.568275000000003,{"$f":"+N23*D23","v":105.3689225},{"$f":"IF(N23=0,\"\",Q23/N23)","v":-0.12876922984573563}]
[null,3,"SYRUP PASSION FRUIT ",{"$f":"SUMIF(DATABASE!$E$22:$E$77,C24,DATABASE!$F$22:$F$76)","v":5.7499999999999999E-3},"ML 公升",53059.19666666667,{"$f":"SUMIF('PURCHASE SUMMARY'!$E$21:$E$67,C24,'PURCHASE SUMMARY'!$L$21:$L$67)","v":0},null,{"$f":"SUMIF('TOTAL USAGE ON BEVERAGES'!$A$9:$A$35,'STOCK ANALYSIS'!C24,'TOTAL USAGE ON BEVERAGES'!$B$9:$B$34)","v":24875.73},24875.73,{"$f":"+J24/4000","v":6.2189325000000002},{"$f":"SUMIF('DISPOSAL(CONVERT)'!$C$16:$C$75,C24,'DISPOSAL(CONVERT)'!$AK$16:$AK$68)","v":0},null,24875.73,28183.466666666671,{"$f":"SUMIF('CLOSING STOCK -AFTER ADJUSTMENT'!$E$22:$E$80,'STOCK ANALYSIS'!C24,'CLOSING STOCK -AFTER ADJUSTMENT'!$K$22:$K$79)","v":25163.99},-3019.4766666666692,{"$f":"+Q24/4000","v":-0.75486916666666726},{"$f":"+S23","v":"DRUM"},-0.10713645352357891,-17.361990833333348,143.0354475,-0.12138243447193989]
[null,4,"SYRUP HONEY ",8.9999999999999993E-3,"ML 公升",182085.82,{"$f":"SUMIF('PURCHASE SUMMARY'!$E$21:$E$67,C25,'PURCHASE SUMMARY'!$L$21:$L$67)","v":128000},null,{"$f":"SUMIF('TOTAL USAGE ON BEVERAGES'!$A$9:$A$35,'STOCK ANALYSIS'!C25,'TOTAL USAGE ON BEVERAGES'!$B$9:$B$34)","v":263758.43},263758.43,{"$f":"+J25/2000","v":131.87921499999999},{"$f":"SUMIF('DISPOSAL(CONVERT)'!$C$16:$C$75,C25,'DISPOSAL(CONVERT)'!$AK$16:$AK$68)","v":0},null,263758.43,46327.390000000014,{"$f":"SUMIF('CLOSING STOCK -AFTER ADJUSTMENT'!$E$22:$E$80,'STOCK ANALYSIS'!C25,'CLOSING STOCK -AFTER ADJUSTMENT'!$K$22:$K$79)","v":63928.713333333333},17601.323333333319,{"$f":"+Q25/2000","v":8.8006616666666595},"DRUM",0.37993341160236554,158.41190999999986,2373.8258699999997,6.6732742279870708E-2]
[null,5,"SYRUP MANGO",5.7499999999999999E-3,"ML 公升",55175.626666666663,{"$f":"SUMIF('PURCHASE SUMMARY'!$E$21:$E$67,C26,'PURCHASE SUMMARY'!$L$21:$L$67)","v":0},null,{"$f":"SUMIF('TOTAL USAGE ON BEVERAGES'!$A$9:$A$35,'STOCK ANALYSIS'!C26,'TOTAL USAGE ON BEVERAGES'!$B$9:$B$34)","v":18012.22},18012.22,{"$f":"+J26/2000","v":9.0061100000000014},{"$f":"SUMIF('DISPOSAL(CONVERT)'!$C$16:$C$75,C26,'DISPOSAL(CONVERT)'!$AK$16:$AK$68)","v":0},null,18012.22,37163.406666666662,{"$f":"SUMIF('CLOSING STOCK -AFTER ADJUSTMENT'!$E$22:$E$80,'STOCK ANALYSIS'!C26,'CLOSING STOCK -AFTER ADJUSTMENT'!$K$22:$K$79)","v":34654.936666666668},-2508.4699999999939,{"$f":"+Q26/2000","v":-1.2542349999999969},"DRUM",-6.7498386854021653E-2,-14.423702499999965,103.57026500000001,-0.13926489905186556]
[null,6,"SYRUP RIBENA",{"$f":"SUMIF(DATABASE!$E$22:$E$77,C27,DATABASE!$F$22:$F$76)","v":0.01},"ML 公升",74626,{"$f":"SUMIF('PURCHASE SUMMARY'!$E$21:$E$67,C27,'PURCHASE SUMMARY'!$L$21:$L$67)","v":72000},null,{"$f":"SUMIF('TOTAL USAGE ON BEVERAGES'!$A$9:$A$35,'STOCK ANALYSIS'!C27,'TOTAL USAGE ON BEVERAGES'!$B$9:$B$34)","v":48060},48060,{"$f":"+J27/1000","v":48.06},0,null,{"$f":"M27+J27+L27","v":48060},98566,{"$f":"SUMIF('CLOSING STOCK -AFTER ADJUSTMENT'!$E$22:$E$80,'STOCK ANALYSIS'!C27,'CLOSING STOCK -AFTER ADJUSTMENT'!$K$22:$K$79)","v":94195.333333333343},-4370.666666666657,{"$f":"+Q27/1000","v":-4.3706666666666569},"BTL",-4.4342538671211747E-2,-43.706666666666571,480.6,-9.0941878207795604E-2]
[null,7,"TEA BAG JASMINE GREEN",{"$f":"SUMIF(DATABASE!$E$22:$E$77,C28,DATABASE!$F$22:$F$76)","v":0.75},"BAG 袋",485.18079999999998,{"$f":"SUMIF('PURCHASE SUMMARY'!$E$21:$E$67,C28,'PURCHASE SUMMARY'!$L$21:$L$67)","v":120},null,{"$f":"SUMIF('TOTAL USAGE ON BEVERAGES'!$A$9:$A$35,'STOCK ANALYSIS'!C28,'TOTAL USAGE ON BEVERAGES'!$B$9:$B$34)","v":344.09},344.09,{"$f":"+J28/24","v":14.337083333333332},{"$f":"SUMIF('DISPOSAL(CONVERT)'!$C$16:$C$75,C28,'DISPOSAL(CONVERT)'!$AK$16:$AK$68)","v":4.1694800000000001},null,348.25948,256.92131999999998,{"$f":"SUMIF('CLOSING STOCK -AFTER ADJUSTMENT'!$E$22:$E$80,'STOCK ANALYSIS'!C28,'CLOSING STOCK -AFTER ADJUSTMENT'!$K$22:$K$79)","v":229.4958},-27.425519999999977,{"$f":"+Q28","v":-27.425519999999977},"BAG",-0.10674676589704575,-20.569139999999983,261.19461000000001,-7.8750246798737475E-2]
[null,8,"TEA BAG LIPTON CHAMOMILE",{"$f":"SUMIF(DATABASE!$E$22:$E$77,C29,DATABASE!$F$22:$F$76)","v":0.46},"BAG 袋",15,{"$f":"SUMIF('PURCHASE SUMMARY'!$E$21:$E$67,C29,'PURCHASE SUMMARY'!$L$21:$L$67)","v":225},null,{"$f":"SUMIF('TOTAL USAGE ON BEVERAGES'!$A$9:$A$35,'STOCK ANALYSIS'!C29,'TOTAL USAGE ON BEVERAGES'!$B$9:$B$34)","v":49},49,{"$f":"+J29/25","v":1.96},{"$f":"SUMIF('DISPOSAL(CONVERT)'!$C$16:$C$75,C29,'DISPOSAL(CONVERT)'!$AK$16:$AK$68)","v":0},null,49,191,{"$f":"SUMIF('CLOSING STOCK -AFTER ADJUSTMENT'!$E$22:$E$80,'STOCK ANALYSIS'!C29,'CLOSING STOCK -AFTER ADJUSTMENT'!$K$22:$K$79)","v":200},9,{"$f":"+Q29/25","v":0.36},"BOX",4.712041884816754E-2,4.1400000000000006,22.540000000000003,0.18367346938775511]
[null,{"$f":"+B29+1","v":9},"TEA BAG LIPTON DARJEELING ",{"$f":"SUMIF(DATABASE!$E$22:$E$77,C30,DATABASE!$F$22:$F$76)","v":0.46},"BAG 袋",32,{"$f":"SUMIF('PURCHASE SUMMARY'!$E$21:$E$67,C30,'PURCHASE SUMMARY'!$L$21:$L$67)","v":100},null,{"$f":"SUMIF('TOTAL USAGE ON BEVERAGES'!$A$9:$A$35,'STOCK ANALYSIS'!C30,'TOTAL USAGE ON BEVERAGES'!$B$9:$B$34)","v":66},66,{"$f":"+J30/25","v":2.64},{"$f":"SUMIF('DISPOSAL(CONVERT)'!$C$16:$C$75,C30,'DISPOSAL(CONVERT)'!$AK$16:$AK$68)","v":0},null,66,66,{"$f":"SUMIF('CLOSING STOCK -AFTER ADJUSTMENT'!$E$22:$E$80,'STOCK ANALYSIS'!C30,'CLOSING STOCK -AFTER ADJUSTMENT'!$K$22:$K$79)","v":66},0,{"$f":"+Q30/25","v":0},"BOX",0,{"$f":"+Q30*D30","v":0},30.360000000000003,0]
[null,{"$f":"+B30+1","v":10},"TEA BAG LIPTON EARLGREY",{"$f":"SUMIF(DATABASE!$E$22:$E$77,C31,DATABASE!$F$22:$F$76)","v":0.46},"BAG 袋",53,{"$f":"SUMIF('PURCHASE SUMMARY'!$E$21:$E$67,C31,'PURCHASE SUMMARY'!$L$21:$L$67)","v":150},null,{"$f":"SUMIF('TOTAL USAGE ON BEVERAGES'!$A$9:$A$35,'STOCK ANALYSIS'!C31,'TOTAL USAGE ON BEVERAGES'!$B$9:$B$34)","v":82},82,3.28,{"$f":"SUMIF('DISPOSAL(CONVERT)'!$C$16:$C$75,C31,'DISPOSAL(CONVERT)'!$AK$16:$AK$68)","v":0},null,82,121,{"$f":"SUMIF('CLOSING STOCK -AFTER ADJUSTMENT'!$E$22:$E$80,'STOCK ANALYSIS'!C31,'CLOSING STOCK -AFTER ADJUSTMENT'!$K$22:$K$79)","v":120},-1,-0.04,"BOX",-8.2644628099173556E-3,-0.46,37.72,-1.2195121951219513E-2]
[null,11,"TEA BAG LIPTON RED CATERING",{"$f":"SUMIF(DATABASE!$E$22:$E$77,C32,DATABASE!$F$22:$F$76)","v":0.32500000000000001},"BAG 袋",975.04735000000005,{"$f":"SUMIF('PURCHASE SUMMARY'!$E$21:$E$67,C32,'PURCHASE SUMMARY'!$L$21:$L$67)","v":0},null,{"$f":"SUMIF('TOTAL USAGE ON BEVERAGES'!$A$9:$A$35,'STOCK ANALYSIS'!C32,'TOTAL USAGE ON BEVERAGES'!$B$9:$B$34)","v":308.96000000000004},308.96000000000004,{"$f":"+J32/(12*20)","v":1.2873333333333334},{"$f":"SUMIF('DISPOSAL(CONVERT)'!$C$16:$C$75,C32,'DISPOSAL(CONVERT)'!$AK$16:$AK$68)","v":8.4445499999999996},null,317.40455000000003,657.64280000000008,{"$f":"SUMIF('CLOSING STOCK -AFTER ADJUSTMENT'!$E$22:$E$80,'STOCK ANALYSIS'!C32,'CLOSING STOCK -AFTER ADJUSTMENT'!$K$22:$K$79)","v":633.89380000000006},-23.749000000000024,{"$f":"+Q32","v":-23.749000000000024},"BAG",-3.6112308992054684E-2,-7.7184250000000079,103.15647875000002,-7.4822493880443805E-2]
[null,12,"POWDER CAPPUCINO",{"$f":"SUMIF(DATABASE!$E$22:$E$77,C33,DATABASE!$F$22:$F$76)","v":2.1000000000000001E-2},"GM 克",75,{"$f":"SUMIF('PURCHASE SUMMARY'!$E$21:$E$67,C33,'PURCHASE SUMMARY'!$L$21:$L$67)","v":1000},null,{"$f":"SUMIF('TOTAL USAGE ON BEVERAGES'!$A$9:$A$35,'STOCK ANALYSIS'!C33,'TOTAL USAGE ON BEVERAGES'!$B$9:$B$34)","v":0},0,{"$f":"+J33/1000","v":0},{"$f":"SUMIF('DISPOSAL(CONVERT)'!$C$16:$C$75,C33,'DISPOSAL(CONVERT)'!$AK$16:$AK$68)","v":0},null,0,1075,{"$f":"SUMIF('CLOSING STOCK -AFTER ADJUSTMENT'!$E$22:$E$80,'STOCK ANALYSIS'!C33,'CLOSING STOCK -AFTER ADJUSTMENT'!$K$22:$K$79)","v":940},-135,{"$f":"+Q33/1000","v":-0.13500000000000001},"PKT",-0.12558139534883722,-2.835,0,""]
[null,13,"POWDER CHOCOLATE",{"$f":"SUMIF(DATABASE!$E$22:$E$77,C34,DATABASE!$F$22:$F$76)","v":0.02},"GM 克",385,{"$f":"SUMIF('PURCHASE SUMMARY'!$E$21:$E$67,C34,'PURCHASE SUMMARY'!$L$21:$L$67)","v":1000},null,{"$f":"SUMIF('TOTAL USAGE ON BEVERAGES'!$A$9:$A$35,'STOCK ANALYSIS'!C34,'TOTAL USAGE ON BEVERAGES'!$B$9:$B$34)","v":74.7},74.7,{"$f":"+J34/1000","v":7.4700000000000003E-2},{"$f":"SUMIF('DISPOSAL(CONVERT)'!$C$16:$C$75,C34,'DISPOSAL(CONVERT)'!$AK$16:$AK$68)","v":0},null,74.7,1310.3,{"$f":"SUMIF('CLOSING STOCK -AFTER ADJUSTMENT'!$E$22:$E$80,'STOCK ANALYSIS'!C34,'CLOSING STOCK -AFTER ADJUSTMENT'!$K$22:$K$79)","v":1330},19.700000000000045,{"$f":"+Q34/1000","v":1.9700000000000044E-2},"PKT",1.5034724872166715E-2,0.39400000000000091,1.494,0.26372155287818]
[null,14,"POWDER MOCHA",{"$f":"SUMIF(DATABASE!$E$22:$E$77,C35,DATABASE!$F$22:$F$76)","v":2.1000000000000001E-2},"GM 克",500,{"$f":"SUMIF('PURCHASE SUMMARY'!$E$21:$E$67,C35,'PURCHASE SUMMARY'!$L$21:$L$67)","v":1000},null,{"$f":"SUMIF('TOTAL USAGE ON BEVERAGES'!$A$9:$A$35,'STOCK ANALYSIS'!C35,'TOTAL USAGE ON BEVERAGES'!$B$9:$B$34)","v":0},0,0,{"$f":"SUMIF('DISPOSAL(CONVERT)'!$C$16:$C$75,C35,'DISPOSAL(CONVERT)'!$AK$16:$AK$68)","v":0},null,0,1500,{"$f":"SUMIF('CLOSING STOCK -AFTER ADJUSTMENT'!$E$22:$E$80,'STOCK ANALYSIS'!C35,'CLOSING STOCK -AFTER ADJUSTMENT'!$K$22:$K$79)","v":1360},-140,-0.14000000000000001,"PKT",-9.3333333333333338E-2,-2.9400000000000004,0,""]
[null,15,"POWDER MILO ",{"$f":"SUMIF(DATABASE!$E$22:$E$77,C36,DATABASE!$F$22:$F$76)","v":1.546875E-2},"GM 克",56750,{"$f":"SUMIF('PURCHASE SUMMARY'!$E$21:$E$67,C36,'PURCHASE SUMMARY'!$L$21:$L$67)","v":63000},null,{"$f":"SUMIF('TOTAL USAGE ON BEVERAGES'!$A$9:$A$35,'STOCK ANALYSIS'!C36,'TOTAL USAGE ON BEVERAGES'!$B$9:$B$34)","v":96544.5},96544.5,{"$f":"+J36/3500","v":27.584142857142858},{"$f":"SUMIF('DISPOSAL(CONVERT)'!$C$16:$C$75,C36,'DISPOSAL(CONVERT)'!$AK$16:$AK$68)","v":0},null,96544.5,23205.5,{"$f":"SUMIF('CLOSING STOCK -AFTER ADJUSTMENT'!$E$22:$E$80,'STOCK ANALYSIS'!C36,'CLOSING STOCK -AFTER ADJUSTMENT'!$K$22:$K$79)","v":36374.120000000003},13168.620000000003,{"$f":"+Q36/3500","v":3.7624628571428578},"PKT",0.5674783995173559,203.70209062500004,1493.4227343749999,0.13639948417569103]
[null,16,"POWDER NESCAFE ICE",{"$f":"SUMIF(DATABASE!$E$22:$E$77,C37,DATABASE!$F$22:$F$76)","v":1.9213333333333332E-2},"GM 克",6084.6,{"$f":"SUMIF('PURCHASE SUMMARY'!$E$21:$E$67,C37,'PURCHASE SUMMARY'!$L$21:$L$67)","v":15750},null,{"$f":"SUMIF('TOTAL USAGE ON BEVERAGES'!$A$9:$A$35,'STOCK ANALYSIS'!C37,'TOTAL USAGE ON BEVERAGES'!$B$9:$B$34)","v":16650},16650,{"$f":"+J37/750","v":22.2},{"$f":"SUMIF('DISPOSAL(CONVERT)'!$C$16:$C$75,C37,'DISPOSAL(CONVERT)'!$AK$16:$AK$68)","v":0},null,16650,5184.5999999999985,{"$f":"SUMIF('CLOSING STOCK -AFTER ADJUSTMENT'!$E$22:$E$80,'STOCK ANALYSIS'!C37,'CLOSING STOCK -AFTER ADJUSTMENT'!$K$22:$K$79)","v":3490.5},-1694.0999999999985,{"$f":"+Q37/750","v":-2.2587999999999981},"PKT",-0.3267561624811941,-32.549307999999968,319.90199999999999,-0.10174774774774765]
[null,17,"POWDER NESCAFE WHITE",{"$f":"SUMIF(DATABASE!$E$22:$E$77,C38,DATABASE!$F$22:$F$76)","v":2.0210000000000002E-2},"GM 克",11350,{"$f":"SUMIF('PURCHASE SUMMARY'!$E$21:$E$67,C38,'PURCHASE SUMMARY'!$L$21:$L$67)","v":15000},null,{"$f":"SUMIF('TOTAL USAGE ON BEVERAGES'!$A$9:$A$35,'STOCK ANALYSIS'!C38,'TOTAL USAGE ON BEVERAGES'!$B$9:$B$34)","v":13869},13869,{"$f":"+J38/1000","v":13.869},{"$f":"SUMIF('DISPOSAL(CONVERT)'!$C$16:$C$75,C38,'DISPOSAL(CONVERT)'!$AK$16:$AK$68)","v":0},null,13869,12481,{"$f":"SUMIF('CLOSING STOCK -AFTER ADJUSTMENT'!$E$22:$E$80,'STOCK ANALYSIS'!C38,'CLOSING STOCK -AFTER ADJUSTMENT'!$K$22:$K$79)","v":12185},-296,{"$f":"+Q38/1000","v":-0.29599999999999999},"PKT",-2.3716048393558207E-2,-5.9821600000000004,280.29249000000004,-2.1342562549570985E-2]
[null,18,"POWDER DAIRY CREAMER",{"$f":"SUMIF(DATABASE!$E$22:$E$77,C39,DATABASE!$F$22:$F$76)","v":8.9999999999999993E-3},"GM 克",1055,{"$f":"SUMIF('PURCHASE SUMMARY'!$E$21:$E$67,C39,'PURCHASE SUMMARY'!$L$21:$L$67)","v":2000},null,{"$f":"SUMIF('TOTAL USAGE ON BEVERAGES'!$A$9:$A$35,'STOCK ANALYSIS'!C39,'TOTAL USAGE ON BEVERAGES'!$B$9:$B$34)","v":15},15,{"$f":"+J39/2000","v":7.4999999999999997E-3},{"$f":"SUMIF('DISPOSAL(CONVERT)'!$C$16:$C$75,C39,'DISPOSAL(CONVERT)'!$AK$16:$AK$68)","v":0},null,15,3040,{"$f":"SUMIF('CLOSING STOCK -AFTER ADJUSTMENT'!$E$22:$E$80,'STOCK ANALYSIS'!C39,'CLOSING STOCK -AFTER ADJUSTMENT'!$K$22:$K$79)","v":1760},-1280,{"$f":"+Q39/2000","v":-0.64},"PKT",-0.42105263157894735,-11.52,0.13499999999999998,-85.333333333333329]
[null,19,"MINERAL WATER ",{"$f":"SUMIF(DATABASE!$E$22:$E$77,C40,DATABASE!$F$22:$F$76)","v":1.1656},"BTL 瓶",0,{"$f":"SUMIF('PURCHASE SUMMARY'!$E$21:$E$67,C40,'PURCHASE SUMMARY'!$L$21:$L$67)","v":0},null,{"$f":"SUMIF('TOTAL USAGE ON BEVERAGES'!$A$9:$A$35,'STOCK ANALYSIS'!C40,'TOTAL USAGE ON BEVERAGES'!$B$9:$B$34)","v":0},0,{"$f":"+J40","v":0},{"$f":"SUMIF('DISPOSAL(CONVERT)'!$C$16:$C$75,C40,'DISPOSAL(CONVERT)'!$AK$16:$AK$68)","v":0},null,0,0,{"$f":"SUMIF('CLOSING STOCK -AFTER ADJUSTMENT'!$E$22:$E$80,'STOCK ANALYSIS'!C40,'CLOSING STOCK -AFTER ADJUSTMENT'!$K$22:$K$79)","v":0},0,{"$f":"+Q40","v":0},"BTL",{"$f":"IF(O40=0,\"\",Q40/O40)","v":""},0,0,""]
[null,20,"BIB PEPSI",0.51990000000000003,"GLS 杯",1280,{"$f":"SUMIF('PURCHASE SUMMARY'!$E$21:$E$67,C41,'PURCHASE SUMMARY'!$L$21:$L$67)","v":0},null,{"$f":"SUMIF('TOTAL USAGE ON BEVERAGES'!$A$9:$A$35,'STOCK ANALYSIS'!C41,'TOTAL USAGE ON BEVERAGES'!$B$9:$B$34)","v":1313},1313,{"$f":"+J41/320","v":4.1031250000000004},{"$f":"SUMIF('DISPOSAL(CONVERT)'!$C$16:$C$75,C41,'DISPOSAL(CONVERT)'!$AK$16:$AK$68)","v":0},null,1313,-33,{"$f":"SUMIF('CLOSING STOCK -AFTER ADJUSTMENT'!$E$22:$E$80,'STOCK ANALYSIS'!C41,'CLOSING STOCK -AFTER ADJUSTMENT'!$K$22:$K$79)","v":320},353,{"$f":"+Q41/320","v":1.1031249999999999},"CASE",{"$f":"IF(O41=0,\"\",Q41/O41)","v":-10.696969696969697},183.52470000000002,682.62870000000009,0.26884996191926885]
[null,21,"BIB 7UP",0.51990000000000003,"GLS 杯",960,{"$f":"SUMIF('PURCHASE SUMMARY'!$E$21:$E$67,C42,'PURCHASE SUMMARY'!$L$21:$L$67)","v":0},null,{"$f":"SUMIF('TOTAL USAGE ON BEVERAGES'!$A$9:$A$35,'STOCK ANALYSIS'!C42,'TOTAL USAGE ON BEVERAGES'!$B$9:$B$34)","v":442},442,{"$f":"+J42/320","v":1.3812500000000001},{"$f":"SUMIF('DISPOSAL(CONVERT)'!$C$16:$C$75,C42,'DISPOSAL(CONVERT)'!$AK$16:$AK$68)","v":0},null,442,518,{"$f":"SUMIF('CLOSING STOCK -AFTER ADJUSTMENT'!$E$22:$E$80,'STOCK ANALYSIS'!C42,'CLOSING STOCK -AFTER ADJUSTMENT'!$K$22:$K$79)","v":320},-198,{"$f":"+Q42/320","v":-0.61875000000000002},"CASE",-0.38223938223938225,-102.9402,229.79580000000001,-0.44796380090497739]
[null,22,"BIB 7UP REVIVE",0.51990000000000003,"GLS 杯",320,{"$f":"SUMIF('PURCHASE SUMMARY'!$E$21:$E$67,C43,'PURCHASE SUMMARY'!$L$21:$L$67)","v":0},null,{"$f":"SUMIF('TOTAL USAGE ON BEVERAGES'!$A$9:$A$35,'STOCK ANALYSIS'!C43,'TOTAL USAGE ON BEVERAGES'!$B$9:$B$34)","v":111},111,0.34687499999999999,{"$f":"SUMIF('DISPOSAL(CONVERT)'!$C$16:$C$75,C43,'DISPOSAL(CONVERT)'!$AK$16:$AK$68)","v":0},null,111,209,{"$f":"SUMIF('CLOSING STOCK -AFTER ADJUSTMENT'!$E$22:$E$80,'STOCK ANALYSIS'!C43,'CLOSING STOCK -AFTER ADJUSTMENT'!$K$22:$K$79)","v":320},111,0.34687499999999999,"CASE",0.53110047846889952,57.7089,57.7089,1]
[null,"GRAND TOTAL  ( FOR BEVERAGE MATERIAL ONLY ) -A ",null,null,null,null,null,null,null,null,null,null,null,null,null,null,null,null,null,null,{"$f":"SUM(U22:U43)","v":316.29883012500011},{"$f":"SUM(V22:V43)","v":6799.2422731249999},{"$f":"SUM(W22:W43)","v":-84.838167633180461}]
[null,"CIGARETTE 香烟"]
[null,{"$f":"+B43+1","v":23},"DUNHILL KING",{"$f":"SUMIF(DATABASE!$E$22:$E$77,C46,DATABASE!$F$22:$F$76)","v":11.08},"PKT 包",30,{"$f":"SUMIF('PURCHASE SUMMARY'!$E$21:$E$67,C46,'PURCHASE SUMMARY'!$L$21:$L$67)","v":40},null,{"$f":"SUMIF('TOTAL USAGE ON BEVERAGES'!$A$9:$A$35,'STOCK ANALYSIS'!C46,'TOTAL USAGE ON BEVERAGES'!$B$9:$B$34)","v":41},{"$f":"+H46+I46","v":41},null,{"$f":"SUMIF('DISPOSAL(CONVERT)'!$C$16:$C$75,C46,'DISPOSAL(CONVERT)'!$AK$16:$AK$68)","v":0},null,{"$f":"M46+J46+L46","v":41},{"$f":"+F46+G46-N46","v":29},{"$f":"SUMIF('CLOSING STOCK -AFTER ADJUSTMENT'!$E$22:$E$80,'STOCK ANALYSIS'!C46,'CLOSING STOCK -AFTER ADJUSTMENT'!$K$22:$K$79)","v":28},{"$f":"+P46-O46","v":-1},{"$f":"+Q46","v":-1},"PKT",{"$f":"IF(O46=0,\"\",Q46/O46)","v":-3.4482758620689655E-2},{"$f":"+Q46*D46","v":-11.08},{"$f":"+N46*D46","v":454.28000000000003},{"$f":"IF(N46=0,\"\",Q46/N46)","v":-2.4390243902439025E-2}]
[null,24,"DUNHILL LIGHTS KING",{"$f":"SUMIF(DATABASE!$E$22:$E$77,C47,DATABASE!$F$22:$F$76)","v":11.08},"PKT 包",24,{"$f":"SUMIF('PURCHASE SUMMARY'!$E$21:$E$67,C47,'PURCHASE SUMMARY'!$L$21:$L$67)","v":20},null,{"$f":"SUMIF('TOTAL USAGE ON BEVERAGES'!$A$9:$A$35,'STOCK ANALYSIS'!C47,'TOTAL USAGE ON BEVERAGES'!$B$9:$B$34)","v":11},11,null,{"$f":"SUMIF('DISPOSAL(CONVERT)'!$C$16:$C$75,C47,'DISPOSAL(CONVERT)'!$AK$16:$AK$68)","v":0},null,{"$f":"M47+J47+L47","v":11},{"$f":"+F47+G47-N47","v":33},{"$f":"SUMIF('CLOSING STOCK -AFTER ADJUSTMENT'!$E$22:$E$80,'STOCK ANALYSIS'!C47,'CLOSING STOCK -AFTER ADJUSTMENT'!$K$22:$K$79)","v":35},{"$f":"+P47-O47","v":2},{"$f":"+Q47","v":2},"PKT",6.0606060606060608E-2,22.16,121.88,0.18181818181818182]
[null,25,"DUNHILL MENTHOL KING",{"$f":"SUMIF(DATABASE!$E$22:$E$77,C48,DATABASE!$F$22:$F$76)","v":11.08},"PKT 包",34,{"$f":"SUMIF('PURCHASE SUMMARY'!$E$21:$E$67,C48,'PURCHASE SUMMARY'!$L$21:$L$67)","v":0},null,{"$f":"SUMIF('TOTAL USAGE ON BEVERAGES'!$A$9:$A$35,'STOCK ANALYSIS'!C48,'TOTAL USAGE ON BEVERAGES'!$B$9:$B$34)","v":11},11,null,{"$f":"SUMIF('DISPOSAL(CONVERT)'!$C$16:$C$75,C48,'DISPOSAL(CONVERT)'!$AK$16:$AK$68)","v":0},null,11,23,{"$f":"SUMIF('CLOSING STOCK -AFTER ADJUSTMENT'!$E$22:$E$80,'STOCK ANALYSIS'!C48,'CLOSING STOCK -AFTER ADJUSTMENT'!$K$22:$K$79)","v":23},{"$f":"+P48-O48","v":0},0,"PKT",0,0,121.88,0]
[null,26,"DUNHILL ICE",{"$f":"SUMIF(DATABASE!$E$22:$E$77,C49,DATABASE!$F$22:$F$76)","v":11.08},"PKT 包",30,{"$f":"SUMIF('PURCHASE SUMMARY'!$E$21:$E$67,C49,'PURCHASE SUMMARY'!$L$21:$L$67)","v":20},null,{"$f":"SUMIF('TOTAL USAGE ON BEVERAGES'!$A$9:$A$35,'STOCK ANALYSIS'!C49,'TOTAL USAGE ON BEVERAGES'!$B$9:$B$34)","v":25},25,null,{"$f":"SUMIF('DISPOSAL(CONVERT)'!$C$16:$C$75,C49,'DISPOSAL(CONVERT)'!$AK$16:$AK$68)","v":0},null,25,25,{"$f":"SUMIF('CLOSING STOCK -AFTER ADJUSTMENT'!$E$22:$E$80,'STOCK ANALYSIS'!C49,'CLOSING STOCK -AFTER ADJUSTMENT'!$K$22:$K$79)","v":24},-1,-1,"PKT",-0.04,-11.08,277,-0.04]
[null,null,"INCENTIVES"]
[null,"TOTAL (CIGARETTE ONLY )  -B ",null,null,null,{"$f":"SUM(F46:F49)","v":118},{"$f":"SUM(G46:G50)","v":80},null,{"$f":"SUM(I46:I49)","v":88},{"$f":"SUM(J46:J49)","v":88},null,{"$f":"SUM(L46:L49)","v":0},{"$f":"SUM(M46:M49)","v":0},{"$f":"SUM(N46:N49)","v":88},{"$f":"+F51+G51-N51","v":110},{"$f":"SUM(P46:P49)","v":110},{"$f":"+P51-O51","v":0},{"$f":"SUM(R46:R49)","v":0},"PKT",null,{"$f":"SUM(U46:U50)","v":0},{"$f":"SUM(V46:V49)","v":975.04000000000008},{"$f":"SUM(W46:W49)","v":0.1174279379157428}]
[null,"GRAND TOTAL  (A+B)",null,null,null,null,null,null,null,null,null,null,null,null,null,null,null,null,null,null,{"$f":"+U51+U44","v":316.29883012500011},{"$f":"+V51+V44","v":7774.2822731249998},{"$f":"+W51+W44","v":-84.720739695264712}]
[]
[]
[]
[null,null,"DESCRIPTION ",null,null,null,null,null,null,"Jan",null,"FEB"]
[null,null,"PERCENTAGE  ( STOCK LOSSES OVER USAGE )    ",null,null,null,null,null,null,0.23609733338066657,null,{"$f":"+U52/V52","v":4.0685277304429369E-2}]
[null,null,"TOTAL HEADCOUNT                 ( PAX)",null,null,null,null,null,null,14480,null,10735]
[null,null,"AVERAGE EXPENSES PER PAX      ( RM )     ON BEVERAGE ONLY ",null,null,null,null,null,null,0.53022255908149163,null,{"$f":"+V44/L58","v":0.6333714273986959}]
[]
[null,null,"TOTAL SERVINGS ( ON BEVERAGE )  TO CUSTOMERS",null,null,null,null,null,null,23480,null,{"$f":"+SERVINGS!E85","v":21926}]
[null,null,"AVERAGE SERVINGS PER PAX  (GLASSES)",null,null,null,null,null,null,1.6215469613259668,null,{"$f":"+L61/L58","v":2.0424778761061946}]
[]
[null,null,"REMARK :"]
[null,null,"RECORD","REMARK "]
[]
[]
[]
[null,null,"**TOTAL SERVINGS (GLASS) :  INCLUDE STAFF DRINKS ,"]

{"sheet":"TOTAL USAGE ON BEVERAGES","index":5,"n_rows":36,"n_cols":3,"rows_kept":36,"cut":false,"hidden":true,"merged":[]}
[]
["MONHTLY : TOTAL MATERIAL USAGE ON BEVERAGES "]
[]
[]
[]
["MATERIAL ","TOTAL","UOM"]
["Q","Q"]
[]
["MINERAL WATER ",{"$f":"SUMIF(SERVINGS!$H$7:$H$83,A9,SERVINGS!$J$7:$J$83)","v":0},"BTL"]
["SYRUP CHAMPAGNE GRAPE",{"$f":"SUMIF(SERVINGS!$H$7:$H$83,A10,SERVINGS!$J$7:$J$83)","v":12607.14},"ML"]
["SYRUP GREEN APPLE",{"$f":"SUMIF(SERVINGS!$H$7:$H$83,A11,SERVINGS!$J$7:$J$83)","v":18325.03},"ML"]
["SYRUP PASSION FRUIT ",{"$f":"SUMIF(SERVINGS!$H$7:$H$83,A12,SERVINGS!$J$7:$J$83)","v":24875.73},"ML"]
["SYRUP HONEY ",{"$f":"SUMIF(SERVINGS!$H$7:$H$83,A13,SERVINGS!$J$7:$J$83)","v":263758.43},"ML"]
["SYRUP MANGO",{"$f":"SUMIF(SERVINGS!$H$7:$H$83,A14,SERVINGS!$J$7:$J$83)","v":18012.22},"ML"]
["SYRUP RIBENA",{"$f":"SUMIF(SERVINGS!$H$7:$H$83,A15,SERVINGS!$J$7:$J$83)","v":48060},"ML"]
["TEA BAG JASMINE GREEN",{"$f":"SUMIF(SERVINGS!$H$7:$H$83,A16,SERVINGS!$J$7:$J$83)","v":344.09},"BAG"]
["TEA BAG LIPTON CHAMOMILE",{"$f":"SUMIF(SERVINGS!$H$7:$H$83,A17,SERVINGS!$J$7:$J$83)","v":49},"BAG"]
["TEA BAG LIPTON DARJEELING ",{"$f":"SUMIF(SERVINGS!$H$7:$H$83,A18,SERVINGS!$J$7:$J$83)","v":66},"BAG"]
["TEA BAG LIPTON EARLGREY",{"$f":"SUMIF(SERVINGS!$H$7:$H$83,A19,SERVINGS!$J$7:$J$83)","v":82},"BAG"]
["TEA BAG LIPTON RED CATERING",{"$f":"SUMIF(SERVINGS!$H$7:$H$83,A20,SERVINGS!$J$7:$J$83)","v":308.96000000000004},"BAG"]
["BIB PEPSI",{"$f":"SUMIF(SERVINGS!$H$7:$H$83,A21,SERVINGS!$J$7:$J$83)","v":1313},"GLASS"]
["BIB 7UP",{"$f":"SUMIF(SERVINGS!$H$7:$H$83,A22,SERVINGS!$J$7:$J$83)","v":442},"GLASS"]
["BIB 7UP REVIVE",{"$f":"SUMIF(SERVINGS!$H$7:$H$83,A23,SERVINGS!$J$7:$J$83)","v":111},"GLASS"]
["POWDER CAPPUCINO",{"$f":"SUMIF(SERVINGS!$H$7:$H$83,A24,SERVINGS!$J$7:$J$83)","v":0},"GM"]
["POWDER CHOCOLATE",{"$f":"SUMIF(SERVINGS!$H$7:$H$83,A25,SERVINGS!$J$7:$J$83)","v":74.7},"GM"]
["POWDER MOCHA",{"$f":"SUMIF(SERVINGS!$H$7:$H$83,A26,SERVINGS!$J$7:$J$83)","v":0},"GM"]
["POWDER MILO ",{"$f":"SUMIF(SERVINGS!$H$7:$H$83,A27,SERVINGS!$J$7:$J$83)","v":96544.5},"GM"]
["POWDER NESCAFE ICE",{"$f":"SUMIF(SERVINGS!$H$7:$H$83,A28,SERVINGS!$J$7:$J$83)","v":16650},"GM"]
["POWDER NESCAFE WHITE",{"$f":"SUMIF(SERVINGS!$H$7:$H$83,A29,SERVINGS!$J$7:$J$83)","v":13869},"GM"]
["POWDER DAIRY CREAMER",{"$f":"SUMIF(SERVINGS!$H$7:$H$83,A30,SERVINGS!$J$7:$J$83)","v":15},"GM"]
["DUNHILL KING",{"$f":"SUMIF(SERVINGS!$H$7:$H$194,A31,SERVINGS!$J$7:$J$194)","v":41},"PKT"]
["DUNHILL LIGHTS KING",{"$f":"SUMIF(SERVINGS!$H$7:$H$194,A32,SERVINGS!$J$7:$J$194)","v":11},"PKT"]
["DUNHILL MENTHOL KING",{"$f":"SUMIF(SERVINGS!$H$7:$H$194,A33,SERVINGS!$J$7:$J$194)","v":11},"PKT"]
["DUNHILL ICE",{"$f":"SUMIF(SERVINGS!$H$7:$H$194,A34,SERVINGS!$J$7:$J$194)","v":25},"PKT"]
["KENT ORIGINAL",{"$f":"SUMIF(SERVINGS!$H$7:$H$194,A35,SERVINGS!$J$7:$J$194)","v":{"$error":"#N/A"}},"PKT"]
["KENT NEO",{"$f":"SUMIF(SERVINGS!$H$7:$H$194,A36,SERVINGS!$J$7:$J$194)","v":{"$error":"#N/A"}},"PKT"]

{"sheet":"CLOSING STOCK","index":6,"n_rows":101,"n_cols":11,"rows_kept":101,"cut":false,"hidden":true,"merged":[[12,1,12,10],[88,5,88,10]]}
[]
[]
[null,null,"MONTHLY CLOSING STOCK "]
[null,null,"每月吧台存货表"]
[]
[]
[null,null,"OUTLET BAR ","SBA"]
[null,null,"分行吧台"]
[]
[null,null,"YEAR / MONTH","JANUARY 2014"]
[null,null,"年/月"]
[]
[]
[null,"ITEM","CATEGORIES","SUPPLIER","PRODUCT DESCRIPTION","PRICE","UOM","PACK.SIZE","FOR CCS BAR DEPARTMENT "]
[null,"项目","分类","供应商","食材产品","价格","单位","包装","A","B","C"]
[null,null,null,null,null,null,null,null,null,null,"=UP*A"]
[null,null,null,null,null,null,null,null,"QUANTITY","UOM","TOTAL "]
[null,null,null,null,null,null,null,null,null,null,"CLOSING VALUE"]
[null,null,null,null,null,null,null,null,"数量","单位","总存货价值"]
[]
[null,"MAIN BEVERAGE MATERIAL 主要饮料的食材"]
[null,1,"SRYUP","BEST FICTION ","SYRUP CHAMPAGNE GRAPE",{"$f":"SUMIF(DATABASE!$E$22:$E$77,E22,DATABASE!$F$22:$F$76)","v":5.7499999999999999E-3},"ML ","01drum × 4000ml",{"$f":"+'CLOSING STOCK (CONVERT)'!AK16","v":18582.64},{"$f":"+G22","v":"ML "},{"$f":"+I22*F22","v":106.85017999999999}]
[null,{"$f":"+B22+1","v":2},"SRYUP","BEST FICTION ","SYRUP GREEN APPLE",{"$f":"SUMIF(DATABASE!$E$22:$E$77,E23,DATABASE!$F$22:$F$76)","v":5.7499999999999999E-3},"ML ","01drum × 4000ml",{"$f":"+'CLOSING STOCK (CONVERT)'!AK17","v":21228.76},{"$f":"+G23","v":"ML "},{"$f":"+I23*F23","v":122.06536999999999}]
[null,{"$f":"+B23+1","v":3},"SRYUP","BEST FICTION ","SYRUP PASSION FRUIT ",{"$f":"SUMIF(DATABASE!$E$22:$E$77,E24,DATABASE!$F$22:$F$76)","v":5.7499999999999999E-3},"ML ","01drum × 4000ml",{"$f":"+'CLOSING STOCK (CONVERT)'!AK18","v":25163.99},"ML ",144.69294250000002]
[null,4,"SRYUP","BEST FICTION ","SYRUP HONEY ",{"$f":"+[1]DATABASE!F25","v":9.4999999999999998E-3},"ML ","01drum × 2000ml",{"$f":"+'CLOSING STOCK (CONVERT)'!AK19","v":0},"ML ",0]
[null,5,"SRYUP","BEST FICTION ","SYRUP MANGO",{"$f":"+[1]DATABASE!F26","v":5.7499999999999999E-3},"ML ","01drum × 4000ml",{"$f":"+'CLOSING STOCK (CONVERT)'!AK20","v":34654.936666666668},"ML ",199.26588583333333]
[null,6,"SRYUP","G&K","SYRUP HONEY ",{"$f":"+[1]DATABASE!F27","v":8.9999999999999993E-3},"ML ","01drum × 2000ml",{"$f":"+'CLOSING STOCK (CONVERT)'!AK21","v":63928.713333333333},"ML ",575.35841999999991]
[null,7,"SRYUP","G&K","SYRUP MANGO",{"$f":"+[1]DATABASE!F28","v":5.7499999999999999E-3},"ML ","01drum × 4000ml",{"$f":"+'CLOSING STOCK (CONVERT)'!AK22","v":0},"ML ",0]
[null,8,"SRYUP","TIEN SWEE","SYRUP RIBENA",{"$f":"+[1]DATABASE!F29","v":0.01},"ML ","01ctn × 06btl × 1000ml",{"$f":"+'CLOSING STOCK (CONVERT)'!AK23","v":94195.333333333343},"ML ",941.95333333333349]
[null,9,"TEABAG","BEST FICTION","TEA BAG JASMINE GREEN",{"$f":"SUMIF(DATABASE!$E$22:$E$77,E30,DATABASE!$F$22:$F$76)","v":0.75},"BAG ","01pkt × 24bag",{"$f":"+'CLOSING STOCK (CONVERT)'!AK26","v":229.4958},{"$f":"+G30","v":"BAG "},172.12184999999999]
[null,10,"TEABAG","CHUAN HUAT ","TEA BAG LIPTON CHAMOMILE",{"$f":"SUMIF(DATABASE!$E$22:$E$77,E31,DATABASE!$F$22:$F$76)","v":0.46},"BAG ","01box × 25bag",{"$f":"+'CLOSING STOCK (CONVERT)'!AK27","v":200},{"$f":"+G31","v":"BAG "},92]
[null,11,"TEABAG","CHUAN HUAT ","TEA BAG LIPTON DARJEELING ",{"$f":"SUMIF(DATABASE!$E$22:$E$77,E32,DATABASE!$F$22:$F$76)","v":0.46},"BAG ","01box × 25bag",{"$f":"+'CLOSING STOCK (CONVERT)'!AK28","v":66},"BAG ",30.360000000000003]
[null,12,"TEABAG","CHUAN HUAT ","TEA BAG LIPTON EARLGREY",{"$f":"SUMIF(DATABASE!$E$22:$E$77,E33,DATABASE!$F$22:$F$76)","v":0.46},"BAG ","01box × 25bag",{"$f":"+'CLOSING STOCK (CONVERT)'!AK29","v":120},"BAG ",55.2]
[null,13,"TEABAG","CHUAN HUAT ","TEA BAG LIPTON RED CATERING",{"$f":"SUMIF(DATABASE!$E$22:$E$77,E34,DATABASE!$F$22:$F$76)","v":0.32500000000000001},"BAG ","01ctn × 12pkt × 20bag",{"$f":"+'CLOSING STOCK (CONVERT)'!AK30","v":633.89380000000006},"BAG ",206.01548500000001]
[null,14,"POWDER","BEST FICTION","POWDER CAPPUCINO",{"$f":"SUMIF(DATABASE!$E$22:$E$77,E35,DATABASE!$F$22:$F$76)","v":2.1000000000000001E-2},"GM","01pkt × 1000g",{"$f":"+'CLOSING STOCK (CONVERT)'!AK33","v":940},"GM",19.740000000000002]
[null,15,"POWDER","GOLDEN CHOICE ","POWDER CHOCOLATE",{"$f":"SUMIF(DATABASE!$E$22:$E$77,E36,DATABASE!$F$22:$F$76)","v":0.02},"GM","01pkt × 1000g",{"$f":"+'CLOSING STOCK (CONVERT)'!AK34","v":1330},"GM",26.6]
[null,16,"POWDER","BEST FICTION","POWDER MOCHA",{"$f":"SUMIF(DATABASE!$E$22:$E$77,E37,DATABASE!$F$22:$F$76)","v":2.1000000000000001E-2},"GM","01pkt × 1000g",{"$f":"+'CLOSING STOCK (CONVERT)'!AK35","v":1360},"GM",28.560000000000002]
[null,17,"POWDER","CHUAN HUAT ","POWDER LIME",{"$f":"SUMIF(DATABASE!$E$22:$E$77,E38,DATABASE!$F$22:$F$76)","v":2.375E-2},"GM","01ctn × 12pkt × 400g",{"$f":"+'CLOSING STOCK (CONVERT)'!AK36","v":12880},"GM",305.89999999999998]
[null,18,"POWDER","SYKT.TEE SIANG","POWDER MILO ",{"$f":"SUMIF(DATABASE!$E$22:$E$77,E39,DATABASE!$F$22:$F$76)","v":1.546875E-2},"GM","01ctn × 06pkt × 3200g",{"$f":"+'CLOSING STOCK (CONVERT)'!AK37","v":36374.120000000003},"GM",562.66216875000009]
[null,19,"POWDER","SYKT.TEE SIANG","POWDER NESCAFE ICE",{"$f":"SUMIF(DATABASE!$E$22:$E$77,E40,DATABASE!$F$22:$F$76)","v":1.9213333333333332E-2},"GM","01pkt × 750g",{"$f":"+'CLOSING STOCK (CONVERT)'!AK38","v":3490.5},"GM",67.064139999999995]
[null,20,"POWDER","SYKT.TEE SIANG","POWDER NESCAFE WHITE",{"$f":"SUMIF(DATABASE!$E$22:$E$77,E41,DATABASE!$F$22:$F$76)","v":2.0210000000000002E-2},"GM","01pkt × 1000g",{"$f":"+'CLOSING STOCK (CONVERT)'!AK39","v":12185},"GM",246.25885000000002]
[null,21,"CREAMER  & SUGAR","SYKT.TEE SIANG","SACHET DAIRY CREAMER",{"$f":"SUMIF(DATABASE!$E$22:$E$77,E42,DATABASE!$F$22:$F$76)","v":0.1134},"PCS","01ctn × 2pkt × 500pcs",{"$f":"+'CLOSING STOCK (CONVERT)'!AK42","v":375},"PCS",42.524999999999999]
[null,22,"CREAMER  & SUGAR","SYKT.TEE SIANG","SACHET SUGAR WHITE",{"$f":"SUMIF(DATABASE!$E$22:$E$77,E43,DATABASE!$F$22:$F$76)","v":4.1500000000000002E-2},"PCS","01ctn × 10pkt × 200pcs",{"$f":"+'CLOSING STOCK (CONVERT)'!AK43","v":220},"PCS",9.1300000000000008]
[null,23,"CREAMER  & SUGAR","BEST FICTION","POWDER DAIRY CREAMER",{"$f":"SUMIF(DATABASE!$E$22:$E$77,E44,DATABASE!$F$22:$F$76)","v":8.9999999999999993E-3},"GM","01pkt × 2000g",{"$f":"+'CLOSING STOCK (CONVERT)'!AK44","v":1760},"GM",15.839999999999998]
[null,24,"TIDBITS","S.C. TRADING","MIXED TIDBITS",{"$f":"SUMIF(DATABASE!$E$22:$E$77,E45,DATABASE!$F$22:$F$76)","v":1.03E-2},"GM","01bag × 3500g",{"$f":"+'CLOSING STOCK (CONVERT)'!AK47","v":14814},"GM",152.58420000000001]
[null,25,"MINERAL WATER ","PERMANIS SANDILAND ","MINERAL WATER ",{"$f":"DATABASE!F55","v":0.59899999999999998},"BTL","01ctn × 24 btl ",0,"BTL",0]
[null,26,"SOFT DRINKS","PERMANIS SANDILAND ","BIB PEPSI",{"$f":"SUMIF(DATABASE!$E$22:$E$77,E47,DATABASE!$F$22:$F$76)","v":166.37},"BIB","01bib × 20lit",4,"BIB",665.48]
[null,27,"SOFT DRINKS","PERMANIS SANDILAND ","BIB 7UP",{"$f":"SUMIF(DATABASE!$E$22:$E$77,E48,DATABASE!$F$22:$F$76)","v":166.37},"BIB","01bib × 20lit",3,"BIB",499.11]
[null,28,"SOFT DRINKS","PERMANIS SANDILAND ","BIB 7UP REVIVE",{"$f":"SUMIF(DATABASE!$E$22:$E$77,E49,DATABASE!$F$22:$F$76)","v":166.37},"BIB","01bib × 20lit",1,"BIB",166.37]
[null,29,"BEER","GAB","BEER GUINNESS",{"$f":"SUMIF(DATABASE!$E$22:$E$77,E50,DATABASE!$F$22:$F$76)","v":6.8103999999999996},"BTL","01ctn × 24btl",109,"BTL",742.33359999999993]
[null,30,"BEER","GAB","BEER HEINEKEN",{"$f":"SUMIF(DATABASE!$E$22:$E$77,E51,DATABASE!$F$22:$F$76)","v":8.1145999999999994},"BTL","01ctn × 24btl",683,"BTL",5542.2717999999995]
[null,31,"BEER","GAB","BEER TIGER",{"$f":"SUMIF(DATABASE!$E$22:$E$77,E52,DATABASE!$F$22:$F$76)","v":6},"BTL","01ctn × 24btl",1498,"BTL",8988]
[null,32,"BEER","GAB","STRONGBOW",{"$f":"SUMIF(DATABASE!$E$22:$E$77,E53,DATABASE!$F$22:$F$76)","v":8.9625000000000004},"BTL","01ctn × 24btl",42,"BTL",376.42500000000001]
[null,33,"BEER","GAB","PAULANAR",{"$f":"SUMIF(DATABASE!$E$22:$E$77,E54,DATABASE!$F$22:$F$76)","v":12},"BTL","01ctn × 24btl",0,"BTL",0]
[null,34,"BEER","LUEN HENG","SOMEBY APPLE CIDER",{"$f":"SUMIF(DATABASE!$E$22:$E$77,E55,DATABASE!$F$22:$F$76)","v":9.5709999999999997},"BTL","01ctn × 24btl",30,"BTL",287.13]
[null,35,"BEER","LUEN HENG","HOEGAARDEN",{"$f":"SUMIF(DATABASE!$E$22:$E$77,E56,DATABASE!$F$22:$F$76)","v":10.95},"BTL","01ctn × 24btl",72,"BTL",788.4]
[null,36,"BEER -CUSTODY","GAB","BEER GUINNESS ",{"$f":"+F50","v":6.8103999999999996},"BTL","01ctn × 24btl",0,"BTL",{"$f":"-(+I57*F57)","v":0}]
[null,37,"BEER -CUSTODY","GAB","BEER HEINEKEN ",{"$f":"+F51","v":8.1145999999999994},"BTL","01ctn × 24btl",24,"BTL",{"$f":"-(+I58*F58)","v":-194.75039999999998}]
[null,38,"BEER -CUSTODY","GAB","BEER TIGER ",6,"BTL","01ctn × 24btl",111,"BTL",-666]
[null,39,"BEER -CUSTODY","GAB","STRONGBOW ",8.9625000000000004,"BTL","01ctn × 24btl",0,"BTL",0]
[null,40,"BEER -CUSTODY","GAB","PAULANAR",12,"BTL","01ctn × 24btl",0,"BTL",0]
[null,41,"BEER -CUSTODY","LUEN HENG","SOMEBY APPLE CIDER",9.5709999999999997,"BTL","01ctn × 24btl",0,"BTL",0]
[null,42,"BEER -CUSTODY","LUEN HENG","HOEGAARDEN",10.95,"BTL","01ctn × 24btl",0,"BTL",0]
[null,43,"CIGARETTE","NEW FOO HING","DUNHILL KING",{"$f":"SUMIF(DATABASE!$E$22:$E$77,E64,DATABASE!$F$22:$F$76)","v":11.08},"PKT","01pkt × 20s ",30,"PKT",332.4]
[null,44,"CIGARETTE","NEW FOO HING","DUNHILL LIGHTS KING",{"$f":"SUMIF(DATABASE!$E$22:$E$77,E65,DATABASE!$F$22:$F$76)","v":11.08},"PKT","01pkt × 20s ",24,"PKT",265.92]
[null,45,"CIGARETTE","NEW FOO HING","DUNHILL MENTHOL LIGHTS KING",{"$f":"SUMIF(DATABASE!$E$22:$E$77,E66,DATABASE!$F$22:$F$76)","v":11.08},"PKT","01pkt × 20s ",0,"PKT",0]
[null,46,"CIGARETTE","NEW FOO HING","DUNHILL MENTHOL KING",{"$f":"SUMIF(DATABASE!$E$22:$E$77,E67,DATABASE!$F$22:$F$76)","v":11.08},"PKT","01pkt × 20s ",34,"PKT",376.72]
[null,47,"CIGARETTE","NEW FOO HING","DUNHILL MENTHOL BOOST",{"$f":"SUMIF(DATABASE!$E$22:$E$77,E68,DATABASE!$F$22:$F$76)","v":11.08},"PKT","01pkt × 20s ",0,"PKT",0]
[null,48,"CIGARETTE","NEW FOO HING","DUNHILL MENTHOL SWITCH",{"$f":"SUMIF(DATABASE!$E$22:$E$77,E69,DATABASE!$F$22:$F$76)","v":11.08},"PKT","01pkt × 20s ",0,"PKT",0]
[null,49,"CIGARETTE","NEW FOO HING","DUNHILL ICE",{"$f":"SUMIF(DATABASE!$E$22:$E$77,E70,DATABASE!$F$22:$F$76)","v":11.08},"PKT","01pkt × 20s ",30,"PKT",332.4]
[null,50,"CIGARETTE","NEW FOO HING","KENT NEO",{"$f":"SUMIF(DATABASE!$E$22:$E$77,E71,DATABASE!$F$22:$F$76)","v":11.08},"PKT","01pkt × 20s ",0,"PKT",0]
[null,51,"CIGARETTE","NEW FOO HING","KENT ORIGINAL",{"$f":"SUMIF(DATABASE!$E$22:$E$77,E72,DATABASE!$F$22:$F$76)","v":11.08},"PKT","01pkt × 20s ",0,"PKT",0]
[null,52,"CIGARETTE","NEW FOO HING","KENT FUTURA ",{"$f":"SUMIF(DATABASE!$E$22:$E$77,E73,DATABASE!$F$22:$F$76)","v":11.08},"PKT","01pkt × 20s ",0,"PKT",0]
[null,53,"OTHER BEVERAGE","PETTY CASH","DRINHO ICE LEMON TEA",0.83160000000000001,"PKT","01pkt × 250ml",6,{"$f":"+G74","v":"PKT"},{"$f":"+I74*F74","v":4.9896000000000003}]
[null,54,"OTHER BEVERAGE","PETTY CASH","DRINHO MANGO JUICE",0.83160000000000001,"PKT","01pkt × 250ml",23,"PKT",19.126799999999999]
[null,55,"OTHER BEVERAGE","PETTY CASH","DRINHO ORANGE JUICE",0.83160000000000001,"PKT","01pkt × 250ml",44,{"$f":"+G76","v":"PKT"},36.590400000000002]
[null,56,"OTHER BEVERAGE","PETTY CASH","DRINHO SUGAR CANE",0.83160000000000001,"PKT","01pkt × 250ml",30,"PKT",24.948]
[null,57,"OTHER BEVERAGE","PETTY CASH","MARIGOLD ICE LEMON TEA",0.83160000000000001,"PKT","01pkt × 250ml",12,"PKT",9.9792000000000005]
[null,58,"OTHER BEVERAGE","PETTY CASH","SEASON SOYA",0.91500000000000004,"PKT","01pkt × 250ml",9,"PKT",8.2349999999999994]
[null,59,"OTHER BEVERAGE","PETTY CASH","YEO'S SOYA",0.91500000000000004,"PKT","01pkt × 250ml",29,"PKT",26.535]
[null,{"$f":"+B79+1","v":59},"OTHER BEVERAGE","PETTY CASH","DRINKHO LYCHEE",0.94830000000000003,"PKT","01pkt × 250ml",30,"PKT",28.449000000000002]
[null,60,"OTHER BEVERAGE","PETTY CASH","DRINHO WINTER MELON",0.94830000000000003,"PKT","01pkt × 250ml",12,"PKT",11.3796]
[]
[null,"GRAND TOTAL ",null,null,null,null,null,null,null,null,{"$f":"SUM(K22:K83)","v":22795.190425416673}]
[]
[]
[null,null,"ITEMS","TOTAL (RM )"]
[null,1,{"$f":"+C22","v":"SRYUP"},{"$f":"SUMIF($C$22:$C$83,C88,$K$22:$K$83)","v":2090.1861316666668},null,"REMARK :"]
[null,{"$f":"+B88+1","v":2},{"$f":"+C30","v":"TEABAG"},555.69733500000007,null,"REFER TO PETTEY CASH CLAIM FORM ,  THERE IS NO INFO OF DINKHO LYCHEE AND WINTER MELON . THUS , PRICE BASED ON \" YEOS LYCHEE \" AND \"YEOS W/MELON "]
[null,{"$f":"+B89+1","v":3},{"$f":"+C35","v":"POWDER"},1256.7851587499999]
[null,4,{"$f":"+C42","v":"CREAMER  & SUGAR"},67.495000000000005]
[null,5,"TIDBITS",152.58420000000001]
[null,6,{"$f":"+C46","v":"MINERAL WATER "},0]
[null,7,{"$f":"+C47","v":"SOFT DRINKS"},1330.96]
[null,8,{"$f":"+C50","v":"BEER"},16724.560399999998]
[null,9,{"$f":"+C63","v":"BEER -CUSTODY"},-860.75040000000001]
[null,10,{"$f":"+C73","v":"CIGARETTE"},1307.44]
[null,11,{"$f":"+C74","v":"OTHER BEVERAGE"},170.23260000000002]
[]
[]
[null,null,"TOTAL ",{"$f":"SUM(D88:D100)","v":22795.190425416662}]

{"sheet":"CLOSING STOCK (CONVERT)","index":7,"n_rows":48,"n_cols":40,"rows_kept":48,"cut":false,"hidden":true,"merged":[[8,36,11,36],[8,39,11,39],[10,10,10,19],[11,10,11,11],[11,14,11,15],[11,18,11,19],[11,23,11,24],[11,28,11,29],[11,31,11,32],[4,4,5,9],[6,4,6,5],[6,6,6,7],[6,10,7,13],[7,4,7,5],[7,6,7,7],[0,1,0,3],[1,1,1,2],[2,1,2,2],[4,1,11,1],[4,2,11,2],[4,3,11,3]]}
[null,"MONTHLY CLOSING STOCK FOR BAR DEPARTMENT "]
[null,{"$f":"+'[2]STOCK ANALYSIS'!B2:E2","v":"OUTLET :SBA"}]
[null,"MONTH : January 2014"]
[]
[null,"SUPPLIER","TYPE OF INGREDIENT","UNIT PACKING","STOCK TAKE QUANTITY\n"]
[null,null,null,null,null,null,null,null,null,null,null,null,null,null,null,null,null,null,null,null,null,null,null,null,null,null,null,null,null,null,null,null,null,null,null,null,null,"WEIGHT","AMOUNT"]
[null,null,null,null,"ORIGINAL PACKING",null,"ORIGINAL PACKING",null,null,null,"ALTERNATIVE STORAGE",null,null,null,null,null,null,null,null,null,null,null,null,null,null,null,null,null,null,null,null,null,null,null,null,null,null,"PER ML","PER ML"]
[null,null,null,null,"( WHOLE )",null,"(PARTIAL )",null,null,null,null,null,null,null,null,null,null,null,null,null,null,null,null,null,null,null,null,null,null,null,null,null,null,null,null,null,null,"( DENSITY )","OF"]
[null,null,null,null,"QUANTITY","U.O.M.","QUANTITY","U.O.M.","FORMULA ","FORMULA ","DRUM",null,"FORMULA ","FORMULA ","DRUM",null,"FORMULA ","FORMULA ","JUG",null,"FORMULA ","FORMULA ","TOTAL","JUG",null,"FORMULA ","FORMULA ","FORMULA ","TUPPERWARE®",null,"FORMULA ",null,null,"FORMULA ","SQ.BTL","FORMULA ","TOTAL",null,"MIXTURE","UOM"]
[null,null,null,null,null,null,null,null,"(A)","(B)","5000 g",null,"(A)","(B)","3000 g",null,"(A)","(B)","4000 ml",null,"(A)","(B)",null,"2000 ml",null,"(A)","(B)","(B)","ROUND",null,"(A)","BOX",null,"(A)","FULL CAPACITY IN ml","(A)"]
[null,null,null,null,null,null,null,null,null,null,"WEIGHT OF EMPTY CONTAINER /JUG ( GM)"]
[null,null,null,null,null,null,null,null,null,null,203,null,null,null,125,null,null,null,365,null,null,null,null,235,null,null,null,null,473,null,null,250,null,null,240]
[null,null,null,null,null,null,null,null,null,null,"NOS.","GRAM",null,null,"NOS.","GRAM",null,null,"NOS.","GRAM",null,null,null,"NOS.","GRAM",null,null,null,"NOS.","GRAM",null,"NOS.","GRAM",null,"NOS.","GRAM"]
[]
[null,"SYRUP "]
[null,"BEST FICTION","SYRUP CHAMPAGNE GRAPE","01drum × 4000ml",4,"drum",null,"ml",4000,{"$f":"+I16*E16","v":16000},1,3185,{"$f":"+L16-(K16*$K$12)","v":2982},{"$f":"+M16/AL16","v":1988},null,null,{"$f":"+P16-(O16*O12)","v":0},{"$f":"+Q16/AL16","v":0},1,4085,{"$f":"+T16-(+S16*$S$12)","v":3720},{"$f":"+U16/AL16","v":2480},{"$f":"+V16*AM16","v":354.64},null,null,{"$f":"+Y16-(X16*$X$12)","v":0},{"$f":"+Z16*Z12","v":0},{"$f":"+AA16*AA12","v":0},null,null,{"$f":"+AD16*$AC$12","v":0},null,null,{"$f":"+AG16*$AF$12","v":0},1,{"$f":"+AI16*$AI$12","v":240},{"$f":"+AJ16+W16+N16+J16+AH16+AE16+AA16+Z16++R16","v":18582.64},1.5,0.14299999999999999,"ML"]
[null,"BEST FICTION","SYRUP GREEN APPLE","01drum × 4000ml",5,"drum",null,"ml",4000,20000,1,1260,{"$f":"+L17-(K17*$K$12)","v":1057},{"$f":"+M17/AL17","v":704.66666666666663},null,null,{"$f":"+P17-(O17*O12)","v":0},{"$f":"+Q17/AL17","v":0},1,3345,{"$f":"+T17-(+S17*$S$12)","v":2980},{"$f":"+U17/AL17","v":1986.6666666666667},{"$f":"+V17*AM17","v":284.09333333333331},null,null,{"$f":"+Y17-(X17*$X$12)","v":0},{"$f":"+Z17*Z12","v":0},{"$f":"+AA17*AA12","v":0},null,null,{"$f":"+AD17*$AC$12","v":0},null,null,{"$f":"+AG17*$AF$12","v":0},1,{"$f":"+AI17*$AI$12","v":240},{"$f":"+AJ17+W17+N17+J17+AH17+AE17+AA17+Z17++R17","v":21228.76},1.5,0.14299999999999999,"ML"]
[null,"BEST FICTION","SYRUP PASSION FRUIT ","01drum × 4000ml",6,"drum",null,"ml",4000,24000,1,1175,972,{"$f":"+M18/AL18","v":648},null,null,{"$f":"+P18-(O18*O12)","v":0},{"$f":"+Q18/AL18","v":0},1,3260,2895,{"$f":"+U18/AL18","v":1930},{"$f":"+V18*AM18","v":275.98999999999995},null,null,0,{"$f":"+Z18*Z12","v":0},{"$f":"+AA18*AA12","v":0},null,null,0,null,null,0,1,240,25163.99,1.5,0.14299999999999999,"ML"]
[null,"BEST FICTION","SYRUP HONEY ","01drum × 2000ml",null,"drum",null,"ml",2000,0,null,null,0,{"$f":"+M19/AL19","v":0},null,null,{"$f":"+P19-(O19*O11)","v":0},{"$f":"+Q19/AL19","v":0},null,null,0,{"$f":"+U19/AL19","v":0},{"$f":"+V19*AM19","v":0},null,null,0,{"$f":"+Z19*Z11","v":0},{"$f":"+AA19*AA11","v":0},null,null,0,null,null,0,null,0,0,1.5,0.114,"ML"]
[null,"BEST FICTION","SYRUP MANGO","01drum × 4000ml",8,"drum",null,"ml",4000,{"$f":"+I20*E20","v":32000},1,3420,{"$f":"+L20-(K20*$K$12)","v":3217},{"$f":"+M20/AL22","v":2144.6666666666665},null,null,0,0,1,3200,{"$f":"+T20-(+S20*$S$12)","v":2835},{"$f":"+U20/AL22","v":1890},{"$f":"+V20*AM22","v":270.27},null,null,{"$f":"+Y20-(X20*$X$12)","v":0},{"$f":"+Z20*Z13","v":0},{"$f":"+AA20*AA13","v":0},null,null,{"$f":"+AD20*$AC$12","v":0},null,null,{"$f":"+AG20*$AF$12","v":0},1,{"$f":"+AI20*$AI$12","v":240},{"$f":"+AJ20+W20+N20+J20+AH20+AE20+AA20+Z20++R20","v":34654.936666666668},1.5,0.14299999999999999,"ML"]
[null,"G&K FOOD TRADING ","SYRUP HONEY ","01drum × 2000ml",31,"drum",null,"ml",2000,62000,null,null,0,{"$f":"+M21/AL21","v":0},1,2155,{"$f":"+P21-(O21*O12)","v":2030},{"$f":"+Q21/AL21","v":1353.3333333333333},1,1620,1255,{"$f":"+U21/AL21","v":836.66666666666663},{"$f":"+V21*AM21","v":95.38},null,null,0,{"$f":"+Z21*Z12","v":0},{"$f":"+AA21*AA12","v":0},null,null,0,null,null,0,2,480,63928.713333333333,1.5,0.114,"ML"]
[null,"G&K FOOD TRADING ","SYRUP MANGO","01drum × 4000ml",null,"drum",null,"ml",4000,0,null,null,0,{"$f":"+M22/AL22","v":0},null,null,0,0,null,null,0,{"$f":"+U22/AL22","v":0},{"$f":"+V22*AM22","v":0},null,null,0,{"$f":"+Z22*Z12","v":0},{"$f":"+AA22*AA12","v":0},null,null,0,null,null,0,null,0,0,1.5,0.14299999999999999,"ML"]
[null,"TIEN SWEE TRADING","SYRUP RIBENA","01ctn × 06btl × 1000ml",93,"btl",750,"g",{"$f":"(+G23-65)/1.5","v":456.66666666666669},{"$f":"(+E23*1000)+I23","v":93456.666666666672},null,null,0,{"$f":"+M23/AL23","v":0},null,null,null,0,1,4105,3740,{"$f":"+U23/AL23","v":2493.3333333333335},{"$f":"+V23*AM23","v":498.66666666666674},null,null,0,{"$f":"+Z23*Z12","v":0},{"$f":"+AA23*AA12","v":0},null,null,0,null,null,0,1,240,94195.333333333343,1.5,0.2,"ML"]
[]
[null,"TEABAG",null,null,null,null,null,null,null,null,null,null,0,0,null,null,{"$f":"+P25-(O25*O21)","v":0},{"$f":"+Q25*M25","v":0}]
[null,"BEST FICTION","TEA BAG JASMINE GREEN","01pkt × 24bag",9,"pkt",10,"bag",{"$f":"(+E26*24)+G26","v":226},0,null,null,0,0,null,null,{"$f":"+P26-(O26*#REF!)","v":{"$error":"#REF!"}},{"$error":"#REF!"},4,13945,{"$f":"+T26-(+S26*$S$12)","v":12485},0.28000000000000003,{"$f":"(+U26*V26)/1000","v":3.4958},null,null,null,null,null,null,null,null,null,null,null,null,null,{"$f":"+AJ26+I26+W26","v":229.4958},null,null,"BAG"]
[null,"CHUAN HUAT ","TEA BAG LIPTON CHAMOMILE","01box × 25bag",7,"box",25,"bag",{"$f":"(+E27*25)+G27","v":200},0,null,null,0,0,null,null,{"$f":"+P27-(O27*O22)","v":0},0,null,null,{"$f":"+T27-(+S27*$S$12)","v":0},0,{"$f":"+V27*AM27","v":0},null,null,null,null,null,null,null,null,null,null,null,null,null,{"$f":"+AJ27+I27+W27","v":200},null,null,"BAG"]
[null,"CHUAN HUAT ","TEA BAG LIPTON DARJEELING ","01box × 25bag",2,"box",16,"bag",{"$f":"(+E28*25)+G28","v":66},0,null,null,0,0,null,null,{"$f":"+P28-(O28*O23)","v":0},0,null,null,0,0,{"$f":"+V28*AM28","v":0},null,null,null,null,null,null,null,null,null,null,null,null,null,66,null,null,"BAG"]
[null,"CHUAN HUAT ","TEA BAG LIPTON EARLGREY","01box × 25bag",4,"box",20,"bag",{"$f":"(+E29*25)+G29","v":120},0,null,null,0,0,null,null,{"$f":"+P29-(O29*O24)","v":0},0,null,null,0,0,{"$f":"+V29*AM29","v":0},null,null,null,null,null,null,null,null,null,null,null,null,null,120,null,null,"BAG"]
[null,"CHUAN HUAT ","TEA BAG LIPTON RED CATERING","01ctn × 12pkt × 20bag",null,"ctn",628,"bag",{"$f":"+G30","v":628},0,null,null,0,0,null,null,{"$f":"+P30-(O30*O32)","v":0},0,3,11435,{"$f":"+T30-(+S30*$S$12)","v":10340},0.56999999999999995,{"$f":"(+U30*V30)/1000","v":5.8937999999999997},null,null,null,null,null,null,null,null,null,null,null,null,null,633.89380000000006,null,null,"BAG"]
[]
[null,"POWDER ( FOR BEVERAGE )"]
[null,"BEST FICTION","POWDER CAPPUCINO","01pkt × 1000g",null,"pkt",null,"g",1000,{"$f":"(+I33*E33)+G33","v":0},null,null,0,0,null,null,0,{"$f":"+Q33*M33","v":0},null,null,0,0,{"$f":"+U33*Q33","v":0},null,null,{"$f":"+Y33-(X33*$X$12)","v":0},{"$f":"+Y33-(W33*W12)","v":0},{"$f":"+Z33-(X33*X12)","v":0},null,null,{"$f":"+AC33-(Y33*Y12)","v":0},1,1190,{"$f":"+AG33-(AF33*AF12)","v":940},null,0,{"$f":"+AJ33+AH33+AE33+AA33+Z33+W33+V33+R33+U33+Q33+N33+M33+J33","v":940},null,null,"GM"]
[null,"GOLDEN CHOICE ","POWDER CHOCOLATE","01pkt × 1000g",1,"pkt",null,"g",1000,1000,null,null,0,0,null,null,0,{"$f":"+Q34*M34","v":0},null,null,0,0,0,null,null,0,{"$f":"+Y34-(W34*W12)","v":0},{"$f":"+Z34-(X34*X12)","v":0},null,null,{"$f":"+AC34-(Y34*Y12)","v":0},1,580,{"$f":"+AG34-(AF34*AF12)","v":330},null,0,{"$f":"+AJ34+AH34+AE34+AA34+Z34+W34+V34+R34+U34+Q34+N34+M34+J34","v":1330},null,null,"GM"]
[null,"BEST FICTION","POWDER MOCHA","01pkt × 1000g",1,"pkt",null,"g",1000,1000,null,null,0,0,null,null,{"$f":"+P35-(O35*O15)","v":0},0,null,null,0,0,0,null,null,{"$f":"+Y35-(X35*$X$12)","v":0},{"$f":"+Y35-(W35*W12)","v":0},{"$f":"+Z35-(X35*X12)","v":0},null,null,{"$f":"+AC35-(Y35*Y12)","v":0},1,610,{"$f":"+AG35-(AF35*AF12)","v":360},null,0,{"$f":"+AJ35+AH35+AE35+AA35+Z35+W35+V35+R35+U35+Q35+N35+M35+J35","v":1360},null,null,"GM"]
[null,"CHUAN HUAT ","POWDER LIME","01ctn × 12pkt × 400g",31,"pkt",null,"bag",{"$f":"(+E36*400)","v":12400},"g",null,null,0,0,null,null,{"$f":"+P36-(O36*O27)","v":0},{"$f":"+Q36*M36","v":0},null,null,null,null,{"$f":"IF($F36<>\"btl\",$H36,\"g\")","v":"bag"},1,690,{"$f":"+Y36-(X36*$X$12)","v":455},null,null,null,null,null,null,null,null,2,{"$f":"+AI36*AI12","v":480},{"$f":"+AJ36+I36","v":12880},null,0.2,"GM"]
[null,"SYKT.TEE SIANG","POWDER MILO ","01ctn × 06pkt × 3200g",null,"pkt",35000,"g",3200,{"$f":"(+I37*E37)+G37","v":35000},null,null,0,0,null,null,{"$f":"+P37-(O37*O16)","v":0},0,1,825,{"$f":"+T37-(+S37*S12)","v":460},0,{"$f":"+U37*AM37","v":102.12},null,null,0,null,null,1,1280,{"$f":"+AD37-(AC37*AC12)","v":807},1,715,{"$f":"+AG37-(AF37*AF12)","v":465},null,0,{"$f":"+AJ37+AH37+AE37+AA37+Z37+W37+V37+R37+Q37+N37+M37+J37","v":36374.120000000003},null,0.222,"GM"]
[null,"SYKT.TEE SIANG","POWDER NESCAFE ICE","01pkt × 750g",4,"pkt",null,"g",750,{"$f":"(+I38*E38)+G38","v":3000},null,null,0,0,null,null,{"$f":"+P38-(O38*O17)","v":0},0,1,3090,{"$f":"+T38-(+S38*S12)","v":2725},0,{"$f":"+U38*AM38","v":490.5},null,null,0,null,null,null,null,{"$f":"+AD38-(AC38*AC12)","v":0},null,null,{"$f":"+AG38-(AF38*AF12)","v":0},null,0,{"$f":"+AJ38+AH38+AE38+AA38+Z38+W38+V38+R38+Q38+N38+M38+J38","v":3490.5},null,0.18,"GM"]
[null,"SYKT.TEE SIANG","POWDER NESCAFE WHITE","01pkt × 1000g",11,"pkt",null,"g",1000,{"$f":"(+I39*E39)+G39","v":11000},null,null,0,0,null,null,{"$f":"+P39-(O39*O18)","v":0},0,null,null,{"$f":"+T39-(+S39*S12)","v":0},0,{"$f":"+U39*AM39","v":0},null,null,0,0,0,null,null,{"$f":"+AD39-(AC39*AC12)","v":0},1,1435,{"$f":"+AG39-(AF39*AF12)","v":1185},null,0,{"$f":"+AJ39+AH39+AE39+AA39+Z39+W39+V39+R39+Q39+N39+M39+J39","v":12185},null,null,"GM"]
[]
[null,"SUGAR & CREAMER ",null,null,null,null,null,null,null,null,null,null,0,0,null,null,{"$f":"+P41-(O41*O34)","v":0},0]
[null,"SYKT.TEE SIANG","SACHET DAIRY CREAMER","01ctn × 2pkt × 500pcs",null,"pkt",375,"pcs",{"$f":"(+E42*500)+G42","v":375},"pcs",null,null,0,0,null,null,{"$f":"+P42-(O42*O35)","v":0},0,null,null,null,null,{"$f":"IF($F42<>\"btl\",$H42,\"g\")","v":"pcs"},null,null,null,null,null,null,null,null,null,null,null,null,null,{"$f":"+AJ42+I42","v":375},null,null,"PCS"]
[null,"SYKT.TEE SIANG","SACHET SUGAR WHITE","01ctn × 10pkt × 200pcs",1,"pkt",20,"pcs",{"$f":"(+E43*200)+G43","v":220},"pcs",null,null,0,0,null,null,{"$f":"+P43-(O43*O37)","v":0},0,null,null,null,null,{"$f":"IF($F43<>\"btl\",$H43,\"g\")","v":"pcs"},null,null,null,null,null,null,null,null,null,null,null,null,null,{"$f":"+AJ43+I43","v":220},null,null,"PCS"]
[null,"FUN HUT ","POWDER DAIRY CREAMER","01pkt × 2000g",1,"pkt",null,"g",1000,{"$f":"(+I44*E44)+G44","v":1000},null,null,0,0,null,null,{"$f":"+P44-(O44*O12)","v":0},{"$f":"+Q44*M44","v":0},null,null,0,0,{"$f":"+U44*Q44","v":0},null,null,{"$f":"+Y44-(X44*$X$12)","v":0},{"$f":"+Y44-(W44*W12)","v":0},{"$f":"+Z44-(X44*X12)","v":0},null,null,{"$f":"+AC44-(Y44*Y12)","v":0},1,1010,{"$f":"+AG44-(AF44*AF12)","v":760},null,0,{"$f":"+AJ44+W44+N44+J44+R44+AA44+AE44+AH44","v":1760},null,null,"GM"]
[null,null,null,null,null,null,null,null,null,null,null,null,null,null,null,null,{"$f":"+P45-(O45*O25)","v":0},0]
[null,"OTHERS",null,null,null,null,null,null,null,null,null,null,null,null,null,null,{"$f":"+P46-(O46*O26)","v":0},0]
[null,"S.C. TRADING","MIXED TIDBITS","01bag × 3500g",3,"bag",null,"g",{"$f":"(+E47*3500)","v":10500},{"$f":"IF($F47<>\"btl\",$H47,\"g\")","v":"g"},null,null,0,0,null,null,{"$f":"+P47-(O47*O28)","v":0},0,null,null,null,null,{"$f":"IF($F47<>\"btl\",$H47,\"g\")","v":"g"},null,null,null,null,null,2,5260,{"$f":"+AD47-(AC47*AC12)","v":4314},null,null,0,null,0,{"$f":"+AJ47+I47+AH47+AE47","v":14814},null,null,"GM"]
[null,null,null,null,null,null,null,null,null,null,null,null,null,null,null,null,{"$f":"+P48-(O48*O29)","v":0},0]

{"sheet":"CLOSING STOCK -AFTER ADJUSTMENT","index":8,"n_rows":97,"n_cols":13,"rows_kept":97,"cut":false,"hidden":false,"merged":[[87,6,87,10],[12,1,12,12],[13,9,13,12]]}
[]
[]
[null,null,"MONTHLY CLOSING STOCK "]
[null,null,"每月吧台存货表"]
[]
[]
[null,null,"OUTLET BAR ","SBA"]
[null,null,"分行吧台"]
[]
[null,null,"YEAR / MONTH",{"$f":"+Summary!C10","v":"FEBRUARY"}]
[null,null,"年/月"]
[]
[]
[null,"ITEM","CATEGORIES","SUPPLIER","PRODUCT DESCRIPTION","PRICE","UOM","PACK.SIZE",null,"FOR SBA BAR DEPARTMENT "]
[null,"项目","分类","供应商","食材产品","价格","单位","包装","A","B","C","D","E"]
[null,null,null,null,null,null,null,null,null,null,"(A) + (B)",null,"=UP*C"]
[null,null,null,null,null,null,null,null,"USAGE","QUANTITY","NETT QUANTITY ","UOM","TOTAL "]
[null,null,null,null,null,null,null,null,null,null,null,null,"CLOSING VALUE"]
[null,null,null,null,null,null,null,null,"用量","数量","净数量","单位","总存货价值"]
[]
[null,"MAIN BEVERAGE MATERIAL 主要饮料的食材"]
[null,1,"SRYUP","BEST FICTION ","SYRUP CHAMPAGNE GRAPE",{"$f":"SUMIF(DATABASE!$E$22:$E$77,E22,DATABASE!$F$22:$F$76)","v":5.7499999999999999E-3},"ML ","01drum × 4000ml",null,{"$f":"+'CLOSING STOCK (CONVERT)'!AK16","v":18582.64},{"$f":"+J22+I22","v":18582.64},{"$f":"+G22","v":"ML "},{"$f":"+K22*F22","v":106.85017999999999}]
[null,{"$f":"+B22+1","v":2},"SRYUP","BEST FICTION ","SYRUP GREEN APPLE",{"$f":"SUMIF(DATABASE!$E$22:$E$77,E23,DATABASE!$F$22:$F$76)","v":5.7499999999999999E-3},"ML ","01drum × 4000ml",null,{"$f":"+'CLOSING STOCK (CONVERT)'!AK17","v":21228.76},{"$f":"+J23+I23","v":21228.76},{"$f":"+G23","v":"ML "},{"$f":"+K23*F23","v":122.06536999999999}]
[null,{"$f":"+B23+1","v":3},"SRYUP","BEST FICTION ","SYRUP PASSION FRUIT ",{"$f":"SUMIF(DATABASE!$E$22:$E$77,E24,DATABASE!$F$22:$F$76)","v":5.7499999999999999E-3},"ML ","01drum × 4000ml",null,{"$f":"+'CLOSING STOCK (CONVERT)'!AK18","v":25163.99},25163.99,"ML ",144.69294250000002]
[null,4,"SRYUP","BEST FICTION ","SYRUP HONEY ",{"$f":"+[1]DATABASE!F25","v":9.4999999999999998E-3},"ML ","01drum × 2000ml",null,{"$f":"+'CLOSING STOCK (CONVERT)'!AK19","v":0},0,"ML ",0]
[null,5,"SRYUP","BEST FICTION ","SYRUP MANGO",{"$f":"+[1]DATABASE!F26","v":5.7499999999999999E-3},"ML ","01drum × 4000ml",null,{"$f":"+'CLOSING STOCK (CONVERT)'!AK20","v":34654.936666666668},34654.936666666668,"ML ",199.26588583333333]
[null,6,"SRYUP","G&K","SYRUP HONEY ",{"$f":"+[1]DATABASE!F27","v":8.9999999999999993E-3},"ML ","01drum × 2000ml",null,{"$f":"+'CLOSING STOCK (CONVERT)'!AK21","v":63928.713333333333},63928.713333333333,"ML ",575.35841999999991]
[null,7,"SRYUP","G&K","SYRUP MANGO",{"$f":"+[1]DATABASE!F28","v":5.7499999999999999E-3},"ML ","01drum × 4000ml",null,{"$f":"+'CLOSING STOCK (CONVERT)'!AK22","v":0},0,"ML ",0]
[null,8,"SRYUP","TIEN SWEE","SYRUP RIBENA",{"$f":"+[1]DATABASE!F29","v":0.01},"ML ","01ctn × 06btl × 1000ml",null,{"$f":"+'CLOSING STOCK (CONVERT)'!AK23","v":94195.333333333343},94195.333333333343,"ML ",941.95333333333349]
[null,9,"TEABAG","BEST FICTION","TEA BAG JASMINE GREEN",{"$f":"SUMIF(DATABASE!$E$22:$E$77,E30,DATABASE!$F$22:$F$76)","v":0.75},"BAG ","01pkt × 24bag",null,{"$f":"+'CLOSING STOCK (CONVERT)'!AK26","v":229.4958},229.4958,{"$f":"+G30","v":"BAG "},172.12184999999999]
[null,10,"TEABAG","CHUAN HUAT ","TEA BAG LIPTON CHAMOMILE",{"$f":"SUMIF(DATABASE!$E$22:$E$77,E31,DATABASE!$F$22:$F$76)","v":0.46},"BAG ","01box × 25bag",null,{"$f":"+'CLOSING STOCK (CONVERT)'!AK27","v":200},200,{"$f":"+G31","v":"BAG "},92]
[null,11,"TEABAG","CHUAN HUAT ","TEA BAG LIPTON DARJEELING ",{"$f":"SUMIF(DATABASE!$E$22:$E$77,E32,DATABASE!$F$22:$F$76)","v":0.46},"BAG ","01box × 25bag",null,{"$f":"+'CLOSING STOCK (CONVERT)'!AK28","v":66},66,"BAG ",30.360000000000003]
[null,12,"TEABAG","CHUAN HUAT ","TEA BAG LIPTON EARLGREY",{"$f":"SUMIF(DATABASE!$E$22:$E$77,E33,DATABASE!$F$22:$F$76)","v":0.46},"BAG ","01box × 25bag",null,{"$f":"+'CLOSING STOCK (CONVERT)'!AK29","v":120},120,"BAG ",55.2]
[null,13,"TEABAG","CHUAN HUAT ","TEA BAG LIPTON RED CATERING",{"$f":"SUMIF(DATABASE!$E$22:$E$77,E34,DATABASE!$F$22:$F$76)","v":0.32500000000000001},"BAG ","01ctn × 12pkt × 20bag",null,{"$f":"+'CLOSING STOCK (CONVERT)'!AK30","v":633.89380000000006},633.89380000000006,"BAG ",206.01548500000001]
[null,14,"POWDER","BEST FICTION","POWDER CAPPUCINO",{"$f":"SUMIF(DATABASE!$E$22:$E$77,E35,DATABASE!$F$22:$F$76)","v":2.1000000000000001E-2},"GM","01pkt × 1000g",null,{"$f":"+'CLOSING STOCK (CONVERT)'!AK33","v":940},940,"GM",19.740000000000002]
[null,15,"POWDER","GOLDEN CHOICE ","POWDER CHOCOLATE",{"$f":"SUMIF(DATABASE!$E$22:$E$77,E36,DATABASE!$F$22:$F$76)","v":0.02},"GM","01pkt × 1000g",null,{"$f":"+'CLOSING STOCK (CONVERT)'!AK34","v":1330},1330,"GM",26.6]
[null,16,"POWDER","BEST FICTION","POWDER MOCHA",{"$f":"SUMIF(DATABASE!$E$22:$E$77,E37,DATABASE!$F$22:$F$76)","v":2.1000000000000001E-2},"GM","01pkt × 1000g",null,{"$f":"+'CLOSING STOCK (CONVERT)'!AK35","v":1360},1360,"GM",28.560000000000002]
[null,17,"POWDER","CHUAN HUAT ","POWDER LIME",{"$f":"SUMIF(DATABASE!$E$22:$E$77,E38,DATABASE!$F$22:$F$76)","v":2.375E-2},"GM","01ctn × 12pkt × 400g",null,{"$f":"+'CLOSING STOCK (CONVERT)'!AK36","v":12880},12880,"GM",305.89999999999998]
[null,18,"POWDER","SYKT.TEE SIANG","POWDER MILO ",{"$f":"SUMIF(DATABASE!$E$22:$E$77,E39,DATABASE!$F$22:$F$76)","v":1.546875E-2},"GM","01ctn × 06pkt × 3200g",null,{"$f":"+'CLOSING STOCK (CONVERT)'!AK37","v":36374.120000000003},36374.120000000003,"GM",562.66216875000009]
[null,19,"POWDER","SYKT.TEE SIANG","POWDER NESCAFE ICE",{"$f":"SUMIF(DATABASE!$E$22:$E$77,E40,DATABASE!$F$22:$F$76)","v":1.9213333333333332E-2},"GM","01pkt × 750g",null,{"$f":"+'CLOSING STOCK (CONVERT)'!AK38","v":3490.5},3490.5,"GM",67.064139999999995]
[null,20,"POWDER","SYKT.TEE SIANG","POWDER NESCAFE WHITE",{"$f":"SUMIF(DATABASE!$E$22:$E$77,E41,DATABASE!$F$22:$F$76)","v":2.0210000000000002E-2},"GM","01pkt × 1000g",null,{"$f":"+'CLOSING STOCK (CONVERT)'!AK39","v":12185},12185,"GM",246.25885000000002]
[null,21,"CREAMER  & SUGAR","SYKT.TEE SIANG","SACHET DAIRY CREAMER",{"$f":"SUMIF(DATABASE!$E$22:$E$77,E42,DATABASE!$F$22:$F$76)","v":0.1134},"PCS","01ctn × 2pkt × 500pcs",null,{"$f":"+'CLOSING STOCK (CONVERT)'!AK42","v":375},375,"PCS",42.524999999999999]
[null,22,"CREAMER  & SUGAR","SYKT.TEE SIANG","SACHET SUGAR WHITE",{"$f":"SUMIF(DATABASE!$E$22:$E$77,E43,DATABASE!$F$22:$F$76)","v":4.1500000000000002E-2},"PCS","01ctn × 10pkt × 200pcs",null,{"$f":"+'CLOSING STOCK (CONVERT)'!AK43","v":220},220,"PCS",9.1300000000000008]
[null,23,"CREAMER  & SUGAR","BEST FICTION","POWDER DAIRY CREAMER",{"$f":"SUMIF(DATABASE!$E$22:$E$77,E44,DATABASE!$F$22:$F$76)","v":8.9999999999999993E-3},"GM","01pkt × 2000g",null,{"$f":"+'CLOSING STOCK (CONVERT)'!AK44","v":1760},1760,"GM",15.839999999999998]
[null,24,"TIDBITS","S.C. TRADING","MIXED TIDBITS",{"$f":"SUMIF(DATABASE!$E$22:$E$77,E45,DATABASE!$F$22:$F$76)","v":1.03E-2},"GM","01bag × 3500g",null,{"$f":"+'CLOSING STOCK (CONVERT)'!AK47","v":14814},14814,"GM",152.58420000000001]
[null,25,"MINERAL WATER ","PERMANIS SANDILAND ","MINERAL WATER ",{"$f":"DATABASE!F55","v":0.59899999999999998},"BTL","01ctn × 24 btl ",null,0,0,"BTL",0]
[null,26,"SOFT DRINKS","PERMANIS SANDILAND ","BIB PEPSI",0.51990000000000003,"GLASS","01bib × 20lit",null,320,320,"GLASS",166.36799999999999]
[null,27,"SOFT DRINKS","PERMANIS SANDILAND ","BIB 7UP",0.51990000000000003,"GLASS","01bib × 20lit",null,320,320,"GLASS",166.36799999999999]
[null,28,"SOFT DRINKS","PERMANIS SANDILAND ","BIB 7UP REVIVE",0.51990000000000003,"GLASS","01bib × 20lit",null,320,320,"GLASS",166.36799999999999]
[null,29,"BEER","GAB","BEER GUINNESS",{"$f":"SUMIF(DATABASE!$E$22:$E$77,E50,DATABASE!$F$22:$F$76)","v":6.8103999999999996},"BTL","01ctn × 24btl",null,60,60,"BTL",408.62399999999997]
[null,30,"BEER","GAB","BEER HEINEKEN",{"$f":"SUMIF(DATABASE!$E$22:$E$77,E51,DATABASE!$F$22:$F$76)","v":8.1145999999999994},"BTL","01ctn × 24btl",null,337,337,"BTL",2734.6201999999998]
[null,31,"BEER","GAB","BEER TIGER",{"$f":"SUMIF(DATABASE!$E$22:$E$77,E52,DATABASE!$F$22:$F$76)","v":6},"BTL","01ctn × 24btl",null,577,{"$f":"+J52+I52","v":577},"BTL",3462]
[null,32,"BEER","GAB","STRONGBOW",{"$f":"SUMIF(DATABASE!$E$22:$E$77,E53,DATABASE!$F$22:$F$76)","v":8.9625000000000004},"BTL","01ctn × 24btl",null,21,21,"BTL",188.21250000000001]
[null,33,"BEER","GAB","PAULANAR",{"$f":"SUMIF(DATABASE!$E$22:$E$77,E54,DATABASE!$F$22:$F$76)","v":12},"BTL","01ctn × 24btl",null,42,42,"BTL",504]
[null,34,"BEER","LUEN HENG","SOMEBY APPLE CIDER",{"$f":"SUMIF(DATABASE!$E$22:$E$77,E55,DATABASE!$F$22:$F$76)","v":9.5709999999999997},"BTL","01ctn × 24btl",null,44,44,"BTL",421.12399999999997]
[null,35,"BEER","LUEN HENG","HOEGAARDEN",{"$f":"SUMIF(DATABASE!$E$22:$E$77,E56,DATABASE!$F$22:$F$76)","v":10.95},"BTL","01ctn × 24btl",null,37,37,"BTL",405.15]
[null,36,"BEER -CUSTODY","GAB","BEER GUINNESS ",{"$f":"+F50","v":6.8103999999999996},"BTL","01ctn × 24btl",null,5,5,"BTL",-61.293599999999998]
[null,37,"BEER -CUSTODY","GAB","BEER HEINEKEN ",{"$f":"+F51","v":8.1145999999999994},"BTL","01ctn × 24btl",null,12,12,"BTL",-170.4066]
[null,38,"BEER -CUSTODY","GAB","BEER TIGER ",6,"BTL","01ctn × 24btl",null,135,135,"BTL",-696]
[null,39,"BEER -CUSTODY","GAB","STRONGBOW ",8.9625000000000004,"BTL","01ctn × 24btl",null,0,0,"BTL",0]
[null,40,"BEER -CUSTODY","GAB","PAULANAR",12,"BTL","01ctn × 24btl",null,0,0,"BTL",0]
[null,41,"BEER -CUSTODY","LUEN HENG","SOMEBY APPLE CIDER",9.5709999999999997,"BTL","01ctn × 24btl",null,0,0,"BTL",0]
[null,42,"BEER -CUSTODY","LUEN HENG","HOEGAARDEN",10.95,"BTL","01ctn × 24btl",null,0,0,"BTL",0]
[null,43,"CIGARETTE","NEW FOO HING","DUNHILL KING",{"$f":"SUMIF(DATABASE!$E$22:$E$77,E64,DATABASE!$F$22:$F$76)","v":11.08},"PKT","01pkt × 20s ",null,28,28,"PKT",310.24]
[null,44,"CIGARETTE","NEW FOO HING","DUNHILL LIGHTS KING",{"$f":"SUMIF(DATABASE!$E$22:$E$77,E65,DATABASE!$F$22:$F$76)","v":11.08},"PKT","01pkt × 20s ",null,35,35,"PKT",387.8]
[null,45,"CIGARETTE","NEW FOO HING","DUNHILL MENTHOL KING",{"$f":"SUMIF(DATABASE!$E$22:$E$77,E66,DATABASE!$F$22:$F$76)","v":11.08},"PKT","01pkt × 20s ",null,23,23,"PKT",254.84]
[null,46,"CIGARETTE","NEW FOO HING","DUNHILL MENTHOL BOOST",{"$f":"SUMIF(DATABASE!$E$22:$E$77,E67,DATABASE!$F$22:$F$76)","v":11.08},"PKT","01pkt × 20s ",null,null,0,"PKT",0]
[null,47,"CIGARETTE","NEW FOO HING","DUNHILL MENTHOL SWITCH",{"$f":"SUMIF(DATABASE!$E$22:$E$77,E68,DATABASE!$F$22:$F$76)","v":11.08},"PKT","01pkt × 20s ",null,null,0,"PKT",0]
[null,48,"CIGARETTE","NEW FOO HING","DUNHILL ICE",{"$f":"SUMIF(DATABASE!$E$22:$E$77,E69,DATABASE!$F$22:$F$76)","v":11.08},"PKT","01pkt × 20s ",null,24,24,"PKT",265.92]
[null,49,"OTHER BEVERAGE","PETTY CASH","DRINHO ICE LEMON TEA",0.83160000000000001,"PKT","01pkt × 250ml",null,6,6,"PKT",4.9896000000000003]
[null,50,"OTHER BEVERAGE","PETTY CASH","DRINHO MANGO JUICE",0.83160000000000001,"PKT","01pkt × 250ml",null,23,23,"PKT",19.126799999999999]
[null,51,"OTHER BEVERAGE","PETTY CASH","DRINHO ORANGE JUICE",0.83160000000000001,"PKT","01pkt × 250ml",null,44,44,{"$f":"+G72","v":"PKT"},36.590400000000002]
[null,52,"OTHER BEVERAGE","PETTY CASH","DRINHO SUGAR CANE",0.83160000000000001,"PKT","01pkt × 250ml",null,30,30,"PKT",24.948]
[null,53,"OTHER BEVERAGE","PETTY CASH","MARIGOLD ICE LEMON TEA",0.83160000000000001,"PKT","01pkt × 250ml",null,12,12,"PKT",9.9792000000000005]
[null,54,"OTHER BEVERAGE","PETTY CASH","SEASON SOYA",0.91500000000000004,"PKT","01pkt × 250ml",null,3,3,"PKT",2.7450000000000001]
[null,55,"OTHER BEVERAGE","PETTY CASH","YEO'S SOYA",0.91500000000000004,"PKT","01pkt × 250ml",null,29,29,"PKT",26.535]
[null,56,"OTHER BEVERAGE","PETTY CASH","DRINKHO LYCHEE",0.94830000000000003,"PKT","01pkt × 250ml",null,30,30,"PKT",28.449000000000002]
[null,57,"OTHER BEVERAGE","PETTY CASH","DRINHO WINTER MELON",0.94830000000000003,"PKT","01pkt × 250ml",null,12,12,"PKT",11.3796]
[]
[null,"GRAND TOTAL ",null,null,null,null,null,null,null,null,null,null,{"$f":"SUM(M22:M79)","v":13201.424925416666}]
[]
[]
[null,null,"ITEMS","TOTAL (RM )"]
[null,1,{"$f":"+C22","v":"SRYUP"},{"$f":"SUMIF($C$22:$C$79,C84,$M$22:$M$79)","v":2090.1861316666668}]
[null,{"$f":"+B84+1","v":2},{"$f":"+C30","v":"TEABAG"},555.69733500000007,null,null,"REMARK :"]
[null,{"$f":"+B85+1","v":3},{"$f":"+C35","v":"POWDER"},1256.7851587499999]
[null,4,{"$f":"+C42","v":"CREAMER  & SUGAR"},67.495000000000005]
[null,5,"TIDBITS",152.58420000000001]
[null,6,{"$f":"+C46","v":"MINERAL WATER "},0]
[null,7,{"$f":"+C47","v":"SOFT DRINKS"},499.10399999999998]
[null,8,{"$f":"+C50","v":"BEER"},8123.7306999999983]
[null,9,{"$f":"+C63","v":"BEER -CUSTODY"},-927.7002]
[null,10,{"$f":"+C64","v":"CIGARETTE"},1218.8]
[null,11,{"$f":"+C78","v":"OTHER BEVERAGE"},164.74260000000001]
[]
[]
[null,null,"TOTAL ",{"$f":"SUM(D84:D96)","v":13201.424925416666}]

{"sheet":"PURCHASE SUMMARY","index":9,"n_rows":66,"n_cols":13,"rows_kept":66,"cut":false,"hidden":false,"merged":[]}
[]
[]
[null,null,"MONTHLY PURCHASE SUMMARY "]
[null,null,"每月吧台购买交易"]
[]
[]
[null,null,"OUTLET BAR ","SBA"]
[null,null,"分行吧台"]
[]
[null,null,"YEAR / MONTH","FEBRUARY 2014"]
[null,null,"年/月"]
[]
[null,"ITEM","CATEGORIES","SUPPLIER","PRODUCT DESCRIPTION","PRICE","UOM","PACK.SIZE","PORTION","FOR SBA BAR DEPARTMENT "]
[null,"项目","分类","供应商","食材产品","价格","单位","包装 ","成分 ","A","B","C","D"]
[]
[null,null,null,null,null,null,null,null,null,"QUANTITY","UOM","QUANTITY","UOM"]
[]
[null,null,null,null,null,null,null,null,null,"数量","单位","数量","单位"]
[]
[null,"MAIN BEVERAGE MATERIAL 主要饮料的食材"]
[null,1,"SRYUP","BEST FICTION ","SYRUP CHAMPAGNE GRAPE",5.7499999999999999E-3,"ML ","01drum × 4000ml",4000,0,"drum",{"$f":"J21*I21","v":0},"ML"]
[null,{"$f":"+B21+1","v":2},"SRYUP","BEST FICTION ","SYRUP GREEN APPLE",5.7499999999999999E-3,"ML ","01drum × 4000ml",4000,2,"drum",{"$f":"J22*I22","v":8000},"ML"]
[null,{"$f":"+B22+1","v":3},"SRYUP","BEST FICTION ","SYRUP PASSION FRUIT ",5.7499999999999999E-3,"ML ","01drum × 4000ml",4000,0,"drum",0,"ML"]
[null,4,"SRYUP","BEST FICTION ","SYRUP HONEY ",9.4999999999999998E-3,"ML ","01drum × 2000ml",2000,0,"drum",0,"ML"]
[null,5,"SRYUP","BEST FICTION ","SYRUP MANGO",1.15E-2,"ML ","01drum × 4000ml",4000,0,"drum",0,"ML"]
[null,6,"SRYUP","G&K","SYRUP HONEY ",8.9999999999999993E-3,"ML ","01drum × 2000ml",2000,64,"drum",128000,"ML"]
[null,7,"SRYUP","G&K","SYRUP MANGO",1.15E-2,"ML ","01drum × 4000ml",4000,0,"drum",0,"ML"]
[null,8,"SRYUP","TIEN SWEE","SYRUP RIBENA",0.01,"ML ","01ctn × 06btl × 1000ml",1000,72,"btl",72000,"ML"]
[null,9,"TEABAG","BEST FICTION","TEA BAG JASMINE GREEN",0.75,"BAG ","01pkt × 24bag",24,5,"pkt",120,"BAG"]
[null,10,"TEABAG","CHUAN HUAT ","TEA BAG LIPTON CHAMOMILE",0.46,"BAG ","01box × 25bag",25,9,"box",225,"BAG"]
[null,11,"TEABAG","CHUAN HUAT ","TEA BAG LIPTON DARJEELING ",0.46,"BAG ","01box × 25bag",25,4,"box",100,"BAG"]
[null,12,"TEABAG","CHUAN HUAT ","TEA BAG LIPTON EARLGREY",0.46,"BAG ","01box × 25bag",25,6,"box",150,"BAG"]
[null,13,"TEABAG","CHUAN HUAT ","TEA BAG LIPTON RED CATERING",0.32500000000000001,"BAG ","01ctn × 12pkt × 20bag",240,0,"ctn ",0,"BAG"]
[null,14,"POWDER","BEST FICTION","POWDER CAPPUCINO",2.1000000000000001E-2,"GM","01pkt × 1000g",1000,1,"pkt",1000,"GM"]
[null,15,"POWDER","BEST FICTION","POWDER CHOCOLATE",0.02,"GM","01pkt × 1000g",1000,1,"pkt",1000,"GM"]
[null,16,"POWDER","BEST FICTION","POWDER MOCHA",2.1000000000000001E-2,"GM","01pkt × 1000g",1000,1,"pkt",1000,"GM"]
[null,17,"POWDER","CHUAN HUAT ","POWDER LIME",2.375E-2,"GM","01ctn × 12pkt × 400g",{"$f":"12*400","v":4800},4,"ctn",19200,"GM"]
[null,18,"POWDER","SYKT.TEE SIANG","POWDER MILO ",1.546875E-2,"GM","01ctn × 06pkt × 3500g",{"$f":"3500*6","v":21000},3,"ctn",63000,"GM"]
[null,19,"POWDER","SYKT.TEE SIANG","POWDER NESCAFE ICE",1.9213333333333332E-2,"GM","01pkt × 750g",750,21,"pkt",15750,"GM"]
[null,20,"POWDER","SYKT.TEE SIANG","POWDER NESCAFE WHITE",2.0210000000000002E-2,"GM","01pkt × 1000g",1000,15,"pkt",15000,"GM"]
[null,21,"CREAMER  & SUGAR","SYKT.TEE SIANG","SACHET DAIRY CREAMER",0.1134,"PCS","01ctn × 2pkt × 500pcs",500,0,"ctn ",0,"pcs"]
[null,22,"CREAMER  & SUGAR","SYKT.TEE SIANG","SACHET SUGAR WHITE",4.1500000000000002E-2,"PCS","01ctn × 10pkt × 200pcs",2000,0,"ctn ",0,"pcs"]
[null,23,"CREAMER  & SUGAR","BEST FICTION","POWDER DAIRY CREAMER",8.9999999999999993E-3,"GM","01pkt × 2000g",2000,1,"pkt",2000,"GM"]
[null,24,"CREAMER  & SUGAR","S.C. TRADING","MIXED TIDBITS",{"$f":"DATABASE!F45","v":1.03E-2},"GM","01bag × 3500g",3500,5,"bag",17500,"GM"]
[null,25,"MINERAL WATER ","PERMANIS SANDILAND ","MINERAL WATER ",{"$f":"DATABASE!F55","v":0.59899999999999998},"BTL","01ctn × 24 btl ",24,0,"ctn",0,"BTL"]
[null,26,"MINERAL WATER ","TONG WOH ","MINERAL WATER ",0.56659999999999999,"BTL","01ctn × 24 btl ",24,0,"ctn",0,"BTL"]
[null,27,"SOFT DRINKS","PERMANIS SANDILAND ","BIB PEPSI",166.37,"BIB","01bib × 20lit",320,0,"bib",0,"GLASS"]
[null,28,"SOFT DRINKS","PERMANIS SANDILAND ","BIB 7UP",166.37,"BIB","01bib × 20lit",320,0,"bib",0,"GLASS"]
[null,29,"SOFT DRINKS","PERMANIS SANDILAND ","BIB 7UP REVIVE",166.37,"BIB","01bib × 20lit",320,0,"bib",0,"GLASS"]
[null,30,"BEER","GAB","BEER GUINNESS",6.58,"BTL","01ctn × 24btl",24,4,"ctn",96,"BTL"]
[null,31,"BEER","GAB","BEER HEINEKEN",7.8687499999999995,"BTL","01ctn × 24btl",24,12,"ctn",288,"BTL"]
[null,32,"BEER","GAB","BEER TIGER",5.78,"BTL","01ctn × 24btl",24,61,"ctn",1464,"BTL"]
[null,33,"BEER","GAB","STRONGBOW",8.9625000000000004,"BTL","01ctn × 24btl",24,0,"ctn",0,"BTL"]
[null,34,"BEER","GAB","PAULANAR",24,"BTL","01ctn × 24btl",24,2,"ctn",48,"BTL"]
[null,35,"BEER","LUEN HENG","SOMEBY APPLE CIDER",19.14,"BTL","01ctn × 24btl",24,4,"ctn",96,"BTL"]
[null,36,"BEER","LUEN HENG","HOEGAARDEN",21.84,"BTL","01ctn × 24btl",24,1,"ctn",24,"BTL"]
[null,37,"CIGARETTE","NEW FOO HING","DUNHILL KING",11.08,"PKT","01pkt × 20s ",1,40,"pkt",40,"pkt"]
[null,38,"CIGARETTE","NEW FOO HING","DUNHILL LIGHTS KING",11.08,"PKT","01pkt × 20s ",1,20,"pkt",20,"pkt"]
[null,39,"CIGARETTE","NEW FOO HING","DUNHILL MENTHOL LIGHTS KING",11.08,"PKT","01pkt × 20s ",1,null,"pkt",0,"pkt"]
[null,40,"CIGARETTE","NEW FOO HING","DUNHILL MENTHOL KING",11.08,"PKT","01pkt × 20s ",1,null,"pkt",0,"pkt"]
[null,41,"CIGARETTE","NEW FOO HING","DUNHILL MENTHOL BOOST",11.08,"PKT","01pkt × 20s ",1,null,"pkt",0,"pkt"]
[null,42,"CIGARETTE","NEW FOO HING","DUNHILL MENTHOL SWITCH",11.08,"PKT","01pkt × 20s ",1,null,"pkt",0,"pkt"]
[null,43,"CIGARETTE","NEW FOO HING","DUNHILL ICE",11.08,"PKT","01pkt × 20s ",1,20,"pkt",20,"pkt"]
[null,44,"CIGARETTE","NEW FOO HING","KENT NEO",9.7110000000000003,"PKT","01pkt × 20s ",1,0,"pkt",0,"pkt"]
[null,45,"CIGARETTE","NEW FOO HING","KENT ORIGINAL",9.7110000000000003,"PKT","01pkt × 20s ",1,0,"pkt",0,"pkt"]
[null,46,"CIGARETTE","NEW FOO HING","KENT FUTURA ",9.7110000000000003,"PKT","01pkt × 20s ",1,0,"pkt",0,"pkt"]

{"sheet":"DISPOSAL(CONVERT)","index":10,"n_rows":46,"n_cols":40,"rows_kept":46,"cut":false,"hidden":true,"merged":[[8,36,11,36],[8,39,11,39],[10,10,10,19],[11,10,11,11],[11,14,11,15],[11,18,11,19],[11,23,11,24],[11,28,11,29],[11,31,11,32],[4,4,5,9],[6,4,6,5],[6,6,6,7],[6,10,7,13],[7,4,7,5],[7,6,7,7],[0,1,0,3],[1,1,1,2],[2,1,2,2],[4,1,11,1],[4,2,11,2],[4,3,11,3]]}
[null,"MONTHLY DISPOSAL BAR DEPARTMENT "]
[null,{"$f":"+'[3]STOCK ANALYSIS'!B2:E2","v":"OUTLET :SBA"}]
[null,{"$f":"'CLOSING STOCK'!D10","v":"JANUARY 2014"}]
[]
[null,"SUPPLIER","TYPE OF INGREDIENT","UNIT PACKING","STOCK TAKE QUANTITY\n"]
[null,null,null,null,null,null,null,null,null,null,null,null,null,null,null,null,null,null,null,null,null,null,null,null,null,null,null,null,null,null,null,null,null,null,null,null,null,"WEIGHT","AMOUNT"]
[null,null,null,null,"ORIGINAL PACKING",null,"ORIGINAL PACKING",null,null,null,"ALTERNATIVE STORAGE",null,null,null,null,null,null,null,null,null,null,null,null,null,null,null,null,null,null,null,null,null,null,null,null,null,null,"PER ML","PER ML"]
[null,null,null,null,"( WHOLE )",null,"(PARTIAL )",null,null,null,null,null,null,null,null,null,null,null,null,null,null,null,null,null,null,null,null,null,null,null,null,null,null,null,null,null,null,"( DENSITY )","OF"]
[null,null,null,null,"QUANTITY","U.O.M.","QUANTITY","U.O.M.","FORMULA ","FORMULA ","DRUM",null,"FORMULA ","FORMULA ","DRUM",null,"FORMULA ","FORMULA ","JUG",null,"FORMULA ","FORMULA ","TOTAL","JUG",null,"FORMULA ","FORMULA ","FORMULA ","TUPPERWARE®",null,"FORMULA ",null,null,"FORMULA ","SQ.BTL","FORMULA ","TOTAL",null,"MIXTURE","UOM"]
[null,null,null,null,null,null,null,null,"(A)","(B)","5000 g",null,"(A)","(B)","3000 g",null,"(A)","(B)","4000 ml",null,"(A)","(B)",null,"2000 ml",null,"(A)","(B)","(B)","ROUND",null,"(A)","BOX",null,"(A)","FULL CAPACITY IN ml","(A)"]
[null,null,null,null,null,null,null,null,null,null,"WEIGHT OF EMPTY CONTAINER /JUG ( GM)"]
[]
[null,null,null,null,null,null,null,null,null,null,"NOS.","GRAM",null,null,"NOS.","GRAM",null,null,"NOS.","GRAM",null,null,null,"NOS.","GRAM",null,null,null,"NOS.","GRAM",null,"NOS.","GRAM",null,"NOS.","GRAM"]
[]
[null,"SYRUP "]
[null,"BEST FICTION","SYRUP CHAMPAGNE GRAPE","01drum × 4000ml",null,"drum",null,"ml",4000,{"$f":"+I16*E16","v":0},null,null,{"$f":"+L16-(K16*$K$12)","v":0},{"$f":"+M16/AL16","v":0},null,null,{"$f":"+P16-(O16*O12)","v":0},{"$f":"+Q16/AL16","v":0},null,null,{"$f":"+T16-(+S16*$S$12)","v":0},{"$f":"+U16/AL16","v":0},{"$f":"+V16*AM16","v":0},null,null,{"$f":"+Y16-(X16*$X$12)","v":0},{"$f":"+Z16*Z12","v":0},{"$f":"+AA16*AA12","v":0},null,null,{"$f":"+AD16*$AC$12","v":0},null,null,{"$f":"+AG16*$AF$12","v":0},null,{"$f":"+AI16*$AI$12","v":0},{"$f":"+AJ16+W16+N16+J16+AH16+AE16+AA16+Z16++R16","v":0},1.5,0.14299999999999999,"ML"]
[null,"BEST FICTION","SYRUP GREEN APPLE","01drum × 4000ml",null,"drum",null,"ml",4000,0,null,null,{"$f":"+L17-(K17*$K$12)","v":0},0,null,null,{"$f":"+P17-(O17*O12)","v":0},{"$f":"+Q17/AL17","v":0},null,null,{"$f":"+T17-(+S17*$S$12)","v":0},0,0,null,null,{"$f":"+Y17-(X17*$X$12)","v":0},{"$f":"+Z17*Z12","v":0},{"$f":"+AA17*AA12","v":0},null,null,{"$f":"+AD17*$AC$12","v":0},null,null,{"$f":"+AG17*$AF$12","v":0},null,{"$f":"+AI17*$AI$12","v":0},{"$f":"+AJ17+W17+N17+J17+AH17+AE17+AA17+Z17++R17","v":0},1.5,0.14299999999999999,"ML"]
[null,"BEST FICTION","SYRUP PASSION FRUIT JUICE","01drum × 4000ml",null,"drum",null,"ml",4000,0,null,null,0,0,null,null,{"$f":"+P18-(O18*O12)","v":0},{"$f":"+Q18/AL18","v":0},null,null,0,0,0,null,null,0,{"$f":"+Z18*Z12","v":0},{"$f":"+AA18*AA12","v":0},null,null,0,null,null,0,null,0,0,1.5,0.14299999999999999,"ML"]
[null,"BEST FICTION","SYRUP HONEY ","01drum × 2000ml",null,"drum",null,"ml",2000,0,null,null,0,0,null,null,{"$f":"+P19-(O19*O11)","v":0},{"$f":"+Q19/AL19","v":0},null,null,0,0,0,null,null,0,{"$f":"+Z19*Z11","v":0},{"$f":"+AA19*AA11","v":0},null,null,0,null,null,0,null,0,0,1.5,0.114,"ML"]
[null,"BEST FICTION","SYRUP MANGO","01drum × 4000ml",null,"drum",null,"ml",4000,{"$f":"+I20*E20","v":0},null,null,{"$f":"+L20-(K20*$K$12)","v":0},0,null,null,0,0,null,null,{"$f":"+T20-(+S20*$S$12)","v":0},0,0,null,null,{"$f":"+Y20-(X20*$X$12)","v":0},{"$f":"+Z20*Z13","v":0},{"$f":"+AA20*AA13","v":0},null,null,{"$f":"+AD20*$AC$12","v":0},null,null,{"$f":"+AG20*$AF$12","v":0},null,{"$f":"+AI20*$AI$12","v":0},{"$f":"+AJ20+W20+N20+J20+AH20+AE20+AA20+Z20++R20","v":0},1.5,0.14299999999999999,"ML"]
[null,"TIEN SWEE TRADING","SYRUP RIBENA","01ctn × 06btl × 1000ml",null,"btl",null,"g",{"$f":"(+G21-65)/1.5","v":-43.333333333333336},{"$f":"(+E21*1000)+I21","v":-43.333333333333336},null,null,0,0,null,null,null,0,null,null,0,0,0,null,null,0,{"$f":"+Z21*Z12","v":0},{"$f":"+AA21*AA12","v":0},null,null,0,null,null,0,null,0,-43.333333333333336,1.5,0.2,"ML"]
[]
[null,"TEABAG",null,null,null,null,null,null,null,null,null,null,0,0]
[null,"BEST FICTION","TEA BAG JASMINE GREEN","01pkt × 24bag",null,"pkt",null,"bag",{"$f":"(+E24*24)+G24","v":0},0,null,null,0,0,null,null,{"$f":"+P24-(O24*O19)","v":0},{"$f":"+Q24*M24","v":0},null,14891,{"$f":"+T24-(+S24*$S$12)","v":14891},0.28000000000000003,{"$f":"(+U24*V24)/1000","v":4.1694800000000001},null,null,null,null,null,null,null,null,null,null,null,null,null,{"$f":"+AJ24+I24+W24","v":4.1694800000000001},null,null,"BAG"]
[null,"CHUAN HUAT ","TEA BAG LIPTON CHAMOMILE","01box × 25bag",null,"box",null,"bag",{"$f":"(+E25*25)+G25","v":0},0,null,null,0,0,null,null,{"$f":"+P25-(O25*O20)","v":0},0,null,null,{"$f":"+T25-(+S25*$S$12)","v":0},0,{"$f":"+V25*AM25","v":0},null,null,null,null,null,null,null,null,null,null,null,null,null,{"$f":"+AJ25+I25+W25","v":0},null,null,"BAG"]
[null,"CHUAN HUAT ","TEA BAG LIPTON DARJEELING ","01box × 25bag",null,"box",null,"bag",{"$f":"(+E26*25)+G26","v":0},0,null,null,0,0,null,null,{"$f":"+P26-(O26*O28)","v":0},0,null,null,0,0,{"$f":"+V26*AM26","v":0},null,null,null,null,null,null,null,null,null,null,null,null,null,0,null,null,"BAG"]
[null,"CHUAN HUAT ","TEA BAG LIPTON EARLGREY","01box × 25bag",null,"box",null,"bag",{"$f":"(+E27*25)+G27","v":0},0,null,null,0,0,null,null,{"$f":"+P27-(O27*O22)","v":0},{"$f":"+Q27*M27","v":0},null,null,{"$f":"+T27-(+S27*$S$12)","v":0},0,{"$f":"+V27*AM27","v":0},null,null,null,null,null,null,null,null,null,null,null,null,null,0,null,null,"BAG"]
[null,"CHUAN HUAT ","TEA BAG LIPTON RED CATERING","01ctn × 12pkt × 20bag",null,"ctn",null,"bag",{"$f":"+G28","v":0},0,null,null,0,0,null,null,{"$f":"+P28-(O28*O30)","v":0},0,null,14815,14815,0.56999999999999995,{"$f":"(+U28*V28)/1000","v":8.4445499999999996},null,null,null,null,null,null,null,null,null,null,null,null,null,8.4445499999999996,null,null,"BAG"]
[]
[null,"POWDER ( FOR BEVERAGE )"]
[null,"G&K FOOD TRADING ","POWDER CAPPUCINO","01pkt × 1000g",null,"pkt",null,"g",1000,{"$f":"(+I31*E31)+G31","v":0},null,null,0,0,null,null,0,{"$f":"+Q31*M31","v":0},null,null,0,0,{"$f":"+U31*Q31","v":0},null,null,{"$f":"+Y31-(X31*$X$12)","v":0},{"$f":"+Y31-(W31*W12)","v":0},{"$f":"+Z31-(X31*X12)","v":0},null,null,{"$f":"+AC31-(Y31*Y12)","v":0},null,null,{"$f":"+AG31-(AF31*AF12)","v":0},null,0,{"$f":"+AJ31+AH31+AE31+AA31+Z31+W31+V31+R31+U31+Q31+N31+M31+J31","v":0},null,null,"GM"]
[null,"GOLDEN CHOICE ","POWDER CHOCOLATE","01pkt × 1000g",null,"pkt",null,"g",1000,0,null,null,0,0,null,null,0,{"$f":"+Q32*M32","v":0},null,null,0,0,0,null,null,0,{"$f":"+Y32-(W32*W12)","v":0},{"$f":"+Z32-(X32*X12)","v":0},null,null,{"$f":"+AC32-(Y32*Y12)","v":0},null,null,{"$f":"+AG32-(AF32*AF12)","v":0},null,0,{"$f":"+AJ32+AH32+AE32+AA32+Z32+W32+V32+R32+U32+Q32+N32+M32+J32","v":0},null,null,"GM"]
[null,"G&K FOOD TRADING ","POWDER MOCHA","01pkt × 1000g",null,"pkt",null,"g",1000,0,null,null,0,0,null,null,{"$f":"+P33-(O33*O15)","v":0},0,null,null,0,0,0,null,null,{"$f":"+Y33-(X33*$X$12)","v":0},{"$f":"+Y33-(W33*W12)","v":0},{"$f":"+Z33-(X33*X12)","v":0},null,null,{"$f":"+AC33-(Y33*Y12)","v":0},null,null,{"$f":"+AG33-(AF33*AF12)","v":0},null,0,{"$f":"+AJ33+AH33+AE33+AA33+Z33+W33+V33+R33+U33+Q33+N33+M33+J33","v":0},null,null,"GM"]
[null,"CHUAN HUAT ","POWDER LIME","01ctn × 12pkt × 400g",null,"pkt",null,"bag",{"$f":"(+E34*400)","v":0},"g",null,null,0,0,null,null,{"$f":"+P34-(O34*O25)","v":0},{"$f":"+Q34*M34","v":0},null,null,null,null,{"$f":"IF($F34<>\"btl\",$H34,\"g\")","v":"bag"},null,null,{"$f":"+Y34-(X34*$X$12)","v":0},null,null,null,null,null,null,null,null,null,{"$f":"+AI34*AI12","v":0},{"$f":"+AJ34+I34","v":0},null,0.2,"GM"]
[null,"SYKT.TEE SIANG","POWDER MILO","01ctn × 06pkt × 3200g",null,"pkt",null,"g",3200,{"$f":"(+I35*E35)+G35","v":0},null,null,0,0,null,null,{"$f":"+P35-(O35*O16)","v":0},0,null,null,{"$f":"+T35-(+S35*S12)","v":0},0,{"$f":"+U35*AM35","v":0},null,null,0,null,null,null,null,{"$f":"+AD35-(AC35*AC12)","v":0},null,null,{"$f":"+AG35-(AF35*AF12)","v":0},null,0,{"$f":"+AJ35+AH35+AE35+AA35+Z35+W35+V35+R35+Q35+N35+M35+J35","v":0},null,0.222,"GM"]
[null,"SYKT.TEE SIANG","POWDER NESCAFE ICE","01pkt × 750g",null,"pkt",null,"g",720,{"$f":"(+I36*E36)+G36","v":0},null,null,0,0,null,null,{"$f":"+P36-(O36*O17)","v":0},0,null,null,{"$f":"+T36-(+S36*S12)","v":0},0,{"$f":"+U36*AM36","v":0},null,null,0,null,null,null,null,{"$f":"+AD36-(AC36*AC12)","v":0},null,null,{"$f":"+AG36-(AF36*AF12)","v":0},null,0,{"$f":"+AJ36+AH36+AE36+AA36+Z36+W36+V36+R36+Q36+N36+M36+J36","v":0},null,0.18,"GM"]
[null,"SYKT.TEE SIANG","POWDER NESCAFE WHITE","01pkt × 1000g",null,"pkt",null,"g",1000,{"$f":"(+I37*E37)+G37","v":0},null,null,0,0,null,null,{"$f":"+P37-(O37*O18)","v":0},0,null,null,{"$f":"+T37-(+S37*S12)","v":0},0,{"$f":"+U37*AM37","v":0},null,null,0,0,0,null,null,{"$f":"+AD37-(AC37*AC12)","v":0},null,null,{"$f":"+AG37-(AF37*AF12)","v":0},null,0,{"$f":"+AJ37+AH37+AE37+AA37+Z37+W37+V37+R37+Q37+N37+M37+J37","v":0},null,null,"GM"]
[]
[null,"SUGAR & CREAMER ",null,null,null,null,null,null,null,null,null,null,0,0,null,null,{"$f":"+P39-(O39*O32)","v":0},0]
[null,"SYKT.TEE SIANG","SACHET DAIRY CREAMER","01ctn × 2pkt × 500pcs",null,"pkt",null,"pcs",{"$f":"(+E40*500)+G40","v":0},"pcs",null,null,0,0,null,null,{"$f":"+P40-(O40*O33)","v":0},0,null,null,null,null,{"$f":"IF($F40<>\"btl\",$H40,\"g\")","v":"pcs"},null,null,null,null,null,null,null,null,null,null,null,null,null,{"$f":"+AJ40+I40","v":0},null,null,"PCS"]
[null,"SYKT.TEE SIANG","SACHET SUGAR WHITE","01ctn × 10pkt × 200pcs",null,"pkt",null,"pcs",{"$f":"(+E41*200)+G41","v":0},"pcs",null,null,0,0,null,null,{"$f":"+P41-(O41*O35)","v":0},0,null,null,null,null,{"$f":"IF($F41<>\"btl\",$H41,\"g\")","v":"pcs"},null,null,null,null,null,null,null,null,null,null,null,null,null,{"$f":"+AJ41+I41","v":0},null,null,"PCS"]
[null,"FUN HUT F&B","POWDER DAIRY CREAMER","01pkt × 1000g",null,"pkt",null,"g",1000,{"$f":"(+I42*E42)+G42","v":0},null,null,0,0,null,null,{"$f":"+P42-(O42*O12)","v":0},{"$f":"+Q42*M42","v":0},null,null,0,0,{"$f":"+U42*Q42","v":0},null,null,{"$f":"+Y42-(X42*$X$12)","v":0},{"$f":"+Y42-(W42*W12)","v":0},{"$f":"+Z42-(X42*X12)","v":0},null,null,{"$f":"+AC42-(Y42*Y12)","v":0},null,null,{"$f":"+AG42-(AF42*AF12)","v":0},null,0,{"$f":"+AJ42+W42+N42+J42+R42+AA42+AE42+AH42","v":0},null,null,"GM"]
[null,null,null,null,null,null,null,null,null,null,null,null,null,null,null,null,{"$f":"+P43-(O43*O23)","v":0},0]
[null,"OTHERS",null,null,null,null,null,null,null,null,null,null,null,null,null,null,{"$f":"+P44-(O44*O24)","v":0},0]
[null,"S.C. TRADING","MIXED TIDBITS","01bag × 3500g",null,"bag",null,"g",{"$f":"(+E45*3500)","v":0},{"$f":"IF($F45<>\"btl\",$H45,\"g\")","v":"g"},null,null,0,0,null,null,{"$f":"+P45-(O45*O26)","v":0},0,null,null,null,null,{"$f":"IF($F45<>\"btl\",$H45,\"g\")","v":"g"},null,null,null,null,null,null,null,{"$f":"+AD45-(AC45*AC12)","v":0},null,null,0,null,0,{"$f":"+AJ45+I45+AH45+AE45","v":0},null,null,"GM"]
[null,null,null,null,null,null,null,null,null,null,null,null,null,null,null,null,{"$f":"+P46-(O46*O27)","v":0},0]

{"sheet":"Sheet1","index":11,"n_rows":0,"n_cols":0,"rows_kept":0,"cut":false,"hidden":true,"merged":[]}

{"sheet":"Sheet2","index":12,"n_rows":0,"n_cols":0,"rows_kept":0,"cut":false,"hidden":true,"merged":[]}